{"text_format":"1","workbook":"xlsx","n_sheets":2,"sheets":["Worksheet","SYSTEM FORMULAE"],"not_rendered":{"charts":0,"images":0,"macros":1,"external_links":0,"defined_names":4,"comments":0,"pivot_tables":0},"unopened":[],"bounds":{"document_bytes":16777216,"sheet_cells":100000,"rows_first":2000,"rows_last":500,"rows_between":2000,"halvings":0,"cell_chars":16384,"cell_head_chars":4096},"cells_cut":0,"cells_raw":0,"read":"whole","date_system":"1900"}

{"sheet":"Worksheet","index":0,"n_rows":33,"n_cols":33,"rows_kept":33,"cut":false,"hidden":false,"merged":[[16,0,17,0],[16,1,17,1],[0,2,0,32],[7,0,7,1],[1,0,1,1],[3,0,3,1]]}
[null,null,"Express each function in wave equation form as shown"]
["Variables",null,1,"Express","",2,"sin","x","+",5,"cos","x",null,"in the form","ksin(x – a)","where 0 ≤ a < ","360°",null,6,"Express","",3,"sin","x","–",10,"cos","x",null,"in the form","ksin(x + a)","where 0 ≤ a < ","360°"]
["SHOW ANSWERS",false,null,null,null,null,null,null,"kcosa=",2,null,null,"ksina=","–5",null,null,null,null,null,null,null,null,null,null,"kcosa=",3,null,null,"ksina=",10]
["Units ",null,null,null,null,null,null,"k","=",5.3849999999999998,null,"a","=","291.801°",null,null,null,null,null,null,null,null,null,"k","=",10.44,null,"a","=","73.301°"]
["Degrees",3,null,null,null,null,null,null,"=","√29",null,null,null,68.198590513648185,null,null,null,null,null,null,null,null,null,null,"=","√109",null,null,null,73.30075576600639]
["Radians"]
["Mixture of degrees and radians"]
["Types of question to include:"]
["Choose order of sin/cos to match?",true,2,"Express","",3,"cos","x","+",4,"sin","x",null,"in the form","kcos(x – a)","where 0 ≤ a < ","360°",null,7,"Express","",4,"sin","x","–",6,"cos","x",null,"in the form","ksin(x – a)","where 0 ≤ a < ","360°"]
["First coefficient always positive?",true,null,null,null,null,null,null,"kcosa=",4,null,null,"ksina=","–3",null,null,null,null,null,null,null,null,null,null,"kcosa=",4,null,null,"ksina=",6]
["ksin(x + a)",true,null,null,null,null,null,"k","=",5,null,"a","=","323.13°",null,null,null,null,null,null,null,null,null,"k","=",7.2110000000000003,null,"a","=","56.31°"]
["ksin(x – a)",true,null,null,null,null,null,null,"","",null,null,null,36.86989764584402,null,null,null,null,null,null,null,null,null,null,"=","√52",null,null,null,56.309932474020215]
["kcos(x + a)",true]
["kcos(x – a)",true]
[{"$f":"IF(COUNTIF(B11:B14,TRUE)=0,\"ERROR: You must select one!\",\"\")","v":""}]
["Answers",null,3,"Express","",5,"cos","x","+",8,"sin","x",null,"in the form","kcos(x – a)","where 0 ≤ a < ","360°",null,8,"Express","",5,"cos","x","–",8,"sin","x",null,"in the form","kcos(x – a)","where 0 ≤ a < ","2π"]
["Number of decimal places to round answers for angle to",3,null,null,null,null,null,null,"kcosa=",8,null,null,"ksina=","–5",null,null,null,null,null,null,null,null,null,null,"kcosa=","–8",null,null,"ksina=","–5"]
[null,null,null,null,null,null,null,"k","=",9.4339999999999993,null,"a","=","327.995°",null,null,null,null,null,null,null,null,null,"k","=",9.4339999999999993,null,"a","=","3.7"]
[null,null,null,null,null,null,null,null,"=","√89",null,null,null,32.005383208083494,null,null,null,null,null,null,null,null,null,null,"=","√89",null,null,null,0.55859931534356244]
[]
[]
[]
[null,null,4,"Express","",4,"sin","x","–",9,"cos","x",null,"in the form","ksin(x – a)","where 0 ≤ a < ","360°",null,9,"Express","",8,"sin","x","–",5,"cos","x",null,"in the form","ksin(x + a)","where 0 ≤ a < ","360°"]
[null,null,null,null,null,null,null,null,"kcosa=",4,null,null,"ksina=",9,null,null,null,null,null,null,null,null,null,null,"kcosa=",8,null,null,"ksina=",5]
[null,null,null,null,null,null,null,"k","=",9.8490000000000002,null,"a","=","66.038°",null,null,null,null,null,null,null,null,null,"k","=",9.4339999999999993,null,"a","=","32.005°"]
[null,null,null,null,null,null,null,null,"=","√97",null,null,null,66.037511025421821,null,null,null,null,null,null,null,null,null,null,"=","√89",null,null,null,32.005383208083494]
[]
[]
[]
[null,null,5,"Express","",7,"sin","x","–",4,"cos","x",null,"in the form","ksin(x – a)","where 0 ≤ a < ","2π",null,10,"Express","",4,"cos","x","–",3,"sin","x",null,"in the form","kcos(x – a)","where 0 ≤ a < ","2π"]
[null,null,null,null,null,null,null,null,"kcosa=",7,null,null,"ksina=",4,null,null,null,null,null,null,null,null,null,null,"kcosa=","–3",null,null,"ksina=","–4"]
[null,null,null,null,null,null,null,"k","=",8.0619999999999994,null,"a","=","0.519",null,null,null,null,null,null,null,null,null,"k","=",5,null,"a","=","4.069"]
[null,null,null,null,null,null,null,null,"=","√65",null,null,null,0.51914611424652291,null,null,null,null,null,null,null,null,null,null,"","",null,null,null,0.92729521800161219]

{"sheet":"SYSTEM FORMULAE","index":1,"n_rows":37,"n_cols":31,"rows_kept":37,"cut":false,"hidden":false,"merged":[]}
[null,null,null,null,null,null,null,null,null,null,null,null,{"$f":"IF(Worksheet!$B11,Worksheet!$A11,\"\")","v":"ksin(x + a)"},{"$f":"IF(M1=\"\",IF(M2=\"\",IF(M3=\"\",M4,M3),M2),M1)","v":"ksin(x + a)"}]
[null,null,null,null,null,null,null,null,null,null,null,null,{"$f":"IF(Worksheet!$B12,Worksheet!$A12,\"\")","v":"ksin(x – a)"},{"$f":"IF(O4=1,\"\",IF(O4=4,M2,IF(O4=2,IF(M4<>\"\",M4,IF(M3<>\"\",M3,M2)),IF(N1=M2,M3,IF(N1=M1,IF(M2=\"\",M3,M2))))))","v":"ksin(x – a)"}]
[null,null,null,null,null,null,null,null,null,null,null,null,{"$f":"IF(Worksheet!$B13,Worksheet!$A13,\"\")","v":"kcos(x + a)"},{"$f":"IF(O4=4,M3,IF(O4=3,IF(M4=\"\",M3,M4)))","v":"kcos(x + a)"}]
[null,null,null,null,null,null,null,null,null,null,null,null,{"$f":"IF(Worksheet!$B14,Worksheet!$A14,\"\")","v":"kcos(x – a)"},{"$f":"IF(O4=4,M4,\"\")","v":"kcos(x – a)"},{"$f":"4-COUNTBLANK(M1:M4)","v":4}]
[]
[1,"Express",{"$f":"IF(D6<0,\"–\",\"\")","v":""},{"$f":"RANDBETWEEN(1,10)*(-1)^RANDBETWEEN(IF(Worksheet!$B$10,2,1),2)","v":2},{"$f":"IF(Worksheet!$B$9,IF(LEFT(M6,2)=\"ks\",\"sin\",\"cos\"),CHOOSE(RANDBETWEEN(1,2),\"sin\",\"cos\"))","v":"cos"},"x",{"$f":"IF(H6<0,\"–\",\"+\")","v":"+"},{"$f":"RANDBETWEEN(1,10)*(-1)^RANDBETWEEN(1,2)","v":3},{"$f":"IF(E6=\"cos\",\"sin\",\"cos\")","v":"sin"},"x",null,"in the form",{"$f":"CHOOSE(RANDBETWEEN(1,$O$4),$N$1,$N$2,$N$3,$N$4)","v":"kcos(x + a)"},"where 0 ≤ a < ",{"$f":"IF(Worksheet!$B$5=1,\"360°\",IF(Worksheet!$B$5=2,\"2π\",CHOOSE(RANDBETWEEN(1,2),\"360°\",\"2π\")))","v":"2π"},null,6,"Express",{"$f":"IF(T6<0,\"–\",\"\")","v":""},{"$f":"RANDBETWEEN(1,10)*(-1)^RANDBETWEEN(IF(Worksheet!$B$10,2,1),2)","v":9},{"$f":"IF(LEFT(AC6,2)=\"ks\",\"sin\",\"cos\")","v":"sin"},"x",{"$f":"IF(X6<0,\"–\",\"+\")","v":"–"},{"$f":"RANDBETWEEN(1,10)*(-1)^RANDBETWEEN(1,2)","v":-10},{"$f":"IF(U6=\"cos\",\"sin\",\"cos\")","v":"cos"},"x",null,"in the form",{"$f":"CHOOSE(RANDBETWEEN(1,$O$4),$N$1,$N$2,$N$3,$N$4)","v":"ksin(x – a)"},"where 0 ≤ a < ",{"$f":"IF(Worksheet!$B$5=1,\"360°\",IF(Worksheet!$B$5=2,\"2π\",CHOOSE(RANDBETWEEN(1,2),\"360°\",\"2π\")))","v":"360°"}]
[null,null,null,null,null,null,"kcosa=",{"$f":"IF(OR(M6=\"kcos(x+a)\",M6=\"kcos(x–a)\"),IF(E6=\"cos\",D6,H6),IF(E6=\"sin\",D6,H6))","v":3},null,null,"ksina=",{"$f":"IF(M6=\"kcos(x+a)\",IF(E6=\"sin\",-1*D6,-1*H6),IF(M6=\"ksin(x+a)\",IF(E6=\"cos\",D6,H6),IF(M6=\"kcos(x–a)\",IF(E6=\"sin\",D6,H6),IF(E6=\"cos\",-1*D6,-1*H6))))","v":-2},null,null,null,null,null,null,null,null,null,null,"kcosa=",{"$f":"IF(OR(AC6=\"kcos(x+a)\",AC6=\"kcos(x–a)\"),IF(U6=\"cos\",T6,X6),IF(U6=\"sin\",T6,X6))","v":9},null,null,"ksina=",{"$f":"IF(AC6=\"kcos(x+a)\",IF(U6=\"sin\",-1*T6,-1*X6),IF(AC6=\"ksin(x+a)\",IF(U6=\"cos\",T6,X6),IF(AC6=\"kcos(x–a)\",IF(U6=\"sin\",T6,X6),IF(U6=\"cos\",-1*T6,-1*X6))))","v":10}]
[null,null,null,null,null,"k","=",{"$f":"ROUND(SQRT(H7^2+L7^2),Worksheet!$B$17)","v":3.6059999999999999},null,"a","=",{"$f":"CONCATENATE(IF(O6=\"360°\",ROUND(IF(AND(L7>0,H7>0),L9,IF(AND(L7>0,H7<0),180-L9,IF(AND(L7<0,H7<0),180+L9,360-L9))),Worksheet!$B$17),ROUND(IF(AND(L7>0,H7>0),L9,IF(AND(L7>0,H7<0),PI()-L9,IF(AND(L7<0,H7<0),PI()+L9,2*PI()-L9))),Worksheet!$B$17)),IF(O6=\"360°\",\"°\",\"\"))","v":"5.695"},null,null,null,null,null,null,null,null,null,"k","=",{"$f":"ROUND(SQRT(X7^2+AB7^2),Worksheet!$B$17)","v":13.454000000000001},null,"a","=",{"$f":"CONCATENATE(IF(AE6=\"360°\",ROUND(IF(AND(AB7>0,X7>0),AB9,IF(AND(AB7>0,X7<0),180-AB9,IF(AND(AB7<0,X7<0),180+AB9,360-AB9))),Worksheet!$B$17),ROUND(IF(AND(AB7>0,X7>0),AB9,IF(AND(AB7>0,X7<0),PI()-AB9,IF(AND(AB7<0,X7<0),PI()+AB9,2*PI()-AB9))),Worksheet!$B$17)),IF(AE6=\"360°\",\"°\",\"\"))","v":"48.013°"}]
[null,null,null,null,null,null,{"$f":"IF(INT(H8)=H8,\"\",\"=\")","v":"="},{"$f":"IF(INT(H8)=H8,\"\",CONCATENATE(\"√\",H7^2+L7^2))","v":"√13"},null,null,null,{"$f":"ABS(IF(O6=\"2π\",ATAN(ABS(L7/H7)),DEGREES(ATAN(ABS(L7/H7)))))","v":0.5880026035475675},null,null,null,null,null,null,null,null,null,null,{"$f":"IF(INT(X8)=X8,\"\",\"=\")","v":"="},{"$f":"IF(INT(X8)=X8,\"\",CONCATENATE(\"√\",X7^2+AB7^2))","v":"√181"},null,null,null,{"$f":"ABS(IF(AE6=\"2π\",ATAN(ABS(AB7/X7)),DEGREES(ATAN(ABS(AB7/X7)))))","v":48.012787504183343}]
[]
[]
[]
[2,"Express",{"$f":"IF(D13<0,\"–\",\"\")","v":""},{"$f":"RANDBETWEEN(1,10)*(-1)^RANDBETWEEN(IF(Worksheet!$B$10,2,1),2)","v":10},{"$f":"IF(LEFT(M13,2)=\"ks\",\"sin\",\"cos\")","v":"sin"},"x",{"$f":"IF(H13<0,\"–\",\"+\")","v":"–"},{"$f":"RANDBETWEEN(1,10)*(-1)^RANDBETWEEN(1,2)","v":-8},{"$f":"IF(E13=\"cos\",\"sin\",\"cos\")","v":"cos"},"x",null,"in the form",{"$f":"CHOOSE(RANDBETWEEN(1,$O$4),$N$1,$N$2,$N$3,$N$4)","v":"ksin(x – a)"},"where 0 ≤ a < ",{"$f":"IF(Worksheet!$B$5=1,\"360°\",IF(Worksheet!$B$5=2,\"2π\",CHOOSE(RANDBETWEEN(1,2),\"360°\",\"2π\")))","v":"360°"},null,7,"Express",{"$f":"IF(T13<0,\"–\",\"\")","v":""},{"$f":"RANDBETWEEN(1,10)*(-1)^RANDBETWEEN(IF(Worksheet!$B$10,2,1),2)","v":5},{"$f":"IF(LEFT(AC13,2)=\"ks\",\"sin\",\"cos\")","v":"cos"},"x",{"$f":"IF(X13<0,\"–\",\"+\")","v":"–"},{"$f":"RANDBETWEEN(1,10)*(-1)^RANDBETWEEN(1,2)","v":-10},{"$f":"IF(U13=\"cos\",\"sin\",\"cos\")","v":"sin"},"x",null,"in the form",{"$f":"CHOOSE(RANDBETWEEN(1,$O$4),$N$1,$N$2,$N$3,$N$4)","v":"kcos(x + a)"},"where 0 ≤ a < ",{"$f":"IF(Worksheet!$B$5=1,\"360°\",IF(Worksheet!$B$5=2,\"2π\",CHOOSE(RANDBETWEEN(1,2),\"360°\",\"2π\")))","v":"2π"}]
[null,null,null,null,null,null,"kcosa=",{"$f":"IF(OR(M13=\"kcos(x+a)\",M13=\"kcos(x–a)\"),IF(E13=\"cos\",D13,H13),IF(E13=\"sin\",D13,H13))","v":10},null,null,"ksina=",{"$f":"IF(M13=\"kcos(x+a)\",IF(E13=\"sin\",-1*D13,-1*H13),IF(M13=\"ksin(x+a)\",IF(E13=\"cos\",D13,H13),IF(M13=\"kcos(x–a)\",IF(E13=\"sin\",D13,H13),IF(E13=\"cos\",-1*D13,-1*H13))))","v":8},null,null,null,null,null,null,null,null,null,null,"kcosa=",{"$f":"IF(OR(AC13=\"kcos(x+a)\",AC13=\"kcos(x–a)\"),IF(U13=\"cos\",T13,X13),IF(U13=\"sin\",T13,X13))","v":-10},null,null,"ksina=",{"$f":"IF(AC13=\"kcos(x+a)\",IF(U13=\"sin\",-1*T13,-1*X13),IF(AC13=\"ksin(x+a)\",IF(U13=\"cos\",T13,X13),IF(AC13=\"kcos(x–a)\",IF(U13=\"sin\",T13,X13),IF(U13=\"cos\",-1*T13,-1*X13))))","v":-5}]
[null,null,null,null,null,"k","=",{"$f":"ROUND(SQRT(H14^2+L14^2),Worksheet!$B$17)","v":12.805999999999999},null,"a","=",{"$f":"CONCATENATE(IF(O13=\"360°\",ROUND(IF(AND(L14>0,H14>0),L16,IF(AND(L14>0,H14<0),180-L16,IF(AND(L14<0,H14<0),180+L16,360-L16))),Worksheet!$B$17),ROUND(IF(AND(L14>0,H14>0),L16,IF(AND(L14>0,H14<0),PI()-L16,IF(AND(L14<0,H14<0),PI()+L16,2*PI()-L16))),Worksheet!$B$17)),IF(O13=\"360°\",\"°\",\"\"))","v":"38.66°"},null,null,null,null,null,null,null,null,null,"k","=",{"$f":"ROUND(SQRT(X14^2+AB14^2),Worksheet!$B$17)","v":11.18},null,"a","=",{"$f":"CONCATENATE(IF(AE13=\"360°\",ROUND(IF(AND(AB14>0,X14>0),AB16,IF(AND(AB14>0,X14<0),180-AB16,IF(AND(AB14<0,X14<0),180+AB16,360-AB16))),Worksheet!$B$17),ROUND(IF(AND(AB14>0,X14>0),AB16,IF(AND(AB14>0,X14<0),PI()-AB16,IF(AND(AB14<0,X14<0),PI()+AB16,2*PI()-AB16))),Worksheet!$B$17)),IF(AE13=\"360°\",\"°\",\"\"))","v":"3.605"}]
[null,null,null,null,null,null,{"$f":"IF(INT(H15)=H15,\"\",\"=\")","v":"="},{"$f":"IF(INT(H15)=H15,\"\",CONCATENATE(\"√\",H14^2+L14^2))","v":"√164"},null,null,null,{"$f":"ABS(IF(O13=\"2π\",ATAN(ABS(L14/H14)),DEGREES(ATAN(ABS(L14/H14)))))","v":38.659808254090095},null,null,null,null,null,null,null,null,null,null,{"$f":"IF(INT(X15)=X15,\"\",\"=\")","v":"="},{"$f":"IF(INT(X15)=X15,\"\",CONCATENATE(\"√\",X14^2+AB14^2))","v":"√125"},null,null,null,{"$f":"ABS(IF(AE13=\"2π\",ATAN(ABS(AB14/X14)),DEGREES(ATAN(ABS(AB14/X14)))))","v":0.46364760900080609}]
[]
[]
[]
[3,"Express",{"$f":"IF(D20<0,\"–\",\"\")","v":""},{"$f":"RANDBETWEEN(1,10)*(-1)^RANDBETWEEN(IF(Worksheet!$B$10,2,1),2)","v":8},{"$f":"IF(LEFT(M20,2)=\"ks\",\"sin\",\"cos\")","v":"cos"},"x",{"$f":"IF(H20<0,\"–\",\"+\")","v":"+"},{"$f":"RANDBETWEEN(1,10)*(-1)^RANDBETWEEN(1,2)","v":5},{"$f":"IF(E20=\"cos\",\"sin\",\"cos\")","v":"sin"},"x",null,"in the form",{"$f":"CHOOSE(RANDBETWEEN(1,$O$4),$N$1,$N$2,$N$3,$N$4)","v":"kcos(x + a)"},"where 0 ≤ a < ",{"$f":"IF(Worksheet!$B$5=1,\"360°\",IF(Worksheet!$B$5=2,\"2π\",CHOOSE(RANDBETWEEN(1,2),\"360°\",\"2π\")))","v":"360°"},null,8,"Express",{"$f":"IF(T20<0,\"–\",\"\")","v":""},{"$f":"RANDBETWEEN(1,10)*(-1)^RANDBETWEEN(IF(Worksheet!$B$10,2,1),2)","v":2},{"$f":"IF(LEFT(AC20,2)=\"ks\",\"sin\",\"cos\")","v":"cos"},"x",{"$f":"IF(X20<0,\"–\",\"+\")","v":"–"},{"$f":"RANDBETWEEN(1,10)*(-1)^RANDBETWEEN(1,2)","v":-9},{"$f":"IF(U20=\"cos\",\"sin\",\"cos\")","v":"sin"},"x",null,"in the form",{"$f":"CHOOSE(RANDBETWEEN(1,$O$4),$N$1,$N$2,$N$3,$N$4)","v":"kcos(x + a)"},"where 0 ≤ a < ",{"$f":"IF(Worksheet!$B$5=1,\"360°\",IF(Worksheet!$B$5=2,\"2π\",CHOOSE(RANDBETWEEN(1,2),\"360°\",\"2π\")))","v":"2π"}]
[null,null,null,null,null,null,"kcosa=",{"$f":"IF(OR(M20=\"kcos(x+a)\",M20=\"kcos(x–a)\"),IF(E20=\"cos\",D20,H20),IF(E20=\"sin\",D20,H20))","v":5},null,null,"ksina=",{"$f":"IF(M20=\"kcos(x+a)\",IF(E20=\"sin\",-1*D20,-1*H20),IF(M20=\"ksin(x+a)\",IF(E20=\"cos\",D20,H20),IF(M20=\"kcos(x–a)\",IF(E20=\"sin\",D20,H20),IF(E20=\"cos\",-1*D20,-1*H20))))","v":-8},null,null,null,null,null,null,null,null,null,null,"kcosa=",{"$f":"IF(OR(AC20=\"kcos(x+a)\",AC20=\"kcos(x–a)\"),IF(U20=\"cos\",T20,X20),IF(U20=\"sin\",T20,X20))","v":-9},null,null,"ksina=",{"$f":"IF(AC20=\"kcos(x+a)\",IF(U20=\"sin\",-1*T20,-1*X20),IF(AC20=\"ksin(x+a)\",IF(U20=\"cos\",T20,X20),IF(AC20=\"kcos(x–a)\",IF(U20=\"sin\",T20,X20),IF(U20=\"cos\",-1*T20,-1*X20))))","v":-2}]
[null,null,null,null,null,"k","=",{"$f":"ROUND(SQRT(H21^2+L21^2),Worksheet!$B$17)","v":9.4339999999999993},null,"a","=",{"$f":"CONCATENATE(IF(O20=\"360°\",ROUND(IF(AND(L21>0,H21>0),L23,IF(AND(L21>0,H21<0),180-L23,IF(AND(L21<0,H21<0),180+L23,360-L23))),Worksheet!$B$17),ROUND(IF(AND(L21>0,H21>0),L23,IF(AND(L21>0,H21<0),PI()-L23,IF(AND(L21<0,H21<0),PI()+L23,2*PI()-L23))),Worksheet!$B$17)),IF(O20=\"360°\",\"°\",\"\"))","v":"302.005°"},null,null,null,null,null,null,null,null,null,"k","=",{"$f":"ROUND(SQRT(X21^2+AB21^2),Worksheet!$B$17)","v":9.2200000000000006},null,"a","=",{"$f":"CONCATENATE(IF(AE20=\"360°\",ROUND(IF(AND(AB21>0,X21>0),AB23,IF(AND(AB21>0,X21<0),180-AB23,IF(AND(AB21<0,X21<0),180+AB23,360-AB23))),Worksheet!$B$17),ROUND(IF(AND(AB21>0,X21>0),AB23,IF(AND(AB21>0,X21<0),PI()-AB23,IF(AND(AB21<0,X21<0),PI()+AB23,2*PI()-AB23))),Worksheet!$B$17)),IF(AE20=\"360°\",\"°\",\"\"))","v":"3.36"}]
[null,null,null,null,null,null,{"$f":"IF(INT(H22)=H22,\"\",\"=\")","v":"="},{"$f":"IF(INT(H22)=H22,\"\",CONCATENATE(\"√\",H21^2+L21^2))","v":"√89"},null,null,null,{"$f":"ABS(IF(O20=\"2π\",ATAN(ABS(L21/H21)),DEGREES(ATAN(ABS(L21/H21)))))","v":57.994616791916499},null,null,null,null,null,null,null,null,null,null,{"$f":"IF(INT(X22)=X22,\"\",\"=\")","v":"="},{"$f":"IF(INT(X22)=X22,\"\",CONCATENATE(\"√\",X21^2+AB21^2))","v":"√85"},null,null,null,{"$f":"ABS(IF(AE20=\"2π\",ATAN(ABS(AB21/X21)),DEGREES(ATAN(ABS(AB21/X21)))))","v":0.21866894587394195}]
[]
[]
[]
[4,"Express",{"$f":"IF(D27<0,\"–\",\"\")","v":""},{"$f":"RANDBETWEEN(1,10)*(-1)^RANDBETWEEN(IF(Worksheet!$B$10,2,1),2)","v":6},{"$f":"IF(LEFT(M27,2)=\"ks\",\"sin\",\"cos\")","v":"sin"},"x",{"$f":"IF(H27<0,\"–\",\"+\")","v":"+"},{"$f":"RANDBETWEEN(1,10)*(-1)^RANDBETWEEN(1,2)","v":2},{"$f":"IF(E27=\"cos\",\"sin\",\"cos\")","v":"cos"},"x",null,"in the form",{"$f":"CHOOSE(RANDBETWEEN(1,$O$4),$N$1,$N$2,$N$3,$N$4)","v":"ksin(x + a)"},"where 0 ≤ a < ",{"$f":"IF(Worksheet!$B$5=1,\"360°\",IF(Worksheet!$B$5=2,\"2π\",CHOOSE(RANDBETWEEN(1,2),\"360°\",\"2π\")))","v":"2π"},null,9,"Express",{"$f":"IF(T27<0,\"–\",\"\")","v":""},{"$f":"RANDBETWEEN(1,10)*(-1)^RANDBETWEEN(IF(Worksheet!$B$10,2,1),2)","v":10},{"$f":"IF(LEFT(AC27,2)=\"ks\",\"sin\",\"cos\")","v":"cos"},"x",{"$f":"IF(X27<0,\"–\",\"+\")","v":"–"},{"$f":"RANDBETWEEN(1,10)*(-1)^RANDBETWEEN(1,2)","v":-1},{"$f":"IF(U27=\"cos\",\"sin\",\"cos\")","v":"sin"},"x",null,"in the form",{"$f":"CHOOSE(RANDBETWEEN(1,$O$4),$N$1,$N$2,$N$3,$N$4)","v":"kcos(x + a)"},"where 0 ≤ a < ",{"$f":"IF(Worksheet!$B$5=1,\"360°\",IF(Worksheet!$B$5=2,\"2π\",CHOOSE(RANDBETWEEN(1,2),\"360°\",\"2π\")))","v":"2π"}]
[null,null,null,null,null,null,"kcosa=",{"$f":"IF(OR(M27=\"kcos(x+a)\",M27=\"kcos(x–a)\"),IF(E27=\"cos\",D27,H27),IF(E27=\"sin\",D27,H27))","v":6},null,null,"ksina=",{"$f":"IF(M27=\"kcos(x+a)\",IF(E27=\"sin\",-1*D27,-1*H27),IF(M27=\"ksin(x+a)\",IF(E27=\"cos\",D27,H27),IF(M27=\"kcos(x–a)\",IF(E27=\"sin\",D27,H27),IF(E27=\"cos\",-1*D27,-1*H27))))","v":-2},null,null,null,null,null,null,null,null,null,null,"kcosa=",{"$f":"IF(OR(AC27=\"kcos(x+a)\",AC27=\"kcos(x–a)\"),IF(U27=\"cos\",T27,X27),IF(U27=\"sin\",T27,X27))","v":-1},null,null,"ksina=",{"$f":"IF(AC27=\"kcos(x+a)\",IF(U27=\"sin\",-1*T27,-1*X27),IF(AC27=\"ksin(x+a)\",IF(U27=\"cos\",T27,X27),IF(AC27=\"kcos(x–a)\",IF(U27=\"sin\",T27,X27),IF(U27=\"cos\",-1*T27,-1*X27))))","v":-10}]
[null,null,null,null,null,"k","=",{"$f":"ROUND(SQRT(H28^2+L28^2),Worksheet!$B$17)","v":6.3250000000000002},null,"a","=",{"$f":"CONCATENATE(IF(O27=\"360°\",ROUND(IF(AND(L28>0,H28>0),L30,IF(AND(L28>0,H28<0),180-L30,IF(AND(L28<0,H28<0),180+L30,360-L30))),Worksheet!$B$17),ROUND(IF(AND(L28>0,H28>0),L30,IF(AND(L28>0,H28<0),PI()-L30,IF(AND(L28<0,H28<0),PI()+L30,2*PI()-L30))),Worksheet!$B$17)),IF(O27=\"360°\",\"°\",\"\"))","v":"5.961"},null,null,null,null,null,null,null,null,null,"k","=",{"$f":"ROUND(SQRT(X28^2+AB28^2),Worksheet!$B$17)","v":10.050000000000001},null,"a","=",{"$f":"CONCATENATE(IF(AE27=\"360°\",ROUND(IF(AND(AB28>0,X28>0),AB30,IF(AND(AB28>0,X28<0),180-AB30,IF(AND(AB28<0,X28<0),180+AB30,360-AB30))),Worksheet!$B$17),ROUND(IF(AND(AB28>0,X28>0),AB30,IF(AND(AB28>0,X28<0),PI()-AB30,IF(AND(AB28<0,X28<0),PI()+AB30,2*PI()-AB30))),Worksheet!$B$17)),IF(AE27=\"360°\",\"°\",\"\"))","v":"4.613"}]
[null,null,null,null,null,null,{"$f":"IF(INT(H29)=H29,\"\",\"=\")","v":"="},{"$f":"IF(INT(H29)=H29,\"\",CONCATENATE(\"√\",H28^2+L28^2))","v":"√40"},null,null,null,{"$f":"ABS(IF(O27=\"2π\",ATAN(ABS(L28/H28)),DEGREES(ATAN(ABS(L28/H28)))))","v":0.32175055439664219},null,null,null,null,null,null,null,null,null,null,{"$f":"IF(INT(X29)=X29,\"\",\"=\")","v":"="},{"$f":"IF(INT(X29)=X29,\"\",CONCATENATE(\"√\",X28^2+AB28^2))","v":"√101"},null,null,null,{"$f":"ABS(IF(AE27=\"2π\",ATAN(ABS(AB28/X28)),DEGREES(ATAN(ABS(AB28/X28)))))","v":1.4711276743037347}]
[]
[]
[]
[5,"Express",{"$f":"IF(D34<0,\"–\",\"\")","v":""},{"$f":"RANDBETWEEN(1,10)*(-1)^RANDBETWEEN(IF(Worksheet!$B$10,2,1),2)","v":5},{"$f":"IF(LEFT(M34,2)=\"ks\",\"sin\",\"cos\")","v":"cos"},"x",{"$f":"IF(H34<0,\"–\",\"+\")","v":"+"},{"$f":"RANDBETWEEN(1,10)*(-1)^RANDBETWEEN(1,2)","v":2},{"$f":"IF(E34=\"cos\",\"sin\",\"cos\")","v":"sin"},"x",null,"in the form",{"$f":"CHOOSE(RANDBETWEEN(1,$O$4),$N$1,$N$2,$N$3,$N$4)","v":"kcos(x – a)"},"where 0 ≤ a < ",{"$f":"IF(Worksheet!$B$5=1,\"360°\",IF(Worksheet!$B$5=2,\"2π\",CHOOSE(RANDBETWEEN(1,2),\"360°\",\"2π\")))","v":"2π"},null,10,"Express",{"$f":"IF(T34<0,\"–\",\"\")","v":""},{"$f":"RANDBETWEEN(1,10)*(-1)^RANDBETWEEN(IF(Worksheet!$B$10,2,1),2)","v":9},{"$f":"IF(LEFT(AC34,2)=\"ks\",\"sin\",\"cos\")","v":"sin"},"x",{"$f":"IF(X34<0,\"–\",\"+\")","v":"+"},{"$f":"RANDBETWEEN(1,10)*(-1)^RANDBETWEEN(1,2)","v":9},{"$f":"IF(U34=\"cos\",\"sin\",\"cos\")","v":"cos"},"x",null,"in the form",{"$f":"CHOOSE(RANDBETWEEN(1,$O$4),$N$1,$N$2,$N$3,$N$4)","v":"ksin(x – a)"},"where 0 ≤ a < ",{"$f":"IF(Worksheet!$B$5=1,\"360°\",IF(Worksheet!$B$5=2,\"2π\",CHOOSE(RANDBETWEEN(1,2),\"360°\",\"2π\")))","v":"2π"}]
[null,null,null,null,null,null,"kcosa=",{"$f":"IF(OR(M34=\"kcos(x+a)\",M34=\"kcos(x–a)\"),IF(E34=\"cos\",D34,H34),IF(E34=\"sin\",D34,H34))","v":2},null,null,"ksina=",{"$f":"IF(M34=\"kcos(x+a)\",IF(E34=\"sin\",-1*D34,-1*H34),IF(M34=\"ksin(x+a)\",IF(E34=\"cos\",D34,H34),IF(M34=\"kcos(x–a)\",IF(E34=\"sin\",D34,H34),IF(E34=\"cos\",-1*D34,-1*H34))))","v":-5},null,null,null,null,null,null,null,null,null,null,"kcosa=",{"$f":"IF(OR(AC34=\"kcos(x+a)\",AC34=\"kcos(x–a)\"),IF(U34=\"cos\",T34,X34),IF(U34=\"sin\",T34,X34))","v":9},null,null,"ksina=",{"$f":"IF(AC34=\"kcos(x+a)\",IF(U34=\"sin\",-1*T34,-1*X34),IF(AC34=\"ksin(x+a)\",IF(U34=\"cos\",T34,X34),IF(AC34=\"kcos(x–a)\",IF(U34=\"sin\",T34,X34),IF(U34=\"cos\",-1*T34,-1*X34))))","v":-9}]
[null,null,null,null,null,"k","=",{"$f":"ROUND(SQRT(H35^2+L35^2),Worksheet!$B$17)","v":5.3849999999999998},null,"a","=",{"$f":"CONCATENATE(IF(O34=\"360°\",ROUND(IF(AND(L35>0,H35>0),L37,IF(AND(L35>0,H35<0),180-L37,IF(AND(L35<0,H35<0),180+L37,360-L37))),Worksheet!$B$17),ROUND(IF(AND(L35>0,H35>0),L37,IF(AND(L35>0,H35<0),PI()-L37,IF(AND(L35<0,H35<0),PI()+L37,2*PI()-L37))),Worksheet!$B$17)),IF(O34=\"360°\",\"°\",\"\"))","v":"5.093"},null,null,null,null,null,null,null,null,null,"k","=",{"$f":"ROUND(SQRT(X35^2+AB35^2),Worksheet!$B$17)","v":12.728},null,"a","=",{"$f":"CONCATENATE(IF(AE34=\"360°\",ROUND(IF(AND(AB35>0,X35>0),AB37,IF(AND(AB35>0,X35<0),180-AB37,IF(AND(AB35<0,X35<0),180+AB37,360-AB37))),Worksheet!$B$17),ROUND(IF(AND(AB35>0,X35>0),AB37,IF(AND(AB35>0,X35<0),PI()-AB37,IF(AND(AB35<0,X35<0),PI()+AB37,2*PI()-AB37))),Worksheet!$B$17)),IF(AE34=\"360°\",\"°\",\"\"))","v":"5.498"}]
[null,null,null,null,null,null,{"$f":"IF(INT(H36)=H36,\"\",\"=\")","v":"="},{"$f":"IF(INT(H36)=H36,\"\",CONCATENATE(\"√\",H35^2+L35^2))","v":"√29"},null,null,null,{"$f":"ABS(IF(O34=\"2π\",ATAN(ABS(L35/H35)),DEGREES(ATAN(ABS(L35/H35)))))","v":1.1902899496825317},null,null,null,null,null,null,null,null,null,null,{"$f":"IF(INT(X36)=X36,\"\",\"=\")","v":"="},{"$f":"IF(INT(X36)=X36,\"\",CONCATENATE(\"√\",X35^2+AB35^2))","v":"√162"},null,null,null,{"$f":"ABS(IF(AE34=\"2π\",ATAN(ABS(AB35/X35)),DEGREES(ATAN(ABS(AB35/X35)))))","v":0.78539816339744828}]