{"text_format":"1","workbook":"xlsx","n_sheets":2,"sheets":["Worksheet","SYSTEM FORMULAE"],"not_rendered":{"charts":0,"images":0,"macros":1,"external_links":0,"defined_names":2,"comments":0,"pivot_tables":0},"unopened":[],"bounds":{"document_bytes":16777216,"sheet_cells":100000,"rows_first":2000,"rows_last":500,"rows_between":2000,"halvings":0,"cell_chars":16384,"cell_head_chars":4096},"cells_cut":0,"cells_raw":0,"read":"whole","date_system":"1900"}

{"sheet":"Worksheet","index":0,"n_rows":21,"n_cols":14,"rows_kept":21,"cut":false,"hidden":false,"merged":[[1,0,1,1],[4,0,4,1],[0,2,0,12]]}
[null,null,{"$f":"CONCATENATE(\"Change the times from \",CHOOSE(B6,\"hours, minutes and seconds to hours\",\"hours to hours/minutes/seconds\",\"hours, minutes and seconds to/from hours as required\"),\".                                                                       Round hours to \",B9,\" decimal places when needed\")","v":"Change the times from hours, minutes and seconds to/from hours as required.                                                                       Round hours to 5 decimal places when needed"}]
["Variables",null,1,13,"hours",7,"minutes",27,"seconds","=","13•12417","13•1241666666667","hours",1]
["SHOW ANSWERS",false,2,16,"hours",54,"minutes","17•9640000000054","seconds","=","16•90499","16•90499","hours",2]
["Number of questions (minimum 5, maximum 20)",20,3,2,"hours",4,"minutes",19,"seconds","=","2•07194","2•07194444444444","hours",1]
["Subsection",null,4,17,"hours",33,"minutes","34•7040000000059","seconds","=","17•55964","17•55964","hours",2]
["Change from hours/minutes/seconds to hours",3,5,6,"hours",53,"minutes",16,"seconds","=","6•88778","6•88777777777778","hours",1]
["Change from hours (as a decimal) to hours/minutes/seconds",null,6,9,"hours",34,"minutes",54,"seconds","=","9•58167","9•58166666666667","hours",1]
["A mixture of the above",null,7,18,"hours",26,"minutes",36,"seconds","=","18•44333","18•4433333333333","hours",1]
["Maximum number of decimal places",5,8,1,"hour",3,"minutes",13,"seconds","=","1•05361","1•05361111111111","hour",1]
["Maximum number of hours",20,9,5,"hours",36,"minutes","35•2079999999992","seconds","=","5•60978","5•60978","hours",2]
["Allow decimal places for seconds in answers",true,10,6,"hours",5,"minutes","45•9240000000008","seconds","=","6•09609","6•09609","hours",2]
[null,null,11,2,"hours",52,"minutes",40,"seconds","=","2•87778","2•87777777777778","hours",1]
[null,null,12,17,"hours",15,"minutes",10,"seconds","=","17•25278","17•2527777777778","hours",1]
[null,null,13,17,"hours",15,"minutes","7•55999999999517","seconds","=","17•2521","17•2521","hours",2]
[null,null,14,10,"hours",52,"minutes","43•7880000000023","seconds","=","10•87883","10•87883","hours",2]
[null,null,15,10,"hours",44,"minutes",44,"seconds","=","10•74556","10•7455555555556","hours",1]
[null,null,16,9,"hours",50,"minutes","40•9199999999983","seconds","=","9•8447","9•8447","hours",2]
[null,null,17,17,"hours",46,"minutes",41,"seconds","=","17•77806","17•7780555555556","hours",1]
[null,null,18,19,"hours",14,"minutes",13,"seconds","=","19•23694","19•2369444444444","hours",1]
[null,null,19,3,"hours",7,"minutes","0•0480000000004144","seconds","=","3•11668","3•11668","hours",2]
[null,null,20,1,"hour",57,"minutes",11,"seconds","=","1•95306","1•95305555555556","hour",1]

{"sheet":"SYSTEM FORMULAE","index":1,"n_rows":30,"n_cols":12,"rows_kept":30,"cut":false,"hidden":false,"merged":[]}
[{"$f":"IF(ROW()<=Worksheet!$B$4,ROW(),\"\")","v":1},{"$f":"RANDBETWEEN(1,Worksheet!$B$10)","v":15},{"$f":"IF(B1=1,\"hour\",\"hours\")","v":"hours"},{"$f":"IF(L1=1,RANDBETWEEN(1,59),INT((J1-B1)*60))","v":0},"minutes",{"$f":"IF(L1=1,RANDBETWEEN(1,59),IF(Worksheet!$B$11,(J1-B1-D1/60)*3600,TEXT((J1-B1-D1/60)*3600,\"#\")))","v":1.5479999999989502},"seconds","=",{"$f":"TEXT(J1,CHOOSE(Worksheet!$B$9,,\"##.##\",\"##.###\",\"##.####\",\"##.#####\",\"##.######\",\"##.#######\"))","v":"15.00043"},{"$f":"IF(L1=1,B1+D1/60+F1/3600,B1+RANDBETWEEN(1,10^Worksheet!$B$9-1)/10^Worksheet!$B$9)","v":15.00043},{"$f":"C1","v":"hours"},{"$f":"CHOOSE(Worksheet!$B$6,1,2,RANDBETWEEN(1,2))","v":2}]
[{"$f":"IF(ROW()<=Worksheet!$B$4,ROW(),\"\")","v":2},{"$f":"RANDBETWEEN(1,Worksheet!$B$10)","v":10},{"$f":"IF(B2=1,\"hour\",\"hours\")","v":"hours"},{"$f":"IF(L2=1,RANDBETWEEN(1,59),INT((J2-B2)*60))","v":20},"minutes",{"$f":"IF(L2=1,RANDBETWEEN(1,59),IF(Worksheet!$B$11,(J2-B2-D2/60)*3600,TEXT((J2-B2-D2/60)*3600,\"#\")))","v":58},"seconds","=",{"$f":"TEXT(J2,CHOOSE(Worksheet!$B$9,,\"##.##\",\"##.###\",\"##.####\",\"##.#####\",\"##.######\",\"##.#######\"))","v":"10.34944"},{"$f":"IF(L2=1,B2+D2/60+F2/3600,B2+RANDBETWEEN(1,10^Worksheet!$B$9-1)/10^Worksheet!$B$9)","v":10.349444444444446},{"$f":"C2","v":"hours"},{"$f":"CHOOSE(Worksheet!$B$6,1,2,RANDBETWEEN(1,2))","v":1}]
[{"$f":"IF(ROW()<=Worksheet!$B$4,ROW(),\"\")","v":3},{"$f":"RANDBETWEEN(1,Worksheet!$B$10)","v":7},"hours",21,"minutes",{"$f":"IF(L3=1,RANDBETWEEN(1,59),IF(Worksheet!$B$11,(J3-B3-D3/60)*3600,TEXT((J3-B3-D3/60)*3600,\"#\")))","v":4},"seconds","=",{"$f":"TEXT(J3,CHOOSE(Worksheet!$B$9,,\"##.##\",\"##.###\",\"##.####\",\"##.#####\",\"##.######\",\"##.#######\"))","v":"7.35111"},{"$f":"IF(L3=1,B3+D3/60+F3/3600,B3+RANDBETWEEN(1,10^Worksheet!$B$9-1)/10^Worksheet!$B$9)","v":7.3511111111111109},"hours",{"$f":"CHOOSE(Worksheet!$B$6,1,2,RANDBETWEEN(1,2))","v":1}]
[{"$f":"IF(ROW()<=Worksheet!$B$4,ROW(),\"\")","v":4},{"$f":"RANDBETWEEN(1,Worksheet!$B$10)","v":15},"hours",20,"minutes",{"$f":"IF(L4=1,RANDBETWEEN(1,59),IF(Worksheet!$B$11,(J4-B4-D4/60)*3600,TEXT((J4-B4-D4/60)*3600,\"#\")))","v":19.679999999996834},"seconds","=",{"$f":"TEXT(J4,CHOOSE(Worksheet!$B$9,,\"##.##\",\"##.###\",\"##.####\",\"##.#####\",\"##.######\",\"##.#######\"))","v":"15.3388"},{"$f":"IF(L4=1,B4+D4/60+F4/3600,B4+RANDBETWEEN(1,10^Worksheet!$B$9-1)/10^Worksheet!$B$9)","v":15.338799999999999},"hours",{"$f":"CHOOSE(Worksheet!$B$6,1,2,RANDBETWEEN(1,2))","v":2}]
[{"$f":"IF(ROW()<=Worksheet!$B$4,ROW(),\"\")","v":5},{"$f":"RANDBETWEEN(1,Worksheet!$B$10)","v":9},"hours",10,"minutes",{"$f":"IF(L5=1,RANDBETWEEN(1,59),IF(Worksheet!$B$11,(J5-B5-D5/60)*3600,TEXT((J5-B5-D5/60)*3600,\"#\")))","v":34.859999999997662},"seconds","=",{"$f":"TEXT(J5,CHOOSE(Worksheet!$B$9,,\"##.##\",\"##.###\",\"##.####\",\"##.#####\",\"##.######\",\"##.#######\"))","v":"9.17635"},{"$f":"IF(L5=1,B5+D5/60+F5/3600,B5+RANDBETWEEN(1,10^Worksheet!$B$9-1)/10^Worksheet!$B$9)","v":9.1763499999999993},"hours",{"$f":"CHOOSE(Worksheet!$B$6,1,2,RANDBETWEEN(1,2))","v":2}]
[{"$f":"IF(ROW()<=Worksheet!$B$4,ROW(),\"\")","v":6},{"$f":"RANDBETWEEN(1,Worksheet!$B$10)","v":12},"hours",55,"minutes",{"$f":"IF(L6=1,RANDBETWEEN(1,59),IF(Worksheet!$B$11,(J6-B6-D6/60)*3600,TEXT((J6-B6-D6/60)*3600,\"#\")))","v":15.492000000001971},"seconds","=",{"$f":"TEXT(J6,CHOOSE(Worksheet!$B$9,,\"##.##\",\"##.###\",\"##.####\",\"##.#####\",\"##.######\",\"##.#######\"))","v":"12.92097"},{"$f":"IF(L6=1,B6+D6/60+F6/3600,B6+RANDBETWEEN(1,10^Worksheet!$B$9-1)/10^Worksheet!$B$9)","v":12.920970000000001},"hours",{"$f":"CHOOSE(Worksheet!$B$6,1,2,RANDBETWEEN(1,2))","v":2}]
[{"$f":"IF(ROW()<=Worksheet!$B$4,ROW(),\"\")","v":7},{"$f":"RANDBETWEEN(1,Worksheet!$B$10)","v":1},"hour",10,"minutes",{"$f":"IF(L7=1,RANDBETWEEN(1,59),IF(Worksheet!$B$11,(J7-B7-D7/60)*3600,TEXT((J7-B7-D7/60)*3600,\"#\")))","v":14},"seconds","=",{"$f":"TEXT(J7,CHOOSE(Worksheet!$B$9,,\"##.##\",\"##.###\",\"##.####\",\"##.#####\",\"##.######\",\"##.#######\"))","v":"1.17056"},{"$f":"IF(L7=1,B7+D7/60+F7/3600,B7+RANDBETWEEN(1,10^Worksheet!$B$9-1)/10^Worksheet!$B$9)","v":1.1705555555555556},"hour",{"$f":"CHOOSE(Worksheet!$B$6,1,2,RANDBETWEEN(1,2))","v":1}]
[{"$f":"IF(ROW()<=Worksheet!$B$4,ROW(),\"\")","v":8},{"$f":"RANDBETWEEN(1,Worksheet!$B$10)","v":13},"hours",35,"minutes",{"$f":"IF(L8=1,RANDBETWEEN(1,59),IF(Worksheet!$B$11,(J8-B8-D8/60)*3600,TEXT((J8-B8-D8/60)*3600,\"#\")))","v":25},"seconds","=",{"$f":"TEXT(J8,CHOOSE(Worksheet!$B$9,,\"##.##\",\"##.###\",\"##.####\",\"##.#####\",\"##.######\",\"##.#######\"))","v":"13.59028"},{"$f":"IF(L8=1,B8+D8/60+F8/3600,B8+RANDBETWEEN(1,10^Worksheet!$B$9-1)/10^Worksheet!$B$9)","v":13.590277777777779},"hours",{"$f":"CHOOSE(Worksheet!$B$6,1,2,RANDBETWEEN(1,2))","v":1}]
[{"$f":"IF(ROW()<=Worksheet!$B$4,ROW(),\"\")","v":9},{"$f":"RANDBETWEEN(1,Worksheet!$B$10)","v":2},"hours",6,"minutes",{"$f":"IF(L9=1,RANDBETWEEN(1,59),IF(Worksheet!$B$11,(J9-B9-D9/60)*3600,TEXT((J9-B9-D9/60)*3600,\"#\")))","v":37.043999999999976},"seconds","=",{"$f":"TEXT(J9,CHOOSE(Worksheet!$B$9,,\"##.##\",\"##.###\",\"##.####\",\"##.#####\",\"##.######\",\"##.#######\"))","v":"2.11029"},{"$f":"IF(L9=1,B9+D9/60+F9/3600,B9+RANDBETWEEN(1,10^Worksheet!$B$9-1)/10^Worksheet!$B$9)","v":2.11029},"hours",{"$f":"CHOOSE(Worksheet!$B$6,1,2,RANDBETWEEN(1,2))","v":2}]
[{"$f":"IF(ROW()<=Worksheet!$B$4,ROW(),\"\")","v":10},{"$f":"RANDBETWEEN(1,Worksheet!$B$10)","v":8},"hours",{"$f":"IF(L10=1,RANDBETWEEN(1,59),INT((J10-B10)*60))","v":50},"minutes",{"$f":"IF(L10=1,RANDBETWEEN(1,59),IF(Worksheet!$B$11,(J10-B10-D10/60)*3600,TEXT((J10-B10-D10/60)*3600,\"#\")))","v":16},"seconds","=",{"$f":"TEXT(J10,CHOOSE(Worksheet!$B$9,,\"##.##\",\"##.###\",\"##.####\",\"##.#####\",\"##.######\",\"##.#######\"))","v":"8.83778"},{"$f":"IF(L10=1,B10+D10/60+F10/3600,B10+RANDBETWEEN(1,10^Worksheet!$B$9-1)/10^Worksheet!$B$9)","v":8.8377777777777791},"hours",{"$f":"CHOOSE(Worksheet!$B$6,1,2,RANDBETWEEN(1,2))","v":1}]
[{"$f":"IF(ROW()<=Worksheet!$B$4,ROW(),\"\")","v":11},{"$f":"RANDBETWEEN(1,Worksheet!$B$10)","v":8},"hours",32,"minutes",{"$f":"IF(L11=1,RANDBETWEEN(1,59),IF(Worksheet!$B$11,(J11-B11-D11/60)*3600,TEXT((J11-B11-D11/60)*3600,\"#\")))","v":34},"seconds","=",{"$f":"TEXT(J11,CHOOSE(Worksheet!$B$9,,\"##.##\",\"##.###\",\"##.####\",\"##.#####\",\"##.######\",\"##.#######\"))","v":"8.54278"},{"$f":"IF(L11=1,B11+D11/60+F11/3600,B11+RANDBETWEEN(1,10^Worksheet!$B$9-1)/10^Worksheet!$B$9)","v":8.5427777777777774},"hours",{"$f":"CHOOSE(Worksheet!$B$6,1,2,RANDBETWEEN(1,2))","v":1}]
[{"$f":"IF(ROW()<=Worksheet!$B$4,ROW(),\"\")","v":12},{"$f":"RANDBETWEEN(1,Worksheet!$B$10)","v":7},"hours",30,"minutes",{"$f":"IF(L12=1,RANDBETWEEN(1,59),IF(Worksheet!$B$11,(J12-B12-D12/60)*3600,TEXT((J12-B12-D12/60)*3600,\"#\")))","v":11.771999999998783},"seconds","=",{"$f":"TEXT(J12,CHOOSE(Worksheet!$B$9,,\"##.##\",\"##.###\",\"##.####\",\"##.#####\",\"##.######\",\"##.#######\"))","v":"7.50327"},{"$f":"IF(L12=1,B12+D12/60+F12/3600,B12+RANDBETWEEN(1,10^Worksheet!$B$9-1)/10^Worksheet!$B$9)","v":7.5032699999999997},"hours",{"$f":"CHOOSE(Worksheet!$B$6,1,2,RANDBETWEEN(1,2))","v":2}]
[{"$f":"IF(ROW()<=Worksheet!$B$4,ROW(),\"\")","v":13},{"$f":"RANDBETWEEN(1,Worksheet!$B$10)","v":1},"hour",25,"minutes",{"$f":"IF(L13=1,RANDBETWEEN(1,59),IF(Worksheet!$B$11,(J13-B13-D13/60)*3600,TEXT((J13-B13-D13/60)*3600,\"#\")))","v":31},"seconds","=",{"$f":"TEXT(J13,CHOOSE(Worksheet!$B$9,,\"##.##\",\"##.###\",\"##.####\",\"##.#####\",\"##.######\",\"##.#######\"))","v":"1.42528"},{"$f":"IF(L13=1,B13+D13/60+F13/3600,B13+RANDBETWEEN(1,10^Worksheet!$B$9-1)/10^Worksheet!$B$9)","v":1.4252777777777779},"hour",{"$f":"CHOOSE(Worksheet!$B$6,1,2,RANDBETWEEN(1,2))","v":1}]
[{"$f":"IF(ROW()<=Worksheet!$B$4,ROW(),\"\")","v":14},{"$f":"RANDBETWEEN(1,Worksheet!$B$10)","v":9},"hours",37,"minutes",{"$f":"IF(L14=1,RANDBETWEEN(1,59),IF(Worksheet!$B$11,(J14-B14-D14/60)*3600,TEXT((J14-B14-D14/60)*3600,\"#\")))","v":30.683999999999578},"seconds","=",{"$f":"TEXT(J14,CHOOSE(Worksheet!$B$9,,\"##.##\",\"##.###\",\"##.####\",\"##.#####\",\"##.######\",\"##.#######\"))","v":"9.62519"},{"$f":"IF(L14=1,B14+D14/60+F14/3600,B14+RANDBETWEEN(1,10^Worksheet!$B$9-1)/10^Worksheet!$B$9)","v":9.6251899999999999},"hours",{"$f":"CHOOSE(Worksheet!$B$6,1,2,RANDBETWEEN(1,2))","v":2}]
[{"$f":"IF(ROW()<=Worksheet!$B$4,ROW(),\"\")","v":15},{"$f":"RANDBETWEEN(1,Worksheet!$B$10)","v":16},"hours",17,"minutes",{"$f":"IF(L15=1,RANDBETWEEN(1,59),IF(Worksheet!$B$11,(J15-B15-D15/60)*3600,TEXT((J15-B15-D15/60)*3600,\"#\")))","v":2},"seconds","=",{"$f":"TEXT(J15,CHOOSE(Worksheet!$B$9,,\"##.##\",\"##.###\",\"##.####\",\"##.#####\",\"##.######\",\"##.#######\"))","v":"16.28389"},{"$f":"IF(L15=1,B15+D15/60+F15/3600,B15+RANDBETWEEN(1,10^Worksheet!$B$9-1)/10^Worksheet!$B$9)","v":16.283888888888889},"hours",{"$f":"CHOOSE(Worksheet!$B$6,1,2,RANDBETWEEN(1,2))","v":1}]
[{"$f":"IF(ROW()<=Worksheet!$B$4,ROW(),\"\")","v":16},{"$f":"RANDBETWEEN(1,Worksheet!$B$10)","v":14},"hours",15,"minutes",{"$f":"IF(L16=1,RANDBETWEEN(1,59),IF(Worksheet!$B$11,(J16-B16-D16/60)*3600,TEXT((J16-B16-D16/60)*3600,\"#\")))","v":21},"seconds","=",{"$f":"TEXT(J16,CHOOSE(Worksheet!$B$9,,\"##.##\",\"##.###\",\"##.####\",\"##.#####\",\"##.######\",\"##.#######\"))","v":"14.25583"},{"$f":"IF(L16=1,B16+D16/60+F16/3600,B16+RANDBETWEEN(1,10^Worksheet!$B$9-1)/10^Worksheet!$B$9)","v":14.255833333333333},"hours",{"$f":"CHOOSE(Worksheet!$B$6,1,2,RANDBETWEEN(1,2))","v":1}]
[{"$f":"IF(ROW()<=Worksheet!$B$4,ROW(),\"\")","v":17},{"$f":"RANDBETWEEN(1,Worksheet!$B$10)","v":7},"hours",29,"minutes",{"$f":"IF(L17=1,RANDBETWEEN(1,59),IF(Worksheet!$B$11,(J17-B17-D17/60)*3600,TEXT((J17-B17-D17/60)*3600,\"#\")))","v":24},"seconds","=",{"$f":"TEXT(J17,CHOOSE(Worksheet!$B$9,,\"##.##\",\"##.###\",\"##.####\",\"##.#####\",\"##.######\",\"##.#######\"))","v":"7.49"},{"$f":"IF(L17=1,B17+D17/60+F17/3600,B17+RANDBETWEEN(1,10^Worksheet!$B$9-1)/10^Worksheet!$B$9)","v":7.49},"hours",{"$f":"CHOOSE(Worksheet!$B$6,1,2,RANDBETWEEN(1,2))","v":1}]
[{"$f":"IF(ROW()<=Worksheet!$B$4,ROW(),\"\")","v":18},{"$f":"RANDBETWEEN(1,Worksheet!$B$10)","v":17},"hours",48,"minutes",{"$f":"IF(L18=1,RANDBETWEEN(1,59),IF(Worksheet!$B$11,(J18-B18-D18/60)*3600,TEXT((J18-B18-D18/60)*3600,\"#\")))","v":24.012000000001432},"seconds","=",{"$f":"TEXT(J18,CHOOSE(Worksheet!$B$9,,\"##.##\",\"##.###\",\"##.####\",\"##.#####\",\"##.######\",\"##.#######\"))","v":"17.80667"},{"$f":"IF(L18=1,B18+D18/60+F18/3600,B18+RANDBETWEEN(1,10^Worksheet!$B$9-1)/10^Worksheet!$B$9)","v":17.80667},"hours",{"$f":"CHOOSE(Worksheet!$B$6,1,2,RANDBETWEEN(1,2))","v":2}]
[{"$f":"IF(ROW()<=Worksheet!$B$4,ROW(),\"\")","v":19},{"$f":"RANDBETWEEN(1,Worksheet!$B$10)","v":11},"hours",16,"minutes",{"$f":"IF(L19=1,RANDBETWEEN(1,59),IF(Worksheet!$B$11,(J19-B19-D19/60)*3600,TEXT((J19-B19-D19/60)*3600,\"#\")))","v":36},"seconds","=",{"$f":"TEXT(J19,CHOOSE(Worksheet!$B$9,,\"##.##\",\"##.###\",\"##.####\",\"##.#####\",\"##.######\",\"##.#######\"))","v":"11.27667"},{"$f":"IF(L19=1,B19+D19/60+F19/3600,B19+RANDBETWEEN(1,10^Worksheet!$B$9-1)/10^Worksheet!$B$9)","v":11.276666666666667},"hours",{"$f":"CHOOSE(Worksheet!$B$6,1,2,RANDBETWEEN(1,2))","v":1}]
[{"$f":"IF(ROW()<=Worksheet!$B$4,ROW(),\"\")","v":20},{"$f":"RANDBETWEEN(1,Worksheet!$B$10)","v":2},"hours",56,"minutes",{"$f":"IF(L20=1,RANDBETWEEN(1,59),IF(Worksheet!$B$11,(J20-B20-D20/60)*3600,TEXT((J20-B20-D20/60)*3600,\"#\")))","v":31},"seconds","=",{"$f":"TEXT(J20,CHOOSE(Worksheet!$B$9,,\"##.##\",\"##.###\",\"##.####\",\"##.#####\",\"##.######\",\"##.#######\"))","v":"2.94194"},{"$f":"IF(L20=1,B20+D20/60+F20/3600,B20+RANDBETWEEN(1,10^Worksheet!$B$9-1)/10^Worksheet!$B$9)","v":2.9419444444444447},"hours",{"$f":"CHOOSE(Worksheet!$B$6,1,2,RANDBETWEEN(1,2))","v":1}]
[{"$f":"IF(ROW()<=Worksheet!$B$4/2,ROW(),\"\")","v":""}]
[{"$f":"IF(ROW()<=Worksheet!$B$4/2,ROW(),\"\")","v":""}]
[{"$f":"IF(ROW()<=Worksheet!$B$4/2,ROW(),\"\")","v":""}]
[{"$f":"IF(ROW()<=Worksheet!$B$4/2,ROW(),\"\")","v":""}]
[{"$f":"IF(ROW()<=Worksheet!$B$4/2,ROW(),\"\")","v":""}]
[{"$f":"IF(ROW()<=Worksheet!$B$4/2,ROW(),\"\")","v":""}]
[{"$f":"IF(ROW()<=Worksheet!$B$4/2,ROW(),\"\")","v":""}]
[{"$f":"IF(ROW()<=Worksheet!$B$4/2,ROW(),\"\")","v":""}]
[{"$f":"IF(ROW()<=Worksheet!$B$4/2,ROW(),\"\")","v":""}]
[{"$f":"IF(ROW()<=Worksheet!$B$4/2,ROW(),\"\")","v":""}]