{"text_format":"1","workbook":"xlsx","n_sheets":2,"sheets":["Worksheet","SYSTEM FORMULAE"],"not_rendered":{"charts":0,"images":0,"macros":1,"external_links":0,"defined_names":2,"comments":0,"pivot_tables":0},"unopened":[],"bounds":{"document_bytes":16777216,"sheet_cells":100000,"rows_first":2000,"rows_last":500,"rows_between":2000,"halvings":0,"cell_chars":16384,"cell_head_chars":4096},"cells_cut":0,"cells_raw":0,"read":"whole","date_system":"1900"}

{"sheet":"Worksheet","index":0,"n_rows":19,"n_cols":34,"rows_kept":19,"cut":false,"hidden":false,"merged":[[7,0,7,2],[8,0,8,2],[10,0,10,3],[5,0,5,2],[0,4,0,32],[1,0,1,3],[4,0,4,3],[2,0,2,2],[6,0,6,2],[3,0,3,2],[9,0,9,2]]}
[null,null,null,null,{"$f":"CONCATENATE(\"Change from one unit to the other unit specified.\",IF(D7>1,CONCATENATE(\"  Round your answer to \",D10,\" decimal places where needed\"),\"Round your answers to the nearest whole number if needed.\"))","v":"Change from one unit to the other unit specified.  Round your answer to 1 decimal places where needed"}]
["Variables",null,null,null,1,156,"19","minutes","12","seconds","=","19.2","minutes",1,16,155,"2","hours","18","minutes","=","2.3","hours",1,31,318,"7","minutes","18","seconds","=","7.3","minutes",2]
["SHOW ANSWERS",null,null,false,2,33,"19","hours","30","minutes","=","19.5","hours",2,17,311,"17","hours","48","minutes","=","17.8","hours",1,32,18,"26","minutes","42","seconds","=","26.7","minutes",2]
["Number of questions                                                     (minimum 18, maximum 54)",null,null,45,3,198,"24","minutes","42","seconds","=","24.7","minutes",1,18,77,"17","hours","30","minutes","=","17.5","hours",2,33,229,"3","hours","6","minutes","=","3.1","hours",2]
["Level of difficulty",null,null,null,4,227,"22","hours","36","minutes","=","22.6","hours",2,19,360,"29","minutes","12","seconds","=","29.2","minutes",2,34,57,"6","hours","30","minutes","=","6.5","hours",1]
["Maximum value of major unit on left-hand side",null,null,30,5,177,"13","hours","54","minutes","=","13.9","hours",2,20,99,"26","hours","6","minutes","=","26.1","hours",1,35,209,"28","hours","18","minutes","=","28.3","hours",1]
["Change mixed units into a decimal",null,null,3,6,128,"7","minutes","48","seconds","=","7.8","minutes",2,21,395,"26","hours","48","minutes","=","26.8","hours",2,36,260,"12","minutes","12","seconds","=","12.2","minutes",1]
["Change decimal into mixed units",null,null,null,7,225,"25","hours","18","minutes","=","25.3","hours",1,22,311,"17","hours","48","minutes","=","17.8","hours",1,37,157,"1","hour","54","minutes","=","1.9","hour",2]
["Mixture of the above",null,null,null,8,364,"3","minutes","42","seconds","=","3.7","minutes",2,23,149,"25","hours","18","minutes","=","25.3","hours",1,38,206,"20","minutes","36","seconds","=","20.6","minutes",1]
["Maximum number of decimal places",null,null,1,9,372,"25","minutes","6","seconds","=","25.1","minutes",2,24,424,"18","minutes","36","seconds","=","18.6","minutes",2,39,436,"23","minutes","18","seconds","=","23.3","minutes",1]
["Which unit conversions to include: (once you have selected the units you want, click on \"generate new sheet\" above)",null,null,null,10,268,"10","minutes","12","seconds","=","10.2","minutes",1,25,287,"12","hours","12","minutes","=","12.2","hours",2,40,70,"28","minutes","12","seconds","=","28.2","minutes",1]
["Hours and minutes",true,"Days and Hours",false,11,132,"9","minutes","42","seconds","=","9.7","minutes",1,26,275,"23","hours","48","minutes","=","23.8","hours",1,41,397,"11","hours","6","minutes","=","11.1","hours",1]
["Minutes and Seconds",true,"Years and Months",false,12,58,"10","minutes","12","seconds","=","10.2","minutes",1,27,411,"15","hours","6","minutes","=","15.1","hours",2,42,286,"2","minutes","54","seconds","=","2.9","minutes",2]
["Weeks and Days",false,null,null,13,305,"3","hours","24","minutes","=","3.4","hours",1,28,161,"24","hours","30","minutes","=","24.5","hours",1,43,326,"15","minutes","6","seconds","=","15.1","minutes",2]
[null,null,null,null,14,192,"25","minutes","6","seconds","=","25.1","minutes",1,29,50,"3","minutes","30","seconds","=","3.5","minutes",2,44,167,"9","hours","30","minutes","=","9.5","hours",2]
[null,null,null,null,15,329,"10","hours","36","minutes","=","10.6","hours",1,30,229,"3","hours","6","minutes","=","3.1","hours",2,45,426,"16","minutes","6","seconds","=","16.1","minutes",1]
[null,null,null,null,"",128,"7","minutes","48","seconds","=","7.8","minutes",2,"",229,"3","hours","6","minutes","=","3.1","hours",2,"",66,"12","minutes","24","seconds","=","12.4","minutes",2]
[null,null,null,null,"",377,"10","hours","24","minutes","=","10.4","hours",2,"",440,"17","minutes","30","seconds","=","17.5","minutes",1,"",420,"11","minutes","18","seconds","=","11.3","minutes",2]
[null,null,null,null,"",169,"9","hours","48","minutes","=","9.8","hours",2,"",456,"27","minutes","24","seconds","=","27.4","minutes",1,"",178,"30","minutes","36","seconds","=","30.6","minutes",1]

{"sheet":"SYSTEM FORMULAE","index":1,"n_rows":1285,"n_cols":41,"rows_kept":1285,"cut":false,"hidden":false,"merged":[]}
[{"$f":"COUNTIF($B$1:B1,TRUE)","v":1},{"$f":"Worksheet!$B$12","v":true},{"$f":"IF(H1=1,RANDBETWEEN(1,Worksheet!$D$6),INT(J1))","v":4},{"$f":"IF(C1=1,\"hour\",\"hours\")","v":"hours"},{"$f":"IF(H1=1,IF(Worksheet!$D$10=1,RANDBETWEEN(1,9)*6,IF(Worksheet!$D$10=2,RANDBETWEEN(1,19)*3,RANDBETWEEN(1,59))),(J1-INT(J1))*60)","v":47.999999999999986},"minutes","=",{"$f":"IF(Worksheet!$D$7=1,1,IF(Worksheet!$D$7=2,2,RANDBETWEEN(1,2)))","v":2},null,{"$f":"IF(H1=1,C1+E1/60,RANDBETWEEN(1,Worksheet!$D$6)+CHOOSE(Worksheet!$D$10,RANDBETWEEN(1,9)/10,RANDBETWEEN(1,99)/100,RANDBETWEEN(1,999)/1000,RANDBETWEEN(1,9999)/10000,RANDBETWEEN(1,99999)/100000))","v":4.8},{"$f":"D1","v":"hours"},{"$f":"IF(ROW()<=Worksheet!$D$4/3,ROW(),\"\")","v":1},{"$f":"RANDBETWEEN(1,MAX('SYSTEM FORMULAE'!$A$1:$A$1149))","v":317},{"$f":"IF(RIGHT(TEXT(VLOOKUP(M1,'SYSTEM FORMULAE'!$A$1:$I$1149,3),\"#,##0.###\"),1)=\".\",LEFT(TEXT(VLOOKUP(M1,'SYSTEM FORMULAE'!$A$1:$I$1149,3),\"#,##0.###\"),LEN(TEXT(VLOOKUP(M1,'SYSTEM FORMULAE'!$A$1:$I$1149,3),\"#,##0.###\"))-1),TEXT(VLOOKUP(M1,'SYSTEM FORMULAE'!$A$1:$I$1149,3),\"#,##0.###\"))","v":"1"},{"$f":"VLOOKUP(M1,'SYSTEM FORMULAE'!$A$1:$I$1149,4)","v":"hour"},{"$f":"IF(RIGHT(TEXT(VLOOKUP(M1,'SYSTEM FORMULAE'!$A$1:$I$1149,5),\"#,##0.###\"),1)=\".\",LEFT(TEXT(VLOOKUP(M1,'SYSTEM FORMULAE'!$A$1:$I$1149,5),\"#,##0.###\"),LEN(TEXT(VLOOKUP(M1,'SYSTEM FORMULAE'!$A$1:$I$1149,5),\"#,##0.###\"))-1),TEXT(VLOOKUP(M1,'SYSTEM FORMULAE'!$A$1:$I$1149,5),\"#,##0.###\"))","v":"30"},{"$f":"VLOOKUP(M1,'SYSTEM FORMULAE'!$A$1:$I$1149,6)","v":"minutes"},"=",{"$f":"TEXT(VLOOKUP(M1,'SYSTEM FORMULAE'!$A$1:$K$1149,10),CHOOSE(Worksheet!$D$10,\"##.#\",\"##.##\",\"##.###\",\"##.####\",\"##.#####\"))","v":"1.5"},{"$f":"VLOOKUP(M1,'SYSTEM FORMULAE'!$A$1:$K$1149,11)","v":"hour"},{"$f":"VLOOKUP(M1,'SYSTEM FORMULAE'!$A$1:$K$1149,8)","v":2},{"$f":"MAX(L1:L40)+1","v":16},{"$f":"RANDBETWEEN(1,MAX('SYSTEM FORMULAE'!$A$1:$A$1149))","v":418},{"$f":"IF(RIGHT(TEXT(VLOOKUP(W1,'SYSTEM FORMULAE'!$A$1:$I$1149,3),\"#,##0.###\"),1)=\".\",LEFT(TEXT(VLOOKUP(W1,'SYSTEM FORMULAE'!$A$1:$I$1149,3),\"#,##0.###\"),LEN(TEXT(VLOOKUP(W1,'SYSTEM FORMULAE'!$A$1:$I$1149,3),\"#,##0.###\"))-1),TEXT(VLOOKUP(W1,'SYSTEM FORMULAE'!$A$1:$I$1149,3),\"#,##0.###\"))","v":"14"},{"$f":"VLOOKUP(W1,'SYSTEM FORMULAE'!$A$1:$I$1149,4)","v":"minutes"},{"$f":"IF(RIGHT(TEXT(VLOOKUP(W1,'SYSTEM FORMULAE'!$A$1:$I$1149,5),\"#,##0.###\"),1)=\".\",LEFT(TEXT(VLOOKUP(W1,'SYSTEM FORMULAE'!$A$1:$I$1149,5),\"#,##0.###\"),LEN(TEXT(VLOOKUP(W1,'SYSTEM FORMULAE'!$A$1:$I$1149,5),\"#,##0.###\"))-1),TEXT(VLOOKUP(W1,'SYSTEM FORMULAE'!$A$1:$I$1149,5),\"#,##0.###\"))","v":"30"},{"$f":"VLOOKUP(W1,'SYSTEM FORMULAE'!$A$1:$I$1149,6)","v":"seconds"},"=",{"$f":"TEXT(VLOOKUP(W1,'SYSTEM FORMULAE'!$A$1:$K$1149,10),CHOOSE(Worksheet!$D$10,\"##.#\",\"##.##\",\"##.###\",\"##.####\",\"##.#####\"))","v":"14.5"},{"$f":"VLOOKUP(W1,'SYSTEM FORMULAE'!$A$1:$K$1149,11)","v":"minutes"},{"$f":"VLOOKUP(W1,'SYSTEM FORMULAE'!$A$1:$K$1149,8)","v":2},{"$f":"MAX(V1:V40)+1","v":31},{"$f":"RANDBETWEEN(1,MAX('SYSTEM FORMULAE'!$A$1:$A$1149))","v":233},{"$f":"IF(RIGHT(TEXT(VLOOKUP(AG1,'SYSTEM FORMULAE'!$A$1:$I$1149,3),\"#,##0.###\"),1)=\".\",LEFT(TEXT(VLOOKUP(AG1,'SYSTEM FORMULAE'!$A$1:$I$1149,3),\"#,##0.###\"),LEN(TEXT(VLOOKUP(AG1,'SYSTEM FORMULAE'!$A$1:$I$1149,3),\"#,##0.###\"))-1),TEXT(VLOOKUP(AG1,'SYSTEM FORMULAE'!$A$1:$I$1149,3),\"#,##0.###\"))","v":"2"},{"$f":"VLOOKUP(AG1,'SYSTEM FORMULAE'!$A$1:$I$1149,4)","v":"hours"},{"$f":"IF(RIGHT(TEXT(VLOOKUP(AG1,'SYSTEM FORMULAE'!$A$1:$I$1149,5),\"#,##0.###\"),1)=\".\",LEFT(TEXT(VLOOKUP(AG1,'SYSTEM FORMULAE'!$A$1:$I$1149,5),\"#,##0.###\"),LEN(TEXT(VLOOKUP(AG1,'SYSTEM FORMULAE'!$A$1:$I$1149,5),\"#,##0.###\"))-1),TEXT(VLOOKUP(AG1,'SYSTEM FORMULAE'!$A$1:$I$1149,5),\"#,##0.###\"))","v":"6"},{"$f":"VLOOKUP(AG1,'SYSTEM FORMULAE'!$A$1:$I$1149,6)","v":"minutes"},"=",{"$f":"TEXT(VLOOKUP(AG1,'SYSTEM FORMULAE'!$A$1:$K$1149,10),CHOOSE(Worksheet!$D$10,\"##.#\",\"##.##\",\"##.###\",\"##.####\",\"##.#####\"))","v":"2.1"},{"$f":"VLOOKUP(AG1,'SYSTEM FORMULAE'!$A$1:$K$1149,11)","v":"hours"},{"$f":"VLOOKUP(AG1,'SYSTEM FORMULAE'!$A$1:$K$1149,8)","v":1}]
[{"$f":"IF(COUNTIF($B$1:B2,TRUE)=COUNTIF($B$1:B1,TRUE),\"\",COUNTIF($B$1:B2,TRUE))","v":2},{"$f":"Worksheet!$B$13","v":true},{"$f":"IF(H2=1,RANDBETWEEN(1,Worksheet!$D$6),INT(J2))","v":24},{"$f":"IF(C2=1,\"minute\",\"minutes\")","v":"minutes"},{"$f":"IF(H2=1,IF(Worksheet!$D$10=1,RANDBETWEEN(1,9)*6,IF(Worksheet!$D$10=2,RANDBETWEEN(1,19)*3,RANDBETWEEN(1,59))),(J2-INT(J2))*60)","v":36},"seconds","=",{"$f":"IF(Worksheet!$D$7=1,1,IF(Worksheet!$D$7=2,2,RANDBETWEEN(1,2)))","v":1},null,{"$f":"IF(H2=1,C2+E2/60,RANDBETWEEN(1,Worksheet!$D$6)+CHOOSE(Worksheet!$D$10,RANDBETWEEN(1,9)/10,RANDBETWEEN(1,99)/100,RANDBETWEEN(1,999)/1000,RANDBETWEEN(1,9999)/10000,RANDBETWEEN(1,99999)/100000))","v":24.6},"minutes",{"$f":"IF(ROW()<=Worksheet!$D$4/3,ROW(),\"\")","v":2},{"$f":"RANDBETWEEN(1,MAX('SYSTEM FORMULAE'!$A$1:$A$1149))","v":383},{"$f":"IF(RIGHT(TEXT(VLOOKUP(M2,'SYSTEM FORMULAE'!$A$1:$I$1149,3),\"#,##0.###\"),1)=\".\",LEFT(TEXT(VLOOKUP(M2,'SYSTEM FORMULAE'!$A$1:$I$1149,3),\"#,##0.###\"),LEN(TEXT(VLOOKUP(M2,'SYSTEM FORMULAE'!$A$1:$I$1149,3),\"#,##0.###\"))-1),TEXT(VLOOKUP(M2,'SYSTEM FORMULAE'!$A$1:$I$1149,3),\"#,##0.###\"))","v":"11"},{"$f":"VLOOKUP(M2,'SYSTEM FORMULAE'!$A$1:$I$1149,4)","v":"hours"},{"$f":"IF(RIGHT(TEXT(VLOOKUP(M2,'SYSTEM FORMULAE'!$A$1:$I$1149,5),\"#,##0.###\"),1)=\".\",LEFT(TEXT(VLOOKUP(M2,'SYSTEM FORMULAE'!$A$1:$I$1149,5),\"#,##0.###\"),LEN(TEXT(VLOOKUP(M2,'SYSTEM FORMULAE'!$A$1:$I$1149,5),\"#,##0.###\"))-1),TEXT(VLOOKUP(M2,'SYSTEM FORMULAE'!$A$1:$I$1149,5),\"#,##0.###\"))","v":"6"},{"$f":"VLOOKUP(M2,'SYSTEM FORMULAE'!$A$1:$I$1149,6)","v":"minutes"},"=",{"$f":"TEXT(VLOOKUP(M2,'SYSTEM FORMULAE'!$A$1:$K$1149,10),CHOOSE(Worksheet!$D$10,\"##.#\",\"##.##\",\"##.###\",\"##.####\",\"##.#####\"))","v":"11.1"},{"$f":"VLOOKUP(M2,'SYSTEM FORMULAE'!$A$1:$K$1149,11)","v":"hours"},{"$f":"VLOOKUP(M2,'SYSTEM FORMULAE'!$A$1:$K$1149,8)","v":1},{"$f":"IF(ROW()<=Worksheet!$D$4/3,V1+1,\"\")","v":17},{"$f":"RANDBETWEEN(1,MAX('SYSTEM FORMULAE'!$A$1:$A$1149))","v":163},{"$f":"IF(RIGHT(TEXT(VLOOKUP(W2,'SYSTEM FORMULAE'!$A$1:$I$1149,3),\"#,##0.###\"),1)=\".\",LEFT(TEXT(VLOOKUP(W2,'SYSTEM FORMULAE'!$A$1:$I$1149,3),\"#,##0.###\"),LEN(TEXT(VLOOKUP(W2,'SYSTEM FORMULAE'!$A$1:$I$1149,3),\"#,##0.###\"))-1),TEXT(VLOOKUP(W2,'SYSTEM FORMULAE'!$A$1:$I$1149,3),\"#,##0.###\"))","v":"12"},{"$f":"VLOOKUP(W2,'SYSTEM FORMULAE'!$A$1:$I$1149,4)","v":"hours"},{"$f":"IF(RIGHT(TEXT(VLOOKUP(W2,'SYSTEM FORMULAE'!$A$1:$I$1149,5),\"#,##0.###\"),1)=\".\",LEFT(TEXT(VLOOKUP(W2,'SYSTEM FORMULAE'!$A$1:$I$1149,5),\"#,##0.###\"),LEN(TEXT(VLOOKUP(W2,'SYSTEM FORMULAE'!$A$1:$I$1149,5),\"#,##0.###\"))-1),TEXT(VLOOKUP(W2,'SYSTEM FORMULAE'!$A$1:$I$1149,5),\"#,##0.###\"))","v":"36"},{"$f":"VLOOKUP(W2,'SYSTEM FORMULAE'!$A$1:$I$1149,6)","v":"minutes"},"=",{"$f":"TEXT(VLOOKUP(W2,'SYSTEM FORMULAE'!$A$1:$K$1149,10),CHOOSE(Worksheet!$D$10,\"##.#\",\"##.##\",\"##.###\",\"##.####\",\"##.#####\"))","v":"12.6"},{"$f":"VLOOKUP(W2,'SYSTEM FORMULAE'!$A$1:$K$1149,11)","v":"hours"},{"$f":"VLOOKUP(W2,'SYSTEM FORMULAE'!$A$1:$K$1149,8)","v":2},{"$f":"IF(ROW()<=Worksheet!$D$4/3,AF1+1,\"\")","v":32},{"$f":"RANDBETWEEN(1,MAX('SYSTEM FORMULAE'!$A$1:$A$1149))","v":12},{"$f":"IF(RIGHT(TEXT(VLOOKUP(AG2,'SYSTEM FORMULAE'!$A$1:$I$1149,3),\"#,##0.###\"),1)=\".\",LEFT(TEXT(VLOOKUP(AG2,'SYSTEM FORMULAE'!$A$1:$I$1149,3),\"#,##0.###\"),LEN(TEXT(VLOOKUP(AG2,'SYSTEM FORMULAE'!$A$1:$I$1149,3),\"#,##0.###\"))-1),TEXT(VLOOKUP(AG2,'SYSTEM FORMULAE'!$A$1:$I$1149,3),\"#,##0.###\"))","v":"27"},{"$f":"VLOOKUP(AG2,'SYSTEM FORMULAE'!$A$1:$I$1149,4)","v":"minutes"},{"$f":"IF(RIGHT(TEXT(VLOOKUP(AG2,'SYSTEM FORMULAE'!$A$1:$I$1149,5),\"#,##0.###\"),1)=\".\",LEFT(TEXT(VLOOKUP(AG2,'SYSTEM FORMULAE'!$A$1:$I$1149,5),\"#,##0.###\"),LEN(TEXT(VLOOKUP(AG2,'SYSTEM FORMULAE'!$A$1:$I$1149,5),\"#,##0.###\"))-1),TEXT(VLOOKUP(AG2,'SYSTEM FORMULAE'!$A$1:$I$1149,5),\"#,##0.###\"))","v":"30"},{"$f":"VLOOKUP(AG2,'SYSTEM FORMULAE'!$A$1:$I$1149,6)","v":"seconds"},"=",{"$f":"TEXT(VLOOKUP(AG2,'SYSTEM FORMULAE'!$A$1:$K$1149,10),CHOOSE(Worksheet!$D$10,\"##.#\",\"##.##\",\"##.###\",\"##.####\",\"##.#####\"))","v":"27.5"},{"$f":"VLOOKUP(AG2,'SYSTEM FORMULAE'!$A$1:$K$1149,11)","v":"minutes"},{"$f":"VLOOKUP(AG2,'SYSTEM FORMULAE'!$A$1:$K$1149,8)","v":1}]
[{"$f":"IF(COUNTIF($B$1:B3,TRUE)=COUNTIF($B$1:B2,TRUE),\"\",COUNTIF($B$1:B3,TRUE))","v":""},{"$f":"Worksheet!$B$14","v":false},{"$f":"IF(H3=1,RANDBETWEEN(1,Worksheet!$D$6),INT(J3))","v":26},{"$f":"IF(C3=1,\"week\",\"weeks\")","v":"weeks"},{"$f":"IF(H3=1,RANDBETWEEN(1,6),(J3-INT(J3))*7)","v":2},"days","=",{"$f":"IF(Worksheet!$D$7=1,1,IF(Worksheet!$D$7=2,2,RANDBETWEEN(1,2)))","v":1},null,{"$f":"IF(H3=1,C3+E3/7,RANDBETWEEN(1,Worksheet!$D$6)+CHOOSE(Worksheet!$D$10,RANDBETWEEN(1,9)/10,RANDBETWEEN(1,99)/100,RANDBETWEEN(1,999)/1000,RANDBETWEEN(1,9999)/10000,RANDBETWEEN(1,99999)/100000))","v":26.285714285714285},"weeks",{"$f":"IF(ROW()<=Worksheet!$D$4/3,ROW(),\"\")","v":3},{"$f":"RANDBETWEEN(1,MAX('SYSTEM FORMULAE'!$A$1:$A$1149))","v":431},{"$f":"IF(RIGHT(TEXT(VLOOKUP(M3,'SYSTEM FORMULAE'!$A$1:$I$1149,3),\"#,##0.###\"),1)=\".\",LEFT(TEXT(VLOOKUP(M3,'SYSTEM FORMULAE'!$A$1:$I$1149,3),\"#,##0.###\"),LEN(TEXT(VLOOKUP(M3,'SYSTEM FORMULAE'!$A$1:$I$1149,3),\"#,##0.###\"))-1),TEXT(VLOOKUP(M3,'SYSTEM FORMULAE'!$A$1:$I$1149,3),\"#,##0.###\"))","v":"12"},{"$f":"VLOOKUP(M3,'SYSTEM FORMULAE'!$A$1:$I$1149,4)","v":"hours"},{"$f":"IF(RIGHT(TEXT(VLOOKUP(M3,'SYSTEM FORMULAE'!$A$1:$I$1149,5),\"#,##0.###\"),1)=\".\",LEFT(TEXT(VLOOKUP(M3,'SYSTEM FORMULAE'!$A$1:$I$1149,5),\"#,##0.###\"),LEN(TEXT(VLOOKUP(M3,'SYSTEM FORMULAE'!$A$1:$I$1149,5),\"#,##0.###\"))-1),TEXT(VLOOKUP(M3,'SYSTEM FORMULAE'!$A$1:$I$1149,5),\"#,##0.###\"))","v":"30"},{"$f":"VLOOKUP(M3,'SYSTEM FORMULAE'!$A$1:$I$1149,6)","v":"minutes"},"=",{"$f":"TEXT(VLOOKUP(M3,'SYSTEM FORMULAE'!$A$1:$K$1149,10),CHOOSE(Worksheet!$D$10,\"##.#\",\"##.##\",\"##.###\",\"##.####\",\"##.#####\"))","v":"12.5"},{"$f":"VLOOKUP(M3,'SYSTEM FORMULAE'!$A$1:$K$1149,11)","v":"hours"},{"$f":"VLOOKUP(M3,'SYSTEM FORMULAE'!$A$1:$K$1149,8)","v":1},{"$f":"IF(ROW()<=Worksheet!$D$4/3,V2+1,\"\")","v":18},{"$f":"RANDBETWEEN(1,MAX('SYSTEM FORMULAE'!$A$1:$A$1149))","v":223},{"$f":"IF(RIGHT(TEXT(VLOOKUP(W3,'SYSTEM FORMULAE'!$A$1:$I$1149,3),\"#,##0.###\"),1)=\".\",LEFT(TEXT(VLOOKUP(W3,'SYSTEM FORMULAE'!$A$1:$I$1149,3),\"#,##0.###\"),LEN(TEXT(VLOOKUP(W3,'SYSTEM FORMULAE'!$A$1:$I$1149,3),\"#,##0.###\"))-1),TEXT(VLOOKUP(W3,'SYSTEM FORMULAE'!$A$1:$I$1149,3),\"#,##0.###\"))","v":"23"},{"$f":"VLOOKUP(W3,'SYSTEM FORMULAE'!$A$1:$I$1149,4)","v":"hours"},{"$f":"IF(RIGHT(TEXT(VLOOKUP(W3,'SYSTEM FORMULAE'!$A$1:$I$1149,5),\"#,##0.###\"),1)=\".\",LEFT(TEXT(VLOOKUP(W3,'SYSTEM FORMULAE'!$A$1:$I$1149,5),\"#,##0.###\"),LEN(TEXT(VLOOKUP(W3,'SYSTEM FORMULAE'!$A$1:$I$1149,5),\"#,##0.###\"))-1),TEXT(VLOOKUP(W3,'SYSTEM FORMULAE'!$A$1:$I$1149,5),\"#,##0.###\"))","v":"30"},{"$f":"VLOOKUP(W3,'SYSTEM FORMULAE'!$A$1:$I$1149,6)","v":"minutes"},"=",{"$f":"TEXT(VLOOKUP(W3,'SYSTEM FORMULAE'!$A$1:$K$1149,10),CHOOSE(Worksheet!$D$10,\"##.#\",\"##.##\",\"##.###\",\"##.####\",\"##.#####\"))","v":"23.5"},{"$f":"VLOOKUP(W3,'SYSTEM FORMULAE'!$A$1:$K$1149,11)","v":"hours"},{"$f":"VLOOKUP(W3,'SYSTEM FORMULAE'!$A$1:$K$1149,8)","v":2},{"$f":"IF(ROW()<=Worksheet!$D$4/3,AF2+1,\"\")","v":33},{"$f":"RANDBETWEEN(1,MAX('SYSTEM FORMULAE'!$A$1:$A$1149))","v":177},{"$f":"IF(RIGHT(TEXT(VLOOKUP(AG3,'SYSTEM FORMULAE'!$A$1:$I$1149,3),\"#,##0.###\"),1)=\".\",LEFT(TEXT(VLOOKUP(AG3,'SYSTEM FORMULAE'!$A$1:$I$1149,3),\"#,##0.###\"),LEN(TEXT(VLOOKUP(AG3,'SYSTEM FORMULAE'!$A$1:$I$1149,3),\"#,##0.###\"))-1),TEXT(VLOOKUP(AG3,'SYSTEM FORMULAE'!$A$1:$I$1149,3),\"#,##0.###\"))","v":"18"},{"$f":"VLOOKUP(AG3,'SYSTEM FORMULAE'!$A$1:$I$1149,4)","v":"hours"},{"$f":"IF(RIGHT(TEXT(VLOOKUP(AG3,'SYSTEM FORMULAE'!$A$1:$I$1149,5),\"#,##0.###\"),1)=\".\",LEFT(TEXT(VLOOKUP(AG3,'SYSTEM FORMULAE'!$A$1:$I$1149,5),\"#,##0.###\"),LEN(TEXT(VLOOKUP(AG3,'SYSTEM FORMULAE'!$A$1:$I$1149,5),\"#,##0.###\"))-1),TEXT(VLOOKUP(AG3,'SYSTEM FORMULAE'!$A$1:$I$1149,5),\"#,##0.###\"))","v":"30"},{"$f":"VLOOKUP(AG3,'SYSTEM FORMULAE'!$A$1:$I$1149,6)","v":"minutes"},"=",{"$f":"TEXT(VLOOKUP(AG3,'SYSTEM FORMULAE'!$A$1:$K$1149,10),CHOOSE(Worksheet!$D$10,\"##.#\",\"##.##\",\"##.###\",\"##.####\",\"##.#####\"))","v":"18.5"},{"$f":"VLOOKUP(AG3,'SYSTEM FORMULAE'!$A$1:$K$1149,11)","v":"hours"},{"$f":"VLOOKUP(AG3,'SYSTEM FORMULAE'!$A$1:$K$1149,8)","v":2}]
[{"$f":"IF(COUNTIF($B$1:B4,TRUE)=COUNTIF($B$1:B3,TRUE),\"\",COUNTIF($B$1:B4,TRUE))","v":""},{"$f":"Worksheet!$D$12","v":false},{"$f":"IF(H4=1,RANDBETWEEN(1,Worksheet!$D$6),INT(J4))","v":20},{"$f":"IF(C4=1,\"day\",\"days\")","v":"days"},{"$f":"IF(H4=1,RANDBETWEEN(1,23),(J4-INT(J4))*24)","v":7.2000000000000171},"hours","=",{"$f":"IF(Worksheet!$D$7=1,1,IF(Worksheet!$D$7=2,2,RANDBETWEEN(1,2)))","v":2},null,{"$f":"IF(H4=1,C4+E4/24,RANDBETWEEN(1,Worksheet!$D$6)+CHOOSE(Worksheet!$D$10,RANDBETWEEN(1,9)/10,RANDBETWEEN(1,99)/100,RANDBETWEEN(1,999)/1000,RANDBETWEEN(1,9999)/10000,RANDBETWEEN(1,99999)/100000))","v":20.3},"days",{"$f":"IF(ROW()<=Worksheet!$D$4/3,ROW(),\"\")","v":4},{"$f":"RANDBETWEEN(1,MAX('SYSTEM FORMULAE'!$A$1:$A$1149))","v":315},{"$f":"IF(RIGHT(TEXT(VLOOKUP(M4,'SYSTEM FORMULAE'!$A$1:$I$1149,3),\"#,##0.###\"),1)=\".\",LEFT(TEXT(VLOOKUP(M4,'SYSTEM FORMULAE'!$A$1:$I$1149,3),\"#,##0.###\"),LEN(TEXT(VLOOKUP(M4,'SYSTEM FORMULAE'!$A$1:$I$1149,3),\"#,##0.###\"))-1),TEXT(VLOOKUP(M4,'SYSTEM FORMULAE'!$A$1:$I$1149,3),\"#,##0.###\"))","v":"30"},{"$f":"VLOOKUP(M4,'SYSTEM FORMULAE'!$A$1:$I$1149,4)","v":"hours"},{"$f":"IF(RIGHT(TEXT(VLOOKUP(M4,'SYSTEM FORMULAE'!$A$1:$I$1149,5),\"#,##0.###\"),1)=\".\",LEFT(TEXT(VLOOKUP(M4,'SYSTEM FORMULAE'!$A$1:$I$1149,5),\"#,##0.###\"),LEN(TEXT(VLOOKUP(M4,'SYSTEM FORMULAE'!$A$1:$I$1149,5),\"#,##0.###\"))-1),TEXT(VLOOKUP(M4,'SYSTEM FORMULAE'!$A$1:$I$1149,5),\"#,##0.###\"))","v":"24"},{"$f":"VLOOKUP(M4,'SYSTEM FORMULAE'!$A$1:$I$1149,6)","v":"minutes"},"=",{"$f":"TEXT(VLOOKUP(M4,'SYSTEM FORMULAE'!$A$1:$K$1149,10),CHOOSE(Worksheet!$D$10,\"##.#\",\"##.##\",\"##.###\",\"##.####\",\"##.#####\"))","v":"30.4"},{"$f":"VLOOKUP(M4,'SYSTEM FORMULAE'!$A$1:$K$1149,11)","v":"hours"},{"$f":"VLOOKUP(M4,'SYSTEM FORMULAE'!$A$1:$K$1149,8)","v":1},{"$f":"IF(ROW()<=Worksheet!$D$4/3,V3+1,\"\")","v":19},{"$f":"RANDBETWEEN(1,MAX('SYSTEM FORMULAE'!$A$1:$A$1149))","v":138},{"$f":"IF(RIGHT(TEXT(VLOOKUP(W4,'SYSTEM FORMULAE'!$A$1:$I$1149,3),\"#,##0.###\"),1)=\".\",LEFT(TEXT(VLOOKUP(W4,'SYSTEM FORMULAE'!$A$1:$I$1149,3),\"#,##0.###\"),LEN(TEXT(VLOOKUP(W4,'SYSTEM FORMULAE'!$A$1:$I$1149,3),\"#,##0.###\"))-1),TEXT(VLOOKUP(W4,'SYSTEM FORMULAE'!$A$1:$I$1149,3),\"#,##0.###\"))","v":"28"},{"$f":"VLOOKUP(W4,'SYSTEM FORMULAE'!$A$1:$I$1149,4)","v":"minutes"},{"$f":"IF(RIGHT(TEXT(VLOOKUP(W4,'SYSTEM FORMULAE'!$A$1:$I$1149,5),\"#,##0.###\"),1)=\".\",LEFT(TEXT(VLOOKUP(W4,'SYSTEM FORMULAE'!$A$1:$I$1149,5),\"#,##0.###\"),LEN(TEXT(VLOOKUP(W4,'SYSTEM FORMULAE'!$A$1:$I$1149,5),\"#,##0.###\"))-1),TEXT(VLOOKUP(W4,'SYSTEM FORMULAE'!$A$1:$I$1149,5),\"#,##0.###\"))","v":"24"},{"$f":"VLOOKUP(W4,'SYSTEM FORMULAE'!$A$1:$I$1149,6)","v":"seconds"},"=",{"$f":"TEXT(VLOOKUP(W4,'SYSTEM FORMULAE'!$A$1:$K$1149,10),CHOOSE(Worksheet!$D$10,\"##.#\",\"##.##\",\"##.###\",\"##.####\",\"##.#####\"))","v":"28.4"},{"$f":"VLOOKUP(W4,'SYSTEM FORMULAE'!$A$1:$K$1149,11)","v":"minutes"},{"$f":"VLOOKUP(W4,'SYSTEM FORMULAE'!$A$1:$K$1149,8)","v":2},{"$f":"IF(ROW()<=Worksheet!$D$4/3,AF3+1,\"\")","v":34},{"$f":"RANDBETWEEN(1,MAX('SYSTEM FORMULAE'!$A$1:$A$1149))","v":96},{"$f":"IF(RIGHT(TEXT(VLOOKUP(AG4,'SYSTEM FORMULAE'!$A$1:$I$1149,3),\"#,##0.###\"),1)=\".\",LEFT(TEXT(VLOOKUP(AG4,'SYSTEM FORMULAE'!$A$1:$I$1149,3),\"#,##0.###\"),LEN(TEXT(VLOOKUP(AG4,'SYSTEM FORMULAE'!$A$1:$I$1149,3),\"#,##0.###\"))-1),TEXT(VLOOKUP(AG4,'SYSTEM FORMULAE'!$A$1:$I$1149,3),\"#,##0.###\"))","v":"8"},{"$f":"VLOOKUP(AG4,'SYSTEM FORMULAE'!$A$1:$I$1149,4)","v":"minutes"},{"$f":"IF(RIGHT(TEXT(VLOOKUP(AG4,'SYSTEM FORMULAE'!$A$1:$I$1149,5),\"#,##0.###\"),1)=\".\",LEFT(TEXT(VLOOKUP(AG4,'SYSTEM FORMULAE'!$A$1:$I$1149,5),\"#,##0.###\"),LEN(TEXT(VLOOKUP(AG4,'SYSTEM FORMULAE'!$A$1:$I$1149,5),\"#,##0.###\"))-1),TEXT(VLOOKUP(AG4,'SYSTEM FORMULAE'!$A$1:$I$1149,5),\"#,##0.###\"))","v":"54"},{"$f":"VLOOKUP(AG4,'SYSTEM FORMULAE'!$A$1:$I$1149,6)","v":"seconds"},"=",{"$f":"TEXT(VLOOKUP(AG4,'SYSTEM FORMULAE'!$A$1:$K$1149,10),CHOOSE(Worksheet!$D$10,\"##.#\",\"##.##\",\"##.###\",\"##.####\",\"##.#####\"))","v":"8.9"},{"$f":"VLOOKUP(AG4,'SYSTEM FORMULAE'!$A$1:$K$1149,11)","v":"minutes"},{"$f":"VLOOKUP(AG4,'SYSTEM FORMULAE'!$A$1:$K$1149,8)","v":1}]
[{"$f":"IF(COUNTIF($B$1:B5,TRUE)=COUNTIF($B$1:B4,TRUE),\"\",COUNTIF($B$1:B5,TRUE))","v":""},{"$f":"Worksheet!$D$13","v":false},{"$f":"IF(H5=1,RANDBETWEEN(1,Worksheet!$D$6),INT(J5))","v":11},{"$f":"IF(C5=1,\"year\",\"years\")","v":"years"},{"$f":"IF(H5=1,RANDBETWEEN(1,11),(J5-INT(J5))*12)","v":11},"months","=",{"$f":"IF(Worksheet!$D$7=1,1,IF(Worksheet!$D$7=2,2,RANDBETWEEN(1,2)))","v":1},null,{"$f":"IF(H5=1,C5+E5/12,RANDBETWEEN(1,Worksheet!$D$6)+CHOOSE(Worksheet!$D$10,RANDBETWEEN(1,9)/10,RANDBETWEEN(1,99)/100,RANDBETWEEN(1,999)/1000,RANDBETWEEN(1,9999)/10000,RANDBETWEEN(1,99999)/100000))","v":11.916666666666666},"years",{"$f":"IF(ROW()<=Worksheet!$D$4/3,ROW(),\"\")","v":5},{"$f":"RANDBETWEEN(1,MAX('SYSTEM FORMULAE'!$A$1:$A$1149))","v":411},{"$f":"IF(RIGHT(TEXT(VLOOKUP(M5,'SYSTEM FORMULAE'!$A$1:$I$1149,3),\"#,##0.###\"),1)=\".\",LEFT(TEXT(VLOOKUP(M5,'SYSTEM FORMULAE'!$A$1:$I$1149,3),\"#,##0.###\"),LEN(TEXT(VLOOKUP(M5,'SYSTEM FORMULAE'!$A$1:$I$1149,3),\"#,##0.###\"))-1),TEXT(VLOOKUP(M5,'SYSTEM FORMULAE'!$A$1:$I$1149,3),\"#,##0.###\"))","v":"20"},{"$f":"VLOOKUP(M5,'SYSTEM FORMULAE'!$A$1:$I$1149,4)","v":"hours"},{"$f":"IF(RIGHT(TEXT(VLOOKUP(M5,'SYSTEM FORMULAE'!$A$1:$I$1149,5),\"#,##0.###\"),1)=\".\",LEFT(TEXT(VLOOKUP(M5,'SYSTEM FORMULAE'!$A$1:$I$1149,5),\"#,##0.###\"),LEN(TEXT(VLOOKUP(M5,'SYSTEM FORMULAE'!$A$1:$I$1149,5),\"#,##0.###\"))-1),TEXT(VLOOKUP(M5,'SYSTEM FORMULAE'!$A$1:$I$1149,5),\"#,##0.###\"))","v":"6"},{"$f":"VLOOKUP(M5,'SYSTEM FORMULAE'!$A$1:$I$1149,6)","v":"minutes"},"=",{"$f":"TEXT(VLOOKUP(M5,'SYSTEM FORMULAE'!$A$1:$K$1149,10),CHOOSE(Worksheet!$D$10,\"##.#\",\"##.##\",\"##.###\",\"##.####\",\"##.#####\"))","v":"20.1"},{"$f":"VLOOKUP(M5,'SYSTEM FORMULAE'!$A$1:$K$1149,11)","v":"hours"},{"$f":"VLOOKUP(M5,'SYSTEM FORMULAE'!$A$1:$K$1149,8)","v":1},{"$f":"IF(ROW()<=Worksheet!$D$4/3,V4+1,\"\")","v":20},{"$f":"RANDBETWEEN(1,MAX('SYSTEM FORMULAE'!$A$1:$A$1149))","v":120},{"$f":"IF(RIGHT(TEXT(VLOOKUP(W5,'SYSTEM FORMULAE'!$A$1:$I$1149,3),\"#,##0.###\"),1)=\".\",LEFT(TEXT(VLOOKUP(W5,'SYSTEM FORMULAE'!$A$1:$I$1149,3),\"#,##0.###\"),LEN(TEXT(VLOOKUP(W5,'SYSTEM FORMULAE'!$A$1:$I$1149,3),\"#,##0.###\"))-1),TEXT(VLOOKUP(W5,'SYSTEM FORMULAE'!$A$1:$I$1149,3),\"#,##0.###\"))","v":"22"},{"$f":"VLOOKUP(W5,'SYSTEM FORMULAE'!$A$1:$I$1149,4)","v":"minutes"},{"$f":"IF(RIGHT(TEXT(VLOOKUP(W5,'SYSTEM FORMULAE'!$A$1:$I$1149,5),\"#,##0.###\"),1)=\".\",LEFT(TEXT(VLOOKUP(W5,'SYSTEM FORMULAE'!$A$1:$I$1149,5),\"#,##0.###\"),LEN(TEXT(VLOOKUP(W5,'SYSTEM FORMULAE'!$A$1:$I$1149,5),\"#,##0.###\"))-1),TEXT(VLOOKUP(W5,'SYSTEM FORMULAE'!$A$1:$I$1149,5),\"#,##0.###\"))","v":"24"},{"$f":"VLOOKUP(W5,'SYSTEM FORMULAE'!$A$1:$I$1149,6)","v":"seconds"},"=",{"$f":"TEXT(VLOOKUP(W5,'SYSTEM FORMULAE'!$A$1:$K$1149,10),CHOOSE(Worksheet!$D$10,\"##.#\",\"##.##\",\"##.###\",\"##.####\",\"##.#####\"))","v":"22.4"},{"$f":"VLOOKUP(W5,'SYSTEM FORMULAE'!$A$1:$K$1149,11)","v":"minutes"},{"$f":"VLOOKUP(W5,'SYSTEM FORMULAE'!$A$1:$K$1149,8)","v":1},{"$f":"IF(ROW()<=Worksheet!$D$4/3,AF4+1,\"\")","v":35},{"$f":"RANDBETWEEN(1,MAX('SYSTEM FORMULAE'!$A$1:$A$1149))","v":266},{"$f":"IF(RIGHT(TEXT(VLOOKUP(AG5,'SYSTEM FORMULAE'!$A$1:$I$1149,3),\"#,##0.###\"),1)=\".\",LEFT(TEXT(VLOOKUP(AG5,'SYSTEM FORMULAE'!$A$1:$I$1149,3),\"#,##0.###\"),LEN(TEXT(VLOOKUP(AG5,'SYSTEM FORMULAE'!$A$1:$I$1149,3),\"#,##0.###\"))-1),TEXT(VLOOKUP(AG5,'SYSTEM FORMULAE'!$A$1:$I$1149,3),\"#,##0.###\"))","v":"3"},{"$f":"VLOOKUP(AG5,'SYSTEM FORMULAE'!$A$1:$I$1149,4)","v":"minutes"},{"$f":"IF(RIGHT(TEXT(VLOOKUP(AG5,'SYSTEM FORMULAE'!$A$1:$I$1149,5),\"#,##0.###\"),1)=\".\",LEFT(TEXT(VLOOKUP(AG5,'SYSTEM FORMULAE'!$A$1:$I$1149,5),\"#,##0.###\"),LEN(TEXT(VLOOKUP(AG5,'SYSTEM FORMULAE'!$A$1:$I$1149,5),\"#,##0.###\"))-1),TEXT(VLOOKUP(AG5,'SYSTEM FORMULAE'!$A$1:$I$1149,5),\"#,##0.###\"))","v":"30"},{"$f":"VLOOKUP(AG5,'SYSTEM FORMULAE'!$A$1:$I$1149,6)","v":"seconds"},"=",{"$f":"TEXT(VLOOKUP(AG5,'SYSTEM FORMULAE'!$A$1:$K$1149,10),CHOOSE(Worksheet!$D$10,\"##.#\",\"##.##\",\"##.###\",\"##.####\",\"##.#####\"))","v":"3.5"},{"$f":"VLOOKUP(AG5,'SYSTEM FORMULAE'!$A$1:$K$1149,11)","v":"minutes"},{"$f":"VLOOKUP(AG5,'SYSTEM FORMULAE'!$A$1:$K$1149,8)","v":2}]
[{"$f":"COUNTIF($B$1:B6,TRUE)","v":3},{"$f":"Worksheet!$B$12","v":true},{"$f":"IF(H6=1,RANDBETWEEN(1,Worksheet!$D$6),INT(J6))","v":10},{"$f":"IF(C6=1,\"hour\",\"hours\")","v":"hours"},{"$f":"IF(H6=1,IF(Worksheet!$D$10=1,RANDBETWEEN(1,9)*6,IF(Worksheet!$D$10=2,RANDBETWEEN(1,19)*3,RANDBETWEEN(1,59))),(J6-INT(J6))*60)","v":35.999999999999979},"minutes","=",{"$f":"IF(Worksheet!$D$7=1,1,IF(Worksheet!$D$7=2,2,RANDBETWEEN(1,2)))","v":2},null,{"$f":"IF(H6=1,C6+E6/60,RANDBETWEEN(1,Worksheet!$D$6)+CHOOSE(Worksheet!$D$10,RANDBETWEEN(1,9)/10,RANDBETWEEN(1,99)/100,RANDBETWEEN(1,999)/1000,RANDBETWEEN(1,9999)/10000,RANDBETWEEN(1,99999)/100000))","v":10.6},{"$f":"D6","v":"hours"},{"$f":"IF(ROW()<=Worksheet!$D$4/3,ROW(),\"\")","v":6},{"$f":"RANDBETWEEN(1,MAX('SYSTEM FORMULAE'!$A$1:$A$1149))","v":147},{"$f":"IF(RIGHT(TEXT(VLOOKUP(M6,'SYSTEM FORMULAE'!$A$1:$I$1149,3),\"#,##0.###\"),1)=\".\",LEFT(TEXT(VLOOKUP(M6,'SYSTEM FORMULAE'!$A$1:$I$1149,3),\"#,##0.###\"),LEN(TEXT(VLOOKUP(M6,'SYSTEM FORMULAE'!$A$1:$I$1149,3),\"#,##0.###\"))-1),TEXT(VLOOKUP(M6,'SYSTEM FORMULAE'!$A$1:$I$1149,3),\"#,##0.###\"))","v":"12"},{"$f":"VLOOKUP(M6,'SYSTEM FORMULAE'!$A$1:$I$1149,4)","v":"hours"},{"$f":"IF(RIGHT(TEXT(VLOOKUP(M6,'SYSTEM FORMULAE'!$A$1:$I$1149,5),\"#,##0.###\"),1)=\".\",LEFT(TEXT(VLOOKUP(M6,'SYSTEM FORMULAE'!$A$1:$I$1149,5),\"#,##0.###\"),LEN(TEXT(VLOOKUP(M6,'SYSTEM FORMULAE'!$A$1:$I$1149,5),\"#,##0.###\"))-1),TEXT(VLOOKUP(M6,'SYSTEM FORMULAE'!$A$1:$I$1149,5),\"#,##0.###\"))","v":"18"},{"$f":"VLOOKUP(M6,'SYSTEM FORMULAE'!$A$1:$I$1149,6)","v":"minutes"},"=",{"$f":"TEXT(VLOOKUP(M6,'SYSTEM FORMULAE'!$A$1:$K$1149,10),CHOOSE(Worksheet!$D$10,\"##.#\",\"##.##\",\"##.###\",\"##.####\",\"##.#####\"))","v":"12.3"},{"$f":"VLOOKUP(M6,'SYSTEM FORMULAE'!$A$1:$K$1149,11)","v":"hours"},{"$f":"VLOOKUP(M6,'SYSTEM FORMULAE'!$A$1:$K$1149,8)","v":1},{"$f":"IF(ROW()<=Worksheet!$D$4/3,V5+1,\"\")","v":21},{"$f":"RANDBETWEEN(1,MAX('SYSTEM FORMULAE'!$A$1:$A$1149))","v":126},{"$f":"IF(RIGHT(TEXT(VLOOKUP(W6,'SYSTEM FORMULAE'!$A$1:$I$1149,3),\"#,##0.###\"),1)=\".\",LEFT(TEXT(VLOOKUP(W6,'SYSTEM FORMULAE'!$A$1:$I$1149,3),\"#,##0.###\"),LEN(TEXT(VLOOKUP(W6,'SYSTEM FORMULAE'!$A$1:$I$1149,3),\"#,##0.###\"))-1),TEXT(VLOOKUP(W6,'SYSTEM FORMULAE'!$A$1:$I$1149,3),\"#,##0.###\"))","v":"19"},{"$f":"VLOOKUP(W6,'SYSTEM FORMULAE'!$A$1:$I$1149,4)","v":"minutes"},{"$f":"IF(RIGHT(TEXT(VLOOKUP(W6,'SYSTEM FORMULAE'!$A$1:$I$1149,5),\"#,##0.###\"),1)=\".\",LEFT(TEXT(VLOOKUP(W6,'SYSTEM FORMULAE'!$A$1:$I$1149,5),\"#,##0.###\"),LEN(TEXT(VLOOKUP(W6,'SYSTEM FORMULAE'!$A$1:$I$1149,5),\"#,##0.###\"))-1),TEXT(VLOOKUP(W6,'SYSTEM FORMULAE'!$A$1:$I$1149,5),\"#,##0.###\"))","v":"24"},{"$f":"VLOOKUP(W6,'SYSTEM FORMULAE'!$A$1:$I$1149,6)","v":"seconds"},"=",{"$f":"TEXT(VLOOKUP(W6,'SYSTEM FORMULAE'!$A$1:$K$1149,10),CHOOSE(Worksheet!$D$10,\"##.#\",\"##.##\",\"##.###\",\"##.####\",\"##.#####\"))","v":"19.4"},{"$f":"VLOOKUP(W6,'SYSTEM FORMULAE'!$A$1:$K$1149,11)","v":"minutes"},{"$f":"VLOOKUP(W6,'SYSTEM FORMULAE'!$A$1:$K$1149,8)","v":2},{"$f":"IF(ROW()<=Worksheet!$D$4/3,AF5+1,\"\")","v":36},{"$f":"RANDBETWEEN(1,MAX('SYSTEM FORMULAE'!$A$1:$A$1149))","v":350},{"$f":"IF(RIGHT(TEXT(VLOOKUP(AG6,'SYSTEM FORMULAE'!$A$1:$I$1149,3),\"#,##0.###\"),1)=\".\",LEFT(TEXT(VLOOKUP(AG6,'SYSTEM FORMULAE'!$A$1:$I$1149,3),\"#,##0.###\"),LEN(TEXT(VLOOKUP(AG6,'SYSTEM FORMULAE'!$A$1:$I$1149,3),\"#,##0.###\"))-1),TEXT(VLOOKUP(AG6,'SYSTEM FORMULAE'!$A$1:$I$1149,3),\"#,##0.###\"))","v":"8"},{"$f":"VLOOKUP(AG6,'SYSTEM FORMULAE'!$A$1:$I$1149,4)","v":"minutes"},{"$f":"IF(RIGHT(TEXT(VLOOKUP(AG6,'SYSTEM FORMULAE'!$A$1:$I$1149,5),\"#,##0.###\"),1)=\".\",LEFT(TEXT(VLOOKUP(AG6,'SYSTEM FORMULAE'!$A$1:$I$1149,5),\"#,##0.###\"),LEN(TEXT(VLOOKUP(AG6,'SYSTEM FORMULAE'!$A$1:$I$1149,5),\"#,##0.###\"))-1),TEXT(VLOOKUP(AG6,'SYSTEM FORMULAE'!$A$1:$I$1149,5),\"#,##0.###\"))","v":"24"},{"$f":"VLOOKUP(AG6,'SYSTEM FORMULAE'!$A$1:$I$1149,6)","v":"seconds"},"=",{"$f":"TEXT(VLOOKUP(AG6,'SYSTEM FORMULAE'!$A$1:$K$1149,10),CHOOSE(Worksheet!$D$10,\"##.#\",\"##.##\",\"##.###\",\"##.####\",\"##.#####\"))","v":"8.4"},{"$f":"VLOOKUP(AG6,'SYSTEM FORMULAE'!$A$1:$K$1149,11)","v":"minutes"},{"$f":"VLOOKUP(AG6,'SYSTEM FORMULAE'!$A$1:$K$1149,8)","v":2}]
[{"$f":"IF(COUNTIF($B$1:B7,TRUE)=COUNTIF($B$1:B6,TRUE),\"\",COUNTIF($B$1:B7,TRUE))","v":4},{"$f":"Worksheet!$B$13","v":true},{"$f":"IF(H7=1,RANDBETWEEN(1,Worksheet!$D$6),INT(J7))","v":8},{"$f":"IF(C7=1,\"minute\",\"minutes\")","v":"minutes"},{"$f":"IF(H7=1,IF(Worksheet!$D$10=1,RANDBETWEEN(1,9)*6,IF(Worksheet!$D$10=2,RANDBETWEEN(1,19)*3,RANDBETWEEN(1,59))),(J7-INT(J7))*60)","v":41.999999999999957},"seconds","=",{"$f":"IF(Worksheet!$D$7=1,1,IF(Worksheet!$D$7=2,2,RANDBETWEEN(1,2)))","v":2},null,{"$f":"IF(H7=1,C7+E7/60,RANDBETWEEN(1,Worksheet!$D$6)+CHOOSE(Worksheet!$D$10,RANDBETWEEN(1,9)/10,RANDBETWEEN(1,99)/100,RANDBETWEEN(1,999)/1000,RANDBETWEEN(1,9999)/10000,RANDBETWEEN(1,99999)/100000))","v":8.6999999999999993},"minutes",{"$f":"IF(ROW()<=Worksheet!$D$4/3,ROW(),\"\")","v":7},{"$f":"RANDBETWEEN(1,MAX('SYSTEM FORMULAE'!$A$1:$A$1149))","v":55},{"$f":"IF(RIGHT(TEXT(VLOOKUP(M7,'SYSTEM FORMULAE'!$A$1:$I$1149,3),\"#,##0.###\"),1)=\".\",LEFT(TEXT(VLOOKUP(M7,'SYSTEM FORMULAE'!$A$1:$I$1149,3),\"#,##0.###\"),LEN(TEXT(VLOOKUP(M7,'SYSTEM FORMULAE'!$A$1:$I$1149,3),\"#,##0.###\"))-1),TEXT(VLOOKUP(M7,'SYSTEM FORMULAE'!$A$1:$I$1149,3),\"#,##0.###\"))","v":"22"},{"$f":"VLOOKUP(M7,'SYSTEM FORMULAE'!$A$1:$I$1149,4)","v":"hours"},{"$f":"IF(RIGHT(TEXT(VLOOKUP(M7,'SYSTEM FORMULAE'!$A$1:$I$1149,5),\"#,##0.###\"),1)=\".\",LEFT(TEXT(VLOOKUP(M7,'SYSTEM FORMULAE'!$A$1:$I$1149,5),\"#,##0.###\"),LEN(TEXT(VLOOKUP(M7,'SYSTEM FORMULAE'!$A$1:$I$1149,5),\"#,##0.###\"))-1),TEXT(VLOOKUP(M7,'SYSTEM FORMULAE'!$A$1:$I$1149,5),\"#,##0.###\"))","v":"42"},{"$f":"VLOOKUP(M7,'SYSTEM FORMULAE'!$A$1:$I$1149,6)","v":"minutes"},"=",{"$f":"TEXT(VLOOKUP(M7,'SYSTEM FORMULAE'!$A$1:$K$1149,10),CHOOSE(Worksheet!$D$10,\"##.#\",\"##.##\",\"##.###\",\"##.####\",\"##.#####\"))","v":"22.7"},{"$f":"VLOOKUP(M7,'SYSTEM FORMULAE'!$A$1:$K$1149,11)","v":"hours"},{"$f":"VLOOKUP(M7,'SYSTEM FORMULAE'!$A$1:$K$1149,8)","v":2},{"$f":"IF(ROW()<=Worksheet!$D$4/3,V6+1,\"\")","v":22},{"$f":"RANDBETWEEN(1,MAX('SYSTEM FORMULAE'!$A$1:$A$1149))","v":122},{"$f":"IF(RIGHT(TEXT(VLOOKUP(W7,'SYSTEM FORMULAE'!$A$1:$I$1149,3),\"#,##0.###\"),1)=\".\",LEFT(TEXT(VLOOKUP(W7,'SYSTEM FORMULAE'!$A$1:$I$1149,3),\"#,##0.###\"),LEN(TEXT(VLOOKUP(W7,'SYSTEM FORMULAE'!$A$1:$I$1149,3),\"#,##0.###\"))-1),TEXT(VLOOKUP(W7,'SYSTEM FORMULAE'!$A$1:$I$1149,3),\"#,##0.###\"))","v":"4"},{"$f":"VLOOKUP(W7,'SYSTEM FORMULAE'!$A$1:$I$1149,4)","v":"minutes"},{"$f":"IF(RIGHT(TEXT(VLOOKUP(W7,'SYSTEM FORMULAE'!$A$1:$I$1149,5),\"#,##0.###\"),1)=\".\",LEFT(TEXT(VLOOKUP(W7,'SYSTEM FORMULAE'!$A$1:$I$1149,5),\"#,##0.###\"),LEN(TEXT(VLOOKUP(W7,'SYSTEM FORMULAE'!$A$1:$I$1149,5),\"#,##0.###\"))-1),TEXT(VLOOKUP(W7,'SYSTEM FORMULAE'!$A$1:$I$1149,5),\"#,##0.###\"))","v":"24"},{"$f":"VLOOKUP(W7,'SYSTEM FORMULAE'!$A$1:$I$1149,6)","v":"seconds"},"=",{"$f":"TEXT(VLOOKUP(W7,'SYSTEM FORMULAE'!$A$1:$K$1149,10),CHOOSE(Worksheet!$D$10,\"##.#\",\"##.##\",\"##.###\",\"##.####\",\"##.#####\"))","v":"4.4"},{"$f":"VLOOKUP(W7,'SYSTEM FORMULAE'!$A$1:$K$1149,11)","v":"minutes"},{"$f":"VLOOKUP(W7,'SYSTEM FORMULAE'!$A$1:$K$1149,8)","v":1},{"$f":"IF(ROW()<=Worksheet!$D$4/3,AF6+1,\"\")","v":37},{"$f":"RANDBETWEEN(1,MAX('SYSTEM FORMULAE'!$A$1:$A$1149))","v":331},{"$f":"IF(RIGHT(TEXT(VLOOKUP(AG7,'SYSTEM FORMULAE'!$A$1:$I$1149,3),\"#,##0.###\"),1)=\".\",LEFT(TEXT(VLOOKUP(AG7,'SYSTEM FORMULAE'!$A$1:$I$1149,3),\"#,##0.###\"),LEN(TEXT(VLOOKUP(AG7,'SYSTEM FORMULAE'!$A$1:$I$1149,3),\"#,##0.###\"))-1),TEXT(VLOOKUP(AG7,'SYSTEM FORMULAE'!$A$1:$I$1149,3),\"#,##0.###\"))","v":"8"},{"$f":"VLOOKUP(AG7,'SYSTEM FORMULAE'!$A$1:$I$1149,4)","v":"hours"},{"$f":"IF(RIGHT(TEXT(VLOOKUP(AG7,'SYSTEM FORMULAE'!$A$1:$I$1149,5),\"#,##0.###\"),1)=\".\",LEFT(TEXT(VLOOKUP(AG7,'SYSTEM FORMULAE'!$A$1:$I$1149,5),\"#,##0.###\"),LEN(TEXT(VLOOKUP(AG7,'SYSTEM FORMULAE'!$A$1:$I$1149,5),\"#,##0.###\"))-1),TEXT(VLOOKUP(AG7,'SYSTEM FORMULAE'!$A$1:$I$1149,5),\"#,##0.###\"))","v":"48"},{"$f":"VLOOKUP(AG7,'SYSTEM FORMULAE'!$A$1:$I$1149,6)","v":"minutes"},"=",{"$f":"TEXT(VLOOKUP(AG7,'SYSTEM FORMULAE'!$A$1:$K$1149,10),CHOOSE(Worksheet!$D$10,\"##.#\",\"##.##\",\"##.###\",\"##.####\",\"##.#####\"))","v":"8.8"},{"$f":"VLOOKUP(AG7,'SYSTEM FORMULAE'!$A$1:$K$1149,11)","v":"hours"},{"$f":"VLOOKUP(AG7,'SYSTEM FORMULAE'!$A$1:$K$1149,8)","v":1}]
[{"$f":"IF(COUNTIF($B$1:B8,TRUE)=COUNTIF($B$1:B7,TRUE),\"\",COUNTIF($B$1:B8,TRUE))","v":""},{"$f":"Worksheet!$B$14","v":false},{"$f":"IF(H8=1,RANDBETWEEN(1,Worksheet!$D$6),INT(J8))","v":20},{"$f":"IF(C8=1,\"week\",\"weeks\")","v":"weeks"},{"$f":"IF(H8=1,RANDBETWEEN(1,6),(J8-INT(J8))*7)","v":5.600000000000005},"days","=",{"$f":"IF(Worksheet!$D$7=1,1,IF(Worksheet!$D$7=2,2,RANDBETWEEN(1,2)))","v":2},null,{"$f":"IF(H8=1,C8+E8/7,RANDBETWEEN(1,Worksheet!$D$6)+CHOOSE(Worksheet!$D$10,RANDBETWEEN(1,9)/10,RANDBETWEEN(1,99)/100,RANDBETWEEN(1,999)/1000,RANDBETWEEN(1,9999)/10000,RANDBETWEEN(1,99999)/100000))","v":20.8},"weeks",{"$f":"IF(ROW()<=Worksheet!$D$4/3,ROW(),\"\")","v":8},{"$f":"RANDBETWEEN(1,MAX('SYSTEM FORMULAE'!$A$1:$A$1149))","v":45},{"$f":"IF(RIGHT(TEXT(VLOOKUP(M8,'SYSTEM FORMULAE'!$A$1:$I$1149,3),\"#,##0.###\"),1)=\".\",LEFT(TEXT(VLOOKUP(M8,'SYSTEM FORMULAE'!$A$1:$I$1149,3),\"#,##0.###\"),LEN(TEXT(VLOOKUP(M8,'SYSTEM FORMULAE'!$A$1:$I$1149,3),\"#,##0.###\"))-1),TEXT(VLOOKUP(M8,'SYSTEM FORMULAE'!$A$1:$I$1149,3),\"#,##0.###\"))","v":"3"},{"$f":"VLOOKUP(M8,'SYSTEM FORMULAE'!$A$1:$I$1149,4)","v":"hours"},{"$f":"IF(RIGHT(TEXT(VLOOKUP(M8,'SYSTEM FORMULAE'!$A$1:$I$1149,5),\"#,##0.###\"),1)=\".\",LEFT(TEXT(VLOOKUP(M8,'SYSTEM FORMULAE'!$A$1:$I$1149,5),\"#,##0.###\"),LEN(TEXT(VLOOKUP(M8,'SYSTEM FORMULAE'!$A$1:$I$1149,5),\"#,##0.###\"))-1),TEXT(VLOOKUP(M8,'SYSTEM FORMULAE'!$A$1:$I$1149,5),\"#,##0.###\"))","v":"30"},{"$f":"VLOOKUP(M8,'SYSTEM FORMULAE'!$A$1:$I$1149,6)","v":"minutes"},"=",{"$f":"TEXT(VLOOKUP(M8,'SYSTEM FORMULAE'!$A$1:$K$1149,10),CHOOSE(Worksheet!$D$10,\"##.#\",\"##.##\",\"##.###\",\"##.####\",\"##.#####\"))","v":"3.5"},{"$f":"VLOOKUP(M8,'SYSTEM FORMULAE'!$A$1:$K$1149,11)","v":"hours"},{"$f":"VLOOKUP(M8,'SYSTEM FORMULAE'!$A$1:$K$1149,8)","v":2},{"$f":"IF(ROW()<=Worksheet!$D$4/3,V7+1,\"\")","v":23},{"$f":"RANDBETWEEN(1,MAX('SYSTEM FORMULAE'!$A$1:$A$1149))","v":190},{"$f":"IF(RIGHT(TEXT(VLOOKUP(W8,'SYSTEM FORMULAE'!$A$1:$I$1149,3),\"#,##0.###\"),1)=\".\",LEFT(TEXT(VLOOKUP(W8,'SYSTEM FORMULAE'!$A$1:$I$1149,3),\"#,##0.###\"),LEN(TEXT(VLOOKUP(W8,'SYSTEM FORMULAE'!$A$1:$I$1149,3),\"#,##0.###\"))-1),TEXT(VLOOKUP(W8,'SYSTEM FORMULAE'!$A$1:$I$1149,3),\"#,##0.###\"))","v":"13"},{"$f":"VLOOKUP(W8,'SYSTEM FORMULAE'!$A$1:$I$1149,4)","v":"minutes"},{"$f":"IF(RIGHT(TEXT(VLOOKUP(W8,'SYSTEM FORMULAE'!$A$1:$I$1149,5),\"#,##0.###\"),1)=\".\",LEFT(TEXT(VLOOKUP(W8,'SYSTEM FORMULAE'!$A$1:$I$1149,5),\"#,##0.###\"),LEN(TEXT(VLOOKUP(W8,'SYSTEM FORMULAE'!$A$1:$I$1149,5),\"#,##0.###\"))-1),TEXT(VLOOKUP(W8,'SYSTEM FORMULAE'!$A$1:$I$1149,5),\"#,##0.###\"))","v":"36"},{"$f":"VLOOKUP(W8,'SYSTEM FORMULAE'!$A$1:$I$1149,6)","v":"seconds"},"=",{"$f":"TEXT(VLOOKUP(W8,'SYSTEM FORMULAE'!$A$1:$K$1149,10),CHOOSE(Worksheet!$D$10,\"##.#\",\"##.##\",\"##.###\",\"##.####\",\"##.#####\"))","v":"13.6"},{"$f":"VLOOKUP(W8,'SYSTEM FORMULAE'!$A$1:$K$1149,11)","v":"minutes"},{"$f":"VLOOKUP(W8,'SYSTEM FORMULAE'!$A$1:$K$1149,8)","v":1},{"$f":"IF(ROW()<=Worksheet!$D$4/3,AF7+1,\"\")","v":38},{"$f":"RANDBETWEEN(1,MAX('SYSTEM FORMULAE'!$A$1:$A$1149))","v":173},{"$f":"IF(RIGHT(TEXT(VLOOKUP(AG8,'SYSTEM FORMULAE'!$A$1:$I$1149,3),\"#,##0.###\"),1)=\".\",LEFT(TEXT(VLOOKUP(AG8,'SYSTEM FORMULAE'!$A$1:$I$1149,3),\"#,##0.###\"),LEN(TEXT(VLOOKUP(AG8,'SYSTEM FORMULAE'!$A$1:$I$1149,3),\"#,##0.###\"))-1),TEXT(VLOOKUP(AG8,'SYSTEM FORMULAE'!$A$1:$I$1149,3),\"#,##0.###\"))","v":"15"},{"$f":"VLOOKUP(AG8,'SYSTEM FORMULAE'!$A$1:$I$1149,4)","v":"hours"},{"$f":"IF(RIGHT(TEXT(VLOOKUP(AG8,'SYSTEM FORMULAE'!$A$1:$I$1149,5),\"#,##0.###\"),1)=\".\",LEFT(TEXT(VLOOKUP(AG8,'SYSTEM FORMULAE'!$A$1:$I$1149,5),\"#,##0.###\"),LEN(TEXT(VLOOKUP(AG8,'SYSTEM FORMULAE'!$A$1:$I$1149,5),\"#,##0.###\"))-1),TEXT(VLOOKUP(AG8,'SYSTEM FORMULAE'!$A$1:$I$1149,5),\"#,##0.###\"))","v":"48"},{"$f":"VLOOKUP(AG8,'SYSTEM FORMULAE'!$A$1:$I$1149,6)","v":"minutes"},"=",{"$f":"TEXT(VLOOKUP(AG8,'SYSTEM FORMULAE'!$A$1:$K$1149,10),CHOOSE(Worksheet!$D$10,\"##.#\",\"##.##\",\"##.###\",\"##.####\",\"##.#####\"))","v":"15.8"},{"$f":"VLOOKUP(AG8,'SYSTEM FORMULAE'!$A$1:$K$1149,11)","v":"hours"},{"$f":"VLOOKUP(AG8,'SYSTEM FORMULAE'!$A$1:$K$1149,8)","v":1}]
[{"$f":"IF(COUNTIF($B$1:B9,TRUE)=COUNTIF($B$1:B8,TRUE),\"\",COUNTIF($B$1:B9,TRUE))","v":""},{"$f":"Worksheet!$D$12","v":false},{"$f":"IF(H9=1,RANDBETWEEN(1,Worksheet!$D$6),INT(J9))","v":18},{"$f":"IF(C9=1,\"day\",\"days\")","v":"days"},{"$f":"IF(H9=1,RANDBETWEEN(1,23),(J9-INT(J9))*24)","v":2.4000000000000341},"hours","=",{"$f":"IF(Worksheet!$D$7=1,1,IF(Worksheet!$D$7=2,2,RANDBETWEEN(1,2)))","v":2},null,{"$f":"IF(H9=1,C9+E9/24,RANDBETWEEN(1,Worksheet!$D$6)+CHOOSE(Worksheet!$D$10,RANDBETWEEN(1,9)/10,RANDBETWEEN(1,99)/100,RANDBETWEEN(1,999)/1000,RANDBETWEEN(1,9999)/10000,RANDBETWEEN(1,99999)/100000))","v":18.100000000000001},"days",{"$f":"IF(ROW()<=Worksheet!$D$4/3,ROW(),\"\")","v":9},{"$f":"RANDBETWEEN(1,MAX('SYSTEM FORMULAE'!$A$1:$A$1149))","v":179},{"$f":"IF(RIGHT(TEXT(VLOOKUP(M9,'SYSTEM FORMULAE'!$A$1:$I$1149,3),\"#,##0.###\"),1)=\".\",LEFT(TEXT(VLOOKUP(M9,'SYSTEM FORMULAE'!$A$1:$I$1149,3),\"#,##0.###\"),LEN(TEXT(VLOOKUP(M9,'SYSTEM FORMULAE'!$A$1:$I$1149,3),\"#,##0.###\"))-1),TEXT(VLOOKUP(M9,'SYSTEM FORMULAE'!$A$1:$I$1149,3),\"#,##0.###\"))","v":"9"},{"$f":"VLOOKUP(M9,'SYSTEM FORMULAE'!$A$1:$I$1149,4)","v":"hours"},{"$f":"IF(RIGHT(TEXT(VLOOKUP(M9,'SYSTEM FORMULAE'!$A$1:$I$1149,5),\"#,##0.###\"),1)=\".\",LEFT(TEXT(VLOOKUP(M9,'SYSTEM FORMULAE'!$A$1:$I$1149,5),\"#,##0.###\"),LEN(TEXT(VLOOKUP(M9,'SYSTEM FORMULAE'!$A$1:$I$1149,5),\"#,##0.###\"))-1),TEXT(VLOOKUP(M9,'SYSTEM FORMULAE'!$A$1:$I$1149,5),\"#,##0.###\"))","v":"48"},{"$f":"VLOOKUP(M9,'SYSTEM FORMULAE'!$A$1:$I$1149,6)","v":"minutes"},"=",{"$f":"TEXT(VLOOKUP(M9,'SYSTEM FORMULAE'!$A$1:$K$1149,10),CHOOSE(Worksheet!$D$10,\"##.#\",\"##.##\",\"##.###\",\"##.####\",\"##.#####\"))","v":"9.8"},{"$f":"VLOOKUP(M9,'SYSTEM FORMULAE'!$A$1:$K$1149,11)","v":"hours"},{"$f":"VLOOKUP(M9,'SYSTEM FORMULAE'!$A$1:$K$1149,8)","v":2},{"$f":"IF(ROW()<=Worksheet!$D$4/3,V8+1,\"\")","v":24},{"$f":"RANDBETWEEN(1,MAX('SYSTEM FORMULAE'!$A$1:$A$1149))","v":46},{"$f":"IF(RIGHT(TEXT(VLOOKUP(W9,'SYSTEM FORMULAE'!$A$1:$I$1149,3),\"#,##0.###\"),1)=\".\",LEFT(TEXT(VLOOKUP(W9,'SYSTEM FORMULAE'!$A$1:$I$1149,3),\"#,##0.###\"),LEN(TEXT(VLOOKUP(W9,'SYSTEM FORMULAE'!$A$1:$I$1149,3),\"#,##0.###\"))-1),TEXT(VLOOKUP(W9,'SYSTEM FORMULAE'!$A$1:$I$1149,3),\"#,##0.###\"))","v":"6"},{"$f":"VLOOKUP(W9,'SYSTEM FORMULAE'!$A$1:$I$1149,4)","v":"minutes"},{"$f":"IF(RIGHT(TEXT(VLOOKUP(W9,'SYSTEM FORMULAE'!$A$1:$I$1149,5),\"#,##0.###\"),1)=\".\",LEFT(TEXT(VLOOKUP(W9,'SYSTEM FORMULAE'!$A$1:$I$1149,5),\"#,##0.###\"),LEN(TEXT(VLOOKUP(W9,'SYSTEM FORMULAE'!$A$1:$I$1149,5),\"#,##0.###\"))-1),TEXT(VLOOKUP(W9,'SYSTEM FORMULAE'!$A$1:$I$1149,5),\"#,##0.###\"))","v":"30"},{"$f":"VLOOKUP(W9,'SYSTEM FORMULAE'!$A$1:$I$1149,6)","v":"seconds"},"=",{"$f":"TEXT(VLOOKUP(W9,'SYSTEM FORMULAE'!$A$1:$K$1149,10),CHOOSE(Worksheet!$D$10,\"##.#\",\"##.##\",\"##.###\",\"##.####\",\"##.#####\"))","v":"6.5"},{"$f":"VLOOKUP(W9,'SYSTEM FORMULAE'!$A$1:$K$1149,11)","v":"minutes"},{"$f":"VLOOKUP(W9,'SYSTEM FORMULAE'!$A$1:$K$1149,8)","v":1},{"$f":"IF(ROW()<=Worksheet!$D$4/3,AF8+1,\"\")","v":39},{"$f":"RANDBETWEEN(1,MAX('SYSTEM FORMULAE'!$A$1:$A$1149))","v":62},{"$f":"IF(RIGHT(TEXT(VLOOKUP(AG9,'SYSTEM FORMULAE'!$A$1:$I$1149,3),\"#,##0.###\"),1)=\".\",LEFT(TEXT(VLOOKUP(AG9,'SYSTEM FORMULAE'!$A$1:$I$1149,3),\"#,##0.###\"),LEN(TEXT(VLOOKUP(AG9,'SYSTEM FORMULAE'!$A$1:$I$1149,3),\"#,##0.###\"))-1),TEXT(VLOOKUP(AG9,'SYSTEM FORMULAE'!$A$1:$I$1149,3),\"#,##0.###\"))","v":"8"},{"$f":"VLOOKUP(AG9,'SYSTEM FORMULAE'!$A$1:$I$1149,4)","v":"minutes"},{"$f":"IF(RIGHT(TEXT(VLOOKUP(AG9,'SYSTEM FORMULAE'!$A$1:$I$1149,5),\"#,##0.###\"),1)=\".\",LEFT(TEXT(VLOOKUP(AG9,'SYSTEM FORMULAE'!$A$1:$I$1149,5),\"#,##0.###\"),LEN(TEXT(VLOOKUP(AG9,'SYSTEM FORMULAE'!$A$1:$I$1149,5),\"#,##0.###\"))-1),TEXT(VLOOKUP(AG9,'SYSTEM FORMULAE'!$A$1:$I$1149,5),\"#,##0.###\"))","v":"42"},{"$f":"VLOOKUP(AG9,'SYSTEM FORMULAE'!$A$1:$I$1149,6)","v":"seconds"},"=",{"$f":"TEXT(VLOOKUP(AG9,'SYSTEM FORMULAE'!$A$1:$K$1149,10),CHOOSE(Worksheet!$D$10,\"##.#\",\"##.##\",\"##.###\",\"##.####\",\"##.#####\"))","v":"8.7"},{"$f":"VLOOKUP(AG9,'SYSTEM FORMULAE'!$A$1:$K$1149,11)","v":"minutes"},{"$f":"VLOOKUP(AG9,'SYSTEM FORMULAE'!$A$1:$K$1149,8)","v":2}]
[{"$f":"IF(COUNTIF($B$1:B10,TRUE)=COUNTIF($B$1:B9,TRUE),\"\",COUNTIF($B$1:B10,TRUE))","v":""},{"$f":"Worksheet!$D$13","v":false},{"$f":"IF(H10=1,RANDBETWEEN(1,Worksheet!$D$6),INT(J10))","v":4},{"$f":"IF(C10=1,\"year\",\"years\")","v":"years"},{"$f":"IF(H10=1,RANDBETWEEN(1,11),(J10-INT(J10))*12)","v":9},"months","=",{"$f":"IF(Worksheet!$D$7=1,1,IF(Worksheet!$D$7=2,2,RANDBETWEEN(1,2)))","v":1},null,{"$f":"IF(H10=1,C10+E10/12,RANDBETWEEN(1,Worksheet!$D$6)+CHOOSE(Worksheet!$D$10,RANDBETWEEN(1,9)/10,RANDBETWEEN(1,99)/100,RANDBETWEEN(1,999)/1000,RANDBETWEEN(1,9999)/10000,RANDBETWEEN(1,99999)/100000))","v":4.75},"years",{"$f":"IF(ROW()<=Worksheet!$D$4/3,ROW(),\"\")","v":10},{"$f":"RANDBETWEEN(1,MAX('SYSTEM FORMULAE'!$A$1:$A$1149))","v":27},{"$f":"IF(RIGHT(TEXT(VLOOKUP(M10,'SYSTEM FORMULAE'!$A$1:$I$1149,3),\"#,##0.###\"),1)=\".\",LEFT(TEXT(VLOOKUP(M10,'SYSTEM FORMULAE'!$A$1:$I$1149,3),\"#,##0.###\"),LEN(TEXT(VLOOKUP(M10,'SYSTEM FORMULAE'!$A$1:$I$1149,3),\"#,##0.###\"))-1),TEXT(VLOOKUP(M10,'SYSTEM FORMULAE'!$A$1:$I$1149,3),\"#,##0.###\"))","v":"5"},{"$f":"VLOOKUP(M10,'SYSTEM FORMULAE'!$A$1:$I$1149,4)","v":"hours"},{"$f":"IF(RIGHT(TEXT(VLOOKUP(M10,'SYSTEM FORMULAE'!$A$1:$I$1149,5),\"#,##0.###\"),1)=\".\",LEFT(TEXT(VLOOKUP(M10,'SYSTEM FORMULAE'!$A$1:$I$1149,5),\"#,##0.###\"),LEN(TEXT(VLOOKUP(M10,'SYSTEM FORMULAE'!$A$1:$I$1149,5),\"#,##0.###\"))-1),TEXT(VLOOKUP(M10,'SYSTEM FORMULAE'!$A$1:$I$1149,5),\"#,##0.###\"))","v":"48"},{"$f":"VLOOKUP(M10,'SYSTEM FORMULAE'!$A$1:$I$1149,6)","v":"minutes"},"=",{"$f":"TEXT(VLOOKUP(M10,'SYSTEM FORMULAE'!$A$1:$K$1149,10),CHOOSE(Worksheet!$D$10,\"##.#\",\"##.##\",\"##.###\",\"##.####\",\"##.#####\"))","v":"5.8"},{"$f":"VLOOKUP(M10,'SYSTEM FORMULAE'!$A$1:$K$1149,11)","v":"hours"},{"$f":"VLOOKUP(M10,'SYSTEM FORMULAE'!$A$1:$K$1149,8)","v":1},{"$f":"IF(ROW()<=Worksheet!$D$4/3,V9+1,\"\")","v":25},{"$f":"RANDBETWEEN(1,MAX('SYSTEM FORMULAE'!$A$1:$A$1149))","v":362},{"$f":"IF(RIGHT(TEXT(VLOOKUP(W10,'SYSTEM FORMULAE'!$A$1:$I$1149,3),\"#,##0.###\"),1)=\".\",LEFT(TEXT(VLOOKUP(W10,'SYSTEM FORMULAE'!$A$1:$I$1149,3),\"#,##0.###\"),LEN(TEXT(VLOOKUP(W10,'SYSTEM FORMULAE'!$A$1:$I$1149,3),\"#,##0.###\"))-1),TEXT(VLOOKUP(W10,'SYSTEM FORMULAE'!$A$1:$I$1149,3),\"#,##0.###\"))","v":"20"},{"$f":"VLOOKUP(W10,'SYSTEM FORMULAE'!$A$1:$I$1149,4)","v":"minutes"},{"$f":"IF(RIGHT(TEXT(VLOOKUP(W10,'SYSTEM FORMULAE'!$A$1:$I$1149,5),\"#,##0.###\"),1)=\".\",LEFT(TEXT(VLOOKUP(W10,'SYSTEM FORMULAE'!$A$1:$I$1149,5),\"#,##0.###\"),LEN(TEXT(VLOOKUP(W10,'SYSTEM FORMULAE'!$A$1:$I$1149,5),\"#,##0.###\"))-1),TEXT(VLOOKUP(W10,'SYSTEM FORMULAE'!$A$1:$I$1149,5),\"#,##0.###\"))","v":"42"},{"$f":"VLOOKUP(W10,'SYSTEM FORMULAE'!$A$1:$I$1149,6)","v":"seconds"},"=",{"$f":"TEXT(VLOOKUP(W10,'SYSTEM FORMULAE'!$A$1:$K$1149,10),CHOOSE(Worksheet!$D$10,\"##.#\",\"##.##\",\"##.###\",\"##.####\",\"##.#####\"))","v":"20.7"},{"$f":"VLOOKUP(W10,'SYSTEM FORMULAE'!$A$1:$K$1149,11)","v":"minutes"},{"$f":"VLOOKUP(W10,'SYSTEM FORMULAE'!$A$1:$K$1149,8)","v":2},{"$f":"IF(ROW()<=Worksheet!$D$4/3,AF9+1,\"\")","v":40},{"$f":"RANDBETWEEN(1,MAX('SYSTEM FORMULAE'!$A$1:$A$1149))","v":4},{"$f":"IF(RIGHT(TEXT(VLOOKUP(AG10,'SYSTEM FORMULAE'!$A$1:$I$1149,3),\"#,##0.###\"),1)=\".\",LEFT(TEXT(VLOOKUP(AG10,'SYSTEM FORMULAE'!$A$1:$I$1149,3),\"#,##0.###\"),LEN(TEXT(VLOOKUP(AG10,'SYSTEM FORMULAE'!$A$1:$I$1149,3),\"#,##0.###\"))-1),TEXT(VLOOKUP(AG10,'SYSTEM FORMULAE'!$A$1:$I$1149,3),\"#,##0.###\"))","v":"8"},{"$f":"VLOOKUP(AG10,'SYSTEM FORMULAE'!$A$1:$I$1149,4)","v":"minutes"},{"$f":"IF(RIGHT(TEXT(VLOOKUP(AG10,'SYSTEM FORMULAE'!$A$1:$I$1149,5),\"#,##0.###\"),1)=\".\",LEFT(TEXT(VLOOKUP(AG10,'SYSTEM FORMULAE'!$A$1:$I$1149,5),\"#,##0.###\"),LEN(TEXT(VLOOKUP(AG10,'SYSTEM FORMULAE'!$A$1:$I$1149,5),\"#,##0.###\"))-1),TEXT(VLOOKUP(AG10,'SYSTEM FORMULAE'!$A$1:$I$1149,5),\"#,##0.###\"))","v":"42"},{"$f":"VLOOKUP(AG10,'SYSTEM FORMULAE'!$A$1:$I$1149,6)","v":"seconds"},"=",{"$f":"TEXT(VLOOKUP(AG10,'SYSTEM FORMULAE'!$A$1:$K$1149,10),CHOOSE(Worksheet!$D$10,\"##.#\",\"##.##\",\"##.###\",\"##.####\",\"##.#####\"))","v":"8.7"},{"$f":"VLOOKUP(AG10,'SYSTEM FORMULAE'!$A$1:$K$1149,11)","v":"minutes"},{"$f":"VLOOKUP(AG10,'SYSTEM FORMULAE'!$A$1:$K$1149,8)","v":2}]
[{"$f":"COUNTIF($B$1:B11,TRUE)","v":5},{"$f":"Worksheet!$B$12","v":true},{"$f":"IF(H11=1,RANDBETWEEN(1,Worksheet!$D$6),INT(J11))","v":9},{"$f":"IF(C11=1,\"hour\",\"hours\")","v":"hours"},{"$f":"IF(H11=1,IF(Worksheet!$D$10=1,RANDBETWEEN(1,9)*6,IF(Worksheet!$D$10=2,RANDBETWEEN(1,19)*3,RANDBETWEEN(1,59))),(J11-INT(J11))*60)","v":24},"minutes","=",{"$f":"IF(Worksheet!$D$7=1,1,IF(Worksheet!$D$7=2,2,RANDBETWEEN(1,2)))","v":1},null,{"$f":"IF(H11=1,C11+E11/60,RANDBETWEEN(1,Worksheet!$D$6)+CHOOSE(Worksheet!$D$10,RANDBETWEEN(1,9)/10,RANDBETWEEN(1,99)/100,RANDBETWEEN(1,999)/1000,RANDBETWEEN(1,9999)/10000,RANDBETWEEN(1,99999)/100000))","v":9.4},{"$f":"D11","v":"hours"},{"$f":"IF(ROW()<=Worksheet!$D$4/3,ROW(),\"\")","v":11},{"$f":"RANDBETWEEN(1,MAX('SYSTEM FORMULAE'!$A$1:$A$1149))","v":442},{"$f":"IF(RIGHT(TEXT(VLOOKUP(M11,'SYSTEM FORMULAE'!$A$1:$I$1149,3),\"#,##0.###\"),1)=\".\",LEFT(TEXT(VLOOKUP(M11,'SYSTEM FORMULAE'!$A$1:$I$1149,3),\"#,##0.###\"),LEN(TEXT(VLOOKUP(M11,'SYSTEM FORMULAE'!$A$1:$I$1149,3),\"#,##0.###\"))-1),TEXT(VLOOKUP(M11,'SYSTEM FORMULAE'!$A$1:$I$1149,3),\"#,##0.###\"))","v":"13"},{"$f":"VLOOKUP(M11,'SYSTEM FORMULAE'!$A$1:$I$1149,4)","v":"minutes"},{"$f":"IF(RIGHT(TEXT(VLOOKUP(M11,'SYSTEM FORMULAE'!$A$1:$I$1149,5),\"#,##0.###\"),1)=\".\",LEFT(TEXT(VLOOKUP(M11,'SYSTEM FORMULAE'!$A$1:$I$1149,5),\"#,##0.###\"),LEN(TEXT(VLOOKUP(M11,'SYSTEM FORMULAE'!$A$1:$I$1149,5),\"#,##0.###\"))-1),TEXT(VLOOKUP(M11,'SYSTEM FORMULAE'!$A$1:$I$1149,5),\"#,##0.###\"))","v":"6"},{"$f":"VLOOKUP(M11,'SYSTEM FORMULAE'!$A$1:$I$1149,6)","v":"seconds"},"=",{"$f":"TEXT(VLOOKUP(M11,'SYSTEM FORMULAE'!$A$1:$K$1149,10),CHOOSE(Worksheet!$D$10,\"##.#\",\"##.##\",\"##.###\",\"##.####\",\"##.#####\"))","v":"13.1"},{"$f":"VLOOKUP(M11,'SYSTEM FORMULAE'!$A$1:$K$1149,11)","v":"minutes"},{"$f":"VLOOKUP(M11,'SYSTEM FORMULAE'!$A$1:$K$1149,8)","v":1},{"$f":"IF(ROW()<=Worksheet!$D$4/3,V10+1,\"\")","v":26},{"$f":"RANDBETWEEN(1,MAX('SYSTEM FORMULAE'!$A$1:$A$1149))","v":32},{"$f":"IF(RIGHT(TEXT(VLOOKUP(W11,'SYSTEM FORMULAE'!$A$1:$I$1149,3),\"#,##0.###\"),1)=\".\",LEFT(TEXT(VLOOKUP(W11,'SYSTEM FORMULAE'!$A$1:$I$1149,3),\"#,##0.###\"),LEN(TEXT(VLOOKUP(W11,'SYSTEM FORMULAE'!$A$1:$I$1149,3),\"#,##0.###\"))-1),TEXT(VLOOKUP(W11,'SYSTEM FORMULAE'!$A$1:$I$1149,3),\"#,##0.###\"))","v":"10"},{"$f":"VLOOKUP(W11,'SYSTEM FORMULAE'!$A$1:$I$1149,4)","v":"minutes"},{"$f":"IF(RIGHT(TEXT(VLOOKUP(W11,'SYSTEM FORMULAE'!$A$1:$I$1149,5),\"#,##0.###\"),1)=\".\",LEFT(TEXT(VLOOKUP(W11,'SYSTEM FORMULAE'!$A$1:$I$1149,5),\"#,##0.###\"),LEN(TEXT(VLOOKUP(W11,'SYSTEM FORMULAE'!$A$1:$I$1149,5),\"#,##0.###\"))-1),TEXT(VLOOKUP(W11,'SYSTEM FORMULAE'!$A$1:$I$1149,5),\"#,##0.###\"))","v":"12"},{"$f":"VLOOKUP(W11,'SYSTEM FORMULAE'!$A$1:$I$1149,6)","v":"seconds"},"=",{"$f":"TEXT(VLOOKUP(W11,'SYSTEM FORMULAE'!$A$1:$K$1149,10),CHOOSE(Worksheet!$D$10,\"##.#\",\"##.##\",\"##.###\",\"##.####\",\"##.#####\"))","v":"10.2"},{"$f":"VLOOKUP(W11,'SYSTEM FORMULAE'!$A$1:$K$1149,11)","v":"minutes"},{"$f":"VLOOKUP(W11,'SYSTEM FORMULAE'!$A$1:$K$1149,8)","v":2},{"$f":"IF(ROW()<=Worksheet!$D$4/3,AF10+1,\"\")","v":41},{"$f":"RANDBETWEEN(1,MAX('SYSTEM FORMULAE'!$A$1:$A$1149))","v":368},{"$f":"IF(RIGHT(TEXT(VLOOKUP(AG11,'SYSTEM FORMULAE'!$A$1:$I$1149,3),\"#,##0.###\"),1)=\".\",LEFT(TEXT(VLOOKUP(AG11,'SYSTEM FORMULAE'!$A$1:$I$1149,3),\"#,##0.###\"),LEN(TEXT(VLOOKUP(AG11,'SYSTEM FORMULAE'!$A$1:$I$1149,3),\"#,##0.###\"))-1),TEXT(VLOOKUP(AG11,'SYSTEM FORMULAE'!$A$1:$I$1149,3),\"#,##0.###\"))","v":"26"},{"$f":"VLOOKUP(AG11,'SYSTEM FORMULAE'!$A$1:$I$1149,4)","v":"minutes"},{"$f":"IF(RIGHT(TEXT(VLOOKUP(AG11,'SYSTEM FORMULAE'!$A$1:$I$1149,5),\"#,##0.###\"),1)=\".\",LEFT(TEXT(VLOOKUP(AG11,'SYSTEM FORMULAE'!$A$1:$I$1149,5),\"#,##0.###\"),LEN(TEXT(VLOOKUP(AG11,'SYSTEM FORMULAE'!$A$1:$I$1149,5),\"#,##0.###\"))-1),TEXT(VLOOKUP(AG11,'SYSTEM FORMULAE'!$A$1:$I$1149,5),\"#,##0.###\"))","v":"30"},{"$f":"VLOOKUP(AG11,'SYSTEM FORMULAE'!$A$1:$I$1149,6)","v":"seconds"},"=",{"$f":"TEXT(VLOOKUP(AG11,'SYSTEM FORMULAE'!$A$1:$K$1149,10),CHOOSE(Worksheet!$D$10,\"##.#\",\"##.##\",\"##.###\",\"##.####\",\"##.#####\"))","v":"26.5"},{"$f":"VLOOKUP(AG11,'SYSTEM FORMULAE'!$A$1:$K$1149,11)","v":"minutes"},{"$f":"VLOOKUP(AG11,'SYSTEM FORMULAE'!$A$1:$K$1149,8)","v":1}]
[{"$f":"IF(COUNTIF($B$1:B12,TRUE)=COUNTIF($B$1:B11,TRUE),\"\",COUNTIF($B$1:B12,TRUE))","v":6},{"$f":"Worksheet!$B$13","v":true},{"$f":"IF(H12=1,RANDBETWEEN(1,Worksheet!$D$6),INT(J12))","v":14},{"$f":"IF(C12=1,\"minute\",\"minutes\")","v":"minutes"},{"$f":"IF(H12=1,IF(Worksheet!$D$10=1,RANDBETWEEN(1,9)*6,IF(Worksheet!$D$10=2,RANDBETWEEN(1,19)*3,RANDBETWEEN(1,59))),(J12-INT(J12))*60)","v":24},"seconds","=",{"$f":"IF(Worksheet!$D$7=1,1,IF(Worksheet!$D$7=2,2,RANDBETWEEN(1,2)))","v":1},null,{"$f":"IF(H12=1,C12+E12/60,RANDBETWEEN(1,Worksheet!$D$6)+CHOOSE(Worksheet!$D$10,RANDBETWEEN(1,9)/10,RANDBETWEEN(1,99)/100,RANDBETWEEN(1,999)/1000,RANDBETWEEN(1,9999)/10000,RANDBETWEEN(1,99999)/100000))","v":14.4},"minutes",{"$f":"IF(ROW()<=Worksheet!$D$4/3,ROW(),\"\")","v":12},{"$f":"RANDBETWEEN(1,MAX('SYSTEM FORMULAE'!$A$1:$A$1149))","v":178},{"$f":"IF(RIGHT(TEXT(VLOOKUP(M12,'SYSTEM FORMULAE'!$A$1:$I$1149,3),\"#,##0.###\"),1)=\".\",LEFT(TEXT(VLOOKUP(M12,'SYSTEM FORMULAE'!$A$1:$I$1149,3),\"#,##0.###\"),LEN(TEXT(VLOOKUP(M12,'SYSTEM FORMULAE'!$A$1:$I$1149,3),\"#,##0.###\"))-1),TEXT(VLOOKUP(M12,'SYSTEM FORMULAE'!$A$1:$I$1149,3),\"#,##0.###\"))","v":"28"},{"$f":"VLOOKUP(M12,'SYSTEM FORMULAE'!$A$1:$I$1149,4)","v":"minutes"},{"$f":"IF(RIGHT(TEXT(VLOOKUP(M12,'SYSTEM FORMULAE'!$A$1:$I$1149,5),\"#,##0.###\"),1)=\".\",LEFT(TEXT(VLOOKUP(M12,'SYSTEM FORMULAE'!$A$1:$I$1149,5),\"#,##0.###\"),LEN(TEXT(VLOOKUP(M12,'SYSTEM FORMULAE'!$A$1:$I$1149,5),\"#,##0.###\"))-1),TEXT(VLOOKUP(M12,'SYSTEM FORMULAE'!$A$1:$I$1149,5),\"#,##0.###\"))","v":"6"},{"$f":"VLOOKUP(M12,'SYSTEM FORMULAE'!$A$1:$I$1149,6)","v":"seconds"},"=",{"$f":"TEXT(VLOOKUP(M12,'SYSTEM FORMULAE'!$A$1:$K$1149,10),CHOOSE(Worksheet!$D$10,\"##.#\",\"##.##\",\"##.###\",\"##.####\",\"##.#####\"))","v":"28.1"},{"$f":"VLOOKUP(M12,'SYSTEM FORMULAE'!$A$1:$K$1149,11)","v":"minutes"},{"$f":"VLOOKUP(M12,'SYSTEM FORMULAE'!$A$1:$K$1149,8)","v":1},{"$f":"IF(ROW()<=Worksheet!$D$4/3,V11+1,\"\")","v":27},{"$f":"RANDBETWEEN(1,MAX('SYSTEM FORMULAE'!$A$1:$A$1149))","v":392},{"$f":"IF(RIGHT(TEXT(VLOOKUP(W12,'SYSTEM FORMULAE'!$A$1:$I$1149,3),\"#,##0.###\"),1)=\".\",LEFT(TEXT(VLOOKUP(W12,'SYSTEM FORMULAE'!$A$1:$I$1149,3),\"#,##0.###\"),LEN(TEXT(VLOOKUP(W12,'SYSTEM FORMULAE'!$A$1:$I$1149,3),\"#,##0.###\"))-1),TEXT(VLOOKUP(W12,'SYSTEM FORMULAE'!$A$1:$I$1149,3),\"#,##0.###\"))","v":"1"},{"$f":"VLOOKUP(W12,'SYSTEM FORMULAE'!$A$1:$I$1149,4)","v":"minute"},{"$f":"IF(RIGHT(TEXT(VLOOKUP(W12,'SYSTEM FORMULAE'!$A$1:$I$1149,5),\"#,##0.###\"),1)=\".\",LEFT(TEXT(VLOOKUP(W12,'SYSTEM FORMULAE'!$A$1:$I$1149,5),\"#,##0.###\"),LEN(TEXT(VLOOKUP(W12,'SYSTEM FORMULAE'!$A$1:$I$1149,5),\"#,##0.###\"))-1),TEXT(VLOOKUP(W12,'SYSTEM FORMULAE'!$A$1:$I$1149,5),\"#,##0.###\"))","v":"24"},{"$f":"VLOOKUP(W12,'SYSTEM FORMULAE'!$A$1:$I$1149,6)","v":"seconds"},"=",{"$f":"TEXT(VLOOKUP(W12,'SYSTEM FORMULAE'!$A$1:$K$1149,10),CHOOSE(Worksheet!$D$10,\"##.#\",\"##.##\",\"##.###\",\"##.####\",\"##.#####\"))","v":"1.4"},{"$f":"VLOOKUP(W12,'SYSTEM FORMULAE'!$A$1:$K$1149,11)","v":"minute"},{"$f":"VLOOKUP(W12,'SYSTEM FORMULAE'!$A$1:$K$1149,8)","v":1},{"$f":"IF(ROW()<=Worksheet!$D$4/3,AF11+1,\"\")","v":42},{"$f":"RANDBETWEEN(1,MAX('SYSTEM FORMULAE'!$A$1:$A$1149))","v":142},{"$f":"IF(RIGHT(TEXT(VLOOKUP(AG12,'SYSTEM FORMULAE'!$A$1:$I$1149,3),\"#,##0.###\"),1)=\".\",LEFT(TEXT(VLOOKUP(AG12,'SYSTEM FORMULAE'!$A$1:$I$1149,3),\"#,##0.###\"),LEN(TEXT(VLOOKUP(AG12,'SYSTEM FORMULAE'!$A$1:$I$1149,3),\"#,##0.###\"))-1),TEXT(VLOOKUP(AG12,'SYSTEM FORMULAE'!$A$1:$I$1149,3),\"#,##0.###\"))","v":"19"},{"$f":"VLOOKUP(AG12,'SYSTEM FORMULAE'!$A$1:$I$1149,4)","v":"minutes"},{"$f":"IF(RIGHT(TEXT(VLOOKUP(AG12,'SYSTEM FORMULAE'!$A$1:$I$1149,5),\"#,##0.###\"),1)=\".\",LEFT(TEXT(VLOOKUP(AG12,'SYSTEM FORMULAE'!$A$1:$I$1149,5),\"#,##0.###\"),LEN(TEXT(VLOOKUP(AG12,'SYSTEM FORMULAE'!$A$1:$I$1149,5),\"#,##0.###\"))-1),TEXT(VLOOKUP(AG12,'SYSTEM FORMULAE'!$A$1:$I$1149,5),\"#,##0.###\"))","v":"42"},{"$f":"VLOOKUP(AG12,'SYSTEM FORMULAE'!$A$1:$I$1149,6)","v":"seconds"},"=",{"$f":"TEXT(VLOOKUP(AG12,'SYSTEM FORMULAE'!$A$1:$K$1149,10),CHOOSE(Worksheet!$D$10,\"##.#\",\"##.##\",\"##.###\",\"##.####\",\"##.#####\"))","v":"19.7"},{"$f":"VLOOKUP(AG12,'SYSTEM FORMULAE'!$A$1:$K$1149,11)","v":"minutes"},{"$f":"VLOOKUP(AG12,'SYSTEM FORMULAE'!$A$1:$K$1149,8)","v":1}]
[{"$f":"IF(COUNTIF($B$1:B13,TRUE)=COUNTIF($B$1:B12,TRUE),\"\",COUNTIF($B$1:B13,TRUE))","v":""},{"$f":"Worksheet!$B$14","v":false},{"$f":"IF(H13=1,RANDBETWEEN(1,Worksheet!$D$6),INT(J13))","v":17},{"$f":"IF(C13=1,\"week\",\"weeks\")","v":"weeks"},{"$f":"IF(H13=1,RANDBETWEEN(1,6),(J13-INT(J13))*7)","v":4.899999999999995},"days","=",{"$f":"IF(Worksheet!$D$7=1,1,IF(Worksheet!$D$7=2,2,RANDBETWEEN(1,2)))","v":2},null,{"$f":"IF(H13=1,C13+E13/7,RANDBETWEEN(1,Worksheet!$D$6)+CHOOSE(Worksheet!$D$10,RANDBETWEEN(1,9)/10,RANDBETWEEN(1,99)/100,RANDBETWEEN(1,999)/1000,RANDBETWEEN(1,9999)/10000,RANDBETWEEN(1,99999)/100000))","v":17.7},"weeks",{"$f":"IF(ROW()<=Worksheet!$D$4/3,ROW(),\"\")","v":13},{"$f":"RANDBETWEEN(1,MAX('SYSTEM FORMULAE'!$A$1:$A$1149))","v":390},{"$f":"IF(RIGHT(TEXT(VLOOKUP(M13,'SYSTEM FORMULAE'!$A$1:$I$1149,3),\"#,##0.###\"),1)=\".\",LEFT(TEXT(VLOOKUP(M13,'SYSTEM FORMULAE'!$A$1:$I$1149,3),\"#,##0.###\"),LEN(TEXT(VLOOKUP(M13,'SYSTEM FORMULAE'!$A$1:$I$1149,3),\"#,##0.###\"))-1),TEXT(VLOOKUP(M13,'SYSTEM FORMULAE'!$A$1:$I$1149,3),\"#,##0.###\"))","v":"15"},{"$f":"VLOOKUP(M13,'SYSTEM FORMULAE'!$A$1:$I$1149,4)","v":"minutes"},{"$f":"IF(RIGHT(TEXT(VLOOKUP(M13,'SYSTEM FORMULAE'!$A$1:$I$1149,5),\"#,##0.###\"),1)=\".\",LEFT(TEXT(VLOOKUP(M13,'SYSTEM FORMULAE'!$A$1:$I$1149,5),\"#,##0.###\"),LEN(TEXT(VLOOKUP(M13,'SYSTEM FORMULAE'!$A$1:$I$1149,5),\"#,##0.###\"))-1),TEXT(VLOOKUP(M13,'SYSTEM FORMULAE'!$A$1:$I$1149,5),\"#,##0.###\"))","v":"36"},{"$f":"VLOOKUP(M13,'SYSTEM FORMULAE'!$A$1:$I$1149,6)","v":"seconds"},"=",{"$f":"TEXT(VLOOKUP(M13,'SYSTEM FORMULAE'!$A$1:$K$1149,10),CHOOSE(Worksheet!$D$10,\"##.#\",\"##.##\",\"##.###\",\"##.####\",\"##.#####\"))","v":"15.6"},{"$f":"VLOOKUP(M13,'SYSTEM FORMULAE'!$A$1:$K$1149,11)","v":"minutes"},{"$f":"VLOOKUP(M13,'SYSTEM FORMULAE'!$A$1:$K$1149,8)","v":2},{"$f":"IF(ROW()<=Worksheet!$D$4/3,V12+1,\"\")","v":28},{"$f":"RANDBETWEEN(1,MAX('SYSTEM FORMULAE'!$A$1:$A$1149))","v":126},{"$f":"IF(RIGHT(TEXT(VLOOKUP(W13,'SYSTEM FORMULAE'!$A$1:$I$1149,3),\"#,##0.###\"),1)=\".\",LEFT(TEXT(VLOOKUP(W13,'SYSTEM FORMULAE'!$A$1:$I$1149,3),\"#,##0.###\"),LEN(TEXT(VLOOKUP(W13,'SYSTEM FORMULAE'!$A$1:$I$1149,3),\"#,##0.###\"))-1),TEXT(VLOOKUP(W13,'SYSTEM FORMULAE'!$A$1:$I$1149,3),\"#,##0.###\"))","v":"19"},{"$f":"VLOOKUP(W13,'SYSTEM FORMULAE'!$A$1:$I$1149,4)","v":"minutes"},{"$f":"IF(RIGHT(TEXT(VLOOKUP(W13,'SYSTEM FORMULAE'!$A$1:$I$1149,5),\"#,##0.###\"),1)=\".\",LEFT(TEXT(VLOOKUP(W13,'SYSTEM FORMULAE'!$A$1:$I$1149,5),\"#,##0.###\"),LEN(TEXT(VLOOKUP(W13,'SYSTEM FORMULAE'!$A$1:$I$1149,5),\"#,##0.###\"))-1),TEXT(VLOOKUP(W13,'SYSTEM FORMULAE'!$A$1:$I$1149,5),\"#,##0.###\"))","v":"24"},{"$f":"VLOOKUP(W13,'SYSTEM FORMULAE'!$A$1:$I$1149,6)","v":"seconds"},"=",{"$f":"TEXT(VLOOKUP(W13,'SYSTEM FORMULAE'!$A$1:$K$1149,10),CHOOSE(Worksheet!$D$10,\"##.#\",\"##.##\",\"##.###\",\"##.####\",\"##.#####\"))","v":"19.4"},{"$f":"VLOOKUP(W13,'SYSTEM FORMULAE'!$A$1:$K$1149,11)","v":"minutes"},{"$f":"VLOOKUP(W13,'SYSTEM FORMULAE'!$A$1:$K$1149,8)","v":2},{"$f":"IF(ROW()<=Worksheet!$D$4/3,AF12+1,\"\")","v":43},{"$f":"RANDBETWEEN(1,MAX('SYSTEM FORMULAE'!$A$1:$A$1149))","v":315},{"$f":"IF(RIGHT(TEXT(VLOOKUP(AG13,'SYSTEM FORMULAE'!$A$1:$I$1149,3),\"#,##0.###\"),1)=\".\",LEFT(TEXT(VLOOKUP(AG13,'SYSTEM FORMULAE'!$A$1:$I$1149,3),\"#,##0.###\"),LEN(TEXT(VLOOKUP(AG13,'SYSTEM FORMULAE'!$A$1:$I$1149,3),\"#,##0.###\"))-1),TEXT(VLOOKUP(AG13,'SYSTEM FORMULAE'!$A$1:$I$1149,3),\"#,##0.###\"))","v":"30"},{"$f":"VLOOKUP(AG13,'SYSTEM FORMULAE'!$A$1:$I$1149,4)","v":"hours"},{"$f":"IF(RIGHT(TEXT(VLOOKUP(AG13,'SYSTEM FORMULAE'!$A$1:$I$1149,5),\"#,##0.###\"),1)=\".\",LEFT(TEXT(VLOOKUP(AG13,'SYSTEM FORMULAE'!$A$1:$I$1149,5),\"#,##0.###\"),LEN(TEXT(VLOOKUP(AG13,'SYSTEM FORMULAE'!$A$1:$I$1149,5),\"#,##0.###\"))-1),TEXT(VLOOKUP(AG13,'SYSTEM FORMULAE'!$A$1:$I$1149,5),\"#,##0.###\"))","v":"24"},{"$f":"VLOOKUP(AG13,'SYSTEM FORMULAE'!$A$1:$I$1149,6)","v":"minutes"},"=",{"$f":"TEXT(VLOOKUP(AG13,'SYSTEM FORMULAE'!$A$1:$K$1149,10),CHOOSE(Worksheet!$D$10,\"##.#\",\"##.##\",\"##.###\",\"##.####\",\"##.#####\"))","v":"30.4"},{"$f":"VLOOKUP(AG13,'SYSTEM FORMULAE'!$A$1:$K$1149,11)","v":"hours"},{"$f":"VLOOKUP(AG13,'SYSTEM FORMULAE'!$A$1:$K$1149,8)","v":1}]
[{"$f":"IF(COUNTIF($B$1:B14,TRUE)=COUNTIF($B$1:B13,TRUE),\"\",COUNTIF($B$1:B14,TRUE))","v":""},{"$f":"Worksheet!$D$12","v":false},{"$f":"IF(H14=1,RANDBETWEEN(1,Worksheet!$D$6),INT(J14))","v":23},{"$f":"IF(C14=1,\"day\",\"days\")","v":"days"},{"$f":"IF(H14=1,RANDBETWEEN(1,23),(J14-INT(J14))*24)","v":4.7999999999999829},"hours","=",{"$f":"IF(Worksheet!$D$7=1,1,IF(Worksheet!$D$7=2,2,RANDBETWEEN(1,2)))","v":2},null,{"$f":"IF(H14=1,C14+E14/24,RANDBETWEEN(1,Worksheet!$D$6)+CHOOSE(Worksheet!$D$10,RANDBETWEEN(1,9)/10,RANDBETWEEN(1,99)/100,RANDBETWEEN(1,999)/1000,RANDBETWEEN(1,9999)/10000,RANDBETWEEN(1,99999)/100000))","v":23.2},"days",{"$f":"IF(ROW()<=Worksheet!$D$4/3,ROW(),\"\")","v":14},{"$f":"RANDBETWEEN(1,MAX('SYSTEM FORMULAE'!$A$1:$A$1149))","v":321},{"$f":"IF(RIGHT(TEXT(VLOOKUP(M14,'SYSTEM FORMULAE'!$A$1:$I$1149,3),\"#,##0.###\"),1)=\".\",LEFT(TEXT(VLOOKUP(M14,'SYSTEM FORMULAE'!$A$1:$I$1149,3),\"#,##0.###\"),LEN(TEXT(VLOOKUP(M14,'SYSTEM FORMULAE'!$A$1:$I$1149,3),\"#,##0.###\"))-1),TEXT(VLOOKUP(M14,'SYSTEM FORMULAE'!$A$1:$I$1149,3),\"#,##0.###\"))","v":"21"},{"$f":"VLOOKUP(M14,'SYSTEM FORMULAE'!$A$1:$I$1149,4)","v":"hours"},{"$f":"IF(RIGHT(TEXT(VLOOKUP(M14,'SYSTEM FORMULAE'!$A$1:$I$1149,5),\"#,##0.###\"),1)=\".\",LEFT(TEXT(VLOOKUP(M14,'SYSTEM FORMULAE'!$A$1:$I$1149,5),\"#,##0.###\"),LEN(TEXT(VLOOKUP(M14,'SYSTEM FORMULAE'!$A$1:$I$1149,5),\"#,##0.###\"))-1),TEXT(VLOOKUP(M14,'SYSTEM FORMULAE'!$A$1:$I$1149,5),\"#,##0.###\"))","v":"18"},{"$f":"VLOOKUP(M14,'SYSTEM FORMULAE'!$A$1:$I$1149,6)","v":"minutes"},"=",{"$f":"TEXT(VLOOKUP(M14,'SYSTEM FORMULAE'!$A$1:$K$1149,10),CHOOSE(Worksheet!$D$10,\"##.#\",\"##.##\",\"##.###\",\"##.####\",\"##.#####\"))","v":"21.3"},{"$f":"VLOOKUP(M14,'SYSTEM FORMULAE'!$A$1:$K$1149,11)","v":"hours"},{"$f":"VLOOKUP(M14,'SYSTEM FORMULAE'!$A$1:$K$1149,8)","v":1},{"$f":"IF(ROW()<=Worksheet!$D$4/3,V13+1,\"\")","v":29},{"$f":"RANDBETWEEN(1,MAX('SYSTEM FORMULAE'!$A$1:$A$1149))","v":169},{"$f":"IF(RIGHT(TEXT(VLOOKUP(W14,'SYSTEM FORMULAE'!$A$1:$I$1149,3),\"#,##0.###\"),1)=\".\",LEFT(TEXT(VLOOKUP(W14,'SYSTEM FORMULAE'!$A$1:$I$1149,3),\"#,##0.###\"),LEN(TEXT(VLOOKUP(W14,'SYSTEM FORMULAE'!$A$1:$I$1149,3),\"#,##0.###\"))-1),TEXT(VLOOKUP(W14,'SYSTEM FORMULAE'!$A$1:$I$1149,3),\"#,##0.###\"))","v":"1"},{"$f":"VLOOKUP(W14,'SYSTEM FORMULAE'!$A$1:$I$1149,4)","v":"hour"},{"$f":"IF(RIGHT(TEXT(VLOOKUP(W14,'SYSTEM FORMULAE'!$A$1:$I$1149,5),\"#,##0.###\"),1)=\".\",LEFT(TEXT(VLOOKUP(W14,'SYSTEM FORMULAE'!$A$1:$I$1149,5),\"#,##0.###\"),LEN(TEXT(VLOOKUP(W14,'SYSTEM FORMULAE'!$A$1:$I$1149,5),\"#,##0.###\"))-1),TEXT(VLOOKUP(W14,'SYSTEM FORMULAE'!$A$1:$I$1149,5),\"#,##0.###\"))","v":"30"},{"$f":"VLOOKUP(W14,'SYSTEM FORMULAE'!$A$1:$I$1149,6)","v":"minutes"},"=",{"$f":"TEXT(VLOOKUP(W14,'SYSTEM FORMULAE'!$A$1:$K$1149,10),CHOOSE(Worksheet!$D$10,\"##.#\",\"##.##\",\"##.###\",\"##.####\",\"##.#####\"))","v":"1.5"},{"$f":"VLOOKUP(W14,'SYSTEM FORMULAE'!$A$1:$K$1149,11)","v":"hour"},{"$f":"VLOOKUP(W14,'SYSTEM FORMULAE'!$A$1:$K$1149,8)","v":1},{"$f":"IF(ROW()<=Worksheet!$D$4/3,AF13+1,\"\")","v":44},{"$f":"RANDBETWEEN(1,MAX('SYSTEM FORMULAE'!$A$1:$A$1149))","v":129},{"$f":"IF(RIGHT(TEXT(VLOOKUP(AG14,'SYSTEM FORMULAE'!$A$1:$I$1149,3),\"#,##0.###\"),1)=\".\",LEFT(TEXT(VLOOKUP(AG14,'SYSTEM FORMULAE'!$A$1:$I$1149,3),\"#,##0.###\"),LEN(TEXT(VLOOKUP(AG14,'SYSTEM FORMULAE'!$A$1:$I$1149,3),\"#,##0.###\"))-1),TEXT(VLOOKUP(AG14,'SYSTEM FORMULAE'!$A$1:$I$1149,3),\"#,##0.###\"))","v":"9"},{"$f":"VLOOKUP(AG14,'SYSTEM FORMULAE'!$A$1:$I$1149,4)","v":"hours"},{"$f":"IF(RIGHT(TEXT(VLOOKUP(AG14,'SYSTEM FORMULAE'!$A$1:$I$1149,5),\"#,##0.###\"),1)=\".\",LEFT(TEXT(VLOOKUP(AG14,'SYSTEM FORMULAE'!$A$1:$I$1149,5),\"#,##0.###\"),LEN(TEXT(VLOOKUP(AG14,'SYSTEM FORMULAE'!$A$1:$I$1149,5),\"#,##0.###\"))-1),TEXT(VLOOKUP(AG14,'SYSTEM FORMULAE'!$A$1:$I$1149,5),\"#,##0.###\"))","v":"54"},{"$f":"VLOOKUP(AG14,'SYSTEM FORMULAE'!$A$1:$I$1149,6)","v":"minutes"},"=",{"$f":"TEXT(VLOOKUP(AG14,'SYSTEM FORMULAE'!$A$1:$K$1149,10),CHOOSE(Worksheet!$D$10,\"##.#\",\"##.##\",\"##.###\",\"##.####\",\"##.#####\"))","v":"9.9"},{"$f":"VLOOKUP(AG14,'SYSTEM FORMULAE'!$A$1:$K$1149,11)","v":"hours"},{"$f":"VLOOKUP(AG14,'SYSTEM FORMULAE'!$A$1:$K$1149,8)","v":1}]
[{"$f":"IF(COUNTIF($B$1:B15,TRUE)=COUNTIF($B$1:B14,TRUE),\"\",COUNTIF($B$1:B15,TRUE))","v":""},{"$f":"Worksheet!$D$13","v":false},{"$f":"IF(H15=1,RANDBETWEEN(1,Worksheet!$D$6),INT(J15))","v":22},{"$f":"IF(C15=1,\"year\",\"years\")","v":"years"},{"$f":"IF(H15=1,RANDBETWEEN(1,11),(J15-INT(J15))*12)","v":11},"months","=",{"$f":"IF(Worksheet!$D$7=1,1,IF(Worksheet!$D$7=2,2,RANDBETWEEN(1,2)))","v":1},null,{"$f":"IF(H15=1,C15+E15/12,RANDBETWEEN(1,Worksheet!$D$6)+CHOOSE(Worksheet!$D$10,RANDBETWEEN(1,9)/10,RANDBETWEEN(1,99)/100,RANDBETWEEN(1,999)/1000,RANDBETWEEN(1,9999)/10000,RANDBETWEEN(1,99999)/100000))","v":22.916666666666668},"years",{"$f":"IF(ROW()<=Worksheet!$D$4/3,ROW(),\"\")","v":15},{"$f":"RANDBETWEEN(1,MAX('SYSTEM FORMULAE'!$A$1:$A$1149))","v":363},{"$f":"IF(RIGHT(TEXT(VLOOKUP(M15,'SYSTEM FORMULAE'!$A$1:$I$1149,3),\"#,##0.###\"),1)=\".\",LEFT(TEXT(VLOOKUP(M15,'SYSTEM FORMULAE'!$A$1:$I$1149,3),\"#,##0.###\"),LEN(TEXT(VLOOKUP(M15,'SYSTEM FORMULAE'!$A$1:$I$1149,3),\"#,##0.###\"))-1),TEXT(VLOOKUP(M15,'SYSTEM FORMULAE'!$A$1:$I$1149,3),\"#,##0.###\"))","v":"23"},{"$f":"VLOOKUP(M15,'SYSTEM FORMULAE'!$A$1:$I$1149,4)","v":"hours"},{"$f":"IF(RIGHT(TEXT(VLOOKUP(M15,'SYSTEM FORMULAE'!$A$1:$I$1149,5),\"#,##0.###\"),1)=\".\",LEFT(TEXT(VLOOKUP(M15,'SYSTEM FORMULAE'!$A$1:$I$1149,5),\"#,##0.###\"),LEN(TEXT(VLOOKUP(M15,'SYSTEM FORMULAE'!$A$1:$I$1149,5),\"#,##0.###\"))-1),TEXT(VLOOKUP(M15,'SYSTEM FORMULAE'!$A$1:$I$1149,5),\"#,##0.###\"))","v":"48"},{"$f":"VLOOKUP(M15,'SYSTEM FORMULAE'!$A$1:$I$1149,6)","v":"minutes"},"=",{"$f":"TEXT(VLOOKUP(M15,'SYSTEM FORMULAE'!$A$1:$K$1149,10),CHOOSE(Worksheet!$D$10,\"##.#\",\"##.##\",\"##.###\",\"##.####\",\"##.#####\"))","v":"23.8"},{"$f":"VLOOKUP(M15,'SYSTEM FORMULAE'!$A$1:$K$1149,11)","v":"hours"},{"$f":"VLOOKUP(M15,'SYSTEM FORMULAE'!$A$1:$K$1149,8)","v":2},{"$f":"IF(ROW()<=Worksheet!$D$4/3,V14+1,\"\")","v":30},{"$f":"RANDBETWEEN(1,MAX('SYSTEM FORMULAE'!$A$1:$A$1149))","v":155},{"$f":"IF(RIGHT(TEXT(VLOOKUP(W15,'SYSTEM FORMULAE'!$A$1:$I$1149,3),\"#,##0.###\"),1)=\".\",LEFT(TEXT(VLOOKUP(W15,'SYSTEM FORMULAE'!$A$1:$I$1149,3),\"#,##0.###\"),LEN(TEXT(VLOOKUP(W15,'SYSTEM FORMULAE'!$A$1:$I$1149,3),\"#,##0.###\"))-1),TEXT(VLOOKUP(W15,'SYSTEM FORMULAE'!$A$1:$I$1149,3),\"#,##0.###\"))","v":"6"},{"$f":"VLOOKUP(W15,'SYSTEM FORMULAE'!$A$1:$I$1149,4)","v":"hours"},{"$f":"IF(RIGHT(TEXT(VLOOKUP(W15,'SYSTEM FORMULAE'!$A$1:$I$1149,5),\"#,##0.###\"),1)=\".\",LEFT(TEXT(VLOOKUP(W15,'SYSTEM FORMULAE'!$A$1:$I$1149,5),\"#,##0.###\"),LEN(TEXT(VLOOKUP(W15,'SYSTEM FORMULAE'!$A$1:$I$1149,5),\"#,##0.###\"))-1),TEXT(VLOOKUP(W15,'SYSTEM FORMULAE'!$A$1:$I$1149,5),\"#,##0.###\"))","v":"36"},{"$f":"VLOOKUP(W15,'SYSTEM FORMULAE'!$A$1:$I$1149,6)","v":"minutes"},"=",{"$f":"TEXT(VLOOKUP(W15,'SYSTEM FORMULAE'!$A$1:$K$1149,10),CHOOSE(Worksheet!$D$10,\"##.#\",\"##.##\",\"##.###\",\"##.####\",\"##.#####\"))","v":"6.6"},{"$f":"VLOOKUP(W15,'SYSTEM FORMULAE'!$A$1:$K$1149,11)","v":"hours"},{"$f":"VLOOKUP(W15,'SYSTEM FORMULAE'!$A$1:$K$1149,8)","v":1},{"$f":"IF(ROW()<=Worksheet!$D$4/3,AF14+1,\"\")","v":45},{"$f":"RANDBETWEEN(1,MAX('SYSTEM FORMULAE'!$A$1:$A$1149))","v":227},{"$f":"IF(RIGHT(TEXT(VLOOKUP(AG15,'SYSTEM FORMULAE'!$A$1:$I$1149,3),\"#,##0.###\"),1)=\".\",LEFT(TEXT(VLOOKUP(AG15,'SYSTEM FORMULAE'!$A$1:$I$1149,3),\"#,##0.###\"),LEN(TEXT(VLOOKUP(AG15,'SYSTEM FORMULAE'!$A$1:$I$1149,3),\"#,##0.###\"))-1),TEXT(VLOOKUP(AG15,'SYSTEM FORMULAE'!$A$1:$I$1149,3),\"#,##0.###\"))","v":"6"},{"$f":"VLOOKUP(AG15,'SYSTEM FORMULAE'!$A$1:$I$1149,4)","v":"hours"},{"$f":"IF(RIGHT(TEXT(VLOOKUP(AG15,'SYSTEM FORMULAE'!$A$1:$I$1149,5),\"#,##0.###\"),1)=\".\",LEFT(TEXT(VLOOKUP(AG15,'SYSTEM FORMULAE'!$A$1:$I$1149,5),\"#,##0.###\"),LEN(TEXT(VLOOKUP(AG15,'SYSTEM FORMULAE'!$A$1:$I$1149,5),\"#,##0.###\"))-1),TEXT(VLOOKUP(AG15,'SYSTEM FORMULAE'!$A$1:$I$1149,5),\"#,##0.###\"))","v":"36"},{"$f":"VLOOKUP(AG15,'SYSTEM FORMULAE'!$A$1:$I$1149,6)","v":"minutes"},"=",{"$f":"TEXT(VLOOKUP(AG15,'SYSTEM FORMULAE'!$A$1:$K$1149,10),CHOOSE(Worksheet!$D$10,\"##.#\",\"##.##\",\"##.###\",\"##.####\",\"##.#####\"))","v":"6.6"},{"$f":"VLOOKUP(AG15,'SYSTEM FORMULAE'!$A$1:$K$1149,11)","v":"hours"},{"$f":"VLOOKUP(AG15,'SYSTEM FORMULAE'!$A$1:$K$1149,8)","v":2}]
[{"$f":"COUNTIF($B$1:B16,TRUE)","v":7},{"$f":"Worksheet!$B$12","v":true},{"$f":"IF(H16=1,RANDBETWEEN(1,Worksheet!$D$6),INT(J16))","v":13},{"$f":"IF(C16=1,\"hour\",\"hours\")","v":"hours"},{"$f":"IF(H16=1,IF(Worksheet!$D$10=1,RANDBETWEEN(1,9)*6,IF(Worksheet!$D$10=2,RANDBETWEEN(1,19)*3,RANDBETWEEN(1,59))),(J16-INT(J16))*60)","v":54},"minutes","=",{"$f":"IF(Worksheet!$D$7=1,1,IF(Worksheet!$D$7=2,2,RANDBETWEEN(1,2)))","v":1},null,{"$f":"IF(H16=1,C16+E16/60,RANDBETWEEN(1,Worksheet!$D$6)+CHOOSE(Worksheet!$D$10,RANDBETWEEN(1,9)/10,RANDBETWEEN(1,99)/100,RANDBETWEEN(1,999)/1000,RANDBETWEEN(1,9999)/10000,RANDBETWEEN(1,99999)/100000))","v":13.9},"hours",{"$f":"IF(ROW()<=Worksheet!$D$4/3,ROW(),\"\")","v":""},{"$f":"RANDBETWEEN(1,MAX('SYSTEM FORMULAE'!$A$1:$A$1149))","v":397},{"$f":"IF(RIGHT(TEXT(VLOOKUP(M16,'SYSTEM FORMULAE'!$A$1:$I$1149,3),\"#,##0.###\"),1)=\".\",LEFT(TEXT(VLOOKUP(M16,'SYSTEM FORMULAE'!$A$1:$I$1149,3),\"#,##0.###\"),LEN(TEXT(VLOOKUP(M16,'SYSTEM FORMULAE'!$A$1:$I$1149,3),\"#,##0.###\"))-1),TEXT(VLOOKUP(M16,'SYSTEM FORMULAE'!$A$1:$I$1149,3),\"#,##0.###\"))","v":"17"},{"$f":"VLOOKUP(M16,'SYSTEM FORMULAE'!$A$1:$I$1149,4)","v":"hours"},{"$f":"IF(RIGHT(TEXT(VLOOKUP(M16,'SYSTEM FORMULAE'!$A$1:$I$1149,5),\"#,##0.###\"),1)=\".\",LEFT(TEXT(VLOOKUP(M16,'SYSTEM FORMULAE'!$A$1:$I$1149,5),\"#,##0.###\"),LEN(TEXT(VLOOKUP(M16,'SYSTEM FORMULAE'!$A$1:$I$1149,5),\"#,##0.###\"))-1),TEXT(VLOOKUP(M16,'SYSTEM FORMULAE'!$A$1:$I$1149,5),\"#,##0.###\"))","v":"12"},{"$f":"VLOOKUP(M16,'SYSTEM FORMULAE'!$A$1:$I$1149,6)","v":"minutes"},"=",{"$f":"TEXT(VLOOKUP(M16,'SYSTEM FORMULAE'!$A$1:$K$1149,10),CHOOSE(Worksheet!$D$10,\"##.#\",\"##.##\",\"##.###\",\"##.####\",\"##.#####\"))","v":"17.2"},{"$f":"VLOOKUP(M16,'SYSTEM FORMULAE'!$A$1:$K$1149,11)","v":"hours"},{"$f":"VLOOKUP(M16,'SYSTEM FORMULAE'!$A$1:$K$1149,8)","v":1},{"$f":"IF(ROW()<=Worksheet!$D$4/3,V15+1,\"\")","v":""},{"$f":"RANDBETWEEN(1,MAX('SYSTEM FORMULAE'!$A$1:$A$1149))","v":269},{"$f":"IF(RIGHT(TEXT(VLOOKUP(W16,'SYSTEM FORMULAE'!$A$1:$I$1149,3),\"#,##0.###\"),1)=\".\",LEFT(TEXT(VLOOKUP(W16,'SYSTEM FORMULAE'!$A$1:$I$1149,3),\"#,##0.###\"),LEN(TEXT(VLOOKUP(W16,'SYSTEM FORMULAE'!$A$1:$I$1149,3),\"#,##0.###\"))-1),TEXT(VLOOKUP(W16,'SYSTEM FORMULAE'!$A$1:$I$1149,3),\"#,##0.###\"))","v":"27"},{"$f":"VLOOKUP(W16,'SYSTEM FORMULAE'!$A$1:$I$1149,4)","v":"hours"},{"$f":"IF(RIGHT(TEXT(VLOOKUP(W16,'SYSTEM FORMULAE'!$A$1:$I$1149,5),\"#,##0.###\"),1)=\".\",LEFT(TEXT(VLOOKUP(W16,'SYSTEM FORMULAE'!$A$1:$I$1149,5),\"#,##0.###\"),LEN(TEXT(VLOOKUP(W16,'SYSTEM FORMULAE'!$A$1:$I$1149,5),\"#,##0.###\"))-1),TEXT(VLOOKUP(W16,'SYSTEM FORMULAE'!$A$1:$I$1149,5),\"#,##0.###\"))","v":"36"},{"$f":"VLOOKUP(W16,'SYSTEM FORMULAE'!$A$1:$I$1149,6)","v":"minutes"},"=",{"$f":"TEXT(VLOOKUP(W16,'SYSTEM FORMULAE'!$A$1:$K$1149,10),CHOOSE(Worksheet!$D$10,\"##.#\",\"##.##\",\"##.###\",\"##.####\",\"##.#####\"))","v":"27.6"},{"$f":"VLOOKUP(W16,'SYSTEM FORMULAE'!$A$1:$K$1149,11)","v":"hours"},{"$f":"VLOOKUP(W16,'SYSTEM FORMULAE'!$A$1:$K$1149,8)","v":1},{"$f":"IF(ROW()<=Worksheet!$D$4/3,AF15+1,\"\")","v":""},{"$f":"RANDBETWEEN(1,MAX('SYSTEM FORMULAE'!$A$1:$A$1149))","v":61},{"$f":"IF(RIGHT(TEXT(VLOOKUP(AG16,'SYSTEM FORMULAE'!$A$1:$I$1149,3),\"#,##0.###\"),1)=\".\",LEFT(TEXT(VLOOKUP(AG16,'SYSTEM FORMULAE'!$A$1:$I$1149,3),\"#,##0.###\"),LEN(TEXT(VLOOKUP(AG16,'SYSTEM FORMULAE'!$A$1:$I$1149,3),\"#,##0.###\"))-1),TEXT(VLOOKUP(AG16,'SYSTEM FORMULAE'!$A$1:$I$1149,3),\"#,##0.###\"))","v":"10"},{"$f":"VLOOKUP(AG16,'SYSTEM FORMULAE'!$A$1:$I$1149,4)","v":"hours"},{"$f":"IF(RIGHT(TEXT(VLOOKUP(AG16,'SYSTEM FORMULAE'!$A$1:$I$1149,5),\"#,##0.###\"),1)=\".\",LEFT(TEXT(VLOOKUP(AG16,'SYSTEM FORMULAE'!$A$1:$I$1149,5),\"#,##0.###\"),LEN(TEXT(VLOOKUP(AG16,'SYSTEM FORMULAE'!$A$1:$I$1149,5),\"#,##0.###\"))-1),TEXT(VLOOKUP(AG16,'SYSTEM FORMULAE'!$A$1:$I$1149,5),\"#,##0.###\"))","v":"6"},{"$f":"VLOOKUP(AG16,'SYSTEM FORMULAE'!$A$1:$I$1149,6)","v":"minutes"},"=",{"$f":"TEXT(VLOOKUP(AG16,'SYSTEM FORMULAE'!$A$1:$K$1149,10),CHOOSE(Worksheet!$D$10,\"##.#\",\"##.##\",\"##.###\",\"##.####\",\"##.#####\"))","v":"10.1"},{"$f":"VLOOKUP(AG16,'SYSTEM FORMULAE'!$A$1:$K$1149,11)","v":"hours"},{"$f":"VLOOKUP(AG16,'SYSTEM FORMULAE'!$A$1:$K$1149,8)","v":1}]
[{"$f":"IF(COUNTIF($B$1:B17,TRUE)=COUNTIF($B$1:B16,TRUE),\"\",COUNTIF($B$1:B17,TRUE))","v":8},{"$f":"Worksheet!$B$13","v":true},{"$f":"IF(H17=1,RANDBETWEEN(1,Worksheet!$D$6),INT(J17))","v":13},{"$f":"IF(C17=1,\"minute\",\"minutes\")","v":"minutes"},{"$f":"IF(H17=1,IF(Worksheet!$D$10=1,RANDBETWEEN(1,9)*6,IF(Worksheet!$D$10=2,RANDBETWEEN(1,19)*3,RANDBETWEEN(1,59))),(J17-INT(J17))*60)","v":42},"seconds","=",{"$f":"IF(Worksheet!$D$7=1,1,IF(Worksheet!$D$7=2,2,RANDBETWEEN(1,2)))","v":1},null,{"$f":"IF(H17=1,C17+E17/60,RANDBETWEEN(1,Worksheet!$D$6)+CHOOSE(Worksheet!$D$10,RANDBETWEEN(1,9)/10,RANDBETWEEN(1,99)/100,RANDBETWEEN(1,999)/1000,RANDBETWEEN(1,9999)/10000,RANDBETWEEN(1,99999)/100000))","v":13.7},"minutes",{"$f":"IF(ROW()<=Worksheet!$D$4/3,ROW(),\"\")","v":""},{"$f":"RANDBETWEEN(1,MAX('SYSTEM FORMULAE'!$A$1:$A$1149))","v":54},{"$f":"IF(RIGHT(TEXT(VLOOKUP(M17,'SYSTEM FORMULAE'!$A$1:$I$1149,3),\"#,##0.###\"),1)=\".\",LEFT(TEXT(VLOOKUP(M17,'SYSTEM FORMULAE'!$A$1:$I$1149,3),\"#,##0.###\"),LEN(TEXT(VLOOKUP(M17,'SYSTEM FORMULAE'!$A$1:$I$1149,3),\"#,##0.###\"))-1),TEXT(VLOOKUP(M17,'SYSTEM FORMULAE'!$A$1:$I$1149,3),\"#,##0.###\"))","v":"28"},{"$f":"VLOOKUP(M17,'SYSTEM FORMULAE'!$A$1:$I$1149,4)","v":"minutes"},{"$f":"IF(RIGHT(TEXT(VLOOKUP(M17,'SYSTEM FORMULAE'!$A$1:$I$1149,5),\"#,##0.###\"),1)=\".\",LEFT(TEXT(VLOOKUP(M17,'SYSTEM FORMULAE'!$A$1:$I$1149,5),\"#,##0.###\"),LEN(TEXT(VLOOKUP(M17,'SYSTEM FORMULAE'!$A$1:$I$1149,5),\"#,##0.###\"))-1),TEXT(VLOOKUP(M17,'SYSTEM FORMULAE'!$A$1:$I$1149,5),\"#,##0.###\"))","v":"36"},{"$f":"VLOOKUP(M17,'SYSTEM FORMULAE'!$A$1:$I$1149,6)","v":"seconds"},"=",{"$f":"TEXT(VLOOKUP(M17,'SYSTEM FORMULAE'!$A$1:$K$1149,10),CHOOSE(Worksheet!$D$10,\"##.#\",\"##.##\",\"##.###\",\"##.####\",\"##.#####\"))","v":"28.6"},{"$f":"VLOOKUP(M17,'SYSTEM FORMULAE'!$A$1:$K$1149,11)","v":"minutes"},{"$f":"VLOOKUP(M17,'SYSTEM FORMULAE'!$A$1:$K$1149,8)","v":2},{"$f":"IF(ROW()<=Worksheet!$D$4/3,V16+1,\"\")","v":""},{"$f":"RANDBETWEEN(1,MAX('SYSTEM FORMULAE'!$A$1:$A$1149))","v":351},{"$f":"IF(RIGHT(TEXT(VLOOKUP(W17,'SYSTEM FORMULAE'!$A$1:$I$1149,3),\"#,##0.###\"),1)=\".\",LEFT(TEXT(VLOOKUP(W17,'SYSTEM FORMULAE'!$A$1:$I$1149,3),\"#,##0.###\"),LEN(TEXT(VLOOKUP(W17,'SYSTEM FORMULAE'!$A$1:$I$1149,3),\"#,##0.###\"))-1),TEXT(VLOOKUP(W17,'SYSTEM FORMULAE'!$A$1:$I$1149,3),\"#,##0.###\"))","v":"21"},{"$f":"VLOOKUP(W17,'SYSTEM FORMULAE'!$A$1:$I$1149,4)","v":"hours"},{"$f":"IF(RIGHT(TEXT(VLOOKUP(W17,'SYSTEM FORMULAE'!$A$1:$I$1149,5),\"#,##0.###\"),1)=\".\",LEFT(TEXT(VLOOKUP(W17,'SYSTEM FORMULAE'!$A$1:$I$1149,5),\"#,##0.###\"),LEN(TEXT(VLOOKUP(W17,'SYSTEM FORMULAE'!$A$1:$I$1149,5),\"#,##0.###\"))-1),TEXT(VLOOKUP(W17,'SYSTEM FORMULAE'!$A$1:$I$1149,5),\"#,##0.###\"))","v":"30"},{"$f":"VLOOKUP(W17,'SYSTEM FORMULAE'!$A$1:$I$1149,6)","v":"minutes"},"=",{"$f":"TEXT(VLOOKUP(W17,'SYSTEM FORMULAE'!$A$1:$K$1149,10),CHOOSE(Worksheet!$D$10,\"##.#\",\"##.##\",\"##.###\",\"##.####\",\"##.#####\"))","v":"21.5"},{"$f":"VLOOKUP(W17,'SYSTEM FORMULAE'!$A$1:$K$1149,11)","v":"hours"},{"$f":"VLOOKUP(W17,'SYSTEM FORMULAE'!$A$1:$K$1149,8)","v":1},{"$f":"IF(ROW()<=Worksheet!$D$4/3,AF16+1,\"\")","v":""},{"$f":"RANDBETWEEN(1,MAX('SYSTEM FORMULAE'!$A$1:$A$1149))","v":449},{"$f":"IF(RIGHT(TEXT(VLOOKUP(AG17,'SYSTEM FORMULAE'!$A$1:$I$1149,3),\"#,##0.###\"),1)=\".\",LEFT(TEXT(VLOOKUP(AG17,'SYSTEM FORMULAE'!$A$1:$I$1149,3),\"#,##0.###\"),LEN(TEXT(VLOOKUP(AG17,'SYSTEM FORMULAE'!$A$1:$I$1149,3),\"#,##0.###\"))-1),TEXT(VLOOKUP(AG17,'SYSTEM FORMULAE'!$A$1:$I$1149,3),\"#,##0.###\"))","v":"18"},{"$f":"VLOOKUP(AG17,'SYSTEM FORMULAE'!$A$1:$I$1149,4)","v":"hours"},{"$f":"IF(RIGHT(TEXT(VLOOKUP(AG17,'SYSTEM FORMULAE'!$A$1:$I$1149,5),\"#,##0.###\"),1)=\".\",LEFT(TEXT(VLOOKUP(AG17,'SYSTEM FORMULAE'!$A$1:$I$1149,5),\"#,##0.###\"),LEN(TEXT(VLOOKUP(AG17,'SYSTEM FORMULAE'!$A$1:$I$1149,5),\"#,##0.###\"))-1),TEXT(VLOOKUP(AG17,'SYSTEM FORMULAE'!$A$1:$I$1149,5),\"#,##0.###\"))","v":"36"},{"$f":"VLOOKUP(AG17,'SYSTEM FORMULAE'!$A$1:$I$1149,6)","v":"minutes"},"=",{"$f":"TEXT(VLOOKUP(AG17,'SYSTEM FORMULAE'!$A$1:$K$1149,10),CHOOSE(Worksheet!$D$10,\"##.#\",\"##.##\",\"##.###\",\"##.####\",\"##.#####\"))","v":"18.6"},{"$f":"VLOOKUP(AG17,'SYSTEM FORMULAE'!$A$1:$K$1149,11)","v":"hours"},{"$f":"VLOOKUP(AG17,'SYSTEM FORMULAE'!$A$1:$K$1149,8)","v":2}]
[{"$f":"IF(COUNTIF($B$1:B18,TRUE)=COUNTIF($B$1:B17,TRUE),\"\",COUNTIF($B$1:B18,TRUE))","v":""},{"$f":"Worksheet!$B$14","v":false},{"$f":"IF(H18=1,RANDBETWEEN(1,Worksheet!$D$6),INT(J18))","v":9},{"$f":"IF(C18=1,\"week\",\"weeks\")","v":"weeks"},{"$f":"IF(H18=1,RANDBETWEEN(1,6),(J18-INT(J18))*7)","v":2.100000000000005},"days","=",{"$f":"IF(Worksheet!$D$7=1,1,IF(Worksheet!$D$7=2,2,RANDBETWEEN(1,2)))","v":2},null,{"$f":"IF(H18=1,C18+E18/7,RANDBETWEEN(1,Worksheet!$D$6)+CHOOSE(Worksheet!$D$10,RANDBETWEEN(1,9)/10,RANDBETWEEN(1,99)/100,RANDBETWEEN(1,999)/1000,RANDBETWEEN(1,9999)/10000,RANDBETWEEN(1,99999)/100000))","v":9.3000000000000007},"weeks",{"$f":"IF(ROW()<=Worksheet!$D$4/3,ROW(),\"\")","v":""},{"$f":"RANDBETWEEN(1,MAX('SYSTEM FORMULAE'!$A$1:$A$1149))","v":406},{"$f":"IF(RIGHT(TEXT(VLOOKUP(M18,'SYSTEM FORMULAE'!$A$1:$I$1149,3),\"#,##0.###\"),1)=\".\",LEFT(TEXT(VLOOKUP(M18,'SYSTEM FORMULAE'!$A$1:$I$1149,3),\"#,##0.###\"),LEN(TEXT(VLOOKUP(M18,'SYSTEM FORMULAE'!$A$1:$I$1149,3),\"#,##0.###\"))-1),TEXT(VLOOKUP(M18,'SYSTEM FORMULAE'!$A$1:$I$1149,3),\"#,##0.###\"))","v":"2"},{"$f":"VLOOKUP(M18,'SYSTEM FORMULAE'!$A$1:$I$1149,4)","v":"minutes"},{"$f":"IF(RIGHT(TEXT(VLOOKUP(M18,'SYSTEM FORMULAE'!$A$1:$I$1149,5),\"#,##0.###\"),1)=\".\",LEFT(TEXT(VLOOKUP(M18,'SYSTEM FORMULAE'!$A$1:$I$1149,5),\"#,##0.###\"),LEN(TEXT(VLOOKUP(M18,'SYSTEM FORMULAE'!$A$1:$I$1149,5),\"#,##0.###\"))-1),TEXT(VLOOKUP(M18,'SYSTEM FORMULAE'!$A$1:$I$1149,5),\"#,##0.###\"))","v":"30"},{"$f":"VLOOKUP(M18,'SYSTEM FORMULAE'!$A$1:$I$1149,6)","v":"seconds"},"=",{"$f":"TEXT(VLOOKUP(M18,'SYSTEM FORMULAE'!$A$1:$K$1149,10),CHOOSE(Worksheet!$D$10,\"##.#\",\"##.##\",\"##.###\",\"##.####\",\"##.#####\"))","v":"2.5"},{"$f":"VLOOKUP(M18,'SYSTEM FORMULAE'!$A$1:$K$1149,11)","v":"minutes"},{"$f":"VLOOKUP(M18,'SYSTEM FORMULAE'!$A$1:$K$1149,8)","v":2},{"$f":"IF(ROW()<=Worksheet!$D$4/3,V17+1,\"\")","v":""},{"$f":"RANDBETWEEN(1,MAX('SYSTEM FORMULAE'!$A$1:$A$1149))","v":1},{"$f":"IF(RIGHT(TEXT(VLOOKUP(W18,'SYSTEM FORMULAE'!$A$1:$I$1149,3),\"#,##0.###\"),1)=\".\",LEFT(TEXT(VLOOKUP(W18,'SYSTEM FORMULAE'!$A$1:$I$1149,3),\"#,##0.###\"),LEN(TEXT(VLOOKUP(W18,'SYSTEM FORMULAE'!$A$1:$I$1149,3),\"#,##0.###\"))-1),TEXT(VLOOKUP(W18,'SYSTEM FORMULAE'!$A$1:$I$1149,3),\"#,##0.###\"))","v":"4"},{"$f":"VLOOKUP(W18,'SYSTEM FORMULAE'!$A$1:$I$1149,4)","v":"hours"},{"$f":"IF(RIGHT(TEXT(VLOOKUP(W18,'SYSTEM FORMULAE'!$A$1:$I$1149,5),\"#,##0.###\"),1)=\".\",LEFT(TEXT(VLOOKUP(W18,'SYSTEM FORMULAE'!$A$1:$I$1149,5),\"#,##0.###\"),LEN(TEXT(VLOOKUP(W18,'SYSTEM FORMULAE'!$A$1:$I$1149,5),\"#,##0.###\"))-1),TEXT(VLOOKUP(W18,'SYSTEM FORMULAE'!$A$1:$I$1149,5),\"#,##0.###\"))","v":"48"},{"$f":"VLOOKUP(W18,'SYSTEM FORMULAE'!$A$1:$I$1149,6)","v":"minutes"},"=",{"$f":"TEXT(VLOOKUP(W18,'SYSTEM FORMULAE'!$A$1:$K$1149,10),CHOOSE(Worksheet!$D$10,\"##.#\",\"##.##\",\"##.###\",\"##.####\",\"##.#####\"))","v":"4.8"},{"$f":"VLOOKUP(W18,'SYSTEM FORMULAE'!$A$1:$K$1149,11)","v":"hours"},{"$f":"VLOOKUP(W18,'SYSTEM FORMULAE'!$A$1:$K$1149,8)","v":2},{"$f":"IF(ROW()<=Worksheet!$D$4/3,AF17+1,\"\")","v":""},{"$f":"RANDBETWEEN(1,MAX('SYSTEM FORMULAE'!$A$1:$A$1149))","v":360},{"$f":"IF(RIGHT(TEXT(VLOOKUP(AG18,'SYSTEM FORMULAE'!$A$1:$I$1149,3),\"#,##0.###\"),1)=\".\",LEFT(TEXT(VLOOKUP(AG18,'SYSTEM FORMULAE'!$A$1:$I$1149,3),\"#,##0.###\"),LEN(TEXT(VLOOKUP(AG18,'SYSTEM FORMULAE'!$A$1:$I$1149,3),\"#,##0.###\"))-1),TEXT(VLOOKUP(AG18,'SYSTEM FORMULAE'!$A$1:$I$1149,3),\"#,##0.###\"))","v":"9"},{"$f":"VLOOKUP(AG18,'SYSTEM FORMULAE'!$A$1:$I$1149,4)","v":"minutes"},{"$f":"IF(RIGHT(TEXT(VLOOKUP(AG18,'SYSTEM FORMULAE'!$A$1:$I$1149,5),\"#,##0.###\"),1)=\".\",LEFT(TEXT(VLOOKUP(AG18,'SYSTEM FORMULAE'!$A$1:$I$1149,5),\"#,##0.###\"),LEN(TEXT(VLOOKUP(AG18,'SYSTEM FORMULAE'!$A$1:$I$1149,5),\"#,##0.###\"))-1),TEXT(VLOOKUP(AG18,'SYSTEM FORMULAE'!$A$1:$I$1149,5),\"#,##0.###\"))","v":"12"},{"$f":"VLOOKUP(AG18,'SYSTEM FORMULAE'!$A$1:$I$1149,6)","v":"seconds"},"=",{"$f":"TEXT(VLOOKUP(AG18,'SYSTEM FORMULAE'!$A$1:$K$1149,10),CHOOSE(Worksheet!$D$10,\"##.#\",\"##.##\",\"##.###\",\"##.####\",\"##.#####\"))","v":"9.2"},{"$f":"VLOOKUP(AG18,'SYSTEM FORMULAE'!$A$1:$K$1149,11)","v":"minutes"},{"$f":"VLOOKUP(AG18,'SYSTEM FORMULAE'!$A$1:$K$1149,8)","v":2}]
[{"$f":"IF(COUNTIF($B$1:B19,TRUE)=COUNTIF($B$1:B18,TRUE),\"\",COUNTIF($B$1:B19,TRUE))","v":""},{"$f":"Worksheet!$D$12","v":false},{"$f":"IF(H19=1,RANDBETWEEN(1,Worksheet!$D$6),INT(J19))","v":24},{"$f":"IF(C19=1,\"day\",\"days\")","v":"days"},{"$f":"IF(H19=1,RANDBETWEEN(1,23),(J19-INT(J19))*24)","v":3},"hours","=",{"$f":"IF(Worksheet!$D$7=1,1,IF(Worksheet!$D$7=2,2,RANDBETWEEN(1,2)))","v":1},null,{"$f":"IF(H19=1,C19+E19/24,RANDBETWEEN(1,Worksheet!$D$6)+CHOOSE(Worksheet!$D$10,RANDBETWEEN(1,9)/10,RANDBETWEEN(1,99)/100,RANDBETWEEN(1,999)/1000,RANDBETWEEN(1,9999)/10000,RANDBETWEEN(1,99999)/100000))","v":24.125},"days"]
[{"$f":"IF(COUNTIF($B$1:B20,TRUE)=COUNTIF($B$1:B19,TRUE),\"\",COUNTIF($B$1:B20,TRUE))","v":""},{"$f":"Worksheet!$D$13","v":false},{"$f":"IF(H20=1,RANDBETWEEN(1,Worksheet!$D$6),INT(J20))","v":3},{"$f":"IF(C20=1,\"year\",\"years\")","v":"years"},{"$f":"IF(H20=1,RANDBETWEEN(1,11),(J20-INT(J20))*12)","v":8.4000000000000021},"months","=",{"$f":"IF(Worksheet!$D$7=1,1,IF(Worksheet!$D$7=2,2,RANDBETWEEN(1,2)))","v":2},null,{"$f":"IF(H20=1,C20+E20/12,RANDBETWEEN(1,Worksheet!$D$6)+CHOOSE(Worksheet!$D$10,RANDBETWEEN(1,9)/10,RANDBETWEEN(1,99)/100,RANDBETWEEN(1,999)/1000,RANDBETWEEN(1,9999)/10000,RANDBETWEEN(1,99999)/100000))","v":3.7},"years"]
[{"$f":"COUNTIF($B$1:B21,TRUE)","v":9},{"$f":"Worksheet!$B$12","v":true},{"$f":"IF(H21=1,RANDBETWEEN(1,Worksheet!$D$6),INT(J21))","v":24},{"$f":"IF(C21=1,\"hour\",\"hours\")","v":"hours"},{"$f":"IF(H21=1,IF(Worksheet!$D$10=1,RANDBETWEEN(1,9)*6,IF(Worksheet!$D$10=2,RANDBETWEEN(1,19)*3,RANDBETWEEN(1,59))),(J21-INT(J21))*60)","v":11.999999999999957},"minutes","=",{"$f":"IF(Worksheet!$D$7=1,1,IF(Worksheet!$D$7=2,2,RANDBETWEEN(1,2)))","v":2},null,{"$f":"IF(H21=1,C21+E21/60,RANDBETWEEN(1,Worksheet!$D$6)+CHOOSE(Worksheet!$D$10,RANDBETWEEN(1,9)/10,RANDBETWEEN(1,99)/100,RANDBETWEEN(1,999)/1000,RANDBETWEEN(1,9999)/10000,RANDBETWEEN(1,99999)/100000))","v":24.2},"hours"]
[{"$f":"IF(COUNTIF($B$1:B22,TRUE)=COUNTIF($B$1:B21,TRUE),\"\",COUNTIF($B$1:B22,TRUE))","v":10},{"$f":"Worksheet!$B$13","v":true},{"$f":"IF(H22=1,RANDBETWEEN(1,Worksheet!$D$6),INT(J22))","v":11},{"$f":"IF(C22=1,\"minute\",\"minutes\")","v":"minutes"},{"$f":"IF(H22=1,IF(Worksheet!$D$10=1,RANDBETWEEN(1,9)*6,IF(Worksheet!$D$10=2,RANDBETWEEN(1,19)*3,RANDBETWEEN(1,59))),(J22-INT(J22))*60)","v":54},"seconds","=",{"$f":"IF(Worksheet!$D$7=1,1,IF(Worksheet!$D$7=2,2,RANDBETWEEN(1,2)))","v":1},null,{"$f":"IF(H22=1,C22+E22/60,RANDBETWEEN(1,Worksheet!$D$6)+CHOOSE(Worksheet!$D$10,RANDBETWEEN(1,9)/10,RANDBETWEEN(1,99)/100,RANDBETWEEN(1,999)/1000,RANDBETWEEN(1,9999)/10000,RANDBETWEEN(1,99999)/100000))","v":11.9},"minutes"]
[{"$f":"IF(COUNTIF($B$1:B23,TRUE)=COUNTIF($B$1:B22,TRUE),\"\",COUNTIF($B$1:B23,TRUE))","v":""},{"$f":"Worksheet!$B$14","v":false},{"$f":"IF(H23=1,RANDBETWEEN(1,Worksheet!$D$6),INT(J23))","v":11},{"$f":"IF(C23=1,\"week\",\"weeks\")","v":"weeks"},{"$f":"IF(H23=1,RANDBETWEEN(1,6),(J23-INT(J23))*7)","v":3},"days","=",{"$f":"IF(Worksheet!$D$7=1,1,IF(Worksheet!$D$7=2,2,RANDBETWEEN(1,2)))","v":1},null,{"$f":"IF(H23=1,C23+E23/7,RANDBETWEEN(1,Worksheet!$D$6)+CHOOSE(Worksheet!$D$10,RANDBETWEEN(1,9)/10,RANDBETWEEN(1,99)/100,RANDBETWEEN(1,999)/1000,RANDBETWEEN(1,9999)/10000,RANDBETWEEN(1,99999)/100000))","v":11.428571428571429},"weeks"]
[{"$f":"IF(COUNTIF($B$1:B24,TRUE)=COUNTIF($B$1:B23,TRUE),\"\",COUNTIF($B$1:B24,TRUE))","v":""},{"$f":"Worksheet!$D$12","v":false},{"$f":"IF(H24=1,RANDBETWEEN(1,Worksheet!$D$6),INT(J24))","v":7},{"$f":"IF(C24=1,\"day\",\"days\")","v":"days"},{"$f":"IF(H24=1,RANDBETWEEN(1,23),(J24-INT(J24))*24)","v":10},"hours","=",{"$f":"IF(Worksheet!$D$7=1,1,IF(Worksheet!$D$7=2,2,RANDBETWEEN(1,2)))","v":1},null,{"$f":"IF(H24=1,C24+E24/24,RANDBETWEEN(1,Worksheet!$D$6)+CHOOSE(Worksheet!$D$10,RANDBETWEEN(1,9)/10,RANDBETWEEN(1,99)/100,RANDBETWEEN(1,999)/1000,RANDBETWEEN(1,9999)/10000,RANDBETWEEN(1,99999)/100000))","v":7.416666666666667},"days"]
[{"$f":"IF(COUNTIF($B$1:B25,TRUE)=COUNTIF($B$1:B24,TRUE),\"\",COUNTIF($B$1:B25,TRUE))","v":""},{"$f":"Worksheet!$D$13","v":false},{"$f":"IF(H25=1,RANDBETWEEN(1,Worksheet!$D$6),INT(J25))","v":12},{"$f":"IF(C25=1,\"year\",\"years\")","v":"years"},{"$f":"IF(H25=1,RANDBETWEEN(1,11),(J25-INT(J25))*12)","v":3.6000000000000085},"months","=",{"$f":"IF(Worksheet!$D$7=1,1,IF(Worksheet!$D$7=2,2,RANDBETWEEN(1,2)))","v":2},null,{"$f":"IF(H25=1,C25+E25/12,RANDBETWEEN(1,Worksheet!$D$6)+CHOOSE(Worksheet!$D$10,RANDBETWEEN(1,9)/10,RANDBETWEEN(1,99)/100,RANDBETWEEN(1,999)/1000,RANDBETWEEN(1,9999)/10000,RANDBETWEEN(1,99999)/100000))","v":12.3},"years"]
[{"$f":"COUNTIF($B$1:B26,TRUE)","v":11},{"$f":"Worksheet!$B$12","v":true},{"$f":"IF(H26=1,RANDBETWEEN(1,Worksheet!$D$6),INT(J26))","v":18},{"$f":"IF(C26=1,\"hour\",\"hours\")","v":"hours"},{"$f":"IF(H26=1,IF(Worksheet!$D$10=1,RANDBETWEEN(1,9)*6,IF(Worksheet!$D$10=2,RANDBETWEEN(1,19)*3,RANDBETWEEN(1,59))),(J26-INT(J26))*60)","v":53.999999999999915},"minutes","=",{"$f":"IF(Worksheet!$D$7=1,1,IF(Worksheet!$D$7=2,2,RANDBETWEEN(1,2)))","v":2},null,{"$f":"IF(H26=1,C26+E26/60,RANDBETWEEN(1,Worksheet!$D$6)+CHOOSE(Worksheet!$D$10,RANDBETWEEN(1,9)/10,RANDBETWEEN(1,99)/100,RANDBETWEEN(1,999)/1000,RANDBETWEEN(1,9999)/10000,RANDBETWEEN(1,99999)/100000))","v":18.899999999999999},"hours"]
[{"$f":"IF(COUNTIF($B$1:B27,TRUE)=COUNTIF($B$1:B26,TRUE),\"\",COUNTIF($B$1:B27,TRUE))","v":12},{"$f":"Worksheet!$B$13","v":true},{"$f":"IF(H27=1,RANDBETWEEN(1,Worksheet!$D$6),INT(J27))","v":27},{"$f":"IF(C27=1,\"minute\",\"minutes\")","v":"minutes"},{"$f":"IF(H27=1,IF(Worksheet!$D$10=1,RANDBETWEEN(1,9)*6,IF(Worksheet!$D$10=2,RANDBETWEEN(1,19)*3,RANDBETWEEN(1,59))),(J27-INT(J27))*60)","v":30},"seconds","=",{"$f":"IF(Worksheet!$D$7=1,1,IF(Worksheet!$D$7=2,2,RANDBETWEEN(1,2)))","v":1},null,{"$f":"IF(H27=1,C27+E27/60,RANDBETWEEN(1,Worksheet!$D$6)+CHOOSE(Worksheet!$D$10,RANDBETWEEN(1,9)/10,RANDBETWEEN(1,99)/100,RANDBETWEEN(1,999)/1000,RANDBETWEEN(1,9999)/10000,RANDBETWEEN(1,99999)/100000))","v":27.5},"minutes"]
[{"$f":"IF(COUNTIF($B$1:B28,TRUE)=COUNTIF($B$1:B27,TRUE),\"\",COUNTIF($B$1:B28,TRUE))","v":""},{"$f":"Worksheet!$B$14","v":false},{"$f":"IF(H28=1,RANDBETWEEN(1,Worksheet!$D$6),INT(J28))","v":12},{"$f":"IF(C28=1,\"week\",\"weeks\")","v":"weeks"},{"$f":"IF(H28=1,RANDBETWEEN(1,6),(J28-INT(J28))*7)","v":3},"days","=",{"$f":"IF(Worksheet!$D$7=1,1,IF(Worksheet!$D$7=2,2,RANDBETWEEN(1,2)))","v":1},null,{"$f":"IF(H28=1,C28+E28/7,RANDBETWEEN(1,Worksheet!$D$6)+CHOOSE(Worksheet!$D$10,RANDBETWEEN(1,9)/10,RANDBETWEEN(1,99)/100,RANDBETWEEN(1,999)/1000,RANDBETWEEN(1,9999)/10000,RANDBETWEEN(1,99999)/100000))","v":12.428571428571429},"weeks"]
[{"$f":"IF(COUNTIF($B$1:B29,TRUE)=COUNTIF($B$1:B28,TRUE),\"\",COUNTIF($B$1:B29,TRUE))","v":""},{"$f":"Worksheet!$D$12","v":false},{"$f":"IF(H29=1,RANDBETWEEN(1,Worksheet!$D$6),INT(J29))","v":24},{"$f":"IF(C29=1,\"day\",\"days\")","v":"days"},{"$f":"IF(H29=1,RANDBETWEEN(1,23),(J29-INT(J29))*24)","v":12},"hours","=",{"$f":"IF(Worksheet!$D$7=1,1,IF(Worksheet!$D$7=2,2,RANDBETWEEN(1,2)))","v":2},null,{"$f":"IF(H29=1,C29+E29/24,RANDBETWEEN(1,Worksheet!$D$6)+CHOOSE(Worksheet!$D$10,RANDBETWEEN(1,9)/10,RANDBETWEEN(1,99)/100,RANDBETWEEN(1,999)/1000,RANDBETWEEN(1,9999)/10000,RANDBETWEEN(1,99999)/100000))","v":24.5},"days"]
[{"$f":"IF(COUNTIF($B$1:B30,TRUE)=COUNTIF($B$1:B29,TRUE),\"\",COUNTIF($B$1:B30,TRUE))","v":""},{"$f":"Worksheet!$D$13","v":false},{"$f":"IF(H30=1,RANDBETWEEN(1,Worksheet!$D$6),INT(J30))","v":29},{"$f":"IF(C30=1,\"year\",\"years\")","v":"years"},{"$f":"IF(H30=1,RANDBETWEEN(1,11),(J30-INT(J30))*12)","v":4},"months","=",{"$f":"IF(Worksheet!$D$7=1,1,IF(Worksheet!$D$7=2,2,RANDBETWEEN(1,2)))","v":1},null,{"$f":"IF(H30=1,C30+E30/12,RANDBETWEEN(1,Worksheet!$D$6)+CHOOSE(Worksheet!$D$10,RANDBETWEEN(1,9)/10,RANDBETWEEN(1,99)/100,RANDBETWEEN(1,999)/1000,RANDBETWEEN(1,9999)/10000,RANDBETWEEN(1,99999)/100000))","v":29.333333333333332},"years"]
[{"$f":"COUNTIF($B$1:B31,TRUE)","v":13},{"$f":"Worksheet!$B$12","v":true},{"$f":"IF(H31=1,RANDBETWEEN(1,Worksheet!$D$6),INT(J31))","v":28},{"$f":"IF(C31=1,\"hour\",\"hours\")","v":"hours"},{"$f":"IF(H31=1,IF(Worksheet!$D$10=1,RANDBETWEEN(1,9)*6,IF(Worksheet!$D$10=2,RANDBETWEEN(1,19)*3,RANDBETWEEN(1,59))),(J31-INT(J31))*60)","v":36},"minutes","=",{"$f":"IF(Worksheet!$D$7=1,1,IF(Worksheet!$D$7=2,2,RANDBETWEEN(1,2)))","v":1},null,{"$f":"IF(H31=1,C31+E31/60,RANDBETWEEN(1,Worksheet!$D$6)+CHOOSE(Worksheet!$D$10,RANDBETWEEN(1,9)/10,RANDBETWEEN(1,99)/100,RANDBETWEEN(1,999)/1000,RANDBETWEEN(1,9999)/10000,RANDBETWEEN(1,99999)/100000))","v":28.6},{"$f":"D31","v":"hours"}]
[{"$f":"IF(COUNTIF($B$1:B32,TRUE)=COUNTIF($B$1:B31,TRUE),\"\",COUNTIF($B$1:B32,TRUE))","v":14},{"$f":"Worksheet!$B$13","v":true},{"$f":"IF(H32=1,RANDBETWEEN(1,Worksheet!$D$6),INT(J32))","v":15},{"$f":"IF(C32=1,\"minute\",\"minutes\")","v":"minutes"},{"$f":"IF(H32=1,IF(Worksheet!$D$10=1,RANDBETWEEN(1,9)*6,IF(Worksheet!$D$10=2,RANDBETWEEN(1,19)*3,RANDBETWEEN(1,59))),(J32-INT(J32))*60)","v":18.000000000000043},"seconds","=",{"$f":"IF(Worksheet!$D$7=1,1,IF(Worksheet!$D$7=2,2,RANDBETWEEN(1,2)))","v":2},null,{"$f":"IF(H32=1,C32+E32/60,RANDBETWEEN(1,Worksheet!$D$6)+CHOOSE(Worksheet!$D$10,RANDBETWEEN(1,9)/10,RANDBETWEEN(1,99)/100,RANDBETWEEN(1,999)/1000,RANDBETWEEN(1,9999)/10000,RANDBETWEEN(1,99999)/100000))","v":15.3},"minutes"]
[{"$f":"IF(COUNTIF($B$1:B33,TRUE)=COUNTIF($B$1:B32,TRUE),\"\",COUNTIF($B$1:B33,TRUE))","v":""},{"$f":"Worksheet!$B$14","v":false},{"$f":"IF(H33=1,RANDBETWEEN(1,Worksheet!$D$6),INT(J33))","v":7},{"$f":"IF(C33=1,\"week\",\"weeks\")","v":"weeks"},{"$f":"IF(H33=1,RANDBETWEEN(1,6),(J33-INT(J33))*7)","v":3},"days","=",{"$f":"IF(Worksheet!$D$7=1,1,IF(Worksheet!$D$7=2,2,RANDBETWEEN(1,2)))","v":1},null,{"$f":"IF(H33=1,C33+E33/7,RANDBETWEEN(1,Worksheet!$D$6)+CHOOSE(Worksheet!$D$10,RANDBETWEEN(1,9)/10,RANDBETWEEN(1,99)/100,RANDBETWEEN(1,999)/1000,RANDBETWEEN(1,9999)/10000,RANDBETWEEN(1,99999)/100000))","v":7.4285714285714288},"weeks"]
[{"$f":"IF(COUNTIF($B$1:B34,TRUE)=COUNTIF($B$1:B33,TRUE),\"\",COUNTIF($B$1:B34,TRUE))","v":""},{"$f":"Worksheet!$D$12","v":false},{"$f":"IF(H34=1,RANDBETWEEN(1,Worksheet!$D$6),INT(J34))","v":25},{"$f":"IF(C34=1,\"day\",\"days\")","v":"days"},{"$f":"IF(H34=1,RANDBETWEEN(1,23),(J34-INT(J34))*24)","v":2.4000000000000341},"hours","=",{"$f":"IF(Worksheet!$D$7=1,1,IF(Worksheet!$D$7=2,2,RANDBETWEEN(1,2)))","v":2},null,{"$f":"IF(H34=1,C34+E34/24,RANDBETWEEN(1,Worksheet!$D$6)+CHOOSE(Worksheet!$D$10,RANDBETWEEN(1,9)/10,RANDBETWEEN(1,99)/100,RANDBETWEEN(1,999)/1000,RANDBETWEEN(1,9999)/10000,RANDBETWEEN(1,99999)/100000))","v":25.1},"days"]
[{"$f":"IF(COUNTIF($B$1:B35,TRUE)=COUNTIF($B$1:B34,TRUE),\"\",COUNTIF($B$1:B35,TRUE))","v":""},{"$f":"Worksheet!$D$13","v":false},{"$f":"IF(H35=1,RANDBETWEEN(1,Worksheet!$D$6),INT(J35))","v":26},{"$f":"IF(C35=1,\"year\",\"years\")","v":"years"},{"$f":"IF(H35=1,RANDBETWEEN(1,11),(J35-INT(J35))*12)","v":10},"months","=",{"$f":"IF(Worksheet!$D$7=1,1,IF(Worksheet!$D$7=2,2,RANDBETWEEN(1,2)))","v":1},null,{"$f":"IF(H35=1,C35+E35/12,RANDBETWEEN(1,Worksheet!$D$6)+CHOOSE(Worksheet!$D$10,RANDBETWEEN(1,9)/10,RANDBETWEEN(1,99)/100,RANDBETWEEN(1,999)/1000,RANDBETWEEN(1,9999)/10000,RANDBETWEEN(1,99999)/100000))","v":26.833333333333332},"years"]
[{"$f":"COUNTIF($B$1:B36,TRUE)","v":15},{"$f":"Worksheet!$B$12","v":true},{"$f":"IF(H36=1,RANDBETWEEN(1,Worksheet!$D$6),INT(J36))","v":11},{"$f":"IF(C36=1,\"hour\",\"hours\")","v":"hours"},{"$f":"IF(H36=1,IF(Worksheet!$D$10=1,RANDBETWEEN(1,9)*6,IF(Worksheet!$D$10=2,RANDBETWEEN(1,19)*3,RANDBETWEEN(1,59))),(J36-INT(J36))*60)","v":18},"minutes","=",{"$f":"IF(Worksheet!$D$7=1,1,IF(Worksheet!$D$7=2,2,RANDBETWEEN(1,2)))","v":1},null,{"$f":"IF(H36=1,C36+E36/60,RANDBETWEEN(1,Worksheet!$D$6)+CHOOSE(Worksheet!$D$10,RANDBETWEEN(1,9)/10,RANDBETWEEN(1,99)/100,RANDBETWEEN(1,999)/1000,RANDBETWEEN(1,9999)/10000,RANDBETWEEN(1,99999)/100000))","v":11.3},"hours"]
[{"$f":"IF(COUNTIF($B$1:B37,TRUE)=COUNTIF($B$1:B36,TRUE),\"\",COUNTIF($B$1:B37,TRUE))","v":16},{"$f":"Worksheet!$B$13","v":true},{"$f":"IF(H37=1,RANDBETWEEN(1,Worksheet!$D$6),INT(J37))","v":10},{"$f":"IF(C37=1,\"minute\",\"minutes\")","v":"minutes"},{"$f":"IF(H37=1,IF(Worksheet!$D$10=1,RANDBETWEEN(1,9)*6,IF(Worksheet!$D$10=2,RANDBETWEEN(1,19)*3,RANDBETWEEN(1,59))),(J37-INT(J37))*60)","v":18.000000000000043},"seconds","=",{"$f":"IF(Worksheet!$D$7=1,1,IF(Worksheet!$D$7=2,2,RANDBETWEEN(1,2)))","v":2},null,{"$f":"IF(H37=1,C37+E37/60,RANDBETWEEN(1,Worksheet!$D$6)+CHOOSE(Worksheet!$D$10,RANDBETWEEN(1,9)/10,RANDBETWEEN(1,99)/100,RANDBETWEEN(1,999)/1000,RANDBETWEEN(1,9999)/10000,RANDBETWEEN(1,99999)/100000))","v":10.3},"minutes"]
[{"$f":"IF(COUNTIF($B$1:B38,TRUE)=COUNTIF($B$1:B37,TRUE),\"\",COUNTIF($B$1:B38,TRUE))","v":""},{"$f":"Worksheet!$B$14","v":false},{"$f":"IF(H38=1,RANDBETWEEN(1,Worksheet!$D$6),INT(J38))","v":21},{"$f":"IF(C38=1,\"week\",\"weeks\")","v":"weeks"},{"$f":"IF(H38=1,RANDBETWEEN(1,6),(J38-INT(J38))*7)","v":2},"days","=",{"$f":"IF(Worksheet!$D$7=1,1,IF(Worksheet!$D$7=2,2,RANDBETWEEN(1,2)))","v":1},null,{"$f":"IF(H38=1,C38+E38/7,RANDBETWEEN(1,Worksheet!$D$6)+CHOOSE(Worksheet!$D$10,RANDBETWEEN(1,9)/10,RANDBETWEEN(1,99)/100,RANDBETWEEN(1,999)/1000,RANDBETWEEN(1,9999)/10000,RANDBETWEEN(1,99999)/100000))","v":21.285714285714285},"weeks"]
[{"$f":"IF(COUNTIF($B$1:B39,TRUE)=COUNTIF($B$1:B38,TRUE),\"\",COUNTIF($B$1:B39,TRUE))","v":""},{"$f":"Worksheet!$D$12","v":false},{"$f":"IF(H39=1,RANDBETWEEN(1,Worksheet!$D$6),INT(J39))","v":28},{"$f":"IF(C39=1,\"day\",\"days\")","v":"days"},{"$f":"IF(H39=1,RANDBETWEEN(1,23),(J39-INT(J39))*24)","v":19.200000000000017},"hours","=",{"$f":"IF(Worksheet!$D$7=1,1,IF(Worksheet!$D$7=2,2,RANDBETWEEN(1,2)))","v":2},null,{"$f":"IF(H39=1,C39+E39/24,RANDBETWEEN(1,Worksheet!$D$6)+CHOOSE(Worksheet!$D$10,RANDBETWEEN(1,9)/10,RANDBETWEEN(1,99)/100,RANDBETWEEN(1,999)/1000,RANDBETWEEN(1,9999)/10000,RANDBETWEEN(1,99999)/100000))","v":28.8},"days"]
[{"$f":"IF(COUNTIF($B$1:B40,TRUE)=COUNTIF($B$1:B39,TRUE),\"\",COUNTIF($B$1:B40,TRUE))","v":""},{"$f":"Worksheet!$D$13","v":false},{"$f":"IF(H40=1,RANDBETWEEN(1,Worksheet!$D$6),INT(J40))","v":20},{"$f":"IF(C40=1,\"year\",\"years\")","v":"years"},{"$f":"IF(H40=1,RANDBETWEEN(1,11),(J40-INT(J40))*12)","v":7},"months","=",{"$f":"IF(Worksheet!$D$7=1,1,IF(Worksheet!$D$7=2,2,RANDBETWEEN(1,2)))","v":1},null,{"$f":"IF(H40=1,C40+E40/12,RANDBETWEEN(1,Worksheet!$D$6)+CHOOSE(Worksheet!$D$10,RANDBETWEEN(1,9)/10,RANDBETWEEN(1,99)/100,RANDBETWEEN(1,999)/1000,RANDBETWEEN(1,9999)/10000,RANDBETWEEN(1,99999)/100000))","v":20.583333333333332},"years"]
[{"$f":"COUNTIF($B$1:B41,TRUE)","v":17},{"$f":"Worksheet!$B$12","v":true},{"$f":"IF(H41=1,RANDBETWEEN(1,Worksheet!$D$6),INT(J41))","v":17},{"$f":"IF(C41=1,\"hour\",\"hours\")","v":"hours"},{"$f":"IF(H41=1,IF(Worksheet!$D$10=1,RANDBETWEEN(1,9)*6,IF(Worksheet!$D$10=2,RANDBETWEEN(1,19)*3,RANDBETWEEN(1,59))),(J41-INT(J41))*60)","v":36.000000000000085},"minutes","=",{"$f":"IF(Worksheet!$D$7=1,1,IF(Worksheet!$D$7=2,2,RANDBETWEEN(1,2)))","v":2},null,{"$f":"IF(H41=1,C41+E41/60,RANDBETWEEN(1,Worksheet!$D$6)+CHOOSE(Worksheet!$D$10,RANDBETWEEN(1,9)/10,RANDBETWEEN(1,99)/100,RANDBETWEEN(1,999)/1000,RANDBETWEEN(1,9999)/10000,RANDBETWEEN(1,99999)/100000))","v":17.600000000000001},"hours"]
[{"$f":"IF(COUNTIF($B$1:B42,TRUE)=COUNTIF($B$1:B41,TRUE),\"\",COUNTIF($B$1:B42,TRUE))","v":18},{"$f":"Worksheet!$B$13","v":true},{"$f":"IF(H42=1,RANDBETWEEN(1,Worksheet!$D$6),INT(J42))","v":13},{"$f":"IF(C42=1,\"minute\",\"minutes\")","v":"minutes"},{"$f":"IF(H42=1,IF(Worksheet!$D$10=1,RANDBETWEEN(1,9)*6,IF(Worksheet!$D$10=2,RANDBETWEEN(1,19)*3,RANDBETWEEN(1,59))),(J42-INT(J42))*60)","v":54.000000000000021},"seconds","=",{"$f":"IF(Worksheet!$D$7=1,1,IF(Worksheet!$D$7=2,2,RANDBETWEEN(1,2)))","v":2},null,{"$f":"IF(H42=1,C42+E42/60,RANDBETWEEN(1,Worksheet!$D$6)+CHOOSE(Worksheet!$D$10,RANDBETWEEN(1,9)/10,RANDBETWEEN(1,99)/100,RANDBETWEEN(1,999)/1000,RANDBETWEEN(1,9999)/10000,RANDBETWEEN(1,99999)/100000))","v":13.9},"minutes"]
[{"$f":"IF(COUNTIF($B$1:B43,TRUE)=COUNTIF($B$1:B42,TRUE),\"\",COUNTIF($B$1:B43,TRUE))","v":""},{"$f":"Worksheet!$B$14","v":false},{"$f":"IF(H43=1,RANDBETWEEN(1,Worksheet!$D$6),INT(J43))","v":21},{"$f":"IF(C43=1,\"week\",\"weeks\")","v":"weeks"},{"$f":"IF(H43=1,RANDBETWEEN(1,6),(J43-INT(J43))*7)","v":4},"days","=",{"$f":"IF(Worksheet!$D$7=1,1,IF(Worksheet!$D$7=2,2,RANDBETWEEN(1,2)))","v":1},null,{"$f":"IF(H43=1,C43+E43/7,RANDBETWEEN(1,Worksheet!$D$6)+CHOOSE(Worksheet!$D$10,RANDBETWEEN(1,9)/10,RANDBETWEEN(1,99)/100,RANDBETWEEN(1,999)/1000,RANDBETWEEN(1,9999)/10000,RANDBETWEEN(1,99999)/100000))","v":21.571428571428573},"weeks"]
[{"$f":"IF(COUNTIF($B$1:B44,TRUE)=COUNTIF($B$1:B43,TRUE),\"\",COUNTIF($B$1:B44,TRUE))","v":""},{"$f":"Worksheet!$D$12","v":false},{"$f":"IF(H44=1,RANDBETWEEN(1,Worksheet!$D$6),INT(J44))","v":11},{"$f":"IF(C44=1,\"day\",\"days\")","v":"days"},{"$f":"IF(H44=1,RANDBETWEEN(1,23),(J44-INT(J44))*24)","v":2},"hours","=",{"$f":"IF(Worksheet!$D$7=1,1,IF(Worksheet!$D$7=2,2,RANDBETWEEN(1,2)))","v":1},null,{"$f":"IF(H44=1,C44+E44/24,RANDBETWEEN(1,Worksheet!$D$6)+CHOOSE(Worksheet!$D$10,RANDBETWEEN(1,9)/10,RANDBETWEEN(1,99)/100,RANDBETWEEN(1,999)/1000,RANDBETWEEN(1,9999)/10000,RANDBETWEEN(1,99999)/100000))","v":11.083333333333334},"days"]
[{"$f":"IF(COUNTIF($B$1:B45,TRUE)=COUNTIF($B$1:B44,TRUE),\"\",COUNTIF($B$1:B45,TRUE))","v":""},{"$f":"Worksheet!$D$13","v":false},{"$f":"IF(H45=1,RANDBETWEEN(1,Worksheet!$D$6),INT(J45))","v":10},{"$f":"IF(C45=1,\"year\",\"years\")","v":"years"},{"$f":"IF(H45=1,RANDBETWEEN(1,11),(J45-INT(J45))*12)","v":7.1999999999999957},"months","=",{"$f":"IF(Worksheet!$D$7=1,1,IF(Worksheet!$D$7=2,2,RANDBETWEEN(1,2)))","v":2},null,{"$f":"IF(H45=1,C45+E45/12,RANDBETWEEN(1,Worksheet!$D$6)+CHOOSE(Worksheet!$D$10,RANDBETWEEN(1,9)/10,RANDBETWEEN(1,99)/100,RANDBETWEEN(1,999)/1000,RANDBETWEEN(1,9999)/10000,RANDBETWEEN(1,99999)/100000))","v":10.6},"years"]
[{"$f":"COUNTIF($B$1:B46,TRUE)","v":19},{"$f":"Worksheet!$B$12","v":true},{"$f":"IF(H46=1,RANDBETWEEN(1,Worksheet!$D$6),INT(J46))","v":21},{"$f":"IF(C46=1,\"hour\",\"hours\")","v":"hours"},{"$f":"IF(H46=1,IF(Worksheet!$D$10=1,RANDBETWEEN(1,9)*6,IF(Worksheet!$D$10=2,RANDBETWEEN(1,19)*3,RANDBETWEEN(1,59))),(J46-INT(J46))*60)","v":30},"minutes","=",{"$f":"IF(Worksheet!$D$7=1,1,IF(Worksheet!$D$7=2,2,RANDBETWEEN(1,2)))","v":2},null,{"$f":"IF(H46=1,C46+E46/60,RANDBETWEEN(1,Worksheet!$D$6)+CHOOSE(Worksheet!$D$10,RANDBETWEEN(1,9)/10,RANDBETWEEN(1,99)/100,RANDBETWEEN(1,999)/1000,RANDBETWEEN(1,9999)/10000,RANDBETWEEN(1,99999)/100000))","v":21.5},"hours"]
[{"$f":"IF(COUNTIF($B$1:B47,TRUE)=COUNTIF($B$1:B46,TRUE),\"\",COUNTIF($B$1:B47,TRUE))","v":20},{"$f":"Worksheet!$B$13","v":true},{"$f":"IF(H47=1,RANDBETWEEN(1,Worksheet!$D$6),INT(J47))","v":3},{"$f":"IF(C47=1,\"minute\",\"minutes\")","v":"minutes"},{"$f":"IF(H47=1,IF(Worksheet!$D$10=1,RANDBETWEEN(1,9)*6,IF(Worksheet!$D$10=2,RANDBETWEEN(1,19)*3,RANDBETWEEN(1,59))),(J47-INT(J47))*60)","v":53.999999999999993},"seconds","=",{"$f":"IF(Worksheet!$D$7=1,1,IF(Worksheet!$D$7=2,2,RANDBETWEEN(1,2)))","v":2},null,{"$f":"IF(H47=1,C47+E47/60,RANDBETWEEN(1,Worksheet!$D$6)+CHOOSE(Worksheet!$D$10,RANDBETWEEN(1,9)/10,RANDBETWEEN(1,99)/100,RANDBETWEEN(1,999)/1000,RANDBETWEEN(1,9999)/10000,RANDBETWEEN(1,99999)/100000))","v":3.9},"minutes"]
[{"$f":"IF(COUNTIF($B$1:B48,TRUE)=COUNTIF($B$1:B47,TRUE),\"\",COUNTIF($B$1:B48,TRUE))","v":""},{"$f":"Worksheet!$B$14","v":false},{"$f":"IF(H48=1,RANDBETWEEN(1,Worksheet!$D$6),INT(J48))","v":4},{"$f":"IF(C48=1,\"week\",\"weeks\")","v":"weeks"},{"$f":"IF(H48=1,RANDBETWEEN(1,6),(J48-INT(J48))*7)","v":4},"days","=",{"$f":"IF(Worksheet!$D$7=1,1,IF(Worksheet!$D$7=2,2,RANDBETWEEN(1,2)))","v":1},null,{"$f":"IF(H48=1,C48+E48/7,RANDBETWEEN(1,Worksheet!$D$6)+CHOOSE(Worksheet!$D$10,RANDBETWEEN(1,9)/10,RANDBETWEEN(1,99)/100,RANDBETWEEN(1,999)/1000,RANDBETWEEN(1,9999)/10000,RANDBETWEEN(1,99999)/100000))","v":4.5714285714285712},"weeks"]
[{"$f":"IF(COUNTIF($B$1:B49,TRUE)=COUNTIF($B$1:B48,TRUE),\"\",COUNTIF($B$1:B49,TRUE))","v":""},{"$f":"Worksheet!$D$12","v":false},{"$f":"IF(H49=1,RANDBETWEEN(1,Worksheet!$D$6),INT(J49))","v":9},{"$f":"IF(C49=1,\"day\",\"days\")","v":"days"},{"$f":"IF(H49=1,RANDBETWEEN(1,23),(J49-INT(J49))*24)","v":7.2000000000000171},"hours","=",{"$f":"IF(Worksheet!$D$7=1,1,IF(Worksheet!$D$7=2,2,RANDBETWEEN(1,2)))","v":2},null,{"$f":"IF(H49=1,C49+E49/24,RANDBETWEEN(1,Worksheet!$D$6)+CHOOSE(Worksheet!$D$10,RANDBETWEEN(1,9)/10,RANDBETWEEN(1,99)/100,RANDBETWEEN(1,999)/1000,RANDBETWEEN(1,9999)/10000,RANDBETWEEN(1,99999)/100000))","v":9.3000000000000007},"days"]
[{"$f":"IF(COUNTIF($B$1:B50,TRUE)=COUNTIF($B$1:B49,TRUE),\"\",COUNTIF($B$1:B50,TRUE))","v":""},{"$f":"Worksheet!$D$13","v":false},{"$f":"IF(H50=1,RANDBETWEEN(1,Worksheet!$D$6),INT(J50))","v":27},{"$f":"IF(C50=1,\"year\",\"years\")","v":"years"},{"$f":"IF(H50=1,RANDBETWEEN(1,11),(J50-INT(J50))*12)","v":3.6000000000000085},"months","=",{"$f":"IF(Worksheet!$D$7=1,1,IF(Worksheet!$D$7=2,2,RANDBETWEEN(1,2)))","v":2},null,{"$f":"IF(H50=1,C50+E50/12,RANDBETWEEN(1,Worksheet!$D$6)+CHOOSE(Worksheet!$D$10,RANDBETWEEN(1,9)/10,RANDBETWEEN(1,99)/100,RANDBETWEEN(1,999)/1000,RANDBETWEEN(1,9999)/10000,RANDBETWEEN(1,99999)/100000))","v":27.3},"years"]
[{"$f":"COUNTIF($B$1:B51,TRUE)","v":21},{"$f":"Worksheet!$B$12","v":true},{"$f":"IF(H51=1,RANDBETWEEN(1,Worksheet!$D$6),INT(J51))","v":4},{"$f":"IF(C51=1,\"hour\",\"hours\")","v":"hours"},{"$f":"IF(H51=1,IF(Worksheet!$D$10=1,RANDBETWEEN(1,9)*6,IF(Worksheet!$D$10=2,RANDBETWEEN(1,19)*3,RANDBETWEEN(1,59))),(J51-INT(J51))*60)","v":42.000000000000014},"minutes","=",{"$f":"IF(Worksheet!$D$7=1,1,IF(Worksheet!$D$7=2,2,RANDBETWEEN(1,2)))","v":2},null,{"$f":"IF(H51=1,C51+E51/60,RANDBETWEEN(1,Worksheet!$D$6)+CHOOSE(Worksheet!$D$10,RANDBETWEEN(1,9)/10,RANDBETWEEN(1,99)/100,RANDBETWEEN(1,999)/1000,RANDBETWEEN(1,9999)/10000,RANDBETWEEN(1,99999)/100000))","v":4.7},"hours"]
[{"$f":"IF(COUNTIF($B$1:B52,TRUE)=COUNTIF($B$1:B51,TRUE),\"\",COUNTIF($B$1:B52,TRUE))","v":22},{"$f":"Worksheet!$B$13","v":true},{"$f":"IF(H52=1,RANDBETWEEN(1,Worksheet!$D$6),INT(J52))","v":6},{"$f":"IF(C52=1,\"minute\",\"minutes\")","v":"minutes"},{"$f":"IF(H52=1,IF(Worksheet!$D$10=1,RANDBETWEEN(1,9)*6,IF(Worksheet!$D$10=2,RANDBETWEEN(1,19)*3,RANDBETWEEN(1,59))),(J52-INT(J52))*60)","v":12},"seconds","=",{"$f":"IF(Worksheet!$D$7=1,1,IF(Worksheet!$D$7=2,2,RANDBETWEEN(1,2)))","v":1},null,{"$f":"IF(H52=1,C52+E52/60,RANDBETWEEN(1,Worksheet!$D$6)+CHOOSE(Worksheet!$D$10,RANDBETWEEN(1,9)/10,RANDBETWEEN(1,99)/100,RANDBETWEEN(1,999)/1000,RANDBETWEEN(1,9999)/10000,RANDBETWEEN(1,99999)/100000))","v":6.2},"minutes"]
[{"$f":"IF(COUNTIF($B$1:B53,TRUE)=COUNTIF($B$1:B52,TRUE),\"\",COUNTIF($B$1:B53,TRUE))","v":""},{"$f":"Worksheet!$B$14","v":false},{"$f":"IF(H53=1,RANDBETWEEN(1,Worksheet!$D$6),INT(J53))","v":30},{"$f":"IF(C53=1,\"week\",\"weeks\")","v":"weeks"},{"$f":"IF(H53=1,RANDBETWEEN(1,6),(J53-INT(J53))*7)","v":5.600000000000005},"days","=",{"$f":"IF(Worksheet!$D$7=1,1,IF(Worksheet!$D$7=2,2,RANDBETWEEN(1,2)))","v":2},null,{"$f":"IF(H53=1,C53+E53/7,RANDBETWEEN(1,Worksheet!$D$6)+CHOOSE(Worksheet!$D$10,RANDBETWEEN(1,9)/10,RANDBETWEEN(1,99)/100,RANDBETWEEN(1,999)/1000,RANDBETWEEN(1,9999)/10000,RANDBETWEEN(1,99999)/100000))","v":30.8},"weeks"]
[{"$f":"IF(COUNTIF($B$1:B54,TRUE)=COUNTIF($B$1:B53,TRUE),\"\",COUNTIF($B$1:B54,TRUE))","v":""},{"$f":"Worksheet!$D$12","v":false},{"$f":"IF(H54=1,RANDBETWEEN(1,Worksheet!$D$6),INT(J54))","v":23},{"$f":"IF(C54=1,\"day\",\"days\")","v":"days"},{"$f":"IF(H54=1,RANDBETWEEN(1,23),(J54-INT(J54))*24)","v":7.2000000000000171},"hours","=",{"$f":"IF(Worksheet!$D$7=1,1,IF(Worksheet!$D$7=2,2,RANDBETWEEN(1,2)))","v":2},null,{"$f":"IF(H54=1,C54+E54/24,RANDBETWEEN(1,Worksheet!$D$6)+CHOOSE(Worksheet!$D$10,RANDBETWEEN(1,9)/10,RANDBETWEEN(1,99)/100,RANDBETWEEN(1,999)/1000,RANDBETWEEN(1,9999)/10000,RANDBETWEEN(1,99999)/100000))","v":23.3},"days"]
[{"$f":"IF(COUNTIF($B$1:B55,TRUE)=COUNTIF($B$1:B54,TRUE),\"\",COUNTIF($B$1:B55,TRUE))","v":""},{"$f":"Worksheet!$D$13","v":false},{"$f":"IF(H55=1,RANDBETWEEN(1,Worksheet!$D$6),INT(J55))","v":27},{"$f":"IF(C55=1,\"year\",\"years\")","v":"years"},{"$f":"IF(H55=1,RANDBETWEEN(1,11),(J55-INT(J55))*12)","v":9.6000000000000085},"months","=",{"$f":"IF(Worksheet!$D$7=1,1,IF(Worksheet!$D$7=2,2,RANDBETWEEN(1,2)))","v":2},null,{"$f":"IF(H55=1,C55+E55/12,RANDBETWEEN(1,Worksheet!$D$6)+CHOOSE(Worksheet!$D$10,RANDBETWEEN(1,9)/10,RANDBETWEEN(1,99)/100,RANDBETWEEN(1,999)/1000,RANDBETWEEN(1,9999)/10000,RANDBETWEEN(1,99999)/100000))","v":27.8},"years"]
[{"$f":"COUNTIF($B$1:B56,TRUE)","v":23},{"$f":"Worksheet!$B$12","v":true},{"$f":"IF(H56=1,RANDBETWEEN(1,Worksheet!$D$6),INT(J56))","v":3},{"$f":"IF(C56=1,\"hour\",\"hours\")","v":"hours"},{"$f":"IF(H56=1,IF(Worksheet!$D$10=1,RANDBETWEEN(1,9)*6,IF(Worksheet!$D$10=2,RANDBETWEEN(1,19)*3,RANDBETWEEN(1,59))),(J56-INT(J56))*60)","v":42},"minutes","=",{"$f":"IF(Worksheet!$D$7=1,1,IF(Worksheet!$D$7=2,2,RANDBETWEEN(1,2)))","v":1},null,{"$f":"IF(H56=1,C56+E56/60,RANDBETWEEN(1,Worksheet!$D$6)+CHOOSE(Worksheet!$D$10,RANDBETWEEN(1,9)/10,RANDBETWEEN(1,99)/100,RANDBETWEEN(1,999)/1000,RANDBETWEEN(1,9999)/10000,RANDBETWEEN(1,99999)/100000))","v":3.7},"hours"]
[{"$f":"IF(COUNTIF($B$1:B57,TRUE)=COUNTIF($B$1:B56,TRUE),\"\",COUNTIF($B$1:B57,TRUE))","v":24},{"$f":"Worksheet!$B$13","v":true},{"$f":"IF(H57=1,RANDBETWEEN(1,Worksheet!$D$6),INT(J57))","v":1},{"$f":"IF(C57=1,\"minute\",\"minutes\")","v":"minute"},{"$f":"IF(H57=1,IF(Worksheet!$D$10=1,RANDBETWEEN(1,9)*6,IF(Worksheet!$D$10=2,RANDBETWEEN(1,19)*3,RANDBETWEEN(1,59))),(J57-INT(J57))*60)","v":54},"seconds","=",{"$f":"IF(Worksheet!$D$7=1,1,IF(Worksheet!$D$7=2,2,RANDBETWEEN(1,2)))","v":1},null,{"$f":"IF(H57=1,C57+E57/60,RANDBETWEEN(1,Worksheet!$D$6)+CHOOSE(Worksheet!$D$10,RANDBETWEEN(1,9)/10,RANDBETWEEN(1,99)/100,RANDBETWEEN(1,999)/1000,RANDBETWEEN(1,9999)/10000,RANDBETWEEN(1,99999)/100000))","v":1.9},"minute"]
[{"$f":"IF(COUNTIF($B$1:B58,TRUE)=COUNTIF($B$1:B57,TRUE),\"\",COUNTIF($B$1:B58,TRUE))","v":""},{"$f":"Worksheet!$B$14","v":false},{"$f":"IF(H58=1,RANDBETWEEN(1,Worksheet!$D$6),INT(J58))","v":4},{"$f":"IF(C58=1,\"week\",\"weeks\")","v":"weeks"},{"$f":"IF(H58=1,RANDBETWEEN(1,6),(J58-INT(J58))*7)","v":6.3000000000000025},"days","=",{"$f":"IF(Worksheet!$D$7=1,1,IF(Worksheet!$D$7=2,2,RANDBETWEEN(1,2)))","v":2},null,{"$f":"IF(H58=1,C58+E58/7,RANDBETWEEN(1,Worksheet!$D$6)+CHOOSE(Worksheet!$D$10,RANDBETWEEN(1,9)/10,RANDBETWEEN(1,99)/100,RANDBETWEEN(1,999)/1000,RANDBETWEEN(1,9999)/10000,RANDBETWEEN(1,99999)/100000))","v":4.9000000000000004},"weeks"]
[{"$f":"IF(COUNTIF($B$1:B59,TRUE)=COUNTIF($B$1:B58,TRUE),\"\",COUNTIF($B$1:B59,TRUE))","v":""},{"$f":"Worksheet!$D$12","v":false},{"$f":"IF(H59=1,RANDBETWEEN(1,Worksheet!$D$6),INT(J59))","v":8},{"$f":"IF(C59=1,\"day\",\"days\")","v":"days"},{"$f":"IF(H59=1,RANDBETWEEN(1,23),(J59-INT(J59))*24)","v":16},"hours","=",{"$f":"IF(Worksheet!$D$7=1,1,IF(Worksheet!$D$7=2,2,RANDBETWEEN(1,2)))","v":1},null,{"$f":"IF(H59=1,C59+E59/24,RANDBETWEEN(1,Worksheet!$D$6)+CHOOSE(Worksheet!$D$10,RANDBETWEEN(1,9)/10,RANDBETWEEN(1,99)/100,RANDBETWEEN(1,999)/1000,RANDBETWEEN(1,9999)/10000,RANDBETWEEN(1,99999)/100000))","v":8.6666666666666661},"days"]
[{"$f":"IF(COUNTIF($B$1:B60,TRUE)=COUNTIF($B$1:B59,TRUE),\"\",COUNTIF($B$1:B60,TRUE))","v":""},{"$f":"Worksheet!$D$13","v":false},{"$f":"IF(H60=1,RANDBETWEEN(1,Worksheet!$D$6),INT(J60))","v":24},{"$f":"IF(C60=1,\"year\",\"years\")","v":"years"},{"$f":"IF(H60=1,RANDBETWEEN(1,11),(J60-INT(J60))*12)","v":7},"months","=",{"$f":"IF(Worksheet!$D$7=1,1,IF(Worksheet!$D$7=2,2,RANDBETWEEN(1,2)))","v":1},null,{"$f":"IF(H60=1,C60+E60/12,RANDBETWEEN(1,Worksheet!$D$6)+CHOOSE(Worksheet!$D$10,RANDBETWEEN(1,9)/10,RANDBETWEEN(1,99)/100,RANDBETWEEN(1,999)/1000,RANDBETWEEN(1,9999)/10000,RANDBETWEEN(1,99999)/100000))","v":24.583333333333332},"years"]
[{"$f":"COUNTIF($B$1:B61,TRUE)","v":25},{"$f":"Worksheet!$B$12","v":true},{"$f":"IF(H61=1,RANDBETWEEN(1,Worksheet!$D$6),INT(J61))","v":6},{"$f":"IF(C61=1,\"hour\",\"hours\")","v":"hours"},{"$f":"IF(H61=1,IF(Worksheet!$D$10=1,RANDBETWEEN(1,9)*6,IF(Worksheet!$D$10=2,RANDBETWEEN(1,19)*3,RANDBETWEEN(1,59))),(J61-INT(J61))*60)","v":17.999999999999989},"minutes","=",{"$f":"IF(Worksheet!$D$7=1,1,IF(Worksheet!$D$7=2,2,RANDBETWEEN(1,2)))","v":2},null,{"$f":"IF(H61=1,C61+E61/60,RANDBETWEEN(1,Worksheet!$D$6)+CHOOSE(Worksheet!$D$10,RANDBETWEEN(1,9)/10,RANDBETWEEN(1,99)/100,RANDBETWEEN(1,999)/1000,RANDBETWEEN(1,9999)/10000,RANDBETWEEN(1,99999)/100000))","v":6.3},"hours"]
[{"$f":"IF(COUNTIF($B$1:B62,TRUE)=COUNTIF($B$1:B61,TRUE),\"\",COUNTIF($B$1:B62,TRUE))","v":26},{"$f":"Worksheet!$B$13","v":true},{"$f":"IF(H62=1,RANDBETWEEN(1,Worksheet!$D$6),INT(J62))","v":13},{"$f":"IF(C62=1,\"minute\",\"minutes\")","v":"minutes"},{"$f":"IF(H62=1,IF(Worksheet!$D$10=1,RANDBETWEEN(1,9)*6,IF(Worksheet!$D$10=2,RANDBETWEEN(1,19)*3,RANDBETWEEN(1,59))),(J62-INT(J62))*60)","v":35.999999999999979},"seconds","=",{"$f":"IF(Worksheet!$D$7=1,1,IF(Worksheet!$D$7=2,2,RANDBETWEEN(1,2)))","v":2},null,{"$f":"IF(H62=1,C62+E62/60,RANDBETWEEN(1,Worksheet!$D$6)+CHOOSE(Worksheet!$D$10,RANDBETWEEN(1,9)/10,RANDBETWEEN(1,99)/100,RANDBETWEEN(1,999)/1000,RANDBETWEEN(1,9999)/10000,RANDBETWEEN(1,99999)/100000))","v":13.6},"minutes"]
[{"$f":"IF(COUNTIF($B$1:B63,TRUE)=COUNTIF($B$1:B62,TRUE),\"\",COUNTIF($B$1:B63,TRUE))","v":""},{"$f":"Worksheet!$B$14","v":false},{"$f":"IF(H63=1,RANDBETWEEN(1,Worksheet!$D$6),INT(J63))","v":14},{"$f":"IF(C63=1,\"week\",\"weeks\")","v":"weeks"},{"$f":"IF(H63=1,RANDBETWEEN(1,6),(J63-INT(J63))*7)","v":1.399999999999995},"days","=",{"$f":"IF(Worksheet!$D$7=1,1,IF(Worksheet!$D$7=2,2,RANDBETWEEN(1,2)))","v":2},null,{"$f":"IF(H63=1,C63+E63/7,RANDBETWEEN(1,Worksheet!$D$6)+CHOOSE(Worksheet!$D$10,RANDBETWEEN(1,9)/10,RANDBETWEEN(1,99)/100,RANDBETWEEN(1,999)/1000,RANDBETWEEN(1,9999)/10000,RANDBETWEEN(1,99999)/100000))","v":14.2},"weeks"]
[{"$f":"IF(COUNTIF($B$1:B64,TRUE)=COUNTIF($B$1:B63,TRUE),\"\",COUNTIF($B$1:B64,TRUE))","v":""},{"$f":"Worksheet!$D$12","v":false},{"$f":"IF(H64=1,RANDBETWEEN(1,Worksheet!$D$6),INT(J64))","v":26},{"$f":"IF(C64=1,\"day\",\"days\")","v":"days"},{"$f":"IF(H64=1,RANDBETWEEN(1,23),(J64-INT(J64))*24)","v":18},"hours","=",{"$f":"IF(Worksheet!$D$7=1,1,IF(Worksheet!$D$7=2,2,RANDBETWEEN(1,2)))","v":1},null,{"$f":"IF(H64=1,C64+E64/24,RANDBETWEEN(1,Worksheet!$D$6)+CHOOSE(Worksheet!$D$10,RANDBETWEEN(1,9)/10,RANDBETWEEN(1,99)/100,RANDBETWEEN(1,999)/1000,RANDBETWEEN(1,9999)/10000,RANDBETWEEN(1,99999)/100000))","v":26.75},"days"]
[{"$f":"IF(COUNTIF($B$1:B65,TRUE)=COUNTIF($B$1:B64,TRUE),\"\",COUNTIF($B$1:B65,TRUE))","v":""},{"$f":"Worksheet!$D$13","v":false},{"$f":"IF(H65=1,RANDBETWEEN(1,Worksheet!$D$6),INT(J65))","v":29},{"$f":"IF(C65=1,\"year\",\"years\")","v":"years"},{"$f":"IF(H65=1,RANDBETWEEN(1,11),(J65-INT(J65))*12)","v":2.3999999999999915},"months","=",{"$f":"IF(Worksheet!$D$7=1,1,IF(Worksheet!$D$7=2,2,RANDBETWEEN(1,2)))","v":2},null,{"$f":"IF(H65=1,C65+E65/12,RANDBETWEEN(1,Worksheet!$D$6)+CHOOSE(Worksheet!$D$10,RANDBETWEEN(1,9)/10,RANDBETWEEN(1,99)/100,RANDBETWEEN(1,999)/1000,RANDBETWEEN(1,9999)/10000,RANDBETWEEN(1,99999)/100000))","v":29.2},"years"]
[{"$f":"COUNTIF($B$1:B66,TRUE)","v":27},{"$f":"Worksheet!$B$12","v":true},{"$f":"IF(H66=1,RANDBETWEEN(1,Worksheet!$D$6),INT(J66))","v":5},{"$f":"IF(C66=1,\"hour\",\"hours\")","v":"hours"},{"$f":"IF(H66=1,IF(Worksheet!$D$10=1,RANDBETWEEN(1,9)*6,IF(Worksheet!$D$10=2,RANDBETWEEN(1,19)*3,RANDBETWEEN(1,59))),(J66-INT(J66))*60)","v":48},"minutes","=",{"$f":"IF(Worksheet!$D$7=1,1,IF(Worksheet!$D$7=2,2,RANDBETWEEN(1,2)))","v":1},null,{"$f":"IF(H66=1,C66+E66/60,RANDBETWEEN(1,Worksheet!$D$6)+CHOOSE(Worksheet!$D$10,RANDBETWEEN(1,9)/10,RANDBETWEEN(1,99)/100,RANDBETWEEN(1,999)/1000,RANDBETWEEN(1,9999)/10000,RANDBETWEEN(1,99999)/100000))","v":5.8},"hours"]
[{"$f":"IF(COUNTIF($B$1:B67,TRUE)=COUNTIF($B$1:B66,TRUE),\"\",COUNTIF($B$1:B67,TRUE))","v":28},{"$f":"Worksheet!$B$13","v":true},{"$f":"IF(H67=1,RANDBETWEEN(1,Worksheet!$D$6),INT(J67))","v":22},{"$f":"IF(C67=1,\"minute\",\"minutes\")","v":"minutes"},{"$f":"IF(H67=1,IF(Worksheet!$D$10=1,RANDBETWEEN(1,9)*6,IF(Worksheet!$D$10=2,RANDBETWEEN(1,19)*3,RANDBETWEEN(1,59))),(J67-INT(J67))*60)","v":48},"seconds","=",{"$f":"IF(Worksheet!$D$7=1,1,IF(Worksheet!$D$7=2,2,RANDBETWEEN(1,2)))","v":1},null,{"$f":"IF(H67=1,C67+E67/60,RANDBETWEEN(1,Worksheet!$D$6)+CHOOSE(Worksheet!$D$10,RANDBETWEEN(1,9)/10,RANDBETWEEN(1,99)/100,RANDBETWEEN(1,999)/1000,RANDBETWEEN(1,9999)/10000,RANDBETWEEN(1,99999)/100000))","v":22.8},"minutes"]
[{"$f":"IF(COUNTIF($B$1:B68,TRUE)=COUNTIF($B$1:B67,TRUE),\"\",COUNTIF($B$1:B68,TRUE))","v":""},{"$f":"Worksheet!$B$14","v":false},{"$f":"IF(H68=1,RANDBETWEEN(1,Worksheet!$D$6),INT(J68))","v":6},{"$f":"IF(C68=1,\"week\",\"weeks\")","v":"weeks"},{"$f":"IF(H68=1,RANDBETWEEN(1,6),(J68-INT(J68))*7)","v":4},"days","=",{"$f":"IF(Worksheet!$D$7=1,1,IF(Worksheet!$D$7=2,2,RANDBETWEEN(1,2)))","v":1},null,{"$f":"IF(H68=1,C68+E68/7,RANDBETWEEN(1,Worksheet!$D$6)+CHOOSE(Worksheet!$D$10,RANDBETWEEN(1,9)/10,RANDBETWEEN(1,99)/100,RANDBETWEEN(1,999)/1000,RANDBETWEEN(1,9999)/10000,RANDBETWEEN(1,99999)/100000))","v":6.5714285714285712},"weeks"]
[{"$f":"IF(COUNTIF($B$1:B69,TRUE)=COUNTIF($B$1:B68,TRUE),\"\",COUNTIF($B$1:B69,TRUE))","v":""},{"$f":"Worksheet!$D$12","v":false},{"$f":"IF(H69=1,RANDBETWEEN(1,Worksheet!$D$6),INT(J69))","v":16},{"$f":"IF(C69=1,\"day\",\"days\")","v":"days"},{"$f":"IF(H69=1,RANDBETWEEN(1,23),(J69-INT(J69))*24)","v":2.4000000000000341},"hours","=",{"$f":"IF(Worksheet!$D$7=1,1,IF(Worksheet!$D$7=2,2,RANDBETWEEN(1,2)))","v":2},null,{"$f":"IF(H69=1,C69+E69/24,RANDBETWEEN(1,Worksheet!$D$6)+CHOOSE(Worksheet!$D$10,RANDBETWEEN(1,9)/10,RANDBETWEEN(1,99)/100,RANDBETWEEN(1,999)/1000,RANDBETWEEN(1,9999)/10000,RANDBETWEEN(1,99999)/100000))","v":16.100000000000001},"days"]
[{"$f":"IF(COUNTIF($B$1:B70,TRUE)=COUNTIF($B$1:B69,TRUE),\"\",COUNTIF($B$1:B70,TRUE))","v":""},{"$f":"Worksheet!$D$13","v":false},{"$f":"IF(H70=1,RANDBETWEEN(1,Worksheet!$D$6),INT(J70))","v":10},{"$f":"IF(C70=1,\"year\",\"years\")","v":"years"},{"$f":"IF(H70=1,RANDBETWEEN(1,11),(J70-INT(J70))*12)","v":9.6000000000000085},"months","=",{"$f":"IF(Worksheet!$D$7=1,1,IF(Worksheet!$D$7=2,2,RANDBETWEEN(1,2)))","v":2},null,{"$f":"IF(H70=1,C70+E70/12,RANDBETWEEN(1,Worksheet!$D$6)+CHOOSE(Worksheet!$D$10,RANDBETWEEN(1,9)/10,RANDBETWEEN(1,99)/100,RANDBETWEEN(1,999)/1000,RANDBETWEEN(1,9999)/10000,RANDBETWEEN(1,99999)/100000))","v":10.8},"years"]
[{"$f":"COUNTIF($B$1:B71,TRUE)","v":29},{"$f":"Worksheet!$B$12","v":true},{"$f":"IF(H71=1,RANDBETWEEN(1,Worksheet!$D$6),INT(J71))","v":21},{"$f":"IF(C71=1,\"hour\",\"hours\")","v":"hours"},{"$f":"IF(H71=1,IF(Worksheet!$D$10=1,RANDBETWEEN(1,9)*6,IF(Worksheet!$D$10=2,RANDBETWEEN(1,19)*3,RANDBETWEEN(1,59))),(J71-INT(J71))*60)","v":18},"minutes","=",{"$f":"IF(Worksheet!$D$7=1,1,IF(Worksheet!$D$7=2,2,RANDBETWEEN(1,2)))","v":1},null,{"$f":"IF(H71=1,C71+E71/60,RANDBETWEEN(1,Worksheet!$D$6)+CHOOSE(Worksheet!$D$10,RANDBETWEEN(1,9)/10,RANDBETWEEN(1,99)/100,RANDBETWEEN(1,999)/1000,RANDBETWEEN(1,9999)/10000,RANDBETWEEN(1,99999)/100000))","v":21.3},"hours"]
[{"$f":"IF(COUNTIF($B$1:B72,TRUE)=COUNTIF($B$1:B71,TRUE),\"\",COUNTIF($B$1:B72,TRUE))","v":30},{"$f":"Worksheet!$B$13","v":true},{"$f":"IF(H72=1,RANDBETWEEN(1,Worksheet!$D$6),INT(J72))","v":2},{"$f":"IF(C72=1,\"minute\",\"minutes\")","v":"minutes"},{"$f":"IF(H72=1,IF(Worksheet!$D$10=1,RANDBETWEEN(1,9)*6,IF(Worksheet!$D$10=2,RANDBETWEEN(1,19)*3,RANDBETWEEN(1,59))),(J72-INT(J72))*60)","v":42},"seconds","=",{"$f":"IF(Worksheet!$D$7=1,1,IF(Worksheet!$D$7=2,2,RANDBETWEEN(1,2)))","v":1},null,{"$f":"IF(H72=1,C72+E72/60,RANDBETWEEN(1,Worksheet!$D$6)+CHOOSE(Worksheet!$D$10,RANDBETWEEN(1,9)/10,RANDBETWEEN(1,99)/100,RANDBETWEEN(1,999)/1000,RANDBETWEEN(1,9999)/10000,RANDBETWEEN(1,99999)/100000))","v":2.7},"minutes"]
[{"$f":"IF(COUNTIF($B$1:B73,TRUE)=COUNTIF($B$1:B72,TRUE),\"\",COUNTIF($B$1:B73,TRUE))","v":""},{"$f":"Worksheet!$B$14","v":false},{"$f":"IF(H73=1,RANDBETWEEN(1,Worksheet!$D$6),INT(J73))","v":12},{"$f":"IF(C73=1,\"week\",\"weeks\")","v":"weeks"},{"$f":"IF(H73=1,RANDBETWEEN(1,6),(J73-INT(J73))*7)","v":4.1999999999999975},"days","=",{"$f":"IF(Worksheet!$D$7=1,1,IF(Worksheet!$D$7=2,2,RANDBETWEEN(1,2)))","v":2},null,{"$f":"IF(H73=1,C73+E73/7,RANDBETWEEN(1,Worksheet!$D$6)+CHOOSE(Worksheet!$D$10,RANDBETWEEN(1,9)/10,RANDBETWEEN(1,99)/100,RANDBETWEEN(1,999)/1000,RANDBETWEEN(1,9999)/10000,RANDBETWEEN(1,99999)/100000))","v":12.6},"weeks"]
[{"$f":"IF(COUNTIF($B$1:B74,TRUE)=COUNTIF($B$1:B73,TRUE),\"\",COUNTIF($B$1:B74,TRUE))","v":""},{"$f":"Worksheet!$D$12","v":false},{"$f":"IF(H74=1,RANDBETWEEN(1,Worksheet!$D$6),INT(J74))","v":30},{"$f":"IF(C74=1,\"day\",\"days\")","v":"days"},{"$f":"IF(H74=1,RANDBETWEEN(1,23),(J74-INT(J74))*24)","v":21.599999999999966},"hours","=",{"$f":"IF(Worksheet!$D$7=1,1,IF(Worksheet!$D$7=2,2,RANDBETWEEN(1,2)))","v":2},null,{"$f":"IF(H74=1,C74+E74/24,RANDBETWEEN(1,Worksheet!$D$6)+CHOOSE(Worksheet!$D$10,RANDBETWEEN(1,9)/10,RANDBETWEEN(1,99)/100,RANDBETWEEN(1,999)/1000,RANDBETWEEN(1,9999)/10000,RANDBETWEEN(1,99999)/100000))","v":30.9},"days"]
[{"$f":"IF(COUNTIF($B$1:B75,TRUE)=COUNTIF($B$1:B74,TRUE),\"\",COUNTIF($B$1:B75,TRUE))","v":""},{"$f":"Worksheet!$D$13","v":false},{"$f":"IF(H75=1,RANDBETWEEN(1,Worksheet!$D$6),INT(J75))","v":1},{"$f":"IF(C75=1,\"year\",\"years\")","v":"year"},{"$f":"IF(H75=1,RANDBETWEEN(1,11),(J75-INT(J75))*12)","v":7.2000000000000011},"months","=",{"$f":"IF(Worksheet!$D$7=1,1,IF(Worksheet!$D$7=2,2,RANDBETWEEN(1,2)))","v":2},null,{"$f":"IF(H75=1,C75+E75/12,RANDBETWEEN(1,Worksheet!$D$6)+CHOOSE(Worksheet!$D$10,RANDBETWEEN(1,9)/10,RANDBETWEEN(1,99)/100,RANDBETWEEN(1,999)/1000,RANDBETWEEN(1,9999)/10000,RANDBETWEEN(1,99999)/100000))","v":1.6},"year"]
[{"$f":"COUNTIF($B$1:B76,TRUE)","v":31},{"$f":"Worksheet!$B$12","v":true},{"$f":"IF(H76=1,RANDBETWEEN(1,Worksheet!$D$6),INT(J76))","v":29},{"$f":"IF(C76=1,\"hour\",\"hours\")","v":"hours"},{"$f":"IF(H76=1,IF(Worksheet!$D$10=1,RANDBETWEEN(1,9)*6,IF(Worksheet!$D$10=2,RANDBETWEEN(1,19)*3,RANDBETWEEN(1,59))),(J76-INT(J76))*60)","v":18.000000000000043},"minutes","=",{"$f":"IF(Worksheet!$D$7=1,1,IF(Worksheet!$D$7=2,2,RANDBETWEEN(1,2)))","v":2},null,{"$f":"IF(H76=1,C76+E76/60,RANDBETWEEN(1,Worksheet!$D$6)+CHOOSE(Worksheet!$D$10,RANDBETWEEN(1,9)/10,RANDBETWEEN(1,99)/100,RANDBETWEEN(1,999)/1000,RANDBETWEEN(1,9999)/10000,RANDBETWEEN(1,99999)/100000))","v":29.3},"hours"]
[{"$f":"IF(COUNTIF($B$1:B77,TRUE)=COUNTIF($B$1:B76,TRUE),\"\",COUNTIF($B$1:B77,TRUE))","v":32},{"$f":"Worksheet!$B$13","v":true},{"$f":"IF(H77=1,RANDBETWEEN(1,Worksheet!$D$6),INT(J77))","v":10},{"$f":"IF(C77=1,\"minute\",\"minutes\")","v":"minutes"},{"$f":"IF(H77=1,IF(Worksheet!$D$10=1,RANDBETWEEN(1,9)*6,IF(Worksheet!$D$10=2,RANDBETWEEN(1,19)*3,RANDBETWEEN(1,59))),(J77-INT(J77))*60)","v":11.999999999999957},"seconds","=",{"$f":"IF(Worksheet!$D$7=1,1,IF(Worksheet!$D$7=2,2,RANDBETWEEN(1,2)))","v":2},null,{"$f":"IF(H77=1,C77+E77/60,RANDBETWEEN(1,Worksheet!$D$6)+CHOOSE(Worksheet!$D$10,RANDBETWEEN(1,9)/10,RANDBETWEEN(1,99)/100,RANDBETWEEN(1,999)/1000,RANDBETWEEN(1,9999)/10000,RANDBETWEEN(1,99999)/100000))","v":10.199999999999999},"minutes"]
[{"$f":"IF(COUNTIF($B$1:B78,TRUE)=COUNTIF($B$1:B77,TRUE),\"\",COUNTIF($B$1:B78,TRUE))","v":""},{"$f":"Worksheet!$B$14","v":false},{"$f":"IF(H78=1,RANDBETWEEN(1,Worksheet!$D$6),INT(J78))","v":15},{"$f":"IF(C78=1,\"week\",\"weeks\")","v":"weeks"},{"$f":"IF(H78=1,RANDBETWEEN(1,6),(J78-INT(J78))*7)","v":6},"days","=",{"$f":"IF(Worksheet!$D$7=1,1,IF(Worksheet!$D$7=2,2,RANDBETWEEN(1,2)))","v":1},null,{"$f":"IF(H78=1,C78+E78/7,RANDBETWEEN(1,Worksheet!$D$6)+CHOOSE(Worksheet!$D$10,RANDBETWEEN(1,9)/10,RANDBETWEEN(1,99)/100,RANDBETWEEN(1,999)/1000,RANDBETWEEN(1,9999)/10000,RANDBETWEEN(1,99999)/100000))","v":15.857142857142858},"weeks"]
[{"$f":"IF(COUNTIF($B$1:B79,TRUE)=COUNTIF($B$1:B78,TRUE),\"\",COUNTIF($B$1:B79,TRUE))","v":""},{"$f":"Worksheet!$D$12","v":false},{"$f":"IF(H79=1,RANDBETWEEN(1,Worksheet!$D$6),INT(J79))","v":28},{"$f":"IF(C79=1,\"day\",\"days\")","v":"days"},{"$f":"IF(H79=1,RANDBETWEEN(1,23),(J79-INT(J79))*24)","v":21.599999999999966},"hours","=",{"$f":"IF(Worksheet!$D$7=1,1,IF(Worksheet!$D$7=2,2,RANDBETWEEN(1,2)))","v":2},null,{"$f":"IF(H79=1,C79+E79/24,RANDBETWEEN(1,Worksheet!$D$6)+CHOOSE(Worksheet!$D$10,RANDBETWEEN(1,9)/10,RANDBETWEEN(1,99)/100,RANDBETWEEN(1,999)/1000,RANDBETWEEN(1,9999)/10000,RANDBETWEEN(1,99999)/100000))","v":28.9},"days"]
[{"$f":"IF(COUNTIF($B$1:B80,TRUE)=COUNTIF($B$1:B79,TRUE),\"\",COUNTIF($B$1:B80,TRUE))","v":""},{"$f":"Worksheet!$D$13","v":false},{"$f":"IF(H80=1,RANDBETWEEN(1,Worksheet!$D$6),INT(J80))","v":12},{"$f":"IF(C80=1,\"year\",\"years\")","v":"years"},{"$f":"IF(H80=1,RANDBETWEEN(1,11),(J80-INT(J80))*12)","v":3.6000000000000085},"months","=",{"$f":"IF(Worksheet!$D$7=1,1,IF(Worksheet!$D$7=2,2,RANDBETWEEN(1,2)))","v":2},null,{"$f":"IF(H80=1,C80+E80/12,RANDBETWEEN(1,Worksheet!$D$6)+CHOOSE(Worksheet!$D$10,RANDBETWEEN(1,9)/10,RANDBETWEEN(1,99)/100,RANDBETWEEN(1,999)/1000,RANDBETWEEN(1,9999)/10000,RANDBETWEEN(1,99999)/100000))","v":12.3},"years"]
[{"$f":"COUNTIF($B$1:B81,TRUE)","v":33},{"$f":"Worksheet!$B$12","v":true},{"$f":"IF(H81=1,RANDBETWEEN(1,Worksheet!$D$6),INT(J81))","v":11},{"$f":"IF(C81=1,\"hour\",\"hours\")","v":"hours"},{"$f":"IF(H81=1,IF(Worksheet!$D$10=1,RANDBETWEEN(1,9)*6,IF(Worksheet!$D$10=2,RANDBETWEEN(1,19)*3,RANDBETWEEN(1,59))),(J81-INT(J81))*60)","v":35.999999999999979},"minutes","=",{"$f":"IF(Worksheet!$D$7=1,1,IF(Worksheet!$D$7=2,2,RANDBETWEEN(1,2)))","v":2},null,{"$f":"IF(H81=1,C81+E81/60,RANDBETWEEN(1,Worksheet!$D$6)+CHOOSE(Worksheet!$D$10,RANDBETWEEN(1,9)/10,RANDBETWEEN(1,99)/100,RANDBETWEEN(1,999)/1000,RANDBETWEEN(1,9999)/10000,RANDBETWEEN(1,99999)/100000))","v":11.6},"hours"]
[{"$f":"IF(COUNTIF($B$1:B82,TRUE)=COUNTIF($B$1:B81,TRUE),\"\",COUNTIF($B$1:B82,TRUE))","v":34},{"$f":"Worksheet!$B$13","v":true},{"$f":"IF(H82=1,RANDBETWEEN(1,Worksheet!$D$6),INT(J82))","v":3},{"$f":"IF(C82=1,\"minute\",\"minutes\")","v":"minutes"},{"$f":"IF(H82=1,IF(Worksheet!$D$10=1,RANDBETWEEN(1,9)*6,IF(Worksheet!$D$10=2,RANDBETWEEN(1,19)*3,RANDBETWEEN(1,59))),(J82-INT(J82))*60)","v":12},"seconds","=",{"$f":"IF(Worksheet!$D$7=1,1,IF(Worksheet!$D$7=2,2,RANDBETWEEN(1,2)))","v":1},null,{"$f":"IF(H82=1,C82+E82/60,RANDBETWEEN(1,Worksheet!$D$6)+CHOOSE(Worksheet!$D$10,RANDBETWEEN(1,9)/10,RANDBETWEEN(1,99)/100,RANDBETWEEN(1,999)/1000,RANDBETWEEN(1,9999)/10000,RANDBETWEEN(1,99999)/100000))","v":3.2},"minutes"]
[{"$f":"IF(COUNTIF($B$1:B83,TRUE)=COUNTIF($B$1:B82,TRUE),\"\",COUNTIF($B$1:B83,TRUE))","v":""},{"$f":"Worksheet!$B$14","v":false},{"$f":"IF(H83=1,RANDBETWEEN(1,Worksheet!$D$6),INT(J83))","v":26},{"$f":"IF(C83=1,\"week\",\"weeks\")","v":"weeks"},{"$f":"IF(H83=1,RANDBETWEEN(1,6),(J83-INT(J83))*7)","v":3.5},"days","=",{"$f":"IF(Worksheet!$D$7=1,1,IF(Worksheet!$D$7=2,2,RANDBETWEEN(1,2)))","v":2},null,{"$f":"IF(H83=1,C83+E83/7,RANDBETWEEN(1,Worksheet!$D$6)+CHOOSE(Worksheet!$D$10,RANDBETWEEN(1,9)/10,RANDBETWEEN(1,99)/100,RANDBETWEEN(1,999)/1000,RANDBETWEEN(1,9999)/10000,RANDBETWEEN(1,99999)/100000))","v":26.5},"weeks"]
[{"$f":"IF(COUNTIF($B$1:B84,TRUE)=COUNTIF($B$1:B83,TRUE),\"\",COUNTIF($B$1:B84,TRUE))","v":""},{"$f":"Worksheet!$D$12","v":false},{"$f":"IF(H84=1,RANDBETWEEN(1,Worksheet!$D$6),INT(J84))","v":24},{"$f":"IF(C84=1,\"day\",\"days\")","v":"days"},{"$f":"IF(H84=1,RANDBETWEEN(1,23),(J84-INT(J84))*24)","v":12},"hours","=",{"$f":"IF(Worksheet!$D$7=1,1,IF(Worksheet!$D$7=2,2,RANDBETWEEN(1,2)))","v":2},null,{"$f":"IF(H84=1,C84+E84/24,RANDBETWEEN(1,Worksheet!$D$6)+CHOOSE(Worksheet!$D$10,RANDBETWEEN(1,9)/10,RANDBETWEEN(1,99)/100,RANDBETWEEN(1,999)/1000,RANDBETWEEN(1,9999)/10000,RANDBETWEEN(1,99999)/100000))","v":24.5},"days"]
[{"$f":"IF(COUNTIF($B$1:B85,TRUE)=COUNTIF($B$1:B84,TRUE),\"\",COUNTIF($B$1:B85,TRUE))","v":""},{"$f":"Worksheet!$D$13","v":false},{"$f":"IF(H85=1,RANDBETWEEN(1,Worksheet!$D$6),INT(J85))","v":20},{"$f":"IF(C85=1,\"year\",\"years\")","v":"years"},{"$f":"IF(H85=1,RANDBETWEEN(1,11),(J85-INT(J85))*12)","v":9.6000000000000085},"months","=",{"$f":"IF(Worksheet!$D$7=1,1,IF(Worksheet!$D$7=2,2,RANDBETWEEN(1,2)))","v":2},null,{"$f":"IF(H85=1,C85+E85/12,RANDBETWEEN(1,Worksheet!$D$6)+CHOOSE(Worksheet!$D$10,RANDBETWEEN(1,9)/10,RANDBETWEEN(1,99)/100,RANDBETWEEN(1,999)/1000,RANDBETWEEN(1,9999)/10000,RANDBETWEEN(1,99999)/100000))","v":20.8},"years"]
[{"$f":"COUNTIF($B$1:B86,TRUE)","v":35},{"$f":"Worksheet!$B$12","v":true},{"$f":"IF(H86=1,RANDBETWEEN(1,Worksheet!$D$6),INT(J86))","v":11},{"$f":"IF(C86=1,\"hour\",\"hours\")","v":"hours"},{"$f":"IF(H86=1,IF(Worksheet!$D$10=1,RANDBETWEEN(1,9)*6,IF(Worksheet!$D$10=2,RANDBETWEEN(1,19)*3,RANDBETWEEN(1,59))),(J86-INT(J86))*60)","v":48},"minutes","=",{"$f":"IF(Worksheet!$D$7=1,1,IF(Worksheet!$D$7=2,2,RANDBETWEEN(1,2)))","v":1},null,{"$f":"IF(H86=1,C86+E86/60,RANDBETWEEN(1,Worksheet!$D$6)+CHOOSE(Worksheet!$D$10,RANDBETWEEN(1,9)/10,RANDBETWEEN(1,99)/100,RANDBETWEEN(1,999)/1000,RANDBETWEEN(1,9999)/10000,RANDBETWEEN(1,99999)/100000))","v":11.8},"hours"]
[{"$f":"IF(COUNTIF($B$1:B87,TRUE)=COUNTIF($B$1:B86,TRUE),\"\",COUNTIF($B$1:B87,TRUE))","v":36},{"$f":"Worksheet!$B$13","v":true},{"$f":"IF(H87=1,RANDBETWEEN(1,Worksheet!$D$6),INT(J87))","v":16},{"$f":"IF(C87=1,\"minute\",\"minutes\")","v":"minutes"},{"$f":"IF(H87=1,IF(Worksheet!$D$10=1,RANDBETWEEN(1,9)*6,IF(Worksheet!$D$10=2,RANDBETWEEN(1,19)*3,RANDBETWEEN(1,59))),(J87-INT(J87))*60)","v":36},"seconds","=",{"$f":"IF(Worksheet!$D$7=1,1,IF(Worksheet!$D$7=2,2,RANDBETWEEN(1,2)))","v":1},null,{"$f":"IF(H87=1,C87+E87/60,RANDBETWEEN(1,Worksheet!$D$6)+CHOOSE(Worksheet!$D$10,RANDBETWEEN(1,9)/10,RANDBETWEEN(1,99)/100,RANDBETWEEN(1,999)/1000,RANDBETWEEN(1,9999)/10000,RANDBETWEEN(1,99999)/100000))","v":16.600000000000001},"minutes"]
[{"$f":"IF(COUNTIF($B$1:B88,TRUE)=COUNTIF($B$1:B87,TRUE),\"\",COUNTIF($B$1:B88,TRUE))","v":""},{"$f":"Worksheet!$B$14","v":false},{"$f":"IF(H88=1,RANDBETWEEN(1,Worksheet!$D$6),INT(J88))","v":22},{"$f":"IF(C88=1,\"week\",\"weeks\")","v":"weeks"},{"$f":"IF(H88=1,RANDBETWEEN(1,6),(J88-INT(J88))*7)","v":2.7999999999999901},"days","=",{"$f":"IF(Worksheet!$D$7=1,1,IF(Worksheet!$D$7=2,2,RANDBETWEEN(1,2)))","v":2},null,{"$f":"IF(H88=1,C88+E88/7,RANDBETWEEN(1,Worksheet!$D$6)+CHOOSE(Worksheet!$D$10,RANDBETWEEN(1,9)/10,RANDBETWEEN(1,99)/100,RANDBETWEEN(1,999)/1000,RANDBETWEEN(1,9999)/10000,RANDBETWEEN(1,99999)/100000))","v":22.4},"weeks"]
[{"$f":"IF(COUNTIF($B$1:B89,TRUE)=COUNTIF($B$1:B88,TRUE),\"\",COUNTIF($B$1:B89,TRUE))","v":""},{"$f":"Worksheet!$D$12","v":false},{"$f":"IF(H89=1,RANDBETWEEN(1,Worksheet!$D$6),INT(J89))","v":27},{"$f":"IF(C89=1,\"day\",\"days\")","v":"days"},{"$f":"IF(H89=1,RANDBETWEEN(1,23),(J89-INT(J89))*24)","v":2.4000000000000341},"hours","=",{"$f":"IF(Worksheet!$D$7=1,1,IF(Worksheet!$D$7=2,2,RANDBETWEEN(1,2)))","v":2},null,{"$f":"IF(H89=1,C89+E89/24,RANDBETWEEN(1,Worksheet!$D$6)+CHOOSE(Worksheet!$D$10,RANDBETWEEN(1,9)/10,RANDBETWEEN(1,99)/100,RANDBETWEEN(1,999)/1000,RANDBETWEEN(1,9999)/10000,RANDBETWEEN(1,99999)/100000))","v":27.1},"days"]
[{"$f":"IF(COUNTIF($B$1:B90,TRUE)=COUNTIF($B$1:B89,TRUE),\"\",COUNTIF($B$1:B90,TRUE))","v":""},{"$f":"Worksheet!$D$13","v":false},{"$f":"IF(H90=1,RANDBETWEEN(1,Worksheet!$D$6),INT(J90))","v":2},{"$f":"IF(C90=1,\"year\",\"years\")","v":"years"},{"$f":"IF(H90=1,RANDBETWEEN(1,11),(J90-INT(J90))*12)","v":1},"months","=",{"$f":"IF(Worksheet!$D$7=1,1,IF(Worksheet!$D$7=2,2,RANDBETWEEN(1,2)))","v":1},null,{"$f":"IF(H90=1,C90+E90/12,RANDBETWEEN(1,Worksheet!$D$6)+CHOOSE(Worksheet!$D$10,RANDBETWEEN(1,9)/10,RANDBETWEEN(1,99)/100,RANDBETWEEN(1,999)/1000,RANDBETWEEN(1,9999)/10000,RANDBETWEEN(1,99999)/100000))","v":2.0833333333333335},"years"]
[{"$f":"COUNTIF($B$1:B91,TRUE)","v":37},{"$f":"Worksheet!$B$12","v":true},{"$f":"IF(H91=1,RANDBETWEEN(1,Worksheet!$D$6),INT(J91))","v":3},{"$f":"IF(C91=1,\"hour\",\"hours\")","v":"hours"},{"$f":"IF(H91=1,IF(Worksheet!$D$10=1,RANDBETWEEN(1,9)*6,IF(Worksheet!$D$10=2,RANDBETWEEN(1,19)*3,RANDBETWEEN(1,59))),(J91-INT(J91))*60)","v":36},"minutes","=",{"$f":"IF(Worksheet!$D$7=1,1,IF(Worksheet!$D$7=2,2,RANDBETWEEN(1,2)))","v":1},null,{"$f":"IF(H91=1,C91+E91/60,RANDBETWEEN(1,Worksheet!$D$6)+CHOOSE(Worksheet!$D$10,RANDBETWEEN(1,9)/10,RANDBETWEEN(1,99)/100,RANDBETWEEN(1,999)/1000,RANDBETWEEN(1,9999)/10000,RANDBETWEEN(1,99999)/100000))","v":3.6},"hours"]
[{"$f":"IF(COUNTIF($B$1:B92,TRUE)=COUNTIF($B$1:B91,TRUE),\"\",COUNTIF($B$1:B92,TRUE))","v":38},{"$f":"Worksheet!$B$13","v":true},{"$f":"IF(H92=1,RANDBETWEEN(1,Worksheet!$D$6),INT(J92))","v":19},{"$f":"IF(C92=1,\"minute\",\"minutes\")","v":"minutes"},{"$f":"IF(H92=1,IF(Worksheet!$D$10=1,RANDBETWEEN(1,9)*6,IF(Worksheet!$D$10=2,RANDBETWEEN(1,19)*3,RANDBETWEEN(1,59))),(J92-INT(J92))*60)","v":30},"seconds","=",{"$f":"IF(Worksheet!$D$7=1,1,IF(Worksheet!$D$7=2,2,RANDBETWEEN(1,2)))","v":1},null,{"$f":"IF(H92=1,C92+E92/60,RANDBETWEEN(1,Worksheet!$D$6)+CHOOSE(Worksheet!$D$10,RANDBETWEEN(1,9)/10,RANDBETWEEN(1,99)/100,RANDBETWEEN(1,999)/1000,RANDBETWEEN(1,9999)/10000,RANDBETWEEN(1,99999)/100000))","v":19.5},"minutes"]
[{"$f":"IF(COUNTIF($B$1:B93,TRUE)=COUNTIF($B$1:B92,TRUE),\"\",COUNTIF($B$1:B93,TRUE))","v":""},{"$f":"Worksheet!$B$14","v":false},{"$f":"IF(H93=1,RANDBETWEEN(1,Worksheet!$D$6),INT(J93))","v":18},{"$f":"IF(C93=1,\"week\",\"weeks\")","v":"weeks"},{"$f":"IF(H93=1,RANDBETWEEN(1,6),(J93-INT(J93))*7)","v":5},"days","=",{"$f":"IF(Worksheet!$D$7=1,1,IF(Worksheet!$D$7=2,2,RANDBETWEEN(1,2)))","v":1},null,{"$f":"IF(H93=1,C93+E93/7,RANDBETWEEN(1,Worksheet!$D$6)+CHOOSE(Worksheet!$D$10,RANDBETWEEN(1,9)/10,RANDBETWEEN(1,99)/100,RANDBETWEEN(1,999)/1000,RANDBETWEEN(1,9999)/10000,RANDBETWEEN(1,99999)/100000))","v":18.714285714285715},"weeks"]
[{"$f":"IF(COUNTIF($B$1:B94,TRUE)=COUNTIF($B$1:B93,TRUE),\"\",COUNTIF($B$1:B94,TRUE))","v":""},{"$f":"Worksheet!$D$12","v":false},{"$f":"IF(H94=1,RANDBETWEEN(1,Worksheet!$D$6),INT(J94))","v":2},{"$f":"IF(C94=1,\"day\",\"days\")","v":"days"},{"$f":"IF(H94=1,RANDBETWEEN(1,23),(J94-INT(J94))*24)","v":18},"hours","=",{"$f":"IF(Worksheet!$D$7=1,1,IF(Worksheet!$D$7=2,2,RANDBETWEEN(1,2)))","v":1},null,{"$f":"IF(H94=1,C94+E94/24,RANDBETWEEN(1,Worksheet!$D$6)+CHOOSE(Worksheet!$D$10,RANDBETWEEN(1,9)/10,RANDBETWEEN(1,99)/100,RANDBETWEEN(1,999)/1000,RANDBETWEEN(1,9999)/10000,RANDBETWEEN(1,99999)/100000))","v":2.75},"days"]
[{"$f":"IF(COUNTIF($B$1:B95,TRUE)=COUNTIF($B$1:B94,TRUE),\"\",COUNTIF($B$1:B95,TRUE))","v":""},{"$f":"Worksheet!$D$13","v":false},{"$f":"IF(H95=1,RANDBETWEEN(1,Worksheet!$D$6),INT(J95))","v":12},{"$f":"IF(C95=1,\"year\",\"years\")","v":"years"},{"$f":"IF(H95=1,RANDBETWEEN(1,11),(J95-INT(J95))*12)","v":3},"months","=",{"$f":"IF(Worksheet!$D$7=1,1,IF(Worksheet!$D$7=2,2,RANDBETWEEN(1,2)))","v":1},null,{"$f":"IF(H95=1,C95+E95/12,RANDBETWEEN(1,Worksheet!$D$6)+CHOOSE(Worksheet!$D$10,RANDBETWEEN(1,9)/10,RANDBETWEEN(1,99)/100,RANDBETWEEN(1,999)/1000,RANDBETWEEN(1,9999)/10000,RANDBETWEEN(1,99999)/100000))","v":12.25},{"$f":"D95","v":"years"}]
[{"$f":"COUNTIF($B$1:B96,TRUE)","v":39},{"$f":"Worksheet!$B$12","v":true},{"$f":"IF(H96=1,RANDBETWEEN(1,Worksheet!$D$6),INT(J96))","v":5},{"$f":"IF(C96=1,\"hour\",\"hours\")","v":"hours"},{"$f":"IF(H96=1,IF(Worksheet!$D$10=1,RANDBETWEEN(1,9)*6,IF(Worksheet!$D$10=2,RANDBETWEEN(1,19)*3,RANDBETWEEN(1,59))),(J96-INT(J96))*60)","v":12},"minutes","=",{"$f":"IF(Worksheet!$D$7=1,1,IF(Worksheet!$D$7=2,2,RANDBETWEEN(1,2)))","v":1},null,{"$f":"IF(H96=1,C96+E96/60,RANDBETWEEN(1,Worksheet!$D$6)+CHOOSE(Worksheet!$D$10,RANDBETWEEN(1,9)/10,RANDBETWEEN(1,99)/100,RANDBETWEEN(1,999)/1000,RANDBETWEEN(1,9999)/10000,RANDBETWEEN(1,99999)/100000))","v":5.2},"hours"]
[{"$f":"IF(COUNTIF($B$1:B97,TRUE)=COUNTIF($B$1:B96,TRUE),\"\",COUNTIF($B$1:B97,TRUE))","v":40},{"$f":"Worksheet!$B$13","v":true},{"$f":"IF(H97=1,RANDBETWEEN(1,Worksheet!$D$6),INT(J97))","v":14},{"$f":"IF(C97=1,\"minute\",\"minutes\")","v":"minutes"},{"$f":"IF(H97=1,IF(Worksheet!$D$10=1,RANDBETWEEN(1,9)*6,IF(Worksheet!$D$10=2,RANDBETWEEN(1,19)*3,RANDBETWEEN(1,59))),(J97-INT(J97))*60)","v":48.000000000000043},"seconds","=",{"$f":"IF(Worksheet!$D$7=1,1,IF(Worksheet!$D$7=2,2,RANDBETWEEN(1,2)))","v":2},null,{"$f":"IF(H97=1,C97+E97/60,RANDBETWEEN(1,Worksheet!$D$6)+CHOOSE(Worksheet!$D$10,RANDBETWEEN(1,9)/10,RANDBETWEEN(1,99)/100,RANDBETWEEN(1,999)/1000,RANDBETWEEN(1,9999)/10000,RANDBETWEEN(1,99999)/100000))","v":14.8},"minutes"]
[{"$f":"IF(COUNTIF($B$1:B98,TRUE)=COUNTIF($B$1:B97,TRUE),\"\",COUNTIF($B$1:B98,TRUE))","v":""},{"$f":"Worksheet!$B$14","v":false},{"$f":"IF(H98=1,RANDBETWEEN(1,Worksheet!$D$6),INT(J98))","v":6},{"$f":"IF(C98=1,\"week\",\"weeks\")","v":"weeks"},{"$f":"IF(H98=1,RANDBETWEEN(1,6),(J98-INT(J98))*7)","v":4.1999999999999975},"days","=",{"$f":"IF(Worksheet!$D$7=1,1,IF(Worksheet!$D$7=2,2,RANDBETWEEN(1,2)))","v":2},null,{"$f":"IF(H98=1,C98+E98/7,RANDBETWEEN(1,Worksheet!$D$6)+CHOOSE(Worksheet!$D$10,RANDBETWEEN(1,9)/10,RANDBETWEEN(1,99)/100,RANDBETWEEN(1,999)/1000,RANDBETWEEN(1,9999)/10000,RANDBETWEEN(1,99999)/100000))","v":6.6},"weeks"]
[{"$f":"IF(COUNTIF($B$1:B99,TRUE)=COUNTIF($B$1:B98,TRUE),\"\",COUNTIF($B$1:B99,TRUE))","v":""},{"$f":"Worksheet!$D$12","v":false},{"$f":"IF(H99=1,RANDBETWEEN(1,Worksheet!$D$6),INT(J99))","v":5},{"$f":"IF(C99=1,\"day\",\"days\")","v":"days"},{"$f":"IF(H99=1,RANDBETWEEN(1,23),(J99-INT(J99))*24)","v":9.6000000000000085},"hours","=",{"$f":"IF(Worksheet!$D$7=1,1,IF(Worksheet!$D$7=2,2,RANDBETWEEN(1,2)))","v":2},null,{"$f":"IF(H99=1,C99+E99/24,RANDBETWEEN(1,Worksheet!$D$6)+CHOOSE(Worksheet!$D$10,RANDBETWEEN(1,9)/10,RANDBETWEEN(1,99)/100,RANDBETWEEN(1,999)/1000,RANDBETWEEN(1,9999)/10000,RANDBETWEEN(1,99999)/100000))","v":5.4},"days"]
[{"$f":"IF(COUNTIF($B$1:B100,TRUE)=COUNTIF($B$1:B99,TRUE),\"\",COUNTIF($B$1:B100,TRUE))","v":""},{"$f":"Worksheet!$D$13","v":false},{"$f":"IF(H100=1,RANDBETWEEN(1,Worksheet!$D$6),INT(J100))","v":4},{"$f":"IF(C100=1,\"year\",\"years\")","v":"years"},{"$f":"IF(H100=1,RANDBETWEEN(1,11),(J100-INT(J100))*12)","v":3.5999999999999979},"months","=",{"$f":"IF(Worksheet!$D$7=1,1,IF(Worksheet!$D$7=2,2,RANDBETWEEN(1,2)))","v":2},null,{"$f":"IF(H100=1,C100+E100/12,RANDBETWEEN(1,Worksheet!$D$6)+CHOOSE(Worksheet!$D$10,RANDBETWEEN(1,9)/10,RANDBETWEEN(1,99)/100,RANDBETWEEN(1,999)/1000,RANDBETWEEN(1,9999)/10000,RANDBETWEEN(1,99999)/100000))","v":4.3},"years"]
[{"$f":"COUNTIF($B$1:B101,TRUE)","v":41},{"$f":"Worksheet!$B$12","v":true},{"$f":"IF(H101=1,RANDBETWEEN(1,Worksheet!$D$6),INT(J101))","v":3},{"$f":"IF(C101=1,\"hour\",\"hours\")","v":"hours"},{"$f":"IF(H101=1,IF(Worksheet!$D$10=1,RANDBETWEEN(1,9)*6,IF(Worksheet!$D$10=2,RANDBETWEEN(1,19)*3,RANDBETWEEN(1,59))),(J101-INT(J101))*60)","v":48},"minutes","=",{"$f":"IF(Worksheet!$D$7=1,1,IF(Worksheet!$D$7=2,2,RANDBETWEEN(1,2)))","v":1},null,{"$f":"IF(H101=1,C101+E101/60,RANDBETWEEN(1,Worksheet!$D$6)+CHOOSE(Worksheet!$D$10,RANDBETWEEN(1,9)/10,RANDBETWEEN(1,99)/100,RANDBETWEEN(1,999)/1000,RANDBETWEEN(1,9999)/10000,RANDBETWEEN(1,99999)/100000))","v":3.8},"hours"]
[{"$f":"IF(COUNTIF($B$1:B102,TRUE)=COUNTIF($B$1:B101,TRUE),\"\",COUNTIF($B$1:B102,TRUE))","v":42},{"$f":"Worksheet!$B$13","v":true},{"$f":"IF(H102=1,RANDBETWEEN(1,Worksheet!$D$6),INT(J102))","v":30},{"$f":"IF(C102=1,\"minute\",\"minutes\")","v":"minutes"},{"$f":"IF(H102=1,IF(Worksheet!$D$10=1,RANDBETWEEN(1,9)*6,IF(Worksheet!$D$10=2,RANDBETWEEN(1,19)*3,RANDBETWEEN(1,59))),(J102-INT(J102))*60)","v":18},"seconds","=",{"$f":"IF(Worksheet!$D$7=1,1,IF(Worksheet!$D$7=2,2,RANDBETWEEN(1,2)))","v":1},null,{"$f":"IF(H102=1,C102+E102/60,RANDBETWEEN(1,Worksheet!$D$6)+CHOOSE(Worksheet!$D$10,RANDBETWEEN(1,9)/10,RANDBETWEEN(1,99)/100,RANDBETWEEN(1,999)/1000,RANDBETWEEN(1,9999)/10000,RANDBETWEEN(1,99999)/100000))","v":30.3},"minutes"]
[{"$f":"IF(COUNTIF($B$1:B103,TRUE)=COUNTIF($B$1:B102,TRUE),\"\",COUNTIF($B$1:B103,TRUE))","v":""},{"$f":"Worksheet!$B$14","v":false},{"$f":"IF(H103=1,RANDBETWEEN(1,Worksheet!$D$6),INT(J103))","v":3},{"$f":"IF(C103=1,\"week\",\"weeks\")","v":"weeks"},{"$f":"IF(H103=1,RANDBETWEEN(1,6),(J103-INT(J103))*7)","v":4},"days","=",{"$f":"IF(Worksheet!$D$7=1,1,IF(Worksheet!$D$7=2,2,RANDBETWEEN(1,2)))","v":1},null,{"$f":"IF(H103=1,C103+E103/7,RANDBETWEEN(1,Worksheet!$D$6)+CHOOSE(Worksheet!$D$10,RANDBETWEEN(1,9)/10,RANDBETWEEN(1,99)/100,RANDBETWEEN(1,999)/1000,RANDBETWEEN(1,9999)/10000,RANDBETWEEN(1,99999)/100000))","v":3.5714285714285712},"weeks"]
[{"$f":"IF(COUNTIF($B$1:B104,TRUE)=COUNTIF($B$1:B103,TRUE),\"\",COUNTIF($B$1:B104,TRUE))","v":""},{"$f":"Worksheet!$D$12","v":false},{"$f":"IF(H104=1,RANDBETWEEN(1,Worksheet!$D$6),INT(J104))","v":13},{"$f":"IF(C104=1,\"day\",\"days\")","v":"days"},{"$f":"IF(H104=1,RANDBETWEEN(1,23),(J104-INT(J104))*24)","v":7.2000000000000171},"hours","=",{"$f":"IF(Worksheet!$D$7=1,1,IF(Worksheet!$D$7=2,2,RANDBETWEEN(1,2)))","v":2},null,{"$f":"IF(H104=1,C104+E104/24,RANDBETWEEN(1,Worksheet!$D$6)+CHOOSE(Worksheet!$D$10,RANDBETWEEN(1,9)/10,RANDBETWEEN(1,99)/100,RANDBETWEEN(1,999)/1000,RANDBETWEEN(1,9999)/10000,RANDBETWEEN(1,99999)/100000))","v":13.3},"days"]
[{"$f":"IF(COUNTIF($B$1:B105,TRUE)=COUNTIF($B$1:B104,TRUE),\"\",COUNTIF($B$1:B105,TRUE))","v":""},{"$f":"Worksheet!$D$13","v":false},{"$f":"IF(H105=1,RANDBETWEEN(1,Worksheet!$D$6),INT(J105))","v":24},{"$f":"IF(C105=1,\"year\",\"years\")","v":"years"},{"$f":"IF(H105=1,RANDBETWEEN(1,11),(J105-INT(J105))*12)","v":4},"months","=",{"$f":"IF(Worksheet!$D$7=1,1,IF(Worksheet!$D$7=2,2,RANDBETWEEN(1,2)))","v":1},null,{"$f":"IF(H105=1,C105+E105/12,RANDBETWEEN(1,Worksheet!$D$6)+CHOOSE(Worksheet!$D$10,RANDBETWEEN(1,9)/10,RANDBETWEEN(1,99)/100,RANDBETWEEN(1,999)/1000,RANDBETWEEN(1,9999)/10000,RANDBETWEEN(1,99999)/100000))","v":24.333333333333332},"years"]
[{"$f":"COUNTIF($B$1:B106,TRUE)","v":43},{"$f":"Worksheet!$B$12","v":true},{"$f":"IF(H106=1,RANDBETWEEN(1,Worksheet!$D$6),INT(J106))","v":13},{"$f":"IF(C106=1,\"hour\",\"hours\")","v":"hours"},{"$f":"IF(H106=1,IF(Worksheet!$D$10=1,RANDBETWEEN(1,9)*6,IF(Worksheet!$D$10=2,RANDBETWEEN(1,19)*3,RANDBETWEEN(1,59))),(J106-INT(J106))*60)","v":12},"minutes","=",{"$f":"IF(Worksheet!$D$7=1,1,IF(Worksheet!$D$7=2,2,RANDBETWEEN(1,2)))","v":1},null,{"$f":"IF(H106=1,C106+E106/60,RANDBETWEEN(1,Worksheet!$D$6)+CHOOSE(Worksheet!$D$10,RANDBETWEEN(1,9)/10,RANDBETWEEN(1,99)/100,RANDBETWEEN(1,999)/1000,RANDBETWEEN(1,9999)/10000,RANDBETWEEN(1,99999)/100000))","v":13.2},"hours"]
[{"$f":"IF(COUNTIF($B$1:B107,TRUE)=COUNTIF($B$1:B106,TRUE),\"\",COUNTIF($B$1:B107,TRUE))","v":44},{"$f":"Worksheet!$B$13","v":true},{"$f":"IF(H107=1,RANDBETWEEN(1,Worksheet!$D$6),INT(J107))","v":16},{"$f":"IF(C107=1,\"minute\",\"minutes\")","v":"minutes"},{"$f":"IF(H107=1,IF(Worksheet!$D$10=1,RANDBETWEEN(1,9)*6,IF(Worksheet!$D$10=2,RANDBETWEEN(1,19)*3,RANDBETWEEN(1,59))),(J107-INT(J107))*60)","v":48},"seconds","=",{"$f":"IF(Worksheet!$D$7=1,1,IF(Worksheet!$D$7=2,2,RANDBETWEEN(1,2)))","v":1},null,{"$f":"IF(H107=1,C107+E107/60,RANDBETWEEN(1,Worksheet!$D$6)+CHOOSE(Worksheet!$D$10,RANDBETWEEN(1,9)/10,RANDBETWEEN(1,99)/100,RANDBETWEEN(1,999)/1000,RANDBETWEEN(1,9999)/10000,RANDBETWEEN(1,99999)/100000))","v":16.8},"minutes"]
[{"$f":"IF(COUNTIF($B$1:B108,TRUE)=COUNTIF($B$1:B107,TRUE),\"\",COUNTIF($B$1:B108,TRUE))","v":""},{"$f":"Worksheet!$B$14","v":false},{"$f":"IF(H108=1,RANDBETWEEN(1,Worksheet!$D$6),INT(J108))","v":29},{"$f":"IF(C108=1,\"week\",\"weeks\")","v":"weeks"},{"$f":"IF(H108=1,RANDBETWEEN(1,6),(J108-INT(J108))*7)","v":6},"days","=",{"$f":"IF(Worksheet!$D$7=1,1,IF(Worksheet!$D$7=2,2,RANDBETWEEN(1,2)))","v":1},null,{"$f":"IF(H108=1,C108+E108/7,RANDBETWEEN(1,Worksheet!$D$6)+CHOOSE(Worksheet!$D$10,RANDBETWEEN(1,9)/10,RANDBETWEEN(1,99)/100,RANDBETWEEN(1,999)/1000,RANDBETWEEN(1,9999)/10000,RANDBETWEEN(1,99999)/100000))","v":29.857142857142858},"weeks"]
[{"$f":"IF(COUNTIF($B$1:B109,TRUE)=COUNTIF($B$1:B108,TRUE),\"\",COUNTIF($B$1:B109,TRUE))","v":""},{"$f":"Worksheet!$D$12","v":false},{"$f":"IF(H109=1,RANDBETWEEN(1,Worksheet!$D$6),INT(J109))","v":25},{"$f":"IF(C109=1,\"day\",\"days\")","v":"days"},{"$f":"IF(H109=1,RANDBETWEEN(1,23),(J109-INT(J109))*24)","v":15},"hours","=",{"$f":"IF(Worksheet!$D$7=1,1,IF(Worksheet!$D$7=2,2,RANDBETWEEN(1,2)))","v":1},null,{"$f":"IF(H109=1,C109+E109/24,RANDBETWEEN(1,Worksheet!$D$6)+CHOOSE(Worksheet!$D$10,RANDBETWEEN(1,9)/10,RANDBETWEEN(1,99)/100,RANDBETWEEN(1,999)/1000,RANDBETWEEN(1,9999)/10000,RANDBETWEEN(1,99999)/100000))","v":25.625},"days"]
[{"$f":"IF(COUNTIF($B$1:B110,TRUE)=COUNTIF($B$1:B109,TRUE),\"\",COUNTIF($B$1:B110,TRUE))","v":""},{"$f":"Worksheet!$D$13","v":false},{"$f":"IF(H110=1,RANDBETWEEN(1,Worksheet!$D$6),INT(J110))","v":15},{"$f":"IF(C110=1,\"year\",\"years\")","v":"years"},{"$f":"IF(H110=1,RANDBETWEEN(1,11),(J110-INT(J110))*12)","v":2},"months","=",{"$f":"IF(Worksheet!$D$7=1,1,IF(Worksheet!$D$7=2,2,RANDBETWEEN(1,2)))","v":1},null,{"$f":"IF(H110=1,C110+E110/12,RANDBETWEEN(1,Worksheet!$D$6)+CHOOSE(Worksheet!$D$10,RANDBETWEEN(1,9)/10,RANDBETWEEN(1,99)/100,RANDBETWEEN(1,999)/1000,RANDBETWEEN(1,9999)/10000,RANDBETWEEN(1,99999)/100000))","v":15.166666666666666},"years"]
[{"$f":"COUNTIF($B$1:B111,TRUE)","v":45},{"$f":"Worksheet!$B$12","v":true},{"$f":"IF(H111=1,RANDBETWEEN(1,Worksheet!$D$6),INT(J111))","v":3},{"$f":"IF(C111=1,\"hour\",\"hours\")","v":"hours"},{"$f":"IF(H111=1,IF(Worksheet!$D$10=1,RANDBETWEEN(1,9)*6,IF(Worksheet!$D$10=2,RANDBETWEEN(1,19)*3,RANDBETWEEN(1,59))),(J111-INT(J111))*60)","v":30},"minutes","=",{"$f":"IF(Worksheet!$D$7=1,1,IF(Worksheet!$D$7=2,2,RANDBETWEEN(1,2)))","v":2},null,{"$f":"IF(H111=1,C111+E111/60,RANDBETWEEN(1,Worksheet!$D$6)+CHOOSE(Worksheet!$D$10,RANDBETWEEN(1,9)/10,RANDBETWEEN(1,99)/100,RANDBETWEEN(1,999)/1000,RANDBETWEEN(1,9999)/10000,RANDBETWEEN(1,99999)/100000))","v":3.5},"hours"]
[{"$f":"IF(COUNTIF($B$1:B112,TRUE)=COUNTIF($B$1:B111,TRUE),\"\",COUNTIF($B$1:B112,TRUE))","v":46},{"$f":"Worksheet!$B$13","v":true},{"$f":"IF(H112=1,RANDBETWEEN(1,Worksheet!$D$6),INT(J112))","v":6},{"$f":"IF(C112=1,\"minute\",\"minutes\")","v":"minutes"},{"$f":"IF(H112=1,IF(Worksheet!$D$10=1,RANDBETWEEN(1,9)*6,IF(Worksheet!$D$10=2,RANDBETWEEN(1,19)*3,RANDBETWEEN(1,59))),(J112-INT(J112))*60)","v":30},"seconds","=",{"$f":"IF(Worksheet!$D$7=1,1,IF(Worksheet!$D$7=2,2,RANDBETWEEN(1,2)))","v":1},null,{"$f":"IF(H112=1,C112+E112/60,RANDBETWEEN(1,Worksheet!$D$6)+CHOOSE(Worksheet!$D$10,RANDBETWEEN(1,9)/10,RANDBETWEEN(1,99)/100,RANDBETWEEN(1,999)/1000,RANDBETWEEN(1,9999)/10000,RANDBETWEEN(1,99999)/100000))","v":6.5},"minutes"]
[{"$f":"IF(COUNTIF($B$1:B113,TRUE)=COUNTIF($B$1:B112,TRUE),\"\",COUNTIF($B$1:B113,TRUE))","v":""},{"$f":"Worksheet!$B$14","v":false},{"$f":"IF(H113=1,RANDBETWEEN(1,Worksheet!$D$6),INT(J113))","v":10},{"$f":"IF(C113=1,\"week\",\"weeks\")","v":"weeks"},{"$f":"IF(H113=1,RANDBETWEEN(1,6),(J113-INT(J113))*7)","v":6.3000000000000025},"days","=",{"$f":"IF(Worksheet!$D$7=1,1,IF(Worksheet!$D$7=2,2,RANDBETWEEN(1,2)))","v":2},null,{"$f":"IF(H113=1,C113+E113/7,RANDBETWEEN(1,Worksheet!$D$6)+CHOOSE(Worksheet!$D$10,RANDBETWEEN(1,9)/10,RANDBETWEEN(1,99)/100,RANDBETWEEN(1,999)/1000,RANDBETWEEN(1,9999)/10000,RANDBETWEEN(1,99999)/100000))","v":10.9},"weeks"]
[{"$f":"IF(COUNTIF($B$1:B114,TRUE)=COUNTIF($B$1:B113,TRUE),\"\",COUNTIF($B$1:B114,TRUE))","v":""},{"$f":"Worksheet!$D$12","v":false},{"$f":"IF(H114=1,RANDBETWEEN(1,Worksheet!$D$6),INT(J114))","v":9},{"$f":"IF(C114=1,\"day\",\"days\")","v":"days"},{"$f":"IF(H114=1,RANDBETWEEN(1,23),(J114-INT(J114))*24)","v":16.799999999999983},"hours","=",{"$f":"IF(Worksheet!$D$7=1,1,IF(Worksheet!$D$7=2,2,RANDBETWEEN(1,2)))","v":2},null,{"$f":"IF(H114=1,C114+E114/24,RANDBETWEEN(1,Worksheet!$D$6)+CHOOSE(Worksheet!$D$10,RANDBETWEEN(1,9)/10,RANDBETWEEN(1,99)/100,RANDBETWEEN(1,999)/1000,RANDBETWEEN(1,9999)/10000,RANDBETWEEN(1,99999)/100000))","v":9.6999999999999993},"days"]
[{"$f":"IF(COUNTIF($B$1:B115,TRUE)=COUNTIF($B$1:B114,TRUE),\"\",COUNTIF($B$1:B115,TRUE))","v":""},{"$f":"Worksheet!$D$13","v":false},{"$f":"IF(H115=1,RANDBETWEEN(1,Worksheet!$D$6),INT(J115))","v":3},{"$f":"IF(C115=1,\"year\",\"years\")","v":"years"},{"$f":"IF(H115=1,RANDBETWEEN(1,11),(J115-INT(J115))*12)","v":2.4000000000000021},"months","=",{"$f":"IF(Worksheet!$D$7=1,1,IF(Worksheet!$D$7=2,2,RANDBETWEEN(1,2)))","v":2},null,{"$f":"IF(H115=1,C115+E115/12,RANDBETWEEN(1,Worksheet!$D$6)+CHOOSE(Worksheet!$D$10,RANDBETWEEN(1,9)/10,RANDBETWEEN(1,99)/100,RANDBETWEEN(1,999)/1000,RANDBETWEEN(1,9999)/10000,RANDBETWEEN(1,99999)/100000))","v":3.2},"years"]
[{"$f":"COUNTIF($B$1:B116,TRUE)","v":47},{"$f":"Worksheet!$B$12","v":true},{"$f":"IF(H116=1,RANDBETWEEN(1,Worksheet!$D$6),INT(J116))","v":19},{"$f":"IF(C116=1,\"hour\",\"hours\")","v":"hours"},{"$f":"IF(H116=1,IF(Worksheet!$D$10=1,RANDBETWEEN(1,9)*6,IF(Worksheet!$D$10=2,RANDBETWEEN(1,19)*3,RANDBETWEEN(1,59))),(J116-INT(J116))*60)","v":6.0000000000000853},"minutes","=",{"$f":"IF(Worksheet!$D$7=1,1,IF(Worksheet!$D$7=2,2,RANDBETWEEN(1,2)))","v":2},null,{"$f":"IF(H116=1,C116+E116/60,RANDBETWEEN(1,Worksheet!$D$6)+CHOOSE(Worksheet!$D$10,RANDBETWEEN(1,9)/10,RANDBETWEEN(1,99)/100,RANDBETWEEN(1,999)/1000,RANDBETWEEN(1,9999)/10000,RANDBETWEEN(1,99999)/100000))","v":19.100000000000001},"hours"]
[{"$f":"IF(COUNTIF($B$1:B117,TRUE)=COUNTIF($B$1:B116,TRUE),\"\",COUNTIF($B$1:B117,TRUE))","v":48},{"$f":"Worksheet!$B$13","v":true},{"$f":"IF(H117=1,RANDBETWEEN(1,Worksheet!$D$6),INT(J117))","v":15},{"$f":"IF(C117=1,\"minute\",\"minutes\")","v":"minutes"},{"$f":"IF(H117=1,IF(Worksheet!$D$10=1,RANDBETWEEN(1,9)*6,IF(Worksheet!$D$10=2,RANDBETWEEN(1,19)*3,RANDBETWEEN(1,59))),(J117-INT(J117))*60)","v":18.000000000000043},"seconds","=",{"$f":"IF(Worksheet!$D$7=1,1,IF(Worksheet!$D$7=2,2,RANDBETWEEN(1,2)))","v":2},null,{"$f":"IF(H117=1,C117+E117/60,RANDBETWEEN(1,Worksheet!$D$6)+CHOOSE(Worksheet!$D$10,RANDBETWEEN(1,9)/10,RANDBETWEEN(1,99)/100,RANDBETWEEN(1,999)/1000,RANDBETWEEN(1,9999)/10000,RANDBETWEEN(1,99999)/100000))","v":15.3},"minutes"]
[{"$f":"IF(COUNTIF($B$1:B118,TRUE)=COUNTIF($B$1:B117,TRUE),\"\",COUNTIF($B$1:B118,TRUE))","v":""},{"$f":"Worksheet!$B$14","v":false},{"$f":"IF(H118=1,RANDBETWEEN(1,Worksheet!$D$6),INT(J118))","v":18},{"$f":"IF(C118=1,\"week\",\"weeks\")","v":"weeks"},{"$f":"IF(H118=1,RANDBETWEEN(1,6),(J118-INT(J118))*7)","v":5},"days","=",{"$f":"IF(Worksheet!$D$7=1,1,IF(Worksheet!$D$7=2,2,RANDBETWEEN(1,2)))","v":1},null,{"$f":"IF(H118=1,C118+E118/7,RANDBETWEEN(1,Worksheet!$D$6)+CHOOSE(Worksheet!$D$10,RANDBETWEEN(1,9)/10,RANDBETWEEN(1,99)/100,RANDBETWEEN(1,999)/1000,RANDBETWEEN(1,9999)/10000,RANDBETWEEN(1,99999)/100000))","v":18.714285714285715},"weeks"]
[{"$f":"IF(COUNTIF($B$1:B119,TRUE)=COUNTIF($B$1:B118,TRUE),\"\",COUNTIF($B$1:B119,TRUE))","v":""},{"$f":"Worksheet!$D$12","v":false},{"$f":"IF(H119=1,RANDBETWEEN(1,Worksheet!$D$6),INT(J119))","v":15},{"$f":"IF(C119=1,\"day\",\"days\")","v":"days"},{"$f":"IF(H119=1,RANDBETWEEN(1,23),(J119-INT(J119))*24)","v":4.7999999999999829},"hours","=",{"$f":"IF(Worksheet!$D$7=1,1,IF(Worksheet!$D$7=2,2,RANDBETWEEN(1,2)))","v":2},null,{"$f":"IF(H119=1,C119+E119/24,RANDBETWEEN(1,Worksheet!$D$6)+CHOOSE(Worksheet!$D$10,RANDBETWEEN(1,9)/10,RANDBETWEEN(1,99)/100,RANDBETWEEN(1,999)/1000,RANDBETWEEN(1,9999)/10000,RANDBETWEEN(1,99999)/100000))","v":15.2},"days"]
[{"$f":"IF(COUNTIF($B$1:B120,TRUE)=COUNTIF($B$1:B119,TRUE),\"\",COUNTIF($B$1:B120,TRUE))","v":""},{"$f":"Worksheet!$D$13","v":false},{"$f":"IF(H120=1,RANDBETWEEN(1,Worksheet!$D$6),INT(J120))","v":11},{"$f":"IF(C120=1,\"year\",\"years\")","v":"years"},{"$f":"IF(H120=1,RANDBETWEEN(1,11),(J120-INT(J120))*12)","v":8},"months","=",{"$f":"IF(Worksheet!$D$7=1,1,IF(Worksheet!$D$7=2,2,RANDBETWEEN(1,2)))","v":1},null,{"$f":"IF(H120=1,C120+E120/12,RANDBETWEEN(1,Worksheet!$D$6)+CHOOSE(Worksheet!$D$10,RANDBETWEEN(1,9)/10,RANDBETWEEN(1,99)/100,RANDBETWEEN(1,999)/1000,RANDBETWEEN(1,9999)/10000,RANDBETWEEN(1,99999)/100000))","v":11.666666666666666},"years"]
[{"$f":"COUNTIF($B$1:B121,TRUE)","v":49},{"$f":"Worksheet!$B$12","v":true},{"$f":"IF(H121=1,RANDBETWEEN(1,Worksheet!$D$6),INT(J121))","v":29},{"$f":"IF(C121=1,\"hour\",\"hours\")","v":"hours"},{"$f":"IF(H121=1,IF(Worksheet!$D$10=1,RANDBETWEEN(1,9)*6,IF(Worksheet!$D$10=2,RANDBETWEEN(1,19)*3,RANDBETWEEN(1,59))),(J121-INT(J121))*60)","v":12},"minutes","=",{"$f":"IF(Worksheet!$D$7=1,1,IF(Worksheet!$D$7=2,2,RANDBETWEEN(1,2)))","v":1},null,{"$f":"IF(H121=1,C121+E121/60,RANDBETWEEN(1,Worksheet!$D$6)+CHOOSE(Worksheet!$D$10,RANDBETWEEN(1,9)/10,RANDBETWEEN(1,99)/100,RANDBETWEEN(1,999)/1000,RANDBETWEEN(1,9999)/10000,RANDBETWEEN(1,99999)/100000))","v":29.2},"hours"]
[{"$f":"IF(COUNTIF($B$1:B122,TRUE)=COUNTIF($B$1:B121,TRUE),\"\",COUNTIF($B$1:B122,TRUE))","v":50},{"$f":"Worksheet!$B$13","v":true},{"$f":"IF(H122=1,RANDBETWEEN(1,Worksheet!$D$6),INT(J122))","v":17},{"$f":"IF(C122=1,\"minute\",\"minutes\")","v":"minutes"},{"$f":"IF(H122=1,IF(Worksheet!$D$10=1,RANDBETWEEN(1,9)*6,IF(Worksheet!$D$10=2,RANDBETWEEN(1,19)*3,RANDBETWEEN(1,59))),(J122-INT(J122))*60)","v":36.000000000000085},"seconds","=",{"$f":"IF(Worksheet!$D$7=1,1,IF(Worksheet!$D$7=2,2,RANDBETWEEN(1,2)))","v":2},null,{"$f":"IF(H122=1,C122+E122/60,RANDBETWEEN(1,Worksheet!$D$6)+CHOOSE(Worksheet!$D$10,RANDBETWEEN(1,9)/10,RANDBETWEEN(1,99)/100,RANDBETWEEN(1,999)/1000,RANDBETWEEN(1,9999)/10000,RANDBETWEEN(1,99999)/100000))","v":17.600000000000001},"minutes"]
[{"$f":"IF(COUNTIF($B$1:B123,TRUE)=COUNTIF($B$1:B122,TRUE),\"\",COUNTIF($B$1:B123,TRUE))","v":""},{"$f":"Worksheet!$B$14","v":false},{"$f":"IF(H123=1,RANDBETWEEN(1,Worksheet!$D$6),INT(J123))","v":3},{"$f":"IF(C123=1,\"week\",\"weeks\")","v":"weeks"},{"$f":"IF(H123=1,RANDBETWEEN(1,6),(J123-INT(J123))*7)","v":3.5},"days","=",{"$f":"IF(Worksheet!$D$7=1,1,IF(Worksheet!$D$7=2,2,RANDBETWEEN(1,2)))","v":2},null,{"$f":"IF(H123=1,C123+E123/7,RANDBETWEEN(1,Worksheet!$D$6)+CHOOSE(Worksheet!$D$10,RANDBETWEEN(1,9)/10,RANDBETWEEN(1,99)/100,RANDBETWEEN(1,999)/1000,RANDBETWEEN(1,9999)/10000,RANDBETWEEN(1,99999)/100000))","v":3.5},"weeks"]
[{"$f":"IF(COUNTIF($B$1:B124,TRUE)=COUNTIF($B$1:B123,TRUE),\"\",COUNTIF($B$1:B124,TRUE))","v":""},{"$f":"Worksheet!$D$12","v":false},{"$f":"IF(H124=1,RANDBETWEEN(1,Worksheet!$D$6),INT(J124))","v":5},{"$f":"IF(C124=1,\"day\",\"days\")","v":"days"},{"$f":"IF(H124=1,RANDBETWEEN(1,23),(J124-INT(J124))*24)","v":22},"hours","=",{"$f":"IF(Worksheet!$D$7=1,1,IF(Worksheet!$D$7=2,2,RANDBETWEEN(1,2)))","v":1},null,{"$f":"IF(H124=1,C124+E124/24,RANDBETWEEN(1,Worksheet!$D$6)+CHOOSE(Worksheet!$D$10,RANDBETWEEN(1,9)/10,RANDBETWEEN(1,99)/100,RANDBETWEEN(1,999)/1000,RANDBETWEEN(1,9999)/10000,RANDBETWEEN(1,99999)/100000))","v":5.916666666666667},"days"]
[{"$f":"IF(COUNTIF($B$1:B125,TRUE)=COUNTIF($B$1:B124,TRUE),\"\",COUNTIF($B$1:B125,TRUE))","v":""},{"$f":"Worksheet!$D$13","v":false},{"$f":"IF(H125=1,RANDBETWEEN(1,Worksheet!$D$6),INT(J125))","v":20},{"$f":"IF(C125=1,\"year\",\"years\")","v":"years"},{"$f":"IF(H125=1,RANDBETWEEN(1,11),(J125-INT(J125))*12)","v":9.6000000000000085},"months","=",{"$f":"IF(Worksheet!$D$7=1,1,IF(Worksheet!$D$7=2,2,RANDBETWEEN(1,2)))","v":2},null,{"$f":"IF(H125=1,C125+E125/12,RANDBETWEEN(1,Worksheet!$D$6)+CHOOSE(Worksheet!$D$10,RANDBETWEEN(1,9)/10,RANDBETWEEN(1,99)/100,RANDBETWEEN(1,999)/1000,RANDBETWEEN(1,9999)/10000,RANDBETWEEN(1,99999)/100000))","v":20.8},"years"]
[{"$f":"COUNTIF($B$1:B126,TRUE)","v":51},{"$f":"Worksheet!$B$12","v":true},{"$f":"IF(H126=1,RANDBETWEEN(1,Worksheet!$D$6),INT(J126))","v":12},{"$f":"IF(C126=1,\"hour\",\"hours\")","v":"hours"},{"$f":"IF(H126=1,IF(Worksheet!$D$10=1,RANDBETWEEN(1,9)*6,IF(Worksheet!$D$10=2,RANDBETWEEN(1,19)*3,RANDBETWEEN(1,59))),(J126-INT(J126))*60)","v":18},"minutes","=",{"$f":"IF(Worksheet!$D$7=1,1,IF(Worksheet!$D$7=2,2,RANDBETWEEN(1,2)))","v":1},null,{"$f":"IF(H126=1,C126+E126/60,RANDBETWEEN(1,Worksheet!$D$6)+CHOOSE(Worksheet!$D$10,RANDBETWEEN(1,9)/10,RANDBETWEEN(1,99)/100,RANDBETWEEN(1,999)/1000,RANDBETWEEN(1,9999)/10000,RANDBETWEEN(1,99999)/100000))","v":12.3},"hours"]
[{"$f":"IF(COUNTIF($B$1:B127,TRUE)=COUNTIF($B$1:B126,TRUE),\"\",COUNTIF($B$1:B127,TRUE))","v":52},{"$f":"Worksheet!$B$13","v":true},{"$f":"IF(H127=1,RANDBETWEEN(1,Worksheet!$D$6),INT(J127))","v":18},{"$f":"IF(C127=1,\"minute\",\"minutes\")","v":"minutes"},{"$f":"IF(H127=1,IF(Worksheet!$D$10=1,RANDBETWEEN(1,9)*6,IF(Worksheet!$D$10=2,RANDBETWEEN(1,19)*3,RANDBETWEEN(1,59))),(J127-INT(J127))*60)","v":54},"seconds","=",{"$f":"IF(Worksheet!$D$7=1,1,IF(Worksheet!$D$7=2,2,RANDBETWEEN(1,2)))","v":1},null,{"$f":"IF(H127=1,C127+E127/60,RANDBETWEEN(1,Worksheet!$D$6)+CHOOSE(Worksheet!$D$10,RANDBETWEEN(1,9)/10,RANDBETWEEN(1,99)/100,RANDBETWEEN(1,999)/1000,RANDBETWEEN(1,9999)/10000,RANDBETWEEN(1,99999)/100000))","v":18.899999999999999},"minutes"]
[{"$f":"IF(COUNTIF($B$1:B128,TRUE)=COUNTIF($B$1:B127,TRUE),\"\",COUNTIF($B$1:B128,TRUE))","v":""},{"$f":"Worksheet!$B$14","v":false},{"$f":"IF(H128=1,RANDBETWEEN(1,Worksheet!$D$6),INT(J128))","v":25},{"$f":"IF(C128=1,\"week\",\"weeks\")","v":"weeks"},{"$f":"IF(H128=1,RANDBETWEEN(1,6),(J128-INT(J128))*7)","v":5},"days","=",{"$f":"IF(Worksheet!$D$7=1,1,IF(Worksheet!$D$7=2,2,RANDBETWEEN(1,2)))","v":1},null,{"$f":"IF(H128=1,C128+E128/7,RANDBETWEEN(1,Worksheet!$D$6)+CHOOSE(Worksheet!$D$10,RANDBETWEEN(1,9)/10,RANDBETWEEN(1,99)/100,RANDBETWEEN(1,999)/1000,RANDBETWEEN(1,9999)/10000,RANDBETWEEN(1,99999)/100000))","v":25.714285714285715},"weeks"]
[{"$f":"IF(COUNTIF($B$1:B129,TRUE)=COUNTIF($B$1:B128,TRUE),\"\",COUNTIF($B$1:B129,TRUE))","v":""},{"$f":"Worksheet!$D$12","v":false},{"$f":"IF(H129=1,RANDBETWEEN(1,Worksheet!$D$6),INT(J129))","v":5},{"$f":"IF(C129=1,\"day\",\"days\")","v":"days"},{"$f":"IF(H129=1,RANDBETWEEN(1,23),(J129-INT(J129))*24)","v":9.6000000000000085},"hours","=",{"$f":"IF(Worksheet!$D$7=1,1,IF(Worksheet!$D$7=2,2,RANDBETWEEN(1,2)))","v":2},null,{"$f":"IF(H129=1,C129+E129/24,RANDBETWEEN(1,Worksheet!$D$6)+CHOOSE(Worksheet!$D$10,RANDBETWEEN(1,9)/10,RANDBETWEEN(1,99)/100,RANDBETWEEN(1,999)/1000,RANDBETWEEN(1,9999)/10000,RANDBETWEEN(1,99999)/100000))","v":5.4},"days"]
[{"$f":"IF(COUNTIF($B$1:B130,TRUE)=COUNTIF($B$1:B129,TRUE),\"\",COUNTIF($B$1:B130,TRUE))","v":""},{"$f":"Worksheet!$D$13","v":false},{"$f":"IF(H130=1,RANDBETWEEN(1,Worksheet!$D$6),INT(J130))","v":26},{"$f":"IF(C130=1,\"year\",\"years\")","v":"years"},{"$f":"IF(H130=1,RANDBETWEEN(1,11),(J130-INT(J130))*12)","v":5},"months","=",{"$f":"IF(Worksheet!$D$7=1,1,IF(Worksheet!$D$7=2,2,RANDBETWEEN(1,2)))","v":1},null,{"$f":"IF(H130=1,C130+E130/12,RANDBETWEEN(1,Worksheet!$D$6)+CHOOSE(Worksheet!$D$10,RANDBETWEEN(1,9)/10,RANDBETWEEN(1,99)/100,RANDBETWEEN(1,999)/1000,RANDBETWEEN(1,9999)/10000,RANDBETWEEN(1,99999)/100000))","v":26.416666666666668},"years"]
[{"$f":"COUNTIF($B$1:B131,TRUE)","v":53},{"$f":"Worksheet!$B$12","v":true},{"$f":"IF(H131=1,RANDBETWEEN(1,Worksheet!$D$6),INT(J131))","v":30},{"$f":"IF(C131=1,\"hour\",\"hours\")","v":"hours"},{"$f":"IF(H131=1,IF(Worksheet!$D$10=1,RANDBETWEEN(1,9)*6,IF(Worksheet!$D$10=2,RANDBETWEEN(1,19)*3,RANDBETWEEN(1,59))),(J131-INT(J131))*60)","v":36},"minutes","=",{"$f":"IF(Worksheet!$D$7=1,1,IF(Worksheet!$D$7=2,2,RANDBETWEEN(1,2)))","v":1},null,{"$f":"IF(H131=1,C131+E131/60,RANDBETWEEN(1,Worksheet!$D$6)+CHOOSE(Worksheet!$D$10,RANDBETWEEN(1,9)/10,RANDBETWEEN(1,99)/100,RANDBETWEEN(1,999)/1000,RANDBETWEEN(1,9999)/10000,RANDBETWEEN(1,99999)/100000))","v":30.6},"hours"]
[{"$f":"IF(COUNTIF($B$1:B132,TRUE)=COUNTIF($B$1:B131,TRUE),\"\",COUNTIF($B$1:B132,TRUE))","v":54},{"$f":"Worksheet!$B$13","v":true},{"$f":"IF(H132=1,RANDBETWEEN(1,Worksheet!$D$6),INT(J132))","v":28},{"$f":"IF(C132=1,\"minute\",\"minutes\")","v":"minutes"},{"$f":"IF(H132=1,IF(Worksheet!$D$10=1,RANDBETWEEN(1,9)*6,IF(Worksheet!$D$10=2,RANDBETWEEN(1,19)*3,RANDBETWEEN(1,59))),(J132-INT(J132))*60)","v":36.000000000000085},"seconds","=",{"$f":"IF(Worksheet!$D$7=1,1,IF(Worksheet!$D$7=2,2,RANDBETWEEN(1,2)))","v":2},null,{"$f":"IF(H132=1,C132+E132/60,RANDBETWEEN(1,Worksheet!$D$6)+CHOOSE(Worksheet!$D$10,RANDBETWEEN(1,9)/10,RANDBETWEEN(1,99)/100,RANDBETWEEN(1,999)/1000,RANDBETWEEN(1,9999)/10000,RANDBETWEEN(1,99999)/100000))","v":28.6},"minutes"]
[{"$f":"IF(COUNTIF($B$1:B133,TRUE)=COUNTIF($B$1:B132,TRUE),\"\",COUNTIF($B$1:B133,TRUE))","v":""},{"$f":"Worksheet!$B$14","v":false},{"$f":"IF(H133=1,RANDBETWEEN(1,Worksheet!$D$6),INT(J133))","v":25},{"$f":"IF(C133=1,\"week\",\"weeks\")","v":"weeks"},{"$f":"IF(H133=1,RANDBETWEEN(1,6),(J133-INT(J133))*7)","v":2.100000000000005},"days","=",{"$f":"IF(Worksheet!$D$7=1,1,IF(Worksheet!$D$7=2,2,RANDBETWEEN(1,2)))","v":2},null,{"$f":"IF(H133=1,C133+E133/7,RANDBETWEEN(1,Worksheet!$D$6)+CHOOSE(Worksheet!$D$10,RANDBETWEEN(1,9)/10,RANDBETWEEN(1,99)/100,RANDBETWEEN(1,999)/1000,RANDBETWEEN(1,9999)/10000,RANDBETWEEN(1,99999)/100000))","v":25.3},"weeks"]
[{"$f":"IF(COUNTIF($B$1:B134,TRUE)=COUNTIF($B$1:B133,TRUE),\"\",COUNTIF($B$1:B134,TRUE))","v":""},{"$f":"Worksheet!$D$12","v":false},{"$f":"IF(H134=1,RANDBETWEEN(1,Worksheet!$D$6),INT(J134))","v":19},{"$f":"IF(C134=1,\"day\",\"days\")","v":"days"},{"$f":"IF(H134=1,RANDBETWEEN(1,23),(J134-INT(J134))*24)","v":2.4000000000000341},"hours","=",{"$f":"IF(Worksheet!$D$7=1,1,IF(Worksheet!$D$7=2,2,RANDBETWEEN(1,2)))","v":2},null,{"$f":"IF(H134=1,C134+E134/24,RANDBETWEEN(1,Worksheet!$D$6)+CHOOSE(Worksheet!$D$10,RANDBETWEEN(1,9)/10,RANDBETWEEN(1,99)/100,RANDBETWEEN(1,999)/1000,RANDBETWEEN(1,9999)/10000,RANDBETWEEN(1,99999)/100000))","v":19.100000000000001},"days"]
[{"$f":"IF(COUNTIF($B$1:B135,TRUE)=COUNTIF($B$1:B134,TRUE),\"\",COUNTIF($B$1:B135,TRUE))","v":""},{"$f":"Worksheet!$D$13","v":false},{"$f":"IF(H135=1,RANDBETWEEN(1,Worksheet!$D$6),INT(J135))","v":4},{"$f":"IF(C135=1,\"year\",\"years\")","v":"years"},{"$f":"IF(H135=1,RANDBETWEEN(1,11),(J135-INT(J135))*12)","v":4.8000000000000043},"months","=",{"$f":"IF(Worksheet!$D$7=1,1,IF(Worksheet!$D$7=2,2,RANDBETWEEN(1,2)))","v":2},null,{"$f":"IF(H135=1,C135+E135/12,RANDBETWEEN(1,Worksheet!$D$6)+CHOOSE(Worksheet!$D$10,RANDBETWEEN(1,9)/10,RANDBETWEEN(1,99)/100,RANDBETWEEN(1,999)/1000,RANDBETWEEN(1,9999)/10000,RANDBETWEEN(1,99999)/100000))","v":4.4000000000000004},"years"]
[{"$f":"COUNTIF($B$1:B136,TRUE)","v":55},{"$f":"Worksheet!$B$12","v":true},{"$f":"IF(H136=1,RANDBETWEEN(1,Worksheet!$D$6),INT(J136))","v":22},{"$f":"IF(C136=1,\"hour\",\"hours\")","v":"hours"},{"$f":"IF(H136=1,IF(Worksheet!$D$10=1,RANDBETWEEN(1,9)*6,IF(Worksheet!$D$10=2,RANDBETWEEN(1,19)*3,RANDBETWEEN(1,59))),(J136-INT(J136))*60)","v":41.999999999999957},"minutes","=",{"$f":"IF(Worksheet!$D$7=1,1,IF(Worksheet!$D$7=2,2,RANDBETWEEN(1,2)))","v":2},null,{"$f":"IF(H136=1,C136+E136/60,RANDBETWEEN(1,Worksheet!$D$6)+CHOOSE(Worksheet!$D$10,RANDBETWEEN(1,9)/10,RANDBETWEEN(1,99)/100,RANDBETWEEN(1,999)/1000,RANDBETWEEN(1,9999)/10000,RANDBETWEEN(1,99999)/100000))","v":22.7},"hours"]
[{"$f":"IF(COUNTIF($B$1:B137,TRUE)=COUNTIF($B$1:B136,TRUE),\"\",COUNTIF($B$1:B137,TRUE))","v":56},{"$f":"Worksheet!$B$13","v":true},{"$f":"IF(H137=1,RANDBETWEEN(1,Worksheet!$D$6),INT(J137))","v":7},{"$f":"IF(C137=1,\"minute\",\"minutes\")","v":"minutes"},{"$f":"IF(H137=1,IF(Worksheet!$D$10=1,RANDBETWEEN(1,9)*6,IF(Worksheet!$D$10=2,RANDBETWEEN(1,19)*3,RANDBETWEEN(1,59))),(J137-INT(J137))*60)","v":5.9999999999999787},"seconds","=",{"$f":"IF(Worksheet!$D$7=1,1,IF(Worksheet!$D$7=2,2,RANDBETWEEN(1,2)))","v":2},null,{"$f":"IF(H137=1,C137+E137/60,RANDBETWEEN(1,Worksheet!$D$6)+CHOOSE(Worksheet!$D$10,RANDBETWEEN(1,9)/10,RANDBETWEEN(1,99)/100,RANDBETWEEN(1,999)/1000,RANDBETWEEN(1,9999)/10000,RANDBETWEEN(1,99999)/100000))","v":7.1},"minutes"]
[{"$f":"IF(COUNTIF($B$1:B138,TRUE)=COUNTIF($B$1:B137,TRUE),\"\",COUNTIF($B$1:B138,TRUE))","v":""},{"$f":"Worksheet!$B$14","v":false},{"$f":"IF(H138=1,RANDBETWEEN(1,Worksheet!$D$6),INT(J138))","v":11},{"$f":"IF(C138=1,\"week\",\"weeks\")","v":"weeks"},{"$f":"IF(H138=1,RANDBETWEEN(1,6),(J138-INT(J138))*7)","v":4.1999999999999975},"days","=",{"$f":"IF(Worksheet!$D$7=1,1,IF(Worksheet!$D$7=2,2,RANDBETWEEN(1,2)))","v":2},null,{"$f":"IF(H138=1,C138+E138/7,RANDBETWEEN(1,Worksheet!$D$6)+CHOOSE(Worksheet!$D$10,RANDBETWEEN(1,9)/10,RANDBETWEEN(1,99)/100,RANDBETWEEN(1,999)/1000,RANDBETWEEN(1,9999)/10000,RANDBETWEEN(1,99999)/100000))","v":11.6},"weeks"]
[{"$f":"IF(COUNTIF($B$1:B139,TRUE)=COUNTIF($B$1:B138,TRUE),\"\",COUNTIF($B$1:B139,TRUE))","v":""},{"$f":"Worksheet!$D$12","v":false},{"$f":"IF(H139=1,RANDBETWEEN(1,Worksheet!$D$6),INT(J139))","v":11},{"$f":"IF(C139=1,\"day\",\"days\")","v":"days"},{"$f":"IF(H139=1,RANDBETWEEN(1,23),(J139-INT(J139))*24)","v":21.600000000000009},"hours","=",{"$f":"IF(Worksheet!$D$7=1,1,IF(Worksheet!$D$7=2,2,RANDBETWEEN(1,2)))","v":2},null,{"$f":"IF(H139=1,C139+E139/24,RANDBETWEEN(1,Worksheet!$D$6)+CHOOSE(Worksheet!$D$10,RANDBETWEEN(1,9)/10,RANDBETWEEN(1,99)/100,RANDBETWEEN(1,999)/1000,RANDBETWEEN(1,9999)/10000,RANDBETWEEN(1,99999)/100000))","v":11.9},"days"]
[{"$f":"IF(COUNTIF($B$1:B140,TRUE)=COUNTIF($B$1:B139,TRUE),\"\",COUNTIF($B$1:B140,TRUE))","v":""},{"$f":"Worksheet!$D$13","v":false},{"$f":"IF(H140=1,RANDBETWEEN(1,Worksheet!$D$6),INT(J140))","v":26},{"$f":"IF(C140=1,\"year\",\"years\")","v":"years"},{"$f":"IF(H140=1,RANDBETWEEN(1,11),(J140-INT(J140))*12)","v":5},"months","=",{"$f":"IF(Worksheet!$D$7=1,1,IF(Worksheet!$D$7=2,2,RANDBETWEEN(1,2)))","v":1},null,{"$f":"IF(H140=1,C140+E140/12,RANDBETWEEN(1,Worksheet!$D$6)+CHOOSE(Worksheet!$D$10,RANDBETWEEN(1,9)/10,RANDBETWEEN(1,99)/100,RANDBETWEEN(1,999)/1000,RANDBETWEEN(1,9999)/10000,RANDBETWEEN(1,99999)/100000))","v":26.416666666666668},"years"]
[{"$f":"COUNTIF($B$1:B141,TRUE)","v":57},{"$f":"Worksheet!$B$12","v":true},{"$f":"IF(H141=1,RANDBETWEEN(1,Worksheet!$D$6),INT(J141))","v":7},{"$f":"IF(C141=1,\"hour\",\"hours\")","v":"hours"},{"$f":"IF(H141=1,IF(Worksheet!$D$10=1,RANDBETWEEN(1,9)*6,IF(Worksheet!$D$10=2,RANDBETWEEN(1,19)*3,RANDBETWEEN(1,59))),(J141-INT(J141))*60)","v":42.000000000000014},"minutes","=",{"$f":"IF(Worksheet!$D$7=1,1,IF(Worksheet!$D$7=2,2,RANDBETWEEN(1,2)))","v":2},null,{"$f":"IF(H141=1,C141+E141/60,RANDBETWEEN(1,Worksheet!$D$6)+CHOOSE(Worksheet!$D$10,RANDBETWEEN(1,9)/10,RANDBETWEEN(1,99)/100,RANDBETWEEN(1,999)/1000,RANDBETWEEN(1,9999)/10000,RANDBETWEEN(1,99999)/100000))","v":7.7},"hours"]
[{"$f":"IF(COUNTIF($B$1:B142,TRUE)=COUNTIF($B$1:B141,TRUE),\"\",COUNTIF($B$1:B142,TRUE))","v":58},{"$f":"Worksheet!$B$13","v":true},{"$f":"IF(H142=1,RANDBETWEEN(1,Worksheet!$D$6),INT(J142))","v":8},{"$f":"IF(C142=1,\"minute\",\"minutes\")","v":"minutes"},{"$f":"IF(H142=1,IF(Worksheet!$D$10=1,RANDBETWEEN(1,9)*6,IF(Worksheet!$D$10=2,RANDBETWEEN(1,19)*3,RANDBETWEEN(1,59))),(J142-INT(J142))*60)","v":42},"seconds","=",{"$f":"IF(Worksheet!$D$7=1,1,IF(Worksheet!$D$7=2,2,RANDBETWEEN(1,2)))","v":1},null,{"$f":"IF(H142=1,C142+E142/60,RANDBETWEEN(1,Worksheet!$D$6)+CHOOSE(Worksheet!$D$10,RANDBETWEEN(1,9)/10,RANDBETWEEN(1,99)/100,RANDBETWEEN(1,999)/1000,RANDBETWEEN(1,9999)/10000,RANDBETWEEN(1,99999)/100000))","v":8.6999999999999993},"minutes"]
[{"$f":"IF(COUNTIF($B$1:B143,TRUE)=COUNTIF($B$1:B142,TRUE),\"\",COUNTIF($B$1:B143,TRUE))","v":""},{"$f":"Worksheet!$B$14","v":false},{"$f":"IF(H143=1,RANDBETWEEN(1,Worksheet!$D$6),INT(J143))","v":16},{"$f":"IF(C143=1,\"week\",\"weeks\")","v":"weeks"},{"$f":"IF(H143=1,RANDBETWEEN(1,6),(J143-INT(J143))*7)","v":3},"days","=",{"$f":"IF(Worksheet!$D$7=1,1,IF(Worksheet!$D$7=2,2,RANDBETWEEN(1,2)))","v":1},null,{"$f":"IF(H143=1,C143+E143/7,RANDBETWEEN(1,Worksheet!$D$6)+CHOOSE(Worksheet!$D$10,RANDBETWEEN(1,9)/10,RANDBETWEEN(1,99)/100,RANDBETWEEN(1,999)/1000,RANDBETWEEN(1,9999)/10000,RANDBETWEEN(1,99999)/100000))","v":16.428571428571427},"weeks"]
[{"$f":"IF(COUNTIF($B$1:B144,TRUE)=COUNTIF($B$1:B143,TRUE),\"\",COUNTIF($B$1:B144,TRUE))","v":""},{"$f":"Worksheet!$D$12","v":false},{"$f":"IF(H144=1,RANDBETWEEN(1,Worksheet!$D$6),INT(J144))","v":25},{"$f":"IF(C144=1,\"day\",\"days\")","v":"days"},{"$f":"IF(H144=1,RANDBETWEEN(1,23),(J144-INT(J144))*24)","v":12},"hours","=",{"$f":"IF(Worksheet!$D$7=1,1,IF(Worksheet!$D$7=2,2,RANDBETWEEN(1,2)))","v":2},null,{"$f":"IF(H144=1,C144+E144/24,RANDBETWEEN(1,Worksheet!$D$6)+CHOOSE(Worksheet!$D$10,RANDBETWEEN(1,9)/10,RANDBETWEEN(1,99)/100,RANDBETWEEN(1,999)/1000,RANDBETWEEN(1,9999)/10000,RANDBETWEEN(1,99999)/100000))","v":25.5},"days"]
[{"$f":"IF(COUNTIF($B$1:B145,TRUE)=COUNTIF($B$1:B144,TRUE),\"\",COUNTIF($B$1:B145,TRUE))","v":""},{"$f":"Worksheet!$D$13","v":false},{"$f":"IF(H145=1,RANDBETWEEN(1,Worksheet!$D$6),INT(J145))","v":29},{"$f":"IF(C145=1,\"year\",\"years\")","v":"years"},{"$f":"IF(H145=1,RANDBETWEEN(1,11),(J145-INT(J145))*12)","v":6},"months","=",{"$f":"IF(Worksheet!$D$7=1,1,IF(Worksheet!$D$7=2,2,RANDBETWEEN(1,2)))","v":1},null,{"$f":"IF(H145=1,C145+E145/12,RANDBETWEEN(1,Worksheet!$D$6)+CHOOSE(Worksheet!$D$10,RANDBETWEEN(1,9)/10,RANDBETWEEN(1,99)/100,RANDBETWEEN(1,999)/1000,RANDBETWEEN(1,9999)/10000,RANDBETWEEN(1,99999)/100000))","v":29.5},"years"]
[{"$f":"COUNTIF($B$1:B146,TRUE)","v":59},{"$f":"Worksheet!$B$12","v":true},{"$f":"IF(H146=1,RANDBETWEEN(1,Worksheet!$D$6),INT(J146))","v":8},{"$f":"IF(C146=1,\"hour\",\"hours\")","v":"hours"},{"$f":"IF(H146=1,IF(Worksheet!$D$10=1,RANDBETWEEN(1,9)*6,IF(Worksheet!$D$10=2,RANDBETWEEN(1,19)*3,RANDBETWEEN(1,59))),(J146-INT(J146))*60)","v":41.999999999999957},"minutes","=",{"$f":"IF(Worksheet!$D$7=1,1,IF(Worksheet!$D$7=2,2,RANDBETWEEN(1,2)))","v":2},null,{"$f":"IF(H146=1,C146+E146/60,RANDBETWEEN(1,Worksheet!$D$6)+CHOOSE(Worksheet!$D$10,RANDBETWEEN(1,9)/10,RANDBETWEEN(1,99)/100,RANDBETWEEN(1,999)/1000,RANDBETWEEN(1,9999)/10000,RANDBETWEEN(1,99999)/100000))","v":8.6999999999999993},"hours"]
[{"$f":"IF(COUNTIF($B$1:B147,TRUE)=COUNTIF($B$1:B146,TRUE),\"\",COUNTIF($B$1:B147,TRUE))","v":60},{"$f":"Worksheet!$B$13","v":true},{"$f":"IF(H147=1,RANDBETWEEN(1,Worksheet!$D$6),INT(J147))","v":18},{"$f":"IF(C147=1,\"minute\",\"minutes\")","v":"minutes"},{"$f":"IF(H147=1,IF(Worksheet!$D$10=1,RANDBETWEEN(1,9)*6,IF(Worksheet!$D$10=2,RANDBETWEEN(1,19)*3,RANDBETWEEN(1,59))),(J147-INT(J147))*60)","v":41.999999999999957},"seconds","=",{"$f":"IF(Worksheet!$D$7=1,1,IF(Worksheet!$D$7=2,2,RANDBETWEEN(1,2)))","v":2},null,{"$f":"IF(H147=1,C147+E147/60,RANDBETWEEN(1,Worksheet!$D$6)+CHOOSE(Worksheet!$D$10,RANDBETWEEN(1,9)/10,RANDBETWEEN(1,99)/100,RANDBETWEEN(1,999)/1000,RANDBETWEEN(1,9999)/10000,RANDBETWEEN(1,99999)/100000))","v":18.7},"minutes"]
[{"$f":"IF(COUNTIF($B$1:B148,TRUE)=COUNTIF($B$1:B147,TRUE),\"\",COUNTIF($B$1:B148,TRUE))","v":""},{"$f":"Worksheet!$B$14","v":false},{"$f":"IF(H148=1,RANDBETWEEN(1,Worksheet!$D$6),INT(J148))","v":13},{"$f":"IF(C148=1,\"week\",\"weeks\")","v":"weeks"},{"$f":"IF(H148=1,RANDBETWEEN(1,6),(J148-INT(J148))*7)","v":5.600000000000005},"days","=",{"$f":"IF(Worksheet!$D$7=1,1,IF(Worksheet!$D$7=2,2,RANDBETWEEN(1,2)))","v":2},null,{"$f":"IF(H148=1,C148+E148/7,RANDBETWEEN(1,Worksheet!$D$6)+CHOOSE(Worksheet!$D$10,RANDBETWEEN(1,9)/10,RANDBETWEEN(1,99)/100,RANDBETWEEN(1,999)/1000,RANDBETWEEN(1,9999)/10000,RANDBETWEEN(1,99999)/100000))","v":13.8},"weeks"]
[{"$f":"IF(COUNTIF($B$1:B149,TRUE)=COUNTIF($B$1:B148,TRUE),\"\",COUNTIF($B$1:B149,TRUE))","v":""},{"$f":"Worksheet!$D$12","v":false},{"$f":"IF(H149=1,RANDBETWEEN(1,Worksheet!$D$6),INT(J149))","v":19},{"$f":"IF(C149=1,\"day\",\"days\")","v":"days"},{"$f":"IF(H149=1,RANDBETWEEN(1,23),(J149-INT(J149))*24)","v":7},"hours","=",{"$f":"IF(Worksheet!$D$7=1,1,IF(Worksheet!$D$7=2,2,RANDBETWEEN(1,2)))","v":1},null,{"$f":"IF(H149=1,C149+E149/24,RANDBETWEEN(1,Worksheet!$D$6)+CHOOSE(Worksheet!$D$10,RANDBETWEEN(1,9)/10,RANDBETWEEN(1,99)/100,RANDBETWEEN(1,999)/1000,RANDBETWEEN(1,9999)/10000,RANDBETWEEN(1,99999)/100000))","v":19.291666666666668},"days"]
[{"$f":"IF(COUNTIF($B$1:B150,TRUE)=COUNTIF($B$1:B149,TRUE),\"\",COUNTIF($B$1:B150,TRUE))","v":""},{"$f":"Worksheet!$D$13","v":false},{"$f":"IF(H150=1,RANDBETWEEN(1,Worksheet!$D$6),INT(J150))","v":5},{"$f":"IF(C150=1,\"year\",\"years\")","v":"years"},{"$f":"IF(H150=1,RANDBETWEEN(1,11),(J150-INT(J150))*12)","v":6},"months","=",{"$f":"IF(Worksheet!$D$7=1,1,IF(Worksheet!$D$7=2,2,RANDBETWEEN(1,2)))","v":1},null,{"$f":"IF(H150=1,C150+E150/12,RANDBETWEEN(1,Worksheet!$D$6)+CHOOSE(Worksheet!$D$10,RANDBETWEEN(1,9)/10,RANDBETWEEN(1,99)/100,RANDBETWEEN(1,999)/1000,RANDBETWEEN(1,9999)/10000,RANDBETWEEN(1,99999)/100000))","v":5.5},"years"]
[{"$f":"COUNTIF($B$1:B151,TRUE)","v":61},{"$f":"Worksheet!$B$12","v":true},{"$f":"IF(H151=1,RANDBETWEEN(1,Worksheet!$D$6),INT(J151))","v":10},{"$f":"IF(C151=1,\"hour\",\"hours\")","v":"hours"},{"$f":"IF(H151=1,IF(Worksheet!$D$10=1,RANDBETWEEN(1,9)*6,IF(Worksheet!$D$10=2,RANDBETWEEN(1,19)*3,RANDBETWEEN(1,59))),(J151-INT(J151))*60)","v":6},"minutes","=",{"$f":"IF(Worksheet!$D$7=1,1,IF(Worksheet!$D$7=2,2,RANDBETWEEN(1,2)))","v":1},null,{"$f":"IF(H151=1,C151+E151/60,RANDBETWEEN(1,Worksheet!$D$6)+CHOOSE(Worksheet!$D$10,RANDBETWEEN(1,9)/10,RANDBETWEEN(1,99)/100,RANDBETWEEN(1,999)/1000,RANDBETWEEN(1,9999)/10000,RANDBETWEEN(1,99999)/100000))","v":10.1},"hours"]
[{"$f":"IF(COUNTIF($B$1:B152,TRUE)=COUNTIF($B$1:B151,TRUE),\"\",COUNTIF($B$1:B152,TRUE))","v":62},{"$f":"Worksheet!$B$13","v":true},{"$f":"IF(H152=1,RANDBETWEEN(1,Worksheet!$D$6),INT(J152))","v":8},{"$f":"IF(C152=1,\"minute\",\"minutes\")","v":"minutes"},{"$f":"IF(H152=1,IF(Worksheet!$D$10=1,RANDBETWEEN(1,9)*6,IF(Worksheet!$D$10=2,RANDBETWEEN(1,19)*3,RANDBETWEEN(1,59))),(J152-INT(J152))*60)","v":41.999999999999957},"seconds","=",{"$f":"IF(Worksheet!$D$7=1,1,IF(Worksheet!$D$7=2,2,RANDBETWEEN(1,2)))","v":2},null,{"$f":"IF(H152=1,C152+E152/60,RANDBETWEEN(1,Worksheet!$D$6)+CHOOSE(Worksheet!$D$10,RANDBETWEEN(1,9)/10,RANDBETWEEN(1,99)/100,RANDBETWEEN(1,999)/1000,RANDBETWEEN(1,9999)/10000,RANDBETWEEN(1,99999)/100000))","v":8.6999999999999993},"minutes"]
[{"$f":"IF(COUNTIF($B$1:B153,TRUE)=COUNTIF($B$1:B152,TRUE),\"\",COUNTIF($B$1:B153,TRUE))","v":""},{"$f":"Worksheet!$B$14","v":false},{"$f":"IF(H153=1,RANDBETWEEN(1,Worksheet!$D$6),INT(J153))","v":25},{"$f":"IF(C153=1,\"week\",\"weeks\")","v":"weeks"},{"$f":"IF(H153=1,RANDBETWEEN(1,6),(J153-INT(J153))*7)","v":2.100000000000005},"days","=",{"$f":"IF(Worksheet!$D$7=1,1,IF(Worksheet!$D$7=2,2,RANDBETWEEN(1,2)))","v":2},null,{"$f":"IF(H153=1,C153+E153/7,RANDBETWEEN(1,Worksheet!$D$6)+CHOOSE(Worksheet!$D$10,RANDBETWEEN(1,9)/10,RANDBETWEEN(1,99)/100,RANDBETWEEN(1,999)/1000,RANDBETWEEN(1,9999)/10000,RANDBETWEEN(1,99999)/100000))","v":25.3},"weeks"]
[{"$f":"IF(COUNTIF($B$1:B154,TRUE)=COUNTIF($B$1:B153,TRUE),\"\",COUNTIF($B$1:B154,TRUE))","v":""},{"$f":"Worksheet!$D$12","v":false},{"$f":"IF(H154=1,RANDBETWEEN(1,Worksheet!$D$6),INT(J154))","v":5},{"$f":"IF(C154=1,\"day\",\"days\")","v":"days"},{"$f":"IF(H154=1,RANDBETWEEN(1,23),(J154-INT(J154))*24)","v":22},"hours","=",{"$f":"IF(Worksheet!$D$7=1,1,IF(Worksheet!$D$7=2,2,RANDBETWEEN(1,2)))","v":1},null,{"$f":"IF(H154=1,C154+E154/24,RANDBETWEEN(1,Worksheet!$D$6)+CHOOSE(Worksheet!$D$10,RANDBETWEEN(1,9)/10,RANDBETWEEN(1,99)/100,RANDBETWEEN(1,999)/1000,RANDBETWEEN(1,9999)/10000,RANDBETWEEN(1,99999)/100000))","v":5.916666666666667},"days"]
[{"$f":"IF(COUNTIF($B$1:B155,TRUE)=COUNTIF($B$1:B154,TRUE),\"\",COUNTIF($B$1:B155,TRUE))","v":""},{"$f":"Worksheet!$D$13","v":false},{"$f":"IF(H155=1,RANDBETWEEN(1,Worksheet!$D$6),INT(J155))","v":4},{"$f":"IF(C155=1,\"year\",\"years\")","v":"years"},{"$f":"IF(H155=1,RANDBETWEEN(1,11),(J155-INT(J155))*12)","v":3.5999999999999979},"months","=",{"$f":"IF(Worksheet!$D$7=1,1,IF(Worksheet!$D$7=2,2,RANDBETWEEN(1,2)))","v":2},null,{"$f":"IF(H155=1,C155+E155/12,RANDBETWEEN(1,Worksheet!$D$6)+CHOOSE(Worksheet!$D$10,RANDBETWEEN(1,9)/10,RANDBETWEEN(1,99)/100,RANDBETWEEN(1,999)/1000,RANDBETWEEN(1,9999)/10000,RANDBETWEEN(1,99999)/100000))","v":4.3},"years"]
[{"$f":"COUNTIF($B$1:B156,TRUE)","v":63},{"$f":"Worksheet!$B$12","v":true},{"$f":"IF(H156=1,RANDBETWEEN(1,Worksheet!$D$6),INT(J156))","v":17},{"$f":"IF(C156=1,\"hour\",\"hours\")","v":"hours"},{"$f":"IF(H156=1,IF(Worksheet!$D$10=1,RANDBETWEEN(1,9)*6,IF(Worksheet!$D$10=2,RANDBETWEEN(1,19)*3,RANDBETWEEN(1,59))),(J156-INT(J156))*60)","v":6},"minutes","=",{"$f":"IF(Worksheet!$D$7=1,1,IF(Worksheet!$D$7=2,2,RANDBETWEEN(1,2)))","v":1},null,{"$f":"IF(H156=1,C156+E156/60,RANDBETWEEN(1,Worksheet!$D$6)+CHOOSE(Worksheet!$D$10,RANDBETWEEN(1,9)/10,RANDBETWEEN(1,99)/100,RANDBETWEEN(1,999)/1000,RANDBETWEEN(1,9999)/10000,RANDBETWEEN(1,99999)/100000))","v":17.100000000000001},"hours"]
[{"$f":"IF(COUNTIF($B$1:B157,TRUE)=COUNTIF($B$1:B156,TRUE),\"\",COUNTIF($B$1:B157,TRUE))","v":64},{"$f":"Worksheet!$B$13","v":true},{"$f":"IF(H157=1,RANDBETWEEN(1,Worksheet!$D$6),INT(J157))","v":26},{"$f":"IF(C157=1,\"minute\",\"minutes\")","v":"minutes"},{"$f":"IF(H157=1,IF(Worksheet!$D$10=1,RANDBETWEEN(1,9)*6,IF(Worksheet!$D$10=2,RANDBETWEEN(1,19)*3,RANDBETWEEN(1,59))),(J157-INT(J157))*60)","v":53.999999999999915},"seconds","=",{"$f":"IF(Worksheet!$D$7=1,1,IF(Worksheet!$D$7=2,2,RANDBETWEEN(1,2)))","v":2},null,{"$f":"IF(H157=1,C157+E157/60,RANDBETWEEN(1,Worksheet!$D$6)+CHOOSE(Worksheet!$D$10,RANDBETWEEN(1,9)/10,RANDBETWEEN(1,99)/100,RANDBETWEEN(1,999)/1000,RANDBETWEEN(1,9999)/10000,RANDBETWEEN(1,99999)/100000))","v":26.9},"minutes"]
[{"$f":"IF(COUNTIF($B$1:B158,TRUE)=COUNTIF($B$1:B157,TRUE),\"\",COUNTIF($B$1:B158,TRUE))","v":""},{"$f":"Worksheet!$B$14","v":false},{"$f":"IF(H158=1,RANDBETWEEN(1,Worksheet!$D$6),INT(J158))","v":17},{"$f":"IF(C158=1,\"week\",\"weeks\")","v":"weeks"},{"$f":"IF(H158=1,RANDBETWEEN(1,6),(J158-INT(J158))*7)","v":4},"days","=",{"$f":"IF(Worksheet!$D$7=1,1,IF(Worksheet!$D$7=2,2,RANDBETWEEN(1,2)))","v":1},null,{"$f":"IF(H158=1,C158+E158/7,RANDBETWEEN(1,Worksheet!$D$6)+CHOOSE(Worksheet!$D$10,RANDBETWEEN(1,9)/10,RANDBETWEEN(1,99)/100,RANDBETWEEN(1,999)/1000,RANDBETWEEN(1,9999)/10000,RANDBETWEEN(1,99999)/100000))","v":17.571428571428573},"weeks"]
[{"$f":"IF(COUNTIF($B$1:B159,TRUE)=COUNTIF($B$1:B158,TRUE),\"\",COUNTIF($B$1:B159,TRUE))","v":""},{"$f":"Worksheet!$D$12","v":false},{"$f":"IF(H159=1,RANDBETWEEN(1,Worksheet!$D$6),INT(J159))","v":2},{"$f":"IF(C159=1,\"day\",\"days\")","v":"days"},{"$f":"IF(H159=1,RANDBETWEEN(1,23),(J159-INT(J159))*24)","v":12},"hours","=",{"$f":"IF(Worksheet!$D$7=1,1,IF(Worksheet!$D$7=2,2,RANDBETWEEN(1,2)))","v":1},null,{"$f":"IF(H159=1,C159+E159/24,RANDBETWEEN(1,Worksheet!$D$6)+CHOOSE(Worksheet!$D$10,RANDBETWEEN(1,9)/10,RANDBETWEEN(1,99)/100,RANDBETWEEN(1,999)/1000,RANDBETWEEN(1,9999)/10000,RANDBETWEEN(1,99999)/100000))","v":2.5},{"$f":"D159","v":"days"}]
[{"$f":"IF(COUNTIF($B$1:B160,TRUE)=COUNTIF($B$1:B159,TRUE),\"\",COUNTIF($B$1:B160,TRUE))","v":""},{"$f":"Worksheet!$D$13","v":false},{"$f":"IF(H160=1,RANDBETWEEN(1,Worksheet!$D$6),INT(J160))","v":8},{"$f":"IF(C160=1,\"year\",\"years\")","v":"years"},{"$f":"IF(H160=1,RANDBETWEEN(1,11),(J160-INT(J160))*12)","v":8},"months","=",{"$f":"IF(Worksheet!$D$7=1,1,IF(Worksheet!$D$7=2,2,RANDBETWEEN(1,2)))","v":1},null,{"$f":"IF(H160=1,C160+E160/12,RANDBETWEEN(1,Worksheet!$D$6)+CHOOSE(Worksheet!$D$10,RANDBETWEEN(1,9)/10,RANDBETWEEN(1,99)/100,RANDBETWEEN(1,999)/1000,RANDBETWEEN(1,9999)/10000,RANDBETWEEN(1,99999)/100000))","v":8.6666666666666661},"years"]
[{"$f":"COUNTIF($B$1:B161,TRUE)","v":65},{"$f":"Worksheet!$B$12","v":true},{"$f":"IF(H161=1,RANDBETWEEN(1,Worksheet!$D$6),INT(J161))","v":28},{"$f":"IF(C161=1,\"hour\",\"hours\")","v":"hours"},{"$f":"IF(H161=1,IF(Worksheet!$D$10=1,RANDBETWEEN(1,9)*6,IF(Worksheet!$D$10=2,RANDBETWEEN(1,19)*3,RANDBETWEEN(1,59))),(J161-INT(J161))*60)","v":18},"minutes","=",{"$f":"IF(Worksheet!$D$7=1,1,IF(Worksheet!$D$7=2,2,RANDBETWEEN(1,2)))","v":1},null,{"$f":"IF(H161=1,C161+E161/60,RANDBETWEEN(1,Worksheet!$D$6)+CHOOSE(Worksheet!$D$10,RANDBETWEEN(1,9)/10,RANDBETWEEN(1,99)/100,RANDBETWEEN(1,999)/1000,RANDBETWEEN(1,9999)/10000,RANDBETWEEN(1,99999)/100000))","v":28.3},"hours"]
[{"$f":"IF(COUNTIF($B$1:B162,TRUE)=COUNTIF($B$1:B161,TRUE),\"\",COUNTIF($B$1:B162,TRUE))","v":66},{"$f":"Worksheet!$B$13","v":true},{"$f":"IF(H162=1,RANDBETWEEN(1,Worksheet!$D$6),INT(J162))","v":30},{"$f":"IF(C162=1,\"minute\",\"minutes\")","v":"minutes"},{"$f":"IF(H162=1,IF(Worksheet!$D$10=1,RANDBETWEEN(1,9)*6,IF(Worksheet!$D$10=2,RANDBETWEEN(1,19)*3,RANDBETWEEN(1,59))),(J162-INT(J162))*60)","v":41.999999999999957},"seconds","=",{"$f":"IF(Worksheet!$D$7=1,1,IF(Worksheet!$D$7=2,2,RANDBETWEEN(1,2)))","v":2},null,{"$f":"IF(H162=1,C162+E162/60,RANDBETWEEN(1,Worksheet!$D$6)+CHOOSE(Worksheet!$D$10,RANDBETWEEN(1,9)/10,RANDBETWEEN(1,99)/100,RANDBETWEEN(1,999)/1000,RANDBETWEEN(1,9999)/10000,RANDBETWEEN(1,99999)/100000))","v":30.7},"minutes"]
[{"$f":"IF(COUNTIF($B$1:B163,TRUE)=COUNTIF($B$1:B162,TRUE),\"\",COUNTIF($B$1:B163,TRUE))","v":""},{"$f":"Worksheet!$B$14","v":false},{"$f":"IF(H163=1,RANDBETWEEN(1,Worksheet!$D$6),INT(J163))","v":16},{"$f":"IF(C163=1,\"week\",\"weeks\")","v":"weeks"},{"$f":"IF(H163=1,RANDBETWEEN(1,6),(J163-INT(J163))*7)","v":6},"days","=",{"$f":"IF(Worksheet!$D$7=1,1,IF(Worksheet!$D$7=2,2,RANDBETWEEN(1,2)))","v":1},null,{"$f":"IF(H163=1,C163+E163/7,RANDBETWEEN(1,Worksheet!$D$6)+CHOOSE(Worksheet!$D$10,RANDBETWEEN(1,9)/10,RANDBETWEEN(1,99)/100,RANDBETWEEN(1,999)/1000,RANDBETWEEN(1,9999)/10000,RANDBETWEEN(1,99999)/100000))","v":16.857142857142858},"weeks"]
[{"$f":"IF(COUNTIF($B$1:B164,TRUE)=COUNTIF($B$1:B163,TRUE),\"\",COUNTIF($B$1:B164,TRUE))","v":""},{"$f":"Worksheet!$D$12","v":false},{"$f":"IF(H164=1,RANDBETWEEN(1,Worksheet!$D$6),INT(J164))","v":8},{"$f":"IF(C164=1,\"day\",\"days\")","v":"days"},{"$f":"IF(H164=1,RANDBETWEEN(1,23),(J164-INT(J164))*24)","v":17},"hours","=",{"$f":"IF(Worksheet!$D$7=1,1,IF(Worksheet!$D$7=2,2,RANDBETWEEN(1,2)))","v":1},null,{"$f":"IF(H164=1,C164+E164/24,RANDBETWEEN(1,Worksheet!$D$6)+CHOOSE(Worksheet!$D$10,RANDBETWEEN(1,9)/10,RANDBETWEEN(1,99)/100,RANDBETWEEN(1,999)/1000,RANDBETWEEN(1,9999)/10000,RANDBETWEEN(1,99999)/100000))","v":8.7083333333333339},"days"]
[{"$f":"IF(COUNTIF($B$1:B165,TRUE)=COUNTIF($B$1:B164,TRUE),\"\",COUNTIF($B$1:B165,TRUE))","v":""},{"$f":"Worksheet!$D$13","v":false},{"$f":"IF(H165=1,RANDBETWEEN(1,Worksheet!$D$6),INT(J165))","v":18},{"$f":"IF(C165=1,\"year\",\"years\")","v":"years"},{"$f":"IF(H165=1,RANDBETWEEN(1,11),(J165-INT(J165))*12)","v":9.6000000000000085},"months","=",{"$f":"IF(Worksheet!$D$7=1,1,IF(Worksheet!$D$7=2,2,RANDBETWEEN(1,2)))","v":2},null,{"$f":"IF(H165=1,C165+E165/12,RANDBETWEEN(1,Worksheet!$D$6)+CHOOSE(Worksheet!$D$10,RANDBETWEEN(1,9)/10,RANDBETWEEN(1,99)/100,RANDBETWEEN(1,999)/1000,RANDBETWEEN(1,9999)/10000,RANDBETWEEN(1,99999)/100000))","v":18.8},"years"]
[{"$f":"COUNTIF($B$1:B166,TRUE)","v":67},{"$f":"Worksheet!$B$12","v":true},{"$f":"IF(H166=1,RANDBETWEEN(1,Worksheet!$D$6),INT(J166))","v":12},{"$f":"IF(C166=1,\"hour\",\"hours\")","v":"hours"},{"$f":"IF(H166=1,IF(Worksheet!$D$10=1,RANDBETWEEN(1,9)*6,IF(Worksheet!$D$10=2,RANDBETWEEN(1,19)*3,RANDBETWEEN(1,59))),(J166-INT(J166))*60)","v":30},"minutes","=",{"$f":"IF(Worksheet!$D$7=1,1,IF(Worksheet!$D$7=2,2,RANDBETWEEN(1,2)))","v":2},null,{"$f":"IF(H166=1,C166+E166/60,RANDBETWEEN(1,Worksheet!$D$6)+CHOOSE(Worksheet!$D$10,RANDBETWEEN(1,9)/10,RANDBETWEEN(1,99)/100,RANDBETWEEN(1,999)/1000,RANDBETWEEN(1,9999)/10000,RANDBETWEEN(1,99999)/100000))","v":12.5},"hours"]
[{"$f":"IF(COUNTIF($B$1:B167,TRUE)=COUNTIF($B$1:B166,TRUE),\"\",COUNTIF($B$1:B167,TRUE))","v":68},{"$f":"Worksheet!$B$13","v":true},{"$f":"IF(H167=1,RANDBETWEEN(1,Worksheet!$D$6),INT(J167))","v":25},{"$f":"IF(C167=1,\"minute\",\"minutes\")","v":"minutes"},{"$f":"IF(H167=1,IF(Worksheet!$D$10=1,RANDBETWEEN(1,9)*6,IF(Worksheet!$D$10=2,RANDBETWEEN(1,19)*3,RANDBETWEEN(1,59))),(J167-INT(J167))*60)","v":12},"seconds","=",{"$f":"IF(Worksheet!$D$7=1,1,IF(Worksheet!$D$7=2,2,RANDBETWEEN(1,2)))","v":1},null,{"$f":"IF(H167=1,C167+E167/60,RANDBETWEEN(1,Worksheet!$D$6)+CHOOSE(Worksheet!$D$10,RANDBETWEEN(1,9)/10,RANDBETWEEN(1,99)/100,RANDBETWEEN(1,999)/1000,RANDBETWEEN(1,9999)/10000,RANDBETWEEN(1,99999)/100000))","v":25.2},"minutes"]
[{"$f":"IF(COUNTIF($B$1:B168,TRUE)=COUNTIF($B$1:B167,TRUE),\"\",COUNTIF($B$1:B168,TRUE))","v":""},{"$f":"Worksheet!$B$14","v":false},{"$f":"IF(H168=1,RANDBETWEEN(1,Worksheet!$D$6),INT(J168))","v":16},{"$f":"IF(C168=1,\"week\",\"weeks\")","v":"weeks"},{"$f":"IF(H168=1,RANDBETWEEN(1,6),(J168-INT(J168))*7)","v":1.399999999999995},"days","=",{"$f":"IF(Worksheet!$D$7=1,1,IF(Worksheet!$D$7=2,2,RANDBETWEEN(1,2)))","v":2},null,{"$f":"IF(H168=1,C168+E168/7,RANDBETWEEN(1,Worksheet!$D$6)+CHOOSE(Worksheet!$D$10,RANDBETWEEN(1,9)/10,RANDBETWEEN(1,99)/100,RANDBETWEEN(1,999)/1000,RANDBETWEEN(1,9999)/10000,RANDBETWEEN(1,99999)/100000))","v":16.2},"weeks"]
[{"$f":"IF(COUNTIF($B$1:B169,TRUE)=COUNTIF($B$1:B168,TRUE),\"\",COUNTIF($B$1:B169,TRUE))","v":""},{"$f":"Worksheet!$D$12","v":false},{"$f":"IF(H169=1,RANDBETWEEN(1,Worksheet!$D$6),INT(J169))","v":25},{"$f":"IF(C169=1,\"day\",\"days\")","v":"days"},{"$f":"IF(H169=1,RANDBETWEEN(1,23),(J169-INT(J169))*24)","v":7},"hours","=",{"$f":"IF(Worksheet!$D$7=1,1,IF(Worksheet!$D$7=2,2,RANDBETWEEN(1,2)))","v":1},null,{"$f":"IF(H169=1,C169+E169/24,RANDBETWEEN(1,Worksheet!$D$6)+CHOOSE(Worksheet!$D$10,RANDBETWEEN(1,9)/10,RANDBETWEEN(1,99)/100,RANDBETWEEN(1,999)/1000,RANDBETWEEN(1,9999)/10000,RANDBETWEEN(1,99999)/100000))","v":25.291666666666668},"days"]
[{"$f":"IF(COUNTIF($B$1:B170,TRUE)=COUNTIF($B$1:B169,TRUE),\"\",COUNTIF($B$1:B170,TRUE))","v":""},{"$f":"Worksheet!$D$13","v":false},{"$f":"IF(H170=1,RANDBETWEEN(1,Worksheet!$D$6),INT(J170))","v":1},{"$f":"IF(C170=1,\"year\",\"years\")","v":"year"},{"$f":"IF(H170=1,RANDBETWEEN(1,11),(J170-INT(J170))*12)","v":2},"months","=",{"$f":"IF(Worksheet!$D$7=1,1,IF(Worksheet!$D$7=2,2,RANDBETWEEN(1,2)))","v":1},null,{"$f":"IF(H170=1,C170+E170/12,RANDBETWEEN(1,Worksheet!$D$6)+CHOOSE(Worksheet!$D$10,RANDBETWEEN(1,9)/10,RANDBETWEEN(1,99)/100,RANDBETWEEN(1,999)/1000,RANDBETWEEN(1,9999)/10000,RANDBETWEEN(1,99999)/100000))","v":1.1666666666666667},"year"]
[{"$f":"COUNTIF($B$1:B171,TRUE)","v":69},{"$f":"Worksheet!$B$12","v":true},{"$f":"IF(H171=1,RANDBETWEEN(1,Worksheet!$D$6),INT(J171))","v":16},{"$f":"IF(C171=1,\"hour\",\"hours\")","v":"hours"},{"$f":"IF(H171=1,IF(Worksheet!$D$10=1,RANDBETWEEN(1,9)*6,IF(Worksheet!$D$10=2,RANDBETWEEN(1,19)*3,RANDBETWEEN(1,59))),(J171-INT(J171))*60)","v":23.999999999999915},"minutes","=",{"$f":"IF(Worksheet!$D$7=1,1,IF(Worksheet!$D$7=2,2,RANDBETWEEN(1,2)))","v":2},null,{"$f":"IF(H171=1,C171+E171/60,RANDBETWEEN(1,Worksheet!$D$6)+CHOOSE(Worksheet!$D$10,RANDBETWEEN(1,9)/10,RANDBETWEEN(1,99)/100,RANDBETWEEN(1,999)/1000,RANDBETWEEN(1,9999)/10000,RANDBETWEEN(1,99999)/100000))","v":16.399999999999999},"hours"]
[{"$f":"IF(COUNTIF($B$1:B172,TRUE)=COUNTIF($B$1:B171,TRUE),\"\",COUNTIF($B$1:B172,TRUE))","v":70},{"$f":"Worksheet!$B$13","v":true},{"$f":"IF(H172=1,RANDBETWEEN(1,Worksheet!$D$6),INT(J172))","v":14},{"$f":"IF(C172=1,\"minute\",\"minutes\")","v":"minutes"},{"$f":"IF(H172=1,IF(Worksheet!$D$10=1,RANDBETWEEN(1,9)*6,IF(Worksheet!$D$10=2,RANDBETWEEN(1,19)*3,RANDBETWEEN(1,59))),(J172-INT(J172))*60)","v":41.999999999999957},"seconds","=",{"$f":"IF(Worksheet!$D$7=1,1,IF(Worksheet!$D$7=2,2,RANDBETWEEN(1,2)))","v":2},null,{"$f":"IF(H172=1,C172+E172/60,RANDBETWEEN(1,Worksheet!$D$6)+CHOOSE(Worksheet!$D$10,RANDBETWEEN(1,9)/10,RANDBETWEEN(1,99)/100,RANDBETWEEN(1,999)/1000,RANDBETWEEN(1,9999)/10000,RANDBETWEEN(1,99999)/100000))","v":14.7},"minutes"]
[{"$f":"IF(COUNTIF($B$1:B173,TRUE)=COUNTIF($B$1:B172,TRUE),\"\",COUNTIF($B$1:B173,TRUE))","v":""},{"$f":"Worksheet!$B$14","v":false},{"$f":"IF(H173=1,RANDBETWEEN(1,Worksheet!$D$6),INT(J173))","v":18},{"$f":"IF(C173=1,\"week\",\"weeks\")","v":"weeks"},{"$f":"IF(H173=1,RANDBETWEEN(1,6),(J173-INT(J173))*7)","v":6},"days","=",{"$f":"IF(Worksheet!$D$7=1,1,IF(Worksheet!$D$7=2,2,RANDBETWEEN(1,2)))","v":1},null,{"$f":"IF(H173=1,C173+E173/7,RANDBETWEEN(1,Worksheet!$D$6)+CHOOSE(Worksheet!$D$10,RANDBETWEEN(1,9)/10,RANDBETWEEN(1,99)/100,RANDBETWEEN(1,999)/1000,RANDBETWEEN(1,9999)/10000,RANDBETWEEN(1,99999)/100000))","v":18.857142857142858},"weeks"]
[{"$f":"IF(COUNTIF($B$1:B174,TRUE)=COUNTIF($B$1:B173,TRUE),\"\",COUNTIF($B$1:B174,TRUE))","v":""},{"$f":"Worksheet!$D$12","v":false},{"$f":"IF(H174=1,RANDBETWEEN(1,Worksheet!$D$6),INT(J174))","v":6},{"$f":"IF(C174=1,\"day\",\"days\")","v":"days"},{"$f":"IF(H174=1,RANDBETWEEN(1,23),(J174-INT(J174))*24)","v":21},"hours","=",{"$f":"IF(Worksheet!$D$7=1,1,IF(Worksheet!$D$7=2,2,RANDBETWEEN(1,2)))","v":1},null,{"$f":"IF(H174=1,C174+E174/24,RANDBETWEEN(1,Worksheet!$D$6)+CHOOSE(Worksheet!$D$10,RANDBETWEEN(1,9)/10,RANDBETWEEN(1,99)/100,RANDBETWEEN(1,999)/1000,RANDBETWEEN(1,9999)/10000,RANDBETWEEN(1,99999)/100000))","v":6.875},"days"]
[{"$f":"IF(COUNTIF($B$1:B175,TRUE)=COUNTIF($B$1:B174,TRUE),\"\",COUNTIF($B$1:B175,TRUE))","v":""},{"$f":"Worksheet!$D$13","v":false},{"$f":"IF(H175=1,RANDBETWEEN(1,Worksheet!$D$6),INT(J175))","v":22},{"$f":"IF(C175=1,\"year\",\"years\")","v":"years"},{"$f":"IF(H175=1,RANDBETWEEN(1,11),(J175-INT(J175))*12)","v":3.6000000000000085},"months","=",{"$f":"IF(Worksheet!$D$7=1,1,IF(Worksheet!$D$7=2,2,RANDBETWEEN(1,2)))","v":2},null,{"$f":"IF(H175=1,C175+E175/12,RANDBETWEEN(1,Worksheet!$D$6)+CHOOSE(Worksheet!$D$10,RANDBETWEEN(1,9)/10,RANDBETWEEN(1,99)/100,RANDBETWEEN(1,999)/1000,RANDBETWEEN(1,9999)/10000,RANDBETWEEN(1,99999)/100000))","v":22.3},"years"]
[{"$f":"COUNTIF($B$1:B176,TRUE)","v":71},{"$f":"Worksheet!$B$12","v":true},{"$f":"IF(H176=1,RANDBETWEEN(1,Worksheet!$D$6),INT(J176))","v":24},{"$f":"IF(C176=1,\"hour\",\"hours\")","v":"hours"},{"$f":"IF(H176=1,IF(Worksheet!$D$10=1,RANDBETWEEN(1,9)*6,IF(Worksheet!$D$10=2,RANDBETWEEN(1,19)*3,RANDBETWEEN(1,59))),(J176-INT(J176))*60)","v":48.000000000000043},"minutes","=",{"$f":"IF(Worksheet!$D$7=1,1,IF(Worksheet!$D$7=2,2,RANDBETWEEN(1,2)))","v":2},null,{"$f":"IF(H176=1,C176+E176/60,RANDBETWEEN(1,Worksheet!$D$6)+CHOOSE(Worksheet!$D$10,RANDBETWEEN(1,9)/10,RANDBETWEEN(1,99)/100,RANDBETWEEN(1,999)/1000,RANDBETWEEN(1,9999)/10000,RANDBETWEEN(1,99999)/100000))","v":24.8},"hours"]
[{"$f":"IF(COUNTIF($B$1:B177,TRUE)=COUNTIF($B$1:B176,TRUE),\"\",COUNTIF($B$1:B177,TRUE))","v":72},{"$f":"Worksheet!$B$13","v":true},{"$f":"IF(H177=1,RANDBETWEEN(1,Worksheet!$D$6),INT(J177))","v":3},{"$f":"IF(C177=1,\"minute\",\"minutes\")","v":"minutes"},{"$f":"IF(H177=1,IF(Worksheet!$D$10=1,RANDBETWEEN(1,9)*6,IF(Worksheet!$D$10=2,RANDBETWEEN(1,19)*3,RANDBETWEEN(1,59))),(J177-INT(J177))*60)","v":42},"seconds","=",{"$f":"IF(Worksheet!$D$7=1,1,IF(Worksheet!$D$7=2,2,RANDBETWEEN(1,2)))","v":1},null,{"$f":"IF(H177=1,C177+E177/60,RANDBETWEEN(1,Worksheet!$D$6)+CHOOSE(Worksheet!$D$10,RANDBETWEEN(1,9)/10,RANDBETWEEN(1,99)/100,RANDBETWEEN(1,999)/1000,RANDBETWEEN(1,9999)/10000,RANDBETWEEN(1,99999)/100000))","v":3.7},"minutes"]
[{"$f":"IF(COUNTIF($B$1:B178,TRUE)=COUNTIF($B$1:B177,TRUE),\"\",COUNTIF($B$1:B178,TRUE))","v":""},{"$f":"Worksheet!$B$14","v":false},{"$f":"IF(H178=1,RANDBETWEEN(1,Worksheet!$D$6),INT(J178))","v":14},{"$f":"IF(C178=1,\"week\",\"weeks\")","v":"weeks"},{"$f":"IF(H178=1,RANDBETWEEN(1,6),(J178-INT(J178))*7)","v":3},"days","=",{"$f":"IF(Worksheet!$D$7=1,1,IF(Worksheet!$D$7=2,2,RANDBETWEEN(1,2)))","v":1},null,{"$f":"IF(H178=1,C178+E178/7,RANDBETWEEN(1,Worksheet!$D$6)+CHOOSE(Worksheet!$D$10,RANDBETWEEN(1,9)/10,RANDBETWEEN(1,99)/100,RANDBETWEEN(1,999)/1000,RANDBETWEEN(1,9999)/10000,RANDBETWEEN(1,99999)/100000))","v":14.428571428571429},"weeks"]
[{"$f":"IF(COUNTIF($B$1:B179,TRUE)=COUNTIF($B$1:B178,TRUE),\"\",COUNTIF($B$1:B179,TRUE))","v":""},{"$f":"Worksheet!$D$12","v":false},{"$f":"IF(H179=1,RANDBETWEEN(1,Worksheet!$D$6),INT(J179))","v":8},{"$f":"IF(C179=1,\"day\",\"days\")","v":"days"},{"$f":"IF(H179=1,RANDBETWEEN(1,23),(J179-INT(J179))*24)","v":19.200000000000017},"hours","=",{"$f":"IF(Worksheet!$D$7=1,1,IF(Worksheet!$D$7=2,2,RANDBETWEEN(1,2)))","v":2},null,{"$f":"IF(H179=1,C179+E179/24,RANDBETWEEN(1,Worksheet!$D$6)+CHOOSE(Worksheet!$D$10,RANDBETWEEN(1,9)/10,RANDBETWEEN(1,99)/100,RANDBETWEEN(1,999)/1000,RANDBETWEEN(1,9999)/10000,RANDBETWEEN(1,99999)/100000))","v":8.8000000000000007},"days"]
[{"$f":"IF(COUNTIF($B$1:B180,TRUE)=COUNTIF($B$1:B179,TRUE),\"\",COUNTIF($B$1:B180,TRUE))","v":""},{"$f":"Worksheet!$D$13","v":false},{"$f":"IF(H180=1,RANDBETWEEN(1,Worksheet!$D$6),INT(J180))","v":10},{"$f":"IF(C180=1,\"year\",\"years\")","v":"years"},{"$f":"IF(H180=1,RANDBETWEEN(1,11),(J180-INT(J180))*12)","v":2.3999999999999915},"months","=",{"$f":"IF(Worksheet!$D$7=1,1,IF(Worksheet!$D$7=2,2,RANDBETWEEN(1,2)))","v":2},null,{"$f":"IF(H180=1,C180+E180/12,RANDBETWEEN(1,Worksheet!$D$6)+CHOOSE(Worksheet!$D$10,RANDBETWEEN(1,9)/10,RANDBETWEEN(1,99)/100,RANDBETWEEN(1,999)/1000,RANDBETWEEN(1,9999)/10000,RANDBETWEEN(1,99999)/100000))","v":10.199999999999999},"years"]
[{"$f":"COUNTIF($B$1:B181,TRUE)","v":73},{"$f":"Worksheet!$B$12","v":true},{"$f":"IF(H181=1,RANDBETWEEN(1,Worksheet!$D$6),INT(J181))","v":12},{"$f":"IF(C181=1,\"hour\",\"hours\")","v":"hours"},{"$f":"IF(H181=1,IF(Worksheet!$D$10=1,RANDBETWEEN(1,9)*6,IF(Worksheet!$D$10=2,RANDBETWEEN(1,19)*3,RANDBETWEEN(1,59))),(J181-INT(J181))*60)","v":18},"minutes","=",{"$f":"IF(Worksheet!$D$7=1,1,IF(Worksheet!$D$7=2,2,RANDBETWEEN(1,2)))","v":1},null,{"$f":"IF(H181=1,C181+E181/60,RANDBETWEEN(1,Worksheet!$D$6)+CHOOSE(Worksheet!$D$10,RANDBETWEEN(1,9)/10,RANDBETWEEN(1,99)/100,RANDBETWEEN(1,999)/1000,RANDBETWEEN(1,9999)/10000,RANDBETWEEN(1,99999)/100000))","v":12.3},"hours"]
[{"$f":"IF(COUNTIF($B$1:B182,TRUE)=COUNTIF($B$1:B181,TRUE),\"\",COUNTIF($B$1:B182,TRUE))","v":74},{"$f":"Worksheet!$B$13","v":true},{"$f":"IF(H182=1,RANDBETWEEN(1,Worksheet!$D$6),INT(J182))","v":22},{"$f":"IF(C182=1,\"minute\",\"minutes\")","v":"minutes"},{"$f":"IF(H182=1,IF(Worksheet!$D$10=1,RANDBETWEEN(1,9)*6,IF(Worksheet!$D$10=2,RANDBETWEEN(1,19)*3,RANDBETWEEN(1,59))),(J182-INT(J182))*60)","v":6},"seconds","=",{"$f":"IF(Worksheet!$D$7=1,1,IF(Worksheet!$D$7=2,2,RANDBETWEEN(1,2)))","v":1},null,{"$f":"IF(H182=1,C182+E182/60,RANDBETWEEN(1,Worksheet!$D$6)+CHOOSE(Worksheet!$D$10,RANDBETWEEN(1,9)/10,RANDBETWEEN(1,99)/100,RANDBETWEEN(1,999)/1000,RANDBETWEEN(1,9999)/10000,RANDBETWEEN(1,99999)/100000))","v":22.1},"minutes"]
[{"$f":"IF(COUNTIF($B$1:B183,TRUE)=COUNTIF($B$1:B182,TRUE),\"\",COUNTIF($B$1:B183,TRUE))","v":""},{"$f":"Worksheet!$B$14","v":false},{"$f":"IF(H183=1,RANDBETWEEN(1,Worksheet!$D$6),INT(J183))","v":23},{"$f":"IF(C183=1,\"week\",\"weeks\")","v":"weeks"},{"$f":"IF(H183=1,RANDBETWEEN(1,6),(J183-INT(J183))*7)","v":4.2000000000000099},"days","=",{"$f":"IF(Worksheet!$D$7=1,1,IF(Worksheet!$D$7=2,2,RANDBETWEEN(1,2)))","v":2},null,{"$f":"IF(H183=1,C183+E183/7,RANDBETWEEN(1,Worksheet!$D$6)+CHOOSE(Worksheet!$D$10,RANDBETWEEN(1,9)/10,RANDBETWEEN(1,99)/100,RANDBETWEEN(1,999)/1000,RANDBETWEEN(1,9999)/10000,RANDBETWEEN(1,99999)/100000))","v":23.6},"weeks"]
[{"$f":"IF(COUNTIF($B$1:B184,TRUE)=COUNTIF($B$1:B183,TRUE),\"\",COUNTIF($B$1:B184,TRUE))","v":""},{"$f":"Worksheet!$D$12","v":false},{"$f":"IF(H184=1,RANDBETWEEN(1,Worksheet!$D$6),INT(J184))","v":21},{"$f":"IF(C184=1,\"day\",\"days\")","v":"days"},{"$f":"IF(H184=1,RANDBETWEEN(1,23),(J184-INT(J184))*24)","v":22},"hours","=",{"$f":"IF(Worksheet!$D$7=1,1,IF(Worksheet!$D$7=2,2,RANDBETWEEN(1,2)))","v":1},null,{"$f":"IF(H184=1,C184+E184/24,RANDBETWEEN(1,Worksheet!$D$6)+CHOOSE(Worksheet!$D$10,RANDBETWEEN(1,9)/10,RANDBETWEEN(1,99)/100,RANDBETWEEN(1,999)/1000,RANDBETWEEN(1,9999)/10000,RANDBETWEEN(1,99999)/100000))","v":21.916666666666668},"days"]
[{"$f":"IF(COUNTIF($B$1:B185,TRUE)=COUNTIF($B$1:B184,TRUE),\"\",COUNTIF($B$1:B185,TRUE))","v":""},{"$f":"Worksheet!$D$13","v":false},{"$f":"IF(H185=1,RANDBETWEEN(1,Worksheet!$D$6),INT(J185))","v":7},{"$f":"IF(C185=1,\"year\",\"years\")","v":"years"},{"$f":"IF(H185=1,RANDBETWEEN(1,11),(J185-INT(J185))*12)","v":3.5999999999999979},"months","=",{"$f":"IF(Worksheet!$D$7=1,1,IF(Worksheet!$D$7=2,2,RANDBETWEEN(1,2)))","v":2},null,{"$f":"IF(H185=1,C185+E185/12,RANDBETWEEN(1,Worksheet!$D$6)+CHOOSE(Worksheet!$D$10,RANDBETWEEN(1,9)/10,RANDBETWEEN(1,99)/100,RANDBETWEEN(1,999)/1000,RANDBETWEEN(1,9999)/10000,RANDBETWEEN(1,99999)/100000))","v":7.3},"years"]
[{"$f":"COUNTIF($B$1:B186,TRUE)","v":75},{"$f":"Worksheet!$B$12","v":true},{"$f":"IF(H186=1,RANDBETWEEN(1,Worksheet!$D$6),INT(J186))","v":13},{"$f":"IF(C186=1,\"hour\",\"hours\")","v":"hours"},{"$f":"IF(H186=1,IF(Worksheet!$D$10=1,RANDBETWEEN(1,9)*6,IF(Worksheet!$D$10=2,RANDBETWEEN(1,19)*3,RANDBETWEEN(1,59))),(J186-INT(J186))*60)","v":30},"minutes","=",{"$f":"IF(Worksheet!$D$7=1,1,IF(Worksheet!$D$7=2,2,RANDBETWEEN(1,2)))","v":2},null,{"$f":"IF(H186=1,C186+E186/60,RANDBETWEEN(1,Worksheet!$D$6)+CHOOSE(Worksheet!$D$10,RANDBETWEEN(1,9)/10,RANDBETWEEN(1,99)/100,RANDBETWEEN(1,999)/1000,RANDBETWEEN(1,9999)/10000,RANDBETWEEN(1,99999)/100000))","v":13.5},"hours"]
[{"$f":"IF(COUNTIF($B$1:B187,TRUE)=COUNTIF($B$1:B186,TRUE),\"\",COUNTIF($B$1:B187,TRUE))","v":76},{"$f":"Worksheet!$B$13","v":true},{"$f":"IF(H187=1,RANDBETWEEN(1,Worksheet!$D$6),INT(J187))","v":9},{"$f":"IF(C187=1,\"minute\",\"minutes\")","v":"minutes"},{"$f":"IF(H187=1,IF(Worksheet!$D$10=1,RANDBETWEEN(1,9)*6,IF(Worksheet!$D$10=2,RANDBETWEEN(1,19)*3,RANDBETWEEN(1,59))),(J187-INT(J187))*60)","v":5.9999999999999787},"seconds","=",{"$f":"IF(Worksheet!$D$7=1,1,IF(Worksheet!$D$7=2,2,RANDBETWEEN(1,2)))","v":2},null,{"$f":"IF(H187=1,C187+E187/60,RANDBETWEEN(1,Worksheet!$D$6)+CHOOSE(Worksheet!$D$10,RANDBETWEEN(1,9)/10,RANDBETWEEN(1,99)/100,RANDBETWEEN(1,999)/1000,RANDBETWEEN(1,9999)/10000,RANDBETWEEN(1,99999)/100000))","v":9.1},"minutes"]
[{"$f":"IF(COUNTIF($B$1:B188,TRUE)=COUNTIF($B$1:B187,TRUE),\"\",COUNTIF($B$1:B188,TRUE))","v":""},{"$f":"Worksheet!$B$14","v":false},{"$f":"IF(H188=1,RANDBETWEEN(1,Worksheet!$D$6),INT(J188))","v":3},{"$f":"IF(C188=1,\"week\",\"weeks\")","v":"weeks"},{"$f":"IF(H188=1,RANDBETWEEN(1,6),(J188-INT(J188))*7)","v":6.2999999999999989},"days","=",{"$f":"IF(Worksheet!$D$7=1,1,IF(Worksheet!$D$7=2,2,RANDBETWEEN(1,2)))","v":2},null,{"$f":"IF(H188=1,C188+E188/7,RANDBETWEEN(1,Worksheet!$D$6)+CHOOSE(Worksheet!$D$10,RANDBETWEEN(1,9)/10,RANDBETWEEN(1,99)/100,RANDBETWEEN(1,999)/1000,RANDBETWEEN(1,9999)/10000,RANDBETWEEN(1,99999)/100000))","v":3.9},"weeks"]
[{"$f":"IF(COUNTIF($B$1:B189,TRUE)=COUNTIF($B$1:B188,TRUE),\"\",COUNTIF($B$1:B189,TRUE))","v":""},{"$f":"Worksheet!$D$12","v":false},{"$f":"IF(H189=1,RANDBETWEEN(1,Worksheet!$D$6),INT(J189))","v":4},{"$f":"IF(C189=1,\"day\",\"days\")","v":"days"},{"$f":"IF(H189=1,RANDBETWEEN(1,23),(J189-INT(J189))*24)","v":7.1999999999999957},"hours","=",{"$f":"IF(Worksheet!$D$7=1,1,IF(Worksheet!$D$7=2,2,RANDBETWEEN(1,2)))","v":2},null,{"$f":"IF(H189=1,C189+E189/24,RANDBETWEEN(1,Worksheet!$D$6)+CHOOSE(Worksheet!$D$10,RANDBETWEEN(1,9)/10,RANDBETWEEN(1,99)/100,RANDBETWEEN(1,999)/1000,RANDBETWEEN(1,9999)/10000,RANDBETWEEN(1,99999)/100000))","v":4.3},"days"]
[{"$f":"IF(COUNTIF($B$1:B190,TRUE)=COUNTIF($B$1:B189,TRUE),\"\",COUNTIF($B$1:B190,TRUE))","v":""},{"$f":"Worksheet!$D$13","v":false},{"$f":"IF(H190=1,RANDBETWEEN(1,Worksheet!$D$6),INT(J190))","v":26},{"$f":"IF(C190=1,\"year\",\"years\")","v":"years"},{"$f":"IF(H190=1,RANDBETWEEN(1,11),(J190-INT(J190))*12)","v":3},"months","=",{"$f":"IF(Worksheet!$D$7=1,1,IF(Worksheet!$D$7=2,2,RANDBETWEEN(1,2)))","v":1},null,{"$f":"IF(H190=1,C190+E190/12,RANDBETWEEN(1,Worksheet!$D$6)+CHOOSE(Worksheet!$D$10,RANDBETWEEN(1,9)/10,RANDBETWEEN(1,99)/100,RANDBETWEEN(1,999)/1000,RANDBETWEEN(1,9999)/10000,RANDBETWEEN(1,99999)/100000))","v":26.25},"years"]
[{"$f":"COUNTIF($B$1:B191,TRUE)","v":77},{"$f":"Worksheet!$B$12","v":true},{"$f":"IF(H191=1,RANDBETWEEN(1,Worksheet!$D$6),INT(J191))","v":4},{"$f":"IF(C191=1,\"hour\",\"hours\")","v":"hours"},{"$f":"IF(H191=1,IF(Worksheet!$D$10=1,RANDBETWEEN(1,9)*6,IF(Worksheet!$D$10=2,RANDBETWEEN(1,19)*3,RANDBETWEEN(1,59))),(J191-INT(J191))*60)","v":36},"minutes","=",{"$f":"IF(Worksheet!$D$7=1,1,IF(Worksheet!$D$7=2,2,RANDBETWEEN(1,2)))","v":1},null,{"$f":"IF(H191=1,C191+E191/60,RANDBETWEEN(1,Worksheet!$D$6)+CHOOSE(Worksheet!$D$10,RANDBETWEEN(1,9)/10,RANDBETWEEN(1,99)/100,RANDBETWEEN(1,999)/1000,RANDBETWEEN(1,9999)/10000,RANDBETWEEN(1,99999)/100000))","v":4.5999999999999996},"hours"]
[{"$f":"IF(COUNTIF($B$1:B192,TRUE)=COUNTIF($B$1:B191,TRUE),\"\",COUNTIF($B$1:B192,TRUE))","v":78},{"$f":"Worksheet!$B$13","v":true},{"$f":"IF(H192=1,RANDBETWEEN(1,Worksheet!$D$6),INT(J192))","v":2},{"$f":"IF(C192=1,\"minute\",\"minutes\")","v":"minutes"},{"$f":"IF(H192=1,IF(Worksheet!$D$10=1,RANDBETWEEN(1,9)*6,IF(Worksheet!$D$10=2,RANDBETWEEN(1,19)*3,RANDBETWEEN(1,59))),(J192-INT(J192))*60)","v":47.999999999999986},"seconds","=",{"$f":"IF(Worksheet!$D$7=1,1,IF(Worksheet!$D$7=2,2,RANDBETWEEN(1,2)))","v":2},null,{"$f":"IF(H192=1,C192+E192/60,RANDBETWEEN(1,Worksheet!$D$6)+CHOOSE(Worksheet!$D$10,RANDBETWEEN(1,9)/10,RANDBETWEEN(1,99)/100,RANDBETWEEN(1,999)/1000,RANDBETWEEN(1,9999)/10000,RANDBETWEEN(1,99999)/100000))","v":2.8},"minutes"]
[{"$f":"IF(COUNTIF($B$1:B193,TRUE)=COUNTIF($B$1:B192,TRUE),\"\",COUNTIF($B$1:B193,TRUE))","v":""},{"$f":"Worksheet!$B$14","v":false},{"$f":"IF(H193=1,RANDBETWEEN(1,Worksheet!$D$6),INT(J193))","v":26},{"$f":"IF(C193=1,\"week\",\"weeks\")","v":"weeks"},{"$f":"IF(H193=1,RANDBETWEEN(1,6),(J193-INT(J193))*7)","v":3},"days","=",{"$f":"IF(Worksheet!$D$7=1,1,IF(Worksheet!$D$7=2,2,RANDBETWEEN(1,2)))","v":1},null,{"$f":"IF(H193=1,C193+E193/7,RANDBETWEEN(1,Worksheet!$D$6)+CHOOSE(Worksheet!$D$10,RANDBETWEEN(1,9)/10,RANDBETWEEN(1,99)/100,RANDBETWEEN(1,999)/1000,RANDBETWEEN(1,9999)/10000,RANDBETWEEN(1,99999)/100000))","v":26.428571428571427},"weeks"]
[{"$f":"IF(COUNTIF($B$1:B194,TRUE)=COUNTIF($B$1:B193,TRUE),\"\",COUNTIF($B$1:B194,TRUE))","v":""},{"$f":"Worksheet!$D$12","v":false},{"$f":"IF(H194=1,RANDBETWEEN(1,Worksheet!$D$6),INT(J194))","v":17},{"$f":"IF(C194=1,\"day\",\"days\")","v":"days"},{"$f":"IF(H194=1,RANDBETWEEN(1,23),(J194-INT(J194))*24)","v":7},"hours","=",{"$f":"IF(Worksheet!$D$7=1,1,IF(Worksheet!$D$7=2,2,RANDBETWEEN(1,2)))","v":1},null,{"$f":"IF(H194=1,C194+E194/24,RANDBETWEEN(1,Worksheet!$D$6)+CHOOSE(Worksheet!$D$10,RANDBETWEEN(1,9)/10,RANDBETWEEN(1,99)/100,RANDBETWEEN(1,999)/1000,RANDBETWEEN(1,9999)/10000,RANDBETWEEN(1,99999)/100000))","v":17.291666666666668},"days"]
[{"$f":"IF(COUNTIF($B$1:B195,TRUE)=COUNTIF($B$1:B194,TRUE),\"\",COUNTIF($B$1:B195,TRUE))","v":""},{"$f":"Worksheet!$D$13","v":false},{"$f":"IF(H195=1,RANDBETWEEN(1,Worksheet!$D$6),INT(J195))","v":7},{"$f":"IF(C195=1,\"year\",\"years\")","v":"years"},{"$f":"IF(H195=1,RANDBETWEEN(1,11),(J195-INT(J195))*12)","v":7.1999999999999957},"months","=",{"$f":"IF(Worksheet!$D$7=1,1,IF(Worksheet!$D$7=2,2,RANDBETWEEN(1,2)))","v":2},null,{"$f":"IF(H195=1,C195+E195/12,RANDBETWEEN(1,Worksheet!$D$6)+CHOOSE(Worksheet!$D$10,RANDBETWEEN(1,9)/10,RANDBETWEEN(1,99)/100,RANDBETWEEN(1,999)/1000,RANDBETWEEN(1,9999)/10000,RANDBETWEEN(1,99999)/100000))","v":7.6},"years"]
[{"$f":"COUNTIF($B$1:B196,TRUE)","v":79},{"$f":"Worksheet!$B$12","v":true},{"$f":"IF(H196=1,RANDBETWEEN(1,Worksheet!$D$6),INT(J196))","v":5},{"$f":"IF(C196=1,\"hour\",\"hours\")","v":"hours"},{"$f":"IF(H196=1,IF(Worksheet!$D$10=1,RANDBETWEEN(1,9)*6,IF(Worksheet!$D$10=2,RANDBETWEEN(1,19)*3,RANDBETWEEN(1,59))),(J196-INT(J196))*60)","v":54},"minutes","=",{"$f":"IF(Worksheet!$D$7=1,1,IF(Worksheet!$D$7=2,2,RANDBETWEEN(1,2)))","v":1},null,{"$f":"IF(H196=1,C196+E196/60,RANDBETWEEN(1,Worksheet!$D$6)+CHOOSE(Worksheet!$D$10,RANDBETWEEN(1,9)/10,RANDBETWEEN(1,99)/100,RANDBETWEEN(1,999)/1000,RANDBETWEEN(1,9999)/10000,RANDBETWEEN(1,99999)/100000))","v":5.9},"hours"]
[{"$f":"IF(COUNTIF($B$1:B197,TRUE)=COUNTIF($B$1:B196,TRUE),\"\",COUNTIF($B$1:B197,TRUE))","v":80},{"$f":"Worksheet!$B$13","v":true},{"$f":"IF(H197=1,RANDBETWEEN(1,Worksheet!$D$6),INT(J197))","v":13},{"$f":"IF(C197=1,\"minute\",\"minutes\")","v":"minutes"},{"$f":"IF(H197=1,IF(Worksheet!$D$10=1,RANDBETWEEN(1,9)*6,IF(Worksheet!$D$10=2,RANDBETWEEN(1,19)*3,RANDBETWEEN(1,59))),(J197-INT(J197))*60)","v":30},"seconds","=",{"$f":"IF(Worksheet!$D$7=1,1,IF(Worksheet!$D$7=2,2,RANDBETWEEN(1,2)))","v":1},null,{"$f":"IF(H197=1,C197+E197/60,RANDBETWEEN(1,Worksheet!$D$6)+CHOOSE(Worksheet!$D$10,RANDBETWEEN(1,9)/10,RANDBETWEEN(1,99)/100,RANDBETWEEN(1,999)/1000,RANDBETWEEN(1,9999)/10000,RANDBETWEEN(1,99999)/100000))","v":13.5},"minutes"]
[{"$f":"IF(COUNTIF($B$1:B198,TRUE)=COUNTIF($B$1:B197,TRUE),\"\",COUNTIF($B$1:B198,TRUE))","v":""},{"$f":"Worksheet!$B$14","v":false},{"$f":"IF(H198=1,RANDBETWEEN(1,Worksheet!$D$6),INT(J198))","v":26},{"$f":"IF(C198=1,\"week\",\"weeks\")","v":"weeks"},{"$f":"IF(H198=1,RANDBETWEEN(1,6),(J198-INT(J198))*7)","v":4.899999999999995},"days","=",{"$f":"IF(Worksheet!$D$7=1,1,IF(Worksheet!$D$7=2,2,RANDBETWEEN(1,2)))","v":2},null,{"$f":"IF(H198=1,C198+E198/7,RANDBETWEEN(1,Worksheet!$D$6)+CHOOSE(Worksheet!$D$10,RANDBETWEEN(1,9)/10,RANDBETWEEN(1,99)/100,RANDBETWEEN(1,999)/1000,RANDBETWEEN(1,9999)/10000,RANDBETWEEN(1,99999)/100000))","v":26.7},"weeks"]
[{"$f":"IF(COUNTIF($B$1:B199,TRUE)=COUNTIF($B$1:B198,TRUE),\"\",COUNTIF($B$1:B199,TRUE))","v":""},{"$f":"Worksheet!$D$12","v":false},{"$f":"IF(H199=1,RANDBETWEEN(1,Worksheet!$D$6),INT(J199))","v":24},{"$f":"IF(C199=1,\"day\",\"days\")","v":"days"},{"$f":"IF(H199=1,RANDBETWEEN(1,23),(J199-INT(J199))*24)","v":23},"hours","=",{"$f":"IF(Worksheet!$D$7=1,1,IF(Worksheet!$D$7=2,2,RANDBETWEEN(1,2)))","v":1},null,{"$f":"IF(H199=1,C199+E199/24,RANDBETWEEN(1,Worksheet!$D$6)+CHOOSE(Worksheet!$D$10,RANDBETWEEN(1,9)/10,RANDBETWEEN(1,99)/100,RANDBETWEEN(1,999)/1000,RANDBETWEEN(1,9999)/10000,RANDBETWEEN(1,99999)/100000))","v":24.958333333333332},"days"]
[{"$f":"IF(COUNTIF($B$1:B200,TRUE)=COUNTIF($B$1:B199,TRUE),\"\",COUNTIF($B$1:B200,TRUE))","v":""},{"$f":"Worksheet!$D$13","v":false},{"$f":"IF(H200=1,RANDBETWEEN(1,Worksheet!$D$6),INT(J200))","v":19},{"$f":"IF(C200=1,\"year\",\"years\")","v":"years"},{"$f":"IF(H200=1,RANDBETWEEN(1,11),(J200-INT(J200))*12)","v":4.7999999999999829},"months","=",{"$f":"IF(Worksheet!$D$7=1,1,IF(Worksheet!$D$7=2,2,RANDBETWEEN(1,2)))","v":2},null,{"$f":"IF(H200=1,C200+E200/12,RANDBETWEEN(1,Worksheet!$D$6)+CHOOSE(Worksheet!$D$10,RANDBETWEEN(1,9)/10,RANDBETWEEN(1,99)/100,RANDBETWEEN(1,999)/1000,RANDBETWEEN(1,9999)/10000,RANDBETWEEN(1,99999)/100000))","v":19.399999999999999},"years"]
[{"$f":"COUNTIF($B$1:B201,TRUE)","v":81},{"$f":"Worksheet!$B$12","v":true},{"$f":"IF(H201=1,RANDBETWEEN(1,Worksheet!$D$6),INT(J201))","v":28},{"$f":"IF(C201=1,\"hour\",\"hours\")","v":"hours"},{"$f":"IF(H201=1,IF(Worksheet!$D$10=1,RANDBETWEEN(1,9)*6,IF(Worksheet!$D$10=2,RANDBETWEEN(1,19)*3,RANDBETWEEN(1,59))),(J201-INT(J201))*60)","v":24},"minutes","=",{"$f":"IF(Worksheet!$D$7=1,1,IF(Worksheet!$D$7=2,2,RANDBETWEEN(1,2)))","v":1},null,{"$f":"IF(H201=1,C201+E201/60,RANDBETWEEN(1,Worksheet!$D$6)+CHOOSE(Worksheet!$D$10,RANDBETWEEN(1,9)/10,RANDBETWEEN(1,99)/100,RANDBETWEEN(1,999)/1000,RANDBETWEEN(1,9999)/10000,RANDBETWEEN(1,99999)/100000))","v":28.4},"hours"]
[{"$f":"IF(COUNTIF($B$1:B202,TRUE)=COUNTIF($B$1:B201,TRUE),\"\",COUNTIF($B$1:B202,TRUE))","v":82},{"$f":"Worksheet!$B$13","v":true},{"$f":"IF(H202=1,RANDBETWEEN(1,Worksheet!$D$6),INT(J202))","v":27},{"$f":"IF(C202=1,\"minute\",\"minutes\")","v":"minutes"},{"$f":"IF(H202=1,IF(Worksheet!$D$10=1,RANDBETWEEN(1,9)*6,IF(Worksheet!$D$10=2,RANDBETWEEN(1,19)*3,RANDBETWEEN(1,59))),(J202-INT(J202))*60)","v":54},"seconds","=",{"$f":"IF(Worksheet!$D$7=1,1,IF(Worksheet!$D$7=2,2,RANDBETWEEN(1,2)))","v":1},null,{"$f":"IF(H202=1,C202+E202/60,RANDBETWEEN(1,Worksheet!$D$6)+CHOOSE(Worksheet!$D$10,RANDBETWEEN(1,9)/10,RANDBETWEEN(1,99)/100,RANDBETWEEN(1,999)/1000,RANDBETWEEN(1,9999)/10000,RANDBETWEEN(1,99999)/100000))","v":27.9},"minutes"]
[{"$f":"IF(COUNTIF($B$1:B203,TRUE)=COUNTIF($B$1:B202,TRUE),\"\",COUNTIF($B$1:B203,TRUE))","v":""},{"$f":"Worksheet!$B$14","v":false},{"$f":"IF(H203=1,RANDBETWEEN(1,Worksheet!$D$6),INT(J203))","v":8},{"$f":"IF(C203=1,\"week\",\"weeks\")","v":"weeks"},{"$f":"IF(H203=1,RANDBETWEEN(1,6),(J203-INT(J203))*7)","v":0.69999999999999751},"days","=",{"$f":"IF(Worksheet!$D$7=1,1,IF(Worksheet!$D$7=2,2,RANDBETWEEN(1,2)))","v":2},null,{"$f":"IF(H203=1,C203+E203/7,RANDBETWEEN(1,Worksheet!$D$6)+CHOOSE(Worksheet!$D$10,RANDBETWEEN(1,9)/10,RANDBETWEEN(1,99)/100,RANDBETWEEN(1,999)/1000,RANDBETWEEN(1,9999)/10000,RANDBETWEEN(1,99999)/100000))","v":8.1},"weeks"]
[{"$f":"IF(COUNTIF($B$1:B204,TRUE)=COUNTIF($B$1:B203,TRUE),\"\",COUNTIF($B$1:B204,TRUE))","v":""},{"$f":"Worksheet!$D$12","v":false},{"$f":"IF(H204=1,RANDBETWEEN(1,Worksheet!$D$6),INT(J204))","v":24},{"$f":"IF(C204=1,\"day\",\"days\")","v":"days"},{"$f":"IF(H204=1,RANDBETWEEN(1,23),(J204-INT(J204))*24)","v":2.4000000000000341},"hours","=",{"$f":"IF(Worksheet!$D$7=1,1,IF(Worksheet!$D$7=2,2,RANDBETWEEN(1,2)))","v":2},null,{"$f":"IF(H204=1,C204+E204/24,RANDBETWEEN(1,Worksheet!$D$6)+CHOOSE(Worksheet!$D$10,RANDBETWEEN(1,9)/10,RANDBETWEEN(1,99)/100,RANDBETWEEN(1,999)/1000,RANDBETWEEN(1,9999)/10000,RANDBETWEEN(1,99999)/100000))","v":24.1},"days"]
[{"$f":"IF(COUNTIF($B$1:B205,TRUE)=COUNTIF($B$1:B204,TRUE),\"\",COUNTIF($B$1:B205,TRUE))","v":""},{"$f":"Worksheet!$D$13","v":false},{"$f":"IF(H205=1,RANDBETWEEN(1,Worksheet!$D$6),INT(J205))","v":22},{"$f":"IF(C205=1,\"year\",\"years\")","v":"years"},{"$f":"IF(H205=1,RANDBETWEEN(1,11),(J205-INT(J205))*12)","v":8},"months","=",{"$f":"IF(Worksheet!$D$7=1,1,IF(Worksheet!$D$7=2,2,RANDBETWEEN(1,2)))","v":1},null,{"$f":"IF(H205=1,C205+E205/12,RANDBETWEEN(1,Worksheet!$D$6)+CHOOSE(Worksheet!$D$10,RANDBETWEEN(1,9)/10,RANDBETWEEN(1,99)/100,RANDBETWEEN(1,999)/1000,RANDBETWEEN(1,9999)/10000,RANDBETWEEN(1,99999)/100000))","v":22.666666666666668},"years"]
[{"$f":"COUNTIF($B$1:B206,TRUE)","v":83},{"$f":"Worksheet!$B$12","v":true},{"$f":"IF(H206=1,RANDBETWEEN(1,Worksheet!$D$6),INT(J206))","v":3},{"$f":"IF(C206=1,\"hour\",\"hours\")","v":"hours"},{"$f":"IF(H206=1,IF(Worksheet!$D$10=1,RANDBETWEEN(1,9)*6,IF(Worksheet!$D$10=2,RANDBETWEEN(1,19)*3,RANDBETWEEN(1,59))),(J206-INT(J206))*60)","v":30},"minutes","=",{"$f":"IF(Worksheet!$D$7=1,1,IF(Worksheet!$D$7=2,2,RANDBETWEEN(1,2)))","v":2},null,{"$f":"IF(H206=1,C206+E206/60,RANDBETWEEN(1,Worksheet!$D$6)+CHOOSE(Worksheet!$D$10,RANDBETWEEN(1,9)/10,RANDBETWEEN(1,99)/100,RANDBETWEEN(1,999)/1000,RANDBETWEEN(1,9999)/10000,RANDBETWEEN(1,99999)/100000))","v":3.5},"hours"]
[{"$f":"IF(COUNTIF($B$1:B207,TRUE)=COUNTIF($B$1:B206,TRUE),\"\",COUNTIF($B$1:B207,TRUE))","v":84},{"$f":"Worksheet!$B$13","v":true},{"$f":"IF(H207=1,RANDBETWEEN(1,Worksheet!$D$6),INT(J207))","v":7},{"$f":"IF(C207=1,\"minute\",\"minutes\")","v":"minutes"},{"$f":"IF(H207=1,IF(Worksheet!$D$10=1,RANDBETWEEN(1,9)*6,IF(Worksheet!$D$10=2,RANDBETWEEN(1,19)*3,RANDBETWEEN(1,59))),(J207-INT(J207))*60)","v":30},"seconds","=",{"$f":"IF(Worksheet!$D$7=1,1,IF(Worksheet!$D$7=2,2,RANDBETWEEN(1,2)))","v":2},null,{"$f":"IF(H207=1,C207+E207/60,RANDBETWEEN(1,Worksheet!$D$6)+CHOOSE(Worksheet!$D$10,RANDBETWEEN(1,9)/10,RANDBETWEEN(1,99)/100,RANDBETWEEN(1,999)/1000,RANDBETWEEN(1,9999)/10000,RANDBETWEEN(1,99999)/100000))","v":7.5},"minutes"]
[{"$f":"IF(COUNTIF($B$1:B208,TRUE)=COUNTIF($B$1:B207,TRUE),\"\",COUNTIF($B$1:B208,TRUE))","v":""},{"$f":"Worksheet!$B$14","v":false},{"$f":"IF(H208=1,RANDBETWEEN(1,Worksheet!$D$6),INT(J208))","v":22},{"$f":"IF(C208=1,\"week\",\"weeks\")","v":"weeks"},{"$f":"IF(H208=1,RANDBETWEEN(1,6),(J208-INT(J208))*7)","v":4.2000000000000099},"days","=",{"$f":"IF(Worksheet!$D$7=1,1,IF(Worksheet!$D$7=2,2,RANDBETWEEN(1,2)))","v":2},null,{"$f":"IF(H208=1,C208+E208/7,RANDBETWEEN(1,Worksheet!$D$6)+CHOOSE(Worksheet!$D$10,RANDBETWEEN(1,9)/10,RANDBETWEEN(1,99)/100,RANDBETWEEN(1,999)/1000,RANDBETWEEN(1,9999)/10000,RANDBETWEEN(1,99999)/100000))","v":22.6},"weeks"]
[{"$f":"IF(COUNTIF($B$1:B209,TRUE)=COUNTIF($B$1:B208,TRUE),\"\",COUNTIF($B$1:B209,TRUE))","v":""},{"$f":"Worksheet!$D$12","v":false},{"$f":"IF(H209=1,RANDBETWEEN(1,Worksheet!$D$6),INT(J209))","v":23},{"$f":"IF(C209=1,\"day\",\"days\")","v":"days"},{"$f":"IF(H209=1,RANDBETWEEN(1,23),(J209-INT(J209))*24)","v":16.799999999999983},"hours","=",{"$f":"IF(Worksheet!$D$7=1,1,IF(Worksheet!$D$7=2,2,RANDBETWEEN(1,2)))","v":2},null,{"$f":"IF(H209=1,C209+E209/24,RANDBETWEEN(1,Worksheet!$D$6)+CHOOSE(Worksheet!$D$10,RANDBETWEEN(1,9)/10,RANDBETWEEN(1,99)/100,RANDBETWEEN(1,999)/1000,RANDBETWEEN(1,9999)/10000,RANDBETWEEN(1,99999)/100000))","v":23.7},"days"]
[{"$f":"IF(COUNTIF($B$1:B210,TRUE)=COUNTIF($B$1:B209,TRUE),\"\",COUNTIF($B$1:B210,TRUE))","v":""},{"$f":"Worksheet!$D$13","v":false},{"$f":"IF(H210=1,RANDBETWEEN(1,Worksheet!$D$6),INT(J210))","v":13},{"$f":"IF(C210=1,\"year\",\"years\")","v":"years"},{"$f":"IF(H210=1,RANDBETWEEN(1,11),(J210-INT(J210))*12)","v":4.8000000000000043},"months","=",{"$f":"IF(Worksheet!$D$7=1,1,IF(Worksheet!$D$7=2,2,RANDBETWEEN(1,2)))","v":2},null,{"$f":"IF(H210=1,C210+E210/12,RANDBETWEEN(1,Worksheet!$D$6)+CHOOSE(Worksheet!$D$10,RANDBETWEEN(1,9)/10,RANDBETWEEN(1,99)/100,RANDBETWEEN(1,999)/1000,RANDBETWEEN(1,9999)/10000,RANDBETWEEN(1,99999)/100000))","v":13.4},"years"]
[{"$f":"COUNTIF($B$1:B211,TRUE)","v":85},{"$f":"Worksheet!$B$12","v":true},{"$f":"IF(H211=1,RANDBETWEEN(1,Worksheet!$D$6),INT(J211))","v":1},{"$f":"IF(C211=1,\"hour\",\"hours\")","v":"hour"},{"$f":"IF(H211=1,IF(Worksheet!$D$10=1,RANDBETWEEN(1,9)*6,IF(Worksheet!$D$10=2,RANDBETWEEN(1,19)*3,RANDBETWEEN(1,59))),(J211-INT(J211))*60)","v":6.0000000000000053},"minutes","=",{"$f":"IF(Worksheet!$D$7=1,1,IF(Worksheet!$D$7=2,2,RANDBETWEEN(1,2)))","v":2},null,{"$f":"IF(H211=1,C211+E211/60,RANDBETWEEN(1,Worksheet!$D$6)+CHOOSE(Worksheet!$D$10,RANDBETWEEN(1,9)/10,RANDBETWEEN(1,99)/100,RANDBETWEEN(1,999)/1000,RANDBETWEEN(1,9999)/10000,RANDBETWEEN(1,99999)/100000))","v":1.1000000000000001},"hour"]
[{"$f":"IF(COUNTIF($B$1:B212,TRUE)=COUNTIF($B$1:B211,TRUE),\"\",COUNTIF($B$1:B212,TRUE))","v":86},{"$f":"Worksheet!$B$13","v":true},{"$f":"IF(H212=1,RANDBETWEEN(1,Worksheet!$D$6),INT(J212))","v":8},{"$f":"IF(C212=1,\"minute\",\"minutes\")","v":"minutes"},{"$f":"IF(H212=1,IF(Worksheet!$D$10=1,RANDBETWEEN(1,9)*6,IF(Worksheet!$D$10=2,RANDBETWEEN(1,19)*3,RANDBETWEEN(1,59))),(J212-INT(J212))*60)","v":12},"seconds","=",{"$f":"IF(Worksheet!$D$7=1,1,IF(Worksheet!$D$7=2,2,RANDBETWEEN(1,2)))","v":1},null,{"$f":"IF(H212=1,C212+E212/60,RANDBETWEEN(1,Worksheet!$D$6)+CHOOSE(Worksheet!$D$10,RANDBETWEEN(1,9)/10,RANDBETWEEN(1,99)/100,RANDBETWEEN(1,999)/1000,RANDBETWEEN(1,9999)/10000,RANDBETWEEN(1,99999)/100000))","v":8.1999999999999993},"minutes"]
[{"$f":"IF(COUNTIF($B$1:B213,TRUE)=COUNTIF($B$1:B212,TRUE),\"\",COUNTIF($B$1:B213,TRUE))","v":""},{"$f":"Worksheet!$B$14","v":false},{"$f":"IF(H213=1,RANDBETWEEN(1,Worksheet!$D$6),INT(J213))","v":29},{"$f":"IF(C213=1,\"week\",\"weeks\")","v":"weeks"},{"$f":"IF(H213=1,RANDBETWEEN(1,6),(J213-INT(J213))*7)","v":3.5},"days","=",{"$f":"IF(Worksheet!$D$7=1,1,IF(Worksheet!$D$7=2,2,RANDBETWEEN(1,2)))","v":2},null,{"$f":"IF(H213=1,C213+E213/7,RANDBETWEEN(1,Worksheet!$D$6)+CHOOSE(Worksheet!$D$10,RANDBETWEEN(1,9)/10,RANDBETWEEN(1,99)/100,RANDBETWEEN(1,999)/1000,RANDBETWEEN(1,9999)/10000,RANDBETWEEN(1,99999)/100000))","v":29.5},"weeks"]
[{"$f":"IF(COUNTIF($B$1:B214,TRUE)=COUNTIF($B$1:B213,TRUE),\"\",COUNTIF($B$1:B214,TRUE))","v":""},{"$f":"Worksheet!$D$12","v":false},{"$f":"IF(H214=1,RANDBETWEEN(1,Worksheet!$D$6),INT(J214))","v":23},{"$f":"IF(C214=1,\"day\",\"days\")","v":"days"},{"$f":"IF(H214=1,RANDBETWEEN(1,23),(J214-INT(J214))*24)","v":16.799999999999983},"hours","=",{"$f":"IF(Worksheet!$D$7=1,1,IF(Worksheet!$D$7=2,2,RANDBETWEEN(1,2)))","v":2},null,{"$f":"IF(H214=1,C214+E214/24,RANDBETWEEN(1,Worksheet!$D$6)+CHOOSE(Worksheet!$D$10,RANDBETWEEN(1,9)/10,RANDBETWEEN(1,99)/100,RANDBETWEEN(1,999)/1000,RANDBETWEEN(1,9999)/10000,RANDBETWEEN(1,99999)/100000))","v":23.7},"days"]
[{"$f":"IF(COUNTIF($B$1:B215,TRUE)=COUNTIF($B$1:B214,TRUE),\"\",COUNTIF($B$1:B215,TRUE))","v":""},{"$f":"Worksheet!$D$13","v":false},{"$f":"IF(H215=1,RANDBETWEEN(1,Worksheet!$D$6),INT(J215))","v":25},{"$f":"IF(C215=1,\"year\",\"years\")","v":"years"},{"$f":"IF(H215=1,RANDBETWEEN(1,11),(J215-INT(J215))*12)","v":10.799999999999983},"months","=",{"$f":"IF(Worksheet!$D$7=1,1,IF(Worksheet!$D$7=2,2,RANDBETWEEN(1,2)))","v":2},null,{"$f":"IF(H215=1,C215+E215/12,RANDBETWEEN(1,Worksheet!$D$6)+CHOOSE(Worksheet!$D$10,RANDBETWEEN(1,9)/10,RANDBETWEEN(1,99)/100,RANDBETWEEN(1,999)/1000,RANDBETWEEN(1,9999)/10000,RANDBETWEEN(1,99999)/100000))","v":25.9},"years"]
[{"$f":"COUNTIF($B$1:B216,TRUE)","v":87},{"$f":"Worksheet!$B$12","v":true},{"$f":"IF(H216=1,RANDBETWEEN(1,Worksheet!$D$6),INT(J216))","v":30},{"$f":"IF(C216=1,\"hour\",\"hours\")","v":"hours"},{"$f":"IF(H216=1,IF(Worksheet!$D$10=1,RANDBETWEEN(1,9)*6,IF(Worksheet!$D$10=2,RANDBETWEEN(1,19)*3,RANDBETWEEN(1,59))),(J216-INT(J216))*60)","v":18},"minutes","=",{"$f":"IF(Worksheet!$D$7=1,1,IF(Worksheet!$D$7=2,2,RANDBETWEEN(1,2)))","v":1},null,{"$f":"IF(H216=1,C216+E216/60,RANDBETWEEN(1,Worksheet!$D$6)+CHOOSE(Worksheet!$D$10,RANDBETWEEN(1,9)/10,RANDBETWEEN(1,99)/100,RANDBETWEEN(1,999)/1000,RANDBETWEEN(1,9999)/10000,RANDBETWEEN(1,99999)/100000))","v":30.3},"hours"]
[{"$f":"IF(COUNTIF($B$1:B217,TRUE)=COUNTIF($B$1:B216,TRUE),\"\",COUNTIF($B$1:B217,TRUE))","v":88},{"$f":"Worksheet!$B$13","v":true},{"$f":"IF(H217=1,RANDBETWEEN(1,Worksheet!$D$6),INT(J217))","v":19},{"$f":"IF(C217=1,\"minute\",\"minutes\")","v":"minutes"},{"$f":"IF(H217=1,IF(Worksheet!$D$10=1,RANDBETWEEN(1,9)*6,IF(Worksheet!$D$10=2,RANDBETWEEN(1,19)*3,RANDBETWEEN(1,59))),(J217-INT(J217))*60)","v":48},"seconds","=",{"$f":"IF(Worksheet!$D$7=1,1,IF(Worksheet!$D$7=2,2,RANDBETWEEN(1,2)))","v":1},null,{"$f":"IF(H217=1,C217+E217/60,RANDBETWEEN(1,Worksheet!$D$6)+CHOOSE(Worksheet!$D$10,RANDBETWEEN(1,9)/10,RANDBETWEEN(1,99)/100,RANDBETWEEN(1,999)/1000,RANDBETWEEN(1,9999)/10000,RANDBETWEEN(1,99999)/100000))","v":19.8},"minutes"]
[{"$f":"IF(COUNTIF($B$1:B218,TRUE)=COUNTIF($B$1:B217,TRUE),\"\",COUNTIF($B$1:B218,TRUE))","v":""},{"$f":"Worksheet!$B$14","v":false},{"$f":"IF(H218=1,RANDBETWEEN(1,Worksheet!$D$6),INT(J218))","v":21},{"$f":"IF(C218=1,\"week\",\"weeks\")","v":"weeks"},{"$f":"IF(H218=1,RANDBETWEEN(1,6),(J218-INT(J218))*7)","v":6},"days","=",{"$f":"IF(Worksheet!$D$7=1,1,IF(Worksheet!$D$7=2,2,RANDBETWEEN(1,2)))","v":1},null,{"$f":"IF(H218=1,C218+E218/7,RANDBETWEEN(1,Worksheet!$D$6)+CHOOSE(Worksheet!$D$10,RANDBETWEEN(1,9)/10,RANDBETWEEN(1,99)/100,RANDBETWEEN(1,999)/1000,RANDBETWEEN(1,9999)/10000,RANDBETWEEN(1,99999)/100000))","v":21.857142857142858},"weeks"]
[{"$f":"IF(COUNTIF($B$1:B219,TRUE)=COUNTIF($B$1:B218,TRUE),\"\",COUNTIF($B$1:B219,TRUE))","v":""},{"$f":"Worksheet!$D$12","v":false},{"$f":"IF(H219=1,RANDBETWEEN(1,Worksheet!$D$6),INT(J219))","v":6},{"$f":"IF(C219=1,\"day\",\"days\")","v":"days"},{"$f":"IF(H219=1,RANDBETWEEN(1,23),(J219-INT(J219))*24)","v":14.399999999999991},"hours","=",{"$f":"IF(Worksheet!$D$7=1,1,IF(Worksheet!$D$7=2,2,RANDBETWEEN(1,2)))","v":2},null,{"$f":"IF(H219=1,C219+E219/24,RANDBETWEEN(1,Worksheet!$D$6)+CHOOSE(Worksheet!$D$10,RANDBETWEEN(1,9)/10,RANDBETWEEN(1,99)/100,RANDBETWEEN(1,999)/1000,RANDBETWEEN(1,9999)/10000,RANDBETWEEN(1,99999)/100000))","v":6.6},"days"]
[{"$f":"IF(COUNTIF($B$1:B220,TRUE)=COUNTIF($B$1:B219,TRUE),\"\",COUNTIF($B$1:B220,TRUE))","v":""},{"$f":"Worksheet!$D$13","v":false},{"$f":"IF(H220=1,RANDBETWEEN(1,Worksheet!$D$6),INT(J220))","v":26},{"$f":"IF(C220=1,\"year\",\"years\")","v":"years"},{"$f":"IF(H220=1,RANDBETWEEN(1,11),(J220-INT(J220))*12)","v":10.799999999999983},"months","=",{"$f":"IF(Worksheet!$D$7=1,1,IF(Worksheet!$D$7=2,2,RANDBETWEEN(1,2)))","v":2},null,{"$f":"IF(H220=1,C220+E220/12,RANDBETWEEN(1,Worksheet!$D$6)+CHOOSE(Worksheet!$D$10,RANDBETWEEN(1,9)/10,RANDBETWEEN(1,99)/100,RANDBETWEEN(1,999)/1000,RANDBETWEEN(1,9999)/10000,RANDBETWEEN(1,99999)/100000))","v":26.9},"years"]
[{"$f":"COUNTIF($B$1:B221,TRUE)","v":89},{"$f":"Worksheet!$B$12","v":true},{"$f":"IF(H221=1,RANDBETWEEN(1,Worksheet!$D$6),INT(J221))","v":23},{"$f":"IF(C221=1,\"hour\",\"hours\")","v":"hours"},{"$f":"IF(H221=1,IF(Worksheet!$D$10=1,RANDBETWEEN(1,9)*6,IF(Worksheet!$D$10=2,RANDBETWEEN(1,19)*3,RANDBETWEEN(1,59))),(J221-INT(J221))*60)","v":24},"minutes","=",{"$f":"IF(Worksheet!$D$7=1,1,IF(Worksheet!$D$7=2,2,RANDBETWEEN(1,2)))","v":1},null,{"$f":"IF(H221=1,C221+E221/60,RANDBETWEEN(1,Worksheet!$D$6)+CHOOSE(Worksheet!$D$10,RANDBETWEEN(1,9)/10,RANDBETWEEN(1,99)/100,RANDBETWEEN(1,999)/1000,RANDBETWEEN(1,9999)/10000,RANDBETWEEN(1,99999)/100000))","v":23.4},"hours"]
[{"$f":"IF(COUNTIF($B$1:B222,TRUE)=COUNTIF($B$1:B221,TRUE),\"\",COUNTIF($B$1:B222,TRUE))","v":90},{"$f":"Worksheet!$B$13","v":true},{"$f":"IF(H222=1,RANDBETWEEN(1,Worksheet!$D$6),INT(J222))","v":19},{"$f":"IF(C222=1,\"minute\",\"minutes\")","v":"minutes"},{"$f":"IF(H222=1,IF(Worksheet!$D$10=1,RANDBETWEEN(1,9)*6,IF(Worksheet!$D$10=2,RANDBETWEEN(1,19)*3,RANDBETWEEN(1,59))),(J222-INT(J222))*60)","v":36},"seconds","=",{"$f":"IF(Worksheet!$D$7=1,1,IF(Worksheet!$D$7=2,2,RANDBETWEEN(1,2)))","v":1},null,{"$f":"IF(H222=1,C222+E222/60,RANDBETWEEN(1,Worksheet!$D$6)+CHOOSE(Worksheet!$D$10,RANDBETWEEN(1,9)/10,RANDBETWEEN(1,99)/100,RANDBETWEEN(1,999)/1000,RANDBETWEEN(1,9999)/10000,RANDBETWEEN(1,99999)/100000))","v":19.600000000000001},"minutes"]
[{"$f":"IF(COUNTIF($B$1:B223,TRUE)=COUNTIF($B$1:B222,TRUE),\"\",COUNTIF($B$1:B223,TRUE))","v":""},{"$f":"Worksheet!$B$14","v":false},{"$f":"IF(H223=1,RANDBETWEEN(1,Worksheet!$D$6),INT(J223))","v":3},{"$f":"IF(C223=1,\"week\",\"weeks\")","v":"weeks"},{"$f":"IF(H223=1,RANDBETWEEN(1,6),(J223-INT(J223))*7)","v":1},"days","=",{"$f":"IF(Worksheet!$D$7=1,1,IF(Worksheet!$D$7=2,2,RANDBETWEEN(1,2)))","v":1},null,{"$f":"IF(H223=1,C223+E223/7,RANDBETWEEN(1,Worksheet!$D$6)+CHOOSE(Worksheet!$D$10,RANDBETWEEN(1,9)/10,RANDBETWEEN(1,99)/100,RANDBETWEEN(1,999)/1000,RANDBETWEEN(1,9999)/10000,RANDBETWEEN(1,99999)/100000))","v":3.1428571428571428},{"$f":"D223","v":"weeks"}]
[{"$f":"IF(COUNTIF($B$1:B224,TRUE)=COUNTIF($B$1:B223,TRUE),\"\",COUNTIF($B$1:B224,TRUE))","v":""},{"$f":"Worksheet!$D$12","v":false},{"$f":"IF(H224=1,RANDBETWEEN(1,Worksheet!$D$6),INT(J224))","v":2},{"$f":"IF(C224=1,\"day\",\"days\")","v":"days"},{"$f":"IF(H224=1,RANDBETWEEN(1,23),(J224-INT(J224))*24)","v":7.1999999999999957},"hours","=",{"$f":"IF(Worksheet!$D$7=1,1,IF(Worksheet!$D$7=2,2,RANDBETWEEN(1,2)))","v":2},null,{"$f":"IF(H224=1,C224+E224/24,RANDBETWEEN(1,Worksheet!$D$6)+CHOOSE(Worksheet!$D$10,RANDBETWEEN(1,9)/10,RANDBETWEEN(1,99)/100,RANDBETWEEN(1,999)/1000,RANDBETWEEN(1,9999)/10000,RANDBETWEEN(1,99999)/100000))","v":2.2999999999999998},"days"]
[{"$f":"IF(COUNTIF($B$1:B225,TRUE)=COUNTIF($B$1:B224,TRUE),\"\",COUNTIF($B$1:B225,TRUE))","v":""},{"$f":"Worksheet!$D$13","v":false},{"$f":"IF(H225=1,RANDBETWEEN(1,Worksheet!$D$6),INT(J225))","v":15},{"$f":"IF(C225=1,\"year\",\"years\")","v":"years"},{"$f":"IF(H225=1,RANDBETWEEN(1,11),(J225-INT(J225))*12)","v":6},"months","=",{"$f":"IF(Worksheet!$D$7=1,1,IF(Worksheet!$D$7=2,2,RANDBETWEEN(1,2)))","v":2},null,{"$f":"IF(H225=1,C225+E225/12,RANDBETWEEN(1,Worksheet!$D$6)+CHOOSE(Worksheet!$D$10,RANDBETWEEN(1,9)/10,RANDBETWEEN(1,99)/100,RANDBETWEEN(1,999)/1000,RANDBETWEEN(1,9999)/10000,RANDBETWEEN(1,99999)/100000))","v":15.5},"years"]
[{"$f":"COUNTIF($B$1:B226,TRUE)","v":91},{"$f":"Worksheet!$B$12","v":true},{"$f":"IF(H226=1,RANDBETWEEN(1,Worksheet!$D$6),INT(J226))","v":4},{"$f":"IF(C226=1,\"hour\",\"hours\")","v":"hours"},{"$f":"IF(H226=1,IF(Worksheet!$D$10=1,RANDBETWEEN(1,9)*6,IF(Worksheet!$D$10=2,RANDBETWEEN(1,19)*3,RANDBETWEEN(1,59))),(J226-INT(J226))*60)","v":18},"minutes","=",{"$f":"IF(Worksheet!$D$7=1,1,IF(Worksheet!$D$7=2,2,RANDBETWEEN(1,2)))","v":1},null,{"$f":"IF(H226=1,C226+E226/60,RANDBETWEEN(1,Worksheet!$D$6)+CHOOSE(Worksheet!$D$10,RANDBETWEEN(1,9)/10,RANDBETWEEN(1,99)/100,RANDBETWEEN(1,999)/1000,RANDBETWEEN(1,9999)/10000,RANDBETWEEN(1,99999)/100000))","v":4.3},"hours"]
[{"$f":"IF(COUNTIF($B$1:B227,TRUE)=COUNTIF($B$1:B226,TRUE),\"\",COUNTIF($B$1:B227,TRUE))","v":92},{"$f":"Worksheet!$B$13","v":true},{"$f":"IF(H227=1,RANDBETWEEN(1,Worksheet!$D$6),INT(J227))","v":10},{"$f":"IF(C227=1,\"minute\",\"minutes\")","v":"minutes"},{"$f":"IF(H227=1,IF(Worksheet!$D$10=1,RANDBETWEEN(1,9)*6,IF(Worksheet!$D$10=2,RANDBETWEEN(1,19)*3,RANDBETWEEN(1,59))),(J227-INT(J227))*60)","v":42},"seconds","=",{"$f":"IF(Worksheet!$D$7=1,1,IF(Worksheet!$D$7=2,2,RANDBETWEEN(1,2)))","v":1},null,{"$f":"IF(H227=1,C227+E227/60,RANDBETWEEN(1,Worksheet!$D$6)+CHOOSE(Worksheet!$D$10,RANDBETWEEN(1,9)/10,RANDBETWEEN(1,99)/100,RANDBETWEEN(1,999)/1000,RANDBETWEEN(1,9999)/10000,RANDBETWEEN(1,99999)/100000))","v":10.7},"minutes"]
[{"$f":"IF(COUNTIF($B$1:B228,TRUE)=COUNTIF($B$1:B227,TRUE),\"\",COUNTIF($B$1:B228,TRUE))","v":""},{"$f":"Worksheet!$B$14","v":false},{"$f":"IF(H228=1,RANDBETWEEN(1,Worksheet!$D$6),INT(J228))","v":18},{"$f":"IF(C228=1,\"week\",\"weeks\")","v":"weeks"},{"$f":"IF(H228=1,RANDBETWEEN(1,6),(J228-INT(J228))*7)","v":1},"days","=",{"$f":"IF(Worksheet!$D$7=1,1,IF(Worksheet!$D$7=2,2,RANDBETWEEN(1,2)))","v":1},null,{"$f":"IF(H228=1,C228+E228/7,RANDBETWEEN(1,Worksheet!$D$6)+CHOOSE(Worksheet!$D$10,RANDBETWEEN(1,9)/10,RANDBETWEEN(1,99)/100,RANDBETWEEN(1,999)/1000,RANDBETWEEN(1,9999)/10000,RANDBETWEEN(1,99999)/100000))","v":18.142857142857142},"weeks"]
[{"$f":"IF(COUNTIF($B$1:B229,TRUE)=COUNTIF($B$1:B228,TRUE),\"\",COUNTIF($B$1:B229,TRUE))","v":""},{"$f":"Worksheet!$D$12","v":false},{"$f":"IF(H229=1,RANDBETWEEN(1,Worksheet!$D$6),INT(J229))","v":17},{"$f":"IF(C229=1,\"day\",\"days\")","v":"days"},{"$f":"IF(H229=1,RANDBETWEEN(1,23),(J229-INT(J229))*24)","v":7},"hours","=",{"$f":"IF(Worksheet!$D$7=1,1,IF(Worksheet!$D$7=2,2,RANDBETWEEN(1,2)))","v":1},null,{"$f":"IF(H229=1,C229+E229/24,RANDBETWEEN(1,Worksheet!$D$6)+CHOOSE(Worksheet!$D$10,RANDBETWEEN(1,9)/10,RANDBETWEEN(1,99)/100,RANDBETWEEN(1,999)/1000,RANDBETWEEN(1,9999)/10000,RANDBETWEEN(1,99999)/100000))","v":17.291666666666668},"days"]
[{"$f":"IF(COUNTIF($B$1:B230,TRUE)=COUNTIF($B$1:B229,TRUE),\"\",COUNTIF($B$1:B230,TRUE))","v":""},{"$f":"Worksheet!$D$13","v":false},{"$f":"IF(H230=1,RANDBETWEEN(1,Worksheet!$D$6),INT(J230))","v":17},{"$f":"IF(C230=1,\"year\",\"years\")","v":"years"},{"$f":"IF(H230=1,RANDBETWEEN(1,11),(J230-INT(J230))*12)","v":11},"months","=",{"$f":"IF(Worksheet!$D$7=1,1,IF(Worksheet!$D$7=2,2,RANDBETWEEN(1,2)))","v":1},null,{"$f":"IF(H230=1,C230+E230/12,RANDBETWEEN(1,Worksheet!$D$6)+CHOOSE(Worksheet!$D$10,RANDBETWEEN(1,9)/10,RANDBETWEEN(1,99)/100,RANDBETWEEN(1,999)/1000,RANDBETWEEN(1,9999)/10000,RANDBETWEEN(1,99999)/100000))","v":17.916666666666668},"years"]
[{"$f":"COUNTIF($B$1:B231,TRUE)","v":93},{"$f":"Worksheet!$B$12","v":true},{"$f":"IF(H231=1,RANDBETWEEN(1,Worksheet!$D$6),INT(J231))","v":2},{"$f":"IF(C231=1,\"hour\",\"hours\")","v":"hours"},{"$f":"IF(H231=1,IF(Worksheet!$D$10=1,RANDBETWEEN(1,9)*6,IF(Worksheet!$D$10=2,RANDBETWEEN(1,19)*3,RANDBETWEEN(1,59))),(J231-INT(J231))*60)","v":54},"minutes","=",{"$f":"IF(Worksheet!$D$7=1,1,IF(Worksheet!$D$7=2,2,RANDBETWEEN(1,2)))","v":1},null,{"$f":"IF(H231=1,C231+E231/60,RANDBETWEEN(1,Worksheet!$D$6)+CHOOSE(Worksheet!$D$10,RANDBETWEEN(1,9)/10,RANDBETWEEN(1,99)/100,RANDBETWEEN(1,999)/1000,RANDBETWEEN(1,9999)/10000,RANDBETWEEN(1,99999)/100000))","v":2.9},"hours"]
[{"$f":"IF(COUNTIF($B$1:B232,TRUE)=COUNTIF($B$1:B231,TRUE),\"\",COUNTIF($B$1:B232,TRUE))","v":94},{"$f":"Worksheet!$B$13","v":true},{"$f":"IF(H232=1,RANDBETWEEN(1,Worksheet!$D$6),INT(J232))","v":2},{"$f":"IF(C232=1,\"minute\",\"minutes\")","v":"minutes"},{"$f":"IF(H232=1,IF(Worksheet!$D$10=1,RANDBETWEEN(1,9)*6,IF(Worksheet!$D$10=2,RANDBETWEEN(1,19)*3,RANDBETWEEN(1,59))),(J232-INT(J232))*60)","v":48},"seconds","=",{"$f":"IF(Worksheet!$D$7=1,1,IF(Worksheet!$D$7=2,2,RANDBETWEEN(1,2)))","v":1},null,{"$f":"IF(H232=1,C232+E232/60,RANDBETWEEN(1,Worksheet!$D$6)+CHOOSE(Worksheet!$D$10,RANDBETWEEN(1,9)/10,RANDBETWEEN(1,99)/100,RANDBETWEEN(1,999)/1000,RANDBETWEEN(1,9999)/10000,RANDBETWEEN(1,99999)/100000))","v":2.8},"minutes"]
[{"$f":"IF(COUNTIF($B$1:B233,TRUE)=COUNTIF($B$1:B232,TRUE),\"\",COUNTIF($B$1:B233,TRUE))","v":""},{"$f":"Worksheet!$B$14","v":false},{"$f":"IF(H233=1,RANDBETWEEN(1,Worksheet!$D$6),INT(J233))","v":30},{"$f":"IF(C233=1,\"week\",\"weeks\")","v":"weeks"},{"$f":"IF(H233=1,RANDBETWEEN(1,6),(J233-INT(J233))*7)","v":4.2000000000000099},"days","=",{"$f":"IF(Worksheet!$D$7=1,1,IF(Worksheet!$D$7=2,2,RANDBETWEEN(1,2)))","v":2},null,{"$f":"IF(H233=1,C233+E233/7,RANDBETWEEN(1,Worksheet!$D$6)+CHOOSE(Worksheet!$D$10,RANDBETWEEN(1,9)/10,RANDBETWEEN(1,99)/100,RANDBETWEEN(1,999)/1000,RANDBETWEEN(1,9999)/10000,RANDBETWEEN(1,99999)/100000))","v":30.6},"weeks"]
[{"$f":"IF(COUNTIF($B$1:B234,TRUE)=COUNTIF($B$1:B233,TRUE),\"\",COUNTIF($B$1:B234,TRUE))","v":""},{"$f":"Worksheet!$D$12","v":false},{"$f":"IF(H234=1,RANDBETWEEN(1,Worksheet!$D$6),INT(J234))","v":2},{"$f":"IF(C234=1,\"day\",\"days\")","v":"days"},{"$f":"IF(H234=1,RANDBETWEEN(1,23),(J234-INT(J234))*24)","v":19.199999999999996},"hours","=",{"$f":"IF(Worksheet!$D$7=1,1,IF(Worksheet!$D$7=2,2,RANDBETWEEN(1,2)))","v":2},null,{"$f":"IF(H234=1,C234+E234/24,RANDBETWEEN(1,Worksheet!$D$6)+CHOOSE(Worksheet!$D$10,RANDBETWEEN(1,9)/10,RANDBETWEEN(1,99)/100,RANDBETWEEN(1,999)/1000,RANDBETWEEN(1,9999)/10000,RANDBETWEEN(1,99999)/100000))","v":2.8},"days"]
[{"$f":"IF(COUNTIF($B$1:B235,TRUE)=COUNTIF($B$1:B234,TRUE),\"\",COUNTIF($B$1:B235,TRUE))","v":""},{"$f":"Worksheet!$D$13","v":false},{"$f":"IF(H235=1,RANDBETWEEN(1,Worksheet!$D$6),INT(J235))","v":25},{"$f":"IF(C235=1,\"year\",\"years\")","v":"years"},{"$f":"IF(H235=1,RANDBETWEEN(1,11),(J235-INT(J235))*12)","v":10},"months","=",{"$f":"IF(Worksheet!$D$7=1,1,IF(Worksheet!$D$7=2,2,RANDBETWEEN(1,2)))","v":1},null,{"$f":"IF(H235=1,C235+E235/12,RANDBETWEEN(1,Worksheet!$D$6)+CHOOSE(Worksheet!$D$10,RANDBETWEEN(1,9)/10,RANDBETWEEN(1,99)/100,RANDBETWEEN(1,999)/1000,RANDBETWEEN(1,9999)/10000,RANDBETWEEN(1,99999)/100000))","v":25.833333333333332},"years"]
[{"$f":"COUNTIF($B$1:B236,TRUE)","v":95},{"$f":"Worksheet!$B$12","v":true},{"$f":"IF(H236=1,RANDBETWEEN(1,Worksheet!$D$6),INT(J236))","v":19},{"$f":"IF(C236=1,\"hour\",\"hours\")","v":"hours"},{"$f":"IF(H236=1,IF(Worksheet!$D$10=1,RANDBETWEEN(1,9)*6,IF(Worksheet!$D$10=2,RANDBETWEEN(1,19)*3,RANDBETWEEN(1,59))),(J236-INT(J236))*60)","v":30},"minutes","=",{"$f":"IF(Worksheet!$D$7=1,1,IF(Worksheet!$D$7=2,2,RANDBETWEEN(1,2)))","v":1},null,{"$f":"IF(H236=1,C236+E236/60,RANDBETWEEN(1,Worksheet!$D$6)+CHOOSE(Worksheet!$D$10,RANDBETWEEN(1,9)/10,RANDBETWEEN(1,99)/100,RANDBETWEEN(1,999)/1000,RANDBETWEEN(1,9999)/10000,RANDBETWEEN(1,99999)/100000))","v":19.5},"hours"]
[{"$f":"IF(COUNTIF($B$1:B237,TRUE)=COUNTIF($B$1:B236,TRUE),\"\",COUNTIF($B$1:B237,TRUE))","v":96},{"$f":"Worksheet!$B$13","v":true},{"$f":"IF(H237=1,RANDBETWEEN(1,Worksheet!$D$6),INT(J237))","v":8},{"$f":"IF(C237=1,\"minute\",\"minutes\")","v":"minutes"},{"$f":"IF(H237=1,IF(Worksheet!$D$10=1,RANDBETWEEN(1,9)*6,IF(Worksheet!$D$10=2,RANDBETWEEN(1,19)*3,RANDBETWEEN(1,59))),(J237-INT(J237))*60)","v":54},"seconds","=",{"$f":"IF(Worksheet!$D$7=1,1,IF(Worksheet!$D$7=2,2,RANDBETWEEN(1,2)))","v":1},null,{"$f":"IF(H237=1,C237+E237/60,RANDBETWEEN(1,Worksheet!$D$6)+CHOOSE(Worksheet!$D$10,RANDBETWEEN(1,9)/10,RANDBETWEEN(1,99)/100,RANDBETWEEN(1,999)/1000,RANDBETWEEN(1,9999)/10000,RANDBETWEEN(1,99999)/100000))","v":8.9},"minutes"]
[{"$f":"IF(COUNTIF($B$1:B238,TRUE)=COUNTIF($B$1:B237,TRUE),\"\",COUNTIF($B$1:B238,TRUE))","v":""},{"$f":"Worksheet!$B$14","v":false},{"$f":"IF(H238=1,RANDBETWEEN(1,Worksheet!$D$6),INT(J238))","v":29},{"$f":"IF(C238=1,\"week\",\"weeks\")","v":"weeks"},{"$f":"IF(H238=1,RANDBETWEEN(1,6),(J238-INT(J238))*7)","v":3.5},"days","=",{"$f":"IF(Worksheet!$D$7=1,1,IF(Worksheet!$D$7=2,2,RANDBETWEEN(1,2)))","v":2},null,{"$f":"IF(H238=1,C238+E238/7,RANDBETWEEN(1,Worksheet!$D$6)+CHOOSE(Worksheet!$D$10,RANDBETWEEN(1,9)/10,RANDBETWEEN(1,99)/100,RANDBETWEEN(1,999)/1000,RANDBETWEEN(1,9999)/10000,RANDBETWEEN(1,99999)/100000))","v":29.5},"weeks"]
[{"$f":"IF(COUNTIF($B$1:B239,TRUE)=COUNTIF($B$1:B238,TRUE),\"\",COUNTIF($B$1:B239,TRUE))","v":""},{"$f":"Worksheet!$D$12","v":false},{"$f":"IF(H239=1,RANDBETWEEN(1,Worksheet!$D$6),INT(J239))","v":17},{"$f":"IF(C239=1,\"day\",\"days\")","v":"days"},{"$f":"IF(H239=1,RANDBETWEEN(1,23),(J239-INT(J239))*24)","v":10},"hours","=",{"$f":"IF(Worksheet!$D$7=1,1,IF(Worksheet!$D$7=2,2,RANDBETWEEN(1,2)))","v":1},null,{"$f":"IF(H239=1,C239+E239/24,RANDBETWEEN(1,Worksheet!$D$6)+CHOOSE(Worksheet!$D$10,RANDBETWEEN(1,9)/10,RANDBETWEEN(1,99)/100,RANDBETWEEN(1,999)/1000,RANDBETWEEN(1,9999)/10000,RANDBETWEEN(1,99999)/100000))","v":17.416666666666668},"days"]
[{"$f":"IF(COUNTIF($B$1:B240,TRUE)=COUNTIF($B$1:B239,TRUE),\"\",COUNTIF($B$1:B240,TRUE))","v":""},{"$f":"Worksheet!$D$13","v":false},{"$f":"IF(H240=1,RANDBETWEEN(1,Worksheet!$D$6),INT(J240))","v":10},{"$f":"IF(C240=1,\"year\",\"years\")","v":"years"},{"$f":"IF(H240=1,RANDBETWEEN(1,11),(J240-INT(J240))*12)","v":3.6000000000000085},"months","=",{"$f":"IF(Worksheet!$D$7=1,1,IF(Worksheet!$D$7=2,2,RANDBETWEEN(1,2)))","v":2},null,{"$f":"IF(H240=1,C240+E240/12,RANDBETWEEN(1,Worksheet!$D$6)+CHOOSE(Worksheet!$D$10,RANDBETWEEN(1,9)/10,RANDBETWEEN(1,99)/100,RANDBETWEEN(1,999)/1000,RANDBETWEEN(1,9999)/10000,RANDBETWEEN(1,99999)/100000))","v":10.3},"years"]
[{"$f":"COUNTIF($B$1:B241,TRUE)","v":97},{"$f":"Worksheet!$B$12","v":true},{"$f":"IF(H241=1,RANDBETWEEN(1,Worksheet!$D$6),INT(J241))","v":25},{"$f":"IF(C241=1,\"hour\",\"hours\")","v":"hours"},{"$f":"IF(H241=1,IF(Worksheet!$D$10=1,RANDBETWEEN(1,9)*6,IF(Worksheet!$D$10=2,RANDBETWEEN(1,19)*3,RANDBETWEEN(1,59))),(J241-INT(J241))*60)","v":41.999999999999957},"minutes","=",{"$f":"IF(Worksheet!$D$7=1,1,IF(Worksheet!$D$7=2,2,RANDBETWEEN(1,2)))","v":2},null,{"$f":"IF(H241=1,C241+E241/60,RANDBETWEEN(1,Worksheet!$D$6)+CHOOSE(Worksheet!$D$10,RANDBETWEEN(1,9)/10,RANDBETWEEN(1,99)/100,RANDBETWEEN(1,999)/1000,RANDBETWEEN(1,9999)/10000,RANDBETWEEN(1,99999)/100000))","v":25.7},"hours"]
[{"$f":"IF(COUNTIF($B$1:B242,TRUE)=COUNTIF($B$1:B241,TRUE),\"\",COUNTIF($B$1:B242,TRUE))","v":98},{"$f":"Worksheet!$B$13","v":true},{"$f":"IF(H242=1,RANDBETWEEN(1,Worksheet!$D$6),INT(J242))","v":17},{"$f":"IF(C242=1,\"minute\",\"minutes\")","v":"minutes"},{"$f":"IF(H242=1,IF(Worksheet!$D$10=1,RANDBETWEEN(1,9)*6,IF(Worksheet!$D$10=2,RANDBETWEEN(1,19)*3,RANDBETWEEN(1,59))),(J242-INT(J242))*60)","v":12},"seconds","=",{"$f":"IF(Worksheet!$D$7=1,1,IF(Worksheet!$D$7=2,2,RANDBETWEEN(1,2)))","v":1},null,{"$f":"IF(H242=1,C242+E242/60,RANDBETWEEN(1,Worksheet!$D$6)+CHOOSE(Worksheet!$D$10,RANDBETWEEN(1,9)/10,RANDBETWEEN(1,99)/100,RANDBETWEEN(1,999)/1000,RANDBETWEEN(1,9999)/10000,RANDBETWEEN(1,99999)/100000))","v":17.2},"minutes"]
[{"$f":"IF(COUNTIF($B$1:B243,TRUE)=COUNTIF($B$1:B242,TRUE),\"\",COUNTIF($B$1:B243,TRUE))","v":""},{"$f":"Worksheet!$B$14","v":false},{"$f":"IF(H243=1,RANDBETWEEN(1,Worksheet!$D$6),INT(J243))","v":14},{"$f":"IF(C243=1,\"week\",\"weeks\")","v":"weeks"},{"$f":"IF(H243=1,RANDBETWEEN(1,6),(J243-INT(J243))*7)","v":0.69999999999999751},"days","=",{"$f":"IF(Worksheet!$D$7=1,1,IF(Worksheet!$D$7=2,2,RANDBETWEEN(1,2)))","v":2},null,{"$f":"IF(H243=1,C243+E243/7,RANDBETWEEN(1,Worksheet!$D$6)+CHOOSE(Worksheet!$D$10,RANDBETWEEN(1,9)/10,RANDBETWEEN(1,99)/100,RANDBETWEEN(1,999)/1000,RANDBETWEEN(1,9999)/10000,RANDBETWEEN(1,99999)/100000))","v":14.1},"weeks"]
[{"$f":"IF(COUNTIF($B$1:B244,TRUE)=COUNTIF($B$1:B243,TRUE),\"\",COUNTIF($B$1:B244,TRUE))","v":""},{"$f":"Worksheet!$D$12","v":false},{"$f":"IF(H244=1,RANDBETWEEN(1,Worksheet!$D$6),INT(J244))","v":17},{"$f":"IF(C244=1,\"day\",\"days\")","v":"days"},{"$f":"IF(H244=1,RANDBETWEEN(1,23),(J244-INT(J244))*24)","v":4.7999999999999829},"hours","=",{"$f":"IF(Worksheet!$D$7=1,1,IF(Worksheet!$D$7=2,2,RANDBETWEEN(1,2)))","v":2},null,{"$f":"IF(H244=1,C244+E244/24,RANDBETWEEN(1,Worksheet!$D$6)+CHOOSE(Worksheet!$D$10,RANDBETWEEN(1,9)/10,RANDBETWEEN(1,99)/100,RANDBETWEEN(1,999)/1000,RANDBETWEEN(1,9999)/10000,RANDBETWEEN(1,99999)/100000))","v":17.2},"days"]
[{"$f":"IF(COUNTIF($B$1:B245,TRUE)=COUNTIF($B$1:B244,TRUE),\"\",COUNTIF($B$1:B245,TRUE))","v":""},{"$f":"Worksheet!$D$13","v":false},{"$f":"IF(H245=1,RANDBETWEEN(1,Worksheet!$D$6),INT(J245))","v":5},{"$f":"IF(C245=1,\"year\",\"years\")","v":"years"},{"$f":"IF(H245=1,RANDBETWEEN(1,11),(J245-INT(J245))*12)","v":7.1999999999999957},"months","=",{"$f":"IF(Worksheet!$D$7=1,1,IF(Worksheet!$D$7=2,2,RANDBETWEEN(1,2)))","v":2},null,{"$f":"IF(H245=1,C245+E245/12,RANDBETWEEN(1,Worksheet!$D$6)+CHOOSE(Worksheet!$D$10,RANDBETWEEN(1,9)/10,RANDBETWEEN(1,99)/100,RANDBETWEEN(1,999)/1000,RANDBETWEEN(1,9999)/10000,RANDBETWEEN(1,99999)/100000))","v":5.6},"years"]
[{"$f":"COUNTIF($B$1:B246,TRUE)","v":99},{"$f":"Worksheet!$B$12","v":true},{"$f":"IF(H246=1,RANDBETWEEN(1,Worksheet!$D$6),INT(J246))","v":29},{"$f":"IF(C246=1,\"hour\",\"hours\")","v":"hours"},{"$f":"IF(H246=1,IF(Worksheet!$D$10=1,RANDBETWEEN(1,9)*6,IF(Worksheet!$D$10=2,RANDBETWEEN(1,19)*3,RANDBETWEEN(1,59))),(J246-INT(J246))*60)","v":12},"minutes","=",{"$f":"IF(Worksheet!$D$7=1,1,IF(Worksheet!$D$7=2,2,RANDBETWEEN(1,2)))","v":1},null,{"$f":"IF(H246=1,C246+E246/60,RANDBETWEEN(1,Worksheet!$D$6)+CHOOSE(Worksheet!$D$10,RANDBETWEEN(1,9)/10,RANDBETWEEN(1,99)/100,RANDBETWEEN(1,999)/1000,RANDBETWEEN(1,9999)/10000,RANDBETWEEN(1,99999)/100000))","v":29.2},"hours"]
[{"$f":"IF(COUNTIF($B$1:B247,TRUE)=COUNTIF($B$1:B246,TRUE),\"\",COUNTIF($B$1:B247,TRUE))","v":100},{"$f":"Worksheet!$B$13","v":true},{"$f":"IF(H247=1,RANDBETWEEN(1,Worksheet!$D$6),INT(J247))","v":19},{"$f":"IF(C247=1,\"minute\",\"minutes\")","v":"minutes"},{"$f":"IF(H247=1,IF(Worksheet!$D$10=1,RANDBETWEEN(1,9)*6,IF(Worksheet!$D$10=2,RANDBETWEEN(1,19)*3,RANDBETWEEN(1,59))),(J247-INT(J247))*60)","v":11.999999999999957},"seconds","=",{"$f":"IF(Worksheet!$D$7=1,1,IF(Worksheet!$D$7=2,2,RANDBETWEEN(1,2)))","v":2},null,{"$f":"IF(H247=1,C247+E247/60,RANDBETWEEN(1,Worksheet!$D$6)+CHOOSE(Worksheet!$D$10,RANDBETWEEN(1,9)/10,RANDBETWEEN(1,99)/100,RANDBETWEEN(1,999)/1000,RANDBETWEEN(1,9999)/10000,RANDBETWEEN(1,99999)/100000))","v":19.2},"minutes"]
[{"$f":"IF(COUNTIF($B$1:B248,TRUE)=COUNTIF($B$1:B247,TRUE),\"\",COUNTIF($B$1:B248,TRUE))","v":""},{"$f":"Worksheet!$B$14","v":false},{"$f":"IF(H248=1,RANDBETWEEN(1,Worksheet!$D$6),INT(J248))","v":12},{"$f":"IF(C248=1,\"week\",\"weeks\")","v":"weeks"},{"$f":"IF(H248=1,RANDBETWEEN(1,6),(J248-INT(J248))*7)","v":3},"days","=",{"$f":"IF(Worksheet!$D$7=1,1,IF(Worksheet!$D$7=2,2,RANDBETWEEN(1,2)))","v":1},null,{"$f":"IF(H248=1,C248+E248/7,RANDBETWEEN(1,Worksheet!$D$6)+CHOOSE(Worksheet!$D$10,RANDBETWEEN(1,9)/10,RANDBETWEEN(1,99)/100,RANDBETWEEN(1,999)/1000,RANDBETWEEN(1,9999)/10000,RANDBETWEEN(1,99999)/100000))","v":12.428571428571429},"weeks"]
[{"$f":"IF(COUNTIF($B$1:B249,TRUE)=COUNTIF($B$1:B248,TRUE),\"\",COUNTIF($B$1:B249,TRUE))","v":""},{"$f":"Worksheet!$D$12","v":false},{"$f":"IF(H249=1,RANDBETWEEN(1,Worksheet!$D$6),INT(J249))","v":7},{"$f":"IF(C249=1,\"day\",\"days\")","v":"days"},{"$f":"IF(H249=1,RANDBETWEEN(1,23),(J249-INT(J249))*24)","v":7.1999999999999957},"hours","=",{"$f":"IF(Worksheet!$D$7=1,1,IF(Worksheet!$D$7=2,2,RANDBETWEEN(1,2)))","v":2},null,{"$f":"IF(H249=1,C249+E249/24,RANDBETWEEN(1,Worksheet!$D$6)+CHOOSE(Worksheet!$D$10,RANDBETWEEN(1,9)/10,RANDBETWEEN(1,99)/100,RANDBETWEEN(1,999)/1000,RANDBETWEEN(1,9999)/10000,RANDBETWEEN(1,99999)/100000))","v":7.3},"days"]
[{"$f":"IF(COUNTIF($B$1:B250,TRUE)=COUNTIF($B$1:B249,TRUE),\"\",COUNTIF($B$1:B250,TRUE))","v":""},{"$f":"Worksheet!$D$13","v":false},{"$f":"IF(H250=1,RANDBETWEEN(1,Worksheet!$D$6),INT(J250))","v":7},{"$f":"IF(C250=1,\"year\",\"years\")","v":"years"},{"$f":"IF(H250=1,RANDBETWEEN(1,11),(J250-INT(J250))*12)","v":11},"months","=",{"$f":"IF(Worksheet!$D$7=1,1,IF(Worksheet!$D$7=2,2,RANDBETWEEN(1,2)))","v":1},null,{"$f":"IF(H250=1,C250+E250/12,RANDBETWEEN(1,Worksheet!$D$6)+CHOOSE(Worksheet!$D$10,RANDBETWEEN(1,9)/10,RANDBETWEEN(1,99)/100,RANDBETWEEN(1,999)/1000,RANDBETWEEN(1,9999)/10000,RANDBETWEEN(1,99999)/100000))","v":7.916666666666667},"years"]
[{"$f":"COUNTIF($B$1:B251,TRUE)","v":101},{"$f":"Worksheet!$B$12","v":true},{"$f":"IF(H251=1,RANDBETWEEN(1,Worksheet!$D$6),INT(J251))","v":18},{"$f":"IF(C251=1,\"hour\",\"hours\")","v":"hours"},{"$f":"IF(H251=1,IF(Worksheet!$D$10=1,RANDBETWEEN(1,9)*6,IF(Worksheet!$D$10=2,RANDBETWEEN(1,19)*3,RANDBETWEEN(1,59))),(J251-INT(J251))*60)","v":36.000000000000085},"minutes","=",{"$f":"IF(Worksheet!$D$7=1,1,IF(Worksheet!$D$7=2,2,RANDBETWEEN(1,2)))","v":2},null,{"$f":"IF(H251=1,C251+E251/60,RANDBETWEEN(1,Worksheet!$D$6)+CHOOSE(Worksheet!$D$10,RANDBETWEEN(1,9)/10,RANDBETWEEN(1,99)/100,RANDBETWEEN(1,999)/1000,RANDBETWEEN(1,9999)/10000,RANDBETWEEN(1,99999)/100000))","v":18.600000000000001},"hours"]
[{"$f":"IF(COUNTIF($B$1:B252,TRUE)=COUNTIF($B$1:B251,TRUE),\"\",COUNTIF($B$1:B252,TRUE))","v":102},{"$f":"Worksheet!$B$13","v":true},{"$f":"IF(H252=1,RANDBETWEEN(1,Worksheet!$D$6),INT(J252))","v":19},{"$f":"IF(C252=1,\"minute\",\"minutes\")","v":"minutes"},{"$f":"IF(H252=1,IF(Worksheet!$D$10=1,RANDBETWEEN(1,9)*6,IF(Worksheet!$D$10=2,RANDBETWEEN(1,19)*3,RANDBETWEEN(1,59))),(J252-INT(J252))*60)","v":41.999999999999957},"seconds","=",{"$f":"IF(Worksheet!$D$7=1,1,IF(Worksheet!$D$7=2,2,RANDBETWEEN(1,2)))","v":2},null,{"$f":"IF(H252=1,C252+E252/60,RANDBETWEEN(1,Worksheet!$D$6)+CHOOSE(Worksheet!$D$10,RANDBETWEEN(1,9)/10,RANDBETWEEN(1,99)/100,RANDBETWEEN(1,999)/1000,RANDBETWEEN(1,9999)/10000,RANDBETWEEN(1,99999)/100000))","v":19.7},"minutes"]
[{"$f":"IF(COUNTIF($B$1:B253,TRUE)=COUNTIF($B$1:B252,TRUE),\"\",COUNTIF($B$1:B253,TRUE))","v":""},{"$f":"Worksheet!$B$14","v":false},{"$f":"IF(H253=1,RANDBETWEEN(1,Worksheet!$D$6),INT(J253))","v":4},{"$f":"IF(C253=1,\"week\",\"weeks\")","v":"weeks"},{"$f":"IF(H253=1,RANDBETWEEN(1,6),(J253-INT(J253))*7)","v":4},"days","=",{"$f":"IF(Worksheet!$D$7=1,1,IF(Worksheet!$D$7=2,2,RANDBETWEEN(1,2)))","v":1},null,{"$f":"IF(H253=1,C253+E253/7,RANDBETWEEN(1,Worksheet!$D$6)+CHOOSE(Worksheet!$D$10,RANDBETWEEN(1,9)/10,RANDBETWEEN(1,99)/100,RANDBETWEEN(1,999)/1000,RANDBETWEEN(1,9999)/10000,RANDBETWEEN(1,99999)/100000))","v":4.5714285714285712},"weeks"]
[{"$f":"IF(COUNTIF($B$1:B254,TRUE)=COUNTIF($B$1:B253,TRUE),\"\",COUNTIF($B$1:B254,TRUE))","v":""},{"$f":"Worksheet!$D$12","v":false},{"$f":"IF(H254=1,RANDBETWEEN(1,Worksheet!$D$6),INT(J254))","v":26},{"$f":"IF(C254=1,\"day\",\"days\")","v":"days"},{"$f":"IF(H254=1,RANDBETWEEN(1,23),(J254-INT(J254))*24)","v":7.2000000000000171},"hours","=",{"$f":"IF(Worksheet!$D$7=1,1,IF(Worksheet!$D$7=2,2,RANDBETWEEN(1,2)))","v":2},null,{"$f":"IF(H254=1,C254+E254/24,RANDBETWEEN(1,Worksheet!$D$6)+CHOOSE(Worksheet!$D$10,RANDBETWEEN(1,9)/10,RANDBETWEEN(1,99)/100,RANDBETWEEN(1,999)/1000,RANDBETWEEN(1,9999)/10000,RANDBETWEEN(1,99999)/100000))","v":26.3},"days"]
[{"$f":"IF(COUNTIF($B$1:B255,TRUE)=COUNTIF($B$1:B254,TRUE),\"\",COUNTIF($B$1:B255,TRUE))","v":""},{"$f":"Worksheet!$D$13","v":false},{"$f":"IF(H255=1,RANDBETWEEN(1,Worksheet!$D$6),INT(J255))","v":19},{"$f":"IF(C255=1,\"year\",\"years\")","v":"years"},{"$f":"IF(H255=1,RANDBETWEEN(1,11),(J255-INT(J255))*12)","v":7},"months","=",{"$f":"IF(Worksheet!$D$7=1,1,IF(Worksheet!$D$7=2,2,RANDBETWEEN(1,2)))","v":1},null,{"$f":"IF(H255=1,C255+E255/12,RANDBETWEEN(1,Worksheet!$D$6)+CHOOSE(Worksheet!$D$10,RANDBETWEEN(1,9)/10,RANDBETWEEN(1,99)/100,RANDBETWEEN(1,999)/1000,RANDBETWEEN(1,9999)/10000,RANDBETWEEN(1,99999)/100000))","v":19.583333333333332},"years"]
[{"$f":"COUNTIF($B$1:B256,TRUE)","v":103},{"$f":"Worksheet!$B$12","v":true},{"$f":"IF(H256=1,RANDBETWEEN(1,Worksheet!$D$6),INT(J256))","v":8},{"$f":"IF(C256=1,\"hour\",\"hours\")","v":"hours"},{"$f":"IF(H256=1,IF(Worksheet!$D$10=1,RANDBETWEEN(1,9)*6,IF(Worksheet!$D$10=2,RANDBETWEEN(1,19)*3,RANDBETWEEN(1,59))),(J256-INT(J256))*60)","v":6},"minutes","=",{"$f":"IF(Worksheet!$D$7=1,1,IF(Worksheet!$D$7=2,2,RANDBETWEEN(1,2)))","v":1},null,{"$f":"IF(H256=1,C256+E256/60,RANDBETWEEN(1,Worksheet!$D$6)+CHOOSE(Worksheet!$D$10,RANDBETWEEN(1,9)/10,RANDBETWEEN(1,99)/100,RANDBETWEEN(1,999)/1000,RANDBETWEEN(1,9999)/10000,RANDBETWEEN(1,99999)/100000))","v":8.1},"hours"]
[{"$f":"IF(COUNTIF($B$1:B257,TRUE)=COUNTIF($B$1:B256,TRUE),\"\",COUNTIF($B$1:B257,TRUE))","v":104},{"$f":"Worksheet!$B$13","v":true},{"$f":"IF(H257=1,RANDBETWEEN(1,Worksheet!$D$6),INT(J257))","v":2},{"$f":"IF(C257=1,\"minute\",\"minutes\")","v":"minutes"},{"$f":"IF(H257=1,IF(Worksheet!$D$10=1,RANDBETWEEN(1,9)*6,IF(Worksheet!$D$10=2,RANDBETWEEN(1,19)*3,RANDBETWEEN(1,59))),(J257-INT(J257))*60)","v":42.000000000000014},"seconds","=",{"$f":"IF(Worksheet!$D$7=1,1,IF(Worksheet!$D$7=2,2,RANDBETWEEN(1,2)))","v":2},null,{"$f":"IF(H257=1,C257+E257/60,RANDBETWEEN(1,Worksheet!$D$6)+CHOOSE(Worksheet!$D$10,RANDBETWEEN(1,9)/10,RANDBETWEEN(1,99)/100,RANDBETWEEN(1,999)/1000,RANDBETWEEN(1,9999)/10000,RANDBETWEEN(1,99999)/100000))","v":2.7},"minutes"]
[{"$f":"IF(COUNTIF($B$1:B258,TRUE)=COUNTIF($B$1:B257,TRUE),\"\",COUNTIF($B$1:B258,TRUE))","v":""},{"$f":"Worksheet!$B$14","v":false},{"$f":"IF(H258=1,RANDBETWEEN(1,Worksheet!$D$6),INT(J258))","v":27},{"$f":"IF(C258=1,\"week\",\"weeks\")","v":"weeks"},{"$f":"IF(H258=1,RANDBETWEEN(1,6),(J258-INT(J258))*7)","v":5},"days","=",{"$f":"IF(Worksheet!$D$7=1,1,IF(Worksheet!$D$7=2,2,RANDBETWEEN(1,2)))","v":1},null,{"$f":"IF(H258=1,C258+E258/7,RANDBETWEEN(1,Worksheet!$D$6)+CHOOSE(Worksheet!$D$10,RANDBETWEEN(1,9)/10,RANDBETWEEN(1,99)/100,RANDBETWEEN(1,999)/1000,RANDBETWEEN(1,9999)/10000,RANDBETWEEN(1,99999)/100000))","v":27.714285714285715},"weeks"]
[{"$f":"IF(COUNTIF($B$1:B259,TRUE)=COUNTIF($B$1:B258,TRUE),\"\",COUNTIF($B$1:B259,TRUE))","v":""},{"$f":"Worksheet!$D$12","v":false},{"$f":"IF(H259=1,RANDBETWEEN(1,Worksheet!$D$6),INT(J259))","v":17},{"$f":"IF(C259=1,\"day\",\"days\")","v":"days"},{"$f":"IF(H259=1,RANDBETWEEN(1,23),(J259-INT(J259))*24)","v":4.7999999999999829},"hours","=",{"$f":"IF(Worksheet!$D$7=1,1,IF(Worksheet!$D$7=2,2,RANDBETWEEN(1,2)))","v":2},null,{"$f":"IF(H259=1,C259+E259/24,RANDBETWEEN(1,Worksheet!$D$6)+CHOOSE(Worksheet!$D$10,RANDBETWEEN(1,9)/10,RANDBETWEEN(1,99)/100,RANDBETWEEN(1,999)/1000,RANDBETWEEN(1,9999)/10000,RANDBETWEEN(1,99999)/100000))","v":17.2},"days"]
[{"$f":"IF(COUNTIF($B$1:B260,TRUE)=COUNTIF($B$1:B259,TRUE),\"\",COUNTIF($B$1:B260,TRUE))","v":""},{"$f":"Worksheet!$D$13","v":false},{"$f":"IF(H260=1,RANDBETWEEN(1,Worksheet!$D$6),INT(J260))","v":18},{"$f":"IF(C260=1,\"year\",\"years\")","v":"years"},{"$f":"IF(H260=1,RANDBETWEEN(1,11),(J260-INT(J260))*12)","v":1},"months","=",{"$f":"IF(Worksheet!$D$7=1,1,IF(Worksheet!$D$7=2,2,RANDBETWEEN(1,2)))","v":1},null,{"$f":"IF(H260=1,C260+E260/12,RANDBETWEEN(1,Worksheet!$D$6)+CHOOSE(Worksheet!$D$10,RANDBETWEEN(1,9)/10,RANDBETWEEN(1,99)/100,RANDBETWEEN(1,999)/1000,RANDBETWEEN(1,9999)/10000,RANDBETWEEN(1,99999)/100000))","v":18.083333333333332},"years"]
[{"$f":"COUNTIF($B$1:B261,TRUE)","v":105},{"$f":"Worksheet!$B$12","v":true},{"$f":"IF(H261=1,RANDBETWEEN(1,Worksheet!$D$6),INT(J261))","v":14},{"$f":"IF(C261=1,\"hour\",\"hours\")","v":"hours"},{"$f":"IF(H261=1,IF(Worksheet!$D$10=1,RANDBETWEEN(1,9)*6,IF(Worksheet!$D$10=2,RANDBETWEEN(1,19)*3,RANDBETWEEN(1,59))),(J261-INT(J261))*60)","v":54.000000000000021},"minutes","=",{"$f":"IF(Worksheet!$D$7=1,1,IF(Worksheet!$D$7=2,2,RANDBETWEEN(1,2)))","v":2},null,{"$f":"IF(H261=1,C261+E261/60,RANDBETWEEN(1,Worksheet!$D$6)+CHOOSE(Worksheet!$D$10,RANDBETWEEN(1,9)/10,RANDBETWEEN(1,99)/100,RANDBETWEEN(1,999)/1000,RANDBETWEEN(1,9999)/10000,RANDBETWEEN(1,99999)/100000))","v":14.9},"hours"]
[{"$f":"IF(COUNTIF($B$1:B262,TRUE)=COUNTIF($B$1:B261,TRUE),\"\",COUNTIF($B$1:B262,TRUE))","v":106},{"$f":"Worksheet!$B$13","v":true},{"$f":"IF(H262=1,RANDBETWEEN(1,Worksheet!$D$6),INT(J262))","v":27},{"$f":"IF(C262=1,\"minute\",\"minutes\")","v":"minutes"},{"$f":"IF(H262=1,IF(Worksheet!$D$10=1,RANDBETWEEN(1,9)*6,IF(Worksheet!$D$10=2,RANDBETWEEN(1,19)*3,RANDBETWEEN(1,59))),(J262-INT(J262))*60)","v":30},"seconds","=",{"$f":"IF(Worksheet!$D$7=1,1,IF(Worksheet!$D$7=2,2,RANDBETWEEN(1,2)))","v":1},null,{"$f":"IF(H262=1,C262+E262/60,RANDBETWEEN(1,Worksheet!$D$6)+CHOOSE(Worksheet!$D$10,RANDBETWEEN(1,9)/10,RANDBETWEEN(1,99)/100,RANDBETWEEN(1,999)/1000,RANDBETWEEN(1,9999)/10000,RANDBETWEEN(1,99999)/100000))","v":27.5},"minutes"]
[{"$f":"IF(COUNTIF($B$1:B263,TRUE)=COUNTIF($B$1:B262,TRUE),\"\",COUNTIF($B$1:B263,TRUE))","v":""},{"$f":"Worksheet!$B$14","v":false},{"$f":"IF(H263=1,RANDBETWEEN(1,Worksheet!$D$6),INT(J263))","v":8},{"$f":"IF(C263=1,\"week\",\"weeks\")","v":"weeks"},{"$f":"IF(H263=1,RANDBETWEEN(1,6),(J263-INT(J263))*7)","v":6},"days","=",{"$f":"IF(Worksheet!$D$7=1,1,IF(Worksheet!$D$7=2,2,RANDBETWEEN(1,2)))","v":1},null,{"$f":"IF(H263=1,C263+E263/7,RANDBETWEEN(1,Worksheet!$D$6)+CHOOSE(Worksheet!$D$10,RANDBETWEEN(1,9)/10,RANDBETWEEN(1,99)/100,RANDBETWEEN(1,999)/1000,RANDBETWEEN(1,9999)/10000,RANDBETWEEN(1,99999)/100000))","v":8.8571428571428577},"weeks"]
[{"$f":"IF(COUNTIF($B$1:B264,TRUE)=COUNTIF($B$1:B263,TRUE),\"\",COUNTIF($B$1:B264,TRUE))","v":""},{"$f":"Worksheet!$D$12","v":false},{"$f":"IF(H264=1,RANDBETWEEN(1,Worksheet!$D$6),INT(J264))","v":26},{"$f":"IF(C264=1,\"day\",\"days\")","v":"days"},{"$f":"IF(H264=1,RANDBETWEEN(1,23),(J264-INT(J264))*24)","v":2},"hours","=",{"$f":"IF(Worksheet!$D$7=1,1,IF(Worksheet!$D$7=2,2,RANDBETWEEN(1,2)))","v":1},null,{"$f":"IF(H264=1,C264+E264/24,RANDBETWEEN(1,Worksheet!$D$6)+CHOOSE(Worksheet!$D$10,RANDBETWEEN(1,9)/10,RANDBETWEEN(1,99)/100,RANDBETWEEN(1,999)/1000,RANDBETWEEN(1,9999)/10000,RANDBETWEEN(1,99999)/100000))","v":26.083333333333332},"days"]
[{"$f":"IF(COUNTIF($B$1:B265,TRUE)=COUNTIF($B$1:B264,TRUE),\"\",COUNTIF($B$1:B265,TRUE))","v":""},{"$f":"Worksheet!$D$13","v":false},{"$f":"IF(H265=1,RANDBETWEEN(1,Worksheet!$D$6),INT(J265))","v":30},{"$f":"IF(C265=1,\"year\",\"years\")","v":"years"},{"$f":"IF(H265=1,RANDBETWEEN(1,11),(J265-INT(J265))*12)","v":8.3999999999999915},"months","=",{"$f":"IF(Worksheet!$D$7=1,1,IF(Worksheet!$D$7=2,2,RANDBETWEEN(1,2)))","v":2},null,{"$f":"IF(H265=1,C265+E265/12,RANDBETWEEN(1,Worksheet!$D$6)+CHOOSE(Worksheet!$D$10,RANDBETWEEN(1,9)/10,RANDBETWEEN(1,99)/100,RANDBETWEEN(1,999)/1000,RANDBETWEEN(1,9999)/10000,RANDBETWEEN(1,99999)/100000))","v":30.7},"years"]
[{"$f":"COUNTIF($B$1:B266,TRUE)","v":107},{"$f":"Worksheet!$B$12","v":true},{"$f":"IF(H266=1,RANDBETWEEN(1,Worksheet!$D$6),INT(J266))","v":23},{"$f":"IF(C266=1,\"hour\",\"hours\")","v":"hours"},{"$f":"IF(H266=1,IF(Worksheet!$D$10=1,RANDBETWEEN(1,9)*6,IF(Worksheet!$D$10=2,RANDBETWEEN(1,19)*3,RANDBETWEEN(1,59))),(J266-INT(J266))*60)","v":54},"minutes","=",{"$f":"IF(Worksheet!$D$7=1,1,IF(Worksheet!$D$7=2,2,RANDBETWEEN(1,2)))","v":1},null,{"$f":"IF(H266=1,C266+E266/60,RANDBETWEEN(1,Worksheet!$D$6)+CHOOSE(Worksheet!$D$10,RANDBETWEEN(1,9)/10,RANDBETWEEN(1,99)/100,RANDBETWEEN(1,999)/1000,RANDBETWEEN(1,9999)/10000,RANDBETWEEN(1,99999)/100000))","v":23.9},"hours"]
[{"$f":"IF(COUNTIF($B$1:B267,TRUE)=COUNTIF($B$1:B266,TRUE),\"\",COUNTIF($B$1:B267,TRUE))","v":108},{"$f":"Worksheet!$B$13","v":true},{"$f":"IF(H267=1,RANDBETWEEN(1,Worksheet!$D$6),INT(J267))","v":12},{"$f":"IF(C267=1,\"minute\",\"minutes\")","v":"minutes"},{"$f":"IF(H267=1,IF(Worksheet!$D$10=1,RANDBETWEEN(1,9)*6,IF(Worksheet!$D$10=2,RANDBETWEEN(1,19)*3,RANDBETWEEN(1,59))),(J267-INT(J267))*60)","v":6},"seconds","=",{"$f":"IF(Worksheet!$D$7=1,1,IF(Worksheet!$D$7=2,2,RANDBETWEEN(1,2)))","v":1},null,{"$f":"IF(H267=1,C267+E267/60,RANDBETWEEN(1,Worksheet!$D$6)+CHOOSE(Worksheet!$D$10,RANDBETWEEN(1,9)/10,RANDBETWEEN(1,99)/100,RANDBETWEEN(1,999)/1000,RANDBETWEEN(1,9999)/10000,RANDBETWEEN(1,99999)/100000))","v":12.1},"minutes"]
[{"$f":"IF(COUNTIF($B$1:B268,TRUE)=COUNTIF($B$1:B267,TRUE),\"\",COUNTIF($B$1:B268,TRUE))","v":""},{"$f":"Worksheet!$B$14","v":false},{"$f":"IF(H268=1,RANDBETWEEN(1,Worksheet!$D$6),INT(J268))","v":7},{"$f":"IF(C268=1,\"week\",\"weeks\")","v":"weeks"},{"$f":"IF(H268=1,RANDBETWEEN(1,6),(J268-INT(J268))*7)","v":4},"days","=",{"$f":"IF(Worksheet!$D$7=1,1,IF(Worksheet!$D$7=2,2,RANDBETWEEN(1,2)))","v":1},null,{"$f":"IF(H268=1,C268+E268/7,RANDBETWEEN(1,Worksheet!$D$6)+CHOOSE(Worksheet!$D$10,RANDBETWEEN(1,9)/10,RANDBETWEEN(1,99)/100,RANDBETWEEN(1,999)/1000,RANDBETWEEN(1,9999)/10000,RANDBETWEEN(1,99999)/100000))","v":7.5714285714285712},"weeks"]
[{"$f":"IF(COUNTIF($B$1:B269,TRUE)=COUNTIF($B$1:B268,TRUE),\"\",COUNTIF($B$1:B269,TRUE))","v":""},{"$f":"Worksheet!$D$12","v":false},{"$f":"IF(H269=1,RANDBETWEEN(1,Worksheet!$D$6),INT(J269))","v":2},{"$f":"IF(C269=1,\"day\",\"days\")","v":"days"},{"$f":"IF(H269=1,RANDBETWEEN(1,23),(J269-INT(J269))*24)","v":21},"hours","=",{"$f":"IF(Worksheet!$D$7=1,1,IF(Worksheet!$D$7=2,2,RANDBETWEEN(1,2)))","v":1},null,{"$f":"IF(H269=1,C269+E269/24,RANDBETWEEN(1,Worksheet!$D$6)+CHOOSE(Worksheet!$D$10,RANDBETWEEN(1,9)/10,RANDBETWEEN(1,99)/100,RANDBETWEEN(1,999)/1000,RANDBETWEEN(1,9999)/10000,RANDBETWEEN(1,99999)/100000))","v":2.875},"days"]
[{"$f":"IF(COUNTIF($B$1:B270,TRUE)=COUNTIF($B$1:B269,TRUE),\"\",COUNTIF($B$1:B270,TRUE))","v":""},{"$f":"Worksheet!$D$13","v":false},{"$f":"IF(H270=1,RANDBETWEEN(1,Worksheet!$D$6),INT(J270))","v":20},{"$f":"IF(C270=1,\"year\",\"years\")","v":"years"},{"$f":"IF(H270=1,RANDBETWEEN(1,11),(J270-INT(J270))*12)","v":5},"months","=",{"$f":"IF(Worksheet!$D$7=1,1,IF(Worksheet!$D$7=2,2,RANDBETWEEN(1,2)))","v":1},null,{"$f":"IF(H270=1,C270+E270/12,RANDBETWEEN(1,Worksheet!$D$6)+CHOOSE(Worksheet!$D$10,RANDBETWEEN(1,9)/10,RANDBETWEEN(1,99)/100,RANDBETWEEN(1,999)/1000,RANDBETWEEN(1,9999)/10000,RANDBETWEEN(1,99999)/100000))","v":20.416666666666668},"years"]
[{"$f":"COUNTIF($B$1:B271,TRUE)","v":109},{"$f":"Worksheet!$B$12","v":true},{"$f":"IF(H271=1,RANDBETWEEN(1,Worksheet!$D$6),INT(J271))","v":29},{"$f":"IF(C271=1,\"hour\",\"hours\")","v":"hours"},{"$f":"IF(H271=1,IF(Worksheet!$D$10=1,RANDBETWEEN(1,9)*6,IF(Worksheet!$D$10=2,RANDBETWEEN(1,19)*3,RANDBETWEEN(1,59))),(J271-INT(J271))*60)","v":24},"minutes","=",{"$f":"IF(Worksheet!$D$7=1,1,IF(Worksheet!$D$7=2,2,RANDBETWEEN(1,2)))","v":1},null,{"$f":"IF(H271=1,C271+E271/60,RANDBETWEEN(1,Worksheet!$D$6)+CHOOSE(Worksheet!$D$10,RANDBETWEEN(1,9)/10,RANDBETWEEN(1,99)/100,RANDBETWEEN(1,999)/1000,RANDBETWEEN(1,9999)/10000,RANDBETWEEN(1,99999)/100000))","v":29.4},"hours"]
[{"$f":"IF(COUNTIF($B$1:B272,TRUE)=COUNTIF($B$1:B271,TRUE),\"\",COUNTIF($B$1:B272,TRUE))","v":110},{"$f":"Worksheet!$B$13","v":true},{"$f":"IF(H272=1,RANDBETWEEN(1,Worksheet!$D$6),INT(J272))","v":26},{"$f":"IF(C272=1,\"minute\",\"minutes\")","v":"minutes"},{"$f":"IF(H272=1,IF(Worksheet!$D$10=1,RANDBETWEEN(1,9)*6,IF(Worksheet!$D$10=2,RANDBETWEEN(1,19)*3,RANDBETWEEN(1,59))),(J272-INT(J272))*60)","v":30},"seconds","=",{"$f":"IF(Worksheet!$D$7=1,1,IF(Worksheet!$D$7=2,2,RANDBETWEEN(1,2)))","v":1},null,{"$f":"IF(H272=1,C272+E272/60,RANDBETWEEN(1,Worksheet!$D$6)+CHOOSE(Worksheet!$D$10,RANDBETWEEN(1,9)/10,RANDBETWEEN(1,99)/100,RANDBETWEEN(1,999)/1000,RANDBETWEEN(1,9999)/10000,RANDBETWEEN(1,99999)/100000))","v":26.5},"minutes"]
[{"$f":"IF(COUNTIF($B$1:B273,TRUE)=COUNTIF($B$1:B272,TRUE),\"\",COUNTIF($B$1:B273,TRUE))","v":""},{"$f":"Worksheet!$B$14","v":false},{"$f":"IF(H273=1,RANDBETWEEN(1,Worksheet!$D$6),INT(J273))","v":6},{"$f":"IF(C273=1,\"week\",\"weeks\")","v":"weeks"},{"$f":"IF(H273=1,RANDBETWEEN(1,6),(J273-INT(J273))*7)","v":2.0999999999999988},"days","=",{"$f":"IF(Worksheet!$D$7=1,1,IF(Worksheet!$D$7=2,2,RANDBETWEEN(1,2)))","v":2},null,{"$f":"IF(H273=1,C273+E273/7,RANDBETWEEN(1,Worksheet!$D$6)+CHOOSE(Worksheet!$D$10,RANDBETWEEN(1,9)/10,RANDBETWEEN(1,99)/100,RANDBETWEEN(1,999)/1000,RANDBETWEEN(1,9999)/10000,RANDBETWEEN(1,99999)/100000))","v":6.3},"weeks"]
[{"$f":"IF(COUNTIF($B$1:B274,TRUE)=COUNTIF($B$1:B273,TRUE),\"\",COUNTIF($B$1:B274,TRUE))","v":""},{"$f":"Worksheet!$D$12","v":false},{"$f":"IF(H274=1,RANDBETWEEN(1,Worksheet!$D$6),INT(J274))","v":27},{"$f":"IF(C274=1,\"day\",\"days\")","v":"days"},{"$f":"IF(H274=1,RANDBETWEEN(1,23),(J274-INT(J274))*24)","v":9.5999999999999659},"hours","=",{"$f":"IF(Worksheet!$D$7=1,1,IF(Worksheet!$D$7=2,2,RANDBETWEEN(1,2)))","v":2},null,{"$f":"IF(H274=1,C274+E274/24,RANDBETWEEN(1,Worksheet!$D$6)+CHOOSE(Worksheet!$D$10,RANDBETWEEN(1,9)/10,RANDBETWEEN(1,99)/100,RANDBETWEEN(1,999)/1000,RANDBETWEEN(1,9999)/10000,RANDBETWEEN(1,99999)/100000))","v":27.4},"days"]
[{"$f":"IF(COUNTIF($B$1:B275,TRUE)=COUNTIF($B$1:B274,TRUE),\"\",COUNTIF($B$1:B275,TRUE))","v":""},{"$f":"Worksheet!$D$13","v":false},{"$f":"IF(H275=1,RANDBETWEEN(1,Worksheet!$D$6),INT(J275))","v":6},{"$f":"IF(C275=1,\"year\",\"years\")","v":"years"},{"$f":"IF(H275=1,RANDBETWEEN(1,11),(J275-INT(J275))*12)","v":2.4000000000000021},"months","=",{"$f":"IF(Worksheet!$D$7=1,1,IF(Worksheet!$D$7=2,2,RANDBETWEEN(1,2)))","v":2},null,{"$f":"IF(H275=1,C275+E275/12,RANDBETWEEN(1,Worksheet!$D$6)+CHOOSE(Worksheet!$D$10,RANDBETWEEN(1,9)/10,RANDBETWEEN(1,99)/100,RANDBETWEEN(1,999)/1000,RANDBETWEEN(1,9999)/10000,RANDBETWEEN(1,99999)/100000))","v":6.2},"years"]
[{"$f":"COUNTIF($B$1:B276,TRUE)","v":111},{"$f":"Worksheet!$B$12","v":true},{"$f":"IF(H276=1,RANDBETWEEN(1,Worksheet!$D$6),INT(J276))","v":6},{"$f":"IF(C276=1,\"hour\",\"hours\")","v":"hours"},{"$f":"IF(H276=1,IF(Worksheet!$D$10=1,RANDBETWEEN(1,9)*6,IF(Worksheet!$D$10=2,RANDBETWEEN(1,19)*3,RANDBETWEEN(1,59))),(J276-INT(J276))*60)","v":36},"minutes","=",{"$f":"IF(Worksheet!$D$7=1,1,IF(Worksheet!$D$7=2,2,RANDBETWEEN(1,2)))","v":1},null,{"$f":"IF(H276=1,C276+E276/60,RANDBETWEEN(1,Worksheet!$D$6)+CHOOSE(Worksheet!$D$10,RANDBETWEEN(1,9)/10,RANDBETWEEN(1,99)/100,RANDBETWEEN(1,999)/1000,RANDBETWEEN(1,9999)/10000,RANDBETWEEN(1,99999)/100000))","v":6.6},"hours"]
[{"$f":"IF(COUNTIF($B$1:B277,TRUE)=COUNTIF($B$1:B276,TRUE),\"\",COUNTIF($B$1:B277,TRUE))","v":112},{"$f":"Worksheet!$B$13","v":true},{"$f":"IF(H277=1,RANDBETWEEN(1,Worksheet!$D$6),INT(J277))","v":19},{"$f":"IF(C277=1,\"minute\",\"minutes\")","v":"minutes"},{"$f":"IF(H277=1,IF(Worksheet!$D$10=1,RANDBETWEEN(1,9)*6,IF(Worksheet!$D$10=2,RANDBETWEEN(1,19)*3,RANDBETWEEN(1,59))),(J277-INT(J277))*60)","v":42},"seconds","=",{"$f":"IF(Worksheet!$D$7=1,1,IF(Worksheet!$D$7=2,2,RANDBETWEEN(1,2)))","v":1},null,{"$f":"IF(H277=1,C277+E277/60,RANDBETWEEN(1,Worksheet!$D$6)+CHOOSE(Worksheet!$D$10,RANDBETWEEN(1,9)/10,RANDBETWEEN(1,99)/100,RANDBETWEEN(1,999)/1000,RANDBETWEEN(1,9999)/10000,RANDBETWEEN(1,99999)/100000))","v":19.7},"minutes"]
[{"$f":"IF(COUNTIF($B$1:B278,TRUE)=COUNTIF($B$1:B277,TRUE),\"\",COUNTIF($B$1:B278,TRUE))","v":""},{"$f":"Worksheet!$B$14","v":false},{"$f":"IF(H278=1,RANDBETWEEN(1,Worksheet!$D$6),INT(J278))","v":17},{"$f":"IF(C278=1,\"week\",\"weeks\")","v":"weeks"},{"$f":"IF(H278=1,RANDBETWEEN(1,6),(J278-INT(J278))*7)","v":2.100000000000005},"days","=",{"$f":"IF(Worksheet!$D$7=1,1,IF(Worksheet!$D$7=2,2,RANDBETWEEN(1,2)))","v":2},null,{"$f":"IF(H278=1,C278+E278/7,RANDBETWEEN(1,Worksheet!$D$6)+CHOOSE(Worksheet!$D$10,RANDBETWEEN(1,9)/10,RANDBETWEEN(1,99)/100,RANDBETWEEN(1,999)/1000,RANDBETWEEN(1,9999)/10000,RANDBETWEEN(1,99999)/100000))","v":17.3},"weeks"]
[{"$f":"IF(COUNTIF($B$1:B279,TRUE)=COUNTIF($B$1:B278,TRUE),\"\",COUNTIF($B$1:B279,TRUE))","v":""},{"$f":"Worksheet!$D$12","v":false},{"$f":"IF(H279=1,RANDBETWEEN(1,Worksheet!$D$6),INT(J279))","v":10},{"$f":"IF(C279=1,\"day\",\"days\")","v":"days"},{"$f":"IF(H279=1,RANDBETWEEN(1,23),(J279-INT(J279))*24)","v":8},"hours","=",{"$f":"IF(Worksheet!$D$7=1,1,IF(Worksheet!$D$7=2,2,RANDBETWEEN(1,2)))","v":1},null,{"$f":"IF(H279=1,C279+E279/24,RANDBETWEEN(1,Worksheet!$D$6)+CHOOSE(Worksheet!$D$10,RANDBETWEEN(1,9)/10,RANDBETWEEN(1,99)/100,RANDBETWEEN(1,999)/1000,RANDBETWEEN(1,9999)/10000,RANDBETWEEN(1,99999)/100000))","v":10.333333333333334},"days"]
[{"$f":"IF(COUNTIF($B$1:B280,TRUE)=COUNTIF($B$1:B279,TRUE),\"\",COUNTIF($B$1:B280,TRUE))","v":""},{"$f":"Worksheet!$D$13","v":false},{"$f":"IF(H280=1,RANDBETWEEN(1,Worksheet!$D$6),INT(J280))","v":8},{"$f":"IF(C280=1,\"year\",\"years\")","v":"years"},{"$f":"IF(H280=1,RANDBETWEEN(1,11),(J280-INT(J280))*12)","v":7.1999999999999957},"months","=",{"$f":"IF(Worksheet!$D$7=1,1,IF(Worksheet!$D$7=2,2,RANDBETWEEN(1,2)))","v":2},null,{"$f":"IF(H280=1,C280+E280/12,RANDBETWEEN(1,Worksheet!$D$6)+CHOOSE(Worksheet!$D$10,RANDBETWEEN(1,9)/10,RANDBETWEEN(1,99)/100,RANDBETWEEN(1,999)/1000,RANDBETWEEN(1,9999)/10000,RANDBETWEEN(1,99999)/100000))","v":8.6},"years"]
[{"$f":"COUNTIF($B$1:B281,TRUE)","v":113},{"$f":"Worksheet!$B$12","v":true},{"$f":"IF(H281=1,RANDBETWEEN(1,Worksheet!$D$6),INT(J281))","v":2},{"$f":"IF(C281=1,\"hour\",\"hours\")","v":"hours"},{"$f":"IF(H281=1,IF(Worksheet!$D$10=1,RANDBETWEEN(1,9)*6,IF(Worksheet!$D$10=2,RANDBETWEEN(1,19)*3,RANDBETWEEN(1,59))),(J281-INT(J281))*60)","v":48},"minutes","=",{"$f":"IF(Worksheet!$D$7=1,1,IF(Worksheet!$D$7=2,2,RANDBETWEEN(1,2)))","v":1},null,{"$f":"IF(H281=1,C281+E281/60,RANDBETWEEN(1,Worksheet!$D$6)+CHOOSE(Worksheet!$D$10,RANDBETWEEN(1,9)/10,RANDBETWEEN(1,99)/100,RANDBETWEEN(1,999)/1000,RANDBETWEEN(1,9999)/10000,RANDBETWEEN(1,99999)/100000))","v":2.8},"hours"]
[{"$f":"IF(COUNTIF($B$1:B282,TRUE)=COUNTIF($B$1:B281,TRUE),\"\",COUNTIF($B$1:B282,TRUE))","v":114},{"$f":"Worksheet!$B$13","v":true},{"$f":"IF(H282=1,RANDBETWEEN(1,Worksheet!$D$6),INT(J282))","v":27},{"$f":"IF(C282=1,\"minute\",\"minutes\")","v":"minutes"},{"$f":"IF(H282=1,IF(Worksheet!$D$10=1,RANDBETWEEN(1,9)*6,IF(Worksheet!$D$10=2,RANDBETWEEN(1,19)*3,RANDBETWEEN(1,59))),(J282-INT(J282))*60)","v":36.000000000000085},"seconds","=",{"$f":"IF(Worksheet!$D$7=1,1,IF(Worksheet!$D$7=2,2,RANDBETWEEN(1,2)))","v":2},null,{"$f":"IF(H282=1,C282+E282/60,RANDBETWEEN(1,Worksheet!$D$6)+CHOOSE(Worksheet!$D$10,RANDBETWEEN(1,9)/10,RANDBETWEEN(1,99)/100,RANDBETWEEN(1,999)/1000,RANDBETWEEN(1,9999)/10000,RANDBETWEEN(1,99999)/100000))","v":27.6},"minutes"]
[{"$f":"IF(COUNTIF($B$1:B283,TRUE)=COUNTIF($B$1:B282,TRUE),\"\",COUNTIF($B$1:B283,TRUE))","v":""},{"$f":"Worksheet!$B$14","v":false},{"$f":"IF(H283=1,RANDBETWEEN(1,Worksheet!$D$6),INT(J283))","v":12},{"$f":"IF(C283=1,\"week\",\"weeks\")","v":"weeks"},{"$f":"IF(H283=1,RANDBETWEEN(1,6),(J283-INT(J283))*7)","v":1},"days","=",{"$f":"IF(Worksheet!$D$7=1,1,IF(Worksheet!$D$7=2,2,RANDBETWEEN(1,2)))","v":1},null,{"$f":"IF(H283=1,C283+E283/7,RANDBETWEEN(1,Worksheet!$D$6)+CHOOSE(Worksheet!$D$10,RANDBETWEEN(1,9)/10,RANDBETWEEN(1,99)/100,RANDBETWEEN(1,999)/1000,RANDBETWEEN(1,9999)/10000,RANDBETWEEN(1,99999)/100000))","v":12.142857142857142},"weeks"]
[{"$f":"IF(COUNTIF($B$1:B284,TRUE)=COUNTIF($B$1:B283,TRUE),\"\",COUNTIF($B$1:B284,TRUE))","v":""},{"$f":"Worksheet!$D$12","v":false},{"$f":"IF(H284=1,RANDBETWEEN(1,Worksheet!$D$6),INT(J284))","v":26},{"$f":"IF(C284=1,\"day\",\"days\")","v":"days"},{"$f":"IF(H284=1,RANDBETWEEN(1,23),(J284-INT(J284))*24)","v":21.599999999999966},"hours","=",{"$f":"IF(Worksheet!$D$7=1,1,IF(Worksheet!$D$7=2,2,RANDBETWEEN(1,2)))","v":2},null,{"$f":"IF(H284=1,C284+E284/24,RANDBETWEEN(1,Worksheet!$D$6)+CHOOSE(Worksheet!$D$10,RANDBETWEEN(1,9)/10,RANDBETWEEN(1,99)/100,RANDBETWEEN(1,999)/1000,RANDBETWEEN(1,9999)/10000,RANDBETWEEN(1,99999)/100000))","v":26.9},"days"]
[{"$f":"IF(COUNTIF($B$1:B285,TRUE)=COUNTIF($B$1:B284,TRUE),\"\",COUNTIF($B$1:B285,TRUE))","v":""},{"$f":"Worksheet!$D$13","v":false},{"$f":"IF(H285=1,RANDBETWEEN(1,Worksheet!$D$6),INT(J285))","v":18},{"$f":"IF(C285=1,\"year\",\"years\")","v":"years"},{"$f":"IF(H285=1,RANDBETWEEN(1,11),(J285-INT(J285))*12)","v":7},"months","=",{"$f":"IF(Worksheet!$D$7=1,1,IF(Worksheet!$D$7=2,2,RANDBETWEEN(1,2)))","v":1},null,{"$f":"IF(H285=1,C285+E285/12,RANDBETWEEN(1,Worksheet!$D$6)+CHOOSE(Worksheet!$D$10,RANDBETWEEN(1,9)/10,RANDBETWEEN(1,99)/100,RANDBETWEEN(1,999)/1000,RANDBETWEEN(1,9999)/10000,RANDBETWEEN(1,99999)/100000))","v":18.583333333333332},"years"]
[{"$f":"COUNTIF($B$1:B286,TRUE)","v":115},{"$f":"Worksheet!$B$12","v":true},{"$f":"IF(H286=1,RANDBETWEEN(1,Worksheet!$D$6),INT(J286))","v":16},{"$f":"IF(C286=1,\"hour\",\"hours\")","v":"hours"},{"$f":"IF(H286=1,IF(Worksheet!$D$10=1,RANDBETWEEN(1,9)*6,IF(Worksheet!$D$10=2,RANDBETWEEN(1,19)*3,RANDBETWEEN(1,59))),(J286-INT(J286))*60)","v":48},"minutes","=",{"$f":"IF(Worksheet!$D$7=1,1,IF(Worksheet!$D$7=2,2,RANDBETWEEN(1,2)))","v":1},null,{"$f":"IF(H286=1,C286+E286/60,RANDBETWEEN(1,Worksheet!$D$6)+CHOOSE(Worksheet!$D$10,RANDBETWEEN(1,9)/10,RANDBETWEEN(1,99)/100,RANDBETWEEN(1,999)/1000,RANDBETWEEN(1,9999)/10000,RANDBETWEEN(1,99999)/100000))","v":16.8},"hours"]
[{"$f":"IF(COUNTIF($B$1:B287,TRUE)=COUNTIF($B$1:B286,TRUE),\"\",COUNTIF($B$1:B287,TRUE))","v":116},{"$f":"Worksheet!$B$13","v":true},{"$f":"IF(H287=1,RANDBETWEEN(1,Worksheet!$D$6),INT(J287))","v":13},{"$f":"IF(C287=1,\"minute\",\"minutes\")","v":"minutes"},{"$f":"IF(H287=1,IF(Worksheet!$D$10=1,RANDBETWEEN(1,9)*6,IF(Worksheet!$D$10=2,RANDBETWEEN(1,19)*3,RANDBETWEEN(1,59))),(J287-INT(J287))*60)","v":54.000000000000021},"seconds","=",{"$f":"IF(Worksheet!$D$7=1,1,IF(Worksheet!$D$7=2,2,RANDBETWEEN(1,2)))","v":2},null,{"$f":"IF(H287=1,C287+E287/60,RANDBETWEEN(1,Worksheet!$D$6)+CHOOSE(Worksheet!$D$10,RANDBETWEEN(1,9)/10,RANDBETWEEN(1,99)/100,RANDBETWEEN(1,999)/1000,RANDBETWEEN(1,9999)/10000,RANDBETWEEN(1,99999)/100000))","v":13.9},{"$f":"D287","v":"minutes"}]
[{"$f":"IF(COUNTIF($B$1:B288,TRUE)=COUNTIF($B$1:B287,TRUE),\"\",COUNTIF($B$1:B288,TRUE))","v":""},{"$f":"Worksheet!$B$14","v":false},{"$f":"IF(H288=1,RANDBETWEEN(1,Worksheet!$D$6),INT(J288))","v":22},{"$f":"IF(C288=1,\"week\",\"weeks\")","v":"weeks"},{"$f":"IF(H288=1,RANDBETWEEN(1,6),(J288-INT(J288))*7)","v":1},"days","=",{"$f":"IF(Worksheet!$D$7=1,1,IF(Worksheet!$D$7=2,2,RANDBETWEEN(1,2)))","v":1},null,{"$f":"IF(H288=1,C288+E288/7,RANDBETWEEN(1,Worksheet!$D$6)+CHOOSE(Worksheet!$D$10,RANDBETWEEN(1,9)/10,RANDBETWEEN(1,99)/100,RANDBETWEEN(1,999)/1000,RANDBETWEEN(1,9999)/10000,RANDBETWEEN(1,99999)/100000))","v":22.142857142857142},"weeks"]
[{"$f":"IF(COUNTIF($B$1:B289,TRUE)=COUNTIF($B$1:B288,TRUE),\"\",COUNTIF($B$1:B289,TRUE))","v":""},{"$f":"Worksheet!$D$12","v":false},{"$f":"IF(H289=1,RANDBETWEEN(1,Worksheet!$D$6),INT(J289))","v":2},{"$f":"IF(C289=1,\"day\",\"days\")","v":"days"},{"$f":"IF(H289=1,RANDBETWEEN(1,23),(J289-INT(J289))*24)","v":19},"hours","=",{"$f":"IF(Worksheet!$D$7=1,1,IF(Worksheet!$D$7=2,2,RANDBETWEEN(1,2)))","v":1},null,{"$f":"IF(H289=1,C289+E289/24,RANDBETWEEN(1,Worksheet!$D$6)+CHOOSE(Worksheet!$D$10,RANDBETWEEN(1,9)/10,RANDBETWEEN(1,99)/100,RANDBETWEEN(1,999)/1000,RANDBETWEEN(1,9999)/10000,RANDBETWEEN(1,99999)/100000))","v":2.7916666666666665},"days"]
[{"$f":"IF(COUNTIF($B$1:B290,TRUE)=COUNTIF($B$1:B289,TRUE),\"\",COUNTIF($B$1:B290,TRUE))","v":""},{"$f":"Worksheet!$D$13","v":false},{"$f":"IF(H290=1,RANDBETWEEN(1,Worksheet!$D$6),INT(J290))","v":23},{"$f":"IF(C290=1,\"year\",\"years\")","v":"years"},{"$f":"IF(H290=1,RANDBETWEEN(1,11),(J290-INT(J290))*12)","v":4},"months","=",{"$f":"IF(Worksheet!$D$7=1,1,IF(Worksheet!$D$7=2,2,RANDBETWEEN(1,2)))","v":1},null,{"$f":"IF(H290=1,C290+E290/12,RANDBETWEEN(1,Worksheet!$D$6)+CHOOSE(Worksheet!$D$10,RANDBETWEEN(1,9)/10,RANDBETWEEN(1,99)/100,RANDBETWEEN(1,999)/1000,RANDBETWEEN(1,9999)/10000,RANDBETWEEN(1,99999)/100000))","v":23.333333333333332},"years"]
[{"$f":"COUNTIF($B$1:B291,TRUE)","v":117},{"$f":"Worksheet!$B$12","v":true},{"$f":"IF(H291=1,RANDBETWEEN(1,Worksheet!$D$6),INT(J291))","v":14},{"$f":"IF(C291=1,\"hour\",\"hours\")","v":"hours"},{"$f":"IF(H291=1,IF(Worksheet!$D$10=1,RANDBETWEEN(1,9)*6,IF(Worksheet!$D$10=2,RANDBETWEEN(1,19)*3,RANDBETWEEN(1,59))),(J291-INT(J291))*60)","v":48.000000000000043},"minutes","=",{"$f":"IF(Worksheet!$D$7=1,1,IF(Worksheet!$D$7=2,2,RANDBETWEEN(1,2)))","v":2},null,{"$f":"IF(H291=1,C291+E291/60,RANDBETWEEN(1,Worksheet!$D$6)+CHOOSE(Worksheet!$D$10,RANDBETWEEN(1,9)/10,RANDBETWEEN(1,99)/100,RANDBETWEEN(1,999)/1000,RANDBETWEEN(1,9999)/10000,RANDBETWEEN(1,99999)/100000))","v":14.8},"hours"]
[{"$f":"IF(COUNTIF($B$1:B292,TRUE)=COUNTIF($B$1:B291,TRUE),\"\",COUNTIF($B$1:B292,TRUE))","v":118},{"$f":"Worksheet!$B$13","v":true},{"$f":"IF(H292=1,RANDBETWEEN(1,Worksheet!$D$6),INT(J292))","v":3},{"$f":"IF(C292=1,\"minute\",\"minutes\")","v":"minutes"},{"$f":"IF(H292=1,IF(Worksheet!$D$10=1,RANDBETWEEN(1,9)*6,IF(Worksheet!$D$10=2,RANDBETWEEN(1,19)*3,RANDBETWEEN(1,59))),(J292-INT(J292))*60)","v":36.000000000000007},"seconds","=",{"$f":"IF(Worksheet!$D$7=1,1,IF(Worksheet!$D$7=2,2,RANDBETWEEN(1,2)))","v":2},null,{"$f":"IF(H292=1,C292+E292/60,RANDBETWEEN(1,Worksheet!$D$6)+CHOOSE(Worksheet!$D$10,RANDBETWEEN(1,9)/10,RANDBETWEEN(1,99)/100,RANDBETWEEN(1,999)/1000,RANDBETWEEN(1,9999)/10000,RANDBETWEEN(1,99999)/100000))","v":3.6},"minutes"]
[{"$f":"IF(COUNTIF($B$1:B293,TRUE)=COUNTIF($B$1:B292,TRUE),\"\",COUNTIF($B$1:B293,TRUE))","v":""},{"$f":"Worksheet!$B$14","v":false},{"$f":"IF(H293=1,RANDBETWEEN(1,Worksheet!$D$6),INT(J293))","v":21},{"$f":"IF(C293=1,\"week\",\"weeks\")","v":"weeks"},{"$f":"IF(H293=1,RANDBETWEEN(1,6),(J293-INT(J293))*7)","v":4},"days","=",{"$f":"IF(Worksheet!$D$7=1,1,IF(Worksheet!$D$7=2,2,RANDBETWEEN(1,2)))","v":1},null,{"$f":"IF(H293=1,C293+E293/7,RANDBETWEEN(1,Worksheet!$D$6)+CHOOSE(Worksheet!$D$10,RANDBETWEEN(1,9)/10,RANDBETWEEN(1,99)/100,RANDBETWEEN(1,999)/1000,RANDBETWEEN(1,9999)/10000,RANDBETWEEN(1,99999)/100000))","v":21.571428571428573},"weeks"]
[{"$f":"IF(COUNTIF($B$1:B294,TRUE)=COUNTIF($B$1:B293,TRUE),\"\",COUNTIF($B$1:B294,TRUE))","v":""},{"$f":"Worksheet!$D$12","v":false},{"$f":"IF(H294=1,RANDBETWEEN(1,Worksheet!$D$6),INT(J294))","v":11},{"$f":"IF(C294=1,\"day\",\"days\")","v":"days"},{"$f":"IF(H294=1,RANDBETWEEN(1,23),(J294-INT(J294))*24)","v":23},"hours","=",{"$f":"IF(Worksheet!$D$7=1,1,IF(Worksheet!$D$7=2,2,RANDBETWEEN(1,2)))","v":1},null,{"$f":"IF(H294=1,C294+E294/24,RANDBETWEEN(1,Worksheet!$D$6)+CHOOSE(Worksheet!$D$10,RANDBETWEEN(1,9)/10,RANDBETWEEN(1,99)/100,RANDBETWEEN(1,999)/1000,RANDBETWEEN(1,9999)/10000,RANDBETWEEN(1,99999)/100000))","v":11.958333333333334},"days"]
[{"$f":"IF(COUNTIF($B$1:B295,TRUE)=COUNTIF($B$1:B294,TRUE),\"\",COUNTIF($B$1:B295,TRUE))","v":""},{"$f":"Worksheet!$D$13","v":false},{"$f":"IF(H295=1,RANDBETWEEN(1,Worksheet!$D$6),INT(J295))","v":16},{"$f":"IF(C295=1,\"year\",\"years\")","v":"years"},{"$f":"IF(H295=1,RANDBETWEEN(1,11),(J295-INT(J295))*12)","v":1},"months","=",{"$f":"IF(Worksheet!$D$7=1,1,IF(Worksheet!$D$7=2,2,RANDBETWEEN(1,2)))","v":1},null,{"$f":"IF(H295=1,C295+E295/12,RANDBETWEEN(1,Worksheet!$D$6)+CHOOSE(Worksheet!$D$10,RANDBETWEEN(1,9)/10,RANDBETWEEN(1,99)/100,RANDBETWEEN(1,999)/1000,RANDBETWEEN(1,9999)/10000,RANDBETWEEN(1,99999)/100000))","v":16.083333333333332},"years"]
[{"$f":"COUNTIF($B$1:B296,TRUE)","v":119},{"$f":"Worksheet!$B$12","v":true},{"$f":"IF(H296=1,RANDBETWEEN(1,Worksheet!$D$6),INT(J296))","v":19},{"$f":"IF(C296=1,\"hour\",\"hours\")","v":"hours"},{"$f":"IF(H296=1,IF(Worksheet!$D$10=1,RANDBETWEEN(1,9)*6,IF(Worksheet!$D$10=2,RANDBETWEEN(1,19)*3,RANDBETWEEN(1,59))),(J296-INT(J296))*60)","v":48},"minutes","=",{"$f":"IF(Worksheet!$D$7=1,1,IF(Worksheet!$D$7=2,2,RANDBETWEEN(1,2)))","v":1},null,{"$f":"IF(H296=1,C296+E296/60,RANDBETWEEN(1,Worksheet!$D$6)+CHOOSE(Worksheet!$D$10,RANDBETWEEN(1,9)/10,RANDBETWEEN(1,99)/100,RANDBETWEEN(1,999)/1000,RANDBETWEEN(1,9999)/10000,RANDBETWEEN(1,99999)/100000))","v":19.8},"hours"]
[{"$f":"IF(COUNTIF($B$1:B297,TRUE)=COUNTIF($B$1:B296,TRUE),\"\",COUNTIF($B$1:B297,TRUE))","v":120},{"$f":"Worksheet!$B$13","v":true},{"$f":"IF(H297=1,RANDBETWEEN(1,Worksheet!$D$6),INT(J297))","v":22},{"$f":"IF(C297=1,\"minute\",\"minutes\")","v":"minutes"},{"$f":"IF(H297=1,IF(Worksheet!$D$10=1,RANDBETWEEN(1,9)*6,IF(Worksheet!$D$10=2,RANDBETWEEN(1,19)*3,RANDBETWEEN(1,59))),(J297-INT(J297))*60)","v":24},"seconds","=",{"$f":"IF(Worksheet!$D$7=1,1,IF(Worksheet!$D$7=2,2,RANDBETWEEN(1,2)))","v":1},null,{"$f":"IF(H297=1,C297+E297/60,RANDBETWEEN(1,Worksheet!$D$6)+CHOOSE(Worksheet!$D$10,RANDBETWEEN(1,9)/10,RANDBETWEEN(1,99)/100,RANDBETWEEN(1,999)/1000,RANDBETWEEN(1,9999)/10000,RANDBETWEEN(1,99999)/100000))","v":22.4},"minutes"]
[{"$f":"IF(COUNTIF($B$1:B298,TRUE)=COUNTIF($B$1:B297,TRUE),\"\",COUNTIF($B$1:B298,TRUE))","v":""},{"$f":"Worksheet!$B$14","v":false},{"$f":"IF(H298=1,RANDBETWEEN(1,Worksheet!$D$6),INT(J298))","v":24},{"$f":"IF(C298=1,\"week\",\"weeks\")","v":"weeks"},{"$f":"IF(H298=1,RANDBETWEEN(1,6),(J298-INT(J298))*7)","v":2.7999999999999901},"days","=",{"$f":"IF(Worksheet!$D$7=1,1,IF(Worksheet!$D$7=2,2,RANDBETWEEN(1,2)))","v":2},null,{"$f":"IF(H298=1,C298+E298/7,RANDBETWEEN(1,Worksheet!$D$6)+CHOOSE(Worksheet!$D$10,RANDBETWEEN(1,9)/10,RANDBETWEEN(1,99)/100,RANDBETWEEN(1,999)/1000,RANDBETWEEN(1,9999)/10000,RANDBETWEEN(1,99999)/100000))","v":24.4},"weeks"]
[{"$f":"IF(COUNTIF($B$1:B299,TRUE)=COUNTIF($B$1:B298,TRUE),\"\",COUNTIF($B$1:B299,TRUE))","v":""},{"$f":"Worksheet!$D$12","v":false},{"$f":"IF(H299=1,RANDBETWEEN(1,Worksheet!$D$6),INT(J299))","v":18},{"$f":"IF(C299=1,\"day\",\"days\")","v":"days"},{"$f":"IF(H299=1,RANDBETWEEN(1,23),(J299-INT(J299))*24)","v":7.2000000000000171},"hours","=",{"$f":"IF(Worksheet!$D$7=1,1,IF(Worksheet!$D$7=2,2,RANDBETWEEN(1,2)))","v":2},null,{"$f":"IF(H299=1,C299+E299/24,RANDBETWEEN(1,Worksheet!$D$6)+CHOOSE(Worksheet!$D$10,RANDBETWEEN(1,9)/10,RANDBETWEEN(1,99)/100,RANDBETWEEN(1,999)/1000,RANDBETWEEN(1,9999)/10000,RANDBETWEEN(1,99999)/100000))","v":18.3},"days"]
[{"$f":"IF(COUNTIF($B$1:B300,TRUE)=COUNTIF($B$1:B299,TRUE),\"\",COUNTIF($B$1:B300,TRUE))","v":""},{"$f":"Worksheet!$D$13","v":false},{"$f":"IF(H300=1,RANDBETWEEN(1,Worksheet!$D$6),INT(J300))","v":27},{"$f":"IF(C300=1,\"year\",\"years\")","v":"years"},{"$f":"IF(H300=1,RANDBETWEEN(1,11),(J300-INT(J300))*12)","v":4},"months","=",{"$f":"IF(Worksheet!$D$7=1,1,IF(Worksheet!$D$7=2,2,RANDBETWEEN(1,2)))","v":1},null,{"$f":"IF(H300=1,C300+E300/12,RANDBETWEEN(1,Worksheet!$D$6)+CHOOSE(Worksheet!$D$10,RANDBETWEEN(1,9)/10,RANDBETWEEN(1,99)/100,RANDBETWEEN(1,999)/1000,RANDBETWEEN(1,9999)/10000,RANDBETWEEN(1,99999)/100000))","v":27.333333333333332},"years"]
[{"$f":"COUNTIF($B$1:B301,TRUE)","v":121},{"$f":"Worksheet!$B$12","v":true},{"$f":"IF(H301=1,RANDBETWEEN(1,Worksheet!$D$6),INT(J301))","v":25},{"$f":"IF(C301=1,\"hour\",\"hours\")","v":"hours"},{"$f":"IF(H301=1,IF(Worksheet!$D$10=1,RANDBETWEEN(1,9)*6,IF(Worksheet!$D$10=2,RANDBETWEEN(1,19)*3,RANDBETWEEN(1,59))),(J301-INT(J301))*60)","v":24},"minutes","=",{"$f":"IF(Worksheet!$D$7=1,1,IF(Worksheet!$D$7=2,2,RANDBETWEEN(1,2)))","v":1},null,{"$f":"IF(H301=1,C301+E301/60,RANDBETWEEN(1,Worksheet!$D$6)+CHOOSE(Worksheet!$D$10,RANDBETWEEN(1,9)/10,RANDBETWEEN(1,99)/100,RANDBETWEEN(1,999)/1000,RANDBETWEEN(1,9999)/10000,RANDBETWEEN(1,99999)/100000))","v":25.4},"hours"]
[{"$f":"IF(COUNTIF($B$1:B302,TRUE)=COUNTIF($B$1:B301,TRUE),\"\",COUNTIF($B$1:B302,TRUE))","v":122},{"$f":"Worksheet!$B$13","v":true},{"$f":"IF(H302=1,RANDBETWEEN(1,Worksheet!$D$6),INT(J302))","v":4},{"$f":"IF(C302=1,\"minute\",\"minutes\")","v":"minutes"},{"$f":"IF(H302=1,IF(Worksheet!$D$10=1,RANDBETWEEN(1,9)*6,IF(Worksheet!$D$10=2,RANDBETWEEN(1,19)*3,RANDBETWEEN(1,59))),(J302-INT(J302))*60)","v":24},"seconds","=",{"$f":"IF(Worksheet!$D$7=1,1,IF(Worksheet!$D$7=2,2,RANDBETWEEN(1,2)))","v":1},null,{"$f":"IF(H302=1,C302+E302/60,RANDBETWEEN(1,Worksheet!$D$6)+CHOOSE(Worksheet!$D$10,RANDBETWEEN(1,9)/10,RANDBETWEEN(1,99)/100,RANDBETWEEN(1,999)/1000,RANDBETWEEN(1,9999)/10000,RANDBETWEEN(1,99999)/100000))","v":4.4000000000000004},"minutes"]
[{"$f":"IF(COUNTIF($B$1:B303,TRUE)=COUNTIF($B$1:B302,TRUE),\"\",COUNTIF($B$1:B303,TRUE))","v":""},{"$f":"Worksheet!$B$14","v":false},{"$f":"IF(H303=1,RANDBETWEEN(1,Worksheet!$D$6),INT(J303))","v":4},{"$f":"IF(C303=1,\"week\",\"weeks\")","v":"weeks"},{"$f":"IF(H303=1,RANDBETWEEN(1,6),(J303-INT(J303))*7)","v":3.5},"days","=",{"$f":"IF(Worksheet!$D$7=1,1,IF(Worksheet!$D$7=2,2,RANDBETWEEN(1,2)))","v":2},null,{"$f":"IF(H303=1,C303+E303/7,RANDBETWEEN(1,Worksheet!$D$6)+CHOOSE(Worksheet!$D$10,RANDBETWEEN(1,9)/10,RANDBETWEEN(1,99)/100,RANDBETWEEN(1,999)/1000,RANDBETWEEN(1,9999)/10000,RANDBETWEEN(1,99999)/100000))","v":4.5},"weeks"]
[{"$f":"IF(COUNTIF($B$1:B304,TRUE)=COUNTIF($B$1:B303,TRUE),\"\",COUNTIF($B$1:B304,TRUE))","v":""},{"$f":"Worksheet!$D$12","v":false},{"$f":"IF(H304=1,RANDBETWEEN(1,Worksheet!$D$6),INT(J304))","v":21},{"$f":"IF(C304=1,\"day\",\"days\")","v":"days"},{"$f":"IF(H304=1,RANDBETWEEN(1,23),(J304-INT(J304))*24)","v":23},"hours","=",{"$f":"IF(Worksheet!$D$7=1,1,IF(Worksheet!$D$7=2,2,RANDBETWEEN(1,2)))","v":1},null,{"$f":"IF(H304=1,C304+E304/24,RANDBETWEEN(1,Worksheet!$D$6)+CHOOSE(Worksheet!$D$10,RANDBETWEEN(1,9)/10,RANDBETWEEN(1,99)/100,RANDBETWEEN(1,999)/1000,RANDBETWEEN(1,9999)/10000,RANDBETWEEN(1,99999)/100000))","v":21.958333333333332},"days"]
[{"$f":"IF(COUNTIF($B$1:B305,TRUE)=COUNTIF($B$1:B304,TRUE),\"\",COUNTIF($B$1:B305,TRUE))","v":""},{"$f":"Worksheet!$D$13","v":false},{"$f":"IF(H305=1,RANDBETWEEN(1,Worksheet!$D$6),INT(J305))","v":24},{"$f":"IF(C305=1,\"year\",\"years\")","v":"years"},{"$f":"IF(H305=1,RANDBETWEEN(1,11),(J305-INT(J305))*12)","v":6},"months","=",{"$f":"IF(Worksheet!$D$7=1,1,IF(Worksheet!$D$7=2,2,RANDBETWEEN(1,2)))","v":2},null,{"$f":"IF(H305=1,C305+E305/12,RANDBETWEEN(1,Worksheet!$D$6)+CHOOSE(Worksheet!$D$10,RANDBETWEEN(1,9)/10,RANDBETWEEN(1,99)/100,RANDBETWEEN(1,999)/1000,RANDBETWEEN(1,9999)/10000,RANDBETWEEN(1,99999)/100000))","v":24.5},"years"]
[{"$f":"COUNTIF($B$1:B306,TRUE)","v":123},{"$f":"Worksheet!$B$12","v":true},{"$f":"IF(H306=1,RANDBETWEEN(1,Worksheet!$D$6),INT(J306))","v":24},{"$f":"IF(C306=1,\"hour\",\"hours\")","v":"hours"},{"$f":"IF(H306=1,IF(Worksheet!$D$10=1,RANDBETWEEN(1,9)*6,IF(Worksheet!$D$10=2,RANDBETWEEN(1,19)*3,RANDBETWEEN(1,59))),(J306-INT(J306))*60)","v":54},"minutes","=",{"$f":"IF(Worksheet!$D$7=1,1,IF(Worksheet!$D$7=2,2,RANDBETWEEN(1,2)))","v":1},null,{"$f":"IF(H306=1,C306+E306/60,RANDBETWEEN(1,Worksheet!$D$6)+CHOOSE(Worksheet!$D$10,RANDBETWEEN(1,9)/10,RANDBETWEEN(1,99)/100,RANDBETWEEN(1,999)/1000,RANDBETWEEN(1,9999)/10000,RANDBETWEEN(1,99999)/100000))","v":24.9},"hours"]
[{"$f":"IF(COUNTIF($B$1:B307,TRUE)=COUNTIF($B$1:B306,TRUE),\"\",COUNTIF($B$1:B307,TRUE))","v":124},{"$f":"Worksheet!$B$13","v":true},{"$f":"IF(H307=1,RANDBETWEEN(1,Worksheet!$D$6),INT(J307))","v":26},{"$f":"IF(C307=1,\"minute\",\"minutes\")","v":"minutes"},{"$f":"IF(H307=1,IF(Worksheet!$D$10=1,RANDBETWEEN(1,9)*6,IF(Worksheet!$D$10=2,RANDBETWEEN(1,19)*3,RANDBETWEEN(1,59))),(J307-INT(J307))*60)","v":42},"seconds","=",{"$f":"IF(Worksheet!$D$7=1,1,IF(Worksheet!$D$7=2,2,RANDBETWEEN(1,2)))","v":1},null,{"$f":"IF(H307=1,C307+E307/60,RANDBETWEEN(1,Worksheet!$D$6)+CHOOSE(Worksheet!$D$10,RANDBETWEEN(1,9)/10,RANDBETWEEN(1,99)/100,RANDBETWEEN(1,999)/1000,RANDBETWEEN(1,9999)/10000,RANDBETWEEN(1,99999)/100000))","v":26.7},"minutes"]
[{"$f":"IF(COUNTIF($B$1:B308,TRUE)=COUNTIF($B$1:B307,TRUE),\"\",COUNTIF($B$1:B308,TRUE))","v":""},{"$f":"Worksheet!$B$14","v":false},{"$f":"IF(H308=1,RANDBETWEEN(1,Worksheet!$D$6),INT(J308))","v":30},{"$f":"IF(C308=1,\"week\",\"weeks\")","v":"weeks"},{"$f":"IF(H308=1,RANDBETWEEN(1,6),(J308-INT(J308))*7)","v":4},"days","=",{"$f":"IF(Worksheet!$D$7=1,1,IF(Worksheet!$D$7=2,2,RANDBETWEEN(1,2)))","v":1},null,{"$f":"IF(H308=1,C308+E308/7,RANDBETWEEN(1,Worksheet!$D$6)+CHOOSE(Worksheet!$D$10,RANDBETWEEN(1,9)/10,RANDBETWEEN(1,99)/100,RANDBETWEEN(1,999)/1000,RANDBETWEEN(1,9999)/10000,RANDBETWEEN(1,99999)/100000))","v":30.571428571428573},"weeks"]
[{"$f":"IF(COUNTIF($B$1:B309,TRUE)=COUNTIF($B$1:B308,TRUE),\"\",COUNTIF($B$1:B309,TRUE))","v":""},{"$f":"Worksheet!$D$12","v":false},{"$f":"IF(H309=1,RANDBETWEEN(1,Worksheet!$D$6),INT(J309))","v":3},{"$f":"IF(C309=1,\"day\",\"days\")","v":"days"},{"$f":"IF(H309=1,RANDBETWEEN(1,23),(J309-INT(J309))*24)","v":7},"hours","=",{"$f":"IF(Worksheet!$D$7=1,1,IF(Worksheet!$D$7=2,2,RANDBETWEEN(1,2)))","v":1},null,{"$f":"IF(H309=1,C309+E309/24,RANDBETWEEN(1,Worksheet!$D$6)+CHOOSE(Worksheet!$D$10,RANDBETWEEN(1,9)/10,RANDBETWEEN(1,99)/100,RANDBETWEEN(1,999)/1000,RANDBETWEEN(1,9999)/10000,RANDBETWEEN(1,99999)/100000))","v":3.2916666666666665},"days"]
[{"$f":"IF(COUNTIF($B$1:B310,TRUE)=COUNTIF($B$1:B309,TRUE),\"\",COUNTIF($B$1:B310,TRUE))","v":""},{"$f":"Worksheet!$D$13","v":false},{"$f":"IF(H310=1,RANDBETWEEN(1,Worksheet!$D$6),INT(J310))","v":26},{"$f":"IF(C310=1,\"year\",\"years\")","v":"years"},{"$f":"IF(H310=1,RANDBETWEEN(1,11),(J310-INT(J310))*12)","v":7},"months","=",{"$f":"IF(Worksheet!$D$7=1,1,IF(Worksheet!$D$7=2,2,RANDBETWEEN(1,2)))","v":1},null,{"$f":"IF(H310=1,C310+E310/12,RANDBETWEEN(1,Worksheet!$D$6)+CHOOSE(Worksheet!$D$10,RANDBETWEEN(1,9)/10,RANDBETWEEN(1,99)/100,RANDBETWEEN(1,999)/1000,RANDBETWEEN(1,9999)/10000,RANDBETWEEN(1,99999)/100000))","v":26.583333333333332},"years"]
[{"$f":"COUNTIF($B$1:B311,TRUE)","v":125},{"$f":"Worksheet!$B$12","v":true},{"$f":"IF(H311=1,RANDBETWEEN(1,Worksheet!$D$6),INT(J311))","v":22},{"$f":"IF(C311=1,\"hour\",\"hours\")","v":"hours"},{"$f":"IF(H311=1,IF(Worksheet!$D$10=1,RANDBETWEEN(1,9)*6,IF(Worksheet!$D$10=2,RANDBETWEEN(1,19)*3,RANDBETWEEN(1,59))),(J311-INT(J311))*60)","v":36},"minutes","=",{"$f":"IF(Worksheet!$D$7=1,1,IF(Worksheet!$D$7=2,2,RANDBETWEEN(1,2)))","v":1},null,{"$f":"IF(H311=1,C311+E311/60,RANDBETWEEN(1,Worksheet!$D$6)+CHOOSE(Worksheet!$D$10,RANDBETWEEN(1,9)/10,RANDBETWEEN(1,99)/100,RANDBETWEEN(1,999)/1000,RANDBETWEEN(1,9999)/10000,RANDBETWEEN(1,99999)/100000))","v":22.6},"hours"]
[{"$f":"IF(COUNTIF($B$1:B312,TRUE)=COUNTIF($B$1:B311,TRUE),\"\",COUNTIF($B$1:B312,TRUE))","v":126},{"$f":"Worksheet!$B$13","v":true},{"$f":"IF(H312=1,RANDBETWEEN(1,Worksheet!$D$6),INT(J312))","v":19},{"$f":"IF(C312=1,\"minute\",\"minutes\")","v":"minutes"},{"$f":"IF(H312=1,IF(Worksheet!$D$10=1,RANDBETWEEN(1,9)*6,IF(Worksheet!$D$10=2,RANDBETWEEN(1,19)*3,RANDBETWEEN(1,59))),(J312-INT(J312))*60)","v":23.999999999999915},"seconds","=",{"$f":"IF(Worksheet!$D$7=1,1,IF(Worksheet!$D$7=2,2,RANDBETWEEN(1,2)))","v":2},null,{"$f":"IF(H312=1,C312+E312/60,RANDBETWEEN(1,Worksheet!$D$6)+CHOOSE(Worksheet!$D$10,RANDBETWEEN(1,9)/10,RANDBETWEEN(1,99)/100,RANDBETWEEN(1,999)/1000,RANDBETWEEN(1,9999)/10000,RANDBETWEEN(1,99999)/100000))","v":19.399999999999999},"minutes"]
[{"$f":"IF(COUNTIF($B$1:B313,TRUE)=COUNTIF($B$1:B312,TRUE),\"\",COUNTIF($B$1:B313,TRUE))","v":""},{"$f":"Worksheet!$B$14","v":false},{"$f":"IF(H313=1,RANDBETWEEN(1,Worksheet!$D$6),INT(J313))","v":7},{"$f":"IF(C313=1,\"week\",\"weeks\")","v":"weeks"},{"$f":"IF(H313=1,RANDBETWEEN(1,6),(J313-INT(J313))*7)","v":6},"days","=",{"$f":"IF(Worksheet!$D$7=1,1,IF(Worksheet!$D$7=2,2,RANDBETWEEN(1,2)))","v":1},null,{"$f":"IF(H313=1,C313+E313/7,RANDBETWEEN(1,Worksheet!$D$6)+CHOOSE(Worksheet!$D$10,RANDBETWEEN(1,9)/10,RANDBETWEEN(1,99)/100,RANDBETWEEN(1,999)/1000,RANDBETWEEN(1,9999)/10000,RANDBETWEEN(1,99999)/100000))","v":7.8571428571428568},"weeks"]
[{"$f":"IF(COUNTIF($B$1:B314,TRUE)=COUNTIF($B$1:B313,TRUE),\"\",COUNTIF($B$1:B314,TRUE))","v":""},{"$f":"Worksheet!$D$12","v":false},{"$f":"IF(H314=1,RANDBETWEEN(1,Worksheet!$D$6),INT(J314))","v":4},{"$f":"IF(C314=1,\"day\",\"days\")","v":"days"},{"$f":"IF(H314=1,RANDBETWEEN(1,23),(J314-INT(J314))*24)","v":7},"hours","=",{"$f":"IF(Worksheet!$D$7=1,1,IF(Worksheet!$D$7=2,2,RANDBETWEEN(1,2)))","v":1},null,{"$f":"IF(H314=1,C314+E314/24,RANDBETWEEN(1,Worksheet!$D$6)+CHOOSE(Worksheet!$D$10,RANDBETWEEN(1,9)/10,RANDBETWEEN(1,99)/100,RANDBETWEEN(1,999)/1000,RANDBETWEEN(1,9999)/10000,RANDBETWEEN(1,99999)/100000))","v":4.291666666666667},"days"]
[{"$f":"IF(COUNTIF($B$1:B315,TRUE)=COUNTIF($B$1:B314,TRUE),\"\",COUNTIF($B$1:B315,TRUE))","v":""},{"$f":"Worksheet!$D$13","v":false},{"$f":"IF(H315=1,RANDBETWEEN(1,Worksheet!$D$6),INT(J315))","v":16},{"$f":"IF(C315=1,\"year\",\"years\")","v":"years"},{"$f":"IF(H315=1,RANDBETWEEN(1,11),(J315-INT(J315))*12)","v":4},"months","=",{"$f":"IF(Worksheet!$D$7=1,1,IF(Worksheet!$D$7=2,2,RANDBETWEEN(1,2)))","v":1},null,{"$f":"IF(H315=1,C315+E315/12,RANDBETWEEN(1,Worksheet!$D$6)+CHOOSE(Worksheet!$D$10,RANDBETWEEN(1,9)/10,RANDBETWEEN(1,99)/100,RANDBETWEEN(1,999)/1000,RANDBETWEEN(1,9999)/10000,RANDBETWEEN(1,99999)/100000))","v":16.333333333333332},"years"]
[{"$f":"COUNTIF($B$1:B316,TRUE)","v":127},{"$f":"Worksheet!$B$12","v":true},{"$f":"IF(H316=1,RANDBETWEEN(1,Worksheet!$D$6),INT(J316))","v":14},{"$f":"IF(C316=1,\"hour\",\"hours\")","v":"hours"},{"$f":"IF(H316=1,IF(Worksheet!$D$10=1,RANDBETWEEN(1,9)*6,IF(Worksheet!$D$10=2,RANDBETWEEN(1,19)*3,RANDBETWEEN(1,59))),(J316-INT(J316))*60)","v":48},"minutes","=",{"$f":"IF(Worksheet!$D$7=1,1,IF(Worksheet!$D$7=2,2,RANDBETWEEN(1,2)))","v":1},null,{"$f":"IF(H316=1,C316+E316/60,RANDBETWEEN(1,Worksheet!$D$6)+CHOOSE(Worksheet!$D$10,RANDBETWEEN(1,9)/10,RANDBETWEEN(1,99)/100,RANDBETWEEN(1,999)/1000,RANDBETWEEN(1,9999)/10000,RANDBETWEEN(1,99999)/100000))","v":14.8},"hours"]
[{"$f":"IF(COUNTIF($B$1:B317,TRUE)=COUNTIF($B$1:B316,TRUE),\"\",COUNTIF($B$1:B317,TRUE))","v":128},{"$f":"Worksheet!$B$13","v":true},{"$f":"IF(H317=1,RANDBETWEEN(1,Worksheet!$D$6),INT(J317))","v":17},{"$f":"IF(C317=1,\"minute\",\"minutes\")","v":"minutes"},{"$f":"IF(H317=1,IF(Worksheet!$D$10=1,RANDBETWEEN(1,9)*6,IF(Worksheet!$D$10=2,RANDBETWEEN(1,19)*3,RANDBETWEEN(1,59))),(J317-INT(J317))*60)","v":41.999999999999957},"seconds","=",{"$f":"IF(Worksheet!$D$7=1,1,IF(Worksheet!$D$7=2,2,RANDBETWEEN(1,2)))","v":2},null,{"$f":"IF(H317=1,C317+E317/60,RANDBETWEEN(1,Worksheet!$D$6)+CHOOSE(Worksheet!$D$10,RANDBETWEEN(1,9)/10,RANDBETWEEN(1,99)/100,RANDBETWEEN(1,999)/1000,RANDBETWEEN(1,9999)/10000,RANDBETWEEN(1,99999)/100000))","v":17.7},"minutes"]
[{"$f":"IF(COUNTIF($B$1:B318,TRUE)=COUNTIF($B$1:B317,TRUE),\"\",COUNTIF($B$1:B318,TRUE))","v":""},{"$f":"Worksheet!$B$14","v":false},{"$f":"IF(H318=1,RANDBETWEEN(1,Worksheet!$D$6),INT(J318))","v":7},{"$f":"IF(C318=1,\"week\",\"weeks\")","v":"weeks"},{"$f":"IF(H318=1,RANDBETWEEN(1,6),(J318-INT(J318))*7)","v":1.4000000000000012},"days","=",{"$f":"IF(Worksheet!$D$7=1,1,IF(Worksheet!$D$7=2,2,RANDBETWEEN(1,2)))","v":2},null,{"$f":"IF(H318=1,C318+E318/7,RANDBETWEEN(1,Worksheet!$D$6)+CHOOSE(Worksheet!$D$10,RANDBETWEEN(1,9)/10,RANDBETWEEN(1,99)/100,RANDBETWEEN(1,999)/1000,RANDBETWEEN(1,9999)/10000,RANDBETWEEN(1,99999)/100000))","v":7.2},"weeks"]
[{"$f":"IF(COUNTIF($B$1:B319,TRUE)=COUNTIF($B$1:B318,TRUE),\"\",COUNTIF($B$1:B319,TRUE))","v":""},{"$f":"Worksheet!$D$12","v":false},{"$f":"IF(H319=1,RANDBETWEEN(1,Worksheet!$D$6),INT(J319))","v":23},{"$f":"IF(C319=1,\"day\",\"days\")","v":"days"},{"$f":"IF(H319=1,RANDBETWEEN(1,23),(J319-INT(J319))*24)","v":12},"hours","=",{"$f":"IF(Worksheet!$D$7=1,1,IF(Worksheet!$D$7=2,2,RANDBETWEEN(1,2)))","v":1},null,{"$f":"IF(H319=1,C319+E319/24,RANDBETWEEN(1,Worksheet!$D$6)+CHOOSE(Worksheet!$D$10,RANDBETWEEN(1,9)/10,RANDBETWEEN(1,99)/100,RANDBETWEEN(1,999)/1000,RANDBETWEEN(1,9999)/10000,RANDBETWEEN(1,99999)/100000))","v":23.5},"days"]
[{"$f":"IF(COUNTIF($B$1:B320,TRUE)=COUNTIF($B$1:B319,TRUE),\"\",COUNTIF($B$1:B320,TRUE))","v":""},{"$f":"Worksheet!$D$13","v":false},{"$f":"IF(H320=1,RANDBETWEEN(1,Worksheet!$D$6),INT(J320))","v":5},{"$f":"IF(C320=1,\"year\",\"years\")","v":"years"},{"$f":"IF(H320=1,RANDBETWEEN(1,11),(J320-INT(J320))*12)","v":3},"months","=",{"$f":"IF(Worksheet!$D$7=1,1,IF(Worksheet!$D$7=2,2,RANDBETWEEN(1,2)))","v":1},null,{"$f":"IF(H320=1,C320+E320/12,RANDBETWEEN(1,Worksheet!$D$6)+CHOOSE(Worksheet!$D$10,RANDBETWEEN(1,9)/10,RANDBETWEEN(1,99)/100,RANDBETWEEN(1,999)/1000,RANDBETWEEN(1,9999)/10000,RANDBETWEEN(1,99999)/100000))","v":5.25},"years"]
[{"$f":"COUNTIF($B$1:B321,TRUE)","v":129},{"$f":"Worksheet!$B$12","v":true},{"$f":"IF(H321=1,RANDBETWEEN(1,Worksheet!$D$6),INT(J321))","v":9},{"$f":"IF(C321=1,\"hour\",\"hours\")","v":"hours"},{"$f":"IF(H321=1,IF(Worksheet!$D$10=1,RANDBETWEEN(1,9)*6,IF(Worksheet!$D$10=2,RANDBETWEEN(1,19)*3,RANDBETWEEN(1,59))),(J321-INT(J321))*60)","v":54},"minutes","=",{"$f":"IF(Worksheet!$D$7=1,1,IF(Worksheet!$D$7=2,2,RANDBETWEEN(1,2)))","v":1},null,{"$f":"IF(H321=1,C321+E321/60,RANDBETWEEN(1,Worksheet!$D$6)+CHOOSE(Worksheet!$D$10,RANDBETWEEN(1,9)/10,RANDBETWEEN(1,99)/100,RANDBETWEEN(1,999)/1000,RANDBETWEEN(1,9999)/10000,RANDBETWEEN(1,99999)/100000))","v":9.9},"hours"]
[{"$f":"IF(COUNTIF($B$1:B322,TRUE)=COUNTIF($B$1:B321,TRUE),\"\",COUNTIF($B$1:B322,TRUE))","v":130},{"$f":"Worksheet!$B$13","v":true},{"$f":"IF(H322=1,RANDBETWEEN(1,Worksheet!$D$6),INT(J322))","v":18},{"$f":"IF(C322=1,\"minute\",\"minutes\")","v":"minutes"},{"$f":"IF(H322=1,IF(Worksheet!$D$10=1,RANDBETWEEN(1,9)*6,IF(Worksheet!$D$10=2,RANDBETWEEN(1,19)*3,RANDBETWEEN(1,59))),(J322-INT(J322))*60)","v":18.000000000000043},"seconds","=",{"$f":"IF(Worksheet!$D$7=1,1,IF(Worksheet!$D$7=2,2,RANDBETWEEN(1,2)))","v":2},null,{"$f":"IF(H322=1,C322+E322/60,RANDBETWEEN(1,Worksheet!$D$6)+CHOOSE(Worksheet!$D$10,RANDBETWEEN(1,9)/10,RANDBETWEEN(1,99)/100,RANDBETWEEN(1,999)/1000,RANDBETWEEN(1,9999)/10000,RANDBETWEEN(1,99999)/100000))","v":18.3},"minutes"]
[{"$f":"IF(COUNTIF($B$1:B323,TRUE)=COUNTIF($B$1:B322,TRUE),\"\",COUNTIF($B$1:B323,TRUE))","v":""},{"$f":"Worksheet!$B$14","v":false},{"$f":"IF(H323=1,RANDBETWEEN(1,Worksheet!$D$6),INT(J323))","v":26},{"$f":"IF(C323=1,\"week\",\"weeks\")","v":"weeks"},{"$f":"IF(H323=1,RANDBETWEEN(1,6),(J323-INT(J323))*7)","v":1.399999999999995},"days","=",{"$f":"IF(Worksheet!$D$7=1,1,IF(Worksheet!$D$7=2,2,RANDBETWEEN(1,2)))","v":2},null,{"$f":"IF(H323=1,C323+E323/7,RANDBETWEEN(1,Worksheet!$D$6)+CHOOSE(Worksheet!$D$10,RANDBETWEEN(1,9)/10,RANDBETWEEN(1,99)/100,RANDBETWEEN(1,999)/1000,RANDBETWEEN(1,9999)/10000,RANDBETWEEN(1,99999)/100000))","v":26.2},"weeks"]
[{"$f":"IF(COUNTIF($B$1:B324,TRUE)=COUNTIF($B$1:B323,TRUE),\"\",COUNTIF($B$1:B324,TRUE))","v":""},{"$f":"Worksheet!$D$12","v":false},{"$f":"IF(H324=1,RANDBETWEEN(1,Worksheet!$D$6),INT(J324))","v":21},{"$f":"IF(C324=1,\"day\",\"days\")","v":"days"},{"$f":"IF(H324=1,RANDBETWEEN(1,23),(J324-INT(J324))*24)","v":14.400000000000034},"hours","=",{"$f":"IF(Worksheet!$D$7=1,1,IF(Worksheet!$D$7=2,2,RANDBETWEEN(1,2)))","v":2},null,{"$f":"IF(H324=1,C324+E324/24,RANDBETWEEN(1,Worksheet!$D$6)+CHOOSE(Worksheet!$D$10,RANDBETWEEN(1,9)/10,RANDBETWEEN(1,99)/100,RANDBETWEEN(1,999)/1000,RANDBETWEEN(1,9999)/10000,RANDBETWEEN(1,99999)/100000))","v":21.6},"days"]
[{"$f":"IF(COUNTIF($B$1:B325,TRUE)=COUNTIF($B$1:B324,TRUE),\"\",COUNTIF($B$1:B325,TRUE))","v":""},{"$f":"Worksheet!$D$13","v":false},{"$f":"IF(H325=1,RANDBETWEEN(1,Worksheet!$D$6),INT(J325))","v":19},{"$f":"IF(C325=1,\"year\",\"years\")","v":"years"},{"$f":"IF(H325=1,RANDBETWEEN(1,11),(J325-INT(J325))*12)","v":8.3999999999999915},"months","=",{"$f":"IF(Worksheet!$D$7=1,1,IF(Worksheet!$D$7=2,2,RANDBETWEEN(1,2)))","v":2},null,{"$f":"IF(H325=1,C325+E325/12,RANDBETWEEN(1,Worksheet!$D$6)+CHOOSE(Worksheet!$D$10,RANDBETWEEN(1,9)/10,RANDBETWEEN(1,99)/100,RANDBETWEEN(1,999)/1000,RANDBETWEEN(1,9999)/10000,RANDBETWEEN(1,99999)/100000))","v":19.7},"years"]
[{"$f":"COUNTIF($B$1:B326,TRUE)","v":131},{"$f":"Worksheet!$B$12","v":true},{"$f":"IF(H326=1,RANDBETWEEN(1,Worksheet!$D$6),INT(J326))","v":28},{"$f":"IF(C326=1,\"hour\",\"hours\")","v":"hours"},{"$f":"IF(H326=1,IF(Worksheet!$D$10=1,RANDBETWEEN(1,9)*6,IF(Worksheet!$D$10=2,RANDBETWEEN(1,19)*3,RANDBETWEEN(1,59))),(J326-INT(J326))*60)","v":18},"minutes","=",{"$f":"IF(Worksheet!$D$7=1,1,IF(Worksheet!$D$7=2,2,RANDBETWEEN(1,2)))","v":1},null,{"$f":"IF(H326=1,C326+E326/60,RANDBETWEEN(1,Worksheet!$D$6)+CHOOSE(Worksheet!$D$10,RANDBETWEEN(1,9)/10,RANDBETWEEN(1,99)/100,RANDBETWEEN(1,999)/1000,RANDBETWEEN(1,9999)/10000,RANDBETWEEN(1,99999)/100000))","v":28.3},"hours"]
[{"$f":"IF(COUNTIF($B$1:B327,TRUE)=COUNTIF($B$1:B326,TRUE),\"\",COUNTIF($B$1:B327,TRUE))","v":132},{"$f":"Worksheet!$B$13","v":true},{"$f":"IF(H327=1,RANDBETWEEN(1,Worksheet!$D$6),INT(J327))","v":1},{"$f":"IF(C327=1,\"minute\",\"minutes\")","v":"minute"},{"$f":"IF(H327=1,IF(Worksheet!$D$10=1,RANDBETWEEN(1,9)*6,IF(Worksheet!$D$10=2,RANDBETWEEN(1,19)*3,RANDBETWEEN(1,59))),(J327-INT(J327))*60)","v":30},"seconds","=",{"$f":"IF(Worksheet!$D$7=1,1,IF(Worksheet!$D$7=2,2,RANDBETWEEN(1,2)))","v":2},null,{"$f":"IF(H327=1,C327+E327/60,RANDBETWEEN(1,Worksheet!$D$6)+CHOOSE(Worksheet!$D$10,RANDBETWEEN(1,9)/10,RANDBETWEEN(1,99)/100,RANDBETWEEN(1,999)/1000,RANDBETWEEN(1,9999)/10000,RANDBETWEEN(1,99999)/100000))","v":1.5},"minute"]
[{"$f":"IF(COUNTIF($B$1:B328,TRUE)=COUNTIF($B$1:B327,TRUE),\"\",COUNTIF($B$1:B328,TRUE))","v":""},{"$f":"Worksheet!$B$14","v":false},{"$f":"IF(H328=1,RANDBETWEEN(1,Worksheet!$D$6),INT(J328))","v":5},{"$f":"IF(C328=1,\"week\",\"weeks\")","v":"weeks"},{"$f":"IF(H328=1,RANDBETWEEN(1,6),(J328-INT(J328))*7)","v":3},"days","=",{"$f":"IF(Worksheet!$D$7=1,1,IF(Worksheet!$D$7=2,2,RANDBETWEEN(1,2)))","v":1},null,{"$f":"IF(H328=1,C328+E328/7,RANDBETWEEN(1,Worksheet!$D$6)+CHOOSE(Worksheet!$D$10,RANDBETWEEN(1,9)/10,RANDBETWEEN(1,99)/100,RANDBETWEEN(1,999)/1000,RANDBETWEEN(1,9999)/10000,RANDBETWEEN(1,99999)/100000))","v":5.4285714285714288},"weeks"]
[{"$f":"IF(COUNTIF($B$1:B329,TRUE)=COUNTIF($B$1:B328,TRUE),\"\",COUNTIF($B$1:B329,TRUE))","v":""},{"$f":"Worksheet!$D$12","v":false},{"$f":"IF(H329=1,RANDBETWEEN(1,Worksheet!$D$6),INT(J329))","v":23},{"$f":"IF(C329=1,\"day\",\"days\")","v":"days"},{"$f":"IF(H329=1,RANDBETWEEN(1,23),(J329-INT(J329))*24)","v":9},"hours","=",{"$f":"IF(Worksheet!$D$7=1,1,IF(Worksheet!$D$7=2,2,RANDBETWEEN(1,2)))","v":1},null,{"$f":"IF(H329=1,C329+E329/24,RANDBETWEEN(1,Worksheet!$D$6)+CHOOSE(Worksheet!$D$10,RANDBETWEEN(1,9)/10,RANDBETWEEN(1,99)/100,RANDBETWEEN(1,999)/1000,RANDBETWEEN(1,9999)/10000,RANDBETWEEN(1,99999)/100000))","v":23.375},"days"]
[{"$f":"IF(COUNTIF($B$1:B330,TRUE)=COUNTIF($B$1:B329,TRUE),\"\",COUNTIF($B$1:B330,TRUE))","v":""},{"$f":"Worksheet!$D$13","v":false},{"$f":"IF(H330=1,RANDBETWEEN(1,Worksheet!$D$6),INT(J330))","v":11},{"$f":"IF(C330=1,\"year\",\"years\")","v":"years"},{"$f":"IF(H330=1,RANDBETWEEN(1,11),(J330-INT(J330))*12)","v":6},"months","=",{"$f":"IF(Worksheet!$D$7=1,1,IF(Worksheet!$D$7=2,2,RANDBETWEEN(1,2)))","v":1},null,{"$f":"IF(H330=1,C330+E330/12,RANDBETWEEN(1,Worksheet!$D$6)+CHOOSE(Worksheet!$D$10,RANDBETWEEN(1,9)/10,RANDBETWEEN(1,99)/100,RANDBETWEEN(1,999)/1000,RANDBETWEEN(1,9999)/10000,RANDBETWEEN(1,99999)/100000))","v":11.5},"years"]
[{"$f":"COUNTIF($B$1:B331,TRUE)","v":133},{"$f":"Worksheet!$B$12","v":true},{"$f":"IF(H331=1,RANDBETWEEN(1,Worksheet!$D$6),INT(J331))","v":27},{"$f":"IF(C331=1,\"hour\",\"hours\")","v":"hours"},{"$f":"IF(H331=1,IF(Worksheet!$D$10=1,RANDBETWEEN(1,9)*6,IF(Worksheet!$D$10=2,RANDBETWEEN(1,19)*3,RANDBETWEEN(1,59))),(J331-INT(J331))*60)","v":23.999999999999915},"minutes","=",{"$f":"IF(Worksheet!$D$7=1,1,IF(Worksheet!$D$7=2,2,RANDBETWEEN(1,2)))","v":2},null,{"$f":"IF(H331=1,C331+E331/60,RANDBETWEEN(1,Worksheet!$D$6)+CHOOSE(Worksheet!$D$10,RANDBETWEEN(1,9)/10,RANDBETWEEN(1,99)/100,RANDBETWEEN(1,999)/1000,RANDBETWEEN(1,9999)/10000,RANDBETWEEN(1,99999)/100000))","v":27.4},"hours"]
[{"$f":"IF(COUNTIF($B$1:B332,TRUE)=COUNTIF($B$1:B331,TRUE),\"\",COUNTIF($B$1:B332,TRUE))","v":134},{"$f":"Worksheet!$B$13","v":true},{"$f":"IF(H332=1,RANDBETWEEN(1,Worksheet!$D$6),INT(J332))","v":4},{"$f":"IF(C332=1,\"minute\",\"minutes\")","v":"minutes"},{"$f":"IF(H332=1,IF(Worksheet!$D$10=1,RANDBETWEEN(1,9)*6,IF(Worksheet!$D$10=2,RANDBETWEEN(1,19)*3,RANDBETWEEN(1,59))),(J332-INT(J332))*60)","v":30},"seconds","=",{"$f":"IF(Worksheet!$D$7=1,1,IF(Worksheet!$D$7=2,2,RANDBETWEEN(1,2)))","v":2},null,{"$f":"IF(H332=1,C332+E332/60,RANDBETWEEN(1,Worksheet!$D$6)+CHOOSE(Worksheet!$D$10,RANDBETWEEN(1,9)/10,RANDBETWEEN(1,99)/100,RANDBETWEEN(1,999)/1000,RANDBETWEEN(1,9999)/10000,RANDBETWEEN(1,99999)/100000))","v":4.5},"minutes"]
[{"$f":"IF(COUNTIF($B$1:B333,TRUE)=COUNTIF($B$1:B332,TRUE),\"\",COUNTIF($B$1:B333,TRUE))","v":""},{"$f":"Worksheet!$B$14","v":false},{"$f":"IF(H333=1,RANDBETWEEN(1,Worksheet!$D$6),INT(J333))","v":2},{"$f":"IF(C333=1,\"week\",\"weeks\")","v":"weeks"},{"$f":"IF(H333=1,RANDBETWEEN(1,6),(J333-INT(J333))*7)","v":1.4000000000000012},"days","=",{"$f":"IF(Worksheet!$D$7=1,1,IF(Worksheet!$D$7=2,2,RANDBETWEEN(1,2)))","v":2},null,{"$f":"IF(H333=1,C333+E333/7,RANDBETWEEN(1,Worksheet!$D$6)+CHOOSE(Worksheet!$D$10,RANDBETWEEN(1,9)/10,RANDBETWEEN(1,99)/100,RANDBETWEEN(1,999)/1000,RANDBETWEEN(1,9999)/10000,RANDBETWEEN(1,99999)/100000))","v":2.2000000000000002},"weeks"]
[{"$f":"IF(COUNTIF($B$1:B334,TRUE)=COUNTIF($B$1:B333,TRUE),\"\",COUNTIF($B$1:B334,TRUE))","v":""},{"$f":"Worksheet!$D$12","v":false},{"$f":"IF(H334=1,RANDBETWEEN(1,Worksheet!$D$6),INT(J334))","v":25},{"$f":"IF(C334=1,\"day\",\"days\")","v":"days"},{"$f":"IF(H334=1,RANDBETWEEN(1,23),(J334-INT(J334))*24)","v":12},"hours","=",{"$f":"IF(Worksheet!$D$7=1,1,IF(Worksheet!$D$7=2,2,RANDBETWEEN(1,2)))","v":2},null,{"$f":"IF(H334=1,C334+E334/24,RANDBETWEEN(1,Worksheet!$D$6)+CHOOSE(Worksheet!$D$10,RANDBETWEEN(1,9)/10,RANDBETWEEN(1,99)/100,RANDBETWEEN(1,999)/1000,RANDBETWEEN(1,9999)/10000,RANDBETWEEN(1,99999)/100000))","v":25.5},"days"]
[{"$f":"IF(COUNTIF($B$1:B335,TRUE)=COUNTIF($B$1:B334,TRUE),\"\",COUNTIF($B$1:B335,TRUE))","v":""},{"$f":"Worksheet!$D$13","v":false},{"$f":"IF(H335=1,RANDBETWEEN(1,Worksheet!$D$6),INT(J335))","v":5},{"$f":"IF(C335=1,\"year\",\"years\")","v":"years"},{"$f":"IF(H335=1,RANDBETWEEN(1,11),(J335-INT(J335))*12)","v":2.4000000000000021},"months","=",{"$f":"IF(Worksheet!$D$7=1,1,IF(Worksheet!$D$7=2,2,RANDBETWEEN(1,2)))","v":2},null,{"$f":"IF(H335=1,C335+E335/12,RANDBETWEEN(1,Worksheet!$D$6)+CHOOSE(Worksheet!$D$10,RANDBETWEEN(1,9)/10,RANDBETWEEN(1,99)/100,RANDBETWEEN(1,999)/1000,RANDBETWEEN(1,9999)/10000,RANDBETWEEN(1,99999)/100000))","v":5.2},"years"]
[{"$f":"COUNTIF($B$1:B336,TRUE)","v":135},{"$f":"Worksheet!$B$12","v":true},{"$f":"IF(H336=1,RANDBETWEEN(1,Worksheet!$D$6),INT(J336))","v":24},{"$f":"IF(C336=1,\"hour\",\"hours\")","v":"hours"},{"$f":"IF(H336=1,IF(Worksheet!$D$10=1,RANDBETWEEN(1,9)*6,IF(Worksheet!$D$10=2,RANDBETWEEN(1,19)*3,RANDBETWEEN(1,59))),(J336-INT(J336))*60)","v":42},"minutes","=",{"$f":"IF(Worksheet!$D$7=1,1,IF(Worksheet!$D$7=2,2,RANDBETWEEN(1,2)))","v":1},null,{"$f":"IF(H336=1,C336+E336/60,RANDBETWEEN(1,Worksheet!$D$6)+CHOOSE(Worksheet!$D$10,RANDBETWEEN(1,9)/10,RANDBETWEEN(1,99)/100,RANDBETWEEN(1,999)/1000,RANDBETWEEN(1,9999)/10000,RANDBETWEEN(1,99999)/100000))","v":24.7},"hours"]
[{"$f":"IF(COUNTIF($B$1:B337,TRUE)=COUNTIF($B$1:B336,TRUE),\"\",COUNTIF($B$1:B337,TRUE))","v":136},{"$f":"Worksheet!$B$13","v":true},{"$f":"IF(H337=1,RANDBETWEEN(1,Worksheet!$D$6),INT(J337))","v":21},{"$f":"IF(C337=1,\"minute\",\"minutes\")","v":"minutes"},{"$f":"IF(H337=1,IF(Worksheet!$D$10=1,RANDBETWEEN(1,9)*6,IF(Worksheet!$D$10=2,RANDBETWEEN(1,19)*3,RANDBETWEEN(1,59))),(J337-INT(J337))*60)","v":41.999999999999957},"seconds","=",{"$f":"IF(Worksheet!$D$7=1,1,IF(Worksheet!$D$7=2,2,RANDBETWEEN(1,2)))","v":2},null,{"$f":"IF(H337=1,C337+E337/60,RANDBETWEEN(1,Worksheet!$D$6)+CHOOSE(Worksheet!$D$10,RANDBETWEEN(1,9)/10,RANDBETWEEN(1,99)/100,RANDBETWEEN(1,999)/1000,RANDBETWEEN(1,9999)/10000,RANDBETWEEN(1,99999)/100000))","v":21.7},"minutes"]
[{"$f":"IF(COUNTIF($B$1:B338,TRUE)=COUNTIF($B$1:B337,TRUE),\"\",COUNTIF($B$1:B338,TRUE))","v":""},{"$f":"Worksheet!$B$14","v":false},{"$f":"IF(H338=1,RANDBETWEEN(1,Worksheet!$D$6),INT(J338))","v":24},{"$f":"IF(C338=1,\"week\",\"weeks\")","v":"weeks"},{"$f":"IF(H338=1,RANDBETWEEN(1,6),(J338-INT(J338))*7)","v":0.70000000000000995},"days","=",{"$f":"IF(Worksheet!$D$7=1,1,IF(Worksheet!$D$7=2,2,RANDBETWEEN(1,2)))","v":2},null,{"$f":"IF(H338=1,C338+E338/7,RANDBETWEEN(1,Worksheet!$D$6)+CHOOSE(Worksheet!$D$10,RANDBETWEEN(1,9)/10,RANDBETWEEN(1,99)/100,RANDBETWEEN(1,999)/1000,RANDBETWEEN(1,9999)/10000,RANDBETWEEN(1,99999)/100000))","v":24.1},"weeks"]
[{"$f":"IF(COUNTIF($B$1:B339,TRUE)=COUNTIF($B$1:B338,TRUE),\"\",COUNTIF($B$1:B339,TRUE))","v":""},{"$f":"Worksheet!$D$12","v":false},{"$f":"IF(H339=1,RANDBETWEEN(1,Worksheet!$D$6),INT(J339))","v":13},{"$f":"IF(C339=1,\"day\",\"days\")","v":"days"},{"$f":"IF(H339=1,RANDBETWEEN(1,23),(J339-INT(J339))*24)","v":14.399999999999991},"hours","=",{"$f":"IF(Worksheet!$D$7=1,1,IF(Worksheet!$D$7=2,2,RANDBETWEEN(1,2)))","v":2},null,{"$f":"IF(H339=1,C339+E339/24,RANDBETWEEN(1,Worksheet!$D$6)+CHOOSE(Worksheet!$D$10,RANDBETWEEN(1,9)/10,RANDBETWEEN(1,99)/100,RANDBETWEEN(1,999)/1000,RANDBETWEEN(1,9999)/10000,RANDBETWEEN(1,99999)/100000))","v":13.6},"days"]
[{"$f":"IF(COUNTIF($B$1:B340,TRUE)=COUNTIF($B$1:B339,TRUE),\"\",COUNTIF($B$1:B340,TRUE))","v":""},{"$f":"Worksheet!$D$13","v":false},{"$f":"IF(H340=1,RANDBETWEEN(1,Worksheet!$D$6),INT(J340))","v":30},{"$f":"IF(C340=1,\"year\",\"years\")","v":"years"},{"$f":"IF(H340=1,RANDBETWEEN(1,11),(J340-INT(J340))*12)","v":1},"months","=",{"$f":"IF(Worksheet!$D$7=1,1,IF(Worksheet!$D$7=2,2,RANDBETWEEN(1,2)))","v":1},null,{"$f":"IF(H340=1,C340+E340/12,RANDBETWEEN(1,Worksheet!$D$6)+CHOOSE(Worksheet!$D$10,RANDBETWEEN(1,9)/10,RANDBETWEEN(1,99)/100,RANDBETWEEN(1,999)/1000,RANDBETWEEN(1,9999)/10000,RANDBETWEEN(1,99999)/100000))","v":30.083333333333332},"years"]
[{"$f":"COUNTIF($B$1:B341,TRUE)","v":137},{"$f":"Worksheet!$B$12","v":true},{"$f":"IF(H341=1,RANDBETWEEN(1,Worksheet!$D$6),INT(J341))","v":25},{"$f":"IF(C341=1,\"hour\",\"hours\")","v":"hours"},{"$f":"IF(H341=1,IF(Worksheet!$D$10=1,RANDBETWEEN(1,9)*6,IF(Worksheet!$D$10=2,RANDBETWEEN(1,19)*3,RANDBETWEEN(1,59))),(J341-INT(J341))*60)","v":23.999999999999915},"minutes","=",{"$f":"IF(Worksheet!$D$7=1,1,IF(Worksheet!$D$7=2,2,RANDBETWEEN(1,2)))","v":2},null,{"$f":"IF(H341=1,C341+E341/60,RANDBETWEEN(1,Worksheet!$D$6)+CHOOSE(Worksheet!$D$10,RANDBETWEEN(1,9)/10,RANDBETWEEN(1,99)/100,RANDBETWEEN(1,999)/1000,RANDBETWEEN(1,9999)/10000,RANDBETWEEN(1,99999)/100000))","v":25.4},"hours"]
[{"$f":"IF(COUNTIF($B$1:B342,TRUE)=COUNTIF($B$1:B341,TRUE),\"\",COUNTIF($B$1:B342,TRUE))","v":138},{"$f":"Worksheet!$B$13","v":true},{"$f":"IF(H342=1,RANDBETWEEN(1,Worksheet!$D$6),INT(J342))","v":28},{"$f":"IF(C342=1,\"minute\",\"minutes\")","v":"minutes"},{"$f":"IF(H342=1,IF(Worksheet!$D$10=1,RANDBETWEEN(1,9)*6,IF(Worksheet!$D$10=2,RANDBETWEEN(1,19)*3,RANDBETWEEN(1,59))),(J342-INT(J342))*60)","v":23.999999999999915},"seconds","=",{"$f":"IF(Worksheet!$D$7=1,1,IF(Worksheet!$D$7=2,2,RANDBETWEEN(1,2)))","v":2},null,{"$f":"IF(H342=1,C342+E342/60,RANDBETWEEN(1,Worksheet!$D$6)+CHOOSE(Worksheet!$D$10,RANDBETWEEN(1,9)/10,RANDBETWEEN(1,99)/100,RANDBETWEEN(1,999)/1000,RANDBETWEEN(1,9999)/10000,RANDBETWEEN(1,99999)/100000))","v":28.4},"minutes"]
[{"$f":"IF(COUNTIF($B$1:B343,TRUE)=COUNTIF($B$1:B342,TRUE),\"\",COUNTIF($B$1:B343,TRUE))","v":""},{"$f":"Worksheet!$B$14","v":false},{"$f":"IF(H343=1,RANDBETWEEN(1,Worksheet!$D$6),INT(J343))","v":22},{"$f":"IF(C343=1,\"week\",\"weeks\")","v":"weeks"},{"$f":"IF(H343=1,RANDBETWEEN(1,6),(J343-INT(J343))*7)","v":3},"days","=",{"$f":"IF(Worksheet!$D$7=1,1,IF(Worksheet!$D$7=2,2,RANDBETWEEN(1,2)))","v":1},null,{"$f":"IF(H343=1,C343+E343/7,RANDBETWEEN(1,Worksheet!$D$6)+CHOOSE(Worksheet!$D$10,RANDBETWEEN(1,9)/10,RANDBETWEEN(1,99)/100,RANDBETWEEN(1,999)/1000,RANDBETWEEN(1,9999)/10000,RANDBETWEEN(1,99999)/100000))","v":22.428571428571427},"weeks"]
[{"$f":"IF(COUNTIF($B$1:B344,TRUE)=COUNTIF($B$1:B343,TRUE),\"\",COUNTIF($B$1:B344,TRUE))","v":""},{"$f":"Worksheet!$D$12","v":false},{"$f":"IF(H344=1,RANDBETWEEN(1,Worksheet!$D$6),INT(J344))","v":23},{"$f":"IF(C344=1,\"day\",\"days\")","v":"days"},{"$f":"IF(H344=1,RANDBETWEEN(1,23),(J344-INT(J344))*24)","v":8},"hours","=",{"$f":"IF(Worksheet!$D$7=1,1,IF(Worksheet!$D$7=2,2,RANDBETWEEN(1,2)))","v":1},null,{"$f":"IF(H344=1,C344+E344/24,RANDBETWEEN(1,Worksheet!$D$6)+CHOOSE(Worksheet!$D$10,RANDBETWEEN(1,9)/10,RANDBETWEEN(1,99)/100,RANDBETWEEN(1,999)/1000,RANDBETWEEN(1,9999)/10000,RANDBETWEEN(1,99999)/100000))","v":23.333333333333332},"days"]
[{"$f":"IF(COUNTIF($B$1:B345,TRUE)=COUNTIF($B$1:B344,TRUE),\"\",COUNTIF($B$1:B345,TRUE))","v":""},{"$f":"Worksheet!$D$13","v":false},{"$f":"IF(H345=1,RANDBETWEEN(1,Worksheet!$D$6),INT(J345))","v":28},{"$f":"IF(C345=1,\"year\",\"years\")","v":"years"},{"$f":"IF(H345=1,RANDBETWEEN(1,11),(J345-INT(J345))*12)","v":7.2000000000000171},"months","=",{"$f":"IF(Worksheet!$D$7=1,1,IF(Worksheet!$D$7=2,2,RANDBETWEEN(1,2)))","v":2},null,{"$f":"IF(H345=1,C345+E345/12,RANDBETWEEN(1,Worksheet!$D$6)+CHOOSE(Worksheet!$D$10,RANDBETWEEN(1,9)/10,RANDBETWEEN(1,99)/100,RANDBETWEEN(1,999)/1000,RANDBETWEEN(1,9999)/10000,RANDBETWEEN(1,99999)/100000))","v":28.6},"years"]
[{"$f":"COUNTIF($B$1:B346,TRUE)","v":139},{"$f":"Worksheet!$B$12","v":true},{"$f":"IF(H346=1,RANDBETWEEN(1,Worksheet!$D$6),INT(J346))","v":5},{"$f":"IF(C346=1,\"hour\",\"hours\")","v":"hours"},{"$f":"IF(H346=1,IF(Worksheet!$D$10=1,RANDBETWEEN(1,9)*6,IF(Worksheet!$D$10=2,RANDBETWEEN(1,19)*3,RANDBETWEEN(1,59))),(J346-INT(J346))*60)","v":12},"minutes","=",{"$f":"IF(Worksheet!$D$7=1,1,IF(Worksheet!$D$7=2,2,RANDBETWEEN(1,2)))","v":1},null,{"$f":"IF(H346=1,C346+E346/60,RANDBETWEEN(1,Worksheet!$D$6)+CHOOSE(Worksheet!$D$10,RANDBETWEEN(1,9)/10,RANDBETWEEN(1,99)/100,RANDBETWEEN(1,999)/1000,RANDBETWEEN(1,9999)/10000,RANDBETWEEN(1,99999)/100000))","v":5.2},"hours"]
[{"$f":"IF(COUNTIF($B$1:B347,TRUE)=COUNTIF($B$1:B346,TRUE),\"\",COUNTIF($B$1:B347,TRUE))","v":140},{"$f":"Worksheet!$B$13","v":true},{"$f":"IF(H347=1,RANDBETWEEN(1,Worksheet!$D$6),INT(J347))","v":10},{"$f":"IF(C347=1,\"minute\",\"minutes\")","v":"minutes"},{"$f":"IF(H347=1,IF(Worksheet!$D$10=1,RANDBETWEEN(1,9)*6,IF(Worksheet!$D$10=2,RANDBETWEEN(1,19)*3,RANDBETWEEN(1,59))),(J347-INT(J347))*60)","v":42},"seconds","=",{"$f":"IF(Worksheet!$D$7=1,1,IF(Worksheet!$D$7=2,2,RANDBETWEEN(1,2)))","v":1},null,{"$f":"IF(H347=1,C347+E347/60,RANDBETWEEN(1,Worksheet!$D$6)+CHOOSE(Worksheet!$D$10,RANDBETWEEN(1,9)/10,RANDBETWEEN(1,99)/100,RANDBETWEEN(1,999)/1000,RANDBETWEEN(1,9999)/10000,RANDBETWEEN(1,99999)/100000))","v":10.7},"minutes"]
[{"$f":"IF(COUNTIF($B$1:B348,TRUE)=COUNTIF($B$1:B347,TRUE),\"\",COUNTIF($B$1:B348,TRUE))","v":""},{"$f":"Worksheet!$B$14","v":false},{"$f":"IF(H348=1,RANDBETWEEN(1,Worksheet!$D$6),INT(J348))","v":30},{"$f":"IF(C348=1,\"week\",\"weeks\")","v":"weeks"},{"$f":"IF(H348=1,RANDBETWEEN(1,6),(J348-INT(J348))*7)","v":4},"days","=",{"$f":"IF(Worksheet!$D$7=1,1,IF(Worksheet!$D$7=2,2,RANDBETWEEN(1,2)))","v":1},null,{"$f":"IF(H348=1,C348+E348/7,RANDBETWEEN(1,Worksheet!$D$6)+CHOOSE(Worksheet!$D$10,RANDBETWEEN(1,9)/10,RANDBETWEEN(1,99)/100,RANDBETWEEN(1,999)/1000,RANDBETWEEN(1,9999)/10000,RANDBETWEEN(1,99999)/100000))","v":30.571428571428573},"weeks"]
[{"$f":"IF(COUNTIF($B$1:B349,TRUE)=COUNTIF($B$1:B348,TRUE),\"\",COUNTIF($B$1:B349,TRUE))","v":""},{"$f":"Worksheet!$D$12","v":false},{"$f":"IF(H349=1,RANDBETWEEN(1,Worksheet!$D$6),INT(J349))","v":16},{"$f":"IF(C349=1,\"day\",\"days\")","v":"days"},{"$f":"IF(H349=1,RANDBETWEEN(1,23),(J349-INT(J349))*24)","v":16.799999999999983},"hours","=",{"$f":"IF(Worksheet!$D$7=1,1,IF(Worksheet!$D$7=2,2,RANDBETWEEN(1,2)))","v":2},null,{"$f":"IF(H349=1,C349+E349/24,RANDBETWEEN(1,Worksheet!$D$6)+CHOOSE(Worksheet!$D$10,RANDBETWEEN(1,9)/10,RANDBETWEEN(1,99)/100,RANDBETWEEN(1,999)/1000,RANDBETWEEN(1,9999)/10000,RANDBETWEEN(1,99999)/100000))","v":16.7},"days"]
[{"$f":"IF(COUNTIF($B$1:B350,TRUE)=COUNTIF($B$1:B349,TRUE),\"\",COUNTIF($B$1:B350,TRUE))","v":""},{"$f":"Worksheet!$D$13","v":false},{"$f":"IF(H350=1,RANDBETWEEN(1,Worksheet!$D$6),INT(J350))","v":1},{"$f":"IF(C350=1,\"year\",\"years\")","v":"year"},{"$f":"IF(H350=1,RANDBETWEEN(1,11),(J350-INT(J350))*12)","v":4},"months","=",{"$f":"IF(Worksheet!$D$7=1,1,IF(Worksheet!$D$7=2,2,RANDBETWEEN(1,2)))","v":1},null,{"$f":"IF(H350=1,C350+E350/12,RANDBETWEEN(1,Worksheet!$D$6)+CHOOSE(Worksheet!$D$10,RANDBETWEEN(1,9)/10,RANDBETWEEN(1,99)/100,RANDBETWEEN(1,999)/1000,RANDBETWEEN(1,9999)/10000,RANDBETWEEN(1,99999)/100000))","v":1.3333333333333333},"year"]
[{"$f":"COUNTIF($B$1:B351,TRUE)","v":141},{"$f":"Worksheet!$B$12","v":true},{"$f":"IF(H351=1,RANDBETWEEN(1,Worksheet!$D$6),INT(J351))","v":13},{"$f":"IF(C351=1,\"hour\",\"hours\")","v":"hours"},{"$f":"IF(H351=1,IF(Worksheet!$D$10=1,RANDBETWEEN(1,9)*6,IF(Worksheet!$D$10=2,RANDBETWEEN(1,19)*3,RANDBETWEEN(1,59))),(J351-INT(J351))*60)","v":18},"minutes","=",{"$f":"IF(Worksheet!$D$7=1,1,IF(Worksheet!$D$7=2,2,RANDBETWEEN(1,2)))","v":1},null,{"$f":"IF(H351=1,C351+E351/60,RANDBETWEEN(1,Worksheet!$D$6)+CHOOSE(Worksheet!$D$10,RANDBETWEEN(1,9)/10,RANDBETWEEN(1,99)/100,RANDBETWEEN(1,999)/1000,RANDBETWEEN(1,9999)/10000,RANDBETWEEN(1,99999)/100000))","v":13.3},{"$f":"D351","v":"hours"}]
[{"$f":"IF(COUNTIF($B$1:B352,TRUE)=COUNTIF($B$1:B351,TRUE),\"\",COUNTIF($B$1:B352,TRUE))","v":142},{"$f":"Worksheet!$B$13","v":true},{"$f":"IF(H352=1,RANDBETWEEN(1,Worksheet!$D$6),INT(J352))","v":19},{"$f":"IF(C352=1,\"minute\",\"minutes\")","v":"minutes"},{"$f":"IF(H352=1,IF(Worksheet!$D$10=1,RANDBETWEEN(1,9)*6,IF(Worksheet!$D$10=2,RANDBETWEEN(1,19)*3,RANDBETWEEN(1,59))),(J352-INT(J352))*60)","v":42},"seconds","=",{"$f":"IF(Worksheet!$D$7=1,1,IF(Worksheet!$D$7=2,2,RANDBETWEEN(1,2)))","v":1},null,{"$f":"IF(H352=1,C352+E352/60,RANDBETWEEN(1,Worksheet!$D$6)+CHOOSE(Worksheet!$D$10,RANDBETWEEN(1,9)/10,RANDBETWEEN(1,99)/100,RANDBETWEEN(1,999)/1000,RANDBETWEEN(1,9999)/10000,RANDBETWEEN(1,99999)/100000))","v":19.7},"minutes"]
[{"$f":"IF(COUNTIF($B$1:B353,TRUE)=COUNTIF($B$1:B352,TRUE),\"\",COUNTIF($B$1:B353,TRUE))","v":""},{"$f":"Worksheet!$B$14","v":false},{"$f":"IF(H353=1,RANDBETWEEN(1,Worksheet!$D$6),INT(J353))","v":9},{"$f":"IF(C353=1,\"week\",\"weeks\")","v":"weeks"},{"$f":"IF(H353=1,RANDBETWEEN(1,6),(J353-INT(J353))*7)","v":6.3000000000000025},"days","=",{"$f":"IF(Worksheet!$D$7=1,1,IF(Worksheet!$D$7=2,2,RANDBETWEEN(1,2)))","v":2},null,{"$f":"IF(H353=1,C353+E353/7,RANDBETWEEN(1,Worksheet!$D$6)+CHOOSE(Worksheet!$D$10,RANDBETWEEN(1,9)/10,RANDBETWEEN(1,99)/100,RANDBETWEEN(1,999)/1000,RANDBETWEEN(1,9999)/10000,RANDBETWEEN(1,99999)/100000))","v":9.9},"weeks"]
[{"$f":"IF(COUNTIF($B$1:B354,TRUE)=COUNTIF($B$1:B353,TRUE),\"\",COUNTIF($B$1:B354,TRUE))","v":""},{"$f":"Worksheet!$D$12","v":false},{"$f":"IF(H354=1,RANDBETWEEN(1,Worksheet!$D$6),INT(J354))","v":8},{"$f":"IF(C354=1,\"day\",\"days\")","v":"days"},{"$f":"IF(H354=1,RANDBETWEEN(1,23),(J354-INT(J354))*24)","v":11},"hours","=",{"$f":"IF(Worksheet!$D$7=1,1,IF(Worksheet!$D$7=2,2,RANDBETWEEN(1,2)))","v":1},null,{"$f":"IF(H354=1,C354+E354/24,RANDBETWEEN(1,Worksheet!$D$6)+CHOOSE(Worksheet!$D$10,RANDBETWEEN(1,9)/10,RANDBETWEEN(1,99)/100,RANDBETWEEN(1,999)/1000,RANDBETWEEN(1,9999)/10000,RANDBETWEEN(1,99999)/100000))","v":8.4583333333333339},"days"]
[{"$f":"IF(COUNTIF($B$1:B355,TRUE)=COUNTIF($B$1:B354,TRUE),\"\",COUNTIF($B$1:B355,TRUE))","v":""},{"$f":"Worksheet!$D$13","v":false},{"$f":"IF(H355=1,RANDBETWEEN(1,Worksheet!$D$6),INT(J355))","v":13},{"$f":"IF(C355=1,\"year\",\"years\")","v":"years"},{"$f":"IF(H355=1,RANDBETWEEN(1,11),(J355-INT(J355))*12)","v":1},"months","=",{"$f":"IF(Worksheet!$D$7=1,1,IF(Worksheet!$D$7=2,2,RANDBETWEEN(1,2)))","v":1},null,{"$f":"IF(H355=1,C355+E355/12,RANDBETWEEN(1,Worksheet!$D$6)+CHOOSE(Worksheet!$D$10,RANDBETWEEN(1,9)/10,RANDBETWEEN(1,99)/100,RANDBETWEEN(1,999)/1000,RANDBETWEEN(1,9999)/10000,RANDBETWEEN(1,99999)/100000))","v":13.083333333333334},"years"]
[{"$f":"COUNTIF($B$1:B356,TRUE)","v":143},{"$f":"Worksheet!$B$12","v":true},{"$f":"IF(H356=1,RANDBETWEEN(1,Worksheet!$D$6),INT(J356))","v":16},{"$f":"IF(C356=1,\"hour\",\"hours\")","v":"hours"},{"$f":"IF(H356=1,IF(Worksheet!$D$10=1,RANDBETWEEN(1,9)*6,IF(Worksheet!$D$10=2,RANDBETWEEN(1,19)*3,RANDBETWEEN(1,59))),(J356-INT(J356))*60)","v":18},"minutes","=",{"$f":"IF(Worksheet!$D$7=1,1,IF(Worksheet!$D$7=2,2,RANDBETWEEN(1,2)))","v":1},null,{"$f":"IF(H356=1,C356+E356/60,RANDBETWEEN(1,Worksheet!$D$6)+CHOOSE(Worksheet!$D$10,RANDBETWEEN(1,9)/10,RANDBETWEEN(1,99)/100,RANDBETWEEN(1,999)/1000,RANDBETWEEN(1,9999)/10000,RANDBETWEEN(1,99999)/100000))","v":16.3},"hours"]
[{"$f":"IF(COUNTIF($B$1:B357,TRUE)=COUNTIF($B$1:B356,TRUE),\"\",COUNTIF($B$1:B357,TRUE))","v":144},{"$f":"Worksheet!$B$13","v":true},{"$f":"IF(H357=1,RANDBETWEEN(1,Worksheet!$D$6),INT(J357))","v":8},{"$f":"IF(C357=1,\"minute\",\"minutes\")","v":"minutes"},{"$f":"IF(H357=1,IF(Worksheet!$D$10=1,RANDBETWEEN(1,9)*6,IF(Worksheet!$D$10=2,RANDBETWEEN(1,19)*3,RANDBETWEEN(1,59))),(J357-INT(J357))*60)","v":36},"seconds","=",{"$f":"IF(Worksheet!$D$7=1,1,IF(Worksheet!$D$7=2,2,RANDBETWEEN(1,2)))","v":1},null,{"$f":"IF(H357=1,C357+E357/60,RANDBETWEEN(1,Worksheet!$D$6)+CHOOSE(Worksheet!$D$10,RANDBETWEEN(1,9)/10,RANDBETWEEN(1,99)/100,RANDBETWEEN(1,999)/1000,RANDBETWEEN(1,9999)/10000,RANDBETWEEN(1,99999)/100000))","v":8.6},"minutes"]
[{"$f":"IF(COUNTIF($B$1:B358,TRUE)=COUNTIF($B$1:B357,TRUE),\"\",COUNTIF($B$1:B358,TRUE))","v":""},{"$f":"Worksheet!$B$14","v":false},{"$f":"IF(H358=1,RANDBETWEEN(1,Worksheet!$D$6),INT(J358))","v":14},{"$f":"IF(C358=1,\"week\",\"weeks\")","v":"weeks"},{"$f":"IF(H358=1,RANDBETWEEN(1,6),(J358-INT(J358))*7)","v":6.3000000000000025},"days","=",{"$f":"IF(Worksheet!$D$7=1,1,IF(Worksheet!$D$7=2,2,RANDBETWEEN(1,2)))","v":2},null,{"$f":"IF(H358=1,C358+E358/7,RANDBETWEEN(1,Worksheet!$D$6)+CHOOSE(Worksheet!$D$10,RANDBETWEEN(1,9)/10,RANDBETWEEN(1,99)/100,RANDBETWEEN(1,999)/1000,RANDBETWEEN(1,9999)/10000,RANDBETWEEN(1,99999)/100000))","v":14.9},"weeks"]
[{"$f":"IF(COUNTIF($B$1:B359,TRUE)=COUNTIF($B$1:B358,TRUE),\"\",COUNTIF($B$1:B359,TRUE))","v":""},{"$f":"Worksheet!$D$12","v":false},{"$f":"IF(H359=1,RANDBETWEEN(1,Worksheet!$D$6),INT(J359))","v":16},{"$f":"IF(C359=1,\"day\",\"days\")","v":"days"},{"$f":"IF(H359=1,RANDBETWEEN(1,23),(J359-INT(J359))*24)","v":23},"hours","=",{"$f":"IF(Worksheet!$D$7=1,1,IF(Worksheet!$D$7=2,2,RANDBETWEEN(1,2)))","v":1},null,{"$f":"IF(H359=1,C359+E359/24,RANDBETWEEN(1,Worksheet!$D$6)+CHOOSE(Worksheet!$D$10,RANDBETWEEN(1,9)/10,RANDBETWEEN(1,99)/100,RANDBETWEEN(1,999)/1000,RANDBETWEEN(1,9999)/10000,RANDBETWEEN(1,99999)/100000))","v":16.958333333333332},"days"]
[{"$f":"IF(COUNTIF($B$1:B360,TRUE)=COUNTIF($B$1:B359,TRUE),\"\",COUNTIF($B$1:B360,TRUE))","v":""},{"$f":"Worksheet!$D$13","v":false},{"$f":"IF(H360=1,RANDBETWEEN(1,Worksheet!$D$6),INT(J360))","v":6},{"$f":"IF(C360=1,\"year\",\"years\")","v":"years"},{"$f":"IF(H360=1,RANDBETWEEN(1,11),(J360-INT(J360))*12)","v":2.4000000000000021},"months","=",{"$f":"IF(Worksheet!$D$7=1,1,IF(Worksheet!$D$7=2,2,RANDBETWEEN(1,2)))","v":2},null,{"$f":"IF(H360=1,C360+E360/12,RANDBETWEEN(1,Worksheet!$D$6)+CHOOSE(Worksheet!$D$10,RANDBETWEEN(1,9)/10,RANDBETWEEN(1,99)/100,RANDBETWEEN(1,999)/1000,RANDBETWEEN(1,9999)/10000,RANDBETWEEN(1,99999)/100000))","v":6.2},"years"]
[{"$f":"COUNTIF($B$1:B361,TRUE)","v":145},{"$f":"Worksheet!$B$12","v":true},{"$f":"IF(H361=1,RANDBETWEEN(1,Worksheet!$D$6),INT(J361))","v":3},{"$f":"IF(C361=1,\"hour\",\"hours\")","v":"hours"},{"$f":"IF(H361=1,IF(Worksheet!$D$10=1,RANDBETWEEN(1,9)*6,IF(Worksheet!$D$10=2,RANDBETWEEN(1,19)*3,RANDBETWEEN(1,59))),(J361-INT(J361))*60)","v":42.000000000000014},"minutes","=",{"$f":"IF(Worksheet!$D$7=1,1,IF(Worksheet!$D$7=2,2,RANDBETWEEN(1,2)))","v":2},null,{"$f":"IF(H361=1,C361+E361/60,RANDBETWEEN(1,Worksheet!$D$6)+CHOOSE(Worksheet!$D$10,RANDBETWEEN(1,9)/10,RANDBETWEEN(1,99)/100,RANDBETWEEN(1,999)/1000,RANDBETWEEN(1,9999)/10000,RANDBETWEEN(1,99999)/100000))","v":3.7},"hours"]
[{"$f":"IF(COUNTIF($B$1:B362,TRUE)=COUNTIF($B$1:B361,TRUE),\"\",COUNTIF($B$1:B362,TRUE))","v":146},{"$f":"Worksheet!$B$13","v":true},{"$f":"IF(H362=1,RANDBETWEEN(1,Worksheet!$D$6),INT(J362))","v":21},{"$f":"IF(C362=1,\"minute\",\"minutes\")","v":"minutes"},{"$f":"IF(H362=1,IF(Worksheet!$D$10=1,RANDBETWEEN(1,9)*6,IF(Worksheet!$D$10=2,RANDBETWEEN(1,19)*3,RANDBETWEEN(1,59))),(J362-INT(J362))*60)","v":6},"seconds","=",{"$f":"IF(Worksheet!$D$7=1,1,IF(Worksheet!$D$7=2,2,RANDBETWEEN(1,2)))","v":1},null,{"$f":"IF(H362=1,C362+E362/60,RANDBETWEEN(1,Worksheet!$D$6)+CHOOSE(Worksheet!$D$10,RANDBETWEEN(1,9)/10,RANDBETWEEN(1,99)/100,RANDBETWEEN(1,999)/1000,RANDBETWEEN(1,9999)/10000,RANDBETWEEN(1,99999)/100000))","v":21.1},"minutes"]
[{"$f":"IF(COUNTIF($B$1:B363,TRUE)=COUNTIF($B$1:B362,TRUE),\"\",COUNTIF($B$1:B363,TRUE))","v":""},{"$f":"Worksheet!$B$14","v":false},{"$f":"IF(H363=1,RANDBETWEEN(1,Worksheet!$D$6),INT(J363))","v":30},{"$f":"IF(C363=1,\"week\",\"weeks\")","v":"weeks"},{"$f":"IF(H363=1,RANDBETWEEN(1,6),(J363-INT(J363))*7)","v":5},"days","=",{"$f":"IF(Worksheet!$D$7=1,1,IF(Worksheet!$D$7=2,2,RANDBETWEEN(1,2)))","v":1},null,{"$f":"IF(H363=1,C363+E363/7,RANDBETWEEN(1,Worksheet!$D$6)+CHOOSE(Worksheet!$D$10,RANDBETWEEN(1,9)/10,RANDBETWEEN(1,99)/100,RANDBETWEEN(1,999)/1000,RANDBETWEEN(1,9999)/10000,RANDBETWEEN(1,99999)/100000))","v":30.714285714285715},"weeks"]
[{"$f":"IF(COUNTIF($B$1:B364,TRUE)=COUNTIF($B$1:B363,TRUE),\"\",COUNTIF($B$1:B364,TRUE))","v":""},{"$f":"Worksheet!$D$12","v":false},{"$f":"IF(H364=1,RANDBETWEEN(1,Worksheet!$D$6),INT(J364))","v":30},{"$f":"IF(C364=1,\"day\",\"days\")","v":"days"},{"$f":"IF(H364=1,RANDBETWEEN(1,23),(J364-INT(J364))*24)","v":10},"hours","=",{"$f":"IF(Worksheet!$D$7=1,1,IF(Worksheet!$D$7=2,2,RANDBETWEEN(1,2)))","v":1},null,{"$f":"IF(H364=1,C364+E364/24,RANDBETWEEN(1,Worksheet!$D$6)+CHOOSE(Worksheet!$D$10,RANDBETWEEN(1,9)/10,RANDBETWEEN(1,99)/100,RANDBETWEEN(1,999)/1000,RANDBETWEEN(1,9999)/10000,RANDBETWEEN(1,99999)/100000))","v":30.416666666666668},"days"]
[{"$f":"IF(COUNTIF($B$1:B365,TRUE)=COUNTIF($B$1:B364,TRUE),\"\",COUNTIF($B$1:B365,TRUE))","v":""},{"$f":"Worksheet!$D$13","v":false},{"$f":"IF(H365=1,RANDBETWEEN(1,Worksheet!$D$6),INT(J365))","v":24},{"$f":"IF(C365=1,\"year\",\"years\")","v":"years"},{"$f":"IF(H365=1,RANDBETWEEN(1,11),(J365-INT(J365))*12)","v":1},"months","=",{"$f":"IF(Worksheet!$D$7=1,1,IF(Worksheet!$D$7=2,2,RANDBETWEEN(1,2)))","v":1},null,{"$f":"IF(H365=1,C365+E365/12,RANDBETWEEN(1,Worksheet!$D$6)+CHOOSE(Worksheet!$D$10,RANDBETWEEN(1,9)/10,RANDBETWEEN(1,99)/100,RANDBETWEEN(1,999)/1000,RANDBETWEEN(1,9999)/10000,RANDBETWEEN(1,99999)/100000))","v":24.083333333333332},"years"]
[{"$f":"COUNTIF($B$1:B366,TRUE)","v":147},{"$f":"Worksheet!$B$12","v":true},{"$f":"IF(H366=1,RANDBETWEEN(1,Worksheet!$D$6),INT(J366))","v":12},{"$f":"IF(C366=1,\"hour\",\"hours\")","v":"hours"},{"$f":"IF(H366=1,IF(Worksheet!$D$10=1,RANDBETWEEN(1,9)*6,IF(Worksheet!$D$10=2,RANDBETWEEN(1,19)*3,RANDBETWEEN(1,59))),(J366-INT(J366))*60)","v":18},"minutes","=",{"$f":"IF(Worksheet!$D$7=1,1,IF(Worksheet!$D$7=2,2,RANDBETWEEN(1,2)))","v":1},null,{"$f":"IF(H366=1,C366+E366/60,RANDBETWEEN(1,Worksheet!$D$6)+CHOOSE(Worksheet!$D$10,RANDBETWEEN(1,9)/10,RANDBETWEEN(1,99)/100,RANDBETWEEN(1,999)/1000,RANDBETWEEN(1,9999)/10000,RANDBETWEEN(1,99999)/100000))","v":12.3},"hours"]
[{"$f":"IF(COUNTIF($B$1:B367,TRUE)=COUNTIF($B$1:B366,TRUE),\"\",COUNTIF($B$1:B367,TRUE))","v":148},{"$f":"Worksheet!$B$13","v":true},{"$f":"IF(H367=1,RANDBETWEEN(1,Worksheet!$D$6),INT(J367))","v":23},{"$f":"IF(C367=1,\"minute\",\"minutes\")","v":"minutes"},{"$f":"IF(H367=1,IF(Worksheet!$D$10=1,RANDBETWEEN(1,9)*6,IF(Worksheet!$D$10=2,RANDBETWEEN(1,19)*3,RANDBETWEEN(1,59))),(J367-INT(J367))*60)","v":36.000000000000085},"seconds","=",{"$f":"IF(Worksheet!$D$7=1,1,IF(Worksheet!$D$7=2,2,RANDBETWEEN(1,2)))","v":2},null,{"$f":"IF(H367=1,C367+E367/60,RANDBETWEEN(1,Worksheet!$D$6)+CHOOSE(Worksheet!$D$10,RANDBETWEEN(1,9)/10,RANDBETWEEN(1,99)/100,RANDBETWEEN(1,999)/1000,RANDBETWEEN(1,9999)/10000,RANDBETWEEN(1,99999)/100000))","v":23.6},"minutes"]
[{"$f":"IF(COUNTIF($B$1:B368,TRUE)=COUNTIF($B$1:B367,TRUE),\"\",COUNTIF($B$1:B368,TRUE))","v":""},{"$f":"Worksheet!$B$14","v":false},{"$f":"IF(H368=1,RANDBETWEEN(1,Worksheet!$D$6),INT(J368))","v":18},{"$f":"IF(C368=1,\"week\",\"weeks\")","v":"weeks"},{"$f":"IF(H368=1,RANDBETWEEN(1,6),(J368-INT(J368))*7)","v":4.2000000000000099},"days","=",{"$f":"IF(Worksheet!$D$7=1,1,IF(Worksheet!$D$7=2,2,RANDBETWEEN(1,2)))","v":2},null,{"$f":"IF(H368=1,C368+E368/7,RANDBETWEEN(1,Worksheet!$D$6)+CHOOSE(Worksheet!$D$10,RANDBETWEEN(1,9)/10,RANDBETWEEN(1,99)/100,RANDBETWEEN(1,999)/1000,RANDBETWEEN(1,9999)/10000,RANDBETWEEN(1,99999)/100000))","v":18.600000000000001},"weeks"]
[{"$f":"IF(COUNTIF($B$1:B369,TRUE)=COUNTIF($B$1:B368,TRUE),\"\",COUNTIF($B$1:B369,TRUE))","v":""},{"$f":"Worksheet!$D$12","v":false},{"$f":"IF(H369=1,RANDBETWEEN(1,Worksheet!$D$6),INT(J369))","v":11},{"$f":"IF(C369=1,\"day\",\"days\")","v":"days"},{"$f":"IF(H369=1,RANDBETWEEN(1,23),(J369-INT(J369))*24)","v":14.399999999999991},"hours","=",{"$f":"IF(Worksheet!$D$7=1,1,IF(Worksheet!$D$7=2,2,RANDBETWEEN(1,2)))","v":2},null,{"$f":"IF(H369=1,C369+E369/24,RANDBETWEEN(1,Worksheet!$D$6)+CHOOSE(Worksheet!$D$10,RANDBETWEEN(1,9)/10,RANDBETWEEN(1,99)/100,RANDBETWEEN(1,999)/1000,RANDBETWEEN(1,9999)/10000,RANDBETWEEN(1,99999)/100000))","v":11.6},"days"]
[{"$f":"IF(COUNTIF($B$1:B370,TRUE)=COUNTIF($B$1:B369,TRUE),\"\",COUNTIF($B$1:B370,TRUE))","v":""},{"$f":"Worksheet!$D$13","v":false},{"$f":"IF(H370=1,RANDBETWEEN(1,Worksheet!$D$6),INT(J370))","v":26},{"$f":"IF(C370=1,\"year\",\"years\")","v":"years"},{"$f":"IF(H370=1,RANDBETWEEN(1,11),(J370-INT(J370))*12)","v":8.3999999999999915},"months","=",{"$f":"IF(Worksheet!$D$7=1,1,IF(Worksheet!$D$7=2,2,RANDBETWEEN(1,2)))","v":2},null,{"$f":"IF(H370=1,C370+E370/12,RANDBETWEEN(1,Worksheet!$D$6)+CHOOSE(Worksheet!$D$10,RANDBETWEEN(1,9)/10,RANDBETWEEN(1,99)/100,RANDBETWEEN(1,999)/1000,RANDBETWEEN(1,9999)/10000,RANDBETWEEN(1,99999)/100000))","v":26.7},"years"]
[{"$f":"COUNTIF($B$1:B371,TRUE)","v":149},{"$f":"Worksheet!$B$12","v":true},{"$f":"IF(H371=1,RANDBETWEEN(1,Worksheet!$D$6),INT(J371))","v":26},{"$f":"IF(C371=1,\"hour\",\"hours\")","v":"hours"},{"$f":"IF(H371=1,IF(Worksheet!$D$10=1,RANDBETWEEN(1,9)*6,IF(Worksheet!$D$10=2,RANDBETWEEN(1,19)*3,RANDBETWEEN(1,59))),(J371-INT(J371))*60)","v":11.999999999999957},"minutes","=",{"$f":"IF(Worksheet!$D$7=1,1,IF(Worksheet!$D$7=2,2,RANDBETWEEN(1,2)))","v":2},null,{"$f":"IF(H371=1,C371+E371/60,RANDBETWEEN(1,Worksheet!$D$6)+CHOOSE(Worksheet!$D$10,RANDBETWEEN(1,9)/10,RANDBETWEEN(1,99)/100,RANDBETWEEN(1,999)/1000,RANDBETWEEN(1,9999)/10000,RANDBETWEEN(1,99999)/100000))","v":26.2},"hours"]
[{"$f":"IF(COUNTIF($B$1:B372,TRUE)=COUNTIF($B$1:B371,TRUE),\"\",COUNTIF($B$1:B372,TRUE))","v":150},{"$f":"Worksheet!$B$13","v":true},{"$f":"IF(H372=1,RANDBETWEEN(1,Worksheet!$D$6),INT(J372))","v":14},{"$f":"IF(C372=1,\"minute\",\"minutes\")","v":"minutes"},{"$f":"IF(H372=1,IF(Worksheet!$D$10=1,RANDBETWEEN(1,9)*6,IF(Worksheet!$D$10=2,RANDBETWEEN(1,19)*3,RANDBETWEEN(1,59))),(J372-INT(J372))*60)","v":35.999999999999979},"seconds","=",{"$f":"IF(Worksheet!$D$7=1,1,IF(Worksheet!$D$7=2,2,RANDBETWEEN(1,2)))","v":2},null,{"$f":"IF(H372=1,C372+E372/60,RANDBETWEEN(1,Worksheet!$D$6)+CHOOSE(Worksheet!$D$10,RANDBETWEEN(1,9)/10,RANDBETWEEN(1,99)/100,RANDBETWEEN(1,999)/1000,RANDBETWEEN(1,9999)/10000,RANDBETWEEN(1,99999)/100000))","v":14.6},"minutes"]
[{"$f":"IF(COUNTIF($B$1:B373,TRUE)=COUNTIF($B$1:B372,TRUE),\"\",COUNTIF($B$1:B373,TRUE))","v":""},{"$f":"Worksheet!$B$14","v":false},{"$f":"IF(H373=1,RANDBETWEEN(1,Worksheet!$D$6),INT(J373))","v":10},{"$f":"IF(C373=1,\"week\",\"weeks\")","v":"weeks"},{"$f":"IF(H373=1,RANDBETWEEN(1,6),(J373-INT(J373))*7)","v":5},"days","=",{"$f":"IF(Worksheet!$D$7=1,1,IF(Worksheet!$D$7=2,2,RANDBETWEEN(1,2)))","v":1},null,{"$f":"IF(H373=1,C373+E373/7,RANDBETWEEN(1,Worksheet!$D$6)+CHOOSE(Worksheet!$D$10,RANDBETWEEN(1,9)/10,RANDBETWEEN(1,99)/100,RANDBETWEEN(1,999)/1000,RANDBETWEEN(1,9999)/10000,RANDBETWEEN(1,99999)/100000))","v":10.714285714285714},"weeks"]
[{"$f":"IF(COUNTIF($B$1:B374,TRUE)=COUNTIF($B$1:B373,TRUE),\"\",COUNTIF($B$1:B374,TRUE))","v":""},{"$f":"Worksheet!$D$12","v":false},{"$f":"IF(H374=1,RANDBETWEEN(1,Worksheet!$D$6),INT(J374))","v":4},{"$f":"IF(C374=1,\"day\",\"days\")","v":"days"},{"$f":"IF(H374=1,RANDBETWEEN(1,23),(J374-INT(J374))*24)","v":12},"hours","=",{"$f":"IF(Worksheet!$D$7=1,1,IF(Worksheet!$D$7=2,2,RANDBETWEEN(1,2)))","v":2},null,{"$f":"IF(H374=1,C374+E374/24,RANDBETWEEN(1,Worksheet!$D$6)+CHOOSE(Worksheet!$D$10,RANDBETWEEN(1,9)/10,RANDBETWEEN(1,99)/100,RANDBETWEEN(1,999)/1000,RANDBETWEEN(1,9999)/10000,RANDBETWEEN(1,99999)/100000))","v":4.5},"days"]
[{"$f":"IF(COUNTIF($B$1:B375,TRUE)=COUNTIF($B$1:B374,TRUE),\"\",COUNTIF($B$1:B375,TRUE))","v":""},{"$f":"Worksheet!$D$13","v":false},{"$f":"IF(H375=1,RANDBETWEEN(1,Worksheet!$D$6),INT(J375))","v":14},{"$f":"IF(C375=1,\"year\",\"years\")","v":"years"},{"$f":"IF(H375=1,RANDBETWEEN(1,11),(J375-INT(J375))*12)","v":8},"months","=",{"$f":"IF(Worksheet!$D$7=1,1,IF(Worksheet!$D$7=2,2,RANDBETWEEN(1,2)))","v":1},null,{"$f":"IF(H375=1,C375+E375/12,RANDBETWEEN(1,Worksheet!$D$6)+CHOOSE(Worksheet!$D$10,RANDBETWEEN(1,9)/10,RANDBETWEEN(1,99)/100,RANDBETWEEN(1,999)/1000,RANDBETWEEN(1,9999)/10000,RANDBETWEEN(1,99999)/100000))","v":14.666666666666666},"years"]
[{"$f":"COUNTIF($B$1:B376,TRUE)","v":151},{"$f":"Worksheet!$B$12","v":true},{"$f":"IF(H376=1,RANDBETWEEN(1,Worksheet!$D$6),INT(J376))","v":29},{"$f":"IF(C376=1,\"hour\",\"hours\")","v":"hours"},{"$f":"IF(H376=1,IF(Worksheet!$D$10=1,RANDBETWEEN(1,9)*6,IF(Worksheet!$D$10=2,RANDBETWEEN(1,19)*3,RANDBETWEEN(1,59))),(J376-INT(J376))*60)","v":30},"minutes","=",{"$f":"IF(Worksheet!$D$7=1,1,IF(Worksheet!$D$7=2,2,RANDBETWEEN(1,2)))","v":2},null,{"$f":"IF(H376=1,C376+E376/60,RANDBETWEEN(1,Worksheet!$D$6)+CHOOSE(Worksheet!$D$10,RANDBETWEEN(1,9)/10,RANDBETWEEN(1,99)/100,RANDBETWEEN(1,999)/1000,RANDBETWEEN(1,9999)/10000,RANDBETWEEN(1,99999)/100000))","v":29.5},"hours"]
[{"$f":"IF(COUNTIF($B$1:B377,TRUE)=COUNTIF($B$1:B376,TRUE),\"\",COUNTIF($B$1:B377,TRUE))","v":152},{"$f":"Worksheet!$B$13","v":true},{"$f":"IF(H377=1,RANDBETWEEN(1,Worksheet!$D$6),INT(J377))","v":17},{"$f":"IF(C377=1,\"minute\",\"minutes\")","v":"minutes"},{"$f":"IF(H377=1,IF(Worksheet!$D$10=1,RANDBETWEEN(1,9)*6,IF(Worksheet!$D$10=2,RANDBETWEEN(1,19)*3,RANDBETWEEN(1,59))),(J377-INT(J377))*60)","v":6},"seconds","=",{"$f":"IF(Worksheet!$D$7=1,1,IF(Worksheet!$D$7=2,2,RANDBETWEEN(1,2)))","v":1},null,{"$f":"IF(H377=1,C377+E377/60,RANDBETWEEN(1,Worksheet!$D$6)+CHOOSE(Worksheet!$D$10,RANDBETWEEN(1,9)/10,RANDBETWEEN(1,99)/100,RANDBETWEEN(1,999)/1000,RANDBETWEEN(1,9999)/10000,RANDBETWEEN(1,99999)/100000))","v":17.100000000000001},"minutes"]
[{"$f":"IF(COUNTIF($B$1:B378,TRUE)=COUNTIF($B$1:B377,TRUE),\"\",COUNTIF($B$1:B378,TRUE))","v":""},{"$f":"Worksheet!$B$14","v":false},{"$f":"IF(H378=1,RANDBETWEEN(1,Worksheet!$D$6),INT(J378))","v":27},{"$f":"IF(C378=1,\"week\",\"weeks\")","v":"weeks"},{"$f":"IF(H378=1,RANDBETWEEN(1,6),(J378-INT(J378))*7)","v":1},"days","=",{"$f":"IF(Worksheet!$D$7=1,1,IF(Worksheet!$D$7=2,2,RANDBETWEEN(1,2)))","v":1},null,{"$f":"IF(H378=1,C378+E378/7,RANDBETWEEN(1,Worksheet!$D$6)+CHOOSE(Worksheet!$D$10,RANDBETWEEN(1,9)/10,RANDBETWEEN(1,99)/100,RANDBETWEEN(1,999)/1000,RANDBETWEEN(1,9999)/10000,RANDBETWEEN(1,99999)/100000))","v":27.142857142857142},"weeks"]
[{"$f":"IF(COUNTIF($B$1:B379,TRUE)=COUNTIF($B$1:B378,TRUE),\"\",COUNTIF($B$1:B379,TRUE))","v":""},{"$f":"Worksheet!$D$12","v":false},{"$f":"IF(H379=1,RANDBETWEEN(1,Worksheet!$D$6),INT(J379))","v":12},{"$f":"IF(C379=1,\"day\",\"days\")","v":"days"},{"$f":"IF(H379=1,RANDBETWEEN(1,23),(J379-INT(J379))*24)","v":22},"hours","=",{"$f":"IF(Worksheet!$D$7=1,1,IF(Worksheet!$D$7=2,2,RANDBETWEEN(1,2)))","v":1},null,{"$f":"IF(H379=1,C379+E379/24,RANDBETWEEN(1,Worksheet!$D$6)+CHOOSE(Worksheet!$D$10,RANDBETWEEN(1,9)/10,RANDBETWEEN(1,99)/100,RANDBETWEEN(1,999)/1000,RANDBETWEEN(1,9999)/10000,RANDBETWEEN(1,99999)/100000))","v":12.916666666666666},"days"]
[{"$f":"IF(COUNTIF($B$1:B380,TRUE)=COUNTIF($B$1:B379,TRUE),\"\",COUNTIF($B$1:B380,TRUE))","v":""},{"$f":"Worksheet!$D$13","v":false},{"$f":"IF(H380=1,RANDBETWEEN(1,Worksheet!$D$6),INT(J380))","v":6},{"$f":"IF(C380=1,\"year\",\"years\")","v":"years"},{"$f":"IF(H380=1,RANDBETWEEN(1,11),(J380-INT(J380))*12)","v":5},"months","=",{"$f":"IF(Worksheet!$D$7=1,1,IF(Worksheet!$D$7=2,2,RANDBETWEEN(1,2)))","v":1},null,{"$f":"IF(H380=1,C380+E380/12,RANDBETWEEN(1,Worksheet!$D$6)+CHOOSE(Worksheet!$D$10,RANDBETWEEN(1,9)/10,RANDBETWEEN(1,99)/100,RANDBETWEEN(1,999)/1000,RANDBETWEEN(1,9999)/10000,RANDBETWEEN(1,99999)/100000))","v":6.416666666666667},"years"]
[{"$f":"COUNTIF($B$1:B381,TRUE)","v":153},{"$f":"Worksheet!$B$12","v":true},{"$f":"IF(H381=1,RANDBETWEEN(1,Worksheet!$D$6),INT(J381))","v":16},{"$f":"IF(C381=1,\"hour\",\"hours\")","v":"hours"},{"$f":"IF(H381=1,IF(Worksheet!$D$10=1,RANDBETWEEN(1,9)*6,IF(Worksheet!$D$10=2,RANDBETWEEN(1,19)*3,RANDBETWEEN(1,59))),(J381-INT(J381))*60)","v":48.000000000000043},"minutes","=",{"$f":"IF(Worksheet!$D$7=1,1,IF(Worksheet!$D$7=2,2,RANDBETWEEN(1,2)))","v":2},null,{"$f":"IF(H381=1,C381+E381/60,RANDBETWEEN(1,Worksheet!$D$6)+CHOOSE(Worksheet!$D$10,RANDBETWEEN(1,9)/10,RANDBETWEEN(1,99)/100,RANDBETWEEN(1,999)/1000,RANDBETWEEN(1,9999)/10000,RANDBETWEEN(1,99999)/100000))","v":16.8},"hours"]
[{"$f":"IF(COUNTIF($B$1:B382,TRUE)=COUNTIF($B$1:B381,TRUE),\"\",COUNTIF($B$1:B382,TRUE))","v":154},{"$f":"Worksheet!$B$13","v":true},{"$f":"IF(H382=1,RANDBETWEEN(1,Worksheet!$D$6),INT(J382))","v":30},{"$f":"IF(C382=1,\"minute\",\"minutes\")","v":"minutes"},{"$f":"IF(H382=1,IF(Worksheet!$D$10=1,RANDBETWEEN(1,9)*6,IF(Worksheet!$D$10=2,RANDBETWEEN(1,19)*3,RANDBETWEEN(1,59))),(J382-INT(J382))*60)","v":24},"seconds","=",{"$f":"IF(Worksheet!$D$7=1,1,IF(Worksheet!$D$7=2,2,RANDBETWEEN(1,2)))","v":1},null,{"$f":"IF(H382=1,C382+E382/60,RANDBETWEEN(1,Worksheet!$D$6)+CHOOSE(Worksheet!$D$10,RANDBETWEEN(1,9)/10,RANDBETWEEN(1,99)/100,RANDBETWEEN(1,999)/1000,RANDBETWEEN(1,9999)/10000,RANDBETWEEN(1,99999)/100000))","v":30.4},"minutes"]
[{"$f":"IF(COUNTIF($B$1:B383,TRUE)=COUNTIF($B$1:B382,TRUE),\"\",COUNTIF($B$1:B383,TRUE))","v":""},{"$f":"Worksheet!$B$14","v":false},{"$f":"IF(H383=1,RANDBETWEEN(1,Worksheet!$D$6),INT(J383))","v":10},{"$f":"IF(C383=1,\"week\",\"weeks\")","v":"weeks"},{"$f":"IF(H383=1,RANDBETWEEN(1,6),(J383-INT(J383))*7)","v":6},"days","=",{"$f":"IF(Worksheet!$D$7=1,1,IF(Worksheet!$D$7=2,2,RANDBETWEEN(1,2)))","v":1},null,{"$f":"IF(H383=1,C383+E383/7,RANDBETWEEN(1,Worksheet!$D$6)+CHOOSE(Worksheet!$D$10,RANDBETWEEN(1,9)/10,RANDBETWEEN(1,99)/100,RANDBETWEEN(1,999)/1000,RANDBETWEEN(1,9999)/10000,RANDBETWEEN(1,99999)/100000))","v":10.857142857142858},"weeks"]
[{"$f":"IF(COUNTIF($B$1:B384,TRUE)=COUNTIF($B$1:B383,TRUE),\"\",COUNTIF($B$1:B384,TRUE))","v":""},{"$f":"Worksheet!$D$12","v":false},{"$f":"IF(H384=1,RANDBETWEEN(1,Worksheet!$D$6),INT(J384))","v":26},{"$f":"IF(C384=1,\"day\",\"days\")","v":"days"},{"$f":"IF(H384=1,RANDBETWEEN(1,23),(J384-INT(J384))*24)","v":9.5999999999999659},"hours","=",{"$f":"IF(Worksheet!$D$7=1,1,IF(Worksheet!$D$7=2,2,RANDBETWEEN(1,2)))","v":2},null,{"$f":"IF(H384=1,C384+E384/24,RANDBETWEEN(1,Worksheet!$D$6)+CHOOSE(Worksheet!$D$10,RANDBETWEEN(1,9)/10,RANDBETWEEN(1,99)/100,RANDBETWEEN(1,999)/1000,RANDBETWEEN(1,9999)/10000,RANDBETWEEN(1,99999)/100000))","v":26.4},"days"]
[{"$f":"IF(COUNTIF($B$1:B385,TRUE)=COUNTIF($B$1:B384,TRUE),\"\",COUNTIF($B$1:B385,TRUE))","v":""},{"$f":"Worksheet!$D$13","v":false},{"$f":"IF(H385=1,RANDBETWEEN(1,Worksheet!$D$6),INT(J385))","v":19},{"$f":"IF(C385=1,\"year\",\"years\")","v":"years"},{"$f":"IF(H385=1,RANDBETWEEN(1,11),(J385-INT(J385))*12)","v":4.7999999999999829},"months","=",{"$f":"IF(Worksheet!$D$7=1,1,IF(Worksheet!$D$7=2,2,RANDBETWEEN(1,2)))","v":2},null,{"$f":"IF(H385=1,C385+E385/12,RANDBETWEEN(1,Worksheet!$D$6)+CHOOSE(Worksheet!$D$10,RANDBETWEEN(1,9)/10,RANDBETWEEN(1,99)/100,RANDBETWEEN(1,999)/1000,RANDBETWEEN(1,9999)/10000,RANDBETWEEN(1,99999)/100000))","v":19.399999999999999},"years"]
[{"$f":"COUNTIF($B$1:B386,TRUE)","v":155},{"$f":"Worksheet!$B$12","v":true},{"$f":"IF(H386=1,RANDBETWEEN(1,Worksheet!$D$6),INT(J386))","v":6},{"$f":"IF(C386=1,\"hour\",\"hours\")","v":"hours"},{"$f":"IF(H386=1,IF(Worksheet!$D$10=1,RANDBETWEEN(1,9)*6,IF(Worksheet!$D$10=2,RANDBETWEEN(1,19)*3,RANDBETWEEN(1,59))),(J386-INT(J386))*60)","v":36},"minutes","=",{"$f":"IF(Worksheet!$D$7=1,1,IF(Worksheet!$D$7=2,2,RANDBETWEEN(1,2)))","v":1},null,{"$f":"IF(H386=1,C386+E386/60,RANDBETWEEN(1,Worksheet!$D$6)+CHOOSE(Worksheet!$D$10,RANDBETWEEN(1,9)/10,RANDBETWEEN(1,99)/100,RANDBETWEEN(1,999)/1000,RANDBETWEEN(1,9999)/10000,RANDBETWEEN(1,99999)/100000))","v":6.6},"hours"]
[{"$f":"IF(COUNTIF($B$1:B387,TRUE)=COUNTIF($B$1:B386,TRUE),\"\",COUNTIF($B$1:B387,TRUE))","v":156},{"$f":"Worksheet!$B$13","v":true},{"$f":"IF(H387=1,RANDBETWEEN(1,Worksheet!$D$6),INT(J387))","v":5},{"$f":"IF(C387=1,\"minute\",\"minutes\")","v":"minutes"},{"$f":"IF(H387=1,IF(Worksheet!$D$10=1,RANDBETWEEN(1,9)*6,IF(Worksheet!$D$10=2,RANDBETWEEN(1,19)*3,RANDBETWEEN(1,59))),(J387-INT(J387))*60)","v":47.999999999999986},"seconds","=",{"$f":"IF(Worksheet!$D$7=1,1,IF(Worksheet!$D$7=2,2,RANDBETWEEN(1,2)))","v":2},null,{"$f":"IF(H387=1,C387+E387/60,RANDBETWEEN(1,Worksheet!$D$6)+CHOOSE(Worksheet!$D$10,RANDBETWEEN(1,9)/10,RANDBETWEEN(1,99)/100,RANDBETWEEN(1,999)/1000,RANDBETWEEN(1,9999)/10000,RANDBETWEEN(1,99999)/100000))","v":5.8},"minutes"]
[{"$f":"IF(COUNTIF($B$1:B388,TRUE)=COUNTIF($B$1:B387,TRUE),\"\",COUNTIF($B$1:B388,TRUE))","v":""},{"$f":"Worksheet!$B$14","v":false},{"$f":"IF(H388=1,RANDBETWEEN(1,Worksheet!$D$6),INT(J388))","v":1},{"$f":"IF(C388=1,\"week\",\"weeks\")","v":"week"},{"$f":"IF(H388=1,RANDBETWEEN(1,6),(J388-INT(J388))*7)","v":1},"days","=",{"$f":"IF(Worksheet!$D$7=1,1,IF(Worksheet!$D$7=2,2,RANDBETWEEN(1,2)))","v":1},null,{"$f":"IF(H388=1,C388+E388/7,RANDBETWEEN(1,Worksheet!$D$6)+CHOOSE(Worksheet!$D$10,RANDBETWEEN(1,9)/10,RANDBETWEEN(1,99)/100,RANDBETWEEN(1,999)/1000,RANDBETWEEN(1,9999)/10000,RANDBETWEEN(1,99999)/100000))","v":1.1428571428571428},"week"]
[{"$f":"IF(COUNTIF($B$1:B389,TRUE)=COUNTIF($B$1:B388,TRUE),\"\",COUNTIF($B$1:B389,TRUE))","v":""},{"$f":"Worksheet!$D$12","v":false},{"$f":"IF(H389=1,RANDBETWEEN(1,Worksheet!$D$6),INT(J389))","v":27},{"$f":"IF(C389=1,\"day\",\"days\")","v":"days"},{"$f":"IF(H389=1,RANDBETWEEN(1,23),(J389-INT(J389))*24)","v":12},"hours","=",{"$f":"IF(Worksheet!$D$7=1,1,IF(Worksheet!$D$7=2,2,RANDBETWEEN(1,2)))","v":2},null,{"$f":"IF(H389=1,C389+E389/24,RANDBETWEEN(1,Worksheet!$D$6)+CHOOSE(Worksheet!$D$10,RANDBETWEEN(1,9)/10,RANDBETWEEN(1,99)/100,RANDBETWEEN(1,999)/1000,RANDBETWEEN(1,9999)/10000,RANDBETWEEN(1,99999)/100000))","v":27.5},"days"]
[{"$f":"IF(COUNTIF($B$1:B390,TRUE)=COUNTIF($B$1:B389,TRUE),\"\",COUNTIF($B$1:B390,TRUE))","v":""},{"$f":"Worksheet!$D$13","v":false},{"$f":"IF(H390=1,RANDBETWEEN(1,Worksheet!$D$6),INT(J390))","v":8},{"$f":"IF(C390=1,\"year\",\"years\")","v":"years"},{"$f":"IF(H390=1,RANDBETWEEN(1,11),(J390-INT(J390))*12)","v":4.8000000000000043},"months","=",{"$f":"IF(Worksheet!$D$7=1,1,IF(Worksheet!$D$7=2,2,RANDBETWEEN(1,2)))","v":2},null,{"$f":"IF(H390=1,C390+E390/12,RANDBETWEEN(1,Worksheet!$D$6)+CHOOSE(Worksheet!$D$10,RANDBETWEEN(1,9)/10,RANDBETWEEN(1,99)/100,RANDBETWEEN(1,999)/1000,RANDBETWEEN(1,9999)/10000,RANDBETWEEN(1,99999)/100000))","v":8.4},"years"]
[{"$f":"COUNTIF($B$1:B391,TRUE)","v":157},{"$f":"Worksheet!$B$12","v":true},{"$f":"IF(H391=1,RANDBETWEEN(1,Worksheet!$D$6),INT(J391))","v":23},{"$f":"IF(C391=1,\"hour\",\"hours\")","v":"hours"},{"$f":"IF(H391=1,IF(Worksheet!$D$10=1,RANDBETWEEN(1,9)*6,IF(Worksheet!$D$10=2,RANDBETWEEN(1,19)*3,RANDBETWEEN(1,59))),(J391-INT(J391))*60)","v":11.999999999999957},"minutes","=",{"$f":"IF(Worksheet!$D$7=1,1,IF(Worksheet!$D$7=2,2,RANDBETWEEN(1,2)))","v":2},null,{"$f":"IF(H391=1,C391+E391/60,RANDBETWEEN(1,Worksheet!$D$6)+CHOOSE(Worksheet!$D$10,RANDBETWEEN(1,9)/10,RANDBETWEEN(1,99)/100,RANDBETWEEN(1,999)/1000,RANDBETWEEN(1,9999)/10000,RANDBETWEEN(1,99999)/100000))","v":23.2},"hours"]
[{"$f":"IF(COUNTIF($B$1:B392,TRUE)=COUNTIF($B$1:B391,TRUE),\"\",COUNTIF($B$1:B392,TRUE))","v":158},{"$f":"Worksheet!$B$13","v":true},{"$f":"IF(H392=1,RANDBETWEEN(1,Worksheet!$D$6),INT(J392))","v":14},{"$f":"IF(C392=1,\"minute\",\"minutes\")","v":"minutes"},{"$f":"IF(H392=1,IF(Worksheet!$D$10=1,RANDBETWEEN(1,9)*6,IF(Worksheet!$D$10=2,RANDBETWEEN(1,19)*3,RANDBETWEEN(1,59))),(J392-INT(J392))*60)","v":35.999999999999979},"seconds","=",{"$f":"IF(Worksheet!$D$7=1,1,IF(Worksheet!$D$7=2,2,RANDBETWEEN(1,2)))","v":2},null,{"$f":"IF(H392=1,C392+E392/60,RANDBETWEEN(1,Worksheet!$D$6)+CHOOSE(Worksheet!$D$10,RANDBETWEEN(1,9)/10,RANDBETWEEN(1,99)/100,RANDBETWEEN(1,999)/1000,RANDBETWEEN(1,9999)/10000,RANDBETWEEN(1,99999)/100000))","v":14.6},"minutes"]
[{"$f":"IF(COUNTIF($B$1:B393,TRUE)=COUNTIF($B$1:B392,TRUE),\"\",COUNTIF($B$1:B393,TRUE))","v":""},{"$f":"Worksheet!$B$14","v":false},{"$f":"IF(H393=1,RANDBETWEEN(1,Worksheet!$D$6),INT(J393))","v":20},{"$f":"IF(C393=1,\"week\",\"weeks\")","v":"weeks"},{"$f":"IF(H393=1,RANDBETWEEN(1,6),(J393-INT(J393))*7)","v":0.70000000000000995},"days","=",{"$f":"IF(Worksheet!$D$7=1,1,IF(Worksheet!$D$7=2,2,RANDBETWEEN(1,2)))","v":2},null,{"$f":"IF(H393=1,C393+E393/7,RANDBETWEEN(1,Worksheet!$D$6)+CHOOSE(Worksheet!$D$10,RANDBETWEEN(1,9)/10,RANDBETWEEN(1,99)/100,RANDBETWEEN(1,999)/1000,RANDBETWEEN(1,9999)/10000,RANDBETWEEN(1,99999)/100000))","v":20.100000000000001},"weeks"]
[{"$f":"IF(COUNTIF($B$1:B394,TRUE)=COUNTIF($B$1:B393,TRUE),\"\",COUNTIF($B$1:B394,TRUE))","v":""},{"$f":"Worksheet!$D$12","v":false},{"$f":"IF(H394=1,RANDBETWEEN(1,Worksheet!$D$6),INT(J394))","v":19},{"$f":"IF(C394=1,\"day\",\"days\")","v":"days"},{"$f":"IF(H394=1,RANDBETWEEN(1,23),(J394-INT(J394))*24)","v":22},"hours","=",{"$f":"IF(Worksheet!$D$7=1,1,IF(Worksheet!$D$7=2,2,RANDBETWEEN(1,2)))","v":1},null,{"$f":"IF(H394=1,C394+E394/24,RANDBETWEEN(1,Worksheet!$D$6)+CHOOSE(Worksheet!$D$10,RANDBETWEEN(1,9)/10,RANDBETWEEN(1,99)/100,RANDBETWEEN(1,999)/1000,RANDBETWEEN(1,9999)/10000,RANDBETWEEN(1,99999)/100000))","v":19.916666666666668},"days"]
[{"$f":"IF(COUNTIF($B$1:B395,TRUE)=COUNTIF($B$1:B394,TRUE),\"\",COUNTIF($B$1:B395,TRUE))","v":""},{"$f":"Worksheet!$D$13","v":false},{"$f":"IF(H395=1,RANDBETWEEN(1,Worksheet!$D$6),INT(J395))","v":29},{"$f":"IF(C395=1,\"year\",\"years\")","v":"years"},{"$f":"IF(H395=1,RANDBETWEEN(1,11),(J395-INT(J395))*12)","v":3},"months","=",{"$f":"IF(Worksheet!$D$7=1,1,IF(Worksheet!$D$7=2,2,RANDBETWEEN(1,2)))","v":1},null,{"$f":"IF(H395=1,C395+E395/12,RANDBETWEEN(1,Worksheet!$D$6)+CHOOSE(Worksheet!$D$10,RANDBETWEEN(1,9)/10,RANDBETWEEN(1,99)/100,RANDBETWEEN(1,999)/1000,RANDBETWEEN(1,9999)/10000,RANDBETWEEN(1,99999)/100000))","v":29.25},"years"]
[{"$f":"COUNTIF($B$1:B396,TRUE)","v":159},{"$f":"Worksheet!$B$12","v":true},{"$f":"IF(H396=1,RANDBETWEEN(1,Worksheet!$D$6),INT(J396))","v":16},{"$f":"IF(C396=1,\"hour\",\"hours\")","v":"hours"},{"$f":"IF(H396=1,IF(Worksheet!$D$10=1,RANDBETWEEN(1,9)*6,IF(Worksheet!$D$10=2,RANDBETWEEN(1,19)*3,RANDBETWEEN(1,59))),(J396-INT(J396))*60)","v":53.999999999999915},"minutes","=",{"$f":"IF(Worksheet!$D$7=1,1,IF(Worksheet!$D$7=2,2,RANDBETWEEN(1,2)))","v":2},null,{"$f":"IF(H396=1,C396+E396/60,RANDBETWEEN(1,Worksheet!$D$6)+CHOOSE(Worksheet!$D$10,RANDBETWEEN(1,9)/10,RANDBETWEEN(1,99)/100,RANDBETWEEN(1,999)/1000,RANDBETWEEN(1,9999)/10000,RANDBETWEEN(1,99999)/100000))","v":16.899999999999999},"hours"]
[{"$f":"IF(COUNTIF($B$1:B397,TRUE)=COUNTIF($B$1:B396,TRUE),\"\",COUNTIF($B$1:B397,TRUE))","v":160},{"$f":"Worksheet!$B$13","v":true},{"$f":"IF(H397=1,RANDBETWEEN(1,Worksheet!$D$6),INT(J397))","v":21},{"$f":"IF(C397=1,\"minute\",\"minutes\")","v":"minutes"},{"$f":"IF(H397=1,IF(Worksheet!$D$10=1,RANDBETWEEN(1,9)*6,IF(Worksheet!$D$10=2,RANDBETWEEN(1,19)*3,RANDBETWEEN(1,59))),(J397-INT(J397))*60)","v":18},"seconds","=",{"$f":"IF(Worksheet!$D$7=1,1,IF(Worksheet!$D$7=2,2,RANDBETWEEN(1,2)))","v":1},null,{"$f":"IF(H397=1,C397+E397/60,RANDBETWEEN(1,Worksheet!$D$6)+CHOOSE(Worksheet!$D$10,RANDBETWEEN(1,9)/10,RANDBETWEEN(1,99)/100,RANDBETWEEN(1,999)/1000,RANDBETWEEN(1,9999)/10000,RANDBETWEEN(1,99999)/100000))","v":21.3},"minutes"]
[{"$f":"IF(COUNTIF($B$1:B398,TRUE)=COUNTIF($B$1:B397,TRUE),\"\",COUNTIF($B$1:B398,TRUE))","v":""},{"$f":"Worksheet!$B$14","v":false},{"$f":"IF(H398=1,RANDBETWEEN(1,Worksheet!$D$6),INT(J398))","v":6},{"$f":"IF(C398=1,\"week\",\"weeks\")","v":"weeks"},{"$f":"IF(H398=1,RANDBETWEEN(1,6),(J398-INT(J398))*7)","v":2.8000000000000025},"days","=",{"$f":"IF(Worksheet!$D$7=1,1,IF(Worksheet!$D$7=2,2,RANDBETWEEN(1,2)))","v":2},null,{"$f":"IF(H398=1,C398+E398/7,RANDBETWEEN(1,Worksheet!$D$6)+CHOOSE(Worksheet!$D$10,RANDBETWEEN(1,9)/10,RANDBETWEEN(1,99)/100,RANDBETWEEN(1,999)/1000,RANDBETWEEN(1,9999)/10000,RANDBETWEEN(1,99999)/100000))","v":6.4},"weeks"]
[{"$f":"IF(COUNTIF($B$1:B399,TRUE)=COUNTIF($B$1:B398,TRUE),\"\",COUNTIF($B$1:B399,TRUE))","v":""},{"$f":"Worksheet!$D$12","v":false},{"$f":"IF(H399=1,RANDBETWEEN(1,Worksheet!$D$6),INT(J399))","v":26},{"$f":"IF(C399=1,\"day\",\"days\")","v":"days"},{"$f":"IF(H399=1,RANDBETWEEN(1,23),(J399-INT(J399))*24)","v":7.2000000000000171},"hours","=",{"$f":"IF(Worksheet!$D$7=1,1,IF(Worksheet!$D$7=2,2,RANDBETWEEN(1,2)))","v":2},null,{"$f":"IF(H399=1,C399+E399/24,RANDBETWEEN(1,Worksheet!$D$6)+CHOOSE(Worksheet!$D$10,RANDBETWEEN(1,9)/10,RANDBETWEEN(1,99)/100,RANDBETWEEN(1,999)/1000,RANDBETWEEN(1,9999)/10000,RANDBETWEEN(1,99999)/100000))","v":26.3},"days"]
[{"$f":"IF(COUNTIF($B$1:B400,TRUE)=COUNTIF($B$1:B399,TRUE),\"\",COUNTIF($B$1:B400,TRUE))","v":""},{"$f":"Worksheet!$D$13","v":false},{"$f":"IF(H400=1,RANDBETWEEN(1,Worksheet!$D$6),INT(J400))","v":30},{"$f":"IF(C400=1,\"year\",\"years\")","v":"years"},{"$f":"IF(H400=1,RANDBETWEEN(1,11),(J400-INT(J400))*12)","v":4},"months","=",{"$f":"IF(Worksheet!$D$7=1,1,IF(Worksheet!$D$7=2,2,RANDBETWEEN(1,2)))","v":1},null,{"$f":"IF(H400=1,C400+E400/12,RANDBETWEEN(1,Worksheet!$D$6)+CHOOSE(Worksheet!$D$10,RANDBETWEEN(1,9)/10,RANDBETWEEN(1,99)/100,RANDBETWEEN(1,999)/1000,RANDBETWEEN(1,9999)/10000,RANDBETWEEN(1,99999)/100000))","v":30.333333333333332},"years"]
[{"$f":"COUNTIF($B$1:B401,TRUE)","v":161},{"$f":"Worksheet!$B$12","v":true},{"$f":"IF(H401=1,RANDBETWEEN(1,Worksheet!$D$6),INT(J401))","v":24},{"$f":"IF(C401=1,\"hour\",\"hours\")","v":"hours"},{"$f":"IF(H401=1,IF(Worksheet!$D$10=1,RANDBETWEEN(1,9)*6,IF(Worksheet!$D$10=2,RANDBETWEEN(1,19)*3,RANDBETWEEN(1,59))),(J401-INT(J401))*60)","v":41.999999999999957},"minutes","=",{"$f":"IF(Worksheet!$D$7=1,1,IF(Worksheet!$D$7=2,2,RANDBETWEEN(1,2)))","v":2},null,{"$f":"IF(H401=1,C401+E401/60,RANDBETWEEN(1,Worksheet!$D$6)+CHOOSE(Worksheet!$D$10,RANDBETWEEN(1,9)/10,RANDBETWEEN(1,99)/100,RANDBETWEEN(1,999)/1000,RANDBETWEEN(1,9999)/10000,RANDBETWEEN(1,99999)/100000))","v":24.7},"hours"]
[{"$f":"IF(COUNTIF($B$1:B402,TRUE)=COUNTIF($B$1:B401,TRUE),\"\",COUNTIF($B$1:B402,TRUE))","v":162},{"$f":"Worksheet!$B$13","v":true},{"$f":"IF(H402=1,RANDBETWEEN(1,Worksheet!$D$6),INT(J402))","v":15},{"$f":"IF(C402=1,\"minute\",\"minutes\")","v":"minutes"},{"$f":"IF(H402=1,IF(Worksheet!$D$10=1,RANDBETWEEN(1,9)*6,IF(Worksheet!$D$10=2,RANDBETWEEN(1,19)*3,RANDBETWEEN(1,59))),(J402-INT(J402))*60)","v":41.999999999999957},"seconds","=",{"$f":"IF(Worksheet!$D$7=1,1,IF(Worksheet!$D$7=2,2,RANDBETWEEN(1,2)))","v":2},null,{"$f":"IF(H402=1,C402+E402/60,RANDBETWEEN(1,Worksheet!$D$6)+CHOOSE(Worksheet!$D$10,RANDBETWEEN(1,9)/10,RANDBETWEEN(1,99)/100,RANDBETWEEN(1,999)/1000,RANDBETWEEN(1,9999)/10000,RANDBETWEEN(1,99999)/100000))","v":15.7},"minutes"]
[{"$f":"IF(COUNTIF($B$1:B403,TRUE)=COUNTIF($B$1:B402,TRUE),\"\",COUNTIF($B$1:B403,TRUE))","v":""},{"$f":"Worksheet!$B$14","v":false},{"$f":"IF(H403=1,RANDBETWEEN(1,Worksheet!$D$6),INT(J403))","v":18},{"$f":"IF(C403=1,\"week\",\"weeks\")","v":"weeks"},{"$f":"IF(H403=1,RANDBETWEEN(1,6),(J403-INT(J403))*7)","v":1},"days","=",{"$f":"IF(Worksheet!$D$7=1,1,IF(Worksheet!$D$7=2,2,RANDBETWEEN(1,2)))","v":1},null,{"$f":"IF(H403=1,C403+E403/7,RANDBETWEEN(1,Worksheet!$D$6)+CHOOSE(Worksheet!$D$10,RANDBETWEEN(1,9)/10,RANDBETWEEN(1,99)/100,RANDBETWEEN(1,999)/1000,RANDBETWEEN(1,9999)/10000,RANDBETWEEN(1,99999)/100000))","v":18.142857142857142},"weeks"]
[{"$f":"IF(COUNTIF($B$1:B404,TRUE)=COUNTIF($B$1:B403,TRUE),\"\",COUNTIF($B$1:B404,TRUE))","v":""},{"$f":"Worksheet!$D$12","v":false},{"$f":"IF(H404=1,RANDBETWEEN(1,Worksheet!$D$6),INT(J404))","v":29},{"$f":"IF(C404=1,\"day\",\"days\")","v":"days"},{"$f":"IF(H404=1,RANDBETWEEN(1,23),(J404-INT(J404))*24)","v":5},"hours","=",{"$f":"IF(Worksheet!$D$7=1,1,IF(Worksheet!$D$7=2,2,RANDBETWEEN(1,2)))","v":1},null,{"$f":"IF(H404=1,C404+E404/24,RANDBETWEEN(1,Worksheet!$D$6)+CHOOSE(Worksheet!$D$10,RANDBETWEEN(1,9)/10,RANDBETWEEN(1,99)/100,RANDBETWEEN(1,999)/1000,RANDBETWEEN(1,9999)/10000,RANDBETWEEN(1,99999)/100000))","v":29.208333333333332},"days"]
[{"$f":"IF(COUNTIF($B$1:B405,TRUE)=COUNTIF($B$1:B404,TRUE),\"\",COUNTIF($B$1:B405,TRUE))","v":""},{"$f":"Worksheet!$D$13","v":false},{"$f":"IF(H405=1,RANDBETWEEN(1,Worksheet!$D$6),INT(J405))","v":20},{"$f":"IF(C405=1,\"year\",\"years\")","v":"years"},{"$f":"IF(H405=1,RANDBETWEEN(1,11),(J405-INT(J405))*12)","v":9.6000000000000085},"months","=",{"$f":"IF(Worksheet!$D$7=1,1,IF(Worksheet!$D$7=2,2,RANDBETWEEN(1,2)))","v":2},null,{"$f":"IF(H405=1,C405+E405/12,RANDBETWEEN(1,Worksheet!$D$6)+CHOOSE(Worksheet!$D$10,RANDBETWEEN(1,9)/10,RANDBETWEEN(1,99)/100,RANDBETWEEN(1,999)/1000,RANDBETWEEN(1,9999)/10000,RANDBETWEEN(1,99999)/100000))","v":20.8},"years"]
[{"$f":"COUNTIF($B$1:B406,TRUE)","v":163},{"$f":"Worksheet!$B$12","v":true},{"$f":"IF(H406=1,RANDBETWEEN(1,Worksheet!$D$6),INT(J406))","v":12},{"$f":"IF(C406=1,\"hour\",\"hours\")","v":"hours"},{"$f":"IF(H406=1,IF(Worksheet!$D$10=1,RANDBETWEEN(1,9)*6,IF(Worksheet!$D$10=2,RANDBETWEEN(1,19)*3,RANDBETWEEN(1,59))),(J406-INT(J406))*60)","v":35.999999999999979},"minutes","=",{"$f":"IF(Worksheet!$D$7=1,1,IF(Worksheet!$D$7=2,2,RANDBETWEEN(1,2)))","v":2},null,{"$f":"IF(H406=1,C406+E406/60,RANDBETWEEN(1,Worksheet!$D$6)+CHOOSE(Worksheet!$D$10,RANDBETWEEN(1,9)/10,RANDBETWEEN(1,99)/100,RANDBETWEEN(1,999)/1000,RANDBETWEEN(1,9999)/10000,RANDBETWEEN(1,99999)/100000))","v":12.6},"hours"]
[{"$f":"IF(COUNTIF($B$1:B407,TRUE)=COUNTIF($B$1:B406,TRUE),\"\",COUNTIF($B$1:B407,TRUE))","v":164},{"$f":"Worksheet!$B$13","v":true},{"$f":"IF(H407=1,RANDBETWEEN(1,Worksheet!$D$6),INT(J407))","v":16},{"$f":"IF(C407=1,\"minute\",\"minutes\")","v":"minutes"},{"$f":"IF(H407=1,IF(Worksheet!$D$10=1,RANDBETWEEN(1,9)*6,IF(Worksheet!$D$10=2,RANDBETWEEN(1,19)*3,RANDBETWEEN(1,59))),(J407-INT(J407))*60)","v":54},"seconds","=",{"$f":"IF(Worksheet!$D$7=1,1,IF(Worksheet!$D$7=2,2,RANDBETWEEN(1,2)))","v":1},null,{"$f":"IF(H407=1,C407+E407/60,RANDBETWEEN(1,Worksheet!$D$6)+CHOOSE(Worksheet!$D$10,RANDBETWEEN(1,9)/10,RANDBETWEEN(1,99)/100,RANDBETWEEN(1,999)/1000,RANDBETWEEN(1,9999)/10000,RANDBETWEEN(1,99999)/100000))","v":16.899999999999999},"minutes"]
[{"$f":"IF(COUNTIF($B$1:B408,TRUE)=COUNTIF($B$1:B407,TRUE),\"\",COUNTIF($B$1:B408,TRUE))","v":""},{"$f":"Worksheet!$B$14","v":false},{"$f":"IF(H408=1,RANDBETWEEN(1,Worksheet!$D$6),INT(J408))","v":3},{"$f":"IF(C408=1,\"week\",\"weeks\")","v":"weeks"},{"$f":"IF(H408=1,RANDBETWEEN(1,6),(J408-INT(J408))*7)","v":4.9000000000000012},"days","=",{"$f":"IF(Worksheet!$D$7=1,1,IF(Worksheet!$D$7=2,2,RANDBETWEEN(1,2)))","v":2},null,{"$f":"IF(H408=1,C408+E408/7,RANDBETWEEN(1,Worksheet!$D$6)+CHOOSE(Worksheet!$D$10,RANDBETWEEN(1,9)/10,RANDBETWEEN(1,99)/100,RANDBETWEEN(1,999)/1000,RANDBETWEEN(1,9999)/10000,RANDBETWEEN(1,99999)/100000))","v":3.7},"weeks"]
[{"$f":"IF(COUNTIF($B$1:B409,TRUE)=COUNTIF($B$1:B408,TRUE),\"\",COUNTIF($B$1:B409,TRUE))","v":""},{"$f":"Worksheet!$D$12","v":false},{"$f":"IF(H409=1,RANDBETWEEN(1,Worksheet!$D$6),INT(J409))","v":22},{"$f":"IF(C409=1,\"day\",\"days\")","v":"days"},{"$f":"IF(H409=1,RANDBETWEEN(1,23),(J409-INT(J409))*24)","v":12},"hours","=",{"$f":"IF(Worksheet!$D$7=1,1,IF(Worksheet!$D$7=2,2,RANDBETWEEN(1,2)))","v":2},null,{"$f":"IF(H409=1,C409+E409/24,RANDBETWEEN(1,Worksheet!$D$6)+CHOOSE(Worksheet!$D$10,RANDBETWEEN(1,9)/10,RANDBETWEEN(1,99)/100,RANDBETWEEN(1,999)/1000,RANDBETWEEN(1,9999)/10000,RANDBETWEEN(1,99999)/100000))","v":22.5},"days"]
[{"$f":"IF(COUNTIF($B$1:B410,TRUE)=COUNTIF($B$1:B409,TRUE),\"\",COUNTIF($B$1:B410,TRUE))","v":""},{"$f":"Worksheet!$D$13","v":false},{"$f":"IF(H410=1,RANDBETWEEN(1,Worksheet!$D$6),INT(J410))","v":10},{"$f":"IF(C410=1,\"year\",\"years\")","v":"years"},{"$f":"IF(H410=1,RANDBETWEEN(1,11),(J410-INT(J410))*12)","v":2.3999999999999915},"months","=",{"$f":"IF(Worksheet!$D$7=1,1,IF(Worksheet!$D$7=2,2,RANDBETWEEN(1,2)))","v":2},null,{"$f":"IF(H410=1,C410+E410/12,RANDBETWEEN(1,Worksheet!$D$6)+CHOOSE(Worksheet!$D$10,RANDBETWEEN(1,9)/10,RANDBETWEEN(1,99)/100,RANDBETWEEN(1,999)/1000,RANDBETWEEN(1,9999)/10000,RANDBETWEEN(1,99999)/100000))","v":10.199999999999999},"years"]
[{"$f":"COUNTIF($B$1:B411,TRUE)","v":165},{"$f":"Worksheet!$B$12","v":true},{"$f":"IF(H411=1,RANDBETWEEN(1,Worksheet!$D$6),INT(J411))","v":19},{"$f":"IF(C411=1,\"hour\",\"hours\")","v":"hours"},{"$f":"IF(H411=1,IF(Worksheet!$D$10=1,RANDBETWEEN(1,9)*6,IF(Worksheet!$D$10=2,RANDBETWEEN(1,19)*3,RANDBETWEEN(1,59))),(J411-INT(J411))*60)","v":48.000000000000043},"minutes","=",{"$f":"IF(Worksheet!$D$7=1,1,IF(Worksheet!$D$7=2,2,RANDBETWEEN(1,2)))","v":2},null,{"$f":"IF(H411=1,C411+E411/60,RANDBETWEEN(1,Worksheet!$D$6)+CHOOSE(Worksheet!$D$10,RANDBETWEEN(1,9)/10,RANDBETWEEN(1,99)/100,RANDBETWEEN(1,999)/1000,RANDBETWEEN(1,9999)/10000,RANDBETWEEN(1,99999)/100000))","v":19.8},"hours"]
[{"$f":"IF(COUNTIF($B$1:B412,TRUE)=COUNTIF($B$1:B411,TRUE),\"\",COUNTIF($B$1:B412,TRUE))","v":166},{"$f":"Worksheet!$B$13","v":true},{"$f":"IF(H412=1,RANDBETWEEN(1,Worksheet!$D$6),INT(J412))","v":10},{"$f":"IF(C412=1,\"minute\",\"minutes\")","v":"minutes"},{"$f":"IF(H412=1,IF(Worksheet!$D$10=1,RANDBETWEEN(1,9)*6,IF(Worksheet!$D$10=2,RANDBETWEEN(1,19)*3,RANDBETWEEN(1,59))),(J412-INT(J412))*60)","v":6},"seconds","=",{"$f":"IF(Worksheet!$D$7=1,1,IF(Worksheet!$D$7=2,2,RANDBETWEEN(1,2)))","v":1},null,{"$f":"IF(H412=1,C412+E412/60,RANDBETWEEN(1,Worksheet!$D$6)+CHOOSE(Worksheet!$D$10,RANDBETWEEN(1,9)/10,RANDBETWEEN(1,99)/100,RANDBETWEEN(1,999)/1000,RANDBETWEEN(1,9999)/10000,RANDBETWEEN(1,99999)/100000))","v":10.1},"minutes"]
[{"$f":"IF(COUNTIF($B$1:B413,TRUE)=COUNTIF($B$1:B412,TRUE),\"\",COUNTIF($B$1:B413,TRUE))","v":""},{"$f":"Worksheet!$B$14","v":false},{"$f":"IF(H413=1,RANDBETWEEN(1,Worksheet!$D$6),INT(J413))","v":18},{"$f":"IF(C413=1,\"week\",\"weeks\")","v":"weeks"},{"$f":"IF(H413=1,RANDBETWEEN(1,6),(J413-INT(J413))*7)","v":2.7999999999999901},"days","=",{"$f":"IF(Worksheet!$D$7=1,1,IF(Worksheet!$D$7=2,2,RANDBETWEEN(1,2)))","v":2},null,{"$f":"IF(H413=1,C413+E413/7,RANDBETWEEN(1,Worksheet!$D$6)+CHOOSE(Worksheet!$D$10,RANDBETWEEN(1,9)/10,RANDBETWEEN(1,99)/100,RANDBETWEEN(1,999)/1000,RANDBETWEEN(1,9999)/10000,RANDBETWEEN(1,99999)/100000))","v":18.399999999999999},"weeks"]
[{"$f":"IF(COUNTIF($B$1:B414,TRUE)=COUNTIF($B$1:B413,TRUE),\"\",COUNTIF($B$1:B414,TRUE))","v":""},{"$f":"Worksheet!$D$12","v":false},{"$f":"IF(H414=1,RANDBETWEEN(1,Worksheet!$D$6),INT(J414))","v":30},{"$f":"IF(C414=1,\"day\",\"days\")","v":"days"},{"$f":"IF(H414=1,RANDBETWEEN(1,23),(J414-INT(J414))*24)","v":23},"hours","=",{"$f":"IF(Worksheet!$D$7=1,1,IF(Worksheet!$D$7=2,2,RANDBETWEEN(1,2)))","v":1},null,{"$f":"IF(H414=1,C414+E414/24,RANDBETWEEN(1,Worksheet!$D$6)+CHOOSE(Worksheet!$D$10,RANDBETWEEN(1,9)/10,RANDBETWEEN(1,99)/100,RANDBETWEEN(1,999)/1000,RANDBETWEEN(1,9999)/10000,RANDBETWEEN(1,99999)/100000))","v":30.958333333333332},"days"]
[{"$f":"IF(COUNTIF($B$1:B415,TRUE)=COUNTIF($B$1:B414,TRUE),\"\",COUNTIF($B$1:B415,TRUE))","v":""},{"$f":"Worksheet!$D$13","v":false},{"$f":"IF(H415=1,RANDBETWEEN(1,Worksheet!$D$6),INT(J415))","v":23},{"$f":"IF(C415=1,\"year\",\"years\")","v":"years"},{"$f":"IF(H415=1,RANDBETWEEN(1,11),(J415-INT(J415))*12)","v":1.2000000000000171},"months","=",{"$f":"IF(Worksheet!$D$7=1,1,IF(Worksheet!$D$7=2,2,RANDBETWEEN(1,2)))","v":2},null,{"$f":"IF(H415=1,C415+E415/12,RANDBETWEEN(1,Worksheet!$D$6)+CHOOSE(Worksheet!$D$10,RANDBETWEEN(1,9)/10,RANDBETWEEN(1,99)/100,RANDBETWEEN(1,999)/1000,RANDBETWEEN(1,9999)/10000,RANDBETWEEN(1,99999)/100000))","v":23.1},{"$f":"D415","v":"years"}]
[{"$f":"COUNTIF($B$1:B416,TRUE)","v":167},{"$f":"Worksheet!$B$12","v":true},{"$f":"IF(H416=1,RANDBETWEEN(1,Worksheet!$D$6),INT(J416))","v":10},{"$f":"IF(C416=1,\"hour\",\"hours\")","v":"hours"},{"$f":"IF(H416=1,IF(Worksheet!$D$10=1,RANDBETWEEN(1,9)*6,IF(Worksheet!$D$10=2,RANDBETWEEN(1,19)*3,RANDBETWEEN(1,59))),(J416-INT(J416))*60)","v":12},"minutes","=",{"$f":"IF(Worksheet!$D$7=1,1,IF(Worksheet!$D$7=2,2,RANDBETWEEN(1,2)))","v":1},null,{"$f":"IF(H416=1,C416+E416/60,RANDBETWEEN(1,Worksheet!$D$6)+CHOOSE(Worksheet!$D$10,RANDBETWEEN(1,9)/10,RANDBETWEEN(1,99)/100,RANDBETWEEN(1,999)/1000,RANDBETWEEN(1,9999)/10000,RANDBETWEEN(1,99999)/100000))","v":10.199999999999999},"hours"]
[{"$f":"IF(COUNTIF($B$1:B417,TRUE)=COUNTIF($B$1:B416,TRUE),\"\",COUNTIF($B$1:B417,TRUE))","v":168},{"$f":"Worksheet!$B$13","v":true},{"$f":"IF(H417=1,RANDBETWEEN(1,Worksheet!$D$6),INT(J417))","v":2},{"$f":"IF(C417=1,\"minute\",\"minutes\")","v":"minutes"},{"$f":"IF(H417=1,IF(Worksheet!$D$10=1,RANDBETWEEN(1,9)*6,IF(Worksheet!$D$10=2,RANDBETWEEN(1,19)*3,RANDBETWEEN(1,59))),(J417-INT(J417))*60)","v":30},"seconds","=",{"$f":"IF(Worksheet!$D$7=1,1,IF(Worksheet!$D$7=2,2,RANDBETWEEN(1,2)))","v":2},null,{"$f":"IF(H417=1,C417+E417/60,RANDBETWEEN(1,Worksheet!$D$6)+CHOOSE(Worksheet!$D$10,RANDBETWEEN(1,9)/10,RANDBETWEEN(1,99)/100,RANDBETWEEN(1,999)/1000,RANDBETWEEN(1,9999)/10000,RANDBETWEEN(1,99999)/100000))","v":2.5},"minutes"]
[{"$f":"IF(COUNTIF($B$1:B418,TRUE)=COUNTIF($B$1:B417,TRUE),\"\",COUNTIF($B$1:B418,TRUE))","v":""},{"$f":"Worksheet!$B$14","v":false},{"$f":"IF(H418=1,RANDBETWEEN(1,Worksheet!$D$6),INT(J418))","v":8},{"$f":"IF(C418=1,\"week\",\"weeks\")","v":"weeks"},{"$f":"IF(H418=1,RANDBETWEEN(1,6),(J418-INT(J418))*7)","v":2},"days","=",{"$f":"IF(Worksheet!$D$7=1,1,IF(Worksheet!$D$7=2,2,RANDBETWEEN(1,2)))","v":1},null,{"$f":"IF(H418=1,C418+E418/7,RANDBETWEEN(1,Worksheet!$D$6)+CHOOSE(Worksheet!$D$10,RANDBETWEEN(1,9)/10,RANDBETWEEN(1,99)/100,RANDBETWEEN(1,999)/1000,RANDBETWEEN(1,9999)/10000,RANDBETWEEN(1,99999)/100000))","v":8.2857142857142865},"weeks"]
[{"$f":"IF(COUNTIF($B$1:B419,TRUE)=COUNTIF($B$1:B418,TRUE),\"\",COUNTIF($B$1:B419,TRUE))","v":""},{"$f":"Worksheet!$D$12","v":false},{"$f":"IF(H419=1,RANDBETWEEN(1,Worksheet!$D$6),INT(J419))","v":1},{"$f":"IF(C419=1,\"day\",\"days\")","v":"day"},{"$f":"IF(H419=1,RANDBETWEEN(1,23),(J419-INT(J419))*24)","v":14},"hours","=",{"$f":"IF(Worksheet!$D$7=1,1,IF(Worksheet!$D$7=2,2,RANDBETWEEN(1,2)))","v":1},null,{"$f":"IF(H419=1,C419+E419/24,RANDBETWEEN(1,Worksheet!$D$6)+CHOOSE(Worksheet!$D$10,RANDBETWEEN(1,9)/10,RANDBETWEEN(1,99)/100,RANDBETWEEN(1,999)/1000,RANDBETWEEN(1,9999)/10000,RANDBETWEEN(1,99999)/100000))","v":1.5833333333333335},"day"]
[{"$f":"IF(COUNTIF($B$1:B420,TRUE)=COUNTIF($B$1:B419,TRUE),\"\",COUNTIF($B$1:B420,TRUE))","v":""},{"$f":"Worksheet!$D$13","v":false},{"$f":"IF(H420=1,RANDBETWEEN(1,Worksheet!$D$6),INT(J420))","v":26},{"$f":"IF(C420=1,\"year\",\"years\")","v":"years"},{"$f":"IF(H420=1,RANDBETWEEN(1,11),(J420-INT(J420))*12)","v":1.2000000000000171},"months","=",{"$f":"IF(Worksheet!$D$7=1,1,IF(Worksheet!$D$7=2,2,RANDBETWEEN(1,2)))","v":2},null,{"$f":"IF(H420=1,C420+E420/12,RANDBETWEEN(1,Worksheet!$D$6)+CHOOSE(Worksheet!$D$10,RANDBETWEEN(1,9)/10,RANDBETWEEN(1,99)/100,RANDBETWEEN(1,999)/1000,RANDBETWEEN(1,9999)/10000,RANDBETWEEN(1,99999)/100000))","v":26.1},"years"]
[{"$f":"COUNTIF($B$1:B421,TRUE)","v":169},{"$f":"Worksheet!$B$12","v":true},{"$f":"IF(H421=1,RANDBETWEEN(1,Worksheet!$D$6),INT(J421))","v":1},{"$f":"IF(C421=1,\"hour\",\"hours\")","v":"hour"},{"$f":"IF(H421=1,IF(Worksheet!$D$10=1,RANDBETWEEN(1,9)*6,IF(Worksheet!$D$10=2,RANDBETWEEN(1,19)*3,RANDBETWEEN(1,59))),(J421-INT(J421))*60)","v":30},"minutes","=",{"$f":"IF(Worksheet!$D$7=1,1,IF(Worksheet!$D$7=2,2,RANDBETWEEN(1,2)))","v":1},null,{"$f":"IF(H421=1,C421+E421/60,RANDBETWEEN(1,Worksheet!$D$6)+CHOOSE(Worksheet!$D$10,RANDBETWEEN(1,9)/10,RANDBETWEEN(1,99)/100,RANDBETWEEN(1,999)/1000,RANDBETWEEN(1,9999)/10000,RANDBETWEEN(1,99999)/100000))","v":1.5},"hour"]
[{"$f":"IF(COUNTIF($B$1:B422,TRUE)=COUNTIF($B$1:B421,TRUE),\"\",COUNTIF($B$1:B422,TRUE))","v":170},{"$f":"Worksheet!$B$13","v":true},{"$f":"IF(H422=1,RANDBETWEEN(1,Worksheet!$D$6),INT(J422))","v":12},{"$f":"IF(C422=1,\"minute\",\"minutes\")","v":"minutes"},{"$f":"IF(H422=1,IF(Worksheet!$D$10=1,RANDBETWEEN(1,9)*6,IF(Worksheet!$D$10=2,RANDBETWEEN(1,19)*3,RANDBETWEEN(1,59))),(J422-INT(J422))*60)","v":30},"seconds","=",{"$f":"IF(Worksheet!$D$7=1,1,IF(Worksheet!$D$7=2,2,RANDBETWEEN(1,2)))","v":2},null,{"$f":"IF(H422=1,C422+E422/60,RANDBETWEEN(1,Worksheet!$D$6)+CHOOSE(Worksheet!$D$10,RANDBETWEEN(1,9)/10,RANDBETWEEN(1,99)/100,RANDBETWEEN(1,999)/1000,RANDBETWEEN(1,9999)/10000,RANDBETWEEN(1,99999)/100000))","v":12.5},"minutes"]
[{"$f":"IF(COUNTIF($B$1:B423,TRUE)=COUNTIF($B$1:B422,TRUE),\"\",COUNTIF($B$1:B423,TRUE))","v":""},{"$f":"Worksheet!$B$14","v":false},{"$f":"IF(H423=1,RANDBETWEEN(1,Worksheet!$D$6),INT(J423))","v":21},{"$f":"IF(C423=1,\"week\",\"weeks\")","v":"weeks"},{"$f":"IF(H423=1,RANDBETWEEN(1,6),(J423-INT(J423))*7)","v":0.70000000000000995},"days","=",{"$f":"IF(Worksheet!$D$7=1,1,IF(Worksheet!$D$7=2,2,RANDBETWEEN(1,2)))","v":2},null,{"$f":"IF(H423=1,C423+E423/7,RANDBETWEEN(1,Worksheet!$D$6)+CHOOSE(Worksheet!$D$10,RANDBETWEEN(1,9)/10,RANDBETWEEN(1,99)/100,RANDBETWEEN(1,999)/1000,RANDBETWEEN(1,9999)/10000,RANDBETWEEN(1,99999)/100000))","v":21.1},"weeks"]
[{"$f":"IF(COUNTIF($B$1:B424,TRUE)=COUNTIF($B$1:B423,TRUE),\"\",COUNTIF($B$1:B424,TRUE))","v":""},{"$f":"Worksheet!$D$12","v":false},{"$f":"IF(H424=1,RANDBETWEEN(1,Worksheet!$D$6),INT(J424))","v":27},{"$f":"IF(C424=1,\"day\",\"days\")","v":"days"},{"$f":"IF(H424=1,RANDBETWEEN(1,23),(J424-INT(J424))*24)","v":4.7999999999999829},"hours","=",{"$f":"IF(Worksheet!$D$7=1,1,IF(Worksheet!$D$7=2,2,RANDBETWEEN(1,2)))","v":2},null,{"$f":"IF(H424=1,C424+E424/24,RANDBETWEEN(1,Worksheet!$D$6)+CHOOSE(Worksheet!$D$10,RANDBETWEEN(1,9)/10,RANDBETWEEN(1,99)/100,RANDBETWEEN(1,999)/1000,RANDBETWEEN(1,9999)/10000,RANDBETWEEN(1,99999)/100000))","v":27.2},"days"]
[{"$f":"IF(COUNTIF($B$1:B425,TRUE)=COUNTIF($B$1:B424,TRUE),\"\",COUNTIF($B$1:B425,TRUE))","v":""},{"$f":"Worksheet!$D$13","v":false},{"$f":"IF(H425=1,RANDBETWEEN(1,Worksheet!$D$6),INT(J425))","v":6},{"$f":"IF(C425=1,\"year\",\"years\")","v":"years"},{"$f":"IF(H425=1,RANDBETWEEN(1,11),(J425-INT(J425))*12)","v":9.5999999999999979},"months","=",{"$f":"IF(Worksheet!$D$7=1,1,IF(Worksheet!$D$7=2,2,RANDBETWEEN(1,2)))","v":2},null,{"$f":"IF(H425=1,C425+E425/12,RANDBETWEEN(1,Worksheet!$D$6)+CHOOSE(Worksheet!$D$10,RANDBETWEEN(1,9)/10,RANDBETWEEN(1,99)/100,RANDBETWEEN(1,999)/1000,RANDBETWEEN(1,9999)/10000,RANDBETWEEN(1,99999)/100000))","v":6.8},"years"]
[{"$f":"COUNTIF($B$1:B426,TRUE)","v":171},{"$f":"Worksheet!$B$12","v":true},{"$f":"IF(H426=1,RANDBETWEEN(1,Worksheet!$D$6),INT(J426))","v":17},{"$f":"IF(C426=1,\"hour\",\"hours\")","v":"hours"},{"$f":"IF(H426=1,IF(Worksheet!$D$10=1,RANDBETWEEN(1,9)*6,IF(Worksheet!$D$10=2,RANDBETWEEN(1,19)*3,RANDBETWEEN(1,59))),(J426-INT(J426))*60)","v":36.000000000000085},"minutes","=",{"$f":"IF(Worksheet!$D$7=1,1,IF(Worksheet!$D$7=2,2,RANDBETWEEN(1,2)))","v":2},null,{"$f":"IF(H426=1,C426+E426/60,RANDBETWEEN(1,Worksheet!$D$6)+CHOOSE(Worksheet!$D$10,RANDBETWEEN(1,9)/10,RANDBETWEEN(1,99)/100,RANDBETWEEN(1,999)/1000,RANDBETWEEN(1,9999)/10000,RANDBETWEEN(1,99999)/100000))","v":17.600000000000001},"hours"]
[{"$f":"IF(COUNTIF($B$1:B427,TRUE)=COUNTIF($B$1:B426,TRUE),\"\",COUNTIF($B$1:B427,TRUE))","v":172},{"$f":"Worksheet!$B$13","v":true},{"$f":"IF(H427=1,RANDBETWEEN(1,Worksheet!$D$6),INT(J427))","v":21},{"$f":"IF(C427=1,\"minute\",\"minutes\")","v":"minutes"},{"$f":"IF(H427=1,IF(Worksheet!$D$10=1,RANDBETWEEN(1,9)*6,IF(Worksheet!$D$10=2,RANDBETWEEN(1,19)*3,RANDBETWEEN(1,59))),(J427-INT(J427))*60)","v":11.999999999999957},"seconds","=",{"$f":"IF(Worksheet!$D$7=1,1,IF(Worksheet!$D$7=2,2,RANDBETWEEN(1,2)))","v":2},null,{"$f":"IF(H427=1,C427+E427/60,RANDBETWEEN(1,Worksheet!$D$6)+CHOOSE(Worksheet!$D$10,RANDBETWEEN(1,9)/10,RANDBETWEEN(1,99)/100,RANDBETWEEN(1,999)/1000,RANDBETWEEN(1,9999)/10000,RANDBETWEEN(1,99999)/100000))","v":21.2},"minutes"]
[{"$f":"IF(COUNTIF($B$1:B428,TRUE)=COUNTIF($B$1:B427,TRUE),\"\",COUNTIF($B$1:B428,TRUE))","v":""},{"$f":"Worksheet!$B$14","v":false},{"$f":"IF(H428=1,RANDBETWEEN(1,Worksheet!$D$6),INT(J428))","v":11},{"$f":"IF(C428=1,\"week\",\"weeks\")","v":"weeks"},{"$f":"IF(H428=1,RANDBETWEEN(1,6),(J428-INT(J428))*7)","v":4.899999999999995},"days","=",{"$f":"IF(Worksheet!$D$7=1,1,IF(Worksheet!$D$7=2,2,RANDBETWEEN(1,2)))","v":2},null,{"$f":"IF(H428=1,C428+E428/7,RANDBETWEEN(1,Worksheet!$D$6)+CHOOSE(Worksheet!$D$10,RANDBETWEEN(1,9)/10,RANDBETWEEN(1,99)/100,RANDBETWEEN(1,999)/1000,RANDBETWEEN(1,9999)/10000,RANDBETWEEN(1,99999)/100000))","v":11.7},"weeks"]
[{"$f":"IF(COUNTIF($B$1:B429,TRUE)=COUNTIF($B$1:B428,TRUE),\"\",COUNTIF($B$1:B429,TRUE))","v":""},{"$f":"Worksheet!$D$12","v":false},{"$f":"IF(H429=1,RANDBETWEEN(1,Worksheet!$D$6),INT(J429))","v":9},{"$f":"IF(C429=1,\"day\",\"days\")","v":"days"},{"$f":"IF(H429=1,RANDBETWEEN(1,23),(J429-INT(J429))*24)","v":20},"hours","=",{"$f":"IF(Worksheet!$D$7=1,1,IF(Worksheet!$D$7=2,2,RANDBETWEEN(1,2)))","v":1},null,{"$f":"IF(H429=1,C429+E429/24,RANDBETWEEN(1,Worksheet!$D$6)+CHOOSE(Worksheet!$D$10,RANDBETWEEN(1,9)/10,RANDBETWEEN(1,99)/100,RANDBETWEEN(1,999)/1000,RANDBETWEEN(1,9999)/10000,RANDBETWEEN(1,99999)/100000))","v":9.8333333333333339},"days"]
[{"$f":"IF(COUNTIF($B$1:B430,TRUE)=COUNTIF($B$1:B429,TRUE),\"\",COUNTIF($B$1:B430,TRUE))","v":""},{"$f":"Worksheet!$D$13","v":false},{"$f":"IF(H430=1,RANDBETWEEN(1,Worksheet!$D$6),INT(J430))","v":6},{"$f":"IF(C430=1,\"year\",\"years\")","v":"years"},{"$f":"IF(H430=1,RANDBETWEEN(1,11),(J430-INT(J430))*12)","v":2.4000000000000021},"months","=",{"$f":"IF(Worksheet!$D$7=1,1,IF(Worksheet!$D$7=2,2,RANDBETWEEN(1,2)))","v":2},null,{"$f":"IF(H430=1,C430+E430/12,RANDBETWEEN(1,Worksheet!$D$6)+CHOOSE(Worksheet!$D$10,RANDBETWEEN(1,9)/10,RANDBETWEEN(1,99)/100,RANDBETWEEN(1,999)/1000,RANDBETWEEN(1,9999)/10000,RANDBETWEEN(1,99999)/100000))","v":6.2},"years"]
[{"$f":"COUNTIF($B$1:B431,TRUE)","v":173},{"$f":"Worksheet!$B$12","v":true},{"$f":"IF(H431=1,RANDBETWEEN(1,Worksheet!$D$6),INT(J431))","v":15},{"$f":"IF(C431=1,\"hour\",\"hours\")","v":"hours"},{"$f":"IF(H431=1,IF(Worksheet!$D$10=1,RANDBETWEEN(1,9)*6,IF(Worksheet!$D$10=2,RANDBETWEEN(1,19)*3,RANDBETWEEN(1,59))),(J431-INT(J431))*60)","v":48},"minutes","=",{"$f":"IF(Worksheet!$D$7=1,1,IF(Worksheet!$D$7=2,2,RANDBETWEEN(1,2)))","v":1},null,{"$f":"IF(H431=1,C431+E431/60,RANDBETWEEN(1,Worksheet!$D$6)+CHOOSE(Worksheet!$D$10,RANDBETWEEN(1,9)/10,RANDBETWEEN(1,99)/100,RANDBETWEEN(1,999)/1000,RANDBETWEEN(1,9999)/10000,RANDBETWEEN(1,99999)/100000))","v":15.8},"hours"]
[{"$f":"IF(COUNTIF($B$1:B432,TRUE)=COUNTIF($B$1:B431,TRUE),\"\",COUNTIF($B$1:B432,TRUE))","v":174},{"$f":"Worksheet!$B$13","v":true},{"$f":"IF(H432=1,RANDBETWEEN(1,Worksheet!$D$6),INT(J432))","v":12},{"$f":"IF(C432=1,\"minute\",\"minutes\")","v":"minutes"},{"$f":"IF(H432=1,IF(Worksheet!$D$10=1,RANDBETWEEN(1,9)*6,IF(Worksheet!$D$10=2,RANDBETWEEN(1,19)*3,RANDBETWEEN(1,59))),(J432-INT(J432))*60)","v":30},"seconds","=",{"$f":"IF(Worksheet!$D$7=1,1,IF(Worksheet!$D$7=2,2,RANDBETWEEN(1,2)))","v":1},null,{"$f":"IF(H432=1,C432+E432/60,RANDBETWEEN(1,Worksheet!$D$6)+CHOOSE(Worksheet!$D$10,RANDBETWEEN(1,9)/10,RANDBETWEEN(1,99)/100,RANDBETWEEN(1,999)/1000,RANDBETWEEN(1,9999)/10000,RANDBETWEEN(1,99999)/100000))","v":12.5},"minutes"]
[{"$f":"IF(COUNTIF($B$1:B433,TRUE)=COUNTIF($B$1:B432,TRUE),\"\",COUNTIF($B$1:B433,TRUE))","v":""},{"$f":"Worksheet!$B$14","v":false},{"$f":"IF(H433=1,RANDBETWEEN(1,Worksheet!$D$6),INT(J433))","v":3},{"$f":"IF(C433=1,\"week\",\"weeks\")","v":"weeks"},{"$f":"IF(H433=1,RANDBETWEEN(1,6),(J433-INT(J433))*7)","v":5.5999999999999988},"days","=",{"$f":"IF(Worksheet!$D$7=1,1,IF(Worksheet!$D$7=2,2,RANDBETWEEN(1,2)))","v":2},null,{"$f":"IF(H433=1,C433+E433/7,RANDBETWEEN(1,Worksheet!$D$6)+CHOOSE(Worksheet!$D$10,RANDBETWEEN(1,9)/10,RANDBETWEEN(1,99)/100,RANDBETWEEN(1,999)/1000,RANDBETWEEN(1,9999)/10000,RANDBETWEEN(1,99999)/100000))","v":3.8},"weeks"]
[{"$f":"IF(COUNTIF($B$1:B434,TRUE)=COUNTIF($B$1:B433,TRUE),\"\",COUNTIF($B$1:B434,TRUE))","v":""},{"$f":"Worksheet!$D$12","v":false},{"$f":"IF(H434=1,RANDBETWEEN(1,Worksheet!$D$6),INT(J434))","v":1},{"$f":"IF(C434=1,\"day\",\"days\")","v":"day"},{"$f":"IF(H434=1,RANDBETWEEN(1,23),(J434-INT(J434))*24)","v":1},"hours","=",{"$f":"IF(Worksheet!$D$7=1,1,IF(Worksheet!$D$7=2,2,RANDBETWEEN(1,2)))","v":1},null,{"$f":"IF(H434=1,C434+E434/24,RANDBETWEEN(1,Worksheet!$D$6)+CHOOSE(Worksheet!$D$10,RANDBETWEEN(1,9)/10,RANDBETWEEN(1,99)/100,RANDBETWEEN(1,999)/1000,RANDBETWEEN(1,9999)/10000,RANDBETWEEN(1,99999)/100000))","v":1.0416666666666667},"day"]
[{"$f":"IF(COUNTIF($B$1:B435,TRUE)=COUNTIF($B$1:B434,TRUE),\"\",COUNTIF($B$1:B435,TRUE))","v":""},{"$f":"Worksheet!$D$13","v":false},{"$f":"IF(H435=1,RANDBETWEEN(1,Worksheet!$D$6),INT(J435))","v":14},{"$f":"IF(C435=1,\"year\",\"years\")","v":"years"},{"$f":"IF(H435=1,RANDBETWEEN(1,11),(J435-INT(J435))*12)","v":2},"months","=",{"$f":"IF(Worksheet!$D$7=1,1,IF(Worksheet!$D$7=2,2,RANDBETWEEN(1,2)))","v":1},null,{"$f":"IF(H435=1,C435+E435/12,RANDBETWEEN(1,Worksheet!$D$6)+CHOOSE(Worksheet!$D$10,RANDBETWEEN(1,9)/10,RANDBETWEEN(1,99)/100,RANDBETWEEN(1,999)/1000,RANDBETWEEN(1,9999)/10000,RANDBETWEEN(1,99999)/100000))","v":14.166666666666666},"years"]
[{"$f":"COUNTIF($B$1:B436,TRUE)","v":175},{"$f":"Worksheet!$B$12","v":true},{"$f":"IF(H436=1,RANDBETWEEN(1,Worksheet!$D$6),INT(J436))","v":13},{"$f":"IF(C436=1,\"hour\",\"hours\")","v":"hours"},{"$f":"IF(H436=1,IF(Worksheet!$D$10=1,RANDBETWEEN(1,9)*6,IF(Worksheet!$D$10=2,RANDBETWEEN(1,19)*3,RANDBETWEEN(1,59))),(J436-INT(J436))*60)","v":48},"minutes","=",{"$f":"IF(Worksheet!$D$7=1,1,IF(Worksheet!$D$7=2,2,RANDBETWEEN(1,2)))","v":1},null,{"$f":"IF(H436=1,C436+E436/60,RANDBETWEEN(1,Worksheet!$D$6)+CHOOSE(Worksheet!$D$10,RANDBETWEEN(1,9)/10,RANDBETWEEN(1,99)/100,RANDBETWEEN(1,999)/1000,RANDBETWEEN(1,9999)/10000,RANDBETWEEN(1,99999)/100000))","v":13.8},"hours"]
[{"$f":"IF(COUNTIF($B$1:B437,TRUE)=COUNTIF($B$1:B436,TRUE),\"\",COUNTIF($B$1:B437,TRUE))","v":176},{"$f":"Worksheet!$B$13","v":true},{"$f":"IF(H437=1,RANDBETWEEN(1,Worksheet!$D$6),INT(J437))","v":2},{"$f":"IF(C437=1,\"minute\",\"minutes\")","v":"minutes"},{"$f":"IF(H437=1,IF(Worksheet!$D$10=1,RANDBETWEEN(1,9)*6,IF(Worksheet!$D$10=2,RANDBETWEEN(1,19)*3,RANDBETWEEN(1,59))),(J437-INT(J437))*60)","v":30},"seconds","=",{"$f":"IF(Worksheet!$D$7=1,1,IF(Worksheet!$D$7=2,2,RANDBETWEEN(1,2)))","v":2},null,{"$f":"IF(H437=1,C437+E437/60,RANDBETWEEN(1,Worksheet!$D$6)+CHOOSE(Worksheet!$D$10,RANDBETWEEN(1,9)/10,RANDBETWEEN(1,99)/100,RANDBETWEEN(1,999)/1000,RANDBETWEEN(1,9999)/10000,RANDBETWEEN(1,99999)/100000))","v":2.5},"minutes"]
[{"$f":"IF(COUNTIF($B$1:B438,TRUE)=COUNTIF($B$1:B437,TRUE),\"\",COUNTIF($B$1:B438,TRUE))","v":""},{"$f":"Worksheet!$B$14","v":false},{"$f":"IF(H438=1,RANDBETWEEN(1,Worksheet!$D$6),INT(J438))","v":17},{"$f":"IF(C438=1,\"week\",\"weeks\")","v":"weeks"},{"$f":"IF(H438=1,RANDBETWEEN(1,6),(J438-INT(J438))*7)","v":1},"days","=",{"$f":"IF(Worksheet!$D$7=1,1,IF(Worksheet!$D$7=2,2,RANDBETWEEN(1,2)))","v":1},null,{"$f":"IF(H438=1,C438+E438/7,RANDBETWEEN(1,Worksheet!$D$6)+CHOOSE(Worksheet!$D$10,RANDBETWEEN(1,9)/10,RANDBETWEEN(1,99)/100,RANDBETWEEN(1,999)/1000,RANDBETWEEN(1,9999)/10000,RANDBETWEEN(1,99999)/100000))","v":17.142857142857142},"weeks"]
[{"$f":"IF(COUNTIF($B$1:B439,TRUE)=COUNTIF($B$1:B438,TRUE),\"\",COUNTIF($B$1:B439,TRUE))","v":""},{"$f":"Worksheet!$D$12","v":false},{"$f":"IF(H439=1,RANDBETWEEN(1,Worksheet!$D$6),INT(J439))","v":9},{"$f":"IF(C439=1,\"day\",\"days\")","v":"days"},{"$f":"IF(H439=1,RANDBETWEEN(1,23),(J439-INT(J439))*24)","v":19.200000000000017},"hours","=",{"$f":"IF(Worksheet!$D$7=1,1,IF(Worksheet!$D$7=2,2,RANDBETWEEN(1,2)))","v":2},null,{"$f":"IF(H439=1,C439+E439/24,RANDBETWEEN(1,Worksheet!$D$6)+CHOOSE(Worksheet!$D$10,RANDBETWEEN(1,9)/10,RANDBETWEEN(1,99)/100,RANDBETWEEN(1,999)/1000,RANDBETWEEN(1,9999)/10000,RANDBETWEEN(1,99999)/100000))","v":9.8000000000000007},"days"]
[{"$f":"IF(COUNTIF($B$1:B440,TRUE)=COUNTIF($B$1:B439,TRUE),\"\",COUNTIF($B$1:B440,TRUE))","v":""},{"$f":"Worksheet!$D$13","v":false},{"$f":"IF(H440=1,RANDBETWEEN(1,Worksheet!$D$6),INT(J440))","v":22},{"$f":"IF(C440=1,\"year\",\"years\")","v":"years"},{"$f":"IF(H440=1,RANDBETWEEN(1,11),(J440-INT(J440))*12)","v":2},"months","=",{"$f":"IF(Worksheet!$D$7=1,1,IF(Worksheet!$D$7=2,2,RANDBETWEEN(1,2)))","v":1},null,{"$f":"IF(H440=1,C440+E440/12,RANDBETWEEN(1,Worksheet!$D$6)+CHOOSE(Worksheet!$D$10,RANDBETWEEN(1,9)/10,RANDBETWEEN(1,99)/100,RANDBETWEEN(1,999)/1000,RANDBETWEEN(1,9999)/10000,RANDBETWEEN(1,99999)/100000))","v":22.166666666666668},"years"]
[{"$f":"COUNTIF($B$1:B441,TRUE)","v":177},{"$f":"Worksheet!$B$12","v":true},{"$f":"IF(H441=1,RANDBETWEEN(1,Worksheet!$D$6),INT(J441))","v":18},{"$f":"IF(C441=1,\"hour\",\"hours\")","v":"hours"},{"$f":"IF(H441=1,IF(Worksheet!$D$10=1,RANDBETWEEN(1,9)*6,IF(Worksheet!$D$10=2,RANDBETWEEN(1,19)*3,RANDBETWEEN(1,59))),(J441-INT(J441))*60)","v":30},"minutes","=",{"$f":"IF(Worksheet!$D$7=1,1,IF(Worksheet!$D$7=2,2,RANDBETWEEN(1,2)))","v":2},null,{"$f":"IF(H441=1,C441+E441/60,RANDBETWEEN(1,Worksheet!$D$6)+CHOOSE(Worksheet!$D$10,RANDBETWEEN(1,9)/10,RANDBETWEEN(1,99)/100,RANDBETWEEN(1,999)/1000,RANDBETWEEN(1,9999)/10000,RANDBETWEEN(1,99999)/100000))","v":18.5},"hours"]
[{"$f":"IF(COUNTIF($B$1:B442,TRUE)=COUNTIF($B$1:B441,TRUE),\"\",COUNTIF($B$1:B442,TRUE))","v":178},{"$f":"Worksheet!$B$13","v":true},{"$f":"IF(H442=1,RANDBETWEEN(1,Worksheet!$D$6),INT(J442))","v":28},{"$f":"IF(C442=1,\"minute\",\"minutes\")","v":"minutes"},{"$f":"IF(H442=1,IF(Worksheet!$D$10=1,RANDBETWEEN(1,9)*6,IF(Worksheet!$D$10=2,RANDBETWEEN(1,19)*3,RANDBETWEEN(1,59))),(J442-INT(J442))*60)","v":6},"seconds","=",{"$f":"IF(Worksheet!$D$7=1,1,IF(Worksheet!$D$7=2,2,RANDBETWEEN(1,2)))","v":1},null,{"$f":"IF(H442=1,C442+E442/60,RANDBETWEEN(1,Worksheet!$D$6)+CHOOSE(Worksheet!$D$10,RANDBETWEEN(1,9)/10,RANDBETWEEN(1,99)/100,RANDBETWEEN(1,999)/1000,RANDBETWEEN(1,9999)/10000,RANDBETWEEN(1,99999)/100000))","v":28.1},"minutes"]
[{"$f":"IF(COUNTIF($B$1:B443,TRUE)=COUNTIF($B$1:B442,TRUE),\"\",COUNTIF($B$1:B443,TRUE))","v":""},{"$f":"Worksheet!$B$14","v":false},{"$f":"IF(H443=1,RANDBETWEEN(1,Worksheet!$D$6),INT(J443))","v":15},{"$f":"IF(C443=1,\"week\",\"weeks\")","v":"weeks"},{"$f":"IF(H443=1,RANDBETWEEN(1,6),(J443-INT(J443))*7)","v":2.100000000000005},"days","=",{"$f":"IF(Worksheet!$D$7=1,1,IF(Worksheet!$D$7=2,2,RANDBETWEEN(1,2)))","v":2},null,{"$f":"IF(H443=1,C443+E443/7,RANDBETWEEN(1,Worksheet!$D$6)+CHOOSE(Worksheet!$D$10,RANDBETWEEN(1,9)/10,RANDBETWEEN(1,99)/100,RANDBETWEEN(1,999)/1000,RANDBETWEEN(1,9999)/10000,RANDBETWEEN(1,99999)/100000))","v":15.3},"weeks"]
[{"$f":"IF(COUNTIF($B$1:B444,TRUE)=COUNTIF($B$1:B443,TRUE),\"\",COUNTIF($B$1:B444,TRUE))","v":""},{"$f":"Worksheet!$D$12","v":false},{"$f":"IF(H444=1,RANDBETWEEN(1,Worksheet!$D$6),INT(J444))","v":7},{"$f":"IF(C444=1,\"day\",\"days\")","v":"days"},{"$f":"IF(H444=1,RANDBETWEEN(1,23),(J444-INT(J444))*24)","v":2},"hours","=",{"$f":"IF(Worksheet!$D$7=1,1,IF(Worksheet!$D$7=2,2,RANDBETWEEN(1,2)))","v":1},null,{"$f":"IF(H444=1,C444+E444/24,RANDBETWEEN(1,Worksheet!$D$6)+CHOOSE(Worksheet!$D$10,RANDBETWEEN(1,9)/10,RANDBETWEEN(1,99)/100,RANDBETWEEN(1,999)/1000,RANDBETWEEN(1,9999)/10000,RANDBETWEEN(1,99999)/100000))","v":7.083333333333333},"days"]
[{"$f":"IF(COUNTIF($B$1:B445,TRUE)=COUNTIF($B$1:B444,TRUE),\"\",COUNTIF($B$1:B445,TRUE))","v":""},{"$f":"Worksheet!$D$13","v":false},{"$f":"IF(H445=1,RANDBETWEEN(1,Worksheet!$D$6),INT(J445))","v":5},{"$f":"IF(C445=1,\"year\",\"years\")","v":"years"},{"$f":"IF(H445=1,RANDBETWEEN(1,11),(J445-INT(J445))*12)","v":1},"months","=",{"$f":"IF(Worksheet!$D$7=1,1,IF(Worksheet!$D$7=2,2,RANDBETWEEN(1,2)))","v":1},null,{"$f":"IF(H445=1,C445+E445/12,RANDBETWEEN(1,Worksheet!$D$6)+CHOOSE(Worksheet!$D$10,RANDBETWEEN(1,9)/10,RANDBETWEEN(1,99)/100,RANDBETWEEN(1,999)/1000,RANDBETWEEN(1,9999)/10000,RANDBETWEEN(1,99999)/100000))","v":5.083333333333333},"years"]
[{"$f":"COUNTIF($B$1:B446,TRUE)","v":179},{"$f":"Worksheet!$B$12","v":true},{"$f":"IF(H446=1,RANDBETWEEN(1,Worksheet!$D$6),INT(J446))","v":9},{"$f":"IF(C446=1,\"hour\",\"hours\")","v":"hours"},{"$f":"IF(H446=1,IF(Worksheet!$D$10=1,RANDBETWEEN(1,9)*6,IF(Worksheet!$D$10=2,RANDBETWEEN(1,19)*3,RANDBETWEEN(1,59))),(J446-INT(J446))*60)","v":48.000000000000043},"minutes","=",{"$f":"IF(Worksheet!$D$7=1,1,IF(Worksheet!$D$7=2,2,RANDBETWEEN(1,2)))","v":2},null,{"$f":"IF(H446=1,C446+E446/60,RANDBETWEEN(1,Worksheet!$D$6)+CHOOSE(Worksheet!$D$10,RANDBETWEEN(1,9)/10,RANDBETWEEN(1,99)/100,RANDBETWEEN(1,999)/1000,RANDBETWEEN(1,9999)/10000,RANDBETWEEN(1,99999)/100000))","v":9.8000000000000007},"hours"]
[{"$f":"IF(COUNTIF($B$1:B447,TRUE)=COUNTIF($B$1:B446,TRUE),\"\",COUNTIF($B$1:B447,TRUE))","v":180},{"$f":"Worksheet!$B$13","v":true},{"$f":"IF(H447=1,RANDBETWEEN(1,Worksheet!$D$6),INT(J447))","v":27},{"$f":"IF(C447=1,\"minute\",\"minutes\")","v":"minutes"},{"$f":"IF(H447=1,IF(Worksheet!$D$10=1,RANDBETWEEN(1,9)*6,IF(Worksheet!$D$10=2,RANDBETWEEN(1,19)*3,RANDBETWEEN(1,59))),(J447-INT(J447))*60)","v":11.999999999999957},"seconds","=",{"$f":"IF(Worksheet!$D$7=1,1,IF(Worksheet!$D$7=2,2,RANDBETWEEN(1,2)))","v":2},null,{"$f":"IF(H447=1,C447+E447/60,RANDBETWEEN(1,Worksheet!$D$6)+CHOOSE(Worksheet!$D$10,RANDBETWEEN(1,9)/10,RANDBETWEEN(1,99)/100,RANDBETWEEN(1,999)/1000,RANDBETWEEN(1,9999)/10000,RANDBETWEEN(1,99999)/100000))","v":27.2},"minutes"]
[{"$f":"IF(COUNTIF($B$1:B448,TRUE)=COUNTIF($B$1:B447,TRUE),\"\",COUNTIF($B$1:B448,TRUE))","v":""},{"$f":"Worksheet!$B$14","v":false},{"$f":"IF(H448=1,RANDBETWEEN(1,Worksheet!$D$6),INT(J448))","v":4},{"$f":"IF(C448=1,\"week\",\"weeks\")","v":"weeks"},{"$f":"IF(H448=1,RANDBETWEEN(1,6),(J448-INT(J448))*7)","v":2.0999999999999988},"days","=",{"$f":"IF(Worksheet!$D$7=1,1,IF(Worksheet!$D$7=2,2,RANDBETWEEN(1,2)))","v":2},null,{"$f":"IF(H448=1,C448+E448/7,RANDBETWEEN(1,Worksheet!$D$6)+CHOOSE(Worksheet!$D$10,RANDBETWEEN(1,9)/10,RANDBETWEEN(1,99)/100,RANDBETWEEN(1,999)/1000,RANDBETWEEN(1,9999)/10000,RANDBETWEEN(1,99999)/100000))","v":4.3},"weeks"]
[{"$f":"IF(COUNTIF($B$1:B449,TRUE)=COUNTIF($B$1:B448,TRUE),\"\",COUNTIF($B$1:B449,TRUE))","v":""},{"$f":"Worksheet!$D$12","v":false},{"$f":"IF(H449=1,RANDBETWEEN(1,Worksheet!$D$6),INT(J449))","v":10},{"$f":"IF(C449=1,\"day\",\"days\")","v":"days"},{"$f":"IF(H449=1,RANDBETWEEN(1,23),(J449-INT(J449))*24)","v":7.2000000000000171},"hours","=",{"$f":"IF(Worksheet!$D$7=1,1,IF(Worksheet!$D$7=2,2,RANDBETWEEN(1,2)))","v":2},null,{"$f":"IF(H449=1,C449+E449/24,RANDBETWEEN(1,Worksheet!$D$6)+CHOOSE(Worksheet!$D$10,RANDBETWEEN(1,9)/10,RANDBETWEEN(1,99)/100,RANDBETWEEN(1,999)/1000,RANDBETWEEN(1,9999)/10000,RANDBETWEEN(1,99999)/100000))","v":10.3},"days"]
[{"$f":"IF(COUNTIF($B$1:B450,TRUE)=COUNTIF($B$1:B449,TRUE),\"\",COUNTIF($B$1:B450,TRUE))","v":""},{"$f":"Worksheet!$D$13","v":false},{"$f":"IF(H450=1,RANDBETWEEN(1,Worksheet!$D$6),INT(J450))","v":1},{"$f":"IF(C450=1,\"year\",\"years\")","v":"year"},{"$f":"IF(H450=1,RANDBETWEEN(1,11),(J450-INT(J450))*12)","v":3.6000000000000005},"months","=",{"$f":"IF(Worksheet!$D$7=1,1,IF(Worksheet!$D$7=2,2,RANDBETWEEN(1,2)))","v":2},null,{"$f":"IF(H450=1,C450+E450/12,RANDBETWEEN(1,Worksheet!$D$6)+CHOOSE(Worksheet!$D$10,RANDBETWEEN(1,9)/10,RANDBETWEEN(1,99)/100,RANDBETWEEN(1,999)/1000,RANDBETWEEN(1,9999)/10000,RANDBETWEEN(1,99999)/100000))","v":1.3},"year"]
[{"$f":"COUNTIF($B$1:B451,TRUE)","v":181},{"$f":"Worksheet!$B$12","v":true},{"$f":"IF(H451=1,RANDBETWEEN(1,Worksheet!$D$6),INT(J451))","v":8},{"$f":"IF(C451=1,\"hour\",\"hours\")","v":"hours"},{"$f":"IF(H451=1,IF(Worksheet!$D$10=1,RANDBETWEEN(1,9)*6,IF(Worksheet!$D$10=2,RANDBETWEEN(1,19)*3,RANDBETWEEN(1,59))),(J451-INT(J451))*60)","v":42},"minutes","=",{"$f":"IF(Worksheet!$D$7=1,1,IF(Worksheet!$D$7=2,2,RANDBETWEEN(1,2)))","v":1},null,{"$f":"IF(H451=1,C451+E451/60,RANDBETWEEN(1,Worksheet!$D$6)+CHOOSE(Worksheet!$D$10,RANDBETWEEN(1,9)/10,RANDBETWEEN(1,99)/100,RANDBETWEEN(1,999)/1000,RANDBETWEEN(1,9999)/10000,RANDBETWEEN(1,99999)/100000))","v":8.6999999999999993},"hours"]
[{"$f":"IF(COUNTIF($B$1:B452,TRUE)=COUNTIF($B$1:B451,TRUE),\"\",COUNTIF($B$1:B452,TRUE))","v":182},{"$f":"Worksheet!$B$13","v":true},{"$f":"IF(H452=1,RANDBETWEEN(1,Worksheet!$D$6),INT(J452))","v":28},{"$f":"IF(C452=1,\"minute\",\"minutes\")","v":"minutes"},{"$f":"IF(H452=1,IF(Worksheet!$D$10=1,RANDBETWEEN(1,9)*6,IF(Worksheet!$D$10=2,RANDBETWEEN(1,19)*3,RANDBETWEEN(1,59))),(J452-INT(J452))*60)","v":42},"seconds","=",{"$f":"IF(Worksheet!$D$7=1,1,IF(Worksheet!$D$7=2,2,RANDBETWEEN(1,2)))","v":1},null,{"$f":"IF(H452=1,C452+E452/60,RANDBETWEEN(1,Worksheet!$D$6)+CHOOSE(Worksheet!$D$10,RANDBETWEEN(1,9)/10,RANDBETWEEN(1,99)/100,RANDBETWEEN(1,999)/1000,RANDBETWEEN(1,9999)/10000,RANDBETWEEN(1,99999)/100000))","v":28.7},"minutes"]
[{"$f":"IF(COUNTIF($B$1:B453,TRUE)=COUNTIF($B$1:B452,TRUE),\"\",COUNTIF($B$1:B453,TRUE))","v":""},{"$f":"Worksheet!$B$14","v":false},{"$f":"IF(H453=1,RANDBETWEEN(1,Worksheet!$D$6),INT(J453))","v":19},{"$f":"IF(C453=1,\"week\",\"weeks\")","v":"weeks"},{"$f":"IF(H453=1,RANDBETWEEN(1,6),(J453-INT(J453))*7)","v":2},"days","=",{"$f":"IF(Worksheet!$D$7=1,1,IF(Worksheet!$D$7=2,2,RANDBETWEEN(1,2)))","v":1},null,{"$f":"IF(H453=1,C453+E453/7,RANDBETWEEN(1,Worksheet!$D$6)+CHOOSE(Worksheet!$D$10,RANDBETWEEN(1,9)/10,RANDBETWEEN(1,99)/100,RANDBETWEEN(1,999)/1000,RANDBETWEEN(1,9999)/10000,RANDBETWEEN(1,99999)/100000))","v":19.285714285714285},"weeks"]
[{"$f":"IF(COUNTIF($B$1:B454,TRUE)=COUNTIF($B$1:B453,TRUE),\"\",COUNTIF($B$1:B454,TRUE))","v":""},{"$f":"Worksheet!$D$12","v":false},{"$f":"IF(H454=1,RANDBETWEEN(1,Worksheet!$D$6),INT(J454))","v":1},{"$f":"IF(C454=1,\"day\",\"days\")","v":"day"},{"$f":"IF(H454=1,RANDBETWEEN(1,23),(J454-INT(J454))*24)","v":9},"hours","=",{"$f":"IF(Worksheet!$D$7=1,1,IF(Worksheet!$D$7=2,2,RANDBETWEEN(1,2)))","v":1},null,{"$f":"IF(H454=1,C454+E454/24,RANDBETWEEN(1,Worksheet!$D$6)+CHOOSE(Worksheet!$D$10,RANDBETWEEN(1,9)/10,RANDBETWEEN(1,99)/100,RANDBETWEEN(1,999)/1000,RANDBETWEEN(1,9999)/10000,RANDBETWEEN(1,99999)/100000))","v":1.375},"day"]
[{"$f":"IF(COUNTIF($B$1:B455,TRUE)=COUNTIF($B$1:B454,TRUE),\"\",COUNTIF($B$1:B455,TRUE))","v":""},{"$f":"Worksheet!$D$13","v":false},{"$f":"IF(H455=1,RANDBETWEEN(1,Worksheet!$D$6),INT(J455))","v":7},{"$f":"IF(C455=1,\"year\",\"years\")","v":"years"},{"$f":"IF(H455=1,RANDBETWEEN(1,11),(J455-INT(J455))*12)","v":6},"months","=",{"$f":"IF(Worksheet!$D$7=1,1,IF(Worksheet!$D$7=2,2,RANDBETWEEN(1,2)))","v":1},null,{"$f":"IF(H455=1,C455+E455/12,RANDBETWEEN(1,Worksheet!$D$6)+CHOOSE(Worksheet!$D$10,RANDBETWEEN(1,9)/10,RANDBETWEEN(1,99)/100,RANDBETWEEN(1,999)/1000,RANDBETWEEN(1,9999)/10000,RANDBETWEEN(1,99999)/100000))","v":7.5},"years"]
[{"$f":"COUNTIF($B$1:B456,TRUE)","v":183},{"$f":"Worksheet!$B$12","v":true},{"$f":"IF(H456=1,RANDBETWEEN(1,Worksheet!$D$6),INT(J456))","v":1},{"$f":"IF(C456=1,\"hour\",\"hours\")","v":"hour"},{"$f":"IF(H456=1,IF(Worksheet!$D$10=1,RANDBETWEEN(1,9)*6,IF(Worksheet!$D$10=2,RANDBETWEEN(1,19)*3,RANDBETWEEN(1,59))),(J456-INT(J456))*60)","v":6.0000000000000053},"minutes","=",{"$f":"IF(Worksheet!$D$7=1,1,IF(Worksheet!$D$7=2,2,RANDBETWEEN(1,2)))","v":2},null,{"$f":"IF(H456=1,C456+E456/60,RANDBETWEEN(1,Worksheet!$D$6)+CHOOSE(Worksheet!$D$10,RANDBETWEEN(1,9)/10,RANDBETWEEN(1,99)/100,RANDBETWEEN(1,999)/1000,RANDBETWEEN(1,9999)/10000,RANDBETWEEN(1,99999)/100000))","v":1.1000000000000001},"hour"]
[{"$f":"IF(COUNTIF($B$1:B457,TRUE)=COUNTIF($B$1:B456,TRUE),\"\",COUNTIF($B$1:B457,TRUE))","v":184},{"$f":"Worksheet!$B$13","v":true},{"$f":"IF(H457=1,RANDBETWEEN(1,Worksheet!$D$6),INT(J457))","v":27},{"$f":"IF(C457=1,\"minute\",\"minutes\")","v":"minutes"},{"$f":"IF(H457=1,IF(Worksheet!$D$10=1,RANDBETWEEN(1,9)*6,IF(Worksheet!$D$10=2,RANDBETWEEN(1,19)*3,RANDBETWEEN(1,59))),(J457-INT(J457))*60)","v":24},"seconds","=",{"$f":"IF(Worksheet!$D$7=1,1,IF(Worksheet!$D$7=2,2,RANDBETWEEN(1,2)))","v":1},null,{"$f":"IF(H457=1,C457+E457/60,RANDBETWEEN(1,Worksheet!$D$6)+CHOOSE(Worksheet!$D$10,RANDBETWEEN(1,9)/10,RANDBETWEEN(1,99)/100,RANDBETWEEN(1,999)/1000,RANDBETWEEN(1,9999)/10000,RANDBETWEEN(1,99999)/100000))","v":27.4},"minutes"]
[{"$f":"IF(COUNTIF($B$1:B458,TRUE)=COUNTIF($B$1:B457,TRUE),\"\",COUNTIF($B$1:B458,TRUE))","v":""},{"$f":"Worksheet!$B$14","v":false},{"$f":"IF(H458=1,RANDBETWEEN(1,Worksheet!$D$6),INT(J458))","v":12},{"$f":"IF(C458=1,\"week\",\"weeks\")","v":"weeks"},{"$f":"IF(H458=1,RANDBETWEEN(1,6),(J458-INT(J458))*7)","v":3},"days","=",{"$f":"IF(Worksheet!$D$7=1,1,IF(Worksheet!$D$7=2,2,RANDBETWEEN(1,2)))","v":1},null,{"$f":"IF(H458=1,C458+E458/7,RANDBETWEEN(1,Worksheet!$D$6)+CHOOSE(Worksheet!$D$10,RANDBETWEEN(1,9)/10,RANDBETWEEN(1,99)/100,RANDBETWEEN(1,999)/1000,RANDBETWEEN(1,9999)/10000,RANDBETWEEN(1,99999)/100000))","v":12.428571428571429},"weeks"]
[{"$f":"IF(COUNTIF($B$1:B459,TRUE)=COUNTIF($B$1:B458,TRUE),\"\",COUNTIF($B$1:B459,TRUE))","v":""},{"$f":"Worksheet!$D$12","v":false},{"$f":"IF(H459=1,RANDBETWEEN(1,Worksheet!$D$6),INT(J459))","v":3},{"$f":"IF(C459=1,\"day\",\"days\")","v":"days"},{"$f":"IF(H459=1,RANDBETWEEN(1,23),(J459-INT(J459))*24)","v":12},"hours","=",{"$f":"IF(Worksheet!$D$7=1,1,IF(Worksheet!$D$7=2,2,RANDBETWEEN(1,2)))","v":1},null,{"$f":"IF(H459=1,C459+E459/24,RANDBETWEEN(1,Worksheet!$D$6)+CHOOSE(Worksheet!$D$10,RANDBETWEEN(1,9)/10,RANDBETWEEN(1,99)/100,RANDBETWEEN(1,999)/1000,RANDBETWEEN(1,9999)/10000,RANDBETWEEN(1,99999)/100000))","v":3.5},"days"]
[{"$f":"IF(COUNTIF($B$1:B460,TRUE)=COUNTIF($B$1:B459,TRUE),\"\",COUNTIF($B$1:B460,TRUE))","v":""},{"$f":"Worksheet!$D$13","v":false},{"$f":"IF(H460=1,RANDBETWEEN(1,Worksheet!$D$6),INT(J460))","v":18},{"$f":"IF(C460=1,\"year\",\"years\")","v":"years"},{"$f":"IF(H460=1,RANDBETWEEN(1,11),(J460-INT(J460))*12)","v":8.3999999999999915},"months","=",{"$f":"IF(Worksheet!$D$7=1,1,IF(Worksheet!$D$7=2,2,RANDBETWEEN(1,2)))","v":2},null,{"$f":"IF(H460=1,C460+E460/12,RANDBETWEEN(1,Worksheet!$D$6)+CHOOSE(Worksheet!$D$10,RANDBETWEEN(1,9)/10,RANDBETWEEN(1,99)/100,RANDBETWEEN(1,999)/1000,RANDBETWEEN(1,9999)/10000,RANDBETWEEN(1,99999)/100000))","v":18.7},"years"]
[{"$f":"COUNTIF($B$1:B461,TRUE)","v":185},{"$f":"Worksheet!$B$12","v":true},{"$f":"IF(H461=1,RANDBETWEEN(1,Worksheet!$D$6),INT(J461))","v":23},{"$f":"IF(C461=1,\"hour\",\"hours\")","v":"hours"},{"$f":"IF(H461=1,IF(Worksheet!$D$10=1,RANDBETWEEN(1,9)*6,IF(Worksheet!$D$10=2,RANDBETWEEN(1,19)*3,RANDBETWEEN(1,59))),(J461-INT(J461))*60)","v":6},"minutes","=",{"$f":"IF(Worksheet!$D$7=1,1,IF(Worksheet!$D$7=2,2,RANDBETWEEN(1,2)))","v":1},null,{"$f":"IF(H461=1,C461+E461/60,RANDBETWEEN(1,Worksheet!$D$6)+CHOOSE(Worksheet!$D$10,RANDBETWEEN(1,9)/10,RANDBETWEEN(1,99)/100,RANDBETWEEN(1,999)/1000,RANDBETWEEN(1,9999)/10000,RANDBETWEEN(1,99999)/100000))","v":23.1},"hours"]
[{"$f":"IF(COUNTIF($B$1:B462,TRUE)=COUNTIF($B$1:B461,TRUE),\"\",COUNTIF($B$1:B462,TRUE))","v":186},{"$f":"Worksheet!$B$13","v":true},{"$f":"IF(H462=1,RANDBETWEEN(1,Worksheet!$D$6),INT(J462))","v":20},{"$f":"IF(C462=1,\"minute\",\"minutes\")","v":"minutes"},{"$f":"IF(H462=1,IF(Worksheet!$D$10=1,RANDBETWEEN(1,9)*6,IF(Worksheet!$D$10=2,RANDBETWEEN(1,19)*3,RANDBETWEEN(1,59))),(J462-INT(J462))*60)","v":54},"seconds","=",{"$f":"IF(Worksheet!$D$7=1,1,IF(Worksheet!$D$7=2,2,RANDBETWEEN(1,2)))","v":1},null,{"$f":"IF(H462=1,C462+E462/60,RANDBETWEEN(1,Worksheet!$D$6)+CHOOSE(Worksheet!$D$10,RANDBETWEEN(1,9)/10,RANDBETWEEN(1,99)/100,RANDBETWEEN(1,999)/1000,RANDBETWEEN(1,9999)/10000,RANDBETWEEN(1,99999)/100000))","v":20.9},"minutes"]
[{"$f":"IF(COUNTIF($B$1:B463,TRUE)=COUNTIF($B$1:B462,TRUE),\"\",COUNTIF($B$1:B463,TRUE))","v":""},{"$f":"Worksheet!$B$14","v":false},{"$f":"IF(H463=1,RANDBETWEEN(1,Worksheet!$D$6),INT(J463))","v":4},{"$f":"IF(C463=1,\"week\",\"weeks\")","v":"weeks"},{"$f":"IF(H463=1,RANDBETWEEN(1,6),(J463-INT(J463))*7)","v":1},"days","=",{"$f":"IF(Worksheet!$D$7=1,1,IF(Worksheet!$D$7=2,2,RANDBETWEEN(1,2)))","v":1},null,{"$f":"IF(H463=1,C463+E463/7,RANDBETWEEN(1,Worksheet!$D$6)+CHOOSE(Worksheet!$D$10,RANDBETWEEN(1,9)/10,RANDBETWEEN(1,99)/100,RANDBETWEEN(1,999)/1000,RANDBETWEEN(1,9999)/10000,RANDBETWEEN(1,99999)/100000))","v":4.1428571428571432},"weeks"]
[{"$f":"IF(COUNTIF($B$1:B464,TRUE)=COUNTIF($B$1:B463,TRUE),\"\",COUNTIF($B$1:B464,TRUE))","v":""},{"$f":"Worksheet!$D$12","v":false},{"$f":"IF(H464=1,RANDBETWEEN(1,Worksheet!$D$6),INT(J464))","v":30},{"$f":"IF(C464=1,\"day\",\"days\")","v":"days"},{"$f":"IF(H464=1,RANDBETWEEN(1,23),(J464-INT(J464))*24)","v":21.599999999999966},"hours","=",{"$f":"IF(Worksheet!$D$7=1,1,IF(Worksheet!$D$7=2,2,RANDBETWEEN(1,2)))","v":2},null,{"$f":"IF(H464=1,C464+E464/24,RANDBETWEEN(1,Worksheet!$D$6)+CHOOSE(Worksheet!$D$10,RANDBETWEEN(1,9)/10,RANDBETWEEN(1,99)/100,RANDBETWEEN(1,999)/1000,RANDBETWEEN(1,9999)/10000,RANDBETWEEN(1,99999)/100000))","v":30.9},"days"]
[{"$f":"IF(COUNTIF($B$1:B465,TRUE)=COUNTIF($B$1:B464,TRUE),\"\",COUNTIF($B$1:B465,TRUE))","v":""},{"$f":"Worksheet!$D$13","v":false},{"$f":"IF(H465=1,RANDBETWEEN(1,Worksheet!$D$6),INT(J465))","v":17},{"$f":"IF(C465=1,\"year\",\"years\")","v":"years"},{"$f":"IF(H465=1,RANDBETWEEN(1,11),(J465-INT(J465))*12)","v":1},"months","=",{"$f":"IF(Worksheet!$D$7=1,1,IF(Worksheet!$D$7=2,2,RANDBETWEEN(1,2)))","v":1},null,{"$f":"IF(H465=1,C465+E465/12,RANDBETWEEN(1,Worksheet!$D$6)+CHOOSE(Worksheet!$D$10,RANDBETWEEN(1,9)/10,RANDBETWEEN(1,99)/100,RANDBETWEEN(1,999)/1000,RANDBETWEEN(1,9999)/10000,RANDBETWEEN(1,99999)/100000))","v":17.083333333333332},"years"]
[{"$f":"COUNTIF($B$1:B466,TRUE)","v":187},{"$f":"Worksheet!$B$12","v":true},{"$f":"IF(H466=1,RANDBETWEEN(1,Worksheet!$D$6),INT(J466))","v":11},{"$f":"IF(C466=1,\"hour\",\"hours\")","v":"hours"},{"$f":"IF(H466=1,IF(Worksheet!$D$10=1,RANDBETWEEN(1,9)*6,IF(Worksheet!$D$10=2,RANDBETWEEN(1,19)*3,RANDBETWEEN(1,59))),(J466-INT(J466))*60)","v":5.9999999999999787},"minutes","=",{"$f":"IF(Worksheet!$D$7=1,1,IF(Worksheet!$D$7=2,2,RANDBETWEEN(1,2)))","v":2},null,{"$f":"IF(H466=1,C466+E466/60,RANDBETWEEN(1,Worksheet!$D$6)+CHOOSE(Worksheet!$D$10,RANDBETWEEN(1,9)/10,RANDBETWEEN(1,99)/100,RANDBETWEEN(1,999)/1000,RANDBETWEEN(1,9999)/10000,RANDBETWEEN(1,99999)/100000))","v":11.1},"hours"]
[{"$f":"IF(COUNTIF($B$1:B467,TRUE)=COUNTIF($B$1:B466,TRUE),\"\",COUNTIF($B$1:B467,TRUE))","v":188},{"$f":"Worksheet!$B$13","v":true},{"$f":"IF(H467=1,RANDBETWEEN(1,Worksheet!$D$6),INT(J467))","v":30},{"$f":"IF(C467=1,\"minute\",\"minutes\")","v":"minutes"},{"$f":"IF(H467=1,IF(Worksheet!$D$10=1,RANDBETWEEN(1,9)*6,IF(Worksheet!$D$10=2,RANDBETWEEN(1,19)*3,RANDBETWEEN(1,59))),(J467-INT(J467))*60)","v":12},"seconds","=",{"$f":"IF(Worksheet!$D$7=1,1,IF(Worksheet!$D$7=2,2,RANDBETWEEN(1,2)))","v":1},null,{"$f":"IF(H467=1,C467+E467/60,RANDBETWEEN(1,Worksheet!$D$6)+CHOOSE(Worksheet!$D$10,RANDBETWEEN(1,9)/10,RANDBETWEEN(1,99)/100,RANDBETWEEN(1,999)/1000,RANDBETWEEN(1,9999)/10000,RANDBETWEEN(1,99999)/100000))","v":30.2},"minutes"]
[{"$f":"IF(COUNTIF($B$1:B468,TRUE)=COUNTIF($B$1:B467,TRUE),\"\",COUNTIF($B$1:B468,TRUE))","v":""},{"$f":"Worksheet!$B$14","v":false},{"$f":"IF(H468=1,RANDBETWEEN(1,Worksheet!$D$6),INT(J468))","v":9},{"$f":"IF(C468=1,\"week\",\"weeks\")","v":"weeks"},{"$f":"IF(H468=1,RANDBETWEEN(1,6),(J468-INT(J468))*7)","v":6.3000000000000025},"days","=",{"$f":"IF(Worksheet!$D$7=1,1,IF(Worksheet!$D$7=2,2,RANDBETWEEN(1,2)))","v":2},null,{"$f":"IF(H468=1,C468+E468/7,RANDBETWEEN(1,Worksheet!$D$6)+CHOOSE(Worksheet!$D$10,RANDBETWEEN(1,9)/10,RANDBETWEEN(1,99)/100,RANDBETWEEN(1,999)/1000,RANDBETWEEN(1,9999)/10000,RANDBETWEEN(1,99999)/100000))","v":9.9},"weeks"]
[{"$f":"IF(COUNTIF($B$1:B469,TRUE)=COUNTIF($B$1:B468,TRUE),\"\",COUNTIF($B$1:B469,TRUE))","v":""},{"$f":"Worksheet!$D$12","v":false},{"$f":"IF(H469=1,RANDBETWEEN(1,Worksheet!$D$6),INT(J469))","v":5},{"$f":"IF(C469=1,\"day\",\"days\")","v":"days"},{"$f":"IF(H469=1,RANDBETWEEN(1,23),(J469-INT(J469))*24)","v":14.399999999999991},"hours","=",{"$f":"IF(Worksheet!$D$7=1,1,IF(Worksheet!$D$7=2,2,RANDBETWEEN(1,2)))","v":2},null,{"$f":"IF(H469=1,C469+E469/24,RANDBETWEEN(1,Worksheet!$D$6)+CHOOSE(Worksheet!$D$10,RANDBETWEEN(1,9)/10,RANDBETWEEN(1,99)/100,RANDBETWEEN(1,999)/1000,RANDBETWEEN(1,9999)/10000,RANDBETWEEN(1,99999)/100000))","v":5.6},"days"]
[{"$f":"IF(COUNTIF($B$1:B470,TRUE)=COUNTIF($B$1:B469,TRUE),\"\",COUNTIF($B$1:B470,TRUE))","v":""},{"$f":"Worksheet!$D$13","v":false},{"$f":"IF(H470=1,RANDBETWEEN(1,Worksheet!$D$6),INT(J470))","v":6},{"$f":"IF(C470=1,\"year\",\"years\")","v":"years"},{"$f":"IF(H470=1,RANDBETWEEN(1,11),(J470-INT(J470))*12)","v":8},"months","=",{"$f":"IF(Worksheet!$D$7=1,1,IF(Worksheet!$D$7=2,2,RANDBETWEEN(1,2)))","v":1},null,{"$f":"IF(H470=1,C470+E470/12,RANDBETWEEN(1,Worksheet!$D$6)+CHOOSE(Worksheet!$D$10,RANDBETWEEN(1,9)/10,RANDBETWEEN(1,99)/100,RANDBETWEEN(1,999)/1000,RANDBETWEEN(1,9999)/10000,RANDBETWEEN(1,99999)/100000))","v":6.666666666666667},"years"]
[{"$f":"COUNTIF($B$1:B471,TRUE)","v":189},{"$f":"Worksheet!$B$12","v":true},{"$f":"IF(H471=1,RANDBETWEEN(1,Worksheet!$D$6),INT(J471))","v":25},{"$f":"IF(C471=1,\"hour\",\"hours\")","v":"hours"},{"$f":"IF(H471=1,IF(Worksheet!$D$10=1,RANDBETWEEN(1,9)*6,IF(Worksheet!$D$10=2,RANDBETWEEN(1,19)*3,RANDBETWEEN(1,59))),(J471-INT(J471))*60)","v":48},"minutes","=",{"$f":"IF(Worksheet!$D$7=1,1,IF(Worksheet!$D$7=2,2,RANDBETWEEN(1,2)))","v":1},null,{"$f":"IF(H471=1,C471+E471/60,RANDBETWEEN(1,Worksheet!$D$6)+CHOOSE(Worksheet!$D$10,RANDBETWEEN(1,9)/10,RANDBETWEEN(1,99)/100,RANDBETWEEN(1,999)/1000,RANDBETWEEN(1,9999)/10000,RANDBETWEEN(1,99999)/100000))","v":25.8},"hours"]
[{"$f":"IF(COUNTIF($B$1:B472,TRUE)=COUNTIF($B$1:B471,TRUE),\"\",COUNTIF($B$1:B472,TRUE))","v":190},{"$f":"Worksheet!$B$13","v":true},{"$f":"IF(H472=1,RANDBETWEEN(1,Worksheet!$D$6),INT(J472))","v":13},{"$f":"IF(C472=1,\"minute\",\"minutes\")","v":"minutes"},{"$f":"IF(H472=1,IF(Worksheet!$D$10=1,RANDBETWEEN(1,9)*6,IF(Worksheet!$D$10=2,RANDBETWEEN(1,19)*3,RANDBETWEEN(1,59))),(J472-INT(J472))*60)","v":36},"seconds","=",{"$f":"IF(Worksheet!$D$7=1,1,IF(Worksheet!$D$7=2,2,RANDBETWEEN(1,2)))","v":1},null,{"$f":"IF(H472=1,C472+E472/60,RANDBETWEEN(1,Worksheet!$D$6)+CHOOSE(Worksheet!$D$10,RANDBETWEEN(1,9)/10,RANDBETWEEN(1,99)/100,RANDBETWEEN(1,999)/1000,RANDBETWEEN(1,9999)/10000,RANDBETWEEN(1,99999)/100000))","v":13.6},"minutes"]
[{"$f":"IF(COUNTIF($B$1:B473,TRUE)=COUNTIF($B$1:B472,TRUE),\"\",COUNTIF($B$1:B473,TRUE))","v":""},{"$f":"Worksheet!$B$14","v":false},{"$f":"IF(H473=1,RANDBETWEEN(1,Worksheet!$D$6),INT(J473))","v":2},{"$f":"IF(C473=1,\"week\",\"weeks\")","v":"weeks"},{"$f":"IF(H473=1,RANDBETWEEN(1,6),(J473-INT(J473))*7)","v":4.9000000000000012},"days","=",{"$f":"IF(Worksheet!$D$7=1,1,IF(Worksheet!$D$7=2,2,RANDBETWEEN(1,2)))","v":2},null,{"$f":"IF(H473=1,C473+E473/7,RANDBETWEEN(1,Worksheet!$D$6)+CHOOSE(Worksheet!$D$10,RANDBETWEEN(1,9)/10,RANDBETWEEN(1,99)/100,RANDBETWEEN(1,999)/1000,RANDBETWEEN(1,9999)/10000,RANDBETWEEN(1,99999)/100000))","v":2.7},"weeks"]
[{"$f":"IF(COUNTIF($B$1:B474,TRUE)=COUNTIF($B$1:B473,TRUE),\"\",COUNTIF($B$1:B474,TRUE))","v":""},{"$f":"Worksheet!$D$12","v":false},{"$f":"IF(H474=1,RANDBETWEEN(1,Worksheet!$D$6),INT(J474))","v":8},{"$f":"IF(C474=1,\"day\",\"days\")","v":"days"},{"$f":"IF(H474=1,RANDBETWEEN(1,23),(J474-INT(J474))*24)","v":2},"hours","=",{"$f":"IF(Worksheet!$D$7=1,1,IF(Worksheet!$D$7=2,2,RANDBETWEEN(1,2)))","v":1},null,{"$f":"IF(H474=1,C474+E474/24,RANDBETWEEN(1,Worksheet!$D$6)+CHOOSE(Worksheet!$D$10,RANDBETWEEN(1,9)/10,RANDBETWEEN(1,99)/100,RANDBETWEEN(1,999)/1000,RANDBETWEEN(1,9999)/10000,RANDBETWEEN(1,99999)/100000))","v":8.0833333333333339},"days"]
[{"$f":"IF(COUNTIF($B$1:B475,TRUE)=COUNTIF($B$1:B474,TRUE),\"\",COUNTIF($B$1:B475,TRUE))","v":""},{"$f":"Worksheet!$D$13","v":false},{"$f":"IF(H475=1,RANDBETWEEN(1,Worksheet!$D$6),INT(J475))","v":16},{"$f":"IF(C475=1,\"year\",\"years\")","v":"years"},{"$f":"IF(H475=1,RANDBETWEEN(1,11),(J475-INT(J475))*12)","v":10.799999999999983},"months","=",{"$f":"IF(Worksheet!$D$7=1,1,IF(Worksheet!$D$7=2,2,RANDBETWEEN(1,2)))","v":2},null,{"$f":"IF(H475=1,C475+E475/12,RANDBETWEEN(1,Worksheet!$D$6)+CHOOSE(Worksheet!$D$10,RANDBETWEEN(1,9)/10,RANDBETWEEN(1,99)/100,RANDBETWEEN(1,999)/1000,RANDBETWEEN(1,9999)/10000,RANDBETWEEN(1,99999)/100000))","v":16.899999999999999},"years"]
[{"$f":"COUNTIF($B$1:B476,TRUE)","v":191},{"$f":"Worksheet!$B$12","v":true},{"$f":"IF(H476=1,RANDBETWEEN(1,Worksheet!$D$6),INT(J476))","v":16},{"$f":"IF(C476=1,\"hour\",\"hours\")","v":"hours"},{"$f":"IF(H476=1,IF(Worksheet!$D$10=1,RANDBETWEEN(1,9)*6,IF(Worksheet!$D$10=2,RANDBETWEEN(1,19)*3,RANDBETWEEN(1,59))),(J476-INT(J476))*60)","v":48},"minutes","=",{"$f":"IF(Worksheet!$D$7=1,1,IF(Worksheet!$D$7=2,2,RANDBETWEEN(1,2)))","v":1},null,{"$f":"IF(H476=1,C476+E476/60,RANDBETWEEN(1,Worksheet!$D$6)+CHOOSE(Worksheet!$D$10,RANDBETWEEN(1,9)/10,RANDBETWEEN(1,99)/100,RANDBETWEEN(1,999)/1000,RANDBETWEEN(1,9999)/10000,RANDBETWEEN(1,99999)/100000))","v":16.8},"hours"]
[{"$f":"IF(COUNTIF($B$1:B477,TRUE)=COUNTIF($B$1:B476,TRUE),\"\",COUNTIF($B$1:B477,TRUE))","v":192},{"$f":"Worksheet!$B$13","v":true},{"$f":"IF(H477=1,RANDBETWEEN(1,Worksheet!$D$6),INT(J477))","v":9},{"$f":"IF(C477=1,\"minute\",\"minutes\")","v":"minutes"},{"$f":"IF(H477=1,IF(Worksheet!$D$10=1,RANDBETWEEN(1,9)*6,IF(Worksheet!$D$10=2,RANDBETWEEN(1,19)*3,RANDBETWEEN(1,59))),(J477-INT(J477))*60)","v":41.999999999999957},"seconds","=",{"$f":"IF(Worksheet!$D$7=1,1,IF(Worksheet!$D$7=2,2,RANDBETWEEN(1,2)))","v":2},null,{"$f":"IF(H477=1,C477+E477/60,RANDBETWEEN(1,Worksheet!$D$6)+CHOOSE(Worksheet!$D$10,RANDBETWEEN(1,9)/10,RANDBETWEEN(1,99)/100,RANDBETWEEN(1,999)/1000,RANDBETWEEN(1,9999)/10000,RANDBETWEEN(1,99999)/100000))","v":9.6999999999999993},"minutes"]
[{"$f":"IF(COUNTIF($B$1:B478,TRUE)=COUNTIF($B$1:B477,TRUE),\"\",COUNTIF($B$1:B478,TRUE))","v":""},{"$f":"Worksheet!$B$14","v":false},{"$f":"IF(H478=1,RANDBETWEEN(1,Worksheet!$D$6),INT(J478))","v":25},{"$f":"IF(C478=1,\"week\",\"weeks\")","v":"weeks"},{"$f":"IF(H478=1,RANDBETWEEN(1,6),(J478-INT(J478))*7)","v":2.7999999999999901},"days","=",{"$f":"IF(Worksheet!$D$7=1,1,IF(Worksheet!$D$7=2,2,RANDBETWEEN(1,2)))","v":2},null,{"$f":"IF(H478=1,C478+E478/7,RANDBETWEEN(1,Worksheet!$D$6)+CHOOSE(Worksheet!$D$10,RANDBETWEEN(1,9)/10,RANDBETWEEN(1,99)/100,RANDBETWEEN(1,999)/1000,RANDBETWEEN(1,9999)/10000,RANDBETWEEN(1,99999)/100000))","v":25.4},"weeks"]
[{"$f":"IF(COUNTIF($B$1:B479,TRUE)=COUNTIF($B$1:B478,TRUE),\"\",COUNTIF($B$1:B479,TRUE))","v":""},{"$f":"Worksheet!$D$12","v":false},{"$f":"IF(H479=1,RANDBETWEEN(1,Worksheet!$D$6),INT(J479))","v":29},{"$f":"IF(C479=1,\"day\",\"days\")","v":"days"},{"$f":"IF(H479=1,RANDBETWEEN(1,23),(J479-INT(J479))*24)","v":23},"hours","=",{"$f":"IF(Worksheet!$D$7=1,1,IF(Worksheet!$D$7=2,2,RANDBETWEEN(1,2)))","v":1},null,{"$f":"IF(H479=1,C479+E479/24,RANDBETWEEN(1,Worksheet!$D$6)+CHOOSE(Worksheet!$D$10,RANDBETWEEN(1,9)/10,RANDBETWEEN(1,99)/100,RANDBETWEEN(1,999)/1000,RANDBETWEEN(1,9999)/10000,RANDBETWEEN(1,99999)/100000))","v":29.958333333333332},{"$f":"D479","v":"days"}]
[{"$f":"IF(COUNTIF($B$1:B480,TRUE)=COUNTIF($B$1:B479,TRUE),\"\",COUNTIF($B$1:B480,TRUE))","v":""},{"$f":"Worksheet!$D$13","v":false},{"$f":"IF(H480=1,RANDBETWEEN(1,Worksheet!$D$6),INT(J480))","v":8},{"$f":"IF(C480=1,\"year\",\"years\")","v":"years"},{"$f":"IF(H480=1,RANDBETWEEN(1,11),(J480-INT(J480))*12)","v":4},"months","=",{"$f":"IF(Worksheet!$D$7=1,1,IF(Worksheet!$D$7=2,2,RANDBETWEEN(1,2)))","v":1},null,{"$f":"IF(H480=1,C480+E480/12,RANDBETWEEN(1,Worksheet!$D$6)+CHOOSE(Worksheet!$D$10,RANDBETWEEN(1,9)/10,RANDBETWEEN(1,99)/100,RANDBETWEEN(1,999)/1000,RANDBETWEEN(1,9999)/10000,RANDBETWEEN(1,99999)/100000))","v":8.3333333333333339},"years"]
[{"$f":"COUNTIF($B$1:B481,TRUE)","v":193},{"$f":"Worksheet!$B$12","v":true},{"$f":"IF(H481=1,RANDBETWEEN(1,Worksheet!$D$6),INT(J481))","v":5},{"$f":"IF(C481=1,\"hour\",\"hours\")","v":"hours"},{"$f":"IF(H481=1,IF(Worksheet!$D$10=1,RANDBETWEEN(1,9)*6,IF(Worksheet!$D$10=2,RANDBETWEEN(1,19)*3,RANDBETWEEN(1,59))),(J481-INT(J481))*60)","v":48},"minutes","=",{"$f":"IF(Worksheet!$D$7=1,1,IF(Worksheet!$D$7=2,2,RANDBETWEEN(1,2)))","v":1},null,{"$f":"IF(H481=1,C481+E481/60,RANDBETWEEN(1,Worksheet!$D$6)+CHOOSE(Worksheet!$D$10,RANDBETWEEN(1,9)/10,RANDBETWEEN(1,99)/100,RANDBETWEEN(1,999)/1000,RANDBETWEEN(1,9999)/10000,RANDBETWEEN(1,99999)/100000))","v":5.8},"hours"]
[{"$f":"IF(COUNTIF($B$1:B482,TRUE)=COUNTIF($B$1:B481,TRUE),\"\",COUNTIF($B$1:B482,TRUE))","v":194},{"$f":"Worksheet!$B$13","v":true},{"$f":"IF(H482=1,RANDBETWEEN(1,Worksheet!$D$6),INT(J482))","v":30},{"$f":"IF(C482=1,\"minute\",\"minutes\")","v":"minutes"},{"$f":"IF(H482=1,IF(Worksheet!$D$10=1,RANDBETWEEN(1,9)*6,IF(Worksheet!$D$10=2,RANDBETWEEN(1,19)*3,RANDBETWEEN(1,59))),(J482-INT(J482))*60)","v":12},"seconds","=",{"$f":"IF(Worksheet!$D$7=1,1,IF(Worksheet!$D$7=2,2,RANDBETWEEN(1,2)))","v":1},null,{"$f":"IF(H482=1,C482+E482/60,RANDBETWEEN(1,Worksheet!$D$6)+CHOOSE(Worksheet!$D$10,RANDBETWEEN(1,9)/10,RANDBETWEEN(1,99)/100,RANDBETWEEN(1,999)/1000,RANDBETWEEN(1,9999)/10000,RANDBETWEEN(1,99999)/100000))","v":30.2},"minutes"]
[{"$f":"IF(COUNTIF($B$1:B483,TRUE)=COUNTIF($B$1:B482,TRUE),\"\",COUNTIF($B$1:B483,TRUE))","v":""},{"$f":"Worksheet!$B$14","v":false},{"$f":"IF(H483=1,RANDBETWEEN(1,Worksheet!$D$6),INT(J483))","v":18},{"$f":"IF(C483=1,\"week\",\"weeks\")","v":"weeks"},{"$f":"IF(H483=1,RANDBETWEEN(1,6),(J483-INT(J483))*7)","v":4.2000000000000099},"days","=",{"$f":"IF(Worksheet!$D$7=1,1,IF(Worksheet!$D$7=2,2,RANDBETWEEN(1,2)))","v":2},null,{"$f":"IF(H483=1,C483+E483/7,RANDBETWEEN(1,Worksheet!$D$6)+CHOOSE(Worksheet!$D$10,RANDBETWEEN(1,9)/10,RANDBETWEEN(1,99)/100,RANDBETWEEN(1,999)/1000,RANDBETWEEN(1,9999)/10000,RANDBETWEEN(1,99999)/100000))","v":18.600000000000001},"weeks"]
[{"$f":"IF(COUNTIF($B$1:B484,TRUE)=COUNTIF($B$1:B483,TRUE),\"\",COUNTIF($B$1:B484,TRUE))","v":""},{"$f":"Worksheet!$D$12","v":false},{"$f":"IF(H484=1,RANDBETWEEN(1,Worksheet!$D$6),INT(J484))","v":19},{"$f":"IF(C484=1,\"day\",\"days\")","v":"days"},{"$f":"IF(H484=1,RANDBETWEEN(1,23),(J484-INT(J484))*24)","v":7.2000000000000171},"hours","=",{"$f":"IF(Worksheet!$D$7=1,1,IF(Worksheet!$D$7=2,2,RANDBETWEEN(1,2)))","v":2},null,{"$f":"IF(H484=1,C484+E484/24,RANDBETWEEN(1,Worksheet!$D$6)+CHOOSE(Worksheet!$D$10,RANDBETWEEN(1,9)/10,RANDBETWEEN(1,99)/100,RANDBETWEEN(1,999)/1000,RANDBETWEEN(1,9999)/10000,RANDBETWEEN(1,99999)/100000))","v":19.3},"days"]
[{"$f":"IF(COUNTIF($B$1:B485,TRUE)=COUNTIF($B$1:B484,TRUE),\"\",COUNTIF($B$1:B485,TRUE))","v":""},{"$f":"Worksheet!$D$13","v":false},{"$f":"IF(H485=1,RANDBETWEEN(1,Worksheet!$D$6),INT(J485))","v":14},{"$f":"IF(C485=1,\"year\",\"years\")","v":"years"},{"$f":"IF(H485=1,RANDBETWEEN(1,11),(J485-INT(J485))*12)","v":9.6000000000000085},"months","=",{"$f":"IF(Worksheet!$D$7=1,1,IF(Worksheet!$D$7=2,2,RANDBETWEEN(1,2)))","v":2},null,{"$f":"IF(H485=1,C485+E485/12,RANDBETWEEN(1,Worksheet!$D$6)+CHOOSE(Worksheet!$D$10,RANDBETWEEN(1,9)/10,RANDBETWEEN(1,99)/100,RANDBETWEEN(1,999)/1000,RANDBETWEEN(1,9999)/10000,RANDBETWEEN(1,99999)/100000))","v":14.8},"years"]
[{"$f":"COUNTIF($B$1:B486,TRUE)","v":195},{"$f":"Worksheet!$B$12","v":true},{"$f":"IF(H486=1,RANDBETWEEN(1,Worksheet!$D$6),INT(J486))","v":27},{"$f":"IF(C486=1,\"hour\",\"hours\")","v":"hours"},{"$f":"IF(H486=1,IF(Worksheet!$D$10=1,RANDBETWEEN(1,9)*6,IF(Worksheet!$D$10=2,RANDBETWEEN(1,19)*3,RANDBETWEEN(1,59))),(J486-INT(J486))*60)","v":36},"minutes","=",{"$f":"IF(Worksheet!$D$7=1,1,IF(Worksheet!$D$7=2,2,RANDBETWEEN(1,2)))","v":1},null,{"$f":"IF(H486=1,C486+E486/60,RANDBETWEEN(1,Worksheet!$D$6)+CHOOSE(Worksheet!$D$10,RANDBETWEEN(1,9)/10,RANDBETWEEN(1,99)/100,RANDBETWEEN(1,999)/1000,RANDBETWEEN(1,9999)/10000,RANDBETWEEN(1,99999)/100000))","v":27.6},"hours"]
[{"$f":"IF(COUNTIF($B$1:B487,TRUE)=COUNTIF($B$1:B486,TRUE),\"\",COUNTIF($B$1:B487,TRUE))","v":196},{"$f":"Worksheet!$B$13","v":true},{"$f":"IF(H487=1,RANDBETWEEN(1,Worksheet!$D$6),INT(J487))","v":22},{"$f":"IF(C487=1,\"minute\",\"minutes\")","v":"minutes"},{"$f":"IF(H487=1,IF(Worksheet!$D$10=1,RANDBETWEEN(1,9)*6,IF(Worksheet!$D$10=2,RANDBETWEEN(1,19)*3,RANDBETWEEN(1,59))),(J487-INT(J487))*60)","v":11.999999999999957},"seconds","=",{"$f":"IF(Worksheet!$D$7=1,1,IF(Worksheet!$D$7=2,2,RANDBETWEEN(1,2)))","v":2},null,{"$f":"IF(H487=1,C487+E487/60,RANDBETWEEN(1,Worksheet!$D$6)+CHOOSE(Worksheet!$D$10,RANDBETWEEN(1,9)/10,RANDBETWEEN(1,99)/100,RANDBETWEEN(1,999)/1000,RANDBETWEEN(1,9999)/10000,RANDBETWEEN(1,99999)/100000))","v":22.2},"minutes"]
[{"$f":"IF(COUNTIF($B$1:B488,TRUE)=COUNTIF($B$1:B487,TRUE),\"\",COUNTIF($B$1:B488,TRUE))","v":""},{"$f":"Worksheet!$B$14","v":false},{"$f":"IF(H488=1,RANDBETWEEN(1,Worksheet!$D$6),INT(J488))","v":16},{"$f":"IF(C488=1,\"week\",\"weeks\")","v":"weeks"},{"$f":"IF(H488=1,RANDBETWEEN(1,6),(J488-INT(J488))*7)","v":0.70000000000000995},"days","=",{"$f":"IF(Worksheet!$D$7=1,1,IF(Worksheet!$D$7=2,2,RANDBETWEEN(1,2)))","v":2},null,{"$f":"IF(H488=1,C488+E488/7,RANDBETWEEN(1,Worksheet!$D$6)+CHOOSE(Worksheet!$D$10,RANDBETWEEN(1,9)/10,RANDBETWEEN(1,99)/100,RANDBETWEEN(1,999)/1000,RANDBETWEEN(1,9999)/10000,RANDBETWEEN(1,99999)/100000))","v":16.100000000000001},"weeks"]
[{"$f":"IF(COUNTIF($B$1:B489,TRUE)=COUNTIF($B$1:B488,TRUE),\"\",COUNTIF($B$1:B489,TRUE))","v":""},{"$f":"Worksheet!$D$12","v":false},{"$f":"IF(H489=1,RANDBETWEEN(1,Worksheet!$D$6),INT(J489))","v":12},{"$f":"IF(C489=1,\"day\",\"days\")","v":"days"},{"$f":"IF(H489=1,RANDBETWEEN(1,23),(J489-INT(J489))*24)","v":2.3999999999999915},"hours","=",{"$f":"IF(Worksheet!$D$7=1,1,IF(Worksheet!$D$7=2,2,RANDBETWEEN(1,2)))","v":2},null,{"$f":"IF(H489=1,C489+E489/24,RANDBETWEEN(1,Worksheet!$D$6)+CHOOSE(Worksheet!$D$10,RANDBETWEEN(1,9)/10,RANDBETWEEN(1,99)/100,RANDBETWEEN(1,999)/1000,RANDBETWEEN(1,9999)/10000,RANDBETWEEN(1,99999)/100000))","v":12.1},"days"]
[{"$f":"IF(COUNTIF($B$1:B490,TRUE)=COUNTIF($B$1:B489,TRUE),\"\",COUNTIF($B$1:B490,TRUE))","v":""},{"$f":"Worksheet!$D$13","v":false},{"$f":"IF(H490=1,RANDBETWEEN(1,Worksheet!$D$6),INT(J490))","v":28},{"$f":"IF(C490=1,\"year\",\"years\")","v":"years"},{"$f":"IF(H490=1,RANDBETWEEN(1,11),(J490-INT(J490))*12)","v":6},"months","=",{"$f":"IF(Worksheet!$D$7=1,1,IF(Worksheet!$D$7=2,2,RANDBETWEEN(1,2)))","v":1},null,{"$f":"IF(H490=1,C490+E490/12,RANDBETWEEN(1,Worksheet!$D$6)+CHOOSE(Worksheet!$D$10,RANDBETWEEN(1,9)/10,RANDBETWEEN(1,99)/100,RANDBETWEEN(1,999)/1000,RANDBETWEEN(1,9999)/10000,RANDBETWEEN(1,99999)/100000))","v":28.5},"years"]
[{"$f":"COUNTIF($B$1:B491,TRUE)","v":197},{"$f":"Worksheet!$B$12","v":true},{"$f":"IF(H491=1,RANDBETWEEN(1,Worksheet!$D$6),INT(J491))","v":7},{"$f":"IF(C491=1,\"hour\",\"hours\")","v":"hours"},{"$f":"IF(H491=1,IF(Worksheet!$D$10=1,RANDBETWEEN(1,9)*6,IF(Worksheet!$D$10=2,RANDBETWEEN(1,19)*3,RANDBETWEEN(1,59))),(J491-INT(J491))*60)","v":12},"minutes","=",{"$f":"IF(Worksheet!$D$7=1,1,IF(Worksheet!$D$7=2,2,RANDBETWEEN(1,2)))","v":1},null,{"$f":"IF(H491=1,C491+E491/60,RANDBETWEEN(1,Worksheet!$D$6)+CHOOSE(Worksheet!$D$10,RANDBETWEEN(1,9)/10,RANDBETWEEN(1,99)/100,RANDBETWEEN(1,999)/1000,RANDBETWEEN(1,9999)/10000,RANDBETWEEN(1,99999)/100000))","v":7.2},"hours"]
[{"$f":"IF(COUNTIF($B$1:B492,TRUE)=COUNTIF($B$1:B491,TRUE),\"\",COUNTIF($B$1:B492,TRUE))","v":198},{"$f":"Worksheet!$B$13","v":true},{"$f":"IF(H492=1,RANDBETWEEN(1,Worksheet!$D$6),INT(J492))","v":14},{"$f":"IF(C492=1,\"minute\",\"minutes\")","v":"minutes"},{"$f":"IF(H492=1,IF(Worksheet!$D$10=1,RANDBETWEEN(1,9)*6,IF(Worksheet!$D$10=2,RANDBETWEEN(1,19)*3,RANDBETWEEN(1,59))),(J492-INT(J492))*60)","v":11.999999999999957},"seconds","=",{"$f":"IF(Worksheet!$D$7=1,1,IF(Worksheet!$D$7=2,2,RANDBETWEEN(1,2)))","v":2},null,{"$f":"IF(H492=1,C492+E492/60,RANDBETWEEN(1,Worksheet!$D$6)+CHOOSE(Worksheet!$D$10,RANDBETWEEN(1,9)/10,RANDBETWEEN(1,99)/100,RANDBETWEEN(1,999)/1000,RANDBETWEEN(1,9999)/10000,RANDBETWEEN(1,99999)/100000))","v":14.2},"minutes"]
[{"$f":"IF(COUNTIF($B$1:B493,TRUE)=COUNTIF($B$1:B492,TRUE),\"\",COUNTIF($B$1:B493,TRUE))","v":""},{"$f":"Worksheet!$B$14","v":false},{"$f":"IF(H493=1,RANDBETWEEN(1,Worksheet!$D$6),INT(J493))","v":18},{"$f":"IF(C493=1,\"week\",\"weeks\")","v":"weeks"},{"$f":"IF(H493=1,RANDBETWEEN(1,6),(J493-INT(J493))*7)","v":6.2999999999999901},"days","=",{"$f":"IF(Worksheet!$D$7=1,1,IF(Worksheet!$D$7=2,2,RANDBETWEEN(1,2)))","v":2},null,{"$f":"IF(H493=1,C493+E493/7,RANDBETWEEN(1,Worksheet!$D$6)+CHOOSE(Worksheet!$D$10,RANDBETWEEN(1,9)/10,RANDBETWEEN(1,99)/100,RANDBETWEEN(1,999)/1000,RANDBETWEEN(1,9999)/10000,RANDBETWEEN(1,99999)/100000))","v":18.899999999999999},"weeks"]
[{"$f":"IF(COUNTIF($B$1:B494,TRUE)=COUNTIF($B$1:B493,TRUE),\"\",COUNTIF($B$1:B494,TRUE))","v":""},{"$f":"Worksheet!$D$12","v":false},{"$f":"IF(H494=1,RANDBETWEEN(1,Worksheet!$D$6),INT(J494))","v":22},{"$f":"IF(C494=1,\"day\",\"days\")","v":"days"},{"$f":"IF(H494=1,RANDBETWEEN(1,23),(J494-INT(J494))*24)","v":2.4000000000000341},"hours","=",{"$f":"IF(Worksheet!$D$7=1,1,IF(Worksheet!$D$7=2,2,RANDBETWEEN(1,2)))","v":2},null,{"$f":"IF(H494=1,C494+E494/24,RANDBETWEEN(1,Worksheet!$D$6)+CHOOSE(Worksheet!$D$10,RANDBETWEEN(1,9)/10,RANDBETWEEN(1,99)/100,RANDBETWEEN(1,999)/1000,RANDBETWEEN(1,9999)/10000,RANDBETWEEN(1,99999)/100000))","v":22.1},"days"]
[{"$f":"IF(COUNTIF($B$1:B495,TRUE)=COUNTIF($B$1:B494,TRUE),\"\",COUNTIF($B$1:B495,TRUE))","v":""},{"$f":"Worksheet!$D$13","v":false},{"$f":"IF(H495=1,RANDBETWEEN(1,Worksheet!$D$6),INT(J495))","v":30},{"$f":"IF(C495=1,\"year\",\"years\")","v":"years"},{"$f":"IF(H495=1,RANDBETWEEN(1,11),(J495-INT(J495))*12)","v":10},"months","=",{"$f":"IF(Worksheet!$D$7=1,1,IF(Worksheet!$D$7=2,2,RANDBETWEEN(1,2)))","v":1},null,{"$f":"IF(H495=1,C495+E495/12,RANDBETWEEN(1,Worksheet!$D$6)+CHOOSE(Worksheet!$D$10,RANDBETWEEN(1,9)/10,RANDBETWEEN(1,99)/100,RANDBETWEEN(1,999)/1000,RANDBETWEEN(1,9999)/10000,RANDBETWEEN(1,99999)/100000))","v":30.833333333333332},"years"]
[{"$f":"COUNTIF($B$1:B496,TRUE)","v":199},{"$f":"Worksheet!$B$12","v":true},{"$f":"IF(H496=1,RANDBETWEEN(1,Worksheet!$D$6),INT(J496))","v":16},{"$f":"IF(C496=1,\"hour\",\"hours\")","v":"hours"},{"$f":"IF(H496=1,IF(Worksheet!$D$10=1,RANDBETWEEN(1,9)*6,IF(Worksheet!$D$10=2,RANDBETWEEN(1,19)*3,RANDBETWEEN(1,59))),(J496-INT(J496))*60)","v":23.999999999999915},"minutes","=",{"$f":"IF(Worksheet!$D$7=1,1,IF(Worksheet!$D$7=2,2,RANDBETWEEN(1,2)))","v":2},null,{"$f":"IF(H496=1,C496+E496/60,RANDBETWEEN(1,Worksheet!$D$6)+CHOOSE(Worksheet!$D$10,RANDBETWEEN(1,9)/10,RANDBETWEEN(1,99)/100,RANDBETWEEN(1,999)/1000,RANDBETWEEN(1,9999)/10000,RANDBETWEEN(1,99999)/100000))","v":16.399999999999999},"hours"]
[{"$f":"IF(COUNTIF($B$1:B497,TRUE)=COUNTIF($B$1:B496,TRUE),\"\",COUNTIF($B$1:B497,TRUE))","v":200},{"$f":"Worksheet!$B$13","v":true},{"$f":"IF(H497=1,RANDBETWEEN(1,Worksheet!$D$6),INT(J497))","v":3},{"$f":"IF(C497=1,\"minute\",\"minutes\")","v":"minutes"},{"$f":"IF(H497=1,IF(Worksheet!$D$10=1,RANDBETWEEN(1,9)*6,IF(Worksheet!$D$10=2,RANDBETWEEN(1,19)*3,RANDBETWEEN(1,59))),(J497-INT(J497))*60)","v":36},"seconds","=",{"$f":"IF(Worksheet!$D$7=1,1,IF(Worksheet!$D$7=2,2,RANDBETWEEN(1,2)))","v":1},null,{"$f":"IF(H497=1,C497+E497/60,RANDBETWEEN(1,Worksheet!$D$6)+CHOOSE(Worksheet!$D$10,RANDBETWEEN(1,9)/10,RANDBETWEEN(1,99)/100,RANDBETWEEN(1,999)/1000,RANDBETWEEN(1,9999)/10000,RANDBETWEEN(1,99999)/100000))","v":3.6},"minutes"]
[{"$f":"IF(COUNTIF($B$1:B498,TRUE)=COUNTIF($B$1:B497,TRUE),\"\",COUNTIF($B$1:B498,TRUE))","v":""},{"$f":"Worksheet!$B$14","v":false},{"$f":"IF(H498=1,RANDBETWEEN(1,Worksheet!$D$6),INT(J498))","v":1},{"$f":"IF(C498=1,\"week\",\"weeks\")","v":"week"},{"$f":"IF(H498=1,RANDBETWEEN(1,6),(J498-INT(J498))*7)","v":4},"days","=",{"$f":"IF(Worksheet!$D$7=1,1,IF(Worksheet!$D$7=2,2,RANDBETWEEN(1,2)))","v":1},null,{"$f":"IF(H498=1,C498+E498/7,RANDBETWEEN(1,Worksheet!$D$6)+CHOOSE(Worksheet!$D$10,RANDBETWEEN(1,9)/10,RANDBETWEEN(1,99)/100,RANDBETWEEN(1,999)/1000,RANDBETWEEN(1,9999)/10000,RANDBETWEEN(1,99999)/100000))","v":1.5714285714285714},"week"]
[{"$f":"IF(COUNTIF($B$1:B499,TRUE)=COUNTIF($B$1:B498,TRUE),\"\",COUNTIF($B$1:B499,TRUE))","v":""},{"$f":"Worksheet!$D$12","v":false},{"$f":"IF(H499=1,RANDBETWEEN(1,Worksheet!$D$6),INT(J499))","v":13},{"$f":"IF(C499=1,\"day\",\"days\")","v":"days"},{"$f":"IF(H499=1,RANDBETWEEN(1,23),(J499-INT(J499))*24)","v":5},"hours","=",{"$f":"IF(Worksheet!$D$7=1,1,IF(Worksheet!$D$7=2,2,RANDBETWEEN(1,2)))","v":1},null,{"$f":"IF(H499=1,C499+E499/24,RANDBETWEEN(1,Worksheet!$D$6)+CHOOSE(Worksheet!$D$10,RANDBETWEEN(1,9)/10,RANDBETWEEN(1,99)/100,RANDBETWEEN(1,999)/1000,RANDBETWEEN(1,9999)/10000,RANDBETWEEN(1,99999)/100000))","v":13.208333333333334},"days"]
[{"$f":"IF(COUNTIF($B$1:B500,TRUE)=COUNTIF($B$1:B499,TRUE),\"\",COUNTIF($B$1:B500,TRUE))","v":""},{"$f":"Worksheet!$D$13","v":false},{"$f":"IF(H500=1,RANDBETWEEN(1,Worksheet!$D$6),INT(J500))","v":30},{"$f":"IF(C500=1,\"year\",\"years\")","v":"years"},{"$f":"IF(H500=1,RANDBETWEEN(1,11),(J500-INT(J500))*12)","v":3.6000000000000085},"months","=",{"$f":"IF(Worksheet!$D$7=1,1,IF(Worksheet!$D$7=2,2,RANDBETWEEN(1,2)))","v":2},null,{"$f":"IF(H500=1,C500+E500/12,RANDBETWEEN(1,Worksheet!$D$6)+CHOOSE(Worksheet!$D$10,RANDBETWEEN(1,9)/10,RANDBETWEEN(1,99)/100,RANDBETWEEN(1,999)/1000,RANDBETWEEN(1,9999)/10000,RANDBETWEEN(1,99999)/100000))","v":30.3},"years"]
[{"$f":"COUNTIF($B$1:B501,TRUE)","v":201},{"$f":"Worksheet!$B$12","v":true},{"$f":"IF(H501=1,RANDBETWEEN(1,Worksheet!$D$6),INT(J501))","v":21},{"$f":"IF(C501=1,\"hour\",\"hours\")","v":"hours"},{"$f":"IF(H501=1,IF(Worksheet!$D$10=1,RANDBETWEEN(1,9)*6,IF(Worksheet!$D$10=2,RANDBETWEEN(1,19)*3,RANDBETWEEN(1,59))),(J501-INT(J501))*60)","v":18},"minutes","=",{"$f":"IF(Worksheet!$D$7=1,1,IF(Worksheet!$D$7=2,2,RANDBETWEEN(1,2)))","v":1},null,{"$f":"IF(H501=1,C501+E501/60,RANDBETWEEN(1,Worksheet!$D$6)+CHOOSE(Worksheet!$D$10,RANDBETWEEN(1,9)/10,RANDBETWEEN(1,99)/100,RANDBETWEEN(1,999)/1000,RANDBETWEEN(1,9999)/10000,RANDBETWEEN(1,99999)/100000))","v":21.3},"hours"]
[{"$f":"IF(COUNTIF($B$1:B502,TRUE)=COUNTIF($B$1:B501,TRUE),\"\",COUNTIF($B$1:B502,TRUE))","v":202},{"$f":"Worksheet!$B$13","v":true},{"$f":"IF(H502=1,RANDBETWEEN(1,Worksheet!$D$6),INT(J502))","v":2},{"$f":"IF(C502=1,\"minute\",\"minutes\")","v":"minutes"},{"$f":"IF(H502=1,IF(Worksheet!$D$10=1,RANDBETWEEN(1,9)*6,IF(Worksheet!$D$10=2,RANDBETWEEN(1,19)*3,RANDBETWEEN(1,59))),(J502-INT(J502))*60)","v":17.999999999999989},"seconds","=",{"$f":"IF(Worksheet!$D$7=1,1,IF(Worksheet!$D$7=2,2,RANDBETWEEN(1,2)))","v":2},null,{"$f":"IF(H502=1,C502+E502/60,RANDBETWEEN(1,Worksheet!$D$6)+CHOOSE(Worksheet!$D$10,RANDBETWEEN(1,9)/10,RANDBETWEEN(1,99)/100,RANDBETWEEN(1,999)/1000,RANDBETWEEN(1,9999)/10000,RANDBETWEEN(1,99999)/100000))","v":2.2999999999999998},"minutes"]
[{"$f":"IF(COUNTIF($B$1:B503,TRUE)=COUNTIF($B$1:B502,TRUE),\"\",COUNTIF($B$1:B503,TRUE))","v":""},{"$f":"Worksheet!$B$14","v":false},{"$f":"IF(H503=1,RANDBETWEEN(1,Worksheet!$D$6),INT(J503))","v":17},{"$f":"IF(C503=1,\"week\",\"weeks\")","v":"weeks"},{"$f":"IF(H503=1,RANDBETWEEN(1,6),(J503-INT(J503))*7)","v":6},"days","=",{"$f":"IF(Worksheet!$D$7=1,1,IF(Worksheet!$D$7=2,2,RANDBETWEEN(1,2)))","v":1},null,{"$f":"IF(H503=1,C503+E503/7,RANDBETWEEN(1,Worksheet!$D$6)+CHOOSE(Worksheet!$D$10,RANDBETWEEN(1,9)/10,RANDBETWEEN(1,99)/100,RANDBETWEEN(1,999)/1000,RANDBETWEEN(1,9999)/10000,RANDBETWEEN(1,99999)/100000))","v":17.857142857142858},"weeks"]
[{"$f":"IF(COUNTIF($B$1:B504,TRUE)=COUNTIF($B$1:B503,TRUE),\"\",COUNTIF($B$1:B504,TRUE))","v":""},{"$f":"Worksheet!$D$12","v":false},{"$f":"IF(H504=1,RANDBETWEEN(1,Worksheet!$D$6),INT(J504))","v":20},{"$f":"IF(C504=1,\"day\",\"days\")","v":"days"},{"$f":"IF(H504=1,RANDBETWEEN(1,23),(J504-INT(J504))*24)","v":9},"hours","=",{"$f":"IF(Worksheet!$D$7=1,1,IF(Worksheet!$D$7=2,2,RANDBETWEEN(1,2)))","v":1},null,{"$f":"IF(H504=1,C504+E504/24,RANDBETWEEN(1,Worksheet!$D$6)+CHOOSE(Worksheet!$D$10,RANDBETWEEN(1,9)/10,RANDBETWEEN(1,99)/100,RANDBETWEEN(1,999)/1000,RANDBETWEEN(1,9999)/10000,RANDBETWEEN(1,99999)/100000))","v":20.375},"days"]
[{"$f":"IF(COUNTIF($B$1:B505,TRUE)=COUNTIF($B$1:B504,TRUE),\"\",COUNTIF($B$1:B505,TRUE))","v":""},{"$f":"Worksheet!$D$13","v":false},{"$f":"IF(H505=1,RANDBETWEEN(1,Worksheet!$D$6),INT(J505))","v":1},{"$f":"IF(C505=1,\"year\",\"years\")","v":"year"},{"$f":"IF(H505=1,RANDBETWEEN(1,11),(J505-INT(J505))*12)","v":10.799999999999999},"months","=",{"$f":"IF(Worksheet!$D$7=1,1,IF(Worksheet!$D$7=2,2,RANDBETWEEN(1,2)))","v":2},null,{"$f":"IF(H505=1,C505+E505/12,RANDBETWEEN(1,Worksheet!$D$6)+CHOOSE(Worksheet!$D$10,RANDBETWEEN(1,9)/10,RANDBETWEEN(1,99)/100,RANDBETWEEN(1,999)/1000,RANDBETWEEN(1,9999)/10000,RANDBETWEEN(1,99999)/100000))","v":1.9},"year"]
[{"$f":"COUNTIF($B$1:B506,TRUE)","v":203},{"$f":"Worksheet!$B$12","v":true},{"$f":"IF(H506=1,RANDBETWEEN(1,Worksheet!$D$6),INT(J506))","v":23},{"$f":"IF(C506=1,\"hour\",\"hours\")","v":"hours"},{"$f":"IF(H506=1,IF(Worksheet!$D$10=1,RANDBETWEEN(1,9)*6,IF(Worksheet!$D$10=2,RANDBETWEEN(1,19)*3,RANDBETWEEN(1,59))),(J506-INT(J506))*60)","v":12},"minutes","=",{"$f":"IF(Worksheet!$D$7=1,1,IF(Worksheet!$D$7=2,2,RANDBETWEEN(1,2)))","v":1},null,{"$f":"IF(H506=1,C506+E506/60,RANDBETWEEN(1,Worksheet!$D$6)+CHOOSE(Worksheet!$D$10,RANDBETWEEN(1,9)/10,RANDBETWEEN(1,99)/100,RANDBETWEEN(1,999)/1000,RANDBETWEEN(1,9999)/10000,RANDBETWEEN(1,99999)/100000))","v":23.2},"hours"]
[{"$f":"IF(COUNTIF($B$1:B507,TRUE)=COUNTIF($B$1:B506,TRUE),\"\",COUNTIF($B$1:B507,TRUE))","v":204},{"$f":"Worksheet!$B$13","v":true},{"$f":"IF(H507=1,RANDBETWEEN(1,Worksheet!$D$6),INT(J507))","v":19},{"$f":"IF(C507=1,\"minute\",\"minutes\")","v":"minutes"},{"$f":"IF(H507=1,IF(Worksheet!$D$10=1,RANDBETWEEN(1,9)*6,IF(Worksheet!$D$10=2,RANDBETWEEN(1,19)*3,RANDBETWEEN(1,59))),(J507-INT(J507))*60)","v":18.000000000000043},"seconds","=",{"$f":"IF(Worksheet!$D$7=1,1,IF(Worksheet!$D$7=2,2,RANDBETWEEN(1,2)))","v":2},null,{"$f":"IF(H507=1,C507+E507/60,RANDBETWEEN(1,Worksheet!$D$6)+CHOOSE(Worksheet!$D$10,RANDBETWEEN(1,9)/10,RANDBETWEEN(1,99)/100,RANDBETWEEN(1,999)/1000,RANDBETWEEN(1,9999)/10000,RANDBETWEEN(1,99999)/100000))","v":19.3},"minutes"]
[{"$f":"IF(COUNTIF($B$1:B508,TRUE)=COUNTIF($B$1:B507,TRUE),\"\",COUNTIF($B$1:B508,TRUE))","v":""},{"$f":"Worksheet!$B$14","v":false},{"$f":"IF(H508=1,RANDBETWEEN(1,Worksheet!$D$6),INT(J508))","v":15},{"$f":"IF(C508=1,\"week\",\"weeks\")","v":"weeks"},{"$f":"IF(H508=1,RANDBETWEEN(1,6),(J508-INT(J508))*7)","v":5},"days","=",{"$f":"IF(Worksheet!$D$7=1,1,IF(Worksheet!$D$7=2,2,RANDBETWEEN(1,2)))","v":1},null,{"$f":"IF(H508=1,C508+E508/7,RANDBETWEEN(1,Worksheet!$D$6)+CHOOSE(Worksheet!$D$10,RANDBETWEEN(1,9)/10,RANDBETWEEN(1,99)/100,RANDBETWEEN(1,999)/1000,RANDBETWEEN(1,9999)/10000,RANDBETWEEN(1,99999)/100000))","v":15.714285714285714},"weeks"]
[{"$f":"IF(COUNTIF($B$1:B509,TRUE)=COUNTIF($B$1:B508,TRUE),\"\",COUNTIF($B$1:B509,TRUE))","v":""},{"$f":"Worksheet!$D$12","v":false},{"$f":"IF(H509=1,RANDBETWEEN(1,Worksheet!$D$6),INT(J509))","v":22},{"$f":"IF(C509=1,\"day\",\"days\")","v":"days"},{"$f":"IF(H509=1,RANDBETWEEN(1,23),(J509-INT(J509))*24)","v":14.400000000000034},"hours","=",{"$f":"IF(Worksheet!$D$7=1,1,IF(Worksheet!$D$7=2,2,RANDBETWEEN(1,2)))","v":2},null,{"$f":"IF(H509=1,C509+E509/24,RANDBETWEEN(1,Worksheet!$D$6)+CHOOSE(Worksheet!$D$10,RANDBETWEEN(1,9)/10,RANDBETWEEN(1,99)/100,RANDBETWEEN(1,999)/1000,RANDBETWEEN(1,9999)/10000,RANDBETWEEN(1,99999)/100000))","v":22.6},"days"]
[{"$f":"IF(COUNTIF($B$1:B510,TRUE)=COUNTIF($B$1:B509,TRUE),\"\",COUNTIF($B$1:B510,TRUE))","v":""},{"$f":"Worksheet!$D$13","v":false},{"$f":"IF(H510=1,RANDBETWEEN(1,Worksheet!$D$6),INT(J510))","v":24},{"$f":"IF(C510=1,\"year\",\"years\")","v":"years"},{"$f":"IF(H510=1,RANDBETWEEN(1,11),(J510-INT(J510))*12)","v":6},"months","=",{"$f":"IF(Worksheet!$D$7=1,1,IF(Worksheet!$D$7=2,2,RANDBETWEEN(1,2)))","v":2},null,{"$f":"IF(H510=1,C510+E510/12,RANDBETWEEN(1,Worksheet!$D$6)+CHOOSE(Worksheet!$D$10,RANDBETWEEN(1,9)/10,RANDBETWEEN(1,99)/100,RANDBETWEEN(1,999)/1000,RANDBETWEEN(1,9999)/10000,RANDBETWEEN(1,99999)/100000))","v":24.5},"years"]
[{"$f":"COUNTIF($B$1:B511,TRUE)","v":205},{"$f":"Worksheet!$B$12","v":true},{"$f":"IF(H511=1,RANDBETWEEN(1,Worksheet!$D$6),INT(J511))","v":27},{"$f":"IF(C511=1,\"hour\",\"hours\")","v":"hours"},{"$f":"IF(H511=1,IF(Worksheet!$D$10=1,RANDBETWEEN(1,9)*6,IF(Worksheet!$D$10=2,RANDBETWEEN(1,19)*3,RANDBETWEEN(1,59))),(J511-INT(J511))*60)","v":6},"minutes","=",{"$f":"IF(Worksheet!$D$7=1,1,IF(Worksheet!$D$7=2,2,RANDBETWEEN(1,2)))","v":1},null,{"$f":"IF(H511=1,C511+E511/60,RANDBETWEEN(1,Worksheet!$D$6)+CHOOSE(Worksheet!$D$10,RANDBETWEEN(1,9)/10,RANDBETWEEN(1,99)/100,RANDBETWEEN(1,999)/1000,RANDBETWEEN(1,9999)/10000,RANDBETWEEN(1,99999)/100000))","v":27.1},"hours"]
[{"$f":"IF(COUNTIF($B$1:B512,TRUE)=COUNTIF($B$1:B511,TRUE),\"\",COUNTIF($B$1:B512,TRUE))","v":206},{"$f":"Worksheet!$B$13","v":true},{"$f":"IF(H512=1,RANDBETWEEN(1,Worksheet!$D$6),INT(J512))","v":2},{"$f":"IF(C512=1,\"minute\",\"minutes\")","v":"minutes"},{"$f":"IF(H512=1,IF(Worksheet!$D$10=1,RANDBETWEEN(1,9)*6,IF(Worksheet!$D$10=2,RANDBETWEEN(1,19)*3,RANDBETWEEN(1,59))),(J512-INT(J512))*60)","v":30},"seconds","=",{"$f":"IF(Worksheet!$D$7=1,1,IF(Worksheet!$D$7=2,2,RANDBETWEEN(1,2)))","v":2},null,{"$f":"IF(H512=1,C512+E512/60,RANDBETWEEN(1,Worksheet!$D$6)+CHOOSE(Worksheet!$D$10,RANDBETWEEN(1,9)/10,RANDBETWEEN(1,99)/100,RANDBETWEEN(1,999)/1000,RANDBETWEEN(1,9999)/10000,RANDBETWEEN(1,99999)/100000))","v":2.5},"minutes"]
[{"$f":"IF(COUNTIF($B$1:B513,TRUE)=COUNTIF($B$1:B512,TRUE),\"\",COUNTIF($B$1:B513,TRUE))","v":""},{"$f":"Worksheet!$B$14","v":false},{"$f":"IF(H513=1,RANDBETWEEN(1,Worksheet!$D$6),INT(J513))","v":16},{"$f":"IF(C513=1,\"week\",\"weeks\")","v":"weeks"},{"$f":"IF(H513=1,RANDBETWEEN(1,6),(J513-INT(J513))*7)","v":6},"days","=",{"$f":"IF(Worksheet!$D$7=1,1,IF(Worksheet!$D$7=2,2,RANDBETWEEN(1,2)))","v":1},null,{"$f":"IF(H513=1,C513+E513/7,RANDBETWEEN(1,Worksheet!$D$6)+CHOOSE(Worksheet!$D$10,RANDBETWEEN(1,9)/10,RANDBETWEEN(1,99)/100,RANDBETWEEN(1,999)/1000,RANDBETWEEN(1,9999)/10000,RANDBETWEEN(1,99999)/100000))","v":16.857142857142858},"weeks"]
[{"$f":"IF(COUNTIF($B$1:B514,TRUE)=COUNTIF($B$1:B513,TRUE),\"\",COUNTIF($B$1:B514,TRUE))","v":""},{"$f":"Worksheet!$D$12","v":false},{"$f":"IF(H514=1,RANDBETWEEN(1,Worksheet!$D$6),INT(J514))","v":5},{"$f":"IF(C514=1,\"day\",\"days\")","v":"days"},{"$f":"IF(H514=1,RANDBETWEEN(1,23),(J514-INT(J514))*24)","v":12},"hours","=",{"$f":"IF(Worksheet!$D$7=1,1,IF(Worksheet!$D$7=2,2,RANDBETWEEN(1,2)))","v":1},null,{"$f":"IF(H514=1,C514+E514/24,RANDBETWEEN(1,Worksheet!$D$6)+CHOOSE(Worksheet!$D$10,RANDBETWEEN(1,9)/10,RANDBETWEEN(1,99)/100,RANDBETWEEN(1,999)/1000,RANDBETWEEN(1,9999)/10000,RANDBETWEEN(1,99999)/100000))","v":5.5},"days"]
[{"$f":"IF(COUNTIF($B$1:B515,TRUE)=COUNTIF($B$1:B514,TRUE),\"\",COUNTIF($B$1:B515,TRUE))","v":""},{"$f":"Worksheet!$D$13","v":false},{"$f":"IF(H515=1,RANDBETWEEN(1,Worksheet!$D$6),INT(J515))","v":6},{"$f":"IF(C515=1,\"year\",\"years\")","v":"years"},{"$f":"IF(H515=1,RANDBETWEEN(1,11),(J515-INT(J515))*12)","v":2},"months","=",{"$f":"IF(Worksheet!$D$7=1,1,IF(Worksheet!$D$7=2,2,RANDBETWEEN(1,2)))","v":1},null,{"$f":"IF(H515=1,C515+E515/12,RANDBETWEEN(1,Worksheet!$D$6)+CHOOSE(Worksheet!$D$10,RANDBETWEEN(1,9)/10,RANDBETWEEN(1,99)/100,RANDBETWEEN(1,999)/1000,RANDBETWEEN(1,9999)/10000,RANDBETWEEN(1,99999)/100000))","v":6.166666666666667},"years"]
[{"$f":"COUNTIF($B$1:B516,TRUE)","v":207},{"$f":"Worksheet!$B$12","v":true},{"$f":"IF(H516=1,RANDBETWEEN(1,Worksheet!$D$6),INT(J516))","v":28},{"$f":"IF(C516=1,\"hour\",\"hours\")","v":"hours"},{"$f":"IF(H516=1,IF(Worksheet!$D$10=1,RANDBETWEEN(1,9)*6,IF(Worksheet!$D$10=2,RANDBETWEEN(1,19)*3,RANDBETWEEN(1,59))),(J516-INT(J516))*60)","v":41.999999999999957},"minutes","=",{"$f":"IF(Worksheet!$D$7=1,1,IF(Worksheet!$D$7=2,2,RANDBETWEEN(1,2)))","v":2},null,{"$f":"IF(H516=1,C516+E516/60,RANDBETWEEN(1,Worksheet!$D$6)+CHOOSE(Worksheet!$D$10,RANDBETWEEN(1,9)/10,RANDBETWEEN(1,99)/100,RANDBETWEEN(1,999)/1000,RANDBETWEEN(1,9999)/10000,RANDBETWEEN(1,99999)/100000))","v":28.7},"hours"]
[{"$f":"IF(COUNTIF($B$1:B517,TRUE)=COUNTIF($B$1:B516,TRUE),\"\",COUNTIF($B$1:B517,TRUE))","v":208},{"$f":"Worksheet!$B$13","v":true},{"$f":"IF(H517=1,RANDBETWEEN(1,Worksheet!$D$6),INT(J517))","v":29},{"$f":"IF(C517=1,\"minute\",\"minutes\")","v":"minutes"},{"$f":"IF(H517=1,IF(Worksheet!$D$10=1,RANDBETWEEN(1,9)*6,IF(Worksheet!$D$10=2,RANDBETWEEN(1,19)*3,RANDBETWEEN(1,59))),(J517-INT(J517))*60)","v":36.000000000000085},"seconds","=",{"$f":"IF(Worksheet!$D$7=1,1,IF(Worksheet!$D$7=2,2,RANDBETWEEN(1,2)))","v":2},null,{"$f":"IF(H517=1,C517+E517/60,RANDBETWEEN(1,Worksheet!$D$6)+CHOOSE(Worksheet!$D$10,RANDBETWEEN(1,9)/10,RANDBETWEEN(1,99)/100,RANDBETWEEN(1,999)/1000,RANDBETWEEN(1,9999)/10000,RANDBETWEEN(1,99999)/100000))","v":29.6},"minutes"]
[{"$f":"IF(COUNTIF($B$1:B518,TRUE)=COUNTIF($B$1:B517,TRUE),\"\",COUNTIF($B$1:B518,TRUE))","v":""},{"$f":"Worksheet!$B$14","v":false},{"$f":"IF(H518=1,RANDBETWEEN(1,Worksheet!$D$6),INT(J518))","v":29},{"$f":"IF(C518=1,\"week\",\"weeks\")","v":"weeks"},{"$f":"IF(H518=1,RANDBETWEEN(1,6),(J518-INT(J518))*7)","v":2.7999999999999901},"days","=",{"$f":"IF(Worksheet!$D$7=1,1,IF(Worksheet!$D$7=2,2,RANDBETWEEN(1,2)))","v":2},null,{"$f":"IF(H518=1,C518+E518/7,RANDBETWEEN(1,Worksheet!$D$6)+CHOOSE(Worksheet!$D$10,RANDBETWEEN(1,9)/10,RANDBETWEEN(1,99)/100,RANDBETWEEN(1,999)/1000,RANDBETWEEN(1,9999)/10000,RANDBETWEEN(1,99999)/100000))","v":29.4},"weeks"]
[{"$f":"IF(COUNTIF($B$1:B519,TRUE)=COUNTIF($B$1:B518,TRUE),\"\",COUNTIF($B$1:B519,TRUE))","v":""},{"$f":"Worksheet!$D$12","v":false},{"$f":"IF(H519=1,RANDBETWEEN(1,Worksheet!$D$6),INT(J519))","v":5},{"$f":"IF(C519=1,\"day\",\"days\")","v":"days"},{"$f":"IF(H519=1,RANDBETWEEN(1,23),(J519-INT(J519))*24)","v":7},"hours","=",{"$f":"IF(Worksheet!$D$7=1,1,IF(Worksheet!$D$7=2,2,RANDBETWEEN(1,2)))","v":1},null,{"$f":"IF(H519=1,C519+E519/24,RANDBETWEEN(1,Worksheet!$D$6)+CHOOSE(Worksheet!$D$10,RANDBETWEEN(1,9)/10,RANDBETWEEN(1,99)/100,RANDBETWEEN(1,999)/1000,RANDBETWEEN(1,9999)/10000,RANDBETWEEN(1,99999)/100000))","v":5.291666666666667},"days"]
[{"$f":"IF(COUNTIF($B$1:B520,TRUE)=COUNTIF($B$1:B519,TRUE),\"\",COUNTIF($B$1:B520,TRUE))","v":""},{"$f":"Worksheet!$D$13","v":false},{"$f":"IF(H520=1,RANDBETWEEN(1,Worksheet!$D$6),INT(J520))","v":15},{"$f":"IF(C520=1,\"year\",\"years\")","v":"years"},{"$f":"IF(H520=1,RANDBETWEEN(1,11),(J520-INT(J520))*12)","v":11},"months","=",{"$f":"IF(Worksheet!$D$7=1,1,IF(Worksheet!$D$7=2,2,RANDBETWEEN(1,2)))","v":1},null,{"$f":"IF(H520=1,C520+E520/12,RANDBETWEEN(1,Worksheet!$D$6)+CHOOSE(Worksheet!$D$10,RANDBETWEEN(1,9)/10,RANDBETWEEN(1,99)/100,RANDBETWEEN(1,999)/1000,RANDBETWEEN(1,9999)/10000,RANDBETWEEN(1,99999)/100000))","v":15.916666666666666},"years"]
[{"$f":"COUNTIF($B$1:B521,TRUE)","v":209},{"$f":"Worksheet!$B$12","v":true},{"$f":"IF(H521=1,RANDBETWEEN(1,Worksheet!$D$6),INT(J521))","v":10},{"$f":"IF(C521=1,\"hour\",\"hours\")","v":"hours"},{"$f":"IF(H521=1,IF(Worksheet!$D$10=1,RANDBETWEEN(1,9)*6,IF(Worksheet!$D$10=2,RANDBETWEEN(1,19)*3,RANDBETWEEN(1,59))),(J521-INT(J521))*60)","v":5.9999999999999787},"minutes","=",{"$f":"IF(Worksheet!$D$7=1,1,IF(Worksheet!$D$7=2,2,RANDBETWEEN(1,2)))","v":2},null,{"$f":"IF(H521=1,C521+E521/60,RANDBETWEEN(1,Worksheet!$D$6)+CHOOSE(Worksheet!$D$10,RANDBETWEEN(1,9)/10,RANDBETWEEN(1,99)/100,RANDBETWEEN(1,999)/1000,RANDBETWEEN(1,9999)/10000,RANDBETWEEN(1,99999)/100000))","v":10.1},"hours"]
[{"$f":"IF(COUNTIF($B$1:B522,TRUE)=COUNTIF($B$1:B521,TRUE),\"\",COUNTIF($B$1:B522,TRUE))","v":210},{"$f":"Worksheet!$B$13","v":true},{"$f":"IF(H522=1,RANDBETWEEN(1,Worksheet!$D$6),INT(J522))","v":13},{"$f":"IF(C522=1,\"minute\",\"minutes\")","v":"minutes"},{"$f":"IF(H522=1,IF(Worksheet!$D$10=1,RANDBETWEEN(1,9)*6,IF(Worksheet!$D$10=2,RANDBETWEEN(1,19)*3,RANDBETWEEN(1,59))),(J522-INT(J522))*60)","v":48.000000000000043},"seconds","=",{"$f":"IF(Worksheet!$D$7=1,1,IF(Worksheet!$D$7=2,2,RANDBETWEEN(1,2)))","v":2},null,{"$f":"IF(H522=1,C522+E522/60,RANDBETWEEN(1,Worksheet!$D$6)+CHOOSE(Worksheet!$D$10,RANDBETWEEN(1,9)/10,RANDBETWEEN(1,99)/100,RANDBETWEEN(1,999)/1000,RANDBETWEEN(1,9999)/10000,RANDBETWEEN(1,99999)/100000))","v":13.8},"minutes"]
[{"$f":"IF(COUNTIF($B$1:B523,TRUE)=COUNTIF($B$1:B522,TRUE),\"\",COUNTIF($B$1:B523,TRUE))","v":""},{"$f":"Worksheet!$B$14","v":false},{"$f":"IF(H523=1,RANDBETWEEN(1,Worksheet!$D$6),INT(J523))","v":7},{"$f":"IF(C523=1,\"week\",\"weeks\")","v":"weeks"},{"$f":"IF(H523=1,RANDBETWEEN(1,6),(J523-INT(J523))*7)","v":5.5999999999999988},"days","=",{"$f":"IF(Worksheet!$D$7=1,1,IF(Worksheet!$D$7=2,2,RANDBETWEEN(1,2)))","v":2},null,{"$f":"IF(H523=1,C523+E523/7,RANDBETWEEN(1,Worksheet!$D$6)+CHOOSE(Worksheet!$D$10,RANDBETWEEN(1,9)/10,RANDBETWEEN(1,99)/100,RANDBETWEEN(1,999)/1000,RANDBETWEEN(1,9999)/10000,RANDBETWEEN(1,99999)/100000))","v":7.8},"weeks"]
[{"$f":"IF(COUNTIF($B$1:B524,TRUE)=COUNTIF($B$1:B523,TRUE),\"\",COUNTIF($B$1:B524,TRUE))","v":""},{"$f":"Worksheet!$D$12","v":false},{"$f":"IF(H524=1,RANDBETWEEN(1,Worksheet!$D$6),INT(J524))","v":7},{"$f":"IF(C524=1,\"day\",\"days\")","v":"days"},{"$f":"IF(H524=1,RANDBETWEEN(1,23),(J524-INT(J524))*24)","v":4.8000000000000043},"hours","=",{"$f":"IF(Worksheet!$D$7=1,1,IF(Worksheet!$D$7=2,2,RANDBETWEEN(1,2)))","v":2},null,{"$f":"IF(H524=1,C524+E524/24,RANDBETWEEN(1,Worksheet!$D$6)+CHOOSE(Worksheet!$D$10,RANDBETWEEN(1,9)/10,RANDBETWEEN(1,99)/100,RANDBETWEEN(1,999)/1000,RANDBETWEEN(1,9999)/10000,RANDBETWEEN(1,99999)/100000))","v":7.2},"days"]
[{"$f":"IF(COUNTIF($B$1:B525,TRUE)=COUNTIF($B$1:B524,TRUE),\"\",COUNTIF($B$1:B525,TRUE))","v":""},{"$f":"Worksheet!$D$13","v":false},{"$f":"IF(H525=1,RANDBETWEEN(1,Worksheet!$D$6),INT(J525))","v":12},{"$f":"IF(C525=1,\"year\",\"years\")","v":"years"},{"$f":"IF(H525=1,RANDBETWEEN(1,11),(J525-INT(J525))*12)","v":3.6000000000000085},"months","=",{"$f":"IF(Worksheet!$D$7=1,1,IF(Worksheet!$D$7=2,2,RANDBETWEEN(1,2)))","v":2},null,{"$f":"IF(H525=1,C525+E525/12,RANDBETWEEN(1,Worksheet!$D$6)+CHOOSE(Worksheet!$D$10,RANDBETWEEN(1,9)/10,RANDBETWEEN(1,99)/100,RANDBETWEEN(1,999)/1000,RANDBETWEEN(1,9999)/10000,RANDBETWEEN(1,99999)/100000))","v":12.3},"years"]
[{"$f":"COUNTIF($B$1:B526,TRUE)","v":211},{"$f":"Worksheet!$B$12","v":true},{"$f":"IF(H526=1,RANDBETWEEN(1,Worksheet!$D$6),INT(J526))","v":27},{"$f":"IF(C526=1,\"hour\",\"hours\")","v":"hours"},{"$f":"IF(H526=1,IF(Worksheet!$D$10=1,RANDBETWEEN(1,9)*6,IF(Worksheet!$D$10=2,RANDBETWEEN(1,19)*3,RANDBETWEEN(1,59))),(J526-INT(J526))*60)","v":6.0000000000000853},"minutes","=",{"$f":"IF(Worksheet!$D$7=1,1,IF(Worksheet!$D$7=2,2,RANDBETWEEN(1,2)))","v":2},null,{"$f":"IF(H526=1,C526+E526/60,RANDBETWEEN(1,Worksheet!$D$6)+CHOOSE(Worksheet!$D$10,RANDBETWEEN(1,9)/10,RANDBETWEEN(1,99)/100,RANDBETWEEN(1,999)/1000,RANDBETWEEN(1,9999)/10000,RANDBETWEEN(1,99999)/100000))","v":27.1},"hours"]
[{"$f":"IF(COUNTIF($B$1:B527,TRUE)=COUNTIF($B$1:B526,TRUE),\"\",COUNTIF($B$1:B527,TRUE))","v":212},{"$f":"Worksheet!$B$13","v":true},{"$f":"IF(H527=1,RANDBETWEEN(1,Worksheet!$D$6),INT(J527))","v":21},{"$f":"IF(C527=1,\"minute\",\"minutes\")","v":"minutes"},{"$f":"IF(H527=1,IF(Worksheet!$D$10=1,RANDBETWEEN(1,9)*6,IF(Worksheet!$D$10=2,RANDBETWEEN(1,19)*3,RANDBETWEEN(1,59))),(J527-INT(J527))*60)","v":6.0000000000000853},"seconds","=",{"$f":"IF(Worksheet!$D$7=1,1,IF(Worksheet!$D$7=2,2,RANDBETWEEN(1,2)))","v":2},null,{"$f":"IF(H527=1,C527+E527/60,RANDBETWEEN(1,Worksheet!$D$6)+CHOOSE(Worksheet!$D$10,RANDBETWEEN(1,9)/10,RANDBETWEEN(1,99)/100,RANDBETWEEN(1,999)/1000,RANDBETWEEN(1,9999)/10000,RANDBETWEEN(1,99999)/100000))","v":21.1},"minutes"]
[{"$f":"IF(COUNTIF($B$1:B528,TRUE)=COUNTIF($B$1:B527,TRUE),\"\",COUNTIF($B$1:B528,TRUE))","v":""},{"$f":"Worksheet!$B$14","v":false},{"$f":"IF(H528=1,RANDBETWEEN(1,Worksheet!$D$6),INT(J528))","v":14},{"$f":"IF(C528=1,\"week\",\"weeks\")","v":"weeks"},{"$f":"IF(H528=1,RANDBETWEEN(1,6),(J528-INT(J528))*7)","v":1},"days","=",{"$f":"IF(Worksheet!$D$7=1,1,IF(Worksheet!$D$7=2,2,RANDBETWEEN(1,2)))","v":1},null,{"$f":"IF(H528=1,C528+E528/7,RANDBETWEEN(1,Worksheet!$D$6)+CHOOSE(Worksheet!$D$10,RANDBETWEEN(1,9)/10,RANDBETWEEN(1,99)/100,RANDBETWEEN(1,999)/1000,RANDBETWEEN(1,9999)/10000,RANDBETWEEN(1,99999)/100000))","v":14.142857142857142},"weeks"]
[{"$f":"IF(COUNTIF($B$1:B529,TRUE)=COUNTIF($B$1:B528,TRUE),\"\",COUNTIF($B$1:B529,TRUE))","v":""},{"$f":"Worksheet!$D$12","v":false},{"$f":"IF(H529=1,RANDBETWEEN(1,Worksheet!$D$6),INT(J529))","v":25},{"$f":"IF(C529=1,\"day\",\"days\")","v":"days"},{"$f":"IF(H529=1,RANDBETWEEN(1,23),(J529-INT(J529))*24)","v":9.5999999999999659},"hours","=",{"$f":"IF(Worksheet!$D$7=1,1,IF(Worksheet!$D$7=2,2,RANDBETWEEN(1,2)))","v":2},null,{"$f":"IF(H529=1,C529+E529/24,RANDBETWEEN(1,Worksheet!$D$6)+CHOOSE(Worksheet!$D$10,RANDBETWEEN(1,9)/10,RANDBETWEEN(1,99)/100,RANDBETWEEN(1,999)/1000,RANDBETWEEN(1,9999)/10000,RANDBETWEEN(1,99999)/100000))","v":25.4},"days"]
[{"$f":"IF(COUNTIF($B$1:B530,TRUE)=COUNTIF($B$1:B529,TRUE),\"\",COUNTIF($B$1:B530,TRUE))","v":""},{"$f":"Worksheet!$D$13","v":false},{"$f":"IF(H530=1,RANDBETWEEN(1,Worksheet!$D$6),INT(J530))","v":18},{"$f":"IF(C530=1,\"year\",\"years\")","v":"years"},{"$f":"IF(H530=1,RANDBETWEEN(1,11),(J530-INT(J530))*12)","v":7},"months","=",{"$f":"IF(Worksheet!$D$7=1,1,IF(Worksheet!$D$7=2,2,RANDBETWEEN(1,2)))","v":1},null,{"$f":"IF(H530=1,C530+E530/12,RANDBETWEEN(1,Worksheet!$D$6)+CHOOSE(Worksheet!$D$10,RANDBETWEEN(1,9)/10,RANDBETWEEN(1,99)/100,RANDBETWEEN(1,999)/1000,RANDBETWEEN(1,9999)/10000,RANDBETWEEN(1,99999)/100000))","v":18.583333333333332},"years"]
[{"$f":"COUNTIF($B$1:B531,TRUE)","v":213},{"$f":"Worksheet!$B$12","v":true},{"$f":"IF(H531=1,RANDBETWEEN(1,Worksheet!$D$6),INT(J531))","v":5},{"$f":"IF(C531=1,\"hour\",\"hours\")","v":"hours"},{"$f":"IF(H531=1,IF(Worksheet!$D$10=1,RANDBETWEEN(1,9)*6,IF(Worksheet!$D$10=2,RANDBETWEEN(1,19)*3,RANDBETWEEN(1,59))),(J531-INT(J531))*60)","v":35.999999999999979},"minutes","=",{"$f":"IF(Worksheet!$D$7=1,1,IF(Worksheet!$D$7=2,2,RANDBETWEEN(1,2)))","v":2},null,{"$f":"IF(H531=1,C531+E531/60,RANDBETWEEN(1,Worksheet!$D$6)+CHOOSE(Worksheet!$D$10,RANDBETWEEN(1,9)/10,RANDBETWEEN(1,99)/100,RANDBETWEEN(1,999)/1000,RANDBETWEEN(1,9999)/10000,RANDBETWEEN(1,99999)/100000))","v":5.6},"hours"]
[{"$f":"IF(COUNTIF($B$1:B532,TRUE)=COUNTIF($B$1:B531,TRUE),\"\",COUNTIF($B$1:B532,TRUE))","v":214},{"$f":"Worksheet!$B$13","v":true},{"$f":"IF(H532=1,RANDBETWEEN(1,Worksheet!$D$6),INT(J532))","v":22},{"$f":"IF(C532=1,\"minute\",\"minutes\")","v":"minutes"},{"$f":"IF(H532=1,IF(Worksheet!$D$10=1,RANDBETWEEN(1,9)*6,IF(Worksheet!$D$10=2,RANDBETWEEN(1,19)*3,RANDBETWEEN(1,59))),(J532-INT(J532))*60)","v":30},"seconds","=",{"$f":"IF(Worksheet!$D$7=1,1,IF(Worksheet!$D$7=2,2,RANDBETWEEN(1,2)))","v":2},null,{"$f":"IF(H532=1,C532+E532/60,RANDBETWEEN(1,Worksheet!$D$6)+CHOOSE(Worksheet!$D$10,RANDBETWEEN(1,9)/10,RANDBETWEEN(1,99)/100,RANDBETWEEN(1,999)/1000,RANDBETWEEN(1,9999)/10000,RANDBETWEEN(1,99999)/100000))","v":22.5},"minutes"]
[{"$f":"IF(COUNTIF($B$1:B533,TRUE)=COUNTIF($B$1:B532,TRUE),\"\",COUNTIF($B$1:B533,TRUE))","v":""},{"$f":"Worksheet!$B$14","v":false},{"$f":"IF(H533=1,RANDBETWEEN(1,Worksheet!$D$6),INT(J533))","v":6},{"$f":"IF(C533=1,\"week\",\"weeks\")","v":"weeks"},{"$f":"IF(H533=1,RANDBETWEEN(1,6),(J533-INT(J533))*7)","v":6.3000000000000025},"days","=",{"$f":"IF(Worksheet!$D$7=1,1,IF(Worksheet!$D$7=2,2,RANDBETWEEN(1,2)))","v":2},null,{"$f":"IF(H533=1,C533+E533/7,RANDBETWEEN(1,Worksheet!$D$6)+CHOOSE(Worksheet!$D$10,RANDBETWEEN(1,9)/10,RANDBETWEEN(1,99)/100,RANDBETWEEN(1,999)/1000,RANDBETWEEN(1,9999)/10000,RANDBETWEEN(1,99999)/100000))","v":6.9},"weeks"]
[{"$f":"IF(COUNTIF($B$1:B534,TRUE)=COUNTIF($B$1:B533,TRUE),\"\",COUNTIF($B$1:B534,TRUE))","v":""},{"$f":"Worksheet!$D$12","v":false},{"$f":"IF(H534=1,RANDBETWEEN(1,Worksheet!$D$6),INT(J534))","v":19},{"$f":"IF(C534=1,\"day\",\"days\")","v":"days"},{"$f":"IF(H534=1,RANDBETWEEN(1,23),(J534-INT(J534))*24)","v":19.200000000000017},"hours","=",{"$f":"IF(Worksheet!$D$7=1,1,IF(Worksheet!$D$7=2,2,RANDBETWEEN(1,2)))","v":2},null,{"$f":"IF(H534=1,C534+E534/24,RANDBETWEEN(1,Worksheet!$D$6)+CHOOSE(Worksheet!$D$10,RANDBETWEEN(1,9)/10,RANDBETWEEN(1,99)/100,RANDBETWEEN(1,999)/1000,RANDBETWEEN(1,9999)/10000,RANDBETWEEN(1,99999)/100000))","v":19.8},"days"]
[{"$f":"IF(COUNTIF($B$1:B535,TRUE)=COUNTIF($B$1:B534,TRUE),\"\",COUNTIF($B$1:B535,TRUE))","v":""},{"$f":"Worksheet!$D$13","v":false},{"$f":"IF(H535=1,RANDBETWEEN(1,Worksheet!$D$6),INT(J535))","v":11},{"$f":"IF(C535=1,\"year\",\"years\")","v":"years"},{"$f":"IF(H535=1,RANDBETWEEN(1,11),(J535-INT(J535))*12)","v":3.6000000000000085},"months","=",{"$f":"IF(Worksheet!$D$7=1,1,IF(Worksheet!$D$7=2,2,RANDBETWEEN(1,2)))","v":2},null,{"$f":"IF(H535=1,C535+E535/12,RANDBETWEEN(1,Worksheet!$D$6)+CHOOSE(Worksheet!$D$10,RANDBETWEEN(1,9)/10,RANDBETWEEN(1,99)/100,RANDBETWEEN(1,999)/1000,RANDBETWEEN(1,9999)/10000,RANDBETWEEN(1,99999)/100000))","v":11.3},"years"]
[{"$f":"COUNTIF($B$1:B536,TRUE)","v":215},{"$f":"Worksheet!$B$12","v":true},{"$f":"IF(H536=1,RANDBETWEEN(1,Worksheet!$D$6),INT(J536))","v":23},{"$f":"IF(C536=1,\"hour\",\"hours\")","v":"hours"},{"$f":"IF(H536=1,IF(Worksheet!$D$10=1,RANDBETWEEN(1,9)*6,IF(Worksheet!$D$10=2,RANDBETWEEN(1,19)*3,RANDBETWEEN(1,59))),(J536-INT(J536))*60)","v":36.000000000000085},"minutes","=",{"$f":"IF(Worksheet!$D$7=1,1,IF(Worksheet!$D$7=2,2,RANDBETWEEN(1,2)))","v":2},null,{"$f":"IF(H536=1,C536+E536/60,RANDBETWEEN(1,Worksheet!$D$6)+CHOOSE(Worksheet!$D$10,RANDBETWEEN(1,9)/10,RANDBETWEEN(1,99)/100,RANDBETWEEN(1,999)/1000,RANDBETWEEN(1,9999)/10000,RANDBETWEEN(1,99999)/100000))","v":23.6},"hours"]
[{"$f":"IF(COUNTIF($B$1:B537,TRUE)=COUNTIF($B$1:B536,TRUE),\"\",COUNTIF($B$1:B537,TRUE))","v":216},{"$f":"Worksheet!$B$13","v":true},{"$f":"IF(H537=1,RANDBETWEEN(1,Worksheet!$D$6),INT(J537))","v":2},{"$f":"IF(C537=1,\"minute\",\"minutes\")","v":"minutes"},{"$f":"IF(H537=1,IF(Worksheet!$D$10=1,RANDBETWEEN(1,9)*6,IF(Worksheet!$D$10=2,RANDBETWEEN(1,19)*3,RANDBETWEEN(1,59))),(J537-INT(J537))*60)","v":17.999999999999989},"seconds","=",{"$f":"IF(Worksheet!$D$7=1,1,IF(Worksheet!$D$7=2,2,RANDBETWEEN(1,2)))","v":2},null,{"$f":"IF(H537=1,C537+E537/60,RANDBETWEEN(1,Worksheet!$D$6)+CHOOSE(Worksheet!$D$10,RANDBETWEEN(1,9)/10,RANDBETWEEN(1,99)/100,RANDBETWEEN(1,999)/1000,RANDBETWEEN(1,9999)/10000,RANDBETWEEN(1,99999)/100000))","v":2.2999999999999998},"minutes"]
[{"$f":"IF(COUNTIF($B$1:B538,TRUE)=COUNTIF($B$1:B537,TRUE),\"\",COUNTIF($B$1:B538,TRUE))","v":""},{"$f":"Worksheet!$B$14","v":false},{"$f":"IF(H538=1,RANDBETWEEN(1,Worksheet!$D$6),INT(J538))","v":16},{"$f":"IF(C538=1,\"week\",\"weeks\")","v":"weeks"},{"$f":"IF(H538=1,RANDBETWEEN(1,6),(J538-INT(J538))*7)","v":6},"days","=",{"$f":"IF(Worksheet!$D$7=1,1,IF(Worksheet!$D$7=2,2,RANDBETWEEN(1,2)))","v":1},null,{"$f":"IF(H538=1,C538+E538/7,RANDBETWEEN(1,Worksheet!$D$6)+CHOOSE(Worksheet!$D$10,RANDBETWEEN(1,9)/10,RANDBETWEEN(1,99)/100,RANDBETWEEN(1,999)/1000,RANDBETWEEN(1,9999)/10000,RANDBETWEEN(1,99999)/100000))","v":16.857142857142858},"weeks"]
[{"$f":"IF(COUNTIF($B$1:B539,TRUE)=COUNTIF($B$1:B538,TRUE),\"\",COUNTIF($B$1:B539,TRUE))","v":""},{"$f":"Worksheet!$D$12","v":false},{"$f":"IF(H539=1,RANDBETWEEN(1,Worksheet!$D$6),INT(J539))","v":7},{"$f":"IF(C539=1,\"day\",\"days\")","v":"days"},{"$f":"IF(H539=1,RANDBETWEEN(1,23),(J539-INT(J539))*24)","v":5},"hours","=",{"$f":"IF(Worksheet!$D$7=1,1,IF(Worksheet!$D$7=2,2,RANDBETWEEN(1,2)))","v":1},null,{"$f":"IF(H539=1,C539+E539/24,RANDBETWEEN(1,Worksheet!$D$6)+CHOOSE(Worksheet!$D$10,RANDBETWEEN(1,9)/10,RANDBETWEEN(1,99)/100,RANDBETWEEN(1,999)/1000,RANDBETWEEN(1,9999)/10000,RANDBETWEEN(1,99999)/100000))","v":7.208333333333333},"days"]
[{"$f":"IF(COUNTIF($B$1:B540,TRUE)=COUNTIF($B$1:B539,TRUE),\"\",COUNTIF($B$1:B540,TRUE))","v":""},{"$f":"Worksheet!$D$13","v":false},{"$f":"IF(H540=1,RANDBETWEEN(1,Worksheet!$D$6),INT(J540))","v":28},{"$f":"IF(C540=1,\"year\",\"years\")","v":"years"},{"$f":"IF(H540=1,RANDBETWEEN(1,11),(J540-INT(J540))*12)","v":4},"months","=",{"$f":"IF(Worksheet!$D$7=1,1,IF(Worksheet!$D$7=2,2,RANDBETWEEN(1,2)))","v":1},null,{"$f":"IF(H540=1,C540+E540/12,RANDBETWEEN(1,Worksheet!$D$6)+CHOOSE(Worksheet!$D$10,RANDBETWEEN(1,9)/10,RANDBETWEEN(1,99)/100,RANDBETWEEN(1,999)/1000,RANDBETWEEN(1,9999)/10000,RANDBETWEEN(1,99999)/100000))","v":28.333333333333332},"years"]
[{"$f":"COUNTIF($B$1:B541,TRUE)","v":217},{"$f":"Worksheet!$B$12","v":true},{"$f":"IF(H541=1,RANDBETWEEN(1,Worksheet!$D$6),INT(J541))","v":4},{"$f":"IF(C541=1,\"hour\",\"hours\")","v":"hours"},{"$f":"IF(H541=1,IF(Worksheet!$D$10=1,RANDBETWEEN(1,9)*6,IF(Worksheet!$D$10=2,RANDBETWEEN(1,19)*3,RANDBETWEEN(1,59))),(J541-INT(J541))*60)","v":6},"minutes","=",{"$f":"IF(Worksheet!$D$7=1,1,IF(Worksheet!$D$7=2,2,RANDBETWEEN(1,2)))","v":1},null,{"$f":"IF(H541=1,C541+E541/60,RANDBETWEEN(1,Worksheet!$D$6)+CHOOSE(Worksheet!$D$10,RANDBETWEEN(1,9)/10,RANDBETWEEN(1,99)/100,RANDBETWEEN(1,999)/1000,RANDBETWEEN(1,9999)/10000,RANDBETWEEN(1,99999)/100000))","v":4.0999999999999996},"hours"]
[{"$f":"IF(COUNTIF($B$1:B542,TRUE)=COUNTIF($B$1:B541,TRUE),\"\",COUNTIF($B$1:B542,TRUE))","v":218},{"$f":"Worksheet!$B$13","v":true},{"$f":"IF(H542=1,RANDBETWEEN(1,Worksheet!$D$6),INT(J542))","v":17},{"$f":"IF(C542=1,\"minute\",\"minutes\")","v":"minutes"},{"$f":"IF(H542=1,IF(Worksheet!$D$10=1,RANDBETWEEN(1,9)*6,IF(Worksheet!$D$10=2,RANDBETWEEN(1,19)*3,RANDBETWEEN(1,59))),(J542-INT(J542))*60)","v":18},"seconds","=",{"$f":"IF(Worksheet!$D$7=1,1,IF(Worksheet!$D$7=2,2,RANDBETWEEN(1,2)))","v":1},null,{"$f":"IF(H542=1,C542+E542/60,RANDBETWEEN(1,Worksheet!$D$6)+CHOOSE(Worksheet!$D$10,RANDBETWEEN(1,9)/10,RANDBETWEEN(1,99)/100,RANDBETWEEN(1,999)/1000,RANDBETWEEN(1,9999)/10000,RANDBETWEEN(1,99999)/100000))","v":17.3},"minutes"]
[{"$f":"IF(COUNTIF($B$1:B543,TRUE)=COUNTIF($B$1:B542,TRUE),\"\",COUNTIF($B$1:B543,TRUE))","v":""},{"$f":"Worksheet!$B$14","v":false},{"$f":"IF(H543=1,RANDBETWEEN(1,Worksheet!$D$6),INT(J543))","v":11},{"$f":"IF(C543=1,\"week\",\"weeks\")","v":"weeks"},{"$f":"IF(H543=1,RANDBETWEEN(1,6),(J543-INT(J543))*7)","v":3},"days","=",{"$f":"IF(Worksheet!$D$7=1,1,IF(Worksheet!$D$7=2,2,RANDBETWEEN(1,2)))","v":1},null,{"$f":"IF(H543=1,C543+E543/7,RANDBETWEEN(1,Worksheet!$D$6)+CHOOSE(Worksheet!$D$10,RANDBETWEEN(1,9)/10,RANDBETWEEN(1,99)/100,RANDBETWEEN(1,999)/1000,RANDBETWEEN(1,9999)/10000,RANDBETWEEN(1,99999)/100000))","v":11.428571428571429},{"$f":"D543","v":"weeks"}]
[{"$f":"IF(COUNTIF($B$1:B544,TRUE)=COUNTIF($B$1:B543,TRUE),\"\",COUNTIF($B$1:B544,TRUE))","v":""},{"$f":"Worksheet!$D$12","v":false},{"$f":"IF(H544=1,RANDBETWEEN(1,Worksheet!$D$6),INT(J544))","v":24},{"$f":"IF(C544=1,\"day\",\"days\")","v":"days"},{"$f":"IF(H544=1,RANDBETWEEN(1,23),(J544-INT(J544))*24)","v":9.5999999999999659},"hours","=",{"$f":"IF(Worksheet!$D$7=1,1,IF(Worksheet!$D$7=2,2,RANDBETWEEN(1,2)))","v":2},null,{"$f":"IF(H544=1,C544+E544/24,RANDBETWEEN(1,Worksheet!$D$6)+CHOOSE(Worksheet!$D$10,RANDBETWEEN(1,9)/10,RANDBETWEEN(1,99)/100,RANDBETWEEN(1,999)/1000,RANDBETWEEN(1,9999)/10000,RANDBETWEEN(1,99999)/100000))","v":24.4},"days"]
[{"$f":"IF(COUNTIF($B$1:B545,TRUE)=COUNTIF($B$1:B544,TRUE),\"\",COUNTIF($B$1:B545,TRUE))","v":""},{"$f":"Worksheet!$D$13","v":false},{"$f":"IF(H545=1,RANDBETWEEN(1,Worksheet!$D$6),INT(J545))","v":23},{"$f":"IF(C545=1,\"year\",\"years\")","v":"years"},{"$f":"IF(H545=1,RANDBETWEEN(1,11),(J545-INT(J545))*12)","v":10.799999999999983},"months","=",{"$f":"IF(Worksheet!$D$7=1,1,IF(Worksheet!$D$7=2,2,RANDBETWEEN(1,2)))","v":2},null,{"$f":"IF(H545=1,C545+E545/12,RANDBETWEEN(1,Worksheet!$D$6)+CHOOSE(Worksheet!$D$10,RANDBETWEEN(1,9)/10,RANDBETWEEN(1,99)/100,RANDBETWEEN(1,999)/1000,RANDBETWEEN(1,9999)/10000,RANDBETWEEN(1,99999)/100000))","v":23.9},"years"]
[{"$f":"COUNTIF($B$1:B546,TRUE)","v":219},{"$f":"Worksheet!$B$12","v":true},{"$f":"IF(H546=1,RANDBETWEEN(1,Worksheet!$D$6),INT(J546))","v":11},{"$f":"IF(C546=1,\"hour\",\"hours\")","v":"hours"},{"$f":"IF(H546=1,IF(Worksheet!$D$10=1,RANDBETWEEN(1,9)*6,IF(Worksheet!$D$10=2,RANDBETWEEN(1,19)*3,RANDBETWEEN(1,59))),(J546-INT(J546))*60)","v":11.999999999999957},"minutes","=",{"$f":"IF(Worksheet!$D$7=1,1,IF(Worksheet!$D$7=2,2,RANDBETWEEN(1,2)))","v":2},null,{"$f":"IF(H546=1,C546+E546/60,RANDBETWEEN(1,Worksheet!$D$6)+CHOOSE(Worksheet!$D$10,RANDBETWEEN(1,9)/10,RANDBETWEEN(1,99)/100,RANDBETWEEN(1,999)/1000,RANDBETWEEN(1,9999)/10000,RANDBETWEEN(1,99999)/100000))","v":11.2},"hours"]
[{"$f":"IF(COUNTIF($B$1:B547,TRUE)=COUNTIF($B$1:B546,TRUE),\"\",COUNTIF($B$1:B547,TRUE))","v":220},{"$f":"Worksheet!$B$13","v":true},{"$f":"IF(H547=1,RANDBETWEEN(1,Worksheet!$D$6),INT(J547))","v":9},{"$f":"IF(C547=1,\"minute\",\"minutes\")","v":"minutes"},{"$f":"IF(H547=1,IF(Worksheet!$D$10=1,RANDBETWEEN(1,9)*6,IF(Worksheet!$D$10=2,RANDBETWEEN(1,19)*3,RANDBETWEEN(1,59))),(J547-INT(J547))*60)","v":5.9999999999999787},"seconds","=",{"$f":"IF(Worksheet!$D$7=1,1,IF(Worksheet!$D$7=2,2,RANDBETWEEN(1,2)))","v":2},null,{"$f":"IF(H547=1,C547+E547/60,RANDBETWEEN(1,Worksheet!$D$6)+CHOOSE(Worksheet!$D$10,RANDBETWEEN(1,9)/10,RANDBETWEEN(1,99)/100,RANDBETWEEN(1,999)/1000,RANDBETWEEN(1,9999)/10000,RANDBETWEEN(1,99999)/100000))","v":9.1},"minutes"]
[{"$f":"IF(COUNTIF($B$1:B548,TRUE)=COUNTIF($B$1:B547,TRUE),\"\",COUNTIF($B$1:B548,TRUE))","v":""},{"$f":"Worksheet!$B$14","v":false},{"$f":"IF(H548=1,RANDBETWEEN(1,Worksheet!$D$6),INT(J548))","v":21},{"$f":"IF(C548=1,\"week\",\"weeks\")","v":"weeks"},{"$f":"IF(H548=1,RANDBETWEEN(1,6),(J548-INT(J548))*7)","v":4},"days","=",{"$f":"IF(Worksheet!$D$7=1,1,IF(Worksheet!$D$7=2,2,RANDBETWEEN(1,2)))","v":1},null,{"$f":"IF(H548=1,C548+E548/7,RANDBETWEEN(1,Worksheet!$D$6)+CHOOSE(Worksheet!$D$10,RANDBETWEEN(1,9)/10,RANDBETWEEN(1,99)/100,RANDBETWEEN(1,999)/1000,RANDBETWEEN(1,9999)/10000,RANDBETWEEN(1,99999)/100000))","v":21.571428571428573},"weeks"]
[{"$f":"IF(COUNTIF($B$1:B549,TRUE)=COUNTIF($B$1:B548,TRUE),\"\",COUNTIF($B$1:B549,TRUE))","v":""},{"$f":"Worksheet!$D$12","v":false},{"$f":"IF(H549=1,RANDBETWEEN(1,Worksheet!$D$6),INT(J549))","v":19},{"$f":"IF(C549=1,\"day\",\"days\")","v":"days"},{"$f":"IF(H549=1,RANDBETWEEN(1,23),(J549-INT(J549))*24)","v":16},"hours","=",{"$f":"IF(Worksheet!$D$7=1,1,IF(Worksheet!$D$7=2,2,RANDBETWEEN(1,2)))","v":1},null,{"$f":"IF(H549=1,C549+E549/24,RANDBETWEEN(1,Worksheet!$D$6)+CHOOSE(Worksheet!$D$10,RANDBETWEEN(1,9)/10,RANDBETWEEN(1,99)/100,RANDBETWEEN(1,999)/1000,RANDBETWEEN(1,9999)/10000,RANDBETWEEN(1,99999)/100000))","v":19.666666666666668},"days"]
[{"$f":"IF(COUNTIF($B$1:B550,TRUE)=COUNTIF($B$1:B549,TRUE),\"\",COUNTIF($B$1:B550,TRUE))","v":""},{"$f":"Worksheet!$D$13","v":false},{"$f":"IF(H550=1,RANDBETWEEN(1,Worksheet!$D$6),INT(J550))","v":3},{"$f":"IF(C550=1,\"year\",\"years\")","v":"years"},{"$f":"IF(H550=1,RANDBETWEEN(1,11),(J550-INT(J550))*12)","v":7.2000000000000011},"months","=",{"$f":"IF(Worksheet!$D$7=1,1,IF(Worksheet!$D$7=2,2,RANDBETWEEN(1,2)))","v":2},null,{"$f":"IF(H550=1,C550+E550/12,RANDBETWEEN(1,Worksheet!$D$6)+CHOOSE(Worksheet!$D$10,RANDBETWEEN(1,9)/10,RANDBETWEEN(1,99)/100,RANDBETWEEN(1,999)/1000,RANDBETWEEN(1,9999)/10000,RANDBETWEEN(1,99999)/100000))","v":3.6},"years"]
[{"$f":"COUNTIF($B$1:B551,TRUE)","v":221},{"$f":"Worksheet!$B$12","v":true},{"$f":"IF(H551=1,RANDBETWEEN(1,Worksheet!$D$6),INT(J551))","v":17},{"$f":"IF(C551=1,\"hour\",\"hours\")","v":"hours"},{"$f":"IF(H551=1,IF(Worksheet!$D$10=1,RANDBETWEEN(1,9)*6,IF(Worksheet!$D$10=2,RANDBETWEEN(1,19)*3,RANDBETWEEN(1,59))),(J551-INT(J551))*60)","v":30},"minutes","=",{"$f":"IF(Worksheet!$D$7=1,1,IF(Worksheet!$D$7=2,2,RANDBETWEEN(1,2)))","v":2},null,{"$f":"IF(H551=1,C551+E551/60,RANDBETWEEN(1,Worksheet!$D$6)+CHOOSE(Worksheet!$D$10,RANDBETWEEN(1,9)/10,RANDBETWEEN(1,99)/100,RANDBETWEEN(1,999)/1000,RANDBETWEEN(1,9999)/10000,RANDBETWEEN(1,99999)/100000))","v":17.5},"hours"]
[{"$f":"IF(COUNTIF($B$1:B552,TRUE)=COUNTIF($B$1:B551,TRUE),\"\",COUNTIF($B$1:B552,TRUE))","v":222},{"$f":"Worksheet!$B$13","v":true},{"$f":"IF(H552=1,RANDBETWEEN(1,Worksheet!$D$6),INT(J552))","v":29},{"$f":"IF(C552=1,\"minute\",\"minutes\")","v":"minutes"},{"$f":"IF(H552=1,IF(Worksheet!$D$10=1,RANDBETWEEN(1,9)*6,IF(Worksheet!$D$10=2,RANDBETWEEN(1,19)*3,RANDBETWEEN(1,59))),(J552-INT(J552))*60)","v":48},"seconds","=",{"$f":"IF(Worksheet!$D$7=1,1,IF(Worksheet!$D$7=2,2,RANDBETWEEN(1,2)))","v":1},null,{"$f":"IF(H552=1,C552+E552/60,RANDBETWEEN(1,Worksheet!$D$6)+CHOOSE(Worksheet!$D$10,RANDBETWEEN(1,9)/10,RANDBETWEEN(1,99)/100,RANDBETWEEN(1,999)/1000,RANDBETWEEN(1,9999)/10000,RANDBETWEEN(1,99999)/100000))","v":29.8},"minutes"]
[{"$f":"IF(COUNTIF($B$1:B553,TRUE)=COUNTIF($B$1:B552,TRUE),\"\",COUNTIF($B$1:B553,TRUE))","v":""},{"$f":"Worksheet!$B$14","v":false},{"$f":"IF(H553=1,RANDBETWEEN(1,Worksheet!$D$6),INT(J553))","v":13},{"$f":"IF(C553=1,\"week\",\"weeks\")","v":"weeks"},{"$f":"IF(H553=1,RANDBETWEEN(1,6),(J553-INT(J553))*7)","v":1},"days","=",{"$f":"IF(Worksheet!$D$7=1,1,IF(Worksheet!$D$7=2,2,RANDBETWEEN(1,2)))","v":1},null,{"$f":"IF(H553=1,C553+E553/7,RANDBETWEEN(1,Worksheet!$D$6)+CHOOSE(Worksheet!$D$10,RANDBETWEEN(1,9)/10,RANDBETWEEN(1,99)/100,RANDBETWEEN(1,999)/1000,RANDBETWEEN(1,9999)/10000,RANDBETWEEN(1,99999)/100000))","v":13.142857142857142},"weeks"]
[{"$f":"IF(COUNTIF($B$1:B554,TRUE)=COUNTIF($B$1:B553,TRUE),\"\",COUNTIF($B$1:B554,TRUE))","v":""},{"$f":"Worksheet!$D$12","v":false},{"$f":"IF(H554=1,RANDBETWEEN(1,Worksheet!$D$6),INT(J554))","v":8},{"$f":"IF(C554=1,\"day\",\"days\")","v":"days"},{"$f":"IF(H554=1,RANDBETWEEN(1,23),(J554-INT(J554))*24)","v":22},"hours","=",{"$f":"IF(Worksheet!$D$7=1,1,IF(Worksheet!$D$7=2,2,RANDBETWEEN(1,2)))","v":1},null,{"$f":"IF(H554=1,C554+E554/24,RANDBETWEEN(1,Worksheet!$D$6)+CHOOSE(Worksheet!$D$10,RANDBETWEEN(1,9)/10,RANDBETWEEN(1,99)/100,RANDBETWEEN(1,999)/1000,RANDBETWEEN(1,9999)/10000,RANDBETWEEN(1,99999)/100000))","v":8.9166666666666661},"days"]
[{"$f":"IF(COUNTIF($B$1:B555,TRUE)=COUNTIF($B$1:B554,TRUE),\"\",COUNTIF($B$1:B555,TRUE))","v":""},{"$f":"Worksheet!$D$13","v":false},{"$f":"IF(H555=1,RANDBETWEEN(1,Worksheet!$D$6),INT(J555))","v":20},{"$f":"IF(C555=1,\"year\",\"years\")","v":"years"},{"$f":"IF(H555=1,RANDBETWEEN(1,11),(J555-INT(J555))*12)","v":8.3999999999999915},"months","=",{"$f":"IF(Worksheet!$D$7=1,1,IF(Worksheet!$D$7=2,2,RANDBETWEEN(1,2)))","v":2},null,{"$f":"IF(H555=1,C555+E555/12,RANDBETWEEN(1,Worksheet!$D$6)+CHOOSE(Worksheet!$D$10,RANDBETWEEN(1,9)/10,RANDBETWEEN(1,99)/100,RANDBETWEEN(1,999)/1000,RANDBETWEEN(1,9999)/10000,RANDBETWEEN(1,99999)/100000))","v":20.7},"years"]
[{"$f":"COUNTIF($B$1:B556,TRUE)","v":223},{"$f":"Worksheet!$B$12","v":true},{"$f":"IF(H556=1,RANDBETWEEN(1,Worksheet!$D$6),INT(J556))","v":23},{"$f":"IF(C556=1,\"hour\",\"hours\")","v":"hours"},{"$f":"IF(H556=1,IF(Worksheet!$D$10=1,RANDBETWEEN(1,9)*6,IF(Worksheet!$D$10=2,RANDBETWEEN(1,19)*3,RANDBETWEEN(1,59))),(J556-INT(J556))*60)","v":30},"minutes","=",{"$f":"IF(Worksheet!$D$7=1,1,IF(Worksheet!$D$7=2,2,RANDBETWEEN(1,2)))","v":2},null,{"$f":"IF(H556=1,C556+E556/60,RANDBETWEEN(1,Worksheet!$D$6)+CHOOSE(Worksheet!$D$10,RANDBETWEEN(1,9)/10,RANDBETWEEN(1,99)/100,RANDBETWEEN(1,999)/1000,RANDBETWEEN(1,9999)/10000,RANDBETWEEN(1,99999)/100000))","v":23.5},"hours"]
[{"$f":"IF(COUNTIF($B$1:B557,TRUE)=COUNTIF($B$1:B556,TRUE),\"\",COUNTIF($B$1:B557,TRUE))","v":224},{"$f":"Worksheet!$B$13","v":true},{"$f":"IF(H557=1,RANDBETWEEN(1,Worksheet!$D$6),INT(J557))","v":11},{"$f":"IF(C557=1,\"minute\",\"minutes\")","v":"minutes"},{"$f":"IF(H557=1,IF(Worksheet!$D$10=1,RANDBETWEEN(1,9)*6,IF(Worksheet!$D$10=2,RANDBETWEEN(1,19)*3,RANDBETWEEN(1,59))),(J557-INT(J557))*60)","v":11.999999999999957},"seconds","=",{"$f":"IF(Worksheet!$D$7=1,1,IF(Worksheet!$D$7=2,2,RANDBETWEEN(1,2)))","v":2},null,{"$f":"IF(H557=1,C557+E557/60,RANDBETWEEN(1,Worksheet!$D$6)+CHOOSE(Worksheet!$D$10,RANDBETWEEN(1,9)/10,RANDBETWEEN(1,99)/100,RANDBETWEEN(1,999)/1000,RANDBETWEEN(1,9999)/10000,RANDBETWEEN(1,99999)/100000))","v":11.2},"minutes"]
[{"$f":"IF(COUNTIF($B$1:B558,TRUE)=COUNTIF($B$1:B557,TRUE),\"\",COUNTIF($B$1:B558,TRUE))","v":""},{"$f":"Worksheet!$B$14","v":false},{"$f":"IF(H558=1,RANDBETWEEN(1,Worksheet!$D$6),INT(J558))","v":19},{"$f":"IF(C558=1,\"week\",\"weeks\")","v":"weeks"},{"$f":"IF(H558=1,RANDBETWEEN(1,6),(J558-INT(J558))*7)","v":3},"days","=",{"$f":"IF(Worksheet!$D$7=1,1,IF(Worksheet!$D$7=2,2,RANDBETWEEN(1,2)))","v":1},null,{"$f":"IF(H558=1,C558+E558/7,RANDBETWEEN(1,Worksheet!$D$6)+CHOOSE(Worksheet!$D$10,RANDBETWEEN(1,9)/10,RANDBETWEEN(1,99)/100,RANDBETWEEN(1,999)/1000,RANDBETWEEN(1,9999)/10000,RANDBETWEEN(1,99999)/100000))","v":19.428571428571427},"weeks"]
[{"$f":"IF(COUNTIF($B$1:B559,TRUE)=COUNTIF($B$1:B558,TRUE),\"\",COUNTIF($B$1:B559,TRUE))","v":""},{"$f":"Worksheet!$D$12","v":false},{"$f":"IF(H559=1,RANDBETWEEN(1,Worksheet!$D$6),INT(J559))","v":26},{"$f":"IF(C559=1,\"day\",\"days\")","v":"days"},{"$f":"IF(H559=1,RANDBETWEEN(1,23),(J559-INT(J559))*24)","v":16.799999999999983},"hours","=",{"$f":"IF(Worksheet!$D$7=1,1,IF(Worksheet!$D$7=2,2,RANDBETWEEN(1,2)))","v":2},null,{"$f":"IF(H559=1,C559+E559/24,RANDBETWEEN(1,Worksheet!$D$6)+CHOOSE(Worksheet!$D$10,RANDBETWEEN(1,9)/10,RANDBETWEEN(1,99)/100,RANDBETWEEN(1,999)/1000,RANDBETWEEN(1,9999)/10000,RANDBETWEEN(1,99999)/100000))","v":26.7},"days"]
[{"$f":"IF(COUNTIF($B$1:B560,TRUE)=COUNTIF($B$1:B559,TRUE),\"\",COUNTIF($B$1:B560,TRUE))","v":""},{"$f":"Worksheet!$D$13","v":false},{"$f":"IF(H560=1,RANDBETWEEN(1,Worksheet!$D$6),INT(J560))","v":1},{"$f":"IF(C560=1,\"year\",\"years\")","v":"year"},{"$f":"IF(H560=1,RANDBETWEEN(1,11),(J560-INT(J560))*12)","v":4.7999999999999989},"months","=",{"$f":"IF(Worksheet!$D$7=1,1,IF(Worksheet!$D$7=2,2,RANDBETWEEN(1,2)))","v":2},null,{"$f":"IF(H560=1,C560+E560/12,RANDBETWEEN(1,Worksheet!$D$6)+CHOOSE(Worksheet!$D$10,RANDBETWEEN(1,9)/10,RANDBETWEEN(1,99)/100,RANDBETWEEN(1,999)/1000,RANDBETWEEN(1,9999)/10000,RANDBETWEEN(1,99999)/100000))","v":1.4},"year"]
[{"$f":"COUNTIF($B$1:B561,TRUE)","v":225},{"$f":"Worksheet!$B$12","v":true},{"$f":"IF(H561=1,RANDBETWEEN(1,Worksheet!$D$6),INT(J561))","v":23},{"$f":"IF(C561=1,\"hour\",\"hours\")","v":"hours"},{"$f":"IF(H561=1,IF(Worksheet!$D$10=1,RANDBETWEEN(1,9)*6,IF(Worksheet!$D$10=2,RANDBETWEEN(1,19)*3,RANDBETWEEN(1,59))),(J561-INT(J561))*60)","v":48.000000000000043},"minutes","=",{"$f":"IF(Worksheet!$D$7=1,1,IF(Worksheet!$D$7=2,2,RANDBETWEEN(1,2)))","v":2},null,{"$f":"IF(H561=1,C561+E561/60,RANDBETWEEN(1,Worksheet!$D$6)+CHOOSE(Worksheet!$D$10,RANDBETWEEN(1,9)/10,RANDBETWEEN(1,99)/100,RANDBETWEEN(1,999)/1000,RANDBETWEEN(1,9999)/10000,RANDBETWEEN(1,99999)/100000))","v":23.8},"hours"]
[{"$f":"IF(COUNTIF($B$1:B562,TRUE)=COUNTIF($B$1:B561,TRUE),\"\",COUNTIF($B$1:B562,TRUE))","v":226},{"$f":"Worksheet!$B$13","v":true},{"$f":"IF(H562=1,RANDBETWEEN(1,Worksheet!$D$6),INT(J562))","v":20},{"$f":"IF(C562=1,\"minute\",\"minutes\")","v":"minutes"},{"$f":"IF(H562=1,IF(Worksheet!$D$10=1,RANDBETWEEN(1,9)*6,IF(Worksheet!$D$10=2,RANDBETWEEN(1,19)*3,RANDBETWEEN(1,59))),(J562-INT(J562))*60)","v":42},"seconds","=",{"$f":"IF(Worksheet!$D$7=1,1,IF(Worksheet!$D$7=2,2,RANDBETWEEN(1,2)))","v":1},null,{"$f":"IF(H562=1,C562+E562/60,RANDBETWEEN(1,Worksheet!$D$6)+CHOOSE(Worksheet!$D$10,RANDBETWEEN(1,9)/10,RANDBETWEEN(1,99)/100,RANDBETWEEN(1,999)/1000,RANDBETWEEN(1,9999)/10000,RANDBETWEEN(1,99999)/100000))","v":20.7},"minutes"]
[{"$f":"IF(COUNTIF($B$1:B563,TRUE)=COUNTIF($B$1:B562,TRUE),\"\",COUNTIF($B$1:B563,TRUE))","v":""},{"$f":"Worksheet!$B$14","v":false},{"$f":"IF(H563=1,RANDBETWEEN(1,Worksheet!$D$6),INT(J563))","v":28},{"$f":"IF(C563=1,\"week\",\"weeks\")","v":"weeks"},{"$f":"IF(H563=1,RANDBETWEEN(1,6),(J563-INT(J563))*7)","v":4.2000000000000099},"days","=",{"$f":"IF(Worksheet!$D$7=1,1,IF(Worksheet!$D$7=2,2,RANDBETWEEN(1,2)))","v":2},null,{"$f":"IF(H563=1,C563+E563/7,RANDBETWEEN(1,Worksheet!$D$6)+CHOOSE(Worksheet!$D$10,RANDBETWEEN(1,9)/10,RANDBETWEEN(1,99)/100,RANDBETWEEN(1,999)/1000,RANDBETWEEN(1,9999)/10000,RANDBETWEEN(1,99999)/100000))","v":28.6},"weeks"]
[{"$f":"IF(COUNTIF($B$1:B564,TRUE)=COUNTIF($B$1:B563,TRUE),\"\",COUNTIF($B$1:B564,TRUE))","v":""},{"$f":"Worksheet!$D$12","v":false},{"$f":"IF(H564=1,RANDBETWEEN(1,Worksheet!$D$6),INT(J564))","v":17},{"$f":"IF(C564=1,\"day\",\"days\")","v":"days"},{"$f":"IF(H564=1,RANDBETWEEN(1,23),(J564-INT(J564))*24)","v":12},"hours","=",{"$f":"IF(Worksheet!$D$7=1,1,IF(Worksheet!$D$7=2,2,RANDBETWEEN(1,2)))","v":2},null,{"$f":"IF(H564=1,C564+E564/24,RANDBETWEEN(1,Worksheet!$D$6)+CHOOSE(Worksheet!$D$10,RANDBETWEEN(1,9)/10,RANDBETWEEN(1,99)/100,RANDBETWEEN(1,999)/1000,RANDBETWEEN(1,9999)/10000,RANDBETWEEN(1,99999)/100000))","v":17.5},"days"]
[{"$f":"IF(COUNTIF($B$1:B565,TRUE)=COUNTIF($B$1:B564,TRUE),\"\",COUNTIF($B$1:B565,TRUE))","v":""},{"$f":"Worksheet!$D$13","v":false},{"$f":"IF(H565=1,RANDBETWEEN(1,Worksheet!$D$6),INT(J565))","v":5},{"$f":"IF(C565=1,\"year\",\"years\")","v":"years"},{"$f":"IF(H565=1,RANDBETWEEN(1,11),(J565-INT(J565))*12)","v":2},"months","=",{"$f":"IF(Worksheet!$D$7=1,1,IF(Worksheet!$D$7=2,2,RANDBETWEEN(1,2)))","v":1},null,{"$f":"IF(H565=1,C565+E565/12,RANDBETWEEN(1,Worksheet!$D$6)+CHOOSE(Worksheet!$D$10,RANDBETWEEN(1,9)/10,RANDBETWEEN(1,99)/100,RANDBETWEEN(1,999)/1000,RANDBETWEEN(1,9999)/10000,RANDBETWEEN(1,99999)/100000))","v":5.166666666666667},"years"]
[{"$f":"COUNTIF($B$1:B566,TRUE)","v":227},{"$f":"Worksheet!$B$12","v":true},{"$f":"IF(H566=1,RANDBETWEEN(1,Worksheet!$D$6),INT(J566))","v":6},{"$f":"IF(C566=1,\"hour\",\"hours\")","v":"hours"},{"$f":"IF(H566=1,IF(Worksheet!$D$10=1,RANDBETWEEN(1,9)*6,IF(Worksheet!$D$10=2,RANDBETWEEN(1,19)*3,RANDBETWEEN(1,59))),(J566-INT(J566))*60)","v":35.999999999999979},"minutes","=",{"$f":"IF(Worksheet!$D$7=1,1,IF(Worksheet!$D$7=2,2,RANDBETWEEN(1,2)))","v":2},null,{"$f":"IF(H566=1,C566+E566/60,RANDBETWEEN(1,Worksheet!$D$6)+CHOOSE(Worksheet!$D$10,RANDBETWEEN(1,9)/10,RANDBETWEEN(1,99)/100,RANDBETWEEN(1,999)/1000,RANDBETWEEN(1,9999)/10000,RANDBETWEEN(1,99999)/100000))","v":6.6},"hours"]
[{"$f":"IF(COUNTIF($B$1:B567,TRUE)=COUNTIF($B$1:B566,TRUE),\"\",COUNTIF($B$1:B567,TRUE))","v":228},{"$f":"Worksheet!$B$13","v":true},{"$f":"IF(H567=1,RANDBETWEEN(1,Worksheet!$D$6),INT(J567))","v":9},{"$f":"IF(C567=1,\"minute\",\"minutes\")","v":"minutes"},{"$f":"IF(H567=1,IF(Worksheet!$D$10=1,RANDBETWEEN(1,9)*6,IF(Worksheet!$D$10=2,RANDBETWEEN(1,19)*3,RANDBETWEEN(1,59))),(J567-INT(J567))*60)","v":41.999999999999957},"seconds","=",{"$f":"IF(Worksheet!$D$7=1,1,IF(Worksheet!$D$7=2,2,RANDBETWEEN(1,2)))","v":2},null,{"$f":"IF(H567=1,C567+E567/60,RANDBETWEEN(1,Worksheet!$D$6)+CHOOSE(Worksheet!$D$10,RANDBETWEEN(1,9)/10,RANDBETWEEN(1,99)/100,RANDBETWEEN(1,999)/1000,RANDBETWEEN(1,9999)/10000,RANDBETWEEN(1,99999)/100000))","v":9.6999999999999993},"minutes"]
[{"$f":"IF(COUNTIF($B$1:B568,TRUE)=COUNTIF($B$1:B567,TRUE),\"\",COUNTIF($B$1:B568,TRUE))","v":""},{"$f":"Worksheet!$B$14","v":false},{"$f":"IF(H568=1,RANDBETWEEN(1,Worksheet!$D$6),INT(J568))","v":21},{"$f":"IF(C568=1,\"week\",\"weeks\")","v":"weeks"},{"$f":"IF(H568=1,RANDBETWEEN(1,6),(J568-INT(J568))*7)","v":1},"days","=",{"$f":"IF(Worksheet!$D$7=1,1,IF(Worksheet!$D$7=2,2,RANDBETWEEN(1,2)))","v":1},null,{"$f":"IF(H568=1,C568+E568/7,RANDBETWEEN(1,Worksheet!$D$6)+CHOOSE(Worksheet!$D$10,RANDBETWEEN(1,9)/10,RANDBETWEEN(1,99)/100,RANDBETWEEN(1,999)/1000,RANDBETWEEN(1,9999)/10000,RANDBETWEEN(1,99999)/100000))","v":21.142857142857142},"weeks"]
[{"$f":"IF(COUNTIF($B$1:B569,TRUE)=COUNTIF($B$1:B568,TRUE),\"\",COUNTIF($B$1:B569,TRUE))","v":""},{"$f":"Worksheet!$D$12","v":false},{"$f":"IF(H569=1,RANDBETWEEN(1,Worksheet!$D$6),INT(J569))","v":6},{"$f":"IF(C569=1,\"day\",\"days\")","v":"days"},{"$f":"IF(H569=1,RANDBETWEEN(1,23),(J569-INT(J569))*24)","v":14.399999999999991},"hours","=",{"$f":"IF(Worksheet!$D$7=1,1,IF(Worksheet!$D$7=2,2,RANDBETWEEN(1,2)))","v":2},null,{"$f":"IF(H569=1,C569+E569/24,RANDBETWEEN(1,Worksheet!$D$6)+CHOOSE(Worksheet!$D$10,RANDBETWEEN(1,9)/10,RANDBETWEEN(1,99)/100,RANDBETWEEN(1,999)/1000,RANDBETWEEN(1,9999)/10000,RANDBETWEEN(1,99999)/100000))","v":6.6},"days"]
[{"$f":"IF(COUNTIF($B$1:B570,TRUE)=COUNTIF($B$1:B569,TRUE),\"\",COUNTIF($B$1:B570,TRUE))","v":""},{"$f":"Worksheet!$D$13","v":false},{"$f":"IF(H570=1,RANDBETWEEN(1,Worksheet!$D$6),INT(J570))","v":22},{"$f":"IF(C570=1,\"year\",\"years\")","v":"years"},{"$f":"IF(H570=1,RANDBETWEEN(1,11),(J570-INT(J570))*12)","v":5},"months","=",{"$f":"IF(Worksheet!$D$7=1,1,IF(Worksheet!$D$7=2,2,RANDBETWEEN(1,2)))","v":1},null,{"$f":"IF(H570=1,C570+E570/12,RANDBETWEEN(1,Worksheet!$D$6)+CHOOSE(Worksheet!$D$10,RANDBETWEEN(1,9)/10,RANDBETWEEN(1,99)/100,RANDBETWEEN(1,999)/1000,RANDBETWEEN(1,9999)/10000,RANDBETWEEN(1,99999)/100000))","v":22.416666666666668},"years"]
[{"$f":"COUNTIF($B$1:B571,TRUE)","v":229},{"$f":"Worksheet!$B$12","v":true},{"$f":"IF(H571=1,RANDBETWEEN(1,Worksheet!$D$6),INT(J571))","v":4},{"$f":"IF(C571=1,\"hour\",\"hours\")","v":"hours"},{"$f":"IF(H571=1,IF(Worksheet!$D$10=1,RANDBETWEEN(1,9)*6,IF(Worksheet!$D$10=2,RANDBETWEEN(1,19)*3,RANDBETWEEN(1,59))),(J571-INT(J571))*60)","v":36},"minutes","=",{"$f":"IF(Worksheet!$D$7=1,1,IF(Worksheet!$D$7=2,2,RANDBETWEEN(1,2)))","v":1},null,{"$f":"IF(H571=1,C571+E571/60,RANDBETWEEN(1,Worksheet!$D$6)+CHOOSE(Worksheet!$D$10,RANDBETWEEN(1,9)/10,RANDBETWEEN(1,99)/100,RANDBETWEEN(1,999)/1000,RANDBETWEEN(1,9999)/10000,RANDBETWEEN(1,99999)/100000))","v":4.5999999999999996},"hours"]
[{"$f":"IF(COUNTIF($B$1:B572,TRUE)=COUNTIF($B$1:B571,TRUE),\"\",COUNTIF($B$1:B572,TRUE))","v":230},{"$f":"Worksheet!$B$13","v":true},{"$f":"IF(H572=1,RANDBETWEEN(1,Worksheet!$D$6),INT(J572))","v":22},{"$f":"IF(C572=1,\"minute\",\"minutes\")","v":"minutes"},{"$f":"IF(H572=1,IF(Worksheet!$D$10=1,RANDBETWEEN(1,9)*6,IF(Worksheet!$D$10=2,RANDBETWEEN(1,19)*3,RANDBETWEEN(1,59))),(J572-INT(J572))*60)","v":54},"seconds","=",{"$f":"IF(Worksheet!$D$7=1,1,IF(Worksheet!$D$7=2,2,RANDBETWEEN(1,2)))","v":1},null,{"$f":"IF(H572=1,C572+E572/60,RANDBETWEEN(1,Worksheet!$D$6)+CHOOSE(Worksheet!$D$10,RANDBETWEEN(1,9)/10,RANDBETWEEN(1,99)/100,RANDBETWEEN(1,999)/1000,RANDBETWEEN(1,9999)/10000,RANDBETWEEN(1,99999)/100000))","v":22.9},"minutes"]
[{"$f":"IF(COUNTIF($B$1:B573,TRUE)=COUNTIF($B$1:B572,TRUE),\"\",COUNTIF($B$1:B573,TRUE))","v":""},{"$f":"Worksheet!$B$14","v":false},{"$f":"IF(H573=1,RANDBETWEEN(1,Worksheet!$D$6),INT(J573))","v":16},{"$f":"IF(C573=1,\"week\",\"weeks\")","v":"weeks"},{"$f":"IF(H573=1,RANDBETWEEN(1,6),(J573-INT(J573))*7)","v":2},"days","=",{"$f":"IF(Worksheet!$D$7=1,1,IF(Worksheet!$D$7=2,2,RANDBETWEEN(1,2)))","v":1},null,{"$f":"IF(H573=1,C573+E573/7,RANDBETWEEN(1,Worksheet!$D$6)+CHOOSE(Worksheet!$D$10,RANDBETWEEN(1,9)/10,RANDBETWEEN(1,99)/100,RANDBETWEEN(1,999)/1000,RANDBETWEEN(1,9999)/10000,RANDBETWEEN(1,99999)/100000))","v":16.285714285714285},"weeks"]
[{"$f":"IF(COUNTIF($B$1:B574,TRUE)=COUNTIF($B$1:B573,TRUE),\"\",COUNTIF($B$1:B574,TRUE))","v":""},{"$f":"Worksheet!$D$12","v":false},{"$f":"IF(H574=1,RANDBETWEEN(1,Worksheet!$D$6),INT(J574))","v":29},{"$f":"IF(C574=1,\"day\",\"days\")","v":"days"},{"$f":"IF(H574=1,RANDBETWEEN(1,23),(J574-INT(J574))*24)","v":4.7999999999999829},"hours","=",{"$f":"IF(Worksheet!$D$7=1,1,IF(Worksheet!$D$7=2,2,RANDBETWEEN(1,2)))","v":2},null,{"$f":"IF(H574=1,C574+E574/24,RANDBETWEEN(1,Worksheet!$D$6)+CHOOSE(Worksheet!$D$10,RANDBETWEEN(1,9)/10,RANDBETWEEN(1,99)/100,RANDBETWEEN(1,999)/1000,RANDBETWEEN(1,9999)/10000,RANDBETWEEN(1,99999)/100000))","v":29.2},"days"]
[{"$f":"IF(COUNTIF($B$1:B575,TRUE)=COUNTIF($B$1:B574,TRUE),\"\",COUNTIF($B$1:B575,TRUE))","v":""},{"$f":"Worksheet!$D$13","v":false},{"$f":"IF(H575=1,RANDBETWEEN(1,Worksheet!$D$6),INT(J575))","v":7},{"$f":"IF(C575=1,\"year\",\"years\")","v":"years"},{"$f":"IF(H575=1,RANDBETWEEN(1,11),(J575-INT(J575))*12)","v":6},"months","=",{"$f":"IF(Worksheet!$D$7=1,1,IF(Worksheet!$D$7=2,2,RANDBETWEEN(1,2)))","v":2},null,{"$f":"IF(H575=1,C575+E575/12,RANDBETWEEN(1,Worksheet!$D$6)+CHOOSE(Worksheet!$D$10,RANDBETWEEN(1,9)/10,RANDBETWEEN(1,99)/100,RANDBETWEEN(1,999)/1000,RANDBETWEEN(1,9999)/10000,RANDBETWEEN(1,99999)/100000))","v":7.5},"years"]
[{"$f":"COUNTIF($B$1:B576,TRUE)","v":231},{"$f":"Worksheet!$B$12","v":true},{"$f":"IF(H576=1,RANDBETWEEN(1,Worksheet!$D$6),INT(J576))","v":19},{"$f":"IF(C576=1,\"hour\",\"hours\")","v":"hours"},{"$f":"IF(H576=1,IF(Worksheet!$D$10=1,RANDBETWEEN(1,9)*6,IF(Worksheet!$D$10=2,RANDBETWEEN(1,19)*3,RANDBETWEEN(1,59))),(J576-INT(J576))*60)","v":41.999999999999957},"minutes","=",{"$f":"IF(Worksheet!$D$7=1,1,IF(Worksheet!$D$7=2,2,RANDBETWEEN(1,2)))","v":2},null,{"$f":"IF(H576=1,C576+E576/60,RANDBETWEEN(1,Worksheet!$D$6)+CHOOSE(Worksheet!$D$10,RANDBETWEEN(1,9)/10,RANDBETWEEN(1,99)/100,RANDBETWEEN(1,999)/1000,RANDBETWEEN(1,9999)/10000,RANDBETWEEN(1,99999)/100000))","v":19.7},"hours"]
[{"$f":"IF(COUNTIF($B$1:B577,TRUE)=COUNTIF($B$1:B576,TRUE),\"\",COUNTIF($B$1:B577,TRUE))","v":232},{"$f":"Worksheet!$B$13","v":true},{"$f":"IF(H577=1,RANDBETWEEN(1,Worksheet!$D$6),INT(J577))","v":11},{"$f":"IF(C577=1,\"minute\",\"minutes\")","v":"minutes"},{"$f":"IF(H577=1,IF(Worksheet!$D$10=1,RANDBETWEEN(1,9)*6,IF(Worksheet!$D$10=2,RANDBETWEEN(1,19)*3,RANDBETWEEN(1,59))),(J577-INT(J577))*60)","v":12},"seconds","=",{"$f":"IF(Worksheet!$D$7=1,1,IF(Worksheet!$D$7=2,2,RANDBETWEEN(1,2)))","v":1},null,{"$f":"IF(H577=1,C577+E577/60,RANDBETWEEN(1,Worksheet!$D$6)+CHOOSE(Worksheet!$D$10,RANDBETWEEN(1,9)/10,RANDBETWEEN(1,99)/100,RANDBETWEEN(1,999)/1000,RANDBETWEEN(1,9999)/10000,RANDBETWEEN(1,99999)/100000))","v":11.2},"minutes"]
[{"$f":"IF(COUNTIF($B$1:B578,TRUE)=COUNTIF($B$1:B577,TRUE),\"\",COUNTIF($B$1:B578,TRUE))","v":""},{"$f":"Worksheet!$B$14","v":false},{"$f":"IF(H578=1,RANDBETWEEN(1,Worksheet!$D$6),INT(J578))","v":13},{"$f":"IF(C578=1,\"week\",\"weeks\")","v":"weeks"},{"$f":"IF(H578=1,RANDBETWEEN(1,6),(J578-INT(J578))*7)","v":2},"days","=",{"$f":"IF(Worksheet!$D$7=1,1,IF(Worksheet!$D$7=2,2,RANDBETWEEN(1,2)))","v":1},null,{"$f":"IF(H578=1,C578+E578/7,RANDBETWEEN(1,Worksheet!$D$6)+CHOOSE(Worksheet!$D$10,RANDBETWEEN(1,9)/10,RANDBETWEEN(1,99)/100,RANDBETWEEN(1,999)/1000,RANDBETWEEN(1,9999)/10000,RANDBETWEEN(1,99999)/100000))","v":13.285714285714286},"weeks"]
[{"$f":"IF(COUNTIF($B$1:B579,TRUE)=COUNTIF($B$1:B578,TRUE),\"\",COUNTIF($B$1:B579,TRUE))","v":""},{"$f":"Worksheet!$D$12","v":false},{"$f":"IF(H579=1,RANDBETWEEN(1,Worksheet!$D$6),INT(J579))","v":20},{"$f":"IF(C579=1,\"day\",\"days\")","v":"days"},{"$f":"IF(H579=1,RANDBETWEEN(1,23),(J579-INT(J579))*24)","v":12},"hours","=",{"$f":"IF(Worksheet!$D$7=1,1,IF(Worksheet!$D$7=2,2,RANDBETWEEN(1,2)))","v":2},null,{"$f":"IF(H579=1,C579+E579/24,RANDBETWEEN(1,Worksheet!$D$6)+CHOOSE(Worksheet!$D$10,RANDBETWEEN(1,9)/10,RANDBETWEEN(1,99)/100,RANDBETWEEN(1,999)/1000,RANDBETWEEN(1,9999)/10000,RANDBETWEEN(1,99999)/100000))","v":20.5},"days"]
[{"$f":"IF(COUNTIF($B$1:B580,TRUE)=COUNTIF($B$1:B579,TRUE),\"\",COUNTIF($B$1:B580,TRUE))","v":""},{"$f":"Worksheet!$D$13","v":false},{"$f":"IF(H580=1,RANDBETWEEN(1,Worksheet!$D$6),INT(J580))","v":10},{"$f":"IF(C580=1,\"year\",\"years\")","v":"years"},{"$f":"IF(H580=1,RANDBETWEEN(1,11),(J580-INT(J580))*12)","v":1},"months","=",{"$f":"IF(Worksheet!$D$7=1,1,IF(Worksheet!$D$7=2,2,RANDBETWEEN(1,2)))","v":1},null,{"$f":"IF(H580=1,C580+E580/12,RANDBETWEEN(1,Worksheet!$D$6)+CHOOSE(Worksheet!$D$10,RANDBETWEEN(1,9)/10,RANDBETWEEN(1,99)/100,RANDBETWEEN(1,999)/1000,RANDBETWEEN(1,9999)/10000,RANDBETWEEN(1,99999)/100000))","v":10.083333333333334},"years"]
[{"$f":"COUNTIF($B$1:B581,TRUE)","v":233},{"$f":"Worksheet!$B$12","v":true},{"$f":"IF(H581=1,RANDBETWEEN(1,Worksheet!$D$6),INT(J581))","v":2},{"$f":"IF(C581=1,\"hour\",\"hours\")","v":"hours"},{"$f":"IF(H581=1,IF(Worksheet!$D$10=1,RANDBETWEEN(1,9)*6,IF(Worksheet!$D$10=2,RANDBETWEEN(1,19)*3,RANDBETWEEN(1,59))),(J581-INT(J581))*60)","v":6},"minutes","=",{"$f":"IF(Worksheet!$D$7=1,1,IF(Worksheet!$D$7=2,2,RANDBETWEEN(1,2)))","v":1},null,{"$f":"IF(H581=1,C581+E581/60,RANDBETWEEN(1,Worksheet!$D$6)+CHOOSE(Worksheet!$D$10,RANDBETWEEN(1,9)/10,RANDBETWEEN(1,99)/100,RANDBETWEEN(1,999)/1000,RANDBETWEEN(1,9999)/10000,RANDBETWEEN(1,99999)/100000))","v":2.1},"hours"]
[{"$f":"IF(COUNTIF($B$1:B582,TRUE)=COUNTIF($B$1:B581,TRUE),\"\",COUNTIF($B$1:B582,TRUE))","v":234},{"$f":"Worksheet!$B$13","v":true},{"$f":"IF(H582=1,RANDBETWEEN(1,Worksheet!$D$6),INT(J582))","v":21},{"$f":"IF(C582=1,\"minute\",\"minutes\")","v":"minutes"},{"$f":"IF(H582=1,IF(Worksheet!$D$10=1,RANDBETWEEN(1,9)*6,IF(Worksheet!$D$10=2,RANDBETWEEN(1,19)*3,RANDBETWEEN(1,59))),(J582-INT(J582))*60)","v":30},"seconds","=",{"$f":"IF(Worksheet!$D$7=1,1,IF(Worksheet!$D$7=2,2,RANDBETWEEN(1,2)))","v":1},null,{"$f":"IF(H582=1,C582+E582/60,RANDBETWEEN(1,Worksheet!$D$6)+CHOOSE(Worksheet!$D$10,RANDBETWEEN(1,9)/10,RANDBETWEEN(1,99)/100,RANDBETWEEN(1,999)/1000,RANDBETWEEN(1,9999)/10000,RANDBETWEEN(1,99999)/100000))","v":21.5},"minutes"]
[{"$f":"IF(COUNTIF($B$1:B583,TRUE)=COUNTIF($B$1:B582,TRUE),\"\",COUNTIF($B$1:B583,TRUE))","v":""},{"$f":"Worksheet!$B$14","v":false},{"$f":"IF(H583=1,RANDBETWEEN(1,Worksheet!$D$6),INT(J583))","v":13},{"$f":"IF(C583=1,\"week\",\"weeks\")","v":"weeks"},{"$f":"IF(H583=1,RANDBETWEEN(1,6),(J583-INT(J583))*7)","v":4},"days","=",{"$f":"IF(Worksheet!$D$7=1,1,IF(Worksheet!$D$7=2,2,RANDBETWEEN(1,2)))","v":1},null,{"$f":"IF(H583=1,C583+E583/7,RANDBETWEEN(1,Worksheet!$D$6)+CHOOSE(Worksheet!$D$10,RANDBETWEEN(1,9)/10,RANDBETWEEN(1,99)/100,RANDBETWEEN(1,999)/1000,RANDBETWEEN(1,9999)/10000,RANDBETWEEN(1,99999)/100000))","v":13.571428571428571},"weeks"]
[{"$f":"IF(COUNTIF($B$1:B584,TRUE)=COUNTIF($B$1:B583,TRUE),\"\",COUNTIF($B$1:B584,TRUE))","v":""},{"$f":"Worksheet!$D$12","v":false},{"$f":"IF(H584=1,RANDBETWEEN(1,Worksheet!$D$6),INT(J584))","v":22},{"$f":"IF(C584=1,\"day\",\"days\")","v":"days"},{"$f":"IF(H584=1,RANDBETWEEN(1,23),(J584-INT(J584))*24)","v":21.599999999999966},"hours","=",{"$f":"IF(Worksheet!$D$7=1,1,IF(Worksheet!$D$7=2,2,RANDBETWEEN(1,2)))","v":2},null,{"$f":"IF(H584=1,C584+E584/24,RANDBETWEEN(1,Worksheet!$D$6)+CHOOSE(Worksheet!$D$10,RANDBETWEEN(1,9)/10,RANDBETWEEN(1,99)/100,RANDBETWEEN(1,999)/1000,RANDBETWEEN(1,9999)/10000,RANDBETWEEN(1,99999)/100000))","v":22.9},"days"]
[{"$f":"IF(COUNTIF($B$1:B585,TRUE)=COUNTIF($B$1:B584,TRUE),\"\",COUNTIF($B$1:B585,TRUE))","v":""},{"$f":"Worksheet!$D$13","v":false},{"$f":"IF(H585=1,RANDBETWEEN(1,Worksheet!$D$6),INT(J585))","v":4},{"$f":"IF(C585=1,\"year\",\"years\")","v":"years"},{"$f":"IF(H585=1,RANDBETWEEN(1,11),(J585-INT(J585))*12)","v":6},"months","=",{"$f":"IF(Worksheet!$D$7=1,1,IF(Worksheet!$D$7=2,2,RANDBETWEEN(1,2)))","v":1},null,{"$f":"IF(H585=1,C585+E585/12,RANDBETWEEN(1,Worksheet!$D$6)+CHOOSE(Worksheet!$D$10,RANDBETWEEN(1,9)/10,RANDBETWEEN(1,99)/100,RANDBETWEEN(1,999)/1000,RANDBETWEEN(1,9999)/10000,RANDBETWEEN(1,99999)/100000))","v":4.5},"years"]
[{"$f":"COUNTIF($B$1:B586,TRUE)","v":235},{"$f":"Worksheet!$B$12","v":true},{"$f":"IF(H586=1,RANDBETWEEN(1,Worksheet!$D$6),INT(J586))","v":21},{"$f":"IF(C586=1,\"hour\",\"hours\")","v":"hours"},{"$f":"IF(H586=1,IF(Worksheet!$D$10=1,RANDBETWEEN(1,9)*6,IF(Worksheet!$D$10=2,RANDBETWEEN(1,19)*3,RANDBETWEEN(1,59))),(J586-INT(J586))*60)","v":48},"minutes","=",{"$f":"IF(Worksheet!$D$7=1,1,IF(Worksheet!$D$7=2,2,RANDBETWEEN(1,2)))","v":1},null,{"$f":"IF(H586=1,C586+E586/60,RANDBETWEEN(1,Worksheet!$D$6)+CHOOSE(Worksheet!$D$10,RANDBETWEEN(1,9)/10,RANDBETWEEN(1,99)/100,RANDBETWEEN(1,999)/1000,RANDBETWEEN(1,9999)/10000,RANDBETWEEN(1,99999)/100000))","v":21.8},"hours"]
[{"$f":"IF(COUNTIF($B$1:B587,TRUE)=COUNTIF($B$1:B586,TRUE),\"\",COUNTIF($B$1:B587,TRUE))","v":236},{"$f":"Worksheet!$B$13","v":true},{"$f":"IF(H587=1,RANDBETWEEN(1,Worksheet!$D$6),INT(J587))","v":12},{"$f":"IF(C587=1,\"minute\",\"minutes\")","v":"minutes"},{"$f":"IF(H587=1,IF(Worksheet!$D$10=1,RANDBETWEEN(1,9)*6,IF(Worksheet!$D$10=2,RANDBETWEEN(1,19)*3,RANDBETWEEN(1,59))),(J587-INT(J587))*60)","v":30},"seconds","=",{"$f":"IF(Worksheet!$D$7=1,1,IF(Worksheet!$D$7=2,2,RANDBETWEEN(1,2)))","v":2},null,{"$f":"IF(H587=1,C587+E587/60,RANDBETWEEN(1,Worksheet!$D$6)+CHOOSE(Worksheet!$D$10,RANDBETWEEN(1,9)/10,RANDBETWEEN(1,99)/100,RANDBETWEEN(1,999)/1000,RANDBETWEEN(1,9999)/10000,RANDBETWEEN(1,99999)/100000))","v":12.5},"minutes"]
[{"$f":"IF(COUNTIF($B$1:B588,TRUE)=COUNTIF($B$1:B587,TRUE),\"\",COUNTIF($B$1:B588,TRUE))","v":""},{"$f":"Worksheet!$B$14","v":false},{"$f":"IF(H588=1,RANDBETWEEN(1,Worksheet!$D$6),INT(J588))","v":16},{"$f":"IF(C588=1,\"week\",\"weeks\")","v":"weeks"},{"$f":"IF(H588=1,RANDBETWEEN(1,6),(J588-INT(J588))*7)","v":2},"days","=",{"$f":"IF(Worksheet!$D$7=1,1,IF(Worksheet!$D$7=2,2,RANDBETWEEN(1,2)))","v":1},null,{"$f":"IF(H588=1,C588+E588/7,RANDBETWEEN(1,Worksheet!$D$6)+CHOOSE(Worksheet!$D$10,RANDBETWEEN(1,9)/10,RANDBETWEEN(1,99)/100,RANDBETWEEN(1,999)/1000,RANDBETWEEN(1,9999)/10000,RANDBETWEEN(1,99999)/100000))","v":16.285714285714285},"weeks"]
[{"$f":"IF(COUNTIF($B$1:B589,TRUE)=COUNTIF($B$1:B588,TRUE),\"\",COUNTIF($B$1:B589,TRUE))","v":""},{"$f":"Worksheet!$D$12","v":false},{"$f":"IF(H589=1,RANDBETWEEN(1,Worksheet!$D$6),INT(J589))","v":11},{"$f":"IF(C589=1,\"day\",\"days\")","v":"days"},{"$f":"IF(H589=1,RANDBETWEEN(1,23),(J589-INT(J589))*24)","v":10},"hours","=",{"$f":"IF(Worksheet!$D$7=1,1,IF(Worksheet!$D$7=2,2,RANDBETWEEN(1,2)))","v":1},null,{"$f":"IF(H589=1,C589+E589/24,RANDBETWEEN(1,Worksheet!$D$6)+CHOOSE(Worksheet!$D$10,RANDBETWEEN(1,9)/10,RANDBETWEEN(1,99)/100,RANDBETWEEN(1,999)/1000,RANDBETWEEN(1,9999)/10000,RANDBETWEEN(1,99999)/100000))","v":11.416666666666666},"days"]
[{"$f":"IF(COUNTIF($B$1:B590,TRUE)=COUNTIF($B$1:B589,TRUE),\"\",COUNTIF($B$1:B590,TRUE))","v":""},{"$f":"Worksheet!$D$13","v":false},{"$f":"IF(H590=1,RANDBETWEEN(1,Worksheet!$D$6),INT(J590))","v":29},{"$f":"IF(C590=1,\"year\",\"years\")","v":"years"},{"$f":"IF(H590=1,RANDBETWEEN(1,11),(J590-INT(J590))*12)","v":4.7999999999999829},"months","=",{"$f":"IF(Worksheet!$D$7=1,1,IF(Worksheet!$D$7=2,2,RANDBETWEEN(1,2)))","v":2},null,{"$f":"IF(H590=1,C590+E590/12,RANDBETWEEN(1,Worksheet!$D$6)+CHOOSE(Worksheet!$D$10,RANDBETWEEN(1,9)/10,RANDBETWEEN(1,99)/100,RANDBETWEEN(1,999)/1000,RANDBETWEEN(1,9999)/10000,RANDBETWEEN(1,99999)/100000))","v":29.4},"years"]
[{"$f":"COUNTIF($B$1:B591,TRUE)","v":237},{"$f":"Worksheet!$B$12","v":true},{"$f":"IF(H591=1,RANDBETWEEN(1,Worksheet!$D$6),INT(J591))","v":14},{"$f":"IF(C591=1,\"hour\",\"hours\")","v":"hours"},{"$f":"IF(H591=1,IF(Worksheet!$D$10=1,RANDBETWEEN(1,9)*6,IF(Worksheet!$D$10=2,RANDBETWEEN(1,19)*3,RANDBETWEEN(1,59))),(J591-INT(J591))*60)","v":24.000000000000021},"minutes","=",{"$f":"IF(Worksheet!$D$7=1,1,IF(Worksheet!$D$7=2,2,RANDBETWEEN(1,2)))","v":2},null,{"$f":"IF(H591=1,C591+E591/60,RANDBETWEEN(1,Worksheet!$D$6)+CHOOSE(Worksheet!$D$10,RANDBETWEEN(1,9)/10,RANDBETWEEN(1,99)/100,RANDBETWEEN(1,999)/1000,RANDBETWEEN(1,9999)/10000,RANDBETWEEN(1,99999)/100000))","v":14.4},"hours"]
[{"$f":"IF(COUNTIF($B$1:B592,TRUE)=COUNTIF($B$1:B591,TRUE),\"\",COUNTIF($B$1:B592,TRUE))","v":238},{"$f":"Worksheet!$B$13","v":true},{"$f":"IF(H592=1,RANDBETWEEN(1,Worksheet!$D$6),INT(J592))","v":11},{"$f":"IF(C592=1,\"minute\",\"minutes\")","v":"minutes"},{"$f":"IF(H592=1,IF(Worksheet!$D$10=1,RANDBETWEEN(1,9)*6,IF(Worksheet!$D$10=2,RANDBETWEEN(1,19)*3,RANDBETWEEN(1,59))),(J592-INT(J592))*60)","v":36},"seconds","=",{"$f":"IF(Worksheet!$D$7=1,1,IF(Worksheet!$D$7=2,2,RANDBETWEEN(1,2)))","v":1},null,{"$f":"IF(H592=1,C592+E592/60,RANDBETWEEN(1,Worksheet!$D$6)+CHOOSE(Worksheet!$D$10,RANDBETWEEN(1,9)/10,RANDBETWEEN(1,99)/100,RANDBETWEEN(1,999)/1000,RANDBETWEEN(1,9999)/10000,RANDBETWEEN(1,99999)/100000))","v":11.6},"minutes"]
[{"$f":"IF(COUNTIF($B$1:B593,TRUE)=COUNTIF($B$1:B592,TRUE),\"\",COUNTIF($B$1:B593,TRUE))","v":""},{"$f":"Worksheet!$B$14","v":false},{"$f":"IF(H593=1,RANDBETWEEN(1,Worksheet!$D$6),INT(J593))","v":2},{"$f":"IF(C593=1,\"week\",\"weeks\")","v":"weeks"},{"$f":"IF(H593=1,RANDBETWEEN(1,6),(J593-INT(J593))*7)","v":6},"days","=",{"$f":"IF(Worksheet!$D$7=1,1,IF(Worksheet!$D$7=2,2,RANDBETWEEN(1,2)))","v":1},null,{"$f":"IF(H593=1,C593+E593/7,RANDBETWEEN(1,Worksheet!$D$6)+CHOOSE(Worksheet!$D$10,RANDBETWEEN(1,9)/10,RANDBETWEEN(1,99)/100,RANDBETWEEN(1,999)/1000,RANDBETWEEN(1,9999)/10000,RANDBETWEEN(1,99999)/100000))","v":2.8571428571428572},"weeks"]
[{"$f":"IF(COUNTIF($B$1:B594,TRUE)=COUNTIF($B$1:B593,TRUE),\"\",COUNTIF($B$1:B594,TRUE))","v":""},{"$f":"Worksheet!$D$12","v":false},{"$f":"IF(H594=1,RANDBETWEEN(1,Worksheet!$D$6),INT(J594))","v":19},{"$f":"IF(C594=1,\"day\",\"days\")","v":"days"},{"$f":"IF(H594=1,RANDBETWEEN(1,23),(J594-INT(J594))*24)","v":12},"hours","=",{"$f":"IF(Worksheet!$D$7=1,1,IF(Worksheet!$D$7=2,2,RANDBETWEEN(1,2)))","v":2},null,{"$f":"IF(H594=1,C594+E594/24,RANDBETWEEN(1,Worksheet!$D$6)+CHOOSE(Worksheet!$D$10,RANDBETWEEN(1,9)/10,RANDBETWEEN(1,99)/100,RANDBETWEEN(1,999)/1000,RANDBETWEEN(1,9999)/10000,RANDBETWEEN(1,99999)/100000))","v":19.5},"days"]
[{"$f":"IF(COUNTIF($B$1:B595,TRUE)=COUNTIF($B$1:B594,TRUE),\"\",COUNTIF($B$1:B595,TRUE))","v":""},{"$f":"Worksheet!$D$13","v":false},{"$f":"IF(H595=1,RANDBETWEEN(1,Worksheet!$D$6),INT(J595))","v":23},{"$f":"IF(C595=1,\"year\",\"years\")","v":"years"},{"$f":"IF(H595=1,RANDBETWEEN(1,11),(J595-INT(J595))*12)","v":6},"months","=",{"$f":"IF(Worksheet!$D$7=1,1,IF(Worksheet!$D$7=2,2,RANDBETWEEN(1,2)))","v":1},null,{"$f":"IF(H595=1,C595+E595/12,RANDBETWEEN(1,Worksheet!$D$6)+CHOOSE(Worksheet!$D$10,RANDBETWEEN(1,9)/10,RANDBETWEEN(1,99)/100,RANDBETWEEN(1,999)/1000,RANDBETWEEN(1,9999)/10000,RANDBETWEEN(1,99999)/100000))","v":23.5},"years"]
[{"$f":"COUNTIF($B$1:B596,TRUE)","v":239},{"$f":"Worksheet!$B$12","v":true},{"$f":"IF(H596=1,RANDBETWEEN(1,Worksheet!$D$6),INT(J596))","v":17},{"$f":"IF(C596=1,\"hour\",\"hours\")","v":"hours"},{"$f":"IF(H596=1,IF(Worksheet!$D$10=1,RANDBETWEEN(1,9)*6,IF(Worksheet!$D$10=2,RANDBETWEEN(1,19)*3,RANDBETWEEN(1,59))),(J596-INT(J596))*60)","v":23.999999999999915},"minutes","=",{"$f":"IF(Worksheet!$D$7=1,1,IF(Worksheet!$D$7=2,2,RANDBETWEEN(1,2)))","v":2},null,{"$f":"IF(H596=1,C596+E596/60,RANDBETWEEN(1,Worksheet!$D$6)+CHOOSE(Worksheet!$D$10,RANDBETWEEN(1,9)/10,RANDBETWEEN(1,99)/100,RANDBETWEEN(1,999)/1000,RANDBETWEEN(1,9999)/10000,RANDBETWEEN(1,99999)/100000))","v":17.399999999999999},"hours"]
[{"$f":"IF(COUNTIF($B$1:B597,TRUE)=COUNTIF($B$1:B596,TRUE),\"\",COUNTIF($B$1:B597,TRUE))","v":240},{"$f":"Worksheet!$B$13","v":true},{"$f":"IF(H597=1,RANDBETWEEN(1,Worksheet!$D$6),INT(J597))","v":1},{"$f":"IF(C597=1,\"minute\",\"minutes\")","v":"minute"},{"$f":"IF(H597=1,IF(Worksheet!$D$10=1,RANDBETWEEN(1,9)*6,IF(Worksheet!$D$10=2,RANDBETWEEN(1,19)*3,RANDBETWEEN(1,59))),(J597-INT(J597))*60)","v":54},"seconds","=",{"$f":"IF(Worksheet!$D$7=1,1,IF(Worksheet!$D$7=2,2,RANDBETWEEN(1,2)))","v":1},null,{"$f":"IF(H597=1,C597+E597/60,RANDBETWEEN(1,Worksheet!$D$6)+CHOOSE(Worksheet!$D$10,RANDBETWEEN(1,9)/10,RANDBETWEEN(1,99)/100,RANDBETWEEN(1,999)/1000,RANDBETWEEN(1,9999)/10000,RANDBETWEEN(1,99999)/100000))","v":1.9},"minute"]
[{"$f":"IF(COUNTIF($B$1:B598,TRUE)=COUNTIF($B$1:B597,TRUE),\"\",COUNTIF($B$1:B598,TRUE))","v":""},{"$f":"Worksheet!$B$14","v":false},{"$f":"IF(H598=1,RANDBETWEEN(1,Worksheet!$D$6),INT(J598))","v":25},{"$f":"IF(C598=1,\"week\",\"weeks\")","v":"weeks"},{"$f":"IF(H598=1,RANDBETWEEN(1,6),(J598-INT(J598))*7)","v":5.600000000000005},"days","=",{"$f":"IF(Worksheet!$D$7=1,1,IF(Worksheet!$D$7=2,2,RANDBETWEEN(1,2)))","v":2},null,{"$f":"IF(H598=1,C598+E598/7,RANDBETWEEN(1,Worksheet!$D$6)+CHOOSE(Worksheet!$D$10,RANDBETWEEN(1,9)/10,RANDBETWEEN(1,99)/100,RANDBETWEEN(1,999)/1000,RANDBETWEEN(1,9999)/10000,RANDBETWEEN(1,99999)/100000))","v":25.8},"weeks"]
[{"$f":"IF(COUNTIF($B$1:B599,TRUE)=COUNTIF($B$1:B598,TRUE),\"\",COUNTIF($B$1:B599,TRUE))","v":""},{"$f":"Worksheet!$D$12","v":false},{"$f":"IF(H599=1,RANDBETWEEN(1,Worksheet!$D$6),INT(J599))","v":7},{"$f":"IF(C599=1,\"day\",\"days\")","v":"days"},{"$f":"IF(H599=1,RANDBETWEEN(1,23),(J599-INT(J599))*24)","v":14.399999999999991},"hours","=",{"$f":"IF(Worksheet!$D$7=1,1,IF(Worksheet!$D$7=2,2,RANDBETWEEN(1,2)))","v":2},null,{"$f":"IF(H599=1,C599+E599/24,RANDBETWEEN(1,Worksheet!$D$6)+CHOOSE(Worksheet!$D$10,RANDBETWEEN(1,9)/10,RANDBETWEEN(1,99)/100,RANDBETWEEN(1,999)/1000,RANDBETWEEN(1,9999)/10000,RANDBETWEEN(1,99999)/100000))","v":7.6},"days"]
[{"$f":"IF(COUNTIF($B$1:B600,TRUE)=COUNTIF($B$1:B599,TRUE),\"\",COUNTIF($B$1:B600,TRUE))","v":""},{"$f":"Worksheet!$D$13","v":false},{"$f":"IF(H600=1,RANDBETWEEN(1,Worksheet!$D$6),INT(J600))","v":3},{"$f":"IF(C600=1,\"year\",\"years\")","v":"years"},{"$f":"IF(H600=1,RANDBETWEEN(1,11),(J600-INT(J600))*12)","v":9.5999999999999979},"months","=",{"$f":"IF(Worksheet!$D$7=1,1,IF(Worksheet!$D$7=2,2,RANDBETWEEN(1,2)))","v":2},null,{"$f":"IF(H600=1,C600+E600/12,RANDBETWEEN(1,Worksheet!$D$6)+CHOOSE(Worksheet!$D$10,RANDBETWEEN(1,9)/10,RANDBETWEEN(1,99)/100,RANDBETWEEN(1,999)/1000,RANDBETWEEN(1,9999)/10000,RANDBETWEEN(1,99999)/100000))","v":3.8},"years"]
[{"$f":"COUNTIF($B$1:B601,TRUE)","v":241},{"$f":"Worksheet!$B$12","v":true},{"$f":"IF(H601=1,RANDBETWEEN(1,Worksheet!$D$6),INT(J601))","v":30},{"$f":"IF(C601=1,\"hour\",\"hours\")","v":"hours"},{"$f":"IF(H601=1,IF(Worksheet!$D$10=1,RANDBETWEEN(1,9)*6,IF(Worksheet!$D$10=2,RANDBETWEEN(1,19)*3,RANDBETWEEN(1,59))),(J601-INT(J601))*60)","v":30},"minutes","=",{"$f":"IF(Worksheet!$D$7=1,1,IF(Worksheet!$D$7=2,2,RANDBETWEEN(1,2)))","v":1},null,{"$f":"IF(H601=1,C601+E601/60,RANDBETWEEN(1,Worksheet!$D$6)+CHOOSE(Worksheet!$D$10,RANDBETWEEN(1,9)/10,RANDBETWEEN(1,99)/100,RANDBETWEEN(1,999)/1000,RANDBETWEEN(1,9999)/10000,RANDBETWEEN(1,99999)/100000))","v":30.5},"hours"]
[{"$f":"IF(COUNTIF($B$1:B602,TRUE)=COUNTIF($B$1:B601,TRUE),\"\",COUNTIF($B$1:B602,TRUE))","v":242},{"$f":"Worksheet!$B$13","v":true},{"$f":"IF(H602=1,RANDBETWEEN(1,Worksheet!$D$6),INT(J602))","v":14},{"$f":"IF(C602=1,\"minute\",\"minutes\")","v":"minutes"},{"$f":"IF(H602=1,IF(Worksheet!$D$10=1,RANDBETWEEN(1,9)*6,IF(Worksheet!$D$10=2,RANDBETWEEN(1,19)*3,RANDBETWEEN(1,59))),(J602-INT(J602))*60)","v":11.999999999999957},"seconds","=",{"$f":"IF(Worksheet!$D$7=1,1,IF(Worksheet!$D$7=2,2,RANDBETWEEN(1,2)))","v":2},null,{"$f":"IF(H602=1,C602+E602/60,RANDBETWEEN(1,Worksheet!$D$6)+CHOOSE(Worksheet!$D$10,RANDBETWEEN(1,9)/10,RANDBETWEEN(1,99)/100,RANDBETWEEN(1,999)/1000,RANDBETWEEN(1,9999)/10000,RANDBETWEEN(1,99999)/100000))","v":14.2},"minutes"]
[{"$f":"IF(COUNTIF($B$1:B603,TRUE)=COUNTIF($B$1:B602,TRUE),\"\",COUNTIF($B$1:B603,TRUE))","v":""},{"$f":"Worksheet!$B$14","v":false},{"$f":"IF(H603=1,RANDBETWEEN(1,Worksheet!$D$6),INT(J603))","v":4},{"$f":"IF(C603=1,\"week\",\"weeks\")","v":"weeks"},{"$f":"IF(H603=1,RANDBETWEEN(1,6),(J603-INT(J603))*7)","v":3.5},"days","=",{"$f":"IF(Worksheet!$D$7=1,1,IF(Worksheet!$D$7=2,2,RANDBETWEEN(1,2)))","v":2},null,{"$f":"IF(H603=1,C603+E603/7,RANDBETWEEN(1,Worksheet!$D$6)+CHOOSE(Worksheet!$D$10,RANDBETWEEN(1,9)/10,RANDBETWEEN(1,99)/100,RANDBETWEEN(1,999)/1000,RANDBETWEEN(1,9999)/10000,RANDBETWEEN(1,99999)/100000))","v":4.5},"weeks"]
[{"$f":"IF(COUNTIF($B$1:B604,TRUE)=COUNTIF($B$1:B603,TRUE),\"\",COUNTIF($B$1:B604,TRUE))","v":""},{"$f":"Worksheet!$D$12","v":false},{"$f":"IF(H604=1,RANDBETWEEN(1,Worksheet!$D$6),INT(J604))","v":27},{"$f":"IF(C604=1,\"day\",\"days\")","v":"days"},{"$f":"IF(H604=1,RANDBETWEEN(1,23),(J604-INT(J604))*24)","v":4.7999999999999829},"hours","=",{"$f":"IF(Worksheet!$D$7=1,1,IF(Worksheet!$D$7=2,2,RANDBETWEEN(1,2)))","v":2},null,{"$f":"IF(H604=1,C604+E604/24,RANDBETWEEN(1,Worksheet!$D$6)+CHOOSE(Worksheet!$D$10,RANDBETWEEN(1,9)/10,RANDBETWEEN(1,99)/100,RANDBETWEEN(1,999)/1000,RANDBETWEEN(1,9999)/10000,RANDBETWEEN(1,99999)/100000))","v":27.2},"days"]
[{"$f":"IF(COUNTIF($B$1:B605,TRUE)=COUNTIF($B$1:B604,TRUE),\"\",COUNTIF($B$1:B605,TRUE))","v":""},{"$f":"Worksheet!$D$13","v":false},{"$f":"IF(H605=1,RANDBETWEEN(1,Worksheet!$D$6),INT(J605))","v":7},{"$f":"IF(C605=1,\"year\",\"years\")","v":"years"},{"$f":"IF(H605=1,RANDBETWEEN(1,11),(J605-INT(J605))*12)","v":7.1999999999999957},"months","=",{"$f":"IF(Worksheet!$D$7=1,1,IF(Worksheet!$D$7=2,2,RANDBETWEEN(1,2)))","v":2},null,{"$f":"IF(H605=1,C605+E605/12,RANDBETWEEN(1,Worksheet!$D$6)+CHOOSE(Worksheet!$D$10,RANDBETWEEN(1,9)/10,RANDBETWEEN(1,99)/100,RANDBETWEEN(1,999)/1000,RANDBETWEEN(1,9999)/10000,RANDBETWEEN(1,99999)/100000))","v":7.6},"years"]
[{"$f":"COUNTIF($B$1:B606,TRUE)","v":243},{"$f":"Worksheet!$B$12","v":true},{"$f":"IF(H606=1,RANDBETWEEN(1,Worksheet!$D$6),INT(J606))","v":19},{"$f":"IF(C606=1,\"hour\",\"hours\")","v":"hours"},{"$f":"IF(H606=1,IF(Worksheet!$D$10=1,RANDBETWEEN(1,9)*6,IF(Worksheet!$D$10=2,RANDBETWEEN(1,19)*3,RANDBETWEEN(1,59))),(J606-INT(J606))*60)","v":18.000000000000043},"minutes","=",{"$f":"IF(Worksheet!$D$7=1,1,IF(Worksheet!$D$7=2,2,RANDBETWEEN(1,2)))","v":2},null,{"$f":"IF(H606=1,C606+E606/60,RANDBETWEEN(1,Worksheet!$D$6)+CHOOSE(Worksheet!$D$10,RANDBETWEEN(1,9)/10,RANDBETWEEN(1,99)/100,RANDBETWEEN(1,999)/1000,RANDBETWEEN(1,9999)/10000,RANDBETWEEN(1,99999)/100000))","v":19.3},"hours"]
[{"$f":"IF(COUNTIF($B$1:B607,TRUE)=COUNTIF($B$1:B606,TRUE),\"\",COUNTIF($B$1:B607,TRUE))","v":244},{"$f":"Worksheet!$B$13","v":true},{"$f":"IF(H607=1,RANDBETWEEN(1,Worksheet!$D$6),INT(J607))","v":2},{"$f":"IF(C607=1,\"minute\",\"minutes\")","v":"minutes"},{"$f":"IF(H607=1,IF(Worksheet!$D$10=1,RANDBETWEEN(1,9)*6,IF(Worksheet!$D$10=2,RANDBETWEEN(1,19)*3,RANDBETWEEN(1,59))),(J607-INT(J607))*60)","v":24},"seconds","=",{"$f":"IF(Worksheet!$D$7=1,1,IF(Worksheet!$D$7=2,2,RANDBETWEEN(1,2)))","v":1},null,{"$f":"IF(H607=1,C607+E607/60,RANDBETWEEN(1,Worksheet!$D$6)+CHOOSE(Worksheet!$D$10,RANDBETWEEN(1,9)/10,RANDBETWEEN(1,99)/100,RANDBETWEEN(1,999)/1000,RANDBETWEEN(1,9999)/10000,RANDBETWEEN(1,99999)/100000))","v":2.4},{"$f":"D607","v":"minutes"}]
[{"$f":"IF(COUNTIF($B$1:B608,TRUE)=COUNTIF($B$1:B607,TRUE),\"\",COUNTIF($B$1:B608,TRUE))","v":""},{"$f":"Worksheet!$B$14","v":false},{"$f":"IF(H608=1,RANDBETWEEN(1,Worksheet!$D$6),INT(J608))","v":6},{"$f":"IF(C608=1,\"week\",\"weeks\")","v":"weeks"},{"$f":"IF(H608=1,RANDBETWEEN(1,6),(J608-INT(J608))*7)","v":3},"days","=",{"$f":"IF(Worksheet!$D$7=1,1,IF(Worksheet!$D$7=2,2,RANDBETWEEN(1,2)))","v":1},null,{"$f":"IF(H608=1,C608+E608/7,RANDBETWEEN(1,Worksheet!$D$6)+CHOOSE(Worksheet!$D$10,RANDBETWEEN(1,9)/10,RANDBETWEEN(1,99)/100,RANDBETWEEN(1,999)/1000,RANDBETWEEN(1,9999)/10000,RANDBETWEEN(1,99999)/100000))","v":6.4285714285714288},"weeks"]
[{"$f":"IF(COUNTIF($B$1:B609,TRUE)=COUNTIF($B$1:B608,TRUE),\"\",COUNTIF($B$1:B609,TRUE))","v":""},{"$f":"Worksheet!$D$12","v":false},{"$f":"IF(H609=1,RANDBETWEEN(1,Worksheet!$D$6),INT(J609))","v":16},{"$f":"IF(C609=1,\"day\",\"days\")","v":"days"},{"$f":"IF(H609=1,RANDBETWEEN(1,23),(J609-INT(J609))*24)","v":10},"hours","=",{"$f":"IF(Worksheet!$D$7=1,1,IF(Worksheet!$D$7=2,2,RANDBETWEEN(1,2)))","v":1},null,{"$f":"IF(H609=1,C609+E609/24,RANDBETWEEN(1,Worksheet!$D$6)+CHOOSE(Worksheet!$D$10,RANDBETWEEN(1,9)/10,RANDBETWEEN(1,99)/100,RANDBETWEEN(1,999)/1000,RANDBETWEEN(1,9999)/10000,RANDBETWEEN(1,99999)/100000))","v":16.416666666666668},"days"]
[{"$f":"IF(COUNTIF($B$1:B610,TRUE)=COUNTIF($B$1:B609,TRUE),\"\",COUNTIF($B$1:B610,TRUE))","v":""},{"$f":"Worksheet!$D$13","v":false},{"$f":"IF(H610=1,RANDBETWEEN(1,Worksheet!$D$6),INT(J610))","v":22},{"$f":"IF(C610=1,\"year\",\"years\")","v":"years"},{"$f":"IF(H610=1,RANDBETWEEN(1,11),(J610-INT(J610))*12)","v":11},"months","=",{"$f":"IF(Worksheet!$D$7=1,1,IF(Worksheet!$D$7=2,2,RANDBETWEEN(1,2)))","v":1},null,{"$f":"IF(H610=1,C610+E610/12,RANDBETWEEN(1,Worksheet!$D$6)+CHOOSE(Worksheet!$D$10,RANDBETWEEN(1,9)/10,RANDBETWEEN(1,99)/100,RANDBETWEEN(1,999)/1000,RANDBETWEEN(1,9999)/10000,RANDBETWEEN(1,99999)/100000))","v":22.916666666666668},"years"]
[{"$f":"COUNTIF($B$1:B611,TRUE)","v":245},{"$f":"Worksheet!$B$12","v":true},{"$f":"IF(H611=1,RANDBETWEEN(1,Worksheet!$D$6),INT(J611))","v":6},{"$f":"IF(C611=1,\"hour\",\"hours\")","v":"hours"},{"$f":"IF(H611=1,IF(Worksheet!$D$10=1,RANDBETWEEN(1,9)*6,IF(Worksheet!$D$10=2,RANDBETWEEN(1,19)*3,RANDBETWEEN(1,59))),(J611-INT(J611))*60)","v":24},"minutes","=",{"$f":"IF(Worksheet!$D$7=1,1,IF(Worksheet!$D$7=2,2,RANDBETWEEN(1,2)))","v":1},null,{"$f":"IF(H611=1,C611+E611/60,RANDBETWEEN(1,Worksheet!$D$6)+CHOOSE(Worksheet!$D$10,RANDBETWEEN(1,9)/10,RANDBETWEEN(1,99)/100,RANDBETWEEN(1,999)/1000,RANDBETWEEN(1,9999)/10000,RANDBETWEEN(1,99999)/100000))","v":6.4},"hours"]
[{"$f":"IF(COUNTIF($B$1:B612,TRUE)=COUNTIF($B$1:B611,TRUE),\"\",COUNTIF($B$1:B612,TRUE))","v":246},{"$f":"Worksheet!$B$13","v":true},{"$f":"IF(H612=1,RANDBETWEEN(1,Worksheet!$D$6),INT(J612))","v":11},{"$f":"IF(C612=1,\"minute\",\"minutes\")","v":"minutes"},{"$f":"IF(H612=1,IF(Worksheet!$D$10=1,RANDBETWEEN(1,9)*6,IF(Worksheet!$D$10=2,RANDBETWEEN(1,19)*3,RANDBETWEEN(1,59))),(J612-INT(J612))*60)","v":35.999999999999979},"seconds","=",{"$f":"IF(Worksheet!$D$7=1,1,IF(Worksheet!$D$7=2,2,RANDBETWEEN(1,2)))","v":2},null,{"$f":"IF(H612=1,C612+E612/60,RANDBETWEEN(1,Worksheet!$D$6)+CHOOSE(Worksheet!$D$10,RANDBETWEEN(1,9)/10,RANDBETWEEN(1,99)/100,RANDBETWEEN(1,999)/1000,RANDBETWEEN(1,9999)/10000,RANDBETWEEN(1,99999)/100000))","v":11.6},"minutes"]
[{"$f":"IF(COUNTIF($B$1:B613,TRUE)=COUNTIF($B$1:B612,TRUE),\"\",COUNTIF($B$1:B613,TRUE))","v":""},{"$f":"Worksheet!$B$14","v":false},{"$f":"IF(H613=1,RANDBETWEEN(1,Worksheet!$D$6),INT(J613))","v":2},{"$f":"IF(C613=1,\"week\",\"weeks\")","v":"weeks"},{"$f":"IF(H613=1,RANDBETWEEN(1,6),(J613-INT(J613))*7)","v":6},"days","=",{"$f":"IF(Worksheet!$D$7=1,1,IF(Worksheet!$D$7=2,2,RANDBETWEEN(1,2)))","v":1},null,{"$f":"IF(H613=1,C613+E613/7,RANDBETWEEN(1,Worksheet!$D$6)+CHOOSE(Worksheet!$D$10,RANDBETWEEN(1,9)/10,RANDBETWEEN(1,99)/100,RANDBETWEEN(1,999)/1000,RANDBETWEEN(1,9999)/10000,RANDBETWEEN(1,99999)/100000))","v":2.8571428571428572},"weeks"]
[{"$f":"IF(COUNTIF($B$1:B614,TRUE)=COUNTIF($B$1:B613,TRUE),\"\",COUNTIF($B$1:B614,TRUE))","v":""},{"$f":"Worksheet!$D$12","v":false},{"$f":"IF(H614=1,RANDBETWEEN(1,Worksheet!$D$6),INT(J614))","v":19},{"$f":"IF(C614=1,\"day\",\"days\")","v":"days"},{"$f":"IF(H614=1,RANDBETWEEN(1,23),(J614-INT(J614))*24)","v":4.7999999999999829},"hours","=",{"$f":"IF(Worksheet!$D$7=1,1,IF(Worksheet!$D$7=2,2,RANDBETWEEN(1,2)))","v":2},null,{"$f":"IF(H614=1,C614+E614/24,RANDBETWEEN(1,Worksheet!$D$6)+CHOOSE(Worksheet!$D$10,RANDBETWEEN(1,9)/10,RANDBETWEEN(1,99)/100,RANDBETWEEN(1,999)/1000,RANDBETWEEN(1,9999)/10000,RANDBETWEEN(1,99999)/100000))","v":19.2},"days"]
[{"$f":"IF(COUNTIF($B$1:B615,TRUE)=COUNTIF($B$1:B614,TRUE),\"\",COUNTIF($B$1:B615,TRUE))","v":""},{"$f":"Worksheet!$D$13","v":false},{"$f":"IF(H615=1,RANDBETWEEN(1,Worksheet!$D$6),INT(J615))","v":11},{"$f":"IF(C615=1,\"year\",\"years\")","v":"years"},{"$f":"IF(H615=1,RANDBETWEEN(1,11),(J615-INT(J615))*12)","v":2},"months","=",{"$f":"IF(Worksheet!$D$7=1,1,IF(Worksheet!$D$7=2,2,RANDBETWEEN(1,2)))","v":1},null,{"$f":"IF(H615=1,C615+E615/12,RANDBETWEEN(1,Worksheet!$D$6)+CHOOSE(Worksheet!$D$10,RANDBETWEEN(1,9)/10,RANDBETWEEN(1,99)/100,RANDBETWEEN(1,999)/1000,RANDBETWEEN(1,9999)/10000,RANDBETWEEN(1,99999)/100000))","v":11.166666666666666},"years"]
[{"$f":"COUNTIF($B$1:B616,TRUE)","v":247},{"$f":"Worksheet!$B$12","v":true},{"$f":"IF(H616=1,RANDBETWEEN(1,Worksheet!$D$6),INT(J616))","v":7},{"$f":"IF(C616=1,\"hour\",\"hours\")","v":"hours"},{"$f":"IF(H616=1,IF(Worksheet!$D$10=1,RANDBETWEEN(1,9)*6,IF(Worksheet!$D$10=2,RANDBETWEEN(1,19)*3,RANDBETWEEN(1,59))),(J616-INT(J616))*60)","v":12},"minutes","=",{"$f":"IF(Worksheet!$D$7=1,1,IF(Worksheet!$D$7=2,2,RANDBETWEEN(1,2)))","v":1},null,{"$f":"IF(H616=1,C616+E616/60,RANDBETWEEN(1,Worksheet!$D$6)+CHOOSE(Worksheet!$D$10,RANDBETWEEN(1,9)/10,RANDBETWEEN(1,99)/100,RANDBETWEEN(1,999)/1000,RANDBETWEEN(1,9999)/10000,RANDBETWEEN(1,99999)/100000))","v":7.2},"hours"]
[{"$f":"IF(COUNTIF($B$1:B617,TRUE)=COUNTIF($B$1:B616,TRUE),\"\",COUNTIF($B$1:B617,TRUE))","v":248},{"$f":"Worksheet!$B$13","v":true},{"$f":"IF(H617=1,RANDBETWEEN(1,Worksheet!$D$6),INT(J617))","v":14},{"$f":"IF(C617=1,\"minute\",\"minutes\")","v":"minutes"},{"$f":"IF(H617=1,IF(Worksheet!$D$10=1,RANDBETWEEN(1,9)*6,IF(Worksheet!$D$10=2,RANDBETWEEN(1,19)*3,RANDBETWEEN(1,59))),(J617-INT(J617))*60)","v":42},"seconds","=",{"$f":"IF(Worksheet!$D$7=1,1,IF(Worksheet!$D$7=2,2,RANDBETWEEN(1,2)))","v":1},null,{"$f":"IF(H617=1,C617+E617/60,RANDBETWEEN(1,Worksheet!$D$6)+CHOOSE(Worksheet!$D$10,RANDBETWEEN(1,9)/10,RANDBETWEEN(1,99)/100,RANDBETWEEN(1,999)/1000,RANDBETWEEN(1,9999)/10000,RANDBETWEEN(1,99999)/100000))","v":14.7},"minutes"]
[{"$f":"IF(COUNTIF($B$1:B618,TRUE)=COUNTIF($B$1:B617,TRUE),\"\",COUNTIF($B$1:B618,TRUE))","v":""},{"$f":"Worksheet!$B$14","v":false},{"$f":"IF(H618=1,RANDBETWEEN(1,Worksheet!$D$6),INT(J618))","v":21},{"$f":"IF(C618=1,\"week\",\"weeks\")","v":"weeks"},{"$f":"IF(H618=1,RANDBETWEEN(1,6),(J618-INT(J618))*7)","v":5.600000000000005},"days","=",{"$f":"IF(Worksheet!$D$7=1,1,IF(Worksheet!$D$7=2,2,RANDBETWEEN(1,2)))","v":2},null,{"$f":"IF(H618=1,C618+E618/7,RANDBETWEEN(1,Worksheet!$D$6)+CHOOSE(Worksheet!$D$10,RANDBETWEEN(1,9)/10,RANDBETWEEN(1,99)/100,RANDBETWEEN(1,999)/1000,RANDBETWEEN(1,9999)/10000,RANDBETWEEN(1,99999)/100000))","v":21.8},"weeks"]
[{"$f":"IF(COUNTIF($B$1:B619,TRUE)=COUNTIF($B$1:B618,TRUE),\"\",COUNTIF($B$1:B619,TRUE))","v":""},{"$f":"Worksheet!$D$12","v":false},{"$f":"IF(H619=1,RANDBETWEEN(1,Worksheet!$D$6),INT(J619))","v":19},{"$f":"IF(C619=1,\"day\",\"days\")","v":"days"},{"$f":"IF(H619=1,RANDBETWEEN(1,23),(J619-INT(J619))*24)","v":4.7999999999999829},"hours","=",{"$f":"IF(Worksheet!$D$7=1,1,IF(Worksheet!$D$7=2,2,RANDBETWEEN(1,2)))","v":2},null,{"$f":"IF(H619=1,C619+E619/24,RANDBETWEEN(1,Worksheet!$D$6)+CHOOSE(Worksheet!$D$10,RANDBETWEEN(1,9)/10,RANDBETWEEN(1,99)/100,RANDBETWEEN(1,999)/1000,RANDBETWEEN(1,9999)/10000,RANDBETWEEN(1,99999)/100000))","v":19.2},"days"]
[{"$f":"IF(COUNTIF($B$1:B620,TRUE)=COUNTIF($B$1:B619,TRUE),\"\",COUNTIF($B$1:B620,TRUE))","v":""},{"$f":"Worksheet!$D$13","v":false},{"$f":"IF(H620=1,RANDBETWEEN(1,Worksheet!$D$6),INT(J620))","v":16},{"$f":"IF(C620=1,\"year\",\"years\")","v":"years"},{"$f":"IF(H620=1,RANDBETWEEN(1,11),(J620-INT(J620))*12)","v":7.2000000000000171},"months","=",{"$f":"IF(Worksheet!$D$7=1,1,IF(Worksheet!$D$7=2,2,RANDBETWEEN(1,2)))","v":2},null,{"$f":"IF(H620=1,C620+E620/12,RANDBETWEEN(1,Worksheet!$D$6)+CHOOSE(Worksheet!$D$10,RANDBETWEEN(1,9)/10,RANDBETWEEN(1,99)/100,RANDBETWEEN(1,999)/1000,RANDBETWEEN(1,9999)/10000,RANDBETWEEN(1,99999)/100000))","v":16.600000000000001},"years"]
[{"$f":"COUNTIF($B$1:B621,TRUE)","v":249},{"$f":"Worksheet!$B$12","v":true},{"$f":"IF(H621=1,RANDBETWEEN(1,Worksheet!$D$6),INT(J621))","v":16},{"$f":"IF(C621=1,\"hour\",\"hours\")","v":"hours"},{"$f":"IF(H621=1,IF(Worksheet!$D$10=1,RANDBETWEEN(1,9)*6,IF(Worksheet!$D$10=2,RANDBETWEEN(1,19)*3,RANDBETWEEN(1,59))),(J621-INT(J621))*60)","v":42},"minutes","=",{"$f":"IF(Worksheet!$D$7=1,1,IF(Worksheet!$D$7=2,2,RANDBETWEEN(1,2)))","v":1},null,{"$f":"IF(H621=1,C621+E621/60,RANDBETWEEN(1,Worksheet!$D$6)+CHOOSE(Worksheet!$D$10,RANDBETWEEN(1,9)/10,RANDBETWEEN(1,99)/100,RANDBETWEEN(1,999)/1000,RANDBETWEEN(1,9999)/10000,RANDBETWEEN(1,99999)/100000))","v":16.7},"hours"]
[{"$f":"IF(COUNTIF($B$1:B622,TRUE)=COUNTIF($B$1:B621,TRUE),\"\",COUNTIF($B$1:B622,TRUE))","v":250},{"$f":"Worksheet!$B$13","v":true},{"$f":"IF(H622=1,RANDBETWEEN(1,Worksheet!$D$6),INT(J622))","v":28},{"$f":"IF(C622=1,\"minute\",\"minutes\")","v":"minutes"},{"$f":"IF(H622=1,IF(Worksheet!$D$10=1,RANDBETWEEN(1,9)*6,IF(Worksheet!$D$10=2,RANDBETWEEN(1,19)*3,RANDBETWEEN(1,59))),(J622-INT(J622))*60)","v":30},"seconds","=",{"$f":"IF(Worksheet!$D$7=1,1,IF(Worksheet!$D$7=2,2,RANDBETWEEN(1,2)))","v":1},null,{"$f":"IF(H622=1,C622+E622/60,RANDBETWEEN(1,Worksheet!$D$6)+CHOOSE(Worksheet!$D$10,RANDBETWEEN(1,9)/10,RANDBETWEEN(1,99)/100,RANDBETWEEN(1,999)/1000,RANDBETWEEN(1,9999)/10000,RANDBETWEEN(1,99999)/100000))","v":28.5},"minutes"]
[{"$f":"IF(COUNTIF($B$1:B623,TRUE)=COUNTIF($B$1:B622,TRUE),\"\",COUNTIF($B$1:B623,TRUE))","v":""},{"$f":"Worksheet!$B$14","v":false},{"$f":"IF(H623=1,RANDBETWEEN(1,Worksheet!$D$6),INT(J623))","v":5},{"$f":"IF(C623=1,\"week\",\"weeks\")","v":"weeks"},{"$f":"IF(H623=1,RANDBETWEEN(1,6),(J623-INT(J623))*7)","v":3},"days","=",{"$f":"IF(Worksheet!$D$7=1,1,IF(Worksheet!$D$7=2,2,RANDBETWEEN(1,2)))","v":1},null,{"$f":"IF(H623=1,C623+E623/7,RANDBETWEEN(1,Worksheet!$D$6)+CHOOSE(Worksheet!$D$10,RANDBETWEEN(1,9)/10,RANDBETWEEN(1,99)/100,RANDBETWEEN(1,999)/1000,RANDBETWEEN(1,9999)/10000,RANDBETWEEN(1,99999)/100000))","v":5.4285714285714288},"weeks"]
[{"$f":"IF(COUNTIF($B$1:B624,TRUE)=COUNTIF($B$1:B623,TRUE),\"\",COUNTIF($B$1:B624,TRUE))","v":""},{"$f":"Worksheet!$D$12","v":false},{"$f":"IF(H624=1,RANDBETWEEN(1,Worksheet!$D$6),INT(J624))","v":12},{"$f":"IF(C624=1,\"day\",\"days\")","v":"days"},{"$f":"IF(H624=1,RANDBETWEEN(1,23),(J624-INT(J624))*24)","v":4},"hours","=",{"$f":"IF(Worksheet!$D$7=1,1,IF(Worksheet!$D$7=2,2,RANDBETWEEN(1,2)))","v":1},null,{"$f":"IF(H624=1,C624+E624/24,RANDBETWEEN(1,Worksheet!$D$6)+CHOOSE(Worksheet!$D$10,RANDBETWEEN(1,9)/10,RANDBETWEEN(1,99)/100,RANDBETWEEN(1,999)/1000,RANDBETWEEN(1,9999)/10000,RANDBETWEEN(1,99999)/100000))","v":12.166666666666666},"days"]
[{"$f":"IF(COUNTIF($B$1:B625,TRUE)=COUNTIF($B$1:B624,TRUE),\"\",COUNTIF($B$1:B625,TRUE))","v":""},{"$f":"Worksheet!$D$13","v":false},{"$f":"IF(H625=1,RANDBETWEEN(1,Worksheet!$D$6),INT(J625))","v":19},{"$f":"IF(C625=1,\"year\",\"years\")","v":"years"},{"$f":"IF(H625=1,RANDBETWEEN(1,11),(J625-INT(J625))*12)","v":1.2000000000000171},"months","=",{"$f":"IF(Worksheet!$D$7=1,1,IF(Worksheet!$D$7=2,2,RANDBETWEEN(1,2)))","v":2},null,{"$f":"IF(H625=1,C625+E625/12,RANDBETWEEN(1,Worksheet!$D$6)+CHOOSE(Worksheet!$D$10,RANDBETWEEN(1,9)/10,RANDBETWEEN(1,99)/100,RANDBETWEEN(1,999)/1000,RANDBETWEEN(1,9999)/10000,RANDBETWEEN(1,99999)/100000))","v":19.100000000000001},"years"]
[{"$f":"COUNTIF($B$1:B626,TRUE)","v":251},{"$f":"Worksheet!$B$12","v":true},{"$f":"IF(H626=1,RANDBETWEEN(1,Worksheet!$D$6),INT(J626))","v":13},{"$f":"IF(C626=1,\"hour\",\"hours\")","v":"hours"},{"$f":"IF(H626=1,IF(Worksheet!$D$10=1,RANDBETWEEN(1,9)*6,IF(Worksheet!$D$10=2,RANDBETWEEN(1,19)*3,RANDBETWEEN(1,59))),(J626-INT(J626))*60)","v":30},"minutes","=",{"$f":"IF(Worksheet!$D$7=1,1,IF(Worksheet!$D$7=2,2,RANDBETWEEN(1,2)))","v":1},null,{"$f":"IF(H626=1,C626+E626/60,RANDBETWEEN(1,Worksheet!$D$6)+CHOOSE(Worksheet!$D$10,RANDBETWEEN(1,9)/10,RANDBETWEEN(1,99)/100,RANDBETWEEN(1,999)/1000,RANDBETWEEN(1,9999)/10000,RANDBETWEEN(1,99999)/100000))","v":13.5},"hours"]
[{"$f":"IF(COUNTIF($B$1:B627,TRUE)=COUNTIF($B$1:B626,TRUE),\"\",COUNTIF($B$1:B627,TRUE))","v":252},{"$f":"Worksheet!$B$13","v":true},{"$f":"IF(H627=1,RANDBETWEEN(1,Worksheet!$D$6),INT(J627))","v":2},{"$f":"IF(C627=1,\"minute\",\"minutes\")","v":"minutes"},{"$f":"IF(H627=1,IF(Worksheet!$D$10=1,RANDBETWEEN(1,9)*6,IF(Worksheet!$D$10=2,RANDBETWEEN(1,19)*3,RANDBETWEEN(1,59))),(J627-INT(J627))*60)","v":53.999999999999993},"seconds","=",{"$f":"IF(Worksheet!$D$7=1,1,IF(Worksheet!$D$7=2,2,RANDBETWEEN(1,2)))","v":2},null,{"$f":"IF(H627=1,C627+E627/60,RANDBETWEEN(1,Worksheet!$D$6)+CHOOSE(Worksheet!$D$10,RANDBETWEEN(1,9)/10,RANDBETWEEN(1,99)/100,RANDBETWEEN(1,999)/1000,RANDBETWEEN(1,9999)/10000,RANDBETWEEN(1,99999)/100000))","v":2.9},"minutes"]
[{"$f":"IF(COUNTIF($B$1:B628,TRUE)=COUNTIF($B$1:B627,TRUE),\"\",COUNTIF($B$1:B628,TRUE))","v":""},{"$f":"Worksheet!$B$14","v":false},{"$f":"IF(H628=1,RANDBETWEEN(1,Worksheet!$D$6),INT(J628))","v":22},{"$f":"IF(C628=1,\"week\",\"weeks\")","v":"weeks"},{"$f":"IF(H628=1,RANDBETWEEN(1,6),(J628-INT(J628))*7)","v":1},"days","=",{"$f":"IF(Worksheet!$D$7=1,1,IF(Worksheet!$D$7=2,2,RANDBETWEEN(1,2)))","v":1},null,{"$f":"IF(H628=1,C628+E628/7,RANDBETWEEN(1,Worksheet!$D$6)+CHOOSE(Worksheet!$D$10,RANDBETWEEN(1,9)/10,RANDBETWEEN(1,99)/100,RANDBETWEEN(1,999)/1000,RANDBETWEEN(1,9999)/10000,RANDBETWEEN(1,99999)/100000))","v":22.142857142857142},"weeks"]
[{"$f":"IF(COUNTIF($B$1:B629,TRUE)=COUNTIF($B$1:B628,TRUE),\"\",COUNTIF($B$1:B629,TRUE))","v":""},{"$f":"Worksheet!$D$12","v":false},{"$f":"IF(H629=1,RANDBETWEEN(1,Worksheet!$D$6),INT(J629))","v":15},{"$f":"IF(C629=1,\"day\",\"days\")","v":"days"},{"$f":"IF(H629=1,RANDBETWEEN(1,23),(J629-INT(J629))*24)","v":12},"hours","=",{"$f":"IF(Worksheet!$D$7=1,1,IF(Worksheet!$D$7=2,2,RANDBETWEEN(1,2)))","v":1},null,{"$f":"IF(H629=1,C629+E629/24,RANDBETWEEN(1,Worksheet!$D$6)+CHOOSE(Worksheet!$D$10,RANDBETWEEN(1,9)/10,RANDBETWEEN(1,99)/100,RANDBETWEEN(1,999)/1000,RANDBETWEEN(1,9999)/10000,RANDBETWEEN(1,99999)/100000))","v":15.5},"days"]
[{"$f":"IF(COUNTIF($B$1:B630,TRUE)=COUNTIF($B$1:B629,TRUE),\"\",COUNTIF($B$1:B630,TRUE))","v":""},{"$f":"Worksheet!$D$13","v":false},{"$f":"IF(H630=1,RANDBETWEEN(1,Worksheet!$D$6),INT(J630))","v":5},{"$f":"IF(C630=1,\"year\",\"years\")","v":"years"},{"$f":"IF(H630=1,RANDBETWEEN(1,11),(J630-INT(J630))*12)","v":9.5999999999999979},"months","=",{"$f":"IF(Worksheet!$D$7=1,1,IF(Worksheet!$D$7=2,2,RANDBETWEEN(1,2)))","v":2},null,{"$f":"IF(H630=1,C630+E630/12,RANDBETWEEN(1,Worksheet!$D$6)+CHOOSE(Worksheet!$D$10,RANDBETWEEN(1,9)/10,RANDBETWEEN(1,99)/100,RANDBETWEEN(1,999)/1000,RANDBETWEEN(1,9999)/10000,RANDBETWEEN(1,99999)/100000))","v":5.8},"years"]
[{"$f":"COUNTIF($B$1:B631,TRUE)","v":253},{"$f":"Worksheet!$B$12","v":true},{"$f":"IF(H631=1,RANDBETWEEN(1,Worksheet!$D$6),INT(J631))","v":25},{"$f":"IF(C631=1,\"hour\",\"hours\")","v":"hours"},{"$f":"IF(H631=1,IF(Worksheet!$D$10=1,RANDBETWEEN(1,9)*6,IF(Worksheet!$D$10=2,RANDBETWEEN(1,19)*3,RANDBETWEEN(1,59))),(J631-INT(J631))*60)","v":18.000000000000043},"minutes","=",{"$f":"IF(Worksheet!$D$7=1,1,IF(Worksheet!$D$7=2,2,RANDBETWEEN(1,2)))","v":2},null,{"$f":"IF(H631=1,C631+E631/60,RANDBETWEEN(1,Worksheet!$D$6)+CHOOSE(Worksheet!$D$10,RANDBETWEEN(1,9)/10,RANDBETWEEN(1,99)/100,RANDBETWEEN(1,999)/1000,RANDBETWEEN(1,9999)/10000,RANDBETWEEN(1,99999)/100000))","v":25.3},"hours"]
[{"$f":"IF(COUNTIF($B$1:B632,TRUE)=COUNTIF($B$1:B631,TRUE),\"\",COUNTIF($B$1:B632,TRUE))","v":254},{"$f":"Worksheet!$B$13","v":true},{"$f":"IF(H632=1,RANDBETWEEN(1,Worksheet!$D$6),INT(J632))","v":9},{"$f":"IF(C632=1,\"minute\",\"minutes\")","v":"minutes"},{"$f":"IF(H632=1,IF(Worksheet!$D$10=1,RANDBETWEEN(1,9)*6,IF(Worksheet!$D$10=2,RANDBETWEEN(1,19)*3,RANDBETWEEN(1,59))),(J632-INT(J632))*60)","v":24},"seconds","=",{"$f":"IF(Worksheet!$D$7=1,1,IF(Worksheet!$D$7=2,2,RANDBETWEEN(1,2)))","v":1},null,{"$f":"IF(H632=1,C632+E632/60,RANDBETWEEN(1,Worksheet!$D$6)+CHOOSE(Worksheet!$D$10,RANDBETWEEN(1,9)/10,RANDBETWEEN(1,99)/100,RANDBETWEEN(1,999)/1000,RANDBETWEEN(1,9999)/10000,RANDBETWEEN(1,99999)/100000))","v":9.4},"minutes"]
[{"$f":"IF(COUNTIF($B$1:B633,TRUE)=COUNTIF($B$1:B632,TRUE),\"\",COUNTIF($B$1:B633,TRUE))","v":""},{"$f":"Worksheet!$B$14","v":false},{"$f":"IF(H633=1,RANDBETWEEN(1,Worksheet!$D$6),INT(J633))","v":7},{"$f":"IF(C633=1,\"week\",\"weeks\")","v":"weeks"},{"$f":"IF(H633=1,RANDBETWEEN(1,6),(J633-INT(J633))*7)","v":2.0999999999999988},"days","=",{"$f":"IF(Worksheet!$D$7=1,1,IF(Worksheet!$D$7=2,2,RANDBETWEEN(1,2)))","v":2},null,{"$f":"IF(H633=1,C633+E633/7,RANDBETWEEN(1,Worksheet!$D$6)+CHOOSE(Worksheet!$D$10,RANDBETWEEN(1,9)/10,RANDBETWEEN(1,99)/100,RANDBETWEEN(1,999)/1000,RANDBETWEEN(1,9999)/10000,RANDBETWEEN(1,99999)/100000))","v":7.3},"weeks"]
[{"$f":"IF(COUNTIF($B$1:B634,TRUE)=COUNTIF($B$1:B633,TRUE),\"\",COUNTIF($B$1:B634,TRUE))","v":""},{"$f":"Worksheet!$D$12","v":false},{"$f":"IF(H634=1,RANDBETWEEN(1,Worksheet!$D$6),INT(J634))","v":24},{"$f":"IF(C634=1,\"day\",\"days\")","v":"days"},{"$f":"IF(H634=1,RANDBETWEEN(1,23),(J634-INT(J634))*24)","v":12},"hours","=",{"$f":"IF(Worksheet!$D$7=1,1,IF(Worksheet!$D$7=2,2,RANDBETWEEN(1,2)))","v":2},null,{"$f":"IF(H634=1,C634+E634/24,RANDBETWEEN(1,Worksheet!$D$6)+CHOOSE(Worksheet!$D$10,RANDBETWEEN(1,9)/10,RANDBETWEEN(1,99)/100,RANDBETWEEN(1,999)/1000,RANDBETWEEN(1,9999)/10000,RANDBETWEEN(1,99999)/100000))","v":24.5},"days"]
[{"$f":"IF(COUNTIF($B$1:B635,TRUE)=COUNTIF($B$1:B634,TRUE),\"\",COUNTIF($B$1:B635,TRUE))","v":""},{"$f":"Worksheet!$D$13","v":false},{"$f":"IF(H635=1,RANDBETWEEN(1,Worksheet!$D$6),INT(J635))","v":6},{"$f":"IF(C635=1,\"year\",\"years\")","v":"years"},{"$f":"IF(H635=1,RANDBETWEEN(1,11),(J635-INT(J635))*12)","v":8},"months","=",{"$f":"IF(Worksheet!$D$7=1,1,IF(Worksheet!$D$7=2,2,RANDBETWEEN(1,2)))","v":1},null,{"$f":"IF(H635=1,C635+E635/12,RANDBETWEEN(1,Worksheet!$D$6)+CHOOSE(Worksheet!$D$10,RANDBETWEEN(1,9)/10,RANDBETWEEN(1,99)/100,RANDBETWEEN(1,999)/1000,RANDBETWEEN(1,9999)/10000,RANDBETWEEN(1,99999)/100000))","v":6.666666666666667},"years"]
[{"$f":"COUNTIF($B$1:B636,TRUE)","v":255},{"$f":"Worksheet!$B$12","v":true},{"$f":"IF(H636=1,RANDBETWEEN(1,Worksheet!$D$6),INT(J636))","v":14},{"$f":"IF(C636=1,\"hour\",\"hours\")","v":"hours"},{"$f":"IF(H636=1,IF(Worksheet!$D$10=1,RANDBETWEEN(1,9)*6,IF(Worksheet!$D$10=2,RANDBETWEEN(1,19)*3,RANDBETWEEN(1,59))),(J636-INT(J636))*60)","v":12},"minutes","=",{"$f":"IF(Worksheet!$D$7=1,1,IF(Worksheet!$D$7=2,2,RANDBETWEEN(1,2)))","v":1},null,{"$f":"IF(H636=1,C636+E636/60,RANDBETWEEN(1,Worksheet!$D$6)+CHOOSE(Worksheet!$D$10,RANDBETWEEN(1,9)/10,RANDBETWEEN(1,99)/100,RANDBETWEEN(1,999)/1000,RANDBETWEEN(1,9999)/10000,RANDBETWEEN(1,99999)/100000))","v":14.2},"hours"]
[{"$f":"IF(COUNTIF($B$1:B637,TRUE)=COUNTIF($B$1:B636,TRUE),\"\",COUNTIF($B$1:B637,TRUE))","v":256},{"$f":"Worksheet!$B$13","v":true},{"$f":"IF(H637=1,RANDBETWEEN(1,Worksheet!$D$6),INT(J637))","v":22},{"$f":"IF(C637=1,\"minute\",\"minutes\")","v":"minutes"},{"$f":"IF(H637=1,IF(Worksheet!$D$10=1,RANDBETWEEN(1,9)*6,IF(Worksheet!$D$10=2,RANDBETWEEN(1,19)*3,RANDBETWEEN(1,59))),(J637-INT(J637))*60)","v":6.0000000000000853},"seconds","=",{"$f":"IF(Worksheet!$D$7=1,1,IF(Worksheet!$D$7=2,2,RANDBETWEEN(1,2)))","v":2},null,{"$f":"IF(H637=1,C637+E637/60,RANDBETWEEN(1,Worksheet!$D$6)+CHOOSE(Worksheet!$D$10,RANDBETWEEN(1,9)/10,RANDBETWEEN(1,99)/100,RANDBETWEEN(1,999)/1000,RANDBETWEEN(1,9999)/10000,RANDBETWEEN(1,99999)/100000))","v":22.1},"minutes"]
[{"$f":"IF(COUNTIF($B$1:B638,TRUE)=COUNTIF($B$1:B637,TRUE),\"\",COUNTIF($B$1:B638,TRUE))","v":""},{"$f":"Worksheet!$B$14","v":false},{"$f":"IF(H638=1,RANDBETWEEN(1,Worksheet!$D$6),INT(J638))","v":4},{"$f":"IF(C638=1,\"week\",\"weeks\")","v":"weeks"},{"$f":"IF(H638=1,RANDBETWEEN(1,6),(J638-INT(J638))*7)","v":6},"days","=",{"$f":"IF(Worksheet!$D$7=1,1,IF(Worksheet!$D$7=2,2,RANDBETWEEN(1,2)))","v":1},null,{"$f":"IF(H638=1,C638+E638/7,RANDBETWEEN(1,Worksheet!$D$6)+CHOOSE(Worksheet!$D$10,RANDBETWEEN(1,9)/10,RANDBETWEEN(1,99)/100,RANDBETWEEN(1,999)/1000,RANDBETWEEN(1,9999)/10000,RANDBETWEEN(1,99999)/100000))","v":4.8571428571428568},"weeks"]
[{"$f":"IF(COUNTIF($B$1:B639,TRUE)=COUNTIF($B$1:B638,TRUE),\"\",COUNTIF($B$1:B639,TRUE))","v":""},{"$f":"Worksheet!$D$12","v":false},{"$f":"IF(H639=1,RANDBETWEEN(1,Worksheet!$D$6),INT(J639))","v":20},{"$f":"IF(C639=1,\"day\",\"days\")","v":"days"},{"$f":"IF(H639=1,RANDBETWEEN(1,23),(J639-INT(J639))*24)","v":19.200000000000017},"hours","=",{"$f":"IF(Worksheet!$D$7=1,1,IF(Worksheet!$D$7=2,2,RANDBETWEEN(1,2)))","v":2},null,{"$f":"IF(H639=1,C639+E639/24,RANDBETWEEN(1,Worksheet!$D$6)+CHOOSE(Worksheet!$D$10,RANDBETWEEN(1,9)/10,RANDBETWEEN(1,99)/100,RANDBETWEEN(1,999)/1000,RANDBETWEEN(1,9999)/10000,RANDBETWEEN(1,99999)/100000))","v":20.8},"days"]
[{"$f":"IF(COUNTIF($B$1:B640,TRUE)=COUNTIF($B$1:B639,TRUE),\"\",COUNTIF($B$1:B640,TRUE))","v":""},{"$f":"Worksheet!$D$13","v":false},{"$f":"IF(H640=1,RANDBETWEEN(1,Worksheet!$D$6),INT(J640))","v":25},{"$f":"IF(C640=1,\"year\",\"years\")","v":"years"},{"$f":"IF(H640=1,RANDBETWEEN(1,11),(J640-INT(J640))*12)","v":2.3999999999999915},"months","=",{"$f":"IF(Worksheet!$D$7=1,1,IF(Worksheet!$D$7=2,2,RANDBETWEEN(1,2)))","v":2},null,{"$f":"IF(H640=1,C640+E640/12,RANDBETWEEN(1,Worksheet!$D$6)+CHOOSE(Worksheet!$D$10,RANDBETWEEN(1,9)/10,RANDBETWEEN(1,99)/100,RANDBETWEEN(1,999)/1000,RANDBETWEEN(1,9999)/10000,RANDBETWEEN(1,99999)/100000))","v":25.2},"years"]
[{"$f":"COUNTIF($B$1:B641,TRUE)","v":257},{"$f":"Worksheet!$B$12","v":true},{"$f":"IF(H641=1,RANDBETWEEN(1,Worksheet!$D$6),INT(J641))","v":6},{"$f":"IF(C641=1,\"hour\",\"hours\")","v":"hours"},{"$f":"IF(H641=1,IF(Worksheet!$D$10=1,RANDBETWEEN(1,9)*6,IF(Worksheet!$D$10=2,RANDBETWEEN(1,19)*3,RANDBETWEEN(1,59))),(J641-INT(J641))*60)","v":12.000000000000011},"minutes","=",{"$f":"IF(Worksheet!$D$7=1,1,IF(Worksheet!$D$7=2,2,RANDBETWEEN(1,2)))","v":2},null,{"$f":"IF(H641=1,C641+E641/60,RANDBETWEEN(1,Worksheet!$D$6)+CHOOSE(Worksheet!$D$10,RANDBETWEEN(1,9)/10,RANDBETWEEN(1,99)/100,RANDBETWEEN(1,999)/1000,RANDBETWEEN(1,9999)/10000,RANDBETWEEN(1,99999)/100000))","v":6.2},"hours"]
[{"$f":"IF(COUNTIF($B$1:B642,TRUE)=COUNTIF($B$1:B641,TRUE),\"\",COUNTIF($B$1:B642,TRUE))","v":258},{"$f":"Worksheet!$B$13","v":true},{"$f":"IF(H642=1,RANDBETWEEN(1,Worksheet!$D$6),INT(J642))","v":21},{"$f":"IF(C642=1,\"minute\",\"minutes\")","v":"minutes"},{"$f":"IF(H642=1,IF(Worksheet!$D$10=1,RANDBETWEEN(1,9)*6,IF(Worksheet!$D$10=2,RANDBETWEEN(1,19)*3,RANDBETWEEN(1,59))),(J642-INT(J642))*60)","v":6},"seconds","=",{"$f":"IF(Worksheet!$D$7=1,1,IF(Worksheet!$D$7=2,2,RANDBETWEEN(1,2)))","v":1},null,{"$f":"IF(H642=1,C642+E642/60,RANDBETWEEN(1,Worksheet!$D$6)+CHOOSE(Worksheet!$D$10,RANDBETWEEN(1,9)/10,RANDBETWEEN(1,99)/100,RANDBETWEEN(1,999)/1000,RANDBETWEEN(1,9999)/10000,RANDBETWEEN(1,99999)/100000))","v":21.1},"minutes"]
[{"$f":"IF(COUNTIF($B$1:B643,TRUE)=COUNTIF($B$1:B642,TRUE),\"\",COUNTIF($B$1:B643,TRUE))","v":""},{"$f":"Worksheet!$B$14","v":false},{"$f":"IF(H643=1,RANDBETWEEN(1,Worksheet!$D$6),INT(J643))","v":12},{"$f":"IF(C643=1,\"week\",\"weeks\")","v":"weeks"},{"$f":"IF(H643=1,RANDBETWEEN(1,6),(J643-INT(J643))*7)","v":5},"days","=",{"$f":"IF(Worksheet!$D$7=1,1,IF(Worksheet!$D$7=2,2,RANDBETWEEN(1,2)))","v":1},null,{"$f":"IF(H643=1,C643+E643/7,RANDBETWEEN(1,Worksheet!$D$6)+CHOOSE(Worksheet!$D$10,RANDBETWEEN(1,9)/10,RANDBETWEEN(1,99)/100,RANDBETWEEN(1,999)/1000,RANDBETWEEN(1,9999)/10000,RANDBETWEEN(1,99999)/100000))","v":12.714285714285714},"weeks"]
[{"$f":"IF(COUNTIF($B$1:B644,TRUE)=COUNTIF($B$1:B643,TRUE),\"\",COUNTIF($B$1:B644,TRUE))","v":""},{"$f":"Worksheet!$D$12","v":false},{"$f":"IF(H644=1,RANDBETWEEN(1,Worksheet!$D$6),INT(J644))","v":22},{"$f":"IF(C644=1,\"day\",\"days\")","v":"days"},{"$f":"IF(H644=1,RANDBETWEEN(1,23),(J644-INT(J644))*24)","v":19},"hours","=",{"$f":"IF(Worksheet!$D$7=1,1,IF(Worksheet!$D$7=2,2,RANDBETWEEN(1,2)))","v":1},null,{"$f":"IF(H644=1,C644+E644/24,RANDBETWEEN(1,Worksheet!$D$6)+CHOOSE(Worksheet!$D$10,RANDBETWEEN(1,9)/10,RANDBETWEEN(1,99)/100,RANDBETWEEN(1,999)/1000,RANDBETWEEN(1,9999)/10000,RANDBETWEEN(1,99999)/100000))","v":22.791666666666668},"days"]
[{"$f":"IF(COUNTIF($B$1:B645,TRUE)=COUNTIF($B$1:B644,TRUE),\"\",COUNTIF($B$1:B645,TRUE))","v":""},{"$f":"Worksheet!$D$13","v":false},{"$f":"IF(H645=1,RANDBETWEEN(1,Worksheet!$D$6),INT(J645))","v":18},{"$f":"IF(C645=1,\"year\",\"years\")","v":"years"},{"$f":"IF(H645=1,RANDBETWEEN(1,11),(J645-INT(J645))*12)","v":10.799999999999983},"months","=",{"$f":"IF(Worksheet!$D$7=1,1,IF(Worksheet!$D$7=2,2,RANDBETWEEN(1,2)))","v":2},null,{"$f":"IF(H645=1,C645+E645/12,RANDBETWEEN(1,Worksheet!$D$6)+CHOOSE(Worksheet!$D$10,RANDBETWEEN(1,9)/10,RANDBETWEEN(1,99)/100,RANDBETWEEN(1,999)/1000,RANDBETWEEN(1,9999)/10000,RANDBETWEEN(1,99999)/100000))","v":18.899999999999999},"years"]
[{"$f":"COUNTIF($B$1:B646,TRUE)","v":259},{"$f":"Worksheet!$B$12","v":true},{"$f":"IF(H646=1,RANDBETWEEN(1,Worksheet!$D$6),INT(J646))","v":15},{"$f":"IF(C646=1,\"hour\",\"hours\")","v":"hours"},{"$f":"IF(H646=1,IF(Worksheet!$D$10=1,RANDBETWEEN(1,9)*6,IF(Worksheet!$D$10=2,RANDBETWEEN(1,19)*3,RANDBETWEEN(1,59))),(J646-INT(J646))*60)","v":18.000000000000043},"minutes","=",{"$f":"IF(Worksheet!$D$7=1,1,IF(Worksheet!$D$7=2,2,RANDBETWEEN(1,2)))","v":2},null,{"$f":"IF(H646=1,C646+E646/60,RANDBETWEEN(1,Worksheet!$D$6)+CHOOSE(Worksheet!$D$10,RANDBETWEEN(1,9)/10,RANDBETWEEN(1,99)/100,RANDBETWEEN(1,999)/1000,RANDBETWEEN(1,9999)/10000,RANDBETWEEN(1,99999)/100000))","v":15.3},"hours"]
[{"$f":"IF(COUNTIF($B$1:B647,TRUE)=COUNTIF($B$1:B646,TRUE),\"\",COUNTIF($B$1:B647,TRUE))","v":260},{"$f":"Worksheet!$B$13","v":true},{"$f":"IF(H647=1,RANDBETWEEN(1,Worksheet!$D$6),INT(J647))","v":27},{"$f":"IF(C647=1,\"minute\",\"minutes\")","v":"minutes"},{"$f":"IF(H647=1,IF(Worksheet!$D$10=1,RANDBETWEEN(1,9)*6,IF(Worksheet!$D$10=2,RANDBETWEEN(1,19)*3,RANDBETWEEN(1,59))),(J647-INT(J647))*60)","v":23.999999999999915},"seconds","=",{"$f":"IF(Worksheet!$D$7=1,1,IF(Worksheet!$D$7=2,2,RANDBETWEEN(1,2)))","v":2},null,{"$f":"IF(H647=1,C647+E647/60,RANDBETWEEN(1,Worksheet!$D$6)+CHOOSE(Worksheet!$D$10,RANDBETWEEN(1,9)/10,RANDBETWEEN(1,99)/100,RANDBETWEEN(1,999)/1000,RANDBETWEEN(1,9999)/10000,RANDBETWEEN(1,99999)/100000))","v":27.4},"minutes"]
[{"$f":"IF(COUNTIF($B$1:B648,TRUE)=COUNTIF($B$1:B647,TRUE),\"\",COUNTIF($B$1:B648,TRUE))","v":""},{"$f":"Worksheet!$B$14","v":false},{"$f":"IF(H648=1,RANDBETWEEN(1,Worksheet!$D$6),INT(J648))","v":30},{"$f":"IF(C648=1,\"week\",\"weeks\")","v":"weeks"},{"$f":"IF(H648=1,RANDBETWEEN(1,6),(J648-INT(J648))*7)","v":1},"days","=",{"$f":"IF(Worksheet!$D$7=1,1,IF(Worksheet!$D$7=2,2,RANDBETWEEN(1,2)))","v":1},null,{"$f":"IF(H648=1,C648+E648/7,RANDBETWEEN(1,Worksheet!$D$6)+CHOOSE(Worksheet!$D$10,RANDBETWEEN(1,9)/10,RANDBETWEEN(1,99)/100,RANDBETWEEN(1,999)/1000,RANDBETWEEN(1,9999)/10000,RANDBETWEEN(1,99999)/100000))","v":30.142857142857142},"weeks"]
[{"$f":"IF(COUNTIF($B$1:B649,TRUE)=COUNTIF($B$1:B648,TRUE),\"\",COUNTIF($B$1:B649,TRUE))","v":""},{"$f":"Worksheet!$D$12","v":false},{"$f":"IF(H649=1,RANDBETWEEN(1,Worksheet!$D$6),INT(J649))","v":9},{"$f":"IF(C649=1,\"day\",\"days\")","v":"days"},{"$f":"IF(H649=1,RANDBETWEEN(1,23),(J649-INT(J649))*24)","v":1},"hours","=",{"$f":"IF(Worksheet!$D$7=1,1,IF(Worksheet!$D$7=2,2,RANDBETWEEN(1,2)))","v":1},null,{"$f":"IF(H649=1,C649+E649/24,RANDBETWEEN(1,Worksheet!$D$6)+CHOOSE(Worksheet!$D$10,RANDBETWEEN(1,9)/10,RANDBETWEEN(1,99)/100,RANDBETWEEN(1,999)/1000,RANDBETWEEN(1,9999)/10000,RANDBETWEEN(1,99999)/100000))","v":9.0416666666666661},"days"]
[{"$f":"IF(COUNTIF($B$1:B650,TRUE)=COUNTIF($B$1:B649,TRUE),\"\",COUNTIF($B$1:B650,TRUE))","v":""},{"$f":"Worksheet!$D$13","v":false},{"$f":"IF(H650=1,RANDBETWEEN(1,Worksheet!$D$6),INT(J650))","v":28},{"$f":"IF(C650=1,\"year\",\"years\")","v":"years"},{"$f":"IF(H650=1,RANDBETWEEN(1,11),(J650-INT(J650))*12)","v":6},"months","=",{"$f":"IF(Worksheet!$D$7=1,1,IF(Worksheet!$D$7=2,2,RANDBETWEEN(1,2)))","v":2},null,{"$f":"IF(H650=1,C650+E650/12,RANDBETWEEN(1,Worksheet!$D$6)+CHOOSE(Worksheet!$D$10,RANDBETWEEN(1,9)/10,RANDBETWEEN(1,99)/100,RANDBETWEEN(1,999)/1000,RANDBETWEEN(1,9999)/10000,RANDBETWEEN(1,99999)/100000))","v":28.5},"years"]
[{"$f":"COUNTIF($B$1:B651,TRUE)","v":261},{"$f":"Worksheet!$B$12","v":true},{"$f":"IF(H651=1,RANDBETWEEN(1,Worksheet!$D$6),INT(J651))","v":5},{"$f":"IF(C651=1,\"hour\",\"hours\")","v":"hours"},{"$f":"IF(H651=1,IF(Worksheet!$D$10=1,RANDBETWEEN(1,9)*6,IF(Worksheet!$D$10=2,RANDBETWEEN(1,19)*3,RANDBETWEEN(1,59))),(J651-INT(J651))*60)","v":17.999999999999989},"minutes","=",{"$f":"IF(Worksheet!$D$7=1,1,IF(Worksheet!$D$7=2,2,RANDBETWEEN(1,2)))","v":2},null,{"$f":"IF(H651=1,C651+E651/60,RANDBETWEEN(1,Worksheet!$D$6)+CHOOSE(Worksheet!$D$10,RANDBETWEEN(1,9)/10,RANDBETWEEN(1,99)/100,RANDBETWEEN(1,999)/1000,RANDBETWEEN(1,9999)/10000,RANDBETWEEN(1,99999)/100000))","v":5.3},"hours"]
[{"$f":"IF(COUNTIF($B$1:B652,TRUE)=COUNTIF($B$1:B651,TRUE),\"\",COUNTIF($B$1:B652,TRUE))","v":262},{"$f":"Worksheet!$B$13","v":true},{"$f":"IF(H652=1,RANDBETWEEN(1,Worksheet!$D$6),INT(J652))","v":21},{"$f":"IF(C652=1,\"minute\",\"minutes\")","v":"minutes"},{"$f":"IF(H652=1,IF(Worksheet!$D$10=1,RANDBETWEEN(1,9)*6,IF(Worksheet!$D$10=2,RANDBETWEEN(1,19)*3,RANDBETWEEN(1,59))),(J652-INT(J652))*60)","v":48.000000000000043},"seconds","=",{"$f":"IF(Worksheet!$D$7=1,1,IF(Worksheet!$D$7=2,2,RANDBETWEEN(1,2)))","v":2},null,{"$f":"IF(H652=1,C652+E652/60,RANDBETWEEN(1,Worksheet!$D$6)+CHOOSE(Worksheet!$D$10,RANDBETWEEN(1,9)/10,RANDBETWEEN(1,99)/100,RANDBETWEEN(1,999)/1000,RANDBETWEEN(1,9999)/10000,RANDBETWEEN(1,99999)/100000))","v":21.8},"minutes"]
[{"$f":"IF(COUNTIF($B$1:B653,TRUE)=COUNTIF($B$1:B652,TRUE),\"\",COUNTIF($B$1:B653,TRUE))","v":""},{"$f":"Worksheet!$B$14","v":false},{"$f":"IF(H653=1,RANDBETWEEN(1,Worksheet!$D$6),INT(J653))","v":28},{"$f":"IF(C653=1,\"week\",\"weeks\")","v":"weeks"},{"$f":"IF(H653=1,RANDBETWEEN(1,6),(J653-INT(J653))*7)","v":1},"days","=",{"$f":"IF(Worksheet!$D$7=1,1,IF(Worksheet!$D$7=2,2,RANDBETWEEN(1,2)))","v":1},null,{"$f":"IF(H653=1,C653+E653/7,RANDBETWEEN(1,Worksheet!$D$6)+CHOOSE(Worksheet!$D$10,RANDBETWEEN(1,9)/10,RANDBETWEEN(1,99)/100,RANDBETWEEN(1,999)/1000,RANDBETWEEN(1,9999)/10000,RANDBETWEEN(1,99999)/100000))","v":28.142857142857142},"weeks"]
[{"$f":"IF(COUNTIF($B$1:B654,TRUE)=COUNTIF($B$1:B653,TRUE),\"\",COUNTIF($B$1:B654,TRUE))","v":""},{"$f":"Worksheet!$D$12","v":false},{"$f":"IF(H654=1,RANDBETWEEN(1,Worksheet!$D$6),INT(J654))","v":27},{"$f":"IF(C654=1,\"day\",\"days\")","v":"days"},{"$f":"IF(H654=1,RANDBETWEEN(1,23),(J654-INT(J654))*24)","v":19},"hours","=",{"$f":"IF(Worksheet!$D$7=1,1,IF(Worksheet!$D$7=2,2,RANDBETWEEN(1,2)))","v":1},null,{"$f":"IF(H654=1,C654+E654/24,RANDBETWEEN(1,Worksheet!$D$6)+CHOOSE(Worksheet!$D$10,RANDBETWEEN(1,9)/10,RANDBETWEEN(1,99)/100,RANDBETWEEN(1,999)/1000,RANDBETWEEN(1,9999)/10000,RANDBETWEEN(1,99999)/100000))","v":27.791666666666668},"days"]
[{"$f":"IF(COUNTIF($B$1:B655,TRUE)=COUNTIF($B$1:B654,TRUE),\"\",COUNTIF($B$1:B655,TRUE))","v":""},{"$f":"Worksheet!$D$13","v":false},{"$f":"IF(H655=1,RANDBETWEEN(1,Worksheet!$D$6),INT(J655))","v":7},{"$f":"IF(C655=1,\"year\",\"years\")","v":"years"},{"$f":"IF(H655=1,RANDBETWEEN(1,11),(J655-INT(J655))*12)","v":9},"months","=",{"$f":"IF(Worksheet!$D$7=1,1,IF(Worksheet!$D$7=2,2,RANDBETWEEN(1,2)))","v":1},null,{"$f":"IF(H655=1,C655+E655/12,RANDBETWEEN(1,Worksheet!$D$6)+CHOOSE(Worksheet!$D$10,RANDBETWEEN(1,9)/10,RANDBETWEEN(1,99)/100,RANDBETWEEN(1,999)/1000,RANDBETWEEN(1,9999)/10000,RANDBETWEEN(1,99999)/100000))","v":7.75},"years"]
[{"$f":"COUNTIF($B$1:B656,TRUE)","v":263},{"$f":"Worksheet!$B$12","v":true},{"$f":"IF(H656=1,RANDBETWEEN(1,Worksheet!$D$6),INT(J656))","v":2},{"$f":"IF(C656=1,\"hour\",\"hours\")","v":"hours"},{"$f":"IF(H656=1,IF(Worksheet!$D$10=1,RANDBETWEEN(1,9)*6,IF(Worksheet!$D$10=2,RANDBETWEEN(1,19)*3,RANDBETWEEN(1,59))),(J656-INT(J656))*60)","v":23.999999999999993},"minutes","=",{"$f":"IF(Worksheet!$D$7=1,1,IF(Worksheet!$D$7=2,2,RANDBETWEEN(1,2)))","v":2},null,{"$f":"IF(H656=1,C656+E656/60,RANDBETWEEN(1,Worksheet!$D$6)+CHOOSE(Worksheet!$D$10,RANDBETWEEN(1,9)/10,RANDBETWEEN(1,99)/100,RANDBETWEEN(1,999)/1000,RANDBETWEEN(1,9999)/10000,RANDBETWEEN(1,99999)/100000))","v":2.4},"hours"]
[{"$f":"IF(COUNTIF($B$1:B657,TRUE)=COUNTIF($B$1:B656,TRUE),\"\",COUNTIF($B$1:B657,TRUE))","v":264},{"$f":"Worksheet!$B$13","v":true},{"$f":"IF(H657=1,RANDBETWEEN(1,Worksheet!$D$6),INT(J657))","v":15},{"$f":"IF(C657=1,\"minute\",\"minutes\")","v":"minutes"},{"$f":"IF(H657=1,IF(Worksheet!$D$10=1,RANDBETWEEN(1,9)*6,IF(Worksheet!$D$10=2,RANDBETWEEN(1,19)*3,RANDBETWEEN(1,59))),(J657-INT(J657))*60)","v":24},"seconds","=",{"$f":"IF(Worksheet!$D$7=1,1,IF(Worksheet!$D$7=2,2,RANDBETWEEN(1,2)))","v":1},null,{"$f":"IF(H657=1,C657+E657/60,RANDBETWEEN(1,Worksheet!$D$6)+CHOOSE(Worksheet!$D$10,RANDBETWEEN(1,9)/10,RANDBETWEEN(1,99)/100,RANDBETWEEN(1,999)/1000,RANDBETWEEN(1,9999)/10000,RANDBETWEEN(1,99999)/100000))","v":15.4},"minutes"]
[{"$f":"IF(COUNTIF($B$1:B658,TRUE)=COUNTIF($B$1:B657,TRUE),\"\",COUNTIF($B$1:B658,TRUE))","v":""},{"$f":"Worksheet!$B$14","v":false},{"$f":"IF(H658=1,RANDBETWEEN(1,Worksheet!$D$6),INT(J658))","v":15},{"$f":"IF(C658=1,\"week\",\"weeks\")","v":"weeks"},{"$f":"IF(H658=1,RANDBETWEEN(1,6),(J658-INT(J658))*7)","v":2.100000000000005},"days","=",{"$f":"IF(Worksheet!$D$7=1,1,IF(Worksheet!$D$7=2,2,RANDBETWEEN(1,2)))","v":2},null,{"$f":"IF(H658=1,C658+E658/7,RANDBETWEEN(1,Worksheet!$D$6)+CHOOSE(Worksheet!$D$10,RANDBETWEEN(1,9)/10,RANDBETWEEN(1,99)/100,RANDBETWEEN(1,999)/1000,RANDBETWEEN(1,9999)/10000,RANDBETWEEN(1,99999)/100000))","v":15.3},"weeks"]
[{"$f":"IF(COUNTIF($B$1:B659,TRUE)=COUNTIF($B$1:B658,TRUE),\"\",COUNTIF($B$1:B659,TRUE))","v":""},{"$f":"Worksheet!$D$12","v":false},{"$f":"IF(H659=1,RANDBETWEEN(1,Worksheet!$D$6),INT(J659))","v":22},{"$f":"IF(C659=1,\"day\",\"days\")","v":"days"},{"$f":"IF(H659=1,RANDBETWEEN(1,23),(J659-INT(J659))*24)","v":11},"hours","=",{"$f":"IF(Worksheet!$D$7=1,1,IF(Worksheet!$D$7=2,2,RANDBETWEEN(1,2)))","v":1},null,{"$f":"IF(H659=1,C659+E659/24,RANDBETWEEN(1,Worksheet!$D$6)+CHOOSE(Worksheet!$D$10,RANDBETWEEN(1,9)/10,RANDBETWEEN(1,99)/100,RANDBETWEEN(1,999)/1000,RANDBETWEEN(1,9999)/10000,RANDBETWEEN(1,99999)/100000))","v":22.458333333333332},"days"]
[{"$f":"IF(COUNTIF($B$1:B660,TRUE)=COUNTIF($B$1:B659,TRUE),\"\",COUNTIF($B$1:B660,TRUE))","v":""},{"$f":"Worksheet!$D$13","v":false},{"$f":"IF(H660=1,RANDBETWEEN(1,Worksheet!$D$6),INT(J660))","v":14},{"$f":"IF(C660=1,\"year\",\"years\")","v":"years"},{"$f":"IF(H660=1,RANDBETWEEN(1,11),(J660-INT(J660))*12)","v":1},"months","=",{"$f":"IF(Worksheet!$D$7=1,1,IF(Worksheet!$D$7=2,2,RANDBETWEEN(1,2)))","v":1},null,{"$f":"IF(H660=1,C660+E660/12,RANDBETWEEN(1,Worksheet!$D$6)+CHOOSE(Worksheet!$D$10,RANDBETWEEN(1,9)/10,RANDBETWEEN(1,99)/100,RANDBETWEEN(1,999)/1000,RANDBETWEEN(1,9999)/10000,RANDBETWEEN(1,99999)/100000))","v":14.083333333333334},"years"]
[{"$f":"COUNTIF($B$1:B661,TRUE)","v":265},{"$f":"Worksheet!$B$12","v":true},{"$f":"IF(H661=1,RANDBETWEEN(1,Worksheet!$D$6),INT(J661))","v":23},{"$f":"IF(C661=1,\"hour\",\"hours\")","v":"hours"},{"$f":"IF(H661=1,IF(Worksheet!$D$10=1,RANDBETWEEN(1,9)*6,IF(Worksheet!$D$10=2,RANDBETWEEN(1,19)*3,RANDBETWEEN(1,59))),(J661-INT(J661))*60)","v":30},"minutes","=",{"$f":"IF(Worksheet!$D$7=1,1,IF(Worksheet!$D$7=2,2,RANDBETWEEN(1,2)))","v":1},null,{"$f":"IF(H661=1,C661+E661/60,RANDBETWEEN(1,Worksheet!$D$6)+CHOOSE(Worksheet!$D$10,RANDBETWEEN(1,9)/10,RANDBETWEEN(1,99)/100,RANDBETWEEN(1,999)/1000,RANDBETWEEN(1,9999)/10000,RANDBETWEEN(1,99999)/100000))","v":23.5},"hours"]
[{"$f":"IF(COUNTIF($B$1:B662,TRUE)=COUNTIF($B$1:B661,TRUE),\"\",COUNTIF($B$1:B662,TRUE))","v":266},{"$f":"Worksheet!$B$13","v":true},{"$f":"IF(H662=1,RANDBETWEEN(1,Worksheet!$D$6),INT(J662))","v":3},{"$f":"IF(C662=1,\"minute\",\"minutes\")","v":"minutes"},{"$f":"IF(H662=1,IF(Worksheet!$D$10=1,RANDBETWEEN(1,9)*6,IF(Worksheet!$D$10=2,RANDBETWEEN(1,19)*3,RANDBETWEEN(1,59))),(J662-INT(J662))*60)","v":30},"seconds","=",{"$f":"IF(Worksheet!$D$7=1,1,IF(Worksheet!$D$7=2,2,RANDBETWEEN(1,2)))","v":2},null,{"$f":"IF(H662=1,C662+E662/60,RANDBETWEEN(1,Worksheet!$D$6)+CHOOSE(Worksheet!$D$10,RANDBETWEEN(1,9)/10,RANDBETWEEN(1,99)/100,RANDBETWEEN(1,999)/1000,RANDBETWEEN(1,9999)/10000,RANDBETWEEN(1,99999)/100000))","v":3.5},"minutes"]
[{"$f":"IF(COUNTIF($B$1:B663,TRUE)=COUNTIF($B$1:B662,TRUE),\"\",COUNTIF($B$1:B663,TRUE))","v":""},{"$f":"Worksheet!$B$14","v":false},{"$f":"IF(H663=1,RANDBETWEEN(1,Worksheet!$D$6),INT(J663))","v":22},{"$f":"IF(C663=1,\"week\",\"weeks\")","v":"weeks"},{"$f":"IF(H663=1,RANDBETWEEN(1,6),(J663-INT(J663))*7)","v":2.100000000000005},"days","=",{"$f":"IF(Worksheet!$D$7=1,1,IF(Worksheet!$D$7=2,2,RANDBETWEEN(1,2)))","v":2},null,{"$f":"IF(H663=1,C663+E663/7,RANDBETWEEN(1,Worksheet!$D$6)+CHOOSE(Worksheet!$D$10,RANDBETWEEN(1,9)/10,RANDBETWEEN(1,99)/100,RANDBETWEEN(1,999)/1000,RANDBETWEEN(1,9999)/10000,RANDBETWEEN(1,99999)/100000))","v":22.3},"weeks"]
[{"$f":"IF(COUNTIF($B$1:B664,TRUE)=COUNTIF($B$1:B663,TRUE),\"\",COUNTIF($B$1:B664,TRUE))","v":""},{"$f":"Worksheet!$D$12","v":false},{"$f":"IF(H664=1,RANDBETWEEN(1,Worksheet!$D$6),INT(J664))","v":5},{"$f":"IF(C664=1,\"day\",\"days\")","v":"days"},{"$f":"IF(H664=1,RANDBETWEEN(1,23),(J664-INT(J664))*24)","v":9.6000000000000085},"hours","=",{"$f":"IF(Worksheet!$D$7=1,1,IF(Worksheet!$D$7=2,2,RANDBETWEEN(1,2)))","v":2},null,{"$f":"IF(H664=1,C664+E664/24,RANDBETWEEN(1,Worksheet!$D$6)+CHOOSE(Worksheet!$D$10,RANDBETWEEN(1,9)/10,RANDBETWEEN(1,99)/100,RANDBETWEEN(1,999)/1000,RANDBETWEEN(1,9999)/10000,RANDBETWEEN(1,99999)/100000))","v":5.4},"days"]
[{"$f":"IF(COUNTIF($B$1:B665,TRUE)=COUNTIF($B$1:B664,TRUE),\"\",COUNTIF($B$1:B665,TRUE))","v":""},{"$f":"Worksheet!$D$13","v":false},{"$f":"IF(H665=1,RANDBETWEEN(1,Worksheet!$D$6),INT(J665))","v":1},{"$f":"IF(C665=1,\"year\",\"years\")","v":"year"},{"$f":"IF(H665=1,RANDBETWEEN(1,11),(J665-INT(J665))*12)","v":11},"months","=",{"$f":"IF(Worksheet!$D$7=1,1,IF(Worksheet!$D$7=2,2,RANDBETWEEN(1,2)))","v":1},null,{"$f":"IF(H665=1,C665+E665/12,RANDBETWEEN(1,Worksheet!$D$6)+CHOOSE(Worksheet!$D$10,RANDBETWEEN(1,9)/10,RANDBETWEEN(1,99)/100,RANDBETWEEN(1,999)/1000,RANDBETWEEN(1,9999)/10000,RANDBETWEEN(1,99999)/100000))","v":1.9166666666666665},"year"]
[{"$f":"COUNTIF($B$1:B666,TRUE)","v":267},{"$f":"Worksheet!$B$12","v":true},{"$f":"IF(H666=1,RANDBETWEEN(1,Worksheet!$D$6),INT(J666))","v":23},{"$f":"IF(C666=1,\"hour\",\"hours\")","v":"hours"},{"$f":"IF(H666=1,IF(Worksheet!$D$10=1,RANDBETWEEN(1,9)*6,IF(Worksheet!$D$10=2,RANDBETWEEN(1,19)*3,RANDBETWEEN(1,59))),(J666-INT(J666))*60)","v":6},"minutes","=",{"$f":"IF(Worksheet!$D$7=1,1,IF(Worksheet!$D$7=2,2,RANDBETWEEN(1,2)))","v":1},null,{"$f":"IF(H666=1,C666+E666/60,RANDBETWEEN(1,Worksheet!$D$6)+CHOOSE(Worksheet!$D$10,RANDBETWEEN(1,9)/10,RANDBETWEEN(1,99)/100,RANDBETWEEN(1,999)/1000,RANDBETWEEN(1,9999)/10000,RANDBETWEEN(1,99999)/100000))","v":23.1},"hours"]
[{"$f":"IF(COUNTIF($B$1:B667,TRUE)=COUNTIF($B$1:B666,TRUE),\"\",COUNTIF($B$1:B667,TRUE))","v":268},{"$f":"Worksheet!$B$13","v":true},{"$f":"IF(H667=1,RANDBETWEEN(1,Worksheet!$D$6),INT(J667))","v":16},{"$f":"IF(C667=1,\"minute\",\"minutes\")","v":"minutes"},{"$f":"IF(H667=1,IF(Worksheet!$D$10=1,RANDBETWEEN(1,9)*6,IF(Worksheet!$D$10=2,RANDBETWEEN(1,19)*3,RANDBETWEEN(1,59))),(J667-INT(J667))*60)","v":53.999999999999915},"seconds","=",{"$f":"IF(Worksheet!$D$7=1,1,IF(Worksheet!$D$7=2,2,RANDBETWEEN(1,2)))","v":2},null,{"$f":"IF(H667=1,C667+E667/60,RANDBETWEEN(1,Worksheet!$D$6)+CHOOSE(Worksheet!$D$10,RANDBETWEEN(1,9)/10,RANDBETWEEN(1,99)/100,RANDBETWEEN(1,999)/1000,RANDBETWEEN(1,9999)/10000,RANDBETWEEN(1,99999)/100000))","v":16.899999999999999},"minutes"]
[{"$f":"IF(COUNTIF($B$1:B668,TRUE)=COUNTIF($B$1:B667,TRUE),\"\",COUNTIF($B$1:B668,TRUE))","v":""},{"$f":"Worksheet!$B$14","v":false},{"$f":"IF(H668=1,RANDBETWEEN(1,Worksheet!$D$6),INT(J668))","v":16},{"$f":"IF(C668=1,\"week\",\"weeks\")","v":"weeks"},{"$f":"IF(H668=1,RANDBETWEEN(1,6),(J668-INT(J668))*7)","v":1.399999999999995},"days","=",{"$f":"IF(Worksheet!$D$7=1,1,IF(Worksheet!$D$7=2,2,RANDBETWEEN(1,2)))","v":2},null,{"$f":"IF(H668=1,C668+E668/7,RANDBETWEEN(1,Worksheet!$D$6)+CHOOSE(Worksheet!$D$10,RANDBETWEEN(1,9)/10,RANDBETWEEN(1,99)/100,RANDBETWEEN(1,999)/1000,RANDBETWEEN(1,9999)/10000,RANDBETWEEN(1,99999)/100000))","v":16.2},"weeks"]
[{"$f":"IF(COUNTIF($B$1:B669,TRUE)=COUNTIF($B$1:B668,TRUE),\"\",COUNTIF($B$1:B669,TRUE))","v":""},{"$f":"Worksheet!$D$12","v":false},{"$f":"IF(H669=1,RANDBETWEEN(1,Worksheet!$D$6),INT(J669))","v":18},{"$f":"IF(C669=1,\"day\",\"days\")","v":"days"},{"$f":"IF(H669=1,RANDBETWEEN(1,23),(J669-INT(J669))*24)","v":19},"hours","=",{"$f":"IF(Worksheet!$D$7=1,1,IF(Worksheet!$D$7=2,2,RANDBETWEEN(1,2)))","v":1},null,{"$f":"IF(H669=1,C669+E669/24,RANDBETWEEN(1,Worksheet!$D$6)+CHOOSE(Worksheet!$D$10,RANDBETWEEN(1,9)/10,RANDBETWEEN(1,99)/100,RANDBETWEEN(1,999)/1000,RANDBETWEEN(1,9999)/10000,RANDBETWEEN(1,99999)/100000))","v":18.791666666666668},"days"]
[{"$f":"IF(COUNTIF($B$1:B670,TRUE)=COUNTIF($B$1:B669,TRUE),\"\",COUNTIF($B$1:B670,TRUE))","v":""},{"$f":"Worksheet!$D$13","v":false},{"$f":"IF(H670=1,RANDBETWEEN(1,Worksheet!$D$6),INT(J670))","v":21},{"$f":"IF(C670=1,\"year\",\"years\")","v":"years"},{"$f":"IF(H670=1,RANDBETWEEN(1,11),(J670-INT(J670))*12)","v":7.2000000000000171},"months","=",{"$f":"IF(Worksheet!$D$7=1,1,IF(Worksheet!$D$7=2,2,RANDBETWEEN(1,2)))","v":2},null,{"$f":"IF(H670=1,C670+E670/12,RANDBETWEEN(1,Worksheet!$D$6)+CHOOSE(Worksheet!$D$10,RANDBETWEEN(1,9)/10,RANDBETWEEN(1,99)/100,RANDBETWEEN(1,999)/1000,RANDBETWEEN(1,9999)/10000,RANDBETWEEN(1,99999)/100000))","v":21.6},"years"]
[{"$f":"COUNTIF($B$1:B671,TRUE)","v":269},{"$f":"Worksheet!$B$12","v":true},{"$f":"IF(H671=1,RANDBETWEEN(1,Worksheet!$D$6),INT(J671))","v":27},{"$f":"IF(C671=1,\"hour\",\"hours\")","v":"hours"},{"$f":"IF(H671=1,IF(Worksheet!$D$10=1,RANDBETWEEN(1,9)*6,IF(Worksheet!$D$10=2,RANDBETWEEN(1,19)*3,RANDBETWEEN(1,59))),(J671-INT(J671))*60)","v":36},"minutes","=",{"$f":"IF(Worksheet!$D$7=1,1,IF(Worksheet!$D$7=2,2,RANDBETWEEN(1,2)))","v":1},null,{"$f":"IF(H671=1,C671+E671/60,RANDBETWEEN(1,Worksheet!$D$6)+CHOOSE(Worksheet!$D$10,RANDBETWEEN(1,9)/10,RANDBETWEEN(1,99)/100,RANDBETWEEN(1,999)/1000,RANDBETWEEN(1,9999)/10000,RANDBETWEEN(1,99999)/100000))","v":27.6},{"$f":"D671","v":"hours"}]
[{"$f":"IF(COUNTIF($B$1:B672,TRUE)=COUNTIF($B$1:B671,TRUE),\"\",COUNTIF($B$1:B672,TRUE))","v":270},{"$f":"Worksheet!$B$13","v":true},{"$f":"IF(H672=1,RANDBETWEEN(1,Worksheet!$D$6),INT(J672))","v":3},{"$f":"IF(C672=1,\"minute\",\"minutes\")","v":"minutes"},{"$f":"IF(H672=1,IF(Worksheet!$D$10=1,RANDBETWEEN(1,9)*6,IF(Worksheet!$D$10=2,RANDBETWEEN(1,19)*3,RANDBETWEEN(1,59))),(J672-INT(J672))*60)","v":36},"seconds","=",{"$f":"IF(Worksheet!$D$7=1,1,IF(Worksheet!$D$7=2,2,RANDBETWEEN(1,2)))","v":1},null,{"$f":"IF(H672=1,C672+E672/60,RANDBETWEEN(1,Worksheet!$D$6)+CHOOSE(Worksheet!$D$10,RANDBETWEEN(1,9)/10,RANDBETWEEN(1,99)/100,RANDBETWEEN(1,999)/1000,RANDBETWEEN(1,9999)/10000,RANDBETWEEN(1,99999)/100000))","v":3.6},"minutes"]
[{"$f":"IF(COUNTIF($B$1:B673,TRUE)=COUNTIF($B$1:B672,TRUE),\"\",COUNTIF($B$1:B673,TRUE))","v":""},{"$f":"Worksheet!$B$14","v":false},{"$f":"IF(H673=1,RANDBETWEEN(1,Worksheet!$D$6),INT(J673))","v":21},{"$f":"IF(C673=1,\"week\",\"weeks\")","v":"weeks"},{"$f":"IF(H673=1,RANDBETWEEN(1,6),(J673-INT(J673))*7)","v":6},"days","=",{"$f":"IF(Worksheet!$D$7=1,1,IF(Worksheet!$D$7=2,2,RANDBETWEEN(1,2)))","v":1},null,{"$f":"IF(H673=1,C673+E673/7,RANDBETWEEN(1,Worksheet!$D$6)+CHOOSE(Worksheet!$D$10,RANDBETWEEN(1,9)/10,RANDBETWEEN(1,99)/100,RANDBETWEEN(1,999)/1000,RANDBETWEEN(1,9999)/10000,RANDBETWEEN(1,99999)/100000))","v":21.857142857142858},"weeks"]
[{"$f":"IF(COUNTIF($B$1:B674,TRUE)=COUNTIF($B$1:B673,TRUE),\"\",COUNTIF($B$1:B674,TRUE))","v":""},{"$f":"Worksheet!$D$12","v":false},{"$f":"IF(H674=1,RANDBETWEEN(1,Worksheet!$D$6),INT(J674))","v":12},{"$f":"IF(C674=1,\"day\",\"days\")","v":"days"},{"$f":"IF(H674=1,RANDBETWEEN(1,23),(J674-INT(J674))*24)","v":12},"hours","=",{"$f":"IF(Worksheet!$D$7=1,1,IF(Worksheet!$D$7=2,2,RANDBETWEEN(1,2)))","v":1},null,{"$f":"IF(H674=1,C674+E674/24,RANDBETWEEN(1,Worksheet!$D$6)+CHOOSE(Worksheet!$D$10,RANDBETWEEN(1,9)/10,RANDBETWEEN(1,99)/100,RANDBETWEEN(1,999)/1000,RANDBETWEEN(1,9999)/10000,RANDBETWEEN(1,99999)/100000))","v":12.5},"days"]
[{"$f":"IF(COUNTIF($B$1:B675,TRUE)=COUNTIF($B$1:B674,TRUE),\"\",COUNTIF($B$1:B675,TRUE))","v":""},{"$f":"Worksheet!$D$13","v":false},{"$f":"IF(H675=1,RANDBETWEEN(1,Worksheet!$D$6),INT(J675))","v":12},{"$f":"IF(C675=1,\"year\",\"years\")","v":"years"},{"$f":"IF(H675=1,RANDBETWEEN(1,11),(J675-INT(J675))*12)","v":2.3999999999999915},"months","=",{"$f":"IF(Worksheet!$D$7=1,1,IF(Worksheet!$D$7=2,2,RANDBETWEEN(1,2)))","v":2},null,{"$f":"IF(H675=1,C675+E675/12,RANDBETWEEN(1,Worksheet!$D$6)+CHOOSE(Worksheet!$D$10,RANDBETWEEN(1,9)/10,RANDBETWEEN(1,99)/100,RANDBETWEEN(1,999)/1000,RANDBETWEEN(1,9999)/10000,RANDBETWEEN(1,99999)/100000))","v":12.2},"years"]
[{"$f":"COUNTIF($B$1:B676,TRUE)","v":271},{"$f":"Worksheet!$B$12","v":true},{"$f":"IF(H676=1,RANDBETWEEN(1,Worksheet!$D$6),INT(J676))","v":25},{"$f":"IF(C676=1,\"hour\",\"hours\")","v":"hours"},{"$f":"IF(H676=1,IF(Worksheet!$D$10=1,RANDBETWEEN(1,9)*6,IF(Worksheet!$D$10=2,RANDBETWEEN(1,19)*3,RANDBETWEEN(1,59))),(J676-INT(J676))*60)","v":23.999999999999915},"minutes","=",{"$f":"IF(Worksheet!$D$7=1,1,IF(Worksheet!$D$7=2,2,RANDBETWEEN(1,2)))","v":2},null,{"$f":"IF(H676=1,C676+E676/60,RANDBETWEEN(1,Worksheet!$D$6)+CHOOSE(Worksheet!$D$10,RANDBETWEEN(1,9)/10,RANDBETWEEN(1,99)/100,RANDBETWEEN(1,999)/1000,RANDBETWEEN(1,9999)/10000,RANDBETWEEN(1,99999)/100000))","v":25.4},"hours"]
[{"$f":"IF(COUNTIF($B$1:B677,TRUE)=COUNTIF($B$1:B676,TRUE),\"\",COUNTIF($B$1:B677,TRUE))","v":272},{"$f":"Worksheet!$B$13","v":true},{"$f":"IF(H677=1,RANDBETWEEN(1,Worksheet!$D$6),INT(J677))","v":1},{"$f":"IF(C677=1,\"minute\",\"minutes\")","v":"minute"},{"$f":"IF(H677=1,IF(Worksheet!$D$10=1,RANDBETWEEN(1,9)*6,IF(Worksheet!$D$10=2,RANDBETWEEN(1,19)*3,RANDBETWEEN(1,59))),(J677-INT(J677))*60)","v":42},"seconds","=",{"$f":"IF(Worksheet!$D$7=1,1,IF(Worksheet!$D$7=2,2,RANDBETWEEN(1,2)))","v":2},null,{"$f":"IF(H677=1,C677+E677/60,RANDBETWEEN(1,Worksheet!$D$6)+CHOOSE(Worksheet!$D$10,RANDBETWEEN(1,9)/10,RANDBETWEEN(1,99)/100,RANDBETWEEN(1,999)/1000,RANDBETWEEN(1,9999)/10000,RANDBETWEEN(1,99999)/100000))","v":1.7},"minute"]
[{"$f":"IF(COUNTIF($B$1:B678,TRUE)=COUNTIF($B$1:B677,TRUE),\"\",COUNTIF($B$1:B678,TRUE))","v":""},{"$f":"Worksheet!$B$14","v":false},{"$f":"IF(H678=1,RANDBETWEEN(1,Worksheet!$D$6),INT(J678))","v":11},{"$f":"IF(C678=1,\"week\",\"weeks\")","v":"weeks"},{"$f":"IF(H678=1,RANDBETWEEN(1,6),(J678-INT(J678))*7)","v":6.3000000000000025},"days","=",{"$f":"IF(Worksheet!$D$7=1,1,IF(Worksheet!$D$7=2,2,RANDBETWEEN(1,2)))","v":2},null,{"$f":"IF(H678=1,C678+E678/7,RANDBETWEEN(1,Worksheet!$D$6)+CHOOSE(Worksheet!$D$10,RANDBETWEEN(1,9)/10,RANDBETWEEN(1,99)/100,RANDBETWEEN(1,999)/1000,RANDBETWEEN(1,9999)/10000,RANDBETWEEN(1,99999)/100000))","v":11.9},"weeks"]
[{"$f":"IF(COUNTIF($B$1:B679,TRUE)=COUNTIF($B$1:B678,TRUE),\"\",COUNTIF($B$1:B679,TRUE))","v":""},{"$f":"Worksheet!$D$12","v":false},{"$f":"IF(H679=1,RANDBETWEEN(1,Worksheet!$D$6),INT(J679))","v":29},{"$f":"IF(C679=1,\"day\",\"days\")","v":"days"},{"$f":"IF(H679=1,RANDBETWEEN(1,23),(J679-INT(J679))*24)","v":16.799999999999983},"hours","=",{"$f":"IF(Worksheet!$D$7=1,1,IF(Worksheet!$D$7=2,2,RANDBETWEEN(1,2)))","v":2},null,{"$f":"IF(H679=1,C679+E679/24,RANDBETWEEN(1,Worksheet!$D$6)+CHOOSE(Worksheet!$D$10,RANDBETWEEN(1,9)/10,RANDBETWEEN(1,99)/100,RANDBETWEEN(1,999)/1000,RANDBETWEEN(1,9999)/10000,RANDBETWEEN(1,99999)/100000))","v":29.7},"days"]
[{"$f":"IF(COUNTIF($B$1:B680,TRUE)=COUNTIF($B$1:B679,TRUE),\"\",COUNTIF($B$1:B680,TRUE))","v":""},{"$f":"Worksheet!$D$13","v":false},{"$f":"IF(H680=1,RANDBETWEEN(1,Worksheet!$D$6),INT(J680))","v":20},{"$f":"IF(C680=1,\"year\",\"years\")","v":"years"},{"$f":"IF(H680=1,RANDBETWEEN(1,11),(J680-INT(J680))*12)","v":8.3999999999999915},"months","=",{"$f":"IF(Worksheet!$D$7=1,1,IF(Worksheet!$D$7=2,2,RANDBETWEEN(1,2)))","v":2},null,{"$f":"IF(H680=1,C680+E680/12,RANDBETWEEN(1,Worksheet!$D$6)+CHOOSE(Worksheet!$D$10,RANDBETWEEN(1,9)/10,RANDBETWEEN(1,99)/100,RANDBETWEEN(1,999)/1000,RANDBETWEEN(1,9999)/10000,RANDBETWEEN(1,99999)/100000))","v":20.7},"years"]
[{"$f":"COUNTIF($B$1:B681,TRUE)","v":273},{"$f":"Worksheet!$B$12","v":true},{"$f":"IF(H681=1,RANDBETWEEN(1,Worksheet!$D$6),INT(J681))","v":2},{"$f":"IF(C681=1,\"hour\",\"hours\")","v":"hours"},{"$f":"IF(H681=1,IF(Worksheet!$D$10=1,RANDBETWEEN(1,9)*6,IF(Worksheet!$D$10=2,RANDBETWEEN(1,19)*3,RANDBETWEEN(1,59))),(J681-INT(J681))*60)","v":30},"minutes","=",{"$f":"IF(Worksheet!$D$7=1,1,IF(Worksheet!$D$7=2,2,RANDBETWEEN(1,2)))","v":1},null,{"$f":"IF(H681=1,C681+E681/60,RANDBETWEEN(1,Worksheet!$D$6)+CHOOSE(Worksheet!$D$10,RANDBETWEEN(1,9)/10,RANDBETWEEN(1,99)/100,RANDBETWEEN(1,999)/1000,RANDBETWEEN(1,9999)/10000,RANDBETWEEN(1,99999)/100000))","v":2.5},"hours"]
[{"$f":"IF(COUNTIF($B$1:B682,TRUE)=COUNTIF($B$1:B681,TRUE),\"\",COUNTIF($B$1:B682,TRUE))","v":274},{"$f":"Worksheet!$B$13","v":true},{"$f":"IF(H682=1,RANDBETWEEN(1,Worksheet!$D$6),INT(J682))","v":10},{"$f":"IF(C682=1,\"minute\",\"minutes\")","v":"minutes"},{"$f":"IF(H682=1,IF(Worksheet!$D$10=1,RANDBETWEEN(1,9)*6,IF(Worksheet!$D$10=2,RANDBETWEEN(1,19)*3,RANDBETWEEN(1,59))),(J682-INT(J682))*60)","v":11.999999999999957},"seconds","=",{"$f":"IF(Worksheet!$D$7=1,1,IF(Worksheet!$D$7=2,2,RANDBETWEEN(1,2)))","v":2},null,{"$f":"IF(H682=1,C682+E682/60,RANDBETWEEN(1,Worksheet!$D$6)+CHOOSE(Worksheet!$D$10,RANDBETWEEN(1,9)/10,RANDBETWEEN(1,99)/100,RANDBETWEEN(1,999)/1000,RANDBETWEEN(1,9999)/10000,RANDBETWEEN(1,99999)/100000))","v":10.199999999999999},"minutes"]
[{"$f":"IF(COUNTIF($B$1:B683,TRUE)=COUNTIF($B$1:B682,TRUE),\"\",COUNTIF($B$1:B683,TRUE))","v":""},{"$f":"Worksheet!$B$14","v":false},{"$f":"IF(H683=1,RANDBETWEEN(1,Worksheet!$D$6),INT(J683))","v":3},{"$f":"IF(C683=1,\"week\",\"weeks\")","v":"weeks"},{"$f":"IF(H683=1,RANDBETWEEN(1,6),(J683-INT(J683))*7)","v":5},"days","=",{"$f":"IF(Worksheet!$D$7=1,1,IF(Worksheet!$D$7=2,2,RANDBETWEEN(1,2)))","v":1},null,{"$f":"IF(H683=1,C683+E683/7,RANDBETWEEN(1,Worksheet!$D$6)+CHOOSE(Worksheet!$D$10,RANDBETWEEN(1,9)/10,RANDBETWEEN(1,99)/100,RANDBETWEEN(1,999)/1000,RANDBETWEEN(1,9999)/10000,RANDBETWEEN(1,99999)/100000))","v":3.7142857142857144},"weeks"]
[{"$f":"IF(COUNTIF($B$1:B684,TRUE)=COUNTIF($B$1:B683,TRUE),\"\",COUNTIF($B$1:B684,TRUE))","v":""},{"$f":"Worksheet!$D$12","v":false},{"$f":"IF(H684=1,RANDBETWEEN(1,Worksheet!$D$6),INT(J684))","v":16},{"$f":"IF(C684=1,\"day\",\"days\")","v":"days"},{"$f":"IF(H684=1,RANDBETWEEN(1,23),(J684-INT(J684))*24)","v":14.400000000000034},"hours","=",{"$f":"IF(Worksheet!$D$7=1,1,IF(Worksheet!$D$7=2,2,RANDBETWEEN(1,2)))","v":2},null,{"$f":"IF(H684=1,C684+E684/24,RANDBETWEEN(1,Worksheet!$D$6)+CHOOSE(Worksheet!$D$10,RANDBETWEEN(1,9)/10,RANDBETWEEN(1,99)/100,RANDBETWEEN(1,999)/1000,RANDBETWEEN(1,9999)/10000,RANDBETWEEN(1,99999)/100000))","v":16.600000000000001},"days"]
[{"$f":"IF(COUNTIF($B$1:B685,TRUE)=COUNTIF($B$1:B684,TRUE),\"\",COUNTIF($B$1:B685,TRUE))","v":""},{"$f":"Worksheet!$D$13","v":false},{"$f":"IF(H685=1,RANDBETWEEN(1,Worksheet!$D$6),INT(J685))","v":17},{"$f":"IF(C685=1,\"year\",\"years\")","v":"years"},{"$f":"IF(H685=1,RANDBETWEEN(1,11),(J685-INT(J685))*12)","v":4},"months","=",{"$f":"IF(Worksheet!$D$7=1,1,IF(Worksheet!$D$7=2,2,RANDBETWEEN(1,2)))","v":1},null,{"$f":"IF(H685=1,C685+E685/12,RANDBETWEEN(1,Worksheet!$D$6)+CHOOSE(Worksheet!$D$10,RANDBETWEEN(1,9)/10,RANDBETWEEN(1,99)/100,RANDBETWEEN(1,999)/1000,RANDBETWEEN(1,9999)/10000,RANDBETWEEN(1,99999)/100000))","v":17.333333333333332},"years"]
[{"$f":"COUNTIF($B$1:B686,TRUE)","v":275},{"$f":"Worksheet!$B$12","v":true},{"$f":"IF(H686=1,RANDBETWEEN(1,Worksheet!$D$6),INT(J686))","v":17},{"$f":"IF(C686=1,\"hour\",\"hours\")","v":"hours"},{"$f":"IF(H686=1,IF(Worksheet!$D$10=1,RANDBETWEEN(1,9)*6,IF(Worksheet!$D$10=2,RANDBETWEEN(1,19)*3,RANDBETWEEN(1,59))),(J686-INT(J686))*60)","v":18.000000000000043},"minutes","=",{"$f":"IF(Worksheet!$D$7=1,1,IF(Worksheet!$D$7=2,2,RANDBETWEEN(1,2)))","v":2},null,{"$f":"IF(H686=1,C686+E686/60,RANDBETWEEN(1,Worksheet!$D$6)+CHOOSE(Worksheet!$D$10,RANDBETWEEN(1,9)/10,RANDBETWEEN(1,99)/100,RANDBETWEEN(1,999)/1000,RANDBETWEEN(1,9999)/10000,RANDBETWEEN(1,99999)/100000))","v":17.3},"hours"]
[{"$f":"IF(COUNTIF($B$1:B687,TRUE)=COUNTIF($B$1:B686,TRUE),\"\",COUNTIF($B$1:B687,TRUE))","v":276},{"$f":"Worksheet!$B$13","v":true},{"$f":"IF(H687=1,RANDBETWEEN(1,Worksheet!$D$6),INT(J687))","v":6},{"$f":"IF(C687=1,\"minute\",\"minutes\")","v":"minutes"},{"$f":"IF(H687=1,IF(Worksheet!$D$10=1,RANDBETWEEN(1,9)*6,IF(Worksheet!$D$10=2,RANDBETWEEN(1,19)*3,RANDBETWEEN(1,59))),(J687-INT(J687))*60)","v":42.000000000000014},"seconds","=",{"$f":"IF(Worksheet!$D$7=1,1,IF(Worksheet!$D$7=2,2,RANDBETWEEN(1,2)))","v":2},null,{"$f":"IF(H687=1,C687+E687/60,RANDBETWEEN(1,Worksheet!$D$6)+CHOOSE(Worksheet!$D$10,RANDBETWEEN(1,9)/10,RANDBETWEEN(1,99)/100,RANDBETWEEN(1,999)/1000,RANDBETWEEN(1,9999)/10000,RANDBETWEEN(1,99999)/100000))","v":6.7},"minutes"]
[{"$f":"IF(COUNTIF($B$1:B688,TRUE)=COUNTIF($B$1:B687,TRUE),\"\",COUNTIF($B$1:B688,TRUE))","v":""},{"$f":"Worksheet!$B$14","v":false},{"$f":"IF(H688=1,RANDBETWEEN(1,Worksheet!$D$6),INT(J688))","v":4},{"$f":"IF(C688=1,\"week\",\"weeks\")","v":"weeks"},{"$f":"IF(H688=1,RANDBETWEEN(1,6),(J688-INT(J688))*7)","v":6},"days","=",{"$f":"IF(Worksheet!$D$7=1,1,IF(Worksheet!$D$7=2,2,RANDBETWEEN(1,2)))","v":1},null,{"$f":"IF(H688=1,C688+E688/7,RANDBETWEEN(1,Worksheet!$D$6)+CHOOSE(Worksheet!$D$10,RANDBETWEEN(1,9)/10,RANDBETWEEN(1,99)/100,RANDBETWEEN(1,999)/1000,RANDBETWEEN(1,9999)/10000,RANDBETWEEN(1,99999)/100000))","v":4.8571428571428568},"weeks"]
[{"$f":"IF(COUNTIF($B$1:B689,TRUE)=COUNTIF($B$1:B688,TRUE),\"\",COUNTIF($B$1:B689,TRUE))","v":""},{"$f":"Worksheet!$D$12","v":false},{"$f":"IF(H689=1,RANDBETWEEN(1,Worksheet!$D$6),INT(J689))","v":2},{"$f":"IF(C689=1,\"day\",\"days\")","v":"days"},{"$f":"IF(H689=1,RANDBETWEEN(1,23),(J689-INT(J689))*24)","v":8},"hours","=",{"$f":"IF(Worksheet!$D$7=1,1,IF(Worksheet!$D$7=2,2,RANDBETWEEN(1,2)))","v":1},null,{"$f":"IF(H689=1,C689+E689/24,RANDBETWEEN(1,Worksheet!$D$6)+CHOOSE(Worksheet!$D$10,RANDBETWEEN(1,9)/10,RANDBETWEEN(1,99)/100,RANDBETWEEN(1,999)/1000,RANDBETWEEN(1,9999)/10000,RANDBETWEEN(1,99999)/100000))","v":2.3333333333333335},"days"]
[{"$f":"IF(COUNTIF($B$1:B690,TRUE)=COUNTIF($B$1:B689,TRUE),\"\",COUNTIF($B$1:B690,TRUE))","v":""},{"$f":"Worksheet!$D$13","v":false},{"$f":"IF(H690=1,RANDBETWEEN(1,Worksheet!$D$6),INT(J690))","v":9},{"$f":"IF(C690=1,\"year\",\"years\")","v":"years"},{"$f":"IF(H690=1,RANDBETWEEN(1,11),(J690-INT(J690))*12)","v":10.800000000000004},"months","=",{"$f":"IF(Worksheet!$D$7=1,1,IF(Worksheet!$D$7=2,2,RANDBETWEEN(1,2)))","v":2},null,{"$f":"IF(H690=1,C690+E690/12,RANDBETWEEN(1,Worksheet!$D$6)+CHOOSE(Worksheet!$D$10,RANDBETWEEN(1,9)/10,RANDBETWEEN(1,99)/100,RANDBETWEEN(1,999)/1000,RANDBETWEEN(1,9999)/10000,RANDBETWEEN(1,99999)/100000))","v":9.9},"years"]
[{"$f":"COUNTIF($B$1:B691,TRUE)","v":277},{"$f":"Worksheet!$B$12","v":true},{"$f":"IF(H691=1,RANDBETWEEN(1,Worksheet!$D$6),INT(J691))","v":1},{"$f":"IF(C691=1,\"hour\",\"hours\")","v":"hour"},{"$f":"IF(H691=1,IF(Worksheet!$D$10=1,RANDBETWEEN(1,9)*6,IF(Worksheet!$D$10=2,RANDBETWEEN(1,19)*3,RANDBETWEEN(1,59))),(J691-INT(J691))*60)","v":48},"minutes","=",{"$f":"IF(Worksheet!$D$7=1,1,IF(Worksheet!$D$7=2,2,RANDBETWEEN(1,2)))","v":1},null,{"$f":"IF(H691=1,C691+E691/60,RANDBETWEEN(1,Worksheet!$D$6)+CHOOSE(Worksheet!$D$10,RANDBETWEEN(1,9)/10,RANDBETWEEN(1,99)/100,RANDBETWEEN(1,999)/1000,RANDBETWEEN(1,9999)/10000,RANDBETWEEN(1,99999)/100000))","v":1.8},"hour"]
[{"$f":"IF(COUNTIF($B$1:B692,TRUE)=COUNTIF($B$1:B691,TRUE),\"\",COUNTIF($B$1:B692,TRUE))","v":278},{"$f":"Worksheet!$B$13","v":true},{"$f":"IF(H692=1,RANDBETWEEN(1,Worksheet!$D$6),INT(J692))","v":23},{"$f":"IF(C692=1,\"minute\",\"minutes\")","v":"minutes"},{"$f":"IF(H692=1,IF(Worksheet!$D$10=1,RANDBETWEEN(1,9)*6,IF(Worksheet!$D$10=2,RANDBETWEEN(1,19)*3,RANDBETWEEN(1,59))),(J692-INT(J692))*60)","v":30},"seconds","=",{"$f":"IF(Worksheet!$D$7=1,1,IF(Worksheet!$D$7=2,2,RANDBETWEEN(1,2)))","v":1},null,{"$f":"IF(H692=1,C692+E692/60,RANDBETWEEN(1,Worksheet!$D$6)+CHOOSE(Worksheet!$D$10,RANDBETWEEN(1,9)/10,RANDBETWEEN(1,99)/100,RANDBETWEEN(1,999)/1000,RANDBETWEEN(1,9999)/10000,RANDBETWEEN(1,99999)/100000))","v":23.5},"minutes"]
[{"$f":"IF(COUNTIF($B$1:B693,TRUE)=COUNTIF($B$1:B692,TRUE),\"\",COUNTIF($B$1:B693,TRUE))","v":""},{"$f":"Worksheet!$B$14","v":false},{"$f":"IF(H693=1,RANDBETWEEN(1,Worksheet!$D$6),INT(J693))","v":22},{"$f":"IF(C693=1,\"week\",\"weeks\")","v":"weeks"},{"$f":"IF(H693=1,RANDBETWEEN(1,6),(J693-INT(J693))*7)","v":4.2000000000000099},"days","=",{"$f":"IF(Worksheet!$D$7=1,1,IF(Worksheet!$D$7=2,2,RANDBETWEEN(1,2)))","v":2},null,{"$f":"IF(H693=1,C693+E693/7,RANDBETWEEN(1,Worksheet!$D$6)+CHOOSE(Worksheet!$D$10,RANDBETWEEN(1,9)/10,RANDBETWEEN(1,99)/100,RANDBETWEEN(1,999)/1000,RANDBETWEEN(1,9999)/10000,RANDBETWEEN(1,99999)/100000))","v":22.6},"weeks"]
[{"$f":"IF(COUNTIF($B$1:B694,TRUE)=COUNTIF($B$1:B693,TRUE),\"\",COUNTIF($B$1:B694,TRUE))","v":""},{"$f":"Worksheet!$D$12","v":false},{"$f":"IF(H694=1,RANDBETWEEN(1,Worksheet!$D$6),INT(J694))","v":24},{"$f":"IF(C694=1,\"day\",\"days\")","v":"days"},{"$f":"IF(H694=1,RANDBETWEEN(1,23),(J694-INT(J694))*24)","v":21},"hours","=",{"$f":"IF(Worksheet!$D$7=1,1,IF(Worksheet!$D$7=2,2,RANDBETWEEN(1,2)))","v":1},null,{"$f":"IF(H694=1,C694+E694/24,RANDBETWEEN(1,Worksheet!$D$6)+CHOOSE(Worksheet!$D$10,RANDBETWEEN(1,9)/10,RANDBETWEEN(1,99)/100,RANDBETWEEN(1,999)/1000,RANDBETWEEN(1,9999)/10000,RANDBETWEEN(1,99999)/100000))","v":24.875},"days"]
[{"$f":"IF(COUNTIF($B$1:B695,TRUE)=COUNTIF($B$1:B694,TRUE),\"\",COUNTIF($B$1:B695,TRUE))","v":""},{"$f":"Worksheet!$D$13","v":false},{"$f":"IF(H695=1,RANDBETWEEN(1,Worksheet!$D$6),INT(J695))","v":15},{"$f":"IF(C695=1,\"year\",\"years\")","v":"years"},{"$f":"IF(H695=1,RANDBETWEEN(1,11),(J695-INT(J695))*12)","v":11},"months","=",{"$f":"IF(Worksheet!$D$7=1,1,IF(Worksheet!$D$7=2,2,RANDBETWEEN(1,2)))","v":1},null,{"$f":"IF(H695=1,C695+E695/12,RANDBETWEEN(1,Worksheet!$D$6)+CHOOSE(Worksheet!$D$10,RANDBETWEEN(1,9)/10,RANDBETWEEN(1,99)/100,RANDBETWEEN(1,999)/1000,RANDBETWEEN(1,9999)/10000,RANDBETWEEN(1,99999)/100000))","v":15.916666666666666},"years"]
[{"$f":"COUNTIF($B$1:B696,TRUE)","v":279},{"$f":"Worksheet!$B$12","v":true},{"$f":"IF(H696=1,RANDBETWEEN(1,Worksheet!$D$6),INT(J696))","v":9},{"$f":"IF(C696=1,\"hour\",\"hours\")","v":"hours"},{"$f":"IF(H696=1,IF(Worksheet!$D$10=1,RANDBETWEEN(1,9)*6,IF(Worksheet!$D$10=2,RANDBETWEEN(1,19)*3,RANDBETWEEN(1,59))),(J696-INT(J696))*60)","v":42},"minutes","=",{"$f":"IF(Worksheet!$D$7=1,1,IF(Worksheet!$D$7=2,2,RANDBETWEEN(1,2)))","v":1},null,{"$f":"IF(H696=1,C696+E696/60,RANDBETWEEN(1,Worksheet!$D$6)+CHOOSE(Worksheet!$D$10,RANDBETWEEN(1,9)/10,RANDBETWEEN(1,99)/100,RANDBETWEEN(1,999)/1000,RANDBETWEEN(1,9999)/10000,RANDBETWEEN(1,99999)/100000))","v":9.6999999999999993},"hours"]
[{"$f":"IF(COUNTIF($B$1:B697,TRUE)=COUNTIF($B$1:B696,TRUE),\"\",COUNTIF($B$1:B697,TRUE))","v":280},{"$f":"Worksheet!$B$13","v":true},{"$f":"IF(H697=1,RANDBETWEEN(1,Worksheet!$D$6),INT(J697))","v":13},{"$f":"IF(C697=1,\"minute\",\"minutes\")","v":"minutes"},{"$f":"IF(H697=1,IF(Worksheet!$D$10=1,RANDBETWEEN(1,9)*6,IF(Worksheet!$D$10=2,RANDBETWEEN(1,19)*3,RANDBETWEEN(1,59))),(J697-INT(J697))*60)","v":54.000000000000021},"seconds","=",{"$f":"IF(Worksheet!$D$7=1,1,IF(Worksheet!$D$7=2,2,RANDBETWEEN(1,2)))","v":2},null,{"$f":"IF(H697=1,C697+E697/60,RANDBETWEEN(1,Worksheet!$D$6)+CHOOSE(Worksheet!$D$10,RANDBETWEEN(1,9)/10,RANDBETWEEN(1,99)/100,RANDBETWEEN(1,999)/1000,RANDBETWEEN(1,9999)/10000,RANDBETWEEN(1,99999)/100000))","v":13.9},"minutes"]
[{"$f":"IF(COUNTIF($B$1:B698,TRUE)=COUNTIF($B$1:B697,TRUE),\"\",COUNTIF($B$1:B698,TRUE))","v":""},{"$f":"Worksheet!$B$14","v":false},{"$f":"IF(H698=1,RANDBETWEEN(1,Worksheet!$D$6),INT(J698))","v":17},{"$f":"IF(C698=1,\"week\",\"weeks\")","v":"weeks"},{"$f":"IF(H698=1,RANDBETWEEN(1,6),(J698-INT(J698))*7)","v":1},"days","=",{"$f":"IF(Worksheet!$D$7=1,1,IF(Worksheet!$D$7=2,2,RANDBETWEEN(1,2)))","v":1},null,{"$f":"IF(H698=1,C698+E698/7,RANDBETWEEN(1,Worksheet!$D$6)+CHOOSE(Worksheet!$D$10,RANDBETWEEN(1,9)/10,RANDBETWEEN(1,99)/100,RANDBETWEEN(1,999)/1000,RANDBETWEEN(1,9999)/10000,RANDBETWEEN(1,99999)/100000))","v":17.142857142857142},"weeks"]
[{"$f":"IF(COUNTIF($B$1:B699,TRUE)=COUNTIF($B$1:B698,TRUE),\"\",COUNTIF($B$1:B699,TRUE))","v":""},{"$f":"Worksheet!$D$12","v":false},{"$f":"IF(H699=1,RANDBETWEEN(1,Worksheet!$D$6),INT(J699))","v":18},{"$f":"IF(C699=1,\"day\",\"days\")","v":"days"},{"$f":"IF(H699=1,RANDBETWEEN(1,23),(J699-INT(J699))*24)","v":14.400000000000034},"hours","=",{"$f":"IF(Worksheet!$D$7=1,1,IF(Worksheet!$D$7=2,2,RANDBETWEEN(1,2)))","v":2},null,{"$f":"IF(H699=1,C699+E699/24,RANDBETWEEN(1,Worksheet!$D$6)+CHOOSE(Worksheet!$D$10,RANDBETWEEN(1,9)/10,RANDBETWEEN(1,99)/100,RANDBETWEEN(1,999)/1000,RANDBETWEEN(1,9999)/10000,RANDBETWEEN(1,99999)/100000))","v":18.600000000000001},"days"]
[{"$f":"IF(COUNTIF($B$1:B700,TRUE)=COUNTIF($B$1:B699,TRUE),\"\",COUNTIF($B$1:B700,TRUE))","v":""},{"$f":"Worksheet!$D$13","v":false},{"$f":"IF(H700=1,RANDBETWEEN(1,Worksheet!$D$6),INT(J700))","v":6},{"$f":"IF(C700=1,\"year\",\"years\")","v":"years"},{"$f":"IF(H700=1,RANDBETWEEN(1,11),(J700-INT(J700))*12)","v":4.8000000000000043},"months","=",{"$f":"IF(Worksheet!$D$7=1,1,IF(Worksheet!$D$7=2,2,RANDBETWEEN(1,2)))","v":2},null,{"$f":"IF(H700=1,C700+E700/12,RANDBETWEEN(1,Worksheet!$D$6)+CHOOSE(Worksheet!$D$10,RANDBETWEEN(1,9)/10,RANDBETWEEN(1,99)/100,RANDBETWEEN(1,999)/1000,RANDBETWEEN(1,9999)/10000,RANDBETWEEN(1,99999)/100000))","v":6.4},"years"]
[{"$f":"COUNTIF($B$1:B701,TRUE)","v":281},{"$f":"Worksheet!$B$12","v":true},{"$f":"IF(H701=1,RANDBETWEEN(1,Worksheet!$D$6),INT(J701))","v":4},{"$f":"IF(C701=1,\"hour\",\"hours\")","v":"hours"},{"$f":"IF(H701=1,IF(Worksheet!$D$10=1,RANDBETWEEN(1,9)*6,IF(Worksheet!$D$10=2,RANDBETWEEN(1,19)*3,RANDBETWEEN(1,59))),(J701-INT(J701))*60)","v":18},"minutes","=",{"$f":"IF(Worksheet!$D$7=1,1,IF(Worksheet!$D$7=2,2,RANDBETWEEN(1,2)))","v":1},null,{"$f":"IF(H701=1,C701+E701/60,RANDBETWEEN(1,Worksheet!$D$6)+CHOOSE(Worksheet!$D$10,RANDBETWEEN(1,9)/10,RANDBETWEEN(1,99)/100,RANDBETWEEN(1,999)/1000,RANDBETWEEN(1,9999)/10000,RANDBETWEEN(1,99999)/100000))","v":4.3},"hours"]
[{"$f":"IF(COUNTIF($B$1:B702,TRUE)=COUNTIF($B$1:B701,TRUE),\"\",COUNTIF($B$1:B702,TRUE))","v":282},{"$f":"Worksheet!$B$13","v":true},{"$f":"IF(H702=1,RANDBETWEEN(1,Worksheet!$D$6),INT(J702))","v":24},{"$f":"IF(C702=1,\"minute\",\"minutes\")","v":"minutes"},{"$f":"IF(H702=1,IF(Worksheet!$D$10=1,RANDBETWEEN(1,9)*6,IF(Worksheet!$D$10=2,RANDBETWEEN(1,19)*3,RANDBETWEEN(1,59))),(J702-INT(J702))*60)","v":6},"seconds","=",{"$f":"IF(Worksheet!$D$7=1,1,IF(Worksheet!$D$7=2,2,RANDBETWEEN(1,2)))","v":1},null,{"$f":"IF(H702=1,C702+E702/60,RANDBETWEEN(1,Worksheet!$D$6)+CHOOSE(Worksheet!$D$10,RANDBETWEEN(1,9)/10,RANDBETWEEN(1,99)/100,RANDBETWEEN(1,999)/1000,RANDBETWEEN(1,9999)/10000,RANDBETWEEN(1,99999)/100000))","v":24.1},"minutes"]
[{"$f":"IF(COUNTIF($B$1:B703,TRUE)=COUNTIF($B$1:B702,TRUE),\"\",COUNTIF($B$1:B703,TRUE))","v":""},{"$f":"Worksheet!$B$14","v":false},{"$f":"IF(H703=1,RANDBETWEEN(1,Worksheet!$D$6),INT(J703))","v":17},{"$f":"IF(C703=1,\"week\",\"weeks\")","v":"weeks"},{"$f":"IF(H703=1,RANDBETWEEN(1,6),(J703-INT(J703))*7)","v":4.2000000000000099},"days","=",{"$f":"IF(Worksheet!$D$7=1,1,IF(Worksheet!$D$7=2,2,RANDBETWEEN(1,2)))","v":2},null,{"$f":"IF(H703=1,C703+E703/7,RANDBETWEEN(1,Worksheet!$D$6)+CHOOSE(Worksheet!$D$10,RANDBETWEEN(1,9)/10,RANDBETWEEN(1,99)/100,RANDBETWEEN(1,999)/1000,RANDBETWEEN(1,9999)/10000,RANDBETWEEN(1,99999)/100000))","v":17.600000000000001},"weeks"]
[{"$f":"IF(COUNTIF($B$1:B704,TRUE)=COUNTIF($B$1:B703,TRUE),\"\",COUNTIF($B$1:B704,TRUE))","v":""},{"$f":"Worksheet!$D$12","v":false},{"$f":"IF(H704=1,RANDBETWEEN(1,Worksheet!$D$6),INT(J704))","v":13},{"$f":"IF(C704=1,\"day\",\"days\")","v":"days"},{"$f":"IF(H704=1,RANDBETWEEN(1,23),(J704-INT(J704))*24)","v":15},"hours","=",{"$f":"IF(Worksheet!$D$7=1,1,IF(Worksheet!$D$7=2,2,RANDBETWEEN(1,2)))","v":1},null,{"$f":"IF(H704=1,C704+E704/24,RANDBETWEEN(1,Worksheet!$D$6)+CHOOSE(Worksheet!$D$10,RANDBETWEEN(1,9)/10,RANDBETWEEN(1,99)/100,RANDBETWEEN(1,999)/1000,RANDBETWEEN(1,9999)/10000,RANDBETWEEN(1,99999)/100000))","v":13.625},"days"]
[{"$f":"IF(COUNTIF($B$1:B705,TRUE)=COUNTIF($B$1:B704,TRUE),\"\",COUNTIF($B$1:B705,TRUE))","v":""},{"$f":"Worksheet!$D$13","v":false},{"$f":"IF(H705=1,RANDBETWEEN(1,Worksheet!$D$6),INT(J705))","v":16},{"$f":"IF(C705=1,\"year\",\"years\")","v":"years"},{"$f":"IF(H705=1,RANDBETWEEN(1,11),(J705-INT(J705))*12)","v":1.2000000000000171},"months","=",{"$f":"IF(Worksheet!$D$7=1,1,IF(Worksheet!$D$7=2,2,RANDBETWEEN(1,2)))","v":2},null,{"$f":"IF(H705=1,C705+E705/12,RANDBETWEEN(1,Worksheet!$D$6)+CHOOSE(Worksheet!$D$10,RANDBETWEEN(1,9)/10,RANDBETWEEN(1,99)/100,RANDBETWEEN(1,999)/1000,RANDBETWEEN(1,9999)/10000,RANDBETWEEN(1,99999)/100000))","v":16.100000000000001},"years"]
[{"$f":"COUNTIF($B$1:B706,TRUE)","v":283},{"$f":"Worksheet!$B$12","v":true},{"$f":"IF(H706=1,RANDBETWEEN(1,Worksheet!$D$6),INT(J706))","v":20},{"$f":"IF(C706=1,\"hour\",\"hours\")","v":"hours"},{"$f":"IF(H706=1,IF(Worksheet!$D$10=1,RANDBETWEEN(1,9)*6,IF(Worksheet!$D$10=2,RANDBETWEEN(1,19)*3,RANDBETWEEN(1,59))),(J706-INT(J706))*60)","v":12},"minutes","=",{"$f":"IF(Worksheet!$D$7=1,1,IF(Worksheet!$D$7=2,2,RANDBETWEEN(1,2)))","v":1},null,{"$f":"IF(H706=1,C706+E706/60,RANDBETWEEN(1,Worksheet!$D$6)+CHOOSE(Worksheet!$D$10,RANDBETWEEN(1,9)/10,RANDBETWEEN(1,99)/100,RANDBETWEEN(1,999)/1000,RANDBETWEEN(1,9999)/10000,RANDBETWEEN(1,99999)/100000))","v":20.2},"hours"]
[{"$f":"IF(COUNTIF($B$1:B707,TRUE)=COUNTIF($B$1:B706,TRUE),\"\",COUNTIF($B$1:B707,TRUE))","v":284},{"$f":"Worksheet!$B$13","v":true},{"$f":"IF(H707=1,RANDBETWEEN(1,Worksheet!$D$6),INT(J707))","v":10},{"$f":"IF(C707=1,\"minute\",\"minutes\")","v":"minutes"},{"$f":"IF(H707=1,IF(Worksheet!$D$10=1,RANDBETWEEN(1,9)*6,IF(Worksheet!$D$10=2,RANDBETWEEN(1,19)*3,RANDBETWEEN(1,59))),(J707-INT(J707))*60)","v":12},"seconds","=",{"$f":"IF(Worksheet!$D$7=1,1,IF(Worksheet!$D$7=2,2,RANDBETWEEN(1,2)))","v":1},null,{"$f":"IF(H707=1,C707+E707/60,RANDBETWEEN(1,Worksheet!$D$6)+CHOOSE(Worksheet!$D$10,RANDBETWEEN(1,9)/10,RANDBETWEEN(1,99)/100,RANDBETWEEN(1,999)/1000,RANDBETWEEN(1,9999)/10000,RANDBETWEEN(1,99999)/100000))","v":10.199999999999999},"minutes"]
[{"$f":"IF(COUNTIF($B$1:B708,TRUE)=COUNTIF($B$1:B707,TRUE),\"\",COUNTIF($B$1:B708,TRUE))","v":""},{"$f":"Worksheet!$B$14","v":false},{"$f":"IF(H708=1,RANDBETWEEN(1,Worksheet!$D$6),INT(J708))","v":23},{"$f":"IF(C708=1,\"week\",\"weeks\")","v":"weeks"},{"$f":"IF(H708=1,RANDBETWEEN(1,6),(J708-INT(J708))*7)","v":3},"days","=",{"$f":"IF(Worksheet!$D$7=1,1,IF(Worksheet!$D$7=2,2,RANDBETWEEN(1,2)))","v":1},null,{"$f":"IF(H708=1,C708+E708/7,RANDBETWEEN(1,Worksheet!$D$6)+CHOOSE(Worksheet!$D$10,RANDBETWEEN(1,9)/10,RANDBETWEEN(1,99)/100,RANDBETWEEN(1,999)/1000,RANDBETWEEN(1,9999)/10000,RANDBETWEEN(1,99999)/100000))","v":23.428571428571427},"weeks"]
[{"$f":"IF(COUNTIF($B$1:B709,TRUE)=COUNTIF($B$1:B708,TRUE),\"\",COUNTIF($B$1:B709,TRUE))","v":""},{"$f":"Worksheet!$D$12","v":false},{"$f":"IF(H709=1,RANDBETWEEN(1,Worksheet!$D$6),INT(J709))","v":25},{"$f":"IF(C709=1,\"day\",\"days\")","v":"days"},{"$f":"IF(H709=1,RANDBETWEEN(1,23),(J709-INT(J709))*24)","v":4.7999999999999829},"hours","=",{"$f":"IF(Worksheet!$D$7=1,1,IF(Worksheet!$D$7=2,2,RANDBETWEEN(1,2)))","v":2},null,{"$f":"IF(H709=1,C709+E709/24,RANDBETWEEN(1,Worksheet!$D$6)+CHOOSE(Worksheet!$D$10,RANDBETWEEN(1,9)/10,RANDBETWEEN(1,99)/100,RANDBETWEEN(1,999)/1000,RANDBETWEEN(1,9999)/10000,RANDBETWEEN(1,99999)/100000))","v":25.2},"days"]
[{"$f":"IF(COUNTIF($B$1:B710,TRUE)=COUNTIF($B$1:B709,TRUE),\"\",COUNTIF($B$1:B710,TRUE))","v":""},{"$f":"Worksheet!$D$13","v":false},{"$f":"IF(H710=1,RANDBETWEEN(1,Worksheet!$D$6),INT(J710))","v":8},{"$f":"IF(C710=1,\"year\",\"years\")","v":"years"},{"$f":"IF(H710=1,RANDBETWEEN(1,11),(J710-INT(J710))*12)","v":4.8000000000000043},"months","=",{"$f":"IF(Worksheet!$D$7=1,1,IF(Worksheet!$D$7=2,2,RANDBETWEEN(1,2)))","v":2},null,{"$f":"IF(H710=1,C710+E710/12,RANDBETWEEN(1,Worksheet!$D$6)+CHOOSE(Worksheet!$D$10,RANDBETWEEN(1,9)/10,RANDBETWEEN(1,99)/100,RANDBETWEEN(1,999)/1000,RANDBETWEEN(1,9999)/10000,RANDBETWEEN(1,99999)/100000))","v":8.4},"years"]
[{"$f":"COUNTIF($B$1:B711,TRUE)","v":285},{"$f":"Worksheet!$B$12","v":true},{"$f":"IF(H711=1,RANDBETWEEN(1,Worksheet!$D$6),INT(J711))","v":23},{"$f":"IF(C711=1,\"hour\",\"hours\")","v":"hours"},{"$f":"IF(H711=1,IF(Worksheet!$D$10=1,RANDBETWEEN(1,9)*6,IF(Worksheet!$D$10=2,RANDBETWEEN(1,19)*3,RANDBETWEEN(1,59))),(J711-INT(J711))*60)","v":48},"minutes","=",{"$f":"IF(Worksheet!$D$7=1,1,IF(Worksheet!$D$7=2,2,RANDBETWEEN(1,2)))","v":1},null,{"$f":"IF(H711=1,C711+E711/60,RANDBETWEEN(1,Worksheet!$D$6)+CHOOSE(Worksheet!$D$10,RANDBETWEEN(1,9)/10,RANDBETWEEN(1,99)/100,RANDBETWEEN(1,999)/1000,RANDBETWEEN(1,9999)/10000,RANDBETWEEN(1,99999)/100000))","v":23.8},"hours"]
[{"$f":"IF(COUNTIF($B$1:B712,TRUE)=COUNTIF($B$1:B711,TRUE),\"\",COUNTIF($B$1:B712,TRUE))","v":286},{"$f":"Worksheet!$B$13","v":true},{"$f":"IF(H712=1,RANDBETWEEN(1,Worksheet!$D$6),INT(J712))","v":24},{"$f":"IF(C712=1,\"minute\",\"minutes\")","v":"minutes"},{"$f":"IF(H712=1,IF(Worksheet!$D$10=1,RANDBETWEEN(1,9)*6,IF(Worksheet!$D$10=2,RANDBETWEEN(1,19)*3,RANDBETWEEN(1,59))),(J712-INT(J712))*60)","v":23.999999999999915},"seconds","=",{"$f":"IF(Worksheet!$D$7=1,1,IF(Worksheet!$D$7=2,2,RANDBETWEEN(1,2)))","v":2},null,{"$f":"IF(H712=1,C712+E712/60,RANDBETWEEN(1,Worksheet!$D$6)+CHOOSE(Worksheet!$D$10,RANDBETWEEN(1,9)/10,RANDBETWEEN(1,99)/100,RANDBETWEEN(1,999)/1000,RANDBETWEEN(1,9999)/10000,RANDBETWEEN(1,99999)/100000))","v":24.4},"minutes"]
[{"$f":"IF(COUNTIF($B$1:B713,TRUE)=COUNTIF($B$1:B712,TRUE),\"\",COUNTIF($B$1:B713,TRUE))","v":""},{"$f":"Worksheet!$B$14","v":false},{"$f":"IF(H713=1,RANDBETWEEN(1,Worksheet!$D$6),INT(J713))","v":20},{"$f":"IF(C713=1,\"week\",\"weeks\")","v":"weeks"},{"$f":"IF(H713=1,RANDBETWEEN(1,6),(J713-INT(J713))*7)","v":6},"days","=",{"$f":"IF(Worksheet!$D$7=1,1,IF(Worksheet!$D$7=2,2,RANDBETWEEN(1,2)))","v":1},null,{"$f":"IF(H713=1,C713+E713/7,RANDBETWEEN(1,Worksheet!$D$6)+CHOOSE(Worksheet!$D$10,RANDBETWEEN(1,9)/10,RANDBETWEEN(1,99)/100,RANDBETWEEN(1,999)/1000,RANDBETWEEN(1,9999)/10000,RANDBETWEEN(1,99999)/100000))","v":20.857142857142858},"weeks"]
[{"$f":"IF(COUNTIF($B$1:B714,TRUE)=COUNTIF($B$1:B713,TRUE),\"\",COUNTIF($B$1:B714,TRUE))","v":""},{"$f":"Worksheet!$D$12","v":false},{"$f":"IF(H714=1,RANDBETWEEN(1,Worksheet!$D$6),INT(J714))","v":26},{"$f":"IF(C714=1,\"day\",\"days\")","v":"days"},{"$f":"IF(H714=1,RANDBETWEEN(1,23),(J714-INT(J714))*24)","v":21.599999999999966},"hours","=",{"$f":"IF(Worksheet!$D$7=1,1,IF(Worksheet!$D$7=2,2,RANDBETWEEN(1,2)))","v":2},null,{"$f":"IF(H714=1,C714+E714/24,RANDBETWEEN(1,Worksheet!$D$6)+CHOOSE(Worksheet!$D$10,RANDBETWEEN(1,9)/10,RANDBETWEEN(1,99)/100,RANDBETWEEN(1,999)/1000,RANDBETWEEN(1,9999)/10000,RANDBETWEEN(1,99999)/100000))","v":26.9},"days"]
[{"$f":"IF(COUNTIF($B$1:B715,TRUE)=COUNTIF($B$1:B714,TRUE),\"\",COUNTIF($B$1:B715,TRUE))","v":""},{"$f":"Worksheet!$D$13","v":false},{"$f":"IF(H715=1,RANDBETWEEN(1,Worksheet!$D$6),INT(J715))","v":13},{"$f":"IF(C715=1,\"year\",\"years\")","v":"years"},{"$f":"IF(H715=1,RANDBETWEEN(1,11),(J715-INT(J715))*12)","v":1.1999999999999957},"months","=",{"$f":"IF(Worksheet!$D$7=1,1,IF(Worksheet!$D$7=2,2,RANDBETWEEN(1,2)))","v":2},null,{"$f":"IF(H715=1,C715+E715/12,RANDBETWEEN(1,Worksheet!$D$6)+CHOOSE(Worksheet!$D$10,RANDBETWEEN(1,9)/10,RANDBETWEEN(1,99)/100,RANDBETWEEN(1,999)/1000,RANDBETWEEN(1,9999)/10000,RANDBETWEEN(1,99999)/100000))","v":13.1},"years"]
[{"$f":"COUNTIF($B$1:B716,TRUE)","v":287},{"$f":"Worksheet!$B$12","v":true},{"$f":"IF(H716=1,RANDBETWEEN(1,Worksheet!$D$6),INT(J716))","v":20},{"$f":"IF(C716=1,\"hour\",\"hours\")","v":"hours"},{"$f":"IF(H716=1,IF(Worksheet!$D$10=1,RANDBETWEEN(1,9)*6,IF(Worksheet!$D$10=2,RANDBETWEEN(1,19)*3,RANDBETWEEN(1,59))),(J716-INT(J716))*60)","v":6.0000000000000853},"minutes","=",{"$f":"IF(Worksheet!$D$7=1,1,IF(Worksheet!$D$7=2,2,RANDBETWEEN(1,2)))","v":2},null,{"$f":"IF(H716=1,C716+E716/60,RANDBETWEEN(1,Worksheet!$D$6)+CHOOSE(Worksheet!$D$10,RANDBETWEEN(1,9)/10,RANDBETWEEN(1,99)/100,RANDBETWEEN(1,999)/1000,RANDBETWEEN(1,9999)/10000,RANDBETWEEN(1,99999)/100000))","v":20.100000000000001},"hours"]
[{"$f":"IF(COUNTIF($B$1:B717,TRUE)=COUNTIF($B$1:B716,TRUE),\"\",COUNTIF($B$1:B717,TRUE))","v":288},{"$f":"Worksheet!$B$13","v":true},{"$f":"IF(H717=1,RANDBETWEEN(1,Worksheet!$D$6),INT(J717))","v":17},{"$f":"IF(C717=1,\"minute\",\"minutes\")","v":"minutes"},{"$f":"IF(H717=1,IF(Worksheet!$D$10=1,RANDBETWEEN(1,9)*6,IF(Worksheet!$D$10=2,RANDBETWEEN(1,19)*3,RANDBETWEEN(1,59))),(J717-INT(J717))*60)","v":53.999999999999915},"seconds","=",{"$f":"IF(Worksheet!$D$7=1,1,IF(Worksheet!$D$7=2,2,RANDBETWEEN(1,2)))","v":2},null,{"$f":"IF(H717=1,C717+E717/60,RANDBETWEEN(1,Worksheet!$D$6)+CHOOSE(Worksheet!$D$10,RANDBETWEEN(1,9)/10,RANDBETWEEN(1,99)/100,RANDBETWEEN(1,999)/1000,RANDBETWEEN(1,9999)/10000,RANDBETWEEN(1,99999)/100000))","v":17.899999999999999},"minutes"]
[{"$f":"IF(COUNTIF($B$1:B718,TRUE)=COUNTIF($B$1:B717,TRUE),\"\",COUNTIF($B$1:B718,TRUE))","v":""},{"$f":"Worksheet!$B$14","v":false},{"$f":"IF(H718=1,RANDBETWEEN(1,Worksheet!$D$6),INT(J718))","v":11},{"$f":"IF(C718=1,\"week\",\"weeks\")","v":"weeks"},{"$f":"IF(H718=1,RANDBETWEEN(1,6),(J718-INT(J718))*7)","v":6},"days","=",{"$f":"IF(Worksheet!$D$7=1,1,IF(Worksheet!$D$7=2,2,RANDBETWEEN(1,2)))","v":1},null,{"$f":"IF(H718=1,C718+E718/7,RANDBETWEEN(1,Worksheet!$D$6)+CHOOSE(Worksheet!$D$10,RANDBETWEEN(1,9)/10,RANDBETWEEN(1,99)/100,RANDBETWEEN(1,999)/1000,RANDBETWEEN(1,9999)/10000,RANDBETWEEN(1,99999)/100000))","v":11.857142857142858},"weeks"]
[{"$f":"IF(COUNTIF($B$1:B719,TRUE)=COUNTIF($B$1:B718,TRUE),\"\",COUNTIF($B$1:B719,TRUE))","v":""},{"$f":"Worksheet!$D$12","v":false},{"$f":"IF(H719=1,RANDBETWEEN(1,Worksheet!$D$6),INT(J719))","v":21},{"$f":"IF(C719=1,\"day\",\"days\")","v":"days"},{"$f":"IF(H719=1,RANDBETWEEN(1,23),(J719-INT(J719))*24)","v":12},"hours","=",{"$f":"IF(Worksheet!$D$7=1,1,IF(Worksheet!$D$7=2,2,RANDBETWEEN(1,2)))","v":2},null,{"$f":"IF(H719=1,C719+E719/24,RANDBETWEEN(1,Worksheet!$D$6)+CHOOSE(Worksheet!$D$10,RANDBETWEEN(1,9)/10,RANDBETWEEN(1,99)/100,RANDBETWEEN(1,999)/1000,RANDBETWEEN(1,9999)/10000,RANDBETWEEN(1,99999)/100000))","v":21.5},"days"]
[{"$f":"IF(COUNTIF($B$1:B720,TRUE)=COUNTIF($B$1:B719,TRUE),\"\",COUNTIF($B$1:B720,TRUE))","v":""},{"$f":"Worksheet!$D$13","v":false},{"$f":"IF(H720=1,RANDBETWEEN(1,Worksheet!$D$6),INT(J720))","v":15},{"$f":"IF(C720=1,\"year\",\"years\")","v":"years"},{"$f":"IF(H720=1,RANDBETWEEN(1,11),(J720-INT(J720))*12)","v":4.8000000000000043},"months","=",{"$f":"IF(Worksheet!$D$7=1,1,IF(Worksheet!$D$7=2,2,RANDBETWEEN(1,2)))","v":2},null,{"$f":"IF(H720=1,C720+E720/12,RANDBETWEEN(1,Worksheet!$D$6)+CHOOSE(Worksheet!$D$10,RANDBETWEEN(1,9)/10,RANDBETWEEN(1,99)/100,RANDBETWEEN(1,999)/1000,RANDBETWEEN(1,9999)/10000,RANDBETWEEN(1,99999)/100000))","v":15.4},"years"]
[{"$f":"COUNTIF($B$1:B721,TRUE)","v":289},{"$f":"Worksheet!$B$12","v":true},{"$f":"IF(H721=1,RANDBETWEEN(1,Worksheet!$D$6),INT(J721))","v":15},{"$f":"IF(C721=1,\"hour\",\"hours\")","v":"hours"},{"$f":"IF(H721=1,IF(Worksheet!$D$10=1,RANDBETWEEN(1,9)*6,IF(Worksheet!$D$10=2,RANDBETWEEN(1,19)*3,RANDBETWEEN(1,59))),(J721-INT(J721))*60)","v":48.000000000000043},"minutes","=",{"$f":"IF(Worksheet!$D$7=1,1,IF(Worksheet!$D$7=2,2,RANDBETWEEN(1,2)))","v":2},null,{"$f":"IF(H721=1,C721+E721/60,RANDBETWEEN(1,Worksheet!$D$6)+CHOOSE(Worksheet!$D$10,RANDBETWEEN(1,9)/10,RANDBETWEEN(1,99)/100,RANDBETWEEN(1,999)/1000,RANDBETWEEN(1,9999)/10000,RANDBETWEEN(1,99999)/100000))","v":15.8},"hours"]
[{"$f":"IF(COUNTIF($B$1:B722,TRUE)=COUNTIF($B$1:B721,TRUE),\"\",COUNTIF($B$1:B722,TRUE))","v":290},{"$f":"Worksheet!$B$13","v":true},{"$f":"IF(H722=1,RANDBETWEEN(1,Worksheet!$D$6),INT(J722))","v":16},{"$f":"IF(C722=1,\"minute\",\"minutes\")","v":"minutes"},{"$f":"IF(H722=1,IF(Worksheet!$D$10=1,RANDBETWEEN(1,9)*6,IF(Worksheet!$D$10=2,RANDBETWEEN(1,19)*3,RANDBETWEEN(1,59))),(J722-INT(J722))*60)","v":41.999999999999957},"seconds","=",{"$f":"IF(Worksheet!$D$7=1,1,IF(Worksheet!$D$7=2,2,RANDBETWEEN(1,2)))","v":2},null,{"$f":"IF(H722=1,C722+E722/60,RANDBETWEEN(1,Worksheet!$D$6)+CHOOSE(Worksheet!$D$10,RANDBETWEEN(1,9)/10,RANDBETWEEN(1,99)/100,RANDBETWEEN(1,999)/1000,RANDBETWEEN(1,9999)/10000,RANDBETWEEN(1,99999)/100000))","v":16.7},"minutes"]
[{"$f":"IF(COUNTIF($B$1:B723,TRUE)=COUNTIF($B$1:B722,TRUE),\"\",COUNTIF($B$1:B723,TRUE))","v":""},{"$f":"Worksheet!$B$14","v":false},{"$f":"IF(H723=1,RANDBETWEEN(1,Worksheet!$D$6),INT(J723))","v":13},{"$f":"IF(C723=1,\"week\",\"weeks\")","v":"weeks"},{"$f":"IF(H723=1,RANDBETWEEN(1,6),(J723-INT(J723))*7)","v":1.399999999999995},"days","=",{"$f":"IF(Worksheet!$D$7=1,1,IF(Worksheet!$D$7=2,2,RANDBETWEEN(1,2)))","v":2},null,{"$f":"IF(H723=1,C723+E723/7,RANDBETWEEN(1,Worksheet!$D$6)+CHOOSE(Worksheet!$D$10,RANDBETWEEN(1,9)/10,RANDBETWEEN(1,99)/100,RANDBETWEEN(1,999)/1000,RANDBETWEEN(1,9999)/10000,RANDBETWEEN(1,99999)/100000))","v":13.2},"weeks"]
[{"$f":"IF(COUNTIF($B$1:B724,TRUE)=COUNTIF($B$1:B723,TRUE),\"\",COUNTIF($B$1:B724,TRUE))","v":""},{"$f":"Worksheet!$D$12","v":false},{"$f":"IF(H724=1,RANDBETWEEN(1,Worksheet!$D$6),INT(J724))","v":15},{"$f":"IF(C724=1,\"day\",\"days\")","v":"days"},{"$f":"IF(H724=1,RANDBETWEEN(1,23),(J724-INT(J724))*24)","v":17},"hours","=",{"$f":"IF(Worksheet!$D$7=1,1,IF(Worksheet!$D$7=2,2,RANDBETWEEN(1,2)))","v":1},null,{"$f":"IF(H724=1,C724+E724/24,RANDBETWEEN(1,Worksheet!$D$6)+CHOOSE(Worksheet!$D$10,RANDBETWEEN(1,9)/10,RANDBETWEEN(1,99)/100,RANDBETWEEN(1,999)/1000,RANDBETWEEN(1,9999)/10000,RANDBETWEEN(1,99999)/100000))","v":15.708333333333334},"days"]
[{"$f":"IF(COUNTIF($B$1:B725,TRUE)=COUNTIF($B$1:B724,TRUE),\"\",COUNTIF($B$1:B725,TRUE))","v":""},{"$f":"Worksheet!$D$13","v":false},{"$f":"IF(H725=1,RANDBETWEEN(1,Worksheet!$D$6),INT(J725))","v":10},{"$f":"IF(C725=1,\"year\",\"years\")","v":"years"},{"$f":"IF(H725=1,RANDBETWEEN(1,11),(J725-INT(J725))*12)","v":10},"months","=",{"$f":"IF(Worksheet!$D$7=1,1,IF(Worksheet!$D$7=2,2,RANDBETWEEN(1,2)))","v":1},null,{"$f":"IF(H725=1,C725+E725/12,RANDBETWEEN(1,Worksheet!$D$6)+CHOOSE(Worksheet!$D$10,RANDBETWEEN(1,9)/10,RANDBETWEEN(1,99)/100,RANDBETWEEN(1,999)/1000,RANDBETWEEN(1,9999)/10000,RANDBETWEEN(1,99999)/100000))","v":10.833333333333334},"years"]
[{"$f":"COUNTIF($B$1:B726,TRUE)","v":291},{"$f":"Worksheet!$B$12","v":true},{"$f":"IF(H726=1,RANDBETWEEN(1,Worksheet!$D$6),INT(J726))","v":4},{"$f":"IF(C726=1,\"hour\",\"hours\")","v":"hours"},{"$f":"IF(H726=1,IF(Worksheet!$D$10=1,RANDBETWEEN(1,9)*6,IF(Worksheet!$D$10=2,RANDBETWEEN(1,19)*3,RANDBETWEEN(1,59))),(J726-INT(J726))*60)","v":18},"minutes","=",{"$f":"IF(Worksheet!$D$7=1,1,IF(Worksheet!$D$7=2,2,RANDBETWEEN(1,2)))","v":1},null,{"$f":"IF(H726=1,C726+E726/60,RANDBETWEEN(1,Worksheet!$D$6)+CHOOSE(Worksheet!$D$10,RANDBETWEEN(1,9)/10,RANDBETWEEN(1,99)/100,RANDBETWEEN(1,999)/1000,RANDBETWEEN(1,9999)/10000,RANDBETWEEN(1,99999)/100000))","v":4.3},"hours"]
[{"$f":"IF(COUNTIF($B$1:B727,TRUE)=COUNTIF($B$1:B726,TRUE),\"\",COUNTIF($B$1:B727,TRUE))","v":292},{"$f":"Worksheet!$B$13","v":true},{"$f":"IF(H727=1,RANDBETWEEN(1,Worksheet!$D$6),INT(J727))","v":17},{"$f":"IF(C727=1,\"minute\",\"minutes\")","v":"minutes"},{"$f":"IF(H727=1,IF(Worksheet!$D$10=1,RANDBETWEEN(1,9)*6,IF(Worksheet!$D$10=2,RANDBETWEEN(1,19)*3,RANDBETWEEN(1,59))),(J727-INT(J727))*60)","v":18},"seconds","=",{"$f":"IF(Worksheet!$D$7=1,1,IF(Worksheet!$D$7=2,2,RANDBETWEEN(1,2)))","v":1},null,{"$f":"IF(H727=1,C727+E727/60,RANDBETWEEN(1,Worksheet!$D$6)+CHOOSE(Worksheet!$D$10,RANDBETWEEN(1,9)/10,RANDBETWEEN(1,99)/100,RANDBETWEEN(1,999)/1000,RANDBETWEEN(1,9999)/10000,RANDBETWEEN(1,99999)/100000))","v":17.3},"minutes"]
[{"$f":"IF(COUNTIF($B$1:B728,TRUE)=COUNTIF($B$1:B727,TRUE),\"\",COUNTIF($B$1:B728,TRUE))","v":""},{"$f":"Worksheet!$B$14","v":false},{"$f":"IF(H728=1,RANDBETWEEN(1,Worksheet!$D$6),INT(J728))","v":4},{"$f":"IF(C728=1,\"week\",\"weeks\")","v":"weeks"},{"$f":"IF(H728=1,RANDBETWEEN(1,6),(J728-INT(J728))*7)","v":3},"days","=",{"$f":"IF(Worksheet!$D$7=1,1,IF(Worksheet!$D$7=2,2,RANDBETWEEN(1,2)))","v":1},null,{"$f":"IF(H728=1,C728+E728/7,RANDBETWEEN(1,Worksheet!$D$6)+CHOOSE(Worksheet!$D$10,RANDBETWEEN(1,9)/10,RANDBETWEEN(1,99)/100,RANDBETWEEN(1,999)/1000,RANDBETWEEN(1,9999)/10000,RANDBETWEEN(1,99999)/100000))","v":4.4285714285714288},"weeks"]
[{"$f":"IF(COUNTIF($B$1:B729,TRUE)=COUNTIF($B$1:B728,TRUE),\"\",COUNTIF($B$1:B729,TRUE))","v":""},{"$f":"Worksheet!$D$12","v":false},{"$f":"IF(H729=1,RANDBETWEEN(1,Worksheet!$D$6),INT(J729))","v":25},{"$f":"IF(C729=1,\"day\",\"days\")","v":"days"},{"$f":"IF(H729=1,RANDBETWEEN(1,23),(J729-INT(J729))*24)","v":16},"hours","=",{"$f":"IF(Worksheet!$D$7=1,1,IF(Worksheet!$D$7=2,2,RANDBETWEEN(1,2)))","v":1},null,{"$f":"IF(H729=1,C729+E729/24,RANDBETWEEN(1,Worksheet!$D$6)+CHOOSE(Worksheet!$D$10,RANDBETWEEN(1,9)/10,RANDBETWEEN(1,99)/100,RANDBETWEEN(1,999)/1000,RANDBETWEEN(1,9999)/10000,RANDBETWEEN(1,99999)/100000))","v":25.666666666666668},"days"]
[{"$f":"IF(COUNTIF($B$1:B730,TRUE)=COUNTIF($B$1:B729,TRUE),\"\",COUNTIF($B$1:B730,TRUE))","v":""},{"$f":"Worksheet!$D$13","v":false},{"$f":"IF(H730=1,RANDBETWEEN(1,Worksheet!$D$6),INT(J730))","v":25},{"$f":"IF(C730=1,\"year\",\"years\")","v":"years"},{"$f":"IF(H730=1,RANDBETWEEN(1,11),(J730-INT(J730))*12)","v":10.799999999999983},"months","=",{"$f":"IF(Worksheet!$D$7=1,1,IF(Worksheet!$D$7=2,2,RANDBETWEEN(1,2)))","v":2},null,{"$f":"IF(H730=1,C730+E730/12,RANDBETWEEN(1,Worksheet!$D$6)+CHOOSE(Worksheet!$D$10,RANDBETWEEN(1,9)/10,RANDBETWEEN(1,99)/100,RANDBETWEEN(1,999)/1000,RANDBETWEEN(1,9999)/10000,RANDBETWEEN(1,99999)/100000))","v":25.9},"years"]
[{"$f":"COUNTIF($B$1:B731,TRUE)","v":293},{"$f":"Worksheet!$B$12","v":true},{"$f":"IF(H731=1,RANDBETWEEN(1,Worksheet!$D$6),INT(J731))","v":24},{"$f":"IF(C731=1,\"hour\",\"hours\")","v":"hours"},{"$f":"IF(H731=1,IF(Worksheet!$D$10=1,RANDBETWEEN(1,9)*6,IF(Worksheet!$D$10=2,RANDBETWEEN(1,19)*3,RANDBETWEEN(1,59))),(J731-INT(J731))*60)","v":30},"minutes","=",{"$f":"IF(Worksheet!$D$7=1,1,IF(Worksheet!$D$7=2,2,RANDBETWEEN(1,2)))","v":2},null,{"$f":"IF(H731=1,C731+E731/60,RANDBETWEEN(1,Worksheet!$D$6)+CHOOSE(Worksheet!$D$10,RANDBETWEEN(1,9)/10,RANDBETWEEN(1,99)/100,RANDBETWEEN(1,999)/1000,RANDBETWEEN(1,9999)/10000,RANDBETWEEN(1,99999)/100000))","v":24.5},"hours"]
[{"$f":"IF(COUNTIF($B$1:B732,TRUE)=COUNTIF($B$1:B731,TRUE),\"\",COUNTIF($B$1:B732,TRUE))","v":294},{"$f":"Worksheet!$B$13","v":true},{"$f":"IF(H732=1,RANDBETWEEN(1,Worksheet!$D$6),INT(J732))","v":21},{"$f":"IF(C732=1,\"minute\",\"minutes\")","v":"minutes"},{"$f":"IF(H732=1,IF(Worksheet!$D$10=1,RANDBETWEEN(1,9)*6,IF(Worksheet!$D$10=2,RANDBETWEEN(1,19)*3,RANDBETWEEN(1,59))),(J732-INT(J732))*60)","v":23.999999999999915},"seconds","=",{"$f":"IF(Worksheet!$D$7=1,1,IF(Worksheet!$D$7=2,2,RANDBETWEEN(1,2)))","v":2},null,{"$f":"IF(H732=1,C732+E732/60,RANDBETWEEN(1,Worksheet!$D$6)+CHOOSE(Worksheet!$D$10,RANDBETWEEN(1,9)/10,RANDBETWEEN(1,99)/100,RANDBETWEEN(1,999)/1000,RANDBETWEEN(1,9999)/10000,RANDBETWEEN(1,99999)/100000))","v":21.4},"minutes"]
[{"$f":"IF(COUNTIF($B$1:B733,TRUE)=COUNTIF($B$1:B732,TRUE),\"\",COUNTIF($B$1:B733,TRUE))","v":""},{"$f":"Worksheet!$B$14","v":false},{"$f":"IF(H733=1,RANDBETWEEN(1,Worksheet!$D$6),INT(J733))","v":1},{"$f":"IF(C733=1,\"week\",\"weeks\")","v":"week"},{"$f":"IF(H733=1,RANDBETWEEN(1,6),(J733-INT(J733))*7)","v":5},"days","=",{"$f":"IF(Worksheet!$D$7=1,1,IF(Worksheet!$D$7=2,2,RANDBETWEEN(1,2)))","v":1},null,{"$f":"IF(H733=1,C733+E733/7,RANDBETWEEN(1,Worksheet!$D$6)+CHOOSE(Worksheet!$D$10,RANDBETWEEN(1,9)/10,RANDBETWEEN(1,99)/100,RANDBETWEEN(1,999)/1000,RANDBETWEEN(1,9999)/10000,RANDBETWEEN(1,99999)/100000))","v":1.7142857142857144},"week"]
[{"$f":"IF(COUNTIF($B$1:B734,TRUE)=COUNTIF($B$1:B733,TRUE),\"\",COUNTIF($B$1:B734,TRUE))","v":""},{"$f":"Worksheet!$D$12","v":false},{"$f":"IF(H734=1,RANDBETWEEN(1,Worksheet!$D$6),INT(J734))","v":20},{"$f":"IF(C734=1,\"day\",\"days\")","v":"days"},{"$f":"IF(H734=1,RANDBETWEEN(1,23),(J734-INT(J734))*24)","v":2.4000000000000341},"hours","=",{"$f":"IF(Worksheet!$D$7=1,1,IF(Worksheet!$D$7=2,2,RANDBETWEEN(1,2)))","v":2},null,{"$f":"IF(H734=1,C734+E734/24,RANDBETWEEN(1,Worksheet!$D$6)+CHOOSE(Worksheet!$D$10,RANDBETWEEN(1,9)/10,RANDBETWEEN(1,99)/100,RANDBETWEEN(1,999)/1000,RANDBETWEEN(1,9999)/10000,RANDBETWEEN(1,99999)/100000))","v":20.100000000000001},"days"]
[{"$f":"IF(COUNTIF($B$1:B735,TRUE)=COUNTIF($B$1:B734,TRUE),\"\",COUNTIF($B$1:B735,TRUE))","v":""},{"$f":"Worksheet!$D$13","v":false},{"$f":"IF(H735=1,RANDBETWEEN(1,Worksheet!$D$6),INT(J735))","v":20},{"$f":"IF(C735=1,\"year\",\"years\")","v":"years"},{"$f":"IF(H735=1,RANDBETWEEN(1,11),(J735-INT(J735))*12)","v":11},"months","=",{"$f":"IF(Worksheet!$D$7=1,1,IF(Worksheet!$D$7=2,2,RANDBETWEEN(1,2)))","v":1},null,{"$f":"IF(H735=1,C735+E735/12,RANDBETWEEN(1,Worksheet!$D$6)+CHOOSE(Worksheet!$D$10,RANDBETWEEN(1,9)/10,RANDBETWEEN(1,99)/100,RANDBETWEEN(1,999)/1000,RANDBETWEEN(1,9999)/10000,RANDBETWEEN(1,99999)/100000))","v":20.916666666666668},{"$f":"D735","v":"years"}]
[{"$f":"COUNTIF($B$1:B736,TRUE)","v":295},{"$f":"Worksheet!$B$12","v":true},{"$f":"IF(H736=1,RANDBETWEEN(1,Worksheet!$D$6),INT(J736))","v":13},{"$f":"IF(C736=1,\"hour\",\"hours\")","v":"hours"},{"$f":"IF(H736=1,IF(Worksheet!$D$10=1,RANDBETWEEN(1,9)*6,IF(Worksheet!$D$10=2,RANDBETWEEN(1,19)*3,RANDBETWEEN(1,59))),(J736-INT(J736))*60)","v":48.000000000000043},"minutes","=",{"$f":"IF(Worksheet!$D$7=1,1,IF(Worksheet!$D$7=2,2,RANDBETWEEN(1,2)))","v":2},null,{"$f":"IF(H736=1,C736+E736/60,RANDBETWEEN(1,Worksheet!$D$6)+CHOOSE(Worksheet!$D$10,RANDBETWEEN(1,9)/10,RANDBETWEEN(1,99)/100,RANDBETWEEN(1,999)/1000,RANDBETWEEN(1,9999)/10000,RANDBETWEEN(1,99999)/100000))","v":13.8},"hours"]
[{"$f":"IF(COUNTIF($B$1:B737,TRUE)=COUNTIF($B$1:B736,TRUE),\"\",COUNTIF($B$1:B737,TRUE))","v":296},{"$f":"Worksheet!$B$13","v":true},{"$f":"IF(H737=1,RANDBETWEEN(1,Worksheet!$D$6),INT(J737))","v":12},{"$f":"IF(C737=1,\"minute\",\"minutes\")","v":"minutes"},{"$f":"IF(H737=1,IF(Worksheet!$D$10=1,RANDBETWEEN(1,9)*6,IF(Worksheet!$D$10=2,RANDBETWEEN(1,19)*3,RANDBETWEEN(1,59))),(J737-INT(J737))*60)","v":41.999999999999957},"seconds","=",{"$f":"IF(Worksheet!$D$7=1,1,IF(Worksheet!$D$7=2,2,RANDBETWEEN(1,2)))","v":2},null,{"$f":"IF(H737=1,C737+E737/60,RANDBETWEEN(1,Worksheet!$D$6)+CHOOSE(Worksheet!$D$10,RANDBETWEEN(1,9)/10,RANDBETWEEN(1,99)/100,RANDBETWEEN(1,999)/1000,RANDBETWEEN(1,9999)/10000,RANDBETWEEN(1,99999)/100000))","v":12.7},"minutes"]
[{"$f":"IF(COUNTIF($B$1:B738,TRUE)=COUNTIF($B$1:B737,TRUE),\"\",COUNTIF($B$1:B738,TRUE))","v":""},{"$f":"Worksheet!$B$14","v":false},{"$f":"IF(H738=1,RANDBETWEEN(1,Worksheet!$D$6),INT(J738))","v":16},{"$f":"IF(C738=1,\"week\",\"weeks\")","v":"weeks"},{"$f":"IF(H738=1,RANDBETWEEN(1,6),(J738-INT(J738))*7)","v":3},"days","=",{"$f":"IF(Worksheet!$D$7=1,1,IF(Worksheet!$D$7=2,2,RANDBETWEEN(1,2)))","v":1},null,{"$f":"IF(H738=1,C738+E738/7,RANDBETWEEN(1,Worksheet!$D$6)+CHOOSE(Worksheet!$D$10,RANDBETWEEN(1,9)/10,RANDBETWEEN(1,99)/100,RANDBETWEEN(1,999)/1000,RANDBETWEEN(1,9999)/10000,RANDBETWEEN(1,99999)/100000))","v":16.428571428571427},"weeks"]
[{"$f":"IF(COUNTIF($B$1:B739,TRUE)=COUNTIF($B$1:B738,TRUE),\"\",COUNTIF($B$1:B739,TRUE))","v":""},{"$f":"Worksheet!$D$12","v":false},{"$f":"IF(H739=1,RANDBETWEEN(1,Worksheet!$D$6),INT(J739))","v":29},{"$f":"IF(C739=1,\"day\",\"days\")","v":"days"},{"$f":"IF(H739=1,RANDBETWEEN(1,23),(J739-INT(J739))*24)","v":12},"hours","=",{"$f":"IF(Worksheet!$D$7=1,1,IF(Worksheet!$D$7=2,2,RANDBETWEEN(1,2)))","v":2},null,{"$f":"IF(H739=1,C739+E739/24,RANDBETWEEN(1,Worksheet!$D$6)+CHOOSE(Worksheet!$D$10,RANDBETWEEN(1,9)/10,RANDBETWEEN(1,99)/100,RANDBETWEEN(1,999)/1000,RANDBETWEEN(1,9999)/10000,RANDBETWEEN(1,99999)/100000))","v":29.5},"days"]
[{"$f":"IF(COUNTIF($B$1:B740,TRUE)=COUNTIF($B$1:B739,TRUE),\"\",COUNTIF($B$1:B740,TRUE))","v":""},{"$f":"Worksheet!$D$13","v":false},{"$f":"IF(H740=1,RANDBETWEEN(1,Worksheet!$D$6),INT(J740))","v":15},{"$f":"IF(C740=1,\"year\",\"years\")","v":"years"},{"$f":"IF(H740=1,RANDBETWEEN(1,11),(J740-INT(J740))*12)","v":2},"months","=",{"$f":"IF(Worksheet!$D$7=1,1,IF(Worksheet!$D$7=2,2,RANDBETWEEN(1,2)))","v":1},null,{"$f":"IF(H740=1,C740+E740/12,RANDBETWEEN(1,Worksheet!$D$6)+CHOOSE(Worksheet!$D$10,RANDBETWEEN(1,9)/10,RANDBETWEEN(1,99)/100,RANDBETWEEN(1,999)/1000,RANDBETWEEN(1,9999)/10000,RANDBETWEEN(1,99999)/100000))","v":15.166666666666666},"years"]
[{"$f":"COUNTIF($B$1:B741,TRUE)","v":297},{"$f":"Worksheet!$B$12","v":true},{"$f":"IF(H741=1,RANDBETWEEN(1,Worksheet!$D$6),INT(J741))","v":3},{"$f":"IF(C741=1,\"hour\",\"hours\")","v":"hours"},{"$f":"IF(H741=1,IF(Worksheet!$D$10=1,RANDBETWEEN(1,9)*6,IF(Worksheet!$D$10=2,RANDBETWEEN(1,19)*3,RANDBETWEEN(1,59))),(J741-INT(J741))*60)","v":53.999999999999993},"minutes","=",{"$f":"IF(Worksheet!$D$7=1,1,IF(Worksheet!$D$7=2,2,RANDBETWEEN(1,2)))","v":2},null,{"$f":"IF(H741=1,C741+E741/60,RANDBETWEEN(1,Worksheet!$D$6)+CHOOSE(Worksheet!$D$10,RANDBETWEEN(1,9)/10,RANDBETWEEN(1,99)/100,RANDBETWEEN(1,999)/1000,RANDBETWEEN(1,9999)/10000,RANDBETWEEN(1,99999)/100000))","v":3.9},"hours"]
[{"$f":"IF(COUNTIF($B$1:B742,TRUE)=COUNTIF($B$1:B741,TRUE),\"\",COUNTIF($B$1:B742,TRUE))","v":298},{"$f":"Worksheet!$B$13","v":true},{"$f":"IF(H742=1,RANDBETWEEN(1,Worksheet!$D$6),INT(J742))","v":25},{"$f":"IF(C742=1,\"minute\",\"minutes\")","v":"minutes"},{"$f":"IF(H742=1,IF(Worksheet!$D$10=1,RANDBETWEEN(1,9)*6,IF(Worksheet!$D$10=2,RANDBETWEEN(1,19)*3,RANDBETWEEN(1,59))),(J742-INT(J742))*60)","v":18},"seconds","=",{"$f":"IF(Worksheet!$D$7=1,1,IF(Worksheet!$D$7=2,2,RANDBETWEEN(1,2)))","v":1},null,{"$f":"IF(H742=1,C742+E742/60,RANDBETWEEN(1,Worksheet!$D$6)+CHOOSE(Worksheet!$D$10,RANDBETWEEN(1,9)/10,RANDBETWEEN(1,99)/100,RANDBETWEEN(1,999)/1000,RANDBETWEEN(1,9999)/10000,RANDBETWEEN(1,99999)/100000))","v":25.3},"minutes"]
[{"$f":"IF(COUNTIF($B$1:B743,TRUE)=COUNTIF($B$1:B742,TRUE),\"\",COUNTIF($B$1:B743,TRUE))","v":""},{"$f":"Worksheet!$B$14","v":false},{"$f":"IF(H743=1,RANDBETWEEN(1,Worksheet!$D$6),INT(J743))","v":19},{"$f":"IF(C743=1,\"week\",\"weeks\")","v":"weeks"},{"$f":"IF(H743=1,RANDBETWEEN(1,6),(J743-INT(J743))*7)","v":3.5},"days","=",{"$f":"IF(Worksheet!$D$7=1,1,IF(Worksheet!$D$7=2,2,RANDBETWEEN(1,2)))","v":2},null,{"$f":"IF(H743=1,C743+E743/7,RANDBETWEEN(1,Worksheet!$D$6)+CHOOSE(Worksheet!$D$10,RANDBETWEEN(1,9)/10,RANDBETWEEN(1,99)/100,RANDBETWEEN(1,999)/1000,RANDBETWEEN(1,9999)/10000,RANDBETWEEN(1,99999)/100000))","v":19.5},"weeks"]
[{"$f":"IF(COUNTIF($B$1:B744,TRUE)=COUNTIF($B$1:B743,TRUE),\"\",COUNTIF($B$1:B744,TRUE))","v":""},{"$f":"Worksheet!$D$12","v":false},{"$f":"IF(H744=1,RANDBETWEEN(1,Worksheet!$D$6),INT(J744))","v":27},{"$f":"IF(C744=1,\"day\",\"days\")","v":"days"},{"$f":"IF(H744=1,RANDBETWEEN(1,23),(J744-INT(J744))*24)","v":19.200000000000017},"hours","=",{"$f":"IF(Worksheet!$D$7=1,1,IF(Worksheet!$D$7=2,2,RANDBETWEEN(1,2)))","v":2},null,{"$f":"IF(H744=1,C744+E744/24,RANDBETWEEN(1,Worksheet!$D$6)+CHOOSE(Worksheet!$D$10,RANDBETWEEN(1,9)/10,RANDBETWEEN(1,99)/100,RANDBETWEEN(1,999)/1000,RANDBETWEEN(1,9999)/10000,RANDBETWEEN(1,99999)/100000))","v":27.8},"days"]
[{"$f":"IF(COUNTIF($B$1:B745,TRUE)=COUNTIF($B$1:B744,TRUE),\"\",COUNTIF($B$1:B745,TRUE))","v":""},{"$f":"Worksheet!$D$13","v":false},{"$f":"IF(H745=1,RANDBETWEEN(1,Worksheet!$D$6),INT(J745))","v":4},{"$f":"IF(C745=1,\"year\",\"years\")","v":"years"},{"$f":"IF(H745=1,RANDBETWEEN(1,11),(J745-INT(J745))*12)","v":6},"months","=",{"$f":"IF(Worksheet!$D$7=1,1,IF(Worksheet!$D$7=2,2,RANDBETWEEN(1,2)))","v":1},null,{"$f":"IF(H745=1,C745+E745/12,RANDBETWEEN(1,Worksheet!$D$6)+CHOOSE(Worksheet!$D$10,RANDBETWEEN(1,9)/10,RANDBETWEEN(1,99)/100,RANDBETWEEN(1,999)/1000,RANDBETWEEN(1,9999)/10000,RANDBETWEEN(1,99999)/100000))","v":4.5},"years"]
[{"$f":"COUNTIF($B$1:B746,TRUE)","v":299},{"$f":"Worksheet!$B$12","v":true},{"$f":"IF(H746=1,RANDBETWEEN(1,Worksheet!$D$6),INT(J746))","v":16},{"$f":"IF(C746=1,\"hour\",\"hours\")","v":"hours"},{"$f":"IF(H746=1,IF(Worksheet!$D$10=1,RANDBETWEEN(1,9)*6,IF(Worksheet!$D$10=2,RANDBETWEEN(1,19)*3,RANDBETWEEN(1,59))),(J746-INT(J746))*60)","v":24},"minutes","=",{"$f":"IF(Worksheet!$D$7=1,1,IF(Worksheet!$D$7=2,2,RANDBETWEEN(1,2)))","v":1},null,{"$f":"IF(H746=1,C746+E746/60,RANDBETWEEN(1,Worksheet!$D$6)+CHOOSE(Worksheet!$D$10,RANDBETWEEN(1,9)/10,RANDBETWEEN(1,99)/100,RANDBETWEEN(1,999)/1000,RANDBETWEEN(1,9999)/10000,RANDBETWEEN(1,99999)/100000))","v":16.399999999999999},"hours"]
[{"$f":"IF(COUNTIF($B$1:B747,TRUE)=COUNTIF($B$1:B746,TRUE),\"\",COUNTIF($B$1:B747,TRUE))","v":300},{"$f":"Worksheet!$B$13","v":true},{"$f":"IF(H747=1,RANDBETWEEN(1,Worksheet!$D$6),INT(J747))","v":28},{"$f":"IF(C747=1,\"minute\",\"minutes\")","v":"minutes"},{"$f":"IF(H747=1,IF(Worksheet!$D$10=1,RANDBETWEEN(1,9)*6,IF(Worksheet!$D$10=2,RANDBETWEEN(1,19)*3,RANDBETWEEN(1,59))),(J747-INT(J747))*60)","v":36},"seconds","=",{"$f":"IF(Worksheet!$D$7=1,1,IF(Worksheet!$D$7=2,2,RANDBETWEEN(1,2)))","v":1},null,{"$f":"IF(H747=1,C747+E747/60,RANDBETWEEN(1,Worksheet!$D$6)+CHOOSE(Worksheet!$D$10,RANDBETWEEN(1,9)/10,RANDBETWEEN(1,99)/100,RANDBETWEEN(1,999)/1000,RANDBETWEEN(1,9999)/10000,RANDBETWEEN(1,99999)/100000))","v":28.6},"minutes"]
[{"$f":"IF(COUNTIF($B$1:B748,TRUE)=COUNTIF($B$1:B747,TRUE),\"\",COUNTIF($B$1:B748,TRUE))","v":""},{"$f":"Worksheet!$B$14","v":false},{"$f":"IF(H748=1,RANDBETWEEN(1,Worksheet!$D$6),INT(J748))","v":3},{"$f":"IF(C748=1,\"week\",\"weeks\")","v":"weeks"},{"$f":"IF(H748=1,RANDBETWEEN(1,6),(J748-INT(J748))*7)","v":2.0999999999999988},"days","=",{"$f":"IF(Worksheet!$D$7=1,1,IF(Worksheet!$D$7=2,2,RANDBETWEEN(1,2)))","v":2},null,{"$f":"IF(H748=1,C748+E748/7,RANDBETWEEN(1,Worksheet!$D$6)+CHOOSE(Worksheet!$D$10,RANDBETWEEN(1,9)/10,RANDBETWEEN(1,99)/100,RANDBETWEEN(1,999)/1000,RANDBETWEEN(1,9999)/10000,RANDBETWEEN(1,99999)/100000))","v":3.3},"weeks"]
[{"$f":"IF(COUNTIF($B$1:B749,TRUE)=COUNTIF($B$1:B748,TRUE),\"\",COUNTIF($B$1:B749,TRUE))","v":""},{"$f":"Worksheet!$D$12","v":false},{"$f":"IF(H749=1,RANDBETWEEN(1,Worksheet!$D$6),INT(J749))","v":30},{"$f":"IF(C749=1,\"day\",\"days\")","v":"days"},{"$f":"IF(H749=1,RANDBETWEEN(1,23),(J749-INT(J749))*24)","v":12},"hours","=",{"$f":"IF(Worksheet!$D$7=1,1,IF(Worksheet!$D$7=2,2,RANDBETWEEN(1,2)))","v":2},null,{"$f":"IF(H749=1,C749+E749/24,RANDBETWEEN(1,Worksheet!$D$6)+CHOOSE(Worksheet!$D$10,RANDBETWEEN(1,9)/10,RANDBETWEEN(1,99)/100,RANDBETWEEN(1,999)/1000,RANDBETWEEN(1,9999)/10000,RANDBETWEEN(1,99999)/100000))","v":30.5},"days"]
[{"$f":"IF(COUNTIF($B$1:B750,TRUE)=COUNTIF($B$1:B749,TRUE),\"\",COUNTIF($B$1:B750,TRUE))","v":""},{"$f":"Worksheet!$D$13","v":false},{"$f":"IF(H750=1,RANDBETWEEN(1,Worksheet!$D$6),INT(J750))","v":15},{"$f":"IF(C750=1,\"year\",\"years\")","v":"years"},{"$f":"IF(H750=1,RANDBETWEEN(1,11),(J750-INT(J750))*12)","v":1},"months","=",{"$f":"IF(Worksheet!$D$7=1,1,IF(Worksheet!$D$7=2,2,RANDBETWEEN(1,2)))","v":1},null,{"$f":"IF(H750=1,C750+E750/12,RANDBETWEEN(1,Worksheet!$D$6)+CHOOSE(Worksheet!$D$10,RANDBETWEEN(1,9)/10,RANDBETWEEN(1,99)/100,RANDBETWEEN(1,999)/1000,RANDBETWEEN(1,9999)/10000,RANDBETWEEN(1,99999)/100000))","v":15.083333333333334},"years"]
[{"$f":"COUNTIF($B$1:B751,TRUE)","v":301},{"$f":"Worksheet!$B$12","v":true},{"$f":"IF(H751=1,RANDBETWEEN(1,Worksheet!$D$6),INT(J751))","v":30},{"$f":"IF(C751=1,\"hour\",\"hours\")","v":"hours"},{"$f":"IF(H751=1,IF(Worksheet!$D$10=1,RANDBETWEEN(1,9)*6,IF(Worksheet!$D$10=2,RANDBETWEEN(1,19)*3,RANDBETWEEN(1,59))),(J751-INT(J751))*60)","v":24},"minutes","=",{"$f":"IF(Worksheet!$D$7=1,1,IF(Worksheet!$D$7=2,2,RANDBETWEEN(1,2)))","v":1},null,{"$f":"IF(H751=1,C751+E751/60,RANDBETWEEN(1,Worksheet!$D$6)+CHOOSE(Worksheet!$D$10,RANDBETWEEN(1,9)/10,RANDBETWEEN(1,99)/100,RANDBETWEEN(1,999)/1000,RANDBETWEEN(1,9999)/10000,RANDBETWEEN(1,99999)/100000))","v":30.4},"hours"]
[{"$f":"IF(COUNTIF($B$1:B752,TRUE)=COUNTIF($B$1:B751,TRUE),\"\",COUNTIF($B$1:B752,TRUE))","v":302},{"$f":"Worksheet!$B$13","v":true},{"$f":"IF(H752=1,RANDBETWEEN(1,Worksheet!$D$6),INT(J752))","v":19},{"$f":"IF(C752=1,\"minute\",\"minutes\")","v":"minutes"},{"$f":"IF(H752=1,IF(Worksheet!$D$10=1,RANDBETWEEN(1,9)*6,IF(Worksheet!$D$10=2,RANDBETWEEN(1,19)*3,RANDBETWEEN(1,59))),(J752-INT(J752))*60)","v":42},"seconds","=",{"$f":"IF(Worksheet!$D$7=1,1,IF(Worksheet!$D$7=2,2,RANDBETWEEN(1,2)))","v":1},null,{"$f":"IF(H752=1,C752+E752/60,RANDBETWEEN(1,Worksheet!$D$6)+CHOOSE(Worksheet!$D$10,RANDBETWEEN(1,9)/10,RANDBETWEEN(1,99)/100,RANDBETWEEN(1,999)/1000,RANDBETWEEN(1,9999)/10000,RANDBETWEEN(1,99999)/100000))","v":19.7},"minutes"]
[{"$f":"IF(COUNTIF($B$1:B753,TRUE)=COUNTIF($B$1:B752,TRUE),\"\",COUNTIF($B$1:B753,TRUE))","v":""},{"$f":"Worksheet!$B$14","v":false},{"$f":"IF(H753=1,RANDBETWEEN(1,Worksheet!$D$6),INT(J753))","v":3},{"$f":"IF(C753=1,\"week\",\"weeks\")","v":"weeks"},{"$f":"IF(H753=1,RANDBETWEEN(1,6),(J753-INT(J753))*7)","v":0.70000000000000062},"days","=",{"$f":"IF(Worksheet!$D$7=1,1,IF(Worksheet!$D$7=2,2,RANDBETWEEN(1,2)))","v":2},null,{"$f":"IF(H753=1,C753+E753/7,RANDBETWEEN(1,Worksheet!$D$6)+CHOOSE(Worksheet!$D$10,RANDBETWEEN(1,9)/10,RANDBETWEEN(1,99)/100,RANDBETWEEN(1,999)/1000,RANDBETWEEN(1,9999)/10000,RANDBETWEEN(1,99999)/100000))","v":3.1},"weeks"]
[{"$f":"IF(COUNTIF($B$1:B754,TRUE)=COUNTIF($B$1:B753,TRUE),\"\",COUNTIF($B$1:B754,TRUE))","v":""},{"$f":"Worksheet!$D$12","v":false},{"$f":"IF(H754=1,RANDBETWEEN(1,Worksheet!$D$6),INT(J754))","v":17},{"$f":"IF(C754=1,\"day\",\"days\")","v":"days"},{"$f":"IF(H754=1,RANDBETWEEN(1,23),(J754-INT(J754))*24)","v":9.5999999999999659},"hours","=",{"$f":"IF(Worksheet!$D$7=1,1,IF(Worksheet!$D$7=2,2,RANDBETWEEN(1,2)))","v":2},null,{"$f":"IF(H754=1,C754+E754/24,RANDBETWEEN(1,Worksheet!$D$6)+CHOOSE(Worksheet!$D$10,RANDBETWEEN(1,9)/10,RANDBETWEEN(1,99)/100,RANDBETWEEN(1,999)/1000,RANDBETWEEN(1,9999)/10000,RANDBETWEEN(1,99999)/100000))","v":17.399999999999999},"days"]
[{"$f":"IF(COUNTIF($B$1:B755,TRUE)=COUNTIF($B$1:B754,TRUE),\"\",COUNTIF($B$1:B755,TRUE))","v":""},{"$f":"Worksheet!$D$13","v":false},{"$f":"IF(H755=1,RANDBETWEEN(1,Worksheet!$D$6),INT(J755))","v":2},{"$f":"IF(C755=1,\"year\",\"years\")","v":"years"},{"$f":"IF(H755=1,RANDBETWEEN(1,11),(J755-INT(J755))*12)","v":1.2000000000000011},"months","=",{"$f":"IF(Worksheet!$D$7=1,1,IF(Worksheet!$D$7=2,2,RANDBETWEEN(1,2)))","v":2},null,{"$f":"IF(H755=1,C755+E755/12,RANDBETWEEN(1,Worksheet!$D$6)+CHOOSE(Worksheet!$D$10,RANDBETWEEN(1,9)/10,RANDBETWEEN(1,99)/100,RANDBETWEEN(1,999)/1000,RANDBETWEEN(1,9999)/10000,RANDBETWEEN(1,99999)/100000))","v":2.1},"years"]
[{"$f":"COUNTIF($B$1:B756,TRUE)","v":303},{"$f":"Worksheet!$B$12","v":true},{"$f":"IF(H756=1,RANDBETWEEN(1,Worksheet!$D$6),INT(J756))","v":5},{"$f":"IF(C756=1,\"hour\",\"hours\")","v":"hours"},{"$f":"IF(H756=1,IF(Worksheet!$D$10=1,RANDBETWEEN(1,9)*6,IF(Worksheet!$D$10=2,RANDBETWEEN(1,19)*3,RANDBETWEEN(1,59))),(J756-INT(J756))*60)","v":54.000000000000021},"minutes","=",{"$f":"IF(Worksheet!$D$7=1,1,IF(Worksheet!$D$7=2,2,RANDBETWEEN(1,2)))","v":2},null,{"$f":"IF(H756=1,C756+E756/60,RANDBETWEEN(1,Worksheet!$D$6)+CHOOSE(Worksheet!$D$10,RANDBETWEEN(1,9)/10,RANDBETWEEN(1,99)/100,RANDBETWEEN(1,999)/1000,RANDBETWEEN(1,9999)/10000,RANDBETWEEN(1,99999)/100000))","v":5.9},"hours"]
[{"$f":"IF(COUNTIF($B$1:B757,TRUE)=COUNTIF($B$1:B756,TRUE),\"\",COUNTIF($B$1:B757,TRUE))","v":304},{"$f":"Worksheet!$B$13","v":true},{"$f":"IF(H757=1,RANDBETWEEN(1,Worksheet!$D$6),INT(J757))","v":14},{"$f":"IF(C757=1,\"minute\",\"minutes\")","v":"minutes"},{"$f":"IF(H757=1,IF(Worksheet!$D$10=1,RANDBETWEEN(1,9)*6,IF(Worksheet!$D$10=2,RANDBETWEEN(1,19)*3,RANDBETWEEN(1,59))),(J757-INT(J757))*60)","v":48},"seconds","=",{"$f":"IF(Worksheet!$D$7=1,1,IF(Worksheet!$D$7=2,2,RANDBETWEEN(1,2)))","v":1},null,{"$f":"IF(H757=1,C757+E757/60,RANDBETWEEN(1,Worksheet!$D$6)+CHOOSE(Worksheet!$D$10,RANDBETWEEN(1,9)/10,RANDBETWEEN(1,99)/100,RANDBETWEEN(1,999)/1000,RANDBETWEEN(1,9999)/10000,RANDBETWEEN(1,99999)/100000))","v":14.8},"minutes"]
[{"$f":"IF(COUNTIF($B$1:B758,TRUE)=COUNTIF($B$1:B757,TRUE),\"\",COUNTIF($B$1:B758,TRUE))","v":""},{"$f":"Worksheet!$B$14","v":false},{"$f":"IF(H758=1,RANDBETWEEN(1,Worksheet!$D$6),INT(J758))","v":17},{"$f":"IF(C758=1,\"week\",\"weeks\")","v":"weeks"},{"$f":"IF(H758=1,RANDBETWEEN(1,6),(J758-INT(J758))*7)","v":5},"days","=",{"$f":"IF(Worksheet!$D$7=1,1,IF(Worksheet!$D$7=2,2,RANDBETWEEN(1,2)))","v":1},null,{"$f":"IF(H758=1,C758+E758/7,RANDBETWEEN(1,Worksheet!$D$6)+CHOOSE(Worksheet!$D$10,RANDBETWEEN(1,9)/10,RANDBETWEEN(1,99)/100,RANDBETWEEN(1,999)/1000,RANDBETWEEN(1,9999)/10000,RANDBETWEEN(1,99999)/100000))","v":17.714285714285715},"weeks"]
[{"$f":"IF(COUNTIF($B$1:B759,TRUE)=COUNTIF($B$1:B758,TRUE),\"\",COUNTIF($B$1:B759,TRUE))","v":""},{"$f":"Worksheet!$D$12","v":false},{"$f":"IF(H759=1,RANDBETWEEN(1,Worksheet!$D$6),INT(J759))","v":13},{"$f":"IF(C759=1,\"day\",\"days\")","v":"days"},{"$f":"IF(H759=1,RANDBETWEEN(1,23),(J759-INT(J759))*24)","v":9.6000000000000085},"hours","=",{"$f":"IF(Worksheet!$D$7=1,1,IF(Worksheet!$D$7=2,2,RANDBETWEEN(1,2)))","v":2},null,{"$f":"IF(H759=1,C759+E759/24,RANDBETWEEN(1,Worksheet!$D$6)+CHOOSE(Worksheet!$D$10,RANDBETWEEN(1,9)/10,RANDBETWEEN(1,99)/100,RANDBETWEEN(1,999)/1000,RANDBETWEEN(1,9999)/10000,RANDBETWEEN(1,99999)/100000))","v":13.4},"days"]
[{"$f":"IF(COUNTIF($B$1:B760,TRUE)=COUNTIF($B$1:B759,TRUE),\"\",COUNTIF($B$1:B760,TRUE))","v":""},{"$f":"Worksheet!$D$13","v":false},{"$f":"IF(H760=1,RANDBETWEEN(1,Worksheet!$D$6),INT(J760))","v":18},{"$f":"IF(C760=1,\"year\",\"years\")","v":"years"},{"$f":"IF(H760=1,RANDBETWEEN(1,11),(J760-INT(J760))*12)","v":5},"months","=",{"$f":"IF(Worksheet!$D$7=1,1,IF(Worksheet!$D$7=2,2,RANDBETWEEN(1,2)))","v":1},null,{"$f":"IF(H760=1,C760+E760/12,RANDBETWEEN(1,Worksheet!$D$6)+CHOOSE(Worksheet!$D$10,RANDBETWEEN(1,9)/10,RANDBETWEEN(1,99)/100,RANDBETWEEN(1,999)/1000,RANDBETWEEN(1,9999)/10000,RANDBETWEEN(1,99999)/100000))","v":18.416666666666668},"years"]
[{"$f":"COUNTIF($B$1:B761,TRUE)","v":305},{"$f":"Worksheet!$B$12","v":true},{"$f":"IF(H761=1,RANDBETWEEN(1,Worksheet!$D$6),INT(J761))","v":3},{"$f":"IF(C761=1,\"hour\",\"hours\")","v":"hours"},{"$f":"IF(H761=1,IF(Worksheet!$D$10=1,RANDBETWEEN(1,9)*6,IF(Worksheet!$D$10=2,RANDBETWEEN(1,19)*3,RANDBETWEEN(1,59))),(J761-INT(J761))*60)","v":12.000000000000011},"minutes","=",{"$f":"IF(Worksheet!$D$7=1,1,IF(Worksheet!$D$7=2,2,RANDBETWEEN(1,2)))","v":2},null,{"$f":"IF(H761=1,C761+E761/60,RANDBETWEEN(1,Worksheet!$D$6)+CHOOSE(Worksheet!$D$10,RANDBETWEEN(1,9)/10,RANDBETWEEN(1,99)/100,RANDBETWEEN(1,999)/1000,RANDBETWEEN(1,9999)/10000,RANDBETWEEN(1,99999)/100000))","v":3.2},"hours"]
[{"$f":"IF(COUNTIF($B$1:B762,TRUE)=COUNTIF($B$1:B761,TRUE),\"\",COUNTIF($B$1:B762,TRUE))","v":306},{"$f":"Worksheet!$B$13","v":true},{"$f":"IF(H762=1,RANDBETWEEN(1,Worksheet!$D$6),INT(J762))","v":12},{"$f":"IF(C762=1,\"minute\",\"minutes\")","v":"minutes"},{"$f":"IF(H762=1,IF(Worksheet!$D$10=1,RANDBETWEEN(1,9)*6,IF(Worksheet!$D$10=2,RANDBETWEEN(1,19)*3,RANDBETWEEN(1,59))),(J762-INT(J762))*60)","v":24.000000000000021},"seconds","=",{"$f":"IF(Worksheet!$D$7=1,1,IF(Worksheet!$D$7=2,2,RANDBETWEEN(1,2)))","v":2},null,{"$f":"IF(H762=1,C762+E762/60,RANDBETWEEN(1,Worksheet!$D$6)+CHOOSE(Worksheet!$D$10,RANDBETWEEN(1,9)/10,RANDBETWEEN(1,99)/100,RANDBETWEEN(1,999)/1000,RANDBETWEEN(1,9999)/10000,RANDBETWEEN(1,99999)/100000))","v":12.4},"minutes"]
[{"$f":"IF(COUNTIF($B$1:B763,TRUE)=COUNTIF($B$1:B762,TRUE),\"\",COUNTIF($B$1:B763,TRUE))","v":""},{"$f":"Worksheet!$B$14","v":false},{"$f":"IF(H763=1,RANDBETWEEN(1,Worksheet!$D$6),INT(J763))","v":2},{"$f":"IF(C763=1,\"week\",\"weeks\")","v":"weeks"},{"$f":"IF(H763=1,RANDBETWEEN(1,6),(J763-INT(J763))*7)","v":6},"days","=",{"$f":"IF(Worksheet!$D$7=1,1,IF(Worksheet!$D$7=2,2,RANDBETWEEN(1,2)))","v":1},null,{"$f":"IF(H763=1,C763+E763/7,RANDBETWEEN(1,Worksheet!$D$6)+CHOOSE(Worksheet!$D$10,RANDBETWEEN(1,9)/10,RANDBETWEEN(1,99)/100,RANDBETWEEN(1,999)/1000,RANDBETWEEN(1,9999)/10000,RANDBETWEEN(1,99999)/100000))","v":2.8571428571428572},"weeks"]
[{"$f":"IF(COUNTIF($B$1:B764,TRUE)=COUNTIF($B$1:B763,TRUE),\"\",COUNTIF($B$1:B764,TRUE))","v":""},{"$f":"Worksheet!$D$12","v":false},{"$f":"IF(H764=1,RANDBETWEEN(1,Worksheet!$D$6),INT(J764))","v":7},{"$f":"IF(C764=1,\"day\",\"days\")","v":"days"},{"$f":"IF(H764=1,RANDBETWEEN(1,23),(J764-INT(J764))*24)","v":2},"hours","=",{"$f":"IF(Worksheet!$D$7=1,1,IF(Worksheet!$D$7=2,2,RANDBETWEEN(1,2)))","v":1},null,{"$f":"IF(H764=1,C764+E764/24,RANDBETWEEN(1,Worksheet!$D$6)+CHOOSE(Worksheet!$D$10,RANDBETWEEN(1,9)/10,RANDBETWEEN(1,99)/100,RANDBETWEEN(1,999)/1000,RANDBETWEEN(1,9999)/10000,RANDBETWEEN(1,99999)/100000))","v":7.083333333333333},"days"]
[{"$f":"IF(COUNTIF($B$1:B765,TRUE)=COUNTIF($B$1:B764,TRUE),\"\",COUNTIF($B$1:B765,TRUE))","v":""},{"$f":"Worksheet!$D$13","v":false},{"$f":"IF(H765=1,RANDBETWEEN(1,Worksheet!$D$6),INT(J765))","v":27},{"$f":"IF(C765=1,\"year\",\"years\")","v":"years"},{"$f":"IF(H765=1,RANDBETWEEN(1,11),(J765-INT(J765))*12)","v":4},"months","=",{"$f":"IF(Worksheet!$D$7=1,1,IF(Worksheet!$D$7=2,2,RANDBETWEEN(1,2)))","v":1},null,{"$f":"IF(H765=1,C765+E765/12,RANDBETWEEN(1,Worksheet!$D$6)+CHOOSE(Worksheet!$D$10,RANDBETWEEN(1,9)/10,RANDBETWEEN(1,99)/100,RANDBETWEEN(1,999)/1000,RANDBETWEEN(1,9999)/10000,RANDBETWEEN(1,99999)/100000))","v":27.333333333333332},"years"]
[{"$f":"COUNTIF($B$1:B766,TRUE)","v":307},{"$f":"Worksheet!$B$12","v":true},{"$f":"IF(H766=1,RANDBETWEEN(1,Worksheet!$D$6),INT(J766))","v":28},{"$f":"IF(C766=1,\"hour\",\"hours\")","v":"hours"},{"$f":"IF(H766=1,IF(Worksheet!$D$10=1,RANDBETWEEN(1,9)*6,IF(Worksheet!$D$10=2,RANDBETWEEN(1,19)*3,RANDBETWEEN(1,59))),(J766-INT(J766))*60)","v":12},"minutes","=",{"$f":"IF(Worksheet!$D$7=1,1,IF(Worksheet!$D$7=2,2,RANDBETWEEN(1,2)))","v":1},null,{"$f":"IF(H766=1,C766+E766/60,RANDBETWEEN(1,Worksheet!$D$6)+CHOOSE(Worksheet!$D$10,RANDBETWEEN(1,9)/10,RANDBETWEEN(1,99)/100,RANDBETWEEN(1,999)/1000,RANDBETWEEN(1,9999)/10000,RANDBETWEEN(1,99999)/100000))","v":28.2},"hours"]
[{"$f":"IF(COUNTIF($B$1:B767,TRUE)=COUNTIF($B$1:B766,TRUE),\"\",COUNTIF($B$1:B767,TRUE))","v":308},{"$f":"Worksheet!$B$13","v":true},{"$f":"IF(H767=1,RANDBETWEEN(1,Worksheet!$D$6),INT(J767))","v":20},{"$f":"IF(C767=1,\"minute\",\"minutes\")","v":"minutes"},{"$f":"IF(H767=1,IF(Worksheet!$D$10=1,RANDBETWEEN(1,9)*6,IF(Worksheet!$D$10=2,RANDBETWEEN(1,19)*3,RANDBETWEEN(1,59))),(J767-INT(J767))*60)","v":42},"seconds","=",{"$f":"IF(Worksheet!$D$7=1,1,IF(Worksheet!$D$7=2,2,RANDBETWEEN(1,2)))","v":1},null,{"$f":"IF(H767=1,C767+E767/60,RANDBETWEEN(1,Worksheet!$D$6)+CHOOSE(Worksheet!$D$10,RANDBETWEEN(1,9)/10,RANDBETWEEN(1,99)/100,RANDBETWEEN(1,999)/1000,RANDBETWEEN(1,9999)/10000,RANDBETWEEN(1,99999)/100000))","v":20.7},"minutes"]
[{"$f":"IF(COUNTIF($B$1:B768,TRUE)=COUNTIF($B$1:B767,TRUE),\"\",COUNTIF($B$1:B768,TRUE))","v":""},{"$f":"Worksheet!$B$14","v":false},{"$f":"IF(H768=1,RANDBETWEEN(1,Worksheet!$D$6),INT(J768))","v":23},{"$f":"IF(C768=1,\"week\",\"weeks\")","v":"weeks"},{"$f":"IF(H768=1,RANDBETWEEN(1,6),(J768-INT(J768))*7)","v":2},"days","=",{"$f":"IF(Worksheet!$D$7=1,1,IF(Worksheet!$D$7=2,2,RANDBETWEEN(1,2)))","v":1},null,{"$f":"IF(H768=1,C768+E768/7,RANDBETWEEN(1,Worksheet!$D$6)+CHOOSE(Worksheet!$D$10,RANDBETWEEN(1,9)/10,RANDBETWEEN(1,99)/100,RANDBETWEEN(1,999)/1000,RANDBETWEEN(1,9999)/10000,RANDBETWEEN(1,99999)/100000))","v":23.285714285714285},"weeks"]
[{"$f":"IF(COUNTIF($B$1:B769,TRUE)=COUNTIF($B$1:B768,TRUE),\"\",COUNTIF($B$1:B769,TRUE))","v":""},{"$f":"Worksheet!$D$12","v":false},{"$f":"IF(H769=1,RANDBETWEEN(1,Worksheet!$D$6),INT(J769))","v":11},{"$f":"IF(C769=1,\"day\",\"days\")","v":"days"},{"$f":"IF(H769=1,RANDBETWEEN(1,23),(J769-INT(J769))*24)","v":11},"hours","=",{"$f":"IF(Worksheet!$D$7=1,1,IF(Worksheet!$D$7=2,2,RANDBETWEEN(1,2)))","v":1},null,{"$f":"IF(H769=1,C769+E769/24,RANDBETWEEN(1,Worksheet!$D$6)+CHOOSE(Worksheet!$D$10,RANDBETWEEN(1,9)/10,RANDBETWEEN(1,99)/100,RANDBETWEEN(1,999)/1000,RANDBETWEEN(1,9999)/10000,RANDBETWEEN(1,99999)/100000))","v":11.458333333333334},"days"]
[{"$f":"IF(COUNTIF($B$1:B770,TRUE)=COUNTIF($B$1:B769,TRUE),\"\",COUNTIF($B$1:B770,TRUE))","v":""},{"$f":"Worksheet!$D$13","v":false},{"$f":"IF(H770=1,RANDBETWEEN(1,Worksheet!$D$6),INT(J770))","v":17},{"$f":"IF(C770=1,\"year\",\"years\")","v":"years"},{"$f":"IF(H770=1,RANDBETWEEN(1,11),(J770-INT(J770))*12)","v":4.7999999999999829},"months","=",{"$f":"IF(Worksheet!$D$7=1,1,IF(Worksheet!$D$7=2,2,RANDBETWEEN(1,2)))","v":2},null,{"$f":"IF(H770=1,C770+E770/12,RANDBETWEEN(1,Worksheet!$D$6)+CHOOSE(Worksheet!$D$10,RANDBETWEEN(1,9)/10,RANDBETWEEN(1,99)/100,RANDBETWEEN(1,999)/1000,RANDBETWEEN(1,9999)/10000,RANDBETWEEN(1,99999)/100000))","v":17.399999999999999},"years"]
[{"$f":"COUNTIF($B$1:B771,TRUE)","v":309},{"$f":"Worksheet!$B$12","v":true},{"$f":"IF(H771=1,RANDBETWEEN(1,Worksheet!$D$6),INT(J771))","v":20},{"$f":"IF(C771=1,\"hour\",\"hours\")","v":"hours"},{"$f":"IF(H771=1,IF(Worksheet!$D$10=1,RANDBETWEEN(1,9)*6,IF(Worksheet!$D$10=2,RANDBETWEEN(1,19)*3,RANDBETWEEN(1,59))),(J771-INT(J771))*60)","v":12},"minutes","=",{"$f":"IF(Worksheet!$D$7=1,1,IF(Worksheet!$D$7=2,2,RANDBETWEEN(1,2)))","v":1},null,{"$f":"IF(H771=1,C771+E771/60,RANDBETWEEN(1,Worksheet!$D$6)+CHOOSE(Worksheet!$D$10,RANDBETWEEN(1,9)/10,RANDBETWEEN(1,99)/100,RANDBETWEEN(1,999)/1000,RANDBETWEEN(1,9999)/10000,RANDBETWEEN(1,99999)/100000))","v":20.2},"hours"]
[{"$f":"IF(COUNTIF($B$1:B772,TRUE)=COUNTIF($B$1:B771,TRUE),\"\",COUNTIF($B$1:B772,TRUE))","v":310},{"$f":"Worksheet!$B$13","v":true},{"$f":"IF(H772=1,RANDBETWEEN(1,Worksheet!$D$6),INT(J772))","v":25},{"$f":"IF(C772=1,\"minute\",\"minutes\")","v":"minutes"},{"$f":"IF(H772=1,IF(Worksheet!$D$10=1,RANDBETWEEN(1,9)*6,IF(Worksheet!$D$10=2,RANDBETWEEN(1,19)*3,RANDBETWEEN(1,59))),(J772-INT(J772))*60)","v":41.999999999999957},"seconds","=",{"$f":"IF(Worksheet!$D$7=1,1,IF(Worksheet!$D$7=2,2,RANDBETWEEN(1,2)))","v":2},null,{"$f":"IF(H772=1,C772+E772/60,RANDBETWEEN(1,Worksheet!$D$6)+CHOOSE(Worksheet!$D$10,RANDBETWEEN(1,9)/10,RANDBETWEEN(1,99)/100,RANDBETWEEN(1,999)/1000,RANDBETWEEN(1,9999)/10000,RANDBETWEEN(1,99999)/100000))","v":25.7},"minutes"]
[{"$f":"IF(COUNTIF($B$1:B773,TRUE)=COUNTIF($B$1:B772,TRUE),\"\",COUNTIF($B$1:B773,TRUE))","v":""},{"$f":"Worksheet!$B$14","v":false},{"$f":"IF(H773=1,RANDBETWEEN(1,Worksheet!$D$6),INT(J773))","v":28},{"$f":"IF(C773=1,\"week\",\"weeks\")","v":"weeks"},{"$f":"IF(H773=1,RANDBETWEEN(1,6),(J773-INT(J773))*7)","v":3},"days","=",{"$f":"IF(Worksheet!$D$7=1,1,IF(Worksheet!$D$7=2,2,RANDBETWEEN(1,2)))","v":1},null,{"$f":"IF(H773=1,C773+E773/7,RANDBETWEEN(1,Worksheet!$D$6)+CHOOSE(Worksheet!$D$10,RANDBETWEEN(1,9)/10,RANDBETWEEN(1,99)/100,RANDBETWEEN(1,999)/1000,RANDBETWEEN(1,9999)/10000,RANDBETWEEN(1,99999)/100000))","v":28.428571428571427},"weeks"]
[{"$f":"IF(COUNTIF($B$1:B774,TRUE)=COUNTIF($B$1:B773,TRUE),\"\",COUNTIF($B$1:B774,TRUE))","v":""},{"$f":"Worksheet!$D$12","v":false},{"$f":"IF(H774=1,RANDBETWEEN(1,Worksheet!$D$6),INT(J774))","v":13},{"$f":"IF(C774=1,\"day\",\"days\")","v":"days"},{"$f":"IF(H774=1,RANDBETWEEN(1,23),(J774-INT(J774))*24)","v":2.3999999999999915},"hours","=",{"$f":"IF(Worksheet!$D$7=1,1,IF(Worksheet!$D$7=2,2,RANDBETWEEN(1,2)))","v":2},null,{"$f":"IF(H774=1,C774+E774/24,RANDBETWEEN(1,Worksheet!$D$6)+CHOOSE(Worksheet!$D$10,RANDBETWEEN(1,9)/10,RANDBETWEEN(1,99)/100,RANDBETWEEN(1,999)/1000,RANDBETWEEN(1,9999)/10000,RANDBETWEEN(1,99999)/100000))","v":13.1},"days"]
[{"$f":"IF(COUNTIF($B$1:B775,TRUE)=COUNTIF($B$1:B774,TRUE),\"\",COUNTIF($B$1:B775,TRUE))","v":""},{"$f":"Worksheet!$D$13","v":false},{"$f":"IF(H775=1,RANDBETWEEN(1,Worksheet!$D$6),INT(J775))","v":18},{"$f":"IF(C775=1,\"year\",\"years\")","v":"years"},{"$f":"IF(H775=1,RANDBETWEEN(1,11),(J775-INT(J775))*12)","v":3},"months","=",{"$f":"IF(Worksheet!$D$7=1,1,IF(Worksheet!$D$7=2,2,RANDBETWEEN(1,2)))","v":1},null,{"$f":"IF(H775=1,C775+E775/12,RANDBETWEEN(1,Worksheet!$D$6)+CHOOSE(Worksheet!$D$10,RANDBETWEEN(1,9)/10,RANDBETWEEN(1,99)/100,RANDBETWEEN(1,999)/1000,RANDBETWEEN(1,9999)/10000,RANDBETWEEN(1,99999)/100000))","v":18.25},"years"]
[{"$f":"COUNTIF($B$1:B776,TRUE)","v":311},{"$f":"Worksheet!$B$12","v":true},{"$f":"IF(H776=1,RANDBETWEEN(1,Worksheet!$D$6),INT(J776))","v":9},{"$f":"IF(C776=1,\"hour\",\"hours\")","v":"hours"},{"$f":"IF(H776=1,IF(Worksheet!$D$10=1,RANDBETWEEN(1,9)*6,IF(Worksheet!$D$10=2,RANDBETWEEN(1,19)*3,RANDBETWEEN(1,59))),(J776-INT(J776))*60)","v":48.000000000000043},"minutes","=",{"$f":"IF(Worksheet!$D$7=1,1,IF(Worksheet!$D$7=2,2,RANDBETWEEN(1,2)))","v":2},null,{"$f":"IF(H776=1,C776+E776/60,RANDBETWEEN(1,Worksheet!$D$6)+CHOOSE(Worksheet!$D$10,RANDBETWEEN(1,9)/10,RANDBETWEEN(1,99)/100,RANDBETWEEN(1,999)/1000,RANDBETWEEN(1,9999)/10000,RANDBETWEEN(1,99999)/100000))","v":9.8000000000000007},"hours"]
[{"$f":"IF(COUNTIF($B$1:B777,TRUE)=COUNTIF($B$1:B776,TRUE),\"\",COUNTIF($B$1:B777,TRUE))","v":312},{"$f":"Worksheet!$B$13","v":true},{"$f":"IF(H777=1,RANDBETWEEN(1,Worksheet!$D$6),INT(J777))","v":17},{"$f":"IF(C777=1,\"minute\",\"minutes\")","v":"minutes"},{"$f":"IF(H777=1,IF(Worksheet!$D$10=1,RANDBETWEEN(1,9)*6,IF(Worksheet!$D$10=2,RANDBETWEEN(1,19)*3,RANDBETWEEN(1,59))),(J777-INT(J777))*60)","v":11.999999999999957},"seconds","=",{"$f":"IF(Worksheet!$D$7=1,1,IF(Worksheet!$D$7=2,2,RANDBETWEEN(1,2)))","v":2},null,{"$f":"IF(H777=1,C777+E777/60,RANDBETWEEN(1,Worksheet!$D$6)+CHOOSE(Worksheet!$D$10,RANDBETWEEN(1,9)/10,RANDBETWEEN(1,99)/100,RANDBETWEEN(1,999)/1000,RANDBETWEEN(1,9999)/10000,RANDBETWEEN(1,99999)/100000))","v":17.2},"minutes"]
[{"$f":"IF(COUNTIF($B$1:B778,TRUE)=COUNTIF($B$1:B777,TRUE),\"\",COUNTIF($B$1:B778,TRUE))","v":""},{"$f":"Worksheet!$B$14","v":false},{"$f":"IF(H778=1,RANDBETWEEN(1,Worksheet!$D$6),INT(J778))","v":20},{"$f":"IF(C778=1,\"week\",\"weeks\")","v":"weeks"},{"$f":"IF(H778=1,RANDBETWEEN(1,6),(J778-INT(J778))*7)","v":3},"days","=",{"$f":"IF(Worksheet!$D$7=1,1,IF(Worksheet!$D$7=2,2,RANDBETWEEN(1,2)))","v":1},null,{"$f":"IF(H778=1,C778+E778/7,RANDBETWEEN(1,Worksheet!$D$6)+CHOOSE(Worksheet!$D$10,RANDBETWEEN(1,9)/10,RANDBETWEEN(1,99)/100,RANDBETWEEN(1,999)/1000,RANDBETWEEN(1,9999)/10000,RANDBETWEEN(1,99999)/100000))","v":20.428571428571427},"weeks"]
[{"$f":"IF(COUNTIF($B$1:B779,TRUE)=COUNTIF($B$1:B778,TRUE),\"\",COUNTIF($B$1:B779,TRUE))","v":""},{"$f":"Worksheet!$D$12","v":false},{"$f":"IF(H779=1,RANDBETWEEN(1,Worksheet!$D$6),INT(J779))","v":25},{"$f":"IF(C779=1,\"day\",\"days\")","v":"days"},{"$f":"IF(H779=1,RANDBETWEEN(1,23),(J779-INT(J779))*24)","v":14.400000000000034},"hours","=",{"$f":"IF(Worksheet!$D$7=1,1,IF(Worksheet!$D$7=2,2,RANDBETWEEN(1,2)))","v":2},null,{"$f":"IF(H779=1,C779+E779/24,RANDBETWEEN(1,Worksheet!$D$6)+CHOOSE(Worksheet!$D$10,RANDBETWEEN(1,9)/10,RANDBETWEEN(1,99)/100,RANDBETWEEN(1,999)/1000,RANDBETWEEN(1,9999)/10000,RANDBETWEEN(1,99999)/100000))","v":25.6},"days"]
[{"$f":"IF(COUNTIF($B$1:B780,TRUE)=COUNTIF($B$1:B779,TRUE),\"\",COUNTIF($B$1:B780,TRUE))","v":""},{"$f":"Worksheet!$D$13","v":false},{"$f":"IF(H780=1,RANDBETWEEN(1,Worksheet!$D$6),INT(J780))","v":29},{"$f":"IF(C780=1,\"year\",\"years\")","v":"years"},{"$f":"IF(H780=1,RANDBETWEEN(1,11),(J780-INT(J780))*12)","v":1},"months","=",{"$f":"IF(Worksheet!$D$7=1,1,IF(Worksheet!$D$7=2,2,RANDBETWEEN(1,2)))","v":1},null,{"$f":"IF(H780=1,C780+E780/12,RANDBETWEEN(1,Worksheet!$D$6)+CHOOSE(Worksheet!$D$10,RANDBETWEEN(1,9)/10,RANDBETWEEN(1,99)/100,RANDBETWEEN(1,999)/1000,RANDBETWEEN(1,9999)/10000,RANDBETWEEN(1,99999)/100000))","v":29.083333333333332},"years"]
[{"$f":"COUNTIF($B$1:B781,TRUE)","v":313},{"$f":"Worksheet!$B$12","v":true},{"$f":"IF(H781=1,RANDBETWEEN(1,Worksheet!$D$6),INT(J781))","v":4},{"$f":"IF(C781=1,\"hour\",\"hours\")","v":"hours"},{"$f":"IF(H781=1,IF(Worksheet!$D$10=1,RANDBETWEEN(1,9)*6,IF(Worksheet!$D$10=2,RANDBETWEEN(1,19)*3,RANDBETWEEN(1,59))),(J781-INT(J781))*60)","v":47.999999999999986},"minutes","=",{"$f":"IF(Worksheet!$D$7=1,1,IF(Worksheet!$D$7=2,2,RANDBETWEEN(1,2)))","v":2},null,{"$f":"IF(H781=1,C781+E781/60,RANDBETWEEN(1,Worksheet!$D$6)+CHOOSE(Worksheet!$D$10,RANDBETWEEN(1,9)/10,RANDBETWEEN(1,99)/100,RANDBETWEEN(1,999)/1000,RANDBETWEEN(1,9999)/10000,RANDBETWEEN(1,99999)/100000))","v":4.8},"hours"]
[{"$f":"IF(COUNTIF($B$1:B782,TRUE)=COUNTIF($B$1:B781,TRUE),\"\",COUNTIF($B$1:B782,TRUE))","v":314},{"$f":"Worksheet!$B$13","v":true},{"$f":"IF(H782=1,RANDBETWEEN(1,Worksheet!$D$6),INT(J782))","v":15},{"$f":"IF(C782=1,\"minute\",\"minutes\")","v":"minutes"},{"$f":"IF(H782=1,IF(Worksheet!$D$10=1,RANDBETWEEN(1,9)*6,IF(Worksheet!$D$10=2,RANDBETWEEN(1,19)*3,RANDBETWEEN(1,59))),(J782-INT(J782))*60)","v":18.000000000000043},"seconds","=",{"$f":"IF(Worksheet!$D$7=1,1,IF(Worksheet!$D$7=2,2,RANDBETWEEN(1,2)))","v":2},null,{"$f":"IF(H782=1,C782+E782/60,RANDBETWEEN(1,Worksheet!$D$6)+CHOOSE(Worksheet!$D$10,RANDBETWEEN(1,9)/10,RANDBETWEEN(1,99)/100,RANDBETWEEN(1,999)/1000,RANDBETWEEN(1,9999)/10000,RANDBETWEEN(1,99999)/100000))","v":15.3},"minutes"]
[{"$f":"IF(COUNTIF($B$1:B783,TRUE)=COUNTIF($B$1:B782,TRUE),\"\",COUNTIF($B$1:B783,TRUE))","v":""},{"$f":"Worksheet!$B$14","v":false},{"$f":"IF(H783=1,RANDBETWEEN(1,Worksheet!$D$6),INT(J783))","v":14},{"$f":"IF(C783=1,\"week\",\"weeks\")","v":"weeks"},{"$f":"IF(H783=1,RANDBETWEEN(1,6),(J783-INT(J783))*7)","v":5},"days","=",{"$f":"IF(Worksheet!$D$7=1,1,IF(Worksheet!$D$7=2,2,RANDBETWEEN(1,2)))","v":1},null,{"$f":"IF(H783=1,C783+E783/7,RANDBETWEEN(1,Worksheet!$D$6)+CHOOSE(Worksheet!$D$10,RANDBETWEEN(1,9)/10,RANDBETWEEN(1,99)/100,RANDBETWEEN(1,999)/1000,RANDBETWEEN(1,9999)/10000,RANDBETWEEN(1,99999)/100000))","v":14.714285714285714},"weeks"]
[{"$f":"IF(COUNTIF($B$1:B784,TRUE)=COUNTIF($B$1:B783,TRUE),\"\",COUNTIF($B$1:B784,TRUE))","v":""},{"$f":"Worksheet!$D$12","v":false},{"$f":"IF(H784=1,RANDBETWEEN(1,Worksheet!$D$6),INT(J784))","v":27},{"$f":"IF(C784=1,\"day\",\"days\")","v":"days"},{"$f":"IF(H784=1,RANDBETWEEN(1,23),(J784-INT(J784))*24)","v":20},"hours","=",{"$f":"IF(Worksheet!$D$7=1,1,IF(Worksheet!$D$7=2,2,RANDBETWEEN(1,2)))","v":1},null,{"$f":"IF(H784=1,C784+E784/24,RANDBETWEEN(1,Worksheet!$D$6)+CHOOSE(Worksheet!$D$10,RANDBETWEEN(1,9)/10,RANDBETWEEN(1,99)/100,RANDBETWEEN(1,999)/1000,RANDBETWEEN(1,9999)/10000,RANDBETWEEN(1,99999)/100000))","v":27.833333333333332},"days"]
[{"$f":"IF(COUNTIF($B$1:B785,TRUE)=COUNTIF($B$1:B784,TRUE),\"\",COUNTIF($B$1:B785,TRUE))","v":""},{"$f":"Worksheet!$D$13","v":false},{"$f":"IF(H785=1,RANDBETWEEN(1,Worksheet!$D$6),INT(J785))","v":22},{"$f":"IF(C785=1,\"year\",\"years\")","v":"years"},{"$f":"IF(H785=1,RANDBETWEEN(1,11),(J785-INT(J785))*12)","v":7.2000000000000171},"months","=",{"$f":"IF(Worksheet!$D$7=1,1,IF(Worksheet!$D$7=2,2,RANDBETWEEN(1,2)))","v":2},null,{"$f":"IF(H785=1,C785+E785/12,RANDBETWEEN(1,Worksheet!$D$6)+CHOOSE(Worksheet!$D$10,RANDBETWEEN(1,9)/10,RANDBETWEEN(1,99)/100,RANDBETWEEN(1,999)/1000,RANDBETWEEN(1,9999)/10000,RANDBETWEEN(1,99999)/100000))","v":22.6},"years"]
[{"$f":"COUNTIF($B$1:B786,TRUE)","v":315},{"$f":"Worksheet!$B$12","v":true},{"$f":"IF(H786=1,RANDBETWEEN(1,Worksheet!$D$6),INT(J786))","v":30},{"$f":"IF(C786=1,\"hour\",\"hours\")","v":"hours"},{"$f":"IF(H786=1,IF(Worksheet!$D$10=1,RANDBETWEEN(1,9)*6,IF(Worksheet!$D$10=2,RANDBETWEEN(1,19)*3,RANDBETWEEN(1,59))),(J786-INT(J786))*60)","v":24},"minutes","=",{"$f":"IF(Worksheet!$D$7=1,1,IF(Worksheet!$D$7=2,2,RANDBETWEEN(1,2)))","v":1},null,{"$f":"IF(H786=1,C786+E786/60,RANDBETWEEN(1,Worksheet!$D$6)+CHOOSE(Worksheet!$D$10,RANDBETWEEN(1,9)/10,RANDBETWEEN(1,99)/100,RANDBETWEEN(1,999)/1000,RANDBETWEEN(1,9999)/10000,RANDBETWEEN(1,99999)/100000))","v":30.4},"hours"]
[{"$f":"IF(COUNTIF($B$1:B787,TRUE)=COUNTIF($B$1:B786,TRUE),\"\",COUNTIF($B$1:B787,TRUE))","v":316},{"$f":"Worksheet!$B$13","v":true},{"$f":"IF(H787=1,RANDBETWEEN(1,Worksheet!$D$6),INT(J787))","v":17},{"$f":"IF(C787=1,\"minute\",\"minutes\")","v":"minutes"},{"$f":"IF(H787=1,IF(Worksheet!$D$10=1,RANDBETWEEN(1,9)*6,IF(Worksheet!$D$10=2,RANDBETWEEN(1,19)*3,RANDBETWEEN(1,59))),(J787-INT(J787))*60)","v":36},"seconds","=",{"$f":"IF(Worksheet!$D$7=1,1,IF(Worksheet!$D$7=2,2,RANDBETWEEN(1,2)))","v":1},null,{"$f":"IF(H787=1,C787+E787/60,RANDBETWEEN(1,Worksheet!$D$6)+CHOOSE(Worksheet!$D$10,RANDBETWEEN(1,9)/10,RANDBETWEEN(1,99)/100,RANDBETWEEN(1,999)/1000,RANDBETWEEN(1,9999)/10000,RANDBETWEEN(1,99999)/100000))","v":17.600000000000001},"minutes"]
[{"$f":"IF(COUNTIF($B$1:B788,TRUE)=COUNTIF($B$1:B787,TRUE),\"\",COUNTIF($B$1:B788,TRUE))","v":""},{"$f":"Worksheet!$B$14","v":false},{"$f":"IF(H788=1,RANDBETWEEN(1,Worksheet!$D$6),INT(J788))","v":18},{"$f":"IF(C788=1,\"week\",\"weeks\")","v":"weeks"},{"$f":"IF(H788=1,RANDBETWEEN(1,6),(J788-INT(J788))*7)","v":6.2999999999999901},"days","=",{"$f":"IF(Worksheet!$D$7=1,1,IF(Worksheet!$D$7=2,2,RANDBETWEEN(1,2)))","v":2},null,{"$f":"IF(H788=1,C788+E788/7,RANDBETWEEN(1,Worksheet!$D$6)+CHOOSE(Worksheet!$D$10,RANDBETWEEN(1,9)/10,RANDBETWEEN(1,99)/100,RANDBETWEEN(1,999)/1000,RANDBETWEEN(1,9999)/10000,RANDBETWEEN(1,99999)/100000))","v":18.899999999999999},"weeks"]
[{"$f":"IF(COUNTIF($B$1:B789,TRUE)=COUNTIF($B$1:B788,TRUE),\"\",COUNTIF($B$1:B789,TRUE))","v":""},{"$f":"Worksheet!$D$12","v":false},{"$f":"IF(H789=1,RANDBETWEEN(1,Worksheet!$D$6),INT(J789))","v":27},{"$f":"IF(C789=1,\"day\",\"days\")","v":"days"},{"$f":"IF(H789=1,RANDBETWEEN(1,23),(J789-INT(J789))*24)","v":14.400000000000034},"hours","=",{"$f":"IF(Worksheet!$D$7=1,1,IF(Worksheet!$D$7=2,2,RANDBETWEEN(1,2)))","v":2},null,{"$f":"IF(H789=1,C789+E789/24,RANDBETWEEN(1,Worksheet!$D$6)+CHOOSE(Worksheet!$D$10,RANDBETWEEN(1,9)/10,RANDBETWEEN(1,99)/100,RANDBETWEEN(1,999)/1000,RANDBETWEEN(1,9999)/10000,RANDBETWEEN(1,99999)/100000))","v":27.6},"days"]
[{"$f":"IF(COUNTIF($B$1:B790,TRUE)=COUNTIF($B$1:B789,TRUE),\"\",COUNTIF($B$1:B790,TRUE))","v":""},{"$f":"Worksheet!$D$13","v":false},{"$f":"IF(H790=1,RANDBETWEEN(1,Worksheet!$D$6),INT(J790))","v":19},{"$f":"IF(C790=1,\"year\",\"years\")","v":"years"},{"$f":"IF(H790=1,RANDBETWEEN(1,11),(J790-INT(J790))*12)","v":7},"months","=",{"$f":"IF(Worksheet!$D$7=1,1,IF(Worksheet!$D$7=2,2,RANDBETWEEN(1,2)))","v":1},null,{"$f":"IF(H790=1,C790+E790/12,RANDBETWEEN(1,Worksheet!$D$6)+CHOOSE(Worksheet!$D$10,RANDBETWEEN(1,9)/10,RANDBETWEEN(1,99)/100,RANDBETWEEN(1,999)/1000,RANDBETWEEN(1,9999)/10000,RANDBETWEEN(1,99999)/100000))","v":19.583333333333332},"years"]
[{"$f":"COUNTIF($B$1:B791,TRUE)","v":317},{"$f":"Worksheet!$B$12","v":true},{"$f":"IF(H791=1,RANDBETWEEN(1,Worksheet!$D$6),INT(J791))","v":1},{"$f":"IF(C791=1,\"hour\",\"hours\")","v":"hour"},{"$f":"IF(H791=1,IF(Worksheet!$D$10=1,RANDBETWEEN(1,9)*6,IF(Worksheet!$D$10=2,RANDBETWEEN(1,19)*3,RANDBETWEEN(1,59))),(J791-INT(J791))*60)","v":30},"minutes","=",{"$f":"IF(Worksheet!$D$7=1,1,IF(Worksheet!$D$7=2,2,RANDBETWEEN(1,2)))","v":2},null,{"$f":"IF(H791=1,C791+E791/60,RANDBETWEEN(1,Worksheet!$D$6)+CHOOSE(Worksheet!$D$10,RANDBETWEEN(1,9)/10,RANDBETWEEN(1,99)/100,RANDBETWEEN(1,999)/1000,RANDBETWEEN(1,9999)/10000,RANDBETWEEN(1,99999)/100000))","v":1.5},"hour"]
[{"$f":"IF(COUNTIF($B$1:B792,TRUE)=COUNTIF($B$1:B791,TRUE),\"\",COUNTIF($B$1:B792,TRUE))","v":318},{"$f":"Worksheet!$B$13","v":true},{"$f":"IF(H792=1,RANDBETWEEN(1,Worksheet!$D$6),INT(J792))","v":29},{"$f":"IF(C792=1,\"minute\",\"minutes\")","v":"minutes"},{"$f":"IF(H792=1,IF(Worksheet!$D$10=1,RANDBETWEEN(1,9)*6,IF(Worksheet!$D$10=2,RANDBETWEEN(1,19)*3,RANDBETWEEN(1,59))),(J792-INT(J792))*60)","v":18.000000000000043},"seconds","=",{"$f":"IF(Worksheet!$D$7=1,1,IF(Worksheet!$D$7=2,2,RANDBETWEEN(1,2)))","v":2},null,{"$f":"IF(H792=1,C792+E792/60,RANDBETWEEN(1,Worksheet!$D$6)+CHOOSE(Worksheet!$D$10,RANDBETWEEN(1,9)/10,RANDBETWEEN(1,99)/100,RANDBETWEEN(1,999)/1000,RANDBETWEEN(1,9999)/10000,RANDBETWEEN(1,99999)/100000))","v":29.3},"minutes"]
[{"$f":"IF(COUNTIF($B$1:B793,TRUE)=COUNTIF($B$1:B792,TRUE),\"\",COUNTIF($B$1:B793,TRUE))","v":""},{"$f":"Worksheet!$B$14","v":false},{"$f":"IF(H793=1,RANDBETWEEN(1,Worksheet!$D$6),INT(J793))","v":21},{"$f":"IF(C793=1,\"week\",\"weeks\")","v":"weeks"},{"$f":"IF(H793=1,RANDBETWEEN(1,6),(J793-INT(J793))*7)","v":2.100000000000005},"days","=",{"$f":"IF(Worksheet!$D$7=1,1,IF(Worksheet!$D$7=2,2,RANDBETWEEN(1,2)))","v":2},null,{"$f":"IF(H793=1,C793+E793/7,RANDBETWEEN(1,Worksheet!$D$6)+CHOOSE(Worksheet!$D$10,RANDBETWEEN(1,9)/10,RANDBETWEEN(1,99)/100,RANDBETWEEN(1,999)/1000,RANDBETWEEN(1,9999)/10000,RANDBETWEEN(1,99999)/100000))","v":21.3},"weeks"]
[{"$f":"IF(COUNTIF($B$1:B794,TRUE)=COUNTIF($B$1:B793,TRUE),\"\",COUNTIF($B$1:B794,TRUE))","v":""},{"$f":"Worksheet!$D$12","v":false},{"$f":"IF(H794=1,RANDBETWEEN(1,Worksheet!$D$6),INT(J794))","v":15},{"$f":"IF(C794=1,\"day\",\"days\")","v":"days"},{"$f":"IF(H794=1,RANDBETWEEN(1,23),(J794-INT(J794))*24)","v":8},"hours","=",{"$f":"IF(Worksheet!$D$7=1,1,IF(Worksheet!$D$7=2,2,RANDBETWEEN(1,2)))","v":1},null,{"$f":"IF(H794=1,C794+E794/24,RANDBETWEEN(1,Worksheet!$D$6)+CHOOSE(Worksheet!$D$10,RANDBETWEEN(1,9)/10,RANDBETWEEN(1,99)/100,RANDBETWEEN(1,999)/1000,RANDBETWEEN(1,9999)/10000,RANDBETWEEN(1,99999)/100000))","v":15.333333333333334},"days"]
[{"$f":"IF(COUNTIF($B$1:B795,TRUE)=COUNTIF($B$1:B794,TRUE),\"\",COUNTIF($B$1:B795,TRUE))","v":""},{"$f":"Worksheet!$D$13","v":false},{"$f":"IF(H795=1,RANDBETWEEN(1,Worksheet!$D$6),INT(J795))","v":23},{"$f":"IF(C795=1,\"year\",\"years\")","v":"years"},{"$f":"IF(H795=1,RANDBETWEEN(1,11),(J795-INT(J795))*12)","v":11},"months","=",{"$f":"IF(Worksheet!$D$7=1,1,IF(Worksheet!$D$7=2,2,RANDBETWEEN(1,2)))","v":1},null,{"$f":"IF(H795=1,C795+E795/12,RANDBETWEEN(1,Worksheet!$D$6)+CHOOSE(Worksheet!$D$10,RANDBETWEEN(1,9)/10,RANDBETWEEN(1,99)/100,RANDBETWEEN(1,999)/1000,RANDBETWEEN(1,9999)/10000,RANDBETWEEN(1,99999)/100000))","v":23.916666666666668},"years"]
[{"$f":"COUNTIF($B$1:B796,TRUE)","v":319},{"$f":"Worksheet!$B$12","v":true},{"$f":"IF(H796=1,RANDBETWEEN(1,Worksheet!$D$6),INT(J796))","v":1},{"$f":"IF(C796=1,\"hour\",\"hours\")","v":"hour"},{"$f":"IF(H796=1,IF(Worksheet!$D$10=1,RANDBETWEEN(1,9)*6,IF(Worksheet!$D$10=2,RANDBETWEEN(1,19)*3,RANDBETWEEN(1,59))),(J796-INT(J796))*60)","v":42},"minutes","=",{"$f":"IF(Worksheet!$D$7=1,1,IF(Worksheet!$D$7=2,2,RANDBETWEEN(1,2)))","v":1},null,{"$f":"IF(H796=1,C796+E796/60,RANDBETWEEN(1,Worksheet!$D$6)+CHOOSE(Worksheet!$D$10,RANDBETWEEN(1,9)/10,RANDBETWEEN(1,99)/100,RANDBETWEEN(1,999)/1000,RANDBETWEEN(1,9999)/10000,RANDBETWEEN(1,99999)/100000))","v":1.7},"hour"]
[{"$f":"IF(COUNTIF($B$1:B797,TRUE)=COUNTIF($B$1:B796,TRUE),\"\",COUNTIF($B$1:B797,TRUE))","v":320},{"$f":"Worksheet!$B$13","v":true},{"$f":"IF(H797=1,RANDBETWEEN(1,Worksheet!$D$6),INT(J797))","v":29},{"$f":"IF(C797=1,\"minute\",\"minutes\")","v":"minutes"},{"$f":"IF(H797=1,IF(Worksheet!$D$10=1,RANDBETWEEN(1,9)*6,IF(Worksheet!$D$10=2,RANDBETWEEN(1,19)*3,RANDBETWEEN(1,59))),(J797-INT(J797))*60)","v":11.999999999999957},"seconds","=",{"$f":"IF(Worksheet!$D$7=1,1,IF(Worksheet!$D$7=2,2,RANDBETWEEN(1,2)))","v":2},null,{"$f":"IF(H797=1,C797+E797/60,RANDBETWEEN(1,Worksheet!$D$6)+CHOOSE(Worksheet!$D$10,RANDBETWEEN(1,9)/10,RANDBETWEEN(1,99)/100,RANDBETWEEN(1,999)/1000,RANDBETWEEN(1,9999)/10000,RANDBETWEEN(1,99999)/100000))","v":29.2},"minutes"]
[{"$f":"IF(COUNTIF($B$1:B798,TRUE)=COUNTIF($B$1:B797,TRUE),\"\",COUNTIF($B$1:B798,TRUE))","v":""},{"$f":"Worksheet!$B$14","v":false},{"$f":"IF(H798=1,RANDBETWEEN(1,Worksheet!$D$6),INT(J798))","v":21},{"$f":"IF(C798=1,\"week\",\"weeks\")","v":"weeks"},{"$f":"IF(H798=1,RANDBETWEEN(1,6),(J798-INT(J798))*7)","v":1},"days","=",{"$f":"IF(Worksheet!$D$7=1,1,IF(Worksheet!$D$7=2,2,RANDBETWEEN(1,2)))","v":1},null,{"$f":"IF(H798=1,C798+E798/7,RANDBETWEEN(1,Worksheet!$D$6)+CHOOSE(Worksheet!$D$10,RANDBETWEEN(1,9)/10,RANDBETWEEN(1,99)/100,RANDBETWEEN(1,999)/1000,RANDBETWEEN(1,9999)/10000,RANDBETWEEN(1,99999)/100000))","v":21.142857142857142},"weeks"]
[{"$f":"IF(COUNTIF($B$1:B799,TRUE)=COUNTIF($B$1:B798,TRUE),\"\",COUNTIF($B$1:B799,TRUE))","v":""},{"$f":"Worksheet!$D$12","v":false},{"$f":"IF(H799=1,RANDBETWEEN(1,Worksheet!$D$6),INT(J799))","v":21},{"$f":"IF(C799=1,\"day\",\"days\")","v":"days"},{"$f":"IF(H799=1,RANDBETWEEN(1,23),(J799-INT(J799))*24)","v":19.200000000000017},"hours","=",{"$f":"IF(Worksheet!$D$7=1,1,IF(Worksheet!$D$7=2,2,RANDBETWEEN(1,2)))","v":2},null,{"$f":"IF(H799=1,C799+E799/24,RANDBETWEEN(1,Worksheet!$D$6)+CHOOSE(Worksheet!$D$10,RANDBETWEEN(1,9)/10,RANDBETWEEN(1,99)/100,RANDBETWEEN(1,999)/1000,RANDBETWEEN(1,9999)/10000,RANDBETWEEN(1,99999)/100000))","v":21.8},{"$f":"D799","v":"days"}]
[{"$f":"IF(COUNTIF($B$1:B800,TRUE)=COUNTIF($B$1:B799,TRUE),\"\",COUNTIF($B$1:B800,TRUE))","v":""},{"$f":"Worksheet!$D$13","v":false},{"$f":"IF(H800=1,RANDBETWEEN(1,Worksheet!$D$6),INT(J800))","v":8},{"$f":"IF(C800=1,\"year\",\"years\")","v":"years"},{"$f":"IF(H800=1,RANDBETWEEN(1,11),(J800-INT(J800))*12)","v":7.1999999999999957},"months","=",{"$f":"IF(Worksheet!$D$7=1,1,IF(Worksheet!$D$7=2,2,RANDBETWEEN(1,2)))","v":2},null,{"$f":"IF(H800=1,C800+E800/12,RANDBETWEEN(1,Worksheet!$D$6)+CHOOSE(Worksheet!$D$10,RANDBETWEEN(1,9)/10,RANDBETWEEN(1,99)/100,RANDBETWEEN(1,999)/1000,RANDBETWEEN(1,9999)/10000,RANDBETWEEN(1,99999)/100000))","v":8.6},"years"]
[{"$f":"COUNTIF($B$1:B801,TRUE)","v":321},{"$f":"Worksheet!$B$12","v":true},{"$f":"IF(H801=1,RANDBETWEEN(1,Worksheet!$D$6),INT(J801))","v":21},{"$f":"IF(C801=1,\"hour\",\"hours\")","v":"hours"},{"$f":"IF(H801=1,IF(Worksheet!$D$10=1,RANDBETWEEN(1,9)*6,IF(Worksheet!$D$10=2,RANDBETWEEN(1,19)*3,RANDBETWEEN(1,59))),(J801-INT(J801))*60)","v":18},"minutes","=",{"$f":"IF(Worksheet!$D$7=1,1,IF(Worksheet!$D$7=2,2,RANDBETWEEN(1,2)))","v":1},null,{"$f":"IF(H801=1,C801+E801/60,RANDBETWEEN(1,Worksheet!$D$6)+CHOOSE(Worksheet!$D$10,RANDBETWEEN(1,9)/10,RANDBETWEEN(1,99)/100,RANDBETWEEN(1,999)/1000,RANDBETWEEN(1,9999)/10000,RANDBETWEEN(1,99999)/100000))","v":21.3},"hours"]
[{"$f":"IF(COUNTIF($B$1:B802,TRUE)=COUNTIF($B$1:B801,TRUE),\"\",COUNTIF($B$1:B802,TRUE))","v":322},{"$f":"Worksheet!$B$13","v":true},{"$f":"IF(H802=1,RANDBETWEEN(1,Worksheet!$D$6),INT(J802))","v":6},{"$f":"IF(C802=1,\"minute\",\"minutes\")","v":"minutes"},{"$f":"IF(H802=1,IF(Worksheet!$D$10=1,RANDBETWEEN(1,9)*6,IF(Worksheet!$D$10=2,RANDBETWEEN(1,19)*3,RANDBETWEEN(1,59))),(J802-INT(J802))*60)","v":54},"seconds","=",{"$f":"IF(Worksheet!$D$7=1,1,IF(Worksheet!$D$7=2,2,RANDBETWEEN(1,2)))","v":1},null,{"$f":"IF(H802=1,C802+E802/60,RANDBETWEEN(1,Worksheet!$D$6)+CHOOSE(Worksheet!$D$10,RANDBETWEEN(1,9)/10,RANDBETWEEN(1,99)/100,RANDBETWEEN(1,999)/1000,RANDBETWEEN(1,9999)/10000,RANDBETWEEN(1,99999)/100000))","v":6.9},"minutes"]
[{"$f":"IF(COUNTIF($B$1:B803,TRUE)=COUNTIF($B$1:B802,TRUE),\"\",COUNTIF($B$1:B803,TRUE))","v":""},{"$f":"Worksheet!$B$14","v":false},{"$f":"IF(H803=1,RANDBETWEEN(1,Worksheet!$D$6),INT(J803))","v":10},{"$f":"IF(C803=1,\"week\",\"weeks\")","v":"weeks"},{"$f":"IF(H803=1,RANDBETWEEN(1,6),(J803-INT(J803))*7)","v":4.899999999999995},"days","=",{"$f":"IF(Worksheet!$D$7=1,1,IF(Worksheet!$D$7=2,2,RANDBETWEEN(1,2)))","v":2},null,{"$f":"IF(H803=1,C803+E803/7,RANDBETWEEN(1,Worksheet!$D$6)+CHOOSE(Worksheet!$D$10,RANDBETWEEN(1,9)/10,RANDBETWEEN(1,99)/100,RANDBETWEEN(1,999)/1000,RANDBETWEEN(1,9999)/10000,RANDBETWEEN(1,99999)/100000))","v":10.7},"weeks"]
[{"$f":"IF(COUNTIF($B$1:B804,TRUE)=COUNTIF($B$1:B803,TRUE),\"\",COUNTIF($B$1:B804,TRUE))","v":""},{"$f":"Worksheet!$D$12","v":false},{"$f":"IF(H804=1,RANDBETWEEN(1,Worksheet!$D$6),INT(J804))","v":15},{"$f":"IF(C804=1,\"day\",\"days\")","v":"days"},{"$f":"IF(H804=1,RANDBETWEEN(1,23),(J804-INT(J804))*24)","v":21.600000000000009},"hours","=",{"$f":"IF(Worksheet!$D$7=1,1,IF(Worksheet!$D$7=2,2,RANDBETWEEN(1,2)))","v":2},null,{"$f":"IF(H804=1,C804+E804/24,RANDBETWEEN(1,Worksheet!$D$6)+CHOOSE(Worksheet!$D$10,RANDBETWEEN(1,9)/10,RANDBETWEEN(1,99)/100,RANDBETWEEN(1,999)/1000,RANDBETWEEN(1,9999)/10000,RANDBETWEEN(1,99999)/100000))","v":15.9},"days"]
[{"$f":"IF(COUNTIF($B$1:B805,TRUE)=COUNTIF($B$1:B804,TRUE),\"\",COUNTIF($B$1:B805,TRUE))","v":""},{"$f":"Worksheet!$D$13","v":false},{"$f":"IF(H805=1,RANDBETWEEN(1,Worksheet!$D$6),INT(J805))","v":30},{"$f":"IF(C805=1,\"year\",\"years\")","v":"years"},{"$f":"IF(H805=1,RANDBETWEEN(1,11),(J805-INT(J805))*12)","v":9},"months","=",{"$f":"IF(Worksheet!$D$7=1,1,IF(Worksheet!$D$7=2,2,RANDBETWEEN(1,2)))","v":1},null,{"$f":"IF(H805=1,C805+E805/12,RANDBETWEEN(1,Worksheet!$D$6)+CHOOSE(Worksheet!$D$10,RANDBETWEEN(1,9)/10,RANDBETWEEN(1,99)/100,RANDBETWEEN(1,999)/1000,RANDBETWEEN(1,9999)/10000,RANDBETWEEN(1,99999)/100000))","v":30.75},"years"]
[{"$f":"COUNTIF($B$1:B806,TRUE)","v":323},{"$f":"Worksheet!$B$12","v":true},{"$f":"IF(H806=1,RANDBETWEEN(1,Worksheet!$D$6),INT(J806))","v":25},{"$f":"IF(C806=1,\"hour\",\"hours\")","v":"hours"},{"$f":"IF(H806=1,IF(Worksheet!$D$10=1,RANDBETWEEN(1,9)*6,IF(Worksheet!$D$10=2,RANDBETWEEN(1,19)*3,RANDBETWEEN(1,59))),(J806-INT(J806))*60)","v":48},"minutes","=",{"$f":"IF(Worksheet!$D$7=1,1,IF(Worksheet!$D$7=2,2,RANDBETWEEN(1,2)))","v":1},null,{"$f":"IF(H806=1,C806+E806/60,RANDBETWEEN(1,Worksheet!$D$6)+CHOOSE(Worksheet!$D$10,RANDBETWEEN(1,9)/10,RANDBETWEEN(1,99)/100,RANDBETWEEN(1,999)/1000,RANDBETWEEN(1,9999)/10000,RANDBETWEEN(1,99999)/100000))","v":25.8},"hours"]
[{"$f":"IF(COUNTIF($B$1:B807,TRUE)=COUNTIF($B$1:B806,TRUE),\"\",COUNTIF($B$1:B807,TRUE))","v":324},{"$f":"Worksheet!$B$13","v":true},{"$f":"IF(H807=1,RANDBETWEEN(1,Worksheet!$D$6),INT(J807))","v":6},{"$f":"IF(C807=1,\"minute\",\"minutes\")","v":"minutes"},{"$f":"IF(H807=1,IF(Worksheet!$D$10=1,RANDBETWEEN(1,9)*6,IF(Worksheet!$D$10=2,RANDBETWEEN(1,19)*3,RANDBETWEEN(1,59))),(J807-INT(J807))*60)","v":47.999999999999986},"seconds","=",{"$f":"IF(Worksheet!$D$7=1,1,IF(Worksheet!$D$7=2,2,RANDBETWEEN(1,2)))","v":2},null,{"$f":"IF(H807=1,C807+E807/60,RANDBETWEEN(1,Worksheet!$D$6)+CHOOSE(Worksheet!$D$10,RANDBETWEEN(1,9)/10,RANDBETWEEN(1,99)/100,RANDBETWEEN(1,999)/1000,RANDBETWEEN(1,9999)/10000,RANDBETWEEN(1,99999)/100000))","v":6.8},"minutes"]
[{"$f":"IF(COUNTIF($B$1:B808,TRUE)=COUNTIF($B$1:B807,TRUE),\"\",COUNTIF($B$1:B808,TRUE))","v":""},{"$f":"Worksheet!$B$14","v":false},{"$f":"IF(H808=1,RANDBETWEEN(1,Worksheet!$D$6),INT(J808))","v":24},{"$f":"IF(C808=1,\"week\",\"weeks\")","v":"weeks"},{"$f":"IF(H808=1,RANDBETWEEN(1,6),(J808-INT(J808))*7)","v":0.70000000000000995},"days","=",{"$f":"IF(Worksheet!$D$7=1,1,IF(Worksheet!$D$7=2,2,RANDBETWEEN(1,2)))","v":2},null,{"$f":"IF(H808=1,C808+E808/7,RANDBETWEEN(1,Worksheet!$D$6)+CHOOSE(Worksheet!$D$10,RANDBETWEEN(1,9)/10,RANDBETWEEN(1,99)/100,RANDBETWEEN(1,999)/1000,RANDBETWEEN(1,9999)/10000,RANDBETWEEN(1,99999)/100000))","v":24.1},"weeks"]
[{"$f":"IF(COUNTIF($B$1:B809,TRUE)=COUNTIF($B$1:B808,TRUE),\"\",COUNTIF($B$1:B809,TRUE))","v":""},{"$f":"Worksheet!$D$12","v":false},{"$f":"IF(H809=1,RANDBETWEEN(1,Worksheet!$D$6),INT(J809))","v":4},{"$f":"IF(C809=1,\"day\",\"days\")","v":"days"},{"$f":"IF(H809=1,RANDBETWEEN(1,23),(J809-INT(J809))*24)","v":12},"hours","=",{"$f":"IF(Worksheet!$D$7=1,1,IF(Worksheet!$D$7=2,2,RANDBETWEEN(1,2)))","v":1},null,{"$f":"IF(H809=1,C809+E809/24,RANDBETWEEN(1,Worksheet!$D$6)+CHOOSE(Worksheet!$D$10,RANDBETWEEN(1,9)/10,RANDBETWEEN(1,99)/100,RANDBETWEEN(1,999)/1000,RANDBETWEEN(1,9999)/10000,RANDBETWEEN(1,99999)/100000))","v":4.5},"days"]
[{"$f":"IF(COUNTIF($B$1:B810,TRUE)=COUNTIF($B$1:B809,TRUE),\"\",COUNTIF($B$1:B810,TRUE))","v":""},{"$f":"Worksheet!$D$13","v":false},{"$f":"IF(H810=1,RANDBETWEEN(1,Worksheet!$D$6),INT(J810))","v":27},{"$f":"IF(C810=1,\"year\",\"years\")","v":"years"},{"$f":"IF(H810=1,RANDBETWEEN(1,11),(J810-INT(J810))*12)","v":9.6000000000000085},"months","=",{"$f":"IF(Worksheet!$D$7=1,1,IF(Worksheet!$D$7=2,2,RANDBETWEEN(1,2)))","v":2},null,{"$f":"IF(H810=1,C810+E810/12,RANDBETWEEN(1,Worksheet!$D$6)+CHOOSE(Worksheet!$D$10,RANDBETWEEN(1,9)/10,RANDBETWEEN(1,99)/100,RANDBETWEEN(1,999)/1000,RANDBETWEEN(1,9999)/10000,RANDBETWEEN(1,99999)/100000))","v":27.8},"years"]
[{"$f":"COUNTIF($B$1:B811,TRUE)","v":325},{"$f":"Worksheet!$B$12","v":true},{"$f":"IF(H811=1,RANDBETWEEN(1,Worksheet!$D$6),INT(J811))","v":20},{"$f":"IF(C811=1,\"hour\",\"hours\")","v":"hours"},{"$f":"IF(H811=1,IF(Worksheet!$D$10=1,RANDBETWEEN(1,9)*6,IF(Worksheet!$D$10=2,RANDBETWEEN(1,19)*3,RANDBETWEEN(1,59))),(J811-INT(J811))*60)","v":24},"minutes","=",{"$f":"IF(Worksheet!$D$7=1,1,IF(Worksheet!$D$7=2,2,RANDBETWEEN(1,2)))","v":1},null,{"$f":"IF(H811=1,C811+E811/60,RANDBETWEEN(1,Worksheet!$D$6)+CHOOSE(Worksheet!$D$10,RANDBETWEEN(1,9)/10,RANDBETWEEN(1,99)/100,RANDBETWEEN(1,999)/1000,RANDBETWEEN(1,9999)/10000,RANDBETWEEN(1,99999)/100000))","v":20.399999999999999},"hours"]
[{"$f":"IF(COUNTIF($B$1:B812,TRUE)=COUNTIF($B$1:B811,TRUE),\"\",COUNTIF($B$1:B812,TRUE))","v":326},{"$f":"Worksheet!$B$13","v":true},{"$f":"IF(H812=1,RANDBETWEEN(1,Worksheet!$D$6),INT(J812))","v":21},{"$f":"IF(C812=1,\"minute\",\"minutes\")","v":"minutes"},{"$f":"IF(H812=1,IF(Worksheet!$D$10=1,RANDBETWEEN(1,9)*6,IF(Worksheet!$D$10=2,RANDBETWEEN(1,19)*3,RANDBETWEEN(1,59))),(J812-INT(J812))*60)","v":11.999999999999957},"seconds","=",{"$f":"IF(Worksheet!$D$7=1,1,IF(Worksheet!$D$7=2,2,RANDBETWEEN(1,2)))","v":2},null,{"$f":"IF(H812=1,C812+E812/60,RANDBETWEEN(1,Worksheet!$D$6)+CHOOSE(Worksheet!$D$10,RANDBETWEEN(1,9)/10,RANDBETWEEN(1,99)/100,RANDBETWEEN(1,999)/1000,RANDBETWEEN(1,9999)/10000,RANDBETWEEN(1,99999)/100000))","v":21.2},"minutes"]
[{"$f":"IF(COUNTIF($B$1:B813,TRUE)=COUNTIF($B$1:B812,TRUE),\"\",COUNTIF($B$1:B813,TRUE))","v":""},{"$f":"Worksheet!$B$14","v":false},{"$f":"IF(H813=1,RANDBETWEEN(1,Worksheet!$D$6),INT(J813))","v":24},{"$f":"IF(C813=1,\"week\",\"weeks\")","v":"weeks"},{"$f":"IF(H813=1,RANDBETWEEN(1,6),(J813-INT(J813))*7)","v":0.70000000000000995},"days","=",{"$f":"IF(Worksheet!$D$7=1,1,IF(Worksheet!$D$7=2,2,RANDBETWEEN(1,2)))","v":2},null,{"$f":"IF(H813=1,C813+E813/7,RANDBETWEEN(1,Worksheet!$D$6)+CHOOSE(Worksheet!$D$10,RANDBETWEEN(1,9)/10,RANDBETWEEN(1,99)/100,RANDBETWEEN(1,999)/1000,RANDBETWEEN(1,9999)/10000,RANDBETWEEN(1,99999)/100000))","v":24.1},"weeks"]
[{"$f":"IF(COUNTIF($B$1:B814,TRUE)=COUNTIF($B$1:B813,TRUE),\"\",COUNTIF($B$1:B814,TRUE))","v":""},{"$f":"Worksheet!$D$12","v":false},{"$f":"IF(H814=1,RANDBETWEEN(1,Worksheet!$D$6),INT(J814))","v":13},{"$f":"IF(C814=1,\"day\",\"days\")","v":"days"},{"$f":"IF(H814=1,RANDBETWEEN(1,23),(J814-INT(J814))*24)","v":17},"hours","=",{"$f":"IF(Worksheet!$D$7=1,1,IF(Worksheet!$D$7=2,2,RANDBETWEEN(1,2)))","v":1},null,{"$f":"IF(H814=1,C814+E814/24,RANDBETWEEN(1,Worksheet!$D$6)+CHOOSE(Worksheet!$D$10,RANDBETWEEN(1,9)/10,RANDBETWEEN(1,99)/100,RANDBETWEEN(1,999)/1000,RANDBETWEEN(1,9999)/10000,RANDBETWEEN(1,99999)/100000))","v":13.708333333333334},"days"]
[{"$f":"IF(COUNTIF($B$1:B815,TRUE)=COUNTIF($B$1:B814,TRUE),\"\",COUNTIF($B$1:B815,TRUE))","v":""},{"$f":"Worksheet!$D$13","v":false},{"$f":"IF(H815=1,RANDBETWEEN(1,Worksheet!$D$6),INT(J815))","v":2},{"$f":"IF(C815=1,\"year\",\"years\")","v":"years"},{"$f":"IF(H815=1,RANDBETWEEN(1,11),(J815-INT(J815))*12)","v":11},"months","=",{"$f":"IF(Worksheet!$D$7=1,1,IF(Worksheet!$D$7=2,2,RANDBETWEEN(1,2)))","v":1},null,{"$f":"IF(H815=1,C815+E815/12,RANDBETWEEN(1,Worksheet!$D$6)+CHOOSE(Worksheet!$D$10,RANDBETWEEN(1,9)/10,RANDBETWEEN(1,99)/100,RANDBETWEEN(1,999)/1000,RANDBETWEEN(1,9999)/10000,RANDBETWEEN(1,99999)/100000))","v":2.9166666666666665},"years"]
[{"$f":"COUNTIF($B$1:B816,TRUE)","v":327},{"$f":"Worksheet!$B$12","v":true},{"$f":"IF(H816=1,RANDBETWEEN(1,Worksheet!$D$6),INT(J816))","v":26},{"$f":"IF(C816=1,\"hour\",\"hours\")","v":"hours"},{"$f":"IF(H816=1,IF(Worksheet!$D$10=1,RANDBETWEEN(1,9)*6,IF(Worksheet!$D$10=2,RANDBETWEEN(1,19)*3,RANDBETWEEN(1,59))),(J816-INT(J816))*60)","v":24},"minutes","=",{"$f":"IF(Worksheet!$D$7=1,1,IF(Worksheet!$D$7=2,2,RANDBETWEEN(1,2)))","v":1},null,{"$f":"IF(H816=1,C816+E816/60,RANDBETWEEN(1,Worksheet!$D$6)+CHOOSE(Worksheet!$D$10,RANDBETWEEN(1,9)/10,RANDBETWEEN(1,99)/100,RANDBETWEEN(1,999)/1000,RANDBETWEEN(1,9999)/10000,RANDBETWEEN(1,99999)/100000))","v":26.4},"hours"]
[{"$f":"IF(COUNTIF($B$1:B817,TRUE)=COUNTIF($B$1:B816,TRUE),\"\",COUNTIF($B$1:B817,TRUE))","v":328},{"$f":"Worksheet!$B$13","v":true},{"$f":"IF(H817=1,RANDBETWEEN(1,Worksheet!$D$6),INT(J817))","v":19},{"$f":"IF(C817=1,\"minute\",\"minutes\")","v":"minutes"},{"$f":"IF(H817=1,IF(Worksheet!$D$10=1,RANDBETWEEN(1,9)*6,IF(Worksheet!$D$10=2,RANDBETWEEN(1,19)*3,RANDBETWEEN(1,59))),(J817-INT(J817))*60)","v":30},"seconds","=",{"$f":"IF(Worksheet!$D$7=1,1,IF(Worksheet!$D$7=2,2,RANDBETWEEN(1,2)))","v":2},null,{"$f":"IF(H817=1,C817+E817/60,RANDBETWEEN(1,Worksheet!$D$6)+CHOOSE(Worksheet!$D$10,RANDBETWEEN(1,9)/10,RANDBETWEEN(1,99)/100,RANDBETWEEN(1,999)/1000,RANDBETWEEN(1,9999)/10000,RANDBETWEEN(1,99999)/100000))","v":19.5},"minutes"]
[{"$f":"IF(COUNTIF($B$1:B818,TRUE)=COUNTIF($B$1:B817,TRUE),\"\",COUNTIF($B$1:B818,TRUE))","v":""},{"$f":"Worksheet!$B$14","v":false},{"$f":"IF(H818=1,RANDBETWEEN(1,Worksheet!$D$6),INT(J818))","v":1},{"$f":"IF(C818=1,\"week\",\"weeks\")","v":"week"},{"$f":"IF(H818=1,RANDBETWEEN(1,6),(J818-INT(J818))*7)","v":3.5},"days","=",{"$f":"IF(Worksheet!$D$7=1,1,IF(Worksheet!$D$7=2,2,RANDBETWEEN(1,2)))","v":2},null,{"$f":"IF(H818=1,C818+E818/7,RANDBETWEEN(1,Worksheet!$D$6)+CHOOSE(Worksheet!$D$10,RANDBETWEEN(1,9)/10,RANDBETWEEN(1,99)/100,RANDBETWEEN(1,999)/1000,RANDBETWEEN(1,9999)/10000,RANDBETWEEN(1,99999)/100000))","v":1.5},"week"]
[{"$f":"IF(COUNTIF($B$1:B819,TRUE)=COUNTIF($B$1:B818,TRUE),\"\",COUNTIF($B$1:B819,TRUE))","v":""},{"$f":"Worksheet!$D$12","v":false},{"$f":"IF(H819=1,RANDBETWEEN(1,Worksheet!$D$6),INT(J819))","v":7},{"$f":"IF(C819=1,\"day\",\"days\")","v":"days"},{"$f":"IF(H819=1,RANDBETWEEN(1,23),(J819-INT(J819))*24)","v":12},"hours","=",{"$f":"IF(Worksheet!$D$7=1,1,IF(Worksheet!$D$7=2,2,RANDBETWEEN(1,2)))","v":2},null,{"$f":"IF(H819=1,C819+E819/24,RANDBETWEEN(1,Worksheet!$D$6)+CHOOSE(Worksheet!$D$10,RANDBETWEEN(1,9)/10,RANDBETWEEN(1,99)/100,RANDBETWEEN(1,999)/1000,RANDBETWEEN(1,9999)/10000,RANDBETWEEN(1,99999)/100000))","v":7.5},"days"]
[{"$f":"IF(COUNTIF($B$1:B820,TRUE)=COUNTIF($B$1:B819,TRUE),\"\",COUNTIF($B$1:B820,TRUE))","v":""},{"$f":"Worksheet!$D$13","v":false},{"$f":"IF(H820=1,RANDBETWEEN(1,Worksheet!$D$6),INT(J820))","v":15},{"$f":"IF(C820=1,\"year\",\"years\")","v":"years"},{"$f":"IF(H820=1,RANDBETWEEN(1,11),(J820-INT(J820))*12)","v":4},"months","=",{"$f":"IF(Worksheet!$D$7=1,1,IF(Worksheet!$D$7=2,2,RANDBETWEEN(1,2)))","v":1},null,{"$f":"IF(H820=1,C820+E820/12,RANDBETWEEN(1,Worksheet!$D$6)+CHOOSE(Worksheet!$D$10,RANDBETWEEN(1,9)/10,RANDBETWEEN(1,99)/100,RANDBETWEEN(1,999)/1000,RANDBETWEEN(1,9999)/10000,RANDBETWEEN(1,99999)/100000))","v":15.333333333333334},"years"]
[{"$f":"COUNTIF($B$1:B821,TRUE)","v":329},{"$f":"Worksheet!$B$12","v":true},{"$f":"IF(H821=1,RANDBETWEEN(1,Worksheet!$D$6),INT(J821))","v":19},{"$f":"IF(C821=1,\"hour\",\"hours\")","v":"hours"},{"$f":"IF(H821=1,IF(Worksheet!$D$10=1,RANDBETWEEN(1,9)*6,IF(Worksheet!$D$10=2,RANDBETWEEN(1,19)*3,RANDBETWEEN(1,59))),(J821-INT(J821))*60)","v":11.999999999999957},"minutes","=",{"$f":"IF(Worksheet!$D$7=1,1,IF(Worksheet!$D$7=2,2,RANDBETWEEN(1,2)))","v":2},null,{"$f":"IF(H821=1,C821+E821/60,RANDBETWEEN(1,Worksheet!$D$6)+CHOOSE(Worksheet!$D$10,RANDBETWEEN(1,9)/10,RANDBETWEEN(1,99)/100,RANDBETWEEN(1,999)/1000,RANDBETWEEN(1,9999)/10000,RANDBETWEEN(1,99999)/100000))","v":19.2},"hours"]
[{"$f":"IF(COUNTIF($B$1:B822,TRUE)=COUNTIF($B$1:B821,TRUE),\"\",COUNTIF($B$1:B822,TRUE))","v":330},{"$f":"Worksheet!$B$13","v":true},{"$f":"IF(H822=1,RANDBETWEEN(1,Worksheet!$D$6),INT(J822))","v":8},{"$f":"IF(C822=1,\"minute\",\"minutes\")","v":"minutes"},{"$f":"IF(H822=1,IF(Worksheet!$D$10=1,RANDBETWEEN(1,9)*6,IF(Worksheet!$D$10=2,RANDBETWEEN(1,19)*3,RANDBETWEEN(1,59))),(J822-INT(J822))*60)","v":54.000000000000021},"seconds","=",{"$f":"IF(Worksheet!$D$7=1,1,IF(Worksheet!$D$7=2,2,RANDBETWEEN(1,2)))","v":2},null,{"$f":"IF(H822=1,C822+E822/60,RANDBETWEEN(1,Worksheet!$D$6)+CHOOSE(Worksheet!$D$10,RANDBETWEEN(1,9)/10,RANDBETWEEN(1,99)/100,RANDBETWEEN(1,999)/1000,RANDBETWEEN(1,9999)/10000,RANDBETWEEN(1,99999)/100000))","v":8.9},"minutes"]
[{"$f":"IF(COUNTIF($B$1:B823,TRUE)=COUNTIF($B$1:B822,TRUE),\"\",COUNTIF($B$1:B823,TRUE))","v":""},{"$f":"Worksheet!$B$14","v":false},{"$f":"IF(H823=1,RANDBETWEEN(1,Worksheet!$D$6),INT(J823))","v":7},{"$f":"IF(C823=1,\"week\",\"weeks\")","v":"weeks"},{"$f":"IF(H823=1,RANDBETWEEN(1,6),(J823-INT(J823))*7)","v":1},"days","=",{"$f":"IF(Worksheet!$D$7=1,1,IF(Worksheet!$D$7=2,2,RANDBETWEEN(1,2)))","v":1},null,{"$f":"IF(H823=1,C823+E823/7,RANDBETWEEN(1,Worksheet!$D$6)+CHOOSE(Worksheet!$D$10,RANDBETWEEN(1,9)/10,RANDBETWEEN(1,99)/100,RANDBETWEEN(1,999)/1000,RANDBETWEEN(1,9999)/10000,RANDBETWEEN(1,99999)/100000))","v":7.1428571428571432},"weeks"]
[{"$f":"IF(COUNTIF($B$1:B824,TRUE)=COUNTIF($B$1:B823,TRUE),\"\",COUNTIF($B$1:B824,TRUE))","v":""},{"$f":"Worksheet!$D$12","v":false},{"$f":"IF(H824=1,RANDBETWEEN(1,Worksheet!$D$6),INT(J824))","v":13},{"$f":"IF(C824=1,\"day\",\"days\")","v":"days"},{"$f":"IF(H824=1,RANDBETWEEN(1,23),(J824-INT(J824))*24)","v":16.799999999999983},"hours","=",{"$f":"IF(Worksheet!$D$7=1,1,IF(Worksheet!$D$7=2,2,RANDBETWEEN(1,2)))","v":2},null,{"$f":"IF(H824=1,C824+E824/24,RANDBETWEEN(1,Worksheet!$D$6)+CHOOSE(Worksheet!$D$10,RANDBETWEEN(1,9)/10,RANDBETWEEN(1,99)/100,RANDBETWEEN(1,999)/1000,RANDBETWEEN(1,9999)/10000,RANDBETWEEN(1,99999)/100000))","v":13.7},"days"]
[{"$f":"IF(COUNTIF($B$1:B825,TRUE)=COUNTIF($B$1:B824,TRUE),\"\",COUNTIF($B$1:B825,TRUE))","v":""},{"$f":"Worksheet!$D$13","v":false},{"$f":"IF(H825=1,RANDBETWEEN(1,Worksheet!$D$6),INT(J825))","v":20},{"$f":"IF(C825=1,\"year\",\"years\")","v":"years"},{"$f":"IF(H825=1,RANDBETWEEN(1,11),(J825-INT(J825))*12)","v":4},"months","=",{"$f":"IF(Worksheet!$D$7=1,1,IF(Worksheet!$D$7=2,2,RANDBETWEEN(1,2)))","v":1},null,{"$f":"IF(H825=1,C825+E825/12,RANDBETWEEN(1,Worksheet!$D$6)+CHOOSE(Worksheet!$D$10,RANDBETWEEN(1,9)/10,RANDBETWEEN(1,99)/100,RANDBETWEEN(1,999)/1000,RANDBETWEEN(1,9999)/10000,RANDBETWEEN(1,99999)/100000))","v":20.333333333333332},"years"]
[{"$f":"COUNTIF($B$1:B826,TRUE)","v":331},{"$f":"Worksheet!$B$12","v":true},{"$f":"IF(H826=1,RANDBETWEEN(1,Worksheet!$D$6),INT(J826))","v":8},{"$f":"IF(C826=1,\"hour\",\"hours\")","v":"hours"},{"$f":"IF(H826=1,IF(Worksheet!$D$10=1,RANDBETWEEN(1,9)*6,IF(Worksheet!$D$10=2,RANDBETWEEN(1,19)*3,RANDBETWEEN(1,59))),(J826-INT(J826))*60)","v":48},"minutes","=",{"$f":"IF(Worksheet!$D$7=1,1,IF(Worksheet!$D$7=2,2,RANDBETWEEN(1,2)))","v":1},null,{"$f":"IF(H826=1,C826+E826/60,RANDBETWEEN(1,Worksheet!$D$6)+CHOOSE(Worksheet!$D$10,RANDBETWEEN(1,9)/10,RANDBETWEEN(1,99)/100,RANDBETWEEN(1,999)/1000,RANDBETWEEN(1,9999)/10000,RANDBETWEEN(1,99999)/100000))","v":8.8000000000000007},"hours"]
[{"$f":"IF(COUNTIF($B$1:B827,TRUE)=COUNTIF($B$1:B826,TRUE),\"\",COUNTIF($B$1:B827,TRUE))","v":332},{"$f":"Worksheet!$B$13","v":true},{"$f":"IF(H827=1,RANDBETWEEN(1,Worksheet!$D$6),INT(J827))","v":28},{"$f":"IF(C827=1,\"minute\",\"minutes\")","v":"minutes"},{"$f":"IF(H827=1,IF(Worksheet!$D$10=1,RANDBETWEEN(1,9)*6,IF(Worksheet!$D$10=2,RANDBETWEEN(1,19)*3,RANDBETWEEN(1,59))),(J827-INT(J827))*60)","v":36.000000000000085},"seconds","=",{"$f":"IF(Worksheet!$D$7=1,1,IF(Worksheet!$D$7=2,2,RANDBETWEEN(1,2)))","v":2},null,{"$f":"IF(H827=1,C827+E827/60,RANDBETWEEN(1,Worksheet!$D$6)+CHOOSE(Worksheet!$D$10,RANDBETWEEN(1,9)/10,RANDBETWEEN(1,99)/100,RANDBETWEEN(1,999)/1000,RANDBETWEEN(1,9999)/10000,RANDBETWEEN(1,99999)/100000))","v":28.6},"minutes"]
[{"$f":"IF(COUNTIF($B$1:B828,TRUE)=COUNTIF($B$1:B827,TRUE),\"\",COUNTIF($B$1:B828,TRUE))","v":""},{"$f":"Worksheet!$B$14","v":false},{"$f":"IF(H828=1,RANDBETWEEN(1,Worksheet!$D$6),INT(J828))","v":16},{"$f":"IF(C828=1,\"week\",\"weeks\")","v":"weeks"},{"$f":"IF(H828=1,RANDBETWEEN(1,6),(J828-INT(J828))*7)","v":2.7999999999999901},"days","=",{"$f":"IF(Worksheet!$D$7=1,1,IF(Worksheet!$D$7=2,2,RANDBETWEEN(1,2)))","v":2},null,{"$f":"IF(H828=1,C828+E828/7,RANDBETWEEN(1,Worksheet!$D$6)+CHOOSE(Worksheet!$D$10,RANDBETWEEN(1,9)/10,RANDBETWEEN(1,99)/100,RANDBETWEEN(1,999)/1000,RANDBETWEEN(1,9999)/10000,RANDBETWEEN(1,99999)/100000))","v":16.399999999999999},"weeks"]
[{"$f":"IF(COUNTIF($B$1:B829,TRUE)=COUNTIF($B$1:B828,TRUE),\"\",COUNTIF($B$1:B829,TRUE))","v":""},{"$f":"Worksheet!$D$12","v":false},{"$f":"IF(H829=1,RANDBETWEEN(1,Worksheet!$D$6),INT(J829))","v":25},{"$f":"IF(C829=1,\"day\",\"days\")","v":"days"},{"$f":"IF(H829=1,RANDBETWEEN(1,23),(J829-INT(J829))*24)","v":1},"hours","=",{"$f":"IF(Worksheet!$D$7=1,1,IF(Worksheet!$D$7=2,2,RANDBETWEEN(1,2)))","v":1},null,{"$f":"IF(H829=1,C829+E829/24,RANDBETWEEN(1,Worksheet!$D$6)+CHOOSE(Worksheet!$D$10,RANDBETWEEN(1,9)/10,RANDBETWEEN(1,99)/100,RANDBETWEEN(1,999)/1000,RANDBETWEEN(1,9999)/10000,RANDBETWEEN(1,99999)/100000))","v":25.041666666666668},"days"]
[{"$f":"IF(COUNTIF($B$1:B830,TRUE)=COUNTIF($B$1:B829,TRUE),\"\",COUNTIF($B$1:B830,TRUE))","v":""},{"$f":"Worksheet!$D$13","v":false},{"$f":"IF(H830=1,RANDBETWEEN(1,Worksheet!$D$6),INT(J830))","v":17},{"$f":"IF(C830=1,\"year\",\"years\")","v":"years"},{"$f":"IF(H830=1,RANDBETWEEN(1,11),(J830-INT(J830))*12)","v":4.7999999999999829},"months","=",{"$f":"IF(Worksheet!$D$7=1,1,IF(Worksheet!$D$7=2,2,RANDBETWEEN(1,2)))","v":2},null,{"$f":"IF(H830=1,C830+E830/12,RANDBETWEEN(1,Worksheet!$D$6)+CHOOSE(Worksheet!$D$10,RANDBETWEEN(1,9)/10,RANDBETWEEN(1,99)/100,RANDBETWEEN(1,999)/1000,RANDBETWEEN(1,9999)/10000,RANDBETWEEN(1,99999)/100000))","v":17.399999999999999},"years"]
[{"$f":"COUNTIF($B$1:B831,TRUE)","v":333},{"$f":"Worksheet!$B$12","v":true},{"$f":"IF(H831=1,RANDBETWEEN(1,Worksheet!$D$6),INT(J831))","v":11},{"$f":"IF(C831=1,\"hour\",\"hours\")","v":"hours"},{"$f":"IF(H831=1,IF(Worksheet!$D$10=1,RANDBETWEEN(1,9)*6,IF(Worksheet!$D$10=2,RANDBETWEEN(1,19)*3,RANDBETWEEN(1,59))),(J831-INT(J831))*60)","v":36},"minutes","=",{"$f":"IF(Worksheet!$D$7=1,1,IF(Worksheet!$D$7=2,2,RANDBETWEEN(1,2)))","v":1},null,{"$f":"IF(H831=1,C831+E831/60,RANDBETWEEN(1,Worksheet!$D$6)+CHOOSE(Worksheet!$D$10,RANDBETWEEN(1,9)/10,RANDBETWEEN(1,99)/100,RANDBETWEEN(1,999)/1000,RANDBETWEEN(1,9999)/10000,RANDBETWEEN(1,99999)/100000))","v":11.6},"hours"]
[{"$f":"IF(COUNTIF($B$1:B832,TRUE)=COUNTIF($B$1:B831,TRUE),\"\",COUNTIF($B$1:B832,TRUE))","v":334},{"$f":"Worksheet!$B$13","v":true},{"$f":"IF(H832=1,RANDBETWEEN(1,Worksheet!$D$6),INT(J832))","v":16},{"$f":"IF(C832=1,\"minute\",\"minutes\")","v":"minutes"},{"$f":"IF(H832=1,IF(Worksheet!$D$10=1,RANDBETWEEN(1,9)*6,IF(Worksheet!$D$10=2,RANDBETWEEN(1,19)*3,RANDBETWEEN(1,59))),(J832-INT(J832))*60)","v":30},"seconds","=",{"$f":"IF(Worksheet!$D$7=1,1,IF(Worksheet!$D$7=2,2,RANDBETWEEN(1,2)))","v":1},null,{"$f":"IF(H832=1,C832+E832/60,RANDBETWEEN(1,Worksheet!$D$6)+CHOOSE(Worksheet!$D$10,RANDBETWEEN(1,9)/10,RANDBETWEEN(1,99)/100,RANDBETWEEN(1,999)/1000,RANDBETWEEN(1,9999)/10000,RANDBETWEEN(1,99999)/100000))","v":16.5},"minutes"]
[{"$f":"IF(COUNTIF($B$1:B833,TRUE)=COUNTIF($B$1:B832,TRUE),\"\",COUNTIF($B$1:B833,TRUE))","v":""},{"$f":"Worksheet!$B$14","v":false},{"$f":"IF(H833=1,RANDBETWEEN(1,Worksheet!$D$6),INT(J833))","v":11},{"$f":"IF(C833=1,\"week\",\"weeks\")","v":"weeks"},{"$f":"IF(H833=1,RANDBETWEEN(1,6),(J833-INT(J833))*7)","v":2},"days","=",{"$f":"IF(Worksheet!$D$7=1,1,IF(Worksheet!$D$7=2,2,RANDBETWEEN(1,2)))","v":1},null,{"$f":"IF(H833=1,C833+E833/7,RANDBETWEEN(1,Worksheet!$D$6)+CHOOSE(Worksheet!$D$10,RANDBETWEEN(1,9)/10,RANDBETWEEN(1,99)/100,RANDBETWEEN(1,999)/1000,RANDBETWEEN(1,9999)/10000,RANDBETWEEN(1,99999)/100000))","v":11.285714285714286},"weeks"]
[{"$f":"IF(COUNTIF($B$1:B834,TRUE)=COUNTIF($B$1:B833,TRUE),\"\",COUNTIF($B$1:B834,TRUE))","v":""},{"$f":"Worksheet!$D$12","v":false},{"$f":"IF(H834=1,RANDBETWEEN(1,Worksheet!$D$6),INT(J834))","v":11},{"$f":"IF(C834=1,\"day\",\"days\")","v":"days"},{"$f":"IF(H834=1,RANDBETWEEN(1,23),(J834-INT(J834))*24)","v":17},"hours","=",{"$f":"IF(Worksheet!$D$7=1,1,IF(Worksheet!$D$7=2,2,RANDBETWEEN(1,2)))","v":1},null,{"$f":"IF(H834=1,C834+E834/24,RANDBETWEEN(1,Worksheet!$D$6)+CHOOSE(Worksheet!$D$10,RANDBETWEEN(1,9)/10,RANDBETWEEN(1,99)/100,RANDBETWEEN(1,999)/1000,RANDBETWEEN(1,9999)/10000,RANDBETWEEN(1,99999)/100000))","v":11.708333333333334},"days"]
[{"$f":"IF(COUNTIF($B$1:B835,TRUE)=COUNTIF($B$1:B834,TRUE),\"\",COUNTIF($B$1:B835,TRUE))","v":""},{"$f":"Worksheet!$D$13","v":false},{"$f":"IF(H835=1,RANDBETWEEN(1,Worksheet!$D$6),INT(J835))","v":22},{"$f":"IF(C835=1,\"year\",\"years\")","v":"years"},{"$f":"IF(H835=1,RANDBETWEEN(1,11),(J835-INT(J835))*12)","v":10.799999999999983},"months","=",{"$f":"IF(Worksheet!$D$7=1,1,IF(Worksheet!$D$7=2,2,RANDBETWEEN(1,2)))","v":2},null,{"$f":"IF(H835=1,C835+E835/12,RANDBETWEEN(1,Worksheet!$D$6)+CHOOSE(Worksheet!$D$10,RANDBETWEEN(1,9)/10,RANDBETWEEN(1,99)/100,RANDBETWEEN(1,999)/1000,RANDBETWEEN(1,9999)/10000,RANDBETWEEN(1,99999)/100000))","v":22.9},"years"]
[{"$f":"COUNTIF($B$1:B836,TRUE)","v":335},{"$f":"Worksheet!$B$12","v":true},{"$f":"IF(H836=1,RANDBETWEEN(1,Worksheet!$D$6),INT(J836))","v":4},{"$f":"IF(C836=1,\"hour\",\"hours\")","v":"hours"},{"$f":"IF(H836=1,IF(Worksheet!$D$10=1,RANDBETWEEN(1,9)*6,IF(Worksheet!$D$10=2,RANDBETWEEN(1,19)*3,RANDBETWEEN(1,59))),(J836-INT(J836))*60)","v":42.000000000000014},"minutes","=",{"$f":"IF(Worksheet!$D$7=1,1,IF(Worksheet!$D$7=2,2,RANDBETWEEN(1,2)))","v":2},null,{"$f":"IF(H836=1,C836+E836/60,RANDBETWEEN(1,Worksheet!$D$6)+CHOOSE(Worksheet!$D$10,RANDBETWEEN(1,9)/10,RANDBETWEEN(1,99)/100,RANDBETWEEN(1,999)/1000,RANDBETWEEN(1,9999)/10000,RANDBETWEEN(1,99999)/100000))","v":4.7},"hours"]
[{"$f":"IF(COUNTIF($B$1:B837,TRUE)=COUNTIF($B$1:B836,TRUE),\"\",COUNTIF($B$1:B837,TRUE))","v":336},{"$f":"Worksheet!$B$13","v":true},{"$f":"IF(H837=1,RANDBETWEEN(1,Worksheet!$D$6),INT(J837))","v":23},{"$f":"IF(C837=1,\"minute\",\"minutes\")","v":"minutes"},{"$f":"IF(H837=1,IF(Worksheet!$D$10=1,RANDBETWEEN(1,9)*6,IF(Worksheet!$D$10=2,RANDBETWEEN(1,19)*3,RANDBETWEEN(1,59))),(J837-INT(J837))*60)","v":30},"seconds","=",{"$f":"IF(Worksheet!$D$7=1,1,IF(Worksheet!$D$7=2,2,RANDBETWEEN(1,2)))","v":1},null,{"$f":"IF(H837=1,C837+E837/60,RANDBETWEEN(1,Worksheet!$D$6)+CHOOSE(Worksheet!$D$10,RANDBETWEEN(1,9)/10,RANDBETWEEN(1,99)/100,RANDBETWEEN(1,999)/1000,RANDBETWEEN(1,9999)/10000,RANDBETWEEN(1,99999)/100000))","v":23.5},"minutes"]
[{"$f":"IF(COUNTIF($B$1:B838,TRUE)=COUNTIF($B$1:B837,TRUE),\"\",COUNTIF($B$1:B838,TRUE))","v":""},{"$f":"Worksheet!$B$14","v":false},{"$f":"IF(H838=1,RANDBETWEEN(1,Worksheet!$D$6),INT(J838))","v":19},{"$f":"IF(C838=1,\"week\",\"weeks\")","v":"weeks"},{"$f":"IF(H838=1,RANDBETWEEN(1,6),(J838-INT(J838))*7)","v":5},"days","=",{"$f":"IF(Worksheet!$D$7=1,1,IF(Worksheet!$D$7=2,2,RANDBETWEEN(1,2)))","v":1},null,{"$f":"IF(H838=1,C838+E838/7,RANDBETWEEN(1,Worksheet!$D$6)+CHOOSE(Worksheet!$D$10,RANDBETWEEN(1,9)/10,RANDBETWEEN(1,99)/100,RANDBETWEEN(1,999)/1000,RANDBETWEEN(1,9999)/10000,RANDBETWEEN(1,99999)/100000))","v":19.714285714285715},"weeks"]
[{"$f":"IF(COUNTIF($B$1:B839,TRUE)=COUNTIF($B$1:B838,TRUE),\"\",COUNTIF($B$1:B839,TRUE))","v":""},{"$f":"Worksheet!$D$12","v":false},{"$f":"IF(H839=1,RANDBETWEEN(1,Worksheet!$D$6),INT(J839))","v":22},{"$f":"IF(C839=1,\"day\",\"days\")","v":"days"},{"$f":"IF(H839=1,RANDBETWEEN(1,23),(J839-INT(J839))*24)","v":12},"hours","=",{"$f":"IF(Worksheet!$D$7=1,1,IF(Worksheet!$D$7=2,2,RANDBETWEEN(1,2)))","v":2},null,{"$f":"IF(H839=1,C839+E839/24,RANDBETWEEN(1,Worksheet!$D$6)+CHOOSE(Worksheet!$D$10,RANDBETWEEN(1,9)/10,RANDBETWEEN(1,99)/100,RANDBETWEEN(1,999)/1000,RANDBETWEEN(1,9999)/10000,RANDBETWEEN(1,99999)/100000))","v":22.5},"days"]
[{"$f":"IF(COUNTIF($B$1:B840,TRUE)=COUNTIF($B$1:B839,TRUE),\"\",COUNTIF($B$1:B840,TRUE))","v":""},{"$f":"Worksheet!$D$13","v":false},{"$f":"IF(H840=1,RANDBETWEEN(1,Worksheet!$D$6),INT(J840))","v":25},{"$f":"IF(C840=1,\"year\",\"years\")","v":"years"},{"$f":"IF(H840=1,RANDBETWEEN(1,11),(J840-INT(J840))*12)","v":5},"months","=",{"$f":"IF(Worksheet!$D$7=1,1,IF(Worksheet!$D$7=2,2,RANDBETWEEN(1,2)))","v":1},null,{"$f":"IF(H840=1,C840+E840/12,RANDBETWEEN(1,Worksheet!$D$6)+CHOOSE(Worksheet!$D$10,RANDBETWEEN(1,9)/10,RANDBETWEEN(1,99)/100,RANDBETWEEN(1,999)/1000,RANDBETWEEN(1,9999)/10000,RANDBETWEEN(1,99999)/100000))","v":25.416666666666668},"years"]
[{"$f":"COUNTIF($B$1:B841,TRUE)","v":337},{"$f":"Worksheet!$B$12","v":true},{"$f":"IF(H841=1,RANDBETWEEN(1,Worksheet!$D$6),INT(J841))","v":28},{"$f":"IF(C841=1,\"hour\",\"hours\")","v":"hours"},{"$f":"IF(H841=1,IF(Worksheet!$D$10=1,RANDBETWEEN(1,9)*6,IF(Worksheet!$D$10=2,RANDBETWEEN(1,19)*3,RANDBETWEEN(1,59))),(J841-INT(J841))*60)","v":30},"minutes","=",{"$f":"IF(Worksheet!$D$7=1,1,IF(Worksheet!$D$7=2,2,RANDBETWEEN(1,2)))","v":1},null,{"$f":"IF(H841=1,C841+E841/60,RANDBETWEEN(1,Worksheet!$D$6)+CHOOSE(Worksheet!$D$10,RANDBETWEEN(1,9)/10,RANDBETWEEN(1,99)/100,RANDBETWEEN(1,999)/1000,RANDBETWEEN(1,9999)/10000,RANDBETWEEN(1,99999)/100000))","v":28.5},"hours"]
[{"$f":"IF(COUNTIF($B$1:B842,TRUE)=COUNTIF($B$1:B841,TRUE),\"\",COUNTIF($B$1:B842,TRUE))","v":338},{"$f":"Worksheet!$B$13","v":true},{"$f":"IF(H842=1,RANDBETWEEN(1,Worksheet!$D$6),INT(J842))","v":23},{"$f":"IF(C842=1,\"minute\",\"minutes\")","v":"minutes"},{"$f":"IF(H842=1,IF(Worksheet!$D$10=1,RANDBETWEEN(1,9)*6,IF(Worksheet!$D$10=2,RANDBETWEEN(1,19)*3,RANDBETWEEN(1,59))),(J842-INT(J842))*60)","v":12},"seconds","=",{"$f":"IF(Worksheet!$D$7=1,1,IF(Worksheet!$D$7=2,2,RANDBETWEEN(1,2)))","v":1},null,{"$f":"IF(H842=1,C842+E842/60,RANDBETWEEN(1,Worksheet!$D$6)+CHOOSE(Worksheet!$D$10,RANDBETWEEN(1,9)/10,RANDBETWEEN(1,99)/100,RANDBETWEEN(1,999)/1000,RANDBETWEEN(1,9999)/10000,RANDBETWEEN(1,99999)/100000))","v":23.2},"minutes"]
[{"$f":"IF(COUNTIF($B$1:B843,TRUE)=COUNTIF($B$1:B842,TRUE),\"\",COUNTIF($B$1:B843,TRUE))","v":""},{"$f":"Worksheet!$B$14","v":false},{"$f":"IF(H843=1,RANDBETWEEN(1,Worksheet!$D$6),INT(J843))","v":10},{"$f":"IF(C843=1,\"week\",\"weeks\")","v":"weeks"},{"$f":"IF(H843=1,RANDBETWEEN(1,6),(J843-INT(J843))*7)","v":4},"days","=",{"$f":"IF(Worksheet!$D$7=1,1,IF(Worksheet!$D$7=2,2,RANDBETWEEN(1,2)))","v":1},null,{"$f":"IF(H843=1,C843+E843/7,RANDBETWEEN(1,Worksheet!$D$6)+CHOOSE(Worksheet!$D$10,RANDBETWEEN(1,9)/10,RANDBETWEEN(1,99)/100,RANDBETWEEN(1,999)/1000,RANDBETWEEN(1,9999)/10000,RANDBETWEEN(1,99999)/100000))","v":10.571428571428571},"weeks"]
[{"$f":"IF(COUNTIF($B$1:B844,TRUE)=COUNTIF($B$1:B843,TRUE),\"\",COUNTIF($B$1:B844,TRUE))","v":""},{"$f":"Worksheet!$D$12","v":false},{"$f":"IF(H844=1,RANDBETWEEN(1,Worksheet!$D$6),INT(J844))","v":14},{"$f":"IF(C844=1,\"day\",\"days\")","v":"days"},{"$f":"IF(H844=1,RANDBETWEEN(1,23),(J844-INT(J844))*24)","v":19.200000000000017},"hours","=",{"$f":"IF(Worksheet!$D$7=1,1,IF(Worksheet!$D$7=2,2,RANDBETWEEN(1,2)))","v":2},null,{"$f":"IF(H844=1,C844+E844/24,RANDBETWEEN(1,Worksheet!$D$6)+CHOOSE(Worksheet!$D$10,RANDBETWEEN(1,9)/10,RANDBETWEEN(1,99)/100,RANDBETWEEN(1,999)/1000,RANDBETWEEN(1,9999)/10000,RANDBETWEEN(1,99999)/100000))","v":14.8},"days"]
[{"$f":"IF(COUNTIF($B$1:B845,TRUE)=COUNTIF($B$1:B844,TRUE),\"\",COUNTIF($B$1:B845,TRUE))","v":""},{"$f":"Worksheet!$D$13","v":false},{"$f":"IF(H845=1,RANDBETWEEN(1,Worksheet!$D$6),INT(J845))","v":16},{"$f":"IF(C845=1,\"year\",\"years\")","v":"years"},{"$f":"IF(H845=1,RANDBETWEEN(1,11),(J845-INT(J845))*12)","v":2},"months","=",{"$f":"IF(Worksheet!$D$7=1,1,IF(Worksheet!$D$7=2,2,RANDBETWEEN(1,2)))","v":1},null,{"$f":"IF(H845=1,C845+E845/12,RANDBETWEEN(1,Worksheet!$D$6)+CHOOSE(Worksheet!$D$10,RANDBETWEEN(1,9)/10,RANDBETWEEN(1,99)/100,RANDBETWEEN(1,999)/1000,RANDBETWEEN(1,9999)/10000,RANDBETWEEN(1,99999)/100000))","v":16.166666666666668},"years"]
[{"$f":"COUNTIF($B$1:B846,TRUE)","v":339},{"$f":"Worksheet!$B$12","v":true},{"$f":"IF(H846=1,RANDBETWEEN(1,Worksheet!$D$6),INT(J846))","v":28},{"$f":"IF(C846=1,\"hour\",\"hours\")","v":"hours"},{"$f":"IF(H846=1,IF(Worksheet!$D$10=1,RANDBETWEEN(1,9)*6,IF(Worksheet!$D$10=2,RANDBETWEEN(1,19)*3,RANDBETWEEN(1,59))),(J846-INT(J846))*60)","v":54},"minutes","=",{"$f":"IF(Worksheet!$D$7=1,1,IF(Worksheet!$D$7=2,2,RANDBETWEEN(1,2)))","v":1},null,{"$f":"IF(H846=1,C846+E846/60,RANDBETWEEN(1,Worksheet!$D$6)+CHOOSE(Worksheet!$D$10,RANDBETWEEN(1,9)/10,RANDBETWEEN(1,99)/100,RANDBETWEEN(1,999)/1000,RANDBETWEEN(1,9999)/10000,RANDBETWEEN(1,99999)/100000))","v":28.9},"hours"]
[{"$f":"IF(COUNTIF($B$1:B847,TRUE)=COUNTIF($B$1:B846,TRUE),\"\",COUNTIF($B$1:B847,TRUE))","v":340},{"$f":"Worksheet!$B$13","v":true},{"$f":"IF(H847=1,RANDBETWEEN(1,Worksheet!$D$6),INT(J847))","v":10},{"$f":"IF(C847=1,\"minute\",\"minutes\")","v":"minutes"},{"$f":"IF(H847=1,IF(Worksheet!$D$10=1,RANDBETWEEN(1,9)*6,IF(Worksheet!$D$10=2,RANDBETWEEN(1,19)*3,RANDBETWEEN(1,59))),(J847-INT(J847))*60)","v":11.999999999999957},"seconds","=",{"$f":"IF(Worksheet!$D$7=1,1,IF(Worksheet!$D$7=2,2,RANDBETWEEN(1,2)))","v":2},null,{"$f":"IF(H847=1,C847+E847/60,RANDBETWEEN(1,Worksheet!$D$6)+CHOOSE(Worksheet!$D$10,RANDBETWEEN(1,9)/10,RANDBETWEEN(1,99)/100,RANDBETWEEN(1,999)/1000,RANDBETWEEN(1,9999)/10000,RANDBETWEEN(1,99999)/100000))","v":10.199999999999999},"minutes"]
[{"$f":"IF(COUNTIF($B$1:B848,TRUE)=COUNTIF($B$1:B847,TRUE),\"\",COUNTIF($B$1:B848,TRUE))","v":""},{"$f":"Worksheet!$B$14","v":false},{"$f":"IF(H848=1,RANDBETWEEN(1,Worksheet!$D$6),INT(J848))","v":13},{"$f":"IF(C848=1,\"week\",\"weeks\")","v":"weeks"},{"$f":"IF(H848=1,RANDBETWEEN(1,6),(J848-INT(J848))*7)","v":3.5},"days","=",{"$f":"IF(Worksheet!$D$7=1,1,IF(Worksheet!$D$7=2,2,RANDBETWEEN(1,2)))","v":2},null,{"$f":"IF(H848=1,C848+E848/7,RANDBETWEEN(1,Worksheet!$D$6)+CHOOSE(Worksheet!$D$10,RANDBETWEEN(1,9)/10,RANDBETWEEN(1,99)/100,RANDBETWEEN(1,999)/1000,RANDBETWEEN(1,9999)/10000,RANDBETWEEN(1,99999)/100000))","v":13.5},"weeks"]
[{"$f":"IF(COUNTIF($B$1:B849,TRUE)=COUNTIF($B$1:B848,TRUE),\"\",COUNTIF($B$1:B849,TRUE))","v":""},{"$f":"Worksheet!$D$12","v":false},{"$f":"IF(H849=1,RANDBETWEEN(1,Worksheet!$D$6),INT(J849))","v":23},{"$f":"IF(C849=1,\"day\",\"days\")","v":"days"},{"$f":"IF(H849=1,RANDBETWEEN(1,23),(J849-INT(J849))*24)","v":12},"hours","=",{"$f":"IF(Worksheet!$D$7=1,1,IF(Worksheet!$D$7=2,2,RANDBETWEEN(1,2)))","v":1},null,{"$f":"IF(H849=1,C849+E849/24,RANDBETWEEN(1,Worksheet!$D$6)+CHOOSE(Worksheet!$D$10,RANDBETWEEN(1,9)/10,RANDBETWEEN(1,99)/100,RANDBETWEEN(1,999)/1000,RANDBETWEEN(1,9999)/10000,RANDBETWEEN(1,99999)/100000))","v":23.5},"days"]
[{"$f":"IF(COUNTIF($B$1:B850,TRUE)=COUNTIF($B$1:B849,TRUE),\"\",COUNTIF($B$1:B850,TRUE))","v":""},{"$f":"Worksheet!$D$13","v":false},{"$f":"IF(H850=1,RANDBETWEEN(1,Worksheet!$D$6),INT(J850))","v":23},{"$f":"IF(C850=1,\"year\",\"years\")","v":"years"},{"$f":"IF(H850=1,RANDBETWEEN(1,11),(J850-INT(J850))*12)","v":11},"months","=",{"$f":"IF(Worksheet!$D$7=1,1,IF(Worksheet!$D$7=2,2,RANDBETWEEN(1,2)))","v":1},null,{"$f":"IF(H850=1,C850+E850/12,RANDBETWEEN(1,Worksheet!$D$6)+CHOOSE(Worksheet!$D$10,RANDBETWEEN(1,9)/10,RANDBETWEEN(1,99)/100,RANDBETWEEN(1,999)/1000,RANDBETWEEN(1,9999)/10000,RANDBETWEEN(1,99999)/100000))","v":23.916666666666668},"years"]
[{"$f":"COUNTIF($B$1:B851,TRUE)","v":341},{"$f":"Worksheet!$B$12","v":true},{"$f":"IF(H851=1,RANDBETWEEN(1,Worksheet!$D$6),INT(J851))","v":9},{"$f":"IF(C851=1,\"hour\",\"hours\")","v":"hours"},{"$f":"IF(H851=1,IF(Worksheet!$D$10=1,RANDBETWEEN(1,9)*6,IF(Worksheet!$D$10=2,RANDBETWEEN(1,19)*3,RANDBETWEEN(1,59))),(J851-INT(J851))*60)","v":42},"minutes","=",{"$f":"IF(Worksheet!$D$7=1,1,IF(Worksheet!$D$7=2,2,RANDBETWEEN(1,2)))","v":1},null,{"$f":"IF(H851=1,C851+E851/60,RANDBETWEEN(1,Worksheet!$D$6)+CHOOSE(Worksheet!$D$10,RANDBETWEEN(1,9)/10,RANDBETWEEN(1,99)/100,RANDBETWEEN(1,999)/1000,RANDBETWEEN(1,9999)/10000,RANDBETWEEN(1,99999)/100000))","v":9.6999999999999993},"hours"]
[{"$f":"IF(COUNTIF($B$1:B852,TRUE)=COUNTIF($B$1:B851,TRUE),\"\",COUNTIF($B$1:B852,TRUE))","v":342},{"$f":"Worksheet!$B$13","v":true},{"$f":"IF(H852=1,RANDBETWEEN(1,Worksheet!$D$6),INT(J852))","v":30},{"$f":"IF(C852=1,\"minute\",\"minutes\")","v":"minutes"},{"$f":"IF(H852=1,IF(Worksheet!$D$10=1,RANDBETWEEN(1,9)*6,IF(Worksheet!$D$10=2,RANDBETWEEN(1,19)*3,RANDBETWEEN(1,59))),(J852-INT(J852))*60)","v":42},"seconds","=",{"$f":"IF(Worksheet!$D$7=1,1,IF(Worksheet!$D$7=2,2,RANDBETWEEN(1,2)))","v":1},null,{"$f":"IF(H852=1,C852+E852/60,RANDBETWEEN(1,Worksheet!$D$6)+CHOOSE(Worksheet!$D$10,RANDBETWEEN(1,9)/10,RANDBETWEEN(1,99)/100,RANDBETWEEN(1,999)/1000,RANDBETWEEN(1,9999)/10000,RANDBETWEEN(1,99999)/100000))","v":30.7},"minutes"]
[{"$f":"IF(COUNTIF($B$1:B853,TRUE)=COUNTIF($B$1:B852,TRUE),\"\",COUNTIF($B$1:B853,TRUE))","v":""},{"$f":"Worksheet!$B$14","v":false},{"$f":"IF(H853=1,RANDBETWEEN(1,Worksheet!$D$6),INT(J853))","v":23},{"$f":"IF(C853=1,\"week\",\"weeks\")","v":"weeks"},{"$f":"IF(H853=1,RANDBETWEEN(1,6),(J853-INT(J853))*7)","v":4.899999999999995},"days","=",{"$f":"IF(Worksheet!$D$7=1,1,IF(Worksheet!$D$7=2,2,RANDBETWEEN(1,2)))","v":2},null,{"$f":"IF(H853=1,C853+E853/7,RANDBETWEEN(1,Worksheet!$D$6)+CHOOSE(Worksheet!$D$10,RANDBETWEEN(1,9)/10,RANDBETWEEN(1,99)/100,RANDBETWEEN(1,999)/1000,RANDBETWEEN(1,9999)/10000,RANDBETWEEN(1,99999)/100000))","v":23.7},"weeks"]
[{"$f":"IF(COUNTIF($B$1:B854,TRUE)=COUNTIF($B$1:B853,TRUE),\"\",COUNTIF($B$1:B854,TRUE))","v":""},{"$f":"Worksheet!$D$12","v":false},{"$f":"IF(H854=1,RANDBETWEEN(1,Worksheet!$D$6),INT(J854))","v":22},{"$f":"IF(C854=1,\"day\",\"days\")","v":"days"},{"$f":"IF(H854=1,RANDBETWEEN(1,23),(J854-INT(J854))*24)","v":23},"hours","=",{"$f":"IF(Worksheet!$D$7=1,1,IF(Worksheet!$D$7=2,2,RANDBETWEEN(1,2)))","v":1},null,{"$f":"IF(H854=1,C854+E854/24,RANDBETWEEN(1,Worksheet!$D$6)+CHOOSE(Worksheet!$D$10,RANDBETWEEN(1,9)/10,RANDBETWEEN(1,99)/100,RANDBETWEEN(1,999)/1000,RANDBETWEEN(1,9999)/10000,RANDBETWEEN(1,99999)/100000))","v":22.958333333333332},"days"]
[{"$f":"IF(COUNTIF($B$1:B855,TRUE)=COUNTIF($B$1:B854,TRUE),\"\",COUNTIF($B$1:B855,TRUE))","v":""},{"$f":"Worksheet!$D$13","v":false},{"$f":"IF(H855=1,RANDBETWEEN(1,Worksheet!$D$6),INT(J855))","v":4},{"$f":"IF(C855=1,\"year\",\"years\")","v":"years"},{"$f":"IF(H855=1,RANDBETWEEN(1,11),(J855-INT(J855))*12)","v":8.4000000000000021},"months","=",{"$f":"IF(Worksheet!$D$7=1,1,IF(Worksheet!$D$7=2,2,RANDBETWEEN(1,2)))","v":2},null,{"$f":"IF(H855=1,C855+E855/12,RANDBETWEEN(1,Worksheet!$D$6)+CHOOSE(Worksheet!$D$10,RANDBETWEEN(1,9)/10,RANDBETWEEN(1,99)/100,RANDBETWEEN(1,999)/1000,RANDBETWEEN(1,9999)/10000,RANDBETWEEN(1,99999)/100000))","v":4.7},"years"]
[{"$f":"COUNTIF($B$1:B856,TRUE)","v":343},{"$f":"Worksheet!$B$12","v":true},{"$f":"IF(H856=1,RANDBETWEEN(1,Worksheet!$D$6),INT(J856))","v":28},{"$f":"IF(C856=1,\"hour\",\"hours\")","v":"hours"},{"$f":"IF(H856=1,IF(Worksheet!$D$10=1,RANDBETWEEN(1,9)*6,IF(Worksheet!$D$10=2,RANDBETWEEN(1,19)*3,RANDBETWEEN(1,59))),(J856-INT(J856))*60)","v":42},"minutes","=",{"$f":"IF(Worksheet!$D$7=1,1,IF(Worksheet!$D$7=2,2,RANDBETWEEN(1,2)))","v":1},null,{"$f":"IF(H856=1,C856+E856/60,RANDBETWEEN(1,Worksheet!$D$6)+CHOOSE(Worksheet!$D$10,RANDBETWEEN(1,9)/10,RANDBETWEEN(1,99)/100,RANDBETWEEN(1,999)/1000,RANDBETWEEN(1,9999)/10000,RANDBETWEEN(1,99999)/100000))","v":28.7},"hours"]
[{"$f":"IF(COUNTIF($B$1:B857,TRUE)=COUNTIF($B$1:B856,TRUE),\"\",COUNTIF($B$1:B857,TRUE))","v":344},{"$f":"Worksheet!$B$13","v":true},{"$f":"IF(H857=1,RANDBETWEEN(1,Worksheet!$D$6),INT(J857))","v":28},{"$f":"IF(C857=1,\"minute\",\"minutes\")","v":"minutes"},{"$f":"IF(H857=1,IF(Worksheet!$D$10=1,RANDBETWEEN(1,9)*6,IF(Worksheet!$D$10=2,RANDBETWEEN(1,19)*3,RANDBETWEEN(1,59))),(J857-INT(J857))*60)","v":36.000000000000085},"seconds","=",{"$f":"IF(Worksheet!$D$7=1,1,IF(Worksheet!$D$7=2,2,RANDBETWEEN(1,2)))","v":2},null,{"$f":"IF(H857=1,C857+E857/60,RANDBETWEEN(1,Worksheet!$D$6)+CHOOSE(Worksheet!$D$10,RANDBETWEEN(1,9)/10,RANDBETWEEN(1,99)/100,RANDBETWEEN(1,999)/1000,RANDBETWEEN(1,9999)/10000,RANDBETWEEN(1,99999)/100000))","v":28.6},"minutes"]
[{"$f":"IF(COUNTIF($B$1:B858,TRUE)=COUNTIF($B$1:B857,TRUE),\"\",COUNTIF($B$1:B858,TRUE))","v":""},{"$f":"Worksheet!$B$14","v":false},{"$f":"IF(H858=1,RANDBETWEEN(1,Worksheet!$D$6),INT(J858))","v":16},{"$f":"IF(C858=1,\"week\",\"weeks\")","v":"weeks"},{"$f":"IF(H858=1,RANDBETWEEN(1,6),(J858-INT(J858))*7)","v":3},"days","=",{"$f":"IF(Worksheet!$D$7=1,1,IF(Worksheet!$D$7=2,2,RANDBETWEEN(1,2)))","v":1},null,{"$f":"IF(H858=1,C858+E858/7,RANDBETWEEN(1,Worksheet!$D$6)+CHOOSE(Worksheet!$D$10,RANDBETWEEN(1,9)/10,RANDBETWEEN(1,99)/100,RANDBETWEEN(1,999)/1000,RANDBETWEEN(1,9999)/10000,RANDBETWEEN(1,99999)/100000))","v":16.428571428571427},"weeks"]
[{"$f":"IF(COUNTIF($B$1:B859,TRUE)=COUNTIF($B$1:B858,TRUE),\"\",COUNTIF($B$1:B859,TRUE))","v":""},{"$f":"Worksheet!$D$12","v":false},{"$f":"IF(H859=1,RANDBETWEEN(1,Worksheet!$D$6),INT(J859))","v":23},{"$f":"IF(C859=1,\"day\",\"days\")","v":"days"},{"$f":"IF(H859=1,RANDBETWEEN(1,23),(J859-INT(J859))*24)","v":13},"hours","=",{"$f":"IF(Worksheet!$D$7=1,1,IF(Worksheet!$D$7=2,2,RANDBETWEEN(1,2)))","v":1},null,{"$f":"IF(H859=1,C859+E859/24,RANDBETWEEN(1,Worksheet!$D$6)+CHOOSE(Worksheet!$D$10,RANDBETWEEN(1,9)/10,RANDBETWEEN(1,99)/100,RANDBETWEEN(1,999)/1000,RANDBETWEEN(1,9999)/10000,RANDBETWEEN(1,99999)/100000))","v":23.541666666666668},"days"]
[{"$f":"IF(COUNTIF($B$1:B860,TRUE)=COUNTIF($B$1:B859,TRUE),\"\",COUNTIF($B$1:B860,TRUE))","v":""},{"$f":"Worksheet!$D$13","v":false},{"$f":"IF(H860=1,RANDBETWEEN(1,Worksheet!$D$6),INT(J860))","v":16},{"$f":"IF(C860=1,\"year\",\"years\")","v":"years"},{"$f":"IF(H860=1,RANDBETWEEN(1,11),(J860-INT(J860))*12)","v":5},"months","=",{"$f":"IF(Worksheet!$D$7=1,1,IF(Worksheet!$D$7=2,2,RANDBETWEEN(1,2)))","v":1},null,{"$f":"IF(H860=1,C860+E860/12,RANDBETWEEN(1,Worksheet!$D$6)+CHOOSE(Worksheet!$D$10,RANDBETWEEN(1,9)/10,RANDBETWEEN(1,99)/100,RANDBETWEEN(1,999)/1000,RANDBETWEEN(1,9999)/10000,RANDBETWEEN(1,99999)/100000))","v":16.416666666666668},"years"]
[{"$f":"COUNTIF($B$1:B861,TRUE)","v":345},{"$f":"Worksheet!$B$12","v":true},{"$f":"IF(H861=1,RANDBETWEEN(1,Worksheet!$D$6),INT(J861))","v":8},{"$f":"IF(C861=1,\"hour\",\"hours\")","v":"hours"},{"$f":"IF(H861=1,IF(Worksheet!$D$10=1,RANDBETWEEN(1,9)*6,IF(Worksheet!$D$10=2,RANDBETWEEN(1,19)*3,RANDBETWEEN(1,59))),(J861-INT(J861))*60)","v":48},"minutes","=",{"$f":"IF(Worksheet!$D$7=1,1,IF(Worksheet!$D$7=2,2,RANDBETWEEN(1,2)))","v":1},null,{"$f":"IF(H861=1,C861+E861/60,RANDBETWEEN(1,Worksheet!$D$6)+CHOOSE(Worksheet!$D$10,RANDBETWEEN(1,9)/10,RANDBETWEEN(1,99)/100,RANDBETWEEN(1,999)/1000,RANDBETWEEN(1,9999)/10000,RANDBETWEEN(1,99999)/100000))","v":8.8000000000000007},"hours"]
[{"$f":"IF(COUNTIF($B$1:B862,TRUE)=COUNTIF($B$1:B861,TRUE),\"\",COUNTIF($B$1:B862,TRUE))","v":346},{"$f":"Worksheet!$B$13","v":true},{"$f":"IF(H862=1,RANDBETWEEN(1,Worksheet!$D$6),INT(J862))","v":24},{"$f":"IF(C862=1,\"minute\",\"minutes\")","v":"minutes"},{"$f":"IF(H862=1,IF(Worksheet!$D$10=1,RANDBETWEEN(1,9)*6,IF(Worksheet!$D$10=2,RANDBETWEEN(1,19)*3,RANDBETWEEN(1,59))),(J862-INT(J862))*60)","v":6.0000000000000853},"seconds","=",{"$f":"IF(Worksheet!$D$7=1,1,IF(Worksheet!$D$7=2,2,RANDBETWEEN(1,2)))","v":2},null,{"$f":"IF(H862=1,C862+E862/60,RANDBETWEEN(1,Worksheet!$D$6)+CHOOSE(Worksheet!$D$10,RANDBETWEEN(1,9)/10,RANDBETWEEN(1,99)/100,RANDBETWEEN(1,999)/1000,RANDBETWEEN(1,9999)/10000,RANDBETWEEN(1,99999)/100000))","v":24.1},"minutes"]
[{"$f":"IF(COUNTIF($B$1:B863,TRUE)=COUNTIF($B$1:B862,TRUE),\"\",COUNTIF($B$1:B863,TRUE))","v":""},{"$f":"Worksheet!$B$14","v":false},{"$f":"IF(H863=1,RANDBETWEEN(1,Worksheet!$D$6),INT(J863))","v":2},{"$f":"IF(C863=1,\"week\",\"weeks\")","v":"weeks"},{"$f":"IF(H863=1,RANDBETWEEN(1,6),(J863-INT(J863))*7)","v":3},"days","=",{"$f":"IF(Worksheet!$D$7=1,1,IF(Worksheet!$D$7=2,2,RANDBETWEEN(1,2)))","v":1},null,{"$f":"IF(H863=1,C863+E863/7,RANDBETWEEN(1,Worksheet!$D$6)+CHOOSE(Worksheet!$D$10,RANDBETWEEN(1,9)/10,RANDBETWEEN(1,99)/100,RANDBETWEEN(1,999)/1000,RANDBETWEEN(1,9999)/10000,RANDBETWEEN(1,99999)/100000))","v":2.4285714285714284},{"$f":"D863","v":"weeks"}]
[{"$f":"IF(COUNTIF($B$1:B864,TRUE)=COUNTIF($B$1:B863,TRUE),\"\",COUNTIF($B$1:B864,TRUE))","v":""},{"$f":"Worksheet!$D$12","v":false},{"$f":"IF(H864=1,RANDBETWEEN(1,Worksheet!$D$6),INT(J864))","v":18},{"$f":"IF(C864=1,\"day\",\"days\")","v":"days"},{"$f":"IF(H864=1,RANDBETWEEN(1,23),(J864-INT(J864))*24)","v":7.2000000000000171},"hours","=",{"$f":"IF(Worksheet!$D$7=1,1,IF(Worksheet!$D$7=2,2,RANDBETWEEN(1,2)))","v":2},null,{"$f":"IF(H864=1,C864+E864/24,RANDBETWEEN(1,Worksheet!$D$6)+CHOOSE(Worksheet!$D$10,RANDBETWEEN(1,9)/10,RANDBETWEEN(1,99)/100,RANDBETWEEN(1,999)/1000,RANDBETWEEN(1,9999)/10000,RANDBETWEEN(1,99999)/100000))","v":18.3},"days"]
[{"$f":"IF(COUNTIF($B$1:B865,TRUE)=COUNTIF($B$1:B864,TRUE),\"\",COUNTIF($B$1:B865,TRUE))","v":""},{"$f":"Worksheet!$D$13","v":false},{"$f":"IF(H865=1,RANDBETWEEN(1,Worksheet!$D$6),INT(J865))","v":23},{"$f":"IF(C865=1,\"year\",\"years\")","v":"years"},{"$f":"IF(H865=1,RANDBETWEEN(1,11),(J865-INT(J865))*12)","v":9.6000000000000085},"months","=",{"$f":"IF(Worksheet!$D$7=1,1,IF(Worksheet!$D$7=2,2,RANDBETWEEN(1,2)))","v":2},null,{"$f":"IF(H865=1,C865+E865/12,RANDBETWEEN(1,Worksheet!$D$6)+CHOOSE(Worksheet!$D$10,RANDBETWEEN(1,9)/10,RANDBETWEEN(1,99)/100,RANDBETWEEN(1,999)/1000,RANDBETWEEN(1,9999)/10000,RANDBETWEEN(1,99999)/100000))","v":23.8},"years"]
[{"$f":"COUNTIF($B$1:B866,TRUE)","v":347},{"$f":"Worksheet!$B$12","v":true},{"$f":"IF(H866=1,RANDBETWEEN(1,Worksheet!$D$6),INT(J866))","v":11},{"$f":"IF(C866=1,\"hour\",\"hours\")","v":"hours"},{"$f":"IF(H866=1,IF(Worksheet!$D$10=1,RANDBETWEEN(1,9)*6,IF(Worksheet!$D$10=2,RANDBETWEEN(1,19)*3,RANDBETWEEN(1,59))),(J866-INT(J866))*60)","v":12},"minutes","=",{"$f":"IF(Worksheet!$D$7=1,1,IF(Worksheet!$D$7=2,2,RANDBETWEEN(1,2)))","v":1},null,{"$f":"IF(H866=1,C866+E866/60,RANDBETWEEN(1,Worksheet!$D$6)+CHOOSE(Worksheet!$D$10,RANDBETWEEN(1,9)/10,RANDBETWEEN(1,99)/100,RANDBETWEEN(1,999)/1000,RANDBETWEEN(1,9999)/10000,RANDBETWEEN(1,99999)/100000))","v":11.2},"hours"]
[{"$f":"IF(COUNTIF($B$1:B867,TRUE)=COUNTIF($B$1:B866,TRUE),\"\",COUNTIF($B$1:B867,TRUE))","v":348},{"$f":"Worksheet!$B$13","v":true},{"$f":"IF(H867=1,RANDBETWEEN(1,Worksheet!$D$6),INT(J867))","v":18},{"$f":"IF(C867=1,\"minute\",\"minutes\")","v":"minutes"},{"$f":"IF(H867=1,IF(Worksheet!$D$10=1,RANDBETWEEN(1,9)*6,IF(Worksheet!$D$10=2,RANDBETWEEN(1,19)*3,RANDBETWEEN(1,59))),(J867-INT(J867))*60)","v":6.0000000000000853},"seconds","=",{"$f":"IF(Worksheet!$D$7=1,1,IF(Worksheet!$D$7=2,2,RANDBETWEEN(1,2)))","v":2},null,{"$f":"IF(H867=1,C867+E867/60,RANDBETWEEN(1,Worksheet!$D$6)+CHOOSE(Worksheet!$D$10,RANDBETWEEN(1,9)/10,RANDBETWEEN(1,99)/100,RANDBETWEEN(1,999)/1000,RANDBETWEEN(1,9999)/10000,RANDBETWEEN(1,99999)/100000))","v":18.100000000000001},"minutes"]
[{"$f":"IF(COUNTIF($B$1:B868,TRUE)=COUNTIF($B$1:B867,TRUE),\"\",COUNTIF($B$1:B868,TRUE))","v":""},{"$f":"Worksheet!$B$14","v":false},{"$f":"IF(H868=1,RANDBETWEEN(1,Worksheet!$D$6),INT(J868))","v":4},{"$f":"IF(C868=1,\"week\",\"weeks\")","v":"weeks"},{"$f":"IF(H868=1,RANDBETWEEN(1,6),(J868-INT(J868))*7)","v":1.4000000000000012},"days","=",{"$f":"IF(Worksheet!$D$7=1,1,IF(Worksheet!$D$7=2,2,RANDBETWEEN(1,2)))","v":2},null,{"$f":"IF(H868=1,C868+E868/7,RANDBETWEEN(1,Worksheet!$D$6)+CHOOSE(Worksheet!$D$10,RANDBETWEEN(1,9)/10,RANDBETWEEN(1,99)/100,RANDBETWEEN(1,999)/1000,RANDBETWEEN(1,9999)/10000,RANDBETWEEN(1,99999)/100000))","v":4.2},"weeks"]
[{"$f":"IF(COUNTIF($B$1:B869,TRUE)=COUNTIF($B$1:B868,TRUE),\"\",COUNTIF($B$1:B869,TRUE))","v":""},{"$f":"Worksheet!$D$12","v":false},{"$f":"IF(H869=1,RANDBETWEEN(1,Worksheet!$D$6),INT(J869))","v":14},{"$f":"IF(C869=1,\"day\",\"days\")","v":"days"},{"$f":"IF(H869=1,RANDBETWEEN(1,23),(J869-INT(J869))*24)","v":7},"hours","=",{"$f":"IF(Worksheet!$D$7=1,1,IF(Worksheet!$D$7=2,2,RANDBETWEEN(1,2)))","v":1},null,{"$f":"IF(H869=1,C869+E869/24,RANDBETWEEN(1,Worksheet!$D$6)+CHOOSE(Worksheet!$D$10,RANDBETWEEN(1,9)/10,RANDBETWEEN(1,99)/100,RANDBETWEEN(1,999)/1000,RANDBETWEEN(1,9999)/10000,RANDBETWEEN(1,99999)/100000))","v":14.291666666666666},"days"]
[{"$f":"IF(COUNTIF($B$1:B870,TRUE)=COUNTIF($B$1:B869,TRUE),\"\",COUNTIF($B$1:B870,TRUE))","v":""},{"$f":"Worksheet!$D$13","v":false},{"$f":"IF(H870=1,RANDBETWEEN(1,Worksheet!$D$6),INT(J870))","v":15},{"$f":"IF(C870=1,\"year\",\"years\")","v":"years"},{"$f":"IF(H870=1,RANDBETWEEN(1,11),(J870-INT(J870))*12)","v":2},"months","=",{"$f":"IF(Worksheet!$D$7=1,1,IF(Worksheet!$D$7=2,2,RANDBETWEEN(1,2)))","v":1},null,{"$f":"IF(H870=1,C870+E870/12,RANDBETWEEN(1,Worksheet!$D$6)+CHOOSE(Worksheet!$D$10,RANDBETWEEN(1,9)/10,RANDBETWEEN(1,99)/100,RANDBETWEEN(1,999)/1000,RANDBETWEEN(1,9999)/10000,RANDBETWEEN(1,99999)/100000))","v":15.166666666666666},"years"]
[{"$f":"COUNTIF($B$1:B871,TRUE)","v":349},{"$f":"Worksheet!$B$12","v":true},{"$f":"IF(H871=1,RANDBETWEEN(1,Worksheet!$D$6),INT(J871))","v":27},{"$f":"IF(C871=1,\"hour\",\"hours\")","v":"hours"},{"$f":"IF(H871=1,IF(Worksheet!$D$10=1,RANDBETWEEN(1,9)*6,IF(Worksheet!$D$10=2,RANDBETWEEN(1,19)*3,RANDBETWEEN(1,59))),(J871-INT(J871))*60)","v":18.000000000000043},"minutes","=",{"$f":"IF(Worksheet!$D$7=1,1,IF(Worksheet!$D$7=2,2,RANDBETWEEN(1,2)))","v":2},null,{"$f":"IF(H871=1,C871+E871/60,RANDBETWEEN(1,Worksheet!$D$6)+CHOOSE(Worksheet!$D$10,RANDBETWEEN(1,9)/10,RANDBETWEEN(1,99)/100,RANDBETWEEN(1,999)/1000,RANDBETWEEN(1,9999)/10000,RANDBETWEEN(1,99999)/100000))","v":27.3},"hours"]
[{"$f":"IF(COUNTIF($B$1:B872,TRUE)=COUNTIF($B$1:B871,TRUE),\"\",COUNTIF($B$1:B872,TRUE))","v":350},{"$f":"Worksheet!$B$13","v":true},{"$f":"IF(H872=1,RANDBETWEEN(1,Worksheet!$D$6),INT(J872))","v":8},{"$f":"IF(C872=1,\"minute\",\"minutes\")","v":"minutes"},{"$f":"IF(H872=1,IF(Worksheet!$D$10=1,RANDBETWEEN(1,9)*6,IF(Worksheet!$D$10=2,RANDBETWEEN(1,19)*3,RANDBETWEEN(1,59))),(J872-INT(J872))*60)","v":24.000000000000021},"seconds","=",{"$f":"IF(Worksheet!$D$7=1,1,IF(Worksheet!$D$7=2,2,RANDBETWEEN(1,2)))","v":2},null,{"$f":"IF(H872=1,C872+E872/60,RANDBETWEEN(1,Worksheet!$D$6)+CHOOSE(Worksheet!$D$10,RANDBETWEEN(1,9)/10,RANDBETWEEN(1,99)/100,RANDBETWEEN(1,999)/1000,RANDBETWEEN(1,9999)/10000,RANDBETWEEN(1,99999)/100000))","v":8.4},"minutes"]
[{"$f":"IF(COUNTIF($B$1:B873,TRUE)=COUNTIF($B$1:B872,TRUE),\"\",COUNTIF($B$1:B873,TRUE))","v":""},{"$f":"Worksheet!$B$14","v":false},{"$f":"IF(H873=1,RANDBETWEEN(1,Worksheet!$D$6),INT(J873))","v":6},{"$f":"IF(C873=1,\"week\",\"weeks\")","v":"weeks"},{"$f":"IF(H873=1,RANDBETWEEN(1,6),(J873-INT(J873))*7)","v":3},"days","=",{"$f":"IF(Worksheet!$D$7=1,1,IF(Worksheet!$D$7=2,2,RANDBETWEEN(1,2)))","v":1},null,{"$f":"IF(H873=1,C873+E873/7,RANDBETWEEN(1,Worksheet!$D$6)+CHOOSE(Worksheet!$D$10,RANDBETWEEN(1,9)/10,RANDBETWEEN(1,99)/100,RANDBETWEEN(1,999)/1000,RANDBETWEEN(1,9999)/10000,RANDBETWEEN(1,99999)/100000))","v":6.4285714285714288},"weeks"]
[{"$f":"IF(COUNTIF($B$1:B874,TRUE)=COUNTIF($B$1:B873,TRUE),\"\",COUNTIF($B$1:B874,TRUE))","v":""},{"$f":"Worksheet!$D$12","v":false},{"$f":"IF(H874=1,RANDBETWEEN(1,Worksheet!$D$6),INT(J874))","v":20},{"$f":"IF(C874=1,\"day\",\"days\")","v":"days"},{"$f":"IF(H874=1,RANDBETWEEN(1,23),(J874-INT(J874))*24)","v":16.799999999999983},"hours","=",{"$f":"IF(Worksheet!$D$7=1,1,IF(Worksheet!$D$7=2,2,RANDBETWEEN(1,2)))","v":2},null,{"$f":"IF(H874=1,C874+E874/24,RANDBETWEEN(1,Worksheet!$D$6)+CHOOSE(Worksheet!$D$10,RANDBETWEEN(1,9)/10,RANDBETWEEN(1,99)/100,RANDBETWEEN(1,999)/1000,RANDBETWEEN(1,9999)/10000,RANDBETWEEN(1,99999)/100000))","v":20.7},"days"]
[{"$f":"IF(COUNTIF($B$1:B875,TRUE)=COUNTIF($B$1:B874,TRUE),\"\",COUNTIF($B$1:B875,TRUE))","v":""},{"$f":"Worksheet!$D$13","v":false},{"$f":"IF(H875=1,RANDBETWEEN(1,Worksheet!$D$6),INT(J875))","v":13},{"$f":"IF(C875=1,\"year\",\"years\")","v":"years"},{"$f":"IF(H875=1,RANDBETWEEN(1,11),(J875-INT(J875))*12)","v":2},"months","=",{"$f":"IF(Worksheet!$D$7=1,1,IF(Worksheet!$D$7=2,2,RANDBETWEEN(1,2)))","v":1},null,{"$f":"IF(H875=1,C875+E875/12,RANDBETWEEN(1,Worksheet!$D$6)+CHOOSE(Worksheet!$D$10,RANDBETWEEN(1,9)/10,RANDBETWEEN(1,99)/100,RANDBETWEEN(1,999)/1000,RANDBETWEEN(1,9999)/10000,RANDBETWEEN(1,99999)/100000))","v":13.166666666666666},"years"]
[{"$f":"COUNTIF($B$1:B876,TRUE)","v":351},{"$f":"Worksheet!$B$12","v":true},{"$f":"IF(H876=1,RANDBETWEEN(1,Worksheet!$D$6),INT(J876))","v":21},{"$f":"IF(C876=1,\"hour\",\"hours\")","v":"hours"},{"$f":"IF(H876=1,IF(Worksheet!$D$10=1,RANDBETWEEN(1,9)*6,IF(Worksheet!$D$10=2,RANDBETWEEN(1,19)*3,RANDBETWEEN(1,59))),(J876-INT(J876))*60)","v":30},"minutes","=",{"$f":"IF(Worksheet!$D$7=1,1,IF(Worksheet!$D$7=2,2,RANDBETWEEN(1,2)))","v":1},null,{"$f":"IF(H876=1,C876+E876/60,RANDBETWEEN(1,Worksheet!$D$6)+CHOOSE(Worksheet!$D$10,RANDBETWEEN(1,9)/10,RANDBETWEEN(1,99)/100,RANDBETWEEN(1,999)/1000,RANDBETWEEN(1,9999)/10000,RANDBETWEEN(1,99999)/100000))","v":21.5},"hours"]
[{"$f":"IF(COUNTIF($B$1:B877,TRUE)=COUNTIF($B$1:B876,TRUE),\"\",COUNTIF($B$1:B877,TRUE))","v":352},{"$f":"Worksheet!$B$13","v":true},{"$f":"IF(H877=1,RANDBETWEEN(1,Worksheet!$D$6),INT(J877))","v":1},{"$f":"IF(C877=1,\"minute\",\"minutes\")","v":"minute"},{"$f":"IF(H877=1,IF(Worksheet!$D$10=1,RANDBETWEEN(1,9)*6,IF(Worksheet!$D$10=2,RANDBETWEEN(1,19)*3,RANDBETWEEN(1,59))),(J877-INT(J877))*60)","v":42},"seconds","=",{"$f":"IF(Worksheet!$D$7=1,1,IF(Worksheet!$D$7=2,2,RANDBETWEEN(1,2)))","v":2},null,{"$f":"IF(H877=1,C877+E877/60,RANDBETWEEN(1,Worksheet!$D$6)+CHOOSE(Worksheet!$D$10,RANDBETWEEN(1,9)/10,RANDBETWEEN(1,99)/100,RANDBETWEEN(1,999)/1000,RANDBETWEEN(1,9999)/10000,RANDBETWEEN(1,99999)/100000))","v":1.7},"minute"]
[{"$f":"IF(COUNTIF($B$1:B878,TRUE)=COUNTIF($B$1:B877,TRUE),\"\",COUNTIF($B$1:B878,TRUE))","v":""},{"$f":"Worksheet!$B$14","v":false},{"$f":"IF(H878=1,RANDBETWEEN(1,Worksheet!$D$6),INT(J878))","v":8},{"$f":"IF(C878=1,\"week\",\"weeks\")","v":"weeks"},{"$f":"IF(H878=1,RANDBETWEEN(1,6),(J878-INT(J878))*7)","v":2.100000000000005},"days","=",{"$f":"IF(Worksheet!$D$7=1,1,IF(Worksheet!$D$7=2,2,RANDBETWEEN(1,2)))","v":2},null,{"$f":"IF(H878=1,C878+E878/7,RANDBETWEEN(1,Worksheet!$D$6)+CHOOSE(Worksheet!$D$10,RANDBETWEEN(1,9)/10,RANDBETWEEN(1,99)/100,RANDBETWEEN(1,999)/1000,RANDBETWEEN(1,9999)/10000,RANDBETWEEN(1,99999)/100000))","v":8.3000000000000007},"weeks"]
[{"$f":"IF(COUNTIF($B$1:B879,TRUE)=COUNTIF($B$1:B878,TRUE),\"\",COUNTIF($B$1:B879,TRUE))","v":""},{"$f":"Worksheet!$D$12","v":false},{"$f":"IF(H879=1,RANDBETWEEN(1,Worksheet!$D$6),INT(J879))","v":1},{"$f":"IF(C879=1,\"day\",\"days\")","v":"day"},{"$f":"IF(H879=1,RANDBETWEEN(1,23),(J879-INT(J879))*24)","v":19},"hours","=",{"$f":"IF(Worksheet!$D$7=1,1,IF(Worksheet!$D$7=2,2,RANDBETWEEN(1,2)))","v":1},null,{"$f":"IF(H879=1,C879+E879/24,RANDBETWEEN(1,Worksheet!$D$6)+CHOOSE(Worksheet!$D$10,RANDBETWEEN(1,9)/10,RANDBETWEEN(1,99)/100,RANDBETWEEN(1,999)/1000,RANDBETWEEN(1,9999)/10000,RANDBETWEEN(1,99999)/100000))","v":1.7916666666666665},"day"]
[{"$f":"IF(COUNTIF($B$1:B880,TRUE)=COUNTIF($B$1:B879,TRUE),\"\",COUNTIF($B$1:B880,TRUE))","v":""},{"$f":"Worksheet!$D$13","v":false},{"$f":"IF(H880=1,RANDBETWEEN(1,Worksheet!$D$6),INT(J880))","v":23},{"$f":"IF(C880=1,\"year\",\"years\")","v":"years"},{"$f":"IF(H880=1,RANDBETWEEN(1,11),(J880-INT(J880))*12)","v":1},"months","=",{"$f":"IF(Worksheet!$D$7=1,1,IF(Worksheet!$D$7=2,2,RANDBETWEEN(1,2)))","v":1},null,{"$f":"IF(H880=1,C880+E880/12,RANDBETWEEN(1,Worksheet!$D$6)+CHOOSE(Worksheet!$D$10,RANDBETWEEN(1,9)/10,RANDBETWEEN(1,99)/100,RANDBETWEEN(1,999)/1000,RANDBETWEEN(1,9999)/10000,RANDBETWEEN(1,99999)/100000))","v":23.083333333333332},"years"]
[{"$f":"COUNTIF($B$1:B881,TRUE)","v":353},{"$f":"Worksheet!$B$12","v":true},{"$f":"IF(H881=1,RANDBETWEEN(1,Worksheet!$D$6),INT(J881))","v":8},{"$f":"IF(C881=1,\"hour\",\"hours\")","v":"hours"},{"$f":"IF(H881=1,IF(Worksheet!$D$10=1,RANDBETWEEN(1,9)*6,IF(Worksheet!$D$10=2,RANDBETWEEN(1,19)*3,RANDBETWEEN(1,59))),(J881-INT(J881))*60)","v":48.000000000000043},"minutes","=",{"$f":"IF(Worksheet!$D$7=1,1,IF(Worksheet!$D$7=2,2,RANDBETWEEN(1,2)))","v":2},null,{"$f":"IF(H881=1,C881+E881/60,RANDBETWEEN(1,Worksheet!$D$6)+CHOOSE(Worksheet!$D$10,RANDBETWEEN(1,9)/10,RANDBETWEEN(1,99)/100,RANDBETWEEN(1,999)/1000,RANDBETWEEN(1,9999)/10000,RANDBETWEEN(1,99999)/100000))","v":8.8000000000000007},"hours"]
[{"$f":"IF(COUNTIF($B$1:B882,TRUE)=COUNTIF($B$1:B881,TRUE),\"\",COUNTIF($B$1:B882,TRUE))","v":354},{"$f":"Worksheet!$B$13","v":true},{"$f":"IF(H882=1,RANDBETWEEN(1,Worksheet!$D$6),INT(J882))","v":29},{"$f":"IF(C882=1,\"minute\",\"minutes\")","v":"minutes"},{"$f":"IF(H882=1,IF(Worksheet!$D$10=1,RANDBETWEEN(1,9)*6,IF(Worksheet!$D$10=2,RANDBETWEEN(1,19)*3,RANDBETWEEN(1,59))),(J882-INT(J882))*60)","v":11.999999999999957},"seconds","=",{"$f":"IF(Worksheet!$D$7=1,1,IF(Worksheet!$D$7=2,2,RANDBETWEEN(1,2)))","v":2},null,{"$f":"IF(H882=1,C882+E882/60,RANDBETWEEN(1,Worksheet!$D$6)+CHOOSE(Worksheet!$D$10,RANDBETWEEN(1,9)/10,RANDBETWEEN(1,99)/100,RANDBETWEEN(1,999)/1000,RANDBETWEEN(1,9999)/10000,RANDBETWEEN(1,99999)/100000))","v":29.2},"minutes"]
[{"$f":"IF(COUNTIF($B$1:B883,TRUE)=COUNTIF($B$1:B882,TRUE),\"\",COUNTIF($B$1:B883,TRUE))","v":""},{"$f":"Worksheet!$B$14","v":false},{"$f":"IF(H883=1,RANDBETWEEN(1,Worksheet!$D$6),INT(J883))","v":14},{"$f":"IF(C883=1,\"week\",\"weeks\")","v":"weeks"},{"$f":"IF(H883=1,RANDBETWEEN(1,6),(J883-INT(J883))*7)","v":4},"days","=",{"$f":"IF(Worksheet!$D$7=1,1,IF(Worksheet!$D$7=2,2,RANDBETWEEN(1,2)))","v":1},null,{"$f":"IF(H883=1,C883+E883/7,RANDBETWEEN(1,Worksheet!$D$6)+CHOOSE(Worksheet!$D$10,RANDBETWEEN(1,9)/10,RANDBETWEEN(1,99)/100,RANDBETWEEN(1,999)/1000,RANDBETWEEN(1,9999)/10000,RANDBETWEEN(1,99999)/100000))","v":14.571428571428571},"weeks"]
[{"$f":"IF(COUNTIF($B$1:B884,TRUE)=COUNTIF($B$1:B883,TRUE),\"\",COUNTIF($B$1:B884,TRUE))","v":""},{"$f":"Worksheet!$D$12","v":false},{"$f":"IF(H884=1,RANDBETWEEN(1,Worksheet!$D$6),INT(J884))","v":19},{"$f":"IF(C884=1,\"day\",\"days\")","v":"days"},{"$f":"IF(H884=1,RANDBETWEEN(1,23),(J884-INT(J884))*24)","v":8},"hours","=",{"$f":"IF(Worksheet!$D$7=1,1,IF(Worksheet!$D$7=2,2,RANDBETWEEN(1,2)))","v":1},null,{"$f":"IF(H884=1,C884+E884/24,RANDBETWEEN(1,Worksheet!$D$6)+CHOOSE(Worksheet!$D$10,RANDBETWEEN(1,9)/10,RANDBETWEEN(1,99)/100,RANDBETWEEN(1,999)/1000,RANDBETWEEN(1,9999)/10000,RANDBETWEEN(1,99999)/100000))","v":19.333333333333332},"days"]
[{"$f":"IF(COUNTIF($B$1:B885,TRUE)=COUNTIF($B$1:B884,TRUE),\"\",COUNTIF($B$1:B885,TRUE))","v":""},{"$f":"Worksheet!$D$13","v":false},{"$f":"IF(H885=1,RANDBETWEEN(1,Worksheet!$D$6),INT(J885))","v":10},{"$f":"IF(C885=1,\"year\",\"years\")","v":"years"},{"$f":"IF(H885=1,RANDBETWEEN(1,11),(J885-INT(J885))*12)","v":9},"months","=",{"$f":"IF(Worksheet!$D$7=1,1,IF(Worksheet!$D$7=2,2,RANDBETWEEN(1,2)))","v":1},null,{"$f":"IF(H885=1,C885+E885/12,RANDBETWEEN(1,Worksheet!$D$6)+CHOOSE(Worksheet!$D$10,RANDBETWEEN(1,9)/10,RANDBETWEEN(1,99)/100,RANDBETWEEN(1,999)/1000,RANDBETWEEN(1,9999)/10000,RANDBETWEEN(1,99999)/100000))","v":10.75},"years"]
[{"$f":"COUNTIF($B$1:B886,TRUE)","v":355},{"$f":"Worksheet!$B$12","v":true},{"$f":"IF(H886=1,RANDBETWEEN(1,Worksheet!$D$6),INT(J886))","v":20},{"$f":"IF(C886=1,\"hour\",\"hours\")","v":"hours"},{"$f":"IF(H886=1,IF(Worksheet!$D$10=1,RANDBETWEEN(1,9)*6,IF(Worksheet!$D$10=2,RANDBETWEEN(1,19)*3,RANDBETWEEN(1,59))),(J886-INT(J886))*60)","v":24},"minutes","=",{"$f":"IF(Worksheet!$D$7=1,1,IF(Worksheet!$D$7=2,2,RANDBETWEEN(1,2)))","v":1},null,{"$f":"IF(H886=1,C886+E886/60,RANDBETWEEN(1,Worksheet!$D$6)+CHOOSE(Worksheet!$D$10,RANDBETWEEN(1,9)/10,RANDBETWEEN(1,99)/100,RANDBETWEEN(1,999)/1000,RANDBETWEEN(1,9999)/10000,RANDBETWEEN(1,99999)/100000))","v":20.399999999999999},"hours"]
[{"$f":"IF(COUNTIF($B$1:B887,TRUE)=COUNTIF($B$1:B886,TRUE),\"\",COUNTIF($B$1:B887,TRUE))","v":356},{"$f":"Worksheet!$B$13","v":true},{"$f":"IF(H887=1,RANDBETWEEN(1,Worksheet!$D$6),INT(J887))","v":19},{"$f":"IF(C887=1,\"minute\",\"minutes\")","v":"minutes"},{"$f":"IF(H887=1,IF(Worksheet!$D$10=1,RANDBETWEEN(1,9)*6,IF(Worksheet!$D$10=2,RANDBETWEEN(1,19)*3,RANDBETWEEN(1,59))),(J887-INT(J887))*60)","v":30},"seconds","=",{"$f":"IF(Worksheet!$D$7=1,1,IF(Worksheet!$D$7=2,2,RANDBETWEEN(1,2)))","v":2},null,{"$f":"IF(H887=1,C887+E887/60,RANDBETWEEN(1,Worksheet!$D$6)+CHOOSE(Worksheet!$D$10,RANDBETWEEN(1,9)/10,RANDBETWEEN(1,99)/100,RANDBETWEEN(1,999)/1000,RANDBETWEEN(1,9999)/10000,RANDBETWEEN(1,99999)/100000))","v":19.5},"minutes"]
[{"$f":"IF(COUNTIF($B$1:B888,TRUE)=COUNTIF($B$1:B887,TRUE),\"\",COUNTIF($B$1:B888,TRUE))","v":""},{"$f":"Worksheet!$B$14","v":false},{"$f":"IF(H888=1,RANDBETWEEN(1,Worksheet!$D$6),INT(J888))","v":23},{"$f":"IF(C888=1,\"week\",\"weeks\")","v":"weeks"},{"$f":"IF(H888=1,RANDBETWEEN(1,6),(J888-INT(J888))*7)","v":2},"days","=",{"$f":"IF(Worksheet!$D$7=1,1,IF(Worksheet!$D$7=2,2,RANDBETWEEN(1,2)))","v":1},null,{"$f":"IF(H888=1,C888+E888/7,RANDBETWEEN(1,Worksheet!$D$6)+CHOOSE(Worksheet!$D$10,RANDBETWEEN(1,9)/10,RANDBETWEEN(1,99)/100,RANDBETWEEN(1,999)/1000,RANDBETWEEN(1,9999)/10000,RANDBETWEEN(1,99999)/100000))","v":23.285714285714285},"weeks"]
[{"$f":"IF(COUNTIF($B$1:B889,TRUE)=COUNTIF($B$1:B888,TRUE),\"\",COUNTIF($B$1:B889,TRUE))","v":""},{"$f":"Worksheet!$D$12","v":false},{"$f":"IF(H889=1,RANDBETWEEN(1,Worksheet!$D$6),INT(J889))","v":20},{"$f":"IF(C889=1,\"day\",\"days\")","v":"days"},{"$f":"IF(H889=1,RANDBETWEEN(1,23),(J889-INT(J889))*24)","v":12},"hours","=",{"$f":"IF(Worksheet!$D$7=1,1,IF(Worksheet!$D$7=2,2,RANDBETWEEN(1,2)))","v":1},null,{"$f":"IF(H889=1,C889+E889/24,RANDBETWEEN(1,Worksheet!$D$6)+CHOOSE(Worksheet!$D$10,RANDBETWEEN(1,9)/10,RANDBETWEEN(1,99)/100,RANDBETWEEN(1,999)/1000,RANDBETWEEN(1,9999)/10000,RANDBETWEEN(1,99999)/100000))","v":20.5},"days"]
[{"$f":"IF(COUNTIF($B$1:B890,TRUE)=COUNTIF($B$1:B889,TRUE),\"\",COUNTIF($B$1:B890,TRUE))","v":""},{"$f":"Worksheet!$D$13","v":false},{"$f":"IF(H890=1,RANDBETWEEN(1,Worksheet!$D$6),INT(J890))","v":4},{"$f":"IF(C890=1,\"year\",\"years\")","v":"years"},{"$f":"IF(H890=1,RANDBETWEEN(1,11),(J890-INT(J890))*12)","v":5},"months","=",{"$f":"IF(Worksheet!$D$7=1,1,IF(Worksheet!$D$7=2,2,RANDBETWEEN(1,2)))","v":1},null,{"$f":"IF(H890=1,C890+E890/12,RANDBETWEEN(1,Worksheet!$D$6)+CHOOSE(Worksheet!$D$10,RANDBETWEEN(1,9)/10,RANDBETWEEN(1,99)/100,RANDBETWEEN(1,999)/1000,RANDBETWEEN(1,9999)/10000,RANDBETWEEN(1,99999)/100000))","v":4.416666666666667},"years"]
[{"$f":"COUNTIF($B$1:B891,TRUE)","v":357},{"$f":"Worksheet!$B$12","v":true},{"$f":"IF(H891=1,RANDBETWEEN(1,Worksheet!$D$6),INT(J891))","v":1},{"$f":"IF(C891=1,\"hour\",\"hours\")","v":"hour"},{"$f":"IF(H891=1,IF(Worksheet!$D$10=1,RANDBETWEEN(1,9)*6,IF(Worksheet!$D$10=2,RANDBETWEEN(1,19)*3,RANDBETWEEN(1,59))),(J891-INT(J891))*60)","v":11.999999999999996},"minutes","=",{"$f":"IF(Worksheet!$D$7=1,1,IF(Worksheet!$D$7=2,2,RANDBETWEEN(1,2)))","v":2},null,{"$f":"IF(H891=1,C891+E891/60,RANDBETWEEN(1,Worksheet!$D$6)+CHOOSE(Worksheet!$D$10,RANDBETWEEN(1,9)/10,RANDBETWEEN(1,99)/100,RANDBETWEEN(1,999)/1000,RANDBETWEEN(1,9999)/10000,RANDBETWEEN(1,99999)/100000))","v":1.2},"hour"]
[{"$f":"IF(COUNTIF($B$1:B892,TRUE)=COUNTIF($B$1:B891,TRUE),\"\",COUNTIF($B$1:B892,TRUE))","v":358},{"$f":"Worksheet!$B$13","v":true},{"$f":"IF(H892=1,RANDBETWEEN(1,Worksheet!$D$6),INT(J892))","v":30},{"$f":"IF(C892=1,\"minute\",\"minutes\")","v":"minutes"},{"$f":"IF(H892=1,IF(Worksheet!$D$10=1,RANDBETWEEN(1,9)*6,IF(Worksheet!$D$10=2,RANDBETWEEN(1,19)*3,RANDBETWEEN(1,59))),(J892-INT(J892))*60)","v":42},"seconds","=",{"$f":"IF(Worksheet!$D$7=1,1,IF(Worksheet!$D$7=2,2,RANDBETWEEN(1,2)))","v":1},null,{"$f":"IF(H892=1,C892+E892/60,RANDBETWEEN(1,Worksheet!$D$6)+CHOOSE(Worksheet!$D$10,RANDBETWEEN(1,9)/10,RANDBETWEEN(1,99)/100,RANDBETWEEN(1,999)/1000,RANDBETWEEN(1,9999)/10000,RANDBETWEEN(1,99999)/100000))","v":30.7},"minutes"]
[{"$f":"IF(COUNTIF($B$1:B893,TRUE)=COUNTIF($B$1:B892,TRUE),\"\",COUNTIF($B$1:B893,TRUE))","v":""},{"$f":"Worksheet!$B$14","v":false},{"$f":"IF(H893=1,RANDBETWEEN(1,Worksheet!$D$6),INT(J893))","v":20},{"$f":"IF(C893=1,\"week\",\"weeks\")","v":"weeks"},{"$f":"IF(H893=1,RANDBETWEEN(1,6),(J893-INT(J893))*7)","v":4},"days","=",{"$f":"IF(Worksheet!$D$7=1,1,IF(Worksheet!$D$7=2,2,RANDBETWEEN(1,2)))","v":1},null,{"$f":"IF(H893=1,C893+E893/7,RANDBETWEEN(1,Worksheet!$D$6)+CHOOSE(Worksheet!$D$10,RANDBETWEEN(1,9)/10,RANDBETWEEN(1,99)/100,RANDBETWEEN(1,999)/1000,RANDBETWEEN(1,9999)/10000,RANDBETWEEN(1,99999)/100000))","v":20.571428571428573},"weeks"]
[{"$f":"IF(COUNTIF($B$1:B894,TRUE)=COUNTIF($B$1:B893,TRUE),\"\",COUNTIF($B$1:B894,TRUE))","v":""},{"$f":"Worksheet!$D$12","v":false},{"$f":"IF(H894=1,RANDBETWEEN(1,Worksheet!$D$6),INT(J894))","v":17},{"$f":"IF(C894=1,\"day\",\"days\")","v":"days"},{"$f":"IF(H894=1,RANDBETWEEN(1,23),(J894-INT(J894))*24)","v":19},"hours","=",{"$f":"IF(Worksheet!$D$7=1,1,IF(Worksheet!$D$7=2,2,RANDBETWEEN(1,2)))","v":1},null,{"$f":"IF(H894=1,C894+E894/24,RANDBETWEEN(1,Worksheet!$D$6)+CHOOSE(Worksheet!$D$10,RANDBETWEEN(1,9)/10,RANDBETWEEN(1,99)/100,RANDBETWEEN(1,999)/1000,RANDBETWEEN(1,9999)/10000,RANDBETWEEN(1,99999)/100000))","v":17.791666666666668},"days"]
[{"$f":"IF(COUNTIF($B$1:B895,TRUE)=COUNTIF($B$1:B894,TRUE),\"\",COUNTIF($B$1:B895,TRUE))","v":""},{"$f":"Worksheet!$D$13","v":false},{"$f":"IF(H895=1,RANDBETWEEN(1,Worksheet!$D$6),INT(J895))","v":9},{"$f":"IF(C895=1,\"year\",\"years\")","v":"years"},{"$f":"IF(H895=1,RANDBETWEEN(1,11),(J895-INT(J895))*12)","v":7},"months","=",{"$f":"IF(Worksheet!$D$7=1,1,IF(Worksheet!$D$7=2,2,RANDBETWEEN(1,2)))","v":1},null,{"$f":"IF(H895=1,C895+E895/12,RANDBETWEEN(1,Worksheet!$D$6)+CHOOSE(Worksheet!$D$10,RANDBETWEEN(1,9)/10,RANDBETWEEN(1,99)/100,RANDBETWEEN(1,999)/1000,RANDBETWEEN(1,9999)/10000,RANDBETWEEN(1,99999)/100000))","v":9.5833333333333339},"years"]
[{"$f":"COUNTIF($B$1:B896,TRUE)","v":359},{"$f":"Worksheet!$B$12","v":true},{"$f":"IF(H896=1,RANDBETWEEN(1,Worksheet!$D$6),INT(J896))","v":28},{"$f":"IF(C896=1,\"hour\",\"hours\")","v":"hours"},{"$f":"IF(H896=1,IF(Worksheet!$D$10=1,RANDBETWEEN(1,9)*6,IF(Worksheet!$D$10=2,RANDBETWEEN(1,19)*3,RANDBETWEEN(1,59))),(J896-INT(J896))*60)","v":53.999999999999915},"minutes","=",{"$f":"IF(Worksheet!$D$7=1,1,IF(Worksheet!$D$7=2,2,RANDBETWEEN(1,2)))","v":2},null,{"$f":"IF(H896=1,C896+E896/60,RANDBETWEEN(1,Worksheet!$D$6)+CHOOSE(Worksheet!$D$10,RANDBETWEEN(1,9)/10,RANDBETWEEN(1,99)/100,RANDBETWEEN(1,999)/1000,RANDBETWEEN(1,9999)/10000,RANDBETWEEN(1,99999)/100000))","v":28.9},"hours"]
[{"$f":"IF(COUNTIF($B$1:B897,TRUE)=COUNTIF($B$1:B896,TRUE),\"\",COUNTIF($B$1:B897,TRUE))","v":360},{"$f":"Worksheet!$B$13","v":true},{"$f":"IF(H897=1,RANDBETWEEN(1,Worksheet!$D$6),INT(J897))","v":9},{"$f":"IF(C897=1,\"minute\",\"minutes\")","v":"minutes"},{"$f":"IF(H897=1,IF(Worksheet!$D$10=1,RANDBETWEEN(1,9)*6,IF(Worksheet!$D$10=2,RANDBETWEEN(1,19)*3,RANDBETWEEN(1,59))),(J897-INT(J897))*60)","v":11.999999999999957},"seconds","=",{"$f":"IF(Worksheet!$D$7=1,1,IF(Worksheet!$D$7=2,2,RANDBETWEEN(1,2)))","v":2},null,{"$f":"IF(H897=1,C897+E897/60,RANDBETWEEN(1,Worksheet!$D$6)+CHOOSE(Worksheet!$D$10,RANDBETWEEN(1,9)/10,RANDBETWEEN(1,99)/100,RANDBETWEEN(1,999)/1000,RANDBETWEEN(1,9999)/10000,RANDBETWEEN(1,99999)/100000))","v":9.1999999999999993},"minutes"]
[{"$f":"IF(COUNTIF($B$1:B898,TRUE)=COUNTIF($B$1:B897,TRUE),\"\",COUNTIF($B$1:B898,TRUE))","v":""},{"$f":"Worksheet!$B$14","v":false},{"$f":"IF(H898=1,RANDBETWEEN(1,Worksheet!$D$6),INT(J898))","v":23},{"$f":"IF(C898=1,\"week\",\"weeks\")","v":"weeks"},{"$f":"IF(H898=1,RANDBETWEEN(1,6),(J898-INT(J898))*7)","v":4.2000000000000099},"days","=",{"$f":"IF(Worksheet!$D$7=1,1,IF(Worksheet!$D$7=2,2,RANDBETWEEN(1,2)))","v":2},null,{"$f":"IF(H898=1,C898+E898/7,RANDBETWEEN(1,Worksheet!$D$6)+CHOOSE(Worksheet!$D$10,RANDBETWEEN(1,9)/10,RANDBETWEEN(1,99)/100,RANDBETWEEN(1,999)/1000,RANDBETWEEN(1,9999)/10000,RANDBETWEEN(1,99999)/100000))","v":23.6},"weeks"]
[{"$f":"IF(COUNTIF($B$1:B899,TRUE)=COUNTIF($B$1:B898,TRUE),\"\",COUNTIF($B$1:B899,TRUE))","v":""},{"$f":"Worksheet!$D$12","v":false},{"$f":"IF(H899=1,RANDBETWEEN(1,Worksheet!$D$6),INT(J899))","v":26},{"$f":"IF(C899=1,\"day\",\"days\")","v":"days"},{"$f":"IF(H899=1,RANDBETWEEN(1,23),(J899-INT(J899))*24)","v":12},"hours","=",{"$f":"IF(Worksheet!$D$7=1,1,IF(Worksheet!$D$7=2,2,RANDBETWEEN(1,2)))","v":2},null,{"$f":"IF(H899=1,C899+E899/24,RANDBETWEEN(1,Worksheet!$D$6)+CHOOSE(Worksheet!$D$10,RANDBETWEEN(1,9)/10,RANDBETWEEN(1,99)/100,RANDBETWEEN(1,999)/1000,RANDBETWEEN(1,9999)/10000,RANDBETWEEN(1,99999)/100000))","v":26.5},"days"]
[{"$f":"IF(COUNTIF($B$1:B900,TRUE)=COUNTIF($B$1:B899,TRUE),\"\",COUNTIF($B$1:B900,TRUE))","v":""},{"$f":"Worksheet!$D$13","v":false},{"$f":"IF(H900=1,RANDBETWEEN(1,Worksheet!$D$6),INT(J900))","v":26},{"$f":"IF(C900=1,\"year\",\"years\")","v":"years"},{"$f":"IF(H900=1,RANDBETWEEN(1,11),(J900-INT(J900))*12)","v":1.2000000000000171},"months","=",{"$f":"IF(Worksheet!$D$7=1,1,IF(Worksheet!$D$7=2,2,RANDBETWEEN(1,2)))","v":2},null,{"$f":"IF(H900=1,C900+E900/12,RANDBETWEEN(1,Worksheet!$D$6)+CHOOSE(Worksheet!$D$10,RANDBETWEEN(1,9)/10,RANDBETWEEN(1,99)/100,RANDBETWEEN(1,999)/1000,RANDBETWEEN(1,9999)/10000,RANDBETWEEN(1,99999)/100000))","v":26.1},"years"]
[{"$f":"COUNTIF($B$1:B901,TRUE)","v":361},{"$f":"Worksheet!$B$12","v":true},{"$f":"IF(H901=1,RANDBETWEEN(1,Worksheet!$D$6),INT(J901))","v":4},{"$f":"IF(C901=1,\"hour\",\"hours\")","v":"hours"},{"$f":"IF(H901=1,IF(Worksheet!$D$10=1,RANDBETWEEN(1,9)*6,IF(Worksheet!$D$10=2,RANDBETWEEN(1,19)*3,RANDBETWEEN(1,59))),(J901-INT(J901))*60)","v":12},"minutes","=",{"$f":"IF(Worksheet!$D$7=1,1,IF(Worksheet!$D$7=2,2,RANDBETWEEN(1,2)))","v":1},null,{"$f":"IF(H901=1,C901+E901/60,RANDBETWEEN(1,Worksheet!$D$6)+CHOOSE(Worksheet!$D$10,RANDBETWEEN(1,9)/10,RANDBETWEEN(1,99)/100,RANDBETWEEN(1,999)/1000,RANDBETWEEN(1,9999)/10000,RANDBETWEEN(1,99999)/100000))","v":4.2},"hours"]
[{"$f":"IF(COUNTIF($B$1:B902,TRUE)=COUNTIF($B$1:B901,TRUE),\"\",COUNTIF($B$1:B902,TRUE))","v":362},{"$f":"Worksheet!$B$13","v":true},{"$f":"IF(H902=1,RANDBETWEEN(1,Worksheet!$D$6),INT(J902))","v":20},{"$f":"IF(C902=1,\"minute\",\"minutes\")","v":"minutes"},{"$f":"IF(H902=1,IF(Worksheet!$D$10=1,RANDBETWEEN(1,9)*6,IF(Worksheet!$D$10=2,RANDBETWEEN(1,19)*3,RANDBETWEEN(1,59))),(J902-INT(J902))*60)","v":41.999999999999957},"seconds","=",{"$f":"IF(Worksheet!$D$7=1,1,IF(Worksheet!$D$7=2,2,RANDBETWEEN(1,2)))","v":2},null,{"$f":"IF(H902=1,C902+E902/60,RANDBETWEEN(1,Worksheet!$D$6)+CHOOSE(Worksheet!$D$10,RANDBETWEEN(1,9)/10,RANDBETWEEN(1,99)/100,RANDBETWEEN(1,999)/1000,RANDBETWEEN(1,9999)/10000,RANDBETWEEN(1,99999)/100000))","v":20.7},"minutes"]
[{"$f":"IF(COUNTIF($B$1:B903,TRUE)=COUNTIF($B$1:B902,TRUE),\"\",COUNTIF($B$1:B903,TRUE))","v":""},{"$f":"Worksheet!$B$14","v":false},{"$f":"IF(H903=1,RANDBETWEEN(1,Worksheet!$D$6),INT(J903))","v":8},{"$f":"IF(C903=1,\"week\",\"weeks\")","v":"weeks"},{"$f":"IF(H903=1,RANDBETWEEN(1,6),(J903-INT(J903))*7)","v":0.69999999999999751},"days","=",{"$f":"IF(Worksheet!$D$7=1,1,IF(Worksheet!$D$7=2,2,RANDBETWEEN(1,2)))","v":2},null,{"$f":"IF(H903=1,C903+E903/7,RANDBETWEEN(1,Worksheet!$D$6)+CHOOSE(Worksheet!$D$10,RANDBETWEEN(1,9)/10,RANDBETWEEN(1,99)/100,RANDBETWEEN(1,999)/1000,RANDBETWEEN(1,9999)/10000,RANDBETWEEN(1,99999)/100000))","v":8.1},"weeks"]
[{"$f":"IF(COUNTIF($B$1:B904,TRUE)=COUNTIF($B$1:B903,TRUE),\"\",COUNTIF($B$1:B904,TRUE))","v":""},{"$f":"Worksheet!$D$12","v":false},{"$f":"IF(H904=1,RANDBETWEEN(1,Worksheet!$D$6),INT(J904))","v":16},{"$f":"IF(C904=1,\"day\",\"days\")","v":"days"},{"$f":"IF(H904=1,RANDBETWEEN(1,23),(J904-INT(J904))*24)","v":7.2000000000000171},"hours","=",{"$f":"IF(Worksheet!$D$7=1,1,IF(Worksheet!$D$7=2,2,RANDBETWEEN(1,2)))","v":2},null,{"$f":"IF(H904=1,C904+E904/24,RANDBETWEEN(1,Worksheet!$D$6)+CHOOSE(Worksheet!$D$10,RANDBETWEEN(1,9)/10,RANDBETWEEN(1,99)/100,RANDBETWEEN(1,999)/1000,RANDBETWEEN(1,9999)/10000,RANDBETWEEN(1,99999)/100000))","v":16.3},"days"]
[{"$f":"IF(COUNTIF($B$1:B905,TRUE)=COUNTIF($B$1:B904,TRUE),\"\",COUNTIF($B$1:B905,TRUE))","v":""},{"$f":"Worksheet!$D$13","v":false},{"$f":"IF(H905=1,RANDBETWEEN(1,Worksheet!$D$6),INT(J905))","v":1},{"$f":"IF(C905=1,\"year\",\"years\")","v":"year"},{"$f":"IF(H905=1,RANDBETWEEN(1,11),(J905-INT(J905))*12)","v":3},"months","=",{"$f":"IF(Worksheet!$D$7=1,1,IF(Worksheet!$D$7=2,2,RANDBETWEEN(1,2)))","v":1},null,{"$f":"IF(H905=1,C905+E905/12,RANDBETWEEN(1,Worksheet!$D$6)+CHOOSE(Worksheet!$D$10,RANDBETWEEN(1,9)/10,RANDBETWEEN(1,99)/100,RANDBETWEEN(1,999)/1000,RANDBETWEEN(1,9999)/10000,RANDBETWEEN(1,99999)/100000))","v":1.25},"year"]
[{"$f":"COUNTIF($B$1:B906,TRUE)","v":363},{"$f":"Worksheet!$B$12","v":true},{"$f":"IF(H906=1,RANDBETWEEN(1,Worksheet!$D$6),INT(J906))","v":23},{"$f":"IF(C906=1,\"hour\",\"hours\")","v":"hours"},{"$f":"IF(H906=1,IF(Worksheet!$D$10=1,RANDBETWEEN(1,9)*6,IF(Worksheet!$D$10=2,RANDBETWEEN(1,19)*3,RANDBETWEEN(1,59))),(J906-INT(J906))*60)","v":48.000000000000043},"minutes","=",{"$f":"IF(Worksheet!$D$7=1,1,IF(Worksheet!$D$7=2,2,RANDBETWEEN(1,2)))","v":2},null,{"$f":"IF(H906=1,C906+E906/60,RANDBETWEEN(1,Worksheet!$D$6)+CHOOSE(Worksheet!$D$10,RANDBETWEEN(1,9)/10,RANDBETWEEN(1,99)/100,RANDBETWEEN(1,999)/1000,RANDBETWEEN(1,9999)/10000,RANDBETWEEN(1,99999)/100000))","v":23.8},"hours"]
[{"$f":"IF(COUNTIF($B$1:B907,TRUE)=COUNTIF($B$1:B906,TRUE),\"\",COUNTIF($B$1:B907,TRUE))","v":364},{"$f":"Worksheet!$B$13","v":true},{"$f":"IF(H907=1,RANDBETWEEN(1,Worksheet!$D$6),INT(J907))","v":21},{"$f":"IF(C907=1,\"minute\",\"minutes\")","v":"minutes"},{"$f":"IF(H907=1,IF(Worksheet!$D$10=1,RANDBETWEEN(1,9)*6,IF(Worksheet!$D$10=2,RANDBETWEEN(1,19)*3,RANDBETWEEN(1,59))),(J907-INT(J907))*60)","v":48},"seconds","=",{"$f":"IF(Worksheet!$D$7=1,1,IF(Worksheet!$D$7=2,2,RANDBETWEEN(1,2)))","v":1},null,{"$f":"IF(H907=1,C907+E907/60,RANDBETWEEN(1,Worksheet!$D$6)+CHOOSE(Worksheet!$D$10,RANDBETWEEN(1,9)/10,RANDBETWEEN(1,99)/100,RANDBETWEEN(1,999)/1000,RANDBETWEEN(1,9999)/10000,RANDBETWEEN(1,99999)/100000))","v":21.8},"minutes"]
[{"$f":"IF(COUNTIF($B$1:B908,TRUE)=COUNTIF($B$1:B907,TRUE),\"\",COUNTIF($B$1:B908,TRUE))","v":""},{"$f":"Worksheet!$B$14","v":false},{"$f":"IF(H908=1,RANDBETWEEN(1,Worksheet!$D$6),INT(J908))","v":18},{"$f":"IF(C908=1,\"week\",\"weeks\")","v":"weeks"},{"$f":"IF(H908=1,RANDBETWEEN(1,6),(J908-INT(J908))*7)","v":6.2999999999999901},"days","=",{"$f":"IF(Worksheet!$D$7=1,1,IF(Worksheet!$D$7=2,2,RANDBETWEEN(1,2)))","v":2},null,{"$f":"IF(H908=1,C908+E908/7,RANDBETWEEN(1,Worksheet!$D$6)+CHOOSE(Worksheet!$D$10,RANDBETWEEN(1,9)/10,RANDBETWEEN(1,99)/100,RANDBETWEEN(1,999)/1000,RANDBETWEEN(1,9999)/10000,RANDBETWEEN(1,99999)/100000))","v":18.899999999999999},"weeks"]
[{"$f":"IF(COUNTIF($B$1:B909,TRUE)=COUNTIF($B$1:B908,TRUE),\"\",COUNTIF($B$1:B909,TRUE))","v":""},{"$f":"Worksheet!$D$12","v":false},{"$f":"IF(H909=1,RANDBETWEEN(1,Worksheet!$D$6),INT(J909))","v":7},{"$f":"IF(C909=1,\"day\",\"days\")","v":"days"},{"$f":"IF(H909=1,RANDBETWEEN(1,23),(J909-INT(J909))*24)","v":16.800000000000004},"hours","=",{"$f":"IF(Worksheet!$D$7=1,1,IF(Worksheet!$D$7=2,2,RANDBETWEEN(1,2)))","v":2},null,{"$f":"IF(H909=1,C909+E909/24,RANDBETWEEN(1,Worksheet!$D$6)+CHOOSE(Worksheet!$D$10,RANDBETWEEN(1,9)/10,RANDBETWEEN(1,99)/100,RANDBETWEEN(1,999)/1000,RANDBETWEEN(1,9999)/10000,RANDBETWEEN(1,99999)/100000))","v":7.7},"days"]
[{"$f":"IF(COUNTIF($B$1:B910,TRUE)=COUNTIF($B$1:B909,TRUE),\"\",COUNTIF($B$1:B910,TRUE))","v":""},{"$f":"Worksheet!$D$13","v":false},{"$f":"IF(H910=1,RANDBETWEEN(1,Worksheet!$D$6),INT(J910))","v":13},{"$f":"IF(C910=1,\"year\",\"years\")","v":"years"},{"$f":"IF(H910=1,RANDBETWEEN(1,11),(J910-INT(J910))*12)","v":6},"months","=",{"$f":"IF(Worksheet!$D$7=1,1,IF(Worksheet!$D$7=2,2,RANDBETWEEN(1,2)))","v":2},null,{"$f":"IF(H910=1,C910+E910/12,RANDBETWEEN(1,Worksheet!$D$6)+CHOOSE(Worksheet!$D$10,RANDBETWEEN(1,9)/10,RANDBETWEEN(1,99)/100,RANDBETWEEN(1,999)/1000,RANDBETWEEN(1,9999)/10000,RANDBETWEEN(1,99999)/100000))","v":13.5},"years"]
[{"$f":"COUNTIF($B$1:B911,TRUE)","v":365},{"$f":"Worksheet!$B$12","v":true},{"$f":"IF(H911=1,RANDBETWEEN(1,Worksheet!$D$6),INT(J911))","v":1},{"$f":"IF(C911=1,\"hour\",\"hours\")","v":"hour"},{"$f":"IF(H911=1,IF(Worksheet!$D$10=1,RANDBETWEEN(1,9)*6,IF(Worksheet!$D$10=2,RANDBETWEEN(1,19)*3,RANDBETWEEN(1,59))),(J911-INT(J911))*60)","v":48},"minutes","=",{"$f":"IF(Worksheet!$D$7=1,1,IF(Worksheet!$D$7=2,2,RANDBETWEEN(1,2)))","v":2},null,{"$f":"IF(H911=1,C911+E911/60,RANDBETWEEN(1,Worksheet!$D$6)+CHOOSE(Worksheet!$D$10,RANDBETWEEN(1,9)/10,RANDBETWEEN(1,99)/100,RANDBETWEEN(1,999)/1000,RANDBETWEEN(1,9999)/10000,RANDBETWEEN(1,99999)/100000))","v":1.8},"hour"]
[{"$f":"IF(COUNTIF($B$1:B912,TRUE)=COUNTIF($B$1:B911,TRUE),\"\",COUNTIF($B$1:B912,TRUE))","v":366},{"$f":"Worksheet!$B$13","v":true},{"$f":"IF(H912=1,RANDBETWEEN(1,Worksheet!$D$6),INT(J912))","v":11},{"$f":"IF(C912=1,\"minute\",\"minutes\")","v":"minutes"},{"$f":"IF(H912=1,IF(Worksheet!$D$10=1,RANDBETWEEN(1,9)*6,IF(Worksheet!$D$10=2,RANDBETWEEN(1,19)*3,RANDBETWEEN(1,59))),(J912-INT(J912))*60)","v":5.9999999999999787},"seconds","=",{"$f":"IF(Worksheet!$D$7=1,1,IF(Worksheet!$D$7=2,2,RANDBETWEEN(1,2)))","v":2},null,{"$f":"IF(H912=1,C912+E912/60,RANDBETWEEN(1,Worksheet!$D$6)+CHOOSE(Worksheet!$D$10,RANDBETWEEN(1,9)/10,RANDBETWEEN(1,99)/100,RANDBETWEEN(1,999)/1000,RANDBETWEEN(1,9999)/10000,RANDBETWEEN(1,99999)/100000))","v":11.1},"minutes"]
[{"$f":"IF(COUNTIF($B$1:B913,TRUE)=COUNTIF($B$1:B912,TRUE),\"\",COUNTIF($B$1:B913,TRUE))","v":""},{"$f":"Worksheet!$B$14","v":false},{"$f":"IF(H913=1,RANDBETWEEN(1,Worksheet!$D$6),INT(J913))","v":27},{"$f":"IF(C913=1,\"week\",\"weeks\")","v":"weeks"},{"$f":"IF(H913=1,RANDBETWEEN(1,6),(J913-INT(J913))*7)","v":2.100000000000005},"days","=",{"$f":"IF(Worksheet!$D$7=1,1,IF(Worksheet!$D$7=2,2,RANDBETWEEN(1,2)))","v":2},null,{"$f":"IF(H913=1,C913+E913/7,RANDBETWEEN(1,Worksheet!$D$6)+CHOOSE(Worksheet!$D$10,RANDBETWEEN(1,9)/10,RANDBETWEEN(1,99)/100,RANDBETWEEN(1,999)/1000,RANDBETWEEN(1,9999)/10000,RANDBETWEEN(1,99999)/100000))","v":27.3},"weeks"]
[{"$f":"IF(COUNTIF($B$1:B914,TRUE)=COUNTIF($B$1:B913,TRUE),\"\",COUNTIF($B$1:B914,TRUE))","v":""},{"$f":"Worksheet!$D$12","v":false},{"$f":"IF(H914=1,RANDBETWEEN(1,Worksheet!$D$6),INT(J914))","v":24},{"$f":"IF(C914=1,\"day\",\"days\")","v":"days"},{"$f":"IF(H914=1,RANDBETWEEN(1,23),(J914-INT(J914))*24)","v":12},"hours","=",{"$f":"IF(Worksheet!$D$7=1,1,IF(Worksheet!$D$7=2,2,RANDBETWEEN(1,2)))","v":2},null,{"$f":"IF(H914=1,C914+E914/24,RANDBETWEEN(1,Worksheet!$D$6)+CHOOSE(Worksheet!$D$10,RANDBETWEEN(1,9)/10,RANDBETWEEN(1,99)/100,RANDBETWEEN(1,999)/1000,RANDBETWEEN(1,9999)/10000,RANDBETWEEN(1,99999)/100000))","v":24.5},"days"]
[{"$f":"IF(COUNTIF($B$1:B915,TRUE)=COUNTIF($B$1:B914,TRUE),\"\",COUNTIF($B$1:B915,TRUE))","v":""},{"$f":"Worksheet!$D$13","v":false},{"$f":"IF(H915=1,RANDBETWEEN(1,Worksheet!$D$6),INT(J915))","v":26},{"$f":"IF(C915=1,\"year\",\"years\")","v":"years"},{"$f":"IF(H915=1,RANDBETWEEN(1,11),(J915-INT(J915))*12)","v":8.3999999999999915},"months","=",{"$f":"IF(Worksheet!$D$7=1,1,IF(Worksheet!$D$7=2,2,RANDBETWEEN(1,2)))","v":2},null,{"$f":"IF(H915=1,C915+E915/12,RANDBETWEEN(1,Worksheet!$D$6)+CHOOSE(Worksheet!$D$10,RANDBETWEEN(1,9)/10,RANDBETWEEN(1,99)/100,RANDBETWEEN(1,999)/1000,RANDBETWEEN(1,9999)/10000,RANDBETWEEN(1,99999)/100000))","v":26.7},"years"]
[{"$f":"COUNTIF($B$1:B916,TRUE)","v":367},{"$f":"Worksheet!$B$12","v":true},{"$f":"IF(H916=1,RANDBETWEEN(1,Worksheet!$D$6),INT(J916))","v":10},{"$f":"IF(C916=1,\"hour\",\"hours\")","v":"hours"},{"$f":"IF(H916=1,IF(Worksheet!$D$10=1,RANDBETWEEN(1,9)*6,IF(Worksheet!$D$10=2,RANDBETWEEN(1,19)*3,RANDBETWEEN(1,59))),(J916-INT(J916))*60)","v":41.999999999999957},"minutes","=",{"$f":"IF(Worksheet!$D$7=1,1,IF(Worksheet!$D$7=2,2,RANDBETWEEN(1,2)))","v":2},null,{"$f":"IF(H916=1,C916+E916/60,RANDBETWEEN(1,Worksheet!$D$6)+CHOOSE(Worksheet!$D$10,RANDBETWEEN(1,9)/10,RANDBETWEEN(1,99)/100,RANDBETWEEN(1,999)/1000,RANDBETWEEN(1,9999)/10000,RANDBETWEEN(1,99999)/100000))","v":10.7},"hours"]
[{"$f":"IF(COUNTIF($B$1:B917,TRUE)=COUNTIF($B$1:B916,TRUE),\"\",COUNTIF($B$1:B917,TRUE))","v":368},{"$f":"Worksheet!$B$13","v":true},{"$f":"IF(H917=1,RANDBETWEEN(1,Worksheet!$D$6),INT(J917))","v":26},{"$f":"IF(C917=1,\"minute\",\"minutes\")","v":"minutes"},{"$f":"IF(H917=1,IF(Worksheet!$D$10=1,RANDBETWEEN(1,9)*6,IF(Worksheet!$D$10=2,RANDBETWEEN(1,19)*3,RANDBETWEEN(1,59))),(J917-INT(J917))*60)","v":30},"seconds","=",{"$f":"IF(Worksheet!$D$7=1,1,IF(Worksheet!$D$7=2,2,RANDBETWEEN(1,2)))","v":1},null,{"$f":"IF(H917=1,C917+E917/60,RANDBETWEEN(1,Worksheet!$D$6)+CHOOSE(Worksheet!$D$10,RANDBETWEEN(1,9)/10,RANDBETWEEN(1,99)/100,RANDBETWEEN(1,999)/1000,RANDBETWEEN(1,9999)/10000,RANDBETWEEN(1,99999)/100000))","v":26.5},"minutes"]
[{"$f":"IF(COUNTIF($B$1:B918,TRUE)=COUNTIF($B$1:B917,TRUE),\"\",COUNTIF($B$1:B918,TRUE))","v":""},{"$f":"Worksheet!$B$14","v":false},{"$f":"IF(H918=1,RANDBETWEEN(1,Worksheet!$D$6),INT(J918))","v":7},{"$f":"IF(C918=1,\"week\",\"weeks\")","v":"weeks"},{"$f":"IF(H918=1,RANDBETWEEN(1,6),(J918-INT(J918))*7)","v":4.9000000000000012},"days","=",{"$f":"IF(Worksheet!$D$7=1,1,IF(Worksheet!$D$7=2,2,RANDBETWEEN(1,2)))","v":2},null,{"$f":"IF(H918=1,C918+E918/7,RANDBETWEEN(1,Worksheet!$D$6)+CHOOSE(Worksheet!$D$10,RANDBETWEEN(1,9)/10,RANDBETWEEN(1,99)/100,RANDBETWEEN(1,999)/1000,RANDBETWEEN(1,9999)/10000,RANDBETWEEN(1,99999)/100000))","v":7.7},"weeks"]
[{"$f":"IF(COUNTIF($B$1:B919,TRUE)=COUNTIF($B$1:B918,TRUE),\"\",COUNTIF($B$1:B919,TRUE))","v":""},{"$f":"Worksheet!$D$12","v":false},{"$f":"IF(H919=1,RANDBETWEEN(1,Worksheet!$D$6),INT(J919))","v":6},{"$f":"IF(C919=1,\"day\",\"days\")","v":"days"},{"$f":"IF(H919=1,RANDBETWEEN(1,23),(J919-INT(J919))*24)","v":17},"hours","=",{"$f":"IF(Worksheet!$D$7=1,1,IF(Worksheet!$D$7=2,2,RANDBETWEEN(1,2)))","v":1},null,{"$f":"IF(H919=1,C919+E919/24,RANDBETWEEN(1,Worksheet!$D$6)+CHOOSE(Worksheet!$D$10,RANDBETWEEN(1,9)/10,RANDBETWEEN(1,99)/100,RANDBETWEEN(1,999)/1000,RANDBETWEEN(1,9999)/10000,RANDBETWEEN(1,99999)/100000))","v":6.708333333333333},"days"]
[{"$f":"IF(COUNTIF($B$1:B920,TRUE)=COUNTIF($B$1:B919,TRUE),\"\",COUNTIF($B$1:B920,TRUE))","v":""},{"$f":"Worksheet!$D$13","v":false},{"$f":"IF(H920=1,RANDBETWEEN(1,Worksheet!$D$6),INT(J920))","v":11},{"$f":"IF(C920=1,\"year\",\"years\")","v":"years"},{"$f":"IF(H920=1,RANDBETWEEN(1,11),(J920-INT(J920))*12)","v":2.3999999999999915},"months","=",{"$f":"IF(Worksheet!$D$7=1,1,IF(Worksheet!$D$7=2,2,RANDBETWEEN(1,2)))","v":2},null,{"$f":"IF(H920=1,C920+E920/12,RANDBETWEEN(1,Worksheet!$D$6)+CHOOSE(Worksheet!$D$10,RANDBETWEEN(1,9)/10,RANDBETWEEN(1,99)/100,RANDBETWEEN(1,999)/1000,RANDBETWEEN(1,9999)/10000,RANDBETWEEN(1,99999)/100000))","v":11.2},"years"]
[{"$f":"COUNTIF($B$1:B921,TRUE)","v":369},{"$f":"Worksheet!$B$12","v":true},{"$f":"IF(H921=1,RANDBETWEEN(1,Worksheet!$D$6),INT(J921))","v":20},{"$f":"IF(C921=1,\"hour\",\"hours\")","v":"hours"},{"$f":"IF(H921=1,IF(Worksheet!$D$10=1,RANDBETWEEN(1,9)*6,IF(Worksheet!$D$10=2,RANDBETWEEN(1,19)*3,RANDBETWEEN(1,59))),(J921-INT(J921))*60)","v":42},"minutes","=",{"$f":"IF(Worksheet!$D$7=1,1,IF(Worksheet!$D$7=2,2,RANDBETWEEN(1,2)))","v":1},null,{"$f":"IF(H921=1,C921+E921/60,RANDBETWEEN(1,Worksheet!$D$6)+CHOOSE(Worksheet!$D$10,RANDBETWEEN(1,9)/10,RANDBETWEEN(1,99)/100,RANDBETWEEN(1,999)/1000,RANDBETWEEN(1,9999)/10000,RANDBETWEEN(1,99999)/100000))","v":20.7},"hours"]
[{"$f":"IF(COUNTIF($B$1:B922,TRUE)=COUNTIF($B$1:B921,TRUE),\"\",COUNTIF($B$1:B922,TRUE))","v":370},{"$f":"Worksheet!$B$13","v":true},{"$f":"IF(H922=1,RANDBETWEEN(1,Worksheet!$D$6),INT(J922))","v":11},{"$f":"IF(C922=1,\"minute\",\"minutes\")","v":"minutes"},{"$f":"IF(H922=1,IF(Worksheet!$D$10=1,RANDBETWEEN(1,9)*6,IF(Worksheet!$D$10=2,RANDBETWEEN(1,19)*3,RANDBETWEEN(1,59))),(J922-INT(J922))*60)","v":54},"seconds","=",{"$f":"IF(Worksheet!$D$7=1,1,IF(Worksheet!$D$7=2,2,RANDBETWEEN(1,2)))","v":1},null,{"$f":"IF(H922=1,C922+E922/60,RANDBETWEEN(1,Worksheet!$D$6)+CHOOSE(Worksheet!$D$10,RANDBETWEEN(1,9)/10,RANDBETWEEN(1,99)/100,RANDBETWEEN(1,999)/1000,RANDBETWEEN(1,9999)/10000,RANDBETWEEN(1,99999)/100000))","v":11.9},"minutes"]
[{"$f":"IF(COUNTIF($B$1:B923,TRUE)=COUNTIF($B$1:B922,TRUE),\"\",COUNTIF($B$1:B923,TRUE))","v":""},{"$f":"Worksheet!$B$14","v":false},{"$f":"IF(H923=1,RANDBETWEEN(1,Worksheet!$D$6),INT(J923))","v":7},{"$f":"IF(C923=1,\"week\",\"weeks\")","v":"weeks"},{"$f":"IF(H923=1,RANDBETWEEN(1,6),(J923-INT(J923))*7)","v":2.8000000000000025},"days","=",{"$f":"IF(Worksheet!$D$7=1,1,IF(Worksheet!$D$7=2,2,RANDBETWEEN(1,2)))","v":2},null,{"$f":"IF(H923=1,C923+E923/7,RANDBETWEEN(1,Worksheet!$D$6)+CHOOSE(Worksheet!$D$10,RANDBETWEEN(1,9)/10,RANDBETWEEN(1,99)/100,RANDBETWEEN(1,999)/1000,RANDBETWEEN(1,9999)/10000,RANDBETWEEN(1,99999)/100000))","v":7.4},"weeks"]
[{"$f":"IF(COUNTIF($B$1:B924,TRUE)=COUNTIF($B$1:B923,TRUE),\"\",COUNTIF($B$1:B924,TRUE))","v":""},{"$f":"Worksheet!$D$12","v":false},{"$f":"IF(H924=1,RANDBETWEEN(1,Worksheet!$D$6),INT(J924))","v":19},{"$f":"IF(C924=1,\"day\",\"days\")","v":"days"},{"$f":"IF(H924=1,RANDBETWEEN(1,23),(J924-INT(J924))*24)","v":19.200000000000017},"hours","=",{"$f":"IF(Worksheet!$D$7=1,1,IF(Worksheet!$D$7=2,2,RANDBETWEEN(1,2)))","v":2},null,{"$f":"IF(H924=1,C924+E924/24,RANDBETWEEN(1,Worksheet!$D$6)+CHOOSE(Worksheet!$D$10,RANDBETWEEN(1,9)/10,RANDBETWEEN(1,99)/100,RANDBETWEEN(1,999)/1000,RANDBETWEEN(1,9999)/10000,RANDBETWEEN(1,99999)/100000))","v":19.8},"days"]
[{"$f":"IF(COUNTIF($B$1:B925,TRUE)=COUNTIF($B$1:B924,TRUE),\"\",COUNTIF($B$1:B925,TRUE))","v":""},{"$f":"Worksheet!$D$13","v":false},{"$f":"IF(H925=1,RANDBETWEEN(1,Worksheet!$D$6),INT(J925))","v":17},{"$f":"IF(C925=1,\"year\",\"years\")","v":"years"},{"$f":"IF(H925=1,RANDBETWEEN(1,11),(J925-INT(J925))*12)","v":9.6000000000000085},"months","=",{"$f":"IF(Worksheet!$D$7=1,1,IF(Worksheet!$D$7=2,2,RANDBETWEEN(1,2)))","v":2},null,{"$f":"IF(H925=1,C925+E925/12,RANDBETWEEN(1,Worksheet!$D$6)+CHOOSE(Worksheet!$D$10,RANDBETWEEN(1,9)/10,RANDBETWEEN(1,99)/100,RANDBETWEEN(1,999)/1000,RANDBETWEEN(1,9999)/10000,RANDBETWEEN(1,99999)/100000))","v":17.8},"years"]
[{"$f":"COUNTIF($B$1:B926,TRUE)","v":371},{"$f":"Worksheet!$B$12","v":true},{"$f":"IF(H926=1,RANDBETWEEN(1,Worksheet!$D$6),INT(J926))","v":19},{"$f":"IF(C926=1,\"hour\",\"hours\")","v":"hours"},{"$f":"IF(H926=1,IF(Worksheet!$D$10=1,RANDBETWEEN(1,9)*6,IF(Worksheet!$D$10=2,RANDBETWEEN(1,19)*3,RANDBETWEEN(1,59))),(J926-INT(J926))*60)","v":41.999999999999957},"minutes","=",{"$f":"IF(Worksheet!$D$7=1,1,IF(Worksheet!$D$7=2,2,RANDBETWEEN(1,2)))","v":2},null,{"$f":"IF(H926=1,C926+E926/60,RANDBETWEEN(1,Worksheet!$D$6)+CHOOSE(Worksheet!$D$10,RANDBETWEEN(1,9)/10,RANDBETWEEN(1,99)/100,RANDBETWEEN(1,999)/1000,RANDBETWEEN(1,9999)/10000,RANDBETWEEN(1,99999)/100000))","v":19.7},"hours"]
[{"$f":"IF(COUNTIF($B$1:B927,TRUE)=COUNTIF($B$1:B926,TRUE),\"\",COUNTIF($B$1:B927,TRUE))","v":372},{"$f":"Worksheet!$B$13","v":true},{"$f":"IF(H927=1,RANDBETWEEN(1,Worksheet!$D$6),INT(J927))","v":4},{"$f":"IF(C927=1,\"minute\",\"minutes\")","v":"minutes"},{"$f":"IF(H927=1,IF(Worksheet!$D$10=1,RANDBETWEEN(1,9)*6,IF(Worksheet!$D$10=2,RANDBETWEEN(1,19)*3,RANDBETWEEN(1,59))),(J927-INT(J927))*60)","v":42},"seconds","=",{"$f":"IF(Worksheet!$D$7=1,1,IF(Worksheet!$D$7=2,2,RANDBETWEEN(1,2)))","v":1},null,{"$f":"IF(H927=1,C927+E927/60,RANDBETWEEN(1,Worksheet!$D$6)+CHOOSE(Worksheet!$D$10,RANDBETWEEN(1,9)/10,RANDBETWEEN(1,99)/100,RANDBETWEEN(1,999)/1000,RANDBETWEEN(1,9999)/10000,RANDBETWEEN(1,99999)/100000))","v":4.7},{"$f":"D927","v":"minutes"}]
[{"$f":"IF(COUNTIF($B$1:B928,TRUE)=COUNTIF($B$1:B927,TRUE),\"\",COUNTIF($B$1:B928,TRUE))","v":""},{"$f":"Worksheet!$B$14","v":false},{"$f":"IF(H928=1,RANDBETWEEN(1,Worksheet!$D$6),INT(J928))","v":5},{"$f":"IF(C928=1,\"week\",\"weeks\")","v":"weeks"},{"$f":"IF(H928=1,RANDBETWEEN(1,6),(J928-INT(J928))*7)","v":6},"days","=",{"$f":"IF(Worksheet!$D$7=1,1,IF(Worksheet!$D$7=2,2,RANDBETWEEN(1,2)))","v":1},null,{"$f":"IF(H928=1,C928+E928/7,RANDBETWEEN(1,Worksheet!$D$6)+CHOOSE(Worksheet!$D$10,RANDBETWEEN(1,9)/10,RANDBETWEEN(1,99)/100,RANDBETWEEN(1,999)/1000,RANDBETWEEN(1,9999)/10000,RANDBETWEEN(1,99999)/100000))","v":5.8571428571428568},"weeks"]
[{"$f":"IF(COUNTIF($B$1:B929,TRUE)=COUNTIF($B$1:B928,TRUE),\"\",COUNTIF($B$1:B929,TRUE))","v":""},{"$f":"Worksheet!$D$12","v":false},{"$f":"IF(H929=1,RANDBETWEEN(1,Worksheet!$D$6),INT(J929))","v":24},{"$f":"IF(C929=1,\"day\",\"days\")","v":"days"},{"$f":"IF(H929=1,RANDBETWEEN(1,23),(J929-INT(J929))*24)","v":4.7999999999999829},"hours","=",{"$f":"IF(Worksheet!$D$7=1,1,IF(Worksheet!$D$7=2,2,RANDBETWEEN(1,2)))","v":2},null,{"$f":"IF(H929=1,C929+E929/24,RANDBETWEEN(1,Worksheet!$D$6)+CHOOSE(Worksheet!$D$10,RANDBETWEEN(1,9)/10,RANDBETWEEN(1,99)/100,RANDBETWEEN(1,999)/1000,RANDBETWEEN(1,9999)/10000,RANDBETWEEN(1,99999)/100000))","v":24.2},"days"]
[{"$f":"IF(COUNTIF($B$1:B930,TRUE)=COUNTIF($B$1:B929,TRUE),\"\",COUNTIF($B$1:B930,TRUE))","v":""},{"$f":"Worksheet!$D$13","v":false},{"$f":"IF(H930=1,RANDBETWEEN(1,Worksheet!$D$6),INT(J930))","v":3},{"$f":"IF(C930=1,\"year\",\"years\")","v":"years"},{"$f":"IF(H930=1,RANDBETWEEN(1,11),(J930-INT(J930))*12)","v":11},"months","=",{"$f":"IF(Worksheet!$D$7=1,1,IF(Worksheet!$D$7=2,2,RANDBETWEEN(1,2)))","v":1},null,{"$f":"IF(H930=1,C930+E930/12,RANDBETWEEN(1,Worksheet!$D$6)+CHOOSE(Worksheet!$D$10,RANDBETWEEN(1,9)/10,RANDBETWEEN(1,99)/100,RANDBETWEEN(1,999)/1000,RANDBETWEEN(1,9999)/10000,RANDBETWEEN(1,99999)/100000))","v":3.9166666666666665},"years"]
[{"$f":"COUNTIF($B$1:B931,TRUE)","v":373},{"$f":"Worksheet!$B$12","v":true},{"$f":"IF(H931=1,RANDBETWEEN(1,Worksheet!$D$6),INT(J931))","v":6},{"$f":"IF(C931=1,\"hour\",\"hours\")","v":"hours"},{"$f":"IF(H931=1,IF(Worksheet!$D$10=1,RANDBETWEEN(1,9)*6,IF(Worksheet!$D$10=2,RANDBETWEEN(1,19)*3,RANDBETWEEN(1,59))),(J931-INT(J931))*60)","v":24.000000000000021},"minutes","=",{"$f":"IF(Worksheet!$D$7=1,1,IF(Worksheet!$D$7=2,2,RANDBETWEEN(1,2)))","v":2},null,{"$f":"IF(H931=1,C931+E931/60,RANDBETWEEN(1,Worksheet!$D$6)+CHOOSE(Worksheet!$D$10,RANDBETWEEN(1,9)/10,RANDBETWEEN(1,99)/100,RANDBETWEEN(1,999)/1000,RANDBETWEEN(1,9999)/10000,RANDBETWEEN(1,99999)/100000))","v":6.4},"hours"]
[{"$f":"IF(COUNTIF($B$1:B932,TRUE)=COUNTIF($B$1:B931,TRUE),\"\",COUNTIF($B$1:B932,TRUE))","v":374},{"$f":"Worksheet!$B$13","v":true},{"$f":"IF(H932=1,RANDBETWEEN(1,Worksheet!$D$6),INT(J932))","v":10},{"$f":"IF(C932=1,\"minute\",\"minutes\")","v":"minutes"},{"$f":"IF(H932=1,IF(Worksheet!$D$10=1,RANDBETWEEN(1,9)*6,IF(Worksheet!$D$10=2,RANDBETWEEN(1,19)*3,RANDBETWEEN(1,59))),(J932-INT(J932))*60)","v":24},"seconds","=",{"$f":"IF(Worksheet!$D$7=1,1,IF(Worksheet!$D$7=2,2,RANDBETWEEN(1,2)))","v":1},null,{"$f":"IF(H932=1,C932+E932/60,RANDBETWEEN(1,Worksheet!$D$6)+CHOOSE(Worksheet!$D$10,RANDBETWEEN(1,9)/10,RANDBETWEEN(1,99)/100,RANDBETWEEN(1,999)/1000,RANDBETWEEN(1,9999)/10000,RANDBETWEEN(1,99999)/100000))","v":10.4},"minutes"]
[{"$f":"IF(COUNTIF($B$1:B933,TRUE)=COUNTIF($B$1:B932,TRUE),\"\",COUNTIF($B$1:B933,TRUE))","v":""},{"$f":"Worksheet!$B$14","v":false},{"$f":"IF(H933=1,RANDBETWEEN(1,Worksheet!$D$6),INT(J933))","v":5},{"$f":"IF(C933=1,\"week\",\"weeks\")","v":"weeks"},{"$f":"IF(H933=1,RANDBETWEEN(1,6),(J933-INT(J933))*7)","v":2.8000000000000025},"days","=",{"$f":"IF(Worksheet!$D$7=1,1,IF(Worksheet!$D$7=2,2,RANDBETWEEN(1,2)))","v":2},null,{"$f":"IF(H933=1,C933+E933/7,RANDBETWEEN(1,Worksheet!$D$6)+CHOOSE(Worksheet!$D$10,RANDBETWEEN(1,9)/10,RANDBETWEEN(1,99)/100,RANDBETWEEN(1,999)/1000,RANDBETWEEN(1,9999)/10000,RANDBETWEEN(1,99999)/100000))","v":5.4},"weeks"]
[{"$f":"IF(COUNTIF($B$1:B934,TRUE)=COUNTIF($B$1:B933,TRUE),\"\",COUNTIF($B$1:B934,TRUE))","v":""},{"$f":"Worksheet!$D$12","v":false},{"$f":"IF(H934=1,RANDBETWEEN(1,Worksheet!$D$6),INT(J934))","v":24},{"$f":"IF(C934=1,\"day\",\"days\")","v":"days"},{"$f":"IF(H934=1,RANDBETWEEN(1,23),(J934-INT(J934))*24)","v":19.200000000000017},"hours","=",{"$f":"IF(Worksheet!$D$7=1,1,IF(Worksheet!$D$7=2,2,RANDBETWEEN(1,2)))","v":2},null,{"$f":"IF(H934=1,C934+E934/24,RANDBETWEEN(1,Worksheet!$D$6)+CHOOSE(Worksheet!$D$10,RANDBETWEEN(1,9)/10,RANDBETWEEN(1,99)/100,RANDBETWEEN(1,999)/1000,RANDBETWEEN(1,9999)/10000,RANDBETWEEN(1,99999)/100000))","v":24.8},"days"]
[{"$f":"IF(COUNTIF($B$1:B935,TRUE)=COUNTIF($B$1:B934,TRUE),\"\",COUNTIF($B$1:B935,TRUE))","v":""},{"$f":"Worksheet!$D$13","v":false},{"$f":"IF(H935=1,RANDBETWEEN(1,Worksheet!$D$6),INT(J935))","v":25},{"$f":"IF(C935=1,\"year\",\"years\")","v":"years"},{"$f":"IF(H935=1,RANDBETWEEN(1,11),(J935-INT(J935))*12)","v":1.2000000000000171},"months","=",{"$f":"IF(Worksheet!$D$7=1,1,IF(Worksheet!$D$7=2,2,RANDBETWEEN(1,2)))","v":2},null,{"$f":"IF(H935=1,C935+E935/12,RANDBETWEEN(1,Worksheet!$D$6)+CHOOSE(Worksheet!$D$10,RANDBETWEEN(1,9)/10,RANDBETWEEN(1,99)/100,RANDBETWEEN(1,999)/1000,RANDBETWEEN(1,9999)/10000,RANDBETWEEN(1,99999)/100000))","v":25.1},"years"]
[{"$f":"COUNTIF($B$1:B936,TRUE)","v":375},{"$f":"Worksheet!$B$12","v":true},{"$f":"IF(H936=1,RANDBETWEEN(1,Worksheet!$D$6),INT(J936))","v":24},{"$f":"IF(C936=1,\"hour\",\"hours\")","v":"hours"},{"$f":"IF(H936=1,IF(Worksheet!$D$10=1,RANDBETWEEN(1,9)*6,IF(Worksheet!$D$10=2,RANDBETWEEN(1,19)*3,RANDBETWEEN(1,59))),(J936-INT(J936))*60)","v":48},"minutes","=",{"$f":"IF(Worksheet!$D$7=1,1,IF(Worksheet!$D$7=2,2,RANDBETWEEN(1,2)))","v":1},null,{"$f":"IF(H936=1,C936+E936/60,RANDBETWEEN(1,Worksheet!$D$6)+CHOOSE(Worksheet!$D$10,RANDBETWEEN(1,9)/10,RANDBETWEEN(1,99)/100,RANDBETWEEN(1,999)/1000,RANDBETWEEN(1,9999)/10000,RANDBETWEEN(1,99999)/100000))","v":24.8},"hours"]
[{"$f":"IF(COUNTIF($B$1:B937,TRUE)=COUNTIF($B$1:B936,TRUE),\"\",COUNTIF($B$1:B937,TRUE))","v":376},{"$f":"Worksheet!$B$13","v":true},{"$f":"IF(H937=1,RANDBETWEEN(1,Worksheet!$D$6),INT(J937))","v":3},{"$f":"IF(C937=1,\"minute\",\"minutes\")","v":"minutes"},{"$f":"IF(H937=1,IF(Worksheet!$D$10=1,RANDBETWEEN(1,9)*6,IF(Worksheet!$D$10=2,RANDBETWEEN(1,19)*3,RANDBETWEEN(1,59))),(J937-INT(J937))*60)","v":53.999999999999993},"seconds","=",{"$f":"IF(Worksheet!$D$7=1,1,IF(Worksheet!$D$7=2,2,RANDBETWEEN(1,2)))","v":2},null,{"$f":"IF(H937=1,C937+E937/60,RANDBETWEEN(1,Worksheet!$D$6)+CHOOSE(Worksheet!$D$10,RANDBETWEEN(1,9)/10,RANDBETWEEN(1,99)/100,RANDBETWEEN(1,999)/1000,RANDBETWEEN(1,9999)/10000,RANDBETWEEN(1,99999)/100000))","v":3.9},"minutes"]
[{"$f":"IF(COUNTIF($B$1:B938,TRUE)=COUNTIF($B$1:B937,TRUE),\"\",COUNTIF($B$1:B938,TRUE))","v":""},{"$f":"Worksheet!$B$14","v":false},{"$f":"IF(H938=1,RANDBETWEEN(1,Worksheet!$D$6),INT(J938))","v":30},{"$f":"IF(C938=1,\"week\",\"weeks\")","v":"weeks"},{"$f":"IF(H938=1,RANDBETWEEN(1,6),(J938-INT(J938))*7)","v":2.100000000000005},"days","=",{"$f":"IF(Worksheet!$D$7=1,1,IF(Worksheet!$D$7=2,2,RANDBETWEEN(1,2)))","v":2},null,{"$f":"IF(H938=1,C938+E938/7,RANDBETWEEN(1,Worksheet!$D$6)+CHOOSE(Worksheet!$D$10,RANDBETWEEN(1,9)/10,RANDBETWEEN(1,99)/100,RANDBETWEEN(1,999)/1000,RANDBETWEEN(1,9999)/10000,RANDBETWEEN(1,99999)/100000))","v":30.3},"weeks"]
[{"$f":"IF(COUNTIF($B$1:B939,TRUE)=COUNTIF($B$1:B938,TRUE),\"\",COUNTIF($B$1:B939,TRUE))","v":""},{"$f":"Worksheet!$D$12","v":false},{"$f":"IF(H939=1,RANDBETWEEN(1,Worksheet!$D$6),INT(J939))","v":2},{"$f":"IF(C939=1,\"day\",\"days\")","v":"days"},{"$f":"IF(H939=1,RANDBETWEEN(1,23),(J939-INT(J939))*24)","v":3},"hours","=",{"$f":"IF(Worksheet!$D$7=1,1,IF(Worksheet!$D$7=2,2,RANDBETWEEN(1,2)))","v":1},null,{"$f":"IF(H939=1,C939+E939/24,RANDBETWEEN(1,Worksheet!$D$6)+CHOOSE(Worksheet!$D$10,RANDBETWEEN(1,9)/10,RANDBETWEEN(1,99)/100,RANDBETWEEN(1,999)/1000,RANDBETWEEN(1,9999)/10000,RANDBETWEEN(1,99999)/100000))","v":2.125},"days"]
[{"$f":"IF(COUNTIF($B$1:B940,TRUE)=COUNTIF($B$1:B939,TRUE),\"\",COUNTIF($B$1:B940,TRUE))","v":""},{"$f":"Worksheet!$D$13","v":false},{"$f":"IF(H940=1,RANDBETWEEN(1,Worksheet!$D$6),INT(J940))","v":16},{"$f":"IF(C940=1,\"year\",\"years\")","v":"years"},{"$f":"IF(H940=1,RANDBETWEEN(1,11),(J940-INT(J940))*12)","v":7},"months","=",{"$f":"IF(Worksheet!$D$7=1,1,IF(Worksheet!$D$7=2,2,RANDBETWEEN(1,2)))","v":1},null,{"$f":"IF(H940=1,C940+E940/12,RANDBETWEEN(1,Worksheet!$D$6)+CHOOSE(Worksheet!$D$10,RANDBETWEEN(1,9)/10,RANDBETWEEN(1,99)/100,RANDBETWEEN(1,999)/1000,RANDBETWEEN(1,9999)/10000,RANDBETWEEN(1,99999)/100000))","v":16.583333333333332},"years"]
[{"$f":"COUNTIF($B$1:B941,TRUE)","v":377},{"$f":"Worksheet!$B$12","v":true},{"$f":"IF(H941=1,RANDBETWEEN(1,Worksheet!$D$6),INT(J941))","v":1},{"$f":"IF(C941=1,\"hour\",\"hours\")","v":"hour"},{"$f":"IF(H941=1,IF(Worksheet!$D$10=1,RANDBETWEEN(1,9)*6,IF(Worksheet!$D$10=2,RANDBETWEEN(1,19)*3,RANDBETWEEN(1,59))),(J941-INT(J941))*60)","v":24},"minutes","=",{"$f":"IF(Worksheet!$D$7=1,1,IF(Worksheet!$D$7=2,2,RANDBETWEEN(1,2)))","v":1},null,{"$f":"IF(H941=1,C941+E941/60,RANDBETWEEN(1,Worksheet!$D$6)+CHOOSE(Worksheet!$D$10,RANDBETWEEN(1,9)/10,RANDBETWEEN(1,99)/100,RANDBETWEEN(1,999)/1000,RANDBETWEEN(1,9999)/10000,RANDBETWEEN(1,99999)/100000))","v":1.4},"hour"]
[{"$f":"IF(COUNTIF($B$1:B942,TRUE)=COUNTIF($B$1:B941,TRUE),\"\",COUNTIF($B$1:B942,TRUE))","v":378},{"$f":"Worksheet!$B$13","v":true},{"$f":"IF(H942=1,RANDBETWEEN(1,Worksheet!$D$6),INT(J942))","v":28},{"$f":"IF(C942=1,\"minute\",\"minutes\")","v":"minutes"},{"$f":"IF(H942=1,IF(Worksheet!$D$10=1,RANDBETWEEN(1,9)*6,IF(Worksheet!$D$10=2,RANDBETWEEN(1,19)*3,RANDBETWEEN(1,59))),(J942-INT(J942))*60)","v":18.000000000000043},"seconds","=",{"$f":"IF(Worksheet!$D$7=1,1,IF(Worksheet!$D$7=2,2,RANDBETWEEN(1,2)))","v":2},null,{"$f":"IF(H942=1,C942+E942/60,RANDBETWEEN(1,Worksheet!$D$6)+CHOOSE(Worksheet!$D$10,RANDBETWEEN(1,9)/10,RANDBETWEEN(1,99)/100,RANDBETWEEN(1,999)/1000,RANDBETWEEN(1,9999)/10000,RANDBETWEEN(1,99999)/100000))","v":28.3},"minutes"]
[{"$f":"IF(COUNTIF($B$1:B943,TRUE)=COUNTIF($B$1:B942,TRUE),\"\",COUNTIF($B$1:B943,TRUE))","v":""},{"$f":"Worksheet!$B$14","v":false},{"$f":"IF(H943=1,RANDBETWEEN(1,Worksheet!$D$6),INT(J943))","v":15},{"$f":"IF(C943=1,\"week\",\"weeks\")","v":"weeks"},{"$f":"IF(H943=1,RANDBETWEEN(1,6),(J943-INT(J943))*7)","v":4.1999999999999975},"days","=",{"$f":"IF(Worksheet!$D$7=1,1,IF(Worksheet!$D$7=2,2,RANDBETWEEN(1,2)))","v":2},null,{"$f":"IF(H943=1,C943+E943/7,RANDBETWEEN(1,Worksheet!$D$6)+CHOOSE(Worksheet!$D$10,RANDBETWEEN(1,9)/10,RANDBETWEEN(1,99)/100,RANDBETWEEN(1,999)/1000,RANDBETWEEN(1,9999)/10000,RANDBETWEEN(1,99999)/100000))","v":15.6},"weeks"]
[{"$f":"IF(COUNTIF($B$1:B944,TRUE)=COUNTIF($B$1:B943,TRUE),\"\",COUNTIF($B$1:B944,TRUE))","v":""},{"$f":"Worksheet!$D$12","v":false},{"$f":"IF(H944=1,RANDBETWEEN(1,Worksheet!$D$6),INT(J944))","v":21},{"$f":"IF(C944=1,\"day\",\"days\")","v":"days"},{"$f":"IF(H944=1,RANDBETWEEN(1,23),(J944-INT(J944))*24)","v":2.4000000000000341},"hours","=",{"$f":"IF(Worksheet!$D$7=1,1,IF(Worksheet!$D$7=2,2,RANDBETWEEN(1,2)))","v":2},null,{"$f":"IF(H944=1,C944+E944/24,RANDBETWEEN(1,Worksheet!$D$6)+CHOOSE(Worksheet!$D$10,RANDBETWEEN(1,9)/10,RANDBETWEEN(1,99)/100,RANDBETWEEN(1,999)/1000,RANDBETWEEN(1,9999)/10000,RANDBETWEEN(1,99999)/100000))","v":21.1},"days"]
[{"$f":"IF(COUNTIF($B$1:B945,TRUE)=COUNTIF($B$1:B944,TRUE),\"\",COUNTIF($B$1:B945,TRUE))","v":""},{"$f":"Worksheet!$D$13","v":false},{"$f":"IF(H945=1,RANDBETWEEN(1,Worksheet!$D$6),INT(J945))","v":11},{"$f":"IF(C945=1,\"year\",\"years\")","v":"years"},{"$f":"IF(H945=1,RANDBETWEEN(1,11),(J945-INT(J945))*12)","v":10.800000000000004},"months","=",{"$f":"IF(Worksheet!$D$7=1,1,IF(Worksheet!$D$7=2,2,RANDBETWEEN(1,2)))","v":2},null,{"$f":"IF(H945=1,C945+E945/12,RANDBETWEEN(1,Worksheet!$D$6)+CHOOSE(Worksheet!$D$10,RANDBETWEEN(1,9)/10,RANDBETWEEN(1,99)/100,RANDBETWEEN(1,999)/1000,RANDBETWEEN(1,9999)/10000,RANDBETWEEN(1,99999)/100000))","v":11.9},"years"]
[{"$f":"COUNTIF($B$1:B946,TRUE)","v":379},{"$f":"Worksheet!$B$12","v":true},{"$f":"IF(H946=1,RANDBETWEEN(1,Worksheet!$D$6),INT(J946))","v":12},{"$f":"IF(C946=1,\"hour\",\"hours\")","v":"hours"},{"$f":"IF(H946=1,IF(Worksheet!$D$10=1,RANDBETWEEN(1,9)*6,IF(Worksheet!$D$10=2,RANDBETWEEN(1,19)*3,RANDBETWEEN(1,59))),(J946-INT(J946))*60)","v":12},"minutes","=",{"$f":"IF(Worksheet!$D$7=1,1,IF(Worksheet!$D$7=2,2,RANDBETWEEN(1,2)))","v":1},null,{"$f":"IF(H946=1,C946+E946/60,RANDBETWEEN(1,Worksheet!$D$6)+CHOOSE(Worksheet!$D$10,RANDBETWEEN(1,9)/10,RANDBETWEEN(1,99)/100,RANDBETWEEN(1,999)/1000,RANDBETWEEN(1,9999)/10000,RANDBETWEEN(1,99999)/100000))","v":12.2},"hours"]
[{"$f":"IF(COUNTIF($B$1:B947,TRUE)=COUNTIF($B$1:B946,TRUE),\"\",COUNTIF($B$1:B947,TRUE))","v":380},{"$f":"Worksheet!$B$13","v":true},{"$f":"IF(H947=1,RANDBETWEEN(1,Worksheet!$D$6),INT(J947))","v":21},{"$f":"IF(C947=1,\"minute\",\"minutes\")","v":"minutes"},{"$f":"IF(H947=1,IF(Worksheet!$D$10=1,RANDBETWEEN(1,9)*6,IF(Worksheet!$D$10=2,RANDBETWEEN(1,19)*3,RANDBETWEEN(1,59))),(J947-INT(J947))*60)","v":24},"seconds","=",{"$f":"IF(Worksheet!$D$7=1,1,IF(Worksheet!$D$7=2,2,RANDBETWEEN(1,2)))","v":1},null,{"$f":"IF(H947=1,C947+E947/60,RANDBETWEEN(1,Worksheet!$D$6)+CHOOSE(Worksheet!$D$10,RANDBETWEEN(1,9)/10,RANDBETWEEN(1,99)/100,RANDBETWEEN(1,999)/1000,RANDBETWEEN(1,9999)/10000,RANDBETWEEN(1,99999)/100000))","v":21.4},"minutes"]
[{"$f":"IF(COUNTIF($B$1:B948,TRUE)=COUNTIF($B$1:B947,TRUE),\"\",COUNTIF($B$1:B948,TRUE))","v":""},{"$f":"Worksheet!$B$14","v":false},{"$f":"IF(H948=1,RANDBETWEEN(1,Worksheet!$D$6),INT(J948))","v":26},{"$f":"IF(C948=1,\"week\",\"weeks\")","v":"weeks"},{"$f":"IF(H948=1,RANDBETWEEN(1,6),(J948-INT(J948))*7)","v":3},"days","=",{"$f":"IF(Worksheet!$D$7=1,1,IF(Worksheet!$D$7=2,2,RANDBETWEEN(1,2)))","v":1},null,{"$f":"IF(H948=1,C948+E948/7,RANDBETWEEN(1,Worksheet!$D$6)+CHOOSE(Worksheet!$D$10,RANDBETWEEN(1,9)/10,RANDBETWEEN(1,99)/100,RANDBETWEEN(1,999)/1000,RANDBETWEEN(1,9999)/10000,RANDBETWEEN(1,99999)/100000))","v":26.428571428571427},"weeks"]
[{"$f":"IF(COUNTIF($B$1:B949,TRUE)=COUNTIF($B$1:B948,TRUE),\"\",COUNTIF($B$1:B949,TRUE))","v":""},{"$f":"Worksheet!$D$12","v":false},{"$f":"IF(H949=1,RANDBETWEEN(1,Worksheet!$D$6),INT(J949))","v":8},{"$f":"IF(C949=1,\"day\",\"days\")","v":"days"},{"$f":"IF(H949=1,RANDBETWEEN(1,23),(J949-INT(J949))*24)","v":21.600000000000009},"hours","=",{"$f":"IF(Worksheet!$D$7=1,1,IF(Worksheet!$D$7=2,2,RANDBETWEEN(1,2)))","v":2},null,{"$f":"IF(H949=1,C949+E949/24,RANDBETWEEN(1,Worksheet!$D$6)+CHOOSE(Worksheet!$D$10,RANDBETWEEN(1,9)/10,RANDBETWEEN(1,99)/100,RANDBETWEEN(1,999)/1000,RANDBETWEEN(1,9999)/10000,RANDBETWEEN(1,99999)/100000))","v":8.9},"days"]
[{"$f":"IF(COUNTIF($B$1:B950,TRUE)=COUNTIF($B$1:B949,TRUE),\"\",COUNTIF($B$1:B950,TRUE))","v":""},{"$f":"Worksheet!$D$13","v":false},{"$f":"IF(H950=1,RANDBETWEEN(1,Worksheet!$D$6),INT(J950))","v":12},{"$f":"IF(C950=1,\"year\",\"years\")","v":"years"},{"$f":"IF(H950=1,RANDBETWEEN(1,11),(J950-INT(J950))*12)","v":8.3999999999999915},"months","=",{"$f":"IF(Worksheet!$D$7=1,1,IF(Worksheet!$D$7=2,2,RANDBETWEEN(1,2)))","v":2},null,{"$f":"IF(H950=1,C950+E950/12,RANDBETWEEN(1,Worksheet!$D$6)+CHOOSE(Worksheet!$D$10,RANDBETWEEN(1,9)/10,RANDBETWEEN(1,99)/100,RANDBETWEEN(1,999)/1000,RANDBETWEEN(1,9999)/10000,RANDBETWEEN(1,99999)/100000))","v":12.7},"years"]
[{"$f":"COUNTIF($B$1:B951,TRUE)","v":381},{"$f":"Worksheet!$B$12","v":true},{"$f":"IF(H951=1,RANDBETWEEN(1,Worksheet!$D$6),INT(J951))","v":24},{"$f":"IF(C951=1,\"hour\",\"hours\")","v":"hours"},{"$f":"IF(H951=1,IF(Worksheet!$D$10=1,RANDBETWEEN(1,9)*6,IF(Worksheet!$D$10=2,RANDBETWEEN(1,19)*3,RANDBETWEEN(1,59))),(J951-INT(J951))*60)","v":6.0000000000000853},"minutes","=",{"$f":"IF(Worksheet!$D$7=1,1,IF(Worksheet!$D$7=2,2,RANDBETWEEN(1,2)))","v":2},null,{"$f":"IF(H951=1,C951+E951/60,RANDBETWEEN(1,Worksheet!$D$6)+CHOOSE(Worksheet!$D$10,RANDBETWEEN(1,9)/10,RANDBETWEEN(1,99)/100,RANDBETWEEN(1,999)/1000,RANDBETWEEN(1,9999)/10000,RANDBETWEEN(1,99999)/100000))","v":24.1},"hours"]
[{"$f":"IF(COUNTIF($B$1:B952,TRUE)=COUNTIF($B$1:B951,TRUE),\"\",COUNTIF($B$1:B952,TRUE))","v":382},{"$f":"Worksheet!$B$13","v":true},{"$f":"IF(H952=1,RANDBETWEEN(1,Worksheet!$D$6),INT(J952))","v":3},{"$f":"IF(C952=1,\"minute\",\"minutes\")","v":"minutes"},{"$f":"IF(H952=1,IF(Worksheet!$D$10=1,RANDBETWEEN(1,9)*6,IF(Worksheet!$D$10=2,RANDBETWEEN(1,19)*3,RANDBETWEEN(1,59))),(J952-INT(J952))*60)","v":23.999999999999993},"seconds","=",{"$f":"IF(Worksheet!$D$7=1,1,IF(Worksheet!$D$7=2,2,RANDBETWEEN(1,2)))","v":2},null,{"$f":"IF(H952=1,C952+E952/60,RANDBETWEEN(1,Worksheet!$D$6)+CHOOSE(Worksheet!$D$10,RANDBETWEEN(1,9)/10,RANDBETWEEN(1,99)/100,RANDBETWEEN(1,999)/1000,RANDBETWEEN(1,9999)/10000,RANDBETWEEN(1,99999)/100000))","v":3.4},"minutes"]
[{"$f":"IF(COUNTIF($B$1:B953,TRUE)=COUNTIF($B$1:B952,TRUE),\"\",COUNTIF($B$1:B953,TRUE))","v":""},{"$f":"Worksheet!$B$14","v":false},{"$f":"IF(H953=1,RANDBETWEEN(1,Worksheet!$D$6),INT(J953))","v":8},{"$f":"IF(C953=1,\"week\",\"weeks\")","v":"weeks"},{"$f":"IF(H953=1,RANDBETWEEN(1,6),(J953-INT(J953))*7)","v":3},"days","=",{"$f":"IF(Worksheet!$D$7=1,1,IF(Worksheet!$D$7=2,2,RANDBETWEEN(1,2)))","v":1},null,{"$f":"IF(H953=1,C953+E953/7,RANDBETWEEN(1,Worksheet!$D$6)+CHOOSE(Worksheet!$D$10,RANDBETWEEN(1,9)/10,RANDBETWEEN(1,99)/100,RANDBETWEEN(1,999)/1000,RANDBETWEEN(1,9999)/10000,RANDBETWEEN(1,99999)/100000))","v":8.4285714285714288},"weeks"]
[{"$f":"IF(COUNTIF($B$1:B954,TRUE)=COUNTIF($B$1:B953,TRUE),\"\",COUNTIF($B$1:B954,TRUE))","v":""},{"$f":"Worksheet!$D$12","v":false},{"$f":"IF(H954=1,RANDBETWEEN(1,Worksheet!$D$6),INT(J954))","v":8},{"$f":"IF(C954=1,\"day\",\"days\")","v":"days"},{"$f":"IF(H954=1,RANDBETWEEN(1,23),(J954-INT(J954))*24)","v":21.600000000000009},"hours","=",{"$f":"IF(Worksheet!$D$7=1,1,IF(Worksheet!$D$7=2,2,RANDBETWEEN(1,2)))","v":2},null,{"$f":"IF(H954=1,C954+E954/24,RANDBETWEEN(1,Worksheet!$D$6)+CHOOSE(Worksheet!$D$10,RANDBETWEEN(1,9)/10,RANDBETWEEN(1,99)/100,RANDBETWEEN(1,999)/1000,RANDBETWEEN(1,9999)/10000,RANDBETWEEN(1,99999)/100000))","v":8.9},"days"]
[{"$f":"IF(COUNTIF($B$1:B955,TRUE)=COUNTIF($B$1:B954,TRUE),\"\",COUNTIF($B$1:B955,TRUE))","v":""},{"$f":"Worksheet!$D$13","v":false},{"$f":"IF(H955=1,RANDBETWEEN(1,Worksheet!$D$6),INT(J955))","v":19},{"$f":"IF(C955=1,\"year\",\"years\")","v":"years"},{"$f":"IF(H955=1,RANDBETWEEN(1,11),(J955-INT(J955))*12)","v":7},"months","=",{"$f":"IF(Worksheet!$D$7=1,1,IF(Worksheet!$D$7=2,2,RANDBETWEEN(1,2)))","v":1},null,{"$f":"IF(H955=1,C955+E955/12,RANDBETWEEN(1,Worksheet!$D$6)+CHOOSE(Worksheet!$D$10,RANDBETWEEN(1,9)/10,RANDBETWEEN(1,99)/100,RANDBETWEEN(1,999)/1000,RANDBETWEEN(1,9999)/10000,RANDBETWEEN(1,99999)/100000))","v":19.583333333333332},"years"]
[{"$f":"COUNTIF($B$1:B956,TRUE)","v":383},{"$f":"Worksheet!$B$12","v":true},{"$f":"IF(H956=1,RANDBETWEEN(1,Worksheet!$D$6),INT(J956))","v":11},{"$f":"IF(C956=1,\"hour\",\"hours\")","v":"hours"},{"$f":"IF(H956=1,IF(Worksheet!$D$10=1,RANDBETWEEN(1,9)*6,IF(Worksheet!$D$10=2,RANDBETWEEN(1,19)*3,RANDBETWEEN(1,59))),(J956-INT(J956))*60)","v":6},"minutes","=",{"$f":"IF(Worksheet!$D$7=1,1,IF(Worksheet!$D$7=2,2,RANDBETWEEN(1,2)))","v":1},null,{"$f":"IF(H956=1,C956+E956/60,RANDBETWEEN(1,Worksheet!$D$6)+CHOOSE(Worksheet!$D$10,RANDBETWEEN(1,9)/10,RANDBETWEEN(1,99)/100,RANDBETWEEN(1,999)/1000,RANDBETWEEN(1,9999)/10000,RANDBETWEEN(1,99999)/100000))","v":11.1},"hours"]
[{"$f":"IF(COUNTIF($B$1:B957,TRUE)=COUNTIF($B$1:B956,TRUE),\"\",COUNTIF($B$1:B957,TRUE))","v":384},{"$f":"Worksheet!$B$13","v":true},{"$f":"IF(H957=1,RANDBETWEEN(1,Worksheet!$D$6),INT(J957))","v":12},{"$f":"IF(C957=1,\"minute\",\"minutes\")","v":"minutes"},{"$f":"IF(H957=1,IF(Worksheet!$D$10=1,RANDBETWEEN(1,9)*6,IF(Worksheet!$D$10=2,RANDBETWEEN(1,19)*3,RANDBETWEEN(1,59))),(J957-INT(J957))*60)","v":48},"seconds","=",{"$f":"IF(Worksheet!$D$7=1,1,IF(Worksheet!$D$7=2,2,RANDBETWEEN(1,2)))","v":1},null,{"$f":"IF(H957=1,C957+E957/60,RANDBETWEEN(1,Worksheet!$D$6)+CHOOSE(Worksheet!$D$10,RANDBETWEEN(1,9)/10,RANDBETWEEN(1,99)/100,RANDBETWEEN(1,999)/1000,RANDBETWEEN(1,9999)/10000,RANDBETWEEN(1,99999)/100000))","v":12.8},"minutes"]
[{"$f":"IF(COUNTIF($B$1:B958,TRUE)=COUNTIF($B$1:B957,TRUE),\"\",COUNTIF($B$1:B958,TRUE))","v":""},{"$f":"Worksheet!$B$14","v":false},{"$f":"IF(H958=1,RANDBETWEEN(1,Worksheet!$D$6),INT(J958))","v":18},{"$f":"IF(C958=1,\"week\",\"weeks\")","v":"weeks"},{"$f":"IF(H958=1,RANDBETWEEN(1,6),(J958-INT(J958))*7)","v":2.100000000000005},"days","=",{"$f":"IF(Worksheet!$D$7=1,1,IF(Worksheet!$D$7=2,2,RANDBETWEEN(1,2)))","v":2},null,{"$f":"IF(H958=1,C958+E958/7,RANDBETWEEN(1,Worksheet!$D$6)+CHOOSE(Worksheet!$D$10,RANDBETWEEN(1,9)/10,RANDBETWEEN(1,99)/100,RANDBETWEEN(1,999)/1000,RANDBETWEEN(1,9999)/10000,RANDBETWEEN(1,99999)/100000))","v":18.3},"weeks"]
[{"$f":"IF(COUNTIF($B$1:B959,TRUE)=COUNTIF($B$1:B958,TRUE),\"\",COUNTIF($B$1:B959,TRUE))","v":""},{"$f":"Worksheet!$D$12","v":false},{"$f":"IF(H959=1,RANDBETWEEN(1,Worksheet!$D$6),INT(J959))","v":21},{"$f":"IF(C959=1,\"day\",\"days\")","v":"days"},{"$f":"IF(H959=1,RANDBETWEEN(1,23),(J959-INT(J959))*24)","v":8},"hours","=",{"$f":"IF(Worksheet!$D$7=1,1,IF(Worksheet!$D$7=2,2,RANDBETWEEN(1,2)))","v":1},null,{"$f":"IF(H959=1,C959+E959/24,RANDBETWEEN(1,Worksheet!$D$6)+CHOOSE(Worksheet!$D$10,RANDBETWEEN(1,9)/10,RANDBETWEEN(1,99)/100,RANDBETWEEN(1,999)/1000,RANDBETWEEN(1,9999)/10000,RANDBETWEEN(1,99999)/100000))","v":21.333333333333332},"days"]
[{"$f":"IF(COUNTIF($B$1:B960,TRUE)=COUNTIF($B$1:B959,TRUE),\"\",COUNTIF($B$1:B960,TRUE))","v":""},{"$f":"Worksheet!$D$13","v":false},{"$f":"IF(H960=1,RANDBETWEEN(1,Worksheet!$D$6),INT(J960))","v":28},{"$f":"IF(C960=1,\"year\",\"years\")","v":"years"},{"$f":"IF(H960=1,RANDBETWEEN(1,11),(J960-INT(J960))*12)","v":10.799999999999983},"months","=",{"$f":"IF(Worksheet!$D$7=1,1,IF(Worksheet!$D$7=2,2,RANDBETWEEN(1,2)))","v":2},null,{"$f":"IF(H960=1,C960+E960/12,RANDBETWEEN(1,Worksheet!$D$6)+CHOOSE(Worksheet!$D$10,RANDBETWEEN(1,9)/10,RANDBETWEEN(1,99)/100,RANDBETWEEN(1,999)/1000,RANDBETWEEN(1,9999)/10000,RANDBETWEEN(1,99999)/100000))","v":28.9},"years"]
[{"$f":"COUNTIF($B$1:B961,TRUE)","v":385},{"$f":"Worksheet!$B$12","v":true},{"$f":"IF(H961=1,RANDBETWEEN(1,Worksheet!$D$6),INT(J961))","v":29},{"$f":"IF(C961=1,\"hour\",\"hours\")","v":"hours"},{"$f":"IF(H961=1,IF(Worksheet!$D$10=1,RANDBETWEEN(1,9)*6,IF(Worksheet!$D$10=2,RANDBETWEEN(1,19)*3,RANDBETWEEN(1,59))),(J961-INT(J961))*60)","v":30},"minutes","=",{"$f":"IF(Worksheet!$D$7=1,1,IF(Worksheet!$D$7=2,2,RANDBETWEEN(1,2)))","v":2},null,{"$f":"IF(H961=1,C961+E961/60,RANDBETWEEN(1,Worksheet!$D$6)+CHOOSE(Worksheet!$D$10,RANDBETWEEN(1,9)/10,RANDBETWEEN(1,99)/100,RANDBETWEEN(1,999)/1000,RANDBETWEEN(1,9999)/10000,RANDBETWEEN(1,99999)/100000))","v":29.5},"hours"]
[{"$f":"IF(COUNTIF($B$1:B962,TRUE)=COUNTIF($B$1:B961,TRUE),\"\",COUNTIF($B$1:B962,TRUE))","v":386},{"$f":"Worksheet!$B$13","v":true},{"$f":"IF(H962=1,RANDBETWEEN(1,Worksheet!$D$6),INT(J962))","v":8},{"$f":"IF(C962=1,\"minute\",\"minutes\")","v":"minutes"},{"$f":"IF(H962=1,IF(Worksheet!$D$10=1,RANDBETWEEN(1,9)*6,IF(Worksheet!$D$10=2,RANDBETWEEN(1,19)*3,RANDBETWEEN(1,59))),(J962-INT(J962))*60)","v":48.000000000000043},"seconds","=",{"$f":"IF(Worksheet!$D$7=1,1,IF(Worksheet!$D$7=2,2,RANDBETWEEN(1,2)))","v":2},null,{"$f":"IF(H962=1,C962+E962/60,RANDBETWEEN(1,Worksheet!$D$6)+CHOOSE(Worksheet!$D$10,RANDBETWEEN(1,9)/10,RANDBETWEEN(1,99)/100,RANDBETWEEN(1,999)/1000,RANDBETWEEN(1,9999)/10000,RANDBETWEEN(1,99999)/100000))","v":8.8000000000000007},"minutes"]
[{"$f":"IF(COUNTIF($B$1:B963,TRUE)=COUNTIF($B$1:B962,TRUE),\"\",COUNTIF($B$1:B963,TRUE))","v":""},{"$f":"Worksheet!$B$14","v":false},{"$f":"IF(H963=1,RANDBETWEEN(1,Worksheet!$D$6),INT(J963))","v":6},{"$f":"IF(C963=1,\"week\",\"weeks\")","v":"weeks"},{"$f":"IF(H963=1,RANDBETWEEN(1,6),(J963-INT(J963))*7)","v":2.8000000000000025},"days","=",{"$f":"IF(Worksheet!$D$7=1,1,IF(Worksheet!$D$7=2,2,RANDBETWEEN(1,2)))","v":2},null,{"$f":"IF(H963=1,C963+E963/7,RANDBETWEEN(1,Worksheet!$D$6)+CHOOSE(Worksheet!$D$10,RANDBETWEEN(1,9)/10,RANDBETWEEN(1,99)/100,RANDBETWEEN(1,999)/1000,RANDBETWEEN(1,9999)/10000,RANDBETWEEN(1,99999)/100000))","v":6.4},"weeks"]
[{"$f":"IF(COUNTIF($B$1:B964,TRUE)=COUNTIF($B$1:B963,TRUE),\"\",COUNTIF($B$1:B964,TRUE))","v":""},{"$f":"Worksheet!$D$12","v":false},{"$f":"IF(H964=1,RANDBETWEEN(1,Worksheet!$D$6),INT(J964))","v":7},{"$f":"IF(C964=1,\"day\",\"days\")","v":"days"},{"$f":"IF(H964=1,RANDBETWEEN(1,23),(J964-INT(J964))*24)","v":12},"hours","=",{"$f":"IF(Worksheet!$D$7=1,1,IF(Worksheet!$D$7=2,2,RANDBETWEEN(1,2)))","v":2},null,{"$f":"IF(H964=1,C964+E964/24,RANDBETWEEN(1,Worksheet!$D$6)+CHOOSE(Worksheet!$D$10,RANDBETWEEN(1,9)/10,RANDBETWEEN(1,99)/100,RANDBETWEEN(1,999)/1000,RANDBETWEEN(1,9999)/10000,RANDBETWEEN(1,99999)/100000))","v":7.5},"days"]
[{"$f":"IF(COUNTIF($B$1:B965,TRUE)=COUNTIF($B$1:B964,TRUE),\"\",COUNTIF($B$1:B965,TRUE))","v":""},{"$f":"Worksheet!$D$13","v":false},{"$f":"IF(H965=1,RANDBETWEEN(1,Worksheet!$D$6),INT(J965))","v":19},{"$f":"IF(C965=1,\"year\",\"years\")","v":"years"},{"$f":"IF(H965=1,RANDBETWEEN(1,11),(J965-INT(J965))*12)","v":9.6000000000000085},"months","=",{"$f":"IF(Worksheet!$D$7=1,1,IF(Worksheet!$D$7=2,2,RANDBETWEEN(1,2)))","v":2},null,{"$f":"IF(H965=1,C965+E965/12,RANDBETWEEN(1,Worksheet!$D$6)+CHOOSE(Worksheet!$D$10,RANDBETWEEN(1,9)/10,RANDBETWEEN(1,99)/100,RANDBETWEEN(1,999)/1000,RANDBETWEEN(1,9999)/10000,RANDBETWEEN(1,99999)/100000))","v":19.8},"years"]
[{"$f":"COUNTIF($B$1:B966,TRUE)","v":387},{"$f":"Worksheet!$B$12","v":true},{"$f":"IF(H966=1,RANDBETWEEN(1,Worksheet!$D$6),INT(J966))","v":2},{"$f":"IF(C966=1,\"hour\",\"hours\")","v":"hours"},{"$f":"IF(H966=1,IF(Worksheet!$D$10=1,RANDBETWEEN(1,9)*6,IF(Worksheet!$D$10=2,RANDBETWEEN(1,19)*3,RANDBETWEEN(1,59))),(J966-INT(J966))*60)","v":42},"minutes","=",{"$f":"IF(Worksheet!$D$7=1,1,IF(Worksheet!$D$7=2,2,RANDBETWEEN(1,2)))","v":1},null,{"$f":"IF(H966=1,C966+E966/60,RANDBETWEEN(1,Worksheet!$D$6)+CHOOSE(Worksheet!$D$10,RANDBETWEEN(1,9)/10,RANDBETWEEN(1,99)/100,RANDBETWEEN(1,999)/1000,RANDBETWEEN(1,9999)/10000,RANDBETWEEN(1,99999)/100000))","v":2.7},"hours"]
[{"$f":"IF(COUNTIF($B$1:B967,TRUE)=COUNTIF($B$1:B966,TRUE),\"\",COUNTIF($B$1:B967,TRUE))","v":388},{"$f":"Worksheet!$B$13","v":true},{"$f":"IF(H967=1,RANDBETWEEN(1,Worksheet!$D$6),INT(J967))","v":8},{"$f":"IF(C967=1,\"minute\",\"minutes\")","v":"minutes"},{"$f":"IF(H967=1,IF(Worksheet!$D$10=1,RANDBETWEEN(1,9)*6,IF(Worksheet!$D$10=2,RANDBETWEEN(1,19)*3,RANDBETWEEN(1,59))),(J967-INT(J967))*60)","v":35.999999999999979},"seconds","=",{"$f":"IF(Worksheet!$D$7=1,1,IF(Worksheet!$D$7=2,2,RANDBETWEEN(1,2)))","v":2},null,{"$f":"IF(H967=1,C967+E967/60,RANDBETWEEN(1,Worksheet!$D$6)+CHOOSE(Worksheet!$D$10,RANDBETWEEN(1,9)/10,RANDBETWEEN(1,99)/100,RANDBETWEEN(1,999)/1000,RANDBETWEEN(1,9999)/10000,RANDBETWEEN(1,99999)/100000))","v":8.6},"minutes"]
[{"$f":"IF(COUNTIF($B$1:B968,TRUE)=COUNTIF($B$1:B967,TRUE),\"\",COUNTIF($B$1:B968,TRUE))","v":""},{"$f":"Worksheet!$B$14","v":false},{"$f":"IF(H968=1,RANDBETWEEN(1,Worksheet!$D$6),INT(J968))","v":19},{"$f":"IF(C968=1,\"week\",\"weeks\")","v":"weeks"},{"$f":"IF(H968=1,RANDBETWEEN(1,6),(J968-INT(J968))*7)","v":4},"days","=",{"$f":"IF(Worksheet!$D$7=1,1,IF(Worksheet!$D$7=2,2,RANDBETWEEN(1,2)))","v":1},null,{"$f":"IF(H968=1,C968+E968/7,RANDBETWEEN(1,Worksheet!$D$6)+CHOOSE(Worksheet!$D$10,RANDBETWEEN(1,9)/10,RANDBETWEEN(1,99)/100,RANDBETWEEN(1,999)/1000,RANDBETWEEN(1,9999)/10000,RANDBETWEEN(1,99999)/100000))","v":19.571428571428573},"weeks"]
[{"$f":"IF(COUNTIF($B$1:B969,TRUE)=COUNTIF($B$1:B968,TRUE),\"\",COUNTIF($B$1:B969,TRUE))","v":""},{"$f":"Worksheet!$D$12","v":false},{"$f":"IF(H969=1,RANDBETWEEN(1,Worksheet!$D$6),INT(J969))","v":23},{"$f":"IF(C969=1,\"day\",\"days\")","v":"days"},{"$f":"IF(H969=1,RANDBETWEEN(1,23),(J969-INT(J969))*24)","v":14.400000000000034},"hours","=",{"$f":"IF(Worksheet!$D$7=1,1,IF(Worksheet!$D$7=2,2,RANDBETWEEN(1,2)))","v":2},null,{"$f":"IF(H969=1,C969+E969/24,RANDBETWEEN(1,Worksheet!$D$6)+CHOOSE(Worksheet!$D$10,RANDBETWEEN(1,9)/10,RANDBETWEEN(1,99)/100,RANDBETWEEN(1,999)/1000,RANDBETWEEN(1,9999)/10000,RANDBETWEEN(1,99999)/100000))","v":23.6},"days"]
[{"$f":"IF(COUNTIF($B$1:B970,TRUE)=COUNTIF($B$1:B969,TRUE),\"\",COUNTIF($B$1:B970,TRUE))","v":""},{"$f":"Worksheet!$D$13","v":false},{"$f":"IF(H970=1,RANDBETWEEN(1,Worksheet!$D$6),INT(J970))","v":24},{"$f":"IF(C970=1,\"year\",\"years\")","v":"years"},{"$f":"IF(H970=1,RANDBETWEEN(1,11),(J970-INT(J970))*12)","v":7.2000000000000171},"months","=",{"$f":"IF(Worksheet!$D$7=1,1,IF(Worksheet!$D$7=2,2,RANDBETWEEN(1,2)))","v":2},null,{"$f":"IF(H970=1,C970+E970/12,RANDBETWEEN(1,Worksheet!$D$6)+CHOOSE(Worksheet!$D$10,RANDBETWEEN(1,9)/10,RANDBETWEEN(1,99)/100,RANDBETWEEN(1,999)/1000,RANDBETWEEN(1,9999)/10000,RANDBETWEEN(1,99999)/100000))","v":24.6},"years"]
[{"$f":"COUNTIF($B$1:B971,TRUE)","v":389},{"$f":"Worksheet!$B$12","v":true},{"$f":"IF(H971=1,RANDBETWEEN(1,Worksheet!$D$6),INT(J971))","v":25},{"$f":"IF(C971=1,\"hour\",\"hours\")","v":"hours"},{"$f":"IF(H971=1,IF(Worksheet!$D$10=1,RANDBETWEEN(1,9)*6,IF(Worksheet!$D$10=2,RANDBETWEEN(1,19)*3,RANDBETWEEN(1,59))),(J971-INT(J971))*60)","v":18.000000000000043},"minutes","=",{"$f":"IF(Worksheet!$D$7=1,1,IF(Worksheet!$D$7=2,2,RANDBETWEEN(1,2)))","v":2},null,{"$f":"IF(H971=1,C971+E971/60,RANDBETWEEN(1,Worksheet!$D$6)+CHOOSE(Worksheet!$D$10,RANDBETWEEN(1,9)/10,RANDBETWEEN(1,99)/100,RANDBETWEEN(1,999)/1000,RANDBETWEEN(1,9999)/10000,RANDBETWEEN(1,99999)/100000))","v":25.3},"hours"]
[{"$f":"IF(COUNTIF($B$1:B972,TRUE)=COUNTIF($B$1:B971,TRUE),\"\",COUNTIF($B$1:B972,TRUE))","v":390},{"$f":"Worksheet!$B$13","v":true},{"$f":"IF(H972=1,RANDBETWEEN(1,Worksheet!$D$6),INT(J972))","v":15},{"$f":"IF(C972=1,\"minute\",\"minutes\")","v":"minutes"},{"$f":"IF(H972=1,IF(Worksheet!$D$10=1,RANDBETWEEN(1,9)*6,IF(Worksheet!$D$10=2,RANDBETWEEN(1,19)*3,RANDBETWEEN(1,59))),(J972-INT(J972))*60)","v":35.999999999999979},"seconds","=",{"$f":"IF(Worksheet!$D$7=1,1,IF(Worksheet!$D$7=2,2,RANDBETWEEN(1,2)))","v":2},null,{"$f":"IF(H972=1,C972+E972/60,RANDBETWEEN(1,Worksheet!$D$6)+CHOOSE(Worksheet!$D$10,RANDBETWEEN(1,9)/10,RANDBETWEEN(1,99)/100,RANDBETWEEN(1,999)/1000,RANDBETWEEN(1,9999)/10000,RANDBETWEEN(1,99999)/100000))","v":15.6},"minutes"]
[{"$f":"IF(COUNTIF($B$1:B973,TRUE)=COUNTIF($B$1:B972,TRUE),\"\",COUNTIF($B$1:B973,TRUE))","v":""},{"$f":"Worksheet!$B$14","v":false},{"$f":"IF(H973=1,RANDBETWEEN(1,Worksheet!$D$6),INT(J973))","v":10},{"$f":"IF(C973=1,\"week\",\"weeks\")","v":"weeks"},{"$f":"IF(H973=1,RANDBETWEEN(1,6),(J973-INT(J973))*7)","v":2.100000000000005},"days","=",{"$f":"IF(Worksheet!$D$7=1,1,IF(Worksheet!$D$7=2,2,RANDBETWEEN(1,2)))","v":2},null,{"$f":"IF(H973=1,C973+E973/7,RANDBETWEEN(1,Worksheet!$D$6)+CHOOSE(Worksheet!$D$10,RANDBETWEEN(1,9)/10,RANDBETWEEN(1,99)/100,RANDBETWEEN(1,999)/1000,RANDBETWEEN(1,9999)/10000,RANDBETWEEN(1,99999)/100000))","v":10.3},"weeks"]
[{"$f":"IF(COUNTIF($B$1:B974,TRUE)=COUNTIF($B$1:B973,TRUE),\"\",COUNTIF($B$1:B974,TRUE))","v":""},{"$f":"Worksheet!$D$12","v":false},{"$f":"IF(H974=1,RANDBETWEEN(1,Worksheet!$D$6),INT(J974))","v":3},{"$f":"IF(C974=1,\"day\",\"days\")","v":"days"},{"$f":"IF(H974=1,RANDBETWEEN(1,23),(J974-INT(J974))*24)","v":23},"hours","=",{"$f":"IF(Worksheet!$D$7=1,1,IF(Worksheet!$D$7=2,2,RANDBETWEEN(1,2)))","v":1},null,{"$f":"IF(H974=1,C974+E974/24,RANDBETWEEN(1,Worksheet!$D$6)+CHOOSE(Worksheet!$D$10,RANDBETWEEN(1,9)/10,RANDBETWEEN(1,99)/100,RANDBETWEEN(1,999)/1000,RANDBETWEEN(1,9999)/10000,RANDBETWEEN(1,99999)/100000))","v":3.9583333333333335},"days"]
[{"$f":"IF(COUNTIF($B$1:B975,TRUE)=COUNTIF($B$1:B974,TRUE),\"\",COUNTIF($B$1:B975,TRUE))","v":""},{"$f":"Worksheet!$D$13","v":false},{"$f":"IF(H975=1,RANDBETWEEN(1,Worksheet!$D$6),INT(J975))","v":23},{"$f":"IF(C975=1,\"year\",\"years\")","v":"years"},{"$f":"IF(H975=1,RANDBETWEEN(1,11),(J975-INT(J975))*12)","v":3},"months","=",{"$f":"IF(Worksheet!$D$7=1,1,IF(Worksheet!$D$7=2,2,RANDBETWEEN(1,2)))","v":1},null,{"$f":"IF(H975=1,C975+E975/12,RANDBETWEEN(1,Worksheet!$D$6)+CHOOSE(Worksheet!$D$10,RANDBETWEEN(1,9)/10,RANDBETWEEN(1,99)/100,RANDBETWEEN(1,999)/1000,RANDBETWEEN(1,9999)/10000,RANDBETWEEN(1,99999)/100000))","v":23.25},"years"]
[{"$f":"COUNTIF($B$1:B976,TRUE)","v":391},{"$f":"Worksheet!$B$12","v":true},{"$f":"IF(H976=1,RANDBETWEEN(1,Worksheet!$D$6),INT(J976))","v":28},{"$f":"IF(C976=1,\"hour\",\"hours\")","v":"hours"},{"$f":"IF(H976=1,IF(Worksheet!$D$10=1,RANDBETWEEN(1,9)*6,IF(Worksheet!$D$10=2,RANDBETWEEN(1,19)*3,RANDBETWEEN(1,59))),(J976-INT(J976))*60)","v":30},"minutes","=",{"$f":"IF(Worksheet!$D$7=1,1,IF(Worksheet!$D$7=2,2,RANDBETWEEN(1,2)))","v":2},null,{"$f":"IF(H976=1,C976+E976/60,RANDBETWEEN(1,Worksheet!$D$6)+CHOOSE(Worksheet!$D$10,RANDBETWEEN(1,9)/10,RANDBETWEEN(1,99)/100,RANDBETWEEN(1,999)/1000,RANDBETWEEN(1,9999)/10000,RANDBETWEEN(1,99999)/100000))","v":28.5},"hours"]
[{"$f":"IF(COUNTIF($B$1:B977,TRUE)=COUNTIF($B$1:B976,TRUE),\"\",COUNTIF($B$1:B977,TRUE))","v":392},{"$f":"Worksheet!$B$13","v":true},{"$f":"IF(H977=1,RANDBETWEEN(1,Worksheet!$D$6),INT(J977))","v":1},{"$f":"IF(C977=1,\"minute\",\"minutes\")","v":"minute"},{"$f":"IF(H977=1,IF(Worksheet!$D$10=1,RANDBETWEEN(1,9)*6,IF(Worksheet!$D$10=2,RANDBETWEEN(1,19)*3,RANDBETWEEN(1,59))),(J977-INT(J977))*60)","v":24},"seconds","=",{"$f":"IF(Worksheet!$D$7=1,1,IF(Worksheet!$D$7=2,2,RANDBETWEEN(1,2)))","v":1},null,{"$f":"IF(H977=1,C977+E977/60,RANDBETWEEN(1,Worksheet!$D$6)+CHOOSE(Worksheet!$D$10,RANDBETWEEN(1,9)/10,RANDBETWEEN(1,99)/100,RANDBETWEEN(1,999)/1000,RANDBETWEEN(1,9999)/10000,RANDBETWEEN(1,99999)/100000))","v":1.4},"minute"]
[{"$f":"IF(COUNTIF($B$1:B978,TRUE)=COUNTIF($B$1:B977,TRUE),\"\",COUNTIF($B$1:B978,TRUE))","v":""},{"$f":"Worksheet!$B$14","v":false},{"$f":"IF(H978=1,RANDBETWEEN(1,Worksheet!$D$6),INT(J978))","v":23},{"$f":"IF(C978=1,\"week\",\"weeks\")","v":"weeks"},{"$f":"IF(H978=1,RANDBETWEEN(1,6),(J978-INT(J978))*7)","v":4},"days","=",{"$f":"IF(Worksheet!$D$7=1,1,IF(Worksheet!$D$7=2,2,RANDBETWEEN(1,2)))","v":1},null,{"$f":"IF(H978=1,C978+E978/7,RANDBETWEEN(1,Worksheet!$D$6)+CHOOSE(Worksheet!$D$10,RANDBETWEEN(1,9)/10,RANDBETWEEN(1,99)/100,RANDBETWEEN(1,999)/1000,RANDBETWEEN(1,9999)/10000,RANDBETWEEN(1,99999)/100000))","v":23.571428571428573},"weeks"]
[{"$f":"IF(COUNTIF($B$1:B979,TRUE)=COUNTIF($B$1:B978,TRUE),\"\",COUNTIF($B$1:B979,TRUE))","v":""},{"$f":"Worksheet!$D$12","v":false},{"$f":"IF(H979=1,RANDBETWEEN(1,Worksheet!$D$6),INT(J979))","v":12},{"$f":"IF(C979=1,\"day\",\"days\")","v":"days"},{"$f":"IF(H979=1,RANDBETWEEN(1,23),(J979-INT(J979))*24)","v":6},"hours","=",{"$f":"IF(Worksheet!$D$7=1,1,IF(Worksheet!$D$7=2,2,RANDBETWEEN(1,2)))","v":1},null,{"$f":"IF(H979=1,C979+E979/24,RANDBETWEEN(1,Worksheet!$D$6)+CHOOSE(Worksheet!$D$10,RANDBETWEEN(1,9)/10,RANDBETWEEN(1,99)/100,RANDBETWEEN(1,999)/1000,RANDBETWEEN(1,9999)/10000,RANDBETWEEN(1,99999)/100000))","v":12.25},"days"]
[{"$f":"IF(COUNTIF($B$1:B980,TRUE)=COUNTIF($B$1:B979,TRUE),\"\",COUNTIF($B$1:B980,TRUE))","v":""},{"$f":"Worksheet!$D$13","v":false},{"$f":"IF(H980=1,RANDBETWEEN(1,Worksheet!$D$6),INT(J980))","v":17},{"$f":"IF(C980=1,\"year\",\"years\")","v":"years"},{"$f":"IF(H980=1,RANDBETWEEN(1,11),(J980-INT(J980))*12)","v":1.2000000000000171},"months","=",{"$f":"IF(Worksheet!$D$7=1,1,IF(Worksheet!$D$7=2,2,RANDBETWEEN(1,2)))","v":2},null,{"$f":"IF(H980=1,C980+E980/12,RANDBETWEEN(1,Worksheet!$D$6)+CHOOSE(Worksheet!$D$10,RANDBETWEEN(1,9)/10,RANDBETWEEN(1,99)/100,RANDBETWEEN(1,999)/1000,RANDBETWEEN(1,9999)/10000,RANDBETWEEN(1,99999)/100000))","v":17.100000000000001},"years"]
[{"$f":"COUNTIF($B$1:B981,TRUE)","v":393},{"$f":"Worksheet!$B$12","v":true},{"$f":"IF(H981=1,RANDBETWEEN(1,Worksheet!$D$6),INT(J981))","v":8},{"$f":"IF(C981=1,\"hour\",\"hours\")","v":"hours"},{"$f":"IF(H981=1,IF(Worksheet!$D$10=1,RANDBETWEEN(1,9)*6,IF(Worksheet!$D$10=2,RANDBETWEEN(1,19)*3,RANDBETWEEN(1,59))),(J981-INT(J981))*60)","v":5.9999999999999787},"minutes","=",{"$f":"IF(Worksheet!$D$7=1,1,IF(Worksheet!$D$7=2,2,RANDBETWEEN(1,2)))","v":2},null,{"$f":"IF(H981=1,C981+E981/60,RANDBETWEEN(1,Worksheet!$D$6)+CHOOSE(Worksheet!$D$10,RANDBETWEEN(1,9)/10,RANDBETWEEN(1,99)/100,RANDBETWEEN(1,999)/1000,RANDBETWEEN(1,9999)/10000,RANDBETWEEN(1,99999)/100000))","v":8.1},"hours"]
[{"$f":"IF(COUNTIF($B$1:B982,TRUE)=COUNTIF($B$1:B981,TRUE),\"\",COUNTIF($B$1:B982,TRUE))","v":394},{"$f":"Worksheet!$B$13","v":true},{"$f":"IF(H982=1,RANDBETWEEN(1,Worksheet!$D$6),INT(J982))","v":28},{"$f":"IF(C982=1,\"minute\",\"minutes\")","v":"minutes"},{"$f":"IF(H982=1,IF(Worksheet!$D$10=1,RANDBETWEEN(1,9)*6,IF(Worksheet!$D$10=2,RANDBETWEEN(1,19)*3,RANDBETWEEN(1,59))),(J982-INT(J982))*60)","v":12},"seconds","=",{"$f":"IF(Worksheet!$D$7=1,1,IF(Worksheet!$D$7=2,2,RANDBETWEEN(1,2)))","v":1},null,{"$f":"IF(H982=1,C982+E982/60,RANDBETWEEN(1,Worksheet!$D$6)+CHOOSE(Worksheet!$D$10,RANDBETWEEN(1,9)/10,RANDBETWEEN(1,99)/100,RANDBETWEEN(1,999)/1000,RANDBETWEEN(1,9999)/10000,RANDBETWEEN(1,99999)/100000))","v":28.2},"minutes"]
[{"$f":"IF(COUNTIF($B$1:B983,TRUE)=COUNTIF($B$1:B982,TRUE),\"\",COUNTIF($B$1:B983,TRUE))","v":""},{"$f":"Worksheet!$B$14","v":false},{"$f":"IF(H983=1,RANDBETWEEN(1,Worksheet!$D$6),INT(J983))","v":26},{"$f":"IF(C983=1,\"week\",\"weeks\")","v":"weeks"},{"$f":"IF(H983=1,RANDBETWEEN(1,6),(J983-INT(J983))*7)","v":2.100000000000005},"days","=",{"$f":"IF(Worksheet!$D$7=1,1,IF(Worksheet!$D$7=2,2,RANDBETWEEN(1,2)))","v":2},null,{"$f":"IF(H983=1,C983+E983/7,RANDBETWEEN(1,Worksheet!$D$6)+CHOOSE(Worksheet!$D$10,RANDBETWEEN(1,9)/10,RANDBETWEEN(1,99)/100,RANDBETWEEN(1,999)/1000,RANDBETWEEN(1,9999)/10000,RANDBETWEEN(1,99999)/100000))","v":26.3},"weeks"]
[{"$f":"IF(COUNTIF($B$1:B984,TRUE)=COUNTIF($B$1:B983,TRUE),\"\",COUNTIF($B$1:B984,TRUE))","v":""},{"$f":"Worksheet!$D$12","v":false},{"$f":"IF(H984=1,RANDBETWEEN(1,Worksheet!$D$6),INT(J984))","v":13},{"$f":"IF(C984=1,\"day\",\"days\")","v":"days"},{"$f":"IF(H984=1,RANDBETWEEN(1,23),(J984-INT(J984))*24)","v":17},"hours","=",{"$f":"IF(Worksheet!$D$7=1,1,IF(Worksheet!$D$7=2,2,RANDBETWEEN(1,2)))","v":1},null,{"$f":"IF(H984=1,C984+E984/24,RANDBETWEEN(1,Worksheet!$D$6)+CHOOSE(Worksheet!$D$10,RANDBETWEEN(1,9)/10,RANDBETWEEN(1,99)/100,RANDBETWEEN(1,999)/1000,RANDBETWEEN(1,9999)/10000,RANDBETWEEN(1,99999)/100000))","v":13.708333333333334},"days"]
[{"$f":"IF(COUNTIF($B$1:B985,TRUE)=COUNTIF($B$1:B984,TRUE),\"\",COUNTIF($B$1:B985,TRUE))","v":""},{"$f":"Worksheet!$D$13","v":false},{"$f":"IF(H985=1,RANDBETWEEN(1,Worksheet!$D$6),INT(J985))","v":5},{"$f":"IF(C985=1,\"year\",\"years\")","v":"years"},{"$f":"IF(H985=1,RANDBETWEEN(1,11),(J985-INT(J985))*12)","v":3},"months","=",{"$f":"IF(Worksheet!$D$7=1,1,IF(Worksheet!$D$7=2,2,RANDBETWEEN(1,2)))","v":1},null,{"$f":"IF(H985=1,C985+E985/12,RANDBETWEEN(1,Worksheet!$D$6)+CHOOSE(Worksheet!$D$10,RANDBETWEEN(1,9)/10,RANDBETWEEN(1,99)/100,RANDBETWEEN(1,999)/1000,RANDBETWEEN(1,9999)/10000,RANDBETWEEN(1,99999)/100000))","v":5.25},"years"]
[{"$f":"COUNTIF($B$1:B986,TRUE)","v":395},{"$f":"Worksheet!$B$12","v":true},{"$f":"IF(H986=1,RANDBETWEEN(1,Worksheet!$D$6),INT(J986))","v":6},{"$f":"IF(C986=1,\"hour\",\"hours\")","v":"hours"},{"$f":"IF(H986=1,IF(Worksheet!$D$10=1,RANDBETWEEN(1,9)*6,IF(Worksheet!$D$10=2,RANDBETWEEN(1,19)*3,RANDBETWEEN(1,59))),(J986-INT(J986))*60)","v":54},"minutes","=",{"$f":"IF(Worksheet!$D$7=1,1,IF(Worksheet!$D$7=2,2,RANDBETWEEN(1,2)))","v":1},null,{"$f":"IF(H986=1,C986+E986/60,RANDBETWEEN(1,Worksheet!$D$6)+CHOOSE(Worksheet!$D$10,RANDBETWEEN(1,9)/10,RANDBETWEEN(1,99)/100,RANDBETWEEN(1,999)/1000,RANDBETWEEN(1,9999)/10000,RANDBETWEEN(1,99999)/100000))","v":6.9},"hours"]
[{"$f":"IF(COUNTIF($B$1:B987,TRUE)=COUNTIF($B$1:B986,TRUE),\"\",COUNTIF($B$1:B987,TRUE))","v":396},{"$f":"Worksheet!$B$13","v":true},{"$f":"IF(H987=1,RANDBETWEEN(1,Worksheet!$D$6),INT(J987))","v":27},{"$f":"IF(C987=1,\"minute\",\"minutes\")","v":"minutes"},{"$f":"IF(H987=1,IF(Worksheet!$D$10=1,RANDBETWEEN(1,9)*6,IF(Worksheet!$D$10=2,RANDBETWEEN(1,19)*3,RANDBETWEEN(1,59))),(J987-INT(J987))*60)","v":42},"seconds","=",{"$f":"IF(Worksheet!$D$7=1,1,IF(Worksheet!$D$7=2,2,RANDBETWEEN(1,2)))","v":1},null,{"$f":"IF(H987=1,C987+E987/60,RANDBETWEEN(1,Worksheet!$D$6)+CHOOSE(Worksheet!$D$10,RANDBETWEEN(1,9)/10,RANDBETWEEN(1,99)/100,RANDBETWEEN(1,999)/1000,RANDBETWEEN(1,9999)/10000,RANDBETWEEN(1,99999)/100000))","v":27.7},"minutes"]
[{"$f":"IF(COUNTIF($B$1:B988,TRUE)=COUNTIF($B$1:B987,TRUE),\"\",COUNTIF($B$1:B988,TRUE))","v":""},{"$f":"Worksheet!$B$14","v":false},{"$f":"IF(H988=1,RANDBETWEEN(1,Worksheet!$D$6),INT(J988))","v":26},{"$f":"IF(C988=1,\"week\",\"weeks\")","v":"weeks"},{"$f":"IF(H988=1,RANDBETWEEN(1,6),(J988-INT(J988))*7)","v":4},"days","=",{"$f":"IF(Worksheet!$D$7=1,1,IF(Worksheet!$D$7=2,2,RANDBETWEEN(1,2)))","v":1},null,{"$f":"IF(H988=1,C988+E988/7,RANDBETWEEN(1,Worksheet!$D$6)+CHOOSE(Worksheet!$D$10,RANDBETWEEN(1,9)/10,RANDBETWEEN(1,99)/100,RANDBETWEEN(1,999)/1000,RANDBETWEEN(1,9999)/10000,RANDBETWEEN(1,99999)/100000))","v":26.571428571428573},"weeks"]
[{"$f":"IF(COUNTIF($B$1:B989,TRUE)=COUNTIF($B$1:B988,TRUE),\"\",COUNTIF($B$1:B989,TRUE))","v":""},{"$f":"Worksheet!$D$12","v":false},{"$f":"IF(H989=1,RANDBETWEEN(1,Worksheet!$D$6),INT(J989))","v":10},{"$f":"IF(C989=1,\"day\",\"days\")","v":"days"},{"$f":"IF(H989=1,RANDBETWEEN(1,23),(J989-INT(J989))*24)","v":6},"hours","=",{"$f":"IF(Worksheet!$D$7=1,1,IF(Worksheet!$D$7=2,2,RANDBETWEEN(1,2)))","v":1},null,{"$f":"IF(H989=1,C989+E989/24,RANDBETWEEN(1,Worksheet!$D$6)+CHOOSE(Worksheet!$D$10,RANDBETWEEN(1,9)/10,RANDBETWEEN(1,99)/100,RANDBETWEEN(1,999)/1000,RANDBETWEEN(1,9999)/10000,RANDBETWEEN(1,99999)/100000))","v":10.25},"days"]
[{"$f":"IF(COUNTIF($B$1:B990,TRUE)=COUNTIF($B$1:B989,TRUE),\"\",COUNTIF($B$1:B990,TRUE))","v":""},{"$f":"Worksheet!$D$13","v":false},{"$f":"IF(H990=1,RANDBETWEEN(1,Worksheet!$D$6),INT(J990))","v":10},{"$f":"IF(C990=1,\"year\",\"years\")","v":"years"},{"$f":"IF(H990=1,RANDBETWEEN(1,11),(J990-INT(J990))*12)","v":2},"months","=",{"$f":"IF(Worksheet!$D$7=1,1,IF(Worksheet!$D$7=2,2,RANDBETWEEN(1,2)))","v":1},null,{"$f":"IF(H990=1,C990+E990/12,RANDBETWEEN(1,Worksheet!$D$6)+CHOOSE(Worksheet!$D$10,RANDBETWEEN(1,9)/10,RANDBETWEEN(1,99)/100,RANDBETWEEN(1,999)/1000,RANDBETWEEN(1,9999)/10000,RANDBETWEEN(1,99999)/100000))","v":10.166666666666666},"years"]
[{"$f":"COUNTIF($B$1:B991,TRUE)","v":397},{"$f":"Worksheet!$B$12","v":true},{"$f":"IF(H991=1,RANDBETWEEN(1,Worksheet!$D$6),INT(J991))","v":17},{"$f":"IF(C991=1,\"hour\",\"hours\")","v":"hours"},{"$f":"IF(H991=1,IF(Worksheet!$D$10=1,RANDBETWEEN(1,9)*6,IF(Worksheet!$D$10=2,RANDBETWEEN(1,19)*3,RANDBETWEEN(1,59))),(J991-INT(J991))*60)","v":12},"minutes","=",{"$f":"IF(Worksheet!$D$7=1,1,IF(Worksheet!$D$7=2,2,RANDBETWEEN(1,2)))","v":1},null,{"$f":"IF(H991=1,C991+E991/60,RANDBETWEEN(1,Worksheet!$D$6)+CHOOSE(Worksheet!$D$10,RANDBETWEEN(1,9)/10,RANDBETWEEN(1,99)/100,RANDBETWEEN(1,999)/1000,RANDBETWEEN(1,9999)/10000,RANDBETWEEN(1,99999)/100000))","v":17.2},{"$f":"D991","v":"hours"}]
[{"$f":"IF(COUNTIF($B$1:B992,TRUE)=COUNTIF($B$1:B991,TRUE),\"\",COUNTIF($B$1:B992,TRUE))","v":398},{"$f":"Worksheet!$B$13","v":true},{"$f":"IF(H992=1,RANDBETWEEN(1,Worksheet!$D$6),INT(J992))","v":15},{"$f":"IF(C992=1,\"minute\",\"minutes\")","v":"minutes"},{"$f":"IF(H992=1,IF(Worksheet!$D$10=1,RANDBETWEEN(1,9)*6,IF(Worksheet!$D$10=2,RANDBETWEEN(1,19)*3,RANDBETWEEN(1,59))),(J992-INT(J992))*60)","v":6},"seconds","=",{"$f":"IF(Worksheet!$D$7=1,1,IF(Worksheet!$D$7=2,2,RANDBETWEEN(1,2)))","v":1},null,{"$f":"IF(H992=1,C992+E992/60,RANDBETWEEN(1,Worksheet!$D$6)+CHOOSE(Worksheet!$D$10,RANDBETWEEN(1,9)/10,RANDBETWEEN(1,99)/100,RANDBETWEEN(1,999)/1000,RANDBETWEEN(1,9999)/10000,RANDBETWEEN(1,99999)/100000))","v":15.1},"minutes"]
[{"$f":"IF(COUNTIF($B$1:B993,TRUE)=COUNTIF($B$1:B992,TRUE),\"\",COUNTIF($B$1:B993,TRUE))","v":""},{"$f":"Worksheet!$B$14","v":false},{"$f":"IF(H993=1,RANDBETWEEN(1,Worksheet!$D$6),INT(J993))","v":9},{"$f":"IF(C993=1,\"week\",\"weeks\")","v":"weeks"},{"$f":"IF(H993=1,RANDBETWEEN(1,6),(J993-INT(J993))*7)","v":3},"days","=",{"$f":"IF(Worksheet!$D$7=1,1,IF(Worksheet!$D$7=2,2,RANDBETWEEN(1,2)))","v":1},null,{"$f":"IF(H993=1,C993+E993/7,RANDBETWEEN(1,Worksheet!$D$6)+CHOOSE(Worksheet!$D$10,RANDBETWEEN(1,9)/10,RANDBETWEEN(1,99)/100,RANDBETWEEN(1,999)/1000,RANDBETWEEN(1,9999)/10000,RANDBETWEEN(1,99999)/100000))","v":9.4285714285714288},"weeks"]
[{"$f":"IF(COUNTIF($B$1:B994,TRUE)=COUNTIF($B$1:B993,TRUE),\"\",COUNTIF($B$1:B994,TRUE))","v":""},{"$f":"Worksheet!$D$12","v":false},{"$f":"IF(H994=1,RANDBETWEEN(1,Worksheet!$D$6),INT(J994))","v":15},{"$f":"IF(C994=1,\"day\",\"days\")","v":"days"},{"$f":"IF(H994=1,RANDBETWEEN(1,23),(J994-INT(J994))*24)","v":2},"hours","=",{"$f":"IF(Worksheet!$D$7=1,1,IF(Worksheet!$D$7=2,2,RANDBETWEEN(1,2)))","v":1},null,{"$f":"IF(H994=1,C994+E994/24,RANDBETWEEN(1,Worksheet!$D$6)+CHOOSE(Worksheet!$D$10,RANDBETWEEN(1,9)/10,RANDBETWEEN(1,99)/100,RANDBETWEEN(1,999)/1000,RANDBETWEEN(1,9999)/10000,RANDBETWEEN(1,99999)/100000))","v":15.083333333333334},"days"]
[{"$f":"IF(COUNTIF($B$1:B995,TRUE)=COUNTIF($B$1:B994,TRUE),\"\",COUNTIF($B$1:B995,TRUE))","v":""},{"$f":"Worksheet!$D$13","v":false},{"$f":"IF(H995=1,RANDBETWEEN(1,Worksheet!$D$6),INT(J995))","v":28},{"$f":"IF(C995=1,\"year\",\"years\")","v":"years"},{"$f":"IF(H995=1,RANDBETWEEN(1,11),(J995-INT(J995))*12)","v":7},"months","=",{"$f":"IF(Worksheet!$D$7=1,1,IF(Worksheet!$D$7=2,2,RANDBETWEEN(1,2)))","v":1},null,{"$f":"IF(H995=1,C995+E995/12,RANDBETWEEN(1,Worksheet!$D$6)+CHOOSE(Worksheet!$D$10,RANDBETWEEN(1,9)/10,RANDBETWEEN(1,99)/100,RANDBETWEEN(1,999)/1000,RANDBETWEEN(1,9999)/10000,RANDBETWEEN(1,99999)/100000))","v":28.583333333333332},"years"]
[{"$f":"COUNTIF($B$1:B996,TRUE)","v":399},{"$f":"Worksheet!$B$12","v":true},{"$f":"IF(H996=1,RANDBETWEEN(1,Worksheet!$D$6),INT(J996))","v":18},{"$f":"IF(C996=1,\"hour\",\"hours\")","v":"hours"},{"$f":"IF(H996=1,IF(Worksheet!$D$10=1,RANDBETWEEN(1,9)*6,IF(Worksheet!$D$10=2,RANDBETWEEN(1,19)*3,RANDBETWEEN(1,59))),(J996-INT(J996))*60)","v":54},"minutes","=",{"$f":"IF(Worksheet!$D$7=1,1,IF(Worksheet!$D$7=2,2,RANDBETWEEN(1,2)))","v":1},null,{"$f":"IF(H996=1,C996+E996/60,RANDBETWEEN(1,Worksheet!$D$6)+CHOOSE(Worksheet!$D$10,RANDBETWEEN(1,9)/10,RANDBETWEEN(1,99)/100,RANDBETWEEN(1,999)/1000,RANDBETWEEN(1,9999)/10000,RANDBETWEEN(1,99999)/100000))","v":18.899999999999999},"hours"]
[{"$f":"IF(COUNTIF($B$1:B997,TRUE)=COUNTIF($B$1:B996,TRUE),\"\",COUNTIF($B$1:B997,TRUE))","v":400},{"$f":"Worksheet!$B$13","v":true},{"$f":"IF(H997=1,RANDBETWEEN(1,Worksheet!$D$6),INT(J997))","v":16},{"$f":"IF(C997=1,\"minute\",\"minutes\")","v":"minutes"},{"$f":"IF(H997=1,IF(Worksheet!$D$10=1,RANDBETWEEN(1,9)*6,IF(Worksheet!$D$10=2,RANDBETWEEN(1,19)*3,RANDBETWEEN(1,59))),(J997-INT(J997))*60)","v":54},"seconds","=",{"$f":"IF(Worksheet!$D$7=1,1,IF(Worksheet!$D$7=2,2,RANDBETWEEN(1,2)))","v":1},null,{"$f":"IF(H997=1,C997+E997/60,RANDBETWEEN(1,Worksheet!$D$6)+CHOOSE(Worksheet!$D$10,RANDBETWEEN(1,9)/10,RANDBETWEEN(1,99)/100,RANDBETWEEN(1,999)/1000,RANDBETWEEN(1,9999)/10000,RANDBETWEEN(1,99999)/100000))","v":16.899999999999999},"minutes"]
[{"$f":"IF(COUNTIF($B$1:B998,TRUE)=COUNTIF($B$1:B997,TRUE),\"\",COUNTIF($B$1:B998,TRUE))","v":""},{"$f":"Worksheet!$B$14","v":false},{"$f":"IF(H998=1,RANDBETWEEN(1,Worksheet!$D$6),INT(J998))","v":12},{"$f":"IF(C998=1,\"week\",\"weeks\")","v":"weeks"},{"$f":"IF(H998=1,RANDBETWEEN(1,6),(J998-INT(J998))*7)","v":1.399999999999995},"days","=",{"$f":"IF(Worksheet!$D$7=1,1,IF(Worksheet!$D$7=2,2,RANDBETWEEN(1,2)))","v":2},null,{"$f":"IF(H998=1,C998+E998/7,RANDBETWEEN(1,Worksheet!$D$6)+CHOOSE(Worksheet!$D$10,RANDBETWEEN(1,9)/10,RANDBETWEEN(1,99)/100,RANDBETWEEN(1,999)/1000,RANDBETWEEN(1,9999)/10000,RANDBETWEEN(1,99999)/100000))","v":12.2},"weeks"]
[{"$f":"IF(COUNTIF($B$1:B999,TRUE)=COUNTIF($B$1:B998,TRUE),\"\",COUNTIF($B$1:B999,TRUE))","v":""},{"$f":"Worksheet!$D$12","v":false},{"$f":"IF(H999=1,RANDBETWEEN(1,Worksheet!$D$6),INT(J999))","v":8},{"$f":"IF(C999=1,\"day\",\"days\")","v":"days"},{"$f":"IF(H999=1,RANDBETWEEN(1,23),(J999-INT(J999))*24)","v":10},"hours","=",{"$f":"IF(Worksheet!$D$7=1,1,IF(Worksheet!$D$7=2,2,RANDBETWEEN(1,2)))","v":1},null,{"$f":"IF(H999=1,C999+E999/24,RANDBETWEEN(1,Worksheet!$D$6)+CHOOSE(Worksheet!$D$10,RANDBETWEEN(1,9)/10,RANDBETWEEN(1,99)/100,RANDBETWEEN(1,999)/1000,RANDBETWEEN(1,9999)/10000,RANDBETWEEN(1,99999)/100000))","v":8.4166666666666661},"days"]
[{"$f":"IF(COUNTIF($B$1:B1000,TRUE)=COUNTIF($B$1:B999,TRUE),\"\",COUNTIF($B$1:B1000,TRUE))","v":""},{"$f":"Worksheet!$D$13","v":false},{"$f":"IF(H1000=1,RANDBETWEEN(1,Worksheet!$D$6),INT(J1000))","v":27},{"$f":"IF(C1000=1,\"year\",\"years\")","v":"years"},{"$f":"IF(H1000=1,RANDBETWEEN(1,11),(J1000-INT(J1000))*12)","v":2},"months","=",{"$f":"IF(Worksheet!$D$7=1,1,IF(Worksheet!$D$7=2,2,RANDBETWEEN(1,2)))","v":1},null,{"$f":"IF(H1000=1,C1000+E1000/12,RANDBETWEEN(1,Worksheet!$D$6)+CHOOSE(Worksheet!$D$10,RANDBETWEEN(1,9)/10,RANDBETWEEN(1,99)/100,RANDBETWEEN(1,999)/1000,RANDBETWEEN(1,9999)/10000,RANDBETWEEN(1,99999)/100000))","v":27.166666666666668},"years"]
[{"$f":"COUNTIF($B$1:B1001,TRUE)","v":401},{"$f":"Worksheet!$B$12","v":true},{"$f":"IF(H1001=1,RANDBETWEEN(1,Worksheet!$D$6),INT(J1001))","v":23},{"$f":"IF(C1001=1,\"hour\",\"hours\")","v":"hours"},{"$f":"IF(H1001=1,IF(Worksheet!$D$10=1,RANDBETWEEN(1,9)*6,IF(Worksheet!$D$10=2,RANDBETWEEN(1,19)*3,RANDBETWEEN(1,59))),(J1001-INT(J1001))*60)","v":18.000000000000043},"minutes","=",{"$f":"IF(Worksheet!$D$7=1,1,IF(Worksheet!$D$7=2,2,RANDBETWEEN(1,2)))","v":2},null,{"$f":"IF(H1001=1,C1001+E1001/60,RANDBETWEEN(1,Worksheet!$D$6)+CHOOSE(Worksheet!$D$10,RANDBETWEEN(1,9)/10,RANDBETWEEN(1,99)/100,RANDBETWEEN(1,999)/1000,RANDBETWEEN(1,9999)/10000,RANDBETWEEN(1,99999)/100000))","v":23.3},"hours"]
[{"$f":"IF(COUNTIF($B$1:B1002,TRUE)=COUNTIF($B$1:B1001,TRUE),\"\",COUNTIF($B$1:B1002,TRUE))","v":402},{"$f":"Worksheet!$B$13","v":true},{"$f":"IF(H1002=1,RANDBETWEEN(1,Worksheet!$D$6),INT(J1002))","v":21},{"$f":"IF(C1002=1,\"minute\",\"minutes\")","v":"minutes"},{"$f":"IF(H1002=1,IF(Worksheet!$D$10=1,RANDBETWEEN(1,9)*6,IF(Worksheet!$D$10=2,RANDBETWEEN(1,19)*3,RANDBETWEEN(1,59))),(J1002-INT(J1002))*60)","v":24},"seconds","=",{"$f":"IF(Worksheet!$D$7=1,1,IF(Worksheet!$D$7=2,2,RANDBETWEEN(1,2)))","v":1},null,{"$f":"IF(H1002=1,C1002+E1002/60,RANDBETWEEN(1,Worksheet!$D$6)+CHOOSE(Worksheet!$D$10,RANDBETWEEN(1,9)/10,RANDBETWEEN(1,99)/100,RANDBETWEEN(1,999)/1000,RANDBETWEEN(1,9999)/10000,RANDBETWEEN(1,99999)/100000))","v":21.4},"minutes"]
[{"$f":"IF(COUNTIF($B$1:B1003,TRUE)=COUNTIF($B$1:B1002,TRUE),\"\",COUNTIF($B$1:B1003,TRUE))","v":""},{"$f":"Worksheet!$B$14","v":false},{"$f":"IF(H1003=1,RANDBETWEEN(1,Worksheet!$D$6),INT(J1003))","v":7},{"$f":"IF(C1003=1,\"week\",\"weeks\")","v":"weeks"},{"$f":"IF(H1003=1,RANDBETWEEN(1,6),(J1003-INT(J1003))*7)","v":0.69999999999999751},"days","=",{"$f":"IF(Worksheet!$D$7=1,1,IF(Worksheet!$D$7=2,2,RANDBETWEEN(1,2)))","v":2},null,{"$f":"IF(H1003=1,C1003+E1003/7,RANDBETWEEN(1,Worksheet!$D$6)+CHOOSE(Worksheet!$D$10,RANDBETWEEN(1,9)/10,RANDBETWEEN(1,99)/100,RANDBETWEEN(1,999)/1000,RANDBETWEEN(1,9999)/10000,RANDBETWEEN(1,99999)/100000))","v":7.1},"weeks"]
[{"$f":"IF(COUNTIF($B$1:B1004,TRUE)=COUNTIF($B$1:B1003,TRUE),\"\",COUNTIF($B$1:B1004,TRUE))","v":""},{"$f":"Worksheet!$D$12","v":false},{"$f":"IF(H1004=1,RANDBETWEEN(1,Worksheet!$D$6),INT(J1004))","v":13},{"$f":"IF(C1004=1,\"day\",\"days\")","v":"days"},{"$f":"IF(H1004=1,RANDBETWEEN(1,23),(J1004-INT(J1004))*24)","v":23},"hours","=",{"$f":"IF(Worksheet!$D$7=1,1,IF(Worksheet!$D$7=2,2,RANDBETWEEN(1,2)))","v":1},null,{"$f":"IF(H1004=1,C1004+E1004/24,RANDBETWEEN(1,Worksheet!$D$6)+CHOOSE(Worksheet!$D$10,RANDBETWEEN(1,9)/10,RANDBETWEEN(1,99)/100,RANDBETWEEN(1,999)/1000,RANDBETWEEN(1,9999)/10000,RANDBETWEEN(1,99999)/100000))","v":13.958333333333334},"days"]
[{"$f":"IF(COUNTIF($B$1:B1005,TRUE)=COUNTIF($B$1:B1004,TRUE),\"\",COUNTIF($B$1:B1005,TRUE))","v":""},{"$f":"Worksheet!$D$13","v":false},{"$f":"IF(H1005=1,RANDBETWEEN(1,Worksheet!$D$6),INT(J1005))","v":9},{"$f":"IF(C1005=1,\"year\",\"years\")","v":"years"},{"$f":"IF(H1005=1,RANDBETWEEN(1,11),(J1005-INT(J1005))*12)","v":1},"months","=",{"$f":"IF(Worksheet!$D$7=1,1,IF(Worksheet!$D$7=2,2,RANDBETWEEN(1,2)))","v":1},null,{"$f":"IF(H1005=1,C1005+E1005/12,RANDBETWEEN(1,Worksheet!$D$6)+CHOOSE(Worksheet!$D$10,RANDBETWEEN(1,9)/10,RANDBETWEEN(1,99)/100,RANDBETWEEN(1,999)/1000,RANDBETWEEN(1,9999)/10000,RANDBETWEEN(1,99999)/100000))","v":9.0833333333333339},"years"]
[{"$f":"COUNTIF($B$1:B1006,TRUE)","v":403},{"$f":"Worksheet!$B$12","v":true},{"$f":"IF(H1006=1,RANDBETWEEN(1,Worksheet!$D$6),INT(J1006))","v":27},{"$f":"IF(C1006=1,\"hour\",\"hours\")","v":"hours"},{"$f":"IF(H1006=1,IF(Worksheet!$D$10=1,RANDBETWEEN(1,9)*6,IF(Worksheet!$D$10=2,RANDBETWEEN(1,19)*3,RANDBETWEEN(1,59))),(J1006-INT(J1006))*60)","v":48.000000000000043},"minutes","=",{"$f":"IF(Worksheet!$D$7=1,1,IF(Worksheet!$D$7=2,2,RANDBETWEEN(1,2)))","v":2},null,{"$f":"IF(H1006=1,C1006+E1006/60,RANDBETWEEN(1,Worksheet!$D$6)+CHOOSE(Worksheet!$D$10,RANDBETWEEN(1,9)/10,RANDBETWEEN(1,99)/100,RANDBETWEEN(1,999)/1000,RANDBETWEEN(1,9999)/10000,RANDBETWEEN(1,99999)/100000))","v":27.8},"hours"]
[{"$f":"IF(COUNTIF($B$1:B1007,TRUE)=COUNTIF($B$1:B1006,TRUE),\"\",COUNTIF($B$1:B1007,TRUE))","v":404},{"$f":"Worksheet!$B$13","v":true},{"$f":"IF(H1007=1,RANDBETWEEN(1,Worksheet!$D$6),INT(J1007))","v":8},{"$f":"IF(C1007=1,\"minute\",\"minutes\")","v":"minutes"},{"$f":"IF(H1007=1,IF(Worksheet!$D$10=1,RANDBETWEEN(1,9)*6,IF(Worksheet!$D$10=2,RANDBETWEEN(1,19)*3,RANDBETWEEN(1,59))),(J1007-INT(J1007))*60)","v":48},"seconds","=",{"$f":"IF(Worksheet!$D$7=1,1,IF(Worksheet!$D$7=2,2,RANDBETWEEN(1,2)))","v":1},null,{"$f":"IF(H1007=1,C1007+E1007/60,RANDBETWEEN(1,Worksheet!$D$6)+CHOOSE(Worksheet!$D$10,RANDBETWEEN(1,9)/10,RANDBETWEEN(1,99)/100,RANDBETWEEN(1,999)/1000,RANDBETWEEN(1,9999)/10000,RANDBETWEEN(1,99999)/100000))","v":8.8000000000000007},"minutes"]
[{"$f":"IF(COUNTIF($B$1:B1008,TRUE)=COUNTIF($B$1:B1007,TRUE),\"\",COUNTIF($B$1:B1008,TRUE))","v":""},{"$f":"Worksheet!$B$14","v":false},{"$f":"IF(H1008=1,RANDBETWEEN(1,Worksheet!$D$6),INT(J1008))","v":4},{"$f":"IF(C1008=1,\"week\",\"weeks\")","v":"weeks"},{"$f":"IF(H1008=1,RANDBETWEEN(1,6),(J1008-INT(J1008))*7)","v":4},"days","=",{"$f":"IF(Worksheet!$D$7=1,1,IF(Worksheet!$D$7=2,2,RANDBETWEEN(1,2)))","v":1},null,{"$f":"IF(H1008=1,C1008+E1008/7,RANDBETWEEN(1,Worksheet!$D$6)+CHOOSE(Worksheet!$D$10,RANDBETWEEN(1,9)/10,RANDBETWEEN(1,99)/100,RANDBETWEEN(1,999)/1000,RANDBETWEEN(1,9999)/10000,RANDBETWEEN(1,99999)/100000))","v":4.5714285714285712},"weeks"]
[{"$f":"IF(COUNTIF($B$1:B1009,TRUE)=COUNTIF($B$1:B1008,TRUE),\"\",COUNTIF($B$1:B1009,TRUE))","v":""},{"$f":"Worksheet!$D$12","v":false},{"$f":"IF(H1009=1,RANDBETWEEN(1,Worksheet!$D$6),INT(J1009))","v":14},{"$f":"IF(C1009=1,\"day\",\"days\")","v":"days"},{"$f":"IF(H1009=1,RANDBETWEEN(1,23),(J1009-INT(J1009))*24)","v":3},"hours","=",{"$f":"IF(Worksheet!$D$7=1,1,IF(Worksheet!$D$7=2,2,RANDBETWEEN(1,2)))","v":1},null,{"$f":"IF(H1009=1,C1009+E1009/24,RANDBETWEEN(1,Worksheet!$D$6)+CHOOSE(Worksheet!$D$10,RANDBETWEEN(1,9)/10,RANDBETWEEN(1,99)/100,RANDBETWEEN(1,999)/1000,RANDBETWEEN(1,9999)/10000,RANDBETWEEN(1,99999)/100000))","v":14.125},"days"]
[{"$f":"IF(COUNTIF($B$1:B1010,TRUE)=COUNTIF($B$1:B1009,TRUE),\"\",COUNTIF($B$1:B1010,TRUE))","v":""},{"$f":"Worksheet!$D$13","v":false},{"$f":"IF(H1010=1,RANDBETWEEN(1,Worksheet!$D$6),INT(J1010))","v":9},{"$f":"IF(C1010=1,\"year\",\"years\")","v":"years"},{"$f":"IF(H1010=1,RANDBETWEEN(1,11),(J1010-INT(J1010))*12)","v":3.6000000000000085},"months","=",{"$f":"IF(Worksheet!$D$7=1,1,IF(Worksheet!$D$7=2,2,RANDBETWEEN(1,2)))","v":2},null,{"$f":"IF(H1010=1,C1010+E1010/12,RANDBETWEEN(1,Worksheet!$D$6)+CHOOSE(Worksheet!$D$10,RANDBETWEEN(1,9)/10,RANDBETWEEN(1,99)/100,RANDBETWEEN(1,999)/1000,RANDBETWEEN(1,9999)/10000,RANDBETWEEN(1,99999)/100000))","v":9.3000000000000007},"years"]
[{"$f":"COUNTIF($B$1:B1011,TRUE)","v":405},{"$f":"Worksheet!$B$12","v":true},{"$f":"IF(H1011=1,RANDBETWEEN(1,Worksheet!$D$6),INT(J1011))","v":5},{"$f":"IF(C1011=1,\"hour\",\"hours\")","v":"hours"},{"$f":"IF(H1011=1,IF(Worksheet!$D$10=1,RANDBETWEEN(1,9)*6,IF(Worksheet!$D$10=2,RANDBETWEEN(1,19)*3,RANDBETWEEN(1,59))),(J1011-INT(J1011))*60)","v":24},"minutes","=",{"$f":"IF(Worksheet!$D$7=1,1,IF(Worksheet!$D$7=2,2,RANDBETWEEN(1,2)))","v":1},null,{"$f":"IF(H1011=1,C1011+E1011/60,RANDBETWEEN(1,Worksheet!$D$6)+CHOOSE(Worksheet!$D$10,RANDBETWEEN(1,9)/10,RANDBETWEEN(1,99)/100,RANDBETWEEN(1,999)/1000,RANDBETWEEN(1,9999)/10000,RANDBETWEEN(1,99999)/100000))","v":5.4},"hours"]
[{"$f":"IF(COUNTIF($B$1:B1012,TRUE)=COUNTIF($B$1:B1011,TRUE),\"\",COUNTIF($B$1:B1012,TRUE))","v":406},{"$f":"Worksheet!$B$13","v":true},{"$f":"IF(H1012=1,RANDBETWEEN(1,Worksheet!$D$6),INT(J1012))","v":2},{"$f":"IF(C1012=1,\"minute\",\"minutes\")","v":"minutes"},{"$f":"IF(H1012=1,IF(Worksheet!$D$10=1,RANDBETWEEN(1,9)*6,IF(Worksheet!$D$10=2,RANDBETWEEN(1,19)*3,RANDBETWEEN(1,59))),(J1012-INT(J1012))*60)","v":30},"seconds","=",{"$f":"IF(Worksheet!$D$7=1,1,IF(Worksheet!$D$7=2,2,RANDBETWEEN(1,2)))","v":2},null,{"$f":"IF(H1012=1,C1012+E1012/60,RANDBETWEEN(1,Worksheet!$D$6)+CHOOSE(Worksheet!$D$10,RANDBETWEEN(1,9)/10,RANDBETWEEN(1,99)/100,RANDBETWEEN(1,999)/1000,RANDBETWEEN(1,9999)/10000,RANDBETWEEN(1,99999)/100000))","v":2.5},"minutes"]
[{"$f":"IF(COUNTIF($B$1:B1013,TRUE)=COUNTIF($B$1:B1012,TRUE),\"\",COUNTIF($B$1:B1013,TRUE))","v":""},{"$f":"Worksheet!$B$14","v":false},{"$f":"IF(H1013=1,RANDBETWEEN(1,Worksheet!$D$6),INT(J1013))","v":21},{"$f":"IF(C1013=1,\"week\",\"weeks\")","v":"weeks"},{"$f":"IF(H1013=1,RANDBETWEEN(1,6),(J1013-INT(J1013))*7)","v":2.100000000000005},"days","=",{"$f":"IF(Worksheet!$D$7=1,1,IF(Worksheet!$D$7=2,2,RANDBETWEEN(1,2)))","v":2},null,{"$f":"IF(H1013=1,C1013+E1013/7,RANDBETWEEN(1,Worksheet!$D$6)+CHOOSE(Worksheet!$D$10,RANDBETWEEN(1,9)/10,RANDBETWEEN(1,99)/100,RANDBETWEEN(1,999)/1000,RANDBETWEEN(1,9999)/10000,RANDBETWEEN(1,99999)/100000))","v":21.3},"weeks"]
[{"$f":"IF(COUNTIF($B$1:B1014,TRUE)=COUNTIF($B$1:B1013,TRUE),\"\",COUNTIF($B$1:B1014,TRUE))","v":""},{"$f":"Worksheet!$D$12","v":false},{"$f":"IF(H1014=1,RANDBETWEEN(1,Worksheet!$D$6),INT(J1014))","v":16},{"$f":"IF(C1014=1,\"day\",\"days\")","v":"days"},{"$f":"IF(H1014=1,RANDBETWEEN(1,23),(J1014-INT(J1014))*24)","v":4.7999999999999829},"hours","=",{"$f":"IF(Worksheet!$D$7=1,1,IF(Worksheet!$D$7=2,2,RANDBETWEEN(1,2)))","v":2},null,{"$f":"IF(H1014=1,C1014+E1014/24,RANDBETWEEN(1,Worksheet!$D$6)+CHOOSE(Worksheet!$D$10,RANDBETWEEN(1,9)/10,RANDBETWEEN(1,99)/100,RANDBETWEEN(1,999)/1000,RANDBETWEEN(1,9999)/10000,RANDBETWEEN(1,99999)/100000))","v":16.2},"days"]
[{"$f":"IF(COUNTIF($B$1:B1015,TRUE)=COUNTIF($B$1:B1014,TRUE),\"\",COUNTIF($B$1:B1015,TRUE))","v":""},{"$f":"Worksheet!$D$13","v":false},{"$f":"IF(H1015=1,RANDBETWEEN(1,Worksheet!$D$6),INT(J1015))","v":5},{"$f":"IF(C1015=1,\"year\",\"years\")","v":"years"},{"$f":"IF(H1015=1,RANDBETWEEN(1,11),(J1015-INT(J1015))*12)","v":4.8000000000000043},"months","=",{"$f":"IF(Worksheet!$D$7=1,1,IF(Worksheet!$D$7=2,2,RANDBETWEEN(1,2)))","v":2},null,{"$f":"IF(H1015=1,C1015+E1015/12,RANDBETWEEN(1,Worksheet!$D$6)+CHOOSE(Worksheet!$D$10,RANDBETWEEN(1,9)/10,RANDBETWEEN(1,99)/100,RANDBETWEEN(1,999)/1000,RANDBETWEEN(1,9999)/10000,RANDBETWEEN(1,99999)/100000))","v":5.4},"years"]
[{"$f":"COUNTIF($B$1:B1016,TRUE)","v":407},{"$f":"Worksheet!$B$12","v":true},{"$f":"IF(H1016=1,RANDBETWEEN(1,Worksheet!$D$6),INT(J1016))","v":23},{"$f":"IF(C1016=1,\"hour\",\"hours\")","v":"hours"},{"$f":"IF(H1016=1,IF(Worksheet!$D$10=1,RANDBETWEEN(1,9)*6,IF(Worksheet!$D$10=2,RANDBETWEEN(1,19)*3,RANDBETWEEN(1,59))),(J1016-INT(J1016))*60)","v":48.000000000000043},"minutes","=",{"$f":"IF(Worksheet!$D$7=1,1,IF(Worksheet!$D$7=2,2,RANDBETWEEN(1,2)))","v":2},null,{"$f":"IF(H1016=1,C1016+E1016/60,RANDBETWEEN(1,Worksheet!$D$6)+CHOOSE(Worksheet!$D$10,RANDBETWEEN(1,9)/10,RANDBETWEEN(1,99)/100,RANDBETWEEN(1,999)/1000,RANDBETWEEN(1,9999)/10000,RANDBETWEEN(1,99999)/100000))","v":23.8},"hours"]
[{"$f":"IF(COUNTIF($B$1:B1017,TRUE)=COUNTIF($B$1:B1016,TRUE),\"\",COUNTIF($B$1:B1017,TRUE))","v":408},{"$f":"Worksheet!$B$13","v":true},{"$f":"IF(H1017=1,RANDBETWEEN(1,Worksheet!$D$6),INT(J1017))","v":26},{"$f":"IF(C1017=1,\"minute\",\"minutes\")","v":"minutes"},{"$f":"IF(H1017=1,IF(Worksheet!$D$10=1,RANDBETWEEN(1,9)*6,IF(Worksheet!$D$10=2,RANDBETWEEN(1,19)*3,RANDBETWEEN(1,59))),(J1017-INT(J1017))*60)","v":24},"seconds","=",{"$f":"IF(Worksheet!$D$7=1,1,IF(Worksheet!$D$7=2,2,RANDBETWEEN(1,2)))","v":1},null,{"$f":"IF(H1017=1,C1017+E1017/60,RANDBETWEEN(1,Worksheet!$D$6)+CHOOSE(Worksheet!$D$10,RANDBETWEEN(1,9)/10,RANDBETWEEN(1,99)/100,RANDBETWEEN(1,999)/1000,RANDBETWEEN(1,9999)/10000,RANDBETWEEN(1,99999)/100000))","v":26.4},"minutes"]
[{"$f":"IF(COUNTIF($B$1:B1018,TRUE)=COUNTIF($B$1:B1017,TRUE),\"\",COUNTIF($B$1:B1018,TRUE))","v":""},{"$f":"Worksheet!$B$14","v":false},{"$f":"IF(H1018=1,RANDBETWEEN(1,Worksheet!$D$6),INT(J1018))","v":12},{"$f":"IF(C1018=1,\"week\",\"weeks\")","v":"weeks"},{"$f":"IF(H1018=1,RANDBETWEEN(1,6),(J1018-INT(J1018))*7)","v":0.69999999999999751},"days","=",{"$f":"IF(Worksheet!$D$7=1,1,IF(Worksheet!$D$7=2,2,RANDBETWEEN(1,2)))","v":2},null,{"$f":"IF(H1018=1,C1018+E1018/7,RANDBETWEEN(1,Worksheet!$D$6)+CHOOSE(Worksheet!$D$10,RANDBETWEEN(1,9)/10,RANDBETWEEN(1,99)/100,RANDBETWEEN(1,999)/1000,RANDBETWEEN(1,9999)/10000,RANDBETWEEN(1,99999)/100000))","v":12.1},"weeks"]
[{"$f":"IF(COUNTIF($B$1:B1019,TRUE)=COUNTIF($B$1:B1018,TRUE),\"\",COUNTIF($B$1:B1019,TRUE))","v":""},{"$f":"Worksheet!$D$12","v":false},{"$f":"IF(H1019=1,RANDBETWEEN(1,Worksheet!$D$6),INT(J1019))","v":27},{"$f":"IF(C1019=1,\"day\",\"days\")","v":"days"},{"$f":"IF(H1019=1,RANDBETWEEN(1,23),(J1019-INT(J1019))*24)","v":21.599999999999966},"hours","=",{"$f":"IF(Worksheet!$D$7=1,1,IF(Worksheet!$D$7=2,2,RANDBETWEEN(1,2)))","v":2},null,{"$f":"IF(H1019=1,C1019+E1019/24,RANDBETWEEN(1,Worksheet!$D$6)+CHOOSE(Worksheet!$D$10,RANDBETWEEN(1,9)/10,RANDBETWEEN(1,99)/100,RANDBETWEEN(1,999)/1000,RANDBETWEEN(1,9999)/10000,RANDBETWEEN(1,99999)/100000))","v":27.9},"days"]
[{"$f":"IF(COUNTIF($B$1:B1020,TRUE)=COUNTIF($B$1:B1019,TRUE),\"\",COUNTIF($B$1:B1020,TRUE))","v":""},{"$f":"Worksheet!$D$13","v":false},{"$f":"IF(H1020=1,RANDBETWEEN(1,Worksheet!$D$6),INT(J1020))","v":6},{"$f":"IF(C1020=1,\"year\",\"years\")","v":"years"},{"$f":"IF(H1020=1,RANDBETWEEN(1,11),(J1020-INT(J1020))*12)","v":5},"months","=",{"$f":"IF(Worksheet!$D$7=1,1,IF(Worksheet!$D$7=2,2,RANDBETWEEN(1,2)))","v":1},null,{"$f":"IF(H1020=1,C1020+E1020/12,RANDBETWEEN(1,Worksheet!$D$6)+CHOOSE(Worksheet!$D$10,RANDBETWEEN(1,9)/10,RANDBETWEEN(1,99)/100,RANDBETWEEN(1,999)/1000,RANDBETWEEN(1,9999)/10000,RANDBETWEEN(1,99999)/100000))","v":6.416666666666667},"years"]
[{"$f":"COUNTIF($B$1:B1021,TRUE)","v":409},{"$f":"Worksheet!$B$12","v":true},{"$f":"IF(H1021=1,RANDBETWEEN(1,Worksheet!$D$6),INT(J1021))","v":23},{"$f":"IF(C1021=1,\"hour\",\"hours\")","v":"hours"},{"$f":"IF(H1021=1,IF(Worksheet!$D$10=1,RANDBETWEEN(1,9)*6,IF(Worksheet!$D$10=2,RANDBETWEEN(1,19)*3,RANDBETWEEN(1,59))),(J1021-INT(J1021))*60)","v":23.999999999999915},"minutes","=",{"$f":"IF(Worksheet!$D$7=1,1,IF(Worksheet!$D$7=2,2,RANDBETWEEN(1,2)))","v":2},null,{"$f":"IF(H1021=1,C1021+E1021/60,RANDBETWEEN(1,Worksheet!$D$6)+CHOOSE(Worksheet!$D$10,RANDBETWEEN(1,9)/10,RANDBETWEEN(1,99)/100,RANDBETWEEN(1,999)/1000,RANDBETWEEN(1,9999)/10000,RANDBETWEEN(1,99999)/100000))","v":23.4},"hours"]
[{"$f":"IF(COUNTIF($B$1:B1022,TRUE)=COUNTIF($B$1:B1021,TRUE),\"\",COUNTIF($B$1:B1022,TRUE))","v":410},{"$f":"Worksheet!$B$13","v":true},{"$f":"IF(H1022=1,RANDBETWEEN(1,Worksheet!$D$6),INT(J1022))","v":28},{"$f":"IF(C1022=1,\"minute\",\"minutes\")","v":"minutes"},{"$f":"IF(H1022=1,IF(Worksheet!$D$10=1,RANDBETWEEN(1,9)*6,IF(Worksheet!$D$10=2,RANDBETWEEN(1,19)*3,RANDBETWEEN(1,59))),(J1022-INT(J1022))*60)","v":23.999999999999915},"seconds","=",{"$f":"IF(Worksheet!$D$7=1,1,IF(Worksheet!$D$7=2,2,RANDBETWEEN(1,2)))","v":2},null,{"$f":"IF(H1022=1,C1022+E1022/60,RANDBETWEEN(1,Worksheet!$D$6)+CHOOSE(Worksheet!$D$10,RANDBETWEEN(1,9)/10,RANDBETWEEN(1,99)/100,RANDBETWEEN(1,999)/1000,RANDBETWEEN(1,9999)/10000,RANDBETWEEN(1,99999)/100000))","v":28.4},"minutes"]
[{"$f":"IF(COUNTIF($B$1:B1023,TRUE)=COUNTIF($B$1:B1022,TRUE),\"\",COUNTIF($B$1:B1023,TRUE))","v":""},{"$f":"Worksheet!$B$14","v":false},{"$f":"IF(H1023=1,RANDBETWEEN(1,Worksheet!$D$6),INT(J1023))","v":9},{"$f":"IF(C1023=1,\"week\",\"weeks\")","v":"weeks"},{"$f":"IF(H1023=1,RANDBETWEEN(1,6),(J1023-INT(J1023))*7)","v":3},"days","=",{"$f":"IF(Worksheet!$D$7=1,1,IF(Worksheet!$D$7=2,2,RANDBETWEEN(1,2)))","v":1},null,{"$f":"IF(H1023=1,C1023+E1023/7,RANDBETWEEN(1,Worksheet!$D$6)+CHOOSE(Worksheet!$D$10,RANDBETWEEN(1,9)/10,RANDBETWEEN(1,99)/100,RANDBETWEEN(1,999)/1000,RANDBETWEEN(1,9999)/10000,RANDBETWEEN(1,99999)/100000))","v":9.4285714285714288},"weeks"]
[{"$f":"IF(COUNTIF($B$1:B1024,TRUE)=COUNTIF($B$1:B1023,TRUE),\"\",COUNTIF($B$1:B1024,TRUE))","v":""},{"$f":"Worksheet!$D$12","v":false},{"$f":"IF(H1024=1,RANDBETWEEN(1,Worksheet!$D$6),INT(J1024))","v":21},{"$f":"IF(C1024=1,\"day\",\"days\")","v":"days"},{"$f":"IF(H1024=1,RANDBETWEEN(1,23),(J1024-INT(J1024))*24)","v":12},"hours","=",{"$f":"IF(Worksheet!$D$7=1,1,IF(Worksheet!$D$7=2,2,RANDBETWEEN(1,2)))","v":2},null,{"$f":"IF(H1024=1,C1024+E1024/24,RANDBETWEEN(1,Worksheet!$D$6)+CHOOSE(Worksheet!$D$10,RANDBETWEEN(1,9)/10,RANDBETWEEN(1,99)/100,RANDBETWEEN(1,999)/1000,RANDBETWEEN(1,9999)/10000,RANDBETWEEN(1,99999)/100000))","v":21.5},"days"]
[{"$f":"IF(COUNTIF($B$1:B1025,TRUE)=COUNTIF($B$1:B1024,TRUE),\"\",COUNTIF($B$1:B1025,TRUE))","v":""},{"$f":"Worksheet!$D$13","v":false},{"$f":"IF(H1025=1,RANDBETWEEN(1,Worksheet!$D$6),INT(J1025))","v":17},{"$f":"IF(C1025=1,\"year\",\"years\")","v":"years"},{"$f":"IF(H1025=1,RANDBETWEEN(1,11),(J1025-INT(J1025))*12)","v":2.3999999999999915},"months","=",{"$f":"IF(Worksheet!$D$7=1,1,IF(Worksheet!$D$7=2,2,RANDBETWEEN(1,2)))","v":2},null,{"$f":"IF(H1025=1,C1025+E1025/12,RANDBETWEEN(1,Worksheet!$D$6)+CHOOSE(Worksheet!$D$10,RANDBETWEEN(1,9)/10,RANDBETWEEN(1,99)/100,RANDBETWEEN(1,999)/1000,RANDBETWEEN(1,9999)/10000,RANDBETWEEN(1,99999)/100000))","v":17.2},"years"]
[{"$f":"COUNTIF($B$1:B1026,TRUE)","v":411},{"$f":"Worksheet!$B$12","v":true},{"$f":"IF(H1026=1,RANDBETWEEN(1,Worksheet!$D$6),INT(J1026))","v":20},{"$f":"IF(C1026=1,\"hour\",\"hours\")","v":"hours"},{"$f":"IF(H1026=1,IF(Worksheet!$D$10=1,RANDBETWEEN(1,9)*6,IF(Worksheet!$D$10=2,RANDBETWEEN(1,19)*3,RANDBETWEEN(1,59))),(J1026-INT(J1026))*60)","v":6},"minutes","=",{"$f":"IF(Worksheet!$D$7=1,1,IF(Worksheet!$D$7=2,2,RANDBETWEEN(1,2)))","v":1},null,{"$f":"IF(H1026=1,C1026+E1026/60,RANDBETWEEN(1,Worksheet!$D$6)+CHOOSE(Worksheet!$D$10,RANDBETWEEN(1,9)/10,RANDBETWEEN(1,99)/100,RANDBETWEEN(1,999)/1000,RANDBETWEEN(1,9999)/10000,RANDBETWEEN(1,99999)/100000))","v":20.100000000000001},"hours"]
[{"$f":"IF(COUNTIF($B$1:B1027,TRUE)=COUNTIF($B$1:B1026,TRUE),\"\",COUNTIF($B$1:B1027,TRUE))","v":412},{"$f":"Worksheet!$B$13","v":true},{"$f":"IF(H1027=1,RANDBETWEEN(1,Worksheet!$D$6),INT(J1027))","v":24},{"$f":"IF(C1027=1,\"minute\",\"minutes\")","v":"minutes"},{"$f":"IF(H1027=1,IF(Worksheet!$D$10=1,RANDBETWEEN(1,9)*6,IF(Worksheet!$D$10=2,RANDBETWEEN(1,19)*3,RANDBETWEEN(1,59))),(J1027-INT(J1027))*60)","v":36.000000000000085},"seconds","=",{"$f":"IF(Worksheet!$D$7=1,1,IF(Worksheet!$D$7=2,2,RANDBETWEEN(1,2)))","v":2},null,{"$f":"IF(H1027=1,C1027+E1027/60,RANDBETWEEN(1,Worksheet!$D$6)+CHOOSE(Worksheet!$D$10,RANDBETWEEN(1,9)/10,RANDBETWEEN(1,99)/100,RANDBETWEEN(1,999)/1000,RANDBETWEEN(1,9999)/10000,RANDBETWEEN(1,99999)/100000))","v":24.6},"minutes"]
[{"$f":"IF(COUNTIF($B$1:B1028,TRUE)=COUNTIF($B$1:B1027,TRUE),\"\",COUNTIF($B$1:B1028,TRUE))","v":""},{"$f":"Worksheet!$B$14","v":false},{"$f":"IF(H1028=1,RANDBETWEEN(1,Worksheet!$D$6),INT(J1028))","v":30},{"$f":"IF(C1028=1,\"week\",\"weeks\")","v":"weeks"},{"$f":"IF(H1028=1,RANDBETWEEN(1,6),(J1028-INT(J1028))*7)","v":6},"days","=",{"$f":"IF(Worksheet!$D$7=1,1,IF(Worksheet!$D$7=2,2,RANDBETWEEN(1,2)))","v":1},null,{"$f":"IF(H1028=1,C1028+E1028/7,RANDBETWEEN(1,Worksheet!$D$6)+CHOOSE(Worksheet!$D$10,RANDBETWEEN(1,9)/10,RANDBETWEEN(1,99)/100,RANDBETWEEN(1,999)/1000,RANDBETWEEN(1,9999)/10000,RANDBETWEEN(1,99999)/100000))","v":30.857142857142858},"weeks"]
[{"$f":"IF(COUNTIF($B$1:B1029,TRUE)=COUNTIF($B$1:B1028,TRUE),\"\",COUNTIF($B$1:B1029,TRUE))","v":""},{"$f":"Worksheet!$D$12","v":false},{"$f":"IF(H1029=1,RANDBETWEEN(1,Worksheet!$D$6),INT(J1029))","v":3},{"$f":"IF(C1029=1,\"day\",\"days\")","v":"days"},{"$f":"IF(H1029=1,RANDBETWEEN(1,23),(J1029-INT(J1029))*24)","v":9.5999999999999979},"hours","=",{"$f":"IF(Worksheet!$D$7=1,1,IF(Worksheet!$D$7=2,2,RANDBETWEEN(1,2)))","v":2},null,{"$f":"IF(H1029=1,C1029+E1029/24,RANDBETWEEN(1,Worksheet!$D$6)+CHOOSE(Worksheet!$D$10,RANDBETWEEN(1,9)/10,RANDBETWEEN(1,99)/100,RANDBETWEEN(1,999)/1000,RANDBETWEEN(1,9999)/10000,RANDBETWEEN(1,99999)/100000))","v":3.4},"days"]
[{"$f":"IF(COUNTIF($B$1:B1030,TRUE)=COUNTIF($B$1:B1029,TRUE),\"\",COUNTIF($B$1:B1030,TRUE))","v":""},{"$f":"Worksheet!$D$13","v":false},{"$f":"IF(H1030=1,RANDBETWEEN(1,Worksheet!$D$6),INT(J1030))","v":20},{"$f":"IF(C1030=1,\"year\",\"years\")","v":"years"},{"$f":"IF(H1030=1,RANDBETWEEN(1,11),(J1030-INT(J1030))*12)","v":10.799999999999983},"months","=",{"$f":"IF(Worksheet!$D$7=1,1,IF(Worksheet!$D$7=2,2,RANDBETWEEN(1,2)))","v":2},null,{"$f":"IF(H1030=1,C1030+E1030/12,RANDBETWEEN(1,Worksheet!$D$6)+CHOOSE(Worksheet!$D$10,RANDBETWEEN(1,9)/10,RANDBETWEEN(1,99)/100,RANDBETWEEN(1,999)/1000,RANDBETWEEN(1,9999)/10000,RANDBETWEEN(1,99999)/100000))","v":20.9},"years"]
[{"$f":"COUNTIF($B$1:B1031,TRUE)","v":413},{"$f":"Worksheet!$B$12","v":true},{"$f":"IF(H1031=1,RANDBETWEEN(1,Worksheet!$D$6),INT(J1031))","v":17},{"$f":"IF(C1031=1,\"hour\",\"hours\")","v":"hours"},{"$f":"IF(H1031=1,IF(Worksheet!$D$10=1,RANDBETWEEN(1,9)*6,IF(Worksheet!$D$10=2,RANDBETWEEN(1,19)*3,RANDBETWEEN(1,59))),(J1031-INT(J1031))*60)","v":18.000000000000043},"minutes","=",{"$f":"IF(Worksheet!$D$7=1,1,IF(Worksheet!$D$7=2,2,RANDBETWEEN(1,2)))","v":2},null,{"$f":"IF(H1031=1,C1031+E1031/60,RANDBETWEEN(1,Worksheet!$D$6)+CHOOSE(Worksheet!$D$10,RANDBETWEEN(1,9)/10,RANDBETWEEN(1,99)/100,RANDBETWEEN(1,999)/1000,RANDBETWEEN(1,9999)/10000,RANDBETWEEN(1,99999)/100000))","v":17.3},"hours"]
[{"$f":"IF(COUNTIF($B$1:B1032,TRUE)=COUNTIF($B$1:B1031,TRUE),\"\",COUNTIF($B$1:B1032,TRUE))","v":414},{"$f":"Worksheet!$B$13","v":true},{"$f":"IF(H1032=1,RANDBETWEEN(1,Worksheet!$D$6),INT(J1032))","v":8},{"$f":"IF(C1032=1,\"minute\",\"minutes\")","v":"minutes"},{"$f":"IF(H1032=1,IF(Worksheet!$D$10=1,RANDBETWEEN(1,9)*6,IF(Worksheet!$D$10=2,RANDBETWEEN(1,19)*3,RANDBETWEEN(1,59))),(J1032-INT(J1032))*60)","v":30},"seconds","=",{"$f":"IF(Worksheet!$D$7=1,1,IF(Worksheet!$D$7=2,2,RANDBETWEEN(1,2)))","v":1},null,{"$f":"IF(H1032=1,C1032+E1032/60,RANDBETWEEN(1,Worksheet!$D$6)+CHOOSE(Worksheet!$D$10,RANDBETWEEN(1,9)/10,RANDBETWEEN(1,99)/100,RANDBETWEEN(1,999)/1000,RANDBETWEEN(1,9999)/10000,RANDBETWEEN(1,99999)/100000))","v":8.5},"minutes"]
[{"$f":"IF(COUNTIF($B$1:B1033,TRUE)=COUNTIF($B$1:B1032,TRUE),\"\",COUNTIF($B$1:B1033,TRUE))","v":""},{"$f":"Worksheet!$B$14","v":false},{"$f":"IF(H1033=1,RANDBETWEEN(1,Worksheet!$D$6),INT(J1033))","v":28},{"$f":"IF(C1033=1,\"week\",\"weeks\")","v":"weeks"},{"$f":"IF(H1033=1,RANDBETWEEN(1,6),(J1033-INT(J1033))*7)","v":6},"days","=",{"$f":"IF(Worksheet!$D$7=1,1,IF(Worksheet!$D$7=2,2,RANDBETWEEN(1,2)))","v":1},null,{"$f":"IF(H1033=1,C1033+E1033/7,RANDBETWEEN(1,Worksheet!$D$6)+CHOOSE(Worksheet!$D$10,RANDBETWEEN(1,9)/10,RANDBETWEEN(1,99)/100,RANDBETWEEN(1,999)/1000,RANDBETWEEN(1,9999)/10000,RANDBETWEEN(1,99999)/100000))","v":28.857142857142858},"weeks"]
[{"$f":"IF(COUNTIF($B$1:B1034,TRUE)=COUNTIF($B$1:B1033,TRUE),\"\",COUNTIF($B$1:B1034,TRUE))","v":""},{"$f":"Worksheet!$D$12","v":false},{"$f":"IF(H1034=1,RANDBETWEEN(1,Worksheet!$D$6),INT(J1034))","v":7},{"$f":"IF(C1034=1,\"day\",\"days\")","v":"days"},{"$f":"IF(H1034=1,RANDBETWEEN(1,23),(J1034-INT(J1034))*24)","v":18},"hours","=",{"$f":"IF(Worksheet!$D$7=1,1,IF(Worksheet!$D$7=2,2,RANDBETWEEN(1,2)))","v":1},null,{"$f":"IF(H1034=1,C1034+E1034/24,RANDBETWEEN(1,Worksheet!$D$6)+CHOOSE(Worksheet!$D$10,RANDBETWEEN(1,9)/10,RANDBETWEEN(1,99)/100,RANDBETWEEN(1,999)/1000,RANDBETWEEN(1,9999)/10000,RANDBETWEEN(1,99999)/100000))","v":7.75},"days"]
[{"$f":"IF(COUNTIF($B$1:B1035,TRUE)=COUNTIF($B$1:B1034,TRUE),\"\",COUNTIF($B$1:B1035,TRUE))","v":""},{"$f":"Worksheet!$D$13","v":false},{"$f":"IF(H1035=1,RANDBETWEEN(1,Worksheet!$D$6),INT(J1035))","v":14},{"$f":"IF(C1035=1,\"year\",\"years\")","v":"years"},{"$f":"IF(H1035=1,RANDBETWEEN(1,11),(J1035-INT(J1035))*12)","v":8.3999999999999915},"months","=",{"$f":"IF(Worksheet!$D$7=1,1,IF(Worksheet!$D$7=2,2,RANDBETWEEN(1,2)))","v":2},null,{"$f":"IF(H1035=1,C1035+E1035/12,RANDBETWEEN(1,Worksheet!$D$6)+CHOOSE(Worksheet!$D$10,RANDBETWEEN(1,9)/10,RANDBETWEEN(1,99)/100,RANDBETWEEN(1,999)/1000,RANDBETWEEN(1,9999)/10000,RANDBETWEEN(1,99999)/100000))","v":14.7},"years"]
[{"$f":"COUNTIF($B$1:B1036,TRUE)","v":415},{"$f":"Worksheet!$B$12","v":true},{"$f":"IF(H1036=1,RANDBETWEEN(1,Worksheet!$D$6),INT(J1036))","v":25},{"$f":"IF(C1036=1,\"hour\",\"hours\")","v":"hours"},{"$f":"IF(H1036=1,IF(Worksheet!$D$10=1,RANDBETWEEN(1,9)*6,IF(Worksheet!$D$10=2,RANDBETWEEN(1,19)*3,RANDBETWEEN(1,59))),(J1036-INT(J1036))*60)","v":6.0000000000000853},"minutes","=",{"$f":"IF(Worksheet!$D$7=1,1,IF(Worksheet!$D$7=2,2,RANDBETWEEN(1,2)))","v":2},null,{"$f":"IF(H1036=1,C1036+E1036/60,RANDBETWEEN(1,Worksheet!$D$6)+CHOOSE(Worksheet!$D$10,RANDBETWEEN(1,9)/10,RANDBETWEEN(1,99)/100,RANDBETWEEN(1,999)/1000,RANDBETWEEN(1,9999)/10000,RANDBETWEEN(1,99999)/100000))","v":25.1},"hours"]
[{"$f":"IF(COUNTIF($B$1:B1037,TRUE)=COUNTIF($B$1:B1036,TRUE),\"\",COUNTIF($B$1:B1037,TRUE))","v":416},{"$f":"Worksheet!$B$13","v":true},{"$f":"IF(H1037=1,RANDBETWEEN(1,Worksheet!$D$6),INT(J1037))","v":28},{"$f":"IF(C1037=1,\"minute\",\"minutes\")","v":"minutes"},{"$f":"IF(H1037=1,IF(Worksheet!$D$10=1,RANDBETWEEN(1,9)*6,IF(Worksheet!$D$10=2,RANDBETWEEN(1,19)*3,RANDBETWEEN(1,59))),(J1037-INT(J1037))*60)","v":54},"seconds","=",{"$f":"IF(Worksheet!$D$7=1,1,IF(Worksheet!$D$7=2,2,RANDBETWEEN(1,2)))","v":1},null,{"$f":"IF(H1037=1,C1037+E1037/60,RANDBETWEEN(1,Worksheet!$D$6)+CHOOSE(Worksheet!$D$10,RANDBETWEEN(1,9)/10,RANDBETWEEN(1,99)/100,RANDBETWEEN(1,999)/1000,RANDBETWEEN(1,9999)/10000,RANDBETWEEN(1,99999)/100000))","v":28.9},"minutes"]
[{"$f":"IF(COUNTIF($B$1:B1038,TRUE)=COUNTIF($B$1:B1037,TRUE),\"\",COUNTIF($B$1:B1038,TRUE))","v":""},{"$f":"Worksheet!$B$14","v":false},{"$f":"IF(H1038=1,RANDBETWEEN(1,Worksheet!$D$6),INT(J1038))","v":10},{"$f":"IF(C1038=1,\"week\",\"weeks\")","v":"weeks"},{"$f":"IF(H1038=1,RANDBETWEEN(1,6),(J1038-INT(J1038))*7)","v":4},"days","=",{"$f":"IF(Worksheet!$D$7=1,1,IF(Worksheet!$D$7=2,2,RANDBETWEEN(1,2)))","v":1},null,{"$f":"IF(H1038=1,C1038+E1038/7,RANDBETWEEN(1,Worksheet!$D$6)+CHOOSE(Worksheet!$D$10,RANDBETWEEN(1,9)/10,RANDBETWEEN(1,99)/100,RANDBETWEEN(1,999)/1000,RANDBETWEEN(1,9999)/10000,RANDBETWEEN(1,99999)/100000))","v":10.571428571428571},"weeks"]
[{"$f":"IF(COUNTIF($B$1:B1039,TRUE)=COUNTIF($B$1:B1038,TRUE),\"\",COUNTIF($B$1:B1039,TRUE))","v":""},{"$f":"Worksheet!$D$12","v":false},{"$f":"IF(H1039=1,RANDBETWEEN(1,Worksheet!$D$6),INT(J1039))","v":14},{"$f":"IF(C1039=1,\"day\",\"days\")","v":"days"},{"$f":"IF(H1039=1,RANDBETWEEN(1,23),(J1039-INT(J1039))*24)","v":4.7999999999999829},"hours","=",{"$f":"IF(Worksheet!$D$7=1,1,IF(Worksheet!$D$7=2,2,RANDBETWEEN(1,2)))","v":2},null,{"$f":"IF(H1039=1,C1039+E1039/24,RANDBETWEEN(1,Worksheet!$D$6)+CHOOSE(Worksheet!$D$10,RANDBETWEEN(1,9)/10,RANDBETWEEN(1,99)/100,RANDBETWEEN(1,999)/1000,RANDBETWEEN(1,9999)/10000,RANDBETWEEN(1,99999)/100000))","v":14.2},"days"]
[{"$f":"IF(COUNTIF($B$1:B1040,TRUE)=COUNTIF($B$1:B1039,TRUE),\"\",COUNTIF($B$1:B1040,TRUE))","v":""},{"$f":"Worksheet!$D$13","v":false},{"$f":"IF(H1040=1,RANDBETWEEN(1,Worksheet!$D$6),INT(J1040))","v":29},{"$f":"IF(C1040=1,\"year\",\"years\")","v":"years"},{"$f":"IF(H1040=1,RANDBETWEEN(1,11),(J1040-INT(J1040))*12)","v":3},"months","=",{"$f":"IF(Worksheet!$D$7=1,1,IF(Worksheet!$D$7=2,2,RANDBETWEEN(1,2)))","v":1},null,{"$f":"IF(H1040=1,C1040+E1040/12,RANDBETWEEN(1,Worksheet!$D$6)+CHOOSE(Worksheet!$D$10,RANDBETWEEN(1,9)/10,RANDBETWEEN(1,99)/100,RANDBETWEEN(1,999)/1000,RANDBETWEEN(1,9999)/10000,RANDBETWEEN(1,99999)/100000))","v":29.25},"years"]
[{"$f":"COUNTIF($B$1:B1041,TRUE)","v":417},{"$f":"Worksheet!$B$12","v":true},{"$f":"IF(H1041=1,RANDBETWEEN(1,Worksheet!$D$6),INT(J1041))","v":7},{"$f":"IF(C1041=1,\"hour\",\"hours\")","v":"hours"},{"$f":"IF(H1041=1,IF(Worksheet!$D$10=1,RANDBETWEEN(1,9)*6,IF(Worksheet!$D$10=2,RANDBETWEEN(1,19)*3,RANDBETWEEN(1,59))),(J1041-INT(J1041))*60)","v":42},"minutes","=",{"$f":"IF(Worksheet!$D$7=1,1,IF(Worksheet!$D$7=2,2,RANDBETWEEN(1,2)))","v":1},null,{"$f":"IF(H1041=1,C1041+E1041/60,RANDBETWEEN(1,Worksheet!$D$6)+CHOOSE(Worksheet!$D$10,RANDBETWEEN(1,9)/10,RANDBETWEEN(1,99)/100,RANDBETWEEN(1,999)/1000,RANDBETWEEN(1,9999)/10000,RANDBETWEEN(1,99999)/100000))","v":7.7},"hours"]
[{"$f":"IF(COUNTIF($B$1:B1042,TRUE)=COUNTIF($B$1:B1041,TRUE),\"\",COUNTIF($B$1:B1042,TRUE))","v":418},{"$f":"Worksheet!$B$13","v":true},{"$f":"IF(H1042=1,RANDBETWEEN(1,Worksheet!$D$6),INT(J1042))","v":14},{"$f":"IF(C1042=1,\"minute\",\"minutes\")","v":"minutes"},{"$f":"IF(H1042=1,IF(Worksheet!$D$10=1,RANDBETWEEN(1,9)*6,IF(Worksheet!$D$10=2,RANDBETWEEN(1,19)*3,RANDBETWEEN(1,59))),(J1042-INT(J1042))*60)","v":30},"seconds","=",{"$f":"IF(Worksheet!$D$7=1,1,IF(Worksheet!$D$7=2,2,RANDBETWEEN(1,2)))","v":2},null,{"$f":"IF(H1042=1,C1042+E1042/60,RANDBETWEEN(1,Worksheet!$D$6)+CHOOSE(Worksheet!$D$10,RANDBETWEEN(1,9)/10,RANDBETWEEN(1,99)/100,RANDBETWEEN(1,999)/1000,RANDBETWEEN(1,9999)/10000,RANDBETWEEN(1,99999)/100000))","v":14.5},"minutes"]
[{"$f":"IF(COUNTIF($B$1:B1043,TRUE)=COUNTIF($B$1:B1042,TRUE),\"\",COUNTIF($B$1:B1043,TRUE))","v":""},{"$f":"Worksheet!$B$14","v":false},{"$f":"IF(H1043=1,RANDBETWEEN(1,Worksheet!$D$6),INT(J1043))","v":14},{"$f":"IF(C1043=1,\"week\",\"weeks\")","v":"weeks"},{"$f":"IF(H1043=1,RANDBETWEEN(1,6),(J1043-INT(J1043))*7)","v":0.69999999999999751},"days","=",{"$f":"IF(Worksheet!$D$7=1,1,IF(Worksheet!$D$7=2,2,RANDBETWEEN(1,2)))","v":2},null,{"$f":"IF(H1043=1,C1043+E1043/7,RANDBETWEEN(1,Worksheet!$D$6)+CHOOSE(Worksheet!$D$10,RANDBETWEEN(1,9)/10,RANDBETWEEN(1,99)/100,RANDBETWEEN(1,999)/1000,RANDBETWEEN(1,9999)/10000,RANDBETWEEN(1,99999)/100000))","v":14.1},"weeks"]
[{"$f":"IF(COUNTIF($B$1:B1044,TRUE)=COUNTIF($B$1:B1043,TRUE),\"\",COUNTIF($B$1:B1044,TRUE))","v":""},{"$f":"Worksheet!$D$12","v":false},{"$f":"IF(H1044=1,RANDBETWEEN(1,Worksheet!$D$6),INT(J1044))","v":24},{"$f":"IF(C1044=1,\"day\",\"days\")","v":"days"},{"$f":"IF(H1044=1,RANDBETWEEN(1,23),(J1044-INT(J1044))*24)","v":16},"hours","=",{"$f":"IF(Worksheet!$D$7=1,1,IF(Worksheet!$D$7=2,2,RANDBETWEEN(1,2)))","v":1},null,{"$f":"IF(H1044=1,C1044+E1044/24,RANDBETWEEN(1,Worksheet!$D$6)+CHOOSE(Worksheet!$D$10,RANDBETWEEN(1,9)/10,RANDBETWEEN(1,99)/100,RANDBETWEEN(1,999)/1000,RANDBETWEEN(1,9999)/10000,RANDBETWEEN(1,99999)/100000))","v":24.666666666666668},"days"]
[{"$f":"IF(COUNTIF($B$1:B1045,TRUE)=COUNTIF($B$1:B1044,TRUE),\"\",COUNTIF($B$1:B1045,TRUE))","v":""},{"$f":"Worksheet!$D$13","v":false},{"$f":"IF(H1045=1,RANDBETWEEN(1,Worksheet!$D$6),INT(J1045))","v":15},{"$f":"IF(C1045=1,\"year\",\"years\")","v":"years"},{"$f":"IF(H1045=1,RANDBETWEEN(1,11),(J1045-INT(J1045))*12)","v":6},"months","=",{"$f":"IF(Worksheet!$D$7=1,1,IF(Worksheet!$D$7=2,2,RANDBETWEEN(1,2)))","v":2},null,{"$f":"IF(H1045=1,C1045+E1045/12,RANDBETWEEN(1,Worksheet!$D$6)+CHOOSE(Worksheet!$D$10,RANDBETWEEN(1,9)/10,RANDBETWEEN(1,99)/100,RANDBETWEEN(1,999)/1000,RANDBETWEEN(1,9999)/10000,RANDBETWEEN(1,99999)/100000))","v":15.5},"years"]
[{"$f":"COUNTIF($B$1:B1046,TRUE)","v":419},{"$f":"Worksheet!$B$12","v":true},{"$f":"IF(H1046=1,RANDBETWEEN(1,Worksheet!$D$6),INT(J1046))","v":24},{"$f":"IF(C1046=1,\"hour\",\"hours\")","v":"hours"},{"$f":"IF(H1046=1,IF(Worksheet!$D$10=1,RANDBETWEEN(1,9)*6,IF(Worksheet!$D$10=2,RANDBETWEEN(1,19)*3,RANDBETWEEN(1,59))),(J1046-INT(J1046))*60)","v":18},"minutes","=",{"$f":"IF(Worksheet!$D$7=1,1,IF(Worksheet!$D$7=2,2,RANDBETWEEN(1,2)))","v":1},null,{"$f":"IF(H1046=1,C1046+E1046/60,RANDBETWEEN(1,Worksheet!$D$6)+CHOOSE(Worksheet!$D$10,RANDBETWEEN(1,9)/10,RANDBETWEEN(1,99)/100,RANDBETWEEN(1,999)/1000,RANDBETWEEN(1,9999)/10000,RANDBETWEEN(1,99999)/100000))","v":24.3},"hours"]
[{"$f":"IF(COUNTIF($B$1:B1047,TRUE)=COUNTIF($B$1:B1046,TRUE),\"\",COUNTIF($B$1:B1047,TRUE))","v":420},{"$f":"Worksheet!$B$13","v":true},{"$f":"IF(H1047=1,RANDBETWEEN(1,Worksheet!$D$6),INT(J1047))","v":1},{"$f":"IF(C1047=1,\"minute\",\"minutes\")","v":"minute"},{"$f":"IF(H1047=1,IF(Worksheet!$D$10=1,RANDBETWEEN(1,9)*6,IF(Worksheet!$D$10=2,RANDBETWEEN(1,19)*3,RANDBETWEEN(1,59))),(J1047-INT(J1047))*60)","v":42},"seconds","=",{"$f":"IF(Worksheet!$D$7=1,1,IF(Worksheet!$D$7=2,2,RANDBETWEEN(1,2)))","v":2},null,{"$f":"IF(H1047=1,C1047+E1047/60,RANDBETWEEN(1,Worksheet!$D$6)+CHOOSE(Worksheet!$D$10,RANDBETWEEN(1,9)/10,RANDBETWEEN(1,99)/100,RANDBETWEEN(1,999)/1000,RANDBETWEEN(1,9999)/10000,RANDBETWEEN(1,99999)/100000))","v":1.7},"minute"]
[{"$f":"IF(COUNTIF($B$1:B1048,TRUE)=COUNTIF($B$1:B1047,TRUE),\"\",COUNTIF($B$1:B1048,TRUE))","v":""},{"$f":"Worksheet!$B$14","v":false},{"$f":"IF(H1048=1,RANDBETWEEN(1,Worksheet!$D$6),INT(J1048))","v":25},{"$f":"IF(C1048=1,\"week\",\"weeks\")","v":"weeks"},{"$f":"IF(H1048=1,RANDBETWEEN(1,6),(J1048-INT(J1048))*7)","v":6},"days","=",{"$f":"IF(Worksheet!$D$7=1,1,IF(Worksheet!$D$7=2,2,RANDBETWEEN(1,2)))","v":1},null,{"$f":"IF(H1048=1,C1048+E1048/7,RANDBETWEEN(1,Worksheet!$D$6)+CHOOSE(Worksheet!$D$10,RANDBETWEEN(1,9)/10,RANDBETWEEN(1,99)/100,RANDBETWEEN(1,999)/1000,RANDBETWEEN(1,9999)/10000,RANDBETWEEN(1,99999)/100000))","v":25.857142857142858},"weeks"]
[{"$f":"IF(COUNTIF($B$1:B1049,TRUE)=COUNTIF($B$1:B1048,TRUE),\"\",COUNTIF($B$1:B1049,TRUE))","v":""},{"$f":"Worksheet!$D$12","v":false},{"$f":"IF(H1049=1,RANDBETWEEN(1,Worksheet!$D$6),INT(J1049))","v":13},{"$f":"IF(C1049=1,\"day\",\"days\")","v":"days"},{"$f":"IF(H1049=1,RANDBETWEEN(1,23),(J1049-INT(J1049))*24)","v":2.3999999999999915},"hours","=",{"$f":"IF(Worksheet!$D$7=1,1,IF(Worksheet!$D$7=2,2,RANDBETWEEN(1,2)))","v":2},null,{"$f":"IF(H1049=1,C1049+E1049/24,RANDBETWEEN(1,Worksheet!$D$6)+CHOOSE(Worksheet!$D$10,RANDBETWEEN(1,9)/10,RANDBETWEEN(1,99)/100,RANDBETWEEN(1,999)/1000,RANDBETWEEN(1,9999)/10000,RANDBETWEEN(1,99999)/100000))","v":13.1},"days"]
[{"$f":"IF(COUNTIF($B$1:B1050,TRUE)=COUNTIF($B$1:B1049,TRUE),\"\",COUNTIF($B$1:B1050,TRUE))","v":""},{"$f":"Worksheet!$D$13","v":false},{"$f":"IF(H1050=1,RANDBETWEEN(1,Worksheet!$D$6),INT(J1050))","v":28},{"$f":"IF(C1050=1,\"year\",\"years\")","v":"years"},{"$f":"IF(H1050=1,RANDBETWEEN(1,11),(J1050-INT(J1050))*12)","v":9.6000000000000085},"months","=",{"$f":"IF(Worksheet!$D$7=1,1,IF(Worksheet!$D$7=2,2,RANDBETWEEN(1,2)))","v":2},null,{"$f":"IF(H1050=1,C1050+E1050/12,RANDBETWEEN(1,Worksheet!$D$6)+CHOOSE(Worksheet!$D$10,RANDBETWEEN(1,9)/10,RANDBETWEEN(1,99)/100,RANDBETWEEN(1,999)/1000,RANDBETWEEN(1,9999)/10000,RANDBETWEEN(1,99999)/100000))","v":28.8},"years"]
[{"$f":"COUNTIF($B$1:B1051,TRUE)","v":421},{"$f":"Worksheet!$B$12","v":true},{"$f":"IF(H1051=1,RANDBETWEEN(1,Worksheet!$D$6),INT(J1051))","v":10},{"$f":"IF(C1051=1,\"hour\",\"hours\")","v":"hours"},{"$f":"IF(H1051=1,IF(Worksheet!$D$10=1,RANDBETWEEN(1,9)*6,IF(Worksheet!$D$10=2,RANDBETWEEN(1,19)*3,RANDBETWEEN(1,59))),(J1051-INT(J1051))*60)","v":48},"minutes","=",{"$f":"IF(Worksheet!$D$7=1,1,IF(Worksheet!$D$7=2,2,RANDBETWEEN(1,2)))","v":1},null,{"$f":"IF(H1051=1,C1051+E1051/60,RANDBETWEEN(1,Worksheet!$D$6)+CHOOSE(Worksheet!$D$10,RANDBETWEEN(1,9)/10,RANDBETWEEN(1,99)/100,RANDBETWEEN(1,999)/1000,RANDBETWEEN(1,9999)/10000,RANDBETWEEN(1,99999)/100000))","v":10.8},"hours"]
[{"$f":"IF(COUNTIF($B$1:B1052,TRUE)=COUNTIF($B$1:B1051,TRUE),\"\",COUNTIF($B$1:B1052,TRUE))","v":422},{"$f":"Worksheet!$B$13","v":true},{"$f":"IF(H1052=1,RANDBETWEEN(1,Worksheet!$D$6),INT(J1052))","v":9},{"$f":"IF(C1052=1,\"minute\",\"minutes\")","v":"minutes"},{"$f":"IF(H1052=1,IF(Worksheet!$D$10=1,RANDBETWEEN(1,9)*6,IF(Worksheet!$D$10=2,RANDBETWEEN(1,19)*3,RANDBETWEEN(1,59))),(J1052-INT(J1052))*60)","v":54.000000000000021},"seconds","=",{"$f":"IF(Worksheet!$D$7=1,1,IF(Worksheet!$D$7=2,2,RANDBETWEEN(1,2)))","v":2},null,{"$f":"IF(H1052=1,C1052+E1052/60,RANDBETWEEN(1,Worksheet!$D$6)+CHOOSE(Worksheet!$D$10,RANDBETWEEN(1,9)/10,RANDBETWEEN(1,99)/100,RANDBETWEEN(1,999)/1000,RANDBETWEEN(1,9999)/10000,RANDBETWEEN(1,99999)/100000))","v":9.9},"minutes"]
[{"$f":"IF(COUNTIF($B$1:B1053,TRUE)=COUNTIF($B$1:B1052,TRUE),\"\",COUNTIF($B$1:B1053,TRUE))","v":""},{"$f":"Worksheet!$B$14","v":false},{"$f":"IF(H1053=1,RANDBETWEEN(1,Worksheet!$D$6),INT(J1053))","v":3},{"$f":"IF(C1053=1,\"week\",\"weeks\")","v":"weeks"},{"$f":"IF(H1053=1,RANDBETWEEN(1,6),(J1053-INT(J1053))*7)","v":2.0999999999999988},"days","=",{"$f":"IF(Worksheet!$D$7=1,1,IF(Worksheet!$D$7=2,2,RANDBETWEEN(1,2)))","v":2},null,{"$f":"IF(H1053=1,C1053+E1053/7,RANDBETWEEN(1,Worksheet!$D$6)+CHOOSE(Worksheet!$D$10,RANDBETWEEN(1,9)/10,RANDBETWEEN(1,99)/100,RANDBETWEEN(1,999)/1000,RANDBETWEEN(1,9999)/10000,RANDBETWEEN(1,99999)/100000))","v":3.3},"weeks"]
[{"$f":"IF(COUNTIF($B$1:B1054,TRUE)=COUNTIF($B$1:B1053,TRUE),\"\",COUNTIF($B$1:B1054,TRUE))","v":""},{"$f":"Worksheet!$D$12","v":false},{"$f":"IF(H1054=1,RANDBETWEEN(1,Worksheet!$D$6),INT(J1054))","v":17},{"$f":"IF(C1054=1,\"day\",\"days\")","v":"days"},{"$f":"IF(H1054=1,RANDBETWEEN(1,23),(J1054-INT(J1054))*24)","v":7},"hours","=",{"$f":"IF(Worksheet!$D$7=1,1,IF(Worksheet!$D$7=2,2,RANDBETWEEN(1,2)))","v":1},null,{"$f":"IF(H1054=1,C1054+E1054/24,RANDBETWEEN(1,Worksheet!$D$6)+CHOOSE(Worksheet!$D$10,RANDBETWEEN(1,9)/10,RANDBETWEEN(1,99)/100,RANDBETWEEN(1,999)/1000,RANDBETWEEN(1,9999)/10000,RANDBETWEEN(1,99999)/100000))","v":17.291666666666668},"days"]
[{"$f":"IF(COUNTIF($B$1:B1055,TRUE)=COUNTIF($B$1:B1054,TRUE),\"\",COUNTIF($B$1:B1055,TRUE))","v":""},{"$f":"Worksheet!$D$13","v":false},{"$f":"IF(H1055=1,RANDBETWEEN(1,Worksheet!$D$6),INT(J1055))","v":7},{"$f":"IF(C1055=1,\"year\",\"years\")","v":"years"},{"$f":"IF(H1055=1,RANDBETWEEN(1,11),(J1055-INT(J1055))*12)","v":5},"months","=",{"$f":"IF(Worksheet!$D$7=1,1,IF(Worksheet!$D$7=2,2,RANDBETWEEN(1,2)))","v":1},null,{"$f":"IF(H1055=1,C1055+E1055/12,RANDBETWEEN(1,Worksheet!$D$6)+CHOOSE(Worksheet!$D$10,RANDBETWEEN(1,9)/10,RANDBETWEEN(1,99)/100,RANDBETWEEN(1,999)/1000,RANDBETWEEN(1,9999)/10000,RANDBETWEEN(1,99999)/100000))","v":7.416666666666667},{"$f":"D1055","v":"years"}]
[{"$f":"COUNTIF($B$1:B1056,TRUE)","v":423},{"$f":"Worksheet!$B$12","v":true},{"$f":"IF(H1056=1,RANDBETWEEN(1,Worksheet!$D$6),INT(J1056))","v":27},{"$f":"IF(C1056=1,\"hour\",\"hours\")","v":"hours"},{"$f":"IF(H1056=1,IF(Worksheet!$D$10=1,RANDBETWEEN(1,9)*6,IF(Worksheet!$D$10=2,RANDBETWEEN(1,19)*3,RANDBETWEEN(1,59))),(J1056-INT(J1056))*60)","v":12},"minutes","=",{"$f":"IF(Worksheet!$D$7=1,1,IF(Worksheet!$D$7=2,2,RANDBETWEEN(1,2)))","v":1},null,{"$f":"IF(H1056=1,C1056+E1056/60,RANDBETWEEN(1,Worksheet!$D$6)+CHOOSE(Worksheet!$D$10,RANDBETWEEN(1,9)/10,RANDBETWEEN(1,99)/100,RANDBETWEEN(1,999)/1000,RANDBETWEEN(1,9999)/10000,RANDBETWEEN(1,99999)/100000))","v":27.2},"hours"]
[{"$f":"IF(COUNTIF($B$1:B1057,TRUE)=COUNTIF($B$1:B1056,TRUE),\"\",COUNTIF($B$1:B1057,TRUE))","v":424},{"$f":"Worksheet!$B$13","v":true},{"$f":"IF(H1057=1,RANDBETWEEN(1,Worksheet!$D$6),INT(J1057))","v":13},{"$f":"IF(C1057=1,\"minute\",\"minutes\")","v":"minutes"},{"$f":"IF(H1057=1,IF(Worksheet!$D$10=1,RANDBETWEEN(1,9)*6,IF(Worksheet!$D$10=2,RANDBETWEEN(1,19)*3,RANDBETWEEN(1,59))),(J1057-INT(J1057))*60)","v":12},"seconds","=",{"$f":"IF(Worksheet!$D$7=1,1,IF(Worksheet!$D$7=2,2,RANDBETWEEN(1,2)))","v":1},null,{"$f":"IF(H1057=1,C1057+E1057/60,RANDBETWEEN(1,Worksheet!$D$6)+CHOOSE(Worksheet!$D$10,RANDBETWEEN(1,9)/10,RANDBETWEEN(1,99)/100,RANDBETWEEN(1,999)/1000,RANDBETWEEN(1,9999)/10000,RANDBETWEEN(1,99999)/100000))","v":13.2},"minutes"]
[{"$f":"IF(COUNTIF($B$1:B1058,TRUE)=COUNTIF($B$1:B1057,TRUE),\"\",COUNTIF($B$1:B1058,TRUE))","v":""},{"$f":"Worksheet!$B$14","v":false},{"$f":"IF(H1058=1,RANDBETWEEN(1,Worksheet!$D$6),INT(J1058))","v":29},{"$f":"IF(C1058=1,\"week\",\"weeks\")","v":"weeks"},{"$f":"IF(H1058=1,RANDBETWEEN(1,6),(J1058-INT(J1058))*7)","v":2.7999999999999901},"days","=",{"$f":"IF(Worksheet!$D$7=1,1,IF(Worksheet!$D$7=2,2,RANDBETWEEN(1,2)))","v":2},null,{"$f":"IF(H1058=1,C1058+E1058/7,RANDBETWEEN(1,Worksheet!$D$6)+CHOOSE(Worksheet!$D$10,RANDBETWEEN(1,9)/10,RANDBETWEEN(1,99)/100,RANDBETWEEN(1,999)/1000,RANDBETWEEN(1,9999)/10000,RANDBETWEEN(1,99999)/100000))","v":29.4},"weeks"]
[{"$f":"IF(COUNTIF($B$1:B1059,TRUE)=COUNTIF($B$1:B1058,TRUE),\"\",COUNTIF($B$1:B1059,TRUE))","v":""},{"$f":"Worksheet!$D$12","v":false},{"$f":"IF(H1059=1,RANDBETWEEN(1,Worksheet!$D$6),INT(J1059))","v":3},{"$f":"IF(C1059=1,\"day\",\"days\")","v":"days"},{"$f":"IF(H1059=1,RANDBETWEEN(1,23),(J1059-INT(J1059))*24)","v":19},"hours","=",{"$f":"IF(Worksheet!$D$7=1,1,IF(Worksheet!$D$7=2,2,RANDBETWEEN(1,2)))","v":1},null,{"$f":"IF(H1059=1,C1059+E1059/24,RANDBETWEEN(1,Worksheet!$D$6)+CHOOSE(Worksheet!$D$10,RANDBETWEEN(1,9)/10,RANDBETWEEN(1,99)/100,RANDBETWEEN(1,999)/1000,RANDBETWEEN(1,9999)/10000,RANDBETWEEN(1,99999)/100000))","v":3.7916666666666665},"days"]
[{"$f":"IF(COUNTIF($B$1:B1060,TRUE)=COUNTIF($B$1:B1059,TRUE),\"\",COUNTIF($B$1:B1060,TRUE))","v":""},{"$f":"Worksheet!$D$13","v":false},{"$f":"IF(H1060=1,RANDBETWEEN(1,Worksheet!$D$6),INT(J1060))","v":12},{"$f":"IF(C1060=1,\"year\",\"years\")","v":"years"},{"$f":"IF(H1060=1,RANDBETWEEN(1,11),(J1060-INT(J1060))*12)","v":9.6000000000000085},"months","=",{"$f":"IF(Worksheet!$D$7=1,1,IF(Worksheet!$D$7=2,2,RANDBETWEEN(1,2)))","v":2},null,{"$f":"IF(H1060=1,C1060+E1060/12,RANDBETWEEN(1,Worksheet!$D$6)+CHOOSE(Worksheet!$D$10,RANDBETWEEN(1,9)/10,RANDBETWEEN(1,99)/100,RANDBETWEEN(1,999)/1000,RANDBETWEEN(1,9999)/10000,RANDBETWEEN(1,99999)/100000))","v":12.8},"years"]
[{"$f":"COUNTIF($B$1:B1061,TRUE)","v":425},{"$f":"Worksheet!$B$12","v":true},{"$f":"IF(H1061=1,RANDBETWEEN(1,Worksheet!$D$6),INT(J1061))","v":5},{"$f":"IF(C1061=1,\"hour\",\"hours\")","v":"hours"},{"$f":"IF(H1061=1,IF(Worksheet!$D$10=1,RANDBETWEEN(1,9)*6,IF(Worksheet!$D$10=2,RANDBETWEEN(1,19)*3,RANDBETWEEN(1,59))),(J1061-INT(J1061))*60)","v":42.000000000000014},"minutes","=",{"$f":"IF(Worksheet!$D$7=1,1,IF(Worksheet!$D$7=2,2,RANDBETWEEN(1,2)))","v":2},null,{"$f":"IF(H1061=1,C1061+E1061/60,RANDBETWEEN(1,Worksheet!$D$6)+CHOOSE(Worksheet!$D$10,RANDBETWEEN(1,9)/10,RANDBETWEEN(1,99)/100,RANDBETWEEN(1,999)/1000,RANDBETWEEN(1,9999)/10000,RANDBETWEEN(1,99999)/100000))","v":5.7},"hours"]
[{"$f":"IF(COUNTIF($B$1:B1062,TRUE)=COUNTIF($B$1:B1061,TRUE),\"\",COUNTIF($B$1:B1062,TRUE))","v":426},{"$f":"Worksheet!$B$13","v":true},{"$f":"IF(H1062=1,RANDBETWEEN(1,Worksheet!$D$6),INT(J1062))","v":21},{"$f":"IF(C1062=1,\"minute\",\"minutes\")","v":"minutes"},{"$f":"IF(H1062=1,IF(Worksheet!$D$10=1,RANDBETWEEN(1,9)*6,IF(Worksheet!$D$10=2,RANDBETWEEN(1,19)*3,RANDBETWEEN(1,59))),(J1062-INT(J1062))*60)","v":23.999999999999915},"seconds","=",{"$f":"IF(Worksheet!$D$7=1,1,IF(Worksheet!$D$7=2,2,RANDBETWEEN(1,2)))","v":2},null,{"$f":"IF(H1062=1,C1062+E1062/60,RANDBETWEEN(1,Worksheet!$D$6)+CHOOSE(Worksheet!$D$10,RANDBETWEEN(1,9)/10,RANDBETWEEN(1,99)/100,RANDBETWEEN(1,999)/1000,RANDBETWEEN(1,9999)/10000,RANDBETWEEN(1,99999)/100000))","v":21.4},"minutes"]
[{"$f":"IF(COUNTIF($B$1:B1063,TRUE)=COUNTIF($B$1:B1062,TRUE),\"\",COUNTIF($B$1:B1063,TRUE))","v":""},{"$f":"Worksheet!$B$14","v":false},{"$f":"IF(H1063=1,RANDBETWEEN(1,Worksheet!$D$6),INT(J1063))","v":25},{"$f":"IF(C1063=1,\"week\",\"weeks\")","v":"weeks"},{"$f":"IF(H1063=1,RANDBETWEEN(1,6),(J1063-INT(J1063))*7)","v":5},"days","=",{"$f":"IF(Worksheet!$D$7=1,1,IF(Worksheet!$D$7=2,2,RANDBETWEEN(1,2)))","v":1},null,{"$f":"IF(H1063=1,C1063+E1063/7,RANDBETWEEN(1,Worksheet!$D$6)+CHOOSE(Worksheet!$D$10,RANDBETWEEN(1,9)/10,RANDBETWEEN(1,99)/100,RANDBETWEEN(1,999)/1000,RANDBETWEEN(1,9999)/10000,RANDBETWEEN(1,99999)/100000))","v":25.714285714285715},"weeks"]
[{"$f":"IF(COUNTIF($B$1:B1064,TRUE)=COUNTIF($B$1:B1063,TRUE),\"\",COUNTIF($B$1:B1064,TRUE))","v":""},{"$f":"Worksheet!$D$12","v":false},{"$f":"IF(H1064=1,RANDBETWEEN(1,Worksheet!$D$6),INT(J1064))","v":27},{"$f":"IF(C1064=1,\"day\",\"days\")","v":"days"},{"$f":"IF(H1064=1,RANDBETWEEN(1,23),(J1064-INT(J1064))*24)","v":21.599999999999966},"hours","=",{"$f":"IF(Worksheet!$D$7=1,1,IF(Worksheet!$D$7=2,2,RANDBETWEEN(1,2)))","v":2},null,{"$f":"IF(H1064=1,C1064+E1064/24,RANDBETWEEN(1,Worksheet!$D$6)+CHOOSE(Worksheet!$D$10,RANDBETWEEN(1,9)/10,RANDBETWEEN(1,99)/100,RANDBETWEEN(1,999)/1000,RANDBETWEEN(1,9999)/10000,RANDBETWEEN(1,99999)/100000))","v":27.9},"days"]
[{"$f":"IF(COUNTIF($B$1:B1065,TRUE)=COUNTIF($B$1:B1064,TRUE),\"\",COUNTIF($B$1:B1065,TRUE))","v":""},{"$f":"Worksheet!$D$13","v":false},{"$f":"IF(H1065=1,RANDBETWEEN(1,Worksheet!$D$6),INT(J1065))","v":19},{"$f":"IF(C1065=1,\"year\",\"years\")","v":"years"},{"$f":"IF(H1065=1,RANDBETWEEN(1,11),(J1065-INT(J1065))*12)","v":4},"months","=",{"$f":"IF(Worksheet!$D$7=1,1,IF(Worksheet!$D$7=2,2,RANDBETWEEN(1,2)))","v":1},null,{"$f":"IF(H1065=1,C1065+E1065/12,RANDBETWEEN(1,Worksheet!$D$6)+CHOOSE(Worksheet!$D$10,RANDBETWEEN(1,9)/10,RANDBETWEEN(1,99)/100,RANDBETWEEN(1,999)/1000,RANDBETWEEN(1,9999)/10000,RANDBETWEEN(1,99999)/100000))","v":19.333333333333332},"years"]
[{"$f":"COUNTIF($B$1:B1066,TRUE)","v":427},{"$f":"Worksheet!$B$12","v":true},{"$f":"IF(H1066=1,RANDBETWEEN(1,Worksheet!$D$6),INT(J1066))","v":25},{"$f":"IF(C1066=1,\"hour\",\"hours\")","v":"hours"},{"$f":"IF(H1066=1,IF(Worksheet!$D$10=1,RANDBETWEEN(1,9)*6,IF(Worksheet!$D$10=2,RANDBETWEEN(1,19)*3,RANDBETWEEN(1,59))),(J1066-INT(J1066))*60)","v":23.999999999999915},"minutes","=",{"$f":"IF(Worksheet!$D$7=1,1,IF(Worksheet!$D$7=2,2,RANDBETWEEN(1,2)))","v":2},null,{"$f":"IF(H1066=1,C1066+E1066/60,RANDBETWEEN(1,Worksheet!$D$6)+CHOOSE(Worksheet!$D$10,RANDBETWEEN(1,9)/10,RANDBETWEEN(1,99)/100,RANDBETWEEN(1,999)/1000,RANDBETWEEN(1,9999)/10000,RANDBETWEEN(1,99999)/100000))","v":25.4},"hours"]
[{"$f":"IF(COUNTIF($B$1:B1067,TRUE)=COUNTIF($B$1:B1066,TRUE),\"\",COUNTIF($B$1:B1067,TRUE))","v":428},{"$f":"Worksheet!$B$13","v":true},{"$f":"IF(H1067=1,RANDBETWEEN(1,Worksheet!$D$6),INT(J1067))","v":15},{"$f":"IF(C1067=1,\"minute\",\"minutes\")","v":"minutes"},{"$f":"IF(H1067=1,IF(Worksheet!$D$10=1,RANDBETWEEN(1,9)*6,IF(Worksheet!$D$10=2,RANDBETWEEN(1,19)*3,RANDBETWEEN(1,59))),(J1067-INT(J1067))*60)","v":54},"seconds","=",{"$f":"IF(Worksheet!$D$7=1,1,IF(Worksheet!$D$7=2,2,RANDBETWEEN(1,2)))","v":1},null,{"$f":"IF(H1067=1,C1067+E1067/60,RANDBETWEEN(1,Worksheet!$D$6)+CHOOSE(Worksheet!$D$10,RANDBETWEEN(1,9)/10,RANDBETWEEN(1,99)/100,RANDBETWEEN(1,999)/1000,RANDBETWEEN(1,9999)/10000,RANDBETWEEN(1,99999)/100000))","v":15.9},"minutes"]
[{"$f":"IF(COUNTIF($B$1:B1068,TRUE)=COUNTIF($B$1:B1067,TRUE),\"\",COUNTIF($B$1:B1068,TRUE))","v":""},{"$f":"Worksheet!$B$14","v":false},{"$f":"IF(H1068=1,RANDBETWEEN(1,Worksheet!$D$6),INT(J1068))","v":2},{"$f":"IF(C1068=1,\"week\",\"weeks\")","v":"weeks"},{"$f":"IF(H1068=1,RANDBETWEEN(1,6),(J1068-INT(J1068))*7)","v":5.5999999999999988},"days","=",{"$f":"IF(Worksheet!$D$7=1,1,IF(Worksheet!$D$7=2,2,RANDBETWEEN(1,2)))","v":2},null,{"$f":"IF(H1068=1,C1068+E1068/7,RANDBETWEEN(1,Worksheet!$D$6)+CHOOSE(Worksheet!$D$10,RANDBETWEEN(1,9)/10,RANDBETWEEN(1,99)/100,RANDBETWEEN(1,999)/1000,RANDBETWEEN(1,9999)/10000,RANDBETWEEN(1,99999)/100000))","v":2.8},"weeks"]
[{"$f":"IF(COUNTIF($B$1:B1069,TRUE)=COUNTIF($B$1:B1068,TRUE),\"\",COUNTIF($B$1:B1069,TRUE))","v":""},{"$f":"Worksheet!$D$12","v":false},{"$f":"IF(H1069=1,RANDBETWEEN(1,Worksheet!$D$6),INT(J1069))","v":17},{"$f":"IF(C1069=1,\"day\",\"days\")","v":"days"},{"$f":"IF(H1069=1,RANDBETWEEN(1,23),(J1069-INT(J1069))*24)","v":21.599999999999966},"hours","=",{"$f":"IF(Worksheet!$D$7=1,1,IF(Worksheet!$D$7=2,2,RANDBETWEEN(1,2)))","v":2},null,{"$f":"IF(H1069=1,C1069+E1069/24,RANDBETWEEN(1,Worksheet!$D$6)+CHOOSE(Worksheet!$D$10,RANDBETWEEN(1,9)/10,RANDBETWEEN(1,99)/100,RANDBETWEEN(1,999)/1000,RANDBETWEEN(1,9999)/10000,RANDBETWEEN(1,99999)/100000))","v":17.899999999999999},"days"]
[{"$f":"IF(COUNTIF($B$1:B1070,TRUE)=COUNTIF($B$1:B1069,TRUE),\"\",COUNTIF($B$1:B1070,TRUE))","v":""},{"$f":"Worksheet!$D$13","v":false},{"$f":"IF(H1070=1,RANDBETWEEN(1,Worksheet!$D$6),INT(J1070))","v":12},{"$f":"IF(C1070=1,\"year\",\"years\")","v":"years"},{"$f":"IF(H1070=1,RANDBETWEEN(1,11),(J1070-INT(J1070))*12)","v":10.800000000000004},"months","=",{"$f":"IF(Worksheet!$D$7=1,1,IF(Worksheet!$D$7=2,2,RANDBETWEEN(1,2)))","v":2},null,{"$f":"IF(H1070=1,C1070+E1070/12,RANDBETWEEN(1,Worksheet!$D$6)+CHOOSE(Worksheet!$D$10,RANDBETWEEN(1,9)/10,RANDBETWEEN(1,99)/100,RANDBETWEEN(1,999)/1000,RANDBETWEEN(1,9999)/10000,RANDBETWEEN(1,99999)/100000))","v":12.9},"years"]
[{"$f":"COUNTIF($B$1:B1071,TRUE)","v":429},{"$f":"Worksheet!$B$12","v":true},{"$f":"IF(H1071=1,RANDBETWEEN(1,Worksheet!$D$6),INT(J1071))","v":11},{"$f":"IF(C1071=1,\"hour\",\"hours\")","v":"hours"},{"$f":"IF(H1071=1,IF(Worksheet!$D$10=1,RANDBETWEEN(1,9)*6,IF(Worksheet!$D$10=2,RANDBETWEEN(1,19)*3,RANDBETWEEN(1,59))),(J1071-INT(J1071))*60)","v":54},"minutes","=",{"$f":"IF(Worksheet!$D$7=1,1,IF(Worksheet!$D$7=2,2,RANDBETWEEN(1,2)))","v":1},null,{"$f":"IF(H1071=1,C1071+E1071/60,RANDBETWEEN(1,Worksheet!$D$6)+CHOOSE(Worksheet!$D$10,RANDBETWEEN(1,9)/10,RANDBETWEEN(1,99)/100,RANDBETWEEN(1,999)/1000,RANDBETWEEN(1,9999)/10000,RANDBETWEEN(1,99999)/100000))","v":11.9},"hours"]
[{"$f":"IF(COUNTIF($B$1:B1072,TRUE)=COUNTIF($B$1:B1071,TRUE),\"\",COUNTIF($B$1:B1072,TRUE))","v":430},{"$f":"Worksheet!$B$13","v":true},{"$f":"IF(H1072=1,RANDBETWEEN(1,Worksheet!$D$6),INT(J1072))","v":5},{"$f":"IF(C1072=1,\"minute\",\"minutes\")","v":"minutes"},{"$f":"IF(H1072=1,IF(Worksheet!$D$10=1,RANDBETWEEN(1,9)*6,IF(Worksheet!$D$10=2,RANDBETWEEN(1,19)*3,RANDBETWEEN(1,59))),(J1072-INT(J1072))*60)","v":30},"seconds","=",{"$f":"IF(Worksheet!$D$7=1,1,IF(Worksheet!$D$7=2,2,RANDBETWEEN(1,2)))","v":1},null,{"$f":"IF(H1072=1,C1072+E1072/60,RANDBETWEEN(1,Worksheet!$D$6)+CHOOSE(Worksheet!$D$10,RANDBETWEEN(1,9)/10,RANDBETWEEN(1,99)/100,RANDBETWEEN(1,999)/1000,RANDBETWEEN(1,9999)/10000,RANDBETWEEN(1,99999)/100000))","v":5.5},"minutes"]
[{"$f":"IF(COUNTIF($B$1:B1073,TRUE)=COUNTIF($B$1:B1072,TRUE),\"\",COUNTIF($B$1:B1073,TRUE))","v":""},{"$f":"Worksheet!$B$14","v":false},{"$f":"IF(H1073=1,RANDBETWEEN(1,Worksheet!$D$6),INT(J1073))","v":27},{"$f":"IF(C1073=1,\"week\",\"weeks\")","v":"weeks"},{"$f":"IF(H1073=1,RANDBETWEEN(1,6),(J1073-INT(J1073))*7)","v":2},"days","=",{"$f":"IF(Worksheet!$D$7=1,1,IF(Worksheet!$D$7=2,2,RANDBETWEEN(1,2)))","v":1},null,{"$f":"IF(H1073=1,C1073+E1073/7,RANDBETWEEN(1,Worksheet!$D$6)+CHOOSE(Worksheet!$D$10,RANDBETWEEN(1,9)/10,RANDBETWEEN(1,99)/100,RANDBETWEEN(1,999)/1000,RANDBETWEEN(1,9999)/10000,RANDBETWEEN(1,99999)/100000))","v":27.285714285714285},"weeks"]
[{"$f":"IF(COUNTIF($B$1:B1074,TRUE)=COUNTIF($B$1:B1073,TRUE),\"\",COUNTIF($B$1:B1074,TRUE))","v":""},{"$f":"Worksheet!$D$12","v":false},{"$f":"IF(H1074=1,RANDBETWEEN(1,Worksheet!$D$6),INT(J1074))","v":15},{"$f":"IF(C1074=1,\"day\",\"days\")","v":"days"},{"$f":"IF(H1074=1,RANDBETWEEN(1,23),(J1074-INT(J1074))*24)","v":20},"hours","=",{"$f":"IF(Worksheet!$D$7=1,1,IF(Worksheet!$D$7=2,2,RANDBETWEEN(1,2)))","v":1},null,{"$f":"IF(H1074=1,C1074+E1074/24,RANDBETWEEN(1,Worksheet!$D$6)+CHOOSE(Worksheet!$D$10,RANDBETWEEN(1,9)/10,RANDBETWEEN(1,99)/100,RANDBETWEEN(1,999)/1000,RANDBETWEEN(1,9999)/10000,RANDBETWEEN(1,99999)/100000))","v":15.833333333333334},"days"]
[{"$f":"IF(COUNTIF($B$1:B1075,TRUE)=COUNTIF($B$1:B1074,TRUE),\"\",COUNTIF($B$1:B1075,TRUE))","v":""},{"$f":"Worksheet!$D$13","v":false},{"$f":"IF(H1075=1,RANDBETWEEN(1,Worksheet!$D$6),INT(J1075))","v":7},{"$f":"IF(C1075=1,\"year\",\"years\")","v":"years"},{"$f":"IF(H1075=1,RANDBETWEEN(1,11),(J1075-INT(J1075))*12)","v":9},"months","=",{"$f":"IF(Worksheet!$D$7=1,1,IF(Worksheet!$D$7=2,2,RANDBETWEEN(1,2)))","v":1},null,{"$f":"IF(H1075=1,C1075+E1075/12,RANDBETWEEN(1,Worksheet!$D$6)+CHOOSE(Worksheet!$D$10,RANDBETWEEN(1,9)/10,RANDBETWEEN(1,99)/100,RANDBETWEEN(1,999)/1000,RANDBETWEEN(1,9999)/10000,RANDBETWEEN(1,99999)/100000))","v":7.75},"years"]
[{"$f":"COUNTIF($B$1:B1076,TRUE)","v":431},{"$f":"Worksheet!$B$12","v":true},{"$f":"IF(H1076=1,RANDBETWEEN(1,Worksheet!$D$6),INT(J1076))","v":12},{"$f":"IF(C1076=1,\"hour\",\"hours\")","v":"hours"},{"$f":"IF(H1076=1,IF(Worksheet!$D$10=1,RANDBETWEEN(1,9)*6,IF(Worksheet!$D$10=2,RANDBETWEEN(1,19)*3,RANDBETWEEN(1,59))),(J1076-INT(J1076))*60)","v":30},"minutes","=",{"$f":"IF(Worksheet!$D$7=1,1,IF(Worksheet!$D$7=2,2,RANDBETWEEN(1,2)))","v":1},null,{"$f":"IF(H1076=1,C1076+E1076/60,RANDBETWEEN(1,Worksheet!$D$6)+CHOOSE(Worksheet!$D$10,RANDBETWEEN(1,9)/10,RANDBETWEEN(1,99)/100,RANDBETWEEN(1,999)/1000,RANDBETWEEN(1,9999)/10000,RANDBETWEEN(1,99999)/100000))","v":12.5},"hours"]
[{"$f":"IF(COUNTIF($B$1:B1077,TRUE)=COUNTIF($B$1:B1076,TRUE),\"\",COUNTIF($B$1:B1077,TRUE))","v":432},{"$f":"Worksheet!$B$13","v":true},{"$f":"IF(H1077=1,RANDBETWEEN(1,Worksheet!$D$6),INT(J1077))","v":13},{"$f":"IF(C1077=1,\"minute\",\"minutes\")","v":"minutes"},{"$f":"IF(H1077=1,IF(Worksheet!$D$10=1,RANDBETWEEN(1,9)*6,IF(Worksheet!$D$10=2,RANDBETWEEN(1,19)*3,RANDBETWEEN(1,59))),(J1077-INT(J1077))*60)","v":54.000000000000021},"seconds","=",{"$f":"IF(Worksheet!$D$7=1,1,IF(Worksheet!$D$7=2,2,RANDBETWEEN(1,2)))","v":2},null,{"$f":"IF(H1077=1,C1077+E1077/60,RANDBETWEEN(1,Worksheet!$D$6)+CHOOSE(Worksheet!$D$10,RANDBETWEEN(1,9)/10,RANDBETWEEN(1,99)/100,RANDBETWEEN(1,999)/1000,RANDBETWEEN(1,9999)/10000,RANDBETWEEN(1,99999)/100000))","v":13.9},"minutes"]
[{"$f":"IF(COUNTIF($B$1:B1078,TRUE)=COUNTIF($B$1:B1077,TRUE),\"\",COUNTIF($B$1:B1078,TRUE))","v":""},{"$f":"Worksheet!$B$14","v":false},{"$f":"IF(H1078=1,RANDBETWEEN(1,Worksheet!$D$6),INT(J1078))","v":20},{"$f":"IF(C1078=1,\"week\",\"weeks\")","v":"weeks"},{"$f":"IF(H1078=1,RANDBETWEEN(1,6),(J1078-INT(J1078))*7)","v":5},"days","=",{"$f":"IF(Worksheet!$D$7=1,1,IF(Worksheet!$D$7=2,2,RANDBETWEEN(1,2)))","v":1},null,{"$f":"IF(H1078=1,C1078+E1078/7,RANDBETWEEN(1,Worksheet!$D$6)+CHOOSE(Worksheet!$D$10,RANDBETWEEN(1,9)/10,RANDBETWEEN(1,99)/100,RANDBETWEEN(1,999)/1000,RANDBETWEEN(1,9999)/10000,RANDBETWEEN(1,99999)/100000))","v":20.714285714285715},"weeks"]
[{"$f":"IF(COUNTIF($B$1:B1079,TRUE)=COUNTIF($B$1:B1078,TRUE),\"\",COUNTIF($B$1:B1079,TRUE))","v":""},{"$f":"Worksheet!$D$12","v":false},{"$f":"IF(H1079=1,RANDBETWEEN(1,Worksheet!$D$6),INT(J1079))","v":9},{"$f":"IF(C1079=1,\"day\",\"days\")","v":"days"},{"$f":"IF(H1079=1,RANDBETWEEN(1,23),(J1079-INT(J1079))*24)","v":3},"hours","=",{"$f":"IF(Worksheet!$D$7=1,1,IF(Worksheet!$D$7=2,2,RANDBETWEEN(1,2)))","v":1},null,{"$f":"IF(H1079=1,C1079+E1079/24,RANDBETWEEN(1,Worksheet!$D$6)+CHOOSE(Worksheet!$D$10,RANDBETWEEN(1,9)/10,RANDBETWEEN(1,99)/100,RANDBETWEEN(1,999)/1000,RANDBETWEEN(1,9999)/10000,RANDBETWEEN(1,99999)/100000))","v":9.125},"days"]
[{"$f":"IF(COUNTIF($B$1:B1080,TRUE)=COUNTIF($B$1:B1079,TRUE),\"\",COUNTIF($B$1:B1080,TRUE))","v":""},{"$f":"Worksheet!$D$13","v":false},{"$f":"IF(H1080=1,RANDBETWEEN(1,Worksheet!$D$6),INT(J1080))","v":16},{"$f":"IF(C1080=1,\"year\",\"years\")","v":"years"},{"$f":"IF(H1080=1,RANDBETWEEN(1,11),(J1080-INT(J1080))*12)","v":9},"months","=",{"$f":"IF(Worksheet!$D$7=1,1,IF(Worksheet!$D$7=2,2,RANDBETWEEN(1,2)))","v":1},null,{"$f":"IF(H1080=1,C1080+E1080/12,RANDBETWEEN(1,Worksheet!$D$6)+CHOOSE(Worksheet!$D$10,RANDBETWEEN(1,9)/10,RANDBETWEEN(1,99)/100,RANDBETWEEN(1,999)/1000,RANDBETWEEN(1,9999)/10000,RANDBETWEEN(1,99999)/100000))","v":16.75},"years"]
[{"$f":"COUNTIF($B$1:B1081,TRUE)","v":433},{"$f":"Worksheet!$B$12","v":true},{"$f":"IF(H1081=1,RANDBETWEEN(1,Worksheet!$D$6),INT(J1081))","v":2},{"$f":"IF(C1081=1,\"hour\",\"hours\")","v":"hours"},{"$f":"IF(H1081=1,IF(Worksheet!$D$10=1,RANDBETWEEN(1,9)*6,IF(Worksheet!$D$10=2,RANDBETWEEN(1,19)*3,RANDBETWEEN(1,59))),(J1081-INT(J1081))*60)","v":12},"minutes","=",{"$f":"IF(Worksheet!$D$7=1,1,IF(Worksheet!$D$7=2,2,RANDBETWEEN(1,2)))","v":1},null,{"$f":"IF(H1081=1,C1081+E1081/60,RANDBETWEEN(1,Worksheet!$D$6)+CHOOSE(Worksheet!$D$10,RANDBETWEEN(1,9)/10,RANDBETWEEN(1,99)/100,RANDBETWEEN(1,999)/1000,RANDBETWEEN(1,9999)/10000,RANDBETWEEN(1,99999)/100000))","v":2.2000000000000002},"hours"]
[{"$f":"IF(COUNTIF($B$1:B1082,TRUE)=COUNTIF($B$1:B1081,TRUE),\"\",COUNTIF($B$1:B1082,TRUE))","v":434},{"$f":"Worksheet!$B$13","v":true},{"$f":"IF(H1082=1,RANDBETWEEN(1,Worksheet!$D$6),INT(J1082))","v":8},{"$f":"IF(C1082=1,\"minute\",\"minutes\")","v":"minutes"},{"$f":"IF(H1082=1,IF(Worksheet!$D$10=1,RANDBETWEEN(1,9)*6,IF(Worksheet!$D$10=2,RANDBETWEEN(1,19)*3,RANDBETWEEN(1,59))),(J1082-INT(J1082))*60)","v":11.999999999999957},"seconds","=",{"$f":"IF(Worksheet!$D$7=1,1,IF(Worksheet!$D$7=2,2,RANDBETWEEN(1,2)))","v":2},null,{"$f":"IF(H1082=1,C1082+E1082/60,RANDBETWEEN(1,Worksheet!$D$6)+CHOOSE(Worksheet!$D$10,RANDBETWEEN(1,9)/10,RANDBETWEEN(1,99)/100,RANDBETWEEN(1,999)/1000,RANDBETWEEN(1,9999)/10000,RANDBETWEEN(1,99999)/100000))","v":8.1999999999999993},"minutes"]
[{"$f":"IF(COUNTIF($B$1:B1083,TRUE)=COUNTIF($B$1:B1082,TRUE),\"\",COUNTIF($B$1:B1083,TRUE))","v":""},{"$f":"Worksheet!$B$14","v":false},{"$f":"IF(H1083=1,RANDBETWEEN(1,Worksheet!$D$6),INT(J1083))","v":28},{"$f":"IF(C1083=1,\"week\",\"weeks\")","v":"weeks"},{"$f":"IF(H1083=1,RANDBETWEEN(1,6),(J1083-INT(J1083))*7)","v":4},"days","=",{"$f":"IF(Worksheet!$D$7=1,1,IF(Worksheet!$D$7=2,2,RANDBETWEEN(1,2)))","v":1},null,{"$f":"IF(H1083=1,C1083+E1083/7,RANDBETWEEN(1,Worksheet!$D$6)+CHOOSE(Worksheet!$D$10,RANDBETWEEN(1,9)/10,RANDBETWEEN(1,99)/100,RANDBETWEEN(1,999)/1000,RANDBETWEEN(1,9999)/10000,RANDBETWEEN(1,99999)/100000))","v":28.571428571428573},"weeks"]
[{"$f":"IF(COUNTIF($B$1:B1084,TRUE)=COUNTIF($B$1:B1083,TRUE),\"\",COUNTIF($B$1:B1084,TRUE))","v":""},{"$f":"Worksheet!$D$12","v":false},{"$f":"IF(H1084=1,RANDBETWEEN(1,Worksheet!$D$6),INT(J1084))","v":19},{"$f":"IF(C1084=1,\"day\",\"days\")","v":"days"},{"$f":"IF(H1084=1,RANDBETWEEN(1,23),(J1084-INT(J1084))*24)","v":23},"hours","=",{"$f":"IF(Worksheet!$D$7=1,1,IF(Worksheet!$D$7=2,2,RANDBETWEEN(1,2)))","v":1},null,{"$f":"IF(H1084=1,C1084+E1084/24,RANDBETWEEN(1,Worksheet!$D$6)+CHOOSE(Worksheet!$D$10,RANDBETWEEN(1,9)/10,RANDBETWEEN(1,99)/100,RANDBETWEEN(1,999)/1000,RANDBETWEEN(1,9999)/10000,RANDBETWEEN(1,99999)/100000))","v":19.958333333333332},"days"]
[{"$f":"IF(COUNTIF($B$1:B1085,TRUE)=COUNTIF($B$1:B1084,TRUE),\"\",COUNTIF($B$1:B1085,TRUE))","v":""},{"$f":"Worksheet!$D$13","v":false},{"$f":"IF(H1085=1,RANDBETWEEN(1,Worksheet!$D$6),INT(J1085))","v":22},{"$f":"IF(C1085=1,\"year\",\"years\")","v":"years"},{"$f":"IF(H1085=1,RANDBETWEEN(1,11),(J1085-INT(J1085))*12)","v":4.7999999999999829},"months","=",{"$f":"IF(Worksheet!$D$7=1,1,IF(Worksheet!$D$7=2,2,RANDBETWEEN(1,2)))","v":2},null,{"$f":"IF(H1085=1,C1085+E1085/12,RANDBETWEEN(1,Worksheet!$D$6)+CHOOSE(Worksheet!$D$10,RANDBETWEEN(1,9)/10,RANDBETWEEN(1,99)/100,RANDBETWEEN(1,999)/1000,RANDBETWEEN(1,9999)/10000,RANDBETWEEN(1,99999)/100000))","v":22.4},"years"]
[{"$f":"COUNTIF($B$1:B1086,TRUE)","v":435},{"$f":"Worksheet!$B$12","v":true},{"$f":"IF(H1086=1,RANDBETWEEN(1,Worksheet!$D$6),INT(J1086))","v":24},{"$f":"IF(C1086=1,\"hour\",\"hours\")","v":"hours"},{"$f":"IF(H1086=1,IF(Worksheet!$D$10=1,RANDBETWEEN(1,9)*6,IF(Worksheet!$D$10=2,RANDBETWEEN(1,19)*3,RANDBETWEEN(1,59))),(J1086-INT(J1086))*60)","v":48.000000000000043},"minutes","=",{"$f":"IF(Worksheet!$D$7=1,1,IF(Worksheet!$D$7=2,2,RANDBETWEEN(1,2)))","v":2},null,{"$f":"IF(H1086=1,C1086+E1086/60,RANDBETWEEN(1,Worksheet!$D$6)+CHOOSE(Worksheet!$D$10,RANDBETWEEN(1,9)/10,RANDBETWEEN(1,99)/100,RANDBETWEEN(1,999)/1000,RANDBETWEEN(1,9999)/10000,RANDBETWEEN(1,99999)/100000))","v":24.8},"hours"]
[{"$f":"IF(COUNTIF($B$1:B1087,TRUE)=COUNTIF($B$1:B1086,TRUE),\"\",COUNTIF($B$1:B1087,TRUE))","v":436},{"$f":"Worksheet!$B$13","v":true},{"$f":"IF(H1087=1,RANDBETWEEN(1,Worksheet!$D$6),INT(J1087))","v":28},{"$f":"IF(C1087=1,\"minute\",\"minutes\")","v":"minutes"},{"$f":"IF(H1087=1,IF(Worksheet!$D$10=1,RANDBETWEEN(1,9)*6,IF(Worksheet!$D$10=2,RANDBETWEEN(1,19)*3,RANDBETWEEN(1,59))),(J1087-INT(J1087))*60)","v":24},"seconds","=",{"$f":"IF(Worksheet!$D$7=1,1,IF(Worksheet!$D$7=2,2,RANDBETWEEN(1,2)))","v":1},null,{"$f":"IF(H1087=1,C1087+E1087/60,RANDBETWEEN(1,Worksheet!$D$6)+CHOOSE(Worksheet!$D$10,RANDBETWEEN(1,9)/10,RANDBETWEEN(1,99)/100,RANDBETWEEN(1,999)/1000,RANDBETWEEN(1,9999)/10000,RANDBETWEEN(1,99999)/100000))","v":28.4},"minutes"]
[{"$f":"IF(COUNTIF($B$1:B1088,TRUE)=COUNTIF($B$1:B1087,TRUE),\"\",COUNTIF($B$1:B1088,TRUE))","v":""},{"$f":"Worksheet!$B$14","v":false},{"$f":"IF(H1088=1,RANDBETWEEN(1,Worksheet!$D$6),INT(J1088))","v":10},{"$f":"IF(C1088=1,\"week\",\"weeks\")","v":"weeks"},{"$f":"IF(H1088=1,RANDBETWEEN(1,6),(J1088-INT(J1088))*7)","v":2},"days","=",{"$f":"IF(Worksheet!$D$7=1,1,IF(Worksheet!$D$7=2,2,RANDBETWEEN(1,2)))","v":1},null,{"$f":"IF(H1088=1,C1088+E1088/7,RANDBETWEEN(1,Worksheet!$D$6)+CHOOSE(Worksheet!$D$10,RANDBETWEEN(1,9)/10,RANDBETWEEN(1,99)/100,RANDBETWEEN(1,999)/1000,RANDBETWEEN(1,9999)/10000,RANDBETWEEN(1,99999)/100000))","v":10.285714285714286},"weeks"]
[{"$f":"IF(COUNTIF($B$1:B1089,TRUE)=COUNTIF($B$1:B1088,TRUE),\"\",COUNTIF($B$1:B1089,TRUE))","v":""},{"$f":"Worksheet!$D$12","v":false},{"$f":"IF(H1089=1,RANDBETWEEN(1,Worksheet!$D$6),INT(J1089))","v":19},{"$f":"IF(C1089=1,\"day\",\"days\")","v":"days"},{"$f":"IF(H1089=1,RANDBETWEEN(1,23),(J1089-INT(J1089))*24)","v":2.4000000000000341},"hours","=",{"$f":"IF(Worksheet!$D$7=1,1,IF(Worksheet!$D$7=2,2,RANDBETWEEN(1,2)))","v":2},null,{"$f":"IF(H1089=1,C1089+E1089/24,RANDBETWEEN(1,Worksheet!$D$6)+CHOOSE(Worksheet!$D$10,RANDBETWEEN(1,9)/10,RANDBETWEEN(1,99)/100,RANDBETWEEN(1,999)/1000,RANDBETWEEN(1,9999)/10000,RANDBETWEEN(1,99999)/100000))","v":19.100000000000001},"days"]
[{"$f":"IF(COUNTIF($B$1:B1090,TRUE)=COUNTIF($B$1:B1089,TRUE),\"\",COUNTIF($B$1:B1090,TRUE))","v":""},{"$f":"Worksheet!$D$13","v":false},{"$f":"IF(H1090=1,RANDBETWEEN(1,Worksheet!$D$6),INT(J1090))","v":18},{"$f":"IF(C1090=1,\"year\",\"years\")","v":"years"},{"$f":"IF(H1090=1,RANDBETWEEN(1,11),(J1090-INT(J1090))*12)","v":1.2000000000000171},"months","=",{"$f":"IF(Worksheet!$D$7=1,1,IF(Worksheet!$D$7=2,2,RANDBETWEEN(1,2)))","v":2},null,{"$f":"IF(H1090=1,C1090+E1090/12,RANDBETWEEN(1,Worksheet!$D$6)+CHOOSE(Worksheet!$D$10,RANDBETWEEN(1,9)/10,RANDBETWEEN(1,99)/100,RANDBETWEEN(1,999)/1000,RANDBETWEEN(1,9999)/10000,RANDBETWEEN(1,99999)/100000))","v":18.100000000000001},"years"]
[{"$f":"COUNTIF($B$1:B1091,TRUE)","v":437},{"$f":"Worksheet!$B$12","v":true},{"$f":"IF(H1091=1,RANDBETWEEN(1,Worksheet!$D$6),INT(J1091))","v":10},{"$f":"IF(C1091=1,\"hour\",\"hours\")","v":"hours"},{"$f":"IF(H1091=1,IF(Worksheet!$D$10=1,RANDBETWEEN(1,9)*6,IF(Worksheet!$D$10=2,RANDBETWEEN(1,19)*3,RANDBETWEEN(1,59))),(J1091-INT(J1091))*60)","v":18},"minutes","=",{"$f":"IF(Worksheet!$D$7=1,1,IF(Worksheet!$D$7=2,2,RANDBETWEEN(1,2)))","v":1},null,{"$f":"IF(H1091=1,C1091+E1091/60,RANDBETWEEN(1,Worksheet!$D$6)+CHOOSE(Worksheet!$D$10,RANDBETWEEN(1,9)/10,RANDBETWEEN(1,99)/100,RANDBETWEEN(1,999)/1000,RANDBETWEEN(1,9999)/10000,RANDBETWEEN(1,99999)/100000))","v":10.3},"hours"]
[{"$f":"IF(COUNTIF($B$1:B1092,TRUE)=COUNTIF($B$1:B1091,TRUE),\"\",COUNTIF($B$1:B1092,TRUE))","v":438},{"$f":"Worksheet!$B$13","v":true},{"$f":"IF(H1092=1,RANDBETWEEN(1,Worksheet!$D$6),INT(J1092))","v":19},{"$f":"IF(C1092=1,\"minute\",\"minutes\")","v":"minutes"},{"$f":"IF(H1092=1,IF(Worksheet!$D$10=1,RANDBETWEEN(1,9)*6,IF(Worksheet!$D$10=2,RANDBETWEEN(1,19)*3,RANDBETWEEN(1,59))),(J1092-INT(J1092))*60)","v":41.999999999999957},"seconds","=",{"$f":"IF(Worksheet!$D$7=1,1,IF(Worksheet!$D$7=2,2,RANDBETWEEN(1,2)))","v":2},null,{"$f":"IF(H1092=1,C1092+E1092/60,RANDBETWEEN(1,Worksheet!$D$6)+CHOOSE(Worksheet!$D$10,RANDBETWEEN(1,9)/10,RANDBETWEEN(1,99)/100,RANDBETWEEN(1,999)/1000,RANDBETWEEN(1,9999)/10000,RANDBETWEEN(1,99999)/100000))","v":19.7},"minutes"]
[{"$f":"IF(COUNTIF($B$1:B1093,TRUE)=COUNTIF($B$1:B1092,TRUE),\"\",COUNTIF($B$1:B1093,TRUE))","v":""},{"$f":"Worksheet!$B$14","v":false},{"$f":"IF(H1093=1,RANDBETWEEN(1,Worksheet!$D$6),INT(J1093))","v":21},{"$f":"IF(C1093=1,\"week\",\"weeks\")","v":"weeks"},{"$f":"IF(H1093=1,RANDBETWEEN(1,6),(J1093-INT(J1093))*7)","v":1.399999999999995},"days","=",{"$f":"IF(Worksheet!$D$7=1,1,IF(Worksheet!$D$7=2,2,RANDBETWEEN(1,2)))","v":2},null,{"$f":"IF(H1093=1,C1093+E1093/7,RANDBETWEEN(1,Worksheet!$D$6)+CHOOSE(Worksheet!$D$10,RANDBETWEEN(1,9)/10,RANDBETWEEN(1,99)/100,RANDBETWEEN(1,999)/1000,RANDBETWEEN(1,9999)/10000,RANDBETWEEN(1,99999)/100000))","v":21.2},"weeks"]
[{"$f":"IF(COUNTIF($B$1:B1094,TRUE)=COUNTIF($B$1:B1093,TRUE),\"\",COUNTIF($B$1:B1094,TRUE))","v":""},{"$f":"Worksheet!$D$12","v":false},{"$f":"IF(H1094=1,RANDBETWEEN(1,Worksheet!$D$6),INT(J1094))","v":9},{"$f":"IF(C1094=1,\"day\",\"days\")","v":"days"},{"$f":"IF(H1094=1,RANDBETWEEN(1,23),(J1094-INT(J1094))*24)","v":11},"hours","=",{"$f":"IF(Worksheet!$D$7=1,1,IF(Worksheet!$D$7=2,2,RANDBETWEEN(1,2)))","v":1},null,{"$f":"IF(H1094=1,C1094+E1094/24,RANDBETWEEN(1,Worksheet!$D$6)+CHOOSE(Worksheet!$D$10,RANDBETWEEN(1,9)/10,RANDBETWEEN(1,99)/100,RANDBETWEEN(1,999)/1000,RANDBETWEEN(1,9999)/10000,RANDBETWEEN(1,99999)/100000))","v":9.4583333333333339},"days"]
[{"$f":"IF(COUNTIF($B$1:B1095,TRUE)=COUNTIF($B$1:B1094,TRUE),\"\",COUNTIF($B$1:B1095,TRUE))","v":""},{"$f":"Worksheet!$D$13","v":false},{"$f":"IF(H1095=1,RANDBETWEEN(1,Worksheet!$D$6),INT(J1095))","v":6},{"$f":"IF(C1095=1,\"year\",\"years\")","v":"years"},{"$f":"IF(H1095=1,RANDBETWEEN(1,11),(J1095-INT(J1095))*12)","v":1.1999999999999957},"months","=",{"$f":"IF(Worksheet!$D$7=1,1,IF(Worksheet!$D$7=2,2,RANDBETWEEN(1,2)))","v":2},null,{"$f":"IF(H1095=1,C1095+E1095/12,RANDBETWEEN(1,Worksheet!$D$6)+CHOOSE(Worksheet!$D$10,RANDBETWEEN(1,9)/10,RANDBETWEEN(1,99)/100,RANDBETWEEN(1,999)/1000,RANDBETWEEN(1,9999)/10000,RANDBETWEEN(1,99999)/100000))","v":6.1},"years"]
[{"$f":"COUNTIF($B$1:B1096,TRUE)","v":439},{"$f":"Worksheet!$B$12","v":true},{"$f":"IF(H1096=1,RANDBETWEEN(1,Worksheet!$D$6),INT(J1096))","v":29},{"$f":"IF(C1096=1,\"hour\",\"hours\")","v":"hours"},{"$f":"IF(H1096=1,IF(Worksheet!$D$10=1,RANDBETWEEN(1,9)*6,IF(Worksheet!$D$10=2,RANDBETWEEN(1,19)*3,RANDBETWEEN(1,59))),(J1096-INT(J1096))*60)","v":23.999999999999915},"minutes","=",{"$f":"IF(Worksheet!$D$7=1,1,IF(Worksheet!$D$7=2,2,RANDBETWEEN(1,2)))","v":2},null,{"$f":"IF(H1096=1,C1096+E1096/60,RANDBETWEEN(1,Worksheet!$D$6)+CHOOSE(Worksheet!$D$10,RANDBETWEEN(1,9)/10,RANDBETWEEN(1,99)/100,RANDBETWEEN(1,999)/1000,RANDBETWEEN(1,9999)/10000,RANDBETWEEN(1,99999)/100000))","v":29.4},"hours"]
[{"$f":"IF(COUNTIF($B$1:B1097,TRUE)=COUNTIF($B$1:B1096,TRUE),\"\",COUNTIF($B$1:B1097,TRUE))","v":440},{"$f":"Worksheet!$B$13","v":true},{"$f":"IF(H1097=1,RANDBETWEEN(1,Worksheet!$D$6),INT(J1097))","v":29},{"$f":"IF(C1097=1,\"minute\",\"minutes\")","v":"minutes"},{"$f":"IF(H1097=1,IF(Worksheet!$D$10=1,RANDBETWEEN(1,9)*6,IF(Worksheet!$D$10=2,RANDBETWEEN(1,19)*3,RANDBETWEEN(1,59))),(J1097-INT(J1097))*60)","v":36.000000000000085},"seconds","=",{"$f":"IF(Worksheet!$D$7=1,1,IF(Worksheet!$D$7=2,2,RANDBETWEEN(1,2)))","v":2},null,{"$f":"IF(H1097=1,C1097+E1097/60,RANDBETWEEN(1,Worksheet!$D$6)+CHOOSE(Worksheet!$D$10,RANDBETWEEN(1,9)/10,RANDBETWEEN(1,99)/100,RANDBETWEEN(1,999)/1000,RANDBETWEEN(1,9999)/10000,RANDBETWEEN(1,99999)/100000))","v":29.6},"minutes"]
[{"$f":"IF(COUNTIF($B$1:B1098,TRUE)=COUNTIF($B$1:B1097,TRUE),\"\",COUNTIF($B$1:B1098,TRUE))","v":""},{"$f":"Worksheet!$B$14","v":false},{"$f":"IF(H1098=1,RANDBETWEEN(1,Worksheet!$D$6),INT(J1098))","v":8},{"$f":"IF(C1098=1,\"week\",\"weeks\")","v":"weeks"},{"$f":"IF(H1098=1,RANDBETWEEN(1,6),(J1098-INT(J1098))*7)","v":5.600000000000005},"days","=",{"$f":"IF(Worksheet!$D$7=1,1,IF(Worksheet!$D$7=2,2,RANDBETWEEN(1,2)))","v":2},null,{"$f":"IF(H1098=1,C1098+E1098/7,RANDBETWEEN(1,Worksheet!$D$6)+CHOOSE(Worksheet!$D$10,RANDBETWEEN(1,9)/10,RANDBETWEEN(1,99)/100,RANDBETWEEN(1,999)/1000,RANDBETWEEN(1,9999)/10000,RANDBETWEEN(1,99999)/100000))","v":8.8000000000000007},"weeks"]
[{"$f":"IF(COUNTIF($B$1:B1099,TRUE)=COUNTIF($B$1:B1098,TRUE),\"\",COUNTIF($B$1:B1099,TRUE))","v":""},{"$f":"Worksheet!$D$12","v":false},{"$f":"IF(H1099=1,RANDBETWEEN(1,Worksheet!$D$6),INT(J1099))","v":10},{"$f":"IF(C1099=1,\"day\",\"days\")","v":"days"},{"$f":"IF(H1099=1,RANDBETWEEN(1,23),(J1099-INT(J1099))*24)","v":5},"hours","=",{"$f":"IF(Worksheet!$D$7=1,1,IF(Worksheet!$D$7=2,2,RANDBETWEEN(1,2)))","v":1},null,{"$f":"IF(H1099=1,C1099+E1099/24,RANDBETWEEN(1,Worksheet!$D$6)+CHOOSE(Worksheet!$D$10,RANDBETWEEN(1,9)/10,RANDBETWEEN(1,99)/100,RANDBETWEEN(1,999)/1000,RANDBETWEEN(1,9999)/10000,RANDBETWEEN(1,99999)/100000))","v":10.208333333333334},"days"]
[{"$f":"IF(COUNTIF($B$1:B1100,TRUE)=COUNTIF($B$1:B1099,TRUE),\"\",COUNTIF($B$1:B1100,TRUE))","v":""},{"$f":"Worksheet!$D$13","v":false},{"$f":"IF(H1100=1,RANDBETWEEN(1,Worksheet!$D$6),INT(J1100))","v":6},{"$f":"IF(C1100=1,\"year\",\"years\")","v":"years"},{"$f":"IF(H1100=1,RANDBETWEEN(1,11),(J1100-INT(J1100))*12)","v":1.1999999999999957},"months","=",{"$f":"IF(Worksheet!$D$7=1,1,IF(Worksheet!$D$7=2,2,RANDBETWEEN(1,2)))","v":2},null,{"$f":"IF(H1100=1,C1100+E1100/12,RANDBETWEEN(1,Worksheet!$D$6)+CHOOSE(Worksheet!$D$10,RANDBETWEEN(1,9)/10,RANDBETWEEN(1,99)/100,RANDBETWEEN(1,999)/1000,RANDBETWEEN(1,9999)/10000,RANDBETWEEN(1,99999)/100000))","v":6.1},"years"]
[{"$f":"COUNTIF($B$1:B1101,TRUE)","v":441},{"$f":"Worksheet!$B$12","v":true},{"$f":"IF(H1101=1,RANDBETWEEN(1,Worksheet!$D$6),INT(J1101))","v":13},{"$f":"IF(C1101=1,\"hour\",\"hours\")","v":"hours"},{"$f":"IF(H1101=1,IF(Worksheet!$D$10=1,RANDBETWEEN(1,9)*6,IF(Worksheet!$D$10=2,RANDBETWEEN(1,19)*3,RANDBETWEEN(1,59))),(J1101-INT(J1101))*60)","v":54.000000000000021},"minutes","=",{"$f":"IF(Worksheet!$D$7=1,1,IF(Worksheet!$D$7=2,2,RANDBETWEEN(1,2)))","v":2},null,{"$f":"IF(H1101=1,C1101+E1101/60,RANDBETWEEN(1,Worksheet!$D$6)+CHOOSE(Worksheet!$D$10,RANDBETWEEN(1,9)/10,RANDBETWEEN(1,99)/100,RANDBETWEEN(1,999)/1000,RANDBETWEEN(1,9999)/10000,RANDBETWEEN(1,99999)/100000))","v":13.9},"hours"]
[{"$f":"IF(COUNTIF($B$1:B1102,TRUE)=COUNTIF($B$1:B1101,TRUE),\"\",COUNTIF($B$1:B1102,TRUE))","v":442},{"$f":"Worksheet!$B$13","v":true},{"$f":"IF(H1102=1,RANDBETWEEN(1,Worksheet!$D$6),INT(J1102))","v":13},{"$f":"IF(C1102=1,\"minute\",\"minutes\")","v":"minutes"},{"$f":"IF(H1102=1,IF(Worksheet!$D$10=1,RANDBETWEEN(1,9)*6,IF(Worksheet!$D$10=2,RANDBETWEEN(1,19)*3,RANDBETWEEN(1,59))),(J1102-INT(J1102))*60)","v":6},"seconds","=",{"$f":"IF(Worksheet!$D$7=1,1,IF(Worksheet!$D$7=2,2,RANDBETWEEN(1,2)))","v":1},null,{"$f":"IF(H1102=1,C1102+E1102/60,RANDBETWEEN(1,Worksheet!$D$6)+CHOOSE(Worksheet!$D$10,RANDBETWEEN(1,9)/10,RANDBETWEEN(1,99)/100,RANDBETWEEN(1,999)/1000,RANDBETWEEN(1,9999)/10000,RANDBETWEEN(1,99999)/100000))","v":13.1},"minutes"]
[{"$f":"IF(COUNTIF($B$1:B1103,TRUE)=COUNTIF($B$1:B1102,TRUE),\"\",COUNTIF($B$1:B1103,TRUE))","v":""},{"$f":"Worksheet!$B$14","v":false},{"$f":"IF(H1103=1,RANDBETWEEN(1,Worksheet!$D$6),INT(J1103))","v":16},{"$f":"IF(C1103=1,\"week\",\"weeks\")","v":"weeks"},{"$f":"IF(H1103=1,RANDBETWEEN(1,6),(J1103-INT(J1103))*7)","v":2.100000000000005},"days","=",{"$f":"IF(Worksheet!$D$7=1,1,IF(Worksheet!$D$7=2,2,RANDBETWEEN(1,2)))","v":2},null,{"$f":"IF(H1103=1,C1103+E1103/7,RANDBETWEEN(1,Worksheet!$D$6)+CHOOSE(Worksheet!$D$10,RANDBETWEEN(1,9)/10,RANDBETWEEN(1,99)/100,RANDBETWEEN(1,999)/1000,RANDBETWEEN(1,9999)/10000,RANDBETWEEN(1,99999)/100000))","v":16.3},"weeks"]
[{"$f":"IF(COUNTIF($B$1:B1104,TRUE)=COUNTIF($B$1:B1103,TRUE),\"\",COUNTIF($B$1:B1104,TRUE))","v":""},{"$f":"Worksheet!$D$12","v":false},{"$f":"IF(H1104=1,RANDBETWEEN(1,Worksheet!$D$6),INT(J1104))","v":7},{"$f":"IF(C1104=1,\"day\",\"days\")","v":"days"},{"$f":"IF(H1104=1,RANDBETWEEN(1,23),(J1104-INT(J1104))*24)","v":14},"hours","=",{"$f":"IF(Worksheet!$D$7=1,1,IF(Worksheet!$D$7=2,2,RANDBETWEEN(1,2)))","v":1},null,{"$f":"IF(H1104=1,C1104+E1104/24,RANDBETWEEN(1,Worksheet!$D$6)+CHOOSE(Worksheet!$D$10,RANDBETWEEN(1,9)/10,RANDBETWEEN(1,99)/100,RANDBETWEEN(1,999)/1000,RANDBETWEEN(1,9999)/10000,RANDBETWEEN(1,99999)/100000))","v":7.583333333333333},"days"]
[{"$f":"IF(COUNTIF($B$1:B1105,TRUE)=COUNTIF($B$1:B1104,TRUE),\"\",COUNTIF($B$1:B1105,TRUE))","v":""},{"$f":"Worksheet!$D$13","v":false},{"$f":"IF(H1105=1,RANDBETWEEN(1,Worksheet!$D$6),INT(J1105))","v":25},{"$f":"IF(C1105=1,\"year\",\"years\")","v":"years"},{"$f":"IF(H1105=1,RANDBETWEEN(1,11),(J1105-INT(J1105))*12)","v":5},"months","=",{"$f":"IF(Worksheet!$D$7=1,1,IF(Worksheet!$D$7=2,2,RANDBETWEEN(1,2)))","v":1},null,{"$f":"IF(H1105=1,C1105+E1105/12,RANDBETWEEN(1,Worksheet!$D$6)+CHOOSE(Worksheet!$D$10,RANDBETWEEN(1,9)/10,RANDBETWEEN(1,99)/100,RANDBETWEEN(1,999)/1000,RANDBETWEEN(1,9999)/10000,RANDBETWEEN(1,99999)/100000))","v":25.416666666666668},"years"]
[{"$f":"COUNTIF($B$1:B1106,TRUE)","v":443},{"$f":"Worksheet!$B$12","v":true},{"$f":"IF(H1106=1,RANDBETWEEN(1,Worksheet!$D$6),INT(J1106))","v":30},{"$f":"IF(C1106=1,\"hour\",\"hours\")","v":"hours"},{"$f":"IF(H1106=1,IF(Worksheet!$D$10=1,RANDBETWEEN(1,9)*6,IF(Worksheet!$D$10=2,RANDBETWEEN(1,19)*3,RANDBETWEEN(1,59))),(J1106-INT(J1106))*60)","v":42},"minutes","=",{"$f":"IF(Worksheet!$D$7=1,1,IF(Worksheet!$D$7=2,2,RANDBETWEEN(1,2)))","v":1},null,{"$f":"IF(H1106=1,C1106+E1106/60,RANDBETWEEN(1,Worksheet!$D$6)+CHOOSE(Worksheet!$D$10,RANDBETWEEN(1,9)/10,RANDBETWEEN(1,99)/100,RANDBETWEEN(1,999)/1000,RANDBETWEEN(1,9999)/10000,RANDBETWEEN(1,99999)/100000))","v":30.7},"hours"]
[{"$f":"IF(COUNTIF($B$1:B1107,TRUE)=COUNTIF($B$1:B1106,TRUE),\"\",COUNTIF($B$1:B1107,TRUE))","v":444},{"$f":"Worksheet!$B$13","v":true},{"$f":"IF(H1107=1,RANDBETWEEN(1,Worksheet!$D$6),INT(J1107))","v":25},{"$f":"IF(C1107=1,\"minute\",\"minutes\")","v":"minutes"},{"$f":"IF(H1107=1,IF(Worksheet!$D$10=1,RANDBETWEEN(1,9)*6,IF(Worksheet!$D$10=2,RANDBETWEEN(1,19)*3,RANDBETWEEN(1,59))),(J1107-INT(J1107))*60)","v":11.999999999999957},"seconds","=",{"$f":"IF(Worksheet!$D$7=1,1,IF(Worksheet!$D$7=2,2,RANDBETWEEN(1,2)))","v":2},null,{"$f":"IF(H1107=1,C1107+E1107/60,RANDBETWEEN(1,Worksheet!$D$6)+CHOOSE(Worksheet!$D$10,RANDBETWEEN(1,9)/10,RANDBETWEEN(1,99)/100,RANDBETWEEN(1,999)/1000,RANDBETWEEN(1,9999)/10000,RANDBETWEEN(1,99999)/100000))","v":25.2},"minutes"]
[{"$f":"IF(COUNTIF($B$1:B1108,TRUE)=COUNTIF($B$1:B1107,TRUE),\"\",COUNTIF($B$1:B1108,TRUE))","v":""},{"$f":"Worksheet!$B$14","v":false},{"$f":"IF(H1108=1,RANDBETWEEN(1,Worksheet!$D$6),INT(J1108))","v":29},{"$f":"IF(C1108=1,\"week\",\"weeks\")","v":"weeks"},{"$f":"IF(H1108=1,RANDBETWEEN(1,6),(J1108-INT(J1108))*7)","v":3},"days","=",{"$f":"IF(Worksheet!$D$7=1,1,IF(Worksheet!$D$7=2,2,RANDBETWEEN(1,2)))","v":1},null,{"$f":"IF(H1108=1,C1108+E1108/7,RANDBETWEEN(1,Worksheet!$D$6)+CHOOSE(Worksheet!$D$10,RANDBETWEEN(1,9)/10,RANDBETWEEN(1,99)/100,RANDBETWEEN(1,999)/1000,RANDBETWEEN(1,9999)/10000,RANDBETWEEN(1,99999)/100000))","v":29.428571428571427},"weeks"]
[{"$f":"IF(COUNTIF($B$1:B1109,TRUE)=COUNTIF($B$1:B1108,TRUE),\"\",COUNTIF($B$1:B1109,TRUE))","v":""},{"$f":"Worksheet!$D$12","v":false},{"$f":"IF(H1109=1,RANDBETWEEN(1,Worksheet!$D$6),INT(J1109))","v":25},{"$f":"IF(C1109=1,\"day\",\"days\")","v":"days"},{"$f":"IF(H1109=1,RANDBETWEEN(1,23),(J1109-INT(J1109))*24)","v":9},"hours","=",{"$f":"IF(Worksheet!$D$7=1,1,IF(Worksheet!$D$7=2,2,RANDBETWEEN(1,2)))","v":1},null,{"$f":"IF(H1109=1,C1109+E1109/24,RANDBETWEEN(1,Worksheet!$D$6)+CHOOSE(Worksheet!$D$10,RANDBETWEEN(1,9)/10,RANDBETWEEN(1,99)/100,RANDBETWEEN(1,999)/1000,RANDBETWEEN(1,9999)/10000,RANDBETWEEN(1,99999)/100000))","v":25.375},"days"]
[{"$f":"IF(COUNTIF($B$1:B1110,TRUE)=COUNTIF($B$1:B1109,TRUE),\"\",COUNTIF($B$1:B1110,TRUE))","v":""},{"$f":"Worksheet!$D$13","v":false},{"$f":"IF(H1110=1,RANDBETWEEN(1,Worksheet!$D$6),INT(J1110))","v":24},{"$f":"IF(C1110=1,\"year\",\"years\")","v":"years"},{"$f":"IF(H1110=1,RANDBETWEEN(1,11),(J1110-INT(J1110))*12)","v":9.6000000000000085},"months","=",{"$f":"IF(Worksheet!$D$7=1,1,IF(Worksheet!$D$7=2,2,RANDBETWEEN(1,2)))","v":2},null,{"$f":"IF(H1110=1,C1110+E1110/12,RANDBETWEEN(1,Worksheet!$D$6)+CHOOSE(Worksheet!$D$10,RANDBETWEEN(1,9)/10,RANDBETWEEN(1,99)/100,RANDBETWEEN(1,999)/1000,RANDBETWEEN(1,9999)/10000,RANDBETWEEN(1,99999)/100000))","v":24.8},"years"]
[{"$f":"COUNTIF($B$1:B1111,TRUE)","v":445},{"$f":"Worksheet!$B$12","v":true},{"$f":"IF(H1111=1,RANDBETWEEN(1,Worksheet!$D$6),INT(J1111))","v":12},{"$f":"IF(C1111=1,\"hour\",\"hours\")","v":"hours"},{"$f":"IF(H1111=1,IF(Worksheet!$D$10=1,RANDBETWEEN(1,9)*6,IF(Worksheet!$D$10=2,RANDBETWEEN(1,19)*3,RANDBETWEEN(1,59))),(J1111-INT(J1111))*60)","v":48},"minutes","=",{"$f":"IF(Worksheet!$D$7=1,1,IF(Worksheet!$D$7=2,2,RANDBETWEEN(1,2)))","v":1},null,{"$f":"IF(H1111=1,C1111+E1111/60,RANDBETWEEN(1,Worksheet!$D$6)+CHOOSE(Worksheet!$D$10,RANDBETWEEN(1,9)/10,RANDBETWEEN(1,99)/100,RANDBETWEEN(1,999)/1000,RANDBETWEEN(1,9999)/10000,RANDBETWEEN(1,99999)/100000))","v":12.8},"hours"]
[{"$f":"IF(COUNTIF($B$1:B1112,TRUE)=COUNTIF($B$1:B1111,TRUE),\"\",COUNTIF($B$1:B1112,TRUE))","v":446},{"$f":"Worksheet!$B$13","v":true},{"$f":"IF(H1112=1,RANDBETWEEN(1,Worksheet!$D$6),INT(J1112))","v":10},{"$f":"IF(C1112=1,\"minute\",\"minutes\")","v":"minutes"},{"$f":"IF(H1112=1,IF(Worksheet!$D$10=1,RANDBETWEEN(1,9)*6,IF(Worksheet!$D$10=2,RANDBETWEEN(1,19)*3,RANDBETWEEN(1,59))),(J1112-INT(J1112))*60)","v":18.000000000000043},"seconds","=",{"$f":"IF(Worksheet!$D$7=1,1,IF(Worksheet!$D$7=2,2,RANDBETWEEN(1,2)))","v":2},null,{"$f":"IF(H1112=1,C1112+E1112/60,RANDBETWEEN(1,Worksheet!$D$6)+CHOOSE(Worksheet!$D$10,RANDBETWEEN(1,9)/10,RANDBETWEEN(1,99)/100,RANDBETWEEN(1,999)/1000,RANDBETWEEN(1,9999)/10000,RANDBETWEEN(1,99999)/100000))","v":10.3},"minutes"]
[{"$f":"IF(COUNTIF($B$1:B1113,TRUE)=COUNTIF($B$1:B1112,TRUE),\"\",COUNTIF($B$1:B1113,TRUE))","v":""},{"$f":"Worksheet!$B$14","v":false},{"$f":"IF(H1113=1,RANDBETWEEN(1,Worksheet!$D$6),INT(J1113))","v":22},{"$f":"IF(C1113=1,\"week\",\"weeks\")","v":"weeks"},{"$f":"IF(H1113=1,RANDBETWEEN(1,6),(J1113-INT(J1113))*7)","v":2},"days","=",{"$f":"IF(Worksheet!$D$7=1,1,IF(Worksheet!$D$7=2,2,RANDBETWEEN(1,2)))","v":1},null,{"$f":"IF(H1113=1,C1113+E1113/7,RANDBETWEEN(1,Worksheet!$D$6)+CHOOSE(Worksheet!$D$10,RANDBETWEEN(1,9)/10,RANDBETWEEN(1,99)/100,RANDBETWEEN(1,999)/1000,RANDBETWEEN(1,9999)/10000,RANDBETWEEN(1,99999)/100000))","v":22.285714285714285},"weeks"]
[{"$f":"IF(COUNTIF($B$1:B1114,TRUE)=COUNTIF($B$1:B1113,TRUE),\"\",COUNTIF($B$1:B1114,TRUE))","v":""},{"$f":"Worksheet!$D$12","v":false},{"$f":"IF(H1114=1,RANDBETWEEN(1,Worksheet!$D$6),INT(J1114))","v":24},{"$f":"IF(C1114=1,\"day\",\"days\")","v":"days"},{"$f":"IF(H1114=1,RANDBETWEEN(1,23),(J1114-INT(J1114))*24)","v":10},"hours","=",{"$f":"IF(Worksheet!$D$7=1,1,IF(Worksheet!$D$7=2,2,RANDBETWEEN(1,2)))","v":1},null,{"$f":"IF(H1114=1,C1114+E1114/24,RANDBETWEEN(1,Worksheet!$D$6)+CHOOSE(Worksheet!$D$10,RANDBETWEEN(1,9)/10,RANDBETWEEN(1,99)/100,RANDBETWEEN(1,999)/1000,RANDBETWEEN(1,9999)/10000,RANDBETWEEN(1,99999)/100000))","v":24.416666666666668},"days"]
[{"$f":"IF(COUNTIF($B$1:B1115,TRUE)=COUNTIF($B$1:B1114,TRUE),\"\",COUNTIF($B$1:B1115,TRUE))","v":""},{"$f":"Worksheet!$D$13","v":false},{"$f":"IF(H1115=1,RANDBETWEEN(1,Worksheet!$D$6),INT(J1115))","v":6},{"$f":"IF(C1115=1,\"year\",\"years\")","v":"years"},{"$f":"IF(H1115=1,RANDBETWEEN(1,11),(J1115-INT(J1115))*12)","v":6},"months","=",{"$f":"IF(Worksheet!$D$7=1,1,IF(Worksheet!$D$7=2,2,RANDBETWEEN(1,2)))","v":1},null,{"$f":"IF(H1115=1,C1115+E1115/12,RANDBETWEEN(1,Worksheet!$D$6)+CHOOSE(Worksheet!$D$10,RANDBETWEEN(1,9)/10,RANDBETWEEN(1,99)/100,RANDBETWEEN(1,999)/1000,RANDBETWEEN(1,9999)/10000,RANDBETWEEN(1,99999)/100000))","v":6.5},"years"]
[{"$f":"COUNTIF($B$1:B1116,TRUE)","v":447},{"$f":"Worksheet!$B$12","v":true},{"$f":"IF(H1116=1,RANDBETWEEN(1,Worksheet!$D$6),INT(J1116))","v":27},{"$f":"IF(C1116=1,\"hour\",\"hours\")","v":"hours"},{"$f":"IF(H1116=1,IF(Worksheet!$D$10=1,RANDBETWEEN(1,9)*6,IF(Worksheet!$D$10=2,RANDBETWEEN(1,19)*3,RANDBETWEEN(1,59))),(J1116-INT(J1116))*60)","v":11.999999999999957},"minutes","=",{"$f":"IF(Worksheet!$D$7=1,1,IF(Worksheet!$D$7=2,2,RANDBETWEEN(1,2)))","v":2},null,{"$f":"IF(H1116=1,C1116+E1116/60,RANDBETWEEN(1,Worksheet!$D$6)+CHOOSE(Worksheet!$D$10,RANDBETWEEN(1,9)/10,RANDBETWEEN(1,99)/100,RANDBETWEEN(1,999)/1000,RANDBETWEEN(1,9999)/10000,RANDBETWEEN(1,99999)/100000))","v":27.2},"hours"]
[{"$f":"IF(COUNTIF($B$1:B1117,TRUE)=COUNTIF($B$1:B1116,TRUE),\"\",COUNTIF($B$1:B1117,TRUE))","v":448},{"$f":"Worksheet!$B$13","v":true},{"$f":"IF(H1117=1,RANDBETWEEN(1,Worksheet!$D$6),INT(J1117))","v":1},{"$f":"IF(C1117=1,\"minute\",\"minutes\")","v":"minute"},{"$f":"IF(H1117=1,IF(Worksheet!$D$10=1,RANDBETWEEN(1,9)*6,IF(Worksheet!$D$10=2,RANDBETWEEN(1,19)*3,RANDBETWEEN(1,59))),(J1117-INT(J1117))*60)","v":42},"seconds","=",{"$f":"IF(Worksheet!$D$7=1,1,IF(Worksheet!$D$7=2,2,RANDBETWEEN(1,2)))","v":1},null,{"$f":"IF(H1117=1,C1117+E1117/60,RANDBETWEEN(1,Worksheet!$D$6)+CHOOSE(Worksheet!$D$10,RANDBETWEEN(1,9)/10,RANDBETWEEN(1,99)/100,RANDBETWEEN(1,999)/1000,RANDBETWEEN(1,9999)/10000,RANDBETWEEN(1,99999)/100000))","v":1.7},"minute"]
[{"$f":"IF(COUNTIF($B$1:B1118,TRUE)=COUNTIF($B$1:B1117,TRUE),\"\",COUNTIF($B$1:B1118,TRUE))","v":""},{"$f":"Worksheet!$B$14","v":false},{"$f":"IF(H1118=1,RANDBETWEEN(1,Worksheet!$D$6),INT(J1118))","v":13},{"$f":"IF(C1118=1,\"week\",\"weeks\")","v":"weeks"},{"$f":"IF(H1118=1,RANDBETWEEN(1,6),(J1118-INT(J1118))*7)","v":6},"days","=",{"$f":"IF(Worksheet!$D$7=1,1,IF(Worksheet!$D$7=2,2,RANDBETWEEN(1,2)))","v":1},null,{"$f":"IF(H1118=1,C1118+E1118/7,RANDBETWEEN(1,Worksheet!$D$6)+CHOOSE(Worksheet!$D$10,RANDBETWEEN(1,9)/10,RANDBETWEEN(1,99)/100,RANDBETWEEN(1,999)/1000,RANDBETWEEN(1,9999)/10000,RANDBETWEEN(1,99999)/100000))","v":13.857142857142858},"weeks"]
[{"$f":"IF(COUNTIF($B$1:B1119,TRUE)=COUNTIF($B$1:B1118,TRUE),\"\",COUNTIF($B$1:B1119,TRUE))","v":""},{"$f":"Worksheet!$D$12","v":false},{"$f":"IF(H1119=1,RANDBETWEEN(1,Worksheet!$D$6),INT(J1119))","v":28},{"$f":"IF(C1119=1,\"day\",\"days\")","v":"days"},{"$f":"IF(H1119=1,RANDBETWEEN(1,23),(J1119-INT(J1119))*24)","v":5},"hours","=",{"$f":"IF(Worksheet!$D$7=1,1,IF(Worksheet!$D$7=2,2,RANDBETWEEN(1,2)))","v":1},null,{"$f":"IF(H1119=1,C1119+E1119/24,RANDBETWEEN(1,Worksheet!$D$6)+CHOOSE(Worksheet!$D$10,RANDBETWEEN(1,9)/10,RANDBETWEEN(1,99)/100,RANDBETWEEN(1,999)/1000,RANDBETWEEN(1,9999)/10000,RANDBETWEEN(1,99999)/100000))","v":28.208333333333332},{"$f":"D1119","v":"days"}]
[{"$f":"IF(COUNTIF($B$1:B1120,TRUE)=COUNTIF($B$1:B1119,TRUE),\"\",COUNTIF($B$1:B1120,TRUE))","v":""},{"$f":"Worksheet!$D$13","v":false},{"$f":"IF(H1120=1,RANDBETWEEN(1,Worksheet!$D$6),INT(J1120))","v":9},{"$f":"IF(C1120=1,\"year\",\"years\")","v":"years"},{"$f":"IF(H1120=1,RANDBETWEEN(1,11),(J1120-INT(J1120))*12)","v":3},"months","=",{"$f":"IF(Worksheet!$D$7=1,1,IF(Worksheet!$D$7=2,2,RANDBETWEEN(1,2)))","v":1},null,{"$f":"IF(H1120=1,C1120+E1120/12,RANDBETWEEN(1,Worksheet!$D$6)+CHOOSE(Worksheet!$D$10,RANDBETWEEN(1,9)/10,RANDBETWEEN(1,99)/100,RANDBETWEEN(1,999)/1000,RANDBETWEEN(1,9999)/10000,RANDBETWEEN(1,99999)/100000))","v":9.25},"years"]
[{"$f":"COUNTIF($B$1:B1121,TRUE)","v":449},{"$f":"Worksheet!$B$12","v":true},{"$f":"IF(H1121=1,RANDBETWEEN(1,Worksheet!$D$6),INT(J1121))","v":18},{"$f":"IF(C1121=1,\"hour\",\"hours\")","v":"hours"},{"$f":"IF(H1121=1,IF(Worksheet!$D$10=1,RANDBETWEEN(1,9)*6,IF(Worksheet!$D$10=2,RANDBETWEEN(1,19)*3,RANDBETWEEN(1,59))),(J1121-INT(J1121))*60)","v":36.000000000000085},"minutes","=",{"$f":"IF(Worksheet!$D$7=1,1,IF(Worksheet!$D$7=2,2,RANDBETWEEN(1,2)))","v":2},null,{"$f":"IF(H1121=1,C1121+E1121/60,RANDBETWEEN(1,Worksheet!$D$6)+CHOOSE(Worksheet!$D$10,RANDBETWEEN(1,9)/10,RANDBETWEEN(1,99)/100,RANDBETWEEN(1,999)/1000,RANDBETWEEN(1,9999)/10000,RANDBETWEEN(1,99999)/100000))","v":18.600000000000001},"hours"]
[{"$f":"IF(COUNTIF($B$1:B1122,TRUE)=COUNTIF($B$1:B1121,TRUE),\"\",COUNTIF($B$1:B1122,TRUE))","v":450},{"$f":"Worksheet!$B$13","v":true},{"$f":"IF(H1122=1,RANDBETWEEN(1,Worksheet!$D$6),INT(J1122))","v":29},{"$f":"IF(C1122=1,\"minute\",\"minutes\")","v":"minutes"},{"$f":"IF(H1122=1,IF(Worksheet!$D$10=1,RANDBETWEEN(1,9)*6,IF(Worksheet!$D$10=2,RANDBETWEEN(1,19)*3,RANDBETWEEN(1,59))),(J1122-INT(J1122))*60)","v":54},"seconds","=",{"$f":"IF(Worksheet!$D$7=1,1,IF(Worksheet!$D$7=2,2,RANDBETWEEN(1,2)))","v":1},null,{"$f":"IF(H1122=1,C1122+E1122/60,RANDBETWEEN(1,Worksheet!$D$6)+CHOOSE(Worksheet!$D$10,RANDBETWEEN(1,9)/10,RANDBETWEEN(1,99)/100,RANDBETWEEN(1,999)/1000,RANDBETWEEN(1,9999)/10000,RANDBETWEEN(1,99999)/100000))","v":29.9},"minutes"]
[{"$f":"IF(COUNTIF($B$1:B1123,TRUE)=COUNTIF($B$1:B1122,TRUE),\"\",COUNTIF($B$1:B1123,TRUE))","v":""},{"$f":"Worksheet!$B$14","v":false},{"$f":"IF(H1123=1,RANDBETWEEN(1,Worksheet!$D$6),INT(J1123))","v":18},{"$f":"IF(C1123=1,\"week\",\"weeks\")","v":"weeks"},{"$f":"IF(H1123=1,RANDBETWEEN(1,6),(J1123-INT(J1123))*7)","v":3.5},"days","=",{"$f":"IF(Worksheet!$D$7=1,1,IF(Worksheet!$D$7=2,2,RANDBETWEEN(1,2)))","v":2},null,{"$f":"IF(H1123=1,C1123+E1123/7,RANDBETWEEN(1,Worksheet!$D$6)+CHOOSE(Worksheet!$D$10,RANDBETWEEN(1,9)/10,RANDBETWEEN(1,99)/100,RANDBETWEEN(1,999)/1000,RANDBETWEEN(1,9999)/10000,RANDBETWEEN(1,99999)/100000))","v":18.5},"weeks"]
[{"$f":"IF(COUNTIF($B$1:B1124,TRUE)=COUNTIF($B$1:B1123,TRUE),\"\",COUNTIF($B$1:B1124,TRUE))","v":""},{"$f":"Worksheet!$D$12","v":false},{"$f":"IF(H1124=1,RANDBETWEEN(1,Worksheet!$D$6),INT(J1124))","v":20},{"$f":"IF(C1124=1,\"day\",\"days\")","v":"days"},{"$f":"IF(H1124=1,RANDBETWEEN(1,23),(J1124-INT(J1124))*24)","v":21.599999999999966},"hours","=",{"$f":"IF(Worksheet!$D$7=1,1,IF(Worksheet!$D$7=2,2,RANDBETWEEN(1,2)))","v":2},null,{"$f":"IF(H1124=1,C1124+E1124/24,RANDBETWEEN(1,Worksheet!$D$6)+CHOOSE(Worksheet!$D$10,RANDBETWEEN(1,9)/10,RANDBETWEEN(1,99)/100,RANDBETWEEN(1,999)/1000,RANDBETWEEN(1,9999)/10000,RANDBETWEEN(1,99999)/100000))","v":20.9},"days"]
[{"$f":"IF(COUNTIF($B$1:B1125,TRUE)=COUNTIF($B$1:B1124,TRUE),\"\",COUNTIF($B$1:B1125,TRUE))","v":""},{"$f":"Worksheet!$D$13","v":false},{"$f":"IF(H1125=1,RANDBETWEEN(1,Worksheet!$D$6),INT(J1125))","v":7},{"$f":"IF(C1125=1,\"year\",\"years\")","v":"years"},{"$f":"IF(H1125=1,RANDBETWEEN(1,11),(J1125-INT(J1125))*12)","v":4},"months","=",{"$f":"IF(Worksheet!$D$7=1,1,IF(Worksheet!$D$7=2,2,RANDBETWEEN(1,2)))","v":1},null,{"$f":"IF(H1125=1,C1125+E1125/12,RANDBETWEEN(1,Worksheet!$D$6)+CHOOSE(Worksheet!$D$10,RANDBETWEEN(1,9)/10,RANDBETWEEN(1,99)/100,RANDBETWEEN(1,999)/1000,RANDBETWEEN(1,9999)/10000,RANDBETWEEN(1,99999)/100000))","v":7.333333333333333},"years"]
[{"$f":"COUNTIF($B$1:B1126,TRUE)","v":451},{"$f":"Worksheet!$B$12","v":true},{"$f":"IF(H1126=1,RANDBETWEEN(1,Worksheet!$D$6),INT(J1126))","v":12},{"$f":"IF(C1126=1,\"hour\",\"hours\")","v":"hours"},{"$f":"IF(H1126=1,IF(Worksheet!$D$10=1,RANDBETWEEN(1,9)*6,IF(Worksheet!$D$10=2,RANDBETWEEN(1,19)*3,RANDBETWEEN(1,59))),(J1126-INT(J1126))*60)","v":12},"minutes","=",{"$f":"IF(Worksheet!$D$7=1,1,IF(Worksheet!$D$7=2,2,RANDBETWEEN(1,2)))","v":1},null,{"$f":"IF(H1126=1,C1126+E1126/60,RANDBETWEEN(1,Worksheet!$D$6)+CHOOSE(Worksheet!$D$10,RANDBETWEEN(1,9)/10,RANDBETWEEN(1,99)/100,RANDBETWEEN(1,999)/1000,RANDBETWEEN(1,9999)/10000,RANDBETWEEN(1,99999)/100000))","v":12.2},"hours"]
[{"$f":"IF(COUNTIF($B$1:B1127,TRUE)=COUNTIF($B$1:B1126,TRUE),\"\",COUNTIF($B$1:B1127,TRUE))","v":452},{"$f":"Worksheet!$B$13","v":true},{"$f":"IF(H1127=1,RANDBETWEEN(1,Worksheet!$D$6),INT(J1127))","v":13},{"$f":"IF(C1127=1,\"minute\",\"minutes\")","v":"minutes"},{"$f":"IF(H1127=1,IF(Worksheet!$D$10=1,RANDBETWEEN(1,9)*6,IF(Worksheet!$D$10=2,RANDBETWEEN(1,19)*3,RANDBETWEEN(1,59))),(J1127-INT(J1127))*60)","v":5.9999999999999787},"seconds","=",{"$f":"IF(Worksheet!$D$7=1,1,IF(Worksheet!$D$7=2,2,RANDBETWEEN(1,2)))","v":2},null,{"$f":"IF(H1127=1,C1127+E1127/60,RANDBETWEEN(1,Worksheet!$D$6)+CHOOSE(Worksheet!$D$10,RANDBETWEEN(1,9)/10,RANDBETWEEN(1,99)/100,RANDBETWEEN(1,999)/1000,RANDBETWEEN(1,9999)/10000,RANDBETWEEN(1,99999)/100000))","v":13.1},"minutes"]
[{"$f":"IF(COUNTIF($B$1:B1128,TRUE)=COUNTIF($B$1:B1127,TRUE),\"\",COUNTIF($B$1:B1128,TRUE))","v":""},{"$f":"Worksheet!$B$14","v":false},{"$f":"IF(H1128=1,RANDBETWEEN(1,Worksheet!$D$6),INT(J1128))","v":14},{"$f":"IF(C1128=1,\"week\",\"weeks\")","v":"weeks"},{"$f":"IF(H1128=1,RANDBETWEEN(1,6),(J1128-INT(J1128))*7)","v":2.8000000000000025},"days","=",{"$f":"IF(Worksheet!$D$7=1,1,IF(Worksheet!$D$7=2,2,RANDBETWEEN(1,2)))","v":2},null,{"$f":"IF(H1128=1,C1128+E1128/7,RANDBETWEEN(1,Worksheet!$D$6)+CHOOSE(Worksheet!$D$10,RANDBETWEEN(1,9)/10,RANDBETWEEN(1,99)/100,RANDBETWEEN(1,999)/1000,RANDBETWEEN(1,9999)/10000,RANDBETWEEN(1,99999)/100000))","v":14.4},"weeks"]
[{"$f":"IF(COUNTIF($B$1:B1129,TRUE)=COUNTIF($B$1:B1128,TRUE),\"\",COUNTIF($B$1:B1129,TRUE))","v":""},{"$f":"Worksheet!$D$12","v":false},{"$f":"IF(H1129=1,RANDBETWEEN(1,Worksheet!$D$6),INT(J1129))","v":21},{"$f":"IF(C1129=1,\"day\",\"days\")","v":"days"},{"$f":"IF(H1129=1,RANDBETWEEN(1,23),(J1129-INT(J1129))*24)","v":16},"hours","=",{"$f":"IF(Worksheet!$D$7=1,1,IF(Worksheet!$D$7=2,2,RANDBETWEEN(1,2)))","v":1},null,{"$f":"IF(H1129=1,C1129+E1129/24,RANDBETWEEN(1,Worksheet!$D$6)+CHOOSE(Worksheet!$D$10,RANDBETWEEN(1,9)/10,RANDBETWEEN(1,99)/100,RANDBETWEEN(1,999)/1000,RANDBETWEEN(1,9999)/10000,RANDBETWEEN(1,99999)/100000))","v":21.666666666666668},"days"]
[{"$f":"IF(COUNTIF($B$1:B1130,TRUE)=COUNTIF($B$1:B1129,TRUE),\"\",COUNTIF($B$1:B1130,TRUE))","v":""},{"$f":"Worksheet!$D$13","v":false},{"$f":"IF(H1130=1,RANDBETWEEN(1,Worksheet!$D$6),INT(J1130))","v":30},{"$f":"IF(C1130=1,\"year\",\"years\")","v":"years"},{"$f":"IF(H1130=1,RANDBETWEEN(1,11),(J1130-INT(J1130))*12)","v":3.6000000000000085},"months","=",{"$f":"IF(Worksheet!$D$7=1,1,IF(Worksheet!$D$7=2,2,RANDBETWEEN(1,2)))","v":2},null,{"$f":"IF(H1130=1,C1130+E1130/12,RANDBETWEEN(1,Worksheet!$D$6)+CHOOSE(Worksheet!$D$10,RANDBETWEEN(1,9)/10,RANDBETWEEN(1,99)/100,RANDBETWEEN(1,999)/1000,RANDBETWEEN(1,9999)/10000,RANDBETWEEN(1,99999)/100000))","v":30.3},"years"]
[{"$f":"COUNTIF($B$1:B1131,TRUE)","v":453},{"$f":"Worksheet!$B$12","v":true},{"$f":"IF(H1131=1,RANDBETWEEN(1,Worksheet!$D$6),INT(J1131))","v":29},{"$f":"IF(C1131=1,\"hour\",\"hours\")","v":"hours"},{"$f":"IF(H1131=1,IF(Worksheet!$D$10=1,RANDBETWEEN(1,9)*6,IF(Worksheet!$D$10=2,RANDBETWEEN(1,19)*3,RANDBETWEEN(1,59))),(J1131-INT(J1131))*60)","v":18},"minutes","=",{"$f":"IF(Worksheet!$D$7=1,1,IF(Worksheet!$D$7=2,2,RANDBETWEEN(1,2)))","v":1},null,{"$f":"IF(H1131=1,C1131+E1131/60,RANDBETWEEN(1,Worksheet!$D$6)+CHOOSE(Worksheet!$D$10,RANDBETWEEN(1,9)/10,RANDBETWEEN(1,99)/100,RANDBETWEEN(1,999)/1000,RANDBETWEEN(1,9999)/10000,RANDBETWEEN(1,99999)/100000))","v":29.3},"hours"]
[{"$f":"IF(COUNTIF($B$1:B1132,TRUE)=COUNTIF($B$1:B1131,TRUE),\"\",COUNTIF($B$1:B1132,TRUE))","v":454},{"$f":"Worksheet!$B$13","v":true},{"$f":"IF(H1132=1,RANDBETWEEN(1,Worksheet!$D$6),INT(J1132))","v":22},{"$f":"IF(C1132=1,\"minute\",\"minutes\")","v":"minutes"},{"$f":"IF(H1132=1,IF(Worksheet!$D$10=1,RANDBETWEEN(1,9)*6,IF(Worksheet!$D$10=2,RANDBETWEEN(1,19)*3,RANDBETWEEN(1,59))),(J1132-INT(J1132))*60)","v":36.000000000000085},"seconds","=",{"$f":"IF(Worksheet!$D$7=1,1,IF(Worksheet!$D$7=2,2,RANDBETWEEN(1,2)))","v":2},null,{"$f":"IF(H1132=1,C1132+E1132/60,RANDBETWEEN(1,Worksheet!$D$6)+CHOOSE(Worksheet!$D$10,RANDBETWEEN(1,9)/10,RANDBETWEEN(1,99)/100,RANDBETWEEN(1,999)/1000,RANDBETWEEN(1,9999)/10000,RANDBETWEEN(1,99999)/100000))","v":22.6},"minutes"]
[{"$f":"IF(COUNTIF($B$1:B1133,TRUE)=COUNTIF($B$1:B1132,TRUE),\"\",COUNTIF($B$1:B1133,TRUE))","v":""},{"$f":"Worksheet!$B$14","v":false},{"$f":"IF(H1133=1,RANDBETWEEN(1,Worksheet!$D$6),INT(J1133))","v":24},{"$f":"IF(C1133=1,\"week\",\"weeks\")","v":"weeks"},{"$f":"IF(H1133=1,RANDBETWEEN(1,6),(J1133-INT(J1133))*7)","v":2},"days","=",{"$f":"IF(Worksheet!$D$7=1,1,IF(Worksheet!$D$7=2,2,RANDBETWEEN(1,2)))","v":1},null,{"$f":"IF(H1133=1,C1133+E1133/7,RANDBETWEEN(1,Worksheet!$D$6)+CHOOSE(Worksheet!$D$10,RANDBETWEEN(1,9)/10,RANDBETWEEN(1,99)/100,RANDBETWEEN(1,999)/1000,RANDBETWEEN(1,9999)/10000,RANDBETWEEN(1,99999)/100000))","v":24.285714285714285},"weeks"]
[{"$f":"IF(COUNTIF($B$1:B1134,TRUE)=COUNTIF($B$1:B1133,TRUE),\"\",COUNTIF($B$1:B1134,TRUE))","v":""},{"$f":"Worksheet!$D$12","v":false},{"$f":"IF(H1134=1,RANDBETWEEN(1,Worksheet!$D$6),INT(J1134))","v":22},{"$f":"IF(C1134=1,\"day\",\"days\")","v":"days"},{"$f":"IF(H1134=1,RANDBETWEEN(1,23),(J1134-INT(J1134))*24)","v":2.4000000000000341},"hours","=",{"$f":"IF(Worksheet!$D$7=1,1,IF(Worksheet!$D$7=2,2,RANDBETWEEN(1,2)))","v":2},null,{"$f":"IF(H1134=1,C1134+E1134/24,RANDBETWEEN(1,Worksheet!$D$6)+CHOOSE(Worksheet!$D$10,RANDBETWEEN(1,9)/10,RANDBETWEEN(1,99)/100,RANDBETWEEN(1,999)/1000,RANDBETWEEN(1,9999)/10000,RANDBETWEEN(1,99999)/100000))","v":22.1},"days"]
[{"$f":"IF(COUNTIF($B$1:B1135,TRUE)=COUNTIF($B$1:B1134,TRUE),\"\",COUNTIF($B$1:B1135,TRUE))","v":""},{"$f":"Worksheet!$D$13","v":false},{"$f":"IF(H1135=1,RANDBETWEEN(1,Worksheet!$D$6),INT(J1135))","v":19},{"$f":"IF(C1135=1,\"year\",\"years\")","v":"years"},{"$f":"IF(H1135=1,RANDBETWEEN(1,11),(J1135-INT(J1135))*12)","v":9.6000000000000085},"months","=",{"$f":"IF(Worksheet!$D$7=1,1,IF(Worksheet!$D$7=2,2,RANDBETWEEN(1,2)))","v":2},null,{"$f":"IF(H1135=1,C1135+E1135/12,RANDBETWEEN(1,Worksheet!$D$6)+CHOOSE(Worksheet!$D$10,RANDBETWEEN(1,9)/10,RANDBETWEEN(1,99)/100,RANDBETWEEN(1,999)/1000,RANDBETWEEN(1,9999)/10000,RANDBETWEEN(1,99999)/100000))","v":19.8},"years"]
[{"$f":"COUNTIF($B$1:B1136,TRUE)","v":455},{"$f":"Worksheet!$B$12","v":true},{"$f":"IF(H1136=1,RANDBETWEEN(1,Worksheet!$D$6),INT(J1136))","v":27},{"$f":"IF(C1136=1,\"hour\",\"hours\")","v":"hours"},{"$f":"IF(H1136=1,IF(Worksheet!$D$10=1,RANDBETWEEN(1,9)*6,IF(Worksheet!$D$10=2,RANDBETWEEN(1,19)*3,RANDBETWEEN(1,59))),(J1136-INT(J1136))*60)","v":36},"minutes","=",{"$f":"IF(Worksheet!$D$7=1,1,IF(Worksheet!$D$7=2,2,RANDBETWEEN(1,2)))","v":1},null,{"$f":"IF(H1136=1,C1136+E1136/60,RANDBETWEEN(1,Worksheet!$D$6)+CHOOSE(Worksheet!$D$10,RANDBETWEEN(1,9)/10,RANDBETWEEN(1,99)/100,RANDBETWEEN(1,999)/1000,RANDBETWEEN(1,9999)/10000,RANDBETWEEN(1,99999)/100000))","v":27.6},"hours"]
[{"$f":"IF(COUNTIF($B$1:B1137,TRUE)=COUNTIF($B$1:B1136,TRUE),\"\",COUNTIF($B$1:B1137,TRUE))","v":456},{"$f":"Worksheet!$B$13","v":true},{"$f":"IF(H1137=1,RANDBETWEEN(1,Worksheet!$D$6),INT(J1137))","v":18},{"$f":"IF(C1137=1,\"minute\",\"minutes\")","v":"minutes"},{"$f":"IF(H1137=1,IF(Worksheet!$D$10=1,RANDBETWEEN(1,9)*6,IF(Worksheet!$D$10=2,RANDBETWEEN(1,19)*3,RANDBETWEEN(1,59))),(J1137-INT(J1137))*60)","v":53.999999999999915},"seconds","=",{"$f":"IF(Worksheet!$D$7=1,1,IF(Worksheet!$D$7=2,2,RANDBETWEEN(1,2)))","v":2},null,{"$f":"IF(H1137=1,C1137+E1137/60,RANDBETWEEN(1,Worksheet!$D$6)+CHOOSE(Worksheet!$D$10,RANDBETWEEN(1,9)/10,RANDBETWEEN(1,99)/100,RANDBETWEEN(1,999)/1000,RANDBETWEEN(1,9999)/10000,RANDBETWEEN(1,99999)/100000))","v":18.899999999999999},"minutes"]
[{"$f":"IF(COUNTIF($B$1:B1138,TRUE)=COUNTIF($B$1:B1137,TRUE),\"\",COUNTIF($B$1:B1138,TRUE))","v":""},{"$f":"Worksheet!$B$14","v":false},{"$f":"IF(H1138=1,RANDBETWEEN(1,Worksheet!$D$6),INT(J1138))","v":29},{"$f":"IF(C1138=1,\"week\",\"weeks\")","v":"weeks"},{"$f":"IF(H1138=1,RANDBETWEEN(1,6),(J1138-INT(J1138))*7)","v":1.399999999999995},"days","=",{"$f":"IF(Worksheet!$D$7=1,1,IF(Worksheet!$D$7=2,2,RANDBETWEEN(1,2)))","v":2},null,{"$f":"IF(H1138=1,C1138+E1138/7,RANDBETWEEN(1,Worksheet!$D$6)+CHOOSE(Worksheet!$D$10,RANDBETWEEN(1,9)/10,RANDBETWEEN(1,99)/100,RANDBETWEEN(1,999)/1000,RANDBETWEEN(1,9999)/10000,RANDBETWEEN(1,99999)/100000))","v":29.2},"weeks"]
[{"$f":"IF(COUNTIF($B$1:B1139,TRUE)=COUNTIF($B$1:B1138,TRUE),\"\",COUNTIF($B$1:B1139,TRUE))","v":""},{"$f":"Worksheet!$D$12","v":false},{"$f":"IF(H1139=1,RANDBETWEEN(1,Worksheet!$D$6),INT(J1139))","v":26},{"$f":"IF(C1139=1,\"day\",\"days\")","v":"days"},{"$f":"IF(H1139=1,RANDBETWEEN(1,23),(J1139-INT(J1139))*24)","v":4.7999999999999829},"hours","=",{"$f":"IF(Worksheet!$D$7=1,1,IF(Worksheet!$D$7=2,2,RANDBETWEEN(1,2)))","v":2},null,{"$f":"IF(H1139=1,C1139+E1139/24,RANDBETWEEN(1,Worksheet!$D$6)+CHOOSE(Worksheet!$D$10,RANDBETWEEN(1,9)/10,RANDBETWEEN(1,99)/100,RANDBETWEEN(1,999)/1000,RANDBETWEEN(1,9999)/10000,RANDBETWEEN(1,99999)/100000))","v":26.2},"days"]
[{"$f":"IF(COUNTIF($B$1:B1140,TRUE)=COUNTIF($B$1:B1139,TRUE),\"\",COUNTIF($B$1:B1140,TRUE))","v":""},{"$f":"Worksheet!$D$13","v":false},{"$f":"IF(H1140=1,RANDBETWEEN(1,Worksheet!$D$6),INT(J1140))","v":13},{"$f":"IF(C1140=1,\"year\",\"years\")","v":"years"},{"$f":"IF(H1140=1,RANDBETWEEN(1,11),(J1140-INT(J1140))*12)","v":4},"months","=",{"$f":"IF(Worksheet!$D$7=1,1,IF(Worksheet!$D$7=2,2,RANDBETWEEN(1,2)))","v":1},null,{"$f":"IF(H1140=1,C1140+E1140/12,RANDBETWEEN(1,Worksheet!$D$6)+CHOOSE(Worksheet!$D$10,RANDBETWEEN(1,9)/10,RANDBETWEEN(1,99)/100,RANDBETWEEN(1,999)/1000,RANDBETWEEN(1,9999)/10000,RANDBETWEEN(1,99999)/100000))","v":13.333333333333334},"years"]
[{"$f":"COUNTIF($B$1:B1141,TRUE)","v":457},{"$f":"Worksheet!$B$12","v":true},{"$f":"IF(H1141=1,RANDBETWEEN(1,Worksheet!$D$6),INT(J1141))","v":10},{"$f":"IF(C1141=1,\"hour\",\"hours\")","v":"hours"},{"$f":"IF(H1141=1,IF(Worksheet!$D$10=1,RANDBETWEEN(1,9)*6,IF(Worksheet!$D$10=2,RANDBETWEEN(1,19)*3,RANDBETWEEN(1,59))),(J1141-INT(J1141))*60)","v":12},"minutes","=",{"$f":"IF(Worksheet!$D$7=1,1,IF(Worksheet!$D$7=2,2,RANDBETWEEN(1,2)))","v":1},null,{"$f":"IF(H1141=1,C1141+E1141/60,RANDBETWEEN(1,Worksheet!$D$6)+CHOOSE(Worksheet!$D$10,RANDBETWEEN(1,9)/10,RANDBETWEEN(1,99)/100,RANDBETWEEN(1,999)/1000,RANDBETWEEN(1,9999)/10000,RANDBETWEEN(1,99999)/100000))","v":10.199999999999999},"hours"]
[{"$f":"IF(COUNTIF($B$1:B1142,TRUE)=COUNTIF($B$1:B1141,TRUE),\"\",COUNTIF($B$1:B1142,TRUE))","v":458},{"$f":"Worksheet!$B$13","v":true},{"$f":"IF(H1142=1,RANDBETWEEN(1,Worksheet!$D$6),INT(J1142))","v":6},{"$f":"IF(C1142=1,\"minute\",\"minutes\")","v":"minutes"},{"$f":"IF(H1142=1,IF(Worksheet!$D$10=1,RANDBETWEEN(1,9)*6,IF(Worksheet!$D$10=2,RANDBETWEEN(1,19)*3,RANDBETWEEN(1,59))),(J1142-INT(J1142))*60)","v":30},"seconds","=",{"$f":"IF(Worksheet!$D$7=1,1,IF(Worksheet!$D$7=2,2,RANDBETWEEN(1,2)))","v":1},null,{"$f":"IF(H1142=1,C1142+E1142/60,RANDBETWEEN(1,Worksheet!$D$6)+CHOOSE(Worksheet!$D$10,RANDBETWEEN(1,9)/10,RANDBETWEEN(1,99)/100,RANDBETWEEN(1,999)/1000,RANDBETWEEN(1,9999)/10000,RANDBETWEEN(1,99999)/100000))","v":6.5},"minutes"]
[{"$f":"IF(COUNTIF($B$1:B1143,TRUE)=COUNTIF($B$1:B1142,TRUE),\"\",COUNTIF($B$1:B1143,TRUE))","v":""},{"$f":"Worksheet!$B$14","v":false},{"$f":"IF(H1143=1,RANDBETWEEN(1,Worksheet!$D$6),INT(J1143))","v":4},{"$f":"IF(C1143=1,\"week\",\"weeks\")","v":"weeks"},{"$f":"IF(H1143=1,RANDBETWEEN(1,6),(J1143-INT(J1143))*7)","v":5},"days","=",{"$f":"IF(Worksheet!$D$7=1,1,IF(Worksheet!$D$7=2,2,RANDBETWEEN(1,2)))","v":1},null,{"$f":"IF(H1143=1,C1143+E1143/7,RANDBETWEEN(1,Worksheet!$D$6)+CHOOSE(Worksheet!$D$10,RANDBETWEEN(1,9)/10,RANDBETWEEN(1,99)/100,RANDBETWEEN(1,999)/1000,RANDBETWEEN(1,9999)/10000,RANDBETWEEN(1,99999)/100000))","v":4.7142857142857144},"weeks"]
[{"$f":"IF(COUNTIF($B$1:B1144,TRUE)=COUNTIF($B$1:B1143,TRUE),\"\",COUNTIF($B$1:B1144,TRUE))","v":""},{"$f":"Worksheet!$D$12","v":false},{"$f":"IF(H1144=1,RANDBETWEEN(1,Worksheet!$D$6),INT(J1144))","v":6},{"$f":"IF(C1144=1,\"day\",\"days\")","v":"days"},{"$f":"IF(H1144=1,RANDBETWEEN(1,23),(J1144-INT(J1144))*24)","v":15},"hours","=",{"$f":"IF(Worksheet!$D$7=1,1,IF(Worksheet!$D$7=2,2,RANDBETWEEN(1,2)))","v":1},null,{"$f":"IF(H1144=1,C1144+E1144/24,RANDBETWEEN(1,Worksheet!$D$6)+CHOOSE(Worksheet!$D$10,RANDBETWEEN(1,9)/10,RANDBETWEEN(1,99)/100,RANDBETWEEN(1,999)/1000,RANDBETWEEN(1,9999)/10000,RANDBETWEEN(1,99999)/100000))","v":6.625},"days"]
[{"$f":"IF(COUNTIF($B$1:B1145,TRUE)=COUNTIF($B$1:B1144,TRUE),\"\",COUNTIF($B$1:B1145,TRUE))","v":""},{"$f":"Worksheet!$D$13","v":false},{"$f":"IF(H1145=1,RANDBETWEEN(1,Worksheet!$D$6),INT(J1145))","v":21},{"$f":"IF(C1145=1,\"year\",\"years\")","v":"years"},{"$f":"IF(H1145=1,RANDBETWEEN(1,11),(J1145-INT(J1145))*12)","v":11},"months","=",{"$f":"IF(Worksheet!$D$7=1,1,IF(Worksheet!$D$7=2,2,RANDBETWEEN(1,2)))","v":1},null,{"$f":"IF(H1145=1,C1145+E1145/12,RANDBETWEEN(1,Worksheet!$D$6)+CHOOSE(Worksheet!$D$10,RANDBETWEEN(1,9)/10,RANDBETWEEN(1,99)/100,RANDBETWEEN(1,999)/1000,RANDBETWEEN(1,9999)/10000,RANDBETWEEN(1,99999)/100000))","v":21.916666666666668},"years"]
[{"$f":"COUNTIF($B$1:B1146,TRUE)","v":459},{"$f":"Worksheet!$B$12","v":true},{"$f":"IF(H1146=1,RANDBETWEEN(1,Worksheet!$D$6),INT(J1146))","v":23},{"$f":"IF(C1146=1,\"hour\",\"hours\")","v":"hours"},{"$f":"IF(H1146=1,IF(Worksheet!$D$10=1,RANDBETWEEN(1,9)*6,IF(Worksheet!$D$10=2,RANDBETWEEN(1,19)*3,RANDBETWEEN(1,59))),(J1146-INT(J1146))*60)","v":30},"minutes","=",{"$f":"IF(Worksheet!$D$7=1,1,IF(Worksheet!$D$7=2,2,RANDBETWEEN(1,2)))","v":1},null,{"$f":"IF(H1146=1,C1146+E1146/60,RANDBETWEEN(1,Worksheet!$D$6)+CHOOSE(Worksheet!$D$10,RANDBETWEEN(1,9)/10,RANDBETWEEN(1,99)/100,RANDBETWEEN(1,999)/1000,RANDBETWEEN(1,9999)/10000,RANDBETWEEN(1,99999)/100000))","v":23.5},"hours"]
[{"$f":"IF(COUNTIF($B$1:B1147,TRUE)=COUNTIF($B$1:B1146,TRUE),\"\",COUNTIF($B$1:B1147,TRUE))","v":460},{"$f":"Worksheet!$B$13","v":true},{"$f":"IF(H1147=1,RANDBETWEEN(1,Worksheet!$D$6),INT(J1147))","v":29},{"$f":"IF(C1147=1,\"minute\",\"minutes\")","v":"minutes"},{"$f":"IF(H1147=1,IF(Worksheet!$D$10=1,RANDBETWEEN(1,9)*6,IF(Worksheet!$D$10=2,RANDBETWEEN(1,19)*3,RANDBETWEEN(1,59))),(J1147-INT(J1147))*60)","v":36},"seconds","=",{"$f":"IF(Worksheet!$D$7=1,1,IF(Worksheet!$D$7=2,2,RANDBETWEEN(1,2)))","v":1},null,{"$f":"IF(H1147=1,C1147+E1147/60,RANDBETWEEN(1,Worksheet!$D$6)+CHOOSE(Worksheet!$D$10,RANDBETWEEN(1,9)/10,RANDBETWEEN(1,99)/100,RANDBETWEEN(1,999)/1000,RANDBETWEEN(1,9999)/10000,RANDBETWEEN(1,99999)/100000))","v":29.6},"minutes"]
[{"$f":"IF(COUNTIF($B$1:B1148,TRUE)=COUNTIF($B$1:B1147,TRUE),\"\",COUNTIF($B$1:B1148,TRUE))","v":""},{"$f":"Worksheet!$B$14","v":false},{"$f":"IF(H1148=1,RANDBETWEEN(1,Worksheet!$D$6),INT(J1148))","v":12},{"$f":"IF(C1148=1,\"week\",\"weeks\")","v":"weeks"},{"$f":"IF(H1148=1,RANDBETWEEN(1,6),(J1148-INT(J1148))*7)","v":3},"days","=",{"$f":"IF(Worksheet!$D$7=1,1,IF(Worksheet!$D$7=2,2,RANDBETWEEN(1,2)))","v":1},null,{"$f":"IF(H1148=1,C1148+E1148/7,RANDBETWEEN(1,Worksheet!$D$6)+CHOOSE(Worksheet!$D$10,RANDBETWEEN(1,9)/10,RANDBETWEEN(1,99)/100,RANDBETWEEN(1,999)/1000,RANDBETWEEN(1,9999)/10000,RANDBETWEEN(1,99999)/100000))","v":12.428571428571429},"weeks"]
[{"$f":"IF(COUNTIF($B$1:B1149,TRUE)=COUNTIF($B$1:B1148,TRUE),\"\",COUNTIF($B$1:B1149,TRUE))","v":""},{"$f":"Worksheet!$D$12","v":false},{"$f":"IF(H1149=1,RANDBETWEEN(1,Worksheet!$D$6),INT(J1149))","v":24},{"$f":"IF(C1149=1,\"day\",\"days\")","v":"days"},{"$f":"IF(H1149=1,RANDBETWEEN(1,23),(J1149-INT(J1149))*24)","v":19},"hours","=",{"$f":"IF(Worksheet!$D$7=1,1,IF(Worksheet!$D$7=2,2,RANDBETWEEN(1,2)))","v":1},null,{"$f":"IF(H1149=1,C1149+E1149/24,RANDBETWEEN(1,Worksheet!$D$6)+CHOOSE(Worksheet!$D$10,RANDBETWEEN(1,9)/10,RANDBETWEEN(1,99)/100,RANDBETWEEN(1,999)/1000,RANDBETWEEN(1,9999)/10000,RANDBETWEEN(1,99999)/100000))","v":24.791666666666668},"days"]
[{"$f":"IF(COUNTIF($B$1:B1150,TRUE)=COUNTIF($B$1:B1149,TRUE),\"\",COUNTIF($B$1:B1150,TRUE))","v":""},{"$f":"Worksheet!$D$13","v":false},{"$f":"IF(H1150=1,RANDBETWEEN(1,Worksheet!$D$6),INT(J1150))","v":11},{"$f":"IF(C1150=1,\"year\",\"years\")","v":"years"},{"$f":"IF(H1150=1,RANDBETWEEN(1,11),(J1150-INT(J1150))*12)","v":11},"months","=",{"$f":"IF(Worksheet!$D$7=1,1,IF(Worksheet!$D$7=2,2,RANDBETWEEN(1,2)))","v":1},null,{"$f":"IF(H1150=1,C1150+E1150/12,RANDBETWEEN(1,Worksheet!$D$6)+CHOOSE(Worksheet!$D$10,RANDBETWEEN(1,9)/10,RANDBETWEEN(1,99)/100,RANDBETWEEN(1,999)/1000,RANDBETWEEN(1,9999)/10000,RANDBETWEEN(1,99999)/100000))","v":11.916666666666666},"years"]
[{"$f":"COUNTIF($B$1:B1151,TRUE)","v":461},{"$f":"Worksheet!$B$12","v":true},{"$f":"IF(H1151=1,RANDBETWEEN(1,Worksheet!$D$6),INT(J1151))","v":8},{"$f":"IF(C1151=1,\"hour\",\"hours\")","v":"hours"},{"$f":"IF(H1151=1,IF(Worksheet!$D$10=1,RANDBETWEEN(1,9)*6,IF(Worksheet!$D$10=2,RANDBETWEEN(1,19)*3,RANDBETWEEN(1,59))),(J1151-INT(J1151))*60)","v":36},"minutes","=",{"$f":"IF(Worksheet!$D$7=1,1,IF(Worksheet!$D$7=2,2,RANDBETWEEN(1,2)))","v":1},null,{"$f":"IF(H1151=1,C1151+E1151/60,RANDBETWEEN(1,Worksheet!$D$6)+CHOOSE(Worksheet!$D$10,RANDBETWEEN(1,9)/10,RANDBETWEEN(1,99)/100,RANDBETWEEN(1,999)/1000,RANDBETWEEN(1,9999)/10000,RANDBETWEEN(1,99999)/100000))","v":8.6},"hours"]
[{"$f":"IF(COUNTIF($B$1:B1152,TRUE)=COUNTIF($B$1:B1151,TRUE),\"\",COUNTIF($B$1:B1152,TRUE))","v":462},{"$f":"Worksheet!$B$13","v":true},{"$f":"IF(H1152=1,RANDBETWEEN(1,Worksheet!$D$6),INT(J1152))","v":10},{"$f":"IF(C1152=1,\"minute\",\"minutes\")","v":"minutes"},{"$f":"IF(H1152=1,IF(Worksheet!$D$10=1,RANDBETWEEN(1,9)*6,IF(Worksheet!$D$10=2,RANDBETWEEN(1,19)*3,RANDBETWEEN(1,59))),(J1152-INT(J1152))*60)","v":42},"seconds","=",{"$f":"IF(Worksheet!$D$7=1,1,IF(Worksheet!$D$7=2,2,RANDBETWEEN(1,2)))","v":1},null,{"$f":"IF(H1152=1,C1152+E1152/60,RANDBETWEEN(1,Worksheet!$D$6)+CHOOSE(Worksheet!$D$10,RANDBETWEEN(1,9)/10,RANDBETWEEN(1,99)/100,RANDBETWEEN(1,999)/1000,RANDBETWEEN(1,9999)/10000,RANDBETWEEN(1,99999)/100000))","v":10.7},"minutes"]
[{"$f":"IF(COUNTIF($B$1:B1153,TRUE)=COUNTIF($B$1:B1152,TRUE),\"\",COUNTIF($B$1:B1153,TRUE))","v":""},{"$f":"Worksheet!$B$14","v":false},{"$f":"IF(H1153=1,RANDBETWEEN(1,Worksheet!$D$6),INT(J1153))","v":28},{"$f":"IF(C1153=1,\"week\",\"weeks\")","v":"weeks"},{"$f":"IF(H1153=1,RANDBETWEEN(1,6),(J1153-INT(J1153))*7)","v":3},"days","=",{"$f":"IF(Worksheet!$D$7=1,1,IF(Worksheet!$D$7=2,2,RANDBETWEEN(1,2)))","v":1},null,{"$f":"IF(H1153=1,C1153+E1153/7,RANDBETWEEN(1,Worksheet!$D$6)+CHOOSE(Worksheet!$D$10,RANDBETWEEN(1,9)/10,RANDBETWEEN(1,99)/100,RANDBETWEEN(1,999)/1000,RANDBETWEEN(1,9999)/10000,RANDBETWEEN(1,99999)/100000))","v":28.428571428571427},"weeks"]
[{"$f":"IF(COUNTIF($B$1:B1154,TRUE)=COUNTIF($B$1:B1153,TRUE),\"\",COUNTIF($B$1:B1154,TRUE))","v":""},{"$f":"Worksheet!$D$12","v":false},{"$f":"IF(H1154=1,RANDBETWEEN(1,Worksheet!$D$6),INT(J1154))","v":5},{"$f":"IF(C1154=1,\"day\",\"days\")","v":"days"},{"$f":"IF(H1154=1,RANDBETWEEN(1,23),(J1154-INT(J1154))*24)","v":2.3999999999999915},"hours","=",{"$f":"IF(Worksheet!$D$7=1,1,IF(Worksheet!$D$7=2,2,RANDBETWEEN(1,2)))","v":2},null,{"$f":"IF(H1154=1,C1154+E1154/24,RANDBETWEEN(1,Worksheet!$D$6)+CHOOSE(Worksheet!$D$10,RANDBETWEEN(1,9)/10,RANDBETWEEN(1,99)/100,RANDBETWEEN(1,999)/1000,RANDBETWEEN(1,9999)/10000,RANDBETWEEN(1,99999)/100000))","v":5.0999999999999996},"days"]
[{"$f":"IF(COUNTIF($B$1:B1155,TRUE)=COUNTIF($B$1:B1154,TRUE),\"\",COUNTIF($B$1:B1155,TRUE))","v":""},{"$f":"Worksheet!$D$13","v":false},{"$f":"IF(H1155=1,RANDBETWEEN(1,Worksheet!$D$6),INT(J1155))","v":11},{"$f":"IF(C1155=1,\"year\",\"years\")","v":"years"},{"$f":"IF(H1155=1,RANDBETWEEN(1,11),(J1155-INT(J1155))*12)","v":7.1999999999999957},"months","=",{"$f":"IF(Worksheet!$D$7=1,1,IF(Worksheet!$D$7=2,2,RANDBETWEEN(1,2)))","v":2},null,{"$f":"IF(H1155=1,C1155+E1155/12,RANDBETWEEN(1,Worksheet!$D$6)+CHOOSE(Worksheet!$D$10,RANDBETWEEN(1,9)/10,RANDBETWEEN(1,99)/100,RANDBETWEEN(1,999)/1000,RANDBETWEEN(1,9999)/10000,RANDBETWEEN(1,99999)/100000))","v":11.6},"years"]
[{"$f":"COUNTIF($B$1:B1156,TRUE)","v":463},{"$f":"Worksheet!$B$12","v":true},{"$f":"IF(H1156=1,RANDBETWEEN(1,Worksheet!$D$6),INT(J1156))","v":6},{"$f":"IF(C1156=1,\"hour\",\"hours\")","v":"hours"},{"$f":"IF(H1156=1,IF(Worksheet!$D$10=1,RANDBETWEEN(1,9)*6,IF(Worksheet!$D$10=2,RANDBETWEEN(1,19)*3,RANDBETWEEN(1,59))),(J1156-INT(J1156))*60)","v":30},"minutes","=",{"$f":"IF(Worksheet!$D$7=1,1,IF(Worksheet!$D$7=2,2,RANDBETWEEN(1,2)))","v":1},null,{"$f":"IF(H1156=1,C1156+E1156/60,RANDBETWEEN(1,Worksheet!$D$6)+CHOOSE(Worksheet!$D$10,RANDBETWEEN(1,9)/10,RANDBETWEEN(1,99)/100,RANDBETWEEN(1,999)/1000,RANDBETWEEN(1,9999)/10000,RANDBETWEEN(1,99999)/100000))","v":6.5},"hours"]
[{"$f":"IF(COUNTIF($B$1:B1157,TRUE)=COUNTIF($B$1:B1156,TRUE),\"\",COUNTIF($B$1:B1157,TRUE))","v":464},{"$f":"Worksheet!$B$13","v":true},{"$f":"IF(H1157=1,RANDBETWEEN(1,Worksheet!$D$6),INT(J1157))","v":22},{"$f":"IF(C1157=1,\"minute\",\"minutes\")","v":"minutes"},{"$f":"IF(H1157=1,IF(Worksheet!$D$10=1,RANDBETWEEN(1,9)*6,IF(Worksheet!$D$10=2,RANDBETWEEN(1,19)*3,RANDBETWEEN(1,59))),(J1157-INT(J1157))*60)","v":30},"seconds","=",{"$f":"IF(Worksheet!$D$7=1,1,IF(Worksheet!$D$7=2,2,RANDBETWEEN(1,2)))","v":1},null,{"$f":"IF(H1157=1,C1157+E1157/60,RANDBETWEEN(1,Worksheet!$D$6)+CHOOSE(Worksheet!$D$10,RANDBETWEEN(1,9)/10,RANDBETWEEN(1,99)/100,RANDBETWEEN(1,999)/1000,RANDBETWEEN(1,9999)/10000,RANDBETWEEN(1,99999)/100000))","v":22.5},"minutes"]
[{"$f":"IF(COUNTIF($B$1:B1158,TRUE)=COUNTIF($B$1:B1157,TRUE),\"\",COUNTIF($B$1:B1158,TRUE))","v":""},{"$f":"Worksheet!$B$14","v":false},{"$f":"IF(H1158=1,RANDBETWEEN(1,Worksheet!$D$6),INT(J1158))","v":10},{"$f":"IF(C1158=1,\"week\",\"weeks\")","v":"weeks"},{"$f":"IF(H1158=1,RANDBETWEEN(1,6),(J1158-INT(J1158))*7)","v":4.1999999999999975},"days","=",{"$f":"IF(Worksheet!$D$7=1,1,IF(Worksheet!$D$7=2,2,RANDBETWEEN(1,2)))","v":2},null,{"$f":"IF(H1158=1,C1158+E1158/7,RANDBETWEEN(1,Worksheet!$D$6)+CHOOSE(Worksheet!$D$10,RANDBETWEEN(1,9)/10,RANDBETWEEN(1,99)/100,RANDBETWEEN(1,999)/1000,RANDBETWEEN(1,9999)/10000,RANDBETWEEN(1,99999)/100000))","v":10.6},"weeks"]
[{"$f":"IF(COUNTIF($B$1:B1159,TRUE)=COUNTIF($B$1:B1158,TRUE),\"\",COUNTIF($B$1:B1159,TRUE))","v":""},{"$f":"Worksheet!$D$12","v":false},{"$f":"IF(H1159=1,RANDBETWEEN(1,Worksheet!$D$6),INT(J1159))","v":13},{"$f":"IF(C1159=1,\"day\",\"days\")","v":"days"},{"$f":"IF(H1159=1,RANDBETWEEN(1,23),(J1159-INT(J1159))*24)","v":16.799999999999983},"hours","=",{"$f":"IF(Worksheet!$D$7=1,1,IF(Worksheet!$D$7=2,2,RANDBETWEEN(1,2)))","v":2},null,{"$f":"IF(H1159=1,C1159+E1159/24,RANDBETWEEN(1,Worksheet!$D$6)+CHOOSE(Worksheet!$D$10,RANDBETWEEN(1,9)/10,RANDBETWEEN(1,99)/100,RANDBETWEEN(1,999)/1000,RANDBETWEEN(1,9999)/10000,RANDBETWEEN(1,99999)/100000))","v":13.7},"days"]
[{"$f":"IF(COUNTIF($B$1:B1160,TRUE)=COUNTIF($B$1:B1159,TRUE),\"\",COUNTIF($B$1:B1160,TRUE))","v":""},{"$f":"Worksheet!$D$13","v":false},{"$f":"IF(H1160=1,RANDBETWEEN(1,Worksheet!$D$6),INT(J1160))","v":8},{"$f":"IF(C1160=1,\"year\",\"years\")","v":"years"},{"$f":"IF(H1160=1,RANDBETWEEN(1,11),(J1160-INT(J1160))*12)","v":9.6000000000000085},"months","=",{"$f":"IF(Worksheet!$D$7=1,1,IF(Worksheet!$D$7=2,2,RANDBETWEEN(1,2)))","v":2},null,{"$f":"IF(H1160=1,C1160+E1160/12,RANDBETWEEN(1,Worksheet!$D$6)+CHOOSE(Worksheet!$D$10,RANDBETWEEN(1,9)/10,RANDBETWEEN(1,99)/100,RANDBETWEEN(1,999)/1000,RANDBETWEEN(1,9999)/10000,RANDBETWEEN(1,99999)/100000))","v":8.8000000000000007},"years"]
[{"$f":"COUNTIF($B$1:B1161,TRUE)","v":465},{"$f":"Worksheet!$B$12","v":true},{"$f":"IF(H1161=1,RANDBETWEEN(1,Worksheet!$D$6),INT(J1161))","v":22},{"$f":"IF(C1161=1,\"hour\",\"hours\")","v":"hours"},{"$f":"IF(H1161=1,IF(Worksheet!$D$10=1,RANDBETWEEN(1,9)*6,IF(Worksheet!$D$10=2,RANDBETWEEN(1,19)*3,RANDBETWEEN(1,59))),(J1161-INT(J1161))*60)","v":42},"minutes","=",{"$f":"IF(Worksheet!$D$7=1,1,IF(Worksheet!$D$7=2,2,RANDBETWEEN(1,2)))","v":1},null,{"$f":"IF(H1161=1,C1161+E1161/60,RANDBETWEEN(1,Worksheet!$D$6)+CHOOSE(Worksheet!$D$10,RANDBETWEEN(1,9)/10,RANDBETWEEN(1,99)/100,RANDBETWEEN(1,999)/1000,RANDBETWEEN(1,9999)/10000,RANDBETWEEN(1,99999)/100000))","v":22.7},"hours"]
[{"$f":"IF(COUNTIF($B$1:B1162,TRUE)=COUNTIF($B$1:B1161,TRUE),\"\",COUNTIF($B$1:B1162,TRUE))","v":466},{"$f":"Worksheet!$B$13","v":true},{"$f":"IF(H1162=1,RANDBETWEEN(1,Worksheet!$D$6),INT(J1162))","v":21},{"$f":"IF(C1162=1,\"minute\",\"minutes\")","v":"minutes"},{"$f":"IF(H1162=1,IF(Worksheet!$D$10=1,RANDBETWEEN(1,9)*6,IF(Worksheet!$D$10=2,RANDBETWEEN(1,19)*3,RANDBETWEEN(1,59))),(J1162-INT(J1162))*60)","v":41.999999999999957},"seconds","=",{"$f":"IF(Worksheet!$D$7=1,1,IF(Worksheet!$D$7=2,2,RANDBETWEEN(1,2)))","v":2},null,{"$f":"IF(H1162=1,C1162+E1162/60,RANDBETWEEN(1,Worksheet!$D$6)+CHOOSE(Worksheet!$D$10,RANDBETWEEN(1,9)/10,RANDBETWEEN(1,99)/100,RANDBETWEEN(1,999)/1000,RANDBETWEEN(1,9999)/10000,RANDBETWEEN(1,99999)/100000))","v":21.7},"minutes"]
[{"$f":"IF(COUNTIF($B$1:B1163,TRUE)=COUNTIF($B$1:B1162,TRUE),\"\",COUNTIF($B$1:B1163,TRUE))","v":""},{"$f":"Worksheet!$B$14","v":false},{"$f":"IF(H1163=1,RANDBETWEEN(1,Worksheet!$D$6),INT(J1163))","v":28},{"$f":"IF(C1163=1,\"week\",\"weeks\")","v":"weeks"},{"$f":"IF(H1163=1,RANDBETWEEN(1,6),(J1163-INT(J1163))*7)","v":0.70000000000000995},"days","=",{"$f":"IF(Worksheet!$D$7=1,1,IF(Worksheet!$D$7=2,2,RANDBETWEEN(1,2)))","v":2},null,{"$f":"IF(H1163=1,C1163+E1163/7,RANDBETWEEN(1,Worksheet!$D$6)+CHOOSE(Worksheet!$D$10,RANDBETWEEN(1,9)/10,RANDBETWEEN(1,99)/100,RANDBETWEEN(1,999)/1000,RANDBETWEEN(1,9999)/10000,RANDBETWEEN(1,99999)/100000))","v":28.1},"weeks"]
[{"$f":"IF(COUNTIF($B$1:B1164,TRUE)=COUNTIF($B$1:B1163,TRUE),\"\",COUNTIF($B$1:B1164,TRUE))","v":""},{"$f":"Worksheet!$D$12","v":false},{"$f":"IF(H1164=1,RANDBETWEEN(1,Worksheet!$D$6),INT(J1164))","v":10},{"$f":"IF(C1164=1,\"day\",\"days\")","v":"days"},{"$f":"IF(H1164=1,RANDBETWEEN(1,23),(J1164-INT(J1164))*24)","v":14.399999999999991},"hours","=",{"$f":"IF(Worksheet!$D$7=1,1,IF(Worksheet!$D$7=2,2,RANDBETWEEN(1,2)))","v":2},null,{"$f":"IF(H1164=1,C1164+E1164/24,RANDBETWEEN(1,Worksheet!$D$6)+CHOOSE(Worksheet!$D$10,RANDBETWEEN(1,9)/10,RANDBETWEEN(1,99)/100,RANDBETWEEN(1,999)/1000,RANDBETWEEN(1,9999)/10000,RANDBETWEEN(1,99999)/100000))","v":10.6},"days"]
[{"$f":"IF(COUNTIF($B$1:B1165,TRUE)=COUNTIF($B$1:B1164,TRUE),\"\",COUNTIF($B$1:B1165,TRUE))","v":""},{"$f":"Worksheet!$D$13","v":false},{"$f":"IF(H1165=1,RANDBETWEEN(1,Worksheet!$D$6),INT(J1165))","v":13},{"$f":"IF(C1165=1,\"year\",\"years\")","v":"years"},{"$f":"IF(H1165=1,RANDBETWEEN(1,11),(J1165-INT(J1165))*12)","v":8},"months","=",{"$f":"IF(Worksheet!$D$7=1,1,IF(Worksheet!$D$7=2,2,RANDBETWEEN(1,2)))","v":1},null,{"$f":"IF(H1165=1,C1165+E1165/12,RANDBETWEEN(1,Worksheet!$D$6)+CHOOSE(Worksheet!$D$10,RANDBETWEEN(1,9)/10,RANDBETWEEN(1,99)/100,RANDBETWEEN(1,999)/1000,RANDBETWEEN(1,9999)/10000,RANDBETWEEN(1,99999)/100000))","v":13.666666666666666},"years"]
[{"$f":"COUNTIF($B$1:B1166,TRUE)","v":467},{"$f":"Worksheet!$B$12","v":true},{"$f":"IF(H1166=1,RANDBETWEEN(1,Worksheet!$D$6),INT(J1166))","v":5},{"$f":"IF(C1166=1,\"hour\",\"hours\")","v":"hours"},{"$f":"IF(H1166=1,IF(Worksheet!$D$10=1,RANDBETWEEN(1,9)*6,IF(Worksheet!$D$10=2,RANDBETWEEN(1,19)*3,RANDBETWEEN(1,59))),(J1166-INT(J1166))*60)","v":30},"minutes","=",{"$f":"IF(Worksheet!$D$7=1,1,IF(Worksheet!$D$7=2,2,RANDBETWEEN(1,2)))","v":2},null,{"$f":"IF(H1166=1,C1166+E1166/60,RANDBETWEEN(1,Worksheet!$D$6)+CHOOSE(Worksheet!$D$10,RANDBETWEEN(1,9)/10,RANDBETWEEN(1,99)/100,RANDBETWEEN(1,999)/1000,RANDBETWEEN(1,9999)/10000,RANDBETWEEN(1,99999)/100000))","v":5.5},"hours"]
[{"$f":"IF(COUNTIF($B$1:B1167,TRUE)=COUNTIF($B$1:B1166,TRUE),\"\",COUNTIF($B$1:B1167,TRUE))","v":468},{"$f":"Worksheet!$B$13","v":true},{"$f":"IF(H1167=1,RANDBETWEEN(1,Worksheet!$D$6),INT(J1167))","v":22},{"$f":"IF(C1167=1,\"minute\",\"minutes\")","v":"minutes"},{"$f":"IF(H1167=1,IF(Worksheet!$D$10=1,RANDBETWEEN(1,9)*6,IF(Worksheet!$D$10=2,RANDBETWEEN(1,19)*3,RANDBETWEEN(1,59))),(J1167-INT(J1167))*60)","v":30},"seconds","=",{"$f":"IF(Worksheet!$D$7=1,1,IF(Worksheet!$D$7=2,2,RANDBETWEEN(1,2)))","v":1},null,{"$f":"IF(H1167=1,C1167+E1167/60,RANDBETWEEN(1,Worksheet!$D$6)+CHOOSE(Worksheet!$D$10,RANDBETWEEN(1,9)/10,RANDBETWEEN(1,99)/100,RANDBETWEEN(1,999)/1000,RANDBETWEEN(1,9999)/10000,RANDBETWEEN(1,99999)/100000))","v":22.5},"minutes"]
[{"$f":"IF(COUNTIF($B$1:B1168,TRUE)=COUNTIF($B$1:B1167,TRUE),\"\",COUNTIF($B$1:B1168,TRUE))","v":""},{"$f":"Worksheet!$B$14","v":false},{"$f":"IF(H1168=1,RANDBETWEEN(1,Worksheet!$D$6),INT(J1168))","v":28},{"$f":"IF(C1168=1,\"week\",\"weeks\")","v":"weeks"},{"$f":"IF(H1168=1,RANDBETWEEN(1,6),(J1168-INT(J1168))*7)","v":6},"days","=",{"$f":"IF(Worksheet!$D$7=1,1,IF(Worksheet!$D$7=2,2,RANDBETWEEN(1,2)))","v":1},null,{"$f":"IF(H1168=1,C1168+E1168/7,RANDBETWEEN(1,Worksheet!$D$6)+CHOOSE(Worksheet!$D$10,RANDBETWEEN(1,9)/10,RANDBETWEEN(1,99)/100,RANDBETWEEN(1,999)/1000,RANDBETWEEN(1,9999)/10000,RANDBETWEEN(1,99999)/100000))","v":28.857142857142858},"weeks"]
[{"$f":"IF(COUNTIF($B$1:B1169,TRUE)=COUNTIF($B$1:B1168,TRUE),\"\",COUNTIF($B$1:B1169,TRUE))","v":""},{"$f":"Worksheet!$D$12","v":false},{"$f":"IF(H1169=1,RANDBETWEEN(1,Worksheet!$D$6),INT(J1169))","v":4},{"$f":"IF(C1169=1,\"day\",\"days\")","v":"days"},{"$f":"IF(H1169=1,RANDBETWEEN(1,23),(J1169-INT(J1169))*24)","v":17},"hours","=",{"$f":"IF(Worksheet!$D$7=1,1,IF(Worksheet!$D$7=2,2,RANDBETWEEN(1,2)))","v":1},null,{"$f":"IF(H1169=1,C1169+E1169/24,RANDBETWEEN(1,Worksheet!$D$6)+CHOOSE(Worksheet!$D$10,RANDBETWEEN(1,9)/10,RANDBETWEEN(1,99)/100,RANDBETWEEN(1,999)/1000,RANDBETWEEN(1,9999)/10000,RANDBETWEEN(1,99999)/100000))","v":4.708333333333333},"days"]
[{"$f":"IF(COUNTIF($B$1:B1170,TRUE)=COUNTIF($B$1:B1169,TRUE),\"\",COUNTIF($B$1:B1170,TRUE))","v":""},{"$f":"Worksheet!$D$13","v":false},{"$f":"IF(H1170=1,RANDBETWEEN(1,Worksheet!$D$6),INT(J1170))","v":18},{"$f":"IF(C1170=1,\"year\",\"years\")","v":"years"},{"$f":"IF(H1170=1,RANDBETWEEN(1,11),(J1170-INT(J1170))*12)","v":3.6000000000000085},"months","=",{"$f":"IF(Worksheet!$D$7=1,1,IF(Worksheet!$D$7=2,2,RANDBETWEEN(1,2)))","v":2},null,{"$f":"IF(H1170=1,C1170+E1170/12,RANDBETWEEN(1,Worksheet!$D$6)+CHOOSE(Worksheet!$D$10,RANDBETWEEN(1,9)/10,RANDBETWEEN(1,99)/100,RANDBETWEEN(1,999)/1000,RANDBETWEEN(1,9999)/10000,RANDBETWEEN(1,99999)/100000))","v":18.3},"years"]
[{"$f":"COUNTIF($B$1:B1171,TRUE)","v":469},{"$f":"Worksheet!$B$12","v":true},{"$f":"IF(H1171=1,RANDBETWEEN(1,Worksheet!$D$6),INT(J1171))","v":18},{"$f":"IF(C1171=1,\"hour\",\"hours\")","v":"hours"},{"$f":"IF(H1171=1,IF(Worksheet!$D$10=1,RANDBETWEEN(1,9)*6,IF(Worksheet!$D$10=2,RANDBETWEEN(1,19)*3,RANDBETWEEN(1,59))),(J1171-INT(J1171))*60)","v":24},"minutes","=",{"$f":"IF(Worksheet!$D$7=1,1,IF(Worksheet!$D$7=2,2,RANDBETWEEN(1,2)))","v":1},null,{"$f":"IF(H1171=1,C1171+E1171/60,RANDBETWEEN(1,Worksheet!$D$6)+CHOOSE(Worksheet!$D$10,RANDBETWEEN(1,9)/10,RANDBETWEEN(1,99)/100,RANDBETWEEN(1,999)/1000,RANDBETWEEN(1,9999)/10000,RANDBETWEEN(1,99999)/100000))","v":18.399999999999999},"hours"]
[{"$f":"IF(COUNTIF($B$1:B1172,TRUE)=COUNTIF($B$1:B1171,TRUE),\"\",COUNTIF($B$1:B1172,TRUE))","v":470},{"$f":"Worksheet!$B$13","v":true},{"$f":"IF(H1172=1,RANDBETWEEN(1,Worksheet!$D$6),INT(J1172))","v":4},{"$f":"IF(C1172=1,\"minute\",\"minutes\")","v":"minutes"},{"$f":"IF(H1172=1,IF(Worksheet!$D$10=1,RANDBETWEEN(1,9)*6,IF(Worksheet!$D$10=2,RANDBETWEEN(1,19)*3,RANDBETWEEN(1,59))),(J1172-INT(J1172))*60)","v":5.9999999999999787},"seconds","=",{"$f":"IF(Worksheet!$D$7=1,1,IF(Worksheet!$D$7=2,2,RANDBETWEEN(1,2)))","v":2},null,{"$f":"IF(H1172=1,C1172+E1172/60,RANDBETWEEN(1,Worksheet!$D$6)+CHOOSE(Worksheet!$D$10,RANDBETWEEN(1,9)/10,RANDBETWEEN(1,99)/100,RANDBETWEEN(1,999)/1000,RANDBETWEEN(1,9999)/10000,RANDBETWEEN(1,99999)/100000))","v":4.0999999999999996},"minutes"]
[{"$f":"IF(COUNTIF($B$1:B1173,TRUE)=COUNTIF($B$1:B1172,TRUE),\"\",COUNTIF($B$1:B1173,TRUE))","v":""},{"$f":"Worksheet!$B$14","v":false},{"$f":"IF(H1173=1,RANDBETWEEN(1,Worksheet!$D$6),INT(J1173))","v":16},{"$f":"IF(C1173=1,\"week\",\"weeks\")","v":"weeks"},{"$f":"IF(H1173=1,RANDBETWEEN(1,6),(J1173-INT(J1173))*7)","v":3},"days","=",{"$f":"IF(Worksheet!$D$7=1,1,IF(Worksheet!$D$7=2,2,RANDBETWEEN(1,2)))","v":1},null,{"$f":"IF(H1173=1,C1173+E1173/7,RANDBETWEEN(1,Worksheet!$D$6)+CHOOSE(Worksheet!$D$10,RANDBETWEEN(1,9)/10,RANDBETWEEN(1,99)/100,RANDBETWEEN(1,999)/1000,RANDBETWEEN(1,9999)/10000,RANDBETWEEN(1,99999)/100000))","v":16.428571428571427},"weeks"]
[{"$f":"IF(COUNTIF($B$1:B1174,TRUE)=COUNTIF($B$1:B1173,TRUE),\"\",COUNTIF($B$1:B1174,TRUE))","v":""},{"$f":"Worksheet!$D$12","v":false},{"$f":"IF(H1174=1,RANDBETWEEN(1,Worksheet!$D$6),INT(J1174))","v":24},{"$f":"IF(C1174=1,\"day\",\"days\")","v":"days"},{"$f":"IF(H1174=1,RANDBETWEEN(1,23),(J1174-INT(J1174))*24)","v":17},"hours","=",{"$f":"IF(Worksheet!$D$7=1,1,IF(Worksheet!$D$7=2,2,RANDBETWEEN(1,2)))","v":1},null,{"$f":"IF(H1174=1,C1174+E1174/24,RANDBETWEEN(1,Worksheet!$D$6)+CHOOSE(Worksheet!$D$10,RANDBETWEEN(1,9)/10,RANDBETWEEN(1,99)/100,RANDBETWEEN(1,999)/1000,RANDBETWEEN(1,9999)/10000,RANDBETWEEN(1,99999)/100000))","v":24.708333333333332},"days"]
[{"$f":"IF(COUNTIF($B$1:B1175,TRUE)=COUNTIF($B$1:B1174,TRUE),\"\",COUNTIF($B$1:B1175,TRUE))","v":""},{"$f":"Worksheet!$D$13","v":false},{"$f":"IF(H1175=1,RANDBETWEEN(1,Worksheet!$D$6),INT(J1175))","v":4},{"$f":"IF(C1175=1,\"year\",\"years\")","v":"years"},{"$f":"IF(H1175=1,RANDBETWEEN(1,11),(J1175-INT(J1175))*12)","v":6},"months","=",{"$f":"IF(Worksheet!$D$7=1,1,IF(Worksheet!$D$7=2,2,RANDBETWEEN(1,2)))","v":2},null,{"$f":"IF(H1175=1,C1175+E1175/12,RANDBETWEEN(1,Worksheet!$D$6)+CHOOSE(Worksheet!$D$10,RANDBETWEEN(1,9)/10,RANDBETWEEN(1,99)/100,RANDBETWEEN(1,999)/1000,RANDBETWEEN(1,9999)/10000,RANDBETWEEN(1,99999)/100000))","v":4.5},"years"]
[{"$f":"COUNTIF($B$1:B1176,TRUE)","v":471},{"$f":"Worksheet!$B$12","v":true},{"$f":"IF(H1176=1,RANDBETWEEN(1,Worksheet!$D$6),INT(J1176))","v":12},{"$f":"IF(C1176=1,\"hour\",\"hours\")","v":"hours"},{"$f":"IF(H1176=1,IF(Worksheet!$D$10=1,RANDBETWEEN(1,9)*6,IF(Worksheet!$D$10=2,RANDBETWEEN(1,19)*3,RANDBETWEEN(1,59))),(J1176-INT(J1176))*60)","v":24},"minutes","=",{"$f":"IF(Worksheet!$D$7=1,1,IF(Worksheet!$D$7=2,2,RANDBETWEEN(1,2)))","v":1},null,{"$f":"IF(H1176=1,C1176+E1176/60,RANDBETWEEN(1,Worksheet!$D$6)+CHOOSE(Worksheet!$D$10,RANDBETWEEN(1,9)/10,RANDBETWEEN(1,99)/100,RANDBETWEEN(1,999)/1000,RANDBETWEEN(1,9999)/10000,RANDBETWEEN(1,99999)/100000))","v":12.4},"hours"]
[{"$f":"IF(COUNTIF($B$1:B1177,TRUE)=COUNTIF($B$1:B1176,TRUE),\"\",COUNTIF($B$1:B1177,TRUE))","v":472},{"$f":"Worksheet!$B$13","v":true},{"$f":"IF(H1177=1,RANDBETWEEN(1,Worksheet!$D$6),INT(J1177))","v":1},{"$f":"IF(C1177=1,\"minute\",\"minutes\")","v":"minute"},{"$f":"IF(H1177=1,IF(Worksheet!$D$10=1,RANDBETWEEN(1,9)*6,IF(Worksheet!$D$10=2,RANDBETWEEN(1,19)*3,RANDBETWEEN(1,59))),(J1177-INT(J1177))*60)","v":54},"seconds","=",{"$f":"IF(Worksheet!$D$7=1,1,IF(Worksheet!$D$7=2,2,RANDBETWEEN(1,2)))","v":1},null,{"$f":"IF(H1177=1,C1177+E1177/60,RANDBETWEEN(1,Worksheet!$D$6)+CHOOSE(Worksheet!$D$10,RANDBETWEEN(1,9)/10,RANDBETWEEN(1,99)/100,RANDBETWEEN(1,999)/1000,RANDBETWEEN(1,9999)/10000,RANDBETWEEN(1,99999)/100000))","v":1.9},"minute"]
[{"$f":"IF(COUNTIF($B$1:B1178,TRUE)=COUNTIF($B$1:B1177,TRUE),\"\",COUNTIF($B$1:B1178,TRUE))","v":""},{"$f":"Worksheet!$B$14","v":false},{"$f":"IF(H1178=1,RANDBETWEEN(1,Worksheet!$D$6),INT(J1178))","v":16},{"$f":"IF(C1178=1,\"week\",\"weeks\")","v":"weeks"},{"$f":"IF(H1178=1,RANDBETWEEN(1,6),(J1178-INT(J1178))*7)","v":1},"days","=",{"$f":"IF(Worksheet!$D$7=1,1,IF(Worksheet!$D$7=2,2,RANDBETWEEN(1,2)))","v":1},null,{"$f":"IF(H1178=1,C1178+E1178/7,RANDBETWEEN(1,Worksheet!$D$6)+CHOOSE(Worksheet!$D$10,RANDBETWEEN(1,9)/10,RANDBETWEEN(1,99)/100,RANDBETWEEN(1,999)/1000,RANDBETWEEN(1,9999)/10000,RANDBETWEEN(1,99999)/100000))","v":16.142857142857142},"weeks"]
[{"$f":"IF(COUNTIF($B$1:B1179,TRUE)=COUNTIF($B$1:B1178,TRUE),\"\",COUNTIF($B$1:B1179,TRUE))","v":""},{"$f":"Worksheet!$D$12","v":false},{"$f":"IF(H1179=1,RANDBETWEEN(1,Worksheet!$D$6),INT(J1179))","v":29},{"$f":"IF(C1179=1,\"day\",\"days\")","v":"days"},{"$f":"IF(H1179=1,RANDBETWEEN(1,23),(J1179-INT(J1179))*24)","v":19.200000000000017},"hours","=",{"$f":"IF(Worksheet!$D$7=1,1,IF(Worksheet!$D$7=2,2,RANDBETWEEN(1,2)))","v":2},null,{"$f":"IF(H1179=1,C1179+E1179/24,RANDBETWEEN(1,Worksheet!$D$6)+CHOOSE(Worksheet!$D$10,RANDBETWEEN(1,9)/10,RANDBETWEEN(1,99)/100,RANDBETWEEN(1,999)/1000,RANDBETWEEN(1,9999)/10000,RANDBETWEEN(1,99999)/100000))","v":29.8},"days"]
[{"$f":"IF(COUNTIF($B$1:B1180,TRUE)=COUNTIF($B$1:B1179,TRUE),\"\",COUNTIF($B$1:B1180,TRUE))","v":""},{"$f":"Worksheet!$D$13","v":false},{"$f":"IF(H1180=1,RANDBETWEEN(1,Worksheet!$D$6),INT(J1180))","v":1},{"$f":"IF(C1180=1,\"year\",\"years\")","v":"year"},{"$f":"IF(H1180=1,RANDBETWEEN(1,11),(J1180-INT(J1180))*12)","v":11},"months","=",{"$f":"IF(Worksheet!$D$7=1,1,IF(Worksheet!$D$7=2,2,RANDBETWEEN(1,2)))","v":1},null,{"$f":"IF(H1180=1,C1180+E1180/12,RANDBETWEEN(1,Worksheet!$D$6)+CHOOSE(Worksheet!$D$10,RANDBETWEEN(1,9)/10,RANDBETWEEN(1,99)/100,RANDBETWEEN(1,999)/1000,RANDBETWEEN(1,9999)/10000,RANDBETWEEN(1,99999)/100000))","v":1.9166666666666665},"year"]
[{"$f":"COUNTIF($B$1:B1181,TRUE)","v":473},{"$f":"Worksheet!$B$12","v":true},{"$f":"IF(H1181=1,RANDBETWEEN(1,Worksheet!$D$6),INT(J1181))","v":17},{"$f":"IF(C1181=1,\"hour\",\"hours\")","v":"hours"},{"$f":"IF(H1181=1,IF(Worksheet!$D$10=1,RANDBETWEEN(1,9)*6,IF(Worksheet!$D$10=2,RANDBETWEEN(1,19)*3,RANDBETWEEN(1,59))),(J1181-INT(J1181))*60)","v":30},"minutes","=",{"$f":"IF(Worksheet!$D$7=1,1,IF(Worksheet!$D$7=2,2,RANDBETWEEN(1,2)))","v":1},null,{"$f":"IF(H1181=1,C1181+E1181/60,RANDBETWEEN(1,Worksheet!$D$6)+CHOOSE(Worksheet!$D$10,RANDBETWEEN(1,9)/10,RANDBETWEEN(1,99)/100,RANDBETWEEN(1,999)/1000,RANDBETWEEN(1,9999)/10000,RANDBETWEEN(1,99999)/100000))","v":17.5},"hours"]
[{"$f":"IF(COUNTIF($B$1:B1182,TRUE)=COUNTIF($B$1:B1181,TRUE),\"\",COUNTIF($B$1:B1182,TRUE))","v":474},{"$f":"Worksheet!$B$13","v":true},{"$f":"IF(H1182=1,RANDBETWEEN(1,Worksheet!$D$6),INT(J1182))","v":14},{"$f":"IF(C1182=1,\"minute\",\"minutes\")","v":"minutes"},{"$f":"IF(H1182=1,IF(Worksheet!$D$10=1,RANDBETWEEN(1,9)*6,IF(Worksheet!$D$10=2,RANDBETWEEN(1,19)*3,RANDBETWEEN(1,59))),(J1182-INT(J1182))*60)","v":30},"seconds","=",{"$f":"IF(Worksheet!$D$7=1,1,IF(Worksheet!$D$7=2,2,RANDBETWEEN(1,2)))","v":1},null,{"$f":"IF(H1182=1,C1182+E1182/60,RANDBETWEEN(1,Worksheet!$D$6)+CHOOSE(Worksheet!$D$10,RANDBETWEEN(1,9)/10,RANDBETWEEN(1,99)/100,RANDBETWEEN(1,999)/1000,RANDBETWEEN(1,9999)/10000,RANDBETWEEN(1,99999)/100000))","v":14.5},"minutes"]
[{"$f":"IF(COUNTIF($B$1:B1183,TRUE)=COUNTIF($B$1:B1182,TRUE),\"\",COUNTIF($B$1:B1183,TRUE))","v":""},{"$f":"Worksheet!$B$14","v":false},{"$f":"IF(H1183=1,RANDBETWEEN(1,Worksheet!$D$6),INT(J1183))","v":18},{"$f":"IF(C1183=1,\"week\",\"weeks\")","v":"weeks"},{"$f":"IF(H1183=1,RANDBETWEEN(1,6),(J1183-INT(J1183))*7)","v":5},"days","=",{"$f":"IF(Worksheet!$D$7=1,1,IF(Worksheet!$D$7=2,2,RANDBETWEEN(1,2)))","v":1},null,{"$f":"IF(H1183=1,C1183+E1183/7,RANDBETWEEN(1,Worksheet!$D$6)+CHOOSE(Worksheet!$D$10,RANDBETWEEN(1,9)/10,RANDBETWEEN(1,99)/100,RANDBETWEEN(1,999)/1000,RANDBETWEEN(1,9999)/10000,RANDBETWEEN(1,99999)/100000))","v":18.714285714285715},{"$f":"D1183","v":"weeks"}]
[{"$f":"IF(COUNTIF($B$1:B1184,TRUE)=COUNTIF($B$1:B1183,TRUE),\"\",COUNTIF($B$1:B1184,TRUE))","v":""},{"$f":"Worksheet!$D$12","v":false},{"$f":"IF(H1184=1,RANDBETWEEN(1,Worksheet!$D$6),INT(J1184))","v":9},{"$f":"IF(C1184=1,\"day\",\"days\")","v":"days"},{"$f":"IF(H1184=1,RANDBETWEEN(1,23),(J1184-INT(J1184))*24)","v":21},"hours","=",{"$f":"IF(Worksheet!$D$7=1,1,IF(Worksheet!$D$7=2,2,RANDBETWEEN(1,2)))","v":1},null,{"$f":"IF(H1184=1,C1184+E1184/24,RANDBETWEEN(1,Worksheet!$D$6)+CHOOSE(Worksheet!$D$10,RANDBETWEEN(1,9)/10,RANDBETWEEN(1,99)/100,RANDBETWEEN(1,999)/1000,RANDBETWEEN(1,9999)/10000,RANDBETWEEN(1,99999)/100000))","v":9.875},"days"]
[{"$f":"IF(COUNTIF($B$1:B1185,TRUE)=COUNTIF($B$1:B1184,TRUE),\"\",COUNTIF($B$1:B1185,TRUE))","v":""},{"$f":"Worksheet!$D$13","v":false},{"$f":"IF(H1185=1,RANDBETWEEN(1,Worksheet!$D$6),INT(J1185))","v":24},{"$f":"IF(C1185=1,\"year\",\"years\")","v":"years"},{"$f":"IF(H1185=1,RANDBETWEEN(1,11),(J1185-INT(J1185))*12)","v":2.3999999999999915},"months","=",{"$f":"IF(Worksheet!$D$7=1,1,IF(Worksheet!$D$7=2,2,RANDBETWEEN(1,2)))","v":2},null,{"$f":"IF(H1185=1,C1185+E1185/12,RANDBETWEEN(1,Worksheet!$D$6)+CHOOSE(Worksheet!$D$10,RANDBETWEEN(1,9)/10,RANDBETWEEN(1,99)/100,RANDBETWEEN(1,999)/1000,RANDBETWEEN(1,9999)/10000,RANDBETWEEN(1,99999)/100000))","v":24.2},"years"]
[{"$f":"COUNTIF($B$1:B1186,TRUE)","v":475},{"$f":"Worksheet!$B$12","v":true},{"$f":"IF(H1186=1,RANDBETWEEN(1,Worksheet!$D$6),INT(J1186))","v":10},{"$f":"IF(C1186=1,\"hour\",\"hours\")","v":"hours"},{"$f":"IF(H1186=1,IF(Worksheet!$D$10=1,RANDBETWEEN(1,9)*6,IF(Worksheet!$D$10=2,RANDBETWEEN(1,19)*3,RANDBETWEEN(1,59))),(J1186-INT(J1186))*60)","v":6},"minutes","=",{"$f":"IF(Worksheet!$D$7=1,1,IF(Worksheet!$D$7=2,2,RANDBETWEEN(1,2)))","v":1},null,{"$f":"IF(H1186=1,C1186+E1186/60,RANDBETWEEN(1,Worksheet!$D$6)+CHOOSE(Worksheet!$D$10,RANDBETWEEN(1,9)/10,RANDBETWEEN(1,99)/100,RANDBETWEEN(1,999)/1000,RANDBETWEEN(1,9999)/10000,RANDBETWEEN(1,99999)/100000))","v":10.1},"hours"]
[{"$f":"IF(COUNTIF($B$1:B1187,TRUE)=COUNTIF($B$1:B1186,TRUE),\"\",COUNTIF($B$1:B1187,TRUE))","v":476},{"$f":"Worksheet!$B$13","v":true},{"$f":"IF(H1187=1,RANDBETWEEN(1,Worksheet!$D$6),INT(J1187))","v":25},{"$f":"IF(C1187=1,\"minute\",\"minutes\")","v":"minutes"},{"$f":"IF(H1187=1,IF(Worksheet!$D$10=1,RANDBETWEEN(1,9)*6,IF(Worksheet!$D$10=2,RANDBETWEEN(1,19)*3,RANDBETWEEN(1,59))),(J1187-INT(J1187))*60)","v":42},"seconds","=",{"$f":"IF(Worksheet!$D$7=1,1,IF(Worksheet!$D$7=2,2,RANDBETWEEN(1,2)))","v":1},null,{"$f":"IF(H1187=1,C1187+E1187/60,RANDBETWEEN(1,Worksheet!$D$6)+CHOOSE(Worksheet!$D$10,RANDBETWEEN(1,9)/10,RANDBETWEEN(1,99)/100,RANDBETWEEN(1,999)/1000,RANDBETWEEN(1,9999)/10000,RANDBETWEEN(1,99999)/100000))","v":25.7},"minutes"]
[{"$f":"IF(COUNTIF($B$1:B1188,TRUE)=COUNTIF($B$1:B1187,TRUE),\"\",COUNTIF($B$1:B1188,TRUE))","v":""},{"$f":"Worksheet!$B$14","v":false},{"$f":"IF(H1188=1,RANDBETWEEN(1,Worksheet!$D$6),INT(J1188))","v":28},{"$f":"IF(C1188=1,\"week\",\"weeks\")","v":"weeks"},{"$f":"IF(H1188=1,RANDBETWEEN(1,6),(J1188-INT(J1188))*7)","v":2.100000000000005},"days","=",{"$f":"IF(Worksheet!$D$7=1,1,IF(Worksheet!$D$7=2,2,RANDBETWEEN(1,2)))","v":2},null,{"$f":"IF(H1188=1,C1188+E1188/7,RANDBETWEEN(1,Worksheet!$D$6)+CHOOSE(Worksheet!$D$10,RANDBETWEEN(1,9)/10,RANDBETWEEN(1,99)/100,RANDBETWEEN(1,999)/1000,RANDBETWEEN(1,9999)/10000,RANDBETWEEN(1,99999)/100000))","v":28.3},"weeks"]
[{"$f":"IF(COUNTIF($B$1:B1189,TRUE)=COUNTIF($B$1:B1188,TRUE),\"\",COUNTIF($B$1:B1189,TRUE))","v":""},{"$f":"Worksheet!$D$12","v":false},{"$f":"IF(H1189=1,RANDBETWEEN(1,Worksheet!$D$6),INT(J1189))","v":22},{"$f":"IF(C1189=1,\"day\",\"days\")","v":"days"},{"$f":"IF(H1189=1,RANDBETWEEN(1,23),(J1189-INT(J1189))*24)","v":23},"hours","=",{"$f":"IF(Worksheet!$D$7=1,1,IF(Worksheet!$D$7=2,2,RANDBETWEEN(1,2)))","v":1},null,{"$f":"IF(H1189=1,C1189+E1189/24,RANDBETWEEN(1,Worksheet!$D$6)+CHOOSE(Worksheet!$D$10,RANDBETWEEN(1,9)/10,RANDBETWEEN(1,99)/100,RANDBETWEEN(1,999)/1000,RANDBETWEEN(1,9999)/10000,RANDBETWEEN(1,99999)/100000))","v":22.958333333333332},"days"]
[{"$f":"IF(COUNTIF($B$1:B1190,TRUE)=COUNTIF($B$1:B1189,TRUE),\"\",COUNTIF($B$1:B1190,TRUE))","v":""},{"$f":"Worksheet!$D$13","v":false},{"$f":"IF(H1190=1,RANDBETWEEN(1,Worksheet!$D$6),INT(J1190))","v":19},{"$f":"IF(C1190=1,\"year\",\"years\")","v":"years"},{"$f":"IF(H1190=1,RANDBETWEEN(1,11),(J1190-INT(J1190))*12)","v":3},"months","=",{"$f":"IF(Worksheet!$D$7=1,1,IF(Worksheet!$D$7=2,2,RANDBETWEEN(1,2)))","v":1},null,{"$f":"IF(H1190=1,C1190+E1190/12,RANDBETWEEN(1,Worksheet!$D$6)+CHOOSE(Worksheet!$D$10,RANDBETWEEN(1,9)/10,RANDBETWEEN(1,99)/100,RANDBETWEEN(1,999)/1000,RANDBETWEEN(1,9999)/10000,RANDBETWEEN(1,99999)/100000))","v":19.25},"years"]
[{"$f":"COUNTIF($B$1:B1191,TRUE)","v":477},{"$f":"Worksheet!$B$12","v":true},{"$f":"IF(H1191=1,RANDBETWEEN(1,Worksheet!$D$6),INT(J1191))","v":29},{"$f":"IF(C1191=1,\"hour\",\"hours\")","v":"hours"},{"$f":"IF(H1191=1,IF(Worksheet!$D$10=1,RANDBETWEEN(1,9)*6,IF(Worksheet!$D$10=2,RANDBETWEEN(1,19)*3,RANDBETWEEN(1,59))),(J1191-INT(J1191))*60)","v":54},"minutes","=",{"$f":"IF(Worksheet!$D$7=1,1,IF(Worksheet!$D$7=2,2,RANDBETWEEN(1,2)))","v":1},null,{"$f":"IF(H1191=1,C1191+E1191/60,RANDBETWEEN(1,Worksheet!$D$6)+CHOOSE(Worksheet!$D$10,RANDBETWEEN(1,9)/10,RANDBETWEEN(1,99)/100,RANDBETWEEN(1,999)/1000,RANDBETWEEN(1,9999)/10000,RANDBETWEEN(1,99999)/100000))","v":29.9},"hours"]
[{"$f":"IF(COUNTIF($B$1:B1192,TRUE)=COUNTIF($B$1:B1191,TRUE),\"\",COUNTIF($B$1:B1192,TRUE))","v":478},{"$f":"Worksheet!$B$13","v":true},{"$f":"IF(H1192=1,RANDBETWEEN(1,Worksheet!$D$6),INT(J1192))","v":4},{"$f":"IF(C1192=1,\"minute\",\"minutes\")","v":"minutes"},{"$f":"IF(H1192=1,IF(Worksheet!$D$10=1,RANDBETWEEN(1,9)*6,IF(Worksheet!$D$10=2,RANDBETWEEN(1,19)*3,RANDBETWEEN(1,59))),(J1192-INT(J1192))*60)","v":30},"seconds","=",{"$f":"IF(Worksheet!$D$7=1,1,IF(Worksheet!$D$7=2,2,RANDBETWEEN(1,2)))","v":1},null,{"$f":"IF(H1192=1,C1192+E1192/60,RANDBETWEEN(1,Worksheet!$D$6)+CHOOSE(Worksheet!$D$10,RANDBETWEEN(1,9)/10,RANDBETWEEN(1,99)/100,RANDBETWEEN(1,999)/1000,RANDBETWEEN(1,9999)/10000,RANDBETWEEN(1,99999)/100000))","v":4.5},"minutes"]
[{"$f":"IF(COUNTIF($B$1:B1193,TRUE)=COUNTIF($B$1:B1192,TRUE),\"\",COUNTIF($B$1:B1193,TRUE))","v":""},{"$f":"Worksheet!$B$14","v":false},{"$f":"IF(H1193=1,RANDBETWEEN(1,Worksheet!$D$6),INT(J1193))","v":24},{"$f":"IF(C1193=1,\"week\",\"weeks\")","v":"weeks"},{"$f":"IF(H1193=1,RANDBETWEEN(1,6),(J1193-INT(J1193))*7)","v":6.2999999999999901},"days","=",{"$f":"IF(Worksheet!$D$7=1,1,IF(Worksheet!$D$7=2,2,RANDBETWEEN(1,2)))","v":2},null,{"$f":"IF(H1193=1,C1193+E1193/7,RANDBETWEEN(1,Worksheet!$D$6)+CHOOSE(Worksheet!$D$10,RANDBETWEEN(1,9)/10,RANDBETWEEN(1,99)/100,RANDBETWEEN(1,999)/1000,RANDBETWEEN(1,9999)/10000,RANDBETWEEN(1,99999)/100000))","v":24.9},"weeks"]
[{"$f":"IF(COUNTIF($B$1:B1194,TRUE)=COUNTIF($B$1:B1193,TRUE),\"\",COUNTIF($B$1:B1194,TRUE))","v":""},{"$f":"Worksheet!$D$12","v":false},{"$f":"IF(H1194=1,RANDBETWEEN(1,Worksheet!$D$6),INT(J1194))","v":18},{"$f":"IF(C1194=1,\"day\",\"days\")","v":"days"},{"$f":"IF(H1194=1,RANDBETWEEN(1,23),(J1194-INT(J1194))*24)","v":14.400000000000034},"hours","=",{"$f":"IF(Worksheet!$D$7=1,1,IF(Worksheet!$D$7=2,2,RANDBETWEEN(1,2)))","v":2},null,{"$f":"IF(H1194=1,C1194+E1194/24,RANDBETWEEN(1,Worksheet!$D$6)+CHOOSE(Worksheet!$D$10,RANDBETWEEN(1,9)/10,RANDBETWEEN(1,99)/100,RANDBETWEEN(1,999)/1000,RANDBETWEEN(1,9999)/10000,RANDBETWEEN(1,99999)/100000))","v":18.600000000000001},"days"]
[{"$f":"IF(COUNTIF($B$1:B1195,TRUE)=COUNTIF($B$1:B1194,TRUE),\"\",COUNTIF($B$1:B1195,TRUE))","v":""},{"$f":"Worksheet!$D$13","v":false},{"$f":"IF(H1195=1,RANDBETWEEN(1,Worksheet!$D$6),INT(J1195))","v":17},{"$f":"IF(C1195=1,\"year\",\"years\")","v":"years"},{"$f":"IF(H1195=1,RANDBETWEEN(1,11),(J1195-INT(J1195))*12)","v":3},"months","=",{"$f":"IF(Worksheet!$D$7=1,1,IF(Worksheet!$D$7=2,2,RANDBETWEEN(1,2)))","v":1},null,{"$f":"IF(H1195=1,C1195+E1195/12,RANDBETWEEN(1,Worksheet!$D$6)+CHOOSE(Worksheet!$D$10,RANDBETWEEN(1,9)/10,RANDBETWEEN(1,99)/100,RANDBETWEEN(1,999)/1000,RANDBETWEEN(1,9999)/10000,RANDBETWEEN(1,99999)/100000))","v":17.25},"years"]
[{"$f":"COUNTIF($B$1:B1196,TRUE)","v":479},{"$f":"Worksheet!$B$12","v":true},{"$f":"IF(H1196=1,RANDBETWEEN(1,Worksheet!$D$6),INT(J1196))","v":25},{"$f":"IF(C1196=1,\"hour\",\"hours\")","v":"hours"},{"$f":"IF(H1196=1,IF(Worksheet!$D$10=1,RANDBETWEEN(1,9)*6,IF(Worksheet!$D$10=2,RANDBETWEEN(1,19)*3,RANDBETWEEN(1,59))),(J1196-INT(J1196))*60)","v":42},"minutes","=",{"$f":"IF(Worksheet!$D$7=1,1,IF(Worksheet!$D$7=2,2,RANDBETWEEN(1,2)))","v":1},null,{"$f":"IF(H1196=1,C1196+E1196/60,RANDBETWEEN(1,Worksheet!$D$6)+CHOOSE(Worksheet!$D$10,RANDBETWEEN(1,9)/10,RANDBETWEEN(1,99)/100,RANDBETWEEN(1,999)/1000,RANDBETWEEN(1,9999)/10000,RANDBETWEEN(1,99999)/100000))","v":25.7},"hours"]
[{"$f":"IF(COUNTIF($B$1:B1197,TRUE)=COUNTIF($B$1:B1196,TRUE),\"\",COUNTIF($B$1:B1197,TRUE))","v":480},{"$f":"Worksheet!$B$13","v":true},{"$f":"IF(H1197=1,RANDBETWEEN(1,Worksheet!$D$6),INT(J1197))","v":27},{"$f":"IF(C1197=1,\"minute\",\"minutes\")","v":"minutes"},{"$f":"IF(H1197=1,IF(Worksheet!$D$10=1,RANDBETWEEN(1,9)*6,IF(Worksheet!$D$10=2,RANDBETWEEN(1,19)*3,RANDBETWEEN(1,59))),(J1197-INT(J1197))*60)","v":42},"seconds","=",{"$f":"IF(Worksheet!$D$7=1,1,IF(Worksheet!$D$7=2,2,RANDBETWEEN(1,2)))","v":1},null,{"$f":"IF(H1197=1,C1197+E1197/60,RANDBETWEEN(1,Worksheet!$D$6)+CHOOSE(Worksheet!$D$10,RANDBETWEEN(1,9)/10,RANDBETWEEN(1,99)/100,RANDBETWEEN(1,999)/1000,RANDBETWEEN(1,9999)/10000,RANDBETWEEN(1,99999)/100000))","v":27.7},"minutes"]
[{"$f":"IF(COUNTIF($B$1:B1198,TRUE)=COUNTIF($B$1:B1197,TRUE),\"\",COUNTIF($B$1:B1198,TRUE))","v":""},{"$f":"Worksheet!$B$14","v":false},{"$f":"IF(H1198=1,RANDBETWEEN(1,Worksheet!$D$6),INT(J1198))","v":14},{"$f":"IF(C1198=1,\"week\",\"weeks\")","v":"weeks"},{"$f":"IF(H1198=1,RANDBETWEEN(1,6),(J1198-INT(J1198))*7)","v":4},"days","=",{"$f":"IF(Worksheet!$D$7=1,1,IF(Worksheet!$D$7=2,2,RANDBETWEEN(1,2)))","v":1},null,{"$f":"IF(H1198=1,C1198+E1198/7,RANDBETWEEN(1,Worksheet!$D$6)+CHOOSE(Worksheet!$D$10,RANDBETWEEN(1,9)/10,RANDBETWEEN(1,99)/100,RANDBETWEEN(1,999)/1000,RANDBETWEEN(1,9999)/10000,RANDBETWEEN(1,99999)/100000))","v":14.571428571428571},"weeks"]
[{"$f":"IF(COUNTIF($B$1:B1199,TRUE)=COUNTIF($B$1:B1198,TRUE),\"\",COUNTIF($B$1:B1199,TRUE))","v":""},{"$f":"Worksheet!$D$12","v":false},{"$f":"IF(H1199=1,RANDBETWEEN(1,Worksheet!$D$6),INT(J1199))","v":27},{"$f":"IF(C1199=1,\"day\",\"days\")","v":"days"},{"$f":"IF(H1199=1,RANDBETWEEN(1,23),(J1199-INT(J1199))*24)","v":4.7999999999999829},"hours","=",{"$f":"IF(Worksheet!$D$7=1,1,IF(Worksheet!$D$7=2,2,RANDBETWEEN(1,2)))","v":2},null,{"$f":"IF(H1199=1,C1199+E1199/24,RANDBETWEEN(1,Worksheet!$D$6)+CHOOSE(Worksheet!$D$10,RANDBETWEEN(1,9)/10,RANDBETWEEN(1,99)/100,RANDBETWEEN(1,999)/1000,RANDBETWEEN(1,9999)/10000,RANDBETWEEN(1,99999)/100000))","v":27.2},"days"]
[{"$f":"IF(COUNTIF($B$1:B1200,TRUE)=COUNTIF($B$1:B1199,TRUE),\"\",COUNTIF($B$1:B1200,TRUE))","v":""},{"$f":"Worksheet!$D$13","v":false},{"$f":"IF(H1200=1,RANDBETWEEN(1,Worksheet!$D$6),INT(J1200))","v":10},{"$f":"IF(C1200=1,\"year\",\"years\")","v":"years"},{"$f":"IF(H1200=1,RANDBETWEEN(1,11),(J1200-INT(J1200))*12)","v":4.8000000000000043},"months","=",{"$f":"IF(Worksheet!$D$7=1,1,IF(Worksheet!$D$7=2,2,RANDBETWEEN(1,2)))","v":2},null,{"$f":"IF(H1200=1,C1200+E1200/12,RANDBETWEEN(1,Worksheet!$D$6)+CHOOSE(Worksheet!$D$10,RANDBETWEEN(1,9)/10,RANDBETWEEN(1,99)/100,RANDBETWEEN(1,999)/1000,RANDBETWEEN(1,9999)/10000,RANDBETWEEN(1,99999)/100000))","v":10.4},"years"]
[{"$f":"COUNTIF($B$1:B1201,TRUE)","v":481},{"$f":"Worksheet!$B$12","v":true},{"$f":"IF(H1201=1,RANDBETWEEN(1,Worksheet!$D$6),INT(J1201))","v":19},{"$f":"IF(C1201=1,\"hour\",\"hours\")","v":"hours"},{"$f":"IF(H1201=1,IF(Worksheet!$D$10=1,RANDBETWEEN(1,9)*6,IF(Worksheet!$D$10=2,RANDBETWEEN(1,19)*3,RANDBETWEEN(1,59))),(J1201-INT(J1201))*60)","v":24},"minutes","=",{"$f":"IF(Worksheet!$D$7=1,1,IF(Worksheet!$D$7=2,2,RANDBETWEEN(1,2)))","v":1},null,{"$f":"IF(H1201=1,C1201+E1201/60,RANDBETWEEN(1,Worksheet!$D$6)+CHOOSE(Worksheet!$D$10,RANDBETWEEN(1,9)/10,RANDBETWEEN(1,99)/100,RANDBETWEEN(1,999)/1000,RANDBETWEEN(1,9999)/10000,RANDBETWEEN(1,99999)/100000))","v":19.399999999999999},"hours"]
[{"$f":"IF(COUNTIF($B$1:B1202,TRUE)=COUNTIF($B$1:B1201,TRUE),\"\",COUNTIF($B$1:B1202,TRUE))","v":482},{"$f":"Worksheet!$B$13","v":true},{"$f":"IF(H1202=1,RANDBETWEEN(1,Worksheet!$D$6),INT(J1202))","v":9},{"$f":"IF(C1202=1,\"minute\",\"minutes\")","v":"minutes"},{"$f":"IF(H1202=1,IF(Worksheet!$D$10=1,RANDBETWEEN(1,9)*6,IF(Worksheet!$D$10=2,RANDBETWEEN(1,19)*3,RANDBETWEEN(1,59))),(J1202-INT(J1202))*60)","v":48.000000000000043},"seconds","=",{"$f":"IF(Worksheet!$D$7=1,1,IF(Worksheet!$D$7=2,2,RANDBETWEEN(1,2)))","v":2},null,{"$f":"IF(H1202=1,C1202+E1202/60,RANDBETWEEN(1,Worksheet!$D$6)+CHOOSE(Worksheet!$D$10,RANDBETWEEN(1,9)/10,RANDBETWEEN(1,99)/100,RANDBETWEEN(1,999)/1000,RANDBETWEEN(1,9999)/10000,RANDBETWEEN(1,99999)/100000))","v":9.8000000000000007},"minutes"]
[{"$f":"IF(COUNTIF($B$1:B1203,TRUE)=COUNTIF($B$1:B1202,TRUE),\"\",COUNTIF($B$1:B1203,TRUE))","v":""},{"$f":"Worksheet!$B$14","v":false},{"$f":"IF(H1203=1,RANDBETWEEN(1,Worksheet!$D$6),INT(J1203))","v":3},{"$f":"IF(C1203=1,\"week\",\"weeks\")","v":"weeks"},{"$f":"IF(H1203=1,RANDBETWEEN(1,6),(J1203-INT(J1203))*7)","v":5.5999999999999988},"days","=",{"$f":"IF(Worksheet!$D$7=1,1,IF(Worksheet!$D$7=2,2,RANDBETWEEN(1,2)))","v":2},null,{"$f":"IF(H1203=1,C1203+E1203/7,RANDBETWEEN(1,Worksheet!$D$6)+CHOOSE(Worksheet!$D$10,RANDBETWEEN(1,9)/10,RANDBETWEEN(1,99)/100,RANDBETWEEN(1,999)/1000,RANDBETWEEN(1,9999)/10000,RANDBETWEEN(1,99999)/100000))","v":3.8},"weeks"]
[{"$f":"IF(COUNTIF($B$1:B1204,TRUE)=COUNTIF($B$1:B1203,TRUE),\"\",COUNTIF($B$1:B1204,TRUE))","v":""},{"$f":"Worksheet!$D$12","v":false},{"$f":"IF(H1204=1,RANDBETWEEN(1,Worksheet!$D$6),INT(J1204))","v":5},{"$f":"IF(C1204=1,\"day\",\"days\")","v":"days"},{"$f":"IF(H1204=1,RANDBETWEEN(1,23),(J1204-INT(J1204))*24)","v":15},"hours","=",{"$f":"IF(Worksheet!$D$7=1,1,IF(Worksheet!$D$7=2,2,RANDBETWEEN(1,2)))","v":1},null,{"$f":"IF(H1204=1,C1204+E1204/24,RANDBETWEEN(1,Worksheet!$D$6)+CHOOSE(Worksheet!$D$10,RANDBETWEEN(1,9)/10,RANDBETWEEN(1,99)/100,RANDBETWEEN(1,999)/1000,RANDBETWEEN(1,9999)/10000,RANDBETWEEN(1,99999)/100000))","v":5.625},"days"]
[{"$f":"IF(COUNTIF($B$1:B1205,TRUE)=COUNTIF($B$1:B1204,TRUE),\"\",COUNTIF($B$1:B1205,TRUE))","v":""},{"$f":"Worksheet!$D$13","v":false},{"$f":"IF(H1205=1,RANDBETWEEN(1,Worksheet!$D$6),INT(J1205))","v":5},{"$f":"IF(C1205=1,\"year\",\"years\")","v":"years"},{"$f":"IF(H1205=1,RANDBETWEEN(1,11),(J1205-INT(J1205))*12)","v":10},"months","=",{"$f":"IF(Worksheet!$D$7=1,1,IF(Worksheet!$D$7=2,2,RANDBETWEEN(1,2)))","v":1},null,{"$f":"IF(H1205=1,C1205+E1205/12,RANDBETWEEN(1,Worksheet!$D$6)+CHOOSE(Worksheet!$D$10,RANDBETWEEN(1,9)/10,RANDBETWEEN(1,99)/100,RANDBETWEEN(1,999)/1000,RANDBETWEEN(1,9999)/10000,RANDBETWEEN(1,99999)/100000))","v":5.833333333333333},"years"]
[{"$f":"COUNTIF($B$1:B1206,TRUE)","v":483},{"$f":"Worksheet!$B$12","v":true},{"$f":"IF(H1206=1,RANDBETWEEN(1,Worksheet!$D$6),INT(J1206))","v":5},{"$f":"IF(C1206=1,\"hour\",\"hours\")","v":"hours"},{"$f":"IF(H1206=1,IF(Worksheet!$D$10=1,RANDBETWEEN(1,9)*6,IF(Worksheet!$D$10=2,RANDBETWEEN(1,19)*3,RANDBETWEEN(1,59))),(J1206-INT(J1206))*60)","v":12},"minutes","=",{"$f":"IF(Worksheet!$D$7=1,1,IF(Worksheet!$D$7=2,2,RANDBETWEEN(1,2)))","v":1},null,{"$f":"IF(H1206=1,C1206+E1206/60,RANDBETWEEN(1,Worksheet!$D$6)+CHOOSE(Worksheet!$D$10,RANDBETWEEN(1,9)/10,RANDBETWEEN(1,99)/100,RANDBETWEEN(1,999)/1000,RANDBETWEEN(1,9999)/10000,RANDBETWEEN(1,99999)/100000))","v":5.2},"hours"]
[{"$f":"IF(COUNTIF($B$1:B1207,TRUE)=COUNTIF($B$1:B1206,TRUE),\"\",COUNTIF($B$1:B1207,TRUE))","v":484},{"$f":"Worksheet!$B$13","v":true},{"$f":"IF(H1207=1,RANDBETWEEN(1,Worksheet!$D$6),INT(J1207))","v":2},{"$f":"IF(C1207=1,\"minute\",\"minutes\")","v":"minutes"},{"$f":"IF(H1207=1,IF(Worksheet!$D$10=1,RANDBETWEEN(1,9)*6,IF(Worksheet!$D$10=2,RANDBETWEEN(1,19)*3,RANDBETWEEN(1,59))),(J1207-INT(J1207))*60)","v":17.999999999999989},"seconds","=",{"$f":"IF(Worksheet!$D$7=1,1,IF(Worksheet!$D$7=2,2,RANDBETWEEN(1,2)))","v":2},null,{"$f":"IF(H1207=1,C1207+E1207/60,RANDBETWEEN(1,Worksheet!$D$6)+CHOOSE(Worksheet!$D$10,RANDBETWEEN(1,9)/10,RANDBETWEEN(1,99)/100,RANDBETWEEN(1,999)/1000,RANDBETWEEN(1,9999)/10000,RANDBETWEEN(1,99999)/100000))","v":2.2999999999999998},"minutes"]
[{"$f":"IF(COUNTIF($B$1:B1208,TRUE)=COUNTIF($B$1:B1207,TRUE),\"\",COUNTIF($B$1:B1208,TRUE))","v":""},{"$f":"Worksheet!$B$14","v":false},{"$f":"IF(H1208=1,RANDBETWEEN(1,Worksheet!$D$6),INT(J1208))","v":22},{"$f":"IF(C1208=1,\"week\",\"weeks\")","v":"weeks"},{"$f":"IF(H1208=1,RANDBETWEEN(1,6),(J1208-INT(J1208))*7)","v":2.100000000000005},"days","=",{"$f":"IF(Worksheet!$D$7=1,1,IF(Worksheet!$D$7=2,2,RANDBETWEEN(1,2)))","v":2},null,{"$f":"IF(H1208=1,C1208+E1208/7,RANDBETWEEN(1,Worksheet!$D$6)+CHOOSE(Worksheet!$D$10,RANDBETWEEN(1,9)/10,RANDBETWEEN(1,99)/100,RANDBETWEEN(1,999)/1000,RANDBETWEEN(1,9999)/10000,RANDBETWEEN(1,99999)/100000))","v":22.3},"weeks"]
[{"$f":"IF(COUNTIF($B$1:B1209,TRUE)=COUNTIF($B$1:B1208,TRUE),\"\",COUNTIF($B$1:B1209,TRUE))","v":""},{"$f":"Worksheet!$D$12","v":false},{"$f":"IF(H1209=1,RANDBETWEEN(1,Worksheet!$D$6),INT(J1209))","v":28},{"$f":"IF(C1209=1,\"day\",\"days\")","v":"days"},{"$f":"IF(H1209=1,RANDBETWEEN(1,23),(J1209-INT(J1209))*24)","v":16},"hours","=",{"$f":"IF(Worksheet!$D$7=1,1,IF(Worksheet!$D$7=2,2,RANDBETWEEN(1,2)))","v":1},null,{"$f":"IF(H1209=1,C1209+E1209/24,RANDBETWEEN(1,Worksheet!$D$6)+CHOOSE(Worksheet!$D$10,RANDBETWEEN(1,9)/10,RANDBETWEEN(1,99)/100,RANDBETWEEN(1,999)/1000,RANDBETWEEN(1,9999)/10000,RANDBETWEEN(1,99999)/100000))","v":28.666666666666668},"days"]
[{"$f":"IF(COUNTIF($B$1:B1210,TRUE)=COUNTIF($B$1:B1209,TRUE),\"\",COUNTIF($B$1:B1210,TRUE))","v":""},{"$f":"Worksheet!$D$13","v":false},{"$f":"IF(H1210=1,RANDBETWEEN(1,Worksheet!$D$6),INT(J1210))","v":7},{"$f":"IF(C1210=1,\"year\",\"years\")","v":"years"},{"$f":"IF(H1210=1,RANDBETWEEN(1,11),(J1210-INT(J1210))*12)","v":5},"months","=",{"$f":"IF(Worksheet!$D$7=1,1,IF(Worksheet!$D$7=2,2,RANDBETWEEN(1,2)))","v":1},null,{"$f":"IF(H1210=1,C1210+E1210/12,RANDBETWEEN(1,Worksheet!$D$6)+CHOOSE(Worksheet!$D$10,RANDBETWEEN(1,9)/10,RANDBETWEEN(1,99)/100,RANDBETWEEN(1,999)/1000,RANDBETWEEN(1,9999)/10000,RANDBETWEEN(1,99999)/100000))","v":7.416666666666667},"years"]
[{"$f":"COUNTIF($B$1:B1211,TRUE)","v":485},{"$f":"Worksheet!$B$12","v":true},{"$f":"IF(H1211=1,RANDBETWEEN(1,Worksheet!$D$6),INT(J1211))","v":4},{"$f":"IF(C1211=1,\"hour\",\"hours\")","v":"hours"},{"$f":"IF(H1211=1,IF(Worksheet!$D$10=1,RANDBETWEEN(1,9)*6,IF(Worksheet!$D$10=2,RANDBETWEEN(1,19)*3,RANDBETWEEN(1,59))),(J1211-INT(J1211))*60)","v":12.000000000000011},"minutes","=",{"$f":"IF(Worksheet!$D$7=1,1,IF(Worksheet!$D$7=2,2,RANDBETWEEN(1,2)))","v":2},null,{"$f":"IF(H1211=1,C1211+E1211/60,RANDBETWEEN(1,Worksheet!$D$6)+CHOOSE(Worksheet!$D$10,RANDBETWEEN(1,9)/10,RANDBETWEEN(1,99)/100,RANDBETWEEN(1,999)/1000,RANDBETWEEN(1,9999)/10000,RANDBETWEEN(1,99999)/100000))","v":4.2},"hours"]
[{"$f":"IF(COUNTIF($B$1:B1212,TRUE)=COUNTIF($B$1:B1211,TRUE),\"\",COUNTIF($B$1:B1212,TRUE))","v":486},{"$f":"Worksheet!$B$13","v":true},{"$f":"IF(H1212=1,RANDBETWEEN(1,Worksheet!$D$6),INT(J1212))","v":24},{"$f":"IF(C1212=1,\"minute\",\"minutes\")","v":"minutes"},{"$f":"IF(H1212=1,IF(Worksheet!$D$10=1,RANDBETWEEN(1,9)*6,IF(Worksheet!$D$10=2,RANDBETWEEN(1,19)*3,RANDBETWEEN(1,59))),(J1212-INT(J1212))*60)","v":18.000000000000043},"seconds","=",{"$f":"IF(Worksheet!$D$7=1,1,IF(Worksheet!$D$7=2,2,RANDBETWEEN(1,2)))","v":2},null,{"$f":"IF(H1212=1,C1212+E1212/60,RANDBETWEEN(1,Worksheet!$D$6)+CHOOSE(Worksheet!$D$10,RANDBETWEEN(1,9)/10,RANDBETWEEN(1,99)/100,RANDBETWEEN(1,999)/1000,RANDBETWEEN(1,9999)/10000,RANDBETWEEN(1,99999)/100000))","v":24.3},"minutes"]
[{"$f":"IF(COUNTIF($B$1:B1213,TRUE)=COUNTIF($B$1:B1212,TRUE),\"\",COUNTIF($B$1:B1213,TRUE))","v":""},{"$f":"Worksheet!$B$14","v":false},{"$f":"IF(H1213=1,RANDBETWEEN(1,Worksheet!$D$6),INT(J1213))","v":11},{"$f":"IF(C1213=1,\"week\",\"weeks\")","v":"weeks"},{"$f":"IF(H1213=1,RANDBETWEEN(1,6),(J1213-INT(J1213))*7)","v":4.899999999999995},"days","=",{"$f":"IF(Worksheet!$D$7=1,1,IF(Worksheet!$D$7=2,2,RANDBETWEEN(1,2)))","v":2},null,{"$f":"IF(H1213=1,C1213+E1213/7,RANDBETWEEN(1,Worksheet!$D$6)+CHOOSE(Worksheet!$D$10,RANDBETWEEN(1,9)/10,RANDBETWEEN(1,99)/100,RANDBETWEEN(1,999)/1000,RANDBETWEEN(1,9999)/10000,RANDBETWEEN(1,99999)/100000))","v":11.7},"weeks"]
[{"$f":"IF(COUNTIF($B$1:B1214,TRUE)=COUNTIF($B$1:B1213,TRUE),\"\",COUNTIF($B$1:B1214,TRUE))","v":""},{"$f":"Worksheet!$D$12","v":false},{"$f":"IF(H1214=1,RANDBETWEEN(1,Worksheet!$D$6),INT(J1214))","v":10},{"$f":"IF(C1214=1,\"day\",\"days\")","v":"days"},{"$f":"IF(H1214=1,RANDBETWEEN(1,23),(J1214-INT(J1214))*24)","v":16.799999999999983},"hours","=",{"$f":"IF(Worksheet!$D$7=1,1,IF(Worksheet!$D$7=2,2,RANDBETWEEN(1,2)))","v":2},null,{"$f":"IF(H1214=1,C1214+E1214/24,RANDBETWEEN(1,Worksheet!$D$6)+CHOOSE(Worksheet!$D$10,RANDBETWEEN(1,9)/10,RANDBETWEEN(1,99)/100,RANDBETWEEN(1,999)/1000,RANDBETWEEN(1,9999)/10000,RANDBETWEEN(1,99999)/100000))","v":10.7},"days"]
[{"$f":"IF(COUNTIF($B$1:B1215,TRUE)=COUNTIF($B$1:B1214,TRUE),\"\",COUNTIF($B$1:B1215,TRUE))","v":""},{"$f":"Worksheet!$D$13","v":false},{"$f":"IF(H1215=1,RANDBETWEEN(1,Worksheet!$D$6),INT(J1215))","v":4},{"$f":"IF(C1215=1,\"year\",\"years\")","v":"years"},{"$f":"IF(H1215=1,RANDBETWEEN(1,11),(J1215-INT(J1215))*12)","v":6},"months","=",{"$f":"IF(Worksheet!$D$7=1,1,IF(Worksheet!$D$7=2,2,RANDBETWEEN(1,2)))","v":1},null,{"$f":"IF(H1215=1,C1215+E1215/12,RANDBETWEEN(1,Worksheet!$D$6)+CHOOSE(Worksheet!$D$10,RANDBETWEEN(1,9)/10,RANDBETWEEN(1,99)/100,RANDBETWEEN(1,999)/1000,RANDBETWEEN(1,9999)/10000,RANDBETWEEN(1,99999)/100000))","v":4.5},"years"]
[{"$f":"COUNTIF($B$1:B1216,TRUE)","v":487},{"$f":"Worksheet!$B$12","v":true},{"$f":"IF(H1216=1,RANDBETWEEN(1,Worksheet!$D$6),INT(J1216))","v":18},{"$f":"IF(C1216=1,\"hour\",\"hours\")","v":"hours"},{"$f":"IF(H1216=1,IF(Worksheet!$D$10=1,RANDBETWEEN(1,9)*6,IF(Worksheet!$D$10=2,RANDBETWEEN(1,19)*3,RANDBETWEEN(1,59))),(J1216-INT(J1216))*60)","v":36},"minutes","=",{"$f":"IF(Worksheet!$D$7=1,1,IF(Worksheet!$D$7=2,2,RANDBETWEEN(1,2)))","v":1},null,{"$f":"IF(H1216=1,C1216+E1216/60,RANDBETWEEN(1,Worksheet!$D$6)+CHOOSE(Worksheet!$D$10,RANDBETWEEN(1,9)/10,RANDBETWEEN(1,99)/100,RANDBETWEEN(1,999)/1000,RANDBETWEEN(1,9999)/10000,RANDBETWEEN(1,99999)/100000))","v":18.600000000000001},"hours"]
[{"$f":"IF(COUNTIF($B$1:B1217,TRUE)=COUNTIF($B$1:B1216,TRUE),\"\",COUNTIF($B$1:B1217,TRUE))","v":488},{"$f":"Worksheet!$B$13","v":true},{"$f":"IF(H1217=1,RANDBETWEEN(1,Worksheet!$D$6),INT(J1217))","v":5},{"$f":"IF(C1217=1,\"minute\",\"minutes\")","v":"minutes"},{"$f":"IF(H1217=1,IF(Worksheet!$D$10=1,RANDBETWEEN(1,9)*6,IF(Worksheet!$D$10=2,RANDBETWEEN(1,19)*3,RANDBETWEEN(1,59))),(J1217-INT(J1217))*60)","v":24},"seconds","=",{"$f":"IF(Worksheet!$D$7=1,1,IF(Worksheet!$D$7=2,2,RANDBETWEEN(1,2)))","v":1},null,{"$f":"IF(H1217=1,C1217+E1217/60,RANDBETWEEN(1,Worksheet!$D$6)+CHOOSE(Worksheet!$D$10,RANDBETWEEN(1,9)/10,RANDBETWEEN(1,99)/100,RANDBETWEEN(1,999)/1000,RANDBETWEEN(1,9999)/10000,RANDBETWEEN(1,99999)/100000))","v":5.4},"minutes"]
[{"$f":"IF(COUNTIF($B$1:B1218,TRUE)=COUNTIF($B$1:B1217,TRUE),\"\",COUNTIF($B$1:B1218,TRUE))","v":""},{"$f":"Worksheet!$B$14","v":false},{"$f":"IF(H1218=1,RANDBETWEEN(1,Worksheet!$D$6),INT(J1218))","v":8},{"$f":"IF(C1218=1,\"week\",\"weeks\")","v":"weeks"},{"$f":"IF(H1218=1,RANDBETWEEN(1,6),(J1218-INT(J1218))*7)","v":4.1999999999999975},"days","=",{"$f":"IF(Worksheet!$D$7=1,1,IF(Worksheet!$D$7=2,2,RANDBETWEEN(1,2)))","v":2},null,{"$f":"IF(H1218=1,C1218+E1218/7,RANDBETWEEN(1,Worksheet!$D$6)+CHOOSE(Worksheet!$D$10,RANDBETWEEN(1,9)/10,RANDBETWEEN(1,99)/100,RANDBETWEEN(1,999)/1000,RANDBETWEEN(1,9999)/10000,RANDBETWEEN(1,99999)/100000))","v":8.6},"weeks"]
[{"$f":"IF(COUNTIF($B$1:B1219,TRUE)=COUNTIF($B$1:B1218,TRUE),\"\",COUNTIF($B$1:B1219,TRUE))","v":""},{"$f":"Worksheet!$D$12","v":false},{"$f":"IF(H1219=1,RANDBETWEEN(1,Worksheet!$D$6),INT(J1219))","v":6},{"$f":"IF(C1219=1,\"day\",\"days\")","v":"days"},{"$f":"IF(H1219=1,RANDBETWEEN(1,23),(J1219-INT(J1219))*24)","v":21.600000000000009},"hours","=",{"$f":"IF(Worksheet!$D$7=1,1,IF(Worksheet!$D$7=2,2,RANDBETWEEN(1,2)))","v":2},null,{"$f":"IF(H1219=1,C1219+E1219/24,RANDBETWEEN(1,Worksheet!$D$6)+CHOOSE(Worksheet!$D$10,RANDBETWEEN(1,9)/10,RANDBETWEEN(1,99)/100,RANDBETWEEN(1,999)/1000,RANDBETWEEN(1,9999)/10000,RANDBETWEEN(1,99999)/100000))","v":6.9},"days"]
[{"$f":"IF(COUNTIF($B$1:B1220,TRUE)=COUNTIF($B$1:B1219,TRUE),\"\",COUNTIF($B$1:B1220,TRUE))","v":""},{"$f":"Worksheet!$D$13","v":false},{"$f":"IF(H1220=1,RANDBETWEEN(1,Worksheet!$D$6),INT(J1220))","v":4},{"$f":"IF(C1220=1,\"year\",\"years\")","v":"years"},{"$f":"IF(H1220=1,RANDBETWEEN(1,11),(J1220-INT(J1220))*12)","v":9},"months","=",{"$f":"IF(Worksheet!$D$7=1,1,IF(Worksheet!$D$7=2,2,RANDBETWEEN(1,2)))","v":1},null,{"$f":"IF(H1220=1,C1220+E1220/12,RANDBETWEEN(1,Worksheet!$D$6)+CHOOSE(Worksheet!$D$10,RANDBETWEEN(1,9)/10,RANDBETWEEN(1,99)/100,RANDBETWEEN(1,999)/1000,RANDBETWEEN(1,9999)/10000,RANDBETWEEN(1,99999)/100000))","v":4.75},"years"]
[{"$f":"COUNTIF($B$1:B1221,TRUE)","v":489},{"$f":"Worksheet!$B$12","v":true},{"$f":"IF(H1221=1,RANDBETWEEN(1,Worksheet!$D$6),INT(J1221))","v":26},{"$f":"IF(C1221=1,\"hour\",\"hours\")","v":"hours"},{"$f":"IF(H1221=1,IF(Worksheet!$D$10=1,RANDBETWEEN(1,9)*6,IF(Worksheet!$D$10=2,RANDBETWEEN(1,19)*3,RANDBETWEEN(1,59))),(J1221-INT(J1221))*60)","v":11.999999999999957},"minutes","=",{"$f":"IF(Worksheet!$D$7=1,1,IF(Worksheet!$D$7=2,2,RANDBETWEEN(1,2)))","v":2},null,{"$f":"IF(H1221=1,C1221+E1221/60,RANDBETWEEN(1,Worksheet!$D$6)+CHOOSE(Worksheet!$D$10,RANDBETWEEN(1,9)/10,RANDBETWEEN(1,99)/100,RANDBETWEEN(1,999)/1000,RANDBETWEEN(1,9999)/10000,RANDBETWEEN(1,99999)/100000))","v":26.2},"hours"]
[{"$f":"IF(COUNTIF($B$1:B1222,TRUE)=COUNTIF($B$1:B1221,TRUE),\"\",COUNTIF($B$1:B1222,TRUE))","v":490},{"$f":"Worksheet!$B$13","v":true},{"$f":"IF(H1222=1,RANDBETWEEN(1,Worksheet!$D$6),INT(J1222))","v":14},{"$f":"IF(C1222=1,\"minute\",\"minutes\")","v":"minutes"},{"$f":"IF(H1222=1,IF(Worksheet!$D$10=1,RANDBETWEEN(1,9)*6,IF(Worksheet!$D$10=2,RANDBETWEEN(1,19)*3,RANDBETWEEN(1,59))),(J1222-INT(J1222))*60)","v":12},"seconds","=",{"$f":"IF(Worksheet!$D$7=1,1,IF(Worksheet!$D$7=2,2,RANDBETWEEN(1,2)))","v":1},null,{"$f":"IF(H1222=1,C1222+E1222/60,RANDBETWEEN(1,Worksheet!$D$6)+CHOOSE(Worksheet!$D$10,RANDBETWEEN(1,9)/10,RANDBETWEEN(1,99)/100,RANDBETWEEN(1,999)/1000,RANDBETWEEN(1,9999)/10000,RANDBETWEEN(1,99999)/100000))","v":14.2},"minutes"]
[{"$f":"IF(COUNTIF($B$1:B1223,TRUE)=COUNTIF($B$1:B1222,TRUE),\"\",COUNTIF($B$1:B1223,TRUE))","v":""},{"$f":"Worksheet!$B$14","v":false},{"$f":"IF(H1223=1,RANDBETWEEN(1,Worksheet!$D$6),INT(J1223))","v":12},{"$f":"IF(C1223=1,\"week\",\"weeks\")","v":"weeks"},{"$f":"IF(H1223=1,RANDBETWEEN(1,6),(J1223-INT(J1223))*7)","v":4.1999999999999975},"days","=",{"$f":"IF(Worksheet!$D$7=1,1,IF(Worksheet!$D$7=2,2,RANDBETWEEN(1,2)))","v":2},null,{"$f":"IF(H1223=1,C1223+E1223/7,RANDBETWEEN(1,Worksheet!$D$6)+CHOOSE(Worksheet!$D$10,RANDBETWEEN(1,9)/10,RANDBETWEEN(1,99)/100,RANDBETWEEN(1,999)/1000,RANDBETWEEN(1,9999)/10000,RANDBETWEEN(1,99999)/100000))","v":12.6},"weeks"]
[{"$f":"IF(COUNTIF($B$1:B1224,TRUE)=COUNTIF($B$1:B1223,TRUE),\"\",COUNTIF($B$1:B1224,TRUE))","v":""},{"$f":"Worksheet!$D$12","v":false},{"$f":"IF(H1224=1,RANDBETWEEN(1,Worksheet!$D$6),INT(J1224))","v":20},{"$f":"IF(C1224=1,\"day\",\"days\")","v":"days"},{"$f":"IF(H1224=1,RANDBETWEEN(1,23),(J1224-INT(J1224))*24)","v":19.200000000000017},"hours","=",{"$f":"IF(Worksheet!$D$7=1,1,IF(Worksheet!$D$7=2,2,RANDBETWEEN(1,2)))","v":2},null,{"$f":"IF(H1224=1,C1224+E1224/24,RANDBETWEEN(1,Worksheet!$D$6)+CHOOSE(Worksheet!$D$10,RANDBETWEEN(1,9)/10,RANDBETWEEN(1,99)/100,RANDBETWEEN(1,999)/1000,RANDBETWEEN(1,9999)/10000,RANDBETWEEN(1,99999)/100000))","v":20.8},"days"]
[{"$f":"IF(COUNTIF($B$1:B1225,TRUE)=COUNTIF($B$1:B1224,TRUE),\"\",COUNTIF($B$1:B1225,TRUE))","v":""},{"$f":"Worksheet!$D$13","v":false},{"$f":"IF(H1225=1,RANDBETWEEN(1,Worksheet!$D$6),INT(J1225))","v":28},{"$f":"IF(C1225=1,\"year\",\"years\")","v":"years"},{"$f":"IF(H1225=1,RANDBETWEEN(1,11),(J1225-INT(J1225))*12)","v":9.6000000000000085},"months","=",{"$f":"IF(Worksheet!$D$7=1,1,IF(Worksheet!$D$7=2,2,RANDBETWEEN(1,2)))","v":2},null,{"$f":"IF(H1225=1,C1225+E1225/12,RANDBETWEEN(1,Worksheet!$D$6)+CHOOSE(Worksheet!$D$10,RANDBETWEEN(1,9)/10,RANDBETWEEN(1,99)/100,RANDBETWEEN(1,999)/1000,RANDBETWEEN(1,9999)/10000,RANDBETWEEN(1,99999)/100000))","v":28.8},"years"]
[{"$f":"COUNTIF($B$1:B1226,TRUE)","v":491},{"$f":"Worksheet!$B$12","v":true},{"$f":"IF(H1226=1,RANDBETWEEN(1,Worksheet!$D$6),INT(J1226))","v":13},{"$f":"IF(C1226=1,\"hour\",\"hours\")","v":"hours"},{"$f":"IF(H1226=1,IF(Worksheet!$D$10=1,RANDBETWEEN(1,9)*6,IF(Worksheet!$D$10=2,RANDBETWEEN(1,19)*3,RANDBETWEEN(1,59))),(J1226-INT(J1226))*60)","v":24.000000000000021},"minutes","=",{"$f":"IF(Worksheet!$D$7=1,1,IF(Worksheet!$D$7=2,2,RANDBETWEEN(1,2)))","v":2},null,{"$f":"IF(H1226=1,C1226+E1226/60,RANDBETWEEN(1,Worksheet!$D$6)+CHOOSE(Worksheet!$D$10,RANDBETWEEN(1,9)/10,RANDBETWEEN(1,99)/100,RANDBETWEEN(1,999)/1000,RANDBETWEEN(1,9999)/10000,RANDBETWEEN(1,99999)/100000))","v":13.4},"hours"]
[{"$f":"IF(COUNTIF($B$1:B1227,TRUE)=COUNTIF($B$1:B1226,TRUE),\"\",COUNTIF($B$1:B1227,TRUE))","v":492},{"$f":"Worksheet!$B$13","v":true},{"$f":"IF(H1227=1,RANDBETWEEN(1,Worksheet!$D$6),INT(J1227))","v":30},{"$f":"IF(C1227=1,\"minute\",\"minutes\")","v":"minutes"},{"$f":"IF(H1227=1,IF(Worksheet!$D$10=1,RANDBETWEEN(1,9)*6,IF(Worksheet!$D$10=2,RANDBETWEEN(1,19)*3,RANDBETWEEN(1,59))),(J1227-INT(J1227))*60)","v":11.999999999999957},"seconds","=",{"$f":"IF(Worksheet!$D$7=1,1,IF(Worksheet!$D$7=2,2,RANDBETWEEN(1,2)))","v":2},null,{"$f":"IF(H1227=1,C1227+E1227/60,RANDBETWEEN(1,Worksheet!$D$6)+CHOOSE(Worksheet!$D$10,RANDBETWEEN(1,9)/10,RANDBETWEEN(1,99)/100,RANDBETWEEN(1,999)/1000,RANDBETWEEN(1,9999)/10000,RANDBETWEEN(1,99999)/100000))","v":30.2},"minutes"]
[{"$f":"IF(COUNTIF($B$1:B1228,TRUE)=COUNTIF($B$1:B1227,TRUE),\"\",COUNTIF($B$1:B1228,TRUE))","v":""},{"$f":"Worksheet!$B$14","v":false},{"$f":"IF(H1228=1,RANDBETWEEN(1,Worksheet!$D$6),INT(J1228))","v":4},{"$f":"IF(C1228=1,\"week\",\"weeks\")","v":"weeks"},{"$f":"IF(H1228=1,RANDBETWEEN(1,6),(J1228-INT(J1228))*7)","v":2},"days","=",{"$f":"IF(Worksheet!$D$7=1,1,IF(Worksheet!$D$7=2,2,RANDBETWEEN(1,2)))","v":1},null,{"$f":"IF(H1228=1,C1228+E1228/7,RANDBETWEEN(1,Worksheet!$D$6)+CHOOSE(Worksheet!$D$10,RANDBETWEEN(1,9)/10,RANDBETWEEN(1,99)/100,RANDBETWEEN(1,999)/1000,RANDBETWEEN(1,9999)/10000,RANDBETWEEN(1,99999)/100000))","v":4.2857142857142856},"weeks"]
[{"$f":"IF(COUNTIF($B$1:B1229,TRUE)=COUNTIF($B$1:B1228,TRUE),\"\",COUNTIF($B$1:B1229,TRUE))","v":""},{"$f":"Worksheet!$D$12","v":false},{"$f":"IF(H1229=1,RANDBETWEEN(1,Worksheet!$D$6),INT(J1229))","v":20},{"$f":"IF(C1229=1,\"day\",\"days\")","v":"days"},{"$f":"IF(H1229=1,RANDBETWEEN(1,23),(J1229-INT(J1229))*24)","v":23},"hours","=",{"$f":"IF(Worksheet!$D$7=1,1,IF(Worksheet!$D$7=2,2,RANDBETWEEN(1,2)))","v":1},null,{"$f":"IF(H1229=1,C1229+E1229/24,RANDBETWEEN(1,Worksheet!$D$6)+CHOOSE(Worksheet!$D$10,RANDBETWEEN(1,9)/10,RANDBETWEEN(1,99)/100,RANDBETWEEN(1,999)/1000,RANDBETWEEN(1,9999)/10000,RANDBETWEEN(1,99999)/100000))","v":20.958333333333332},"days"]
[{"$f":"IF(COUNTIF($B$1:B1230,TRUE)=COUNTIF($B$1:B1229,TRUE),\"\",COUNTIF($B$1:B1230,TRUE))","v":""},{"$f":"Worksheet!$D$13","v":false},{"$f":"IF(H1230=1,RANDBETWEEN(1,Worksheet!$D$6),INT(J1230))","v":9},{"$f":"IF(C1230=1,\"year\",\"years\")","v":"years"},{"$f":"IF(H1230=1,RANDBETWEEN(1,11),(J1230-INT(J1230))*12)","v":10.800000000000004},"months","=",{"$f":"IF(Worksheet!$D$7=1,1,IF(Worksheet!$D$7=2,2,RANDBETWEEN(1,2)))","v":2},null,{"$f":"IF(H1230=1,C1230+E1230/12,RANDBETWEEN(1,Worksheet!$D$6)+CHOOSE(Worksheet!$D$10,RANDBETWEEN(1,9)/10,RANDBETWEEN(1,99)/100,RANDBETWEEN(1,999)/1000,RANDBETWEEN(1,9999)/10000,RANDBETWEEN(1,99999)/100000))","v":9.9},"years"]
[{"$f":"COUNTIF($B$1:B1231,TRUE)","v":493},{"$f":"Worksheet!$B$12","v":true},{"$f":"IF(H1231=1,RANDBETWEEN(1,Worksheet!$D$6),INT(J1231))","v":12},{"$f":"IF(C1231=1,\"hour\",\"hours\")","v":"hours"},{"$f":"IF(H1231=1,IF(Worksheet!$D$10=1,RANDBETWEEN(1,9)*6,IF(Worksheet!$D$10=2,RANDBETWEEN(1,19)*3,RANDBETWEEN(1,59))),(J1231-INT(J1231))*60)","v":24},"minutes","=",{"$f":"IF(Worksheet!$D$7=1,1,IF(Worksheet!$D$7=2,2,RANDBETWEEN(1,2)))","v":1},null,{"$f":"IF(H1231=1,C1231+E1231/60,RANDBETWEEN(1,Worksheet!$D$6)+CHOOSE(Worksheet!$D$10,RANDBETWEEN(1,9)/10,RANDBETWEEN(1,99)/100,RANDBETWEEN(1,999)/1000,RANDBETWEEN(1,9999)/10000,RANDBETWEEN(1,99999)/100000))","v":12.4},"hours"]
[{"$f":"IF(COUNTIF($B$1:B1232,TRUE)=COUNTIF($B$1:B1231,TRUE),\"\",COUNTIF($B$1:B1232,TRUE))","v":494},{"$f":"Worksheet!$B$13","v":true},{"$f":"IF(H1232=1,RANDBETWEEN(1,Worksheet!$D$6),INT(J1232))","v":5},{"$f":"IF(C1232=1,\"minute\",\"minutes\")","v":"minutes"},{"$f":"IF(H1232=1,IF(Worksheet!$D$10=1,RANDBETWEEN(1,9)*6,IF(Worksheet!$D$10=2,RANDBETWEEN(1,19)*3,RANDBETWEEN(1,59))),(J1232-INT(J1232))*60)","v":6},"seconds","=",{"$f":"IF(Worksheet!$D$7=1,1,IF(Worksheet!$D$7=2,2,RANDBETWEEN(1,2)))","v":1},null,{"$f":"IF(H1232=1,C1232+E1232/60,RANDBETWEEN(1,Worksheet!$D$6)+CHOOSE(Worksheet!$D$10,RANDBETWEEN(1,9)/10,RANDBETWEEN(1,99)/100,RANDBETWEEN(1,999)/1000,RANDBETWEEN(1,9999)/10000,RANDBETWEEN(1,99999)/100000))","v":5.0999999999999996},"minutes"]
[{"$f":"IF(COUNTIF($B$1:B1233,TRUE)=COUNTIF($B$1:B1232,TRUE),\"\",COUNTIF($B$1:B1233,TRUE))","v":""},{"$f":"Worksheet!$B$14","v":false},{"$f":"IF(H1233=1,RANDBETWEEN(1,Worksheet!$D$6),INT(J1233))","v":12},{"$f":"IF(C1233=1,\"week\",\"weeks\")","v":"weeks"},{"$f":"IF(H1233=1,RANDBETWEEN(1,6),(J1233-INT(J1233))*7)","v":4},"days","=",{"$f":"IF(Worksheet!$D$7=1,1,IF(Worksheet!$D$7=2,2,RANDBETWEEN(1,2)))","v":1},null,{"$f":"IF(H1233=1,C1233+E1233/7,RANDBETWEEN(1,Worksheet!$D$6)+CHOOSE(Worksheet!$D$10,RANDBETWEEN(1,9)/10,RANDBETWEEN(1,99)/100,RANDBETWEEN(1,999)/1000,RANDBETWEEN(1,9999)/10000,RANDBETWEEN(1,99999)/100000))","v":12.571428571428571},"weeks"]
[{"$f":"IF(COUNTIF($B$1:B1234,TRUE)=COUNTIF($B$1:B1233,TRUE),\"\",COUNTIF($B$1:B1234,TRUE))","v":""},{"$f":"Worksheet!$D$12","v":false},{"$f":"IF(H1234=1,RANDBETWEEN(1,Worksheet!$D$6),INT(J1234))","v":25},{"$f":"IF(C1234=1,\"day\",\"days\")","v":"days"},{"$f":"IF(H1234=1,RANDBETWEEN(1,23),(J1234-INT(J1234))*24)","v":8},"hours","=",{"$f":"IF(Worksheet!$D$7=1,1,IF(Worksheet!$D$7=2,2,RANDBETWEEN(1,2)))","v":1},null,{"$f":"IF(H1234=1,C1234+E1234/24,RANDBETWEEN(1,Worksheet!$D$6)+CHOOSE(Worksheet!$D$10,RANDBETWEEN(1,9)/10,RANDBETWEEN(1,99)/100,RANDBETWEEN(1,999)/1000,RANDBETWEEN(1,9999)/10000,RANDBETWEEN(1,99999)/100000))","v":25.333333333333332},"days"]
[{"$f":"IF(COUNTIF($B$1:B1235,TRUE)=COUNTIF($B$1:B1234,TRUE),\"\",COUNTIF($B$1:B1235,TRUE))","v":""},{"$f":"Worksheet!$D$13","v":false},{"$f":"IF(H1235=1,RANDBETWEEN(1,Worksheet!$D$6),INT(J1235))","v":2},{"$f":"IF(C1235=1,\"year\",\"years\")","v":"years"},{"$f":"IF(H1235=1,RANDBETWEEN(1,11),(J1235-INT(J1235))*12)","v":1},"months","=",{"$f":"IF(Worksheet!$D$7=1,1,IF(Worksheet!$D$7=2,2,RANDBETWEEN(1,2)))","v":1},null,{"$f":"IF(H1235=1,C1235+E1235/12,RANDBETWEEN(1,Worksheet!$D$6)+CHOOSE(Worksheet!$D$10,RANDBETWEEN(1,9)/10,RANDBETWEEN(1,99)/100,RANDBETWEEN(1,999)/1000,RANDBETWEEN(1,9999)/10000,RANDBETWEEN(1,99999)/100000))","v":2.0833333333333335},"years"]
[{"$f":"COUNTIF($B$1:B1236,TRUE)","v":495},{"$f":"Worksheet!$B$12","v":true},{"$f":"IF(H1236=1,RANDBETWEEN(1,Worksheet!$D$6),INT(J1236))","v":11},{"$f":"IF(C1236=1,\"hour\",\"hours\")","v":"hours"},{"$f":"IF(H1236=1,IF(Worksheet!$D$10=1,RANDBETWEEN(1,9)*6,IF(Worksheet!$D$10=2,RANDBETWEEN(1,19)*3,RANDBETWEEN(1,59))),(J1236-INT(J1236))*60)","v":48.000000000000043},"minutes","=",{"$f":"IF(Worksheet!$D$7=1,1,IF(Worksheet!$D$7=2,2,RANDBETWEEN(1,2)))","v":2},null,{"$f":"IF(H1236=1,C1236+E1236/60,RANDBETWEEN(1,Worksheet!$D$6)+CHOOSE(Worksheet!$D$10,RANDBETWEEN(1,9)/10,RANDBETWEEN(1,99)/100,RANDBETWEEN(1,999)/1000,RANDBETWEEN(1,9999)/10000,RANDBETWEEN(1,99999)/100000))","v":11.8},"hours"]
[{"$f":"IF(COUNTIF($B$1:B1237,TRUE)=COUNTIF($B$1:B1236,TRUE),\"\",COUNTIF($B$1:B1237,TRUE))","v":496},{"$f":"Worksheet!$B$13","v":true},{"$f":"IF(H1237=1,RANDBETWEEN(1,Worksheet!$D$6),INT(J1237))","v":10},{"$f":"IF(C1237=1,\"minute\",\"minutes\")","v":"minutes"},{"$f":"IF(H1237=1,IF(Worksheet!$D$10=1,RANDBETWEEN(1,9)*6,IF(Worksheet!$D$10=2,RANDBETWEEN(1,19)*3,RANDBETWEEN(1,59))),(J1237-INT(J1237))*60)","v":5.9999999999999787},"seconds","=",{"$f":"IF(Worksheet!$D$7=1,1,IF(Worksheet!$D$7=2,2,RANDBETWEEN(1,2)))","v":2},null,{"$f":"IF(H1237=1,C1237+E1237/60,RANDBETWEEN(1,Worksheet!$D$6)+CHOOSE(Worksheet!$D$10,RANDBETWEEN(1,9)/10,RANDBETWEEN(1,99)/100,RANDBETWEEN(1,999)/1000,RANDBETWEEN(1,9999)/10000,RANDBETWEEN(1,99999)/100000))","v":10.1},"minutes"]
[{"$f":"IF(COUNTIF($B$1:B1238,TRUE)=COUNTIF($B$1:B1237,TRUE),\"\",COUNTIF($B$1:B1238,TRUE))","v":""},{"$f":"Worksheet!$B$14","v":false},{"$f":"IF(H1238=1,RANDBETWEEN(1,Worksheet!$D$6),INT(J1238))","v":28},{"$f":"IF(C1238=1,\"week\",\"weeks\")","v":"weeks"},{"$f":"IF(H1238=1,RANDBETWEEN(1,6),(J1238-INT(J1238))*7)","v":2.100000000000005},"days","=",{"$f":"IF(Worksheet!$D$7=1,1,IF(Worksheet!$D$7=2,2,RANDBETWEEN(1,2)))","v":2},null,{"$f":"IF(H1238=1,C1238+E1238/7,RANDBETWEEN(1,Worksheet!$D$6)+CHOOSE(Worksheet!$D$10,RANDBETWEEN(1,9)/10,RANDBETWEEN(1,99)/100,RANDBETWEEN(1,999)/1000,RANDBETWEEN(1,9999)/10000,RANDBETWEEN(1,99999)/100000))","v":28.3},"weeks"]
[{"$f":"IF(COUNTIF($B$1:B1239,TRUE)=COUNTIF($B$1:B1238,TRUE),\"\",COUNTIF($B$1:B1239,TRUE))","v":""},{"$f":"Worksheet!$D$12","v":false},{"$f":"IF(H1239=1,RANDBETWEEN(1,Worksheet!$D$6),INT(J1239))","v":15},{"$f":"IF(C1239=1,\"day\",\"days\")","v":"days"},{"$f":"IF(H1239=1,RANDBETWEEN(1,23),(J1239-INT(J1239))*24)","v":12},"hours","=",{"$f":"IF(Worksheet!$D$7=1,1,IF(Worksheet!$D$7=2,2,RANDBETWEEN(1,2)))","v":2},null,{"$f":"IF(H1239=1,C1239+E1239/24,RANDBETWEEN(1,Worksheet!$D$6)+CHOOSE(Worksheet!$D$10,RANDBETWEEN(1,9)/10,RANDBETWEEN(1,99)/100,RANDBETWEEN(1,999)/1000,RANDBETWEEN(1,9999)/10000,RANDBETWEEN(1,99999)/100000))","v":15.5},"days"]
[{"$f":"IF(COUNTIF($B$1:B1240,TRUE)=COUNTIF($B$1:B1239,TRUE),\"\",COUNTIF($B$1:B1240,TRUE))","v":""},{"$f":"Worksheet!$D$13","v":false},{"$f":"IF(H1240=1,RANDBETWEEN(1,Worksheet!$D$6),INT(J1240))","v":17},{"$f":"IF(C1240=1,\"year\",\"years\")","v":"years"},{"$f":"IF(H1240=1,RANDBETWEEN(1,11),(J1240-INT(J1240))*12)","v":2},"months","=",{"$f":"IF(Worksheet!$D$7=1,1,IF(Worksheet!$D$7=2,2,RANDBETWEEN(1,2)))","v":1},null,{"$f":"IF(H1240=1,C1240+E1240/12,RANDBETWEEN(1,Worksheet!$D$6)+CHOOSE(Worksheet!$D$10,RANDBETWEEN(1,9)/10,RANDBETWEEN(1,99)/100,RANDBETWEEN(1,999)/1000,RANDBETWEEN(1,9999)/10000,RANDBETWEEN(1,99999)/100000))","v":17.166666666666668},"years"]
[{"$f":"COUNTIF($B$1:B1241,TRUE)","v":497},{"$f":"Worksheet!$B$12","v":true},{"$f":"IF(H1241=1,RANDBETWEEN(1,Worksheet!$D$6),INT(J1241))","v":16},{"$f":"IF(C1241=1,\"hour\",\"hours\")","v":"hours"},{"$f":"IF(H1241=1,IF(Worksheet!$D$10=1,RANDBETWEEN(1,9)*6,IF(Worksheet!$D$10=2,RANDBETWEEN(1,19)*3,RANDBETWEEN(1,59))),(J1241-INT(J1241))*60)","v":36},"minutes","=",{"$f":"IF(Worksheet!$D$7=1,1,IF(Worksheet!$D$7=2,2,RANDBETWEEN(1,2)))","v":1},null,{"$f":"IF(H1241=1,C1241+E1241/60,RANDBETWEEN(1,Worksheet!$D$6)+CHOOSE(Worksheet!$D$10,RANDBETWEEN(1,9)/10,RANDBETWEEN(1,99)/100,RANDBETWEEN(1,999)/1000,RANDBETWEEN(1,9999)/10000,RANDBETWEEN(1,99999)/100000))","v":16.600000000000001},"hours"]
[{"$f":"IF(COUNTIF($B$1:B1242,TRUE)=COUNTIF($B$1:B1241,TRUE),\"\",COUNTIF($B$1:B1242,TRUE))","v":498},{"$f":"Worksheet!$B$13","v":true},{"$f":"IF(H1242=1,RANDBETWEEN(1,Worksheet!$D$6),INT(J1242))","v":20},{"$f":"IF(C1242=1,\"minute\",\"minutes\")","v":"minutes"},{"$f":"IF(H1242=1,IF(Worksheet!$D$10=1,RANDBETWEEN(1,9)*6,IF(Worksheet!$D$10=2,RANDBETWEEN(1,19)*3,RANDBETWEEN(1,59))),(J1242-INT(J1242))*60)","v":24},"seconds","=",{"$f":"IF(Worksheet!$D$7=1,1,IF(Worksheet!$D$7=2,2,RANDBETWEEN(1,2)))","v":1},null,{"$f":"IF(H1242=1,C1242+E1242/60,RANDBETWEEN(1,Worksheet!$D$6)+CHOOSE(Worksheet!$D$10,RANDBETWEEN(1,9)/10,RANDBETWEEN(1,99)/100,RANDBETWEEN(1,999)/1000,RANDBETWEEN(1,9999)/10000,RANDBETWEEN(1,99999)/100000))","v":20.399999999999999},"minutes"]
[{"$f":"IF(COUNTIF($B$1:B1243,TRUE)=COUNTIF($B$1:B1242,TRUE),\"\",COUNTIF($B$1:B1243,TRUE))","v":""},{"$f":"Worksheet!$B$14","v":false},{"$f":"IF(H1243=1,RANDBETWEEN(1,Worksheet!$D$6),INT(J1243))","v":8},{"$f":"IF(C1243=1,\"week\",\"weeks\")","v":"weeks"},{"$f":"IF(H1243=1,RANDBETWEEN(1,6),(J1243-INT(J1243))*7)","v":3.5},"days","=",{"$f":"IF(Worksheet!$D$7=1,1,IF(Worksheet!$D$7=2,2,RANDBETWEEN(1,2)))","v":2},null,{"$f":"IF(H1243=1,C1243+E1243/7,RANDBETWEEN(1,Worksheet!$D$6)+CHOOSE(Worksheet!$D$10,RANDBETWEEN(1,9)/10,RANDBETWEEN(1,99)/100,RANDBETWEEN(1,999)/1000,RANDBETWEEN(1,9999)/10000,RANDBETWEEN(1,99999)/100000))","v":8.5},"weeks"]
[{"$f":"IF(COUNTIF($B$1:B1244,TRUE)=COUNTIF($B$1:B1243,TRUE),\"\",COUNTIF($B$1:B1244,TRUE))","v":""},{"$f":"Worksheet!$D$12","v":false},{"$f":"IF(H1244=1,RANDBETWEEN(1,Worksheet!$D$6),INT(J1244))","v":6},{"$f":"IF(C1244=1,\"day\",\"days\")","v":"days"},{"$f":"IF(H1244=1,RANDBETWEEN(1,23),(J1244-INT(J1244))*24)","v":21},"hours","=",{"$f":"IF(Worksheet!$D$7=1,1,IF(Worksheet!$D$7=2,2,RANDBETWEEN(1,2)))","v":1},null,{"$f":"IF(H1244=1,C1244+E1244/24,RANDBETWEEN(1,Worksheet!$D$6)+CHOOSE(Worksheet!$D$10,RANDBETWEEN(1,9)/10,RANDBETWEEN(1,99)/100,RANDBETWEEN(1,999)/1000,RANDBETWEEN(1,9999)/10000,RANDBETWEEN(1,99999)/100000))","v":6.875},"days"]
[{"$f":"IF(COUNTIF($B$1:B1245,TRUE)=COUNTIF($B$1:B1244,TRUE),\"\",COUNTIF($B$1:B1245,TRUE))","v":""},{"$f":"Worksheet!$D$13","v":false},{"$f":"IF(H1245=1,RANDBETWEEN(1,Worksheet!$D$6),INT(J1245))","v":16},{"$f":"IF(C1245=1,\"year\",\"years\")","v":"years"},{"$f":"IF(H1245=1,RANDBETWEEN(1,11),(J1245-INT(J1245))*12)","v":1},"months","=",{"$f":"IF(Worksheet!$D$7=1,1,IF(Worksheet!$D$7=2,2,RANDBETWEEN(1,2)))","v":1},null,{"$f":"IF(H1245=1,C1245+E1245/12,RANDBETWEEN(1,Worksheet!$D$6)+CHOOSE(Worksheet!$D$10,RANDBETWEEN(1,9)/10,RANDBETWEEN(1,99)/100,RANDBETWEEN(1,999)/1000,RANDBETWEEN(1,9999)/10000,RANDBETWEEN(1,99999)/100000))","v":16.083333333333332},"years"]
[{"$f":"COUNTIF($B$1:B1246,TRUE)","v":499},{"$f":"Worksheet!$B$12","v":true},{"$f":"IF(H1246=1,RANDBETWEEN(1,Worksheet!$D$6),INT(J1246))","v":1},{"$f":"IF(C1246=1,\"hour\",\"hours\")","v":"hour"},{"$f":"IF(H1246=1,IF(Worksheet!$D$10=1,RANDBETWEEN(1,9)*6,IF(Worksheet!$D$10=2,RANDBETWEEN(1,19)*3,RANDBETWEEN(1,59))),(J1246-INT(J1246))*60)","v":11.999999999999996},"minutes","=",{"$f":"IF(Worksheet!$D$7=1,1,IF(Worksheet!$D$7=2,2,RANDBETWEEN(1,2)))","v":2},null,{"$f":"IF(H1246=1,C1246+E1246/60,RANDBETWEEN(1,Worksheet!$D$6)+CHOOSE(Worksheet!$D$10,RANDBETWEEN(1,9)/10,RANDBETWEEN(1,99)/100,RANDBETWEEN(1,999)/1000,RANDBETWEEN(1,9999)/10000,RANDBETWEEN(1,99999)/100000))","v":1.2},"hour"]
[{"$f":"IF(COUNTIF($B$1:B1247,TRUE)=COUNTIF($B$1:B1246,TRUE),\"\",COUNTIF($B$1:B1247,TRUE))","v":500},{"$f":"Worksheet!$B$13","v":true},{"$f":"IF(H1247=1,RANDBETWEEN(1,Worksheet!$D$6),INT(J1247))","v":2},{"$f":"IF(C1247=1,\"minute\",\"minutes\")","v":"minutes"},{"$f":"IF(H1247=1,IF(Worksheet!$D$10=1,RANDBETWEEN(1,9)*6,IF(Worksheet!$D$10=2,RANDBETWEEN(1,19)*3,RANDBETWEEN(1,59))),(J1247-INT(J1247))*60)","v":30},"seconds","=",{"$f":"IF(Worksheet!$D$7=1,1,IF(Worksheet!$D$7=2,2,RANDBETWEEN(1,2)))","v":1},null,{"$f":"IF(H1247=1,C1247+E1247/60,RANDBETWEEN(1,Worksheet!$D$6)+CHOOSE(Worksheet!$D$10,RANDBETWEEN(1,9)/10,RANDBETWEEN(1,99)/100,RANDBETWEEN(1,999)/1000,RANDBETWEEN(1,9999)/10000,RANDBETWEEN(1,99999)/100000))","v":2.5},{"$f":"D1247","v":"minutes"}]
[{"$f":"IF(COUNTIF($B$1:B1248,TRUE)=COUNTIF($B$1:B1247,TRUE),\"\",COUNTIF($B$1:B1248,TRUE))","v":""},{"$f":"Worksheet!$B$14","v":false},{"$f":"IF(H1248=1,RANDBETWEEN(1,Worksheet!$D$6),INT(J1248))","v":21},{"$f":"IF(C1248=1,\"week\",\"weeks\")","v":"weeks"},{"$f":"IF(H1248=1,RANDBETWEEN(1,6),(J1248-INT(J1248))*7)","v":4.899999999999995},"days","=",{"$f":"IF(Worksheet!$D$7=1,1,IF(Worksheet!$D$7=2,2,RANDBETWEEN(1,2)))","v":2},null,{"$f":"IF(H1248=1,C1248+E1248/7,RANDBETWEEN(1,Worksheet!$D$6)+CHOOSE(Worksheet!$D$10,RANDBETWEEN(1,9)/10,RANDBETWEEN(1,99)/100,RANDBETWEEN(1,999)/1000,RANDBETWEEN(1,9999)/10000,RANDBETWEEN(1,99999)/100000))","v":21.7},"weeks"]
[{"$f":"IF(COUNTIF($B$1:B1249,TRUE)=COUNTIF($B$1:B1248,TRUE),\"\",COUNTIF($B$1:B1249,TRUE))","v":""},{"$f":"Worksheet!$D$12","v":false},{"$f":"IF(H1249=1,RANDBETWEEN(1,Worksheet!$D$6),INT(J1249))","v":4},{"$f":"IF(C1249=1,\"day\",\"days\")","v":"days"},{"$f":"IF(H1249=1,RANDBETWEEN(1,23),(J1249-INT(J1249))*24)","v":20},"hours","=",{"$f":"IF(Worksheet!$D$7=1,1,IF(Worksheet!$D$7=2,2,RANDBETWEEN(1,2)))","v":1},null,{"$f":"IF(H1249=1,C1249+E1249/24,RANDBETWEEN(1,Worksheet!$D$6)+CHOOSE(Worksheet!$D$10,RANDBETWEEN(1,9)/10,RANDBETWEEN(1,99)/100,RANDBETWEEN(1,999)/1000,RANDBETWEEN(1,9999)/10000,RANDBETWEEN(1,99999)/100000))","v":4.833333333333333},"days"]
[{"$f":"IF(COUNTIF($B$1:B1250,TRUE)=COUNTIF($B$1:B1249,TRUE),\"\",COUNTIF($B$1:B1250,TRUE))","v":""},{"$f":"Worksheet!$D$13","v":false},{"$f":"IF(H1250=1,RANDBETWEEN(1,Worksheet!$D$6),INT(J1250))","v":28},{"$f":"IF(C1250=1,\"year\",\"years\")","v":"years"},{"$f":"IF(H1250=1,RANDBETWEEN(1,11),(J1250-INT(J1250))*12)","v":5},"months","=",{"$f":"IF(Worksheet!$D$7=1,1,IF(Worksheet!$D$7=2,2,RANDBETWEEN(1,2)))","v":1},null,{"$f":"IF(H1250=1,C1250+E1250/12,RANDBETWEEN(1,Worksheet!$D$6)+CHOOSE(Worksheet!$D$10,RANDBETWEEN(1,9)/10,RANDBETWEEN(1,99)/100,RANDBETWEEN(1,999)/1000,RANDBETWEEN(1,9999)/10000,RANDBETWEEN(1,99999)/100000))","v":28.416666666666668},"years"]
[{"$f":"COUNTIF($B$1:B1251,TRUE)","v":501},{"$f":"Worksheet!$B$12","v":true},{"$f":"IF(H1251=1,RANDBETWEEN(1,Worksheet!$D$6),INT(J1251))","v":26},{"$f":"IF(C1251=1,\"hour\",\"hours\")","v":"hours"},{"$f":"IF(H1251=1,IF(Worksheet!$D$10=1,RANDBETWEEN(1,9)*6,IF(Worksheet!$D$10=2,RANDBETWEEN(1,19)*3,RANDBETWEEN(1,59))),(J1251-INT(J1251))*60)","v":36},"minutes","=",{"$f":"IF(Worksheet!$D$7=1,1,IF(Worksheet!$D$7=2,2,RANDBETWEEN(1,2)))","v":1},null,{"$f":"IF(H1251=1,C1251+E1251/60,RANDBETWEEN(1,Worksheet!$D$6)+CHOOSE(Worksheet!$D$10,RANDBETWEEN(1,9)/10,RANDBETWEEN(1,99)/100,RANDBETWEEN(1,999)/1000,RANDBETWEEN(1,9999)/10000,RANDBETWEEN(1,99999)/100000))","v":26.6},"hours"]
[{"$f":"IF(COUNTIF($B$1:B1252,TRUE)=COUNTIF($B$1:B1251,TRUE),\"\",COUNTIF($B$1:B1252,TRUE))","v":502},{"$f":"Worksheet!$B$13","v":true},{"$f":"IF(H1252=1,RANDBETWEEN(1,Worksheet!$D$6),INT(J1252))","v":18},{"$f":"IF(C1252=1,\"minute\",\"minutes\")","v":"minutes"},{"$f":"IF(H1252=1,IF(Worksheet!$D$10=1,RANDBETWEEN(1,9)*6,IF(Worksheet!$D$10=2,RANDBETWEEN(1,19)*3,RANDBETWEEN(1,59))),(J1252-INT(J1252))*60)","v":48},"seconds","=",{"$f":"IF(Worksheet!$D$7=1,1,IF(Worksheet!$D$7=2,2,RANDBETWEEN(1,2)))","v":1},null,{"$f":"IF(H1252=1,C1252+E1252/60,RANDBETWEEN(1,Worksheet!$D$6)+CHOOSE(Worksheet!$D$10,RANDBETWEEN(1,9)/10,RANDBETWEEN(1,99)/100,RANDBETWEEN(1,999)/1000,RANDBETWEEN(1,9999)/10000,RANDBETWEEN(1,99999)/100000))","v":18.8},"minutes"]
[{"$f":"IF(COUNTIF($B$1:B1253,TRUE)=COUNTIF($B$1:B1252,TRUE),\"\",COUNTIF($B$1:B1253,TRUE))","v":""},{"$f":"Worksheet!$B$14","v":false},{"$f":"IF(H1253=1,RANDBETWEEN(1,Worksheet!$D$6),INT(J1253))","v":1},{"$f":"IF(C1253=1,\"week\",\"weeks\")","v":"week"},{"$f":"IF(H1253=1,RANDBETWEEN(1,6),(J1253-INT(J1253))*7)","v":3},"days","=",{"$f":"IF(Worksheet!$D$7=1,1,IF(Worksheet!$D$7=2,2,RANDBETWEEN(1,2)))","v":1},null,{"$f":"IF(H1253=1,C1253+E1253/7,RANDBETWEEN(1,Worksheet!$D$6)+CHOOSE(Worksheet!$D$10,RANDBETWEEN(1,9)/10,RANDBETWEEN(1,99)/100,RANDBETWEEN(1,999)/1000,RANDBETWEEN(1,9999)/10000,RANDBETWEEN(1,99999)/100000))","v":1.4285714285714286},"week"]
[{"$f":"IF(COUNTIF($B$1:B1254,TRUE)=COUNTIF($B$1:B1253,TRUE),\"\",COUNTIF($B$1:B1254,TRUE))","v":""},{"$f":"Worksheet!$D$12","v":false},{"$f":"IF(H1254=1,RANDBETWEEN(1,Worksheet!$D$6),INT(J1254))","v":17},{"$f":"IF(C1254=1,\"day\",\"days\")","v":"days"},{"$f":"IF(H1254=1,RANDBETWEEN(1,23),(J1254-INT(J1254))*24)","v":12},"hours","=",{"$f":"IF(Worksheet!$D$7=1,1,IF(Worksheet!$D$7=2,2,RANDBETWEEN(1,2)))","v":1},null,{"$f":"IF(H1254=1,C1254+E1254/24,RANDBETWEEN(1,Worksheet!$D$6)+CHOOSE(Worksheet!$D$10,RANDBETWEEN(1,9)/10,RANDBETWEEN(1,99)/100,RANDBETWEEN(1,999)/1000,RANDBETWEEN(1,9999)/10000,RANDBETWEEN(1,99999)/100000))","v":17.5},"days"]
[{"$f":"IF(COUNTIF($B$1:B1255,TRUE)=COUNTIF($B$1:B1254,TRUE),\"\",COUNTIF($B$1:B1255,TRUE))","v":""},{"$f":"Worksheet!$D$13","v":false},{"$f":"IF(H1255=1,RANDBETWEEN(1,Worksheet!$D$6),INT(J1255))","v":9},{"$f":"IF(C1255=1,\"year\",\"years\")","v":"years"},{"$f":"IF(H1255=1,RANDBETWEEN(1,11),(J1255-INT(J1255))*12)","v":4},"months","=",{"$f":"IF(Worksheet!$D$7=1,1,IF(Worksheet!$D$7=2,2,RANDBETWEEN(1,2)))","v":1},null,{"$f":"IF(H1255=1,C1255+E1255/12,RANDBETWEEN(1,Worksheet!$D$6)+CHOOSE(Worksheet!$D$10,RANDBETWEEN(1,9)/10,RANDBETWEEN(1,99)/100,RANDBETWEEN(1,999)/1000,RANDBETWEEN(1,9999)/10000,RANDBETWEEN(1,99999)/100000))","v":9.3333333333333339},"years"]
[{"$f":"COUNTIF($B$1:B1256,TRUE)","v":503},{"$f":"Worksheet!$B$12","v":true},{"$f":"IF(H1256=1,RANDBETWEEN(1,Worksheet!$D$6),INT(J1256))","v":9},{"$f":"IF(C1256=1,\"hour\",\"hours\")","v":"hours"},{"$f":"IF(H1256=1,IF(Worksheet!$D$10=1,RANDBETWEEN(1,9)*6,IF(Worksheet!$D$10=2,RANDBETWEEN(1,19)*3,RANDBETWEEN(1,59))),(J1256-INT(J1256))*60)","v":18.000000000000043},"minutes","=",{"$f":"IF(Worksheet!$D$7=1,1,IF(Worksheet!$D$7=2,2,RANDBETWEEN(1,2)))","v":2},null,{"$f":"IF(H1256=1,C1256+E1256/60,RANDBETWEEN(1,Worksheet!$D$6)+CHOOSE(Worksheet!$D$10,RANDBETWEEN(1,9)/10,RANDBETWEEN(1,99)/100,RANDBETWEEN(1,999)/1000,RANDBETWEEN(1,9999)/10000,RANDBETWEEN(1,99999)/100000))","v":9.3000000000000007},"hours"]
[{"$f":"IF(COUNTIF($B$1:B1257,TRUE)=COUNTIF($B$1:B1256,TRUE),\"\",COUNTIF($B$1:B1257,TRUE))","v":504},{"$f":"Worksheet!$B$13","v":true},{"$f":"IF(H1257=1,RANDBETWEEN(1,Worksheet!$D$6),INT(J1257))","v":7},{"$f":"IF(C1257=1,\"minute\",\"minutes\")","v":"minutes"},{"$f":"IF(H1257=1,IF(Worksheet!$D$10=1,RANDBETWEEN(1,9)*6,IF(Worksheet!$D$10=2,RANDBETWEEN(1,19)*3,RANDBETWEEN(1,59))),(J1257-INT(J1257))*60)","v":24},"seconds","=",{"$f":"IF(Worksheet!$D$7=1,1,IF(Worksheet!$D$7=2,2,RANDBETWEEN(1,2)))","v":1},null,{"$f":"IF(H1257=1,C1257+E1257/60,RANDBETWEEN(1,Worksheet!$D$6)+CHOOSE(Worksheet!$D$10,RANDBETWEEN(1,9)/10,RANDBETWEEN(1,99)/100,RANDBETWEEN(1,999)/1000,RANDBETWEEN(1,9999)/10000,RANDBETWEEN(1,99999)/100000))","v":7.4},"minutes"]
[{"$f":"IF(COUNTIF($B$1:B1258,TRUE)=COUNTIF($B$1:B1257,TRUE),\"\",COUNTIF($B$1:B1258,TRUE))","v":""},{"$f":"Worksheet!$B$14","v":false},{"$f":"IF(H1258=1,RANDBETWEEN(1,Worksheet!$D$6),INT(J1258))","v":30},{"$f":"IF(C1258=1,\"week\",\"weeks\")","v":"weeks"},{"$f":"IF(H1258=1,RANDBETWEEN(1,6),(J1258-INT(J1258))*7)","v":2.100000000000005},"days","=",{"$f":"IF(Worksheet!$D$7=1,1,IF(Worksheet!$D$7=2,2,RANDBETWEEN(1,2)))","v":2},null,{"$f":"IF(H1258=1,C1258+E1258/7,RANDBETWEEN(1,Worksheet!$D$6)+CHOOSE(Worksheet!$D$10,RANDBETWEEN(1,9)/10,RANDBETWEEN(1,99)/100,RANDBETWEEN(1,999)/1000,RANDBETWEEN(1,9999)/10000,RANDBETWEEN(1,99999)/100000))","v":30.3},"weeks"]
[{"$f":"IF(COUNTIF($B$1:B1259,TRUE)=COUNTIF($B$1:B1258,TRUE),\"\",COUNTIF($B$1:B1259,TRUE))","v":""},{"$f":"Worksheet!$D$12","v":false},{"$f":"IF(H1259=1,RANDBETWEEN(1,Worksheet!$D$6),INT(J1259))","v":28},{"$f":"IF(C1259=1,\"day\",\"days\")","v":"days"},{"$f":"IF(H1259=1,RANDBETWEEN(1,23),(J1259-INT(J1259))*24)","v":4.7999999999999829},"hours","=",{"$f":"IF(Worksheet!$D$7=1,1,IF(Worksheet!$D$7=2,2,RANDBETWEEN(1,2)))","v":2},null,{"$f":"IF(H1259=1,C1259+E1259/24,RANDBETWEEN(1,Worksheet!$D$6)+CHOOSE(Worksheet!$D$10,RANDBETWEEN(1,9)/10,RANDBETWEEN(1,99)/100,RANDBETWEEN(1,999)/1000,RANDBETWEEN(1,9999)/10000,RANDBETWEEN(1,99999)/100000))","v":28.2},"days"]
[{"$f":"IF(COUNTIF($B$1:B1260,TRUE)=COUNTIF($B$1:B1259,TRUE),\"\",COUNTIF($B$1:B1260,TRUE))","v":""},{"$f":"Worksheet!$D$13","v":false},{"$f":"IF(H1260=1,RANDBETWEEN(1,Worksheet!$D$6),INT(J1260))","v":16},{"$f":"IF(C1260=1,\"year\",\"years\")","v":"years"},{"$f":"IF(H1260=1,RANDBETWEEN(1,11),(J1260-INT(J1260))*12)","v":6},"months","=",{"$f":"IF(Worksheet!$D$7=1,1,IF(Worksheet!$D$7=2,2,RANDBETWEEN(1,2)))","v":1},null,{"$f":"IF(H1260=1,C1260+E1260/12,RANDBETWEEN(1,Worksheet!$D$6)+CHOOSE(Worksheet!$D$10,RANDBETWEEN(1,9)/10,RANDBETWEEN(1,99)/100,RANDBETWEEN(1,999)/1000,RANDBETWEEN(1,9999)/10000,RANDBETWEEN(1,99999)/100000))","v":16.5},"years"]
[{"$f":"COUNTIF($B$1:B1261,TRUE)","v":505},{"$f":"Worksheet!$B$12","v":true},{"$f":"IF(H1261=1,RANDBETWEEN(1,Worksheet!$D$6),INT(J1261))","v":20},{"$f":"IF(C1261=1,\"hour\",\"hours\")","v":"hours"},{"$f":"IF(H1261=1,IF(Worksheet!$D$10=1,RANDBETWEEN(1,9)*6,IF(Worksheet!$D$10=2,RANDBETWEEN(1,19)*3,RANDBETWEEN(1,59))),(J1261-INT(J1261))*60)","v":42},"minutes","=",{"$f":"IF(Worksheet!$D$7=1,1,IF(Worksheet!$D$7=2,2,RANDBETWEEN(1,2)))","v":1},null,{"$f":"IF(H1261=1,C1261+E1261/60,RANDBETWEEN(1,Worksheet!$D$6)+CHOOSE(Worksheet!$D$10,RANDBETWEEN(1,9)/10,RANDBETWEEN(1,99)/100,RANDBETWEEN(1,999)/1000,RANDBETWEEN(1,9999)/10000,RANDBETWEEN(1,99999)/100000))","v":20.7},"hours"]
[{"$f":"IF(COUNTIF($B$1:B1262,TRUE)=COUNTIF($B$1:B1261,TRUE),\"\",COUNTIF($B$1:B1262,TRUE))","v":506},{"$f":"Worksheet!$B$13","v":true},{"$f":"IF(H1262=1,RANDBETWEEN(1,Worksheet!$D$6),INT(J1262))","v":17},{"$f":"IF(C1262=1,\"minute\",\"minutes\")","v":"minutes"},{"$f":"IF(H1262=1,IF(Worksheet!$D$10=1,RANDBETWEEN(1,9)*6,IF(Worksheet!$D$10=2,RANDBETWEEN(1,19)*3,RANDBETWEEN(1,59))),(J1262-INT(J1262))*60)","v":12},"seconds","=",{"$f":"IF(Worksheet!$D$7=1,1,IF(Worksheet!$D$7=2,2,RANDBETWEEN(1,2)))","v":1},null,{"$f":"IF(H1262=1,C1262+E1262/60,RANDBETWEEN(1,Worksheet!$D$6)+CHOOSE(Worksheet!$D$10,RANDBETWEEN(1,9)/10,RANDBETWEEN(1,99)/100,RANDBETWEEN(1,999)/1000,RANDBETWEEN(1,9999)/10000,RANDBETWEEN(1,99999)/100000))","v":17.2},"minutes"]
[{"$f":"IF(COUNTIF($B$1:B1263,TRUE)=COUNTIF($B$1:B1262,TRUE),\"\",COUNTIF($B$1:B1263,TRUE))","v":""},{"$f":"Worksheet!$B$14","v":false},{"$f":"IF(H1263=1,RANDBETWEEN(1,Worksheet!$D$6),INT(J1263))","v":30},{"$f":"IF(C1263=1,\"week\",\"weeks\")","v":"weeks"},{"$f":"IF(H1263=1,RANDBETWEEN(1,6),(J1263-INT(J1263))*7)","v":6},"days","=",{"$f":"IF(Worksheet!$D$7=1,1,IF(Worksheet!$D$7=2,2,RANDBETWEEN(1,2)))","v":1},null,{"$f":"IF(H1263=1,C1263+E1263/7,RANDBETWEEN(1,Worksheet!$D$6)+CHOOSE(Worksheet!$D$10,RANDBETWEEN(1,9)/10,RANDBETWEEN(1,99)/100,RANDBETWEEN(1,999)/1000,RANDBETWEEN(1,9999)/10000,RANDBETWEEN(1,99999)/100000))","v":30.857142857142858},"weeks"]
[{"$f":"IF(COUNTIF($B$1:B1264,TRUE)=COUNTIF($B$1:B1263,TRUE),\"\",COUNTIF($B$1:B1264,TRUE))","v":""},{"$f":"Worksheet!$D$12","v":false},{"$f":"IF(H1264=1,RANDBETWEEN(1,Worksheet!$D$6),INT(J1264))","v":7},{"$f":"IF(C1264=1,\"day\",\"days\")","v":"days"},{"$f":"IF(H1264=1,RANDBETWEEN(1,23),(J1264-INT(J1264))*24)","v":16.800000000000004},"hours","=",{"$f":"IF(Worksheet!$D$7=1,1,IF(Worksheet!$D$7=2,2,RANDBETWEEN(1,2)))","v":2},null,{"$f":"IF(H1264=1,C1264+E1264/24,RANDBETWEEN(1,Worksheet!$D$6)+CHOOSE(Worksheet!$D$10,RANDBETWEEN(1,9)/10,RANDBETWEEN(1,99)/100,RANDBETWEEN(1,999)/1000,RANDBETWEEN(1,9999)/10000,RANDBETWEEN(1,99999)/100000))","v":7.7},"days"]
[{"$f":"IF(COUNTIF($B$1:B1265,TRUE)=COUNTIF($B$1:B1264,TRUE),\"\",COUNTIF($B$1:B1265,TRUE))","v":""},{"$f":"Worksheet!$D$13","v":false},{"$f":"IF(H1265=1,RANDBETWEEN(1,Worksheet!$D$6),INT(J1265))","v":10},{"$f":"IF(C1265=1,\"year\",\"years\")","v":"years"},{"$f":"IF(H1265=1,RANDBETWEEN(1,11),(J1265-INT(J1265))*12)","v":11},"months","=",{"$f":"IF(Worksheet!$D$7=1,1,IF(Worksheet!$D$7=2,2,RANDBETWEEN(1,2)))","v":1},null,{"$f":"IF(H1265=1,C1265+E1265/12,RANDBETWEEN(1,Worksheet!$D$6)+CHOOSE(Worksheet!$D$10,RANDBETWEEN(1,9)/10,RANDBETWEEN(1,99)/100,RANDBETWEEN(1,999)/1000,RANDBETWEEN(1,9999)/10000,RANDBETWEEN(1,99999)/100000))","v":10.916666666666666},"years"]
[{"$f":"COUNTIF($B$1:B1266,TRUE)","v":507},{"$f":"Worksheet!$B$12","v":true},{"$f":"IF(H1266=1,RANDBETWEEN(1,Worksheet!$D$6),INT(J1266))","v":7},{"$f":"IF(C1266=1,\"hour\",\"hours\")","v":"hours"},{"$f":"IF(H1266=1,IF(Worksheet!$D$10=1,RANDBETWEEN(1,9)*6,IF(Worksheet!$D$10=2,RANDBETWEEN(1,19)*3,RANDBETWEEN(1,59))),(J1266-INT(J1266))*60)","v":17.999999999999989},"minutes","=",{"$f":"IF(Worksheet!$D$7=1,1,IF(Worksheet!$D$7=2,2,RANDBETWEEN(1,2)))","v":2},null,{"$f":"IF(H1266=1,C1266+E1266/60,RANDBETWEEN(1,Worksheet!$D$6)+CHOOSE(Worksheet!$D$10,RANDBETWEEN(1,9)/10,RANDBETWEEN(1,99)/100,RANDBETWEEN(1,999)/1000,RANDBETWEEN(1,9999)/10000,RANDBETWEEN(1,99999)/100000))","v":7.3},"hours"]
[{"$f":"IF(COUNTIF($B$1:B1267,TRUE)=COUNTIF($B$1:B1266,TRUE),\"\",COUNTIF($B$1:B1267,TRUE))","v":508},{"$f":"Worksheet!$B$13","v":true},{"$f":"IF(H1267=1,RANDBETWEEN(1,Worksheet!$D$6),INT(J1267))","v":17},{"$f":"IF(C1267=1,\"minute\",\"minutes\")","v":"minutes"},{"$f":"IF(H1267=1,IF(Worksheet!$D$10=1,RANDBETWEEN(1,9)*6,IF(Worksheet!$D$10=2,RANDBETWEEN(1,19)*3,RANDBETWEEN(1,59))),(J1267-INT(J1267))*60)","v":6.0000000000000853},"seconds","=",{"$f":"IF(Worksheet!$D$7=1,1,IF(Worksheet!$D$7=2,2,RANDBETWEEN(1,2)))","v":2},null,{"$f":"IF(H1267=1,C1267+E1267/60,RANDBETWEEN(1,Worksheet!$D$6)+CHOOSE(Worksheet!$D$10,RANDBETWEEN(1,9)/10,RANDBETWEEN(1,99)/100,RANDBETWEEN(1,999)/1000,RANDBETWEEN(1,9999)/10000,RANDBETWEEN(1,99999)/100000))","v":17.100000000000001},"minutes"]
[{"$f":"IF(COUNTIF($B$1:B1268,TRUE)=COUNTIF($B$1:B1267,TRUE),\"\",COUNTIF($B$1:B1268,TRUE))","v":""},{"$f":"Worksheet!$B$14","v":false},{"$f":"IF(H1268=1,RANDBETWEEN(1,Worksheet!$D$6),INT(J1268))","v":11},{"$f":"IF(C1268=1,\"week\",\"weeks\")","v":"weeks"},{"$f":"IF(H1268=1,RANDBETWEEN(1,6),(J1268-INT(J1268))*7)","v":3},"days","=",{"$f":"IF(Worksheet!$D$7=1,1,IF(Worksheet!$D$7=2,2,RANDBETWEEN(1,2)))","v":1},null,{"$f":"IF(H1268=1,C1268+E1268/7,RANDBETWEEN(1,Worksheet!$D$6)+CHOOSE(Worksheet!$D$10,RANDBETWEEN(1,9)/10,RANDBETWEEN(1,99)/100,RANDBETWEEN(1,999)/1000,RANDBETWEEN(1,9999)/10000,RANDBETWEEN(1,99999)/100000))","v":11.428571428571429},"weeks"]
[{"$f":"IF(COUNTIF($B$1:B1269,TRUE)=COUNTIF($B$1:B1268,TRUE),\"\",COUNTIF($B$1:B1269,TRUE))","v":""},{"$f":"Worksheet!$D$12","v":false},{"$f":"IF(H1269=1,RANDBETWEEN(1,Worksheet!$D$6),INT(J1269))","v":6},{"$f":"IF(C1269=1,\"day\",\"days\")","v":"days"},{"$f":"IF(H1269=1,RANDBETWEEN(1,23),(J1269-INT(J1269))*24)","v":21},"hours","=",{"$f":"IF(Worksheet!$D$7=1,1,IF(Worksheet!$D$7=2,2,RANDBETWEEN(1,2)))","v":1},null,{"$f":"IF(H1269=1,C1269+E1269/24,RANDBETWEEN(1,Worksheet!$D$6)+CHOOSE(Worksheet!$D$10,RANDBETWEEN(1,9)/10,RANDBETWEEN(1,99)/100,RANDBETWEEN(1,999)/1000,RANDBETWEEN(1,9999)/10000,RANDBETWEEN(1,99999)/100000))","v":6.875},"days"]
[{"$f":"IF(COUNTIF($B$1:B1270,TRUE)=COUNTIF($B$1:B1269,TRUE),\"\",COUNTIF($B$1:B1270,TRUE))","v":""},{"$f":"Worksheet!$D$13","v":false},{"$f":"IF(H1270=1,RANDBETWEEN(1,Worksheet!$D$6),INT(J1270))","v":10},{"$f":"IF(C1270=1,\"year\",\"years\")","v":"years"},{"$f":"IF(H1270=1,RANDBETWEEN(1,11),(J1270-INT(J1270))*12)","v":9.6000000000000085},"months","=",{"$f":"IF(Worksheet!$D$7=1,1,IF(Worksheet!$D$7=2,2,RANDBETWEEN(1,2)))","v":2},null,{"$f":"IF(H1270=1,C1270+E1270/12,RANDBETWEEN(1,Worksheet!$D$6)+CHOOSE(Worksheet!$D$10,RANDBETWEEN(1,9)/10,RANDBETWEEN(1,99)/100,RANDBETWEEN(1,999)/1000,RANDBETWEEN(1,9999)/10000,RANDBETWEEN(1,99999)/100000))","v":10.8},"years"]
[{"$f":"COUNTIF($B$1:B1271,TRUE)","v":509},{"$f":"Worksheet!$B$12","v":true},{"$f":"IF(H1271=1,RANDBETWEEN(1,Worksheet!$D$6),INT(J1271))","v":15},{"$f":"IF(C1271=1,\"hour\",\"hours\")","v":"hours"},{"$f":"IF(H1271=1,IF(Worksheet!$D$10=1,RANDBETWEEN(1,9)*6,IF(Worksheet!$D$10=2,RANDBETWEEN(1,19)*3,RANDBETWEEN(1,59))),(J1271-INT(J1271))*60)","v":6},"minutes","=",{"$f":"IF(Worksheet!$D$7=1,1,IF(Worksheet!$D$7=2,2,RANDBETWEEN(1,2)))","v":1},null,{"$f":"IF(H1271=1,C1271+E1271/60,RANDBETWEEN(1,Worksheet!$D$6)+CHOOSE(Worksheet!$D$10,RANDBETWEEN(1,9)/10,RANDBETWEEN(1,99)/100,RANDBETWEEN(1,999)/1000,RANDBETWEEN(1,9999)/10000,RANDBETWEEN(1,99999)/100000))","v":15.1},"hours"]
[{"$f":"IF(COUNTIF($B$1:B1272,TRUE)=COUNTIF($B$1:B1271,TRUE),\"\",COUNTIF($B$1:B1272,TRUE))","v":510},{"$f":"Worksheet!$B$13","v":true},{"$f":"IF(H1272=1,RANDBETWEEN(1,Worksheet!$D$6),INT(J1272))","v":19},{"$f":"IF(C1272=1,\"minute\",\"minutes\")","v":"minutes"},{"$f":"IF(H1272=1,IF(Worksheet!$D$10=1,RANDBETWEEN(1,9)*6,IF(Worksheet!$D$10=2,RANDBETWEEN(1,19)*3,RANDBETWEEN(1,59))),(J1272-INT(J1272))*60)","v":42},"seconds","=",{"$f":"IF(Worksheet!$D$7=1,1,IF(Worksheet!$D$7=2,2,RANDBETWEEN(1,2)))","v":1},null,{"$f":"IF(H1272=1,C1272+E1272/60,RANDBETWEEN(1,Worksheet!$D$6)+CHOOSE(Worksheet!$D$10,RANDBETWEEN(1,9)/10,RANDBETWEEN(1,99)/100,RANDBETWEEN(1,999)/1000,RANDBETWEEN(1,9999)/10000,RANDBETWEEN(1,99999)/100000))","v":19.7},"minutes"]
[{"$f":"IF(COUNTIF($B$1:B1273,TRUE)=COUNTIF($B$1:B1272,TRUE),\"\",COUNTIF($B$1:B1273,TRUE))","v":""},{"$f":"Worksheet!$B$14","v":false},{"$f":"IF(H1273=1,RANDBETWEEN(1,Worksheet!$D$6),INT(J1273))","v":15},{"$f":"IF(C1273=1,\"week\",\"weeks\")","v":"weeks"},{"$f":"IF(H1273=1,RANDBETWEEN(1,6),(J1273-INT(J1273))*7)","v":4},"days","=",{"$f":"IF(Worksheet!$D$7=1,1,IF(Worksheet!$D$7=2,2,RANDBETWEEN(1,2)))","v":1},null,{"$f":"IF(H1273=1,C1273+E1273/7,RANDBETWEEN(1,Worksheet!$D$6)+CHOOSE(Worksheet!$D$10,RANDBETWEEN(1,9)/10,RANDBETWEEN(1,99)/100,RANDBETWEEN(1,999)/1000,RANDBETWEEN(1,9999)/10000,RANDBETWEEN(1,99999)/100000))","v":15.571428571428571},"weeks"]
[{"$f":"IF(COUNTIF($B$1:B1274,TRUE)=COUNTIF($B$1:B1273,TRUE),\"\",COUNTIF($B$1:B1274,TRUE))","v":""},{"$f":"Worksheet!$D$12","v":false},{"$f":"IF(H1274=1,RANDBETWEEN(1,Worksheet!$D$6),INT(J1274))","v":26},{"$f":"IF(C1274=1,\"day\",\"days\")","v":"days"},{"$f":"IF(H1274=1,RANDBETWEEN(1,23),(J1274-INT(J1274))*24)","v":12},"hours","=",{"$f":"IF(Worksheet!$D$7=1,1,IF(Worksheet!$D$7=2,2,RANDBETWEEN(1,2)))","v":2},null,{"$f":"IF(H1274=1,C1274+E1274/24,RANDBETWEEN(1,Worksheet!$D$6)+CHOOSE(Worksheet!$D$10,RANDBETWEEN(1,9)/10,RANDBETWEEN(1,99)/100,RANDBETWEEN(1,999)/1000,RANDBETWEEN(1,9999)/10000,RANDBETWEEN(1,99999)/100000))","v":26.5},"days"]
[{"$f":"IF(COUNTIF($B$1:B1275,TRUE)=COUNTIF($B$1:B1274,TRUE),\"\",COUNTIF($B$1:B1275,TRUE))","v":""},{"$f":"Worksheet!$D$13","v":false},{"$f":"IF(H1275=1,RANDBETWEEN(1,Worksheet!$D$6),INT(J1275))","v":24},{"$f":"IF(C1275=1,\"year\",\"years\")","v":"years"},{"$f":"IF(H1275=1,RANDBETWEEN(1,11),(J1275-INT(J1275))*12)","v":9.6000000000000085},"months","=",{"$f":"IF(Worksheet!$D$7=1,1,IF(Worksheet!$D$7=2,2,RANDBETWEEN(1,2)))","v":2},null,{"$f":"IF(H1275=1,C1275+E1275/12,RANDBETWEEN(1,Worksheet!$D$6)+CHOOSE(Worksheet!$D$10,RANDBETWEEN(1,9)/10,RANDBETWEEN(1,99)/100,RANDBETWEEN(1,999)/1000,RANDBETWEEN(1,9999)/10000,RANDBETWEEN(1,99999)/100000))","v":24.8},"years"]
[{"$f":"COUNTIF($B$1:B1276,TRUE)","v":511},{"$f":"Worksheet!$B$12","v":true},{"$f":"IF(H1276=1,RANDBETWEEN(1,Worksheet!$D$6),INT(J1276))","v":21},{"$f":"IF(C1276=1,\"hour\",\"hours\")","v":"hours"},{"$f":"IF(H1276=1,IF(Worksheet!$D$10=1,RANDBETWEEN(1,9)*6,IF(Worksheet!$D$10=2,RANDBETWEEN(1,19)*3,RANDBETWEEN(1,59))),(J1276-INT(J1276))*60)","v":41.999999999999957},"minutes","=",{"$f":"IF(Worksheet!$D$7=1,1,IF(Worksheet!$D$7=2,2,RANDBETWEEN(1,2)))","v":2},null,{"$f":"IF(H1276=1,C1276+E1276/60,RANDBETWEEN(1,Worksheet!$D$6)+CHOOSE(Worksheet!$D$10,RANDBETWEEN(1,9)/10,RANDBETWEEN(1,99)/100,RANDBETWEEN(1,999)/1000,RANDBETWEEN(1,9999)/10000,RANDBETWEEN(1,99999)/100000))","v":21.7},"hours"]
[{"$f":"IF(COUNTIF($B$1:B1277,TRUE)=COUNTIF($B$1:B1276,TRUE),\"\",COUNTIF($B$1:B1277,TRUE))","v":512},{"$f":"Worksheet!$B$13","v":true},{"$f":"IF(H1277=1,RANDBETWEEN(1,Worksheet!$D$6),INT(J1277))","v":23},{"$f":"IF(C1277=1,\"minute\",\"minutes\")","v":"minutes"},{"$f":"IF(H1277=1,IF(Worksheet!$D$10=1,RANDBETWEEN(1,9)*6,IF(Worksheet!$D$10=2,RANDBETWEEN(1,19)*3,RANDBETWEEN(1,59))),(J1277-INT(J1277))*60)","v":48},"seconds","=",{"$f":"IF(Worksheet!$D$7=1,1,IF(Worksheet!$D$7=2,2,RANDBETWEEN(1,2)))","v":1},null,{"$f":"IF(H1277=1,C1277+E1277/60,RANDBETWEEN(1,Worksheet!$D$6)+CHOOSE(Worksheet!$D$10,RANDBETWEEN(1,9)/10,RANDBETWEEN(1,99)/100,RANDBETWEEN(1,999)/1000,RANDBETWEEN(1,9999)/10000,RANDBETWEEN(1,99999)/100000))","v":23.8},"minutes"]
[{"$f":"IF(COUNTIF($B$1:B1278,TRUE)=COUNTIF($B$1:B1277,TRUE),\"\",COUNTIF($B$1:B1278,TRUE))","v":""},{"$f":"Worksheet!$B$14","v":false},{"$f":"IF(H1278=1,RANDBETWEEN(1,Worksheet!$D$6),INT(J1278))","v":29},{"$f":"IF(C1278=1,\"week\",\"weeks\")","v":"weeks"},{"$f":"IF(H1278=1,RANDBETWEEN(1,6),(J1278-INT(J1278))*7)","v":3},"days","=",{"$f":"IF(Worksheet!$D$7=1,1,IF(Worksheet!$D$7=2,2,RANDBETWEEN(1,2)))","v":1},null,{"$f":"IF(H1278=1,C1278+E1278/7,RANDBETWEEN(1,Worksheet!$D$6)+CHOOSE(Worksheet!$D$10,RANDBETWEEN(1,9)/10,RANDBETWEEN(1,99)/100,RANDBETWEEN(1,999)/1000,RANDBETWEEN(1,9999)/10000,RANDBETWEEN(1,99999)/100000))","v":29.428571428571427},"weeks"]
[{"$f":"IF(COUNTIF($B$1:B1279,TRUE)=COUNTIF($B$1:B1278,TRUE),\"\",COUNTIF($B$1:B1279,TRUE))","v":""},{"$f":"Worksheet!$D$12","v":false},{"$f":"IF(H1279=1,RANDBETWEEN(1,Worksheet!$D$6),INT(J1279))","v":23},{"$f":"IF(C1279=1,\"day\",\"days\")","v":"days"},{"$f":"IF(H1279=1,RANDBETWEEN(1,23),(J1279-INT(J1279))*24)","v":19.200000000000017},"hours","=",{"$f":"IF(Worksheet!$D$7=1,1,IF(Worksheet!$D$7=2,2,RANDBETWEEN(1,2)))","v":2},null,{"$f":"IF(H1279=1,C1279+E1279/24,RANDBETWEEN(1,Worksheet!$D$6)+CHOOSE(Worksheet!$D$10,RANDBETWEEN(1,9)/10,RANDBETWEEN(1,99)/100,RANDBETWEEN(1,999)/1000,RANDBETWEEN(1,9999)/10000,RANDBETWEEN(1,99999)/100000))","v":23.8},"days"]
[{"$f":"IF(COUNTIF($B$1:B1280,TRUE)=COUNTIF($B$1:B1279,TRUE),\"\",COUNTIF($B$1:B1280,TRUE))","v":""},{"$f":"Worksheet!$D$13","v":false},{"$f":"IF(H1280=1,RANDBETWEEN(1,Worksheet!$D$6),INT(J1280))","v":18},{"$f":"IF(C1280=1,\"year\",\"years\")","v":"years"},{"$f":"IF(H1280=1,RANDBETWEEN(1,11),(J1280-INT(J1280))*12)","v":8.3999999999999915},"months","=",{"$f":"IF(Worksheet!$D$7=1,1,IF(Worksheet!$D$7=2,2,RANDBETWEEN(1,2)))","v":2},null,{"$f":"IF(H1280=1,C1280+E1280/12,RANDBETWEEN(1,Worksheet!$D$6)+CHOOSE(Worksheet!$D$10,RANDBETWEEN(1,9)/10,RANDBETWEEN(1,99)/100,RANDBETWEEN(1,999)/1000,RANDBETWEEN(1,9999)/10000,RANDBETWEEN(1,99999)/100000))","v":18.7},"years"]
[{"$f":"COUNTIF($B$1:B1281,TRUE)","v":513},{"$f":"Worksheet!$B$12","v":true},{"$f":"IF(H1281=1,RANDBETWEEN(1,Worksheet!$D$6),INT(J1281))","v":11},{"$f":"IF(C1281=1,\"hour\",\"hours\")","v":"hours"},{"$f":"IF(H1281=1,IF(Worksheet!$D$10=1,RANDBETWEEN(1,9)*6,IF(Worksheet!$D$10=2,RANDBETWEEN(1,19)*3,RANDBETWEEN(1,59))),(J1281-INT(J1281))*60)","v":48},"minutes","=",{"$f":"IF(Worksheet!$D$7=1,1,IF(Worksheet!$D$7=2,2,RANDBETWEEN(1,2)))","v":1},null,{"$f":"IF(H1281=1,C1281+E1281/60,RANDBETWEEN(1,Worksheet!$D$6)+CHOOSE(Worksheet!$D$10,RANDBETWEEN(1,9)/10,RANDBETWEEN(1,99)/100,RANDBETWEEN(1,999)/1000,RANDBETWEEN(1,9999)/10000,RANDBETWEEN(1,99999)/100000))","v":11.8},"hours"]
[{"$f":"IF(COUNTIF($B$1:B1282,TRUE)=COUNTIF($B$1:B1281,TRUE),\"\",COUNTIF($B$1:B1282,TRUE))","v":514},{"$f":"Worksheet!$B$13","v":true},{"$f":"IF(H1282=1,RANDBETWEEN(1,Worksheet!$D$6),INT(J1282))","v":4},{"$f":"IF(C1282=1,\"minute\",\"minutes\")","v":"minutes"},{"$f":"IF(H1282=1,IF(Worksheet!$D$10=1,RANDBETWEEN(1,9)*6,IF(Worksheet!$D$10=2,RANDBETWEEN(1,19)*3,RANDBETWEEN(1,59))),(J1282-INT(J1282))*60)","v":24.000000000000021},"seconds","=",{"$f":"IF(Worksheet!$D$7=1,1,IF(Worksheet!$D$7=2,2,RANDBETWEEN(1,2)))","v":2},null,{"$f":"IF(H1282=1,C1282+E1282/60,RANDBETWEEN(1,Worksheet!$D$6)+CHOOSE(Worksheet!$D$10,RANDBETWEEN(1,9)/10,RANDBETWEEN(1,99)/100,RANDBETWEEN(1,999)/1000,RANDBETWEEN(1,9999)/10000,RANDBETWEEN(1,99999)/100000))","v":4.4000000000000004},"minutes"]
[{"$f":"IF(COUNTIF($B$1:B1283,TRUE)=COUNTIF($B$1:B1282,TRUE),\"\",COUNTIF($B$1:B1283,TRUE))","v":""},{"$f":"Worksheet!$B$14","v":false},{"$f":"IF(H1283=1,RANDBETWEEN(1,Worksheet!$D$6),INT(J1283))","v":1},{"$f":"IF(C1283=1,\"week\",\"weeks\")","v":"week"},{"$f":"IF(H1283=1,RANDBETWEEN(1,6),(J1283-INT(J1283))*7)","v":5},"days","=",{"$f":"IF(Worksheet!$D$7=1,1,IF(Worksheet!$D$7=2,2,RANDBETWEEN(1,2)))","v":1},null,{"$f":"IF(H1283=1,C1283+E1283/7,RANDBETWEEN(1,Worksheet!$D$6)+CHOOSE(Worksheet!$D$10,RANDBETWEEN(1,9)/10,RANDBETWEEN(1,99)/100,RANDBETWEEN(1,999)/1000,RANDBETWEEN(1,9999)/10000,RANDBETWEEN(1,99999)/100000))","v":1.7142857142857144},"week"]
[{"$f":"IF(COUNTIF($B$1:B1284,TRUE)=COUNTIF($B$1:B1283,TRUE),\"\",COUNTIF($B$1:B1284,TRUE))","v":""},{"$f":"Worksheet!$D$12","v":false},{"$f":"IF(H1284=1,RANDBETWEEN(1,Worksheet!$D$6),INT(J1284))","v":9},{"$f":"IF(C1284=1,\"day\",\"days\")","v":"days"},{"$f":"IF(H1284=1,RANDBETWEEN(1,23),(J1284-INT(J1284))*24)","v":3},"hours","=",{"$f":"IF(Worksheet!$D$7=1,1,IF(Worksheet!$D$7=2,2,RANDBETWEEN(1,2)))","v":1},null,{"$f":"IF(H1284=1,C1284+E1284/24,RANDBETWEEN(1,Worksheet!$D$6)+CHOOSE(Worksheet!$D$10,RANDBETWEEN(1,9)/10,RANDBETWEEN(1,99)/100,RANDBETWEEN(1,999)/1000,RANDBETWEEN(1,9999)/10000,RANDBETWEEN(1,99999)/100000))","v":9.125},"days"]
[{"$f":"IF(COUNTIF($B$1:B1285,TRUE)=COUNTIF($B$1:B1284,TRUE),\"\",COUNTIF($B$1:B1285,TRUE))","v":""},{"$f":"Worksheet!$D$13","v":false},{"$f":"IF(H1285=1,RANDBETWEEN(1,Worksheet!$D$6),INT(J1285))","v":3},{"$f":"IF(C1285=1,\"year\",\"years\")","v":"years"},{"$f":"IF(H1285=1,RANDBETWEEN(1,11),(J1285-INT(J1285))*12)","v":7.2000000000000011},"months","=",{"$f":"IF(Worksheet!$D$7=1,1,IF(Worksheet!$D$7=2,2,RANDBETWEEN(1,2)))","v":2},null,{"$f":"IF(H1285=1,C1285+E1285/12,RANDBETWEEN(1,Worksheet!$D$6)+CHOOSE(Worksheet!$D$10,RANDBETWEEN(1,9)/10,RANDBETWEEN(1,99)/100,RANDBETWEEN(1,999)/1000,RANDBETWEEN(1,9999)/10000,RANDBETWEEN(1,99999)/100000))","v":3.6},"years"]