{"text_format":"1","workbook":"xlsx","n_sheets":2,"sheets":["Worksheet","SYSTEM FORMULAE"],"not_rendered":{"charts":0,"images":0,"macros":1,"external_links":0,"defined_names":2,"comments":0,"pivot_tables":0},"unopened":[],"bounds":{"document_bytes":16777216,"sheet_cells":100000,"rows_first":2000,"rows_last":500,"rows_between":2000,"halvings":0,"cell_chars":16384,"cell_head_chars":4096},"cells_cut":0,"cells_raw":0,"read":"whole","date_system":"1900"}

{"sheet":"Worksheet","index":0,"n_rows":13,"n_cols":39,"rows_kept":13,"cut":false,"hidden":false,"merged":[[7,37,7,38],[2,0,2,1],[3,0,3,1],[0,3,0,35],[9,0,9,1]]}
[null,null,null,"Find the equation of the straight line through each pair of points"]
[null,null,null,1,"(","–3",",","–2",")","(",0,",",4,")","gradient =",2,"y = ","2x + 4","y = 2x + 4",null,13,"(",1,",","–2",")","(",2,",",0,")","gradient =",2,"y = ","2x – 4","y = 2x – 4"]
[null,null,null,2,"(",3,",",1,")","(",21,",","–2",")","gradient =","–1/6","6y = ","–x + 9","6y = –x + 9",null,14,"(","–3",",","–2",")","(","–3",",","–2",")","gradient =","undefined","x  = ","–3","x  = –3"]
["Variables",null,null,3,"(",0,",","–3",")","(","–4",",",5,")","gradient =","–2","y = ","–2x – 3","y = –2x – 3",null,15,"(","–1",",",0,")","(","–3",",",0,")","gradient =",0,"y = "," 0","y =  0"]
["Number of questions (minimum 10, maximum 24)",24,null,4,"(",0,",",2,")","(",3,",",0,")","gradient =","–2/3","3y = ","–2x + 6","3y = –2x + 6",null,16,"(","–3",",","–3",")","(","–5",",","–7",")","gradient =",2,"y = ","2x + 3","y = 2x + 3"]
["Allow negative gradients",true,null,5,"(","–3",",",2,")","(","–7",",",6,")","gradient =","–1","y = ","–x – 1","y = –x – 1",null,17,"(","–3",",","–3",")","(",18,",",9,")","gradient =","4/7","7y = ","4x – 9","7y = 4x – 9"]
["Allow gradient that is a fraction (or decimal)",true,null,6,"(",1,",","–2",")","(",0,",","–3",")","gradient =",1,"y = ","x – 3","y = x – 3",null,18,"(","–3",",",1,")","(",1,",","–27",")","gradient =","–7","y = ","–7x – 20","y = –7x – 20"]
["Allow gradient of 'undefined'",true,null,7,"(",0,",","–1",")","(","–18",",","–16",")","gradient =","5/6","6y = ","5x – 6","6y = 5x – 6",null,19,"(","–1",",",1,")","(",17,",",4,")","gradient =","1/6","6y = ","x + 7","6y = x + 7",null,null,false]
["SHOW ANSWERS?",{"$f":"AM8","v":false},null,8,"(",0,",",2,")","(",3,",",23,")","gradient =",7,"y = ","7x + 2","y = 7x + 2",null,20,"(","–1",",",1,")","(",0,",",8,")","gradient =",7,"y = ","7x + 8","y = 7x + 8"]
["(answers are expressed in the form by = ax + c  where c > 0 )",null,null,9,"(","–3",",",2,")","(",1,",",0,")","gradient =","–1/2","2y = ","–x + 1","2y = –x + 1",null,21,"(","–1",",","–1",")","(",6,",","–6",")","gradient =","–5/7","7y = ","–5x – 12","7y = –5x – 12"]
[null,null,null,10,"(","–3",",","–1",")","(","–15",",","–13",")","gradient =",1,"y = ","x + 2","y = x + 2",null,22,"(",2,",","–3",")","(","–2",",","–5",")","gradient =","1/2","2y = ","x – 8","2y = x – 8"]
[null,null,null,11,"(","–3",",","–1",")","(",1,",",15,")","gradient =",4,"y = ","4x + 11","y = 4x + 11",null,23,"(",3,",","–2",")","(",7,",","–10",")","gradient =","–2","y = ","–2x + 4","y = –2x + 4"]
[null,null,null,12,"(",0,",",3,")","(",4,",",3,")","gradient =",0,"y = ","3","y = 3",null,24,"(","–1",",",2,")","(","–3",",",9,")","gradient =","–7/2","2y = ","–7x – 3","2y = –7x – 3"]

{"sheet":"SYSTEM FORMULAE","index":1,"n_rows":13,"n_cols":41,"rows_kept":13,"cut":false,"hidden":false,"merged":[]}
[null,null,null,null,null,null,null,null,null,null,null,null,null,null,null,null,null,null,null,null,null,null,null,null,null,null,null,null,null,null,null,null,null,null,null,"up","along",null,"up","along"]
[{"$f":"IF(ROW()-1<=Worksheet!$B$5/2,ROW()-1,\"\")","v":1},"(",{"$f":"RANDBETWEEN(-3,3)","v":2},",",{"$f":"RANDBETWEEN(-3,3)","v":3},")","(",{"$f":"C2+AL2*AK2","v":-1},",",{"$f":"E2+AL2*AJ2","v":-6},")","gradient =",{"$f":"IF(AK2=0,\"undefined\",TEXT(AJ2/AK2,\"#/?\"))","v":"3/1"},{"$f":"CONCATENATE(IF(M2=\"undefined\",\"x \",IF(MID(M2,SEARCH(\"/\",M2)+1,LEN(M2))=\"1\",\"\",MID(M2,SEARCH(\"/\",M2)+1,LEN(M2)))),IF(M2=\"undefined\",\"\",\"y\"),\" = \")","v":"y = "},{"$f":"IF(AND(E2=0,J2=0),\" 0\",CONCATENATE(IF(M2=\"undefined\",C2,IF(MID(M2,1,SEARCH(\"/\",M2)-1)=\"0\",\"\",IF(MID(M2,1,SEARCH(\"/\",M2)-1)=\"1\",\"\",IF(MID(M2,1,SEARCH(\"/\",M2)-1)=\"-1\",\"–\",MID(M2,1,SEARCH(\"/\",M2)-1))))),IF(M2=\"undefined\",\"\",IF(MID(M2,1,SEARCH(\"/\",M2)-1)=\"0\",\"\",\"x\")),IF(M2=\"undefined\",\"\",IF(E2=J2,IF(E2<0,\"-\",\"\"),IF((E2*MID(M2,SEARCH(\"/\",M2)+1,LEN(M2)))-C2*MID(M2,1,SEARCH(\"/\",M2)-1)<0,\" – \",IF((E2*MID(M2,SEARCH(\"/\",M2)+1,LEN(M2)))-C2*MID(M2,1,SEARCH(\"/\",M2)-1)>0,\" + \",\"\")))),IF(M2=\"undefined\",\"\",IF(ABS((E2*MID(M2,SEARCH(\"/\",M2)+1,LEN(M2)))-C2*MID(M2,1,SEARCH(\"/\",M2)-1))=0,\"\",ABS((E2*MID(M2,SEARCH(\"/\",M2)+1,LEN(M2)))-C2*MID(M2,1,SEARCH(\"/\",M2)-1))))))","v":"3x – 3"},{"$f":"CONCATENATE(N2,O2)","v":"y = 3x – 3"},null,{"$f":"MAX(A1:A36)+1","v":13},"(",{"$f":"RANDBETWEEN(-3,3)","v":2},",",{"$f":"RANDBETWEEN(-3,3)","v":0},")","(",{"$f":"T2+AO2*AN2","v":14},",",{"$f":"V2+AO2*AM2","v":-18},")","gradient =",{"$f":"IF(AN2=0,\"undefined\",TEXT(AM2/AN2,\"#/?\"))","v":"-3/2"},{"$f":"CONCATENATE(IF(AD2=\"undefined\",\"x \",IF(MID(AD2,SEARCH(\"/\",AD2)+1,LEN(AD2))=\"1\",\"\",MID(AD2,SEARCH(\"/\",AD2)+1,LEN(AD2)))),IF(AD2=\"undefined\",\"\",\"y\"),\" = \")","v":"2y = "},{"$f":"IF(AND(V2=0,AA2=0),\" 0\",CONCATENATE(IF(AD2=\"undefined\",T2,IF(MID(AD2,1,SEARCH(\"/\",AD2)-1)=\"0\",\"\",IF(MID(AD2,1,SEARCH(\"/\",AD2)-1)=\"1\",\"\",IF(MID(AD2,1,SEARCH(\"/\",AD2)-1)=\"-1\",\"–\",MID(AD2,1,SEARCH(\"/\",AD2)-1))))),IF(AD2=\"undefined\",\"\",IF(MID(AD2,1,SEARCH(\"/\",AD2)-1)=\"0\",\"\",\"x\")),IF(AD2=\"undefined\",\"\",IF(V2=AA2,IF(V2<0,\"-\",\"\"),IF((V2*MID(AD2,SEARCH(\"/\",AD2)+1,LEN(AD2)))-T2*MID(AD2,1,SEARCH(\"/\",AD2)-1)<0,\" – \",IF((V2*MID(AD2,SEARCH(\"/\",AD2)+1,LEN(AD2)))-T2*MID(AD2,1,SEARCH(\"/\",AD2)-1)>0,\" + \",\"\")))),IF(AD2=\"undefined\",\"\",IF(ABS((V2*MID(AD2,SEARCH(\"/\",AD2)+1,LEN(AD2)))-T2*MID(AD2,1,SEARCH(\"/\",AD2)-1))=0,\"\",ABS((V2*MID(AD2,SEARCH(\"/\",AD2)+1,LEN(AD2)))-T2*MID(AD2,1,SEARCH(\"/\",AD2)-1))))))","v":"-3x + 6"},{"$f":"CONCATENATE(AE2,AF2)","v":"2y = -3x + 6"},null,null,{"$f":"IF(Worksheet!$B$6,RANDBETWEEN(0,8)*(-1)^RANDBETWEEN(1,2),RANDBETWEEN(0,8))","v":3},{"$f":"IF(Worksheet!$B$7,IF(RAND()<0.3,1,IF(Worksheet!$B$8,IF(RAND()<0.1,0,RANDBETWEEN(2,7)),RANDBETWEEN(2,7))),1)","v":1},{"$f":"RANDBETWEEN(1,4)*(-1)^(RANDBETWEEN(1,2))","v":-3},{"$f":"IF(Worksheet!$B$6,RANDBETWEEN(0,8)*(-1)^RANDBETWEEN(1,2),RANDBETWEEN(0,8))","v":-6},{"$f":"IF(Worksheet!$B$7,IF(RAND()<0.3,1,IF(Worksheet!$B$8,IF(RAND()<0.1,0,RANDBETWEEN(2,7)),RANDBETWEEN(2,7))),1)","v":4},{"$f":"RANDBETWEEN(1,4)*(-1)^(RANDBETWEEN(1,2))","v":3}]
[{"$f":"IF(ROW()-1<=Worksheet!$B$5/2,ROW()-1,\"\")","v":2},"(",{"$f":"RANDBETWEEN(-3,3)","v":0},",",{"$f":"RANDBETWEEN(-3,3)","v":3},")","(",24,",",-5,")","gradient =",{"$f":"IF(AK3=0,\"undefined\",TEXT(AJ3/AK3,\"#/?\"))","v":"-1/3"},{"$f":"CONCATENATE(IF(M3=\"undefined\",\"x \",IF(MID(M3,SEARCH(\"/\",M3)+1,LEN(M3))=\"1\",\"\",MID(M3,SEARCH(\"/\",M3)+1,LEN(M3)))),IF(M3=\"undefined\",\"\",\"y\"),\" = \")","v":"3y = "},{"$f":"IF(AND(E3=0,J3=0),\" 0\",CONCATENATE(IF(M3=\"undefined\",C3,IF(MID(M3,1,SEARCH(\"/\",M3)-1)=\"0\",\"\",IF(MID(M3,1,SEARCH(\"/\",M3)-1)=\"1\",\"\",IF(MID(M3,1,SEARCH(\"/\",M3)-1)=\"-1\",\"–\",MID(M3,1,SEARCH(\"/\",M3)-1))))),IF(M3=\"undefined\",\"\",IF(MID(M3,1,SEARCH(\"/\",M3)-1)=\"0\",\"\",\"x\")),IF(M3=\"undefined\",\"\",IF(E3=J3,IF(E3<0,\"-\",\"\"),IF((E3*MID(M3,SEARCH(\"/\",M3)+1,LEN(M3)))-C3*MID(M3,1,SEARCH(\"/\",M3)-1)<0,\" – \",IF((E3*MID(M3,SEARCH(\"/\",M3)+1,LEN(M3)))-C3*MID(M3,1,SEARCH(\"/\",M3)-1)>0,\" + \",\"\")))),IF(M3=\"undefined\",\"\",IF(ABS((E3*MID(M3,SEARCH(\"/\",M3)+1,LEN(M3)))-C3*MID(M3,1,SEARCH(\"/\",M3)-1))=0,\"\",ABS((E3*MID(M3,SEARCH(\"/\",M3)+1,LEN(M3)))-C3*MID(M3,1,SEARCH(\"/\",M3)-1))))))","v":"–x + 9"},{"$f":"CONCATENATE(N3,O3)","v":"3y = –x + 9"},null,{"$f":"IF(ROW()-1<=Worksheet!$B$5/2,R2+1,\"\")","v":14},"(",{"$f":"RANDBETWEEN(-3,3)","v":-2},",",{"$f":"RANDBETWEEN(-3,3)","v":3},")","(",-8,",",10,")","gradient =",{"$f":"IF(AN3=0,\"undefined\",TEXT(AM3/AN3,\"#/?\"))","v":"-7/6"},{"$f":"CONCATENATE(IF(AD3=\"undefined\",\"x \",IF(MID(AD3,SEARCH(\"/\",AD3)+1,LEN(AD3))=\"1\",\"\",MID(AD3,SEARCH(\"/\",AD3)+1,LEN(AD3)))),IF(AD3=\"undefined\",\"\",\"y\"),\" = \")","v":"6y = "},{"$f":"IF(AND(V3=0,AA3=0),\" 0\",CONCATENATE(IF(AD3=\"undefined\",T3,IF(MID(AD3,1,SEARCH(\"/\",AD3)-1)=\"0\",\"\",IF(MID(AD3,1,SEARCH(\"/\",AD3)-1)=\"1\",\"\",IF(MID(AD3,1,SEARCH(\"/\",AD3)-1)=\"-1\",\"–\",MID(AD3,1,SEARCH(\"/\",AD3)-1))))),IF(AD3=\"undefined\",\"\",IF(MID(AD3,1,SEARCH(\"/\",AD3)-1)=\"0\",\"\",\"x\")),IF(AD3=\"undefined\",\"\",IF(V3=AA3,IF(V3<0,\"-\",\"\"),IF((V3*MID(AD3,SEARCH(\"/\",AD3)+1,LEN(AD3)))-T3*MID(AD3,1,SEARCH(\"/\",AD3)-1)<0,\" – \",IF((V3*MID(AD3,SEARCH(\"/\",AD3)+1,LEN(AD3)))-T3*MID(AD3,1,SEARCH(\"/\",AD3)-1)>0,\" + \",\"\")))),IF(AD3=\"undefined\",\"\",IF(ABS((V3*MID(AD3,SEARCH(\"/\",AD3)+1,LEN(AD3)))-T3*MID(AD3,1,SEARCH(\"/\",AD3)-1))=0,\"\",ABS((V3*MID(AD3,SEARCH(\"/\",AD3)+1,LEN(AD3)))-T3*MID(AD3,1,SEARCH(\"/\",AD3)-1))))))","v":"-7x + 4"},{"$f":"CONCATENATE(AE3,AF3)","v":"6y = -7x + 4"},null,null,{"$f":"IF(Worksheet!$B$6,RANDBETWEEN(0,8)*(-1)^RANDBETWEEN(1,2),RANDBETWEEN(0,8))","v":-2},{"$f":"IF(Worksheet!$B$7,IF(RAND()<0.3,1,IF(Worksheet!$B$8,IF(RAND()<0.1,0,RANDBETWEEN(2,7)),RANDBETWEEN(2,7))),1)","v":6},{"$f":"RANDBETWEEN(1,4)*(-1)^(RANDBETWEEN(1,2))","v":4},{"$f":"IF(Worksheet!$B$6,RANDBETWEEN(0,8)*(-1)^RANDBETWEEN(1,2),RANDBETWEEN(0,8))","v":-7},{"$f":"IF(Worksheet!$B$7,IF(RAND()<0.3,1,IF(Worksheet!$B$8,IF(RAND()<0.1,0,RANDBETWEEN(2,7)),RANDBETWEEN(2,7))),1)","v":6},{"$f":"RANDBETWEEN(1,4)*(-1)^(RANDBETWEEN(1,2))","v":-1}]
[{"$f":"IF(ROW()-1<=Worksheet!$B$5/2,ROW()-1,\"\")","v":3},"(",1,",",1,")","(",1,",",4,")","gradient =","undefined","x  = ","1","x  = 1",null,{"$f":"IF(ROW()-1<=Worksheet!$B$5/2,R3+1,\"\")","v":15},"(",-3,",",-3,")","(",-7,",",5,")","gradient =","-2/1","y = ","-2x – 9","y = -2x – 9",null,null,{"$f":"IF(Worksheet!$B$6,RANDBETWEEN(0,8)*(-1)^RANDBETWEEN(1,2),RANDBETWEEN(0,8))","v":-3},{"$f":"IF(Worksheet!$B$7,IF(RAND()<0.3,1,IF(Worksheet!$B$8,IF(RAND()<0.1,0,RANDBETWEEN(2,7)),RANDBETWEEN(2,7))),1)","v":0},-1,{"$f":"IF(Worksheet!$B$6,RANDBETWEEN(0,8)*(-1)^RANDBETWEEN(1,2),RANDBETWEEN(0,8))","v":-4},{"$f":"IF(Worksheet!$B$7,IF(RAND()<0.3,1,IF(Worksheet!$B$8,IF(RAND()<0.1,0,RANDBETWEEN(2,7)),RANDBETWEEN(2,7))),1)","v":2},-2]
[{"$f":"IF(ROW()-1<=Worksheet!$B$5/2,ROW()-1,\"\")","v":4},"(",2,",",1,")","(",4,",",0,")","gradient =","-1/2","2y = ","–x + 4","2y = –x + 4",null,{"$f":"IF(ROW()-1<=Worksheet!$B$5/2,R4+1,\"\")","v":16},"(",3,",",3,")","(",5,",",5,")","gradient =","1/1","y = ","x","y = x",null,null,{"$f":"IF(Worksheet!$B$6,RANDBETWEEN(0,8)*(-1)^RANDBETWEEN(1,2),RANDBETWEEN(0,8))","v":-1},{"$f":"IF(Worksheet!$B$7,IF(RAND()<0.3,1,IF(Worksheet!$B$8,IF(RAND()<0.1,0,RANDBETWEEN(2,7)),RANDBETWEEN(2,7))),1)","v":2},1,{"$f":"IF(Worksheet!$B$6,RANDBETWEEN(0,8)*(-1)^RANDBETWEEN(1,2),RANDBETWEEN(0,8))","v":1},{"$f":"IF(Worksheet!$B$7,IF(RAND()<0.3,1,IF(Worksheet!$B$8,IF(RAND()<0.1,0,RANDBETWEEN(2,7)),RANDBETWEEN(2,7))),1)","v":1},2]
[{"$f":"IF(ROW()-1<=Worksheet!$B$5/2,ROW()-1,\"\")","v":5},"(",-2,",",-3,")","(",7,",",-27,")","gradient =","-8/3","3y = ","-8x – 25","3y = -8x – 25",null,{"$f":"IF(ROW()-1<=Worksheet!$B$5/2,R5+1,\"\")","v":17},"(",3,",",-3,")","(",-3,",",-2,")","gradient =","-1/6","6y = ","–x – 15","6y = –x – 15",null,null,{"$f":"IF(Worksheet!$B$6,RANDBETWEEN(0,8)*(-1)^RANDBETWEEN(1,2),RANDBETWEEN(0,8))","v":-8},{"$f":"IF(Worksheet!$B$7,IF(RAND()<0.3,1,IF(Worksheet!$B$8,IF(RAND()<0.1,0,RANDBETWEEN(2,7)),RANDBETWEEN(2,7))),1)","v":3},3,{"$f":"IF(Worksheet!$B$6,RANDBETWEEN(0,8)*(-1)^RANDBETWEEN(1,2),RANDBETWEEN(0,8))","v":-1},{"$f":"IF(Worksheet!$B$7,IF(RAND()<0.3,1,IF(Worksheet!$B$8,IF(RAND()<0.1,0,RANDBETWEEN(2,7)),RANDBETWEEN(2,7))),1)","v":6},-1]
[{"$f":"IF(ROW()-1<=Worksheet!$B$5/2,ROW()-1,\"\")","v":6},"(",-3,",",0,")","(",25,",",0,")","gradient =","0/1","y = "," 0","y =  0",null,{"$f":"IF(ROW()-1<=Worksheet!$B$5/2,R6+1,\"\")","v":18},"(",3,",",-2,")","(",-1,",",-16,")","gradient =","7/2","2y = ","7x – 25","2y = 7x – 25",null,null,{"$f":"IF(Worksheet!$B$6,RANDBETWEEN(0,8)*(-1)^RANDBETWEEN(1,2),RANDBETWEEN(0,8))","v":0},{"$f":"IF(Worksheet!$B$7,IF(RAND()<0.3,1,IF(Worksheet!$B$8,IF(RAND()<0.1,0,RANDBETWEEN(2,7)),RANDBETWEEN(2,7))),1)","v":7},4,{"$f":"IF(Worksheet!$B$6,RANDBETWEEN(0,8)*(-1)^RANDBETWEEN(1,2),RANDBETWEEN(0,8))","v":7},{"$f":"IF(Worksheet!$B$7,IF(RAND()<0.3,1,IF(Worksheet!$B$8,IF(RAND()<0.1,0,RANDBETWEEN(2,7)),RANDBETWEEN(2,7))),1)","v":2},-2]
[{"$f":"IF(ROW()-1<=Worksheet!$B$5/2,ROW()-1,\"\")","v":7},"(",3,",",-3,")","(",-1,",",9,")","gradient =","-3/1","y = ","-3x + 6","y = -3x + 6",null,{"$f":"IF(ROW()-1<=Worksheet!$B$5/2,R7+1,\"\")","v":19},"(",-2,",",1,")","(",-4,",",-5,")","gradient =","3/1","y = ","3x + 7","y = 3x + 7",null,null,{"$f":"IF(Worksheet!$B$6,RANDBETWEEN(0,8)*(-1)^RANDBETWEEN(1,2),RANDBETWEEN(0,8))","v":-3},{"$f":"IF(Worksheet!$B$7,IF(RAND()<0.3,1,IF(Worksheet!$B$8,IF(RAND()<0.1,0,RANDBETWEEN(2,7)),RANDBETWEEN(2,7))),1)","v":1},-4,{"$f":"IF(Worksheet!$B$6,RANDBETWEEN(0,8)*(-1)^RANDBETWEEN(1,2),RANDBETWEEN(0,8))","v":3},{"$f":"IF(Worksheet!$B$7,IF(RAND()<0.3,1,IF(Worksheet!$B$8,IF(RAND()<0.1,0,RANDBETWEEN(2,7)),RANDBETWEEN(2,7))),1)","v":1},-2]
[{"$f":"IF(ROW()-1<=Worksheet!$B$5/2,ROW()-1,\"\")","v":8},"(",3,",",3,")","(",6,",",9,")","gradient =","2/1","y = ","2x – 3","y = 2x – 3",null,{"$f":"IF(ROW()-1<=Worksheet!$B$5/2,R8+1,\"\")","v":20},"(",-1,",",3,")","(",-15,",",17,")","gradient =","-1/1","y = ","–x + 2","y = –x + 2",null,null,{"$f":"IF(Worksheet!$B$6,RANDBETWEEN(0,8)*(-1)^RANDBETWEEN(1,2),RANDBETWEEN(0,8))","v":6},{"$f":"IF(Worksheet!$B$7,IF(RAND()<0.3,1,IF(Worksheet!$B$8,IF(RAND()<0.1,0,RANDBETWEEN(2,7)),RANDBETWEEN(2,7))),1)","v":3},1,{"$f":"IF(Worksheet!$B$6,RANDBETWEEN(0,8)*(-1)^RANDBETWEEN(1,2),RANDBETWEEN(0,8))","v":-7},{"$f":"IF(Worksheet!$B$7,IF(RAND()<0.3,1,IF(Worksheet!$B$8,IF(RAND()<0.1,0,RANDBETWEEN(2,7)),RANDBETWEEN(2,7))),1)","v":7},-2]
[{"$f":"IF(ROW()-1<=Worksheet!$B$5/2,ROW()-1,\"\")","v":9},"(",2,",",0,")","(",-4,",",2,")","gradient =","-1/3","3y = ","–x + 2","3y = –x + 2",null,{"$f":"IF(ROW()-1<=Worksheet!$B$5/2,R9+1,\"\")","v":21},"(",0,",",-3,")","(",-5,",",-6,")","gradient =","3/5","5y = ","3x – 15","5y = 3x – 15",null,null,{"$f":"IF(Worksheet!$B$6,RANDBETWEEN(0,8)*(-1)^RANDBETWEEN(1,2),RANDBETWEEN(0,8))","v":-2},{"$f":"IF(Worksheet!$B$7,IF(RAND()<0.3,1,IF(Worksheet!$B$8,IF(RAND()<0.1,0,RANDBETWEEN(2,7)),RANDBETWEEN(2,7))),1)","v":6},-1,{"$f":"IF(Worksheet!$B$6,RANDBETWEEN(0,8)*(-1)^RANDBETWEEN(1,2),RANDBETWEEN(0,8))","v":3},{"$f":"IF(Worksheet!$B$7,IF(RAND()<0.3,1,IF(Worksheet!$B$8,IF(RAND()<0.1,0,RANDBETWEEN(2,7)),RANDBETWEEN(2,7))),1)","v":5},-1]
[{"$f":"IF(ROW()-1<=Worksheet!$B$5/2,ROW()-1,\"\")","v":10},"(",1,",",3,")","(",16,",",15,")","gradient =","4/5","5y = ","4x + 11","5y = 4x + 11",null,{"$f":"IF(ROW()-1<=Worksheet!$B$5/2,R10+1,\"\")","v":22},"(",-1,",",-1,")","(",-2,",",-3,")","gradient =","2/1","y = ","2x + 1","y = 2x + 1",null,null,{"$f":"IF(Worksheet!$B$6,RANDBETWEEN(0,8)*(-1)^RANDBETWEEN(1,2),RANDBETWEEN(0,8))","v":4},{"$f":"IF(Worksheet!$B$7,IF(RAND()<0.3,1,IF(Worksheet!$B$8,IF(RAND()<0.1,0,RANDBETWEEN(2,7)),RANDBETWEEN(2,7))),1)","v":5},3,{"$f":"IF(Worksheet!$B$6,RANDBETWEEN(0,8)*(-1)^RANDBETWEEN(1,2),RANDBETWEEN(0,8))","v":2},{"$f":"IF(Worksheet!$B$7,IF(RAND()<0.3,1,IF(Worksheet!$B$8,IF(RAND()<0.1,0,RANDBETWEEN(2,7)),RANDBETWEEN(2,7))),1)","v":1},-1]
[{"$f":"IF(ROW()-1<=Worksheet!$B$5/2,ROW()-1,\"\")","v":11},"(",3,",",-3,")","(",-3,",",-3,")","gradient =","0/1","y = ","-3","y = -3",null,{"$f":"IF(ROW()-1<=Worksheet!$B$5/2,R11+1,\"\")","v":23},"(",-2,",",3,")","(",6,",",13,")","gradient =","5/4","4y = ","5x + 22","4y = 5x + 22",null,null,{"$f":"IF(Worksheet!$B$6,RANDBETWEEN(0,8)*(-1)^RANDBETWEEN(1,2),RANDBETWEEN(0,8))","v":0},{"$f":"IF(Worksheet!$B$7,IF(RAND()<0.3,1,IF(Worksheet!$B$8,IF(RAND()<0.1,0,RANDBETWEEN(2,7)),RANDBETWEEN(2,7))),1)","v":3},-2,{"$f":"IF(Worksheet!$B$6,RANDBETWEEN(0,8)*(-1)^RANDBETWEEN(1,2),RANDBETWEEN(0,8))","v":5},{"$f":"IF(Worksheet!$B$7,IF(RAND()<0.3,1,IF(Worksheet!$B$8,IF(RAND()<0.1,0,RANDBETWEEN(2,7)),RANDBETWEEN(2,7))),1)","v":4},2]
[{"$f":"IF(ROW()-1<=Worksheet!$B$5/2,ROW()-1,\"\")","v":12},"(",3,",",-2,")","(",-7,",",0,")","gradient =","-1/5","5y = ","–x – 7","5y = –x – 7",null,{"$f":"IF(ROW()-1<=Worksheet!$B$5/2,R12+1,\"\")","v":24},"(",-3,",",2,")","(",0,",",-13,")","gradient =","-5/1","y = ","-5x – 13","y = -5x – 13",null,null,{"$f":"IF(Worksheet!$B$6,RANDBETWEEN(0,8)*(-1)^RANDBETWEEN(1,2),RANDBETWEEN(0,8))","v":-1},{"$f":"IF(Worksheet!$B$7,IF(RAND()<0.3,1,IF(Worksheet!$B$8,IF(RAND()<0.1,0,RANDBETWEEN(2,7)),RANDBETWEEN(2,7))),1)","v":5},-2,{"$f":"IF(Worksheet!$B$6,RANDBETWEEN(0,8)*(-1)^RANDBETWEEN(1,2),RANDBETWEEN(0,8))","v":-5},{"$f":"IF(Worksheet!$B$7,IF(RAND()<0.3,1,IF(Worksheet!$B$8,IF(RAND()<0.1,0,RANDBETWEEN(2,7)),RANDBETWEEN(2,7))),1)","v":1},3]