{"text_format":"1","workbook":"xlsx","n_sheets":2,"sheets":["Worksheet","SYSTEM FORMULAE"],"not_rendered":{"charts":0,"images":0,"macros":1,"external_links":0,"defined_names":2,"comments":0,"pivot_tables":0},"unopened":[],"bounds":{"document_bytes":16777216,"sheet_cells":100000,"rows_first":2000,"rows_last":500,"rows_between":2000,"halvings":0,"cell_chars":16384,"cell_head_chars":4096},"cells_cut":0,"cells_raw":0,"read":"whole","date_system":"1900"}

{"sheet":"Worksheet","index":0,"n_rows":18,"n_cols":32,"rows_kept":18,"cut":false,"hidden":false,"merged":[[8,30,8,31],[0,3,0,28],[3,0,3,1],[4,0,4,1]]}
[null,null,null,"Calculate the gradient of the straight line between each pair of coordinates in its simplest form"]
[]
[null,null,null,1,"(",1,",",2,")","(",7,",",23,")","gradient =","7/2",17,"(","–1",",",2,")","(","–13",",",11,")","gradient =","–3/4"]
[null,null,null,2,"(",2,",",0,")","(","–8",",",10,")","gradient =","–1",18,"(","–3",",",3,")","(",0,",",12,")","gradient =",3]
["Variables",null,null,3,"(",3,",","–2",")","(",4,",","–8",")","gradient =","–6",19,"(",1,",",1,")","(","–5",",",3,")","gradient =","–1/3"]
["Number of questions (minimum 16, maximum 32)",32,null,4,"(","–1",",",2,")","(","–2",",","–6",")","gradient =",8,20,"(","–2",",",1,")","(","–14",",",1,")","gradient =",0]
["Allow negative gradients",true,null,5,"(",2,",","–2",")","(","–5",",","–2",")","gradient =",0,21,"(","–3",",",0,")","(","–4",",",3,")","gradient =","–3"]
["Allow answer that is a fraction (or decimal)",true,null,6,"(","–2",",",3,")","(",1,",",0,")","gradient =","–1",22,"(",2,",",3,")","(",20,",","–12",")","gradient =","–5/6"]
["Allow answer of 'undefined'",true,null,7,"(","–3",",","–2",")","(","–9",",","–2",")","gradient =",0,23,"(","–3",",","–3",")","(","–3",",","–31",")","gradient =","undefined",null,null,false]
["SHOW ANSWERS?",{"$f":"AF9","v":false},null,8,"(",0,",",1,")","(","–28",",",33,")","gradient =","–8/7",24,"(",3,",",3,")","(","–7",",","–5",")","gradient =","4/5"]
[null,null,null,9,"(",3,",",3,")","(","–5",",",7,")","gradient =","–1/2",25,"(",3,",",1,")","(",9,",",11,")","gradient =","5/3"]
[null,null,null,10,"(",2,",",3,")","(","–1",",",24,")","gradient =","–7",26,"(",0,",","–3",")","(",1,",","–5",")","gradient =","–2"]
[null,null,null,11,"(",3,",",2,")","(",5,",",8,")","gradient =",3,27,"(",0,",",2,")","(",28,",","–6",")","gradient =","–2/7"]
[null,null,null,12,"(","–2",",",3,")","(","–2",",",23,")","gradient =","undefined",28,"(","–3",",","–1",")","(","–2",",",4,")","gradient =",5]
[null,null,null,13,"(",3,",","–2",")","(","–4",",","–4",")","gradient =","2/7",29,"(","–3",",",0,")","(",5,",","–20",")","gradient =","–5/2"]
[null,null,null,14,"(",2,",","–2",")","(",9,",","–7",")","gradient =","–5/7",30,"(","–1",",","–2",")","(",2,",","–14",")","gradient =","–4"]
[null,null,null,15,"(",1,",","–3",")","(",29,",","–15",")","gradient =","–3/7",31,"(",2,",",2,")","(","–14",",","–2",")","gradient =","1/4"]
[null,null,null,16,"(",1,",",0,")","(",21,",","–20",")","gradient =","–1",32,"(","–1",",","–2",")","(",5,",",10,")","gradient =",2]

{"sheet":"SYSTEM FORMULAE","index":1,"n_rows":17,"n_cols":37,"rows_kept":17,"cut":false,"hidden":false,"merged":[]}
[null,null,null,null,null,null,null,null,null,null,null,null,null,null,null,null,null,null,null,null,null,null,null,null,null,null,null,null,null,null,null,"up","along",null,"up","along"]
[{"$f":"IF(ROW()-1<=Worksheet!$B$6/2,ROW()-1,\"\")","v":1},"(",{"$f":"RANDBETWEEN(-3,3)","v":-1},",",{"$f":"RANDBETWEEN(-3,3)","v":0},")","(",{"$f":"C2+AH2*AG2","v":-9},",",{"$f":"E2+AH2*AF2","v":-32},")","gradient =",{"$f":"IF(AG2=0,\"undefined\",TEXT(AF2/AG2,\"#/?\"))","v":"4/1"},{"$f":"MAX(A1:A40)+1","v":17},"(",{"$f":"RANDBETWEEN(-3,3)","v":2},",",{"$f":"RANDBETWEEN(-3,3)","v":2},")","(",{"$f":"P2+AK2*AJ2","v":4},",",{"$f":"R2+AK2*AI2","v":10},")","gradient =",{"$f":"IF(AJ2=0,\"undefined\",TEXT(AI2/AJ2,\"#/?\"))","v":"4/1"},null,null,null,null,null,{"$f":"IF(Worksheet!$B$7,RANDBETWEEN(0,8)*(-1)^RANDBETWEEN(1,2),RANDBETWEEN(0,8))","v":8},{"$f":"IF(Worksheet!$B$8,IF(RAND()<0.3,1,IF(Worksheet!$B$9,IF(RAND()<0.1,0,RANDBETWEEN(2,7)),RANDBETWEEN(2,7))),1)","v":2},{"$f":"RANDBETWEEN(1,4)*(-1)^(RANDBETWEEN(1,2))","v":-4},{"$f":"IF(Worksheet!$B$7,RANDBETWEEN(0,8)*(-1)^RANDBETWEEN(1,2),RANDBETWEEN(0,8))","v":8},{"$f":"IF(Worksheet!$B$8,IF(RAND()<0.3,1,IF(Worksheet!$B$9,IF(RAND()<0.1,0,RANDBETWEEN(2,7)),RANDBETWEEN(2,7))),1)","v":2},{"$f":"RANDBETWEEN(1,4)*(-1)^(RANDBETWEEN(1,2))","v":1}]
[{"$f":"IF(ROW()-1<=Worksheet!$B$6/2,ROW()-1,\"\")","v":2},"(",{"$f":"RANDBETWEEN(-3,3)","v":-3},",",{"$f":"RANDBETWEEN(-3,3)","v":-1},")","(",-1,",",-5,")","gradient =",{"$f":"IF(AG3=0,\"undefined\",TEXT(AF3/AG3,\"#/?\"))","v":"-2/1"},{"$f":"IF(ROW()-1<=Worksheet!$B$6/2,N2+1,\"\")","v":18},"(",{"$f":"RANDBETWEEN(-3,3)","v":-1},",",{"$f":"RANDBETWEEN(-3,3)","v":-1},")","(",-13,",",-1,")","gradient =",{"$f":"IF(AJ3=0,\"undefined\",TEXT(AI3/AJ3,\"#/?\"))","v":"0/1"},null,null,null,null,null,{"$f":"IF(Worksheet!$B$7,RANDBETWEEN(0,8)*(-1)^RANDBETWEEN(1,2),RANDBETWEEN(0,8))","v":-2},{"$f":"IF(Worksheet!$B$8,IF(RAND()<0.3,1,IF(Worksheet!$B$9,IF(RAND()<0.1,0,RANDBETWEEN(2,7)),RANDBETWEEN(2,7))),1)","v":1},{"$f":"RANDBETWEEN(1,4)*(-1)^(RANDBETWEEN(1,2))","v":2},{"$f":"IF(Worksheet!$B$7,RANDBETWEEN(0,8)*(-1)^RANDBETWEEN(1,2),RANDBETWEEN(0,8))","v":0},{"$f":"IF(Worksheet!$B$8,IF(RAND()<0.3,1,IF(Worksheet!$B$9,IF(RAND()<0.1,0,RANDBETWEEN(2,7)),RANDBETWEEN(2,7))),1)","v":4},{"$f":"RANDBETWEEN(1,4)*(-1)^(RANDBETWEEN(1,2))","v":-3}]
[{"$f":"IF(ROW()-1<=Worksheet!$B$6/2,ROW()-1,\"\")","v":3},"(",1,",",0,")","(",5,",",-16,")","gradient =","-4/1",{"$f":"IF(ROW()-1<=Worksheet!$B$6/2,N3+1,\"\")","v":19},"(",0,",",-2,")","(",-5,",",-10,")","gradient =","8/5",null,null,null,null,null,{"$f":"IF(Worksheet!$B$7,RANDBETWEEN(0,8)*(-1)^RANDBETWEEN(1,2),RANDBETWEEN(0,8))","v":-4},{"$f":"IF(Worksheet!$B$8,IF(RAND()<0.3,1,IF(Worksheet!$B$9,IF(RAND()<0.1,0,RANDBETWEEN(2,7)),RANDBETWEEN(2,7))),1)","v":1},4,{"$f":"IF(Worksheet!$B$7,RANDBETWEEN(0,8)*(-1)^RANDBETWEEN(1,2),RANDBETWEEN(0,8))","v":8},{"$f":"IF(Worksheet!$B$8,IF(RAND()<0.3,1,IF(Worksheet!$B$9,IF(RAND()<0.1,0,RANDBETWEEN(2,7)),RANDBETWEEN(2,7))),1)","v":5},-1]
[{"$f":"IF(ROW()-1<=Worksheet!$B$6/2,ROW()-1,\"\")","v":4},"(",2,",",-2,")","(",9,",",6,")","gradient =","8/7",{"$f":"IF(ROW()-1<=Worksheet!$B$6/2,N4+1,\"\")","v":20},"(",3,",",1,")","(",-4,",",8,")","gradient =","-1/1",null,null,null,null,null,{"$f":"IF(Worksheet!$B$7,RANDBETWEEN(0,8)*(-1)^RANDBETWEEN(1,2),RANDBETWEEN(0,8))","v":8},{"$f":"IF(Worksheet!$B$8,IF(RAND()<0.3,1,IF(Worksheet!$B$9,IF(RAND()<0.1,0,RANDBETWEEN(2,7)),RANDBETWEEN(2,7))),1)","v":7},1,{"$f":"IF(Worksheet!$B$7,RANDBETWEEN(0,8)*(-1)^RANDBETWEEN(1,2),RANDBETWEEN(0,8))","v":-7},{"$f":"IF(Worksheet!$B$8,IF(RAND()<0.3,1,IF(Worksheet!$B$9,IF(RAND()<0.1,0,RANDBETWEEN(2,7)),RANDBETWEEN(2,7))),1)","v":7},-1]
[{"$f":"IF(ROW()-1<=Worksheet!$B$6/2,ROW()-1,\"\")","v":5},"(",-2,",",2,")","(",-1,",",7,")","gradient =","5/1",{"$f":"IF(ROW()-1<=Worksheet!$B$6/2,N5+1,\"\")","v":21},"(",1,",",0,")","(",3,",",0,")","gradient =","0/1",null,null,null,null,null,{"$f":"IF(Worksheet!$B$7,RANDBETWEEN(0,8)*(-1)^RANDBETWEEN(1,2),RANDBETWEEN(0,8))","v":5},{"$f":"IF(Worksheet!$B$8,IF(RAND()<0.3,1,IF(Worksheet!$B$9,IF(RAND()<0.1,0,RANDBETWEEN(2,7)),RANDBETWEEN(2,7))),1)","v":1},1,{"$f":"IF(Worksheet!$B$7,RANDBETWEEN(0,8)*(-1)^RANDBETWEEN(1,2),RANDBETWEEN(0,8))","v":0},{"$f":"IF(Worksheet!$B$8,IF(RAND()<0.3,1,IF(Worksheet!$B$9,IF(RAND()<0.1,0,RANDBETWEEN(2,7)),RANDBETWEEN(2,7))),1)","v":1},2]
[{"$f":"IF(ROW()-1<=Worksheet!$B$6/2,ROW()-1,\"\")","v":6},"(",2,",",1,")","(",-18,",",17,")","gradient =","-4/5",{"$f":"IF(ROW()-1<=Worksheet!$B$6/2,N6+1,\"\")","v":22},"(",0,",",1,")","(",-6,",",13,")","gradient =","-2/1",null,null,null,null,null,{"$f":"IF(Worksheet!$B$7,RANDBETWEEN(0,8)*(-1)^RANDBETWEEN(1,2),RANDBETWEEN(0,8))","v":-4},{"$f":"IF(Worksheet!$B$8,IF(RAND()<0.3,1,IF(Worksheet!$B$9,IF(RAND()<0.1,0,RANDBETWEEN(2,7)),RANDBETWEEN(2,7))),1)","v":5},-4,{"$f":"IF(Worksheet!$B$7,RANDBETWEEN(0,8)*(-1)^RANDBETWEEN(1,2),RANDBETWEEN(0,8))","v":-4},{"$f":"IF(Worksheet!$B$8,IF(RAND()<0.3,1,IF(Worksheet!$B$9,IF(RAND()<0.1,0,RANDBETWEEN(2,7)),RANDBETWEEN(2,7))),1)","v":2},-3]
[{"$f":"IF(ROW()-1<=Worksheet!$B$6/2,ROW()-1,\"\")","v":7},"(",-3,",",0,")","(",-3,",",0,")","gradient =","undefined",{"$f":"IF(ROW()-1<=Worksheet!$B$6/2,N7+1,\"\")","v":23},"(",-1,",",2,")","(",-7,",",-5,")","gradient =","7/6",null,null,null,null,null,{"$f":"IF(Worksheet!$B$7,RANDBETWEEN(0,8)*(-1)^RANDBETWEEN(1,2),RANDBETWEEN(0,8))","v":0},{"$f":"IF(Worksheet!$B$8,IF(RAND()<0.3,1,IF(Worksheet!$B$9,IF(RAND()<0.1,0,RANDBETWEEN(2,7)),RANDBETWEEN(2,7))),1)","v":0},3,{"$f":"IF(Worksheet!$B$7,RANDBETWEEN(0,8)*(-1)^RANDBETWEEN(1,2),RANDBETWEEN(0,8))","v":7},{"$f":"IF(Worksheet!$B$8,IF(RAND()<0.3,1,IF(Worksheet!$B$9,IF(RAND()<0.1,0,RANDBETWEEN(2,7)),RANDBETWEEN(2,7))),1)","v":6},-1]
[{"$f":"IF(ROW()-1<=Worksheet!$B$6/2,ROW()-1,\"\")","v":8},"(",3,",",-3,")","(",18,",",-21,")","gradient =","-6/5",{"$f":"IF(ROW()-1<=Worksheet!$B$6/2,N8+1,\"\")","v":24},"(",1,",",-1,")","(",-2,",",23,")","gradient =","-8/1",null,null,null,null,null,{"$f":"IF(Worksheet!$B$7,RANDBETWEEN(0,8)*(-1)^RANDBETWEEN(1,2),RANDBETWEEN(0,8))","v":-6},{"$f":"IF(Worksheet!$B$8,IF(RAND()<0.3,1,IF(Worksheet!$B$9,IF(RAND()<0.1,0,RANDBETWEEN(2,7)),RANDBETWEEN(2,7))),1)","v":5},3,{"$f":"IF(Worksheet!$B$7,RANDBETWEEN(0,8)*(-1)^RANDBETWEEN(1,2),RANDBETWEEN(0,8))","v":-8},{"$f":"IF(Worksheet!$B$8,IF(RAND()<0.3,1,IF(Worksheet!$B$9,IF(RAND()<0.1,0,RANDBETWEEN(2,7)),RANDBETWEEN(2,7))),1)","v":1},-3]
[{"$f":"IF(ROW()-1<=Worksheet!$B$6/2,ROW()-1,\"\")","v":9},"(",3,",",-2,")","(",-1,",",2,")","gradient =","-1/1",{"$f":"IF(ROW()-1<=Worksheet!$B$6/2,N9+1,\"\")","v":25},"(",2,",",1,")","(",0,",",0,")","gradient =","1/2",null,null,null,null,null,{"$f":"IF(Worksheet!$B$7,RANDBETWEEN(0,8)*(-1)^RANDBETWEEN(1,2),RANDBETWEEN(0,8))","v":-1},{"$f":"IF(Worksheet!$B$8,IF(RAND()<0.3,1,IF(Worksheet!$B$9,IF(RAND()<0.1,0,RANDBETWEEN(2,7)),RANDBETWEEN(2,7))),1)","v":1},-4,{"$f":"IF(Worksheet!$B$7,RANDBETWEEN(0,8)*(-1)^RANDBETWEEN(1,2),RANDBETWEEN(0,8))","v":1},{"$f":"IF(Worksheet!$B$8,IF(RAND()<0.3,1,IF(Worksheet!$B$9,IF(RAND()<0.1,0,RANDBETWEEN(2,7)),RANDBETWEEN(2,7))),1)","v":2},-1]
[{"$f":"IF(ROW()-1<=Worksheet!$B$6/2,ROW()-1,\"\")","v":10},"(",-1,",",3,")","(",-13,",",-3,")","gradient =","1/2",{"$f":"IF(ROW()-1<=Worksheet!$B$6/2,N10+1,\"\")","v":26},"(",2,",",-3,")","(",10,",",9,")","gradient =","3/2",null,null,null,null,null,{"$f":"IF(Worksheet!$B$7,RANDBETWEEN(0,8)*(-1)^RANDBETWEEN(1,2),RANDBETWEEN(0,8))","v":3},{"$f":"IF(Worksheet!$B$8,IF(RAND()<0.3,1,IF(Worksheet!$B$9,IF(RAND()<0.1,0,RANDBETWEEN(2,7)),RANDBETWEEN(2,7))),1)","v":6},-2,{"$f":"IF(Worksheet!$B$7,RANDBETWEEN(0,8)*(-1)^RANDBETWEEN(1,2),RANDBETWEEN(0,8))","v":6},{"$f":"IF(Worksheet!$B$8,IF(RAND()<0.3,1,IF(Worksheet!$B$9,IF(RAND()<0.1,0,RANDBETWEEN(2,7)),RANDBETWEEN(2,7))),1)","v":4},2]
[{"$f":"IF(ROW()-1<=Worksheet!$B$6/2,ROW()-1,\"\")","v":11},"(",2,",",3,")","(",-4,",",18,")","gradient =","-5/2",{"$f":"IF(ROW()-1<=Worksheet!$B$6/2,N11+1,\"\")","v":27},"(",1,",",2,")","(",4,",",-1,")","gradient =","-1/1",null,null,null,null,null,{"$f":"IF(Worksheet!$B$7,RANDBETWEEN(0,8)*(-1)^RANDBETWEEN(1,2),RANDBETWEEN(0,8))","v":-5},{"$f":"IF(Worksheet!$B$8,IF(RAND()<0.3,1,IF(Worksheet!$B$9,IF(RAND()<0.1,0,RANDBETWEEN(2,7)),RANDBETWEEN(2,7))),1)","v":2},-3,{"$f":"IF(Worksheet!$B$7,RANDBETWEEN(0,8)*(-1)^RANDBETWEEN(1,2),RANDBETWEEN(0,8))","v":-3},{"$f":"IF(Worksheet!$B$8,IF(RAND()<0.3,1,IF(Worksheet!$B$9,IF(RAND()<0.1,0,RANDBETWEEN(2,7)),RANDBETWEEN(2,7))),1)","v":3},1]
[{"$f":"IF(ROW()-1<=Worksheet!$B$6/2,ROW()-1,\"\")","v":12},"(",3,",",0,")","(",15,",",32,")","gradient =","8/3",{"$f":"IF(ROW()-1<=Worksheet!$B$6/2,N12+1,\"\")","v":28},"(",2,",",2,")","(",-2,",",10,")","gradient =","-2/1",null,null,null,null,null,{"$f":"IF(Worksheet!$B$7,RANDBETWEEN(0,8)*(-1)^RANDBETWEEN(1,2),RANDBETWEEN(0,8))","v":8},{"$f":"IF(Worksheet!$B$8,IF(RAND()<0.3,1,IF(Worksheet!$B$9,IF(RAND()<0.1,0,RANDBETWEEN(2,7)),RANDBETWEEN(2,7))),1)","v":3},4,{"$f":"IF(Worksheet!$B$7,RANDBETWEEN(0,8)*(-1)^RANDBETWEEN(1,2),RANDBETWEEN(0,8))","v":-2},{"$f":"IF(Worksheet!$B$8,IF(RAND()<0.3,1,IF(Worksheet!$B$9,IF(RAND()<0.1,0,RANDBETWEEN(2,7)),RANDBETWEEN(2,7))),1)","v":1},-4]
[{"$f":"IF(ROW()-1<=Worksheet!$B$6/2,ROW()-1,\"\")","v":13},"(",-1,",",-1,")","(",-17,",",-1,")","gradient =","0/1",{"$f":"IF(ROW()-1<=Worksheet!$B$6/2,N13+1,\"\")","v":29},"(",3,",",0,")","(",-12,",",15,")","gradient =","-1/1",null,null,null,null,null,{"$f":"IF(Worksheet!$B$7,RANDBETWEEN(0,8)*(-1)^RANDBETWEEN(1,2),RANDBETWEEN(0,8))","v":0},{"$f":"IF(Worksheet!$B$8,IF(RAND()<0.3,1,IF(Worksheet!$B$9,IF(RAND()<0.1,0,RANDBETWEEN(2,7)),RANDBETWEEN(2,7))),1)","v":4},-4,{"$f":"IF(Worksheet!$B$7,RANDBETWEEN(0,8)*(-1)^RANDBETWEEN(1,2),RANDBETWEEN(0,8))","v":-5},{"$f":"IF(Worksheet!$B$8,IF(RAND()<0.3,1,IF(Worksheet!$B$9,IF(RAND()<0.1,0,RANDBETWEEN(2,7)),RANDBETWEEN(2,7))),1)","v":5},-3]
[{"$f":"IF(ROW()-1<=Worksheet!$B$6/2,ROW()-1,\"\")","v":14},"(",0,",",2,")","(",0,",",14,")","gradient =","undefined",{"$f":"IF(ROW()-1<=Worksheet!$B$6/2,N14+1,\"\")","v":30},"(",3,",",-3,")","(",11,",",-31,")","gradient =","-7/2",null,null,null,null,null,{"$f":"IF(Worksheet!$B$7,RANDBETWEEN(0,8)*(-1)^RANDBETWEEN(1,2),RANDBETWEEN(0,8))","v":3},{"$f":"IF(Worksheet!$B$8,IF(RAND()<0.3,1,IF(Worksheet!$B$9,IF(RAND()<0.1,0,RANDBETWEEN(2,7)),RANDBETWEEN(2,7))),1)","v":0},4,{"$f":"IF(Worksheet!$B$7,RANDBETWEEN(0,8)*(-1)^RANDBETWEEN(1,2),RANDBETWEEN(0,8))","v":-7},{"$f":"IF(Worksheet!$B$8,IF(RAND()<0.3,1,IF(Worksheet!$B$9,IF(RAND()<0.1,0,RANDBETWEEN(2,7)),RANDBETWEEN(2,7))),1)","v":2},4]
[{"$f":"IF(ROW()-1<=Worksheet!$B$6/2,ROW()-1,\"\")","v":15},"(",-1,",",0,")","(",-22,",",15,")","gradient =","-5/7",{"$f":"IF(ROW()-1<=Worksheet!$B$6/2,N15+1,\"\")","v":31},"(",-2,",",2,")","(",10,",",-4,")","gradient =","-1/2",null,null,null,null,null,{"$f":"IF(Worksheet!$B$7,RANDBETWEEN(0,8)*(-1)^RANDBETWEEN(1,2),RANDBETWEEN(0,8))","v":-5},{"$f":"IF(Worksheet!$B$8,IF(RAND()<0.3,1,IF(Worksheet!$B$9,IF(RAND()<0.1,0,RANDBETWEEN(2,7)),RANDBETWEEN(2,7))),1)","v":7},-3,{"$f":"IF(Worksheet!$B$7,RANDBETWEEN(0,8)*(-1)^RANDBETWEEN(1,2),RANDBETWEEN(0,8))","v":-2},{"$f":"IF(Worksheet!$B$8,IF(RAND()<0.3,1,IF(Worksheet!$B$9,IF(RAND()<0.1,0,RANDBETWEEN(2,7)),RANDBETWEEN(2,7))),1)","v":4},3]
[{"$f":"IF(ROW()-1<=Worksheet!$B$6/2,ROW()-1,\"\")","v":16},"(",0,",",1,")","(",-6,",",-1,")","gradient =","1/3",{"$f":"IF(ROW()-1<=Worksheet!$B$6/2,N16+1,\"\")","v":32},"(",-2,",",1,")","(",-5,",",19,")","gradient =","-6/1",null,null,null,null,null,{"$f":"IF(Worksheet!$B$7,RANDBETWEEN(0,8)*(-1)^RANDBETWEEN(1,2),RANDBETWEEN(0,8))","v":2},{"$f":"IF(Worksheet!$B$8,IF(RAND()<0.3,1,IF(Worksheet!$B$9,IF(RAND()<0.1,0,RANDBETWEEN(2,7)),RANDBETWEEN(2,7))),1)","v":6},-1,{"$f":"IF(Worksheet!$B$7,RANDBETWEEN(0,8)*(-1)^RANDBETWEEN(1,2),RANDBETWEEN(0,8))","v":-6},{"$f":"IF(Worksheet!$B$8,IF(RAND()<0.3,1,IF(Worksheet!$B$9,IF(RAND()<0.1,0,RANDBETWEEN(2,7)),RANDBETWEEN(2,7))),1)","v":1},-3]