{"text_format":"1","workbook":"xlsx","n_sheets":2,"sheets":["Worksheet","SYSTEM FORMULAE"],"not_rendered":{"charts":0,"images":0,"macros":1,"external_links":0,"defined_names":2,"comments":0,"pivot_tables":0},"unopened":[],"bounds":{"document_bytes":16777216,"sheet_cells":100000,"rows_first":2000,"rows_last":500,"rows_between":2000,"halvings":0,"cell_chars":16384,"cell_head_chars":4096},"cells_cut":0,"cells_raw":0,"read":"whole","date_system":"1900"}

{"sheet":"Worksheet","index":0,"n_rows":22,"n_cols":63,"rows_kept":22,"cut":false,"hidden":false,"merged":[[0,3,0,48],[3,0,3,1],[4,0,4,1],[2,0,2,1]]}
[null,null,null,"Factorise these trinomials"]
[]
[null,null,null,1,10,"x","²","+",1,"x","–",2,"=","(",5,"x","–",-2,")","(",2,"x","+",1,")","",21,12,"x","²","+",17,"x","+",6,"=","(",4,"x","+",3,")","(",3,"x","+",2,")",""]
["*** indicates a question where there is a number that could be taken out as a common factor first.  At which stage to address this with any particular class is at the teacher's discretion!",null,null,2,"","k","²","+",3,"k","–",4,"=","(",1,"k","+",4,")","(",1,"k","–",-1,")","",22,8,"b","²","–",6,"b","–",2,"=","(",4,"b","+",1,")","(",2,"b","–",-2,")","***"]
["Variables",null,null,3,9,"b","²","+",30,"b","+",25,"=","(",3,"b","+",5,")","(",3,"b","+",5,")","",23,10,"k","²","+",18,"k","+",8,"=","(",2,"k","+",2,")","(",5,"k","+",4,")","***"]
["SHOW ANSWERS?",{"$f":"NOT(BK10)","v":true},null,4,5,"b","²","–",10,"b","–",15,"=","(",5,"b","+",5,")","(",1,"b","–",-3,")","***",24,4,"m","²","+",2,"m","–",2,"=","(",2,"m","+",2,")","(",2,"m","–",-1,")","***"]
["Number of questions (minimum 16, maximum 40)",40,null,5,6,"x","²","–",23,"x","+",20,"=","(",3,"x","–",-4,")","(",2,"x","–",-5,")","",25,10,"x","²","–",23,"x","+",12,"=","(",2,"x","–",-3,")","(",5,"x","–",-4,")",""]
["Positive coefficients of x only?",false,null,6,3,"b","²","–",20,"b","+",25,"=","(",3,"b","–",-5,")","(",1,"b","–",-5,")","",26,6,"m","²","+",15,"m","","","=","(",3,"m","",0,")","(",2,"m","+",5,")",""]
["Allow expressions of the form          ax² + bx ?",true,null,7,3,"s","²","–",17,"s","+",10,"=","(",3,"s","–",-2,")","(",1,"s","–",-5,")","",27,4,"x","²","+",8,"x","+",4,"=","(",2,"x","+",2,")","(",2,"x","+",2,")","***"]
[null,null,null,8,9,"k","²","–",27,"k","+",20,"=","(",3,"k","–",-5,")","(",3,"k","–",-4,")","",28,12,"b","²","–",3,"b","–",15,"=","(",3,"b","+",3,")","(",4,"b","–",-5,")","***",null,null,null,null,null,null,null,null,null,null,null,null,null,false]
[null,null,null,9,15,"m","²","–",7,"m","–",2,"=","(",3,"m","–",-2,")","(",5,"m","+",1,")","",29,6,"x","²","–",25,"x","+",25,"=","(",2,"x","–",-5,")","(",3,"x","–",-5,")",""]
[null,null,null,10,"","b","²","+",5,"b","+",4,"=","(",1,"b","+",4,")","(",1,"b","+",1,")","",30,6,"s","²","+",15,"s","+",9,"=","(",2,"s","+",3,")","(",3,"s","+",3,")","***"]
[null,null,null,11,8,"z","²","–",2,"z","–",10,"=","(",2,"z","+",2,")","(",4,"z","–",-5,")","***",31,12,"k","²","+",5,"k","–",2,"=","(",4,"k","–",-1,")","(",3,"k","+",2,")",""]
[null,null,null,12,8,"b","²","–",4,"b","–",4,"=","(",4,"b","–",-4,")","(",2,"b","+",1,")","***",32,"","z","²","+",5,"z","+",4,"=","(",1,"z","+",4,")","(",1,"z","+",1,")",""]
[null,null,null,13,16,"y","²","–",20,"y","+",6,"=","(",4,"y","–",-2,")","(",4,"y","–",-3,")","***",33,4,"b","²","–",16,"b","–",20,"=","(",1,"b","–",-5,")","(",4,"b","+",4,")","***"]
[null,null,null,14,9,"m","²","+",21,"m","+",10,"=","(",3,"m","+",5,")","(",3,"m","+",2,")","",34,12,"x","²","","","x","–",12,"=","(",4,"x","–",-4,")","(",3,"x","+",3,")",""]
[null,null,null,15,4,"s","²","+",17,"s","+",4,"=","(",1,"s","+",4,")","(",4,"s","+",1,")","",35,6,"x","²","+",5,"x","–",6,"=","(",2,"x","+",3,")","(",3,"x","–",-2,")",""]
[null,null,null,16,4,"s","²","","","s","–",1,"=","(",2,"s","–",-1,")","(",2,"s","+",1,")","",36,15,"b","²","+",1,"b","–",6,"=","(",5,"b","–",-3,")","(",3,"b","+",2,")",""]
[null,null,null,17,16,"s","²","+",36,"s","+",20,"=","(",4,"s","+",4,")","(",4,"s","+",5,")","***",37,20,"b","²","–",21,"b","–",5,"=","(",4,"b","–",-5,")","(",5,"b","+",1,")",""]
[null,null,null,18,15,"b","²","+",34,"b","+",15,"=","(",5,"b","+",3,")","(",3,"b","+",5,")","",38,10,"z","²","–",1,"z","–",3,"=","(",2,"z","+",1,")","(",5,"z","–",-3,")",""]
[null,null,null,19,3,"s","²","–",5,"s","+",2,"=","(",1,"s","–",-1,")","(",3,"s","–",-2,")","",39,16,"a","²","–",20,"a","+",6,"=","(",4,"a","–",-2,")","(",4,"a","–",-3,")","***"]
[null,null,null,20,2,"a","²","–",3,"a","–",9,"=","(",1,"a","–",-3,")","(",2,"a","+",3,")","",40,4,"x","²","+",16,"x","–",20,"=","(",4,"x","–",-4,")","(",1,"x","+",5,")","***"]

{"sheet":"SYSTEM FORMULAE","index":1,"n_rows":20,"n_cols":46,"rows_kept":20,"cut":false,"hidden":false,"merged":[]}
[{"$f":"IF(ROW()<=Worksheet!$B$7/2,ROW(),\"\")","v":1},{"$f":"IF(AND(L1=1,R1=1),\"\",L1*R1)","v":3},{"$f":"CHOOSE(RANDBETWEEN(1,10),\"a\",\"b\",\"m\",\"y\",\"z\",\"x\",\"x\",\"x\",\"s\",\"k\")","v":"m"},"²",{"$f":"IF(L1*U1+O1*R1>0,\"+\",IF(L1*U1+O1*R1=0,\"\",\"–\"))","v":"–"},{"$f":"IF(L1*U1+O1*R1>0,L1*U1+O1*R1,IF(L1*U1+O1*R1=0,\"\",-(L1*U1+O1*R1)))","v":20},{"$f":"C1","v":"m"},{"$f":"IF(O1*U1>0,\"+\",IF(O1*U1=0,\"\",\"–\"))","v":"+"},{"$f":"IF(O1*U1>0,O1*U1,IF(O1*U1=0,\"\",-O1*U1))","v":25},"=","(",{"$f":"RANDBETWEEN(1,5)","v":3},{"$f":"G1","v":"m"},{"$f":"IF(O1>0,\"+\",IF(O1=0,\"\",\"–\"))","v":"–"},{"$f":"IF(Worksheet!$B$8=TRUE,IF(Worksheet!$B$9=TRUE,IF(L1<>1,RANDBETWEEN(0,5),RANDBETWEEN(0,10)),IF(L1<>1,RANDBETWEEN(1,5),RANDBETWEEN(1,10))),IF(Worksheet!$B$9=TRUE,RANDBETWEEN(-5,5),(-1)^RANDBETWEEN(1,2)*RANDBETWEEN(1,5)))","v":-5},")","(",{"$f":"RANDBETWEEN(1,5)","v":1},{"$f":"C1","v":"m"},{"$f":"IF(U1>0,\"+\",IF(U1=0,\"\",\"–\"))","v":"–"},{"$f":"IF(Worksheet!$B$8=TRUE,IF(L1<>1,RANDBETWEEN(1,5),RANDBETWEEN(1,10)),(-1)^RANDBETWEEN(1,2)*RANDBETWEEN(1,5))","v":-5},")",{"$f":"IF(I1=\"\",\"\",IF(GCD(IF(B1=\"\",1,B1),IF(F1=\"\",1,F1),I1)<>1,\"***\",\"\"))","v":""},{"$f":"MAX(A1:A88)+1","v":21},{"$f":"IF(AND(AI1=1,AO1=1),\"\",AI1*AO1)","v":9},{"$f":"CHOOSE(RANDBETWEEN(1,10),\"a\",\"b\",\"m\",\"y\",\"z\",\"x\",\"x\",\"x\",\"s\",\"k\")","v":"m"},"²",{"$f":"IF(AI1*AR1+AL1*AO1>0,\"+\",IF(AI1*AR1+AL1*AO1=0,\"\",\"–\"))","v":"–"},{"$f":"IF(AI1*AR1+AL1*AO1>0,AI1*AR1+AL1*AO1,IF(AI1*AR1+AL1*AO1=0,\"\",-(AI1*AR1+AL1*AO1)))","v":21},{"$f":"Z1","v":"m"},{"$f":"IF(AL1*AR1>0,\"+\",IF(AL1*AR1=0,\"\",\"–\"))","v":"+"},{"$f":"IF(AL1*AR1>0,AL1*AR1,IF(AL1*AR1=0,\"\",-AL1*AR1))","v":10},"=","(",{"$f":"RANDBETWEEN(1,5)","v":3},{"$f":"AD1","v":"m"},{"$f":"IF(AL1>0,\"+\",IF(AL1=0,\"\",\"–\"))","v":"–"},{"$f":"IF(Worksheet!$B$8=TRUE,IF(Worksheet!$B$9=TRUE,IF(AI1<>1,RANDBETWEEN(0,5),RANDBETWEEN(0,10)),IF(AI1<>1,RANDBETWEEN(1,5),RANDBETWEEN(1,10))),IF(Worksheet!$B$9=TRUE,RANDBETWEEN(-5,5),(-1)^RANDBETWEEN(1,2)*RANDBETWEEN(1,5)))","v":-5},")","(",{"$f":"RANDBETWEEN(1,5)","v":3},{"$f":"Z1","v":"m"},{"$f":"IF(AR1>0,\"+\",IF(AR1=0,\"\",\"–\"))","v":"–"},{"$f":"IF(Worksheet!$B$8=TRUE,IF(AI1<>1,RANDBETWEEN(1,5),RANDBETWEEN(1,10)),(-1)^RANDBETWEEN(1,2)*RANDBETWEEN(1,5))","v":-2},")",{"$f":"IF(AF1=\"\",\"\",IF(GCD(IF(Y1=\"\",1,Y1),IF(AC1=\"\",1,AC1),AF1)<>1,\"***\",\"\"))","v":""}]
[{"$f":"IF(ROW()<=Worksheet!$B$7/2,ROW(),\"\")","v":2},{"$f":"IF(AND(L2=1,R2=1),\"\",L2*R2)","v":6},"a","²",{"$f":"IF(L2*U2+O2*R2>0,\"+\",IF(L2*U2+O2*R2=0,\"\",\"–\"))","v":"+"},{"$f":"IF(L2*U2+O2*R2>0,L2*U2+O2*R2,IF(L2*U2+O2*R2=0,\"\",-(L2*U2+O2*R2)))","v":6},"a","–",12,"=","(",{"$f":"RANDBETWEEN(1,5)","v":3},{"$f":"G2","v":"a"},{"$f":"IF(O2>0,\"+\",IF(O2=0,\"\",\"–\"))","v":"–"},{"$f":"IF(Worksheet!$B$8=TRUE,IF(Worksheet!$B$9=TRUE,IF(L2<>1,RANDBETWEEN(0,5),RANDBETWEEN(0,10)),IF(L2<>1,RANDBETWEEN(1,5),RANDBETWEEN(1,10))),IF(Worksheet!$B$9=TRUE,RANDBETWEEN(-5,5),(-1)^RANDBETWEEN(1,2)*RANDBETWEEN(1,5)))","v":-3},")","(",{"$f":"RANDBETWEEN(1,5)","v":2},{"$f":"C2","v":"a"},{"$f":"IF(U2>0,\"+\",IF(U2=0,\"\",\"–\"))","v":"+"},{"$f":"IF(Worksheet!$B$8=TRUE,IF(L2<>1,RANDBETWEEN(1,5),RANDBETWEEN(1,10)),(-1)^RANDBETWEEN(1,2)*RANDBETWEEN(1,5))","v":4},")",{"$f":"IF(I2=\"\",\"\",IF(GCD(IF(B2=\"\",1,B2),IF(F2=\"\",1,F2),I2)<>1,\"***\",\"\"))","v":"***"},{"$f":"IF(ROW()<=Worksheet!$B$7/2,X1+1,\"\")","v":22},{"$f":"IF(AND(AI2=1,AO2=1),\"\",AI2*AO2)","v":9},"x","²",{"$f":"IF(AI2*AR2+AL2*AO2>0,\"+\",IF(AI2*AR2+AL2*AO2=0,\"\",\"–\"))","v":""},{"$f":"IF(AI2*AR2+AL2*AO2>0,AI2*AR2+AL2*AO2,IF(AI2*AR2+AL2*AO2=0,\"\",-(AI2*AR2+AL2*AO2)))","v":""},"x","–",1,"=","(",{"$f":"RANDBETWEEN(1,5)","v":3},{"$f":"AD2","v":"x"},{"$f":"IF(AL2>0,\"+\",IF(AL2=0,\"\",\"–\"))","v":"+"},{"$f":"IF(Worksheet!$B$8=TRUE,IF(Worksheet!$B$9=TRUE,IF(AI2<>1,RANDBETWEEN(0,5),RANDBETWEEN(0,10)),IF(AI2<>1,RANDBETWEEN(1,5),RANDBETWEEN(1,10))),IF(Worksheet!$B$9=TRUE,RANDBETWEEN(-5,5),(-1)^RANDBETWEEN(1,2)*RANDBETWEEN(1,5)))","v":1},")","(",{"$f":"RANDBETWEEN(1,5)","v":3},{"$f":"Z2","v":"x"},{"$f":"IF(AR2>0,\"+\",IF(AR2=0,\"\",\"–\"))","v":"–"},{"$f":"IF(Worksheet!$B$8=TRUE,IF(AI2<>1,RANDBETWEEN(1,5),RANDBETWEEN(1,10)),(-1)^RANDBETWEEN(1,2)*RANDBETWEEN(1,5))","v":-1},")",""]
[{"$f":"IF(ROW()<=Worksheet!$B$7/2,ROW(),\"\")","v":3},"","m","²","+",1,"m","–",12,"=","(",1,"m","–",{"$f":"IF(Worksheet!$B$8=TRUE,IF(Worksheet!$B$9=TRUE,IF(L3<>1,RANDBETWEEN(0,5),RANDBETWEEN(0,10)),IF(L3<>1,RANDBETWEEN(1,5),RANDBETWEEN(1,10))),IF(Worksheet!$B$9=TRUE,RANDBETWEEN(-5,5),(-1)^RANDBETWEEN(1,2)*RANDBETWEEN(1,5)))","v":-3},")","(",1,"m","+",{"$f":"IF(Worksheet!$B$8=TRUE,IF(L3<>1,RANDBETWEEN(1,5),RANDBETWEEN(1,10)),(-1)^RANDBETWEEN(1,2)*RANDBETWEEN(1,5))","v":4},")","",{"$f":"IF(ROW()<=Worksheet!$B$7/2,X2+1,\"\")","v":23},4,"m","²","–",20,"m","+",25,"=","(",2,"m","–",{"$f":"IF(Worksheet!$B$8=TRUE,IF(Worksheet!$B$9=TRUE,IF(AI3<>1,RANDBETWEEN(0,5),RANDBETWEEN(0,10)),IF(AI3<>1,RANDBETWEEN(1,5),RANDBETWEEN(1,10))),IF(Worksheet!$B$9=TRUE,RANDBETWEEN(-5,5),(-1)^RANDBETWEEN(1,2)*RANDBETWEEN(1,5)))","v":-5},")","(",2,"m","–",{"$f":"IF(Worksheet!$B$8=TRUE,IF(AI3<>1,RANDBETWEEN(1,5),RANDBETWEEN(1,10)),(-1)^RANDBETWEEN(1,2)*RANDBETWEEN(1,5))","v":-5},")",""]
[{"$f":"IF(ROW()<=Worksheet!$B$7/2,ROW(),\"\")","v":4},12,"x","²","–",4,"x","–",16,"=","(",4,"x","+",{"$f":"IF(Worksheet!$B$8=TRUE,IF(Worksheet!$B$9=TRUE,IF(L4<>1,RANDBETWEEN(0,5),RANDBETWEEN(0,10)),IF(L4<>1,RANDBETWEEN(1,5),RANDBETWEEN(1,10))),IF(Worksheet!$B$9=TRUE,RANDBETWEEN(-5,5),(-1)^RANDBETWEEN(1,2)*RANDBETWEEN(1,5)))","v":4},")","(",3,"x","–",{"$f":"IF(Worksheet!$B$8=TRUE,IF(L4<>1,RANDBETWEEN(1,5),RANDBETWEEN(1,10)),(-1)^RANDBETWEEN(1,2)*RANDBETWEEN(1,5))","v":-4},")","***",{"$f":"IF(ROW()<=Worksheet!$B$7/2,X3+1,\"\")","v":24},10,"x","²","–",2,"x","–",8,"=","(",2,"x","–",{"$f":"IF(Worksheet!$B$8=TRUE,IF(Worksheet!$B$9=TRUE,IF(AI4<>1,RANDBETWEEN(0,5),RANDBETWEEN(0,10)),IF(AI4<>1,RANDBETWEEN(1,5),RANDBETWEEN(1,10))),IF(Worksheet!$B$9=TRUE,RANDBETWEEN(-5,5),(-1)^RANDBETWEEN(1,2)*RANDBETWEEN(1,5)))","v":-2},")","(",5,"x","+",{"$f":"IF(Worksheet!$B$8=TRUE,IF(AI4<>1,RANDBETWEEN(1,5),RANDBETWEEN(1,10)),(-1)^RANDBETWEEN(1,2)*RANDBETWEEN(1,5))","v":4},")","***"]
[{"$f":"IF(ROW()<=Worksheet!$B$7/2,ROW(),\"\")","v":5},5,"x","²","+",24,"x","–",5,"=","(",5,"x","–",{"$f":"IF(Worksheet!$B$8=TRUE,IF(Worksheet!$B$9=TRUE,IF(L5<>1,RANDBETWEEN(0,5),RANDBETWEEN(0,10)),IF(L5<>1,RANDBETWEEN(1,5),RANDBETWEEN(1,10))),IF(Worksheet!$B$9=TRUE,RANDBETWEEN(-5,5),(-1)^RANDBETWEEN(1,2)*RANDBETWEEN(1,5)))","v":-1},")","(",1,"x","+",{"$f":"IF(Worksheet!$B$8=TRUE,IF(L5<>1,RANDBETWEEN(1,5),RANDBETWEEN(1,10)),(-1)^RANDBETWEEN(1,2)*RANDBETWEEN(1,5))","v":5},")","",{"$f":"IF(ROW()<=Worksheet!$B$7/2,X4+1,\"\")","v":25},20,"x","²","+",2,"x","–",6,"=","(",5,"x","+",{"$f":"IF(Worksheet!$B$8=TRUE,IF(Worksheet!$B$9=TRUE,IF(AI5<>1,RANDBETWEEN(0,5),RANDBETWEEN(0,10)),IF(AI5<>1,RANDBETWEEN(1,5),RANDBETWEEN(1,10))),IF(Worksheet!$B$9=TRUE,RANDBETWEEN(-5,5),(-1)^RANDBETWEEN(1,2)*RANDBETWEEN(1,5)))","v":3},")","(",4,"x","–",{"$f":"IF(Worksheet!$B$8=TRUE,IF(AI5<>1,RANDBETWEEN(1,5),RANDBETWEEN(1,10)),(-1)^RANDBETWEEN(1,2)*RANDBETWEEN(1,5))","v":-2},")","***"]
[{"$f":"IF(ROW()<=Worksheet!$B$7/2,ROW(),\"\")","v":6},12,"x","²","+",3,"x","","","=","(",3,"x","",{"$f":"IF(Worksheet!$B$8=TRUE,IF(Worksheet!$B$9=TRUE,IF(L6<>1,RANDBETWEEN(0,5),RANDBETWEEN(0,10)),IF(L6<>1,RANDBETWEEN(1,5),RANDBETWEEN(1,10))),IF(Worksheet!$B$9=TRUE,RANDBETWEEN(-5,5),(-1)^RANDBETWEEN(1,2)*RANDBETWEEN(1,5)))","v":0},")","(",4,"x","+",{"$f":"IF(Worksheet!$B$8=TRUE,IF(L6<>1,RANDBETWEEN(1,5),RANDBETWEEN(1,10)),(-1)^RANDBETWEEN(1,2)*RANDBETWEEN(1,5))","v":1},")","",{"$f":"IF(ROW()<=Worksheet!$B$7/2,X5+1,\"\")","v":26},3,"k","²","–",9,"k","+",6,"=","(",3,"k","–",{"$f":"IF(Worksheet!$B$8=TRUE,IF(Worksheet!$B$9=TRUE,IF(AI6<>1,RANDBETWEEN(0,5),RANDBETWEEN(0,10)),IF(AI6<>1,RANDBETWEEN(1,5),RANDBETWEEN(1,10))),IF(Worksheet!$B$9=TRUE,RANDBETWEEN(-5,5),(-1)^RANDBETWEEN(1,2)*RANDBETWEEN(1,5)))","v":-3},")","(",1,"k","–",{"$f":"IF(Worksheet!$B$8=TRUE,IF(AI6<>1,RANDBETWEEN(1,5),RANDBETWEEN(1,10)),(-1)^RANDBETWEEN(1,2)*RANDBETWEEN(1,5))","v":-2},")","***"]
[{"$f":"IF(ROW()<=Worksheet!$B$7/2,ROW(),\"\")","v":7},6,"a","²","+",22,"a","+",20,"=","(",3,"a","+",{"$f":"IF(Worksheet!$B$8=TRUE,IF(Worksheet!$B$9=TRUE,IF(L7<>1,RANDBETWEEN(0,5),RANDBETWEEN(0,10)),IF(L7<>1,RANDBETWEEN(1,5),RANDBETWEEN(1,10))),IF(Worksheet!$B$9=TRUE,RANDBETWEEN(-5,5),(-1)^RANDBETWEEN(1,2)*RANDBETWEEN(1,5)))","v":5},")","(",2,"a","+",{"$f":"IF(Worksheet!$B$8=TRUE,IF(L7<>1,RANDBETWEEN(1,5),RANDBETWEEN(1,10)),(-1)^RANDBETWEEN(1,2)*RANDBETWEEN(1,5))","v":4},")","***",{"$f":"IF(ROW()<=Worksheet!$B$7/2,X6+1,\"\")","v":27},12,"s","²","+",7,"s","+",1,"=","(",4,"s","+",{"$f":"IF(Worksheet!$B$8=TRUE,IF(Worksheet!$B$9=TRUE,IF(AI7<>1,RANDBETWEEN(0,5),RANDBETWEEN(0,10)),IF(AI7<>1,RANDBETWEEN(1,5),RANDBETWEEN(1,10))),IF(Worksheet!$B$9=TRUE,RANDBETWEEN(-5,5),(-1)^RANDBETWEEN(1,2)*RANDBETWEEN(1,5)))","v":1},")","(",3,"s","+",{"$f":"IF(Worksheet!$B$8=TRUE,IF(AI7<>1,RANDBETWEEN(1,5),RANDBETWEEN(1,10)),(-1)^RANDBETWEEN(1,2)*RANDBETWEEN(1,5))","v":1},")",""]
[{"$f":"IF(ROW()<=Worksheet!$B$7/2,ROW(),\"\")","v":8},20,"x","²","–",21,"x","+",4,"=","(",5,"x","–",{"$f":"IF(Worksheet!$B$8=TRUE,IF(Worksheet!$B$9=TRUE,IF(L8<>1,RANDBETWEEN(0,5),RANDBETWEEN(0,10)),IF(L8<>1,RANDBETWEEN(1,5),RANDBETWEEN(1,10))),IF(Worksheet!$B$9=TRUE,RANDBETWEEN(-5,5),(-1)^RANDBETWEEN(1,2)*RANDBETWEEN(1,5)))","v":-4},")","(",4,"x","–",{"$f":"IF(Worksheet!$B$8=TRUE,IF(L8<>1,RANDBETWEEN(1,5),RANDBETWEEN(1,10)),(-1)^RANDBETWEEN(1,2)*RANDBETWEEN(1,5))","v":-1},")","",{"$f":"IF(ROW()<=Worksheet!$B$7/2,X7+1,\"\")","v":28},9,"a","²","–",6,"a","–",3,"=","(",3,"a","+",{"$f":"IF(Worksheet!$B$8=TRUE,IF(Worksheet!$B$9=TRUE,IF(AI8<>1,RANDBETWEEN(0,5),RANDBETWEEN(0,10)),IF(AI8<>1,RANDBETWEEN(1,5),RANDBETWEEN(1,10))),IF(Worksheet!$B$9=TRUE,RANDBETWEEN(-5,5),(-1)^RANDBETWEEN(1,2)*RANDBETWEEN(1,5)))","v":1},")","(",3,"a","–",{"$f":"IF(Worksheet!$B$8=TRUE,IF(AI8<>1,RANDBETWEEN(1,5),RANDBETWEEN(1,10)),(-1)^RANDBETWEEN(1,2)*RANDBETWEEN(1,5))","v":-3},")","***"]
[{"$f":"IF(ROW()<=Worksheet!$B$7/2,ROW(),\"\")","v":9},"","m","²","","","m","–",16,"=","(",1,"m","+",{"$f":"IF(Worksheet!$B$8=TRUE,IF(Worksheet!$B$9=TRUE,IF(L9<>1,RANDBETWEEN(0,5),RANDBETWEEN(0,10)),IF(L9<>1,RANDBETWEEN(1,5),RANDBETWEEN(1,10))),IF(Worksheet!$B$9=TRUE,RANDBETWEEN(-5,5),(-1)^RANDBETWEEN(1,2)*RANDBETWEEN(1,5)))","v":4},")","(",1,"m","–",{"$f":"IF(Worksheet!$B$8=TRUE,IF(L9<>1,RANDBETWEEN(1,5),RANDBETWEEN(1,10)),(-1)^RANDBETWEEN(1,2)*RANDBETWEEN(1,5))","v":-4},")","",{"$f":"IF(ROW()<=Worksheet!$B$7/2,X8+1,\"\")","v":29},4,"a","²","+",8,"a","+",3,"=","(",2,"a","+",{"$f":"IF(Worksheet!$B$8=TRUE,IF(Worksheet!$B$9=TRUE,IF(AI9<>1,RANDBETWEEN(0,5),RANDBETWEEN(0,10)),IF(AI9<>1,RANDBETWEEN(1,5),RANDBETWEEN(1,10))),IF(Worksheet!$B$9=TRUE,RANDBETWEEN(-5,5),(-1)^RANDBETWEEN(1,2)*RANDBETWEEN(1,5)))","v":3},")","(",2,"a","+",{"$f":"IF(Worksheet!$B$8=TRUE,IF(AI9<>1,RANDBETWEEN(1,5),RANDBETWEEN(1,10)),(-1)^RANDBETWEEN(1,2)*RANDBETWEEN(1,5))","v":1},")",""]
[{"$f":"IF(ROW()<=Worksheet!$B$7/2,ROW(),\"\")","v":10},2,"x","²","+",1,"x","–",3,"=","(",1,"x","–",{"$f":"IF(Worksheet!$B$8=TRUE,IF(Worksheet!$B$9=TRUE,IF(L10<>1,RANDBETWEEN(0,5),RANDBETWEEN(0,10)),IF(L10<>1,RANDBETWEEN(1,5),RANDBETWEEN(1,10))),IF(Worksheet!$B$9=TRUE,RANDBETWEEN(-5,5),(-1)^RANDBETWEEN(1,2)*RANDBETWEEN(1,5)))","v":-1},")","(",2,"x","+",{"$f":"IF(Worksheet!$B$8=TRUE,IF(L10<>1,RANDBETWEEN(1,5),RANDBETWEEN(1,10)),(-1)^RANDBETWEEN(1,2)*RANDBETWEEN(1,5))","v":3},")","",{"$f":"IF(ROW()<=Worksheet!$B$7/2,X9+1,\"\")","v":30},8,"y","²","–",14,"y","–",4,"=","(",4,"y","+",{"$f":"IF(Worksheet!$B$8=TRUE,IF(Worksheet!$B$9=TRUE,IF(AI10<>1,RANDBETWEEN(0,5),RANDBETWEEN(0,10)),IF(AI10<>1,RANDBETWEEN(1,5),RANDBETWEEN(1,10))),IF(Worksheet!$B$9=TRUE,RANDBETWEEN(-5,5),(-1)^RANDBETWEEN(1,2)*RANDBETWEEN(1,5)))","v":1},")","(",2,"y","–",{"$f":"IF(Worksheet!$B$8=TRUE,IF(AI10<>1,RANDBETWEEN(1,5),RANDBETWEEN(1,10)),(-1)^RANDBETWEEN(1,2)*RANDBETWEEN(1,5))","v":-4},")","***"]
[{"$f":"IF(ROW()<=Worksheet!$B$7/2,ROW(),\"\")","v":11},4,"a","²","+",10,"a","–",6,"=","(",4,"a","–",{"$f":"IF(Worksheet!$B$8=TRUE,IF(Worksheet!$B$9=TRUE,IF(L11<>1,RANDBETWEEN(0,5),RANDBETWEEN(0,10)),IF(L11<>1,RANDBETWEEN(1,5),RANDBETWEEN(1,10))),IF(Worksheet!$B$9=TRUE,RANDBETWEEN(-5,5),(-1)^RANDBETWEEN(1,2)*RANDBETWEEN(1,5)))","v":-2},")","(",1,"a","+",{"$f":"IF(Worksheet!$B$8=TRUE,IF(L11<>1,RANDBETWEEN(1,5),RANDBETWEEN(1,10)),(-1)^RANDBETWEEN(1,2)*RANDBETWEEN(1,5))","v":3},")","***",{"$f":"IF(ROW()<=Worksheet!$B$7/2,X10+1,\"\")","v":31},6,"x","²","+",11,"x","–",10,"=","(",3,"x","–",{"$f":"IF(Worksheet!$B$8=TRUE,IF(Worksheet!$B$9=TRUE,IF(AI11<>1,RANDBETWEEN(0,5),RANDBETWEEN(0,10)),IF(AI11<>1,RANDBETWEEN(1,5),RANDBETWEEN(1,10))),IF(Worksheet!$B$9=TRUE,RANDBETWEEN(-5,5),(-1)^RANDBETWEEN(1,2)*RANDBETWEEN(1,5)))","v":-2},")","(",2,"x","+",{"$f":"IF(Worksheet!$B$8=TRUE,IF(AI11<>1,RANDBETWEEN(1,5),RANDBETWEEN(1,10)),(-1)^RANDBETWEEN(1,2)*RANDBETWEEN(1,5))","v":5},")",""]
[{"$f":"IF(ROW()<=Worksheet!$B$7/2,ROW(),\"\")","v":12},3,"s","²","–",7,"s","–",20,"=","(",1,"s","–",{"$f":"IF(Worksheet!$B$8=TRUE,IF(Worksheet!$B$9=TRUE,IF(L12<>1,RANDBETWEEN(0,5),RANDBETWEEN(0,10)),IF(L12<>1,RANDBETWEEN(1,5),RANDBETWEEN(1,10))),IF(Worksheet!$B$9=TRUE,RANDBETWEEN(-5,5),(-1)^RANDBETWEEN(1,2)*RANDBETWEEN(1,5)))","v":-4},")","(",3,"s","+",{"$f":"IF(Worksheet!$B$8=TRUE,IF(L12<>1,RANDBETWEEN(1,5),RANDBETWEEN(1,10)),(-1)^RANDBETWEEN(1,2)*RANDBETWEEN(1,5))","v":5},")","",{"$f":"IF(ROW()<=Worksheet!$B$7/2,X11+1,\"\")","v":32},12,"s","²","+",32,"s","+",20,"=","(",4,"s","+",{"$f":"IF(Worksheet!$B$8=TRUE,IF(Worksheet!$B$9=TRUE,IF(AI12<>1,RANDBETWEEN(0,5),RANDBETWEEN(0,10)),IF(AI12<>1,RANDBETWEEN(1,5),RANDBETWEEN(1,10))),IF(Worksheet!$B$9=TRUE,RANDBETWEEN(-5,5),(-1)^RANDBETWEEN(1,2)*RANDBETWEEN(1,5)))","v":4},")","(",3,"s","+",{"$f":"IF(Worksheet!$B$8=TRUE,IF(AI12<>1,RANDBETWEEN(1,5),RANDBETWEEN(1,10)),(-1)^RANDBETWEEN(1,2)*RANDBETWEEN(1,5))","v":5},")","***"]
[{"$f":"IF(ROW()<=Worksheet!$B$7/2,ROW(),\"\")","v":13},15,"s","²","+",9,"s","–",6,"=","(",5,"s","–",{"$f":"IF(Worksheet!$B$8=TRUE,IF(Worksheet!$B$9=TRUE,IF(L13<>1,RANDBETWEEN(0,5),RANDBETWEEN(0,10)),IF(L13<>1,RANDBETWEEN(1,5),RANDBETWEEN(1,10))),IF(Worksheet!$B$9=TRUE,RANDBETWEEN(-5,5),(-1)^RANDBETWEEN(1,2)*RANDBETWEEN(1,5)))","v":-2},")","(",3,"s","+",{"$f":"IF(Worksheet!$B$8=TRUE,IF(L13<>1,RANDBETWEEN(1,5),RANDBETWEEN(1,10)),(-1)^RANDBETWEEN(1,2)*RANDBETWEEN(1,5))","v":3},")","***",{"$f":"IF(ROW()<=Worksheet!$B$7/2,X12+1,\"\")","v":33},25,"a","²","–",5,"a","–",20,"=","(",5,"a","–",{"$f":"IF(Worksheet!$B$8=TRUE,IF(Worksheet!$B$9=TRUE,IF(AI13<>1,RANDBETWEEN(0,5),RANDBETWEEN(0,10)),IF(AI13<>1,RANDBETWEEN(1,5),RANDBETWEEN(1,10))),IF(Worksheet!$B$9=TRUE,RANDBETWEEN(-5,5),(-1)^RANDBETWEEN(1,2)*RANDBETWEEN(1,5)))","v":-5},")","(",5,"a","+",{"$f":"IF(Worksheet!$B$8=TRUE,IF(AI13<>1,RANDBETWEEN(1,5),RANDBETWEEN(1,10)),(-1)^RANDBETWEEN(1,2)*RANDBETWEEN(1,5))","v":4},")","***"]
[{"$f":"IF(ROW()<=Worksheet!$B$7/2,ROW(),\"\")","v":14},"","x","²","+",6,"x","+",9,"=","(",1,"x","+",{"$f":"IF(Worksheet!$B$8=TRUE,IF(Worksheet!$B$9=TRUE,IF(L14<>1,RANDBETWEEN(0,5),RANDBETWEEN(0,10)),IF(L14<>1,RANDBETWEEN(1,5),RANDBETWEEN(1,10))),IF(Worksheet!$B$9=TRUE,RANDBETWEEN(-5,5),(-1)^RANDBETWEEN(1,2)*RANDBETWEEN(1,5)))","v":3},")","(",1,"x","+",{"$f":"IF(Worksheet!$B$8=TRUE,IF(L14<>1,RANDBETWEEN(1,5),RANDBETWEEN(1,10)),(-1)^RANDBETWEEN(1,2)*RANDBETWEEN(1,5))","v":3},")","",{"$f":"IF(ROW()<=Worksheet!$B$7/2,X13+1,\"\")","v":34},15,"y","²","–",18,"y","+",3,"=","(",5,"y","–",{"$f":"IF(Worksheet!$B$8=TRUE,IF(Worksheet!$B$9=TRUE,IF(AI14<>1,RANDBETWEEN(0,5),RANDBETWEEN(0,10)),IF(AI14<>1,RANDBETWEEN(1,5),RANDBETWEEN(1,10))),IF(Worksheet!$B$9=TRUE,RANDBETWEEN(-5,5),(-1)^RANDBETWEEN(1,2)*RANDBETWEEN(1,5)))","v":-1},")","(",3,"y","–",{"$f":"IF(Worksheet!$B$8=TRUE,IF(AI14<>1,RANDBETWEEN(1,5),RANDBETWEEN(1,10)),(-1)^RANDBETWEEN(1,2)*RANDBETWEEN(1,5))","v":-3},")","***"]
[{"$f":"IF(ROW()<=Worksheet!$B$7/2,ROW(),\"\")","v":15},12,"z","²","+",28,"z","+",16,"=","(",3,"z","+",{"$f":"IF(Worksheet!$B$8=TRUE,IF(Worksheet!$B$9=TRUE,IF(L15<>1,RANDBETWEEN(0,5),RANDBETWEEN(0,10)),IF(L15<>1,RANDBETWEEN(1,5),RANDBETWEEN(1,10))),IF(Worksheet!$B$9=TRUE,RANDBETWEEN(-5,5),(-1)^RANDBETWEEN(1,2)*RANDBETWEEN(1,5)))","v":4},")","(",4,"z","+",{"$f":"IF(Worksheet!$B$8=TRUE,IF(L15<>1,RANDBETWEEN(1,5),RANDBETWEEN(1,10)),(-1)^RANDBETWEEN(1,2)*RANDBETWEEN(1,5))","v":4},")","***",{"$f":"IF(ROW()<=Worksheet!$B$7/2,X14+1,\"\")","v":35},20,"a","²","–",1,"a","–",1,"=","(",5,"a","+",{"$f":"IF(Worksheet!$B$8=TRUE,IF(Worksheet!$B$9=TRUE,IF(AI15<>1,RANDBETWEEN(0,5),RANDBETWEEN(0,10)),IF(AI15<>1,RANDBETWEEN(1,5),RANDBETWEEN(1,10))),IF(Worksheet!$B$9=TRUE,RANDBETWEEN(-5,5),(-1)^RANDBETWEEN(1,2)*RANDBETWEEN(1,5)))","v":1},")","(",4,"a","–",{"$f":"IF(Worksheet!$B$8=TRUE,IF(AI15<>1,RANDBETWEEN(1,5),RANDBETWEEN(1,10)),(-1)^RANDBETWEEN(1,2)*RANDBETWEEN(1,5))","v":-1},")",""]
[{"$f":"IF(ROW()<=Worksheet!$B$7/2,ROW(),\"\")","v":16},16,"a","²","+",20,"a","+",6,"=","(",4,"a","+",{"$f":"IF(Worksheet!$B$8=TRUE,IF(Worksheet!$B$9=TRUE,IF(L16<>1,RANDBETWEEN(0,5),RANDBETWEEN(0,10)),IF(L16<>1,RANDBETWEEN(1,5),RANDBETWEEN(1,10))),IF(Worksheet!$B$9=TRUE,RANDBETWEEN(-5,5),(-1)^RANDBETWEEN(1,2)*RANDBETWEEN(1,5)))","v":3},")","(",4,"a","+",{"$f":"IF(Worksheet!$B$8=TRUE,IF(L16<>1,RANDBETWEEN(1,5),RANDBETWEEN(1,10)),(-1)^RANDBETWEEN(1,2)*RANDBETWEEN(1,5))","v":2},")","***",{"$f":"IF(ROW()<=Worksheet!$B$7/2,X15+1,\"\")","v":36},12,"b","²","–",23,"b","+",5,"=","(",3,"b","–",{"$f":"IF(Worksheet!$B$8=TRUE,IF(Worksheet!$B$9=TRUE,IF(AI16<>1,RANDBETWEEN(0,5),RANDBETWEEN(0,10)),IF(AI16<>1,RANDBETWEEN(1,5),RANDBETWEEN(1,10))),IF(Worksheet!$B$9=TRUE,RANDBETWEEN(-5,5),(-1)^RANDBETWEEN(1,2)*RANDBETWEEN(1,5)))","v":-5},")","(",4,"b","–",{"$f":"IF(Worksheet!$B$8=TRUE,IF(AI16<>1,RANDBETWEEN(1,5),RANDBETWEEN(1,10)),(-1)^RANDBETWEEN(1,2)*RANDBETWEEN(1,5))","v":-1},")",""]
[{"$f":"IF(ROW()<=Worksheet!$B$7/2,ROW(),\"\")","v":17},15,"s","²","+",26,"s","+",8,"=","(",3,"s","+",{"$f":"IF(Worksheet!$B$8=TRUE,IF(Worksheet!$B$9=TRUE,IF(L17<>1,RANDBETWEEN(0,5),RANDBETWEEN(0,10)),IF(L17<>1,RANDBETWEEN(1,5),RANDBETWEEN(1,10))),IF(Worksheet!$B$9=TRUE,RANDBETWEEN(-5,5),(-1)^RANDBETWEEN(1,2)*RANDBETWEEN(1,5)))","v":4},")","(",5,"s","+",{"$f":"IF(Worksheet!$B$8=TRUE,IF(L17<>1,RANDBETWEEN(1,5),RANDBETWEEN(1,10)),(-1)^RANDBETWEEN(1,2)*RANDBETWEEN(1,5))","v":2},")","",{"$f":"IF(ROW()<=Worksheet!$B$7/2,X16+1,\"\")","v":37},12,"z","²","–",20,"z","+",8,"=","(",3,"z","–",{"$f":"IF(Worksheet!$B$8=TRUE,IF(Worksheet!$B$9=TRUE,IF(AI17<>1,RANDBETWEEN(0,5),RANDBETWEEN(0,10)),IF(AI17<>1,RANDBETWEEN(1,5),RANDBETWEEN(1,10))),IF(Worksheet!$B$9=TRUE,RANDBETWEEN(-5,5),(-1)^RANDBETWEEN(1,2)*RANDBETWEEN(1,5)))","v":-2},")","(",4,"z","–",{"$f":"IF(Worksheet!$B$8=TRUE,IF(AI17<>1,RANDBETWEEN(1,5),RANDBETWEEN(1,10)),(-1)^RANDBETWEEN(1,2)*RANDBETWEEN(1,5))","v":-4},")","***"]
[{"$f":"IF(ROW()<=Worksheet!$B$7/2,ROW(),\"\")","v":18},6,"a","²","–",7,"a","–",3,"=","(",2,"a","–",{"$f":"IF(Worksheet!$B$8=TRUE,IF(Worksheet!$B$9=TRUE,IF(L18<>1,RANDBETWEEN(0,5),RANDBETWEEN(0,10)),IF(L18<>1,RANDBETWEEN(1,5),RANDBETWEEN(1,10))),IF(Worksheet!$B$9=TRUE,RANDBETWEEN(-5,5),(-1)^RANDBETWEEN(1,2)*RANDBETWEEN(1,5)))","v":-3},")","(",3,"a","+",{"$f":"IF(Worksheet!$B$8=TRUE,IF(L18<>1,RANDBETWEEN(1,5),RANDBETWEEN(1,10)),(-1)^RANDBETWEEN(1,2)*RANDBETWEEN(1,5))","v":1},")","",{"$f":"IF(ROW()<=Worksheet!$B$7/2,X17+1,\"\")","v":38},12,"b","²","–",7,"b","+",1,"=","(",4,"b","–",{"$f":"IF(Worksheet!$B$8=TRUE,IF(Worksheet!$B$9=TRUE,IF(AI18<>1,RANDBETWEEN(0,5),RANDBETWEEN(0,10)),IF(AI18<>1,RANDBETWEEN(1,5),RANDBETWEEN(1,10))),IF(Worksheet!$B$9=TRUE,RANDBETWEEN(-5,5),(-1)^RANDBETWEEN(1,2)*RANDBETWEEN(1,5)))","v":-1},")","(",3,"b","–",{"$f":"IF(Worksheet!$B$8=TRUE,IF(AI18<>1,RANDBETWEEN(1,5),RANDBETWEEN(1,10)),(-1)^RANDBETWEEN(1,2)*RANDBETWEEN(1,5))","v":-1},")",""]
[{"$f":"IF(ROW()<=Worksheet!$B$7/2,ROW(),\"\")","v":19},4,"z","²","+",21,"z","+",20,"=","(",1,"z","+",{"$f":"IF(Worksheet!$B$8=TRUE,IF(Worksheet!$B$9=TRUE,IF(L19<>1,RANDBETWEEN(0,5),RANDBETWEEN(0,10)),IF(L19<>1,RANDBETWEEN(1,5),RANDBETWEEN(1,10))),IF(Worksheet!$B$9=TRUE,RANDBETWEEN(-5,5),(-1)^RANDBETWEEN(1,2)*RANDBETWEEN(1,5)))","v":4},")","(",4,"z","+",{"$f":"IF(Worksheet!$B$8=TRUE,IF(L19<>1,RANDBETWEEN(1,5),RANDBETWEEN(1,10)),(-1)^RANDBETWEEN(1,2)*RANDBETWEEN(1,5))","v":5},")","",{"$f":"IF(ROW()<=Worksheet!$B$7/2,X18+1,\"\")","v":39},12,"y","²","–",4,"y","–",8,"=","(",4,"y","–",{"$f":"IF(Worksheet!$B$8=TRUE,IF(Worksheet!$B$9=TRUE,IF(AI19<>1,RANDBETWEEN(0,5),RANDBETWEEN(0,10)),IF(AI19<>1,RANDBETWEEN(1,5),RANDBETWEEN(1,10))),IF(Worksheet!$B$9=TRUE,RANDBETWEEN(-5,5),(-1)^RANDBETWEEN(1,2)*RANDBETWEEN(1,5)))","v":-4},")","(",3,"y","+",{"$f":"IF(Worksheet!$B$8=TRUE,IF(AI19<>1,RANDBETWEEN(1,5),RANDBETWEEN(1,10)),(-1)^RANDBETWEEN(1,2)*RANDBETWEEN(1,5))","v":2},")","***"]
[{"$f":"IF(ROW()<=Worksheet!$B$7/2,ROW(),\"\")","v":20},5,"x","²","–",28,"x","+",15,"=","(",5,"x","–",{"$f":"IF(Worksheet!$B$8=TRUE,IF(Worksheet!$B$9=TRUE,IF(L20<>1,RANDBETWEEN(0,5),RANDBETWEEN(0,10)),IF(L20<>1,RANDBETWEEN(1,5),RANDBETWEEN(1,10))),IF(Worksheet!$B$9=TRUE,RANDBETWEEN(-5,5),(-1)^RANDBETWEEN(1,2)*RANDBETWEEN(1,5)))","v":-3},")","(",1,"x","–",{"$f":"IF(Worksheet!$B$8=TRUE,IF(L20<>1,RANDBETWEEN(1,5),RANDBETWEEN(1,10)),(-1)^RANDBETWEEN(1,2)*RANDBETWEEN(1,5))","v":-5},")","",{"$f":"IF(ROW()<=Worksheet!$B$7/2,X19+1,\"\")","v":40},10,"x","²","–",3,"x","–",1,"=","(",5,"x","+",{"$f":"IF(Worksheet!$B$8=TRUE,IF(Worksheet!$B$9=TRUE,IF(AI20<>1,RANDBETWEEN(0,5),RANDBETWEEN(0,10)),IF(AI20<>1,RANDBETWEEN(1,5),RANDBETWEEN(1,10))),IF(Worksheet!$B$9=TRUE,RANDBETWEEN(-5,5),(-1)^RANDBETWEEN(1,2)*RANDBETWEEN(1,5)))","v":1},")","(",2,"x","–",{"$f":"IF(Worksheet!$B$8=TRUE,IF(AI20<>1,RANDBETWEEN(1,5),RANDBETWEEN(1,10)),(-1)^RANDBETWEEN(1,2)*RANDBETWEEN(1,5))","v":-1},")",""]