{"text_format":"1","workbook":"xlsx","n_sheets":2,"sheets":["Worksheet","SYSTEM FORMULAE"],"not_rendered":{"charts":0,"images":0,"macros":1,"external_links":0,"defined_names":2,"comments":0,"pivot_tables":0},"unopened":[],"bounds":{"document_bytes":16777216,"sheet_cells":100000,"rows_first":2000,"rows_last":500,"rows_between":2000,"halvings":0,"cell_chars":16384,"cell_head_chars":4096},"cells_cut":0,"cells_raw":0,"read":"whole","date_system":"1900"}

{"sheet":"Worksheet","index":0,"n_rows":49,"n_cols":24,"rows_kept":49,"cut":false,"hidden":false,"merged":[[1,0,1,1],[3,0,3,1],[0,2,0,22],[8,0,8,1],[12,0,12,1]]}
[null,null,"Evaluate these quadratic expressions"]
["Variables",null,1,"Evaluate",null,null,3,"(","w","+",2,")²","–",1,null,"when","w","=","",4,null,"",35,2]
["SHOW ANSWERS",false,2,"Evaluate","(",1,"r","+",1,")(",1,"r","+",2,")","when","r","=","",2,null,"",12,3]
["Restrictions on questions",null,3,"Evaluate","(",1,"e","+",1,")(",2,"e","–",2,")","when","e","=","",3,null,"",16,3]
["Maximum (absolute) value of variable",5,4,"Evaluate",null,null,1,"a","²","–",1,"a","+",3,null,"when","a","=","",5,null,"",23,1]
["Maximum (absolute) values of coefficients",3,5,"Evaluate",null,null,1,"g","²","+",2,"g","+",1,null,"when","g","=","",1,null,"",4,1]
["Allow negative values of variable",false,6,"Evaluate",null,null,2,"s","²","–",2,"s","–",1,null,"when","s","=","",1,null,"–",1,1]
[null,null,7,"Evaluate","(",2,"g","+",1,")(",1,"g","+",1,")","when","g","=","",2,null,"",15,3]
["Forms of expressions",null,8,"Evaluate","(",1,"d","–",2,")(",1,"d","+",2,")","when","d","=","",2,null,"",0,3]
["ax² + bx + c",true,9,"Evaluate",null,null,2,"a","²","–",2,"a","+",1,null,"when","a","=","",1,null,"",1,1]
["a(x + b)² + c",true,10,"Evaluate",null,null,3,"(","f","+",1,")²","+",3,null,"when","f","=","",3,null,"",19,2]
["(x + a)(x + b)",true,11,"Evaluate",null,null,3,"k","²","",0,"k","+",3,null,"when","k","=","",3,null,"",30,1]
[{"$f":"IF(AND(NOT(B10),NOT(B11),NOT(B12)),\"YOU MUST SELECT AT LEAST ONE!\",\"\")","v":""},null,12,"Evaluate","(",1,"u","+",1,")(",3,"u","–",2,")","when","u","=","",4,null,"",50,3]
[null,null,13,"Evaluate",null,null,1,"(","k","+",2,")²","+",2,null,"when","k","=","",3,null,"",27,2]
[null,null,14,"Evaluate",null,null,1,"(","n","+",3,")²","–",3,null,"when","n","=","",5,null,"",61,2]
[null,null,15,"Evaluate","(",3,"s","+",3,")(",1,"s","+",1,")","when","s","=","",5,null,"",108,3]
[null,null,16,"Evaluate","(",1,"p","–",3,")(",3,"p","+",3,")","when","p","=","",4,null,"",15,3]
[null,null,17,"Evaluate","(",1,"m","+",3,")(",2,"m","+",2,")","when","m","=","",4,null,"",70,3]
[null,null,18,"Evaluate",null,null,2,"(","a","+",2,")²","–",2,null,"when","a","=","",4,null,"",34,2]
[null,null,19,"Evaluate",null,null,2,"u","²","+",3,"u","+",3,null,"when","u","=","",1,null,"",8,1]
[null,null,20,"Evaluate","(",1,"r","–",3,")(",2,"r","+",3,")","when","r","=","",1,null,"–",10,3]
[]
[]
[]
[]
[]
[]
[]
[]
[]
[]
[]
[]
[]
[]
[]
[]
[]
[]
[]
[]
[]
[]
[]
[]
[]
[]
[]
[null,{"$f":"COUNTIF(B10:B12,TRUE)","v":3}]

{"sheet":"SYSTEM FORMULAE","index":1,"n_rows":60,"n_cols":23,"rows_kept":60,"cut":false,"hidden":false,"merged":[]}
["Evaluate",null,null,{"$f":"RANDBETWEEN(1,Worksheet!$B$6)","v":1},"(",{"$f":"CHOOSE(RANDBETWEEN(1,20),\"z\",\"y\",\"x\",\"w\",\"u\",\"a\",\"b\",\"c\",\"d\",\"e\",\"f\",\"g\",\"h\",\"j\",\"k\",\"m\",\"n\",\"p\",\"r\",\"s\")","v":"c"},{"$f":"IF(H1<0,\"–\",\"+\")","v":"+"},{"$f":"RANDBETWEEN(1,Worksheet!$B$6)*(-1)^RANDBETWEEN(1,2)","v":1},")²",{"$f":"IF(K1<0,\"–\",\"+\")","v":"+"},{"$f":"RANDBETWEEN(1,Worksheet!$B$6)*(-1)^RANDBETWEEN(1,2)","v":1},null,"when",{"$f":"F1","v":"c"},"=",{"$f":"IF(Q1<0,\"–\",\"\")","v":""},{"$f":"RANDBETWEEN(1,Worksheet!$B$5)*(-1)^RANDBETWEEN(IF(Worksheet!$B$7,1,2),2)","v":4},null,{"$f":"IF(T1<0,\"–\",\"\")","v":""},{"$f":"(Q1+H1)^2+K1","v":26},2,null,{"$f":"IF(Worksheet!B$11,RAND(),\"\")","v":0.20957636454524731}]
["Evaluate","(",{"$f":"RANDBETWEEN(1,Worksheet!$B$6)","v":2},{"$f":"CHOOSE(RANDBETWEEN(1,20),\"z\",\"y\",\"x\",\"w\",\"u\",\"a\",\"b\",\"c\",\"d\",\"e\",\"f\",\"g\",\"h\",\"j\",\"k\",\"m\",\"n\",\"p\",\"r\",\"s\")","v":"n"},{"$f":"IF(F2<0,\"–\",\"+\")","v":"+"},{"$f":"RANDBETWEEN(1,Worksheet!$B$6)*(-1)^RANDBETWEEN(1,2)","v":2},")(",{"$f":"RANDBETWEEN(1,Worksheet!$B$6)","v":3},{"$f":"D2","v":"n"},{"$f":"IF(K2<0,\"–\",\"+\")","v":"–"},{"$f":"RANDBETWEEN(1,Worksheet!$B$6)*(-1)^RANDBETWEEN(1,2)","v":-3},")","when",{"$f":"I2","v":"n"},"=",{"$f":"IF(Q2<0,\"–\",\"\")","v":""},{"$f":"RANDBETWEEN(1,Worksheet!$B$5)*(-1)^RANDBETWEEN(IF(Worksheet!$B$7,1,2),2)","v":4},null,{"$f":"IF(T2<0,\"–\",\"\")","v":""},{"$f":"(C2*Q2+F2)*(H2*Q2+K2)","v":90},3,null,{"$f":"IF(Worksheet!B$12,RAND(),\"\")","v":0.90437561829078994}]
["Evaluate","(",{"$f":"RANDBETWEEN(1,Worksheet!$B$6)","v":2},{"$f":"CHOOSE(RANDBETWEEN(1,20),\"z\",\"y\",\"x\",\"w\",\"u\",\"a\",\"b\",\"c\",\"d\",\"e\",\"f\",\"g\",\"h\",\"j\",\"k\",\"m\",\"n\",\"p\",\"r\",\"s\")","v":"c"},{"$f":"IF(F3<0,\"–\",\"+\")","v":"–"},{"$f":"RANDBETWEEN(1,Worksheet!$B$6)*(-1)^RANDBETWEEN(1,2)","v":-3},")(",{"$f":"RANDBETWEEN(1,Worksheet!$B$6)","v":1},{"$f":"D3","v":"c"},{"$f":"IF(K3<0,\"–\",\"+\")","v":"+"},{"$f":"RANDBETWEEN(1,Worksheet!$B$6)*(-1)^RANDBETWEEN(1,2)","v":2},")","when",{"$f":"I3","v":"c"},"=",{"$f":"IF(Q3<0,\"–\",\"\")","v":""},{"$f":"RANDBETWEEN(1,Worksheet!$B$5)*(-1)^RANDBETWEEN(IF(Worksheet!$B$7,1,2),2)","v":2},null,{"$f":"IF(T3<0,\"–\",\"\")","v":""},{"$f":"(C3*Q3+F3)*(H3*Q3+K3)","v":4},3,null,{"$f":"IF(Worksheet!B$12,RAND(),\"\")","v":0.81902289959439212}]
["Evaluate",null,null,{"$f":"RANDBETWEEN(1,Worksheet!$B$6)","v":2},{"$f":"CHOOSE(RANDBETWEEN(1,20),\"z\",\"y\",\"x\",\"w\",\"u\",\"a\",\"b\",\"c\",\"d\",\"e\",\"f\",\"g\",\"h\",\"j\",\"k\",\"m\",\"n\",\"p\",\"r\",\"s\")","v":"n"},"²",{"$f":"IF(H4<0,\"–\",IF(H4=0,\"\",\"+\"))","v":"+"},{"$f":"RANDBETWEEN(0,Worksheet!$B$6)*(-1)^RANDBETWEEN(1,2)","v":2},{"$f":"E4","v":"n"},{"$f":"IF(K4<0,\"–\",IF(K4=0,\"\",\"+\"))","v":"+"},{"$f":"IF(Worksheet!$B$8,RANDBETWEEN(IF(D4*Q4^2+H4*Q4<0,ABS(D4*Q4^2+H4*Q4),IF(D4*Q4^2+H4*Q4<Worksheet!$B$6,(-1)*(D4*Q4^2+H4*Q4),(-1)*Worksheet!$B$6)),IF(D4*Q4^2+H4*Q4<0,MAX(Worksheet!$B$6,ABS(D4*Q4^2+H4*Q4)+2),Worksheet!$B$6)),RANDBETWEEN(1,Worksheet!$B$6)*(-1)^RANDBETWEEN(1,2))","v":1},null,"when",{"$f":"I4","v":"n"},"=",{"$f":"IF(Q4<0,\"–\",\"\")","v":""},{"$f":"RANDBETWEEN(1,Worksheet!$B$5)*(-1)^RANDBETWEEN(IF(Worksheet!$B$7,1,2),2)","v":4},null,{"$f":"IF(T4<0,\"–\",\"\")","v":""},{"$f":"D4*Q4^2+H4*Q4+K4","v":41},1,null,{"$f":"IF(Worksheet!B$10,RAND(),\"\")","v":9.5633714116920898E-2}]
["Evaluate",null,null,{"$f":"RANDBETWEEN(1,Worksheet!$B$6)","v":2},{"$f":"CHOOSE(RANDBETWEEN(1,20),\"z\",\"y\",\"x\",\"w\",\"u\",\"a\",\"b\",\"c\",\"d\",\"e\",\"f\",\"g\",\"h\",\"j\",\"k\",\"m\",\"n\",\"p\",\"r\",\"s\")","v":"k"},"²",{"$f":"IF(H5<0,\"–\",IF(H5=0,\"\",\"+\"))","v":"+"},{"$f":"RANDBETWEEN(0,Worksheet!$B$6)*(-1)^RANDBETWEEN(1,2)","v":3},{"$f":"E5","v":"k"},{"$f":"IF(K5<0,\"–\",IF(K5=0,\"\",\"+\"))","v":"+"},{"$f":"IF(Worksheet!$B$8,RANDBETWEEN(IF(D5*Q5^2+H5*Q5<0,ABS(D5*Q5^2+H5*Q5),IF(D5*Q5^2+H5*Q5<Worksheet!$B$6,(-1)*(D5*Q5^2+H5*Q5),(-1)*Worksheet!$B$6)),IF(D5*Q5^2+H5*Q5<0,MAX(Worksheet!$B$6,ABS(D5*Q5^2+H5*Q5)+2),Worksheet!$B$6)),RANDBETWEEN(1,Worksheet!$B$6)*(-1)^RANDBETWEEN(1,2))","v":1},null,"when",{"$f":"I5","v":"k"},"=",{"$f":"IF(Q5<0,\"–\",\"\")","v":""},{"$f":"RANDBETWEEN(1,Worksheet!$B$5)*(-1)^RANDBETWEEN(IF(Worksheet!$B$7,1,2),2)","v":3},null,{"$f":"IF(T5<0,\"–\",\"\")","v":""},{"$f":"D5*Q5^2+H5*Q5+K5","v":28},1,null,{"$f":"IF(Worksheet!B$10,RAND(),\"\")","v":0.7401766045605781}]
["Evaluate",null,null,{"$f":"RANDBETWEEN(1,Worksheet!$B$6)","v":1},{"$f":"CHOOSE(RANDBETWEEN(1,20),\"z\",\"y\",\"x\",\"w\",\"u\",\"a\",\"b\",\"c\",\"d\",\"e\",\"f\",\"g\",\"h\",\"j\",\"k\",\"m\",\"n\",\"p\",\"r\",\"s\")","v":"c"},"²",{"$f":"IF(H6<0,\"–\",IF(H6=0,\"\",\"+\"))","v":"+"},{"$f":"RANDBETWEEN(0,Worksheet!$B$6)*(-1)^RANDBETWEEN(1,2)","v":3},{"$f":"E6","v":"c"},{"$f":"IF(K6<0,\"–\",IF(K6=0,\"\",\"+\"))","v":"+"},{"$f":"IF(Worksheet!$B$8,RANDBETWEEN(IF(D6*Q6^2+H6*Q6<0,ABS(D6*Q6^2+H6*Q6),IF(D6*Q6^2+H6*Q6<Worksheet!$B$6,(-1)*(D6*Q6^2+H6*Q6),(-1)*Worksheet!$B$6)),IF(D6*Q6^2+H6*Q6<0,MAX(Worksheet!$B$6,ABS(D6*Q6^2+H6*Q6)+2),Worksheet!$B$6)),RANDBETWEEN(1,Worksheet!$B$6)*(-1)^RANDBETWEEN(1,2))","v":1},null,"when",{"$f":"I6","v":"c"},"=",{"$f":"IF(Q6<0,\"–\",\"\")","v":""},{"$f":"RANDBETWEEN(1,Worksheet!$B$5)*(-1)^RANDBETWEEN(IF(Worksheet!$B$7,1,2),2)","v":2},null,{"$f":"IF(T6<0,\"–\",\"\")","v":""},{"$f":"D6*Q6^2+H6*Q6+K6","v":11},1,null,{"$f":"IF(Worksheet!B$10,RAND(),\"\")","v":0.32008467609039259}]
["Evaluate","(",{"$f":"RANDBETWEEN(1,Worksheet!$B$6)","v":2},{"$f":"CHOOSE(RANDBETWEEN(1,20),\"z\",\"y\",\"x\",\"w\",\"u\",\"a\",\"b\",\"c\",\"d\",\"e\",\"f\",\"g\",\"h\",\"j\",\"k\",\"m\",\"n\",\"p\",\"r\",\"s\")","v":"d"},{"$f":"IF(F7<0,\"–\",\"+\")","v":"–"},{"$f":"RANDBETWEEN(1,Worksheet!$B$6)*(-1)^RANDBETWEEN(1,2)","v":-1},")(",{"$f":"RANDBETWEEN(1,Worksheet!$B$6)","v":3},{"$f":"D7","v":"d"},{"$f":"IF(K7<0,\"–\",\"+\")","v":"–"},{"$f":"RANDBETWEEN(1,Worksheet!$B$6)*(-1)^RANDBETWEEN(1,2)","v":-1},")","when",{"$f":"I7","v":"d"},"=",{"$f":"IF(Q7<0,\"–\",\"\")","v":""},{"$f":"RANDBETWEEN(1,Worksheet!$B$5)*(-1)^RANDBETWEEN(IF(Worksheet!$B$7,1,2),2)","v":1},null,{"$f":"IF(T7<0,\"–\",\"\")","v":""},{"$f":"(C7*Q7+F7)*(H7*Q7+K7)","v":2},3,null,{"$f":"IF(Worksheet!B$12,RAND(),\"\")","v":0.95841310563643145}]
["Evaluate","(",{"$f":"RANDBETWEEN(1,Worksheet!$B$6)","v":3},{"$f":"CHOOSE(RANDBETWEEN(1,20),\"z\",\"y\",\"x\",\"w\",\"u\",\"a\",\"b\",\"c\",\"d\",\"e\",\"f\",\"g\",\"h\",\"j\",\"k\",\"m\",\"n\",\"p\",\"r\",\"s\")","v":"j"},{"$f":"IF(F8<0,\"–\",\"+\")","v":"–"},{"$f":"RANDBETWEEN(1,Worksheet!$B$6)*(-1)^RANDBETWEEN(1,2)","v":-2},")(",{"$f":"RANDBETWEEN(1,Worksheet!$B$6)","v":3},{"$f":"D8","v":"j"},{"$f":"IF(K8<0,\"–\",\"+\")","v":"+"},{"$f":"RANDBETWEEN(1,Worksheet!$B$6)*(-1)^RANDBETWEEN(1,2)","v":3},")","when",{"$f":"I8","v":"j"},"=",{"$f":"IF(Q8<0,\"–\",\"\")","v":""},{"$f":"RANDBETWEEN(1,Worksheet!$B$5)*(-1)^RANDBETWEEN(IF(Worksheet!$B$7,1,2),2)","v":1},null,{"$f":"IF(T8<0,\"–\",\"\")","v":""},{"$f":"(C8*Q8+F8)*(H8*Q8+K8)","v":6},3,null,{"$f":"IF(Worksheet!B$12,RAND(),\"\")","v":0.18215517465820608}]
["Evaluate",null,null,{"$f":"RANDBETWEEN(1,Worksheet!$B$6)","v":1},{"$f":"CHOOSE(RANDBETWEEN(1,20),\"z\",\"y\",\"x\",\"w\",\"u\",\"a\",\"b\",\"c\",\"d\",\"e\",\"f\",\"g\",\"h\",\"j\",\"k\",\"m\",\"n\",\"p\",\"r\",\"s\")","v":"b"},"²",{"$f":"IF(H9<0,\"–\",IF(H9=0,\"\",\"+\"))","v":"+"},{"$f":"RANDBETWEEN(0,Worksheet!$B$6)*(-1)^RANDBETWEEN(1,2)","v":2},{"$f":"E9","v":"b"},{"$f":"IF(K9<0,\"–\",IF(K9=0,\"\",\"+\"))","v":"+"},{"$f":"IF(Worksheet!$B$8,RANDBETWEEN(IF(D9*Q9^2+H9*Q9<0,ABS(D9*Q9^2+H9*Q9),IF(D9*Q9^2+H9*Q9<Worksheet!$B$6,(-1)*(D9*Q9^2+H9*Q9),(-1)*Worksheet!$B$6)),IF(D9*Q9^2+H9*Q9<0,MAX(Worksheet!$B$6,ABS(D9*Q9^2+H9*Q9)+2),Worksheet!$B$6)),RANDBETWEEN(1,Worksheet!$B$6)*(-1)^RANDBETWEEN(1,2))","v":2},null,"when",{"$f":"I9","v":"b"},"=",{"$f":"IF(Q9<0,\"–\",\"\")","v":""},{"$f":"RANDBETWEEN(1,Worksheet!$B$5)*(-1)^RANDBETWEEN(IF(Worksheet!$B$7,1,2),2)","v":1},null,{"$f":"IF(T9<0,\"–\",\"\")","v":""},{"$f":"D9*Q9^2+H9*Q9+K9","v":5},1,null,{"$f":"IF(Worksheet!B$10,RAND(),\"\")","v":0.40518883484057977}]
["Evaluate",null,null,{"$f":"RANDBETWEEN(1,Worksheet!$B$6)","v":1},"(",{"$f":"CHOOSE(RANDBETWEEN(1,20),\"z\",\"y\",\"x\",\"w\",\"u\",\"a\",\"b\",\"c\",\"d\",\"e\",\"f\",\"g\",\"h\",\"j\",\"k\",\"m\",\"n\",\"p\",\"r\",\"s\")","v":"w"},{"$f":"IF(H10<0,\"–\",\"+\")","v":"–"},{"$f":"RANDBETWEEN(1,Worksheet!$B$6)*(-1)^RANDBETWEEN(1,2)","v":-1},")²",{"$f":"IF(K10<0,\"–\",\"+\")","v":"+"},{"$f":"RANDBETWEEN(1,Worksheet!$B$6)*(-1)^RANDBETWEEN(1,2)","v":1},null,"when",{"$f":"F10","v":"w"},"=",{"$f":"IF(Q10<0,\"–\",\"\")","v":""},{"$f":"RANDBETWEEN(1,Worksheet!$B$5)*(-1)^RANDBETWEEN(IF(Worksheet!$B$7,1,2),2)","v":1},null,{"$f":"IF(T10<0,\"–\",\"\")","v":""},{"$f":"(Q10+H10)^2+K10","v":1},2,null,{"$f":"IF(Worksheet!B$11,RAND(),\"\")","v":0.35353798290307092}]
["Evaluate",null,null,{"$f":"RANDBETWEEN(1,Worksheet!$B$6)","v":2},{"$f":"CHOOSE(RANDBETWEEN(1,20),\"z\",\"y\",\"x\",\"w\",\"u\",\"a\",\"b\",\"c\",\"d\",\"e\",\"f\",\"g\",\"h\",\"j\",\"k\",\"m\",\"n\",\"p\",\"r\",\"s\")","v":"h"},"²",{"$f":"IF(H11<0,\"–\",IF(H11=0,\"\",\"+\"))","v":"–"},{"$f":"RANDBETWEEN(0,Worksheet!$B$6)*(-1)^RANDBETWEEN(1,2)","v":-2},{"$f":"E11","v":"h"},{"$f":"IF(K11<0,\"–\",IF(K11=0,\"\",\"+\"))","v":"–"},{"$f":"IF(Worksheet!$B$8,RANDBETWEEN(IF(D11*Q11^2+H11*Q11<0,ABS(D11*Q11^2+H11*Q11),IF(D11*Q11^2+H11*Q11<Worksheet!$B$6,(-1)*(D11*Q11^2+H11*Q11),(-1)*Worksheet!$B$6)),IF(D11*Q11^2+H11*Q11<0,MAX(Worksheet!$B$6,ABS(D11*Q11^2+H11*Q11)+2),Worksheet!$B$6)),RANDBETWEEN(1,Worksheet!$B$6)*(-1)^RANDBETWEEN(1,2))","v":-2},null,"when",{"$f":"I11","v":"h"},"=",{"$f":"IF(Q11<0,\"–\",\"\")","v":""},{"$f":"RANDBETWEEN(1,Worksheet!$B$5)*(-1)^RANDBETWEEN(IF(Worksheet!$B$7,1,2),2)","v":3},null,{"$f":"IF(T11<0,\"–\",\"\")","v":""},{"$f":"D11*Q11^2+H11*Q11+K11","v":10},1,null,{"$f":"IF(Worksheet!B$10,RAND(),\"\")","v":0.58527592340290346}]
["Evaluate","(",{"$f":"RANDBETWEEN(1,Worksheet!$B$6)","v":1},{"$f":"CHOOSE(RANDBETWEEN(1,20),\"z\",\"y\",\"x\",\"w\",\"u\",\"a\",\"b\",\"c\",\"d\",\"e\",\"f\",\"g\",\"h\",\"j\",\"k\",\"m\",\"n\",\"p\",\"r\",\"s\")","v":"r"},{"$f":"IF(F12<0,\"–\",\"+\")","v":"–"},{"$f":"RANDBETWEEN(1,Worksheet!$B$6)*(-1)^RANDBETWEEN(1,2)","v":-1},")(",{"$f":"RANDBETWEEN(1,Worksheet!$B$6)","v":1},{"$f":"D12","v":"r"},{"$f":"IF(K12<0,\"–\",\"+\")","v":"+"},{"$f":"RANDBETWEEN(1,Worksheet!$B$6)*(-1)^RANDBETWEEN(1,2)","v":3},")","when",{"$f":"I12","v":"r"},"=",{"$f":"IF(Q12<0,\"–\",\"\")","v":""},{"$f":"RANDBETWEEN(1,Worksheet!$B$5)*(-1)^RANDBETWEEN(IF(Worksheet!$B$7,1,2),2)","v":5},null,{"$f":"IF(T12<0,\"–\",\"\")","v":""},{"$f":"(C12*Q12+F12)*(H12*Q12+K12)","v":32},3,null,{"$f":"IF(Worksheet!B$12,RAND(),\"\")","v":0.91931266042470605}]
["Evaluate",null,null,{"$f":"RANDBETWEEN(1,Worksheet!$B$6)","v":3},"(",{"$f":"CHOOSE(RANDBETWEEN(1,20),\"z\",\"y\",\"x\",\"w\",\"u\",\"a\",\"b\",\"c\",\"d\",\"e\",\"f\",\"g\",\"h\",\"j\",\"k\",\"m\",\"n\",\"p\",\"r\",\"s\")","v":"r"},{"$f":"IF(H13<0,\"–\",\"+\")","v":"+"},{"$f":"RANDBETWEEN(1,Worksheet!$B$6)*(-1)^RANDBETWEEN(1,2)","v":3},")²",{"$f":"IF(K13<0,\"–\",\"+\")","v":"–"},{"$f":"RANDBETWEEN(1,Worksheet!$B$6)*(-1)^RANDBETWEEN(1,2)","v":-2},null,"when",{"$f":"F13","v":"r"},"=",{"$f":"IF(Q13<0,\"–\",\"\")","v":""},{"$f":"RANDBETWEEN(1,Worksheet!$B$5)*(-1)^RANDBETWEEN(IF(Worksheet!$B$7,1,2),2)","v":2},null,{"$f":"IF(T13<0,\"–\",\"\")","v":""},{"$f":"(Q13+H13)^2+K13","v":23},2,null,{"$f":"IF(Worksheet!B$11,RAND(),\"\")","v":0.98414512189334857}]
["Evaluate",null,null,{"$f":"RANDBETWEEN(1,Worksheet!$B$6)","v":3},"(",{"$f":"CHOOSE(RANDBETWEEN(1,20),\"z\",\"y\",\"x\",\"w\",\"u\",\"a\",\"b\",\"c\",\"d\",\"e\",\"f\",\"g\",\"h\",\"j\",\"k\",\"m\",\"n\",\"p\",\"r\",\"s\")","v":"x"},{"$f":"IF(H14<0,\"–\",\"+\")","v":"+"},{"$f":"RANDBETWEEN(1,Worksheet!$B$6)*(-1)^RANDBETWEEN(1,2)","v":3},")²",{"$f":"IF(K14<0,\"–\",\"+\")","v":"+"},{"$f":"RANDBETWEEN(1,Worksheet!$B$6)*(-1)^RANDBETWEEN(1,2)","v":1},null,"when",{"$f":"F14","v":"x"},"=",{"$f":"IF(Q14<0,\"–\",\"\")","v":""},{"$f":"RANDBETWEEN(1,Worksheet!$B$5)*(-1)^RANDBETWEEN(IF(Worksheet!$B$7,1,2),2)","v":5},null,{"$f":"IF(T14<0,\"–\",\"\")","v":""},{"$f":"(Q14+H14)^2+K14","v":65},2,null,{"$f":"IF(Worksheet!B$11,RAND(),\"\")","v":0.16789231463736376}]
["Evaluate","(",{"$f":"RANDBETWEEN(1,Worksheet!$B$6)","v":2},{"$f":"CHOOSE(RANDBETWEEN(1,20),\"z\",\"y\",\"x\",\"w\",\"u\",\"a\",\"b\",\"c\",\"d\",\"e\",\"f\",\"g\",\"h\",\"j\",\"k\",\"m\",\"n\",\"p\",\"r\",\"s\")","v":"d"},{"$f":"IF(F15<0,\"–\",\"+\")","v":"–"},{"$f":"RANDBETWEEN(1,Worksheet!$B$6)*(-1)^RANDBETWEEN(1,2)","v":-1},")(",{"$f":"RANDBETWEEN(1,Worksheet!$B$6)","v":3},{"$f":"D15","v":"d"},{"$f":"IF(K15<0,\"–\",\"+\")","v":"–"},{"$f":"RANDBETWEEN(1,Worksheet!$B$6)*(-1)^RANDBETWEEN(1,2)","v":-1},")","when",{"$f":"I15","v":"d"},"=",{"$f":"IF(Q15<0,\"–\",\"\")","v":""},{"$f":"RANDBETWEEN(1,Worksheet!$B$5)*(-1)^RANDBETWEEN(IF(Worksheet!$B$7,1,2),2)","v":1},null,{"$f":"IF(T15<0,\"–\",\"\")","v":""},{"$f":"(C15*Q15+F15)*(H15*Q15+K15)","v":2},3,null,{"$f":"IF(Worksheet!B$12,RAND(),\"\")","v":0.32644159300471987}]
["Evaluate","(",{"$f":"RANDBETWEEN(1,Worksheet!$B$6)","v":2},{"$f":"CHOOSE(RANDBETWEEN(1,20),\"z\",\"y\",\"x\",\"w\",\"u\",\"a\",\"b\",\"c\",\"d\",\"e\",\"f\",\"g\",\"h\",\"j\",\"k\",\"m\",\"n\",\"p\",\"r\",\"s\")","v":"a"},{"$f":"IF(F16<0,\"–\",\"+\")","v":"+"},{"$f":"RANDBETWEEN(1,Worksheet!$B$6)*(-1)^RANDBETWEEN(1,2)","v":2},")(",{"$f":"RANDBETWEEN(1,Worksheet!$B$6)","v":2},{"$f":"D16","v":"a"},{"$f":"IF(K16<0,\"–\",\"+\")","v":"+"},{"$f":"RANDBETWEEN(1,Worksheet!$B$6)*(-1)^RANDBETWEEN(1,2)","v":1},")","when",{"$f":"I16","v":"a"},"=",{"$f":"IF(Q16<0,\"–\",\"\")","v":""},{"$f":"RANDBETWEEN(1,Worksheet!$B$5)*(-1)^RANDBETWEEN(IF(Worksheet!$B$7,1,2),2)","v":2},null,{"$f":"IF(T16<0,\"–\",\"\")","v":""},{"$f":"(C16*Q16+F16)*(H16*Q16+K16)","v":30},3,null,{"$f":"IF(Worksheet!B$12,RAND(),\"\")","v":4.1167288913178668E-3}]
["Evaluate","(",{"$f":"RANDBETWEEN(1,Worksheet!$B$6)","v":2},{"$f":"CHOOSE(RANDBETWEEN(1,20),\"z\",\"y\",\"x\",\"w\",\"u\",\"a\",\"b\",\"c\",\"d\",\"e\",\"f\",\"g\",\"h\",\"j\",\"k\",\"m\",\"n\",\"p\",\"r\",\"s\")","v":"w"},{"$f":"IF(F17<0,\"–\",\"+\")","v":"–"},{"$f":"RANDBETWEEN(1,Worksheet!$B$6)*(-1)^RANDBETWEEN(1,2)","v":-2},")(",{"$f":"RANDBETWEEN(1,Worksheet!$B$6)","v":1},{"$f":"D17","v":"w"},{"$f":"IF(K17<0,\"–\",\"+\")","v":"+"},{"$f":"RANDBETWEEN(1,Worksheet!$B$6)*(-1)^RANDBETWEEN(1,2)","v":1},")","when",{"$f":"I17","v":"w"},"=",{"$f":"IF(Q17<0,\"–\",\"\")","v":""},{"$f":"RANDBETWEEN(1,Worksheet!$B$5)*(-1)^RANDBETWEEN(IF(Worksheet!$B$7,1,2),2)","v":4},null,{"$f":"IF(T17<0,\"–\",\"\")","v":""},{"$f":"(C17*Q17+F17)*(H17*Q17+K17)","v":30},3,null,{"$f":"IF(Worksheet!B$12,RAND(),\"\")","v":0.55751250800536434}]
["Evaluate",null,null,{"$f":"RANDBETWEEN(1,Worksheet!$B$6)","v":3},"(",{"$f":"CHOOSE(RANDBETWEEN(1,20),\"z\",\"y\",\"x\",\"w\",\"u\",\"a\",\"b\",\"c\",\"d\",\"e\",\"f\",\"g\",\"h\",\"j\",\"k\",\"m\",\"n\",\"p\",\"r\",\"s\")","v":"r"},{"$f":"IF(H18<0,\"–\",\"+\")","v":"+"},{"$f":"RANDBETWEEN(1,Worksheet!$B$6)*(-1)^RANDBETWEEN(1,2)","v":1},")²",{"$f":"IF(K18<0,\"–\",\"+\")","v":"–"},{"$f":"RANDBETWEEN(1,Worksheet!$B$6)*(-1)^RANDBETWEEN(1,2)","v":-2},null,"when",{"$f":"F18","v":"r"},"=",{"$f":"IF(Q18<0,\"–\",\"\")","v":""},{"$f":"RANDBETWEEN(1,Worksheet!$B$5)*(-1)^RANDBETWEEN(IF(Worksheet!$B$7,1,2),2)","v":4},null,{"$f":"IF(T18<0,\"–\",\"\")","v":""},{"$f":"(Q18+H18)^2+K18","v":23},2,null,{"$f":"IF(Worksheet!B$11,RAND(),\"\")","v":0.51798477446745894}]
["Evaluate",null,null,{"$f":"RANDBETWEEN(1,Worksheet!$B$6)","v":1},{"$f":"CHOOSE(RANDBETWEEN(1,20),\"z\",\"y\",\"x\",\"w\",\"u\",\"a\",\"b\",\"c\",\"d\",\"e\",\"f\",\"g\",\"h\",\"j\",\"k\",\"m\",\"n\",\"p\",\"r\",\"s\")","v":"r"},"²",{"$f":"IF(H19<0,\"–\",IF(H19=0,\"\",\"+\"))","v":"–"},{"$f":"RANDBETWEEN(0,Worksheet!$B$6)*(-1)^RANDBETWEEN(1,2)","v":-3},{"$f":"E19","v":"r"},{"$f":"IF(K19<0,\"–\",IF(K19=0,\"\",\"+\"))","v":"+"},{"$f":"IF(Worksheet!$B$8,RANDBETWEEN(IF(D19*Q19^2+H19*Q19<0,ABS(D19*Q19^2+H19*Q19),IF(D19*Q19^2+H19*Q19<Worksheet!$B$6,(-1)*(D19*Q19^2+H19*Q19),(-1)*Worksheet!$B$6)),IF(D19*Q19^2+H19*Q19<0,MAX(Worksheet!$B$6,ABS(D19*Q19^2+H19*Q19)+2),Worksheet!$B$6)),RANDBETWEEN(1,Worksheet!$B$6)*(-1)^RANDBETWEEN(1,2))","v":1},null,"when",{"$f":"I19","v":"r"},"=",{"$f":"IF(Q19<0,\"–\",\"\")","v":""},{"$f":"RANDBETWEEN(1,Worksheet!$B$5)*(-1)^RANDBETWEEN(IF(Worksheet!$B$7,1,2),2)","v":4},null,{"$f":"IF(T19<0,\"–\",\"\")","v":""},{"$f":"D19*Q19^2+H19*Q19+K19","v":5},1,null,{"$f":"IF(Worksheet!B$10,RAND(),\"\")","v":0.37948830471756845}]
["Evaluate","(",{"$f":"RANDBETWEEN(1,Worksheet!$B$6)","v":2},{"$f":"CHOOSE(RANDBETWEEN(1,20),\"z\",\"y\",\"x\",\"w\",\"u\",\"a\",\"b\",\"c\",\"d\",\"e\",\"f\",\"g\",\"h\",\"j\",\"k\",\"m\",\"n\",\"p\",\"r\",\"s\")","v":"s"},{"$f":"IF(F20<0,\"–\",\"+\")","v":"+"},{"$f":"RANDBETWEEN(1,Worksheet!$B$6)*(-1)^RANDBETWEEN(1,2)","v":3},")(",{"$f":"RANDBETWEEN(1,Worksheet!$B$6)","v":3},{"$f":"D20","v":"s"},{"$f":"IF(K20<0,\"–\",\"+\")","v":"–"},{"$f":"RANDBETWEEN(1,Worksheet!$B$6)*(-1)^RANDBETWEEN(1,2)","v":-1},")","when",{"$f":"I20","v":"s"},"=",{"$f":"IF(Q20<0,\"–\",\"\")","v":""},{"$f":"RANDBETWEEN(1,Worksheet!$B$5)*(-1)^RANDBETWEEN(IF(Worksheet!$B$7,1,2),2)","v":3},null,{"$f":"IF(T20<0,\"–\",\"\")","v":""},{"$f":"(C20*Q20+F20)*(H20*Q20+K20)","v":72},3,null,{"$f":"IF(Worksheet!B$12,RAND(),\"\")","v":0.27957544789502742}]
["Evaluate",null,null,{"$f":"RANDBETWEEN(1,Worksheet!$B$6)","v":1},{"$f":"CHOOSE(RANDBETWEEN(1,20),\"z\",\"y\",\"x\",\"w\",\"u\",\"a\",\"b\",\"c\",\"d\",\"e\",\"f\",\"g\",\"h\",\"j\",\"k\",\"m\",\"n\",\"p\",\"r\",\"s\")","v":"f"},"²",{"$f":"IF(H21<0,\"–\",IF(H21=0,\"\",\"+\"))","v":"–"},{"$f":"RANDBETWEEN(0,Worksheet!$B$6)*(-1)^RANDBETWEEN(1,2)","v":-2},{"$f":"E21","v":"f"},{"$f":"IF(K21<0,\"–\",IF(K21=0,\"\",\"+\"))","v":"+"},{"$f":"IF(Worksheet!$B$8,RANDBETWEEN(IF(D21*Q21^2+H21*Q21<0,ABS(D21*Q21^2+H21*Q21),IF(D21*Q21^2+H21*Q21<Worksheet!$B$6,(-1)*(D21*Q21^2+H21*Q21),(-1)*Worksheet!$B$6)),IF(D21*Q21^2+H21*Q21<0,MAX(Worksheet!$B$6,ABS(D21*Q21^2+H21*Q21)+2),Worksheet!$B$6)),RANDBETWEEN(1,Worksheet!$B$6)*(-1)^RANDBETWEEN(1,2))","v":1},null,"when",{"$f":"I21","v":"f"},"=",{"$f":"IF(Q21<0,\"–\",\"\")","v":""},{"$f":"RANDBETWEEN(1,Worksheet!$B$5)*(-1)^RANDBETWEEN(IF(Worksheet!$B$7,1,2),2)","v":4},null,{"$f":"IF(T21<0,\"–\",\"\")","v":""},{"$f":"D21*Q21^2+H21*Q21+K21","v":9},1,null,{"$f":"IF(Worksheet!B$10,RAND(),\"\")","v":0.25564210273445687}]
["Evaluate",null,null,{"$f":"RANDBETWEEN(1,Worksheet!$B$6)","v":3},"(",{"$f":"CHOOSE(RANDBETWEEN(1,20),\"z\",\"y\",\"x\",\"w\",\"u\",\"a\",\"b\",\"c\",\"d\",\"e\",\"f\",\"g\",\"h\",\"j\",\"k\",\"m\",\"n\",\"p\",\"r\",\"s\")","v":"p"},{"$f":"IF(H22<0,\"–\",\"+\")","v":"–"},{"$f":"RANDBETWEEN(1,Worksheet!$B$6)*(-1)^RANDBETWEEN(1,2)","v":-3},")²",{"$f":"IF(K22<0,\"–\",\"+\")","v":"+"},{"$f":"RANDBETWEEN(1,Worksheet!$B$6)*(-1)^RANDBETWEEN(1,2)","v":2},null,"when",{"$f":"F22","v":"p"},"=",{"$f":"IF(Q22<0,\"–\",\"\")","v":""},{"$f":"RANDBETWEEN(1,Worksheet!$B$5)*(-1)^RANDBETWEEN(IF(Worksheet!$B$7,1,2),2)","v":4},null,{"$f":"IF(T22<0,\"–\",\"\")","v":""},{"$f":"(Q22+H22)^2+K22","v":3},2,null,{"$f":"IF(Worksheet!B$11,RAND(),\"\")","v":0.45797802222072381}]
["Evaluate",null,null,{"$f":"RANDBETWEEN(1,Worksheet!$B$6)","v":1},{"$f":"CHOOSE(RANDBETWEEN(1,20),\"z\",\"y\",\"x\",\"w\",\"u\",\"a\",\"b\",\"c\",\"d\",\"e\",\"f\",\"g\",\"h\",\"j\",\"k\",\"m\",\"n\",\"p\",\"r\",\"s\")","v":"a"},"²",{"$f":"IF(H23<0,\"–\",IF(H23=0,\"\",\"+\"))","v":"+"},{"$f":"RANDBETWEEN(0,Worksheet!$B$6)*(-1)^RANDBETWEEN(1,2)","v":1},{"$f":"E23","v":"a"},{"$f":"IF(K23<0,\"–\",IF(K23=0,\"\",\"+\"))","v":"–"},{"$f":"IF(Worksheet!$B$8,RANDBETWEEN(IF(D23*Q23^2+H23*Q23<0,ABS(D23*Q23^2+H23*Q23),IF(D23*Q23^2+H23*Q23<Worksheet!$B$6,(-1)*(D23*Q23^2+H23*Q23),(-1)*Worksheet!$B$6)),IF(D23*Q23^2+H23*Q23<0,MAX(Worksheet!$B$6,ABS(D23*Q23^2+H23*Q23)+2),Worksheet!$B$6)),RANDBETWEEN(1,Worksheet!$B$6)*(-1)^RANDBETWEEN(1,2))","v":-1},null,"when",{"$f":"I23","v":"a"},"=",{"$f":"IF(Q23<0,\"–\",\"\")","v":""},{"$f":"RANDBETWEEN(1,Worksheet!$B$5)*(-1)^RANDBETWEEN(IF(Worksheet!$B$7,1,2),2)","v":1},null,{"$f":"IF(T23<0,\"–\",\"\")","v":""},{"$f":"D23*Q23^2+H23*Q23+K23","v":1},1,null,{"$f":"IF(Worksheet!B$10,RAND(),\"\")","v":0.62570911027232279}]
["Evaluate",null,null,{"$f":"RANDBETWEEN(1,Worksheet!$B$6)","v":2},"(",{"$f":"CHOOSE(RANDBETWEEN(1,20),\"z\",\"y\",\"x\",\"w\",\"u\",\"a\",\"b\",\"c\",\"d\",\"e\",\"f\",\"g\",\"h\",\"j\",\"k\",\"m\",\"n\",\"p\",\"r\",\"s\")","v":"e"},{"$f":"IF(H24<0,\"–\",\"+\")","v":"+"},{"$f":"RANDBETWEEN(1,Worksheet!$B$6)*(-1)^RANDBETWEEN(1,2)","v":2},")²",{"$f":"IF(K24<0,\"–\",\"+\")","v":"+"},{"$f":"RANDBETWEEN(1,Worksheet!$B$6)*(-1)^RANDBETWEEN(1,2)","v":1},null,"when",{"$f":"F24","v":"e"},"=",{"$f":"IF(Q24<0,\"–\",\"\")","v":""},{"$f":"RANDBETWEEN(1,Worksheet!$B$5)*(-1)^RANDBETWEEN(IF(Worksheet!$B$7,1,2),2)","v":3},null,{"$f":"IF(T24<0,\"–\",\"\")","v":""},{"$f":"(Q24+H24)^2+K24","v":26},2,null,{"$f":"IF(Worksheet!B$11,RAND(),\"\")","v":0.83035350886478299}]
["Evaluate","(",{"$f":"RANDBETWEEN(1,Worksheet!$B$6)","v":3},{"$f":"CHOOSE(RANDBETWEEN(1,20),\"z\",\"y\",\"x\",\"w\",\"u\",\"a\",\"b\",\"c\",\"d\",\"e\",\"f\",\"g\",\"h\",\"j\",\"k\",\"m\",\"n\",\"p\",\"r\",\"s\")","v":"n"},{"$f":"IF(F25<0,\"–\",\"+\")","v":"+"},{"$f":"RANDBETWEEN(1,Worksheet!$B$6)*(-1)^RANDBETWEEN(1,2)","v":2},")(",{"$f":"RANDBETWEEN(1,Worksheet!$B$6)","v":1},{"$f":"D25","v":"n"},{"$f":"IF(K25<0,\"–\",\"+\")","v":"+"},{"$f":"RANDBETWEEN(1,Worksheet!$B$6)*(-1)^RANDBETWEEN(1,2)","v":2},")","when",{"$f":"I25","v":"n"},"=",{"$f":"IF(Q25<0,\"–\",\"\")","v":""},{"$f":"RANDBETWEEN(1,Worksheet!$B$5)*(-1)^RANDBETWEEN(IF(Worksheet!$B$7,1,2),2)","v":1},null,{"$f":"IF(T25<0,\"–\",\"\")","v":""},{"$f":"(C25*Q25+F25)*(H25*Q25+K25)","v":15},3,null,{"$f":"IF(Worksheet!B$12,RAND(),\"\")","v":0.58800088069875167}]
["Evaluate",null,null,{"$f":"RANDBETWEEN(1,Worksheet!$B$6)","v":3},"(",{"$f":"CHOOSE(RANDBETWEEN(1,20),\"z\",\"y\",\"x\",\"w\",\"u\",\"a\",\"b\",\"c\",\"d\",\"e\",\"f\",\"g\",\"h\",\"j\",\"k\",\"m\",\"n\",\"p\",\"r\",\"s\")","v":"k"},{"$f":"IF(H26<0,\"–\",\"+\")","v":"–"},{"$f":"RANDBETWEEN(1,Worksheet!$B$6)*(-1)^RANDBETWEEN(1,2)","v":-3},")²",{"$f":"IF(K26<0,\"–\",\"+\")","v":"+"},{"$f":"RANDBETWEEN(1,Worksheet!$B$6)*(-1)^RANDBETWEEN(1,2)","v":2},null,"when",{"$f":"F26","v":"k"},"=",{"$f":"IF(Q26<0,\"–\",\"\")","v":""},{"$f":"RANDBETWEEN(1,Worksheet!$B$5)*(-1)^RANDBETWEEN(IF(Worksheet!$B$7,1,2),2)","v":2},null,{"$f":"IF(T26<0,\"–\",\"\")","v":""},{"$f":"(Q26+H26)^2+K26","v":3},2,null,{"$f":"IF(Worksheet!B$11,RAND(),\"\")","v":5.519600079002962E-2}]
["Evaluate",null,null,{"$f":"RANDBETWEEN(1,Worksheet!$B$6)","v":1},"(",{"$f":"CHOOSE(RANDBETWEEN(1,20),\"z\",\"y\",\"x\",\"w\",\"u\",\"a\",\"b\",\"c\",\"d\",\"e\",\"f\",\"g\",\"h\",\"j\",\"k\",\"m\",\"n\",\"p\",\"r\",\"s\")","v":"x"},{"$f":"IF(H27<0,\"–\",\"+\")","v":"–"},{"$f":"RANDBETWEEN(1,Worksheet!$B$6)*(-1)^RANDBETWEEN(1,2)","v":-3},")²",{"$f":"IF(K27<0,\"–\",\"+\")","v":"–"},{"$f":"RANDBETWEEN(1,Worksheet!$B$6)*(-1)^RANDBETWEEN(1,2)","v":-2},null,"when",{"$f":"F27","v":"x"},"=",{"$f":"IF(Q27<0,\"–\",\"\")","v":""},{"$f":"RANDBETWEEN(1,Worksheet!$B$5)*(-1)^RANDBETWEEN(IF(Worksheet!$B$7,1,2),2)","v":2},null,{"$f":"IF(T27<0,\"–\",\"\")","v":"–"},{"$f":"(Q27+H27)^2+K27","v":-1},2,null,{"$f":"IF(Worksheet!B$11,RAND(),\"\")","v":0.82098508863676456}]
["Evaluate",null,null,{"$f":"RANDBETWEEN(1,Worksheet!$B$6)","v":2},{"$f":"CHOOSE(RANDBETWEEN(1,20),\"z\",\"y\",\"x\",\"w\",\"u\",\"a\",\"b\",\"c\",\"d\",\"e\",\"f\",\"g\",\"h\",\"j\",\"k\",\"m\",\"n\",\"p\",\"r\",\"s\")","v":"e"},"²",{"$f":"IF(H28<0,\"–\",IF(H28=0,\"\",\"+\"))","v":"+"},{"$f":"RANDBETWEEN(0,Worksheet!$B$6)*(-1)^RANDBETWEEN(1,2)","v":2},{"$f":"E28","v":"e"},{"$f":"IF(K28<0,\"–\",IF(K28=0,\"\",\"+\"))","v":"–"},{"$f":"IF(Worksheet!$B$8,RANDBETWEEN(IF(D28*Q28^2+H28*Q28<0,ABS(D28*Q28^2+H28*Q28),IF(D28*Q28^2+H28*Q28<Worksheet!$B$6,(-1)*(D28*Q28^2+H28*Q28),(-1)*Worksheet!$B$6)),IF(D28*Q28^2+H28*Q28<0,MAX(Worksheet!$B$6,ABS(D28*Q28^2+H28*Q28)+2),Worksheet!$B$6)),RANDBETWEEN(1,Worksheet!$B$6)*(-1)^RANDBETWEEN(1,2))","v":-2},null,"when",{"$f":"I28","v":"e"},"=",{"$f":"IF(Q28<0,\"–\",\"\")","v":""},{"$f":"RANDBETWEEN(1,Worksheet!$B$5)*(-1)^RANDBETWEEN(IF(Worksheet!$B$7,1,2),2)","v":5},null,{"$f":"IF(T28<0,\"–\",\"\")","v":""},{"$f":"D28*Q28^2+H28*Q28+K28","v":58},1,null,{"$f":"IF(Worksheet!B$10,RAND(),\"\")","v":0.76588135213737063}]
["Evaluate","(",{"$f":"RANDBETWEEN(1,Worksheet!$B$6)","v":2},{"$f":"CHOOSE(RANDBETWEEN(1,20),\"z\",\"y\",\"x\",\"w\",\"u\",\"a\",\"b\",\"c\",\"d\",\"e\",\"f\",\"g\",\"h\",\"j\",\"k\",\"m\",\"n\",\"p\",\"r\",\"s\")","v":"n"},{"$f":"IF(F29<0,\"–\",\"+\")","v":"–"},{"$f":"RANDBETWEEN(1,Worksheet!$B$6)*(-1)^RANDBETWEEN(1,2)","v":-3},")(",{"$f":"RANDBETWEEN(1,Worksheet!$B$6)","v":1},{"$f":"D29","v":"n"},{"$f":"IF(K29<0,\"–\",\"+\")","v":"–"},{"$f":"RANDBETWEEN(1,Worksheet!$B$6)*(-1)^RANDBETWEEN(1,2)","v":-2},")","when",{"$f":"I29","v":"n"},"=",{"$f":"IF(Q29<0,\"–\",\"\")","v":""},{"$f":"RANDBETWEEN(1,Worksheet!$B$5)*(-1)^RANDBETWEEN(IF(Worksheet!$B$7,1,2),2)","v":4},null,{"$f":"IF(T29<0,\"–\",\"\")","v":""},{"$f":"(C29*Q29+F29)*(H29*Q29+K29)","v":10},3,null,{"$f":"IF(Worksheet!B$12,RAND(),\"\")","v":0.83903164439946532}]
["Evaluate","(",{"$f":"RANDBETWEEN(1,Worksheet!$B$6)","v":2},{"$f":"CHOOSE(RANDBETWEEN(1,20),\"z\",\"y\",\"x\",\"w\",\"u\",\"a\",\"b\",\"c\",\"d\",\"e\",\"f\",\"g\",\"h\",\"j\",\"k\",\"m\",\"n\",\"p\",\"r\",\"s\")","v":"j"},{"$f":"IF(F30<0,\"–\",\"+\")","v":"+"},{"$f":"RANDBETWEEN(1,Worksheet!$B$6)*(-1)^RANDBETWEEN(1,2)","v":1},")(",{"$f":"RANDBETWEEN(1,Worksheet!$B$6)","v":1},{"$f":"D30","v":"j"},{"$f":"IF(K30<0,\"–\",\"+\")","v":"+"},{"$f":"RANDBETWEEN(1,Worksheet!$B$6)*(-1)^RANDBETWEEN(1,2)","v":3},")","when",{"$f":"I30","v":"j"},"=",{"$f":"IF(Q30<0,\"–\",\"\")","v":""},{"$f":"RANDBETWEEN(1,Worksheet!$B$5)*(-1)^RANDBETWEEN(IF(Worksheet!$B$7,1,2),2)","v":3},null,{"$f":"IF(T30<0,\"–\",\"\")","v":""},{"$f":"(C30*Q30+F30)*(H30*Q30+K30)","v":42},3,null,{"$f":"IF(Worksheet!B$12,RAND(),\"\")","v":0.7600961675461374}]
["Evaluate",null,null,{"$f":"RANDBETWEEN(1,Worksheet!$B$6)","v":1},"(",{"$f":"CHOOSE(RANDBETWEEN(1,20),\"z\",\"y\",\"x\",\"w\",\"u\",\"a\",\"b\",\"c\",\"d\",\"e\",\"f\",\"g\",\"h\",\"j\",\"k\",\"m\",\"n\",\"p\",\"r\",\"s\")","v":"b"},{"$f":"IF(H31<0,\"–\",\"+\")","v":"+"},{"$f":"RANDBETWEEN(1,Worksheet!$B$6)*(-1)^RANDBETWEEN(1,2)","v":1},")²",{"$f":"IF(K31<0,\"–\",\"+\")","v":"+"},{"$f":"RANDBETWEEN(1,Worksheet!$B$6)*(-1)^RANDBETWEEN(1,2)","v":3},null,"when",{"$f":"F31","v":"b"},"=",{"$f":"IF(Q31<0,\"–\",\"\")","v":""},{"$f":"RANDBETWEEN(1,Worksheet!$B$5)*(-1)^RANDBETWEEN(IF(Worksheet!$B$7,1,2),2)","v":1},null,{"$f":"IF(T31<0,\"–\",\"\")","v":""},{"$f":"(Q31+H31)^2+K31","v":7},2,null,{"$f":"IF(Worksheet!B$11,RAND(),\"\")","v":0.29035856663178106}]
["Evaluate",null,null,{"$f":"RANDBETWEEN(1,Worksheet!$B$6)","v":3},{"$f":"CHOOSE(RANDBETWEEN(1,20),\"z\",\"y\",\"x\",\"w\",\"u\",\"a\",\"b\",\"c\",\"d\",\"e\",\"f\",\"g\",\"h\",\"j\",\"k\",\"m\",\"n\",\"p\",\"r\",\"s\")","v":"x"},"²",{"$f":"IF(H32<0,\"–\",IF(H32=0,\"\",\"+\"))","v":"–"},{"$f":"RANDBETWEEN(0,Worksheet!$B$6)*(-1)^RANDBETWEEN(1,2)","v":-3},{"$f":"E32","v":"x"},{"$f":"IF(K32<0,\"–\",IF(K32=0,\"\",\"+\"))","v":"+"},{"$f":"IF(Worksheet!$B$8,RANDBETWEEN(IF(D32*Q32^2+H32*Q32<0,ABS(D32*Q32^2+H32*Q32),IF(D32*Q32^2+H32*Q32<Worksheet!$B$6,(-1)*(D32*Q32^2+H32*Q32),(-1)*Worksheet!$B$6)),IF(D32*Q32^2+H32*Q32<0,MAX(Worksheet!$B$6,ABS(D32*Q32^2+H32*Q32)+2),Worksheet!$B$6)),RANDBETWEEN(1,Worksheet!$B$6)*(-1)^RANDBETWEEN(1,2))","v":3},null,"when",{"$f":"I32","v":"x"},"=",{"$f":"IF(Q32<0,\"–\",\"\")","v":""},{"$f":"RANDBETWEEN(1,Worksheet!$B$5)*(-1)^RANDBETWEEN(IF(Worksheet!$B$7,1,2),2)","v":4},null,{"$f":"IF(T32<0,\"–\",\"\")","v":""},{"$f":"D32*Q32^2+H32*Q32+K32","v":39},1,null,{"$f":"IF(Worksheet!B$10,RAND(),\"\")","v":0.85862181368434798}]
["Evaluate",null,null,{"$f":"RANDBETWEEN(1,Worksheet!$B$6)","v":2},{"$f":"CHOOSE(RANDBETWEEN(1,20),\"z\",\"y\",\"x\",\"w\",\"u\",\"a\",\"b\",\"c\",\"d\",\"e\",\"f\",\"g\",\"h\",\"j\",\"k\",\"m\",\"n\",\"p\",\"r\",\"s\")","v":"y"},"²",{"$f":"IF(H33<0,\"–\",IF(H33=0,\"\",\"+\"))","v":"+"},{"$f":"RANDBETWEEN(0,Worksheet!$B$6)*(-1)^RANDBETWEEN(1,2)","v":2},{"$f":"E33","v":"y"},{"$f":"IF(K33<0,\"–\",IF(K33=0,\"\",\"+\"))","v":"+"},{"$f":"IF(Worksheet!$B$8,RANDBETWEEN(IF(D33*Q33^2+H33*Q33<0,ABS(D33*Q33^2+H33*Q33),IF(D33*Q33^2+H33*Q33<Worksheet!$B$6,(-1)*(D33*Q33^2+H33*Q33),(-1)*Worksheet!$B$6)),IF(D33*Q33^2+H33*Q33<0,MAX(Worksheet!$B$6,ABS(D33*Q33^2+H33*Q33)+2),Worksheet!$B$6)),RANDBETWEEN(1,Worksheet!$B$6)*(-1)^RANDBETWEEN(1,2))","v":1},null,"when",{"$f":"I33","v":"y"},"=",{"$f":"IF(Q33<0,\"–\",\"\")","v":""},{"$f":"RANDBETWEEN(1,Worksheet!$B$5)*(-1)^RANDBETWEEN(IF(Worksheet!$B$7,1,2),2)","v":3},null,{"$f":"IF(T33<0,\"–\",\"\")","v":""},{"$f":"D33*Q33^2+H33*Q33+K33","v":25},1,null,{"$f":"IF(Worksheet!B$10,RAND(),\"\")","v":0.28574217369300992}]
["Evaluate","(",{"$f":"RANDBETWEEN(1,Worksheet!$B$6)","v":3},{"$f":"CHOOSE(RANDBETWEEN(1,20),\"z\",\"y\",\"x\",\"w\",\"u\",\"a\",\"b\",\"c\",\"d\",\"e\",\"f\",\"g\",\"h\",\"j\",\"k\",\"m\",\"n\",\"p\",\"r\",\"s\")","v":"n"},{"$f":"IF(F34<0,\"–\",\"+\")","v":"+"},{"$f":"RANDBETWEEN(1,Worksheet!$B$6)*(-1)^RANDBETWEEN(1,2)","v":2},")(",{"$f":"RANDBETWEEN(1,Worksheet!$B$6)","v":1},{"$f":"D34","v":"n"},{"$f":"IF(K34<0,\"–\",\"+\")","v":"+"},{"$f":"RANDBETWEEN(1,Worksheet!$B$6)*(-1)^RANDBETWEEN(1,2)","v":1},")","when",{"$f":"I34","v":"n"},"=",{"$f":"IF(Q34<0,\"–\",\"\")","v":""},{"$f":"RANDBETWEEN(1,Worksheet!$B$5)*(-1)^RANDBETWEEN(IF(Worksheet!$B$7,1,2),2)","v":2},null,{"$f":"IF(T34<0,\"–\",\"\")","v":""},{"$f":"(C34*Q34+F34)*(H34*Q34+K34)","v":24},3,null,{"$f":"IF(Worksheet!B$12,RAND(),\"\")","v":0.74353295519412399}]
["Evaluate",null,null,{"$f":"RANDBETWEEN(1,Worksheet!$B$6)","v":3},"(",{"$f":"CHOOSE(RANDBETWEEN(1,20),\"z\",\"y\",\"x\",\"w\",\"u\",\"a\",\"b\",\"c\",\"d\",\"e\",\"f\",\"g\",\"h\",\"j\",\"k\",\"m\",\"n\",\"p\",\"r\",\"s\")","v":"j"},{"$f":"IF(H35<0,\"–\",\"+\")","v":"–"},{"$f":"RANDBETWEEN(1,Worksheet!$B$6)*(-1)^RANDBETWEEN(1,2)","v":-3},")²",{"$f":"IF(K35<0,\"–\",\"+\")","v":"–"},{"$f":"RANDBETWEEN(1,Worksheet!$B$6)*(-1)^RANDBETWEEN(1,2)","v":-2},null,"when",{"$f":"F35","v":"j"},"=",{"$f":"IF(Q35<0,\"–\",\"\")","v":""},{"$f":"RANDBETWEEN(1,Worksheet!$B$5)*(-1)^RANDBETWEEN(IF(Worksheet!$B$7,1,2),2)","v":2},null,{"$f":"IF(T35<0,\"–\",\"\")","v":"–"},{"$f":"(Q35+H35)^2+K35","v":-1},2,null,{"$f":"IF(Worksheet!B$11,RAND(),\"\")","v":0.99258682146983845}]
["Evaluate","(",{"$f":"RANDBETWEEN(1,Worksheet!$B$6)","v":1},{"$f":"CHOOSE(RANDBETWEEN(1,20),\"z\",\"y\",\"x\",\"w\",\"u\",\"a\",\"b\",\"c\",\"d\",\"e\",\"f\",\"g\",\"h\",\"j\",\"k\",\"m\",\"n\",\"p\",\"r\",\"s\")","v":"c"},{"$f":"IF(F36<0,\"–\",\"+\")","v":"–"},{"$f":"RANDBETWEEN(1,Worksheet!$B$6)*(-1)^RANDBETWEEN(1,2)","v":-1},")(",{"$f":"RANDBETWEEN(1,Worksheet!$B$6)","v":2},{"$f":"D36","v":"c"},{"$f":"IF(K36<0,\"–\",\"+\")","v":"–"},{"$f":"RANDBETWEEN(1,Worksheet!$B$6)*(-1)^RANDBETWEEN(1,2)","v":-1},")","when",{"$f":"I36","v":"c"},"=",{"$f":"IF(Q36<0,\"–\",\"\")","v":""},{"$f":"RANDBETWEEN(1,Worksheet!$B$5)*(-1)^RANDBETWEEN(IF(Worksheet!$B$7,1,2),2)","v":4},null,{"$f":"IF(T36<0,\"–\",\"\")","v":""},{"$f":"(C36*Q36+F36)*(H36*Q36+K36)","v":21},3,null,{"$f":"IF(Worksheet!B$12,RAND(),\"\")","v":0.58007043518624102}]
["Evaluate",null,null,{"$f":"RANDBETWEEN(1,Worksheet!$B$6)","v":1},{"$f":"CHOOSE(RANDBETWEEN(1,20),\"z\",\"y\",\"x\",\"w\",\"u\",\"a\",\"b\",\"c\",\"d\",\"e\",\"f\",\"g\",\"h\",\"j\",\"k\",\"m\",\"n\",\"p\",\"r\",\"s\")","v":"a"},"²",{"$f":"IF(H37<0,\"–\",IF(H37=0,\"\",\"+\"))","v":"+"},{"$f":"RANDBETWEEN(0,Worksheet!$B$6)*(-1)^RANDBETWEEN(1,2)","v":2},{"$f":"E37","v":"a"},{"$f":"IF(K37<0,\"–\",IF(K37=0,\"\",\"+\"))","v":"–"},{"$f":"IF(Worksheet!$B$8,RANDBETWEEN(IF(D37*Q37^2+H37*Q37<0,ABS(D37*Q37^2+H37*Q37),IF(D37*Q37^2+H37*Q37<Worksheet!$B$6,(-1)*(D37*Q37^2+H37*Q37),(-1)*Worksheet!$B$6)),IF(D37*Q37^2+H37*Q37<0,MAX(Worksheet!$B$6,ABS(D37*Q37^2+H37*Q37)+2),Worksheet!$B$6)),RANDBETWEEN(1,Worksheet!$B$6)*(-1)^RANDBETWEEN(1,2))","v":-1},null,"when",{"$f":"I37","v":"a"},"=",{"$f":"IF(Q37<0,\"–\",\"\")","v":""},{"$f":"RANDBETWEEN(1,Worksheet!$B$5)*(-1)^RANDBETWEEN(IF(Worksheet!$B$7,1,2),2)","v":5},null,{"$f":"IF(T37<0,\"–\",\"\")","v":""},{"$f":"D37*Q37^2+H37*Q37+K37","v":34},1,null,{"$f":"IF(Worksheet!B$10,RAND(),\"\")","v":0.19720332510957017}]
["Evaluate","(",{"$f":"RANDBETWEEN(1,Worksheet!$B$6)","v":3},{"$f":"CHOOSE(RANDBETWEEN(1,20),\"z\",\"y\",\"x\",\"w\",\"u\",\"a\",\"b\",\"c\",\"d\",\"e\",\"f\",\"g\",\"h\",\"j\",\"k\",\"m\",\"n\",\"p\",\"r\",\"s\")","v":"k"},{"$f":"IF(F38<0,\"–\",\"+\")","v":"+"},{"$f":"RANDBETWEEN(1,Worksheet!$B$6)*(-1)^RANDBETWEEN(1,2)","v":3},")(",{"$f":"RANDBETWEEN(1,Worksheet!$B$6)","v":2},{"$f":"D38","v":"k"},{"$f":"IF(K38<0,\"–\",\"+\")","v":"+"},{"$f":"RANDBETWEEN(1,Worksheet!$B$6)*(-1)^RANDBETWEEN(1,2)","v":2},")","when",{"$f":"I38","v":"k"},"=",{"$f":"IF(Q38<0,\"–\",\"\")","v":""},{"$f":"RANDBETWEEN(1,Worksheet!$B$5)*(-1)^RANDBETWEEN(IF(Worksheet!$B$7,1,2),2)","v":1},null,{"$f":"IF(T38<0,\"–\",\"\")","v":""},{"$f":"(C38*Q38+F38)*(H38*Q38+K38)","v":24},3,null,{"$f":"IF(Worksheet!B$12,RAND(),\"\")","v":0.82317379095911403}]
["Evaluate",null,null,{"$f":"RANDBETWEEN(1,Worksheet!$B$6)","v":1},"(",{"$f":"CHOOSE(RANDBETWEEN(1,20),\"z\",\"y\",\"x\",\"w\",\"u\",\"a\",\"b\",\"c\",\"d\",\"e\",\"f\",\"g\",\"h\",\"j\",\"k\",\"m\",\"n\",\"p\",\"r\",\"s\")","v":"m"},{"$f":"IF(H39<0,\"–\",\"+\")","v":"–"},{"$f":"RANDBETWEEN(1,Worksheet!$B$6)*(-1)^RANDBETWEEN(1,2)","v":-3},")²",{"$f":"IF(K39<0,\"–\",\"+\")","v":"–"},{"$f":"RANDBETWEEN(1,Worksheet!$B$6)*(-1)^RANDBETWEEN(1,2)","v":-1},null,"when",{"$f":"F39","v":"m"},"=",{"$f":"IF(Q39<0,\"–\",\"\")","v":""},{"$f":"RANDBETWEEN(1,Worksheet!$B$5)*(-1)^RANDBETWEEN(IF(Worksheet!$B$7,1,2),2)","v":1},null,{"$f":"IF(T39<0,\"–\",\"\")","v":""},{"$f":"(Q39+H39)^2+K39","v":3},2,null,{"$f":"IF(Worksheet!B$11,RAND(),\"\")","v":0.22225788206482255}]
["Evaluate",null,null,{"$f":"RANDBETWEEN(1,Worksheet!$B$6)","v":1},"(",{"$f":"CHOOSE(RANDBETWEEN(1,20),\"z\",\"y\",\"x\",\"w\",\"u\",\"a\",\"b\",\"c\",\"d\",\"e\",\"f\",\"g\",\"h\",\"j\",\"k\",\"m\",\"n\",\"p\",\"r\",\"s\")","v":"p"},{"$f":"IF(H40<0,\"–\",\"+\")","v":"+"},{"$f":"RANDBETWEEN(1,Worksheet!$B$6)*(-1)^RANDBETWEEN(1,2)","v":3},")²",{"$f":"IF(K40<0,\"–\",\"+\")","v":"+"},{"$f":"RANDBETWEEN(1,Worksheet!$B$6)*(-1)^RANDBETWEEN(1,2)","v":1},null,"when",{"$f":"F40","v":"p"},"=",{"$f":"IF(Q40<0,\"–\",\"\")","v":""},{"$f":"RANDBETWEEN(1,Worksheet!$B$5)*(-1)^RANDBETWEEN(IF(Worksheet!$B$7,1,2),2)","v":5},null,{"$f":"IF(T40<0,\"–\",\"\")","v":""},{"$f":"(Q40+H40)^2+K40","v":65},2,null,{"$f":"IF(Worksheet!B$11,RAND(),\"\")","v":0.25145143209490572}]
["Evaluate",null,null,{"$f":"RANDBETWEEN(1,Worksheet!$B$6)","v":3},{"$f":"CHOOSE(RANDBETWEEN(1,20),\"z\",\"y\",\"x\",\"w\",\"u\",\"a\",\"b\",\"c\",\"d\",\"e\",\"f\",\"g\",\"h\",\"j\",\"k\",\"m\",\"n\",\"p\",\"r\",\"s\")","v":"x"},"²",{"$f":"IF(H41<0,\"–\",IF(H41=0,\"\",\"+\"))","v":"–"},{"$f":"RANDBETWEEN(0,Worksheet!$B$6)*(-1)^RANDBETWEEN(1,2)","v":-3},{"$f":"E41","v":"x"},{"$f":"IF(K41<0,\"–\",IF(K41=0,\"\",\"+\"))","v":"+"},{"$f":"IF(Worksheet!$B$8,RANDBETWEEN(IF(D41*Q41^2+H41*Q41<0,ABS(D41*Q41^2+H41*Q41),IF(D41*Q41^2+H41*Q41<Worksheet!$B$6,(-1)*(D41*Q41^2+H41*Q41),(-1)*Worksheet!$B$6)),IF(D41*Q41^2+H41*Q41<0,MAX(Worksheet!$B$6,ABS(D41*Q41^2+H41*Q41)+2),Worksheet!$B$6)),RANDBETWEEN(1,Worksheet!$B$6)*(-1)^RANDBETWEEN(1,2))","v":3},null,"when",{"$f":"I41","v":"x"},"=",{"$f":"IF(Q41<0,\"–\",\"\")","v":""},{"$f":"RANDBETWEEN(1,Worksheet!$B$5)*(-1)^RANDBETWEEN(IF(Worksheet!$B$7,1,2),2)","v":5},null,{"$f":"IF(T41<0,\"–\",\"\")","v":""},{"$f":"D41*Q41^2+H41*Q41+K41","v":63},1,null,{"$f":"IF(Worksheet!B$10,RAND(),\"\")","v":0.7197287928468572}]
["Evaluate",null,null,{"$f":"RANDBETWEEN(1,Worksheet!$B$6)","v":2},"(",{"$f":"CHOOSE(RANDBETWEEN(1,20),\"z\",\"y\",\"x\",\"w\",\"u\",\"a\",\"b\",\"c\",\"d\",\"e\",\"f\",\"g\",\"h\",\"j\",\"k\",\"m\",\"n\",\"p\",\"r\",\"s\")","v":"y"},{"$f":"IF(H42<0,\"–\",\"+\")","v":"–"},{"$f":"RANDBETWEEN(1,Worksheet!$B$6)*(-1)^RANDBETWEEN(1,2)","v":-1},")²",{"$f":"IF(K42<0,\"–\",\"+\")","v":"+"},{"$f":"RANDBETWEEN(1,Worksheet!$B$6)*(-1)^RANDBETWEEN(1,2)","v":1},null,"when",{"$f":"F42","v":"y"},"=",{"$f":"IF(Q42<0,\"–\",\"\")","v":""},{"$f":"RANDBETWEEN(1,Worksheet!$B$5)*(-1)^RANDBETWEEN(IF(Worksheet!$B$7,1,2),2)","v":2},null,{"$f":"IF(T42<0,\"–\",\"\")","v":""},{"$f":"(Q42+H42)^2+K42","v":2},2,null,{"$f":"IF(Worksheet!B$11,RAND(),\"\")","v":0.98310047269322254}]
["Evaluate",null,null,{"$f":"RANDBETWEEN(1,Worksheet!$B$6)","v":1},"(",{"$f":"CHOOSE(RANDBETWEEN(1,20),\"z\",\"y\",\"x\",\"w\",\"u\",\"a\",\"b\",\"c\",\"d\",\"e\",\"f\",\"g\",\"h\",\"j\",\"k\",\"m\",\"n\",\"p\",\"r\",\"s\")","v":"w"},{"$f":"IF(H43<0,\"–\",\"+\")","v":"+"},{"$f":"RANDBETWEEN(1,Worksheet!$B$6)*(-1)^RANDBETWEEN(1,2)","v":3},")²",{"$f":"IF(K43<0,\"–\",\"+\")","v":"+"},{"$f":"RANDBETWEEN(1,Worksheet!$B$6)*(-1)^RANDBETWEEN(1,2)","v":2},null,"when",{"$f":"F43","v":"w"},"=",{"$f":"IF(Q43<0,\"–\",\"\")","v":""},{"$f":"RANDBETWEEN(1,Worksheet!$B$5)*(-1)^RANDBETWEEN(IF(Worksheet!$B$7,1,2),2)","v":3},null,{"$f":"IF(T43<0,\"–\",\"\")","v":""},{"$f":"(Q43+H43)^2+K43","v":38},2,null,{"$f":"IF(Worksheet!B$11,RAND(),\"\")","v":0.98510533915577625}]
["Evaluate",null,null,{"$f":"RANDBETWEEN(1,Worksheet!$B$6)","v":1},{"$f":"CHOOSE(RANDBETWEEN(1,20),\"z\",\"y\",\"x\",\"w\",\"u\",\"a\",\"b\",\"c\",\"d\",\"e\",\"f\",\"g\",\"h\",\"j\",\"k\",\"m\",\"n\",\"p\",\"r\",\"s\")","v":"d"},"²",{"$f":"IF(H44<0,\"–\",IF(H44=0,\"\",\"+\"))","v":"+"},{"$f":"RANDBETWEEN(0,Worksheet!$B$6)*(-1)^RANDBETWEEN(1,2)","v":3},{"$f":"E44","v":"d"},{"$f":"IF(K44<0,\"–\",IF(K44=0,\"\",\"+\"))","v":"+"},{"$f":"IF(Worksheet!$B$8,RANDBETWEEN(IF(D44*Q44^2+H44*Q44<0,ABS(D44*Q44^2+H44*Q44),IF(D44*Q44^2+H44*Q44<Worksheet!$B$6,(-1)*(D44*Q44^2+H44*Q44),(-1)*Worksheet!$B$6)),IF(D44*Q44^2+H44*Q44<0,MAX(Worksheet!$B$6,ABS(D44*Q44^2+H44*Q44)+2),Worksheet!$B$6)),RANDBETWEEN(1,Worksheet!$B$6)*(-1)^RANDBETWEEN(1,2))","v":2},null,"when",{"$f":"I44","v":"d"},"=",{"$f":"IF(Q44<0,\"–\",\"\")","v":""},{"$f":"RANDBETWEEN(1,Worksheet!$B$5)*(-1)^RANDBETWEEN(IF(Worksheet!$B$7,1,2),2)","v":3},null,{"$f":"IF(T44<0,\"–\",\"\")","v":""},{"$f":"D44*Q44^2+H44*Q44+K44","v":20},1,null,{"$f":"IF(Worksheet!B$10,RAND(),\"\")","v":0.83505431020086951}]
["Evaluate",null,null,{"$f":"RANDBETWEEN(1,Worksheet!$B$6)","v":3},"(",{"$f":"CHOOSE(RANDBETWEEN(1,20),\"z\",\"y\",\"x\",\"w\",\"u\",\"a\",\"b\",\"c\",\"d\",\"e\",\"f\",\"g\",\"h\",\"j\",\"k\",\"m\",\"n\",\"p\",\"r\",\"s\")","v":"x"},{"$f":"IF(H45<0,\"–\",\"+\")","v":"–"},{"$f":"RANDBETWEEN(1,Worksheet!$B$6)*(-1)^RANDBETWEEN(1,2)","v":-2},")²",{"$f":"IF(K45<0,\"–\",\"+\")","v":"–"},{"$f":"RANDBETWEEN(1,Worksheet!$B$6)*(-1)^RANDBETWEEN(1,2)","v":-1},null,"when",{"$f":"F45","v":"x"},"=",{"$f":"IF(Q45<0,\"–\",\"\")","v":""},{"$f":"RANDBETWEEN(1,Worksheet!$B$5)*(-1)^RANDBETWEEN(IF(Worksheet!$B$7,1,2),2)","v":3},null,{"$f":"IF(T45<0,\"–\",\"\")","v":""},{"$f":"(Q45+H45)^2+K45","v":0},2,null,{"$f":"IF(Worksheet!B$11,RAND(),\"\")","v":0.53087587853049123}]
["Evaluate",null,null,{"$f":"RANDBETWEEN(1,Worksheet!$B$6)","v":1},"(",{"$f":"CHOOSE(RANDBETWEEN(1,20),\"z\",\"y\",\"x\",\"w\",\"u\",\"a\",\"b\",\"c\",\"d\",\"e\",\"f\",\"g\",\"h\",\"j\",\"k\",\"m\",\"n\",\"p\",\"r\",\"s\")","v":"b"},{"$f":"IF(H46<0,\"–\",\"+\")","v":"–"},{"$f":"RANDBETWEEN(1,Worksheet!$B$6)*(-1)^RANDBETWEEN(1,2)","v":-2},")²",{"$f":"IF(K46<0,\"–\",\"+\")","v":"+"},{"$f":"RANDBETWEEN(1,Worksheet!$B$6)*(-1)^RANDBETWEEN(1,2)","v":3},null,"when",{"$f":"F46","v":"b"},"=",{"$f":"IF(Q46<0,\"–\",\"\")","v":""},{"$f":"RANDBETWEEN(1,Worksheet!$B$5)*(-1)^RANDBETWEEN(IF(Worksheet!$B$7,1,2),2)","v":2},null,{"$f":"IF(T46<0,\"–\",\"\")","v":""},{"$f":"(Q46+H46)^2+K46","v":3},2,null,{"$f":"IF(Worksheet!B$11,RAND(),\"\")","v":0.67081693451621294}]
["Evaluate","(",{"$f":"RANDBETWEEN(1,Worksheet!$B$6)","v":2},{"$f":"CHOOSE(RANDBETWEEN(1,20),\"z\",\"y\",\"x\",\"w\",\"u\",\"a\",\"b\",\"c\",\"d\",\"e\",\"f\",\"g\",\"h\",\"j\",\"k\",\"m\",\"n\",\"p\",\"r\",\"s\")","v":"c"},{"$f":"IF(F47<0,\"–\",\"+\")","v":"+"},{"$f":"RANDBETWEEN(1,Worksheet!$B$6)*(-1)^RANDBETWEEN(1,2)","v":1},")(",{"$f":"RANDBETWEEN(1,Worksheet!$B$6)","v":3},{"$f":"D47","v":"c"},{"$f":"IF(K47<0,\"–\",\"+\")","v":"+"},{"$f":"RANDBETWEEN(1,Worksheet!$B$6)*(-1)^RANDBETWEEN(1,2)","v":3},")","when",{"$f":"I47","v":"c"},"=",{"$f":"IF(Q47<0,\"–\",\"\")","v":""},{"$f":"RANDBETWEEN(1,Worksheet!$B$5)*(-1)^RANDBETWEEN(IF(Worksheet!$B$7,1,2),2)","v":2},null,{"$f":"IF(T47<0,\"–\",\"\")","v":""},{"$f":"(C47*Q47+F47)*(H47*Q47+K47)","v":45},3,null,{"$f":"IF(Worksheet!B$12,RAND(),\"\")","v":0.94041991077881537}]
["Evaluate","(",{"$f":"RANDBETWEEN(1,Worksheet!$B$6)","v":1},{"$f":"CHOOSE(RANDBETWEEN(1,20),\"z\",\"y\",\"x\",\"w\",\"u\",\"a\",\"b\",\"c\",\"d\",\"e\",\"f\",\"g\",\"h\",\"j\",\"k\",\"m\",\"n\",\"p\",\"r\",\"s\")","v":"b"},{"$f":"IF(F48<0,\"–\",\"+\")","v":"–"},{"$f":"RANDBETWEEN(1,Worksheet!$B$6)*(-1)^RANDBETWEEN(1,2)","v":-1},")(",{"$f":"RANDBETWEEN(1,Worksheet!$B$6)","v":2},{"$f":"D48","v":"b"},{"$f":"IF(K48<0,\"–\",\"+\")","v":"–"},{"$f":"RANDBETWEEN(1,Worksheet!$B$6)*(-1)^RANDBETWEEN(1,2)","v":-1},")","when",{"$f":"I48","v":"b"},"=",{"$f":"IF(Q48<0,\"–\",\"\")","v":""},{"$f":"RANDBETWEEN(1,Worksheet!$B$5)*(-1)^RANDBETWEEN(IF(Worksheet!$B$7,1,2),2)","v":3},null,{"$f":"IF(T48<0,\"–\",\"\")","v":""},{"$f":"(C48*Q48+F48)*(H48*Q48+K48)","v":10},3,null,{"$f":"IF(Worksheet!B$12,RAND(),\"\")","v":0.15791589361720748}]
["Evaluate","(",{"$f":"RANDBETWEEN(1,Worksheet!$B$6)","v":3},{"$f":"CHOOSE(RANDBETWEEN(1,20),\"z\",\"y\",\"x\",\"w\",\"u\",\"a\",\"b\",\"c\",\"d\",\"e\",\"f\",\"g\",\"h\",\"j\",\"k\",\"m\",\"n\",\"p\",\"r\",\"s\")","v":"j"},{"$f":"IF(F49<0,\"–\",\"+\")","v":"–"},{"$f":"RANDBETWEEN(1,Worksheet!$B$6)*(-1)^RANDBETWEEN(1,2)","v":-1},")(",{"$f":"RANDBETWEEN(1,Worksheet!$B$6)","v":1},{"$f":"D49","v":"j"},{"$f":"IF(K49<0,\"–\",\"+\")","v":"–"},{"$f":"RANDBETWEEN(1,Worksheet!$B$6)*(-1)^RANDBETWEEN(1,2)","v":-1},")","when",{"$f":"I49","v":"j"},"=",{"$f":"IF(Q49<0,\"–\",\"\")","v":""},{"$f":"RANDBETWEEN(1,Worksheet!$B$5)*(-1)^RANDBETWEEN(IF(Worksheet!$B$7,1,2),2)","v":2},null,{"$f":"IF(T49<0,\"–\",\"\")","v":""},{"$f":"(C49*Q49+F49)*(H49*Q49+K49)","v":5},3,null,{"$f":"IF(Worksheet!B$12,RAND(),\"\")","v":0.67674798737337993}]
["Evaluate",null,null,{"$f":"RANDBETWEEN(1,Worksheet!$B$6)","v":3},"(",{"$f":"CHOOSE(RANDBETWEEN(1,20),\"z\",\"y\",\"x\",\"w\",\"u\",\"a\",\"b\",\"c\",\"d\",\"e\",\"f\",\"g\",\"h\",\"j\",\"k\",\"m\",\"n\",\"p\",\"r\",\"s\")","v":"g"},{"$f":"IF(H50<0,\"–\",\"+\")","v":"+"},{"$f":"RANDBETWEEN(1,Worksheet!$B$6)*(-1)^RANDBETWEEN(1,2)","v":3},")²",{"$f":"IF(K50<0,\"–\",\"+\")","v":"–"},{"$f":"RANDBETWEEN(1,Worksheet!$B$6)*(-1)^RANDBETWEEN(1,2)","v":-3},null,"when",{"$f":"F50","v":"g"},"=",{"$f":"IF(Q50<0,\"–\",\"\")","v":""},{"$f":"RANDBETWEEN(1,Worksheet!$B$5)*(-1)^RANDBETWEEN(IF(Worksheet!$B$7,1,2),2)","v":4},null,{"$f":"IF(T50<0,\"–\",\"\")","v":""},{"$f":"(Q50+H50)^2+K50","v":46},2,null,{"$f":"IF(Worksheet!B$11,RAND(),\"\")","v":0.7111118870961417}]
["Evaluate",null,null,{"$f":"RANDBETWEEN(1,Worksheet!$B$6)","v":3},"(",{"$f":"CHOOSE(RANDBETWEEN(1,20),\"z\",\"y\",\"x\",\"w\",\"u\",\"a\",\"b\",\"c\",\"d\",\"e\",\"f\",\"g\",\"h\",\"j\",\"k\",\"m\",\"n\",\"p\",\"r\",\"s\")","v":"n"},{"$f":"IF(H51<0,\"–\",\"+\")","v":"–"},{"$f":"RANDBETWEEN(1,Worksheet!$B$6)*(-1)^RANDBETWEEN(1,2)","v":-2},")²",{"$f":"IF(K51<0,\"–\",\"+\")","v":"–"},{"$f":"RANDBETWEEN(1,Worksheet!$B$6)*(-1)^RANDBETWEEN(1,2)","v":-1},null,"when",{"$f":"F51","v":"n"},"=",{"$f":"IF(Q51<0,\"–\",\"\")","v":""},{"$f":"RANDBETWEEN(1,Worksheet!$B$5)*(-1)^RANDBETWEEN(IF(Worksheet!$B$7,1,2),2)","v":5},null,{"$f":"IF(T51<0,\"–\",\"\")","v":""},{"$f":"(Q51+H51)^2+K51","v":8},2,null,{"$f":"IF(Worksheet!B$11,RAND(),\"\")","v":0.30232457069986229}]
["Evaluate","(",{"$f":"RANDBETWEEN(1,Worksheet!$B$6)","v":1},{"$f":"CHOOSE(RANDBETWEEN(1,20),\"z\",\"y\",\"x\",\"w\",\"u\",\"a\",\"b\",\"c\",\"d\",\"e\",\"f\",\"g\",\"h\",\"j\",\"k\",\"m\",\"n\",\"p\",\"r\",\"s\")","v":"d"},{"$f":"IF(F52<0,\"–\",\"+\")","v":"+"},{"$f":"RANDBETWEEN(1,Worksheet!$B$6)*(-1)^RANDBETWEEN(1,2)","v":3},")(",{"$f":"RANDBETWEEN(1,Worksheet!$B$6)","v":1},{"$f":"D52","v":"d"},{"$f":"IF(K52<0,\"–\",\"+\")","v":"–"},{"$f":"RANDBETWEEN(1,Worksheet!$B$6)*(-1)^RANDBETWEEN(1,2)","v":-1},")","when",{"$f":"I52","v":"d"},"=",{"$f":"IF(Q52<0,\"–\",\"\")","v":""},{"$f":"RANDBETWEEN(1,Worksheet!$B$5)*(-1)^RANDBETWEEN(IF(Worksheet!$B$7,1,2),2)","v":1},null,{"$f":"IF(T52<0,\"–\",\"\")","v":""},{"$f":"(C52*Q52+F52)*(H52*Q52+K52)","v":0},3,null,{"$f":"IF(Worksheet!B$12,RAND(),\"\")","v":0.30462255283736706}]
["Evaluate","(",{"$f":"RANDBETWEEN(1,Worksheet!$B$6)","v":1},{"$f":"CHOOSE(RANDBETWEEN(1,20),\"z\",\"y\",\"x\",\"w\",\"u\",\"a\",\"b\",\"c\",\"d\",\"e\",\"f\",\"g\",\"h\",\"j\",\"k\",\"m\",\"n\",\"p\",\"r\",\"s\")","v":"j"},{"$f":"IF(F53<0,\"–\",\"+\")","v":"+"},{"$f":"RANDBETWEEN(1,Worksheet!$B$6)*(-1)^RANDBETWEEN(1,2)","v":1},")(",{"$f":"RANDBETWEEN(1,Worksheet!$B$6)","v":1},{"$f":"D53","v":"j"},{"$f":"IF(K53<0,\"–\",\"+\")","v":"–"},{"$f":"RANDBETWEEN(1,Worksheet!$B$6)*(-1)^RANDBETWEEN(1,2)","v":-2},")","when",{"$f":"I53","v":"j"},"=",{"$f":"IF(Q53<0,\"–\",\"\")","v":""},{"$f":"RANDBETWEEN(1,Worksheet!$B$5)*(-1)^RANDBETWEEN(IF(Worksheet!$B$7,1,2),2)","v":5},null,{"$f":"IF(T53<0,\"–\",\"\")","v":""},{"$f":"(C53*Q53+F53)*(H53*Q53+K53)","v":18},3,null,{"$f":"IF(Worksheet!B$12,RAND(),\"\")","v":0.42902621982022715}]
["Evaluate",null,null,{"$f":"RANDBETWEEN(1,Worksheet!$B$6)","v":1},{"$f":"CHOOSE(RANDBETWEEN(1,20),\"z\",\"y\",\"x\",\"w\",\"u\",\"a\",\"b\",\"c\",\"d\",\"e\",\"f\",\"g\",\"h\",\"j\",\"k\",\"m\",\"n\",\"p\",\"r\",\"s\")","v":"f"},"²",{"$f":"IF(H54<0,\"–\",IF(H54=0,\"\",\"+\"))","v":"–"},{"$f":"RANDBETWEEN(0,Worksheet!$B$6)*(-1)^RANDBETWEEN(1,2)","v":-3},{"$f":"E54","v":"f"},{"$f":"IF(K54<0,\"–\",IF(K54=0,\"\",\"+\"))","v":"+"},{"$f":"IF(Worksheet!$B$8,RANDBETWEEN(IF(D54*Q54^2+H54*Q54<0,ABS(D54*Q54^2+H54*Q54),IF(D54*Q54^2+H54*Q54<Worksheet!$B$6,(-1)*(D54*Q54^2+H54*Q54),(-1)*Worksheet!$B$6)),IF(D54*Q54^2+H54*Q54<0,MAX(Worksheet!$B$6,ABS(D54*Q54^2+H54*Q54)+2),Worksheet!$B$6)),RANDBETWEEN(1,Worksheet!$B$6)*(-1)^RANDBETWEEN(1,2))","v":3},null,"when",{"$f":"I54","v":"f"},"=",{"$f":"IF(Q54<0,\"–\",\"\")","v":""},{"$f":"RANDBETWEEN(1,Worksheet!$B$5)*(-1)^RANDBETWEEN(IF(Worksheet!$B$7,1,2),2)","v":1},null,{"$f":"IF(T54<0,\"–\",\"\")","v":""},{"$f":"D54*Q54^2+H54*Q54+K54","v":1},1,null,{"$f":"IF(Worksheet!B$10,RAND(),\"\")","v":0.84445359148189969}]
["Evaluate",null,null,{"$f":"RANDBETWEEN(1,Worksheet!$B$6)","v":2},{"$f":"CHOOSE(RANDBETWEEN(1,20),\"z\",\"y\",\"x\",\"w\",\"u\",\"a\",\"b\",\"c\",\"d\",\"e\",\"f\",\"g\",\"h\",\"j\",\"k\",\"m\",\"n\",\"p\",\"r\",\"s\")","v":"x"},"²",{"$f":"IF(H55<0,\"–\",IF(H55=0,\"\",\"+\"))","v":"–"},{"$f":"RANDBETWEEN(0,Worksheet!$B$6)*(-1)^RANDBETWEEN(1,2)","v":-1},{"$f":"E55","v":"x"},{"$f":"IF(K55<0,\"–\",IF(K55=0,\"\",\"+\"))","v":"–"},{"$f":"IF(Worksheet!$B$8,RANDBETWEEN(IF(D55*Q55^2+H55*Q55<0,ABS(D55*Q55^2+H55*Q55),IF(D55*Q55^2+H55*Q55<Worksheet!$B$6,(-1)*(D55*Q55^2+H55*Q55),(-1)*Worksheet!$B$6)),IF(D55*Q55^2+H55*Q55<0,MAX(Worksheet!$B$6,ABS(D55*Q55^2+H55*Q55)+2),Worksheet!$B$6)),RANDBETWEEN(1,Worksheet!$B$6)*(-1)^RANDBETWEEN(1,2))","v":-2},null,"when",{"$f":"I55","v":"x"},"=",{"$f":"IF(Q55<0,\"–\",\"\")","v":""},{"$f":"RANDBETWEEN(1,Worksheet!$B$5)*(-1)^RANDBETWEEN(IF(Worksheet!$B$7,1,2),2)","v":1},null,{"$f":"IF(T55<0,\"–\",\"\")","v":"–"},{"$f":"D55*Q55^2+H55*Q55+K55","v":-1},1,null,{"$f":"IF(Worksheet!B$10,RAND(),\"\")","v":0.95036373422176701}]
["Evaluate",null,null,{"$f":"RANDBETWEEN(1,Worksheet!$B$6)","v":1},{"$f":"CHOOSE(RANDBETWEEN(1,20),\"z\",\"y\",\"x\",\"w\",\"u\",\"a\",\"b\",\"c\",\"d\",\"e\",\"f\",\"g\",\"h\",\"j\",\"k\",\"m\",\"n\",\"p\",\"r\",\"s\")","v":"k"},"²",{"$f":"IF(H56<0,\"–\",IF(H56=0,\"\",\"+\"))","v":"+"},{"$f":"RANDBETWEEN(0,Worksheet!$B$6)*(-1)^RANDBETWEEN(1,2)","v":2},{"$f":"E56","v":"k"},{"$f":"IF(K56<0,\"–\",IF(K56=0,\"\",\"+\"))","v":"–"},{"$f":"IF(Worksheet!$B$8,RANDBETWEEN(IF(D56*Q56^2+H56*Q56<0,ABS(D56*Q56^2+H56*Q56),IF(D56*Q56^2+H56*Q56<Worksheet!$B$6,(-1)*(D56*Q56^2+H56*Q56),(-1)*Worksheet!$B$6)),IF(D56*Q56^2+H56*Q56<0,MAX(Worksheet!$B$6,ABS(D56*Q56^2+H56*Q56)+2),Worksheet!$B$6)),RANDBETWEEN(1,Worksheet!$B$6)*(-1)^RANDBETWEEN(1,2))","v":-1},null,"when",{"$f":"I56","v":"k"},"=",{"$f":"IF(Q56<0,\"–\",\"\")","v":""},{"$f":"RANDBETWEEN(1,Worksheet!$B$5)*(-1)^RANDBETWEEN(IF(Worksheet!$B$7,1,2),2)","v":1},null,{"$f":"IF(T56<0,\"–\",\"\")","v":""},{"$f":"D56*Q56^2+H56*Q56+K56","v":2},1,null,{"$f":"IF(Worksheet!B$10,RAND(),\"\")","v":0.82259091993499378}]
["Evaluate",null,null,{"$f":"RANDBETWEEN(1,Worksheet!$B$6)","v":1},{"$f":"CHOOSE(RANDBETWEEN(1,20),\"z\",\"y\",\"x\",\"w\",\"u\",\"a\",\"b\",\"c\",\"d\",\"e\",\"f\",\"g\",\"h\",\"j\",\"k\",\"m\",\"n\",\"p\",\"r\",\"s\")","v":"e"},"²",{"$f":"IF(H57<0,\"–\",IF(H57=0,\"\",\"+\"))","v":"–"},{"$f":"RANDBETWEEN(0,Worksheet!$B$6)*(-1)^RANDBETWEEN(1,2)","v":-1},{"$f":"E57","v":"e"},{"$f":"IF(K57<0,\"–\",IF(K57=0,\"\",\"+\"))","v":"–"},{"$f":"IF(Worksheet!$B$8,RANDBETWEEN(IF(D57*Q57^2+H57*Q57<0,ABS(D57*Q57^2+H57*Q57),IF(D57*Q57^2+H57*Q57<Worksheet!$B$6,(-1)*(D57*Q57^2+H57*Q57),(-1)*Worksheet!$B$6)),IF(D57*Q57^2+H57*Q57<0,MAX(Worksheet!$B$6,ABS(D57*Q57^2+H57*Q57)+2),Worksheet!$B$6)),RANDBETWEEN(1,Worksheet!$B$6)*(-1)^RANDBETWEEN(1,2))","v":-1},null,"when",{"$f":"I57","v":"e"},"=",{"$f":"IF(Q57<0,\"–\",\"\")","v":""},{"$f":"RANDBETWEEN(1,Worksheet!$B$5)*(-1)^RANDBETWEEN(IF(Worksheet!$B$7,1,2),2)","v":5},null,{"$f":"IF(T57<0,\"–\",\"\")","v":""},{"$f":"D57*Q57^2+H57*Q57+K57","v":19},1,null,{"$f":"IF(Worksheet!B$10,RAND(),\"\")","v":0.17301605772957673}]
["Evaluate",null,null,{"$f":"RANDBETWEEN(1,Worksheet!$B$6)","v":1},"(",{"$f":"CHOOSE(RANDBETWEEN(1,20),\"z\",\"y\",\"x\",\"w\",\"u\",\"a\",\"b\",\"c\",\"d\",\"e\",\"f\",\"g\",\"h\",\"j\",\"k\",\"m\",\"n\",\"p\",\"r\",\"s\")","v":"k"},{"$f":"IF(H58<0,\"–\",\"+\")","v":"+"},{"$f":"RANDBETWEEN(1,Worksheet!$B$6)*(-1)^RANDBETWEEN(1,2)","v":2},")²",{"$f":"IF(K58<0,\"–\",\"+\")","v":"+"},{"$f":"RANDBETWEEN(1,Worksheet!$B$6)*(-1)^RANDBETWEEN(1,2)","v":1},null,"when",{"$f":"F58","v":"k"},"=",{"$f":"IF(Q58<0,\"–\",\"\")","v":""},{"$f":"RANDBETWEEN(1,Worksheet!$B$5)*(-1)^RANDBETWEEN(IF(Worksheet!$B$7,1,2),2)","v":4},null,{"$f":"IF(T58<0,\"–\",\"\")","v":""},{"$f":"(Q58+H58)^2+K58","v":37},2,null,{"$f":"IF(Worksheet!B$11,RAND(),\"\")","v":0.17408271809884823}]
["Evaluate",null,null,{"$f":"RANDBETWEEN(1,Worksheet!$B$6)","v":2},{"$f":"CHOOSE(RANDBETWEEN(1,20),\"z\",\"y\",\"x\",\"w\",\"u\",\"a\",\"b\",\"c\",\"d\",\"e\",\"f\",\"g\",\"h\",\"j\",\"k\",\"m\",\"n\",\"p\",\"r\",\"s\")","v":"z"},"²",{"$f":"IF(H59<0,\"–\",IF(H59=0,\"\",\"+\"))","v":"–"},{"$f":"RANDBETWEEN(0,Worksheet!$B$6)*(-1)^RANDBETWEEN(1,2)","v":-2},{"$f":"E59","v":"z"},{"$f":"IF(K59<0,\"–\",IF(K59=0,\"\",\"+\"))","v":"+"},{"$f":"IF(Worksheet!$B$8,RANDBETWEEN(IF(D59*Q59^2+H59*Q59<0,ABS(D59*Q59^2+H59*Q59),IF(D59*Q59^2+H59*Q59<Worksheet!$B$6,(-1)*(D59*Q59^2+H59*Q59),(-1)*Worksheet!$B$6)),IF(D59*Q59^2+H59*Q59<0,MAX(Worksheet!$B$6,ABS(D59*Q59^2+H59*Q59)+2),Worksheet!$B$6)),RANDBETWEEN(1,Worksheet!$B$6)*(-1)^RANDBETWEEN(1,2))","v":3},null,"when",{"$f":"I59","v":"z"},"=",{"$f":"IF(Q59<0,\"–\",\"\")","v":""},{"$f":"RANDBETWEEN(1,Worksheet!$B$5)*(-1)^RANDBETWEEN(IF(Worksheet!$B$7,1,2),2)","v":3},null,{"$f":"IF(T59<0,\"–\",\"\")","v":""},{"$f":"D59*Q59^2+H59*Q59+K59","v":15},1,null,{"$f":"IF(Worksheet!B$10,RAND(),\"\")","v":0.78045346283053274}]
["Evaluate",null,null,{"$f":"RANDBETWEEN(1,Worksheet!$B$6)","v":1},{"$f":"CHOOSE(RANDBETWEEN(1,20),\"z\",\"y\",\"x\",\"w\",\"u\",\"a\",\"b\",\"c\",\"d\",\"e\",\"f\",\"g\",\"h\",\"j\",\"k\",\"m\",\"n\",\"p\",\"r\",\"s\")","v":"m"},"²",{"$f":"IF(H60<0,\"–\",IF(H60=0,\"\",\"+\"))","v":""},{"$f":"RANDBETWEEN(0,Worksheet!$B$6)*(-1)^RANDBETWEEN(1,2)","v":0},{"$f":"E60","v":"m"},{"$f":"IF(K60<0,\"–\",IF(K60=0,\"\",\"+\"))","v":"+"},{"$f":"IF(Worksheet!$B$8,RANDBETWEEN(IF(D60*Q60^2+H60*Q60<0,ABS(D60*Q60^2+H60*Q60),IF(D60*Q60^2+H60*Q60<Worksheet!$B$6,(-1)*(D60*Q60^2+H60*Q60),(-1)*Worksheet!$B$6)),IF(D60*Q60^2+H60*Q60<0,MAX(Worksheet!$B$6,ABS(D60*Q60^2+H60*Q60)+2),Worksheet!$B$6)),RANDBETWEEN(1,Worksheet!$B$6)*(-1)^RANDBETWEEN(1,2))","v":1},null,"when",{"$f":"I60","v":"m"},"=",{"$f":"IF(Q60<0,\"–\",\"\")","v":""},{"$f":"RANDBETWEEN(1,Worksheet!$B$5)*(-1)^RANDBETWEEN(IF(Worksheet!$B$7,1,2),2)","v":2},null,{"$f":"IF(T60<0,\"–\",\"\")","v":""},{"$f":"D60*Q60^2+H60*Q60+K60","v":5},1,null,{"$f":"IF(Worksheet!B$10,RAND(),\"\")","v":0.43958604710866001}]