{"text_format":"1","workbook":"xlsx","n_sheets":2,"sheets":["Worksheet","SYSTEM FORMULAE"],"not_rendered":{"charts":0,"images":0,"macros":1,"external_links":0,"defined_names":2,"comments":0,"pivot_tables":0},"unopened":[],"bounds":{"document_bytes":16777216,"sheet_cells":100000,"rows_first":2000,"rows_last":500,"rows_between":2000,"halvings":0,"cell_chars":16384,"cell_head_chars":4096},"cells_cut":0,"cells_raw":0,"read":"whole","date_system":"1900"}

{"sheet":"Worksheet","index":0,"n_rows":21,"n_cols":21,"rows_kept":21,"cut":false,"hidden":false,"merged":[[1,0,1,1],[3,0,3,1],[0,2,0,20]]}
[null,null,"Evaluate these quadratic expressions"]
["Variables",null,1,"Evaluate",4,"x","²","+",5,"x","–",1,null,"when","x","=","",1,null,"",8]
["SHOW ANSWERS",false,2,"Evaluate",5,"a","²","–",2,"a","+",2,null,"when","a","=","",2,null,"",18]
["Restrictions on questions",null,3,"Evaluate",1,"x","²","–",4,"x","–",5,null,"when","x","=","–",4,null,"",27]
["Maximum (absolute) value of variable",5,4,"Evaluate",5,"b","²","–",2,"b","+",4,null,"when","b","=","–",1,null,"",11]
["Maximum (absolute) values of coefficients",5,5,"Evaluate",1,"y","²","+",3,"y","–",4,null,"when","y","=","–",1,null,"–",6]
["Allow negative values of variable",true,6,"Evaluate",2,"e","²","–",2,"e","+",2,null,"when","e","=","",1,null,"",2]
["Suppress negative answers",false,7,"Evaluate",3,"w","²","",0,"w","–",5,null,"when","w","=","–",3,null,"",22]
[null,null,8,"Evaluate",5,"r","²","–",5,"r","+",3,null,"when","r","=","–",4,null,"",103]
[null,null,9,"Evaluate",4,"n","²","",0,"n","+",5,null,"when","n","=","",5,null,"",105]
[null,null,10,"Evaluate",5,"a","²","+",1,"a","–",2,null,"when","a","=","",3,null,"",46]
[null,null,11,"Evaluate",2,"g","²","",0,"g","+",5,null,"when","g","=","–",5,null,"",55]
[null,null,12,"Evaluate",4,"s","²","+",5,"s","–",2,null,"when","s","=","",3,null,"",49]
[null,null,13,"Evaluate",1,"m","²","–",4,"m","+",1,null,"when","m","=","–",2,null,"",13]
[null,null,14,"Evaluate",3,"y","²","+",3,"y","+",4,null,"when","y","=","",1,null,"",10]
[null,null,15,"Evaluate",5,"g","²","+",5,"g","+",3,null,"when","g","=","",2,null,"",33]
[null,null,16,"Evaluate",1,"e","²","+",1,"e","+",3,null,"when","e","=","–",1,null,"",3]
[null,null,17,"Evaluate",3,"m","²","",0,"m","+",4,null,"when","m","=","",2,null,"",16]
[null,null,18,"Evaluate",5,"c","²","–",2,"c","–",2,null,"when","c","=","–",4,null,"",86]
[null,null,19,"Evaluate",3,"s","²","–",2,"s","–",1,null,"when","s","=","–",3,null,"",32]
[null,null,20,"Evaluate",5,"p","²","–",5,"p","+",4,null,"when","p","=","",3,null,"",34]

{"sheet":"SYSTEM FORMULAE","index":1,"n_rows":20,"n_cols":19,"rows_kept":20,"cut":false,"hidden":false,"merged":[]}
[1,"Evaluate",{"$f":"RANDBETWEEN(1,Worksheet!$B$6)","v":2},{"$f":"CHOOSE(RANDBETWEEN(1,20),\"z\",\"y\",\"x\",\"w\",\"u\",\"a\",\"b\",\"c\",\"d\",\"e\",\"f\",\"g\",\"h\",\"j\",\"k\",\"m\",\"n\",\"p\",\"r\",\"s\")","v":"u"},"²",{"$f":"IF(G1<0,\"–\",IF(G1=0,\"\",\"+\"))","v":"–"},{"$f":"RANDBETWEEN(0,Worksheet!$B$6)*(-1)^RANDBETWEEN(1,2)","v":-4},{"$f":"D1","v":"u"},{"$f":"IF(J1<0,\"–\",IF(J1=0,\"\",\"+\"))","v":"–"},{"$f":"IF(Worksheet!$B$8,RANDBETWEEN(IF(C1*P1^2+G1*P1<0,ABS(C1*P1^2+G1*P1),IF(C1*P1^2+G1*P1<Worksheet!$B$6,(-1)*(C1*P1^2+G1*P1),(-1)*Worksheet!$B$6)),IF(C1*P1^2+G1*P1<0,MAX(Worksheet!$B$6,ABS(C1*P1^2+G1*P1)+2),Worksheet!$B$6)),RANDBETWEEN(1,Worksheet!$B$6)*(-1)^RANDBETWEEN(1,2))","v":-5},null,"when",{"$f":"H1","v":"u"},"=",{"$f":"IF(P1<0,\"–\",\"\")","v":"–"},{"$f":"RANDBETWEEN(1,Worksheet!$B$5)*(-1)^RANDBETWEEN(IF(Worksheet!$B$7,1,2),2)","v":-2},null,{"$f":"IF(S1<0,\"–\",\"\")","v":""},{"$f":"C1*P1^2+G1*P1+J1","v":11}]
[2,"Evaluate",{"$f":"RANDBETWEEN(1,Worksheet!$B$6)","v":1},{"$f":"CHOOSE(RANDBETWEEN(1,20),\"z\",\"y\",\"x\",\"w\",\"u\",\"a\",\"b\",\"c\",\"d\",\"e\",\"f\",\"g\",\"h\",\"j\",\"k\",\"m\",\"n\",\"p\",\"r\",\"s\")","v":"a"},"²",{"$f":"IF(G2<0,\"–\",IF(G2=0,\"\",\"+\"))","v":"+"},{"$f":"RANDBETWEEN(0,Worksheet!$B$6)*(-1)^RANDBETWEEN(1,2)","v":3},{"$f":"D2","v":"a"},{"$f":"IF(J2<0,\"–\",IF(J2=0,\"\",\"+\"))","v":"+"},{"$f":"IF(Worksheet!$B$8,RANDBETWEEN(IF(C2*P2^2+G2*P2<0,ABS(C2*P2^2+G2*P2),IF(C2*P2^2+G2*P2<Worksheet!$B$6,(-1)*(C2*P2^2+G2*P2),(-1)*Worksheet!$B$6)),IF(C2*P2^2+G2*P2<0,MAX(Worksheet!$B$6,ABS(C2*P2^2+G2*P2)+2),Worksheet!$B$6)),RANDBETWEEN(1,Worksheet!$B$6)*(-1)^RANDBETWEEN(1,2))","v":4},null,"when",{"$f":"H2","v":"a"},"=",{"$f":"IF(P2<0,\"–\",\"\")","v":"–"},{"$f":"RANDBETWEEN(1,Worksheet!$B$5)*(-1)^RANDBETWEEN(IF(Worksheet!$B$7,1,2),2)","v":-4},null,{"$f":"IF(S2<0,\"–\",\"\")","v":""},{"$f":"C2*P2^2+G2*P2+J2","v":8}]
[3,"Evaluate",{"$f":"RANDBETWEEN(1,Worksheet!$B$6)","v":3},"k","²","–",{"$f":"RANDBETWEEN(0,Worksheet!$B$6)*(-1)^RANDBETWEEN(1,2)","v":-2},"k","–",{"$f":"IF(Worksheet!$B$8,RANDBETWEEN(IF(C3*P3^2+G3*P3<0,ABS(C3*P3^2+G3*P3),IF(C3*P3^2+G3*P3<Worksheet!$B$6,(-1)*(C3*P3^2+G3*P3),(-1)*Worksheet!$B$6)),IF(C3*P3^2+G3*P3<0,MAX(Worksheet!$B$6,ABS(C3*P3^2+G3*P3)+2),Worksheet!$B$6)),RANDBETWEEN(1,Worksheet!$B$6)*(-1)^RANDBETWEEN(1,2))","v":-4},null,"when","k","=","–",{"$f":"RANDBETWEEN(1,Worksheet!$B$5)*(-1)^RANDBETWEEN(IF(Worksheet!$B$7,1,2),2)","v":-3},null,"",29]
[4,"Evaluate",{"$f":"RANDBETWEEN(1,Worksheet!$B$6)","v":3},"c","²","–",{"$f":"RANDBETWEEN(0,Worksheet!$B$6)*(-1)^RANDBETWEEN(1,2)","v":-2},"c","–",{"$f":"IF(Worksheet!$B$8,RANDBETWEEN(IF(C4*P4^2+G4*P4<0,ABS(C4*P4^2+G4*P4),IF(C4*P4^2+G4*P4<Worksheet!$B$6,(-1)*(C4*P4^2+G4*P4),(-1)*Worksheet!$B$6)),IF(C4*P4^2+G4*P4<0,MAX(Worksheet!$B$6,ABS(C4*P4^2+G4*P4)+2),Worksheet!$B$6)),RANDBETWEEN(1,Worksheet!$B$6)*(-1)^RANDBETWEEN(1,2))","v":-3},null,"when","c","=","",{"$f":"RANDBETWEEN(1,Worksheet!$B$5)*(-1)^RANDBETWEEN(IF(Worksheet!$B$7,1,2),2)","v":3},null,"",18]
[5,"Evaluate",{"$f":"RANDBETWEEN(1,Worksheet!$B$6)","v":3},"c","²","–",{"$f":"RANDBETWEEN(0,Worksheet!$B$6)*(-1)^RANDBETWEEN(1,2)","v":-4},"c","–",{"$f":"IF(Worksheet!$B$8,RANDBETWEEN(IF(C5*P5^2+G5*P5<0,ABS(C5*P5^2+G5*P5),IF(C5*P5^2+G5*P5<Worksheet!$B$6,(-1)*(C5*P5^2+G5*P5),(-1)*Worksheet!$B$6)),IF(C5*P5^2+G5*P5<0,MAX(Worksheet!$B$6,ABS(C5*P5^2+G5*P5)+2),Worksheet!$B$6)),RANDBETWEEN(1,Worksheet!$B$6)*(-1)^RANDBETWEEN(1,2))","v":-4},null,"when","c","=","–",{"$f":"RANDBETWEEN(1,Worksheet!$B$5)*(-1)^RANDBETWEEN(IF(Worksheet!$B$7,1,2),2)","v":-5},null,"",91]
[6,"Evaluate",{"$f":"RANDBETWEEN(1,Worksheet!$B$6)","v":5},"x","²","",{"$f":"RANDBETWEEN(0,Worksheet!$B$6)*(-1)^RANDBETWEEN(1,2)","v":0},"x","–",{"$f":"IF(Worksheet!$B$8,RANDBETWEEN(IF(C6*P6^2+G6*P6<0,ABS(C6*P6^2+G6*P6),IF(C6*P6^2+G6*P6<Worksheet!$B$6,(-1)*(C6*P6^2+G6*P6),(-1)*Worksheet!$B$6)),IF(C6*P6^2+G6*P6<0,MAX(Worksheet!$B$6,ABS(C6*P6^2+G6*P6)+2),Worksheet!$B$6)),RANDBETWEEN(1,Worksheet!$B$6)*(-1)^RANDBETWEEN(1,2))","v":-3},null,"when","x","=","",{"$f":"RANDBETWEEN(1,Worksheet!$B$5)*(-1)^RANDBETWEEN(IF(Worksheet!$B$7,1,2),2)","v":5},null,"",122]
[7,"Evaluate",{"$f":"RANDBETWEEN(1,Worksheet!$B$6)","v":3},"y","²","+",{"$f":"RANDBETWEEN(0,Worksheet!$B$6)*(-1)^RANDBETWEEN(1,2)","v":1},"y","+",{"$f":"IF(Worksheet!$B$8,RANDBETWEEN(IF(C7*P7^2+G7*P7<0,ABS(C7*P7^2+G7*P7),IF(C7*P7^2+G7*P7<Worksheet!$B$6,(-1)*(C7*P7^2+G7*P7),(-1)*Worksheet!$B$6)),IF(C7*P7^2+G7*P7<0,MAX(Worksheet!$B$6,ABS(C7*P7^2+G7*P7)+2),Worksheet!$B$6)),RANDBETWEEN(1,Worksheet!$B$6)*(-1)^RANDBETWEEN(1,2))","v":1},null,"when","y","=","",{"$f":"RANDBETWEEN(1,Worksheet!$B$5)*(-1)^RANDBETWEEN(IF(Worksheet!$B$7,1,2),2)","v":3},null,"",31]
[8,"Evaluate",{"$f":"RANDBETWEEN(1,Worksheet!$B$6)","v":3},"d","²","–",{"$f":"RANDBETWEEN(0,Worksheet!$B$6)*(-1)^RANDBETWEEN(1,2)","v":-4},"d","+",{"$f":"IF(Worksheet!$B$8,RANDBETWEEN(IF(C8*P8^2+G8*P8<0,ABS(C8*P8^2+G8*P8),IF(C8*P8^2+G8*P8<Worksheet!$B$6,(-1)*(C8*P8^2+G8*P8),(-1)*Worksheet!$B$6)),IF(C8*P8^2+G8*P8<0,MAX(Worksheet!$B$6,ABS(C8*P8^2+G8*P8)+2),Worksheet!$B$6)),RANDBETWEEN(1,Worksheet!$B$6)*(-1)^RANDBETWEEN(1,2))","v":3},null,"when","d","=","–",{"$f":"RANDBETWEEN(1,Worksheet!$B$5)*(-1)^RANDBETWEEN(IF(Worksheet!$B$7,1,2),2)","v":-5},null,"",98]
[9,"Evaluate",{"$f":"RANDBETWEEN(1,Worksheet!$B$6)","v":5},"x","²","",{"$f":"RANDBETWEEN(0,Worksheet!$B$6)*(-1)^RANDBETWEEN(1,2)","v":0},"x","+",{"$f":"IF(Worksheet!$B$8,RANDBETWEEN(IF(C9*P9^2+G9*P9<0,ABS(C9*P9^2+G9*P9),IF(C9*P9^2+G9*P9<Worksheet!$B$6,(-1)*(C9*P9^2+G9*P9),(-1)*Worksheet!$B$6)),IF(C9*P9^2+G9*P9<0,MAX(Worksheet!$B$6,ABS(C9*P9^2+G9*P9)+2),Worksheet!$B$6)),RANDBETWEEN(1,Worksheet!$B$6)*(-1)^RANDBETWEEN(1,2))","v":5},null,"when","x","=","",{"$f":"RANDBETWEEN(1,Worksheet!$B$5)*(-1)^RANDBETWEEN(IF(Worksheet!$B$7,1,2),2)","v":5},null,"",130]
[10,"Evaluate",{"$f":"RANDBETWEEN(1,Worksheet!$B$6)","v":4},"k","²","–",{"$f":"RANDBETWEEN(0,Worksheet!$B$6)*(-1)^RANDBETWEEN(1,2)","v":-2},{"$f":"D10","v":"k"},"+",{"$f":"IF(Worksheet!$B$8,RANDBETWEEN(IF(C10*P10^2+G10*P10<0,ABS(C10*P10^2+G10*P10),IF(C10*P10^2+G10*P10<Worksheet!$B$6,(-1)*(C10*P10^2+G10*P10),(-1)*Worksheet!$B$6)),IF(C10*P10^2+G10*P10<0,MAX(Worksheet!$B$6,ABS(C10*P10^2+G10*P10)+2),Worksheet!$B$6)),RANDBETWEEN(1,Worksheet!$B$6)*(-1)^RANDBETWEEN(1,2))","v":2},null,"when",{"$f":"H10","v":"k"},"=","–",{"$f":"RANDBETWEEN(1,Worksheet!$B$5)*(-1)^RANDBETWEEN(IF(Worksheet!$B$7,1,2),2)","v":-2},null,"",{"$f":"C10*P10^2+G10*P10+J10","v":22}]
[11,"Evaluate",{"$f":"RANDBETWEEN(1,Worksheet!$B$6)","v":4},"p","²","–",{"$f":"RANDBETWEEN(0,Worksheet!$B$6)*(-1)^RANDBETWEEN(1,2)","v":-1},"p","+",{"$f":"IF(Worksheet!$B$8,RANDBETWEEN(IF(C11*P11^2+G11*P11<0,ABS(C11*P11^2+G11*P11),IF(C11*P11^2+G11*P11<Worksheet!$B$6,(-1)*(C11*P11^2+G11*P11),(-1)*Worksheet!$B$6)),IF(C11*P11^2+G11*P11<0,MAX(Worksheet!$B$6,ABS(C11*P11^2+G11*P11)+2),Worksheet!$B$6)),RANDBETWEEN(1,Worksheet!$B$6)*(-1)^RANDBETWEEN(1,2))","v":5},null,"when","p","=","",{"$f":"RANDBETWEEN(1,Worksheet!$B$5)*(-1)^RANDBETWEEN(IF(Worksheet!$B$7,1,2),2)","v":1},null,"",8]
[12,"Evaluate",{"$f":"RANDBETWEEN(1,Worksheet!$B$6)","v":5},"z","²","–",{"$f":"RANDBETWEEN(0,Worksheet!$B$6)*(-1)^RANDBETWEEN(1,2)","v":-3},"z","–",{"$f":"IF(Worksheet!$B$8,RANDBETWEEN(IF(C12*P12^2+G12*P12<0,ABS(C12*P12^2+G12*P12),IF(C12*P12^2+G12*P12<Worksheet!$B$6,(-1)*(C12*P12^2+G12*P12),(-1)*Worksheet!$B$6)),IF(C12*P12^2+G12*P12<0,MAX(Worksheet!$B$6,ABS(C12*P12^2+G12*P12)+2),Worksheet!$B$6)),RANDBETWEEN(1,Worksheet!$B$6)*(-1)^RANDBETWEEN(1,2))","v":-5},null,"when","z","=","",{"$f":"RANDBETWEEN(1,Worksheet!$B$5)*(-1)^RANDBETWEEN(IF(Worksheet!$B$7,1,2),2)","v":2},null,"",9]
[13,"Evaluate",{"$f":"RANDBETWEEN(1,Worksheet!$B$6)","v":4},"h","²","–",{"$f":"RANDBETWEEN(0,Worksheet!$B$6)*(-1)^RANDBETWEEN(1,2)","v":-4},"h","–",{"$f":"IF(Worksheet!$B$8,RANDBETWEEN(IF(C13*P13^2+G13*P13<0,ABS(C13*P13^2+G13*P13),IF(C13*P13^2+G13*P13<Worksheet!$B$6,(-1)*(C13*P13^2+G13*P13),(-1)*Worksheet!$B$6)),IF(C13*P13^2+G13*P13<0,MAX(Worksheet!$B$6,ABS(C13*P13^2+G13*P13)+2),Worksheet!$B$6)),RANDBETWEEN(1,Worksheet!$B$6)*(-1)^RANDBETWEEN(1,2))","v":-4},null,"when","h","=","",{"$f":"RANDBETWEEN(1,Worksheet!$B$5)*(-1)^RANDBETWEEN(IF(Worksheet!$B$7,1,2),2)","v":3},null,"",20]
[14,"Evaluate",{"$f":"RANDBETWEEN(1,Worksheet!$B$6)","v":4},"x","²","+",{"$f":"RANDBETWEEN(0,Worksheet!$B$6)*(-1)^RANDBETWEEN(1,2)","v":2},"x","–",{"$f":"IF(Worksheet!$B$8,RANDBETWEEN(IF(C14*P14^2+G14*P14<0,ABS(C14*P14^2+G14*P14),IF(C14*P14^2+G14*P14<Worksheet!$B$6,(-1)*(C14*P14^2+G14*P14),(-1)*Worksheet!$B$6)),IF(C14*P14^2+G14*P14<0,MAX(Worksheet!$B$6,ABS(C14*P14^2+G14*P14)+2),Worksheet!$B$6)),RANDBETWEEN(1,Worksheet!$B$6)*(-1)^RANDBETWEEN(1,2))","v":-1},null,"when","x","=","",{"$f":"RANDBETWEEN(1,Worksheet!$B$5)*(-1)^RANDBETWEEN(IF(Worksheet!$B$7,1,2),2)","v":4},null,"",71]
[15,"Evaluate",{"$f":"RANDBETWEEN(1,Worksheet!$B$6)","v":3},"r","²","–",{"$f":"RANDBETWEEN(0,Worksheet!$B$6)*(-1)^RANDBETWEEN(1,2)","v":-3},"r","+",{"$f":"IF(Worksheet!$B$8,RANDBETWEEN(IF(C15*P15^2+G15*P15<0,ABS(C15*P15^2+G15*P15),IF(C15*P15^2+G15*P15<Worksheet!$B$6,(-1)*(C15*P15^2+G15*P15),(-1)*Worksheet!$B$6)),IF(C15*P15^2+G15*P15<0,MAX(Worksheet!$B$6,ABS(C15*P15^2+G15*P15)+2),Worksheet!$B$6)),RANDBETWEEN(1,Worksheet!$B$6)*(-1)^RANDBETWEEN(1,2))","v":3},null,"when","r","=","–",{"$f":"RANDBETWEEN(1,Worksheet!$B$5)*(-1)^RANDBETWEEN(IF(Worksheet!$B$7,1,2),2)","v":-2},null,"",21]
[16,"Evaluate",{"$f":"RANDBETWEEN(1,Worksheet!$B$6)","v":3},"f","²","+",{"$f":"RANDBETWEEN(0,Worksheet!$B$6)*(-1)^RANDBETWEEN(1,2)","v":4},{"$f":"D16","v":"f"},"+",{"$f":"IF(Worksheet!$B$8,RANDBETWEEN(IF(C16*P16^2+G16*P16<0,ABS(C16*P16^2+G16*P16),IF(C16*P16^2+G16*P16<Worksheet!$B$6,(-1)*(C16*P16^2+G16*P16),(-1)*Worksheet!$B$6)),IF(C16*P16^2+G16*P16<0,MAX(Worksheet!$B$6,ABS(C16*P16^2+G16*P16)+2),Worksheet!$B$6)),RANDBETWEEN(1,Worksheet!$B$6)*(-1)^RANDBETWEEN(1,2))","v":3},null,"when",{"$f":"H16","v":"f"},"=","",{"$f":"RANDBETWEEN(1,Worksheet!$B$5)*(-1)^RANDBETWEEN(IF(Worksheet!$B$7,1,2),2)","v":1},null,"",{"$f":"C16*P16^2+G16*P16+J16","v":10}]
[17,"Evaluate",{"$f":"RANDBETWEEN(1,Worksheet!$B$6)","v":5},"c","²","–",{"$f":"RANDBETWEEN(0,Worksheet!$B$6)*(-1)^RANDBETWEEN(1,2)","v":-3},"c","+",{"$f":"IF(Worksheet!$B$8,RANDBETWEEN(IF(C17*P17^2+G17*P17<0,ABS(C17*P17^2+G17*P17),IF(C17*P17^2+G17*P17<Worksheet!$B$6,(-1)*(C17*P17^2+G17*P17),(-1)*Worksheet!$B$6)),IF(C17*P17^2+G17*P17<0,MAX(Worksheet!$B$6,ABS(C17*P17^2+G17*P17)+2),Worksheet!$B$6)),RANDBETWEEN(1,Worksheet!$B$6)*(-1)^RANDBETWEEN(1,2))","v":2},null,"when","c","=","–",{"$f":"RANDBETWEEN(1,Worksheet!$B$5)*(-1)^RANDBETWEEN(IF(Worksheet!$B$7,1,2),2)","v":-4},null,"",94]
[18,"Evaluate",{"$f":"RANDBETWEEN(1,Worksheet!$B$6)","v":3},"p","²","–",{"$f":"RANDBETWEEN(0,Worksheet!$B$6)*(-1)^RANDBETWEEN(1,2)","v":-1},"p","+",{"$f":"IF(Worksheet!$B$8,RANDBETWEEN(IF(C18*P18^2+G18*P18<0,ABS(C18*P18^2+G18*P18),IF(C18*P18^2+G18*P18<Worksheet!$B$6,(-1)*(C18*P18^2+G18*P18),(-1)*Worksheet!$B$6)),IF(C18*P18^2+G18*P18<0,MAX(Worksheet!$B$6,ABS(C18*P18^2+G18*P18)+2),Worksheet!$B$6)),RANDBETWEEN(1,Worksheet!$B$6)*(-1)^RANDBETWEEN(1,2))","v":4},null,"when","p","=","",{"$f":"RANDBETWEEN(1,Worksheet!$B$5)*(-1)^RANDBETWEEN(IF(Worksheet!$B$7,1,2),2)","v":1},null,"",6]
[19,"Evaluate",{"$f":"RANDBETWEEN(1,Worksheet!$B$6)","v":4},"d","²","+",{"$f":"RANDBETWEEN(0,Worksheet!$B$6)*(-1)^RANDBETWEEN(1,2)","v":5},"d","–",{"$f":"IF(Worksheet!$B$8,RANDBETWEEN(IF(C19*P19^2+G19*P19<0,ABS(C19*P19^2+G19*P19),IF(C19*P19^2+G19*P19<Worksheet!$B$6,(-1)*(C19*P19^2+G19*P19),(-1)*Worksheet!$B$6)),IF(C19*P19^2+G19*P19<0,MAX(Worksheet!$B$6,ABS(C19*P19^2+G19*P19)+2),Worksheet!$B$6)),RANDBETWEEN(1,Worksheet!$B$6)*(-1)^RANDBETWEEN(1,2))","v":-5},null,"when","d","=","–",{"$f":"RANDBETWEEN(1,Worksheet!$B$5)*(-1)^RANDBETWEEN(IF(Worksheet!$B$7,1,2),2)","v":-2},null,"",1]
[20,"Evaluate",{"$f":"RANDBETWEEN(1,Worksheet!$B$6)","v":4},"s","²","–",{"$f":"RANDBETWEEN(0,Worksheet!$B$6)*(-1)^RANDBETWEEN(1,2)","v":-4},"s","+",{"$f":"IF(Worksheet!$B$8,RANDBETWEEN(IF(C20*P20^2+G20*P20<0,ABS(C20*P20^2+G20*P20),IF(C20*P20^2+G20*P20<Worksheet!$B$6,(-1)*(C20*P20^2+G20*P20),(-1)*Worksheet!$B$6)),IF(C20*P20^2+G20*P20<0,MAX(Worksheet!$B$6,ABS(C20*P20^2+G20*P20)+2),Worksheet!$B$6)),RANDBETWEEN(1,Worksheet!$B$6)*(-1)^RANDBETWEEN(1,2))","v":3},null,"when","s","=","",{"$f":"RANDBETWEEN(1,Worksheet!$B$5)*(-1)^RANDBETWEEN(IF(Worksheet!$B$7,1,2),2)","v":4},null,"",51]