{"text_format":"1","workbook":"xlsx","n_sheets":2,"sheets":["Worksheet","SYSTEM FORMULAE"],"not_rendered":{"charts":0,"images":0,"macros":1,"external_links":0,"defined_names":2,"comments":0,"pivot_tables":0},"unopened":[],"bounds":{"document_bytes":16777216,"sheet_cells":100000,"rows_first":2000,"rows_last":500,"rows_between":2000,"halvings":0,"cell_chars":16384,"cell_head_chars":4096},"cells_cut":0,"cells_raw":0,"read":"whole","date_system":"1900"}

{"sheet":"Worksheet","index":0,"n_rows":22,"n_cols":61,"rows_kept":22,"cut":false,"hidden":false,"merged":[[0,3,0,46],[3,0,3,1],[4,0,4,1],[2,0,2,1]]}
[null,null,null,"Factorise these trinomials"]
[]
[null,null,null,1,3,"x","²","–",14,"x","+",15,"=","(",3,"x","–",-5,")","(","x","–",-3,")","",21,5,"b","²","–",1,"b","–",4,"=","(",5,"b","+",4,")","(","b","–",-1,")",""]
["*** indicates a question where there is a number that could be taken out as a common factor first.  At which stage to address this with any particular class is at the teacher's discretion!",null,null,2,3,"x","²","+",11,"x","–",4,"=","(",3,"x","–",-1,")","(","x","+",4,")","",22,"","a","²","–",3,"a","–",10,"=","(",1,"a","–",-5,")","(","a","+",2,")",""]
["Variables",null,null,3,"","y","²","–",1,"y","","","=","(",1,"y","",0,")","(","y","–",-1,")","",23,2,"x","²","+",13,"x","+",15,"=","(",2,"x","+",3,")","(","x","+",5,")",""]
["Number of questions (minimum 16, maximum 40)",40,null,4,3,"z","²","+",5,"z","–",12,"=","(",3,"z","–",-4,")","(","z","+",3,")","",24,"","s","²","–",7,"s","+",12,"=","(",1,"s","–",-4,")","(","s","–",-3,")",""]
["Approximate percentage of questions to have a non-zero (prime) coefficient of x²",60,null,5,5,"y","²","–",20,"y","–",25,"=","(",5,"y","+",5,")","(","y","–",-5,")","***",25,5,"x","²","+",10,"x","","","=","(",5,"x","",0,")","(","x","+",2,")",""]
["Positive coefficients of x only?",false,null,6,"","k","²","–",8,"k","+",15,"=","(",1,"k","–",-5,")","(","k","–",-3,")","",26,"","b","²","","","b","–",1,"=","(",1,"b","–",-1,")","(","b","+",1,")",""]
["Allow expressions of the form ax²+bx ?",true,null,7,5,"x","²","+",14,"x","–",3,"=","(",5,"x","–",-1,")","(","x","+",3,")","",27,"","a","²","+",4,"a","–",5,"=","(",1,"a","–",-1,")","(","a","+",5,")",""]
["SHOW ANSWERS?",{"$f":"NOT(BI10)","v":true},null,8,7,"x","²","+",26,"x","+",15,"=","(",7,"x","+",5,")","(","x","+",3,")","",28,2,"x","²","–",5,"x","+",2,"=","(",2,"x","–",-1,")","(","x","–",-2,")","",null,null,null,null,null,null,null,null,null,null,null,null,null,false]
[null,null,null,9,2,"x","²","–",6,"x","+",4,"=","(",2,"x","–",-4,")","(","x","–",-1,")","***",29,"","x","²","–",1,"x","–",2,"=","(",1,"x","–",-2,")","(","x","+",1,")",""]
[null,null,null,10,"","a","²","+",6,"a","+",5,"=","(",1,"a","+",1,")","(","a","+",5,")","",30,2,"x","²","–",2,"x","–",12,"=","(",2,"x","+",4,")","(","x","–",-3,")","***"]
[null,null,null,11,5,"a","²","–",5,"a","–",10,"=","(",5,"a","+",5,")","(","a","–",-2,")","***",31,"","x","²","+",4,"x","+",3,"=","(",1,"x","+",3,")","(","x","+",1,")",""]
[null,null,null,12,"","x","²","–",2,"x","–",3,"=","(",1,"x","+",1,")","(","x","–",-3,")","",32,2,"y","²","+",5,"y","–",3,"=","(",2,"y","–",-1,")","(","y","+",3,")",""]
[null,null,null,13,3,"b","²","+",12,"b","+",9,"=","(",3,"b","+",3,")","(","b","+",3,")","***",33,"","k","²","–",5,"k","+",4,"=","(",1,"k","–",-1,")","(","k","–",-4,")",""]
[null,null,null,14,"","s","²","–",8,"s","+",15,"=","(",1,"s","–",-5,")","(","s","–",-3,")","",34,"","y","²","+",3,"y","","","=","(",1,"y","",0,")","(","y","+",3,")",""]
[null,null,null,15,7,"x","²","–",16,"x","–",15,"=","(",7,"x","+",5,")","(","x","–",-3,")","",35,"","x","²","+",1,"x","–",6,"=","(",1,"x","+",3,")","(","x","–",-2,")",""]
[null,null,null,16,"","b","²","–",8,"b","+",16,"=","(",1,"b","–",-4,")","(","b","–",-4,")","",36,3,"z","²","–",6,"z","–",9,"=","(",3,"z","+",3,")","(","z","–",-3,")","***"]
[null,null,null,17,3,"x","²","–",6,"x","","","=","(",3,"x","",0,")","(","x","–",-2,")","",37,5,"x","²","+",10,"x","–",15,"=","(",5,"x","–",-5,")","(","x","+",3,")","***"]
[null,null,null,18,5,"s","²","+",30,"s","+",25,"=","(",5,"s","+",5,")","(","s","+",5,")","***",38,5,"z","²","+",13,"z","–",6,"=","(",5,"z","–",-2,")","(","z","+",3,")",""]
[null,null,null,19,"","x","²","+",7,"x","+",10,"=","(",1,"x","+",2,")","(","x","+",5,")","",39,7,"z","²","–",13,"z","–",2,"=","(",7,"z","+",1,")","(","z","–",-2,")",""]
[null,null,null,20,2,"z","²","–",2,"z","","","=","(",2,"z","",0,")","(","z","–",-1,")","",40,"","x","²","–",4,"x","–",5,"=","(",1,"x","–",-5,")","(","x","+",1,")",""]

{"sheet":"SYSTEM FORMULAE","index":1,"n_rows":24,"n_cols":44,"rows_kept":24,"cut":false,"hidden":false,"merged":[[1,0,1,43],[0,0,0,43],[2,0,2,43]]}
["Name _____________________"]
["Newbattle Community High School: Maths Department"]
["Factorise these trinomials"]
[]
[{"$f":"IF(ROW()-4<=Worksheet!$B$6/2,ROW()-4,\"\")","v":1},{"$f":"IF(L5=1,\"\",L5)","v":""},{"$f":"CHOOSE(RANDBETWEEN(1,10),\"a\",\"b\",\"m\",\"y\",\"z\",\"x\",\"x\",\"x\",\"s\",\"k\")","v":"x"},"²",{"$f":"IF(L5*T5+O5>0,\"+\",IF(L5*T5+O5=0,\"\",\"–\"))","v":"–"},{"$f":"IF(L5*T5+O5>0,L5*T5+O5,IF(L5*T5+O5=0,\"\",-(L5*T5+O5)))","v":3},{"$f":"C5","v":"x"},{"$f":"IF(O5*T5>0,\"+\",IF(O5*T5=0,\"\",\"–\"))","v":"–"},{"$f":"IF(O5*T5>0,O5*T5,IF(O5*T5=0,\"\",-O5*T5))","v":4},"=","(",{"$f":"IF(RAND()*100<Worksheet!$B$7,CHOOSE(RANDBETWEEN(1,4),2,3,5,7),1)","v":1},{"$f":"G5","v":"x"},{"$f":"IF(O5>0,\"+\",IF(O5=0,\"\",\"–\"))","v":"+"},{"$f":"IF(Worksheet!$B$8=TRUE,IF(Worksheet!$B$9=TRUE,IF(L5<>1,RANDBETWEEN(0,5),RANDBETWEEN(0,10)),IF(L5<>1,RANDBETWEEN(1,5),RANDBETWEEN(1,10))),IF(Worksheet!$B$9=TRUE,RANDBETWEEN(-5,5),(-1)^RANDBETWEEN(1,2)*RANDBETWEEN(1,5)))","v":1},")","(",{"$f":"C5","v":"x"},{"$f":"IF(T5>0,\"+\",IF(T5=0,\"\",\"–\"))","v":"–"},{"$f":"IF(Worksheet!$B$8=TRUE,IF(L5<>1,RANDBETWEEN(1,5),RANDBETWEEN(1,10)),(-1)^RANDBETWEEN(1,2)*RANDBETWEEN(1,5))","v":-4},")",{"$f":"IF(I5=\"\",\"\",IF(GCD(IF(B5=\"\",1,B5),IF(F5=\"\",1,F5),I5)<>1,\"***\",\"\"))","v":""},{"$f":"MAX(A5:A92)+1","v":21},{"$f":"IF(AH5=1,\"\",AH5)","v":""},{"$f":"CHOOSE(RANDBETWEEN(1,10),\"a\",\"b\",\"m\",\"y\",\"z\",\"x\",\"x\",\"x\",\"s\",\"k\")","v":"m"},"²",{"$f":"IF(AH5*AP5+AK5>0,\"+\",IF(AH5*AP5+AK5=0,\"\",\"–\"))","v":"–"},{"$f":"IF(AH5*AP5+AK5>0,AH5*AP5+AK5,IF(AH5*AP5+AK5=0,\"\",-(AH5*AP5+AK5)))","v":7},{"$f":"Y5","v":"m"},{"$f":"IF(AK5*AP5>0,\"+\",IF(AK5*AP5=0,\"\",\"–\"))","v":"+"},{"$f":"IF(AK5*AP5>0,AK5*AP5,IF(AK5*AP5=0,\"\",-AK5*AP5))","v":10},"=","(",{"$f":"IF(RAND()*100<Worksheet!$B$7,CHOOSE(RANDBETWEEN(1,4),2,3,5,7),1)","v":1},{"$f":"AC5","v":"m"},{"$f":"IF(AK5>0,\"+\",IF(AK5=0,\"\",\"–\"))","v":"–"},{"$f":"IF(Worksheet!$B$8=TRUE,IF(Worksheet!$B$9=TRUE,IF(AH5<>1,RANDBETWEEN(0,5),RANDBETWEEN(0,10)),IF(AH5<>1,RANDBETWEEN(1,5),RANDBETWEEN(1,10))),IF(Worksheet!$B$9=TRUE,RANDBETWEEN(-5,5),(-1)^RANDBETWEEN(1,2)*RANDBETWEEN(1,5)))","v":-2},")","(",{"$f":"Y5","v":"m"},{"$f":"IF(AP5>0,\"+\",IF(AP5=0,\"\",\"–\"))","v":"–"},{"$f":"IF(Worksheet!$B$8=TRUE,IF(AH5<>1,RANDBETWEEN(1,5),RANDBETWEEN(1,10)),(-1)^RANDBETWEEN(1,2)*RANDBETWEEN(1,5))","v":-5},")",{"$f":"IF(AE5=\"\",\"\",IF(GCD(IF(X5=\"\",1,X5),IF(AB5=\"\",1,AB5),AE5)<>1,\"***\",\"\"))","v":""}]
[{"$f":"IF(ROW()-4<=Worksheet!$B$6/2,ROW()-4,\"\")","v":2},"","x","²","–",2,"x","–",8,"=","(",{"$f":"IF(RAND()*100<Worksheet!$B$7,CHOOSE(RANDBETWEEN(1,4),2,3,5,7),1)","v":1},{"$f":"G6","v":"x"},{"$f":"IF(O6>0,\"+\",IF(O6=0,\"\",\"–\"))","v":"+"},{"$f":"IF(Worksheet!$B$8=TRUE,IF(Worksheet!$B$9=TRUE,IF(L6<>1,RANDBETWEEN(0,5),RANDBETWEEN(0,10)),IF(L6<>1,RANDBETWEEN(1,5),RANDBETWEEN(1,10))),IF(Worksheet!$B$9=TRUE,RANDBETWEEN(-5,5),(-1)^RANDBETWEEN(1,2)*RANDBETWEEN(1,5)))","v":2},")","(",{"$f":"C6","v":"x"},{"$f":"IF(T6>0,\"+\",IF(T6=0,\"\",\"–\"))","v":"–"},{"$f":"IF(Worksheet!$B$8=TRUE,IF(L6<>1,RANDBETWEEN(1,5),RANDBETWEEN(1,10)),(-1)^RANDBETWEEN(1,2)*RANDBETWEEN(1,5))","v":-4},")",{"$f":"IF(I6=\"\",\"\",IF(GCD(IF(B6=\"\",1,B6),IF(F6=\"\",1,F6),I6)<>1,\"***\",\"\"))","v":""},{"$f":"IF(ROW()-4<=Worksheet!$B$6/2,W5+1,\"\")","v":22},3,"x","²","–",6,"x","","","=","(",{"$f":"IF(RAND()*100<Worksheet!$B$7,CHOOSE(RANDBETWEEN(1,4),2,3,5,7),1)","v":3},{"$f":"AC6","v":"x"},{"$f":"IF(AK6>0,\"+\",IF(AK6=0,\"\",\"–\"))","v":""},{"$f":"IF(Worksheet!$B$8=TRUE,IF(Worksheet!$B$9=TRUE,IF(AH6<>1,RANDBETWEEN(0,5),RANDBETWEEN(0,10)),IF(AH6<>1,RANDBETWEEN(1,5),RANDBETWEEN(1,10))),IF(Worksheet!$B$9=TRUE,RANDBETWEEN(-5,5),(-1)^RANDBETWEEN(1,2)*RANDBETWEEN(1,5)))","v":0},")","(",{"$f":"Y6","v":"x"},{"$f":"IF(AP6>0,\"+\",IF(AP6=0,\"\",\"–\"))","v":"–"},{"$f":"IF(Worksheet!$B$8=TRUE,IF(AH6<>1,RANDBETWEEN(1,5),RANDBETWEEN(1,10)),(-1)^RANDBETWEEN(1,2)*RANDBETWEEN(1,5))","v":-2},")",""]
[{"$f":"IF(ROW()-4<=Worksheet!$B$6/2,ROW()-4,\"\")","v":3},"","s","²","–",3,"s","+",2,"=","(",{"$f":"IF(RAND()*100<Worksheet!$B$7,CHOOSE(RANDBETWEEN(1,4),2,3,5,7),1)","v":1},"s","–",{"$f":"IF(Worksheet!$B$8=TRUE,IF(Worksheet!$B$9=TRUE,IF(L7<>1,RANDBETWEEN(0,5),RANDBETWEEN(0,10)),IF(L7<>1,RANDBETWEEN(1,5),RANDBETWEEN(1,10))),IF(Worksheet!$B$9=TRUE,RANDBETWEEN(-5,5),(-1)^RANDBETWEEN(1,2)*RANDBETWEEN(1,5)))","v":-2},")","(","s","–",{"$f":"IF(Worksheet!$B$8=TRUE,IF(L7<>1,RANDBETWEEN(1,5),RANDBETWEEN(1,10)),(-1)^RANDBETWEEN(1,2)*RANDBETWEEN(1,5))","v":-1},")","",{"$f":"IF(ROW()-4<=Worksheet!$B$6/2,W6+1,\"\")","v":23},7,"x","²","+",10,"x","+",3,"=","(",{"$f":"IF(RAND()*100<Worksheet!$B$7,CHOOSE(RANDBETWEEN(1,4),2,3,5,7),1)","v":7},"x","+",{"$f":"IF(Worksheet!$B$8=TRUE,IF(Worksheet!$B$9=TRUE,IF(AH7<>1,RANDBETWEEN(0,5),RANDBETWEEN(0,10)),IF(AH7<>1,RANDBETWEEN(1,5),RANDBETWEEN(1,10))),IF(Worksheet!$B$9=TRUE,RANDBETWEEN(-5,5),(-1)^RANDBETWEEN(1,2)*RANDBETWEEN(1,5)))","v":3},")","(","x","+",{"$f":"IF(Worksheet!$B$8=TRUE,IF(AH7<>1,RANDBETWEEN(1,5),RANDBETWEEN(1,10)),(-1)^RANDBETWEEN(1,2)*RANDBETWEEN(1,5))","v":1},")",""]
[{"$f":"IF(ROW()-4<=Worksheet!$B$6/2,ROW()-4,\"\")","v":4},5,"b","²","–",18,"b","–",8,"=","(",{"$f":"IF(RAND()*100<Worksheet!$B$7,CHOOSE(RANDBETWEEN(1,4),2,3,5,7),1)","v":5},"b","+",{"$f":"IF(Worksheet!$B$8=TRUE,IF(Worksheet!$B$9=TRUE,IF(L8<>1,RANDBETWEEN(0,5),RANDBETWEEN(0,10)),IF(L8<>1,RANDBETWEEN(1,5),RANDBETWEEN(1,10))),IF(Worksheet!$B$9=TRUE,RANDBETWEEN(-5,5),(-1)^RANDBETWEEN(1,2)*RANDBETWEEN(1,5)))","v":2},")","(","b","–",{"$f":"IF(Worksheet!$B$8=TRUE,IF(L8<>1,RANDBETWEEN(1,5),RANDBETWEEN(1,10)),(-1)^RANDBETWEEN(1,2)*RANDBETWEEN(1,5))","v":-4},")","",{"$f":"IF(ROW()-4<=Worksheet!$B$6/2,W7+1,\"\")","v":24},"","x","²","+",5,"x","+",4,"=","(",{"$f":"IF(RAND()*100<Worksheet!$B$7,CHOOSE(RANDBETWEEN(1,4),2,3,5,7),1)","v":1},"x","+",{"$f":"IF(Worksheet!$B$8=TRUE,IF(Worksheet!$B$9=TRUE,IF(AH8<>1,RANDBETWEEN(0,5),RANDBETWEEN(0,10)),IF(AH8<>1,RANDBETWEEN(1,5),RANDBETWEEN(1,10))),IF(Worksheet!$B$9=TRUE,RANDBETWEEN(-5,5),(-1)^RANDBETWEEN(1,2)*RANDBETWEEN(1,5)))","v":4},")","(","x","+",{"$f":"IF(Worksheet!$B$8=TRUE,IF(AH8<>1,RANDBETWEEN(1,5),RANDBETWEEN(1,10)),(-1)^RANDBETWEEN(1,2)*RANDBETWEEN(1,5))","v":1},")",""]
[{"$f":"IF(ROW()-4<=Worksheet!$B$6/2,ROW()-4,\"\")","v":5},"","z","²","–",7,"z","+",12,"=","(",{"$f":"IF(RAND()*100<Worksheet!$B$7,CHOOSE(RANDBETWEEN(1,4),2,3,5,7),1)","v":1},"z","–",{"$f":"IF(Worksheet!$B$8=TRUE,IF(Worksheet!$B$9=TRUE,IF(L9<>1,RANDBETWEEN(0,5),RANDBETWEEN(0,10)),IF(L9<>1,RANDBETWEEN(1,5),RANDBETWEEN(1,10))),IF(Worksheet!$B$9=TRUE,RANDBETWEEN(-5,5),(-1)^RANDBETWEEN(1,2)*RANDBETWEEN(1,5)))","v":-3},")","(","z","–",{"$f":"IF(Worksheet!$B$8=TRUE,IF(L9<>1,RANDBETWEEN(1,5),RANDBETWEEN(1,10)),(-1)^RANDBETWEEN(1,2)*RANDBETWEEN(1,5))","v":-4},")","",{"$f":"IF(ROW()-4<=Worksheet!$B$6/2,W8+1,\"\")","v":25},2,"a","²","+",7,"a","+",3,"=","(",{"$f":"IF(RAND()*100<Worksheet!$B$7,CHOOSE(RANDBETWEEN(1,4),2,3,5,7),1)","v":2},"a","+",{"$f":"IF(Worksheet!$B$8=TRUE,IF(Worksheet!$B$9=TRUE,IF(AH9<>1,RANDBETWEEN(0,5),RANDBETWEEN(0,10)),IF(AH9<>1,RANDBETWEEN(1,5),RANDBETWEEN(1,10))),IF(Worksheet!$B$9=TRUE,RANDBETWEEN(-5,5),(-1)^RANDBETWEEN(1,2)*RANDBETWEEN(1,5)))","v":1},")","(","a","+",{"$f":"IF(Worksheet!$B$8=TRUE,IF(AH9<>1,RANDBETWEEN(1,5),RANDBETWEEN(1,10)),(-1)^RANDBETWEEN(1,2)*RANDBETWEEN(1,5))","v":3},")",""]
[{"$f":"IF(ROW()-4<=Worksheet!$B$6/2,ROW()-4,\"\")","v":6},"","x","²","–",3,"x","–",4,"=","(",{"$f":"IF(RAND()*100<Worksheet!$B$7,CHOOSE(RANDBETWEEN(1,4),2,3,5,7),1)","v":1},"x","+",{"$f":"IF(Worksheet!$B$8=TRUE,IF(Worksheet!$B$9=TRUE,IF(L10<>1,RANDBETWEEN(0,5),RANDBETWEEN(0,10)),IF(L10<>1,RANDBETWEEN(1,5),RANDBETWEEN(1,10))),IF(Worksheet!$B$9=TRUE,RANDBETWEEN(-5,5),(-1)^RANDBETWEEN(1,2)*RANDBETWEEN(1,5)))","v":1},")","(","x","–",{"$f":"IF(Worksheet!$B$8=TRUE,IF(L10<>1,RANDBETWEEN(1,5),RANDBETWEEN(1,10)),(-1)^RANDBETWEEN(1,2)*RANDBETWEEN(1,5))","v":-4},")","",{"$f":"IF(ROW()-4<=Worksheet!$B$6/2,W9+1,\"\")","v":26},"","y","²","+",4,"y","–",5,"=","(",{"$f":"IF(RAND()*100<Worksheet!$B$7,CHOOSE(RANDBETWEEN(1,4),2,3,5,7),1)","v":1},"y","–",{"$f":"IF(Worksheet!$B$8=TRUE,IF(Worksheet!$B$9=TRUE,IF(AH10<>1,RANDBETWEEN(0,5),RANDBETWEEN(0,10)),IF(AH10<>1,RANDBETWEEN(1,5),RANDBETWEEN(1,10))),IF(Worksheet!$B$9=TRUE,RANDBETWEEN(-5,5),(-1)^RANDBETWEEN(1,2)*RANDBETWEEN(1,5)))","v":-1},")","(","y","+",{"$f":"IF(Worksheet!$B$8=TRUE,IF(AH10<>1,RANDBETWEEN(1,5),RANDBETWEEN(1,10)),(-1)^RANDBETWEEN(1,2)*RANDBETWEEN(1,5))","v":5},")",""]
[{"$f":"IF(ROW()-4<=Worksheet!$B$6/2,ROW()-4,\"\")","v":7},3,"b","²","+",5,"b","–",2,"=","(",{"$f":"IF(RAND()*100<Worksheet!$B$7,CHOOSE(RANDBETWEEN(1,4),2,3,5,7),1)","v":3},"b","–",{"$f":"IF(Worksheet!$B$8=TRUE,IF(Worksheet!$B$9=TRUE,IF(L11<>1,RANDBETWEEN(0,5),RANDBETWEEN(0,10)),IF(L11<>1,RANDBETWEEN(1,5),RANDBETWEEN(1,10))),IF(Worksheet!$B$9=TRUE,RANDBETWEEN(-5,5),(-1)^RANDBETWEEN(1,2)*RANDBETWEEN(1,5)))","v":-1},")","(","b","+",{"$f":"IF(Worksheet!$B$8=TRUE,IF(L11<>1,RANDBETWEEN(1,5),RANDBETWEEN(1,10)),(-1)^RANDBETWEEN(1,2)*RANDBETWEEN(1,5))","v":2},")","",{"$f":"IF(ROW()-4<=Worksheet!$B$6/2,W10+1,\"\")","v":27},"","z","²","–",2,"z","–",3,"=","(",{"$f":"IF(RAND()*100<Worksheet!$B$7,CHOOSE(RANDBETWEEN(1,4),2,3,5,7),1)","v":1},"z","–",{"$f":"IF(Worksheet!$B$8=TRUE,IF(Worksheet!$B$9=TRUE,IF(AH11<>1,RANDBETWEEN(0,5),RANDBETWEEN(0,10)),IF(AH11<>1,RANDBETWEEN(1,5),RANDBETWEEN(1,10))),IF(Worksheet!$B$9=TRUE,RANDBETWEEN(-5,5),(-1)^RANDBETWEEN(1,2)*RANDBETWEEN(1,5)))","v":-3},")","(","z","+",{"$f":"IF(Worksheet!$B$8=TRUE,IF(AH11<>1,RANDBETWEEN(1,5),RANDBETWEEN(1,10)),(-1)^RANDBETWEEN(1,2)*RANDBETWEEN(1,5))","v":1},")",""]
[{"$f":"IF(ROW()-4<=Worksheet!$B$6/2,ROW()-4,\"\")","v":8},3,"b","²","+",11,"b","+",6,"=","(",{"$f":"IF(RAND()*100<Worksheet!$B$7,CHOOSE(RANDBETWEEN(1,4),2,3,5,7),1)","v":3},"b","+",{"$f":"IF(Worksheet!$B$8=TRUE,IF(Worksheet!$B$9=TRUE,IF(L12<>1,RANDBETWEEN(0,5),RANDBETWEEN(0,10)),IF(L12<>1,RANDBETWEEN(1,5),RANDBETWEEN(1,10))),IF(Worksheet!$B$9=TRUE,RANDBETWEEN(-5,5),(-1)^RANDBETWEEN(1,2)*RANDBETWEEN(1,5)))","v":2},")","(","b","+",{"$f":"IF(Worksheet!$B$8=TRUE,IF(L12<>1,RANDBETWEEN(1,5),RANDBETWEEN(1,10)),(-1)^RANDBETWEEN(1,2)*RANDBETWEEN(1,5))","v":3},")","",{"$f":"IF(ROW()-4<=Worksheet!$B$6/2,W11+1,\"\")","v":28},"","a","²","+",2,"a","–",8,"=","(",{"$f":"IF(RAND()*100<Worksheet!$B$7,CHOOSE(RANDBETWEEN(1,4),2,3,5,7),1)","v":1},"a","–",{"$f":"IF(Worksheet!$B$8=TRUE,IF(Worksheet!$B$9=TRUE,IF(AH12<>1,RANDBETWEEN(0,5),RANDBETWEEN(0,10)),IF(AH12<>1,RANDBETWEEN(1,5),RANDBETWEEN(1,10))),IF(Worksheet!$B$9=TRUE,RANDBETWEEN(-5,5),(-1)^RANDBETWEEN(1,2)*RANDBETWEEN(1,5)))","v":-2},")","(","a","+",{"$f":"IF(Worksheet!$B$8=TRUE,IF(AH12<>1,RANDBETWEEN(1,5),RANDBETWEEN(1,10)),(-1)^RANDBETWEEN(1,2)*RANDBETWEEN(1,5))","v":4},")",""]
[{"$f":"IF(ROW()-4<=Worksheet!$B$6/2,ROW()-4,\"\")","v":9},"","z","²","–",7,"z","+",12,"=","(",{"$f":"IF(RAND()*100<Worksheet!$B$7,CHOOSE(RANDBETWEEN(1,4),2,3,5,7),1)","v":1},"z","–",{"$f":"IF(Worksheet!$B$8=TRUE,IF(Worksheet!$B$9=TRUE,IF(L13<>1,RANDBETWEEN(0,5),RANDBETWEEN(0,10)),IF(L13<>1,RANDBETWEEN(1,5),RANDBETWEEN(1,10))),IF(Worksheet!$B$9=TRUE,RANDBETWEEN(-5,5),(-1)^RANDBETWEEN(1,2)*RANDBETWEEN(1,5)))","v":-4},")","(","z","–",{"$f":"IF(Worksheet!$B$8=TRUE,IF(L13<>1,RANDBETWEEN(1,5),RANDBETWEEN(1,10)),(-1)^RANDBETWEEN(1,2)*RANDBETWEEN(1,5))","v":-3},")","",{"$f":"IF(ROW()-4<=Worksheet!$B$6/2,W12+1,\"\")","v":29},2,"k","²","–",3,"k","–",20,"=","(",{"$f":"IF(RAND()*100<Worksheet!$B$7,CHOOSE(RANDBETWEEN(1,4),2,3,5,7),1)","v":2},"k","+",{"$f":"IF(Worksheet!$B$8=TRUE,IF(Worksheet!$B$9=TRUE,IF(AH13<>1,RANDBETWEEN(0,5),RANDBETWEEN(0,10)),IF(AH13<>1,RANDBETWEEN(1,5),RANDBETWEEN(1,10))),IF(Worksheet!$B$9=TRUE,RANDBETWEEN(-5,5),(-1)^RANDBETWEEN(1,2)*RANDBETWEEN(1,5)))","v":5},")","(","k","–",{"$f":"IF(Worksheet!$B$8=TRUE,IF(AH13<>1,RANDBETWEEN(1,5),RANDBETWEEN(1,10)),(-1)^RANDBETWEEN(1,2)*RANDBETWEEN(1,5))","v":-4},")",""]
[{"$f":"IF(ROW()-4<=Worksheet!$B$6/2,ROW()-4,\"\")","v":10},5,"x","²","–",24,"x","–",5,"=","(",{"$f":"IF(RAND()*100<Worksheet!$B$7,CHOOSE(RANDBETWEEN(1,4),2,3,5,7),1)","v":5},"x","+",{"$f":"IF(Worksheet!$B$8=TRUE,IF(Worksheet!$B$9=TRUE,IF(L14<>1,RANDBETWEEN(0,5),RANDBETWEEN(0,10)),IF(L14<>1,RANDBETWEEN(1,5),RANDBETWEEN(1,10))),IF(Worksheet!$B$9=TRUE,RANDBETWEEN(-5,5),(-1)^RANDBETWEEN(1,2)*RANDBETWEEN(1,5)))","v":1},")","(","x","–",{"$f":"IF(Worksheet!$B$8=TRUE,IF(L14<>1,RANDBETWEEN(1,5),RANDBETWEEN(1,10)),(-1)^RANDBETWEEN(1,2)*RANDBETWEEN(1,5))","v":-5},")","",{"$f":"IF(ROW()-4<=Worksheet!$B$6/2,W13+1,\"\")","v":30},"","x","²","–",7,"x","+",10,"=","(",{"$f":"IF(RAND()*100<Worksheet!$B$7,CHOOSE(RANDBETWEEN(1,4),2,3,5,7),1)","v":1},"x","–",{"$f":"IF(Worksheet!$B$8=TRUE,IF(Worksheet!$B$9=TRUE,IF(AH14<>1,RANDBETWEEN(0,5),RANDBETWEEN(0,10)),IF(AH14<>1,RANDBETWEEN(1,5),RANDBETWEEN(1,10))),IF(Worksheet!$B$9=TRUE,RANDBETWEEN(-5,5),(-1)^RANDBETWEEN(1,2)*RANDBETWEEN(1,5)))","v":-2},")","(","x","–",{"$f":"IF(Worksheet!$B$8=TRUE,IF(AH14<>1,RANDBETWEEN(1,5),RANDBETWEEN(1,10)),(-1)^RANDBETWEEN(1,2)*RANDBETWEEN(1,5))","v":-5},")",""]
[{"$f":"IF(ROW()-4<=Worksheet!$B$6/2,ROW()-4,\"\")","v":11},"","y","²","+",7,"y","+",10,"=","(",{"$f":"IF(RAND()*100<Worksheet!$B$7,CHOOSE(RANDBETWEEN(1,4),2,3,5,7),1)","v":1},"y","+",{"$f":"IF(Worksheet!$B$8=TRUE,IF(Worksheet!$B$9=TRUE,IF(L15<>1,RANDBETWEEN(0,5),RANDBETWEEN(0,10)),IF(L15<>1,RANDBETWEEN(1,5),RANDBETWEEN(1,10))),IF(Worksheet!$B$9=TRUE,RANDBETWEEN(-5,5),(-1)^RANDBETWEEN(1,2)*RANDBETWEEN(1,5)))","v":5},")","(","y","+",{"$f":"IF(Worksheet!$B$8=TRUE,IF(L15<>1,RANDBETWEEN(1,5),RANDBETWEEN(1,10)),(-1)^RANDBETWEEN(1,2)*RANDBETWEEN(1,5))","v":2},")","",{"$f":"IF(ROW()-4<=Worksheet!$B$6/2,W14+1,\"\")","v":31},3,"m","²","–",12,"m","–",15,"=","(",{"$f":"IF(RAND()*100<Worksheet!$B$7,CHOOSE(RANDBETWEEN(1,4),2,3,5,7),1)","v":3},"m","+",{"$f":"IF(Worksheet!$B$8=TRUE,IF(Worksheet!$B$9=TRUE,IF(AH15<>1,RANDBETWEEN(0,5),RANDBETWEEN(0,10)),IF(AH15<>1,RANDBETWEEN(1,5),RANDBETWEEN(1,10))),IF(Worksheet!$B$9=TRUE,RANDBETWEEN(-5,5),(-1)^RANDBETWEEN(1,2)*RANDBETWEEN(1,5)))","v":3},")","(","m","–",{"$f":"IF(Worksheet!$B$8=TRUE,IF(AH15<>1,RANDBETWEEN(1,5),RANDBETWEEN(1,10)),(-1)^RANDBETWEEN(1,2)*RANDBETWEEN(1,5))","v":-5},")","***"]
[{"$f":"IF(ROW()-4<=Worksheet!$B$6/2,ROW()-4,\"\")","v":12},3,"x","²","+",13,"x","+",4,"=","(",{"$f":"IF(RAND()*100<Worksheet!$B$7,CHOOSE(RANDBETWEEN(1,4),2,3,5,7),1)","v":3},"x","+",{"$f":"IF(Worksheet!$B$8=TRUE,IF(Worksheet!$B$9=TRUE,IF(L16<>1,RANDBETWEEN(0,5),RANDBETWEEN(0,10)),IF(L16<>1,RANDBETWEEN(1,5),RANDBETWEEN(1,10))),IF(Worksheet!$B$9=TRUE,RANDBETWEEN(-5,5),(-1)^RANDBETWEEN(1,2)*RANDBETWEEN(1,5)))","v":1},")","(","x","+",{"$f":"IF(Worksheet!$B$8=TRUE,IF(L16<>1,RANDBETWEEN(1,5),RANDBETWEEN(1,10)),(-1)^RANDBETWEEN(1,2)*RANDBETWEEN(1,5))","v":4},")","",{"$f":"IF(ROW()-4<=Worksheet!$B$6/2,W15+1,\"\")","v":32},3,"k","²","+",13,"k","–",10,"=","(",{"$f":"IF(RAND()*100<Worksheet!$B$7,CHOOSE(RANDBETWEEN(1,4),2,3,5,7),1)","v":3},"k","–",{"$f":"IF(Worksheet!$B$8=TRUE,IF(Worksheet!$B$9=TRUE,IF(AH16<>1,RANDBETWEEN(0,5),RANDBETWEEN(0,10)),IF(AH16<>1,RANDBETWEEN(1,5),RANDBETWEEN(1,10))),IF(Worksheet!$B$9=TRUE,RANDBETWEEN(-5,5),(-1)^RANDBETWEEN(1,2)*RANDBETWEEN(1,5)))","v":-2},")","(","k","+",{"$f":"IF(Worksheet!$B$8=TRUE,IF(AH16<>1,RANDBETWEEN(1,5),RANDBETWEEN(1,10)),(-1)^RANDBETWEEN(1,2)*RANDBETWEEN(1,5))","v":5},")",""]
[{"$f":"IF(ROW()-4<=Worksheet!$B$6/2,ROW()-4,\"\")","v":13},3,"z","²","+",1,"z","–",10,"=","(",{"$f":"IF(RAND()*100<Worksheet!$B$7,CHOOSE(RANDBETWEEN(1,4),2,3,5,7),1)","v":3},"z","–",{"$f":"IF(Worksheet!$B$8=TRUE,IF(Worksheet!$B$9=TRUE,IF(L17<>1,RANDBETWEEN(0,5),RANDBETWEEN(0,10)),IF(L17<>1,RANDBETWEEN(1,5),RANDBETWEEN(1,10))),IF(Worksheet!$B$9=TRUE,RANDBETWEEN(-5,5),(-1)^RANDBETWEEN(1,2)*RANDBETWEEN(1,5)))","v":-5},")","(","z","+",{"$f":"IF(Worksheet!$B$8=TRUE,IF(L17<>1,RANDBETWEEN(1,5),RANDBETWEEN(1,10)),(-1)^RANDBETWEEN(1,2)*RANDBETWEEN(1,5))","v":2},")","",{"$f":"IF(ROW()-4<=Worksheet!$B$6/2,W16+1,\"\")","v":33},7,"s","²","+",31,"s","–",20,"=","(",{"$f":"IF(RAND()*100<Worksheet!$B$7,CHOOSE(RANDBETWEEN(1,4),2,3,5,7),1)","v":7},"s","–",{"$f":"IF(Worksheet!$B$8=TRUE,IF(Worksheet!$B$9=TRUE,IF(AH17<>1,RANDBETWEEN(0,5),RANDBETWEEN(0,10)),IF(AH17<>1,RANDBETWEEN(1,5),RANDBETWEEN(1,10))),IF(Worksheet!$B$9=TRUE,RANDBETWEEN(-5,5),(-1)^RANDBETWEEN(1,2)*RANDBETWEEN(1,5)))","v":-4},")","(","s","+",{"$f":"IF(Worksheet!$B$8=TRUE,IF(AH17<>1,RANDBETWEEN(1,5),RANDBETWEEN(1,10)),(-1)^RANDBETWEEN(1,2)*RANDBETWEEN(1,5))","v":5},")",""]
[{"$f":"IF(ROW()-4<=Worksheet!$B$6/2,ROW()-4,\"\")","v":14},7,"x","²","–",10,"x","–",8,"=","(",{"$f":"IF(RAND()*100<Worksheet!$B$7,CHOOSE(RANDBETWEEN(1,4),2,3,5,7),1)","v":7},"x","+",{"$f":"IF(Worksheet!$B$8=TRUE,IF(Worksheet!$B$9=TRUE,IF(L18<>1,RANDBETWEEN(0,5),RANDBETWEEN(0,10)),IF(L18<>1,RANDBETWEEN(1,5),RANDBETWEEN(1,10))),IF(Worksheet!$B$9=TRUE,RANDBETWEEN(-5,5),(-1)^RANDBETWEEN(1,2)*RANDBETWEEN(1,5)))","v":4},")","(","x","–",{"$f":"IF(Worksheet!$B$8=TRUE,IF(L18<>1,RANDBETWEEN(1,5),RANDBETWEEN(1,10)),(-1)^RANDBETWEEN(1,2)*RANDBETWEEN(1,5))","v":-2},")","",{"$f":"IF(ROW()-4<=Worksheet!$B$6/2,W17+1,\"\")","v":34},7,"a","²","–",19,"a","–",6,"=","(",{"$f":"IF(RAND()*100<Worksheet!$B$7,CHOOSE(RANDBETWEEN(1,4),2,3,5,7),1)","v":7},"a","+",{"$f":"IF(Worksheet!$B$8=TRUE,IF(Worksheet!$B$9=TRUE,IF(AH18<>1,RANDBETWEEN(0,5),RANDBETWEEN(0,10)),IF(AH18<>1,RANDBETWEEN(1,5),RANDBETWEEN(1,10))),IF(Worksheet!$B$9=TRUE,RANDBETWEEN(-5,5),(-1)^RANDBETWEEN(1,2)*RANDBETWEEN(1,5)))","v":2},")","(","a","–",{"$f":"IF(Worksheet!$B$8=TRUE,IF(AH18<>1,RANDBETWEEN(1,5),RANDBETWEEN(1,10)),(-1)^RANDBETWEEN(1,2)*RANDBETWEEN(1,5))","v":-3},")",""]
[{"$f":"IF(ROW()-4<=Worksheet!$B$6/2,ROW()-4,\"\")","v":15},2,"x","²","+",8,"x","–",10,"=","(",{"$f":"IF(RAND()*100<Worksheet!$B$7,CHOOSE(RANDBETWEEN(1,4),2,3,5,7),1)","v":2},"x","–",{"$f":"IF(Worksheet!$B$8=TRUE,IF(Worksheet!$B$9=TRUE,IF(L19<>1,RANDBETWEEN(0,5),RANDBETWEEN(0,10)),IF(L19<>1,RANDBETWEEN(1,5),RANDBETWEEN(1,10))),IF(Worksheet!$B$9=TRUE,RANDBETWEEN(-5,5),(-1)^RANDBETWEEN(1,2)*RANDBETWEEN(1,5)))","v":-2},")","(","x","+",{"$f":"IF(Worksheet!$B$8=TRUE,IF(L19<>1,RANDBETWEEN(1,5),RANDBETWEEN(1,10)),(-1)^RANDBETWEEN(1,2)*RANDBETWEEN(1,5))","v":5},")","***",{"$f":"IF(ROW()-4<=Worksheet!$B$6/2,W18+1,\"\")","v":35},2,"y","²","–",15,"y","+",25,"=","(",{"$f":"IF(RAND()*100<Worksheet!$B$7,CHOOSE(RANDBETWEEN(1,4),2,3,5,7),1)","v":2},"y","–",{"$f":"IF(Worksheet!$B$8=TRUE,IF(Worksheet!$B$9=TRUE,IF(AH19<>1,RANDBETWEEN(0,5),RANDBETWEEN(0,10)),IF(AH19<>1,RANDBETWEEN(1,5),RANDBETWEEN(1,10))),IF(Worksheet!$B$9=TRUE,RANDBETWEEN(-5,5),(-1)^RANDBETWEEN(1,2)*RANDBETWEEN(1,5)))","v":-5},")","(","y","–",{"$f":"IF(Worksheet!$B$8=TRUE,IF(AH19<>1,RANDBETWEEN(1,5),RANDBETWEEN(1,10)),(-1)^RANDBETWEEN(1,2)*RANDBETWEEN(1,5))","v":-5},")",""]
[{"$f":"IF(ROW()-4<=Worksheet!$B$6/2,ROW()-4,\"\")","v":16},"","x","²","–",3,"x","","","=","(",{"$f":"IF(RAND()*100<Worksheet!$B$7,CHOOSE(RANDBETWEEN(1,4),2,3,5,7),1)","v":1},"x","",{"$f":"IF(Worksheet!$B$8=TRUE,IF(Worksheet!$B$9=TRUE,IF(L20<>1,RANDBETWEEN(0,5),RANDBETWEEN(0,10)),IF(L20<>1,RANDBETWEEN(1,5),RANDBETWEEN(1,10))),IF(Worksheet!$B$9=TRUE,RANDBETWEEN(-5,5),(-1)^RANDBETWEEN(1,2)*RANDBETWEEN(1,5)))","v":0},")","(","x","–",{"$f":"IF(Worksheet!$B$8=TRUE,IF(L20<>1,RANDBETWEEN(1,5),RANDBETWEEN(1,10)),(-1)^RANDBETWEEN(1,2)*RANDBETWEEN(1,5))","v":-3},")","",{"$f":"IF(ROW()-4<=Worksheet!$B$6/2,W19+1,\"\")","v":36},7,"z","²","–",38,"z","+",15,"=","(",{"$f":"IF(RAND()*100<Worksheet!$B$7,CHOOSE(RANDBETWEEN(1,4),2,3,5,7),1)","v":7},"z","–",{"$f":"IF(Worksheet!$B$8=TRUE,IF(Worksheet!$B$9=TRUE,IF(AH20<>1,RANDBETWEEN(0,5),RANDBETWEEN(0,10)),IF(AH20<>1,RANDBETWEEN(1,5),RANDBETWEEN(1,10))),IF(Worksheet!$B$9=TRUE,RANDBETWEEN(-5,5),(-1)^RANDBETWEEN(1,2)*RANDBETWEEN(1,5)))","v":-3},")","(","z","–",{"$f":"IF(Worksheet!$B$8=TRUE,IF(AH20<>1,RANDBETWEEN(1,5),RANDBETWEEN(1,10)),(-1)^RANDBETWEEN(1,2)*RANDBETWEEN(1,5))","v":-5},")",""]
[{"$f":"IF(ROW()-4<=Worksheet!$B$6/2,ROW()-4,\"\")","v":17},"","x","²","–",7,"x","+",10,"=","(",{"$f":"IF(RAND()*100<Worksheet!$B$7,CHOOSE(RANDBETWEEN(1,4),2,3,5,7),1)","v":1},"x","–",{"$f":"IF(Worksheet!$B$8=TRUE,IF(Worksheet!$B$9=TRUE,IF(L21<>1,RANDBETWEEN(0,5),RANDBETWEEN(0,10)),IF(L21<>1,RANDBETWEEN(1,5),RANDBETWEEN(1,10))),IF(Worksheet!$B$9=TRUE,RANDBETWEEN(-5,5),(-1)^RANDBETWEEN(1,2)*RANDBETWEEN(1,5)))","v":-2},")","(","x","–",{"$f":"IF(Worksheet!$B$8=TRUE,IF(L21<>1,RANDBETWEEN(1,5),RANDBETWEEN(1,10)),(-1)^RANDBETWEEN(1,2)*RANDBETWEEN(1,5))","v":-5},")","",{"$f":"IF(ROW()-4<=Worksheet!$B$6/2,W20+1,\"\")","v":37},3,"z","²","+",11,"z","–",20,"=","(",{"$f":"IF(RAND()*100<Worksheet!$B$7,CHOOSE(RANDBETWEEN(1,4),2,3,5,7),1)","v":3},"z","–",{"$f":"IF(Worksheet!$B$8=TRUE,IF(Worksheet!$B$9=TRUE,IF(AH21<>1,RANDBETWEEN(0,5),RANDBETWEEN(0,10)),IF(AH21<>1,RANDBETWEEN(1,5),RANDBETWEEN(1,10))),IF(Worksheet!$B$9=TRUE,RANDBETWEEN(-5,5),(-1)^RANDBETWEEN(1,2)*RANDBETWEEN(1,5)))","v":-4},")","(","z","+",{"$f":"IF(Worksheet!$B$8=TRUE,IF(AH21<>1,RANDBETWEEN(1,5),RANDBETWEEN(1,10)),(-1)^RANDBETWEEN(1,2)*RANDBETWEEN(1,5))","v":5},")",""]
[{"$f":"IF(ROW()-4<=Worksheet!$B$6/2,ROW()-4,\"\")","v":18},2,"s","²","+",3,"s","–",9,"=","(",{"$f":"IF(RAND()*100<Worksheet!$B$7,CHOOSE(RANDBETWEEN(1,4),2,3,5,7),1)","v":2},"s","–",{"$f":"IF(Worksheet!$B$8=TRUE,IF(Worksheet!$B$9=TRUE,IF(L22<>1,RANDBETWEEN(0,5),RANDBETWEEN(0,10)),IF(L22<>1,RANDBETWEEN(1,5),RANDBETWEEN(1,10))),IF(Worksheet!$B$9=TRUE,RANDBETWEEN(-5,5),(-1)^RANDBETWEEN(1,2)*RANDBETWEEN(1,5)))","v":-3},")","(","s","+",{"$f":"IF(Worksheet!$B$8=TRUE,IF(L22<>1,RANDBETWEEN(1,5),RANDBETWEEN(1,10)),(-1)^RANDBETWEEN(1,2)*RANDBETWEEN(1,5))","v":3},")","",{"$f":"IF(ROW()-4<=Worksheet!$B$6/2,W21+1,\"\")","v":38},"","a","²","+",1,"a","–",2,"=","(",{"$f":"IF(RAND()*100<Worksheet!$B$7,CHOOSE(RANDBETWEEN(1,4),2,3,5,7),1)","v":1},"a","–",{"$f":"IF(Worksheet!$B$8=TRUE,IF(Worksheet!$B$9=TRUE,IF(AH22<>1,RANDBETWEEN(0,5),RANDBETWEEN(0,10)),IF(AH22<>1,RANDBETWEEN(1,5),RANDBETWEEN(1,10))),IF(Worksheet!$B$9=TRUE,RANDBETWEEN(-5,5),(-1)^RANDBETWEEN(1,2)*RANDBETWEEN(1,5)))","v":-1},")","(","a","+",{"$f":"IF(Worksheet!$B$8=TRUE,IF(AH22<>1,RANDBETWEEN(1,5),RANDBETWEEN(1,10)),(-1)^RANDBETWEEN(1,2)*RANDBETWEEN(1,5))","v":2},")",""]
[{"$f":"IF(ROW()-4<=Worksheet!$B$6/2,ROW()-4,\"\")","v":19},5,"y","²","+",8,"y","–",4,"=","(",{"$f":"IF(RAND()*100<Worksheet!$B$7,CHOOSE(RANDBETWEEN(1,4),2,3,5,7),1)","v":5},"y","–",{"$f":"IF(Worksheet!$B$8=TRUE,IF(Worksheet!$B$9=TRUE,IF(L23<>1,RANDBETWEEN(0,5),RANDBETWEEN(0,10)),IF(L23<>1,RANDBETWEEN(1,5),RANDBETWEEN(1,10))),IF(Worksheet!$B$9=TRUE,RANDBETWEEN(-5,5),(-1)^RANDBETWEEN(1,2)*RANDBETWEEN(1,5)))","v":-2},")","(","y","+",{"$f":"IF(Worksheet!$B$8=TRUE,IF(L23<>1,RANDBETWEEN(1,5),RANDBETWEEN(1,10)),(-1)^RANDBETWEEN(1,2)*RANDBETWEEN(1,5))","v":2},")","",{"$f":"IF(ROW()-4<=Worksheet!$B$6/2,W22+1,\"\")","v":39},5,"x","²","–",15,"x","+",10,"=","(",{"$f":"IF(RAND()*100<Worksheet!$B$7,CHOOSE(RANDBETWEEN(1,4),2,3,5,7),1)","v":5},"x","–",{"$f":"IF(Worksheet!$B$8=TRUE,IF(Worksheet!$B$9=TRUE,IF(AH23<>1,RANDBETWEEN(0,5),RANDBETWEEN(0,10)),IF(AH23<>1,RANDBETWEEN(1,5),RANDBETWEEN(1,10))),IF(Worksheet!$B$9=TRUE,RANDBETWEEN(-5,5),(-1)^RANDBETWEEN(1,2)*RANDBETWEEN(1,5)))","v":-5},")","(","x","–",{"$f":"IF(Worksheet!$B$8=TRUE,IF(AH23<>1,RANDBETWEEN(1,5),RANDBETWEEN(1,10)),(-1)^RANDBETWEEN(1,2)*RANDBETWEEN(1,5))","v":-2},")","***"]
[{"$f":"IF(ROW()-4<=Worksheet!$B$6/2,ROW()-4,\"\")","v":20},"","y","²","–",1,"y","–",6,"=","(",{"$f":"IF(RAND()*100<Worksheet!$B$7,CHOOSE(RANDBETWEEN(1,4),2,3,5,7),1)","v":1},"y","–",{"$f":"IF(Worksheet!$B$8=TRUE,IF(Worksheet!$B$9=TRUE,IF(L24<>1,RANDBETWEEN(0,5),RANDBETWEEN(0,10)),IF(L24<>1,RANDBETWEEN(1,5),RANDBETWEEN(1,10))),IF(Worksheet!$B$9=TRUE,RANDBETWEEN(-5,5),(-1)^RANDBETWEEN(1,2)*RANDBETWEEN(1,5)))","v":-3},")","(","y","+",{"$f":"IF(Worksheet!$B$8=TRUE,IF(L24<>1,RANDBETWEEN(1,5),RANDBETWEEN(1,10)),(-1)^RANDBETWEEN(1,2)*RANDBETWEEN(1,5))","v":2},")","",{"$f":"IF(ROW()-4<=Worksheet!$B$6/2,W23+1,\"\")","v":40},"","y","²","+",2,"y","–",15,"=","(",{"$f":"IF(RAND()*100<Worksheet!$B$7,CHOOSE(RANDBETWEEN(1,4),2,3,5,7),1)","v":1},"y","–",{"$f":"IF(Worksheet!$B$8=TRUE,IF(Worksheet!$B$9=TRUE,IF(AH24<>1,RANDBETWEEN(0,5),RANDBETWEEN(0,10)),IF(AH24<>1,RANDBETWEEN(1,5),RANDBETWEEN(1,10))),IF(Worksheet!$B$9=TRUE,RANDBETWEEN(-5,5),(-1)^RANDBETWEEN(1,2)*RANDBETWEEN(1,5)))","v":-3},")","(","y","+",{"$f":"IF(Worksheet!$B$8=TRUE,IF(AH24<>1,RANDBETWEEN(1,5),RANDBETWEEN(1,10)),(-1)^RANDBETWEEN(1,2)*RANDBETWEEN(1,5))","v":5},")",""]