{"text_format":"1","workbook":"xlsx","n_sheets":2,"sheets":["Worksheet","SYSTEM FORMULAE"],"not_rendered":{"charts":0,"images":0,"macros":1,"external_links":0,"defined_names":2,"comments":0,"pivot_tables":0},"unopened":[],"bounds":{"document_bytes":16777216,"sheet_cells":100000,"rows_first":2000,"rows_last":500,"rows_between":2000,"halvings":0,"cell_chars":16384,"cell_head_chars":4096},"cells_cut":0,"cells_raw":0,"read":"whole","date_system":"1900"}

{"sheet":"Worksheet","index":0,"n_rows":16,"n_cols":33,"rows_kept":16,"cut":false,"hidden":false,"merged":[[1,0,1,1],[4,0,4,1],[8,0,8,1],[0,2,0,32]]}
[null,null,"Write each ratio in its simplest form"]
["Variables",null,1,3,6,5,10,1,6,5,10,8,48,40,80,"48 : 40 : 80","6 : 5 : 10",null,16,2,5,5,"",5,1,1,"",1,1,1,"","1 : 1","1 : 1"]
["SHOW ANSWERS",false,2,3,3,4,10,1,3,4,10,10,30,40,100,"30 : 40 : 100","3 : 4 : 10",null,17,3,5,9,3,1,5,9,3,8,40,72,24,"40 : 72 : 24","5 : 9 : 3"]
["Number of questions (minimum 10, maximum 30)",30,3,2,5,10,"",5,1,2,"",10,10,20,"","10 : 20","1 : 2",null,18,3,5,4,5,1,5,4,5,6,30,24,30,"30 : 24 : 30","5 : 4 : 5"]
["Types of Question",null,4,2,10,7,"",1,10,7,"",1,10,7,"","10 : 7","10 : 7",null,19,2,10,2,"",2,5,1,"",10,50,10,"","50 : 10","5 : 1"]
["Maximum common factor to divide by",10,5,2,4,1,"",1,4,1,"",4,16,4,"","16 : 4","4 : 1",null,20,3,2,4,7,1,2,4,7,1,2,4,7,"2 : 4 : 7","2 : 4 : 7"]
["Allow three-part ratios (e.g. 2:3:5)",true,6,2,4,5,"",1,4,5,"",4,16,20,"","16 : 20","4 : 5",null,21,3,9,5,1,1,9,5,1,7,63,35,7,"63 : 35 : 7","9 : 5 : 1"]
["Include some ratios that cannot be simplified",true,7,3,2,4,2,2,1,2,1,10,10,20,10,"10 : 20 : 10","1 : 2 : 1",null,22,2,10,1,"",1,10,1,"",2,20,2,"","20 : 2","10 : 1"]
["Level of difficulty",null,8,2,3,5,"",1,3,5,"",8,24,40,"","24 : 40","3 : 5",null,23,2,1,10,"",1,1,10,"",7,7,70,"","7 : 70","1 : 10"]
["Straightforward simplification: within times tables only",1,9,2,3,6,"",3,1,2,"",8,8,16,"","8 : 16","1 : 2",null,24,3,7,10,7,1,7,10,7,5,35,50,35,"35 : 50 : 35","7 : 10 : 7"]
["Common factors will be more complicated",null,10,3,6,8,4,2,3,4,2,6,18,24,12,"18 : 24 : 12","3 : 4 : 2",null,25,3,7,3,2,1,7,3,2,3,21,9,6,"21 : 9 : 6","7 : 3 : 2"]
[null,null,11,2,6,3,"",3,2,1,"",6,12,6,"","12 : 6","2 : 1",null,26,3,8,4,4,4,2,1,1,4,8,4,4,"8 : 4 : 4","2 : 1 : 1"]
[null,null,12,3,9,1,2,1,9,1,2,5,45,5,10,"45 : 5 : 10","9 : 1 : 2",null,27,2,5,9,"",1,5,9,"",2,10,18,"","10 : 18","5 : 9"]
[null,null,13,2,4,5,"",1,4,5,"",8,32,40,"","32 : 40","4 : 5",null,28,2,9,3,"",3,3,1,"",2,6,2,"","6 : 2","3 : 1"]
[null,null,14,3,2,3,9,1,2,3,9,7,14,21,63,"14 : 21 : 63","2 : 3 : 9",null,29,3,6,3,1,1,6,3,1,5,30,15,5,"30 : 15 : 5","6 : 3 : 1"]
[null,null,15,3,9,8,8,1,9,8,8,9,81,72,72,"81 : 72 : 72","9 : 8 : 8",null,30,2,3,1,"",1,3,1,"",6,18,6,"","18 : 6","3 : 1"]

{"sheet":"SYSTEM FORMULAE","index":1,"n_rows":30,"n_cols":31,"rows_kept":30,"cut":false,"hidden":false,"merged":[]}
[{"$f":"IF(ROW()<=Worksheet!$B$4/2,ROW(),\"\")","v":1},{"$f":"IF(Worksheet!$B$7,RANDBETWEEN(2,3),2)","v":2},{"$f":"RANDBETWEEN(1,10)*RANDBETWEEN(1,IF(Worksheet!$B$10=1,1,3))","v":4},{"$f":"RANDBETWEEN(1,10)*RANDBETWEEN(1,IF(Worksheet!$B$10=1,1,3))","v":6},{"$f":"IF(B1=3,RANDBETWEEN(1,10)*RANDBETWEEN(1,IF(Worksheet!$B$10=1,1,3)),\"\")","v":""},{"$f":"GCD(C1,D1,IF(E1=\"\",D1,E1))","v":2},{"$f":"C1/F1","v":2},{"$f":"D1/F1","v":3},{"$f":"IF(E1=\"\",\"\",E1/F1)","v":""},{"$f":"RANDBETWEEN(IF(Worksheet!$B$8,1,2),Worksheet!$B$6*IF(Worksheet!$B$10=1,1,2)*IF(Worksheet!$B$10=1,1,3))*10^RANDBETWEEN(0,RANDBETWEEN(0,IF(Worksheet!$B$10=1,0,2)))","v":3},{"$f":"G1*J1","v":6},{"$f":"H1*J1","v":9},{"$f":"IF(E1=\"\",\"\",I1*J1)","v":""},{"$f":"CONCATENATE(K1,\" : \",L1,IF(B1=3,\" : \",\"\"),IF(B1=3,M1,\"\"))","v":"6 : 9"},{"$f":"CONCATENATE(G1,\" : \",H1,IF(B1=3,\" : \",\"\"),IF(B1=3,I1,\"\"))","v":"2 : 3"},null,{"$f":"MAX(A1:A50)+1","v":16},{"$f":"IF(Worksheet!$B$7,RANDBETWEEN(2,3),2)","v":2},{"$f":"RANDBETWEEN(1,10)*RANDBETWEEN(1,IF(Worksheet!$B$10=1,1,3))","v":1},{"$f":"RANDBETWEEN(1,10)*RANDBETWEEN(1,IF(Worksheet!$B$10=1,1,3))","v":6},{"$f":"IF(R1=3,RANDBETWEEN(1,10)*RANDBETWEEN(1,IF(Worksheet!$B$10=1,1,3)),\"\")","v":""},{"$f":"GCD(S1,T1,IF(U1=\"\",T1,U1))","v":1},{"$f":"S1/V1","v":1},{"$f":"T1/V1","v":6},{"$f":"IF(U1=\"\",\"\",U1/V1)","v":""},{"$f":"RANDBETWEEN(IF(Worksheet!$B$8,1,2),Worksheet!$B$6*IF(Worksheet!$B$10=1,1,2)*IF(Worksheet!$B$10=1,1,3))*10^RANDBETWEEN(0,RANDBETWEEN(0,IF(Worksheet!$B$10=1,0,2)))","v":10},{"$f":"W1*Z1","v":10},{"$f":"X1*Z1","v":60},{"$f":"IF(U1=\"\",\"\",Y1*Z1)","v":""},{"$f":"CONCATENATE(AA1,\" : \",AB1,IF(R1=3,\" : \",\"\"),IF(R1=3,AC1,\"\"))","v":"10 : 60"},{"$f":"CONCATENATE(W1,\" : \",X1,IF(R1=3,\" : \",\"\"),IF(R1=3,Y1,\"\"))","v":"1 : 6"}]
[{"$f":"IF(ROW()<=Worksheet!$B$4/2,ROW(),\"\")","v":2},{"$f":"IF(Worksheet!$B$7,RANDBETWEEN(2,3),2)","v":3},{"$f":"RANDBETWEEN(1,10)*RANDBETWEEN(1,IF(Worksheet!$B$10=1,1,3))","v":2},{"$f":"RANDBETWEEN(1,10)*RANDBETWEEN(1,IF(Worksheet!$B$10=1,1,3))","v":9},{"$f":"IF(B2=3,RANDBETWEEN(1,10)*RANDBETWEEN(1,IF(Worksheet!$B$10=1,1,3)),\"\")","v":6},{"$f":"GCD(C2,D2,IF(E2=\"\",D2,E2))","v":1},{"$f":"C2/F2","v":2},{"$f":"D2/F2","v":9},{"$f":"IF(E2=\"\",\"\",E2/F2)","v":6},{"$f":"RANDBETWEEN(IF(Worksheet!$B$8,1,2),Worksheet!$B$6*IF(Worksheet!$B$10=1,1,2)*IF(Worksheet!$B$10=1,1,3))*10^RANDBETWEEN(0,RANDBETWEEN(0,IF(Worksheet!$B$10=1,0,2)))","v":1},{"$f":"G2*J2","v":2},{"$f":"H2*J2","v":9},{"$f":"IF(E2=\"\",\"\",I2*J2)","v":6},{"$f":"CONCATENATE(K2,\" : \",L2,IF(B2=3,\" : \",\"\"),IF(B2=3,M2,\"\"))","v":"2 : 9 : 6"},{"$f":"CONCATENATE(G2,\" : \",H2,IF(B2=3,\" : \",\"\"),IF(B2=3,I2,\"\"))","v":"2 : 9 : 6"},null,{"$f":"IF(ROW()<=Worksheet!$B$4/2,Q1+1,\"\")","v":17},{"$f":"IF(Worksheet!$B$7,RANDBETWEEN(2,3),2)","v":3},{"$f":"RANDBETWEEN(1,10)*RANDBETWEEN(1,IF(Worksheet!$B$10=1,1,3))","v":7},{"$f":"RANDBETWEEN(1,10)*RANDBETWEEN(1,IF(Worksheet!$B$10=1,1,3))","v":9},{"$f":"IF(R2=3,RANDBETWEEN(1,10)*RANDBETWEEN(1,IF(Worksheet!$B$10=1,1,3)),\"\")","v":10},{"$f":"GCD(S2,T2,IF(U2=\"\",T2,U2))","v":1},{"$f":"S2/V2","v":7},{"$f":"T2/V2","v":9},{"$f":"IF(U2=\"\",\"\",U2/V2)","v":10},{"$f":"RANDBETWEEN(IF(Worksheet!$B$8,1,2),Worksheet!$B$6*IF(Worksheet!$B$10=1,1,2)*IF(Worksheet!$B$10=1,1,3))*10^RANDBETWEEN(0,RANDBETWEEN(0,IF(Worksheet!$B$10=1,0,2)))","v":10},{"$f":"W2*Z2","v":70},{"$f":"X2*Z2","v":90},{"$f":"IF(U2=\"\",\"\",Y2*Z2)","v":100},{"$f":"CONCATENATE(AA2,\" : \",AB2,IF(R2=3,\" : \",\"\"),IF(R2=3,AC2,\"\"))","v":"70 : 90 : 100"},{"$f":"CONCATENATE(W2,\" : \",X2,IF(R2=3,\" : \",\"\"),IF(R2=3,Y2,\"\"))","v":"7 : 9 : 10"}]
[{"$f":"IF(ROW()<=Worksheet!$B$4/2,ROW(),\"\")","v":3},{"$f":"IF(Worksheet!$B$7,RANDBETWEEN(2,3),2)","v":3},{"$f":"RANDBETWEEN(1,10)*RANDBETWEEN(1,IF(Worksheet!$B$10=1,1,3))","v":7},{"$f":"RANDBETWEEN(1,10)*RANDBETWEEN(1,IF(Worksheet!$B$10=1,1,3))","v":6},{"$f":"IF(B3=3,RANDBETWEEN(1,10)*RANDBETWEEN(1,IF(Worksheet!$B$10=1,1,3)),\"\")","v":2},1,7,6,2,{"$f":"RANDBETWEEN(IF(Worksheet!$B$8,1,2),Worksheet!$B$6*IF(Worksheet!$B$10=1,1,2)*IF(Worksheet!$B$10=1,1,3))*10^RANDBETWEEN(0,RANDBETWEEN(0,IF(Worksheet!$B$10=1,0,2)))","v":5},35,30,10,"35 : 30 : 10","7 : 6 : 2",null,{"$f":"IF(ROW()<=Worksheet!$B$4/2,Q2+1,\"\")","v":18},{"$f":"IF(Worksheet!$B$7,RANDBETWEEN(2,3),2)","v":2},{"$f":"RANDBETWEEN(1,10)*RANDBETWEEN(1,IF(Worksheet!$B$10=1,1,3))","v":8},{"$f":"RANDBETWEEN(1,10)*RANDBETWEEN(1,IF(Worksheet!$B$10=1,1,3))","v":4},{"$f":"IF(R3=3,RANDBETWEEN(1,10)*RANDBETWEEN(1,IF(Worksheet!$B$10=1,1,3)),\"\")","v":""},4,2,1,"",{"$f":"RANDBETWEEN(IF(Worksheet!$B$8,1,2),Worksheet!$B$6*IF(Worksheet!$B$10=1,1,2)*IF(Worksheet!$B$10=1,1,3))*10^RANDBETWEEN(0,RANDBETWEEN(0,IF(Worksheet!$B$10=1,0,2)))","v":7},14,7,"","14 : 7","2 : 1"]
[{"$f":"IF(ROW()<=Worksheet!$B$4/2,ROW(),\"\")","v":4},{"$f":"IF(Worksheet!$B$7,RANDBETWEEN(2,3),2)","v":2},{"$f":"RANDBETWEEN(1,10)*RANDBETWEEN(1,IF(Worksheet!$B$10=1,1,3))","v":3},{"$f":"RANDBETWEEN(1,10)*RANDBETWEEN(1,IF(Worksheet!$B$10=1,1,3))","v":7},{"$f":"IF(B4=3,RANDBETWEEN(1,10)*RANDBETWEEN(1,IF(Worksheet!$B$10=1,1,3)),\"\")","v":""},1,3,7,"",{"$f":"RANDBETWEEN(IF(Worksheet!$B$8,1,2),Worksheet!$B$6*IF(Worksheet!$B$10=1,1,2)*IF(Worksheet!$B$10=1,1,3))*10^RANDBETWEEN(0,RANDBETWEEN(0,IF(Worksheet!$B$10=1,0,2)))","v":6},18,42,"","18 : 42","3 : 7",null,{"$f":"IF(ROW()<=Worksheet!$B$4/2,Q3+1,\"\")","v":19},{"$f":"IF(Worksheet!$B$7,RANDBETWEEN(2,3),2)","v":2},{"$f":"RANDBETWEEN(1,10)*RANDBETWEEN(1,IF(Worksheet!$B$10=1,1,3))","v":9},{"$f":"RANDBETWEEN(1,10)*RANDBETWEEN(1,IF(Worksheet!$B$10=1,1,3))","v":4},{"$f":"IF(R4=3,RANDBETWEEN(1,10)*RANDBETWEEN(1,IF(Worksheet!$B$10=1,1,3)),\"\")","v":""},1,9,4,"",{"$f":"RANDBETWEEN(IF(Worksheet!$B$8,1,2),Worksheet!$B$6*IF(Worksheet!$B$10=1,1,2)*IF(Worksheet!$B$10=1,1,3))*10^RANDBETWEEN(0,RANDBETWEEN(0,IF(Worksheet!$B$10=1,0,2)))","v":7},63,28,"","63 : 28","9 : 4"]
[{"$f":"IF(ROW()<=Worksheet!$B$4/2,ROW(),\"\")","v":5},{"$f":"IF(Worksheet!$B$7,RANDBETWEEN(2,3),2)","v":2},{"$f":"RANDBETWEEN(1,10)*RANDBETWEEN(1,IF(Worksheet!$B$10=1,1,3))","v":9},{"$f":"RANDBETWEEN(1,10)*RANDBETWEEN(1,IF(Worksheet!$B$10=1,1,3))","v":5},{"$f":"IF(B5=3,RANDBETWEEN(1,10)*RANDBETWEEN(1,IF(Worksheet!$B$10=1,1,3)),\"\")","v":""},1,9,5,"",{"$f":"RANDBETWEEN(IF(Worksheet!$B$8,1,2),Worksheet!$B$6*IF(Worksheet!$B$10=1,1,2)*IF(Worksheet!$B$10=1,1,3))*10^RANDBETWEEN(0,RANDBETWEEN(0,IF(Worksheet!$B$10=1,0,2)))","v":4},36,20,"","36 : 20","9 : 5",null,{"$f":"IF(ROW()<=Worksheet!$B$4/2,Q4+1,\"\")","v":20},{"$f":"IF(Worksheet!$B$7,RANDBETWEEN(2,3),2)","v":3},{"$f":"RANDBETWEEN(1,10)*RANDBETWEEN(1,IF(Worksheet!$B$10=1,1,3))","v":5},{"$f":"RANDBETWEEN(1,10)*RANDBETWEEN(1,IF(Worksheet!$B$10=1,1,3))","v":1},{"$f":"IF(R5=3,RANDBETWEEN(1,10)*RANDBETWEEN(1,IF(Worksheet!$B$10=1,1,3)),\"\")","v":4},1,5,1,4,{"$f":"RANDBETWEEN(IF(Worksheet!$B$8,1,2),Worksheet!$B$6*IF(Worksheet!$B$10=1,1,2)*IF(Worksheet!$B$10=1,1,3))*10^RANDBETWEEN(0,RANDBETWEEN(0,IF(Worksheet!$B$10=1,0,2)))","v":5},25,5,20,"25 : 5 : 20","5 : 1 : 4"]
[{"$f":"IF(ROW()<=Worksheet!$B$4/2,ROW(),\"\")","v":6},{"$f":"IF(Worksheet!$B$7,RANDBETWEEN(2,3),2)","v":2},{"$f":"RANDBETWEEN(1,10)*RANDBETWEEN(1,IF(Worksheet!$B$10=1,1,3))","v":7},{"$f":"RANDBETWEEN(1,10)*RANDBETWEEN(1,IF(Worksheet!$B$10=1,1,3))","v":5},{"$f":"IF(B6=3,RANDBETWEEN(1,10)*RANDBETWEEN(1,IF(Worksheet!$B$10=1,1,3)),\"\")","v":""},1,7,5,"",{"$f":"RANDBETWEEN(IF(Worksheet!$B$8,1,2),Worksheet!$B$6*IF(Worksheet!$B$10=1,1,2)*IF(Worksheet!$B$10=1,1,3))*10^RANDBETWEEN(0,RANDBETWEEN(0,IF(Worksheet!$B$10=1,0,2)))","v":6},42,30,"","42 : 30","7 : 5",null,{"$f":"IF(ROW()<=Worksheet!$B$4/2,Q5+1,\"\")","v":21},{"$f":"IF(Worksheet!$B$7,RANDBETWEEN(2,3),2)","v":2},{"$f":"RANDBETWEEN(1,10)*RANDBETWEEN(1,IF(Worksheet!$B$10=1,1,3))","v":5},{"$f":"RANDBETWEEN(1,10)*RANDBETWEEN(1,IF(Worksheet!$B$10=1,1,3))","v":6},{"$f":"IF(R6=3,RANDBETWEEN(1,10)*RANDBETWEEN(1,IF(Worksheet!$B$10=1,1,3)),\"\")","v":""},1,5,6,"",{"$f":"RANDBETWEEN(IF(Worksheet!$B$8,1,2),Worksheet!$B$6*IF(Worksheet!$B$10=1,1,2)*IF(Worksheet!$B$10=1,1,3))*10^RANDBETWEEN(0,RANDBETWEEN(0,IF(Worksheet!$B$10=1,0,2)))","v":10},50,60,"","50 : 60","5 : 6"]
[{"$f":"IF(ROW()<=Worksheet!$B$4/2,ROW(),\"\")","v":7},{"$f":"IF(Worksheet!$B$7,RANDBETWEEN(2,3),2)","v":2},{"$f":"RANDBETWEEN(1,10)*RANDBETWEEN(1,IF(Worksheet!$B$10=1,1,3))","v":9},{"$f":"RANDBETWEEN(1,10)*RANDBETWEEN(1,IF(Worksheet!$B$10=1,1,3))","v":9},{"$f":"IF(B7=3,RANDBETWEEN(1,10)*RANDBETWEEN(1,IF(Worksheet!$B$10=1,1,3)),\"\")","v":""},9,1,1,"",{"$f":"RANDBETWEEN(IF(Worksheet!$B$8,1,2),Worksheet!$B$6*IF(Worksheet!$B$10=1,1,2)*IF(Worksheet!$B$10=1,1,3))*10^RANDBETWEEN(0,RANDBETWEEN(0,IF(Worksheet!$B$10=1,0,2)))","v":8},8,8,"","8 : 8","1 : 1",null,{"$f":"IF(ROW()<=Worksheet!$B$4/2,Q6+1,\"\")","v":22},{"$f":"IF(Worksheet!$B$7,RANDBETWEEN(2,3),2)","v":3},{"$f":"RANDBETWEEN(1,10)*RANDBETWEEN(1,IF(Worksheet!$B$10=1,1,3))","v":9},{"$f":"RANDBETWEEN(1,10)*RANDBETWEEN(1,IF(Worksheet!$B$10=1,1,3))","v":4},{"$f":"IF(R7=3,RANDBETWEEN(1,10)*RANDBETWEEN(1,IF(Worksheet!$B$10=1,1,3)),\"\")","v":8},1,9,4,8,{"$f":"RANDBETWEEN(IF(Worksheet!$B$8,1,2),Worksheet!$B$6*IF(Worksheet!$B$10=1,1,2)*IF(Worksheet!$B$10=1,1,3))*10^RANDBETWEEN(0,RANDBETWEEN(0,IF(Worksheet!$B$10=1,0,2)))","v":10},90,40,80,"90 : 40 : 80","9 : 4 : 8"]
[{"$f":"IF(ROW()<=Worksheet!$B$4/2,ROW(),\"\")","v":8},{"$f":"IF(Worksheet!$B$7,RANDBETWEEN(2,3),2)","v":3},{"$f":"RANDBETWEEN(1,10)*RANDBETWEEN(1,IF(Worksheet!$B$10=1,1,3))","v":10},{"$f":"RANDBETWEEN(1,10)*RANDBETWEEN(1,IF(Worksheet!$B$10=1,1,3))","v":3},{"$f":"IF(B8=3,RANDBETWEEN(1,10)*RANDBETWEEN(1,IF(Worksheet!$B$10=1,1,3)),\"\")","v":4},1,10,3,4,{"$f":"RANDBETWEEN(IF(Worksheet!$B$8,1,2),Worksheet!$B$6*IF(Worksheet!$B$10=1,1,2)*IF(Worksheet!$B$10=1,1,3))*10^RANDBETWEEN(0,RANDBETWEEN(0,IF(Worksheet!$B$10=1,0,2)))","v":7},70,21,28,"70 : 21 : 28","10 : 3 : 4",null,{"$f":"IF(ROW()<=Worksheet!$B$4/2,Q7+1,\"\")","v":23},{"$f":"IF(Worksheet!$B$7,RANDBETWEEN(2,3),2)","v":2},{"$f":"RANDBETWEEN(1,10)*RANDBETWEEN(1,IF(Worksheet!$B$10=1,1,3))","v":6},{"$f":"RANDBETWEEN(1,10)*RANDBETWEEN(1,IF(Worksheet!$B$10=1,1,3))","v":6},{"$f":"IF(R8=3,RANDBETWEEN(1,10)*RANDBETWEEN(1,IF(Worksheet!$B$10=1,1,3)),\"\")","v":""},6,1,1,"",{"$f":"RANDBETWEEN(IF(Worksheet!$B$8,1,2),Worksheet!$B$6*IF(Worksheet!$B$10=1,1,2)*IF(Worksheet!$B$10=1,1,3))*10^RANDBETWEEN(0,RANDBETWEEN(0,IF(Worksheet!$B$10=1,0,2)))","v":5},5,5,"","5 : 5","1 : 1"]
[{"$f":"IF(ROW()<=Worksheet!$B$4/2,ROW(),\"\")","v":9},{"$f":"IF(Worksheet!$B$7,RANDBETWEEN(2,3),2)","v":2},{"$f":"RANDBETWEEN(1,10)*RANDBETWEEN(1,IF(Worksheet!$B$10=1,1,3))","v":3},{"$f":"RANDBETWEEN(1,10)*RANDBETWEEN(1,IF(Worksheet!$B$10=1,1,3))","v":3},{"$f":"IF(B9=3,RANDBETWEEN(1,10)*RANDBETWEEN(1,IF(Worksheet!$B$10=1,1,3)),\"\")","v":""},3,1,1,"",{"$f":"RANDBETWEEN(IF(Worksheet!$B$8,1,2),Worksheet!$B$6*IF(Worksheet!$B$10=1,1,2)*IF(Worksheet!$B$10=1,1,3))*10^RANDBETWEEN(0,RANDBETWEEN(0,IF(Worksheet!$B$10=1,0,2)))","v":4},4,4,"","4 : 4","1 : 1",null,{"$f":"IF(ROW()<=Worksheet!$B$4/2,Q8+1,\"\")","v":24},{"$f":"IF(Worksheet!$B$7,RANDBETWEEN(2,3),2)","v":2},{"$f":"RANDBETWEEN(1,10)*RANDBETWEEN(1,IF(Worksheet!$B$10=1,1,3))","v":2},{"$f":"RANDBETWEEN(1,10)*RANDBETWEEN(1,IF(Worksheet!$B$10=1,1,3))","v":8},{"$f":"IF(R9=3,RANDBETWEEN(1,10)*RANDBETWEEN(1,IF(Worksheet!$B$10=1,1,3)),\"\")","v":""},2,1,4,"",{"$f":"RANDBETWEEN(IF(Worksheet!$B$8,1,2),Worksheet!$B$6*IF(Worksheet!$B$10=1,1,2)*IF(Worksheet!$B$10=1,1,3))*10^RANDBETWEEN(0,RANDBETWEEN(0,IF(Worksheet!$B$10=1,0,2)))","v":5},5,20,"","5 : 20","1 : 4"]
[{"$f":"IF(ROW()<=Worksheet!$B$4/2,ROW(),\"\")","v":10},{"$f":"IF(Worksheet!$B$7,RANDBETWEEN(2,3),2)","v":3},{"$f":"RANDBETWEEN(1,10)*RANDBETWEEN(1,IF(Worksheet!$B$10=1,1,3))","v":5},{"$f":"RANDBETWEEN(1,10)*RANDBETWEEN(1,IF(Worksheet!$B$10=1,1,3))","v":5},{"$f":"IF(B10=3,RANDBETWEEN(1,10)*RANDBETWEEN(1,IF(Worksheet!$B$10=1,1,3)),\"\")","v":8},1,5,5,8,{"$f":"RANDBETWEEN(IF(Worksheet!$B$8,1,2),Worksheet!$B$6*IF(Worksheet!$B$10=1,1,2)*IF(Worksheet!$B$10=1,1,3))*10^RANDBETWEEN(0,RANDBETWEEN(0,IF(Worksheet!$B$10=1,0,2)))","v":5},25,25,40,"25 : 25 : 40","5 : 5 : 8",null,{"$f":"IF(ROW()<=Worksheet!$B$4/2,Q9+1,\"\")","v":25},{"$f":"IF(Worksheet!$B$7,RANDBETWEEN(2,3),2)","v":2},{"$f":"RANDBETWEEN(1,10)*RANDBETWEEN(1,IF(Worksheet!$B$10=1,1,3))","v":9},{"$f":"RANDBETWEEN(1,10)*RANDBETWEEN(1,IF(Worksheet!$B$10=1,1,3))","v":7},{"$f":"IF(R10=3,RANDBETWEEN(1,10)*RANDBETWEEN(1,IF(Worksheet!$B$10=1,1,3)),\"\")","v":""},1,9,7,"",{"$f":"RANDBETWEEN(IF(Worksheet!$B$8,1,2),Worksheet!$B$6*IF(Worksheet!$B$10=1,1,2)*IF(Worksheet!$B$10=1,1,3))*10^RANDBETWEEN(0,RANDBETWEEN(0,IF(Worksheet!$B$10=1,0,2)))","v":6},54,42,"","54 : 42","9 : 7"]
[{"$f":"IF(ROW()<=Worksheet!$B$4/2,ROW(),\"\")","v":11},{"$f":"IF(Worksheet!$B$7,RANDBETWEEN(2,3),2)","v":2},{"$f":"RANDBETWEEN(1,10)*RANDBETWEEN(1,IF(Worksheet!$B$10=1,1,3))","v":6},{"$f":"RANDBETWEEN(1,10)*RANDBETWEEN(1,IF(Worksheet!$B$10=1,1,3))","v":5},{"$f":"IF(B11=3,RANDBETWEEN(1,10)*RANDBETWEEN(1,IF(Worksheet!$B$10=1,1,3)),\"\")","v":""},1,6,5,"",{"$f":"RANDBETWEEN(IF(Worksheet!$B$8,1,2),Worksheet!$B$6*IF(Worksheet!$B$10=1,1,2)*IF(Worksheet!$B$10=1,1,3))*10^RANDBETWEEN(0,RANDBETWEEN(0,IF(Worksheet!$B$10=1,0,2)))","v":10},60,50,"","60 : 50","6 : 5",null,{"$f":"IF(ROW()<=Worksheet!$B$4/2,Q10+1,\"\")","v":26},{"$f":"IF(Worksheet!$B$7,RANDBETWEEN(2,3),2)","v":3},{"$f":"RANDBETWEEN(1,10)*RANDBETWEEN(1,IF(Worksheet!$B$10=1,1,3))","v":8},{"$f":"RANDBETWEEN(1,10)*RANDBETWEEN(1,IF(Worksheet!$B$10=1,1,3))","v":2},{"$f":"IF(R11=3,RANDBETWEEN(1,10)*RANDBETWEEN(1,IF(Worksheet!$B$10=1,1,3)),\"\")","v":10},2,4,1,5,{"$f":"RANDBETWEEN(IF(Worksheet!$B$8,1,2),Worksheet!$B$6*IF(Worksheet!$B$10=1,1,2)*IF(Worksheet!$B$10=1,1,3))*10^RANDBETWEEN(0,RANDBETWEEN(0,IF(Worksheet!$B$10=1,0,2)))","v":7},28,7,35,"28 : 7 : 35","4 : 1 : 5"]
[{"$f":"IF(ROW()<=Worksheet!$B$4/2,ROW(),\"\")","v":12},{"$f":"IF(Worksheet!$B$7,RANDBETWEEN(2,3),2)","v":2},{"$f":"RANDBETWEEN(1,10)*RANDBETWEEN(1,IF(Worksheet!$B$10=1,1,3))","v":5},{"$f":"RANDBETWEEN(1,10)*RANDBETWEEN(1,IF(Worksheet!$B$10=1,1,3))","v":2},{"$f":"IF(B12=3,RANDBETWEEN(1,10)*RANDBETWEEN(1,IF(Worksheet!$B$10=1,1,3)),\"\")","v":""},1,5,2,"",{"$f":"RANDBETWEEN(IF(Worksheet!$B$8,1,2),Worksheet!$B$6*IF(Worksheet!$B$10=1,1,2)*IF(Worksheet!$B$10=1,1,3))*10^RANDBETWEEN(0,RANDBETWEEN(0,IF(Worksheet!$B$10=1,0,2)))","v":3},15,6,"","15 : 6","5 : 2",null,{"$f":"IF(ROW()<=Worksheet!$B$4/2,Q11+1,\"\")","v":27},{"$f":"IF(Worksheet!$B$7,RANDBETWEEN(2,3),2)","v":2},{"$f":"RANDBETWEEN(1,10)*RANDBETWEEN(1,IF(Worksheet!$B$10=1,1,3))","v":6},{"$f":"RANDBETWEEN(1,10)*RANDBETWEEN(1,IF(Worksheet!$B$10=1,1,3))","v":10},{"$f":"IF(R12=3,RANDBETWEEN(1,10)*RANDBETWEEN(1,IF(Worksheet!$B$10=1,1,3)),\"\")","v":""},2,3,5,"",{"$f":"RANDBETWEEN(IF(Worksheet!$B$8,1,2),Worksheet!$B$6*IF(Worksheet!$B$10=1,1,2)*IF(Worksheet!$B$10=1,1,3))*10^RANDBETWEEN(0,RANDBETWEEN(0,IF(Worksheet!$B$10=1,0,2)))","v":4},12,20,"","12 : 20","3 : 5"]
[{"$f":"IF(ROW()<=Worksheet!$B$4/2,ROW(),\"\")","v":13},{"$f":"IF(Worksheet!$B$7,RANDBETWEEN(2,3),2)","v":3},{"$f":"RANDBETWEEN(1,10)*RANDBETWEEN(1,IF(Worksheet!$B$10=1,1,3))","v":8},{"$f":"RANDBETWEEN(1,10)*RANDBETWEEN(1,IF(Worksheet!$B$10=1,1,3))","v":1},{"$f":"IF(B13=3,RANDBETWEEN(1,10)*RANDBETWEEN(1,IF(Worksheet!$B$10=1,1,3)),\"\")","v":1},1,8,1,1,{"$f":"RANDBETWEEN(IF(Worksheet!$B$8,1,2),Worksheet!$B$6*IF(Worksheet!$B$10=1,1,2)*IF(Worksheet!$B$10=1,1,3))*10^RANDBETWEEN(0,RANDBETWEEN(0,IF(Worksheet!$B$10=1,0,2)))","v":10},80,10,10,"80 : 10 : 10","8 : 1 : 1",null,{"$f":"IF(ROW()<=Worksheet!$B$4/2,Q12+1,\"\")","v":28},{"$f":"IF(Worksheet!$B$7,RANDBETWEEN(2,3),2)","v":3},{"$f":"RANDBETWEEN(1,10)*RANDBETWEEN(1,IF(Worksheet!$B$10=1,1,3))","v":1},{"$f":"RANDBETWEEN(1,10)*RANDBETWEEN(1,IF(Worksheet!$B$10=1,1,3))","v":4},{"$f":"IF(R13=3,RANDBETWEEN(1,10)*RANDBETWEEN(1,IF(Worksheet!$B$10=1,1,3)),\"\")","v":10},1,1,4,10,{"$f":"RANDBETWEEN(IF(Worksheet!$B$8,1,2),Worksheet!$B$6*IF(Worksheet!$B$10=1,1,2)*IF(Worksheet!$B$10=1,1,3))*10^RANDBETWEEN(0,RANDBETWEEN(0,IF(Worksheet!$B$10=1,0,2)))","v":2},2,8,20,"2 : 8 : 20","1 : 4 : 10"]
[{"$f":"IF(ROW()<=Worksheet!$B$4/2,ROW(),\"\")","v":14},{"$f":"IF(Worksheet!$B$7,RANDBETWEEN(2,3),2)","v":3},{"$f":"RANDBETWEEN(1,10)*RANDBETWEEN(1,IF(Worksheet!$B$10=1,1,3))","v":9},{"$f":"RANDBETWEEN(1,10)*RANDBETWEEN(1,IF(Worksheet!$B$10=1,1,3))","v":10},{"$f":"IF(B14=3,RANDBETWEEN(1,10)*RANDBETWEEN(1,IF(Worksheet!$B$10=1,1,3)),\"\")","v":10},1,9,10,10,{"$f":"RANDBETWEEN(IF(Worksheet!$B$8,1,2),Worksheet!$B$6*IF(Worksheet!$B$10=1,1,2)*IF(Worksheet!$B$10=1,1,3))*10^RANDBETWEEN(0,RANDBETWEEN(0,IF(Worksheet!$B$10=1,0,2)))","v":4},36,40,40,"36 : 40 : 40","9 : 10 : 10",null,{"$f":"IF(ROW()<=Worksheet!$B$4/2,Q13+1,\"\")","v":29},{"$f":"IF(Worksheet!$B$7,RANDBETWEEN(2,3),2)","v":3},{"$f":"RANDBETWEEN(1,10)*RANDBETWEEN(1,IF(Worksheet!$B$10=1,1,3))","v":9},{"$f":"RANDBETWEEN(1,10)*RANDBETWEEN(1,IF(Worksheet!$B$10=1,1,3))","v":4},{"$f":"IF(R14=3,RANDBETWEEN(1,10)*RANDBETWEEN(1,IF(Worksheet!$B$10=1,1,3)),\"\")","v":8},1,9,4,8,{"$f":"RANDBETWEEN(IF(Worksheet!$B$8,1,2),Worksheet!$B$6*IF(Worksheet!$B$10=1,1,2)*IF(Worksheet!$B$10=1,1,3))*10^RANDBETWEEN(0,RANDBETWEEN(0,IF(Worksheet!$B$10=1,0,2)))","v":8},72,32,64,"72 : 32 : 64","9 : 4 : 8"]
[{"$f":"IF(ROW()<=Worksheet!$B$4/2,ROW(),\"\")","v":15},{"$f":"IF(Worksheet!$B$7,RANDBETWEEN(2,3),2)","v":3},{"$f":"RANDBETWEEN(1,10)*RANDBETWEEN(1,IF(Worksheet!$B$10=1,1,3))","v":2},{"$f":"RANDBETWEEN(1,10)*RANDBETWEEN(1,IF(Worksheet!$B$10=1,1,3))","v":1},{"$f":"IF(B15=3,RANDBETWEEN(1,10)*RANDBETWEEN(1,IF(Worksheet!$B$10=1,1,3)),\"\")","v":2},1,2,1,2,{"$f":"RANDBETWEEN(IF(Worksheet!$B$8,1,2),Worksheet!$B$6*IF(Worksheet!$B$10=1,1,2)*IF(Worksheet!$B$10=1,1,3))*10^RANDBETWEEN(0,RANDBETWEEN(0,IF(Worksheet!$B$10=1,0,2)))","v":2},4,2,4,"4 : 2 : 4","2 : 1 : 2",null,{"$f":"IF(ROW()<=Worksheet!$B$4/2,Q14+1,\"\")","v":30},{"$f":"IF(Worksheet!$B$7,RANDBETWEEN(2,3),2)","v":3},{"$f":"RANDBETWEEN(1,10)*RANDBETWEEN(1,IF(Worksheet!$B$10=1,1,3))","v":5},{"$f":"RANDBETWEEN(1,10)*RANDBETWEEN(1,IF(Worksheet!$B$10=1,1,3))","v":10},{"$f":"IF(R15=3,RANDBETWEEN(1,10)*RANDBETWEEN(1,IF(Worksheet!$B$10=1,1,3)),\"\")","v":9},1,5,10,9,{"$f":"RANDBETWEEN(IF(Worksheet!$B$8,1,2),Worksheet!$B$6*IF(Worksheet!$B$10=1,1,2)*IF(Worksheet!$B$10=1,1,3))*10^RANDBETWEEN(0,RANDBETWEEN(0,IF(Worksheet!$B$10=1,0,2)))","v":9},45,90,81,"45 : 90 : 81","5 : 10 : 9"]
[{"$f":"IF(ROW()<=Worksheet!$B$4/2,ROW(),\"\")","v":""},null,null,null,null,null,null,null,null,null,null,null,null,null,null,null,{"$f":"IF(ROW()<=Worksheet!$B$4/2,Q15+1,\"\")","v":""}]
[{"$f":"IF(ROW()<=Worksheet!$B$4/2,ROW(),\"\")","v":""},null,null,null,null,null,null,null,null,null,null,null,null,null,null,null,{"$f":"IF(ROW()<=Worksheet!$B$4/2,Q16+1,\"\")","v":""}]
[{"$f":"IF(ROW()<=Worksheet!$B$4/2,ROW(),\"\")","v":""},null,null,null,null,null,null,null,null,null,null,null,null,null,null,null,{"$f":"IF(ROW()<=Worksheet!$B$4/2,Q17+1,\"\")","v":""}]
[{"$f":"IF(ROW()<=Worksheet!$B$4/2,ROW(),\"\")","v":""},null,null,null,null,null,null,null,null,null,null,null,null,null,null,null,{"$f":"IF(ROW()<=Worksheet!$B$4/2,Q18+1,\"\")","v":""}]
[{"$f":"IF(ROW()<=Worksheet!$B$4/2,ROW(),\"\")","v":""},null,null,null,null,null,null,null,null,null,null,null,null,null,null,null,{"$f":"IF(ROW()<=Worksheet!$B$4/2,Q19+1,\"\")","v":""}]
[{"$f":"IF(ROW()<=Worksheet!$B$4/2,ROW(),\"\")","v":""},null,null,null,null,null,null,null,null,null,null,null,null,null,null,null,{"$f":"IF(ROW()<=Worksheet!$B$4/2,Q20+1,\"\")","v":""}]
[{"$f":"IF(ROW()<=Worksheet!$B$4/2,ROW(),\"\")","v":""},null,null,null,null,null,null,null,null,null,null,null,null,null,null,null,{"$f":"IF(ROW()<=Worksheet!$B$4/2,Q21+1,\"\")","v":""}]
[{"$f":"IF(ROW()<=Worksheet!$B$4/2,ROW(),\"\")","v":""},null,null,null,null,null,null,null,null,null,null,null,null,null,null,null,{"$f":"IF(ROW()<=Worksheet!$B$4/2,Q22+1,\"\")","v":""}]
[{"$f":"IF(ROW()<=Worksheet!$B$4/2,ROW(),\"\")","v":""},null,null,null,null,null,null,null,null,null,null,null,null,null,null,null,{"$f":"IF(ROW()<=Worksheet!$B$4/2,Q23+1,\"\")","v":""}]
[{"$f":"IF(ROW()<=Worksheet!$B$4/2,ROW(),\"\")","v":""},null,null,null,null,null,null,null,null,null,null,null,null,null,null,null,{"$f":"IF(ROW()<=Worksheet!$B$4/2,Q24+1,\"\")","v":""}]
[{"$f":"IF(ROW()<=Worksheet!$B$4/2,ROW(),\"\")","v":""},null,null,null,null,null,null,null,null,null,null,null,null,null,null,null,{"$f":"IF(ROW()<=Worksheet!$B$4/2,Q25+1,\"\")","v":""}]
[{"$f":"IF(ROW()<=Worksheet!$B$4/2,ROW(),\"\")","v":""},null,null,null,null,null,null,null,null,null,null,null,null,null,null,null,{"$f":"IF(ROW()<=Worksheet!$B$4/2,Q26+1,\"\")","v":""}]
[{"$f":"IF(ROW()<=Worksheet!$B$4/2,ROW(),\"\")","v":""},null,null,null,null,null,null,null,null,null,null,null,null,null,null,null,{"$f":"IF(ROW()<=Worksheet!$B$4/2,Q27+1,\"\")","v":""}]
[{"$f":"IF(ROW()<=Worksheet!$B$4/2,ROW(),\"\")","v":""},null,null,null,null,null,null,null,null,null,null,null,null,null,null,null,{"$f":"IF(ROW()<=Worksheet!$B$4/2,Q28+1,\"\")","v":""}]
[{"$f":"IF(ROW()<=Worksheet!$B$4/2,ROW(),\"\")","v":""},null,null,null,null,null,null,null,null,null,null,null,null,null,null,null,{"$f":"IF(ROW()<=Worksheet!$B$4/2,Q29+1,\"\")","v":""}]