{"text_format":"1","workbook":"xlsx","n_sheets":2,"sheets":["Worksheet","SYSTEM FORMULAE"],"not_rendered":{"charts":0,"images":0,"macros":1,"external_links":0,"defined_names":3,"comments":0,"pivot_tables":0},"unopened":[],"bounds":{"document_bytes":16777216,"sheet_cells":100000,"rows_first":2000,"rows_last":500,"rows_between":2000,"halvings":0,"cell_chars":16384,"cell_head_chars":4096},"cells_cut":0,"cells_raw":0,"read":"whole","date_system":"1900"}

{"sheet":"Worksheet","index":0,"n_rows":31,"n_cols":10,"rows_kept":31,"cut":false,"hidden":false,"merged":[[1,0,1,1],[4,0,4,1],[0,3,0,9]]}
[null,null,null,{"$f":"CONCATENATE(\"Complete the table to show the effective rates of interest and the multipliers needed to calculate them.                                                                  Round answers to 3 significant figures where necessary.\",IF($B$6=2,\"                                                                                                                   Assume there are 365 days in a year (i.e. ignore leap years)\",\"\"))","v":"Complete the table to show the effective rates of interest and the multipliers needed to calculate them.                                                                  Round answers to 3 significant figures where necessary."}]
["Variables",null,"which column to show",null,"Effective ANNUAL Rate of Interest","Multiplier to calculate ANNUAL interest","Multiplier to calculate balance at end of one YEAR",{"$f":"CONCATENATE(\"Multiplier to calculate balance at end of one \",CHOOSE($B$6,\"MONTH\",\"DAY\",\"QUARTER\"))","v":"Multiplier to calculate balance at end of one MONTH"},{"$f":"CONCATENATE(\"Multiplier to calculate \",CHOOSE($B$6,\"MONTHLY \",\"DAILY \",\"QUARTERLY \"),\"interest\")","v":"Multiplier to calculate MONTHLY interest"},{"$f":"CONCATENATE(\"Effective \",CHOOSE($B$6,\"MONTHLY \",\"DAILY \",\"QUARTERLY \"),\"Rate of Interest\")","v":"Effective MONTHLY Rate of Interest"}]
["SHOW ANSWERS",false,1,1,0.44500000000000001,0.44500000000000001,1.4450000000000001,1.03115,3.1150000000000001E-2,3.1199999999999997]
["Number of questions (minimum 5, maximum 14)",14,1,2,0.54500000000000004,0.54500000000000004,1.5449999999999999,1.0369200000000001,3.6920000000000001E-2,3.6900000000000004]
["Time period for right-hand columns",null,1,3,0.73799999999999999,0.73799999999999999,1.738,1.04714,4.7140000000000001E-2,4.71]
["Month",1,1,4,0.13100000000000001,0.13100000000000001,1.131,1.01031,1.031E-2,1.03]
["Day",null,6,5,0.34499999999999997,0.34488999999999997,1.3448899999999999,1.0249999999999999,2.5000000000000001E-2,2.5000000000000001E-2]
["Quarter",null,6,6,2.31,2.3139599999999998,3.3139599999999998,1.105,0.105,0.105]
[null,null,6,7,0.36099999999999999,0.36071999999999999,1.3607199999999999,1.026,2.5999999999999999E-2,2.5999999999999999E-2]
[null,null,6,8,0.314,0.31373000000000001,1.3137300000000001,1.0229999999999999,2.3E-2,2.3E-2]
[null,null,4,9,0.19600000000000001,0.19561999999999999,1.1956199999999999,1.0149999999999999,1.4999999999999999E-2,1.4999999999999999E-2]
[null,null,2,10,0.33400000000000002,0.33400000000000002,1.3340000000000001,1.0243100000000001,2.4309999999999998E-2,2.4299999999999997]
[null,null,3,11,0.23100000000000001,0.23100000000000001,1.2310000000000001,1.0174700000000001,1.7469999999999999E-2,1.7500000000000002]
[null,null,5,12,0.127,0.12683,1.12683,1.01,0.01,0.01]
[null,null,3,13,0.17,0.17,1.17,1.0131699999999999,1.3169999999999999E-2,1.32]
[null,null,4,14,0.154,0.15389,1.1538900000000001,1.012,1.2E-2,1.2E-2]
[null,null,null,"",null,null,null,null,""]
[null,null,null,"",null,null,null,null,""]
[null,null,null,"",null,null,null,null,""]
[null,null,null,"",null,null,null,null,""]
[null,null,null,"",null,null,null,null,""]
[null,null,null,"",null,null,null,null,""]
[null,null,null,"",null,null,null,null,""]
[null,null,null,"",null,null,null,null,""]
[null,null,null,"",null,null,null,null,""]
[null,null,null,"",null,null,null,null,""]
[null,null,null,"",null,null,null,null,""]
[null,null,null,"",null,null,null,null,""]
[null,null,null,"",null,null,null,null,""]
[null,null,null,"",null,null,null,null,""]
[null,null,null,"",null,null,null,null,""]

{"sheet":"SYSTEM FORMULAE","index":1,"n_rows":30,"n_cols":10,"rows_kept":30,"cut":false,"hidden":false,"merged":[]}
[]
[1,{"$f":"IF(Worksheet!$C3<4,RANDBETWEEN(100,RANDBETWEEN(400,995))/1000,ROUND(C2,3-(1+INT(LOG10(ABS(C2))))))","v":0.67700000000000005},{"$f":"IF(Worksheet!$C3<4,ROUND(B2/1,4),ROUND(D2-1,5))","v":0.67700000000000005},{"$f":"IF(Worksheet!$C3<4,ROUND(C2+1,4),ROUND(E2^CHOOSE(Worksheet!$B$6,12,365,4),5))","v":1.677},{"$f":"IF(Worksheet!$C3<4,ROUND(D2^(1/CHOOSE(Worksheet!$B$6,12,365,4)),5),ROUND(F2+1,5))","v":1.04403},{"$f":"IF(Worksheet!$C3<4,ROUND(E2-1,5),ROUND(G2/1,5))","v":4.403E-2},{"$f":"IF(Worksheet!$C3<4,ROUND(F2,3-(1+INT(LOG10(ABS(F2))))),RANDBETWEEN(CHOOSE(Worksheet!$B$6,10,1,100),CHOOSE(Worksheet!$B$6,120,50,400))/100000)*100","v":4.3999999999999995},null,null,1]
[2,{"$f":"IF(Worksheet!$C4<4,RANDBETWEEN(100,RANDBETWEEN(400,995))/1000,ROUND(C3,3-(1+INT(LOG10(ABS(C3))))))","v":0.113},{"$f":"IF(Worksheet!$C4<4,ROUND(B3/1,4),ROUND(D3-1,5))","v":0.113},{"$f":"IF(Worksheet!$C4<4,ROUND(C3+1,4),ROUND(E3^CHOOSE(Worksheet!$B$6,12,365,4),5))","v":1.113},{"$f":"IF(Worksheet!$C4<4,ROUND(D3^(1/CHOOSE(Worksheet!$B$6,12,365,4)),5),ROUND(F3+1,5))","v":1.0089600000000001},{"$f":"IF(Worksheet!$C4<4,ROUND(E3-1,5),ROUND(G3/1,5))","v":8.9599999999999992E-3},{"$f":"IF(Worksheet!$C4<4,ROUND(F3,3-(1+INT(LOG10(ABS(F3))))),RANDBETWEEN(CHOOSE(Worksheet!$B$6,10,1,100),CHOOSE(Worksheet!$B$6,120,50,400))/100000)*100","v":0.89599999999999991},null,null,2]
[3,{"$f":"IF(Worksheet!$C5<4,RANDBETWEEN(100,RANDBETWEEN(400,995))/1000,ROUND(C4,3-(1+INT(LOG10(ABS(C4))))))","v":0.17},{"$f":"IF(Worksheet!$C5<4,ROUND(B4/1,4),ROUND(D4-1,5))","v":0.17},{"$f":"IF(Worksheet!$C5<4,ROUND(C4+1,4),ROUND(E4^CHOOSE(Worksheet!$B$6,12,365,4),5))","v":1.17},{"$f":"IF(Worksheet!$C5<4,ROUND(D4^(1/CHOOSE(Worksheet!$B$6,12,365,4)),5),ROUND(F4+1,5))","v":1.0131699999999999},{"$f":"IF(Worksheet!$C5<4,ROUND(E4-1,5),ROUND(G4/1,5))","v":1.3169999999999999E-2},{"$f":"IF(Worksheet!$C5<4,ROUND(F4,3-(1+INT(LOG10(ABS(F4))))),RANDBETWEEN(CHOOSE(Worksheet!$B$6,10,1,100),CHOOSE(Worksheet!$B$6,120,50,400))/100000)*100","v":1.32},null,null,3]
[4,{"$f":"IF(Worksheet!$C6<4,RANDBETWEEN(100,RANDBETWEEN(400,995))/1000,ROUND(C5,3-(1+INT(LOG10(ABS(C5))))))","v":0.435},{"$f":"IF(Worksheet!$C6<4,ROUND(B5/1,4),ROUND(D5-1,5))","v":0.435},{"$f":"IF(Worksheet!$C6<4,ROUND(C5+1,4),ROUND(E5^CHOOSE(Worksheet!$B$6,12,365,4),5))","v":1.4350000000000001},{"$f":"IF(Worksheet!$C6<4,ROUND(D5^(1/CHOOSE(Worksheet!$B$6,12,365,4)),5),ROUND(F5+1,5))","v":1.0305500000000001},{"$f":"IF(Worksheet!$C6<4,ROUND(E5-1,5),ROUND(G5/1,5))","v":3.0550000000000001E-2},{"$f":"IF(Worksheet!$C6<4,ROUND(F5,3-(1+INT(LOG10(ABS(F5))))),RANDBETWEEN(CHOOSE(Worksheet!$B$6,10,1,100),CHOOSE(Worksheet!$B$6,120,50,400))/100000)*100","v":3.06},null,null,4]
[5,{"$f":"IF(Worksheet!$C7<4,RANDBETWEEN(100,RANDBETWEEN(400,995))/1000,ROUND(C6,3-(1+INT(LOG10(ABS(C6))))))","v":0.45900000000000002},{"$f":"IF(Worksheet!$C7<4,ROUND(B6/1,4),ROUND(D6-1,5))","v":0.45934000000000003},{"$f":"IF(Worksheet!$C7<4,ROUND(C6+1,4),ROUND(E6^CHOOSE(Worksheet!$B$6,12,365,4),5))","v":1.4593400000000001},{"$f":"IF(Worksheet!$C7<4,ROUND(D6^(1/CHOOSE(Worksheet!$B$6,12,365,4)),5),ROUND(F6+1,5))","v":1.032},{"$f":"IF(Worksheet!$C7<4,ROUND(E6-1,5),ROUND(G6/1,5))","v":3.2000000000000001E-2},{"$f":"IF(Worksheet!$C7<4,ROUND(F6,3-(1+INT(LOG10(ABS(F6))))),RANDBETWEEN(CHOOSE(Worksheet!$B$6,10,1,100),CHOOSE(Worksheet!$B$6,120,50,400))/100000)*100","v":3.2000000000000001E-2},null,null,5]
[6,{"$f":"IF(Worksheet!$C8<4,RANDBETWEEN(100,RANDBETWEEN(400,995))/1000,ROUND(C7,3-(1+INT(LOG10(ABS(C7))))))","v":2.65},{"$f":"IF(Worksheet!$C8<4,ROUND(B7/1,4),ROUND(D7-1,5))","v":2.6527699999999999},{"$f":"IF(Worksheet!$C8<4,ROUND(C7+1,4),ROUND(E7^CHOOSE(Worksheet!$B$6,12,365,4),5))","v":3.6527699999999999},{"$f":"IF(Worksheet!$C8<4,ROUND(D7^(1/CHOOSE(Worksheet!$B$6,12,365,4)),5),ROUND(F7+1,5))","v":1.1140000000000001},{"$f":"IF(Worksheet!$C8<4,ROUND(E7-1,5),ROUND(G7/1,5))","v":0.114},{"$f":"IF(Worksheet!$C8<4,ROUND(F7,3-(1+INT(LOG10(ABS(F7))))),RANDBETWEEN(CHOOSE(Worksheet!$B$6,10,1,100),CHOOSE(Worksheet!$B$6,120,50,400))/100000)*100","v":0.11399999999999999},null,null,6]
[7,{"$f":"IF(Worksheet!$C9<4,RANDBETWEEN(100,RANDBETWEEN(400,995))/1000,ROUND(C8,3-(1+INT(LOG10(ABS(C8))))))","v":1.49},{"$f":"IF(Worksheet!$C9<4,ROUND(B8/1,4),ROUND(D8-1,5))","v":1.4903299999999999},{"$f":"IF(Worksheet!$C9<4,ROUND(C8+1,4),ROUND(E8^CHOOSE(Worksheet!$B$6,12,365,4),5))","v":2.4903300000000002},{"$f":"IF(Worksheet!$C9<4,ROUND(D8^(1/CHOOSE(Worksheet!$B$6,12,365,4)),5),ROUND(F8+1,5))","v":1.079},{"$f":"IF(Worksheet!$C9<4,ROUND(E8-1,5),ROUND(G8/1,5))","v":7.9000000000000001E-2},{"$f":"IF(Worksheet!$C9<4,ROUND(F8,3-(1+INT(LOG10(ABS(F8))))),RANDBETWEEN(CHOOSE(Worksheet!$B$6,10,1,100),CHOOSE(Worksheet!$B$6,120,50,400))/100000)*100","v":7.9000000000000001E-2}]
[8,{"$f":"IF(Worksheet!$C10<4,RANDBETWEEN(100,RANDBETWEEN(400,995))/1000,ROUND(C9,3-(1+INT(LOG10(ABS(C9))))))","v":1.01},{"$f":"IF(Worksheet!$C10<4,ROUND(B9/1,4),ROUND(D9-1,5))","v":1.0122},{"$f":"IF(Worksheet!$C10<4,ROUND(C9+1,4),ROUND(E9^CHOOSE(Worksheet!$B$6,12,365,4),5))","v":2.0122},{"$f":"IF(Worksheet!$C10<4,ROUND(D9^(1/CHOOSE(Worksheet!$B$6,12,365,4)),5),ROUND(F9+1,5))","v":1.06},{"$f":"IF(Worksheet!$C10<4,ROUND(E9-1,5),ROUND(G9/1,5))","v":0.06},{"$f":"IF(Worksheet!$C10<4,ROUND(F9,3-(1+INT(LOG10(ABS(F9))))),RANDBETWEEN(CHOOSE(Worksheet!$B$6,10,1,100),CHOOSE(Worksheet!$B$6,120,50,400))/100000)*100","v":0.06}]
[9,{"$f":"IF(Worksheet!$C11<4,RANDBETWEEN(100,RANDBETWEEN(400,995))/1000,ROUND(C10,3-(1+INT(LOG10(ABS(C10))))))","v":2.61},{"$f":"IF(Worksheet!$C11<4,ROUND(B10/1,4),ROUND(D10-1,5))","v":2.6136200000000001},{"$f":"IF(Worksheet!$C11<4,ROUND(C10+1,4),ROUND(E10^CHOOSE(Worksheet!$B$6,12,365,4),5))","v":3.6136200000000001},{"$f":"IF(Worksheet!$C11<4,ROUND(D10^(1/CHOOSE(Worksheet!$B$6,12,365,4)),5),ROUND(F10+1,5))","v":1.113},{"$f":"IF(Worksheet!$C11<4,ROUND(E10-1,5),ROUND(G10/1,5))","v":0.113},{"$f":"IF(Worksheet!$C11<4,ROUND(F10,3-(1+INT(LOG10(ABS(F10))))),RANDBETWEEN(CHOOSE(Worksheet!$B$6,10,1,100),CHOOSE(Worksheet!$B$6,120,50,400))/100000)*100","v":0.11299999999999999}]
[10,{"$f":"IF(Worksheet!$C12<4,RANDBETWEEN(100,RANDBETWEEN(400,995))/1000,ROUND(C11,3-(1+INT(LOG10(ABS(C11))))))","v":0.27700000000000002},{"$f":"IF(Worksheet!$C12<4,ROUND(B11/1,4),ROUND(D11-1,5))","v":0.27700000000000002},{"$f":"IF(Worksheet!$C12<4,ROUND(C11+1,4),ROUND(E11^CHOOSE(Worksheet!$B$6,12,365,4),5))","v":1.2769999999999999},{"$f":"IF(Worksheet!$C12<4,ROUND(D11^(1/CHOOSE(Worksheet!$B$6,12,365,4)),5),ROUND(F11+1,5))","v":1.0205900000000001},{"$f":"IF(Worksheet!$C12<4,ROUND(E11-1,5),ROUND(G11/1,5))","v":2.0590000000000001E-2},{"$f":"IF(Worksheet!$C12<4,ROUND(F11,3-(1+INT(LOG10(ABS(F11))))),RANDBETWEEN(CHOOSE(Worksheet!$B$6,10,1,100),CHOOSE(Worksheet!$B$6,120,50,400))/100000)*100","v":2.06}]
[11,{"$f":"IF(Worksheet!$C13<4,RANDBETWEEN(100,RANDBETWEEN(400,995))/1000,ROUND(C12,3-(1+INT(LOG10(ABS(C12))))))","v":0.41599999999999998},{"$f":"IF(Worksheet!$C13<4,ROUND(B12/1,4),ROUND(D12-1,5))","v":0.41599999999999998},{"$f":"IF(Worksheet!$C13<4,ROUND(C12+1,4),ROUND(E12^CHOOSE(Worksheet!$B$6,12,365,4),5))","v":1.4159999999999999},{"$f":"IF(Worksheet!$C13<4,ROUND(D12^(1/CHOOSE(Worksheet!$B$6,12,365,4)),5),ROUND(F12+1,5))","v":1.0294099999999999},{"$f":"IF(Worksheet!$C13<4,ROUND(E12-1,5),ROUND(G12/1,5))","v":2.9409999999999999E-2},{"$f":"IF(Worksheet!$C13<4,ROUND(F12,3-(1+INT(LOG10(ABS(F12))))),RANDBETWEEN(CHOOSE(Worksheet!$B$6,10,1,100),CHOOSE(Worksheet!$B$6,120,50,400))/100000)*100","v":2.94}]
[12,{"$f":"IF(Worksheet!$C14<4,RANDBETWEEN(100,RANDBETWEEN(400,995))/1000,ROUND(C13,3-(1+INT(LOG10(ABS(C13))))))","v":2.14},{"$f":"IF(Worksheet!$C14<4,ROUND(B13/1,4),ROUND(D13-1,5))","v":2.1384300000000001},{"$f":"IF(Worksheet!$C14<4,ROUND(C13+1,4),ROUND(E13^CHOOSE(Worksheet!$B$6,12,365,4),5))","v":3.1384300000000001},{"$f":"IF(Worksheet!$C14<4,ROUND(D13^(1/CHOOSE(Worksheet!$B$6,12,365,4)),5),ROUND(F13+1,5))","v":1.1000000000000001},{"$f":"IF(Worksheet!$C14<4,ROUND(E13-1,5),ROUND(G13/1,5))","v":0.1},{"$f":"IF(Worksheet!$C14<4,ROUND(F13,3-(1+INT(LOG10(ABS(F13))))),RANDBETWEEN(CHOOSE(Worksheet!$B$6,10,1,100),CHOOSE(Worksheet!$B$6,120,50,400))/100000)*100","v":0.1}]
[13,{"$f":"IF(Worksheet!$C15<4,RANDBETWEEN(100,RANDBETWEEN(400,995))/1000,ROUND(C14,3-(1+INT(LOG10(ABS(C14))))))","v":0.251},{"$f":"IF(Worksheet!$C15<4,ROUND(B14/1,4),ROUND(D14-1,5))","v":0.251},{"$f":"IF(Worksheet!$C15<4,ROUND(C14+1,4),ROUND(E14^CHOOSE(Worksheet!$B$6,12,365,4),5))","v":1.2509999999999999},{"$f":"IF(Worksheet!$C15<4,ROUND(D14^(1/CHOOSE(Worksheet!$B$6,12,365,4)),5),ROUND(F14+1,5))","v":1.01884},{"$f":"IF(Worksheet!$C15<4,ROUND(E14-1,5),ROUND(G14/1,5))","v":1.8839999999999999E-2},{"$f":"IF(Worksheet!$C15<4,ROUND(F14,3-(1+INT(LOG10(ABS(F14))))),RANDBETWEEN(CHOOSE(Worksheet!$B$6,10,1,100),CHOOSE(Worksheet!$B$6,120,50,400))/100000)*100","v":1.8800000000000001}]
[14,{"$f":"IF(Worksheet!$C16<4,RANDBETWEEN(100,RANDBETWEEN(400,995))/1000,ROUND(C15,3-(1+INT(LOG10(ABS(C15))))))","v":0.79600000000000004},{"$f":"IF(Worksheet!$C16<4,ROUND(B15/1,4),ROUND(D15-1,5))","v":0.79586000000000001},{"$f":"IF(Worksheet!$C16<4,ROUND(C15+1,4),ROUND(E15^CHOOSE(Worksheet!$B$6,12,365,4),5))","v":1.79586},{"$f":"IF(Worksheet!$C16<4,ROUND(D15^(1/CHOOSE(Worksheet!$B$6,12,365,4)),5),ROUND(F15+1,5))","v":1.05},{"$f":"IF(Worksheet!$C16<4,ROUND(E15-1,5),ROUND(G15/1,5))","v":0.05},{"$f":"IF(Worksheet!$C16<4,ROUND(F15,3-(1+INT(LOG10(ABS(F15))))),RANDBETWEEN(CHOOSE(Worksheet!$B$6,10,1,100),CHOOSE(Worksheet!$B$6,120,50,400))/100000)*100","v":0.05}]
[{"$f":"IF(ROW()<=Worksheet!$B$4/2,ROW(),\"\")","v":""},null,null,null,null,{"$f":"IF(ROW()<=Worksheet!$B$4/2,F15+1,\"\")","v":""}]
[{"$f":"IF(ROW()<=Worksheet!$B$4/2,ROW(),\"\")","v":""},null,null,null,null,{"$f":"IF(ROW()<=Worksheet!$B$4/2,F16+1,\"\")","v":""}]
[{"$f":"IF(ROW()<=Worksheet!$B$4/2,ROW(),\"\")","v":""},null,null,null,null,{"$f":"IF(ROW()<=Worksheet!$B$4/2,F17+1,\"\")","v":""}]
[{"$f":"IF(ROW()<=Worksheet!$B$4/2,ROW(),\"\")","v":""},null,null,null,null,{"$f":"IF(ROW()<=Worksheet!$B$4/2,F18+1,\"\")","v":""}]
[{"$f":"IF(ROW()<=Worksheet!$B$4/2,ROW(),\"\")","v":""},null,null,null,null,{"$f":"IF(ROW()<=Worksheet!$B$4/2,F19+1,\"\")","v":""}]
[{"$f":"IF(ROW()<=Worksheet!$B$4/2,ROW(),\"\")","v":""},null,null,null,null,{"$f":"IF(ROW()<=Worksheet!$B$4/2,F20+1,\"\")","v":""}]
[{"$f":"IF(ROW()<=Worksheet!$B$4/2,ROW(),\"\")","v":""},null,null,null,null,{"$f":"IF(ROW()<=Worksheet!$B$4/2,F21+1,\"\")","v":""}]
[{"$f":"IF(ROW()<=Worksheet!$B$4/2,ROW(),\"\")","v":""},null,null,null,null,{"$f":"IF(ROW()<=Worksheet!$B$4/2,F22+1,\"\")","v":""}]
[{"$f":"IF(ROW()<=Worksheet!$B$4/2,ROW(),\"\")","v":""},null,null,null,null,{"$f":"IF(ROW()<=Worksheet!$B$4/2,F23+1,\"\")","v":""}]
[{"$f":"IF(ROW()<=Worksheet!$B$4/2,ROW(),\"\")","v":""},null,null,null,null,{"$f":"IF(ROW()<=Worksheet!$B$4/2,F24+1,\"\")","v":""}]
[{"$f":"IF(ROW()<=Worksheet!$B$4/2,ROW(),\"\")","v":""},null,null,null,null,{"$f":"IF(ROW()<=Worksheet!$B$4/2,F25+1,\"\")","v":""}]
[{"$f":"IF(ROW()<=Worksheet!$B$4/2,ROW(),\"\")","v":""},null,null,null,null,{"$f":"IF(ROW()<=Worksheet!$B$4/2,F26+1,\"\")","v":""}]
[{"$f":"IF(ROW()<=Worksheet!$B$4/2,ROW(),\"\")","v":""},null,null,null,null,{"$f":"IF(ROW()<=Worksheet!$B$4/2,F27+1,\"\")","v":""}]
[{"$f":"IF(ROW()<=Worksheet!$B$4/2,ROW(),\"\")","v":""},null,null,null,null,{"$f":"IF(ROW()<=Worksheet!$B$4/2,F28+1,\"\")","v":""}]
[{"$f":"IF(ROW()<=Worksheet!$B$4/2,ROW(),\"\")","v":""},null,null,null,null,{"$f":"IF(ROW()<=Worksheet!$B$4/2,F29+1,\"\")","v":""}]