{"text_format":"1","workbook":"xlsx","n_sheets":2,"sheets":["Worksheet","SYSTEM FORMULAE"],"not_rendered":{"charts":0,"images":0,"macros":1,"external_links":0,"defined_names":2,"comments":0,"pivot_tables":0},"unopened":[],"bounds":{"document_bytes":16777216,"sheet_cells":100000,"rows_first":2000,"rows_last":500,"rows_between":2000,"halvings":0,"cell_chars":16384,"cell_head_chars":4096},"cells_cut":0,"cells_raw":0,"read":"whole","date_system":"1900"}

{"sheet":"Worksheet","index":0,"n_rows":41,"n_cols":19,"rows_kept":41,"cut":false,"hidden":false,"merged":[[11,0,11,2],[13,0,13,2],[15,0,15,2],[17,0,17,3],[7,0,7,2],[1,0,1,3],[3,0,3,2],[9,0,9,2],[0,4,0,18],[5,0,5,3]]}
[null,null,null,null,"For each tolerance statement, write down the minimum and maximum and then                                               circle or tick the values which ARE acceptable"]
["Variables",null,null,null,1,301," 61","litres","±"," 0·7","litres","ml","0·7",700.00000000000011,null,"60·3","litres","61·7","litres"]
[null,null,null,null,null,null,null,null,null,null,null,null,-1,2,1000]
["SHOW ANSWERS",null,null,false,null,null,null,"61·6","litres","60·3","litres",61,"litres","61·9","litres","61·2","litres","59·7","litres"]
[null,null,null,null,null,null,null,7,1,7,1,7,1,8,1,7,1,8,1]
["Level of difficulty",null,null,null,2,464," 52","m","±"," 40","cm","cm","0·4",40,null,"51·6","m","52·4","m"]
[null,null,null,null,null,null,null,null,null,null,null,null,-1,1,100]
["Maximum whole number in question",null,null,200,null,null,null,"51·5","m","51·4","m","52·2","m","51·2","m","51·6","m","52·6","m"]
[null,null,null,null,null,null,null,8,1,8,1,7,1,8,1,7,1,8,1]
["Approximate percentage of questions where both units match",null,null,75,3,359," 10","m","±"," 0·4","m","cm","0·4",40,null,"9·6","m","10·4","m"]
[null,null,null,null,null,null,null,null,null,null,null,null,-1,1,100]
["Include some questions where the tolerance is expressed as a percentage",null,null,true,null,null,null,"9·8","m","10·4","m",10,"m","10·8","m","9·7","m","10·7","m"]
[null,null,null,null,null,null,null,7,1,7,1,7,1,8,1,7,1,8,1]
["Allow decimal value after ± sign",null,null,true,4,197," 82","cm","±"," 10","%","mm","8·2",82.000000000000014,null,"73·8","cm","90·2","cm"]
[null,null,null,null,null,null,null,null,null,null,null,null,-1,0,10]
["Mix units in options",null,null,false,null,null,null,"92·7","cm","66·7","cm",87,"cm","93·4","cm","80·7","cm","68·8","cm"]
[null,null,null,null,null,null,null,8,1,8,1,7,1,8,1,7,1,8,1]
["Which units to include: (once you have selected the units you want, click on \"generate new sheet\" above)",null,null,null,5,993," 116","litres","±"," 10","%","ml","11·6",11600.000000000002,null,"104·4","litres","127·6","litres"]
[null,null,null,null,null,null,null,null,null,null,null,null,-1,2,1000]
["Length: mm/cm",true,"Weight: g/kg",true,null,null,null,"111·5","litres","95·5","litres","115·7","litres","115·7","litres","118·6","litres","126·1","litres"]
[null,null,null,null,null,null,null,7,1,8,1,7,1,7,1,7,1,7,1]
["Length: cm/m",true,"Weight: kg/tonnes",true,6,629," 113","litres","±"," 9","litres","ml",9,9000,null,104,"litres",122,"litres"]
[null,null,null,null,null,null,null,null,null,null,null,null,0,3,1000]
["Length: m/km",true,"Volume: ml/l",true,null,null,null,97,"litres",121,"litres",106,"litres",117,"litres",114,"litres",119,"litres"]
[null,null,null,null,null,null,null,8,1,7,1,7,1,7,1,7,1,7,1]
["Length: mm/m",false,"Volume: cm³/l",false,7,97," 23","litres","±"," 7","litres","ml",7,7000,null,16,"litres",30,"litres"]
[null,null,null,null,null,null,null,null,null,null,null,null,0,3,1000]
["Temperature: °C",true,null,null,null,null,null,19,"litres",14,"litres",31,"litres",14,"litres",35,"litres",27,"litres"]
[null,null,null,null,null,null,null,7,1,8,1,8,1,8,1,8,1,7,1]
[null,null,null,null,8,301," 61","litres","±"," 0·7","litres","ml","0·7",700.00000000000011,null,"60·3","litres","61·7","litres"]
[null,null,null,null,null,null,null,null,null,null,null,null,-1,2,1000]
[null,null,null,null,null,null,null,"62·2","litres","62·4","litres","61·4","litres","60·6","litres","59·9","litres","60·6","litres"]
[null,null,null,null,null,null,null,8,1,8,1,7,1,7,1,8,1,7,1]
[null,null,null,null,9,766," 77","km","±"," 60","m","m","0·06",60,null,"76·94","km","77·06","km"]
[null,null,null,null,null,null,null,null,null,null,null,null,-2,1,1000]
[null,null,null,null,null,null,null,"77·08","km","76·89","km","76·91","km","77·08","km","76·94","km","76·96","km"]
[null,null,null,null,null,null,null,8,1,8,1,8,1,8,1,7,1,7,1]
[null,null,null,null,10,1314," 165","tonnes","±"," 900","kg","kg","0·9",900,null,"164·1","tonnes","165·9","tonnes"]
[null,null,null,null,null,null,null,null,null,null,null,null,-1,2,1000]
[null,null,null,null,null,null,null,"163·4","tonnes","163·2","tonnes",165,"tonnes","165·8","tonnes","165·2","tonnes","165·5","tonnes"]
[null,null,null,null,null,null,null,8,1,8,1,7,1,7,1,7,1,7,1]

{"sheet":"SYSTEM FORMULAE","index":1,"n_rows":1737,"n_cols":33,"rows_kept":1737,"cut":false,"hidden":false,"merged":[]}
[{"$f":"COUNTIF($B$1:B1,TRUE)","v":1},{"$f":"Worksheet!$B$20","v":true},{"$f":"RANDBETWEEN(5,RANDBETWEEN(5,Worksheet!$D$8))","v":117},"cm","±",{"$f":"IF(I1=1,H1*10^RANDBETWEEN(IF(Worksheet!$D$14,-1,0),0),IF(I1=2,H1,CHOOSE(RANDBETWEEN(1,3),5,10,20)))","v":20},{"$f":"IF(I1=1,D1,IF(I1=3,\"%\",\"mm\"))","v":"%"},{"$f":"RANDBETWEEN(1,MIN(9,C1))","v":7},{"$f":"IF(AND(Worksheet!$D$12,RAND()<0.2),3,IF(RAND()<Worksheet!$D$10/100,1,2))","v":3},{"$f":"IF(I1=1,F1,IF(I1=2,F1/10,IF(I1=3,F1/100*C1,\"\")))","v":23.400000000000002},{"$f":"CONCATENATE(\" \",D1)","v":" cm"},{"$f":"IF(I1=1,F1*10,IF(I1=2,F1,IF(I1=3,F1/100*C1*10,\"\")))","v":234.00000000000003},"mm",null,null,null,null,null,1,{"$f":"RANDBETWEEN(1,MAX('SYSTEM FORMULAE'!$A$1:$A$1737))","v":44},{"$f":"IF(RIGHT(TEXT(VLOOKUP(T1,'SYSTEM FORMULAE'!$A$1:$Q$1737,3),\"# ##0.###\"),1)=\".\",LEFT(TEXT(VLOOKUP(T1,'SYSTEM FORMULAE'!$A$1:$Q$1737,3),\"# ##0.###\"),LEN(TEXT(VLOOKUP(T1,'SYSTEM FORMULAE'!$A$1:$Q$1737,3),\"# ##0.###\"))-1),TEXT(VLOOKUP(T1,'SYSTEM FORMULAE'!$A$1:$Q$1737,3),\"# ##0.###\"))","v":" 7"},{"$f":"VLOOKUP(T1,'SYSTEM FORMULAE'!$A$1:$Q$1737,4)","v":"m"},"±",{"$f":"IF(RIGHT(TEXT(VLOOKUP(T1,'SYSTEM FORMULAE'!$A$1:$Q$1737,6),\"# ##0.###\"),1)=\".\",LEFT(TEXT(VLOOKUP(T1,'SYSTEM FORMULAE'!$A$1:$Q$1737,6),\"# ##0.###\"),LEN(TEXT(VLOOKUP(T1,'SYSTEM FORMULAE'!$A$1:$Q$1737,6),\"# ##0.###\"))-1),TEXT(VLOOKUP(T1,'SYSTEM FORMULAE'!$A$1:$Q$1737,6),\"# ##0.###\"))","v":" 0.6"},{"$f":"VLOOKUP(T1,'SYSTEM FORMULAE'!$A$1:$Q$1737,7)","v":"m"},{"$f":"VLOOKUP(T1,'SYSTEM FORMULAE'!$A$1:$Q$1737,13)","v":"cm"},{"$f":"VLOOKUP(T1,'SYSTEM FORMULAE'!$A$1:$Q$1737,10)","v":0.60000000000000009},{"$f":"VLOOKUP(T1,'SYSTEM FORMULAE'!$A$1:$Q$1737,12)","v":60.000000000000007},null,{"$f":"U1-AA1","v":6.4},{"$f":"V1","v":"m"},{"$f":"U1+AA1","v":7.6},{"$f":"V1","v":"m"}]
[{"$f":"IF(COUNTIF($B$1:B2,TRUE)=COUNTIF($B$1:B1,TRUE),\"\",COUNTIF($B$1:B2,TRUE))","v":2},{"$f":"Worksheet!$B$22","v":true},{"$f":"RANDBETWEEN(5,RANDBETWEEN(5,Worksheet!$D$8))","v":14},"m","±",{"$f":"IF(I2=1,H2*10^RANDBETWEEN(IF(Worksheet!$D$14,-1,0),0),IF(I2=2,H2*10^RANDBETWEEN(RANDBETWEEN(0,1),1),CHOOSE(RANDBETWEEN(1,3),5,10,20)))","v":0.70000000000000007},{"$f":"IF(I2=1,D2,IF(I2=3,\"%\",\"cm\"))","v":"m"},{"$f":"RANDBETWEEN(1,MIN(9,C2))","v":7},{"$f":"IF(AND(Worksheet!$D$12,RAND()<0.2),3,IF(RAND()<Worksheet!$D$10/100,1,2))","v":1},{"$f":"IF(I2=1,F2,IF(I2=2,F2/100,IF(I2=3,F2/100*C2,\"\")))","v":0.70000000000000007},{"$f":"CONCATENATE(\" \",D2)","v":" m"},{"$f":"IF(I2=1,F2*100,IF(I2=2,F2,IF(I2=3,F2/100*C2*100,\"\")))","v":70},"cm",null,null,null,null,null,null,null,null,null,null,null,null,null,{"$f":"IF(AA1=INT(AA1),IF(AA1/1000=INT(AA1/1000),3,IF(AA1/100=INT(AA1/100),2,IF(AA1/10=INT(AA1/10),1,0))),INT(LOG($AA1-INT($AA1))))","v":-1},{"$f":"IF(AB1=INT(AB1),IF(AB1/1000=INT(AB1/1000),3,IF(AB1/100=INT(AB1/100),2,IF(AB1/10=INT(AB1/10),1,0))),INT(LOG($AA1-INT($AA1))))","v":1},{"$f":"IF(Z1=\"cm\",100,IF(Z1=\"°C\",1,IF(AND(V1=\"cm\",Z1=\"mm\"),10,1000)))","v":100}]
[{"$f":"IF(COUNTIF($B$1:B3,TRUE)=COUNTIF($B$1:B2,TRUE),\"\",COUNTIF($B$1:B3,TRUE))","v":3},{"$f":"Worksheet!$B$24","v":true},{"$f":"RANDBETWEEN(5,RANDBETWEEN(5,Worksheet!$D$8))","v":25},"km","±",{"$f":"IF(I3=1,H3*10^RANDBETWEEN(IF(Worksheet!$D$14,-1,0),0),IF(I3=2,H3*10^RANDBETWEEN(RANDBETWEEN(0,2),2),CHOOSE(RANDBETWEEN(1,3),5,10,20)))","v":6},{"$f":"IF(I3=1,D3,IF(I3=3,\"%\",\"m\"))","v":"km"},6,{"$f":"IF(AND(Worksheet!$D$12,RAND()<0.2),3,IF(RAND()<Worksheet!$D$10/100,1,2))","v":1},{"$f":"IF(I3=1,F3,IF(I3=2,F3/1000,IF(I3=3,F3/100*C3,\"\")))","v":6}," km",{"$f":"IF(I3=1,F3*1000,IF(I3=2,F3,IF(I3=3,F3/100*C3*1000,\"\")))","v":6000},"m",null,null,null,null,null,null,null,null,{"$f":"IF(W4=1,MAX(0,$U1+RANDBETWEEN(IF(V4=7,0,1.00001)*$AA1/10^$AA2,IF(V4=7,1,2)*$AA1/10^$AA2)*10^$AA2*(-1)^RANDBETWEEN(1,2)),MAX(0,$U1*$AC2+IF(V4=7,RANDBETWEEN(0,IF($AB2=3,$AB1/1000,IF($AB2=2,$AB1/100,IF($AB2=1,$AB1/10,$AB1))))*IF($AB2=3,1000,IF($AB2=2,100,IF($AB2=1,10,1))),RANDBETWEEN(1.00001*IF($AB2=3,$AB1/1000,IF($AB2=2,$AB1/100,IF($AB2=1,$AB1/10,$AB1))),2*IF($AB2=3,$AB1/1000,IF($AB2=2,$AB1/100,IF($AB2=1,$AB1/10,$AB1))))*IF($AB2=3,1000,IF($AB2=2,100,IF($AB2=1,10,1))))*(-1)^RANDBETWEEN(1,2)))","v":8.1999999999999993},{"$f":"IF(W4=1,$V1,$Z1)","v":"m"},{"$f":"IF(Y4=1,MAX(0,$U1+RANDBETWEEN(IF(X4=7,0,1.00001)*$AA1/10^$AA2,IF(X4=7,1,2)*$AA1/10^$AA2)*10^$AA2*(-1)^RANDBETWEEN(1,2)),MAX(0,$U1*$AC2+IF(X4=7,RANDBETWEEN(0,IF($AB2=3,$AB1/1000,IF($AB2=2,$AB1/100,IF($AB2=1,$AB1/10,$AB1))))*IF($AB2=3,1000,IF($AB2=2,100,IF($AB2=1,10,1))),RANDBETWEEN(1.00001*IF($AB2=3,$AB1/1000,IF($AB2=2,$AB1/100,IF($AB2=1,$AB1/10,$AB1))),2*IF($AB2=3,$AB1/1000,IF($AB2=2,$AB1/100,IF($AB2=1,$AB1/10,$AB1))))*IF($AB2=3,1000,IF($AB2=2,100,IF($AB2=1,10,1))))*(-1)^RANDBETWEEN(1,2)))","v":6.6},{"$f":"IF(Y4=1,$V1,$Z1)","v":"m"},{"$f":"IF(AA4=1,MAX(0,$U1+RANDBETWEEN(IF(Z4=7,0,1.00001)*$AA1/10^$AA2,IF(Z4=7,1,2)*$AA1/10^$AA2)*10^$AA2*(-1)^RANDBETWEEN(1,2)),MAX(0,$U1*$AC2+IF(Z4=7,RANDBETWEEN(0,IF($AB2=3,$AB1/1000,IF($AB2=2,$AB1/100,IF($AB2=1,$AB1/10,$AB1))))*IF($AB2=3,1000,IF($AB2=2,100,IF($AB2=1,10,1))),RANDBETWEEN(1.00001*IF($AB2=3,$AB1/1000,IF($AB2=2,$AB1/100,IF($AB2=1,$AB1/10,$AB1))),2*IF($AB2=3,$AB1/1000,IF($AB2=2,$AB1/100,IF($AB2=1,$AB1/10,$AB1))))*IF($AB2=3,1000,IF($AB2=2,100,IF($AB2=1,10,1))))*(-1)^RANDBETWEEN(1,2)))","v":5.8},{"$f":"IF(AA4=1,$V1,$Z1)","v":"m"},{"$f":"IF(AC4=1,MAX(0,$U1+RANDBETWEEN(IF(AB4=7,0,1.00001)*$AA1/10^$AA2,IF(AB4=7,1,2)*$AA1/10^$AA2)*10^$AA2*(-1)^RANDBETWEEN(1,2)),MAX(0,$U1*$AC2+IF(AB4=7,RANDBETWEEN(0,IF($AB2=3,$AB1/1000,IF($AB2=2,$AB1/100,IF($AB2=1,$AB1/10,$AB1))))*IF($AB2=3,1000,IF($AB2=2,100,IF($AB2=1,10,1))),RANDBETWEEN(1.00001*IF($AB2=3,$AB1/1000,IF($AB2=2,$AB1/100,IF($AB2=1,$AB1/10,$AB1))),2*IF($AB2=3,$AB1/1000,IF($AB2=2,$AB1/100,IF($AB2=1,$AB1/10,$AB1))))*IF($AB2=3,1000,IF($AB2=2,100,IF($AB2=1,10,1))))*(-1)^RANDBETWEEN(1,2)))","v":7.5},{"$f":"IF(AC4=1,$V1,$Z1)","v":"m"},{"$f":"IF(AE4=1,MAX(0,$U1+RANDBETWEEN(IF(AD4=7,0,1.00001)*$AA1/10^$AA2,IF(AD4=7,1,2)*$AA1/10^$AA2)*10^$AA2*(-1)^RANDBETWEEN(1,2)),MAX(0,$U1*$AC2+IF(AD4=7,RANDBETWEEN(0,IF($AB2=3,$AB1/1000,IF($AB2=2,$AB1/100,IF($AB2=1,$AB1/10,$AB1))))*IF($AB2=3,1000,IF($AB2=2,100,IF($AB2=1,10,1))),RANDBETWEEN(1.00001*IF($AB2=3,$AB1/1000,IF($AB2=2,$AB1/100,IF($AB2=1,$AB1/10,$AB1))),2*IF($AB2=3,$AB1/1000,IF($AB2=2,$AB1/100,IF($AB2=1,$AB1/10,$AB1))))*IF($AB2=3,1000,IF($AB2=2,100,IF($AB2=1,10,1))))*(-1)^RANDBETWEEN(1,2)))","v":6.2},{"$f":"IF(AE4=1,$V1,$Z1)","v":"m"},{"$f":"IF(AG4=1,MAX(0,$U1+RANDBETWEEN(IF(AF4=7,0,1.00001)*$AA1/10^$AA2,IF(AF4=7,1,2)*$AA1/10^$AA2)*10^$AA2*(-1)^RANDBETWEEN(1,2)),MAX(0,$U1*$AC2+IF(AF4=7,RANDBETWEEN(0,IF($AB2=3,$AB1/1000,IF($AB2=2,$AB1/100,IF($AB2=1,$AB1/10,$AB1))))*IF($AB2=3,1000,IF($AB2=2,100,IF($AB2=1,10,1))),RANDBETWEEN(1.00001*IF($AB2=3,$AB1/1000,IF($AB2=2,$AB1/100,IF($AB2=1,$AB1/10,$AB1))),2*IF($AB2=3,$AB1/1000,IF($AB2=2,$AB1/100,IF($AB2=1,$AB1/10,$AB1))))*IF($AB2=3,1000,IF($AB2=2,100,IF($AB2=1,10,1))))*(-1)^RANDBETWEEN(1,2)))","v":6.1},{"$f":"IF(AG4=1,$V1,$Z1)","v":"m"}]
[{"$f":"IF(COUNTIF($B$1:B4,TRUE)=COUNTIF($B$1:B3,TRUE),\"\",COUNTIF($B$1:B4,TRUE))","v":""},{"$f":"Worksheet!$B$26","v":false},{"$f":"RANDBETWEEN(5,RANDBETWEEN(5,Worksheet!$D$8))","v":9},"m","±",{"$f":"IF(I4=1,H4*10^RANDBETWEEN(IF(Worksheet!$D$14,-1,0),0),IF(I4=2,H4*10^RANDBETWEEN(RANDBETWEEN(0,2),2),CHOOSE(RANDBETWEEN(1,3),5,10,20)))","v":0.30000000000000004},{"$f":"IF(I4=1,D4,IF(I4=3,\"%\",\"mm\"))","v":"m"},3,{"$f":"IF(AND(Worksheet!$D$12,RAND()<0.2),3,IF(RAND()<Worksheet!$D$10/100,1,2))","v":1},0.30000000000000004," m",300.00000000000006,"mm",null,null,null,null,null,null,null,null,{"$f":"RANDBETWEEN(7,8)","v":8},{"$f":"IF(Worksheet!$D$16,RANDBETWEEN(1,2),1)","v":1},{"$f":"RANDBETWEEN(7,8)","v":7},{"$f":"IF(Worksheet!$D$16,RANDBETWEEN(1,2),1)","v":1},{"$f":"RANDBETWEEN(7,8)","v":8},{"$f":"IF(Worksheet!$D$16,RANDBETWEEN(1,2),1)","v":1},{"$f":"RANDBETWEEN(7,8)","v":7},{"$f":"IF(Worksheet!$D$16,RANDBETWEEN(1,2),1)","v":1},{"$f":"RANDBETWEEN(7,8)","v":8},{"$f":"IF(Worksheet!$D$16,RANDBETWEEN(1,2),1)","v":1},{"$f":"RANDBETWEEN(7,8)","v":8},{"$f":"IF(Worksheet!$D$16,RANDBETWEEN(1,2),1)","v":1}]
[{"$f":"IF(COUNTIF($B$1:B5,TRUE)=COUNTIF($B$1:B4,TRUE),\"\",COUNTIF($B$1:B5,TRUE))","v":4},{"$f":"Worksheet!$D$20","v":true},{"$f":"RANDBETWEEN(5,RANDBETWEEN(5,Worksheet!$D$8))","v":50},"kg","±",{"$f":"IF(I5=1,H5*10^RANDBETWEEN(IF(Worksheet!$D$14,-1,0),0),IF(I5=2,H5*10^RANDBETWEEN(RANDBETWEEN(0,2),2),CHOOSE(RANDBETWEEN(1,3),5,10,20)))","v":5},{"$f":"IF(I5=1,D5,IF(I5=3,\"%\",\"g\"))","v":"kg"},{"$f":"RANDBETWEEN(1,MIN(9,C5))","v":5},{"$f":"IF(AND(Worksheet!$D$12,RAND()<0.2),3,IF(RAND()<Worksheet!$D$10/100,1,2))","v":1},5,{"$f":"CONCATENATE(\" \",D5)","v":" kg"},5000,"g",null,null,null,null,null,2,{"$f":"RANDBETWEEN(1,MAX('SYSTEM FORMULAE'!$A$1:$A$1737))","v":231},{"$f":"IF(RIGHT(TEXT(VLOOKUP(T5,'SYSTEM FORMULAE'!$A$1:$Q$1737,3),\"# ##0.###\"),1)=\".\",LEFT(TEXT(VLOOKUP(T5,'SYSTEM FORMULAE'!$A$1:$Q$1737,3),\"# ##0.###\"),LEN(TEXT(VLOOKUP(T5,'SYSTEM FORMULAE'!$A$1:$Q$1737,3),\"# ##0.###\"))-1),TEXT(VLOOKUP(T5,'SYSTEM FORMULAE'!$A$1:$Q$1737,3),\"# ##0.###\"))","v":" 62"},{"$f":"VLOOKUP(T5,'SYSTEM FORMULAE'!$A$1:$Q$1737,4)","v":"litres"},"±",{"$f":"IF(RIGHT(TEXT(VLOOKUP(T5,'SYSTEM FORMULAE'!$A$1:$Q$1737,6),\"# ##0.###\"),1)=\".\",LEFT(TEXT(VLOOKUP(T5,'SYSTEM FORMULAE'!$A$1:$Q$1737,6),\"# ##0.###\"),LEN(TEXT(VLOOKUP(T5,'SYSTEM FORMULAE'!$A$1:$Q$1737,6),\"# ##0.###\"))-1),TEXT(VLOOKUP(T5,'SYSTEM FORMULAE'!$A$1:$Q$1737,6),\"# ##0.###\"))","v":" 10"},{"$f":"VLOOKUP(T5,'SYSTEM FORMULAE'!$A$1:$Q$1737,7)","v":"%"},{"$f":"VLOOKUP(T5,'SYSTEM FORMULAE'!$A$1:$Q$1737,13)","v":"ml"},{"$f":"VLOOKUP(T5,'SYSTEM FORMULAE'!$A$1:$Q$1737,10)","v":6.2},{"$f":"VLOOKUP(T5,'SYSTEM FORMULAE'!$A$1:$Q$1737,12)","v":6200},null,{"$f":"U5-AA5","v":55.8},{"$f":"V5","v":"litres"},{"$f":"U5+AA5","v":68.2},{"$f":"V5","v":"litres"}]
[{"$f":"IF(COUNTIF($B$1:B6,TRUE)=COUNTIF($B$1:B5,TRUE),\"\",COUNTIF($B$1:B6,TRUE))","v":5},{"$f":"Worksheet!$D$22","v":true},{"$f":"RANDBETWEEN(5,RANDBETWEEN(5,Worksheet!$D$8))","v":65},"tonnes","±",{"$f":"IF(I6=1,H6*10^RANDBETWEEN(IF(Worksheet!$D$14,-1,0),0),IF(I6=2,H6*10^RANDBETWEEN(RANDBETWEEN(0,2),2),CHOOSE(RANDBETWEEN(1,3),5,10,20)))","v":3},{"$f":"IF(I6=1,D6,IF(I6=3,\"%\",\"kg\"))","v":"kg"},{"$f":"RANDBETWEEN(1,MIN(9,C6))","v":3},{"$f":"IF(AND(Worksheet!$D$12,RAND()<0.2),3,IF(RAND()<Worksheet!$D$10/100,1,2))","v":2},3.0000000000000001E-3,{"$f":"CONCATENATE(\" \",D6)","v":" tonnes"},3,"kg",null,null,null,null,null,null,null,null,null,null,null,null,null,{"$f":"IF(AA5=INT(AA5),IF(AA5/1000=INT(AA5/1000),3,IF(AA5/100=INT(AA5/100),2,IF(AA5/10=INT(AA5/10),1,0))),INT(LOG($AA5-INT($AA5))))","v":-1},{"$f":"IF(AB5=INT(AB5),IF(AB5/1000=INT(AB5/1000),3,IF(AB5/100=INT(AB5/100),2,IF(AB5/10=INT(AB5/10),1,0))),INT(LOG($AA5-INT($AA5))))","v":2},{"$f":"IF(Z5=\"cm\",100,IF(Z5=\"°C\",1,IF(AND(V5=\"cm\",Z5=\"mm\"),10,1000)))","v":1000}]
[{"$f":"IF(COUNTIF($B$1:B7,TRUE)=COUNTIF($B$1:B6,TRUE),\"\",COUNTIF($B$1:B7,TRUE))","v":6},{"$f":"Worksheet!$D$24","v":true},{"$f":"RANDBETWEEN(5,RANDBETWEEN(5,Worksheet!$D$8))","v":9},"litres","±",{"$f":"IF(I7=1,H7*10^RANDBETWEEN(IF(Worksheet!$D$14,-1,0),0),IF(I7=2,H7*10^RANDBETWEEN(RANDBETWEEN(0,2),2),CHOOSE(RANDBETWEEN(1,3),5,10,20)))","v":0.9},{"$f":"IF(I7=1,D7,IF(I7=3,\"%\",\"ml\"))","v":"litres"},{"$f":"RANDBETWEEN(1,MIN(9,C7))","v":9},{"$f":"IF(AND(Worksheet!$D$12,RAND()<0.2),3,IF(RAND()<Worksheet!$D$10/100,1,2))","v":1},0.9,{"$f":"CONCATENATE(\" \",D7)","v":" litres"},900,"ml",null,null,null,null,null,null,null,null,{"$f":"IF(W8=1,MAX(0,$U5+RANDBETWEEN(IF(V8=7,0,1.00001)*$AA5/10^$AA6,IF(V8=7,1,2)*$AA5/10^$AA6)*10^$AA6*(-1)^RANDBETWEEN(1,2)),MAX(0,$U5*$AC6+IF(V8=7,RANDBETWEEN(0,IF($AB6=3,$AB5/1000,IF($AB6=2,$AB5/100,IF($AB6=1,$AB5/10,$AB5))))*IF($AB6=3,1000,IF($AB6=2,100,IF($AB6=1,10,1))),RANDBETWEEN(1.00001*IF($AB6=3,$AB5/1000,IF($AB6=2,$AB5/100,IF($AB6=1,$AB5/10,$AB5))),2*IF($AB6=3,$AB5/1000,IF($AB6=2,$AB5/100,IF($AB6=1,$AB5/10,$AB5))))*IF($AB6=3,1000,IF($AB6=2,100,IF($AB6=1,10,1))))*(-1)^RANDBETWEEN(1,2)))","v":70},{"$f":"IF(W8=1,$V5,$Z5)","v":"litres"},{"$f":"IF(Y8=1,MAX(0,$U5+RANDBETWEEN(IF(X8=7,0,1.00001)*$AA5/10^$AA6,IF(X8=7,1,2)*$AA5/10^$AA6)*10^$AA6*(-1)^RANDBETWEEN(1,2)),MAX(0,$U5*$AC6+IF(X8=7,RANDBETWEEN(0,IF($AB6=3,$AB5/1000,IF($AB6=2,$AB5/100,IF($AB6=1,$AB5/10,$AB5))))*IF($AB6=3,1000,IF($AB6=2,100,IF($AB6=1,10,1))),RANDBETWEEN(1.00001*IF($AB6=3,$AB5/1000,IF($AB6=2,$AB5/100,IF($AB6=1,$AB5/10,$AB5))),2*IF($AB6=3,$AB5/1000,IF($AB6=2,$AB5/100,IF($AB6=1,$AB5/10,$AB5))))*IF($AB6=3,1000,IF($AB6=2,100,IF($AB6=1,10,1))))*(-1)^RANDBETWEEN(1,2)))","v":65.7},{"$f":"IF(Y8=1,$V5,$Z5)","v":"litres"},{"$f":"IF(AA8=1,MAX(0,$U5+RANDBETWEEN(IF(Z8=7,0,1.00001)*$AA5/10^$AA6,IF(Z8=7,1,2)*$AA5/10^$AA6)*10^$AA6*(-1)^RANDBETWEEN(1,2)),MAX(0,$U5*$AC6+IF(Z8=7,RANDBETWEEN(0,IF($AB6=3,$AB5/1000,IF($AB6=2,$AB5/100,IF($AB6=1,$AB5/10,$AB5))))*IF($AB6=3,1000,IF($AB6=2,100,IF($AB6=1,10,1))),RANDBETWEEN(1.00001*IF($AB6=3,$AB5/1000,IF($AB6=2,$AB5/100,IF($AB6=1,$AB5/10,$AB5))),2*IF($AB6=3,$AB5/1000,IF($AB6=2,$AB5/100,IF($AB6=1,$AB5/10,$AB5))))*IF($AB6=3,1000,IF($AB6=2,100,IF($AB6=1,10,1))))*(-1)^RANDBETWEEN(1,2)))","v":60.1},{"$f":"IF(AA8=1,$V5,$Z5)","v":"litres"},{"$f":"IF(AC8=1,MAX(0,$U5+RANDBETWEEN(IF(AB8=7,0,1.00001)*$AA5/10^$AA6,IF(AB8=7,1,2)*$AA5/10^$AA6)*10^$AA6*(-1)^RANDBETWEEN(1,2)),MAX(0,$U5*$AC6+IF(AB8=7,RANDBETWEEN(0,IF($AB6=3,$AB5/1000,IF($AB6=2,$AB5/100,IF($AB6=1,$AB5/10,$AB5))))*IF($AB6=3,1000,IF($AB6=2,100,IF($AB6=1,10,1))),RANDBETWEEN(1.00001*IF($AB6=3,$AB5/1000,IF($AB6=2,$AB5/100,IF($AB6=1,$AB5/10,$AB5))),2*IF($AB6=3,$AB5/1000,IF($AB6=2,$AB5/100,IF($AB6=1,$AB5/10,$AB5))))*IF($AB6=3,1000,IF($AB6=2,100,IF($AB6=1,10,1))))*(-1)^RANDBETWEEN(1,2)))","v":73.400000000000006},{"$f":"IF(AC8=1,$V5,$Z5)","v":"litres"},{"$f":"IF(AE8=1,MAX(0,$U5+RANDBETWEEN(IF(AD8=7,0,1.00001)*$AA5/10^$AA6,IF(AD8=7,1,2)*$AA5/10^$AA6)*10^$AA6*(-1)^RANDBETWEEN(1,2)),MAX(0,$U5*$AC6+IF(AD8=7,RANDBETWEEN(0,IF($AB6=3,$AB5/1000,IF($AB6=2,$AB5/100,IF($AB6=1,$AB5/10,$AB5))))*IF($AB6=3,1000,IF($AB6=2,100,IF($AB6=1,10,1))),RANDBETWEEN(1.00001*IF($AB6=3,$AB5/1000,IF($AB6=2,$AB5/100,IF($AB6=1,$AB5/10,$AB5))),2*IF($AB6=3,$AB5/1000,IF($AB6=2,$AB5/100,IF($AB6=1,$AB5/10,$AB5))))*IF($AB6=3,1000,IF($AB6=2,100,IF($AB6=1,10,1))))*(-1)^RANDBETWEEN(1,2)))","v":63},{"$f":"IF(AE8=1,$V5,$Z5)","v":"litres"},{"$f":"IF(AG8=1,MAX(0,$U5+RANDBETWEEN(IF(AF8=7,0,1.00001)*$AA5/10^$AA6,IF(AF8=7,1,2)*$AA5/10^$AA6)*10^$AA6*(-1)^RANDBETWEEN(1,2)),MAX(0,$U5*$AC6+IF(AF8=7,RANDBETWEEN(0,IF($AB6=3,$AB5/1000,IF($AB6=2,$AB5/100,IF($AB6=1,$AB5/10,$AB5))))*IF($AB6=3,1000,IF($AB6=2,100,IF($AB6=1,10,1))),RANDBETWEEN(1.00001*IF($AB6=3,$AB5/1000,IF($AB6=2,$AB5/100,IF($AB6=1,$AB5/10,$AB5))),2*IF($AB6=3,$AB5/1000,IF($AB6=2,$AB5/100,IF($AB6=1,$AB5/10,$AB5))))*IF($AB6=3,1000,IF($AB6=2,100,IF($AB6=1,10,1))))*(-1)^RANDBETWEEN(1,2)))","v":67.599999999999994},{"$f":"IF(AG8=1,$V5,$Z5)","v":"litres"}]
[{"$f":"IF(COUNTIF($B$1:B8,TRUE)=COUNTIF($B$1:B7,TRUE),\"\",COUNTIF($B$1:B8,TRUE))","v":""},{"$f":"Worksheet!$D$26","v":false},{"$f":"RANDBETWEEN(5,RANDBETWEEN(5,Worksheet!$D$8))","v":49},"litres","±",{"$f":"IF(I8=1,H8*10^RANDBETWEEN(IF(Worksheet!$D$14,-1,0),0),IF(I8=2,H8*10^RANDBETWEEN(RANDBETWEEN(0,2),2),CHOOSE(RANDBETWEEN(1,3),5,10,20)))","v":6},{"$f":"IF(I8=1,D8,IF(I8=3,\"%\",\"cm³\"))","v":"litres"},{"$f":"RANDBETWEEN(1,MIN(9,C8))","v":6},{"$f":"IF(AND(Worksheet!$D$12,RAND()<0.2),3,IF(RAND()<Worksheet!$D$10/100,1,2))","v":1},6,{"$f":"CONCATENATE(\" \",D8)","v":" litres"},6000,"cm³",null,null,null,null,null,null,null,null,{"$f":"RANDBETWEEN(7,8)","v":8},{"$f":"IF(Worksheet!$D$16,RANDBETWEEN(1,2),1)","v":1},{"$f":"RANDBETWEEN(7,8)","v":7},{"$f":"IF(Worksheet!$D$16,RANDBETWEEN(1,2),1)","v":1},{"$f":"RANDBETWEEN(7,8)","v":7},{"$f":"IF(Worksheet!$D$16,RANDBETWEEN(1,2),1)","v":1},{"$f":"RANDBETWEEN(7,8)","v":8},{"$f":"IF(Worksheet!$D$16,RANDBETWEEN(1,2),1)","v":1},{"$f":"RANDBETWEEN(7,8)","v":7},{"$f":"IF(Worksheet!$D$16,RANDBETWEEN(1,2),1)","v":1},{"$f":"RANDBETWEEN(7,8)","v":7},{"$f":"IF(Worksheet!$D$16,RANDBETWEEN(1,2),1)","v":1}]
[{"$f":"IF(COUNTIF($B$1:B9,TRUE)=COUNTIF($B$1:B9,TRUE),\"\",COUNTIF($B$1:B9,TRUE))","v":""},{"$f":"Worksheet!$B$28","v":true},{"$f":"RANDBETWEEN(5,20)","v":15},"°C","±",{"$f":"IF(I9=1,H9*10^RANDBETWEEN(IF(Worksheet!$D$14,-1,0),0),IF(I9=2,H9,CHOOSE(RANDBETWEEN(1,3),5,10,20)))","v":9},{"$f":"IF(I9=1,D9,IF(I9=3,\"%\",\"sec\"))","v":"°C"},{"$f":"RANDBETWEEN(1,MIN(9,C9))","v":9},{"$f":"IF(AND(Worksheet!$D$12,RAND()<0),3,IF(RAND()<Worksheet!$D$10/100,1,2))","v":1},{"$f":"IF(I9=1,F9,IF(I9=2,F9,IF(I9=3,F9/100*C9,\"\")))","v":9},{"$f":"CONCATENATE(\" \",D9)","v":" °C"},{"$f":"IF(I9=1,F9,IF(I9=2,F9,IF(I9=3,F9/100*C9,\"\")))","v":9}," °C",null,null,null,null,null,3,{"$f":"RANDBETWEEN(1,MAX('SYSTEM FORMULAE'!$A$1:$A$1737))","v":1024},{"$f":"IF(RIGHT(TEXT(VLOOKUP(T9,'SYSTEM FORMULAE'!$A$1:$Q$1737,3),\"# ##0.###\"),1)=\".\",LEFT(TEXT(VLOOKUP(T9,'SYSTEM FORMULAE'!$A$1:$Q$1737,3),\"# ##0.###\"),LEN(TEXT(VLOOKUP(T9,'SYSTEM FORMULAE'!$A$1:$Q$1737,3),\"# ##0.###\"))-1),TEXT(VLOOKUP(T9,'SYSTEM FORMULAE'!$A$1:$Q$1737,3),\"# ##0.###\"))","v":" 44"},{"$f":"VLOOKUP(T9,'SYSTEM FORMULAE'!$A$1:$Q$1737,4)","v":"m"},"±",{"$f":"IF(RIGHT(TEXT(VLOOKUP(T9,'SYSTEM FORMULAE'!$A$1:$Q$1737,6),\"# ##0.###\"),1)=\".\",LEFT(TEXT(VLOOKUP(T9,'SYSTEM FORMULAE'!$A$1:$Q$1737,6),\"# ##0.###\"),LEN(TEXT(VLOOKUP(T9,'SYSTEM FORMULAE'!$A$1:$Q$1737,6),\"# ##0.###\"))-1),TEXT(VLOOKUP(T9,'SYSTEM FORMULAE'!$A$1:$Q$1737,6),\"# ##0.###\"))","v":" 20"},{"$f":"VLOOKUP(T9,'SYSTEM FORMULAE'!$A$1:$Q$1737,7)","v":"cm"},{"$f":"VLOOKUP(T9,'SYSTEM FORMULAE'!$A$1:$Q$1737,13)","v":"cm"},{"$f":"VLOOKUP(T9,'SYSTEM FORMULAE'!$A$1:$Q$1737,10)","v":0.2},{"$f":"VLOOKUP(T9,'SYSTEM FORMULAE'!$A$1:$Q$1737,12)","v":20},null,{"$f":"U9-AA9","v":43.8},{"$f":"V9","v":"m"},{"$f":"U9+AA9","v":44.2},{"$f":"V9","v":"m"}]
[{"$f":"COUNTIF($B$1:B10,TRUE)","v":8},{"$f":"Worksheet!$B$20","v":true},{"$f":"RANDBETWEEN(5,RANDBETWEEN(5,Worksheet!$D$8))","v":35},"cm","±",{"$f":"IF(I10=1,H10*10^RANDBETWEEN(IF(Worksheet!$D$14,-1,0),0),IF(I10=2,H10,CHOOSE(RANDBETWEEN(1,3),5,10,20)))","v":20},{"$f":"IF(I10=1,D10,IF(I10=3,\"%\",\"mm\"))","v":"%"},{"$f":"RANDBETWEEN(1,MIN(9,C10))","v":1},{"$f":"IF(AND(Worksheet!$D$12,RAND()<0.2),3,IF(RAND()<Worksheet!$D$10/100,1,2))","v":3},{"$f":"IF(I10=1,F10,IF(I10=2,F10/10,IF(I10=3,F10/100*C10,\"\")))","v":7},{"$f":"CONCATENATE(\" \",D10)","v":" cm"},{"$f":"IF(I10=1,F10*10,IF(I10=2,F10,IF(I10=3,F10/100*C10*10,\"\")))","v":70},"mm",null,null,null,null,null,null,null,null,null,null,null,null,null,{"$f":"IF(AA9=INT(AA9),IF(AA9/1000=INT(AA9/1000),3,IF(AA9/100=INT(AA9/100),2,IF(AA9/10=INT(AA9/10),1,0))),INT(LOG($AA9-INT($AA9))))","v":-1},{"$f":"IF(AB9=INT(AB9),IF(AB9/1000=INT(AB9/1000),3,IF(AB9/100=INT(AB9/100),2,IF(AB9/10=INT(AB9/10),1,0))),INT(LOG($AA9-INT($AA9))))","v":1},{"$f":"IF(Z9=\"cm\",100,IF(Z9=\"°C\",1,IF(AND(V9=\"cm\",Z9=\"mm\"),10,1000)))","v":100}]
[{"$f":"IF(COUNTIF($B$1:B11,TRUE)=COUNTIF($B$1:B10,TRUE),\"\",COUNTIF($B$1:B11,TRUE))","v":9},{"$f":"Worksheet!$B$22","v":true},{"$f":"RANDBETWEEN(5,RANDBETWEEN(5,Worksheet!$D$8))","v":8},"m","±",{"$f":"IF(I11=1,H11*10^RANDBETWEEN(IF(Worksheet!$D$14,-1,0),0),IF(I11=2,H11*10^RANDBETWEEN(RANDBETWEEN(0,1),1),CHOOSE(RANDBETWEEN(1,3),5,10,20)))","v":0.8},{"$f":"IF(I11=1,D11,IF(I11=3,\"%\",\"cm\"))","v":"m"},{"$f":"RANDBETWEEN(1,MIN(9,C11))","v":8},{"$f":"IF(AND(Worksheet!$D$12,RAND()<0.2),3,IF(RAND()<Worksheet!$D$10/100,1,2))","v":1},{"$f":"IF(I11=1,F11,IF(I11=2,F11/100,IF(I11=3,F11/100*C11,\"\")))","v":0.8},{"$f":"CONCATENATE(\" \",D11)","v":" m"},{"$f":"IF(I11=1,F11*100,IF(I11=2,F11,IF(I11=3,F11/100*C11*100,\"\")))","v":80},"cm",null,null,null,null,null,null,null,null,{"$f":"IF(W12=1,MAX(0,$U9+RANDBETWEEN(IF(V12=7,0,1.00001)*$AA9/10^$AA10,IF(V12=7,1,2)*$AA9/10^$AA10)*10^$AA10*(-1)^RANDBETWEEN(1,2)),MAX(0,$U9*$AC10+IF(V12=7,RANDBETWEEN(0,IF($AB10=3,$AB9/1000,IF($AB10=2,$AB9/100,IF($AB10=1,$AB9/10,$AB9))))*IF($AB10=3,1000,IF($AB10=2,100,IF($AB10=1,10,1))),RANDBETWEEN(1.00001*IF($AB10=3,$AB9/1000,IF($AB10=2,$AB9/100,IF($AB10=1,$AB9/10,$AB9))),2*IF($AB10=3,$AB9/1000,IF($AB10=2,$AB9/100,IF($AB10=1,$AB9/10,$AB9))))*IF($AB10=3,1000,IF($AB10=2,100,IF($AB10=1,10,1))))*(-1)^RANDBETWEEN(1,2)))","v":44.4},{"$f":"IF(W12=1,$V9,$Z9)","v":"m"},{"$f":"IF(Y12=1,MAX(0,$U9+RANDBETWEEN(IF(X12=7,0,1.00001)*$AA9/10^$AA10,IF(X12=7,1,2)*$AA9/10^$AA10)*10^$AA10*(-1)^RANDBETWEEN(1,2)),MAX(0,$U9*$AC10+IF(X12=7,RANDBETWEEN(0,IF($AB10=3,$AB9/1000,IF($AB10=2,$AB9/100,IF($AB10=1,$AB9/10,$AB9))))*IF($AB10=3,1000,IF($AB10=2,100,IF($AB10=1,10,1))),RANDBETWEEN(1.00001*IF($AB10=3,$AB9/1000,IF($AB10=2,$AB9/100,IF($AB10=1,$AB9/10,$AB9))),2*IF($AB10=3,$AB9/1000,IF($AB10=2,$AB9/100,IF($AB10=1,$AB9/10,$AB9))))*IF($AB10=3,1000,IF($AB10=2,100,IF($AB10=1,10,1))))*(-1)^RANDBETWEEN(1,2)))","v":44.2},{"$f":"IF(Y12=1,$V9,$Z9)","v":"m"},{"$f":"IF(AA12=1,MAX(0,$U9+RANDBETWEEN(IF(Z12=7,0,1.00001)*$AA9/10^$AA10,IF(Z12=7,1,2)*$AA9/10^$AA10)*10^$AA10*(-1)^RANDBETWEEN(1,2)),MAX(0,$U9*$AC10+IF(Z12=7,RANDBETWEEN(0,IF($AB10=3,$AB9/1000,IF($AB10=2,$AB9/100,IF($AB10=1,$AB9/10,$AB9))))*IF($AB10=3,1000,IF($AB10=2,100,IF($AB10=1,10,1))),RANDBETWEEN(1.00001*IF($AB10=3,$AB9/1000,IF($AB10=2,$AB9/100,IF($AB10=1,$AB9/10,$AB9))),2*IF($AB10=3,$AB9/1000,IF($AB10=2,$AB9/100,IF($AB10=1,$AB9/10,$AB9))))*IF($AB10=3,1000,IF($AB10=2,100,IF($AB10=1,10,1))))*(-1)^RANDBETWEEN(1,2)))","v":44.2},{"$f":"IF(AA12=1,$V9,$Z9)","v":"m"},{"$f":"IF(AC12=1,MAX(0,$U9+RANDBETWEEN(IF(AB12=7,0,1.00001)*$AA9/10^$AA10,IF(AB12=7,1,2)*$AA9/10^$AA10)*10^$AA10*(-1)^RANDBETWEEN(1,2)),MAX(0,$U9*$AC10+IF(AB12=7,RANDBETWEEN(0,IF($AB10=3,$AB9/1000,IF($AB10=2,$AB9/100,IF($AB10=1,$AB9/10,$AB9))))*IF($AB10=3,1000,IF($AB10=2,100,IF($AB10=1,10,1))),RANDBETWEEN(1.00001*IF($AB10=3,$AB9/1000,IF($AB10=2,$AB9/100,IF($AB10=1,$AB9/10,$AB9))),2*IF($AB10=3,$AB9/1000,IF($AB10=2,$AB9/100,IF($AB10=1,$AB9/10,$AB9))))*IF($AB10=3,1000,IF($AB10=2,100,IF($AB10=1,10,1))))*(-1)^RANDBETWEEN(1,2)))","v":44.1},{"$f":"IF(AC12=1,$V9,$Z9)","v":"m"},{"$f":"IF(AE12=1,MAX(0,$U9+RANDBETWEEN(IF(AD12=7,0,1.00001)*$AA9/10^$AA10,IF(AD12=7,1,2)*$AA9/10^$AA10)*10^$AA10*(-1)^RANDBETWEEN(1,2)),MAX(0,$U9*$AC10+IF(AD12=7,RANDBETWEEN(0,IF($AB10=3,$AB9/1000,IF($AB10=2,$AB9/100,IF($AB10=1,$AB9/10,$AB9))))*IF($AB10=3,1000,IF($AB10=2,100,IF($AB10=1,10,1))),RANDBETWEEN(1.00001*IF($AB10=3,$AB9/1000,IF($AB10=2,$AB9/100,IF($AB10=1,$AB9/10,$AB9))),2*IF($AB10=3,$AB9/1000,IF($AB10=2,$AB9/100,IF($AB10=1,$AB9/10,$AB9))))*IF($AB10=3,1000,IF($AB10=2,100,IF($AB10=1,10,1))))*(-1)^RANDBETWEEN(1,2)))","v":44.3},{"$f":"IF(AE12=1,$V9,$Z9)","v":"m"},{"$f":"IF(AG12=1,MAX(0,$U9+RANDBETWEEN(IF(AF12=7,0,1.00001)*$AA9/10^$AA10,IF(AF12=7,1,2)*$AA9/10^$AA10)*10^$AA10*(-1)^RANDBETWEEN(1,2)),MAX(0,$U9*$AC10+IF(AF12=7,RANDBETWEEN(0,IF($AB10=3,$AB9/1000,IF($AB10=2,$AB9/100,IF($AB10=1,$AB9/10,$AB9))))*IF($AB10=3,1000,IF($AB10=2,100,IF($AB10=1,10,1))),RANDBETWEEN(1.00001*IF($AB10=3,$AB9/1000,IF($AB10=2,$AB9/100,IF($AB10=1,$AB9/10,$AB9))),2*IF($AB10=3,$AB9/1000,IF($AB10=2,$AB9/100,IF($AB10=1,$AB9/10,$AB9))))*IF($AB10=3,1000,IF($AB10=2,100,IF($AB10=1,10,1))))*(-1)^RANDBETWEEN(1,2)))","v":44.4},{"$f":"IF(AG12=1,$V9,$Z9)","v":"m"}]
[{"$f":"IF(COUNTIF($B$1:B12,TRUE)=COUNTIF($B$1:B11,TRUE),\"\",COUNTIF($B$1:B12,TRUE))","v":10},{"$f":"Worksheet!$B$24","v":true},{"$f":"RANDBETWEEN(5,RANDBETWEEN(5,Worksheet!$D$8))","v":5},"km","±",{"$f":"IF(I12=1,H12*10^RANDBETWEEN(IF(Worksheet!$D$14,-1,0),0),IF(I12=2,H12*10^RANDBETWEEN(RANDBETWEEN(0,2),2),CHOOSE(RANDBETWEEN(1,3),5,10,20)))","v":0.1},{"$f":"IF(I12=1,D12,IF(I12=3,\"%\",\"m\"))","v":"km"},1,{"$f":"IF(AND(Worksheet!$D$12,RAND()<0.2),3,IF(RAND()<Worksheet!$D$10/100,1,2))","v":1},{"$f":"IF(I12=1,F12,IF(I12=2,F12/1000,IF(I12=3,F12/100*C12,\"\")))","v":0.1}," km",{"$f":"IF(I12=1,F12*1000,IF(I12=2,F12,IF(I12=3,F12/100*C12*1000,\"\")))","v":100},"m",null,null,null,null,null,null,null,null,{"$f":"RANDBETWEEN(7,8)","v":8},{"$f":"IF(Worksheet!$D$16,RANDBETWEEN(1,2),1)","v":1},{"$f":"RANDBETWEEN(7,8)","v":7},{"$f":"IF(Worksheet!$D$16,RANDBETWEEN(1,2),1)","v":1},{"$f":"RANDBETWEEN(7,8)","v":7},{"$f":"IF(Worksheet!$D$16,RANDBETWEEN(1,2),1)","v":1},{"$f":"RANDBETWEEN(7,8)","v":7},{"$f":"IF(Worksheet!$D$16,RANDBETWEEN(1,2),1)","v":1},{"$f":"RANDBETWEEN(7,8)","v":8},{"$f":"IF(Worksheet!$D$16,RANDBETWEEN(1,2),1)","v":1},{"$f":"RANDBETWEEN(7,8)","v":8},{"$f":"IF(Worksheet!$D$16,RANDBETWEEN(1,2),1)","v":1}]
[{"$f":"IF(COUNTIF($B$1:B13,TRUE)=COUNTIF($B$1:B12,TRUE),\"\",COUNTIF($B$1:B13,TRUE))","v":""},{"$f":"Worksheet!$B$26","v":false},{"$f":"RANDBETWEEN(5,RANDBETWEEN(5,Worksheet!$D$8))","v":79},"m","±",{"$f":"IF(I13=1,H13*10^RANDBETWEEN(IF(Worksheet!$D$14,-1,0),0),IF(I13=2,H13*10^RANDBETWEEN(RANDBETWEEN(0,2),2),CHOOSE(RANDBETWEEN(1,3),5,10,20)))","v":0.70000000000000007},{"$f":"IF(I13=1,D13,IF(I13=3,\"%\",\"mm\"))","v":"m"},7,{"$f":"IF(AND(Worksheet!$D$12,RAND()<0.2),3,IF(RAND()<Worksheet!$D$10/100,1,2))","v":1},0.70000000000000007," m",700.00000000000011,"mm",null,null,null,null,null,4,{"$f":"RANDBETWEEN(1,MAX('SYSTEM FORMULAE'!$A$1:$A$1737))","v":1114},{"$f":"IF(RIGHT(TEXT(VLOOKUP(T13,'SYSTEM FORMULAE'!$A$1:$Q$1737,3),\"# ##0.###\"),1)=\".\",LEFT(TEXT(VLOOKUP(T13,'SYSTEM FORMULAE'!$A$1:$Q$1737,3),\"# ##0.###\"),LEN(TEXT(VLOOKUP(T13,'SYSTEM FORMULAE'!$A$1:$Q$1737,3),\"# ##0.###\"))-1),TEXT(VLOOKUP(T13,'SYSTEM FORMULAE'!$A$1:$Q$1737,3),\"# ##0.###\"))","v":" 40"},{"$f":"VLOOKUP(T13,'SYSTEM FORMULAE'!$A$1:$Q$1737,4)","v":"cm"},"±",{"$f":"IF(RIGHT(TEXT(VLOOKUP(T13,'SYSTEM FORMULAE'!$A$1:$Q$1737,6),\"# ##0.###\"),1)=\".\",LEFT(TEXT(VLOOKUP(T13,'SYSTEM FORMULAE'!$A$1:$Q$1737,6),\"# ##0.###\"),LEN(TEXT(VLOOKUP(T13,'SYSTEM FORMULAE'!$A$1:$Q$1737,6),\"# ##0.###\"))-1),TEXT(VLOOKUP(T13,'SYSTEM FORMULAE'!$A$1:$Q$1737,6),\"# ##0.###\"))","v":" 0.3"},{"$f":"VLOOKUP(T13,'SYSTEM FORMULAE'!$A$1:$Q$1737,7)","v":"cm"},{"$f":"VLOOKUP(T13,'SYSTEM FORMULAE'!$A$1:$Q$1737,13)","v":"mm"},{"$f":"VLOOKUP(T13,'SYSTEM FORMULAE'!$A$1:$Q$1737,10)","v":0.30000000000000004},{"$f":"VLOOKUP(T13,'SYSTEM FORMULAE'!$A$1:$Q$1737,12)","v":3.0000000000000004},null,{"$f":"U13-AA13","v":39.700000000000003},{"$f":"V13","v":"cm"},{"$f":"U13+AA13","v":40.299999999999997},{"$f":"V13","v":"cm"}]
[{"$f":"IF(COUNTIF($B$1:B14,TRUE)=COUNTIF($B$1:B13,TRUE),\"\",COUNTIF($B$1:B14,TRUE))","v":11},{"$f":"Worksheet!$D$20","v":true},{"$f":"RANDBETWEEN(5,RANDBETWEEN(5,Worksheet!$D$8))","v":22},"kg","±",{"$f":"IF(I14=1,H14*10^RANDBETWEEN(IF(Worksheet!$D$14,-1,0),0),IF(I14=2,H14*10^RANDBETWEEN(RANDBETWEEN(0,2),2),CHOOSE(RANDBETWEEN(1,3),5,10,20)))","v":40},{"$f":"IF(I14=1,D14,IF(I14=3,\"%\",\"g\"))","v":"g"},{"$f":"RANDBETWEEN(1,MIN(9,C14))","v":4},{"$f":"IF(AND(Worksheet!$D$12,RAND()<0.2),3,IF(RAND()<Worksheet!$D$10/100,1,2))","v":2},0.04,{"$f":"CONCATENATE(\" \",D14)","v":" kg"},40,"g",null,null,null,null,null,null,null,null,null,null,null,null,null,{"$f":"IF(AA13=INT(AA13),IF(AA13/1000=INT(AA13/1000),3,IF(AA13/100=INT(AA13/100),2,IF(AA13/10=INT(AA13/10),1,0))),INT(LOG($AA13-INT($AA13))))","v":-1},{"$f":"IF(AB13=INT(AB13),IF(AB13/1000=INT(AB13/1000),3,IF(AB13/100=INT(AB13/100),2,IF(AB13/10=INT(AB13/10),1,0))),INT(LOG($AA13-INT($AA13))))","v":0},{"$f":"IF(Z13=\"cm\",100,IF(Z13=\"°C\",1,IF(AND(V13=\"cm\",Z13=\"mm\"),10,1000)))","v":10}]
[{"$f":"IF(COUNTIF($B$1:B15,TRUE)=COUNTIF($B$1:B14,TRUE),\"\",COUNTIF($B$1:B15,TRUE))","v":12},{"$f":"Worksheet!$D$22","v":true},{"$f":"RANDBETWEEN(5,RANDBETWEEN(5,Worksheet!$D$8))","v":7},"tonnes","±",{"$f":"IF(I15=1,H15*10^RANDBETWEEN(IF(Worksheet!$D$14,-1,0),0),IF(I15=2,H15*10^RANDBETWEEN(RANDBETWEEN(0,2),2),CHOOSE(RANDBETWEEN(1,3),5,10,20)))","v":10},{"$f":"IF(I15=1,D15,IF(I15=3,\"%\",\"kg\"))","v":"%"},{"$f":"RANDBETWEEN(1,MIN(9,C15))","v":7},{"$f":"IF(AND(Worksheet!$D$12,RAND()<0.2),3,IF(RAND()<Worksheet!$D$10/100,1,2))","v":3},0.70000000000000007,{"$f":"CONCATENATE(\" \",D15)","v":" tonnes"},700.00000000000011,"kg",null,null,null,null,null,null,null,null,{"$f":"IF(W16=1,MAX(0,$U13+RANDBETWEEN(IF(V16=7,0,1.00001)*$AA13/10^$AA14,IF(V16=7,1,2)*$AA13/10^$AA14)*10^$AA14*(-1)^RANDBETWEEN(1,2)),MAX(0,$U13*$AC14+IF(V16=7,RANDBETWEEN(0,IF($AB14=3,$AB13/1000,IF($AB14=2,$AB13/100,IF($AB14=1,$AB13/10,$AB13))))*IF($AB14=3,1000,IF($AB14=2,100,IF($AB14=1,10,1))),RANDBETWEEN(1.00001*IF($AB14=3,$AB13/1000,IF($AB14=2,$AB13/100,IF($AB14=1,$AB13/10,$AB13))),2*IF($AB14=3,$AB13/1000,IF($AB14=2,$AB13/100,IF($AB14=1,$AB13/10,$AB13))))*IF($AB14=3,1000,IF($AB14=2,100,IF($AB14=1,10,1))))*(-1)^RANDBETWEEN(1,2)))","v":40.6},{"$f":"IF(W16=1,$V13,$Z13)","v":"cm"},{"$f":"IF(Y16=1,MAX(0,$U13+RANDBETWEEN(IF(X16=7,0,1.00001)*$AA13/10^$AA14,IF(X16=7,1,2)*$AA13/10^$AA14)*10^$AA14*(-1)^RANDBETWEEN(1,2)),MAX(0,$U13*$AC14+IF(X16=7,RANDBETWEEN(0,IF($AB14=3,$AB13/1000,IF($AB14=2,$AB13/100,IF($AB14=1,$AB13/10,$AB13))))*IF($AB14=3,1000,IF($AB14=2,100,IF($AB14=1,10,1))),RANDBETWEEN(1.00001*IF($AB14=3,$AB13/1000,IF($AB14=2,$AB13/100,IF($AB14=1,$AB13/10,$AB13))),2*IF($AB14=3,$AB13/1000,IF($AB14=2,$AB13/100,IF($AB14=1,$AB13/10,$AB13))))*IF($AB14=3,1000,IF($AB14=2,100,IF($AB14=1,10,1))))*(-1)^RANDBETWEEN(1,2)))","v":40.200000000000003},{"$f":"IF(Y16=1,$V13,$Z13)","v":"cm"},{"$f":"IF(AA16=1,MAX(0,$U13+RANDBETWEEN(IF(Z16=7,0,1.00001)*$AA13/10^$AA14,IF(Z16=7,1,2)*$AA13/10^$AA14)*10^$AA14*(-1)^RANDBETWEEN(1,2)),MAX(0,$U13*$AC14+IF(Z16=7,RANDBETWEEN(0,IF($AB14=3,$AB13/1000,IF($AB14=2,$AB13/100,IF($AB14=1,$AB13/10,$AB13))))*IF($AB14=3,1000,IF($AB14=2,100,IF($AB14=1,10,1))),RANDBETWEEN(1.00001*IF($AB14=3,$AB13/1000,IF($AB14=2,$AB13/100,IF($AB14=1,$AB13/10,$AB13))),2*IF($AB14=3,$AB13/1000,IF($AB14=2,$AB13/100,IF($AB14=1,$AB13/10,$AB13))))*IF($AB14=3,1000,IF($AB14=2,100,IF($AB14=1,10,1))))*(-1)^RANDBETWEEN(1,2)))","v":40.4},{"$f":"IF(AA16=1,$V13,$Z13)","v":"cm"},{"$f":"IF(AC16=1,MAX(0,$U13+RANDBETWEEN(IF(AB16=7,0,1.00001)*$AA13/10^$AA14,IF(AB16=7,1,2)*$AA13/10^$AA14)*10^$AA14*(-1)^RANDBETWEEN(1,2)),MAX(0,$U13*$AC14+IF(AB16=7,RANDBETWEEN(0,IF($AB14=3,$AB13/1000,IF($AB14=2,$AB13/100,IF($AB14=1,$AB13/10,$AB13))))*IF($AB14=3,1000,IF($AB14=2,100,IF($AB14=1,10,1))),RANDBETWEEN(1.00001*IF($AB14=3,$AB13/1000,IF($AB14=2,$AB13/100,IF($AB14=1,$AB13/10,$AB13))),2*IF($AB14=3,$AB13/1000,IF($AB14=2,$AB13/100,IF($AB14=1,$AB13/10,$AB13))))*IF($AB14=3,1000,IF($AB14=2,100,IF($AB14=1,10,1))))*(-1)^RANDBETWEEN(1,2)))","v":40},{"$f":"IF(AC16=1,$V13,$Z13)","v":"cm"},{"$f":"IF(AE16=1,MAX(0,$U13+RANDBETWEEN(IF(AD16=7,0,1.00001)*$AA13/10^$AA14,IF(AD16=7,1,2)*$AA13/10^$AA14)*10^$AA14*(-1)^RANDBETWEEN(1,2)),MAX(0,$U13*$AC14+IF(AD16=7,RANDBETWEEN(0,IF($AB14=3,$AB13/1000,IF($AB14=2,$AB13/100,IF($AB14=1,$AB13/10,$AB13))))*IF($AB14=3,1000,IF($AB14=2,100,IF($AB14=1,10,1))),RANDBETWEEN(1.00001*IF($AB14=3,$AB13/1000,IF($AB14=2,$AB13/100,IF($AB14=1,$AB13/10,$AB13))),2*IF($AB14=3,$AB13/1000,IF($AB14=2,$AB13/100,IF($AB14=1,$AB13/10,$AB13))))*IF($AB14=3,1000,IF($AB14=2,100,IF($AB14=1,10,1))))*(-1)^RANDBETWEEN(1,2)))","v":40.5},{"$f":"IF(AE16=1,$V13,$Z13)","v":"cm"},{"$f":"IF(AG16=1,MAX(0,$U13+RANDBETWEEN(IF(AF16=7,0,1.00001)*$AA13/10^$AA14,IF(AF16=7,1,2)*$AA13/10^$AA14)*10^$AA14*(-1)^RANDBETWEEN(1,2)),MAX(0,$U13*$AC14+IF(AF16=7,RANDBETWEEN(0,IF($AB14=3,$AB13/1000,IF($AB14=2,$AB13/100,IF($AB14=1,$AB13/10,$AB13))))*IF($AB14=3,1000,IF($AB14=2,100,IF($AB14=1,10,1))),RANDBETWEEN(1.00001*IF($AB14=3,$AB13/1000,IF($AB14=2,$AB13/100,IF($AB14=1,$AB13/10,$AB13))),2*IF($AB14=3,$AB13/1000,IF($AB14=2,$AB13/100,IF($AB14=1,$AB13/10,$AB13))))*IF($AB14=3,1000,IF($AB14=2,100,IF($AB14=1,10,1))))*(-1)^RANDBETWEEN(1,2)))","v":39.5},{"$f":"IF(AG16=1,$V13,$Z13)","v":"cm"}]
[{"$f":"IF(COUNTIF($B$1:B16,TRUE)=COUNTIF($B$1:B15,TRUE),\"\",COUNTIF($B$1:B16,TRUE))","v":13},{"$f":"Worksheet!$D$24","v":true},{"$f":"RANDBETWEEN(5,RANDBETWEEN(5,Worksheet!$D$8))","v":23},"litres","±",{"$f":"IF(I16=1,H16*10^RANDBETWEEN(IF(Worksheet!$D$14,-1,0),0),IF(I16=2,H16*10^RANDBETWEEN(RANDBETWEEN(0,2),2),CHOOSE(RANDBETWEEN(1,3),5,10,20)))","v":10},{"$f":"IF(I16=1,D16,IF(I16=3,\"%\",\"ml\"))","v":"%"},{"$f":"RANDBETWEEN(1,MIN(9,C16))","v":4},{"$f":"IF(AND(Worksheet!$D$12,RAND()<0.2),3,IF(RAND()<Worksheet!$D$10/100,1,2))","v":3},2.3000000000000003,{"$f":"CONCATENATE(\" \",D16)","v":" litres"},2300.0000000000005,"ml",null,null,null,null,null,null,null,null,{"$f":"RANDBETWEEN(7,8)","v":8},{"$f":"IF(Worksheet!$D$16,RANDBETWEEN(1,2),1)","v":1},{"$f":"RANDBETWEEN(7,8)","v":7},{"$f":"IF(Worksheet!$D$16,RANDBETWEEN(1,2),1)","v":1},{"$f":"RANDBETWEEN(7,8)","v":8},{"$f":"IF(Worksheet!$D$16,RANDBETWEEN(1,2),1)","v":1},{"$f":"RANDBETWEEN(7,8)","v":7},{"$f":"IF(Worksheet!$D$16,RANDBETWEEN(1,2),1)","v":1},{"$f":"RANDBETWEEN(7,8)","v":8},{"$f":"IF(Worksheet!$D$16,RANDBETWEEN(1,2),1)","v":1},{"$f":"RANDBETWEEN(7,8)","v":8},{"$f":"IF(Worksheet!$D$16,RANDBETWEEN(1,2),1)","v":1}]
[{"$f":"IF(COUNTIF($B$1:B17,TRUE)=COUNTIF($B$1:B16,TRUE),\"\",COUNTIF($B$1:B17,TRUE))","v":""},{"$f":"Worksheet!$D$26","v":false},{"$f":"RANDBETWEEN(5,RANDBETWEEN(5,Worksheet!$D$8))","v":116},"litres","±",{"$f":"IF(I17=1,H17*10^RANDBETWEEN(IF(Worksheet!$D$14,-1,0),0),IF(I17=2,H17*10^RANDBETWEEN(RANDBETWEEN(0,2),2),CHOOSE(RANDBETWEEN(1,3),5,10,20)))","v":0.70000000000000007},{"$f":"IF(I17=1,D17,IF(I17=3,\"%\",\"cm³\"))","v":"litres"},{"$f":"RANDBETWEEN(1,MIN(9,C17))","v":7},{"$f":"IF(AND(Worksheet!$D$12,RAND()<0.2),3,IF(RAND()<Worksheet!$D$10/100,1,2))","v":1},0.70000000000000007,{"$f":"CONCATENATE(\" \",D17)","v":" litres"},700.00000000000011,"cm³",null,null,null,null,null,5,{"$f":"RANDBETWEEN(1,MAX('SYSTEM FORMULAE'!$A$1:$A$1737))","v":337},{"$f":"IF(RIGHT(TEXT(VLOOKUP(T17,'SYSTEM FORMULAE'!$A$1:$Q$1737,3),\"# ##0.###\"),1)=\".\",LEFT(TEXT(VLOOKUP(T17,'SYSTEM FORMULAE'!$A$1:$Q$1737,3),\"# ##0.###\"),LEN(TEXT(VLOOKUP(T17,'SYSTEM FORMULAE'!$A$1:$Q$1737,3),\"# ##0.###\"))-1),TEXT(VLOOKUP(T17,'SYSTEM FORMULAE'!$A$1:$Q$1737,3),\"# ##0.###\"))","v":" 16"},{"$f":"VLOOKUP(T17,'SYSTEM FORMULAE'!$A$1:$Q$1737,4)","v":"cm"},"±",{"$f":"IF(RIGHT(TEXT(VLOOKUP(T17,'SYSTEM FORMULAE'!$A$1:$Q$1737,6),\"# ##0.###\"),1)=\".\",LEFT(TEXT(VLOOKUP(T17,'SYSTEM FORMULAE'!$A$1:$Q$1737,6),\"# ##0.###\"),LEN(TEXT(VLOOKUP(T17,'SYSTEM FORMULAE'!$A$1:$Q$1737,6),\"# ##0.###\"))-1),TEXT(VLOOKUP(T17,'SYSTEM FORMULAE'!$A$1:$Q$1737,6),\"# ##0.###\"))","v":" 0.7"},{"$f":"VLOOKUP(T17,'SYSTEM FORMULAE'!$A$1:$Q$1737,7)","v":"cm"},{"$f":"VLOOKUP(T17,'SYSTEM FORMULAE'!$A$1:$Q$1737,13)","v":"mm"},{"$f":"VLOOKUP(T17,'SYSTEM FORMULAE'!$A$1:$Q$1737,10)","v":0.70000000000000007},{"$f":"VLOOKUP(T17,'SYSTEM FORMULAE'!$A$1:$Q$1737,12)","v":7.0000000000000009},null,{"$f":"U17-AA17","v":15.3},{"$f":"V17","v":"cm"},{"$f":"U17+AA17","v":16.7},{"$f":"V17","v":"cm"}]
[{"$f":"IF(COUNTIF($B$1:B18,TRUE)=COUNTIF($B$1:B18,TRUE),\"\",COUNTIF($B$1:B18,TRUE))","v":""},{"$f":"Worksheet!$B$28","v":true},{"$f":"RANDBETWEEN(5,20)","v":7},"°C","±",{"$f":"IF(I18=1,H18*10^RANDBETWEEN(IF(Worksheet!$D$14,-1,0),0),IF(I18=2,H18,CHOOSE(RANDBETWEEN(1,3),5,10,20)))","v":3},{"$f":"IF(I18=1,D18,IF(I18=3,\"%\",\"sec\"))","v":"°C"},{"$f":"RANDBETWEEN(1,MIN(9,C18))","v":3},{"$f":"IF(AND(Worksheet!$D$12,RAND()<0),3,IF(RAND()<Worksheet!$D$10/100,1,2))","v":1},{"$f":"IF(I18=1,F18,IF(I18=2,F18,IF(I18=3,F18/100*C18,\"\")))","v":3},{"$f":"CONCATENATE(\" \",D18)","v":" °C"},{"$f":"IF(I18=1,F18,IF(I18=2,F18,IF(I18=3,F18/100*C18,\"\")))","v":3}," °C",null,null,null,null,null,null,null,null,null,null,null,null,null,{"$f":"IF(AA17=INT(AA17),IF(AA17/1000=INT(AA17/1000),3,IF(AA17/100=INT(AA17/100),2,IF(AA17/10=INT(AA17/10),1,0))),INT(LOG($AA17-INT($AA17))))","v":-1},{"$f":"IF(AB17=INT(AB17),IF(AB17/1000=INT(AB17/1000),3,IF(AB17/100=INT(AB17/100),2,IF(AB17/10=INT(AB17/10),1,0))),INT(LOG($AA17-INT($AA17))))","v":0},{"$f":"IF(Z17=\"cm\",100,IF(Z17=\"°C\",1,IF(AND(V17=\"cm\",Z17=\"mm\"),10,1000)))","v":10}]
[{"$f":"COUNTIF($B$1:B19,TRUE)","v":15},{"$f":"Worksheet!$B$20","v":true},{"$f":"RANDBETWEEN(5,RANDBETWEEN(5,Worksheet!$D$8))","v":80},"cm","±",{"$f":"IF(I19=1,H19*10^RANDBETWEEN(IF(Worksheet!$D$14,-1,0),0),IF(I19=2,H19,CHOOSE(RANDBETWEEN(1,3),5,10,20)))","v":10},{"$f":"IF(I19=1,D19,IF(I19=3,\"%\",\"mm\"))","v":"%"},{"$f":"RANDBETWEEN(1,MIN(9,C19))","v":3},{"$f":"IF(AND(Worksheet!$D$12,RAND()<0.2),3,IF(RAND()<Worksheet!$D$10/100,1,2))","v":3},{"$f":"IF(I19=1,F19,IF(I19=2,F19/10,IF(I19=3,F19/100*C19,\"\")))","v":8},{"$f":"CONCATENATE(\" \",D19)","v":" cm"},{"$f":"IF(I19=1,F19*10,IF(I19=2,F19,IF(I19=3,F19/100*C19*10,\"\")))","v":80},"mm",null,null,null,null,null,null,null,null,{"$f":"IF(W20=1,MAX(0,$U17+RANDBETWEEN(IF(V20=7,0,1.00001)*$AA17/10^$AA18,IF(V20=7,1,2)*$AA17/10^$AA18)*10^$AA18*(-1)^RANDBETWEEN(1,2)),MAX(0,$U17*$AC18+IF(V20=7,RANDBETWEEN(0,IF($AB18=3,$AB17/1000,IF($AB18=2,$AB17/100,IF($AB18=1,$AB17/10,$AB17))))*IF($AB18=3,1000,IF($AB18=2,100,IF($AB18=1,10,1))),RANDBETWEEN(1.00001*IF($AB18=3,$AB17/1000,IF($AB18=2,$AB17/100,IF($AB18=1,$AB17/10,$AB17))),2*IF($AB18=3,$AB17/1000,IF($AB18=2,$AB17/100,IF($AB18=1,$AB17/10,$AB17))))*IF($AB18=3,1000,IF($AB18=2,100,IF($AB18=1,10,1))))*(-1)^RANDBETWEEN(1,2)))","v":15.2},{"$f":"IF(W20=1,$V17,$Z17)","v":"cm"},{"$f":"IF(Y20=1,MAX(0,$U17+RANDBETWEEN(IF(X20=7,0,1.00001)*$AA17/10^$AA18,IF(X20=7,1,2)*$AA17/10^$AA18)*10^$AA18*(-1)^RANDBETWEEN(1,2)),MAX(0,$U17*$AC18+IF(X20=7,RANDBETWEEN(0,IF($AB18=3,$AB17/1000,IF($AB18=2,$AB17/100,IF($AB18=1,$AB17/10,$AB17))))*IF($AB18=3,1000,IF($AB18=2,100,IF($AB18=1,10,1))),RANDBETWEEN(1.00001*IF($AB18=3,$AB17/1000,IF($AB18=2,$AB17/100,IF($AB18=1,$AB17/10,$AB17))),2*IF($AB18=3,$AB17/1000,IF($AB18=2,$AB17/100,IF($AB18=1,$AB17/10,$AB17))))*IF($AB18=3,1000,IF($AB18=2,100,IF($AB18=1,10,1))))*(-1)^RANDBETWEEN(1,2)))","v":14.7},{"$f":"IF(Y20=1,$V17,$Z17)","v":"cm"},{"$f":"IF(AA20=1,MAX(0,$U17+RANDBETWEEN(IF(Z20=7,0,1.00001)*$AA17/10^$AA18,IF(Z20=7,1,2)*$AA17/10^$AA18)*10^$AA18*(-1)^RANDBETWEEN(1,2)),MAX(0,$U17*$AC18+IF(Z20=7,RANDBETWEEN(0,IF($AB18=3,$AB17/1000,IF($AB18=2,$AB17/100,IF($AB18=1,$AB17/10,$AB17))))*IF($AB18=3,1000,IF($AB18=2,100,IF($AB18=1,10,1))),RANDBETWEEN(1.00001*IF($AB18=3,$AB17/1000,IF($AB18=2,$AB17/100,IF($AB18=1,$AB17/10,$AB17))),2*IF($AB18=3,$AB17/1000,IF($AB18=2,$AB17/100,IF($AB18=1,$AB17/10,$AB17))))*IF($AB18=3,1000,IF($AB18=2,100,IF($AB18=1,10,1))))*(-1)^RANDBETWEEN(1,2)))","v":16.600000000000001},{"$f":"IF(AA20=1,$V17,$Z17)","v":"cm"},{"$f":"IF(AC20=1,MAX(0,$U17+RANDBETWEEN(IF(AB20=7,0,1.00001)*$AA17/10^$AA18,IF(AB20=7,1,2)*$AA17/10^$AA18)*10^$AA18*(-1)^RANDBETWEEN(1,2)),MAX(0,$U17*$AC18+IF(AB20=7,RANDBETWEEN(0,IF($AB18=3,$AB17/1000,IF($AB18=2,$AB17/100,IF($AB18=1,$AB17/10,$AB17))))*IF($AB18=3,1000,IF($AB18=2,100,IF($AB18=1,10,1))),RANDBETWEEN(1.00001*IF($AB18=3,$AB17/1000,IF($AB18=2,$AB17/100,IF($AB18=1,$AB17/10,$AB17))),2*IF($AB18=3,$AB17/1000,IF($AB18=2,$AB17/100,IF($AB18=1,$AB17/10,$AB17))))*IF($AB18=3,1000,IF($AB18=2,100,IF($AB18=1,10,1))))*(-1)^RANDBETWEEN(1,2)))","v":15.3},{"$f":"IF(AC20=1,$V17,$Z17)","v":"cm"},{"$f":"IF(AE20=1,MAX(0,$U17+RANDBETWEEN(IF(AD20=7,0,1.00001)*$AA17/10^$AA18,IF(AD20=7,1,2)*$AA17/10^$AA18)*10^$AA18*(-1)^RANDBETWEEN(1,2)),MAX(0,$U17*$AC18+IF(AD20=7,RANDBETWEEN(0,IF($AB18=3,$AB17/1000,IF($AB18=2,$AB17/100,IF($AB18=1,$AB17/10,$AB17))))*IF($AB18=3,1000,IF($AB18=2,100,IF($AB18=1,10,1))),RANDBETWEEN(1.00001*IF($AB18=3,$AB17/1000,IF($AB18=2,$AB17/100,IF($AB18=1,$AB17/10,$AB17))),2*IF($AB18=3,$AB17/1000,IF($AB18=2,$AB17/100,IF($AB18=1,$AB17/10,$AB17))))*IF($AB18=3,1000,IF($AB18=2,100,IF($AB18=1,10,1))))*(-1)^RANDBETWEEN(1,2)))","v":17.3},{"$f":"IF(AE20=1,$V17,$Z17)","v":"cm"},{"$f":"IF(AG20=1,MAX(0,$U17+RANDBETWEEN(IF(AF20=7,0,1.00001)*$AA17/10^$AA18,IF(AF20=7,1,2)*$AA17/10^$AA18)*10^$AA18*(-1)^RANDBETWEEN(1,2)),MAX(0,$U17*$AC18+IF(AF20=7,RANDBETWEEN(0,IF($AB18=3,$AB17/1000,IF($AB18=2,$AB17/100,IF($AB18=1,$AB17/10,$AB17))))*IF($AB18=3,1000,IF($AB18=2,100,IF($AB18=1,10,1))),RANDBETWEEN(1.00001*IF($AB18=3,$AB17/1000,IF($AB18=2,$AB17/100,IF($AB18=1,$AB17/10,$AB17))),2*IF($AB18=3,$AB17/1000,IF($AB18=2,$AB17/100,IF($AB18=1,$AB17/10,$AB17))))*IF($AB18=3,1000,IF($AB18=2,100,IF($AB18=1,10,1))))*(-1)^RANDBETWEEN(1,2)))","v":17.100000000000001},{"$f":"IF(AG20=1,$V17,$Z17)","v":"cm"}]
[{"$f":"IF(COUNTIF($B$1:B20,TRUE)=COUNTIF($B$1:B19,TRUE),\"\",COUNTIF($B$1:B20,TRUE))","v":16},{"$f":"Worksheet!$B$22","v":true},{"$f":"RANDBETWEEN(5,RANDBETWEEN(5,Worksheet!$D$8))","v":104},"m","±",{"$f":"IF(I20=1,H20*10^RANDBETWEEN(IF(Worksheet!$D$14,-1,0),0),IF(I20=2,H20*10^RANDBETWEEN(RANDBETWEEN(0,1),1),CHOOSE(RANDBETWEEN(1,3),5,10,20)))","v":0.30000000000000004},{"$f":"IF(I20=1,D20,IF(I20=3,\"%\",\"cm\"))","v":"m"},{"$f":"RANDBETWEEN(1,MIN(9,C20))","v":3},{"$f":"IF(AND(Worksheet!$D$12,RAND()<0.2),3,IF(RAND()<Worksheet!$D$10/100,1,2))","v":1},{"$f":"IF(I20=1,F20,IF(I20=2,F20/100,IF(I20=3,F20/100*C20,\"\")))","v":0.30000000000000004},{"$f":"CONCATENATE(\" \",D20)","v":" m"},{"$f":"IF(I20=1,F20*100,IF(I20=2,F20,IF(I20=3,F20/100*C20*100,\"\")))","v":30.000000000000004},"cm",null,null,null,null,null,null,null,null,{"$f":"RANDBETWEEN(7,8)","v":8},{"$f":"IF(Worksheet!$D$16,RANDBETWEEN(1,2),1)","v":1},{"$f":"RANDBETWEEN(7,8)","v":8},{"$f":"IF(Worksheet!$D$16,RANDBETWEEN(1,2),1)","v":1},{"$f":"RANDBETWEEN(7,8)","v":7},{"$f":"IF(Worksheet!$D$16,RANDBETWEEN(1,2),1)","v":1},{"$f":"RANDBETWEEN(7,8)","v":7},{"$f":"IF(Worksheet!$D$16,RANDBETWEEN(1,2),1)","v":1},{"$f":"RANDBETWEEN(7,8)","v":8},{"$f":"IF(Worksheet!$D$16,RANDBETWEEN(1,2),1)","v":1},{"$f":"RANDBETWEEN(7,8)","v":8},{"$f":"IF(Worksheet!$D$16,RANDBETWEEN(1,2),1)","v":1}]
[{"$f":"IF(COUNTIF($B$1:B21,TRUE)=COUNTIF($B$1:B20,TRUE),\"\",COUNTIF($B$1:B21,TRUE))","v":17},{"$f":"Worksheet!$B$24","v":true},{"$f":"RANDBETWEEN(5,RANDBETWEEN(5,Worksheet!$D$8))","v":17},"km","±",{"$f":"IF(I21=1,H21*10^RANDBETWEEN(IF(Worksheet!$D$14,-1,0),0),IF(I21=2,H21*10^RANDBETWEEN(RANDBETWEEN(0,2),2),CHOOSE(RANDBETWEEN(1,3),5,10,20)))","v":70},{"$f":"IF(I21=1,D21,IF(I21=3,\"%\",\"m\"))","v":"m"},7,{"$f":"IF(AND(Worksheet!$D$12,RAND()<0.2),3,IF(RAND()<Worksheet!$D$10/100,1,2))","v":2},{"$f":"IF(I21=1,F21,IF(I21=2,F21/1000,IF(I21=3,F21/100*C21,\"\")))","v":7.0000000000000007E-2}," km",{"$f":"IF(I21=1,F21*1000,IF(I21=2,F21,IF(I21=3,F21/100*C21*1000,\"\")))","v":70},"m",null,null,null,null,null,6,{"$f":"RANDBETWEEN(1,MAX('SYSTEM FORMULAE'!$A$1:$A$1737))","v":501},{"$f":"IF(RIGHT(TEXT(VLOOKUP(T21,'SYSTEM FORMULAE'!$A$1:$Q$1737,3),\"# ##0.###\"),1)=\".\",LEFT(TEXT(VLOOKUP(T21,'SYSTEM FORMULAE'!$A$1:$Q$1737,3),\"# ##0.###\"),LEN(TEXT(VLOOKUP(T21,'SYSTEM FORMULAE'!$A$1:$Q$1737,3),\"# ##0.###\"))-1),TEXT(VLOOKUP(T21,'SYSTEM FORMULAE'!$A$1:$Q$1737,3),\"# ##0.###\"))","v":" 145"},{"$f":"VLOOKUP(T21,'SYSTEM FORMULAE'!$A$1:$Q$1737,4)","v":"kg"},"±",{"$f":"IF(RIGHT(TEXT(VLOOKUP(T21,'SYSTEM FORMULAE'!$A$1:$Q$1737,6),\"# ##0.###\"),1)=\".\",LEFT(TEXT(VLOOKUP(T21,'SYSTEM FORMULAE'!$A$1:$Q$1737,6),\"# ##0.###\"),LEN(TEXT(VLOOKUP(T21,'SYSTEM FORMULAE'!$A$1:$Q$1737,6),\"# ##0.###\"))-1),TEXT(VLOOKUP(T21,'SYSTEM FORMULAE'!$A$1:$Q$1737,6),\"# ##0.###\"))","v":" 0.8"},{"$f":"VLOOKUP(T21,'SYSTEM FORMULAE'!$A$1:$Q$1737,7)","v":"kg"},{"$f":"VLOOKUP(T21,'SYSTEM FORMULAE'!$A$1:$Q$1737,13)","v":"g"},{"$f":"VLOOKUP(T21,'SYSTEM FORMULAE'!$A$1:$Q$1737,10)","v":0.8},{"$f":"VLOOKUP(T21,'SYSTEM FORMULAE'!$A$1:$Q$1737,12)","v":800},null,{"$f":"U21-AA21","v":144.19999999999999},{"$f":"V21","v":"kg"},{"$f":"U21+AA21","v":145.80000000000001},{"$f":"V21","v":"kg"}]
[{"$f":"IF(COUNTIF($B$1:B22,TRUE)=COUNTIF($B$1:B21,TRUE),\"\",COUNTIF($B$1:B22,TRUE))","v":""},{"$f":"Worksheet!$B$26","v":false},{"$f":"RANDBETWEEN(5,RANDBETWEEN(5,Worksheet!$D$8))","v":34},"m","±",{"$f":"IF(I22=1,H22*10^RANDBETWEEN(IF(Worksheet!$D$14,-1,0),0),IF(I22=2,H22*10^RANDBETWEEN(RANDBETWEEN(0,2),2),CHOOSE(RANDBETWEEN(1,3),5,10,20)))","v":300},{"$f":"IF(I22=1,D22,IF(I22=3,\"%\",\"mm\"))","v":"mm"},3,{"$f":"IF(AND(Worksheet!$D$12,RAND()<0.2),3,IF(RAND()<Worksheet!$D$10/100,1,2))","v":2},0.3," m",300,"mm",null,null,null,null,null,null,null,null,null,null,null,null,null,{"$f":"IF(AA21=INT(AA21),IF(AA21/1000=INT(AA21/1000),3,IF(AA21/100=INT(AA21/100),2,IF(AA21/10=INT(AA21/10),1,0))),INT(LOG($AA21-INT($AA21))))","v":-1},{"$f":"IF(AB21=INT(AB21),IF(AB21/1000=INT(AB21/1000),3,IF(AB21/100=INT(AB21/100),2,IF(AB21/10=INT(AB21/10),1,0))),INT(LOG($AA21-INT($AA21))))","v":2},{"$f":"IF(Z21=\"cm\",100,IF(Z21=\"°C\",1,IF(AND(V21=\"cm\",Z21=\"mm\"),10,1000)))","v":1000}]
[{"$f":"IF(COUNTIF($B$1:B23,TRUE)=COUNTIF($B$1:B22,TRUE),\"\",COUNTIF($B$1:B23,TRUE))","v":18},{"$f":"Worksheet!$D$20","v":true},{"$f":"RANDBETWEEN(5,RANDBETWEEN(5,Worksheet!$D$8))","v":41},"kg","±",{"$f":"IF(I23=1,H23*10^RANDBETWEEN(IF(Worksheet!$D$14,-1,0),0),IF(I23=2,H23*10^RANDBETWEEN(RANDBETWEEN(0,2),2),CHOOSE(RANDBETWEEN(1,3),5,10,20)))","v":5},{"$f":"IF(I23=1,D23,IF(I23=3,\"%\",\"g\"))","v":"%"},{"$f":"RANDBETWEEN(1,MIN(9,C23))","v":3},{"$f":"IF(AND(Worksheet!$D$12,RAND()<0.2),3,IF(RAND()<Worksheet!$D$10/100,1,2))","v":3},2.0500000000000003,{"$f":"CONCATENATE(\" \",D23)","v":" kg"},2050.0000000000005,"g",null,null,null,null,null,null,null,null,{"$f":"IF(W24=1,MAX(0,$U21+RANDBETWEEN(IF(V24=7,0,1.00001)*$AA21/10^$AA22,IF(V24=7,1,2)*$AA21/10^$AA22)*10^$AA22*(-1)^RANDBETWEEN(1,2)),MAX(0,$U21*$AC22+IF(V24=7,RANDBETWEEN(0,IF($AB22=3,$AB21/1000,IF($AB22=2,$AB21/100,IF($AB22=1,$AB21/10,$AB21))))*IF($AB22=3,1000,IF($AB22=2,100,IF($AB22=1,10,1))),RANDBETWEEN(1.00001*IF($AB22=3,$AB21/1000,IF($AB22=2,$AB21/100,IF($AB22=1,$AB21/10,$AB21))),2*IF($AB22=3,$AB21/1000,IF($AB22=2,$AB21/100,IF($AB22=1,$AB21/10,$AB21))))*IF($AB22=3,1000,IF($AB22=2,100,IF($AB22=1,10,1))))*(-1)^RANDBETWEEN(1,2)))","v":143.69999999999999},{"$f":"IF(W24=1,$V21,$Z21)","v":"kg"},{"$f":"IF(Y24=1,MAX(0,$U21+RANDBETWEEN(IF(X24=7,0,1.00001)*$AA21/10^$AA22,IF(X24=7,1,2)*$AA21/10^$AA22)*10^$AA22*(-1)^RANDBETWEEN(1,2)),MAX(0,$U21*$AC22+IF(X24=7,RANDBETWEEN(0,IF($AB22=3,$AB21/1000,IF($AB22=2,$AB21/100,IF($AB22=1,$AB21/10,$AB21))))*IF($AB22=3,1000,IF($AB22=2,100,IF($AB22=1,10,1))),RANDBETWEEN(1.00001*IF($AB22=3,$AB21/1000,IF($AB22=2,$AB21/100,IF($AB22=1,$AB21/10,$AB21))),2*IF($AB22=3,$AB21/1000,IF($AB22=2,$AB21/100,IF($AB22=1,$AB21/10,$AB21))))*IF($AB22=3,1000,IF($AB22=2,100,IF($AB22=1,10,1))))*(-1)^RANDBETWEEN(1,2)))","v":143.4},{"$f":"IF(Y24=1,$V21,$Z21)","v":"kg"},{"$f":"IF(AA24=1,MAX(0,$U21+RANDBETWEEN(IF(Z24=7,0,1.00001)*$AA21/10^$AA22,IF(Z24=7,1,2)*$AA21/10^$AA22)*10^$AA22*(-1)^RANDBETWEEN(1,2)),MAX(0,$U21*$AC22+IF(Z24=7,RANDBETWEEN(0,IF($AB22=3,$AB21/1000,IF($AB22=2,$AB21/100,IF($AB22=1,$AB21/10,$AB21))))*IF($AB22=3,1000,IF($AB22=2,100,IF($AB22=1,10,1))),RANDBETWEEN(1.00001*IF($AB22=3,$AB21/1000,IF($AB22=2,$AB21/100,IF($AB22=1,$AB21/10,$AB21))),2*IF($AB22=3,$AB21/1000,IF($AB22=2,$AB21/100,IF($AB22=1,$AB21/10,$AB21))))*IF($AB22=3,1000,IF($AB22=2,100,IF($AB22=1,10,1))))*(-1)^RANDBETWEEN(1,2)))","v":144.5},{"$f":"IF(AA24=1,$V21,$Z21)","v":"kg"},{"$f":"IF(AC24=1,MAX(0,$U21+RANDBETWEEN(IF(AB24=7,0,1.00001)*$AA21/10^$AA22,IF(AB24=7,1,2)*$AA21/10^$AA22)*10^$AA22*(-1)^RANDBETWEEN(1,2)),MAX(0,$U21*$AC22+IF(AB24=7,RANDBETWEEN(0,IF($AB22=3,$AB21/1000,IF($AB22=2,$AB21/100,IF($AB22=1,$AB21/10,$AB21))))*IF($AB22=3,1000,IF($AB22=2,100,IF($AB22=1,10,1))),RANDBETWEEN(1.00001*IF($AB22=3,$AB21/1000,IF($AB22=2,$AB21/100,IF($AB22=1,$AB21/10,$AB21))),2*IF($AB22=3,$AB21/1000,IF($AB22=2,$AB21/100,IF($AB22=1,$AB21/10,$AB21))))*IF($AB22=3,1000,IF($AB22=2,100,IF($AB22=1,10,1))))*(-1)^RANDBETWEEN(1,2)))","v":145.69999999999999},{"$f":"IF(AC24=1,$V21,$Z21)","v":"kg"},{"$f":"IF(AE24=1,MAX(0,$U21+RANDBETWEEN(IF(AD24=7,0,1.00001)*$AA21/10^$AA22,IF(AD24=7,1,2)*$AA21/10^$AA22)*10^$AA22*(-1)^RANDBETWEEN(1,2)),MAX(0,$U21*$AC22+IF(AD24=7,RANDBETWEEN(0,IF($AB22=3,$AB21/1000,IF($AB22=2,$AB21/100,IF($AB22=1,$AB21/10,$AB21))))*IF($AB22=3,1000,IF($AB22=2,100,IF($AB22=1,10,1))),RANDBETWEEN(1.00001*IF($AB22=3,$AB21/1000,IF($AB22=2,$AB21/100,IF($AB22=1,$AB21/10,$AB21))),2*IF($AB22=3,$AB21/1000,IF($AB22=2,$AB21/100,IF($AB22=1,$AB21/10,$AB21))))*IF($AB22=3,1000,IF($AB22=2,100,IF($AB22=1,10,1))))*(-1)^RANDBETWEEN(1,2)))","v":146.6},{"$f":"IF(AE24=1,$V21,$Z21)","v":"kg"},{"$f":"IF(AG24=1,MAX(0,$U21+RANDBETWEEN(IF(AF24=7,0,1.00001)*$AA21/10^$AA22,IF(AF24=7,1,2)*$AA21/10^$AA22)*10^$AA22*(-1)^RANDBETWEEN(1,2)),MAX(0,$U21*$AC22+IF(AF24=7,RANDBETWEEN(0,IF($AB22=3,$AB21/1000,IF($AB22=2,$AB21/100,IF($AB22=1,$AB21/10,$AB21))))*IF($AB22=3,1000,IF($AB22=2,100,IF($AB22=1,10,1))),RANDBETWEEN(1.00001*IF($AB22=3,$AB21/1000,IF($AB22=2,$AB21/100,IF($AB22=1,$AB21/10,$AB21))),2*IF($AB22=3,$AB21/1000,IF($AB22=2,$AB21/100,IF($AB22=1,$AB21/10,$AB21))))*IF($AB22=3,1000,IF($AB22=2,100,IF($AB22=1,10,1))))*(-1)^RANDBETWEEN(1,2)))","v":143.69999999999999},{"$f":"IF(AG24=1,$V21,$Z21)","v":"kg"}]
[{"$f":"IF(COUNTIF($B$1:B24,TRUE)=COUNTIF($B$1:B23,TRUE),\"\",COUNTIF($B$1:B24,TRUE))","v":19},{"$f":"Worksheet!$D$22","v":true},{"$f":"RANDBETWEEN(5,RANDBETWEEN(5,Worksheet!$D$8))","v":51},"tonnes","±",{"$f":"IF(I24=1,H24*10^RANDBETWEEN(IF(Worksheet!$D$14,-1,0),0),IF(I24=2,H24*10^RANDBETWEEN(RANDBETWEEN(0,2),2),CHOOSE(RANDBETWEEN(1,3),5,10,20)))","v":3},{"$f":"IF(I24=1,D24,IF(I24=3,\"%\",\"kg\"))","v":"tonnes"},{"$f":"RANDBETWEEN(1,MIN(9,C24))","v":3},{"$f":"IF(AND(Worksheet!$D$12,RAND()<0.2),3,IF(RAND()<Worksheet!$D$10/100,1,2))","v":1},3,{"$f":"CONCATENATE(\" \",D24)","v":" tonnes"},3000,"kg",null,null,null,null,null,null,null,null,{"$f":"RANDBETWEEN(7,8)","v":8},{"$f":"IF(Worksheet!$D$16,RANDBETWEEN(1,2),1)","v":1},{"$f":"RANDBETWEEN(7,8)","v":8},{"$f":"IF(Worksheet!$D$16,RANDBETWEEN(1,2),1)","v":1},{"$f":"RANDBETWEEN(7,8)","v":7},{"$f":"IF(Worksheet!$D$16,RANDBETWEEN(1,2),1)","v":1},{"$f":"RANDBETWEEN(7,8)","v":7},{"$f":"IF(Worksheet!$D$16,RANDBETWEEN(1,2),1)","v":1},{"$f":"RANDBETWEEN(7,8)","v":8},{"$f":"IF(Worksheet!$D$16,RANDBETWEEN(1,2),1)","v":1},{"$f":"RANDBETWEEN(7,8)","v":8},{"$f":"IF(Worksheet!$D$16,RANDBETWEEN(1,2),1)","v":1}]
[{"$f":"IF(COUNTIF($B$1:B25,TRUE)=COUNTIF($B$1:B24,TRUE),\"\",COUNTIF($B$1:B25,TRUE))","v":20},{"$f":"Worksheet!$D$24","v":true},{"$f":"RANDBETWEEN(5,RANDBETWEEN(5,Worksheet!$D$8))","v":41},"litres","±",{"$f":"IF(I25=1,H25*10^RANDBETWEEN(IF(Worksheet!$D$14,-1,0),0),IF(I25=2,H25*10^RANDBETWEEN(RANDBETWEEN(0,2),2),CHOOSE(RANDBETWEEN(1,3),5,10,20)))","v":80},{"$f":"IF(I25=1,D25,IF(I25=3,\"%\",\"ml\"))","v":"ml"},{"$f":"RANDBETWEEN(1,MIN(9,C25))","v":8},{"$f":"IF(AND(Worksheet!$D$12,RAND()<0.2),3,IF(RAND()<Worksheet!$D$10/100,1,2))","v":2},0.08,{"$f":"CONCATENATE(\" \",D25)","v":" litres"},80,"ml",null,null,null,null,null,7,{"$f":"RANDBETWEEN(1,MAX('SYSTEM FORMULAE'!$A$1:$A$1737))","v":1179},{"$f":"IF(RIGHT(TEXT(VLOOKUP(T25,'SYSTEM FORMULAE'!$A$1:$Q$1737,3),\"# ##0.###\"),1)=\".\",LEFT(TEXT(VLOOKUP(T25,'SYSTEM FORMULAE'!$A$1:$Q$1737,3),\"# ##0.###\"),LEN(TEXT(VLOOKUP(T25,'SYSTEM FORMULAE'!$A$1:$Q$1737,3),\"# ##0.###\"))-1),TEXT(VLOOKUP(T25,'SYSTEM FORMULAE'!$A$1:$Q$1737,3),\"# ##0.###\"))","v":" 47"},{"$f":"VLOOKUP(T25,'SYSTEM FORMULAE'!$A$1:$Q$1737,4)","v":"km"},"±",{"$f":"IF(RIGHT(TEXT(VLOOKUP(T25,'SYSTEM FORMULAE'!$A$1:$Q$1737,6),\"# ##0.###\"),1)=\".\",LEFT(TEXT(VLOOKUP(T25,'SYSTEM FORMULAE'!$A$1:$Q$1737,6),\"# ##0.###\"),LEN(TEXT(VLOOKUP(T25,'SYSTEM FORMULAE'!$A$1:$Q$1737,6),\"# ##0.###\"))-1),TEXT(VLOOKUP(T25,'SYSTEM FORMULAE'!$A$1:$Q$1737,6),\"# ##0.###\"))","v":" 100"},{"$f":"VLOOKUP(T25,'SYSTEM FORMULAE'!$A$1:$Q$1737,7)","v":"m"},{"$f":"VLOOKUP(T25,'SYSTEM FORMULAE'!$A$1:$Q$1737,13)","v":"m"},{"$f":"VLOOKUP(T25,'SYSTEM FORMULAE'!$A$1:$Q$1737,10)","v":0.1},{"$f":"VLOOKUP(T25,'SYSTEM FORMULAE'!$A$1:$Q$1737,12)","v":100},null,{"$f":"U25-AA25","v":46.9},{"$f":"V25","v":"km"},{"$f":"U25+AA25","v":47.1},{"$f":"V25","v":"km"}]
[{"$f":"IF(COUNTIF($B$1:B26,TRUE)=COUNTIF($B$1:B25,TRUE),\"\",COUNTIF($B$1:B26,TRUE))","v":""},{"$f":"Worksheet!$D$26","v":false},{"$f":"RANDBETWEEN(5,RANDBETWEEN(5,Worksheet!$D$8))","v":173},"litres","±",{"$f":"IF(I26=1,H26*10^RANDBETWEEN(IF(Worksheet!$D$14,-1,0),0),IF(I26=2,H26*10^RANDBETWEEN(RANDBETWEEN(0,2),2),CHOOSE(RANDBETWEEN(1,3),5,10,20)))","v":0.1},{"$f":"IF(I26=1,D26,IF(I26=3,\"%\",\"cm³\"))","v":"litres"},{"$f":"RANDBETWEEN(1,MIN(9,C26))","v":1},{"$f":"IF(AND(Worksheet!$D$12,RAND()<0.2),3,IF(RAND()<Worksheet!$D$10/100,1,2))","v":1},0.1,{"$f":"CONCATENATE(\" \",D26)","v":" litres"},100,"cm³",null,null,null,null,null,null,null,null,null,null,null,null,null,{"$f":"IF(AA25=INT(AA25),IF(AA25/1000=INT(AA25/1000),3,IF(AA25/100=INT(AA25/100),2,IF(AA25/10=INT(AA25/10),1,0))),INT(LOG($AA25-INT($AA25))))","v":-1},{"$f":"IF(AB25=INT(AB25),IF(AB25/1000=INT(AB25/1000),3,IF(AB25/100=INT(AB25/100),2,IF(AB25/10=INT(AB25/10),1,0))),INT(LOG($AA25-INT($AA25))))","v":2},{"$f":"IF(Z25=\"cm\",100,IF(Z25=\"°C\",1,IF(AND(V25=\"cm\",Z25=\"mm\"),10,1000)))","v":1000}]
[{"$f":"IF(COUNTIF($B$1:B27,TRUE)=COUNTIF($B$1:B27,TRUE),\"\",COUNTIF($B$1:B27,TRUE))","v":""},{"$f":"Worksheet!$B$28","v":true},{"$f":"RANDBETWEEN(5,20)","v":18},"°C","±",{"$f":"IF(I27=1,H27*10^RANDBETWEEN(IF(Worksheet!$D$14,-1,0),0),IF(I27=2,H27,CHOOSE(RANDBETWEEN(1,3),5,10,20)))","v":0.60000000000000009},{"$f":"IF(I27=1,D27,IF(I27=3,\"%\",\"sec\"))","v":"°C"},{"$f":"RANDBETWEEN(1,MIN(9,C27))","v":6},{"$f":"IF(AND(Worksheet!$D$12,RAND()<0),3,IF(RAND()<Worksheet!$D$10/100,1,2))","v":1},{"$f":"IF(I27=1,F27,IF(I27=2,F27,IF(I27=3,F27/100*C27,\"\")))","v":0.60000000000000009},{"$f":"CONCATENATE(\" \",D27)","v":" °C"},{"$f":"IF(I27=1,F27,IF(I27=2,F27,IF(I27=3,F27/100*C27,\"\")))","v":0.60000000000000009}," °C",null,null,null,null,null,null,null,null,{"$f":"IF(W28=1,MAX(0,$U25+RANDBETWEEN(IF(V28=7,0,1.00001)*$AA25/10^$AA26,IF(V28=7,1,2)*$AA25/10^$AA26)*10^$AA26*(-1)^RANDBETWEEN(1,2)),MAX(0,$U25*$AC26+IF(V28=7,RANDBETWEEN(0,IF($AB26=3,$AB25/1000,IF($AB26=2,$AB25/100,IF($AB26=1,$AB25/10,$AB25))))*IF($AB26=3,1000,IF($AB26=2,100,IF($AB26=1,10,1))),RANDBETWEEN(1.00001*IF($AB26=3,$AB25/1000,IF($AB26=2,$AB25/100,IF($AB26=1,$AB25/10,$AB25))),2*IF($AB26=3,$AB25/1000,IF($AB26=2,$AB25/100,IF($AB26=1,$AB25/10,$AB25))))*IF($AB26=3,1000,IF($AB26=2,100,IF($AB26=1,10,1))))*(-1)^RANDBETWEEN(1,2)))","v":46.9},{"$f":"IF(W28=1,$V25,$Z25)","v":"km"},{"$f":"IF(Y28=1,MAX(0,$U25+RANDBETWEEN(IF(X28=7,0,1.00001)*$AA25/10^$AA26,IF(X28=7,1,2)*$AA25/10^$AA26)*10^$AA26*(-1)^RANDBETWEEN(1,2)),MAX(0,$U25*$AC26+IF(X28=7,RANDBETWEEN(0,IF($AB26=3,$AB25/1000,IF($AB26=2,$AB25/100,IF($AB26=1,$AB25/10,$AB25))))*IF($AB26=3,1000,IF($AB26=2,100,IF($AB26=1,10,1))),RANDBETWEEN(1.00001*IF($AB26=3,$AB25/1000,IF($AB26=2,$AB25/100,IF($AB26=1,$AB25/10,$AB25))),2*IF($AB26=3,$AB25/1000,IF($AB26=2,$AB25/100,IF($AB26=1,$AB25/10,$AB25))))*IF($AB26=3,1000,IF($AB26=2,100,IF($AB26=1,10,1))))*(-1)^RANDBETWEEN(1,2)))","v":46.8},{"$f":"IF(Y28=1,$V25,$Z25)","v":"km"},{"$f":"IF(AA28=1,MAX(0,$U25+RANDBETWEEN(IF(Z28=7,0,1.00001)*$AA25/10^$AA26,IF(Z28=7,1,2)*$AA25/10^$AA26)*10^$AA26*(-1)^RANDBETWEEN(1,2)),MAX(0,$U25*$AC26+IF(Z28=7,RANDBETWEEN(0,IF($AB26=3,$AB25/1000,IF($AB26=2,$AB25/100,IF($AB26=1,$AB25/10,$AB25))))*IF($AB26=3,1000,IF($AB26=2,100,IF($AB26=1,10,1))),RANDBETWEEN(1.00001*IF($AB26=3,$AB25/1000,IF($AB26=2,$AB25/100,IF($AB26=1,$AB25/10,$AB25))),2*IF($AB26=3,$AB25/1000,IF($AB26=2,$AB25/100,IF($AB26=1,$AB25/10,$AB25))))*IF($AB26=3,1000,IF($AB26=2,100,IF($AB26=1,10,1))))*(-1)^RANDBETWEEN(1,2)))","v":46.8},{"$f":"IF(AA28=1,$V25,$Z25)","v":"km"},{"$f":"IF(AC28=1,MAX(0,$U25+RANDBETWEEN(IF(AB28=7,0,1.00001)*$AA25/10^$AA26,IF(AB28=7,1,2)*$AA25/10^$AA26)*10^$AA26*(-1)^RANDBETWEEN(1,2)),MAX(0,$U25*$AC26+IF(AB28=7,RANDBETWEEN(0,IF($AB26=3,$AB25/1000,IF($AB26=2,$AB25/100,IF($AB26=1,$AB25/10,$AB25))))*IF($AB26=3,1000,IF($AB26=2,100,IF($AB26=1,10,1))),RANDBETWEEN(1.00001*IF($AB26=3,$AB25/1000,IF($AB26=2,$AB25/100,IF($AB26=1,$AB25/10,$AB25))),2*IF($AB26=3,$AB25/1000,IF($AB26=2,$AB25/100,IF($AB26=1,$AB25/10,$AB25))))*IF($AB26=3,1000,IF($AB26=2,100,IF($AB26=1,10,1))))*(-1)^RANDBETWEEN(1,2)))","v":47.1},{"$f":"IF(AC28=1,$V25,$Z25)","v":"km"},{"$f":"IF(AE28=1,MAX(0,$U25+RANDBETWEEN(IF(AD28=7,0,1.00001)*$AA25/10^$AA26,IF(AD28=7,1,2)*$AA25/10^$AA26)*10^$AA26*(-1)^RANDBETWEEN(1,2)),MAX(0,$U25*$AC26+IF(AD28=7,RANDBETWEEN(0,IF($AB26=3,$AB25/1000,IF($AB26=2,$AB25/100,IF($AB26=1,$AB25/10,$AB25))))*IF($AB26=3,1000,IF($AB26=2,100,IF($AB26=1,10,1))),RANDBETWEEN(1.00001*IF($AB26=3,$AB25/1000,IF($AB26=2,$AB25/100,IF($AB26=1,$AB25/10,$AB25))),2*IF($AB26=3,$AB25/1000,IF($AB26=2,$AB25/100,IF($AB26=1,$AB25/10,$AB25))))*IF($AB26=3,1000,IF($AB26=2,100,IF($AB26=1,10,1))))*(-1)^RANDBETWEEN(1,2)))","v":47.2},{"$f":"IF(AE28=1,$V25,$Z25)","v":"km"},{"$f":"IF(AG28=1,MAX(0,$U25+RANDBETWEEN(IF(AF28=7,0,1.00001)*$AA25/10^$AA26,IF(AF28=7,1,2)*$AA25/10^$AA26)*10^$AA26*(-1)^RANDBETWEEN(1,2)),MAX(0,$U25*$AC26+IF(AF28=7,RANDBETWEEN(0,IF($AB26=3,$AB25/1000,IF($AB26=2,$AB25/100,IF($AB26=1,$AB25/10,$AB25))))*IF($AB26=3,1000,IF($AB26=2,100,IF($AB26=1,10,1))),RANDBETWEEN(1.00001*IF($AB26=3,$AB25/1000,IF($AB26=2,$AB25/100,IF($AB26=1,$AB25/10,$AB25))),2*IF($AB26=3,$AB25/1000,IF($AB26=2,$AB25/100,IF($AB26=1,$AB25/10,$AB25))))*IF($AB26=3,1000,IF($AB26=2,100,IF($AB26=1,10,1))))*(-1)^RANDBETWEEN(1,2)))","v":47.2},{"$f":"IF(AG28=1,$V25,$Z25)","v":"km"}]
[{"$f":"COUNTIF($B$1:B28,TRUE)","v":22},{"$f":"Worksheet!$B$20","v":true},{"$f":"RANDBETWEEN(5,RANDBETWEEN(5,Worksheet!$D$8))","v":5},"cm","±",{"$f":"IF(I28=1,H28*10^RANDBETWEEN(IF(Worksheet!$D$14,-1,0),0),IF(I28=2,H28,CHOOSE(RANDBETWEEN(1,3),5,10,20)))","v":10},{"$f":"IF(I28=1,D28,IF(I28=3,\"%\",\"mm\"))","v":"%"},{"$f":"RANDBETWEEN(1,MIN(9,C28))","v":4},{"$f":"IF(AND(Worksheet!$D$12,RAND()<0.2),3,IF(RAND()<Worksheet!$D$10/100,1,2))","v":3},{"$f":"IF(I28=1,F28,IF(I28=2,F28/10,IF(I28=3,F28/100*C28,\"\")))","v":0.5},{"$f":"CONCATENATE(\" \",D28)","v":" cm"},{"$f":"IF(I28=1,F28*10,IF(I28=2,F28,IF(I28=3,F28/100*C28*10,\"\")))","v":5},"mm",null,null,null,null,null,null,null,null,{"$f":"RANDBETWEEN(7,8)","v":7},{"$f":"IF(Worksheet!$D$16,RANDBETWEEN(1,2),1)","v":1},{"$f":"RANDBETWEEN(7,8)","v":8},{"$f":"IF(Worksheet!$D$16,RANDBETWEEN(1,2),1)","v":1},{"$f":"RANDBETWEEN(7,8)","v":8},{"$f":"IF(Worksheet!$D$16,RANDBETWEEN(1,2),1)","v":1},{"$f":"RANDBETWEEN(7,8)","v":7},{"$f":"IF(Worksheet!$D$16,RANDBETWEEN(1,2),1)","v":1},{"$f":"RANDBETWEEN(7,8)","v":8},{"$f":"IF(Worksheet!$D$16,RANDBETWEEN(1,2),1)","v":1},{"$f":"RANDBETWEEN(7,8)","v":8},{"$f":"IF(Worksheet!$D$16,RANDBETWEEN(1,2),1)","v":1}]
[{"$f":"IF(COUNTIF($B$1:B29,TRUE)=COUNTIF($B$1:B28,TRUE),\"\",COUNTIF($B$1:B29,TRUE))","v":23},{"$f":"Worksheet!$B$22","v":true},{"$f":"RANDBETWEEN(5,RANDBETWEEN(5,Worksheet!$D$8))","v":8},"m","±",{"$f":"IF(I29=1,H29*10^RANDBETWEEN(IF(Worksheet!$D$14,-1,0),0),IF(I29=2,H29*10^RANDBETWEEN(RANDBETWEEN(0,1),1),CHOOSE(RANDBETWEEN(1,3),5,10,20)))","v":10},{"$f":"IF(I29=1,D29,IF(I29=3,\"%\",\"cm\"))","v":"%"},{"$f":"RANDBETWEEN(1,MIN(9,C29))","v":6},{"$f":"IF(AND(Worksheet!$D$12,RAND()<0.2),3,IF(RAND()<Worksheet!$D$10/100,1,2))","v":3},{"$f":"IF(I29=1,F29,IF(I29=2,F29/100,IF(I29=3,F29/100*C29,\"\")))","v":0.8},{"$f":"CONCATENATE(\" \",D29)","v":" m"},{"$f":"IF(I29=1,F29*100,IF(I29=2,F29,IF(I29=3,F29/100*C29*100,\"\")))","v":80},"cm",null,null,null,null,null,8,{"$f":"RANDBETWEEN(1,MAX('SYSTEM FORMULAE'!$A$1:$A$1737))","v":856},{"$f":"IF(RIGHT(TEXT(VLOOKUP(T29,'SYSTEM FORMULAE'!$A$1:$Q$1737,3),\"# ##0.###\"),1)=\".\",LEFT(TEXT(VLOOKUP(T29,'SYSTEM FORMULAE'!$A$1:$Q$1737,3),\"# ##0.###\"),LEN(TEXT(VLOOKUP(T29,'SYSTEM FORMULAE'!$A$1:$Q$1737,3),\"# ##0.###\"))-1),TEXT(VLOOKUP(T29,'SYSTEM FORMULAE'!$A$1:$Q$1737,3),\"# ##0.###\"))","v":" 36"},{"$f":"VLOOKUP(T29,'SYSTEM FORMULAE'!$A$1:$Q$1737,4)","v":"m"},"±",{"$f":"IF(RIGHT(TEXT(VLOOKUP(T29,'SYSTEM FORMULAE'!$A$1:$Q$1737,6),\"# ##0.###\"),1)=\".\",LEFT(TEXT(VLOOKUP(T29,'SYSTEM FORMULAE'!$A$1:$Q$1737,6),\"# ##0.###\"),LEN(TEXT(VLOOKUP(T29,'SYSTEM FORMULAE'!$A$1:$Q$1737,6),\"# ##0.###\"))-1),TEXT(VLOOKUP(T29,'SYSTEM FORMULAE'!$A$1:$Q$1737,6),\"# ##0.###\"))","v":" 90"},{"$f":"VLOOKUP(T29,'SYSTEM FORMULAE'!$A$1:$Q$1737,7)","v":"cm"},{"$f":"VLOOKUP(T29,'SYSTEM FORMULAE'!$A$1:$Q$1737,13)","v":"cm"},{"$f":"VLOOKUP(T29,'SYSTEM FORMULAE'!$A$1:$Q$1737,10)","v":0.9},{"$f":"VLOOKUP(T29,'SYSTEM FORMULAE'!$A$1:$Q$1737,12)","v":90},null,{"$f":"U29-AA29","v":35.1},{"$f":"V29","v":"m"},{"$f":"U29+AA29","v":36.9},{"$f":"V29","v":"m"}]
[{"$f":"IF(COUNTIF($B$1:B30,TRUE)=COUNTIF($B$1:B29,TRUE),\"\",COUNTIF($B$1:B30,TRUE))","v":24},{"$f":"Worksheet!$B$24","v":true},{"$f":"RANDBETWEEN(5,RANDBETWEEN(5,Worksheet!$D$8))","v":9},"km","±",{"$f":"IF(I30=1,H30*10^RANDBETWEEN(IF(Worksheet!$D$14,-1,0),0),IF(I30=2,H30*10^RANDBETWEEN(RANDBETWEEN(0,2),2),CHOOSE(RANDBETWEEN(1,3),5,10,20)))","v":0.4},{"$f":"IF(I30=1,D30,IF(I30=3,\"%\",\"m\"))","v":"km"},4,{"$f":"IF(AND(Worksheet!$D$12,RAND()<0.2),3,IF(RAND()<Worksheet!$D$10/100,1,2))","v":1},{"$f":"IF(I30=1,F30,IF(I30=2,F30/1000,IF(I30=3,F30/100*C30,\"\")))","v":0.4}," km",{"$f":"IF(I30=1,F30*1000,IF(I30=2,F30,IF(I30=3,F30/100*C30*1000,\"\")))","v":400},"m",null,null,null,null,null,null,null,null,null,null,null,null,null,{"$f":"IF(AA29=INT(AA29),IF(AA29/1000=INT(AA29/1000),3,IF(AA29/100=INT(AA29/100),2,IF(AA29/10=INT(AA29/10),1,0))),INT(LOG($AA29-INT($AA29))))","v":-1},{"$f":"IF(AB29=INT(AB29),IF(AB29/1000=INT(AB29/1000),3,IF(AB29/100=INT(AB29/100),2,IF(AB29/10=INT(AB29/10),1,0))),INT(LOG($AA29-INT($AA29))))","v":1},{"$f":"IF(Z29=\"cm\",100,IF(Z29=\"°C\",1,IF(AND(V29=\"cm\",Z29=\"mm\"),10,1000)))","v":100}]
[{"$f":"IF(COUNTIF($B$1:B31,TRUE)=COUNTIF($B$1:B30,TRUE),\"\",COUNTIF($B$1:B31,TRUE))","v":""},{"$f":"Worksheet!$B$26","v":false},{"$f":"RANDBETWEEN(5,RANDBETWEEN(5,Worksheet!$D$8))","v":5},"m","±",{"$f":"IF(I31=1,H31*10^RANDBETWEEN(IF(Worksheet!$D$14,-1,0),0),IF(I31=2,H31*10^RANDBETWEEN(RANDBETWEEN(0,2),2),CHOOSE(RANDBETWEEN(1,3),5,10,20)))","v":300},{"$f":"IF(I31=1,D31,IF(I31=3,\"%\",\"mm\"))","v":"mm"},3,{"$f":"IF(AND(Worksheet!$D$12,RAND()<0.2),3,IF(RAND()<Worksheet!$D$10/100,1,2))","v":2},0.3," m",300,"mm",null,null,null,null,null,null,null,null,{"$f":"IF(W32=1,MAX(0,$U29+RANDBETWEEN(IF(V32=7,0,1.00001)*$AA29/10^$AA30,IF(V32=7,1,2)*$AA29/10^$AA30)*10^$AA30*(-1)^RANDBETWEEN(1,2)),MAX(0,$U29*$AC30+IF(V32=7,RANDBETWEEN(0,IF($AB30=3,$AB29/1000,IF($AB30=2,$AB29/100,IF($AB30=1,$AB29/10,$AB29))))*IF($AB30=3,1000,IF($AB30=2,100,IF($AB30=1,10,1))),RANDBETWEEN(1.00001*IF($AB30=3,$AB29/1000,IF($AB30=2,$AB29/100,IF($AB30=1,$AB29/10,$AB29))),2*IF($AB30=3,$AB29/1000,IF($AB30=2,$AB29/100,IF($AB30=1,$AB29/10,$AB29))))*IF($AB30=3,1000,IF($AB30=2,100,IF($AB30=1,10,1))))*(-1)^RANDBETWEEN(1,2)))","v":34.700000000000003},{"$f":"IF(W32=1,$V29,$Z29)","v":"m"},{"$f":"IF(Y32=1,MAX(0,$U29+RANDBETWEEN(IF(X32=7,0,1.00001)*$AA29/10^$AA30,IF(X32=7,1,2)*$AA29/10^$AA30)*10^$AA30*(-1)^RANDBETWEEN(1,2)),MAX(0,$U29*$AC30+IF(X32=7,RANDBETWEEN(0,IF($AB30=3,$AB29/1000,IF($AB30=2,$AB29/100,IF($AB30=1,$AB29/10,$AB29))))*IF($AB30=3,1000,IF($AB30=2,100,IF($AB30=1,10,1))),RANDBETWEEN(1.00001*IF($AB30=3,$AB29/1000,IF($AB30=2,$AB29/100,IF($AB30=1,$AB29/10,$AB29))),2*IF($AB30=3,$AB29/1000,IF($AB30=2,$AB29/100,IF($AB30=1,$AB29/10,$AB29))))*IF($AB30=3,1000,IF($AB30=2,100,IF($AB30=1,10,1))))*(-1)^RANDBETWEEN(1,2)))","v":37.4},{"$f":"IF(Y32=1,$V29,$Z29)","v":"m"},{"$f":"IF(AA32=1,MAX(0,$U29+RANDBETWEEN(IF(Z32=7,0,1.00001)*$AA29/10^$AA30,IF(Z32=7,1,2)*$AA29/10^$AA30)*10^$AA30*(-1)^RANDBETWEEN(1,2)),MAX(0,$U29*$AC30+IF(Z32=7,RANDBETWEEN(0,IF($AB30=3,$AB29/1000,IF($AB30=2,$AB29/100,IF($AB30=1,$AB29/10,$AB29))))*IF($AB30=3,1000,IF($AB30=2,100,IF($AB30=1,10,1))),RANDBETWEEN(1.00001*IF($AB30=3,$AB29/1000,IF($AB30=2,$AB29/100,IF($AB30=1,$AB29/10,$AB29))),2*IF($AB30=3,$AB29/1000,IF($AB30=2,$AB29/100,IF($AB30=1,$AB29/10,$AB29))))*IF($AB30=3,1000,IF($AB30=2,100,IF($AB30=1,10,1))))*(-1)^RANDBETWEEN(1,2)))","v":37.799999999999997},{"$f":"IF(AA32=1,$V29,$Z29)","v":"m"},{"$f":"IF(AC32=1,MAX(0,$U29+RANDBETWEEN(IF(AB32=7,0,1.00001)*$AA29/10^$AA30,IF(AB32=7,1,2)*$AA29/10^$AA30)*10^$AA30*(-1)^RANDBETWEEN(1,2)),MAX(0,$U29*$AC30+IF(AB32=7,RANDBETWEEN(0,IF($AB30=3,$AB29/1000,IF($AB30=2,$AB29/100,IF($AB30=1,$AB29/10,$AB29))))*IF($AB30=3,1000,IF($AB30=2,100,IF($AB30=1,10,1))),RANDBETWEEN(1.00001*IF($AB30=3,$AB29/1000,IF($AB30=2,$AB29/100,IF($AB30=1,$AB29/10,$AB29))),2*IF($AB30=3,$AB29/1000,IF($AB30=2,$AB29/100,IF($AB30=1,$AB29/10,$AB29))))*IF($AB30=3,1000,IF($AB30=2,100,IF($AB30=1,10,1))))*(-1)^RANDBETWEEN(1,2)))","v":36.6},{"$f":"IF(AC32=1,$V29,$Z29)","v":"m"},{"$f":"IF(AE32=1,MAX(0,$U29+RANDBETWEEN(IF(AD32=7,0,1.00001)*$AA29/10^$AA30,IF(AD32=7,1,2)*$AA29/10^$AA30)*10^$AA30*(-1)^RANDBETWEEN(1,2)),MAX(0,$U29*$AC30+IF(AD32=7,RANDBETWEEN(0,IF($AB30=3,$AB29/1000,IF($AB30=2,$AB29/100,IF($AB30=1,$AB29/10,$AB29))))*IF($AB30=3,1000,IF($AB30=2,100,IF($AB30=1,10,1))),RANDBETWEEN(1.00001*IF($AB30=3,$AB29/1000,IF($AB30=2,$AB29/100,IF($AB30=1,$AB29/10,$AB29))),2*IF($AB30=3,$AB29/1000,IF($AB30=2,$AB29/100,IF($AB30=1,$AB29/10,$AB29))))*IF($AB30=3,1000,IF($AB30=2,100,IF($AB30=1,10,1))))*(-1)^RANDBETWEEN(1,2)))","v":36.799999999999997},{"$f":"IF(AE32=1,$V29,$Z29)","v":"m"},{"$f":"IF(AG32=1,MAX(0,$U29+RANDBETWEEN(IF(AF32=7,0,1.00001)*$AA29/10^$AA30,IF(AF32=7,1,2)*$AA29/10^$AA30)*10^$AA30*(-1)^RANDBETWEEN(1,2)),MAX(0,$U29*$AC30+IF(AF32=7,RANDBETWEEN(0,IF($AB30=3,$AB29/1000,IF($AB30=2,$AB29/100,IF($AB30=1,$AB29/10,$AB29))))*IF($AB30=3,1000,IF($AB30=2,100,IF($AB30=1,10,1))),RANDBETWEEN(1.00001*IF($AB30=3,$AB29/1000,IF($AB30=2,$AB29/100,IF($AB30=1,$AB29/10,$AB29))),2*IF($AB30=3,$AB29/1000,IF($AB30=2,$AB29/100,IF($AB30=1,$AB29/10,$AB29))))*IF($AB30=3,1000,IF($AB30=2,100,IF($AB30=1,10,1))))*(-1)^RANDBETWEEN(1,2)))","v":34.700000000000003},{"$f":"IF(AG32=1,$V29,$Z29)","v":"m"}]
[{"$f":"IF(COUNTIF($B$1:B32,TRUE)=COUNTIF($B$1:B31,TRUE),\"\",COUNTIF($B$1:B32,TRUE))","v":25},{"$f":"Worksheet!$D$20","v":true},{"$f":"RANDBETWEEN(5,RANDBETWEEN(5,Worksheet!$D$8))","v":70},"kg","±",{"$f":"IF(I32=1,H32*10^RANDBETWEEN(IF(Worksheet!$D$14,-1,0),0),IF(I32=2,H32*10^RANDBETWEEN(RANDBETWEEN(0,2),2),CHOOSE(RANDBETWEEN(1,3),5,10,20)))","v":0.1},{"$f":"IF(I32=1,D32,IF(I32=3,\"%\",\"g\"))","v":"kg"},{"$f":"RANDBETWEEN(1,MIN(9,C32))","v":1},{"$f":"IF(AND(Worksheet!$D$12,RAND()<0.2),3,IF(RAND()<Worksheet!$D$10/100,1,2))","v":1},0.1,{"$f":"CONCATENATE(\" \",D32)","v":" kg"},100,"g",null,null,null,null,null,null,null,null,{"$f":"RANDBETWEEN(7,8)","v":8},{"$f":"IF(Worksheet!$D$16,RANDBETWEEN(1,2),1)","v":1},{"$f":"RANDBETWEEN(7,8)","v":8},{"$f":"IF(Worksheet!$D$16,RANDBETWEEN(1,2),1)","v":1},{"$f":"RANDBETWEEN(7,8)","v":8},{"$f":"IF(Worksheet!$D$16,RANDBETWEEN(1,2),1)","v":1},{"$f":"RANDBETWEEN(7,8)","v":7},{"$f":"IF(Worksheet!$D$16,RANDBETWEEN(1,2),1)","v":1},{"$f":"RANDBETWEEN(7,8)","v":7},{"$f":"IF(Worksheet!$D$16,RANDBETWEEN(1,2),1)","v":1},{"$f":"RANDBETWEEN(7,8)","v":8},{"$f":"IF(Worksheet!$D$16,RANDBETWEEN(1,2),1)","v":1}]
[{"$f":"IF(COUNTIF($B$1:B33,TRUE)=COUNTIF($B$1:B32,TRUE),\"\",COUNTIF($B$1:B33,TRUE))","v":26},{"$f":"Worksheet!$D$22","v":true},{"$f":"RANDBETWEEN(5,RANDBETWEEN(5,Worksheet!$D$8))","v":33},"tonnes","±",{"$f":"IF(I33=1,H33*10^RANDBETWEEN(IF(Worksheet!$D$14,-1,0),0),IF(I33=2,H33*10^RANDBETWEEN(RANDBETWEEN(0,2),2),CHOOSE(RANDBETWEEN(1,3),5,10,20)))","v":1},{"$f":"IF(I33=1,D33,IF(I33=3,\"%\",\"kg\"))","v":"tonnes"},{"$f":"RANDBETWEEN(1,MIN(9,C33))","v":1},{"$f":"IF(AND(Worksheet!$D$12,RAND()<0.2),3,IF(RAND()<Worksheet!$D$10/100,1,2))","v":1},1,{"$f":"CONCATENATE(\" \",D33)","v":" tonnes"},1000,"kg",null,null,null,null,null,9,{"$f":"RANDBETWEEN(1,MAX('SYSTEM FORMULAE'!$A$1:$A$1737))","v":292},{"$f":"IF(RIGHT(TEXT(VLOOKUP(T33,'SYSTEM FORMULAE'!$A$1:$Q$1737,3),\"# ##0.###\"),1)=\".\",LEFT(TEXT(VLOOKUP(T33,'SYSTEM FORMULAE'!$A$1:$Q$1737,3),\"# ##0.###\"),LEN(TEXT(VLOOKUP(T33,'SYSTEM FORMULAE'!$A$1:$Q$1737,3),\"# ##0.###\"))-1),TEXT(VLOOKUP(T33,'SYSTEM FORMULAE'!$A$1:$Q$1737,3),\"# ##0.###\"))","v":" 33"},{"$f":"VLOOKUP(T33,'SYSTEM FORMULAE'!$A$1:$Q$1737,4)","v":"tonnes"},"±",{"$f":"IF(RIGHT(TEXT(VLOOKUP(T33,'SYSTEM FORMULAE'!$A$1:$Q$1737,6),\"# ##0.###\"),1)=\".\",LEFT(TEXT(VLOOKUP(T33,'SYSTEM FORMULAE'!$A$1:$Q$1737,6),\"# ##0.###\"),LEN(TEXT(VLOOKUP(T33,'SYSTEM FORMULAE'!$A$1:$Q$1737,6),\"# ##0.###\"))-1),TEXT(VLOOKUP(T33,'SYSTEM FORMULAE'!$A$1:$Q$1737,6),\"# ##0.###\"))","v":" 3"},{"$f":"VLOOKUP(T33,'SYSTEM FORMULAE'!$A$1:$Q$1737,7)","v":"tonnes"},{"$f":"VLOOKUP(T33,'SYSTEM FORMULAE'!$A$1:$Q$1737,13)","v":"kg"},{"$f":"VLOOKUP(T33,'SYSTEM FORMULAE'!$A$1:$Q$1737,10)","v":3},{"$f":"VLOOKUP(T33,'SYSTEM FORMULAE'!$A$1:$Q$1737,12)","v":3000},null,{"$f":"U33-AA33","v":30},{"$f":"V33","v":"tonnes"},{"$f":"U33+AA33","v":36},{"$f":"V33","v":"tonnes"}]
[{"$f":"IF(COUNTIF($B$1:B34,TRUE)=COUNTIF($B$1:B33,TRUE),\"\",COUNTIF($B$1:B34,TRUE))","v":27},{"$f":"Worksheet!$D$24","v":true},{"$f":"RANDBETWEEN(5,RANDBETWEEN(5,Worksheet!$D$8))","v":40},"litres","±",{"$f":"IF(I34=1,H34*10^RANDBETWEEN(IF(Worksheet!$D$14,-1,0),0),IF(I34=2,H34*10^RANDBETWEEN(RANDBETWEEN(0,2),2),CHOOSE(RANDBETWEEN(1,3),5,10,20)))","v":10},{"$f":"IF(I34=1,D34,IF(I34=3,\"%\",\"ml\"))","v":"%"},{"$f":"RANDBETWEEN(1,MIN(9,C34))","v":4},{"$f":"IF(AND(Worksheet!$D$12,RAND()<0.2),3,IF(RAND()<Worksheet!$D$10/100,1,2))","v":3},4,{"$f":"CONCATENATE(\" \",D34)","v":" litres"},4000,"ml",null,null,null,null,null,null,null,null,null,null,null,null,null,{"$f":"IF(AA33=INT(AA33),IF(AA33/1000=INT(AA33/1000),3,IF(AA33/100=INT(AA33/100),2,IF(AA33/10=INT(AA33/10),1,0))),INT(LOG($AA33-INT($AA33))))","v":0},{"$f":"IF(AB33=INT(AB33),IF(AB33/1000=INT(AB33/1000),3,IF(AB33/100=INT(AB33/100),2,IF(AB33/10=INT(AB33/10),1,0))),INT(LOG($AA33-INT($AA33))))","v":3},{"$f":"IF(Z33=\"cm\",100,IF(Z33=\"°C\",1,IF(AND(V33=\"cm\",Z33=\"mm\"),10,1000)))","v":1000}]
[{"$f":"IF(COUNTIF($B$1:B35,TRUE)=COUNTIF($B$1:B34,TRUE),\"\",COUNTIF($B$1:B35,TRUE))","v":""},{"$f":"Worksheet!$D$26","v":false},{"$f":"RANDBETWEEN(5,RANDBETWEEN(5,Worksheet!$D$8))","v":22},"litres","±",{"$f":"IF(I35=1,H35*10^RANDBETWEEN(IF(Worksheet!$D$14,-1,0),0),IF(I35=2,H35*10^RANDBETWEEN(RANDBETWEEN(0,2),2),CHOOSE(RANDBETWEEN(1,3),5,10,20)))","v":0.30000000000000004},{"$f":"IF(I35=1,D35,IF(I35=3,\"%\",\"cm³\"))","v":"litres"},{"$f":"RANDBETWEEN(1,MIN(9,C35))","v":3},{"$f":"IF(AND(Worksheet!$D$12,RAND()<0.2),3,IF(RAND()<Worksheet!$D$10/100,1,2))","v":1},0.30000000000000004,{"$f":"CONCATENATE(\" \",D35)","v":" litres"},300.00000000000006,"cm³",null,null,null,null,null,null,null,null,{"$f":"IF(W36=1,MAX(0,$U33+RANDBETWEEN(IF(V36=7,0,1.00001)*$AA33/10^$AA34,IF(V36=7,1,2)*$AA33/10^$AA34)*10^$AA34*(-1)^RANDBETWEEN(1,2)),MAX(0,$U33*$AC34+IF(V36=7,RANDBETWEEN(0,IF($AB34=3,$AB33/1000,IF($AB34=2,$AB33/100,IF($AB34=1,$AB33/10,$AB33))))*IF($AB34=3,1000,IF($AB34=2,100,IF($AB34=1,10,1))),RANDBETWEEN(1.00001*IF($AB34=3,$AB33/1000,IF($AB34=2,$AB33/100,IF($AB34=1,$AB33/10,$AB33))),2*IF($AB34=3,$AB33/1000,IF($AB34=2,$AB33/100,IF($AB34=1,$AB33/10,$AB33))))*IF($AB34=3,1000,IF($AB34=2,100,IF($AB34=1,10,1))))*(-1)^RANDBETWEEN(1,2)))","v":27},{"$f":"IF(W36=1,$V33,$Z33)","v":"tonnes"},{"$f":"IF(Y36=1,MAX(0,$U33+RANDBETWEEN(IF(X36=7,0,1.00001)*$AA33/10^$AA34,IF(X36=7,1,2)*$AA33/10^$AA34)*10^$AA34*(-1)^RANDBETWEEN(1,2)),MAX(0,$U33*$AC34+IF(X36=7,RANDBETWEEN(0,IF($AB34=3,$AB33/1000,IF($AB34=2,$AB33/100,IF($AB34=1,$AB33/10,$AB33))))*IF($AB34=3,1000,IF($AB34=2,100,IF($AB34=1,10,1))),RANDBETWEEN(1.00001*IF($AB34=3,$AB33/1000,IF($AB34=2,$AB33/100,IF($AB34=1,$AB33/10,$AB33))),2*IF($AB34=3,$AB33/1000,IF($AB34=2,$AB33/100,IF($AB34=1,$AB33/10,$AB33))))*IF($AB34=3,1000,IF($AB34=2,100,IF($AB34=1,10,1))))*(-1)^RANDBETWEEN(1,2)))","v":37},{"$f":"IF(Y36=1,$V33,$Z33)","v":"tonnes"},{"$f":"IF(AA36=1,MAX(0,$U33+RANDBETWEEN(IF(Z36=7,0,1.00001)*$AA33/10^$AA34,IF(Z36=7,1,2)*$AA33/10^$AA34)*10^$AA34*(-1)^RANDBETWEEN(1,2)),MAX(0,$U33*$AC34+IF(Z36=7,RANDBETWEEN(0,IF($AB34=3,$AB33/1000,IF($AB34=2,$AB33/100,IF($AB34=1,$AB33/10,$AB33))))*IF($AB34=3,1000,IF($AB34=2,100,IF($AB34=1,10,1))),RANDBETWEEN(1.00001*IF($AB34=3,$AB33/1000,IF($AB34=2,$AB33/100,IF($AB34=1,$AB33/10,$AB33))),2*IF($AB34=3,$AB33/1000,IF($AB34=2,$AB33/100,IF($AB34=1,$AB33/10,$AB33))))*IF($AB34=3,1000,IF($AB34=2,100,IF($AB34=1,10,1))))*(-1)^RANDBETWEEN(1,2)))","v":27},{"$f":"IF(AA36=1,$V33,$Z33)","v":"tonnes"},{"$f":"IF(AC36=1,MAX(0,$U33+RANDBETWEEN(IF(AB36=7,0,1.00001)*$AA33/10^$AA34,IF(AB36=7,1,2)*$AA33/10^$AA34)*10^$AA34*(-1)^RANDBETWEEN(1,2)),MAX(0,$U33*$AC34+IF(AB36=7,RANDBETWEEN(0,IF($AB34=3,$AB33/1000,IF($AB34=2,$AB33/100,IF($AB34=1,$AB33/10,$AB33))))*IF($AB34=3,1000,IF($AB34=2,100,IF($AB34=1,10,1))),RANDBETWEEN(1.00001*IF($AB34=3,$AB33/1000,IF($AB34=2,$AB33/100,IF($AB34=1,$AB33/10,$AB33))),2*IF($AB34=3,$AB33/1000,IF($AB34=2,$AB33/100,IF($AB34=1,$AB33/10,$AB33))))*IF($AB34=3,1000,IF($AB34=2,100,IF($AB34=1,10,1))))*(-1)^RANDBETWEEN(1,2)))","v":28},{"$f":"IF(AC36=1,$V33,$Z33)","v":"tonnes"},{"$f":"IF(AE36=1,MAX(0,$U33+RANDBETWEEN(IF(AD36=7,0,1.00001)*$AA33/10^$AA34,IF(AD36=7,1,2)*$AA33/10^$AA34)*10^$AA34*(-1)^RANDBETWEEN(1,2)),MAX(0,$U33*$AC34+IF(AD36=7,RANDBETWEEN(0,IF($AB34=3,$AB33/1000,IF($AB34=2,$AB33/100,IF($AB34=1,$AB33/10,$AB33))))*IF($AB34=3,1000,IF($AB34=2,100,IF($AB34=1,10,1))),RANDBETWEEN(1.00001*IF($AB34=3,$AB33/1000,IF($AB34=2,$AB33/100,IF($AB34=1,$AB33/10,$AB33))),2*IF($AB34=3,$AB33/1000,IF($AB34=2,$AB33/100,IF($AB34=1,$AB33/10,$AB33))))*IF($AB34=3,1000,IF($AB34=2,100,IF($AB34=1,10,1))))*(-1)^RANDBETWEEN(1,2)))","v":27},{"$f":"IF(AE36=1,$V33,$Z33)","v":"tonnes"},{"$f":"IF(AG36=1,MAX(0,$U33+RANDBETWEEN(IF(AF36=7,0,1.00001)*$AA33/10^$AA34,IF(AF36=7,1,2)*$AA33/10^$AA34)*10^$AA34*(-1)^RANDBETWEEN(1,2)),MAX(0,$U33*$AC34+IF(AF36=7,RANDBETWEEN(0,IF($AB34=3,$AB33/1000,IF($AB34=2,$AB33/100,IF($AB34=1,$AB33/10,$AB33))))*IF($AB34=3,1000,IF($AB34=2,100,IF($AB34=1,10,1))),RANDBETWEEN(1.00001*IF($AB34=3,$AB33/1000,IF($AB34=2,$AB33/100,IF($AB34=1,$AB33/10,$AB33))),2*IF($AB34=3,$AB33/1000,IF($AB34=2,$AB33/100,IF($AB34=1,$AB33/10,$AB33))))*IF($AB34=3,1000,IF($AB34=2,100,IF($AB34=1,10,1))))*(-1)^RANDBETWEEN(1,2)))","v":31},{"$f":"IF(AG36=1,$V33,$Z33)","v":"tonnes"}]
[{"$f":"IF(COUNTIF($B$1:B36,TRUE)=COUNTIF($B$1:B36,TRUE),\"\",COUNTIF($B$1:B36,TRUE))","v":""},{"$f":"Worksheet!$B$28","v":true},{"$f":"RANDBETWEEN(5,20)","v":14},"°C","±",{"$f":"IF(I36=1,H36*10^RANDBETWEEN(IF(Worksheet!$D$14,-1,0),0),IF(I36=2,H36,CHOOSE(RANDBETWEEN(1,3),5,10,20)))","v":0.2},{"$f":"IF(I36=1,D36,IF(I36=3,\"%\",\"sec\"))","v":"°C"},{"$f":"RANDBETWEEN(1,MIN(9,C36))","v":2},{"$f":"IF(AND(Worksheet!$D$12,RAND()<0),3,IF(RAND()<Worksheet!$D$10/100,1,2))","v":1},{"$f":"IF(I36=1,F36,IF(I36=2,F36,IF(I36=3,F36/100*C36,\"\")))","v":0.2},{"$f":"CONCATENATE(\" \",D36)","v":" °C"},{"$f":"IF(I36=1,F36,IF(I36=2,F36,IF(I36=3,F36/100*C36,\"\")))","v":0.2}," °C",null,null,null,null,null,null,null,null,{"$f":"RANDBETWEEN(7,8)","v":8},{"$f":"IF(Worksheet!$D$16,RANDBETWEEN(1,2),1)","v":1},{"$f":"RANDBETWEEN(7,8)","v":8},{"$f":"IF(Worksheet!$D$16,RANDBETWEEN(1,2),1)","v":1},{"$f":"RANDBETWEEN(7,8)","v":8},{"$f":"IF(Worksheet!$D$16,RANDBETWEEN(1,2),1)","v":1},{"$f":"RANDBETWEEN(7,8)","v":8},{"$f":"IF(Worksheet!$D$16,RANDBETWEEN(1,2),1)","v":1},{"$f":"RANDBETWEEN(7,8)","v":8},{"$f":"IF(Worksheet!$D$16,RANDBETWEEN(1,2),1)","v":1},{"$f":"RANDBETWEEN(7,8)","v":7},{"$f":"IF(Worksheet!$D$16,RANDBETWEEN(1,2),1)","v":1}]
[{"$f":"COUNTIF($B$1:B37,TRUE)","v":29},{"$f":"Worksheet!$B$20","v":true},{"$f":"RANDBETWEEN(5,RANDBETWEEN(5,Worksheet!$D$8))","v":23},"cm","±",{"$f":"IF(I37=1,H37*10^RANDBETWEEN(IF(Worksheet!$D$14,-1,0),0),IF(I37=2,H37,CHOOSE(RANDBETWEEN(1,3),5,10,20)))","v":20},{"$f":"IF(I37=1,D37,IF(I37=3,\"%\",\"mm\"))","v":"%"},{"$f":"RANDBETWEEN(1,MIN(9,C37))","v":6},{"$f":"IF(AND(Worksheet!$D$12,RAND()<0.2),3,IF(RAND()<Worksheet!$D$10/100,1,2))","v":3},{"$f":"IF(I37=1,F37,IF(I37=2,F37/10,IF(I37=3,F37/100*C37,\"\")))","v":4.6000000000000005},{"$f":"CONCATENATE(\" \",D37)","v":" cm"},{"$f":"IF(I37=1,F37*10,IF(I37=2,F37,IF(I37=3,F37/100*C37*10,\"\")))","v":46.000000000000007},"mm",null,null,null,null,null,10,{"$f":"RANDBETWEEN(1,MAX('SYSTEM FORMULAE'!$A$1:$A$1737))","v":629},{"$f":"IF(RIGHT(TEXT(VLOOKUP(T37,'SYSTEM FORMULAE'!$A$1:$Q$1737,3),\"# ##0.###\"),1)=\".\",LEFT(TEXT(VLOOKUP(T37,'SYSTEM FORMULAE'!$A$1:$Q$1737,3),\"# ##0.###\"),LEN(TEXT(VLOOKUP(T37,'SYSTEM FORMULAE'!$A$1:$Q$1737,3),\"# ##0.###\"))-1),TEXT(VLOOKUP(T37,'SYSTEM FORMULAE'!$A$1:$Q$1737,3),\"# ##0.###\"))","v":" 58"},{"$f":"VLOOKUP(T37,'SYSTEM FORMULAE'!$A$1:$Q$1737,4)","v":"litres"},"±",{"$f":"IF(RIGHT(TEXT(VLOOKUP(T37,'SYSTEM FORMULAE'!$A$1:$Q$1737,6),\"# ##0.###\"),1)=\".\",LEFT(TEXT(VLOOKUP(T37,'SYSTEM FORMULAE'!$A$1:$Q$1737,6),\"# ##0.###\"),LEN(TEXT(VLOOKUP(T37,'SYSTEM FORMULAE'!$A$1:$Q$1737,6),\"# ##0.###\"))-1),TEXT(VLOOKUP(T37,'SYSTEM FORMULAE'!$A$1:$Q$1737,6),\"# ##0.###\"))","v":" 0.2"},{"$f":"VLOOKUP(T37,'SYSTEM FORMULAE'!$A$1:$Q$1737,7)","v":"litres"},{"$f":"VLOOKUP(T37,'SYSTEM FORMULAE'!$A$1:$Q$1737,13)","v":"ml"},{"$f":"VLOOKUP(T37,'SYSTEM FORMULAE'!$A$1:$Q$1737,10)","v":0.2},{"$f":"VLOOKUP(T37,'SYSTEM FORMULAE'!$A$1:$Q$1737,12)","v":200},null,{"$f":"U37-AA37","v":57.8},{"$f":"V37","v":"litres"},{"$f":"U37+AA37","v":58.2},{"$f":"V37","v":"litres"}]
[{"$f":"IF(COUNTIF($B$1:B38,TRUE)=COUNTIF($B$1:B37,TRUE),\"\",COUNTIF($B$1:B38,TRUE))","v":30},{"$f":"Worksheet!$B$22","v":true},{"$f":"RANDBETWEEN(5,RANDBETWEEN(5,Worksheet!$D$8))","v":144},"m","±",{"$f":"IF(I38=1,H38*10^RANDBETWEEN(IF(Worksheet!$D$14,-1,0),0),IF(I38=2,H38*10^RANDBETWEEN(RANDBETWEEN(0,1),1),CHOOSE(RANDBETWEEN(1,3),5,10,20)))","v":0.4},{"$f":"IF(I38=1,D38,IF(I38=3,\"%\",\"cm\"))","v":"m"},{"$f":"RANDBETWEEN(1,MIN(9,C38))","v":4},{"$f":"IF(AND(Worksheet!$D$12,RAND()<0.2),3,IF(RAND()<Worksheet!$D$10/100,1,2))","v":1},{"$f":"IF(I38=1,F38,IF(I38=2,F38/100,IF(I38=3,F38/100*C38,\"\")))","v":0.4},{"$f":"CONCATENATE(\" \",D38)","v":" m"},{"$f":"IF(I38=1,F38*100,IF(I38=2,F38,IF(I38=3,F38/100*C38*100,\"\")))","v":40},"cm",null,null,null,null,null,null,null,null,null,null,null,null,null,{"$f":"IF(AA37=INT(AA37),IF(AA37/1000=INT(AA37/1000),3,IF(AA37/100=INT(AA37/100),2,IF(AA37/10=INT(AA37/10),1,0))),INT(LOG($AA37-INT($AA37))))","v":-1},{"$f":"IF(AB37=INT(AB37),IF(AB37/1000=INT(AB37/1000),3,IF(AB37/100=INT(AB37/100),2,IF(AB37/10=INT(AB37/10),1,0))),INT(LOG($AA37-INT($AA37))))","v":2},{"$f":"IF(Z37=\"cm\",100,IF(Z37=\"°C\",1,IF(AND(V37=\"cm\",Z37=\"mm\"),10,1000)))","v":1000}]
[{"$f":"IF(COUNTIF($B$1:B39,TRUE)=COUNTIF($B$1:B38,TRUE),\"\",COUNTIF($B$1:B39,TRUE))","v":31},{"$f":"Worksheet!$B$24","v":true},{"$f":"RANDBETWEEN(5,RANDBETWEEN(5,Worksheet!$D$8))","v":39},"km","±",{"$f":"IF(I39=1,H39*10^RANDBETWEEN(IF(Worksheet!$D$14,-1,0),0),IF(I39=2,H39*10^RANDBETWEEN(RANDBETWEEN(0,2),2),CHOOSE(RANDBETWEEN(1,3),5,10,20)))","v":900},{"$f":"IF(I39=1,D39,IF(I39=3,\"%\",\"m\"))","v":"m"},9,{"$f":"IF(AND(Worksheet!$D$12,RAND()<0.2),3,IF(RAND()<Worksheet!$D$10/100,1,2))","v":2},{"$f":"IF(I39=1,F39,IF(I39=2,F39/1000,IF(I39=3,F39/100*C39,\"\")))","v":0.9}," km",{"$f":"IF(I39=1,F39*1000,IF(I39=2,F39,IF(I39=3,F39/100*C39*1000,\"\")))","v":900},"m",null,null,null,null,null,null,null,null,{"$f":"IF(W40=1,MAX(0,$U37+RANDBETWEEN(IF(V40=7,0,1.00001)*$AA37/10^$AA38,IF(V40=7,1,2)*$AA37/10^$AA38)*10^$AA38*(-1)^RANDBETWEEN(1,2)),MAX(0,$U37*$AC38+IF(V40=7,RANDBETWEEN(0,IF($AB38=3,$AB37/1000,IF($AB38=2,$AB37/100,IF($AB38=1,$AB37/10,$AB37))))*IF($AB38=3,1000,IF($AB38=2,100,IF($AB38=1,10,1))),RANDBETWEEN(1.00001*IF($AB38=3,$AB37/1000,IF($AB38=2,$AB37/100,IF($AB38=1,$AB37/10,$AB37))),2*IF($AB38=3,$AB37/1000,IF($AB38=2,$AB37/100,IF($AB38=1,$AB37/10,$AB37))))*IF($AB38=3,1000,IF($AB38=2,100,IF($AB38=1,10,1))))*(-1)^RANDBETWEEN(1,2)))","v":58.4},{"$f":"IF(W40=1,$V37,$Z37)","v":"litres"},{"$f":"IF(Y40=1,MAX(0,$U37+RANDBETWEEN(IF(X40=7,0,1.00001)*$AA37/10^$AA38,IF(X40=7,1,2)*$AA37/10^$AA38)*10^$AA38*(-1)^RANDBETWEEN(1,2)),MAX(0,$U37*$AC38+IF(X40=7,RANDBETWEEN(0,IF($AB38=3,$AB37/1000,IF($AB38=2,$AB37/100,IF($AB38=1,$AB37/10,$AB37))))*IF($AB38=3,1000,IF($AB38=2,100,IF($AB38=1,10,1))),RANDBETWEEN(1.00001*IF($AB38=3,$AB37/1000,IF($AB38=2,$AB37/100,IF($AB38=1,$AB37/10,$AB37))),2*IF($AB38=3,$AB37/1000,IF($AB38=2,$AB37/100,IF($AB38=1,$AB37/10,$AB37))))*IF($AB38=3,1000,IF($AB38=2,100,IF($AB38=1,10,1))))*(-1)^RANDBETWEEN(1,2)))","v":57.8},{"$f":"IF(Y40=1,$V37,$Z37)","v":"litres"},{"$f":"IF(AA40=1,MAX(0,$U37+RANDBETWEEN(IF(Z40=7,0,1.00001)*$AA37/10^$AA38,IF(Z40=7,1,2)*$AA37/10^$AA38)*10^$AA38*(-1)^RANDBETWEEN(1,2)),MAX(0,$U37*$AC38+IF(Z40=7,RANDBETWEEN(0,IF($AB38=3,$AB37/1000,IF($AB38=2,$AB37/100,IF($AB38=1,$AB37/10,$AB37))))*IF($AB38=3,1000,IF($AB38=2,100,IF($AB38=1,10,1))),RANDBETWEEN(1.00001*IF($AB38=3,$AB37/1000,IF($AB38=2,$AB37/100,IF($AB38=1,$AB37/10,$AB37))),2*IF($AB38=3,$AB37/1000,IF($AB38=2,$AB37/100,IF($AB38=1,$AB37/10,$AB37))))*IF($AB38=3,1000,IF($AB38=2,100,IF($AB38=1,10,1))))*(-1)^RANDBETWEEN(1,2)))","v":57.9},{"$f":"IF(AA40=1,$V37,$Z37)","v":"litres"},{"$f":"IF(AC40=1,MAX(0,$U37+RANDBETWEEN(IF(AB40=7,0,1.00001)*$AA37/10^$AA38,IF(AB40=7,1,2)*$AA37/10^$AA38)*10^$AA38*(-1)^RANDBETWEEN(1,2)),MAX(0,$U37*$AC38+IF(AB40=7,RANDBETWEEN(0,IF($AB38=3,$AB37/1000,IF($AB38=2,$AB37/100,IF($AB38=1,$AB37/10,$AB37))))*IF($AB38=3,1000,IF($AB38=2,100,IF($AB38=1,10,1))),RANDBETWEEN(1.00001*IF($AB38=3,$AB37/1000,IF($AB38=2,$AB37/100,IF($AB38=1,$AB37/10,$AB37))),2*IF($AB38=3,$AB37/1000,IF($AB38=2,$AB37/100,IF($AB38=1,$AB37/10,$AB37))))*IF($AB38=3,1000,IF($AB38=2,100,IF($AB38=1,10,1))))*(-1)^RANDBETWEEN(1,2)))","v":57.8},{"$f":"IF(AC40=1,$V37,$Z37)","v":"litres"},{"$f":"IF(AE40=1,MAX(0,$U37+RANDBETWEEN(IF(AD40=7,0,1.00001)*$AA37/10^$AA38,IF(AD40=7,1,2)*$AA37/10^$AA38)*10^$AA38*(-1)^RANDBETWEEN(1,2)),MAX(0,$U37*$AC38+IF(AD40=7,RANDBETWEEN(0,IF($AB38=3,$AB37/1000,IF($AB38=2,$AB37/100,IF($AB38=1,$AB37/10,$AB37))))*IF($AB38=3,1000,IF($AB38=2,100,IF($AB38=1,10,1))),RANDBETWEEN(1.00001*IF($AB38=3,$AB37/1000,IF($AB38=2,$AB37/100,IF($AB38=1,$AB37/10,$AB37))),2*IF($AB38=3,$AB37/1000,IF($AB38=2,$AB37/100,IF($AB38=1,$AB37/10,$AB37))))*IF($AB38=3,1000,IF($AB38=2,100,IF($AB38=1,10,1))))*(-1)^RANDBETWEEN(1,2)))","v":58.2},{"$f":"IF(AE40=1,$V37,$Z37)","v":"litres"},{"$f":"IF(AG40=1,MAX(0,$U37+RANDBETWEEN(IF(AF40=7,0,1.00001)*$AA37/10^$AA38,IF(AF40=7,1,2)*$AA37/10^$AA38)*10^$AA38*(-1)^RANDBETWEEN(1,2)),MAX(0,$U37*$AC38+IF(AF40=7,RANDBETWEEN(0,IF($AB38=3,$AB37/1000,IF($AB38=2,$AB37/100,IF($AB38=1,$AB37/10,$AB37))))*IF($AB38=3,1000,IF($AB38=2,100,IF($AB38=1,10,1))),RANDBETWEEN(1.00001*IF($AB38=3,$AB37/1000,IF($AB38=2,$AB37/100,IF($AB38=1,$AB37/10,$AB37))),2*IF($AB38=3,$AB37/1000,IF($AB38=2,$AB37/100,IF($AB38=1,$AB37/10,$AB37))))*IF($AB38=3,1000,IF($AB38=2,100,IF($AB38=1,10,1))))*(-1)^RANDBETWEEN(1,2)))","v":58.1},{"$f":"IF(AG40=1,$V37,$Z37)","v":"litres"}]
[{"$f":"IF(COUNTIF($B$1:B40,TRUE)=COUNTIF($B$1:B39,TRUE),\"\",COUNTIF($B$1:B40,TRUE))","v":""},{"$f":"Worksheet!$B$26","v":false},{"$f":"RANDBETWEEN(5,RANDBETWEEN(5,Worksheet!$D$8))","v":112},"m","±",{"$f":"IF(I40=1,H40*10^RANDBETWEEN(IF(Worksheet!$D$14,-1,0),0),IF(I40=2,H40*10^RANDBETWEEN(RANDBETWEEN(0,2),2),CHOOSE(RANDBETWEEN(1,3),5,10,20)))","v":10},{"$f":"IF(I40=1,D40,IF(I40=3,\"%\",\"mm\"))","v":"mm"},1,{"$f":"IF(AND(Worksheet!$D$12,RAND()<0.2),3,IF(RAND()<Worksheet!$D$10/100,1,2))","v":2},0.01," m",10,"mm",null,null,null,null,null,null,null,null,{"$f":"RANDBETWEEN(7,8)","v":8},{"$f":"IF(Worksheet!$D$16,RANDBETWEEN(1,2),1)","v":1},{"$f":"RANDBETWEEN(7,8)","v":7},{"$f":"IF(Worksheet!$D$16,RANDBETWEEN(1,2),1)","v":1},{"$f":"RANDBETWEEN(7,8)","v":7},{"$f":"IF(Worksheet!$D$16,RANDBETWEEN(1,2),1)","v":1},{"$f":"RANDBETWEEN(7,8)","v":7},{"$f":"IF(Worksheet!$D$16,RANDBETWEEN(1,2),1)","v":1},{"$f":"RANDBETWEEN(7,8)","v":7},{"$f":"IF(Worksheet!$D$16,RANDBETWEEN(1,2),1)","v":1},{"$f":"RANDBETWEEN(7,8)","v":7},{"$f":"IF(Worksheet!$D$16,RANDBETWEEN(1,2),1)","v":1}]
[{"$f":"IF(COUNTIF($B$1:B41,TRUE)=COUNTIF($B$1:B40,TRUE),\"\",COUNTIF($B$1:B41,TRUE))","v":32},{"$f":"Worksheet!$D$20","v":true},{"$f":"RANDBETWEEN(5,RANDBETWEEN(5,Worksheet!$D$8))","v":36},"kg","±",{"$f":"IF(I41=1,H41*10^RANDBETWEEN(IF(Worksheet!$D$14,-1,0),0),IF(I41=2,H41*10^RANDBETWEEN(RANDBETWEEN(0,2),2),CHOOSE(RANDBETWEEN(1,3),5,10,20)))","v":0.8},{"$f":"IF(I41=1,D41,IF(I41=3,\"%\",\"g\"))","v":"kg"},{"$f":"RANDBETWEEN(1,MIN(9,C41))","v":8},{"$f":"IF(AND(Worksheet!$D$12,RAND()<0.2),3,IF(RAND()<Worksheet!$D$10/100,1,2))","v":1},0.8,{"$f":"CONCATENATE(\" \",D41)","v":" kg"},800,"g"]
[{"$f":"IF(COUNTIF($B$1:B42,TRUE)=COUNTIF($B$1:B41,TRUE),\"\",COUNTIF($B$1:B42,TRUE))","v":33},{"$f":"Worksheet!$D$22","v":true},{"$f":"RANDBETWEEN(5,RANDBETWEEN(5,Worksheet!$D$8))","v":16},"tonnes","±",{"$f":"IF(I42=1,H42*10^RANDBETWEEN(IF(Worksheet!$D$14,-1,0),0),IF(I42=2,H42*10^RANDBETWEEN(RANDBETWEEN(0,2),2),CHOOSE(RANDBETWEEN(1,3),5,10,20)))","v":0.1},{"$f":"IF(I42=1,D42,IF(I42=3,\"%\",\"kg\"))","v":"tonnes"},{"$f":"RANDBETWEEN(1,MIN(9,C42))","v":1},{"$f":"IF(AND(Worksheet!$D$12,RAND()<0.2),3,IF(RAND()<Worksheet!$D$10/100,1,2))","v":1},0.1,{"$f":"CONCATENATE(\" \",D42)","v":" tonnes"},100,"kg"]
[{"$f":"IF(COUNTIF($B$1:B43,TRUE)=COUNTIF($B$1:B42,TRUE),\"\",COUNTIF($B$1:B43,TRUE))","v":34},{"$f":"Worksheet!$D$24","v":true},{"$f":"RANDBETWEEN(5,RANDBETWEEN(5,Worksheet!$D$8))","v":38},"litres","±",{"$f":"IF(I43=1,H43*10^RANDBETWEEN(IF(Worksheet!$D$14,-1,0),0),IF(I43=2,H43*10^RANDBETWEEN(RANDBETWEEN(0,2),2),CHOOSE(RANDBETWEEN(1,3),5,10,20)))","v":5},{"$f":"IF(I43=1,D43,IF(I43=3,\"%\",\"ml\"))","v":"%"},{"$f":"RANDBETWEEN(1,MIN(9,C43))","v":8},{"$f":"IF(AND(Worksheet!$D$12,RAND()<0.2),3,IF(RAND()<Worksheet!$D$10/100,1,2))","v":3},1.9000000000000001,{"$f":"CONCATENATE(\" \",D43)","v":" litres"},1900.0000000000002,"ml"]
[{"$f":"IF(COUNTIF($B$1:B44,TRUE)=COUNTIF($B$1:B43,TRUE),\"\",COUNTIF($B$1:B44,TRUE))","v":""},{"$f":"Worksheet!$D$26","v":false},{"$f":"RANDBETWEEN(5,RANDBETWEEN(5,Worksheet!$D$8))","v":19},"litres","±",{"$f":"IF(I44=1,H44*10^RANDBETWEEN(IF(Worksheet!$D$14,-1,0),0),IF(I44=2,H44*10^RANDBETWEEN(RANDBETWEEN(0,2),2),CHOOSE(RANDBETWEEN(1,3),5,10,20)))","v":0.1},{"$f":"IF(I44=1,D44,IF(I44=3,\"%\",\"cm³\"))","v":"litres"},{"$f":"RANDBETWEEN(1,MIN(9,C44))","v":1},{"$f":"IF(AND(Worksheet!$D$12,RAND()<0.2),3,IF(RAND()<Worksheet!$D$10/100,1,2))","v":1},0.1,{"$f":"CONCATENATE(\" \",D44)","v":" litres"},100,"cm³"]
[{"$f":"IF(COUNTIF($B$1:B45,TRUE)=COUNTIF($B$1:B45,TRUE),\"\",COUNTIF($B$1:B45,TRUE))","v":""},{"$f":"Worksheet!$B$28","v":true},{"$f":"RANDBETWEEN(5,20)","v":20},"°C","±",{"$f":"IF(I45=1,H45*10^RANDBETWEEN(IF(Worksheet!$D$14,-1,0),0),IF(I45=2,H45,CHOOSE(RANDBETWEEN(1,3),5,10,20)))","v":6},{"$f":"IF(I45=1,D45,IF(I45=3,\"%\",\"sec\"))","v":"sec"},{"$f":"RANDBETWEEN(1,MIN(9,C45))","v":6},{"$f":"IF(AND(Worksheet!$D$12,RAND()<0),3,IF(RAND()<Worksheet!$D$10/100,1,2))","v":2},{"$f":"IF(I45=1,F45,IF(I45=2,F45,IF(I45=3,F45/100*C45,\"\")))","v":6},{"$f":"CONCATENATE(\" \",D45)","v":" °C"},{"$f":"IF(I45=1,F45,IF(I45=2,F45,IF(I45=3,F45/100*C45,\"\")))","v":6}," °C"]
[{"$f":"COUNTIF($B$1:B46,TRUE)","v":36},{"$f":"Worksheet!$B$20","v":true},{"$f":"RANDBETWEEN(5,RANDBETWEEN(5,Worksheet!$D$8))","v":144},"cm","±",{"$f":"IF(I46=1,H46*10^RANDBETWEEN(IF(Worksheet!$D$14,-1,0),0),IF(I46=2,H46,CHOOSE(RANDBETWEEN(1,3),5,10,20)))","v":0.60000000000000009},{"$f":"IF(I46=1,D46,IF(I46=3,\"%\",\"mm\"))","v":"cm"},{"$f":"RANDBETWEEN(1,MIN(9,C46))","v":6},{"$f":"IF(AND(Worksheet!$D$12,RAND()<0.2),3,IF(RAND()<Worksheet!$D$10/100,1,2))","v":1},{"$f":"IF(I46=1,F46,IF(I46=2,F46/10,IF(I46=3,F46/100*C46,\"\")))","v":0.60000000000000009},{"$f":"CONCATENATE(\" \",D46)","v":" cm"},{"$f":"IF(I46=1,F46*10,IF(I46=2,F46,IF(I46=3,F46/100*C46*10,\"\")))","v":6.0000000000000009},"mm"]
[{"$f":"IF(COUNTIF($B$1:B47,TRUE)=COUNTIF($B$1:B46,TRUE),\"\",COUNTIF($B$1:B47,TRUE))","v":37},{"$f":"Worksheet!$B$22","v":true},{"$f":"RANDBETWEEN(5,RANDBETWEEN(5,Worksheet!$D$8))","v":10},"m","±",{"$f":"IF(I47=1,H47*10^RANDBETWEEN(IF(Worksheet!$D$14,-1,0),0),IF(I47=2,H47*10^RANDBETWEEN(RANDBETWEEN(0,1),1),CHOOSE(RANDBETWEEN(1,3),5,10,20)))","v":7},{"$f":"IF(I47=1,D47,IF(I47=3,\"%\",\"cm\"))","v":"m"},{"$f":"RANDBETWEEN(1,MIN(9,C47))","v":7},{"$f":"IF(AND(Worksheet!$D$12,RAND()<0.2),3,IF(RAND()<Worksheet!$D$10/100,1,2))","v":1},{"$f":"IF(I47=1,F47,IF(I47=2,F47/100,IF(I47=3,F47/100*C47,\"\")))","v":7},{"$f":"CONCATENATE(\" \",D47)","v":" m"},{"$f":"IF(I47=1,F47*100,IF(I47=2,F47,IF(I47=3,F47/100*C47*100,\"\")))","v":700},"cm"]
[{"$f":"IF(COUNTIF($B$1:B48,TRUE)=COUNTIF($B$1:B47,TRUE),\"\",COUNTIF($B$1:B48,TRUE))","v":38},{"$f":"Worksheet!$B$24","v":true},{"$f":"RANDBETWEEN(5,RANDBETWEEN(5,Worksheet!$D$8))","v":86},"km","±",{"$f":"IF(I48=1,H48*10^RANDBETWEEN(IF(Worksheet!$D$14,-1,0),0),IF(I48=2,H48*10^RANDBETWEEN(RANDBETWEEN(0,2),2),CHOOSE(RANDBETWEEN(1,3),5,10,20)))","v":7},{"$f":"IF(I48=1,D48,IF(I48=3,\"%\",\"m\"))","v":"km"},7,{"$f":"IF(AND(Worksheet!$D$12,RAND()<0.2),3,IF(RAND()<Worksheet!$D$10/100,1,2))","v":1},{"$f":"IF(I48=1,F48,IF(I48=2,F48/1000,IF(I48=3,F48/100*C48,\"\")))","v":7}," km",{"$f":"IF(I48=1,F48*1000,IF(I48=2,F48,IF(I48=3,F48/100*C48*1000,\"\")))","v":7000},"m"]
[{"$f":"IF(COUNTIF($B$1:B49,TRUE)=COUNTIF($B$1:B48,TRUE),\"\",COUNTIF($B$1:B49,TRUE))","v":""},{"$f":"Worksheet!$B$26","v":false},{"$f":"RANDBETWEEN(5,RANDBETWEEN(5,Worksheet!$D$8))","v":56},"m","±",{"$f":"IF(I49=1,H49*10^RANDBETWEEN(IF(Worksheet!$D$14,-1,0),0),IF(I49=2,H49*10^RANDBETWEEN(RANDBETWEEN(0,2),2),CHOOSE(RANDBETWEEN(1,3),5,10,20)))","v":0.30000000000000004},{"$f":"IF(I49=1,D49,IF(I49=3,\"%\",\"mm\"))","v":"m"},3,{"$f":"IF(AND(Worksheet!$D$12,RAND()<0.2),3,IF(RAND()<Worksheet!$D$10/100,1,2))","v":1},0.30000000000000004," m",300.00000000000006,"mm"]
[null,{"$f":"Worksheet!$D$20","v":true},{"$f":"RANDBETWEEN(5,RANDBETWEEN(5,Worksheet!$D$8))","v":20},"kg","±",{"$f":"IF(I50=1,H50*10^RANDBETWEEN(IF(Worksheet!$D$14,-1,0),0),IF(I50=2,H50*10^RANDBETWEEN(RANDBETWEEN(0,2),2),CHOOSE(RANDBETWEEN(1,3),5,10,20)))","v":500},{"$f":"IF(I50=1,D50,IF(I50=3,\"%\",\"g\"))","v":"g"},{"$f":"RANDBETWEEN(1,MIN(9,C50))","v":5},{"$f":"IF(AND(Worksheet!$D$12,RAND()<0.2),3,IF(RAND()<Worksheet!$D$10/100,1,2))","v":2},0.5,{"$f":"CONCATENATE(\" \",D50)","v":" kg"},500,"g"]
[{"$f":"IF(COUNTIF($B$1:B51,TRUE)=COUNTIF($B$1:B50,TRUE),\"\",COUNTIF($B$1:B51,TRUE))","v":40},{"$f":"Worksheet!$D$22","v":true},{"$f":"RANDBETWEEN(5,RANDBETWEEN(5,Worksheet!$D$8))","v":170},"tonnes","±",{"$f":"IF(I51=1,H51*10^RANDBETWEEN(IF(Worksheet!$D$14,-1,0),0),IF(I51=2,H51*10^RANDBETWEEN(RANDBETWEEN(0,2),2),CHOOSE(RANDBETWEEN(1,3),5,10,20)))","v":5},{"$f":"IF(I51=1,D51,IF(I51=3,\"%\",\"kg\"))","v":"%"},{"$f":"RANDBETWEEN(1,MIN(9,C51))","v":7},{"$f":"IF(AND(Worksheet!$D$12,RAND()<0.2),3,IF(RAND()<Worksheet!$D$10/100,1,2))","v":3},8.5,{"$f":"CONCATENATE(\" \",D51)","v":" tonnes"},8500,"kg"]
[{"$f":"IF(COUNTIF($B$1:B52,TRUE)=COUNTIF($B$1:B51,TRUE),\"\",COUNTIF($B$1:B52,TRUE))","v":41},{"$f":"Worksheet!$D$24","v":true},{"$f":"RANDBETWEEN(5,RANDBETWEEN(5,Worksheet!$D$8))","v":53},"litres","±",{"$f":"IF(I52=1,H52*10^RANDBETWEEN(IF(Worksheet!$D$14,-1,0),0),IF(I52=2,H52*10^RANDBETWEEN(RANDBETWEEN(0,2),2),CHOOSE(RANDBETWEEN(1,3),5,10,20)))","v":10},{"$f":"IF(I52=1,D52,IF(I52=3,\"%\",\"ml\"))","v":"%"},{"$f":"RANDBETWEEN(1,MIN(9,C52))","v":2},{"$f":"IF(AND(Worksheet!$D$12,RAND()<0.2),3,IF(RAND()<Worksheet!$D$10/100,1,2))","v":3},5.3000000000000007,{"$f":"CONCATENATE(\" \",D52)","v":" litres"},5300.0000000000009,"ml"]
[{"$f":"IF(COUNTIF($B$1:B53,TRUE)=COUNTIF($B$1:B52,TRUE),\"\",COUNTIF($B$1:B53,TRUE))","v":""},{"$f":"Worksheet!$D$26","v":false},{"$f":"RANDBETWEEN(5,RANDBETWEEN(5,Worksheet!$D$8))","v":18},"litres","±",{"$f":"IF(I53=1,H53*10^RANDBETWEEN(IF(Worksheet!$D$14,-1,0),0),IF(I53=2,H53*10^RANDBETWEEN(RANDBETWEEN(0,2),2),CHOOSE(RANDBETWEEN(1,3),5,10,20)))","v":0.1},{"$f":"IF(I53=1,D53,IF(I53=3,\"%\",\"cm³\"))","v":"litres"},{"$f":"RANDBETWEEN(1,MIN(9,C53))","v":1},{"$f":"IF(AND(Worksheet!$D$12,RAND()<0.2),3,IF(RAND()<Worksheet!$D$10/100,1,2))","v":1},0.1,{"$f":"CONCATENATE(\" \",D53)","v":" litres"},100,"cm³"]
[{"$f":"IF(COUNTIF($B$1:B54,TRUE)=COUNTIF($B$1:B54,TRUE),\"\",COUNTIF($B$1:B54,TRUE))","v":""},{"$f":"Worksheet!$B$28","v":true},{"$f":"RANDBETWEEN(5,20)","v":11},"°C","±",{"$f":"IF(I54=1,H54*10^RANDBETWEEN(IF(Worksheet!$D$14,-1,0),0),IF(I54=2,H54,CHOOSE(RANDBETWEEN(1,3),5,10,20)))","v":0.30000000000000004},{"$f":"IF(I54=1,D54,IF(I54=3,\"%\",\"sec\"))","v":"°C"},{"$f":"RANDBETWEEN(1,MIN(9,C54))","v":3},{"$f":"IF(AND(Worksheet!$D$12,RAND()<0),3,IF(RAND()<Worksheet!$D$10/100,1,2))","v":1},{"$f":"IF(I54=1,F54,IF(I54=2,F54,IF(I54=3,F54/100*C54,\"\")))","v":0.30000000000000004},{"$f":"CONCATENATE(\" \",D54)","v":" °C"},{"$f":"IF(I54=1,F54,IF(I54=2,F54,IF(I54=3,F54/100*C54,\"\")))","v":0.30000000000000004}," °C"]
[{"$f":"COUNTIF($B$1:B55,TRUE)","v":43},{"$f":"Worksheet!$B$20","v":true},{"$f":"RANDBETWEEN(5,RANDBETWEEN(5,Worksheet!$D$8))","v":5},"cm","±",{"$f":"IF(I55=1,H55*10^RANDBETWEEN(IF(Worksheet!$D$14,-1,0),0),IF(I55=2,H55,CHOOSE(RANDBETWEEN(1,3),5,10,20)))","v":0.1},{"$f":"IF(I55=1,D55,IF(I55=3,\"%\",\"mm\"))","v":"cm"},{"$f":"RANDBETWEEN(1,MIN(9,C55))","v":1},{"$f":"IF(AND(Worksheet!$D$12,RAND()<0.2),3,IF(RAND()<Worksheet!$D$10/100,1,2))","v":1},{"$f":"IF(I55=1,F55,IF(I55=2,F55/10,IF(I55=3,F55/100*C55,\"\")))","v":0.1},{"$f":"CONCATENATE(\" \",D55)","v":" cm"},{"$f":"IF(I55=1,F55*10,IF(I55=2,F55,IF(I55=3,F55/100*C55*10,\"\")))","v":1},"mm"]
[{"$f":"IF(COUNTIF($B$1:B56,TRUE)=COUNTIF($B$1:B55,TRUE),\"\",COUNTIF($B$1:B56,TRUE))","v":44},{"$f":"Worksheet!$B$22","v":true},{"$f":"RANDBETWEEN(5,RANDBETWEEN(5,Worksheet!$D$8))","v":7},"m","±",{"$f":"IF(I56=1,H56*10^RANDBETWEEN(IF(Worksheet!$D$14,-1,0),0),IF(I56=2,H56*10^RANDBETWEEN(RANDBETWEEN(0,1),1),CHOOSE(RANDBETWEEN(1,3),5,10,20)))","v":0.60000000000000009},{"$f":"IF(I56=1,D56,IF(I56=3,\"%\",\"cm\"))","v":"m"},{"$f":"RANDBETWEEN(1,MIN(9,C56))","v":6},{"$f":"IF(AND(Worksheet!$D$12,RAND()<0.2),3,IF(RAND()<Worksheet!$D$10/100,1,2))","v":1},{"$f":"IF(I56=1,F56,IF(I56=2,F56/100,IF(I56=3,F56/100*C56,\"\")))","v":0.60000000000000009},{"$f":"CONCATENATE(\" \",D56)","v":" m"},{"$f":"IF(I56=1,F56*100,IF(I56=2,F56,IF(I56=3,F56/100*C56*100,\"\")))","v":60.000000000000007},"cm"]
[{"$f":"IF(COUNTIF($B$1:B57,TRUE)=COUNTIF($B$1:B56,TRUE),\"\",COUNTIF($B$1:B57,TRUE))","v":45},{"$f":"Worksheet!$B$24","v":true},{"$f":"RANDBETWEEN(5,RANDBETWEEN(5,Worksheet!$D$8))","v":45},"km","±",{"$f":"IF(I57=1,H57*10^RANDBETWEEN(IF(Worksheet!$D$14,-1,0),0),IF(I57=2,H57*10^RANDBETWEEN(RANDBETWEEN(0,2),2),CHOOSE(RANDBETWEEN(1,3),5,10,20)))","v":5},{"$f":"IF(I57=1,D57,IF(I57=3,\"%\",\"m\"))","v":"km"},5,{"$f":"IF(AND(Worksheet!$D$12,RAND()<0.2),3,IF(RAND()<Worksheet!$D$10/100,1,2))","v":1},{"$f":"IF(I57=1,F57,IF(I57=2,F57/1000,IF(I57=3,F57/100*C57,\"\")))","v":5}," km",{"$f":"IF(I57=1,F57*1000,IF(I57=2,F57,IF(I57=3,F57/100*C57*1000,\"\")))","v":5000},"m"]
[{"$f":"IF(COUNTIF($B$1:B58,TRUE)=COUNTIF($B$1:B57,TRUE),\"\",COUNTIF($B$1:B58,TRUE))","v":""},{"$f":"Worksheet!$B$26","v":false},{"$f":"RANDBETWEEN(5,RANDBETWEEN(5,Worksheet!$D$8))","v":58},"m","±",{"$f":"IF(I58=1,H58*10^RANDBETWEEN(IF(Worksheet!$D$14,-1,0),0),IF(I58=2,H58*10^RANDBETWEEN(RANDBETWEEN(0,2),2),CHOOSE(RANDBETWEEN(1,3),5,10,20)))","v":100},{"$f":"IF(I58=1,D58,IF(I58=3,\"%\",\"mm\"))","v":"mm"},1,{"$f":"IF(AND(Worksheet!$D$12,RAND()<0.2),3,IF(RAND()<Worksheet!$D$10/100,1,2))","v":2},0.1," m",100,"mm"]
[{"$f":"IF(COUNTIF($B$1:B59,TRUE)=COUNTIF($B$1:B58,TRUE),\"\",COUNTIF($B$1:B59,TRUE))","v":46},{"$f":"Worksheet!$D$20","v":true},{"$f":"RANDBETWEEN(5,RANDBETWEEN(5,Worksheet!$D$8))","v":46},"kg","±",{"$f":"IF(I59=1,H59*10^RANDBETWEEN(IF(Worksheet!$D$14,-1,0),0),IF(I59=2,H59*10^RANDBETWEEN(RANDBETWEEN(0,2),2),CHOOSE(RANDBETWEEN(1,3),5,10,20)))","v":800},{"$f":"IF(I59=1,D59,IF(I59=3,\"%\",\"g\"))","v":"g"},{"$f":"RANDBETWEEN(1,MIN(9,C59))","v":8},{"$f":"IF(AND(Worksheet!$D$12,RAND()<0.2),3,IF(RAND()<Worksheet!$D$10/100,1,2))","v":2},0.8,{"$f":"CONCATENATE(\" \",D59)","v":" kg"},800,"g"]
[{"$f":"IF(COUNTIF($B$1:B60,TRUE)=COUNTIF($B$1:B59,TRUE),\"\",COUNTIF($B$1:B60,TRUE))","v":47},{"$f":"Worksheet!$D$22","v":true},{"$f":"RANDBETWEEN(5,RANDBETWEEN(5,Worksheet!$D$8))","v":10},"tonnes","±",{"$f":"IF(I60=1,H60*10^RANDBETWEEN(IF(Worksheet!$D$14,-1,0),0),IF(I60=2,H60*10^RANDBETWEEN(RANDBETWEEN(0,2),2),CHOOSE(RANDBETWEEN(1,3),5,10,20)))","v":10},{"$f":"IF(I60=1,D60,IF(I60=3,\"%\",\"kg\"))","v":"%"},{"$f":"RANDBETWEEN(1,MIN(9,C60))","v":6},{"$f":"IF(AND(Worksheet!$D$12,RAND()<0.2),3,IF(RAND()<Worksheet!$D$10/100,1,2))","v":3},1,{"$f":"CONCATENATE(\" \",D60)","v":" tonnes"},1000,"kg"]
[{"$f":"IF(COUNTIF($B$1:B61,TRUE)=COUNTIF($B$1:B60,TRUE),\"\",COUNTIF($B$1:B61,TRUE))","v":48},{"$f":"Worksheet!$D$24","v":true},{"$f":"RANDBETWEEN(5,RANDBETWEEN(5,Worksheet!$D$8))","v":13},"litres","±",{"$f":"IF(I61=1,H61*10^RANDBETWEEN(IF(Worksheet!$D$14,-1,0),0),IF(I61=2,H61*10^RANDBETWEEN(RANDBETWEEN(0,2),2),CHOOSE(RANDBETWEEN(1,3),5,10,20)))","v":0.1},{"$f":"IF(I61=1,D61,IF(I61=3,\"%\",\"ml\"))","v":"litres"},{"$f":"RANDBETWEEN(1,MIN(9,C61))","v":1},{"$f":"IF(AND(Worksheet!$D$12,RAND()<0.2),3,IF(RAND()<Worksheet!$D$10/100,1,2))","v":1},0.1,{"$f":"CONCATENATE(\" \",D61)","v":" litres"},100,"ml"]
[{"$f":"IF(COUNTIF($B$1:B62,TRUE)=COUNTIF($B$1:B61,TRUE),\"\",COUNTIF($B$1:B62,TRUE))","v":""},{"$f":"Worksheet!$D$26","v":false},{"$f":"RANDBETWEEN(5,RANDBETWEEN(5,Worksheet!$D$8))","v":101},"litres","±",{"$f":"IF(I62=1,H62*10^RANDBETWEEN(IF(Worksheet!$D$14,-1,0),0),IF(I62=2,H62*10^RANDBETWEEN(RANDBETWEEN(0,2),2),CHOOSE(RANDBETWEEN(1,3),5,10,20)))","v":3},{"$f":"IF(I62=1,D62,IF(I62=3,\"%\",\"cm³\"))","v":"litres"},{"$f":"RANDBETWEEN(1,MIN(9,C62))","v":3},{"$f":"IF(AND(Worksheet!$D$12,RAND()<0.2),3,IF(RAND()<Worksheet!$D$10/100,1,2))","v":1},3,{"$f":"CONCATENATE(\" \",D62)","v":" litres"},3000,"cm³"]
[{"$f":"IF(COUNTIF($B$1:B63,TRUE)=COUNTIF($B$1:B63,TRUE),\"\",COUNTIF($B$1:B63,TRUE))","v":""},{"$f":"Worksheet!$B$28","v":true},{"$f":"RANDBETWEEN(5,20)","v":7},"°C","±",{"$f":"IF(I63=1,H63*10^RANDBETWEEN(IF(Worksheet!$D$14,-1,0),0),IF(I63=2,H63,CHOOSE(RANDBETWEEN(1,3),5,10,20)))","v":3},{"$f":"IF(I63=1,D63,IF(I63=3,\"%\",\"sec\"))","v":"°C"},{"$f":"RANDBETWEEN(1,MIN(9,C63))","v":3},{"$f":"IF(AND(Worksheet!$D$12,RAND()<0),3,IF(RAND()<Worksheet!$D$10/100,1,2))","v":1},{"$f":"IF(I63=1,F63,IF(I63=2,F63,IF(I63=3,F63/100*C63,\"\")))","v":3},{"$f":"CONCATENATE(\" \",D63)","v":" °C"},{"$f":"IF(I63=1,F63,IF(I63=2,F63,IF(I63=3,F63/100*C63,\"\")))","v":3}," °C"]
[{"$f":"COUNTIF($B$1:B64,TRUE)","v":50},{"$f":"Worksheet!$B$20","v":true},{"$f":"RANDBETWEEN(5,RANDBETWEEN(5,Worksheet!$D$8))","v":39},"cm","±",{"$f":"IF(I64=1,H64*10^RANDBETWEEN(IF(Worksheet!$D$14,-1,0),0),IF(I64=2,H64,CHOOSE(RANDBETWEEN(1,3),5,10,20)))","v":5},{"$f":"IF(I64=1,D64,IF(I64=3,\"%\",\"mm\"))","v":"%"},{"$f":"RANDBETWEEN(1,MIN(9,C64))","v":7},{"$f":"IF(AND(Worksheet!$D$12,RAND()<0.2),3,IF(RAND()<Worksheet!$D$10/100,1,2))","v":3},{"$f":"IF(I64=1,F64,IF(I64=2,F64/10,IF(I64=3,F64/100*C64,\"\")))","v":1.9500000000000002},{"$f":"CONCATENATE(\" \",D64)","v":" cm"},{"$f":"IF(I64=1,F64*10,IF(I64=2,F64,IF(I64=3,F64/100*C64*10,\"\")))","v":19.5},"mm"]
[{"$f":"IF(COUNTIF($B$1:B65,TRUE)=COUNTIF($B$1:B64,TRUE),\"\",COUNTIF($B$1:B65,TRUE))","v":51},{"$f":"Worksheet!$B$22","v":true},{"$f":"RANDBETWEEN(5,RANDBETWEEN(5,Worksheet!$D$8))","v":160},"m","±",{"$f":"IF(I65=1,H65*10^RANDBETWEEN(IF(Worksheet!$D$14,-1,0),0),IF(I65=2,H65*10^RANDBETWEEN(RANDBETWEEN(0,1),1),CHOOSE(RANDBETWEEN(1,3),5,10,20)))","v":20},{"$f":"IF(I65=1,D65,IF(I65=3,\"%\",\"cm\"))","v":"%"},{"$f":"RANDBETWEEN(1,MIN(9,C65))","v":3},{"$f":"IF(AND(Worksheet!$D$12,RAND()<0.2),3,IF(RAND()<Worksheet!$D$10/100,1,2))","v":3},{"$f":"IF(I65=1,F65,IF(I65=2,F65/100,IF(I65=3,F65/100*C65,\"\")))","v":32},{"$f":"CONCATENATE(\" \",D65)","v":" m"},{"$f":"IF(I65=1,F65*100,IF(I65=2,F65,IF(I65=3,F65/100*C65*100,\"\")))","v":3200},"cm"]
[{"$f":"IF(COUNTIF($B$1:B66,TRUE)=COUNTIF($B$1:B65,TRUE),\"\",COUNTIF($B$1:B66,TRUE))","v":52},{"$f":"Worksheet!$B$24","v":true},{"$f":"RANDBETWEEN(5,RANDBETWEEN(5,Worksheet!$D$8))","v":138},"km","±",{"$f":"IF(I66=1,H66*10^RANDBETWEEN(IF(Worksheet!$D$14,-1,0),0),IF(I66=2,H66*10^RANDBETWEEN(RANDBETWEEN(0,2),2),CHOOSE(RANDBETWEEN(1,3),5,10,20)))","v":6},{"$f":"IF(I66=1,D66,IF(I66=3,\"%\",\"m\"))","v":"km"},6,{"$f":"IF(AND(Worksheet!$D$12,RAND()<0.2),3,IF(RAND()<Worksheet!$D$10/100,1,2))","v":1},{"$f":"IF(I66=1,F66,IF(I66=2,F66/1000,IF(I66=3,F66/100*C66,\"\")))","v":6}," km",{"$f":"IF(I66=1,F66*1000,IF(I66=2,F66,IF(I66=3,F66/100*C66*1000,\"\")))","v":6000},"m"]
[{"$f":"IF(COUNTIF($B$1:B67,TRUE)=COUNTIF($B$1:B66,TRUE),\"\",COUNTIF($B$1:B67,TRUE))","v":""},{"$f":"Worksheet!$B$26","v":false},{"$f":"RANDBETWEEN(5,RANDBETWEEN(5,Worksheet!$D$8))","v":20},"m","±",{"$f":"IF(I67=1,H67*10^RANDBETWEEN(IF(Worksheet!$D$14,-1,0),0),IF(I67=2,H67*10^RANDBETWEEN(RANDBETWEEN(0,2),2),CHOOSE(RANDBETWEEN(1,3),5,10,20)))","v":0.2},{"$f":"IF(I67=1,D67,IF(I67=3,\"%\",\"mm\"))","v":"m"},2,{"$f":"IF(AND(Worksheet!$D$12,RAND()<0.2),3,IF(RAND()<Worksheet!$D$10/100,1,2))","v":1},0.2," m",200,"mm"]
[{"$f":"IF(COUNTIF($B$1:B68,TRUE)=COUNTIF($B$1:B67,TRUE),\"\",COUNTIF($B$1:B68,TRUE))","v":53},{"$f":"Worksheet!$D$20","v":true},{"$f":"RANDBETWEEN(5,RANDBETWEEN(5,Worksheet!$D$8))","v":11},"kg","±",{"$f":"IF(I68=1,H68*10^RANDBETWEEN(IF(Worksheet!$D$14,-1,0),0),IF(I68=2,H68*10^RANDBETWEEN(RANDBETWEEN(0,2),2),CHOOSE(RANDBETWEEN(1,3),5,10,20)))","v":5},{"$f":"IF(I68=1,D68,IF(I68=3,\"%\",\"g\"))","v":"%"},{"$f":"RANDBETWEEN(1,MIN(9,C68))","v":1},{"$f":"IF(AND(Worksheet!$D$12,RAND()<0.2),3,IF(RAND()<Worksheet!$D$10/100,1,2))","v":3},0.55000000000000004,{"$f":"CONCATENATE(\" \",D68)","v":" kg"},550,"g"]
[{"$f":"IF(COUNTIF($B$1:B69,TRUE)=COUNTIF($B$1:B68,TRUE),\"\",COUNTIF($B$1:B69,TRUE))","v":54},{"$f":"Worksheet!$D$22","v":true},{"$f":"RANDBETWEEN(5,RANDBETWEEN(5,Worksheet!$D$8))","v":33},"tonnes","±",{"$f":"IF(I69=1,H69*10^RANDBETWEEN(IF(Worksheet!$D$14,-1,0),0),IF(I69=2,H69*10^RANDBETWEEN(RANDBETWEEN(0,2),2),CHOOSE(RANDBETWEEN(1,3),5,10,20)))","v":0.60000000000000009},{"$f":"IF(I69=1,D69,IF(I69=3,\"%\",\"kg\"))","v":"tonnes"},{"$f":"RANDBETWEEN(1,MIN(9,C69))","v":6},{"$f":"IF(AND(Worksheet!$D$12,RAND()<0.2),3,IF(RAND()<Worksheet!$D$10/100,1,2))","v":1},0.60000000000000009,{"$f":"CONCATENATE(\" \",D69)","v":" tonnes"},600.00000000000011,"kg"]
[{"$f":"IF(COUNTIF($B$1:B70,TRUE)=COUNTIF($B$1:B69,TRUE),\"\",COUNTIF($B$1:B70,TRUE))","v":55},{"$f":"Worksheet!$D$24","v":true},{"$f":"RANDBETWEEN(5,RANDBETWEEN(5,Worksheet!$D$8))","v":50},"litres","±",{"$f":"IF(I70=1,H70*10^RANDBETWEEN(IF(Worksheet!$D$14,-1,0),0),IF(I70=2,H70*10^RANDBETWEEN(RANDBETWEEN(0,2),2),CHOOSE(RANDBETWEEN(1,3),5,10,20)))","v":0.30000000000000004},{"$f":"IF(I70=1,D70,IF(I70=3,\"%\",\"ml\"))","v":"litres"},{"$f":"RANDBETWEEN(1,MIN(9,C70))","v":3},{"$f":"IF(AND(Worksheet!$D$12,RAND()<0.2),3,IF(RAND()<Worksheet!$D$10/100,1,2))","v":1},0.30000000000000004,{"$f":"CONCATENATE(\" \",D70)","v":" litres"},300.00000000000006,"ml"]
[{"$f":"IF(COUNTIF($B$1:B71,TRUE)=COUNTIF($B$1:B70,TRUE),\"\",COUNTIF($B$1:B71,TRUE))","v":""},{"$f":"Worksheet!$D$26","v":false},{"$f":"RANDBETWEEN(5,RANDBETWEEN(5,Worksheet!$D$8))","v":7},"litres","±",{"$f":"IF(I71=1,H71*10^RANDBETWEEN(IF(Worksheet!$D$14,-1,0),0),IF(I71=2,H71*10^RANDBETWEEN(RANDBETWEEN(0,2),2),CHOOSE(RANDBETWEEN(1,3),5,10,20)))","v":0.2},{"$f":"IF(I71=1,D71,IF(I71=3,\"%\",\"cm³\"))","v":"litres"},{"$f":"RANDBETWEEN(1,MIN(9,C71))","v":2},{"$f":"IF(AND(Worksheet!$D$12,RAND()<0.2),3,IF(RAND()<Worksheet!$D$10/100,1,2))","v":1},0.2,{"$f":"CONCATENATE(\" \",D71)","v":" litres"},200,"cm³"]
[{"$f":"IF(COUNTIF($B$1:B72,TRUE)=COUNTIF($B$1:B72,TRUE),\"\",COUNTIF($B$1:B72,TRUE))","v":""},{"$f":"Worksheet!$B$28","v":true},{"$f":"RANDBETWEEN(5,20)","v":12},"°C","±",{"$f":"IF(I72=1,H72*10^RANDBETWEEN(IF(Worksheet!$D$14,-1,0),0),IF(I72=2,H72,CHOOSE(RANDBETWEEN(1,3),5,10,20)))","v":6},{"$f":"IF(I72=1,D72,IF(I72=3,\"%\",\"sec\"))","v":"°C"},{"$f":"RANDBETWEEN(1,MIN(9,C72))","v":6},{"$f":"IF(AND(Worksheet!$D$12,RAND()<0),3,IF(RAND()<Worksheet!$D$10/100,1,2))","v":1},{"$f":"IF(I72=1,F72,IF(I72=2,F72,IF(I72=3,F72/100*C72,\"\")))","v":6},{"$f":"CONCATENATE(\" \",D72)","v":" °C"},{"$f":"IF(I72=1,F72,IF(I72=2,F72,IF(I72=3,F72/100*C72,\"\")))","v":6}," °C"]
[{"$f":"COUNTIF($B$1:B73,TRUE)","v":57},{"$f":"Worksheet!$B$20","v":true},{"$f":"RANDBETWEEN(5,RANDBETWEEN(5,Worksheet!$D$8))","v":167},"cm","±",{"$f":"IF(I73=1,H73*10^RANDBETWEEN(IF(Worksheet!$D$14,-1,0),0),IF(I73=2,H73,CHOOSE(RANDBETWEEN(1,3),5,10,20)))","v":5},{"$f":"IF(I73=1,D73,IF(I73=3,\"%\",\"mm\"))","v":"mm"},{"$f":"RANDBETWEEN(1,MIN(9,C73))","v":5},{"$f":"IF(AND(Worksheet!$D$12,RAND()<0.2),3,IF(RAND()<Worksheet!$D$10/100,1,2))","v":2},{"$f":"IF(I73=1,F73,IF(I73=2,F73/10,IF(I73=3,F73/100*C73,\"\")))","v":0.5},{"$f":"CONCATENATE(\" \",D73)","v":" cm"},{"$f":"IF(I73=1,F73*10,IF(I73=2,F73,IF(I73=3,F73/100*C73*10,\"\")))","v":5},"mm"]
[{"$f":"IF(COUNTIF($B$1:B74,TRUE)=COUNTIF($B$1:B73,TRUE),\"\",COUNTIF($B$1:B74,TRUE))","v":58},{"$f":"Worksheet!$B$22","v":true},{"$f":"RANDBETWEEN(5,RANDBETWEEN(5,Worksheet!$D$8))","v":9},"m","±",{"$f":"IF(I74=1,H74*10^RANDBETWEEN(IF(Worksheet!$D$14,-1,0),0),IF(I74=2,H74*10^RANDBETWEEN(RANDBETWEEN(0,1),1),CHOOSE(RANDBETWEEN(1,3),5,10,20)))","v":4},{"$f":"IF(I74=1,D74,IF(I74=3,\"%\",\"cm\"))","v":"m"},{"$f":"RANDBETWEEN(1,MIN(9,C74))","v":4},{"$f":"IF(AND(Worksheet!$D$12,RAND()<0.2),3,IF(RAND()<Worksheet!$D$10/100,1,2))","v":1},{"$f":"IF(I74=1,F74,IF(I74=2,F74/100,IF(I74=3,F74/100*C74,\"\")))","v":4},{"$f":"CONCATENATE(\" \",D74)","v":" m"},{"$f":"IF(I74=1,F74*100,IF(I74=2,F74,IF(I74=3,F74/100*C74*100,\"\")))","v":400},"cm"]
[{"$f":"IF(COUNTIF($B$1:B75,TRUE)=COUNTIF($B$1:B74,TRUE),\"\",COUNTIF($B$1:B75,TRUE))","v":59},{"$f":"Worksheet!$B$24","v":true},{"$f":"RANDBETWEEN(5,RANDBETWEEN(5,Worksheet!$D$8))","v":54},"km","±",{"$f":"IF(I75=1,H75*10^RANDBETWEEN(IF(Worksheet!$D$14,-1,0),0),IF(I75=2,H75*10^RANDBETWEEN(RANDBETWEEN(0,2),2),CHOOSE(RANDBETWEEN(1,3),5,10,20)))","v":9},{"$f":"IF(I75=1,D75,IF(I75=3,\"%\",\"m\"))","v":"km"},9,{"$f":"IF(AND(Worksheet!$D$12,RAND()<0.2),3,IF(RAND()<Worksheet!$D$10/100,1,2))","v":1},{"$f":"IF(I75=1,F75,IF(I75=2,F75/1000,IF(I75=3,F75/100*C75,\"\")))","v":9}," km",{"$f":"IF(I75=1,F75*1000,IF(I75=2,F75,IF(I75=3,F75/100*C75*1000,\"\")))","v":9000},"m"]
[{"$f":"IF(COUNTIF($B$1:B76,TRUE)=COUNTIF($B$1:B75,TRUE),\"\",COUNTIF($B$1:B76,TRUE))","v":""},{"$f":"Worksheet!$B$26","v":false},{"$f":"RANDBETWEEN(5,RANDBETWEEN(5,Worksheet!$D$8))","v":54},"m","±",{"$f":"IF(I76=1,H76*10^RANDBETWEEN(IF(Worksheet!$D$14,-1,0),0),IF(I76=2,H76*10^RANDBETWEEN(RANDBETWEEN(0,2),2),CHOOSE(RANDBETWEEN(1,3),5,10,20)))","v":0.5},{"$f":"IF(I76=1,D76,IF(I76=3,\"%\",\"mm\"))","v":"m"},5,{"$f":"IF(AND(Worksheet!$D$12,RAND()<0.2),3,IF(RAND()<Worksheet!$D$10/100,1,2))","v":1},0.5," m",500,"mm"]
[{"$f":"IF(COUNTIF($B$1:B77,TRUE)=COUNTIF($B$1:B76,TRUE),\"\",COUNTIF($B$1:B77,TRUE))","v":60},{"$f":"Worksheet!$D$20","v":true},{"$f":"RANDBETWEEN(5,RANDBETWEEN(5,Worksheet!$D$8))","v":41},"kg","±",{"$f":"IF(I77=1,H77*10^RANDBETWEEN(IF(Worksheet!$D$14,-1,0),0),IF(I77=2,H77*10^RANDBETWEEN(RANDBETWEEN(0,2),2),CHOOSE(RANDBETWEEN(1,3),5,10,20)))","v":5},{"$f":"IF(I77=1,D77,IF(I77=3,\"%\",\"g\"))","v":"kg"},{"$f":"RANDBETWEEN(1,MIN(9,C77))","v":5},{"$f":"IF(AND(Worksheet!$D$12,RAND()<0.2),3,IF(RAND()<Worksheet!$D$10/100,1,2))","v":1},5,{"$f":"CONCATENATE(\" \",D77)","v":" kg"},5000,"g"]
[{"$f":"IF(COUNTIF($B$1:B78,TRUE)=COUNTIF($B$1:B77,TRUE),\"\",COUNTIF($B$1:B78,TRUE))","v":61},{"$f":"Worksheet!$D$22","v":true},{"$f":"RANDBETWEEN(5,RANDBETWEEN(5,Worksheet!$D$8))","v":17},"tonnes","±",{"$f":"IF(I78=1,H78*10^RANDBETWEEN(IF(Worksheet!$D$14,-1,0),0),IF(I78=2,H78*10^RANDBETWEEN(RANDBETWEEN(0,2),2),CHOOSE(RANDBETWEEN(1,3),5,10,20)))","v":3},{"$f":"IF(I78=1,D78,IF(I78=3,\"%\",\"kg\"))","v":"tonnes"},{"$f":"RANDBETWEEN(1,MIN(9,C78))","v":3},{"$f":"IF(AND(Worksheet!$D$12,RAND()<0.2),3,IF(RAND()<Worksheet!$D$10/100,1,2))","v":1},3,{"$f":"CONCATENATE(\" \",D78)","v":" tonnes"},3000,"kg"]
[{"$f":"IF(COUNTIF($B$1:B79,TRUE)=COUNTIF($B$1:B78,TRUE),\"\",COUNTIF($B$1:B79,TRUE))","v":62},{"$f":"Worksheet!$D$24","v":true},{"$f":"RANDBETWEEN(5,RANDBETWEEN(5,Worksheet!$D$8))","v":17},"litres","±",{"$f":"IF(I79=1,H79*10^RANDBETWEEN(IF(Worksheet!$D$14,-1,0),0),IF(I79=2,H79*10^RANDBETWEEN(RANDBETWEEN(0,2),2),CHOOSE(RANDBETWEEN(1,3),5,10,20)))","v":0.1},{"$f":"IF(I79=1,D79,IF(I79=3,\"%\",\"ml\"))","v":"litres"},{"$f":"RANDBETWEEN(1,MIN(9,C79))","v":1},{"$f":"IF(AND(Worksheet!$D$12,RAND()<0.2),3,IF(RAND()<Worksheet!$D$10/100,1,2))","v":1},0.1,{"$f":"CONCATENATE(\" \",D79)","v":" litres"},100,"ml"]
[{"$f":"IF(COUNTIF($B$1:B80,TRUE)=COUNTIF($B$1:B79,TRUE),\"\",COUNTIF($B$1:B80,TRUE))","v":""},{"$f":"Worksheet!$D$26","v":false},{"$f":"RANDBETWEEN(5,RANDBETWEEN(5,Worksheet!$D$8))","v":79},"litres","±",{"$f":"IF(I80=1,H80*10^RANDBETWEEN(IF(Worksheet!$D$14,-1,0),0),IF(I80=2,H80*10^RANDBETWEEN(RANDBETWEEN(0,2),2),CHOOSE(RANDBETWEEN(1,3),5,10,20)))","v":9},{"$f":"IF(I80=1,D80,IF(I80=3,\"%\",\"cm³\"))","v":"litres"},{"$f":"RANDBETWEEN(1,MIN(9,C80))","v":9},{"$f":"IF(AND(Worksheet!$D$12,RAND()<0.2),3,IF(RAND()<Worksheet!$D$10/100,1,2))","v":1},9,{"$f":"CONCATENATE(\" \",D80)","v":" litres"},9000,"cm³"]
[{"$f":"IF(COUNTIF($B$1:B81,TRUE)=COUNTIF($B$1:B81,TRUE),\"\",COUNTIF($B$1:B81,TRUE))","v":""},{"$f":"Worksheet!$B$28","v":true},{"$f":"RANDBETWEEN(5,20)","v":5},"°C","±",{"$f":"IF(I81=1,H81*10^RANDBETWEEN(IF(Worksheet!$D$14,-1,0),0),IF(I81=2,H81,CHOOSE(RANDBETWEEN(1,3),5,10,20)))","v":0.4},{"$f":"IF(I81=1,D81,IF(I81=3,\"%\",\"sec\"))","v":"°C"},{"$f":"RANDBETWEEN(1,MIN(9,C81))","v":4},{"$f":"IF(AND(Worksheet!$D$12,RAND()<0),3,IF(RAND()<Worksheet!$D$10/100,1,2))","v":1},{"$f":"IF(I81=1,F81,IF(I81=2,F81,IF(I81=3,F81/100*C81,\"\")))","v":0.4},{"$f":"CONCATENATE(\" \",D81)","v":" °C"},{"$f":"IF(I81=1,F81,IF(I81=2,F81,IF(I81=3,F81/100*C81,\"\")))","v":0.4}," °C"]
[{"$f":"COUNTIF($B$1:B82,TRUE)","v":64},{"$f":"Worksheet!$B$20","v":true},{"$f":"RANDBETWEEN(5,RANDBETWEEN(5,Worksheet!$D$8))","v":99},"cm","±",{"$f":"IF(I82=1,H82*10^RANDBETWEEN(IF(Worksheet!$D$14,-1,0),0),IF(I82=2,H82,CHOOSE(RANDBETWEEN(1,3),5,10,20)))","v":9},{"$f":"IF(I82=1,D82,IF(I82=3,\"%\",\"mm\"))","v":"mm"},{"$f":"RANDBETWEEN(1,MIN(9,C82))","v":9},{"$f":"IF(AND(Worksheet!$D$12,RAND()<0.2),3,IF(RAND()<Worksheet!$D$10/100,1,2))","v":2},{"$f":"IF(I82=1,F82,IF(I82=2,F82/10,IF(I82=3,F82/100*C82,\"\")))","v":0.9},{"$f":"CONCATENATE(\" \",D82)","v":" cm"},{"$f":"IF(I82=1,F82*10,IF(I82=2,F82,IF(I82=3,F82/100*C82*10,\"\")))","v":9},"mm"]
[{"$f":"IF(COUNTIF($B$1:B83,TRUE)=COUNTIF($B$1:B82,TRUE),\"\",COUNTIF($B$1:B83,TRUE))","v":65},{"$f":"Worksheet!$B$22","v":true},{"$f":"RANDBETWEEN(5,RANDBETWEEN(5,Worksheet!$D$8))","v":30},"m","±",{"$f":"IF(I83=1,H83*10^RANDBETWEEN(IF(Worksheet!$D$14,-1,0),0),IF(I83=2,H83*10^RANDBETWEEN(RANDBETWEEN(0,1),1),CHOOSE(RANDBETWEEN(1,3),5,10,20)))","v":8},{"$f":"IF(I83=1,D83,IF(I83=3,\"%\",\"cm\"))","v":"cm"},{"$f":"RANDBETWEEN(1,MIN(9,C83))","v":8},{"$f":"IF(AND(Worksheet!$D$12,RAND()<0.2),3,IF(RAND()<Worksheet!$D$10/100,1,2))","v":2},{"$f":"IF(I83=1,F83,IF(I83=2,F83/100,IF(I83=3,F83/100*C83,\"\")))","v":0.08},{"$f":"CONCATENATE(\" \",D83)","v":" m"},{"$f":"IF(I83=1,F83*100,IF(I83=2,F83,IF(I83=3,F83/100*C83*100,\"\")))","v":8},"cm"]
[{"$f":"IF(COUNTIF($B$1:B84,TRUE)=COUNTIF($B$1:B83,TRUE),\"\",COUNTIF($B$1:B84,TRUE))","v":66},{"$f":"Worksheet!$B$24","v":true},{"$f":"RANDBETWEEN(5,RANDBETWEEN(5,Worksheet!$D$8))","v":51},"km","±",{"$f":"IF(I84=1,H84*10^RANDBETWEEN(IF(Worksheet!$D$14,-1,0),0),IF(I84=2,H84*10^RANDBETWEEN(RANDBETWEEN(0,2),2),CHOOSE(RANDBETWEEN(1,3),5,10,20)))","v":0.8},{"$f":"IF(I84=1,D84,IF(I84=3,\"%\",\"m\"))","v":"km"},8,{"$f":"IF(AND(Worksheet!$D$12,RAND()<0.2),3,IF(RAND()<Worksheet!$D$10/100,1,2))","v":1},{"$f":"IF(I84=1,F84,IF(I84=2,F84/1000,IF(I84=3,F84/100*C84,\"\")))","v":0.8}," km",{"$f":"IF(I84=1,F84*1000,IF(I84=2,F84,IF(I84=3,F84/100*C84*1000,\"\")))","v":800},"m"]
[{"$f":"IF(COUNTIF($B$1:B85,TRUE)=COUNTIF($B$1:B84,TRUE),\"\",COUNTIF($B$1:B85,TRUE))","v":""},{"$f":"Worksheet!$B$26","v":false},{"$f":"RANDBETWEEN(5,RANDBETWEEN(5,Worksheet!$D$8))","v":9},"m","±",{"$f":"IF(I85=1,H85*10^RANDBETWEEN(IF(Worksheet!$D$14,-1,0),0),IF(I85=2,H85*10^RANDBETWEEN(RANDBETWEEN(0,2),2),CHOOSE(RANDBETWEEN(1,3),5,10,20)))","v":50},{"$f":"IF(I85=1,D85,IF(I85=3,\"%\",\"mm\"))","v":"mm"},5,{"$f":"IF(AND(Worksheet!$D$12,RAND()<0.2),3,IF(RAND()<Worksheet!$D$10/100,1,2))","v":2},0.05," m",50,"mm"]
[{"$f":"IF(COUNTIF($B$1:B86,TRUE)=COUNTIF($B$1:B85,TRUE),\"\",COUNTIF($B$1:B86,TRUE))","v":67},{"$f":"Worksheet!$D$20","v":true},{"$f":"RANDBETWEEN(5,RANDBETWEEN(5,Worksheet!$D$8))","v":124},"kg","±",{"$f":"IF(I86=1,H86*10^RANDBETWEEN(IF(Worksheet!$D$14,-1,0),0),IF(I86=2,H86*10^RANDBETWEEN(RANDBETWEEN(0,2),2),CHOOSE(RANDBETWEEN(1,3),5,10,20)))","v":0.4},{"$f":"IF(I86=1,D86,IF(I86=3,\"%\",\"g\"))","v":"kg"},{"$f":"RANDBETWEEN(1,MIN(9,C86))","v":4},{"$f":"IF(AND(Worksheet!$D$12,RAND()<0.2),3,IF(RAND()<Worksheet!$D$10/100,1,2))","v":1},0.4,{"$f":"CONCATENATE(\" \",D86)","v":" kg"},400,"g"]
[{"$f":"IF(COUNTIF($B$1:B87,TRUE)=COUNTIF($B$1:B86,TRUE),\"\",COUNTIF($B$1:B87,TRUE))","v":68},{"$f":"Worksheet!$D$22","v":true},{"$f":"RANDBETWEEN(5,RANDBETWEEN(5,Worksheet!$D$8))","v":57},"tonnes","±",{"$f":"IF(I87=1,H87*10^RANDBETWEEN(IF(Worksheet!$D$14,-1,0),0),IF(I87=2,H87*10^RANDBETWEEN(RANDBETWEEN(0,2),2),CHOOSE(RANDBETWEEN(1,3),5,10,20)))","v":80},{"$f":"IF(I87=1,D87,IF(I87=3,\"%\",\"kg\"))","v":"kg"},{"$f":"RANDBETWEEN(1,MIN(9,C87))","v":8},{"$f":"IF(AND(Worksheet!$D$12,RAND()<0.2),3,IF(RAND()<Worksheet!$D$10/100,1,2))","v":2},0.08,{"$f":"CONCATENATE(\" \",D87)","v":" tonnes"},80,"kg"]
[{"$f":"IF(COUNTIF($B$1:B88,TRUE)=COUNTIF($B$1:B87,TRUE),\"\",COUNTIF($B$1:B88,TRUE))","v":69},{"$f":"Worksheet!$D$24","v":true},{"$f":"RANDBETWEEN(5,RANDBETWEEN(5,Worksheet!$D$8))","v":28},"litres","±",{"$f":"IF(I88=1,H88*10^RANDBETWEEN(IF(Worksheet!$D$14,-1,0),0),IF(I88=2,H88*10^RANDBETWEEN(RANDBETWEEN(0,2),2),CHOOSE(RANDBETWEEN(1,3),5,10,20)))","v":0.8},{"$f":"IF(I88=1,D88,IF(I88=3,\"%\",\"ml\"))","v":"litres"},{"$f":"RANDBETWEEN(1,MIN(9,C88))","v":8},{"$f":"IF(AND(Worksheet!$D$12,RAND()<0.2),3,IF(RAND()<Worksheet!$D$10/100,1,2))","v":1},0.8,{"$f":"CONCATENATE(\" \",D88)","v":" litres"},800,"ml"]
[{"$f":"IF(COUNTIF($B$1:B89,TRUE)=COUNTIF($B$1:B88,TRUE),\"\",COUNTIF($B$1:B89,TRUE))","v":""},{"$f":"Worksheet!$D$26","v":false},{"$f":"RANDBETWEEN(5,RANDBETWEEN(5,Worksheet!$D$8))","v":7},"litres","±",{"$f":"IF(I89=1,H89*10^RANDBETWEEN(IF(Worksheet!$D$14,-1,0),0),IF(I89=2,H89*10^RANDBETWEEN(RANDBETWEEN(0,2),2),CHOOSE(RANDBETWEEN(1,3),5,10,20)))","v":10},{"$f":"IF(I89=1,D89,IF(I89=3,\"%\",\"cm³\"))","v":"%"},{"$f":"RANDBETWEEN(1,MIN(9,C89))","v":1},{"$f":"IF(AND(Worksheet!$D$12,RAND()<0.2),3,IF(RAND()<Worksheet!$D$10/100,1,2))","v":3},0.70000000000000007,{"$f":"CONCATENATE(\" \",D89)","v":" litres"},700.00000000000011,"cm³"]
[{"$f":"IF(COUNTIF($B$1:B90,TRUE)=COUNTIF($B$1:B90,TRUE),\"\",COUNTIF($B$1:B90,TRUE))","v":""},{"$f":"Worksheet!$B$28","v":true},{"$f":"RANDBETWEEN(5,20)","v":20},"°C","±",{"$f":"IF(I90=1,H90*10^RANDBETWEEN(IF(Worksheet!$D$14,-1,0),0),IF(I90=2,H90,CHOOSE(RANDBETWEEN(1,3),5,10,20)))","v":0.5},{"$f":"IF(I90=1,D90,IF(I90=3,\"%\",\"sec\"))","v":"°C"},{"$f":"RANDBETWEEN(1,MIN(9,C90))","v":5},{"$f":"IF(AND(Worksheet!$D$12,RAND()<0),3,IF(RAND()<Worksheet!$D$10/100,1,2))","v":1},{"$f":"IF(I90=1,F90,IF(I90=2,F90,IF(I90=3,F90/100*C90,\"\")))","v":0.5},{"$f":"CONCATENATE(\" \",D90)","v":" °C"},{"$f":"IF(I90=1,F90,IF(I90=2,F90,IF(I90=3,F90/100*C90,\"\")))","v":0.5}," °C"]
[{"$f":"COUNTIF($B$1:B91,TRUE)","v":71},{"$f":"Worksheet!$B$20","v":true},{"$f":"RANDBETWEEN(5,RANDBETWEEN(5,Worksheet!$D$8))","v":156},"cm","±",{"$f":"IF(I91=1,H91*10^RANDBETWEEN(IF(Worksheet!$D$14,-1,0),0),IF(I91=2,H91,CHOOSE(RANDBETWEEN(1,3),5,10,20)))","v":0.2},{"$f":"IF(I91=1,D91,IF(I91=3,\"%\",\"mm\"))","v":"cm"},{"$f":"RANDBETWEEN(1,MIN(9,C91))","v":2},{"$f":"IF(AND(Worksheet!$D$12,RAND()<0.2),3,IF(RAND()<Worksheet!$D$10/100,1,2))","v":1},{"$f":"IF(I91=1,F91,IF(I91=2,F91/10,IF(I91=3,F91/100*C91,\"\")))","v":0.2},{"$f":"CONCATENATE(\" \",D91)","v":" cm"},{"$f":"IF(I91=1,F91*10,IF(I91=2,F91,IF(I91=3,F91/100*C91*10,\"\")))","v":2},"mm"]
[{"$f":"IF(COUNTIF($B$1:B92,TRUE)=COUNTIF($B$1:B91,TRUE),\"\",COUNTIF($B$1:B92,TRUE))","v":72},{"$f":"Worksheet!$B$22","v":true},{"$f":"RANDBETWEEN(5,RANDBETWEEN(5,Worksheet!$D$8))","v":9},"m","±",{"$f":"IF(I92=1,H92*10^RANDBETWEEN(IF(Worksheet!$D$14,-1,0),0),IF(I92=2,H92*10^RANDBETWEEN(RANDBETWEEN(0,1),1),CHOOSE(RANDBETWEEN(1,3),5,10,20)))","v":4},{"$f":"IF(I92=1,D92,IF(I92=3,\"%\",\"cm\"))","v":"m"},{"$f":"RANDBETWEEN(1,MIN(9,C92))","v":4},{"$f":"IF(AND(Worksheet!$D$12,RAND()<0.2),3,IF(RAND()<Worksheet!$D$10/100,1,2))","v":1},{"$f":"IF(I92=1,F92,IF(I92=2,F92/100,IF(I92=3,F92/100*C92,\"\")))","v":4},{"$f":"CONCATENATE(\" \",D92)","v":" m"},{"$f":"IF(I92=1,F92*100,IF(I92=2,F92,IF(I92=3,F92/100*C92*100,\"\")))","v":400},"cm"]
[{"$f":"IF(COUNTIF($B$1:B93,TRUE)=COUNTIF($B$1:B92,TRUE),\"\",COUNTIF($B$1:B93,TRUE))","v":73},{"$f":"Worksheet!$B$24","v":true},{"$f":"RANDBETWEEN(5,RANDBETWEEN(5,Worksheet!$D$8))","v":6},"km","±",{"$f":"IF(I93=1,H93*10^RANDBETWEEN(IF(Worksheet!$D$14,-1,0),0),IF(I93=2,H93*10^RANDBETWEEN(RANDBETWEEN(0,2),2),CHOOSE(RANDBETWEEN(1,3),5,10,20)))","v":4},{"$f":"IF(I93=1,D93,IF(I93=3,\"%\",\"m\"))","v":"km"},4,{"$f":"IF(AND(Worksheet!$D$12,RAND()<0.2),3,IF(RAND()<Worksheet!$D$10/100,1,2))","v":1},{"$f":"IF(I93=1,F93,IF(I93=2,F93/1000,IF(I93=3,F93/100*C93,\"\")))","v":4}," km",{"$f":"IF(I93=1,F93*1000,IF(I93=2,F93,IF(I93=3,F93/100*C93*1000,\"\")))","v":4000},"m"]
[{"$f":"IF(COUNTIF($B$1:B94,TRUE)=COUNTIF($B$1:B93,TRUE),\"\",COUNTIF($B$1:B94,TRUE))","v":""},{"$f":"Worksheet!$B$26","v":false},{"$f":"RANDBETWEEN(5,RANDBETWEEN(5,Worksheet!$D$8))","v":85},"m","±",{"$f":"IF(I94=1,H94*10^RANDBETWEEN(IF(Worksheet!$D$14,-1,0),0),IF(I94=2,H94*10^RANDBETWEEN(RANDBETWEEN(0,2),2),CHOOSE(RANDBETWEEN(1,3),5,10,20)))","v":0.2},{"$f":"IF(I94=1,D94,IF(I94=3,\"%\",\"mm\"))","v":"m"},2,{"$f":"IF(AND(Worksheet!$D$12,RAND()<0.2),3,IF(RAND()<Worksheet!$D$10/100,1,2))","v":1},0.2," m",200,"mm"]
[{"$f":"IF(COUNTIF($B$1:B95,TRUE)=COUNTIF($B$1:B94,TRUE),\"\",COUNTIF($B$1:B95,TRUE))","v":74},{"$f":"Worksheet!$D$20","v":true},{"$f":"RANDBETWEEN(5,RANDBETWEEN(5,Worksheet!$D$8))","v":139},"kg","±",{"$f":"IF(I95=1,H95*10^RANDBETWEEN(IF(Worksheet!$D$14,-1,0),0),IF(I95=2,H95*10^RANDBETWEEN(RANDBETWEEN(0,2),2),CHOOSE(RANDBETWEEN(1,3),5,10,20)))","v":300},{"$f":"IF(I95=1,D95,IF(I95=3,\"%\",\"g\"))","v":"g"},{"$f":"RANDBETWEEN(1,MIN(9,C95))","v":3},{"$f":"IF(AND(Worksheet!$D$12,RAND()<0.2),3,IF(RAND()<Worksheet!$D$10/100,1,2))","v":2},0.3,{"$f":"CONCATENATE(\" \",D95)","v":" kg"},300,"g"]
[{"$f":"IF(COUNTIF($B$1:B96,TRUE)=COUNTIF($B$1:B95,TRUE),\"\",COUNTIF($B$1:B96,TRUE))","v":75},{"$f":"Worksheet!$D$22","v":true},{"$f":"RANDBETWEEN(5,RANDBETWEEN(5,Worksheet!$D$8))","v":152},"tonnes","±",{"$f":"IF(I96=1,H96*10^RANDBETWEEN(IF(Worksheet!$D$14,-1,0),0),IF(I96=2,H96*10^RANDBETWEEN(RANDBETWEEN(0,2),2),CHOOSE(RANDBETWEEN(1,3),5,10,20)))","v":8},{"$f":"IF(I96=1,D96,IF(I96=3,\"%\",\"kg\"))","v":"tonnes"},{"$f":"RANDBETWEEN(1,MIN(9,C96))","v":8},{"$f":"IF(AND(Worksheet!$D$12,RAND()<0.2),3,IF(RAND()<Worksheet!$D$10/100,1,2))","v":1},8,{"$f":"CONCATENATE(\" \",D96)","v":" tonnes"},8000,"kg"]
[{"$f":"IF(COUNTIF($B$1:B97,TRUE)=COUNTIF($B$1:B96,TRUE),\"\",COUNTIF($B$1:B97,TRUE))","v":76},{"$f":"Worksheet!$D$24","v":true},{"$f":"RANDBETWEEN(5,RANDBETWEEN(5,Worksheet!$D$8))","v":74},"litres","±",{"$f":"IF(I97=1,H97*10^RANDBETWEEN(IF(Worksheet!$D$14,-1,0),0),IF(I97=2,H97*10^RANDBETWEEN(RANDBETWEEN(0,2),2),CHOOSE(RANDBETWEEN(1,3),5,10,20)))","v":0.60000000000000009},{"$f":"IF(I97=1,D97,IF(I97=3,\"%\",\"ml\"))","v":"litres"},{"$f":"RANDBETWEEN(1,MIN(9,C97))","v":6},{"$f":"IF(AND(Worksheet!$D$12,RAND()<0.2),3,IF(RAND()<Worksheet!$D$10/100,1,2))","v":1},0.60000000000000009,{"$f":"CONCATENATE(\" \",D97)","v":" litres"},600.00000000000011,"ml"]
[{"$f":"IF(COUNTIF($B$1:B98,TRUE)=COUNTIF($B$1:B97,TRUE),\"\",COUNTIF($B$1:B98,TRUE))","v":""},{"$f":"Worksheet!$D$26","v":false},{"$f":"RANDBETWEEN(5,RANDBETWEEN(5,Worksheet!$D$8))","v":28},"litres","±",{"$f":"IF(I98=1,H98*10^RANDBETWEEN(IF(Worksheet!$D$14,-1,0),0),IF(I98=2,H98*10^RANDBETWEEN(RANDBETWEEN(0,2),2),CHOOSE(RANDBETWEEN(1,3),5,10,20)))","v":0.70000000000000007},{"$f":"IF(I98=1,D98,IF(I98=3,\"%\",\"cm³\"))","v":"litres"},{"$f":"RANDBETWEEN(1,MIN(9,C98))","v":7},{"$f":"IF(AND(Worksheet!$D$12,RAND()<0.2),3,IF(RAND()<Worksheet!$D$10/100,1,2))","v":1},0.70000000000000007,{"$f":"CONCATENATE(\" \",D98)","v":" litres"},700.00000000000011,"cm³"]
[{"$f":"IF(COUNTIF($B$1:B99,TRUE)=COUNTIF($B$1:B99,TRUE),\"\",COUNTIF($B$1:B99,TRUE))","v":""},{"$f":"Worksheet!$B$28","v":true},{"$f":"RANDBETWEEN(5,20)","v":10},"°C","±",{"$f":"IF(I99=1,H99*10^RANDBETWEEN(IF(Worksheet!$D$14,-1,0),0),IF(I99=2,H99,CHOOSE(RANDBETWEEN(1,3),5,10,20)))","v":6},{"$f":"IF(I99=1,D99,IF(I99=3,\"%\",\"sec\"))","v":"sec"},{"$f":"RANDBETWEEN(1,MIN(9,C99))","v":6},{"$f":"IF(AND(Worksheet!$D$12,RAND()<0),3,IF(RAND()<Worksheet!$D$10/100,1,2))","v":2},{"$f":"IF(I99=1,F99,IF(I99=2,F99,IF(I99=3,F99/100*C99,\"\")))","v":6},{"$f":"CONCATENATE(\" \",D99)","v":" °C"},{"$f":"IF(I99=1,F99,IF(I99=2,F99,IF(I99=3,F99/100*C99,\"\")))","v":6}," °C"]
[{"$f":"COUNTIF($B$1:B100,TRUE)","v":78},{"$f":"Worksheet!$B$20","v":true},{"$f":"RANDBETWEEN(5,RANDBETWEEN(5,Worksheet!$D$8))","v":53},"cm","±",{"$f":"IF(I100=1,H100*10^RANDBETWEEN(IF(Worksheet!$D$14,-1,0),0),IF(I100=2,H100,CHOOSE(RANDBETWEEN(1,3),5,10,20)))","v":5},{"$f":"IF(I100=1,D100,IF(I100=3,\"%\",\"mm\"))","v":"cm"},{"$f":"RANDBETWEEN(1,MIN(9,C100))","v":5},{"$f":"IF(AND(Worksheet!$D$12,RAND()<0.2),3,IF(RAND()<Worksheet!$D$10/100,1,2))","v":1},{"$f":"IF(I100=1,F100,IF(I100=2,F100/10,IF(I100=3,F100/100*C100,\"\")))","v":5},{"$f":"CONCATENATE(\" \",D100)","v":" cm"},{"$f":"IF(I100=1,F100*10,IF(I100=2,F100,IF(I100=3,F100/100*C100*10,\"\")))","v":50},"mm"]
[{"$f":"IF(COUNTIF($B$1:B101,TRUE)=COUNTIF($B$1:B100,TRUE),\"\",COUNTIF($B$1:B101,TRUE))","v":79},{"$f":"Worksheet!$B$22","v":true},{"$f":"RANDBETWEEN(5,RANDBETWEEN(5,Worksheet!$D$8))","v":38},"m","±",{"$f":"IF(I101=1,H101*10^RANDBETWEEN(IF(Worksheet!$D$14,-1,0),0),IF(I101=2,H101*10^RANDBETWEEN(RANDBETWEEN(0,1),1),CHOOSE(RANDBETWEEN(1,3),5,10,20)))","v":20},{"$f":"IF(I101=1,D101,IF(I101=3,\"%\",\"cm\"))","v":"%"},{"$f":"RANDBETWEEN(1,MIN(9,C101))","v":7},{"$f":"IF(AND(Worksheet!$D$12,RAND()<0.2),3,IF(RAND()<Worksheet!$D$10/100,1,2))","v":3},{"$f":"IF(I101=1,F101,IF(I101=2,F101/100,IF(I101=3,F101/100*C101,\"\")))","v":7.6000000000000005},{"$f":"CONCATENATE(\" \",D101)","v":" m"},{"$f":"IF(I101=1,F101*100,IF(I101=2,F101,IF(I101=3,F101/100*C101*100,\"\")))","v":760},"cm"]
[{"$f":"IF(COUNTIF($B$1:B102,TRUE)=COUNTIF($B$1:B101,TRUE),\"\",COUNTIF($B$1:B102,TRUE))","v":80},{"$f":"Worksheet!$B$24","v":true},{"$f":"RANDBETWEEN(5,RANDBETWEEN(5,Worksheet!$D$8))","v":56},"km","±",{"$f":"IF(I102=1,H102*10^RANDBETWEEN(IF(Worksheet!$D$14,-1,0),0),IF(I102=2,H102*10^RANDBETWEEN(RANDBETWEEN(0,2),2),CHOOSE(RANDBETWEEN(1,3),5,10,20)))","v":10},{"$f":"IF(I102=1,D102,IF(I102=3,\"%\",\"m\"))","v":"%"},3,{"$f":"IF(AND(Worksheet!$D$12,RAND()<0.2),3,IF(RAND()<Worksheet!$D$10/100,1,2))","v":3},{"$f":"IF(I102=1,F102,IF(I102=2,F102/1000,IF(I102=3,F102/100*C102,\"\")))","v":5.6000000000000005}," km",{"$f":"IF(I102=1,F102*1000,IF(I102=2,F102,IF(I102=3,F102/100*C102*1000,\"\")))","v":5600.0000000000009},"m"]
[{"$f":"IF(COUNTIF($B$1:B103,TRUE)=COUNTIF($B$1:B102,TRUE),\"\",COUNTIF($B$1:B103,TRUE))","v":""},{"$f":"Worksheet!$B$26","v":false},{"$f":"RANDBETWEEN(5,RANDBETWEEN(5,Worksheet!$D$8))","v":19},"m","±",{"$f":"IF(I103=1,H103*10^RANDBETWEEN(IF(Worksheet!$D$14,-1,0),0),IF(I103=2,H103*10^RANDBETWEEN(RANDBETWEEN(0,2),2),CHOOSE(RANDBETWEEN(1,3),5,10,20)))","v":800},{"$f":"IF(I103=1,D103,IF(I103=3,\"%\",\"mm\"))","v":"mm"},8,{"$f":"IF(AND(Worksheet!$D$12,RAND()<0.2),3,IF(RAND()<Worksheet!$D$10/100,1,2))","v":2},0.8," m",800,"mm"]
[{"$f":"IF(COUNTIF($B$1:B104,TRUE)=COUNTIF($B$1:B103,TRUE),\"\",COUNTIF($B$1:B104,TRUE))","v":81},{"$f":"Worksheet!$D$20","v":true},{"$f":"RANDBETWEEN(5,RANDBETWEEN(5,Worksheet!$D$8))","v":164},"kg","±",{"$f":"IF(I104=1,H104*10^RANDBETWEEN(IF(Worksheet!$D$14,-1,0),0),IF(I104=2,H104*10^RANDBETWEEN(RANDBETWEEN(0,2),2),CHOOSE(RANDBETWEEN(1,3),5,10,20)))","v":0.30000000000000004},{"$f":"IF(I104=1,D104,IF(I104=3,\"%\",\"g\"))","v":"kg"},{"$f":"RANDBETWEEN(1,MIN(9,C104))","v":3},{"$f":"IF(AND(Worksheet!$D$12,RAND()<0.2),3,IF(RAND()<Worksheet!$D$10/100,1,2))","v":1},0.30000000000000004,{"$f":"CONCATENATE(\" \",D104)","v":" kg"},300.00000000000006,"g"]
[{"$f":"IF(COUNTIF($B$1:B105,TRUE)=COUNTIF($B$1:B104,TRUE),\"\",COUNTIF($B$1:B105,TRUE))","v":82},{"$f":"Worksheet!$D$22","v":true},{"$f":"RANDBETWEEN(5,RANDBETWEEN(5,Worksheet!$D$8))","v":37},"tonnes","±",{"$f":"IF(I105=1,H105*10^RANDBETWEEN(IF(Worksheet!$D$14,-1,0),0),IF(I105=2,H105*10^RANDBETWEEN(RANDBETWEEN(0,2),2),CHOOSE(RANDBETWEEN(1,3),5,10,20)))","v":4},{"$f":"IF(I105=1,D105,IF(I105=3,\"%\",\"kg\"))","v":"tonnes"},{"$f":"RANDBETWEEN(1,MIN(9,C105))","v":4},{"$f":"IF(AND(Worksheet!$D$12,RAND()<0.2),3,IF(RAND()<Worksheet!$D$10/100,1,2))","v":1},4,{"$f":"CONCATENATE(\" \",D105)","v":" tonnes"},4000,"kg"]
[{"$f":"IF(COUNTIF($B$1:B106,TRUE)=COUNTIF($B$1:B105,TRUE),\"\",COUNTIF($B$1:B106,TRUE))","v":83},{"$f":"Worksheet!$D$24","v":true},{"$f":"RANDBETWEEN(5,RANDBETWEEN(5,Worksheet!$D$8))","v":106},"litres","±",{"$f":"IF(I106=1,H106*10^RANDBETWEEN(IF(Worksheet!$D$14,-1,0),0),IF(I106=2,H106*10^RANDBETWEEN(RANDBETWEEN(0,2),2),CHOOSE(RANDBETWEEN(1,3),5,10,20)))","v":0.8},{"$f":"IF(I106=1,D106,IF(I106=3,\"%\",\"ml\"))","v":"litres"},{"$f":"RANDBETWEEN(1,MIN(9,C106))","v":8},{"$f":"IF(AND(Worksheet!$D$12,RAND()<0.2),3,IF(RAND()<Worksheet!$D$10/100,1,2))","v":1},0.8,{"$f":"CONCATENATE(\" \",D106)","v":" litres"},800,"ml"]
[{"$f":"IF(COUNTIF($B$1:B107,TRUE)=COUNTIF($B$1:B106,TRUE),\"\",COUNTIF($B$1:B107,TRUE))","v":""},{"$f":"Worksheet!$D$26","v":false},{"$f":"RANDBETWEEN(5,RANDBETWEEN(5,Worksheet!$D$8))","v":26},"litres","±",{"$f":"IF(I107=1,H107*10^RANDBETWEEN(IF(Worksheet!$D$14,-1,0),0),IF(I107=2,H107*10^RANDBETWEEN(RANDBETWEEN(0,2),2),CHOOSE(RANDBETWEEN(1,3),5,10,20)))","v":0.5},{"$f":"IF(I107=1,D107,IF(I107=3,\"%\",\"cm³\"))","v":"litres"},{"$f":"RANDBETWEEN(1,MIN(9,C107))","v":5},{"$f":"IF(AND(Worksheet!$D$12,RAND()<0.2),3,IF(RAND()<Worksheet!$D$10/100,1,2))","v":1},0.5,{"$f":"CONCATENATE(\" \",D107)","v":" litres"},500,"cm³"]
[{"$f":"IF(COUNTIF($B$1:B108,TRUE)=COUNTIF($B$1:B108,TRUE),\"\",COUNTIF($B$1:B108,TRUE))","v":""},{"$f":"Worksheet!$B$28","v":true},{"$f":"RANDBETWEEN(5,20)","v":18},"°C","±",{"$f":"IF(I108=1,H108*10^RANDBETWEEN(IF(Worksheet!$D$14,-1,0),0),IF(I108=2,H108,CHOOSE(RANDBETWEEN(1,3),5,10,20)))","v":0.60000000000000009},{"$f":"IF(I108=1,D108,IF(I108=3,\"%\",\"sec\"))","v":"°C"},{"$f":"RANDBETWEEN(1,MIN(9,C108))","v":6},{"$f":"IF(AND(Worksheet!$D$12,RAND()<0),3,IF(RAND()<Worksheet!$D$10/100,1,2))","v":1},{"$f":"IF(I108=1,F108,IF(I108=2,F108,IF(I108=3,F108/100*C108,\"\")))","v":0.60000000000000009},{"$f":"CONCATENATE(\" \",D108)","v":" °C"},{"$f":"IF(I108=1,F108,IF(I108=2,F108,IF(I108=3,F108/100*C108,\"\")))","v":0.60000000000000009}," °C"]
[{"$f":"COUNTIF($B$1:B109,TRUE)","v":85},{"$f":"Worksheet!$B$20","v":true},{"$f":"RANDBETWEEN(5,RANDBETWEEN(5,Worksheet!$D$8))","v":13},"cm","±",{"$f":"IF(I109=1,H109*10^RANDBETWEEN(IF(Worksheet!$D$14,-1,0),0),IF(I109=2,H109,CHOOSE(RANDBETWEEN(1,3),5,10,20)))","v":0.70000000000000007},{"$f":"IF(I109=1,D109,IF(I109=3,\"%\",\"mm\"))","v":"cm"},{"$f":"RANDBETWEEN(1,MIN(9,C109))","v":7},{"$f":"IF(AND(Worksheet!$D$12,RAND()<0.2),3,IF(RAND()<Worksheet!$D$10/100,1,2))","v":1},{"$f":"IF(I109=1,F109,IF(I109=2,F109/10,IF(I109=3,F109/100*C109,\"\")))","v":0.70000000000000007},{"$f":"CONCATENATE(\" \",D109)","v":" cm"},{"$f":"IF(I109=1,F109*10,IF(I109=2,F109,IF(I109=3,F109/100*C109*10,\"\")))","v":7.0000000000000009},"mm"]
[{"$f":"IF(COUNTIF($B$1:B110,TRUE)=COUNTIF($B$1:B109,TRUE),\"\",COUNTIF($B$1:B110,TRUE))","v":86},{"$f":"Worksheet!$B$22","v":true},{"$f":"RANDBETWEEN(5,RANDBETWEEN(5,Worksheet!$D$8))","v":8},"m","±",{"$f":"IF(I110=1,H110*10^RANDBETWEEN(IF(Worksheet!$D$14,-1,0),0),IF(I110=2,H110*10^RANDBETWEEN(RANDBETWEEN(0,1),1),CHOOSE(RANDBETWEEN(1,3),5,10,20)))","v":7},{"$f":"IF(I110=1,D110,IF(I110=3,\"%\",\"cm\"))","v":"m"},{"$f":"RANDBETWEEN(1,MIN(9,C110))","v":7},{"$f":"IF(AND(Worksheet!$D$12,RAND()<0.2),3,IF(RAND()<Worksheet!$D$10/100,1,2))","v":1},{"$f":"IF(I110=1,F110,IF(I110=2,F110/100,IF(I110=3,F110/100*C110,\"\")))","v":7},{"$f":"CONCATENATE(\" \",D110)","v":" m"},{"$f":"IF(I110=1,F110*100,IF(I110=2,F110,IF(I110=3,F110/100*C110*100,\"\")))","v":700},"cm"]
[{"$f":"IF(COUNTIF($B$1:B111,TRUE)=COUNTIF($B$1:B110,TRUE),\"\",COUNTIF($B$1:B111,TRUE))","v":87},{"$f":"Worksheet!$B$24","v":true},{"$f":"RANDBETWEEN(5,RANDBETWEEN(5,Worksheet!$D$8))","v":176},"km","±",{"$f":"IF(I111=1,H111*10^RANDBETWEEN(IF(Worksheet!$D$14,-1,0),0),IF(I111=2,H111*10^RANDBETWEEN(RANDBETWEEN(0,2),2),CHOOSE(RANDBETWEEN(1,3),5,10,20)))","v":9},{"$f":"IF(I111=1,D111,IF(I111=3,\"%\",\"m\"))","v":"km"},9,{"$f":"IF(AND(Worksheet!$D$12,RAND()<0.2),3,IF(RAND()<Worksheet!$D$10/100,1,2))","v":1},{"$f":"IF(I111=1,F111,IF(I111=2,F111/1000,IF(I111=3,F111/100*C111,\"\")))","v":9}," km",{"$f":"IF(I111=1,F111*1000,IF(I111=2,F111,IF(I111=3,F111/100*C111*1000,\"\")))","v":9000},"m"]
[{"$f":"IF(COUNTIF($B$1:B112,TRUE)=COUNTIF($B$1:B111,TRUE),\"\",COUNTIF($B$1:B112,TRUE))","v":""},{"$f":"Worksheet!$B$26","v":false},{"$f":"RANDBETWEEN(5,RANDBETWEEN(5,Worksheet!$D$8))","v":5},"m","±",{"$f":"IF(I112=1,H112*10^RANDBETWEEN(IF(Worksheet!$D$14,-1,0),0),IF(I112=2,H112*10^RANDBETWEEN(RANDBETWEEN(0,2),2),CHOOSE(RANDBETWEEN(1,3),5,10,20)))","v":500},{"$f":"IF(I112=1,D112,IF(I112=3,\"%\",\"mm\"))","v":"mm"},5,{"$f":"IF(AND(Worksheet!$D$12,RAND()<0.2),3,IF(RAND()<Worksheet!$D$10/100,1,2))","v":2},0.5," m",500,"mm"]
[{"$f":"IF(COUNTIF($B$1:B113,TRUE)=COUNTIF($B$1:B112,TRUE),\"\",COUNTIF($B$1:B113,TRUE))","v":88},{"$f":"Worksheet!$D$20","v":true},{"$f":"RANDBETWEEN(5,RANDBETWEEN(5,Worksheet!$D$8))","v":35},"kg","±",{"$f":"IF(I113=1,H113*10^RANDBETWEEN(IF(Worksheet!$D$14,-1,0),0),IF(I113=2,H113*10^RANDBETWEEN(RANDBETWEEN(0,2),2),CHOOSE(RANDBETWEEN(1,3),5,10,20)))","v":8},{"$f":"IF(I113=1,D113,IF(I113=3,\"%\",\"g\"))","v":"kg"},{"$f":"RANDBETWEEN(1,MIN(9,C113))","v":8},{"$f":"IF(AND(Worksheet!$D$12,RAND()<0.2),3,IF(RAND()<Worksheet!$D$10/100,1,2))","v":1},8,{"$f":"CONCATENATE(\" \",D113)","v":" kg"},8000,"g"]
[{"$f":"IF(COUNTIF($B$1:B114,TRUE)=COUNTIF($B$1:B113,TRUE),\"\",COUNTIF($B$1:B114,TRUE))","v":89},{"$f":"Worksheet!$D$22","v":true},{"$f":"RANDBETWEEN(5,RANDBETWEEN(5,Worksheet!$D$8))","v":86},"tonnes","±",{"$f":"IF(I114=1,H114*10^RANDBETWEEN(IF(Worksheet!$D$14,-1,0),0),IF(I114=2,H114*10^RANDBETWEEN(RANDBETWEEN(0,2),2),CHOOSE(RANDBETWEEN(1,3),5,10,20)))","v":5},{"$f":"IF(I114=1,D114,IF(I114=3,\"%\",\"kg\"))","v":"%"},{"$f":"RANDBETWEEN(1,MIN(9,C114))","v":1},{"$f":"IF(AND(Worksheet!$D$12,RAND()<0.2),3,IF(RAND()<Worksheet!$D$10/100,1,2))","v":3},4.3,{"$f":"CONCATENATE(\" \",D114)","v":" tonnes"},4300,"kg"]
[{"$f":"IF(COUNTIF($B$1:B115,TRUE)=COUNTIF($B$1:B114,TRUE),\"\",COUNTIF($B$1:B115,TRUE))","v":90},{"$f":"Worksheet!$D$24","v":true},{"$f":"RANDBETWEEN(5,RANDBETWEEN(5,Worksheet!$D$8))","v":7},"litres","±",{"$f":"IF(I115=1,H115*10^RANDBETWEEN(IF(Worksheet!$D$14,-1,0),0),IF(I115=2,H115*10^RANDBETWEEN(RANDBETWEEN(0,2),2),CHOOSE(RANDBETWEEN(1,3),5,10,20)))","v":4},{"$f":"IF(I115=1,D115,IF(I115=3,\"%\",\"ml\"))","v":"litres"},{"$f":"RANDBETWEEN(1,MIN(9,C115))","v":4},{"$f":"IF(AND(Worksheet!$D$12,RAND()<0.2),3,IF(RAND()<Worksheet!$D$10/100,1,2))","v":1},4,{"$f":"CONCATENATE(\" \",D115)","v":" litres"},4000,"ml"]
[{"$f":"IF(COUNTIF($B$1:B116,TRUE)=COUNTIF($B$1:B115,TRUE),\"\",COUNTIF($B$1:B116,TRUE))","v":""},{"$f":"Worksheet!$D$26","v":false},{"$f":"RANDBETWEEN(5,RANDBETWEEN(5,Worksheet!$D$8))","v":147},"litres","±",{"$f":"IF(I116=1,H116*10^RANDBETWEEN(IF(Worksheet!$D$14,-1,0),0),IF(I116=2,H116*10^RANDBETWEEN(RANDBETWEEN(0,2),2),CHOOSE(RANDBETWEEN(1,3),5,10,20)))","v":0.8},{"$f":"IF(I116=1,D116,IF(I116=3,\"%\",\"cm³\"))","v":"litres"},{"$f":"RANDBETWEEN(1,MIN(9,C116))","v":8},{"$f":"IF(AND(Worksheet!$D$12,RAND()<0.2),3,IF(RAND()<Worksheet!$D$10/100,1,2))","v":1},0.8,{"$f":"CONCATENATE(\" \",D116)","v":" litres"},800,"cm³"]
[{"$f":"IF(COUNTIF($B$1:B117,TRUE)=COUNTIF($B$1:B117,TRUE),\"\",COUNTIF($B$1:B117,TRUE))","v":""},{"$f":"Worksheet!$B$28","v":true},{"$f":"RANDBETWEEN(5,20)","v":6},"°C","±",{"$f":"IF(I117=1,H117*10^RANDBETWEEN(IF(Worksheet!$D$14,-1,0),0),IF(I117=2,H117,CHOOSE(RANDBETWEEN(1,3),5,10,20)))","v":0.30000000000000004},{"$f":"IF(I117=1,D117,IF(I117=3,\"%\",\"sec\"))","v":"°C"},{"$f":"RANDBETWEEN(1,MIN(9,C117))","v":3},{"$f":"IF(AND(Worksheet!$D$12,RAND()<0),3,IF(RAND()<Worksheet!$D$10/100,1,2))","v":1},{"$f":"IF(I117=1,F117,IF(I117=2,F117,IF(I117=3,F117/100*C117,\"\")))","v":0.30000000000000004},{"$f":"CONCATENATE(\" \",D117)","v":" °C"},{"$f":"IF(I117=1,F117,IF(I117=2,F117,IF(I117=3,F117/100*C117,\"\")))","v":0.30000000000000004}," °C"]
[{"$f":"COUNTIF($B$1:B118,TRUE)","v":92},{"$f":"Worksheet!$B$20","v":true},{"$f":"RANDBETWEEN(5,RANDBETWEEN(5,Worksheet!$D$8))","v":19},"cm","±",{"$f":"IF(I118=1,H118*10^RANDBETWEEN(IF(Worksheet!$D$14,-1,0),0),IF(I118=2,H118,CHOOSE(RANDBETWEEN(1,3),5,10,20)))","v":5},{"$f":"IF(I118=1,D118,IF(I118=3,\"%\",\"mm\"))","v":"%"},{"$f":"RANDBETWEEN(1,MIN(9,C118))","v":6},{"$f":"IF(AND(Worksheet!$D$12,RAND()<0.2),3,IF(RAND()<Worksheet!$D$10/100,1,2))","v":3},{"$f":"IF(I118=1,F118,IF(I118=2,F118/10,IF(I118=3,F118/100*C118,\"\")))","v":0.95000000000000007},{"$f":"CONCATENATE(\" \",D118)","v":" cm"},{"$f":"IF(I118=1,F118*10,IF(I118=2,F118,IF(I118=3,F118/100*C118*10,\"\")))","v":9.5},"mm"]
[{"$f":"IF(COUNTIF($B$1:B119,TRUE)=COUNTIF($B$1:B118,TRUE),\"\",COUNTIF($B$1:B119,TRUE))","v":93},{"$f":"Worksheet!$B$22","v":true},{"$f":"RANDBETWEEN(5,RANDBETWEEN(5,Worksheet!$D$8))","v":25},"m","±",{"$f":"IF(I119=1,H119*10^RANDBETWEEN(IF(Worksheet!$D$14,-1,0),0),IF(I119=2,H119*10^RANDBETWEEN(RANDBETWEEN(0,1),1),CHOOSE(RANDBETWEEN(1,3),5,10,20)))","v":9},{"$f":"IF(I119=1,D119,IF(I119=3,\"%\",\"cm\"))","v":"m"},{"$f":"RANDBETWEEN(1,MIN(9,C119))","v":9},{"$f":"IF(AND(Worksheet!$D$12,RAND()<0.2),3,IF(RAND()<Worksheet!$D$10/100,1,2))","v":1},{"$f":"IF(I119=1,F119,IF(I119=2,F119/100,IF(I119=3,F119/100*C119,\"\")))","v":9},{"$f":"CONCATENATE(\" \",D119)","v":" m"},{"$f":"IF(I119=1,F119*100,IF(I119=2,F119,IF(I119=3,F119/100*C119*100,\"\")))","v":900},"cm"]
[{"$f":"IF(COUNTIF($B$1:B120,TRUE)=COUNTIF($B$1:B119,TRUE),\"\",COUNTIF($B$1:B120,TRUE))","v":94},{"$f":"Worksheet!$B$24","v":true},{"$f":"RANDBETWEEN(5,RANDBETWEEN(5,Worksheet!$D$8))","v":30},"km","±",{"$f":"IF(I120=1,H120*10^RANDBETWEEN(IF(Worksheet!$D$14,-1,0),0),IF(I120=2,H120*10^RANDBETWEEN(RANDBETWEEN(0,2),2),CHOOSE(RANDBETWEEN(1,3),5,10,20)))","v":600},{"$f":"IF(I120=1,D120,IF(I120=3,\"%\",\"m\"))","v":"m"},6,{"$f":"IF(AND(Worksheet!$D$12,RAND()<0.2),3,IF(RAND()<Worksheet!$D$10/100,1,2))","v":2},{"$f":"IF(I120=1,F120,IF(I120=2,F120/1000,IF(I120=3,F120/100*C120,\"\")))","v":0.6}," km",{"$f":"IF(I120=1,F120*1000,IF(I120=2,F120,IF(I120=3,F120/100*C120*1000,\"\")))","v":600},"m"]
[{"$f":"IF(COUNTIF($B$1:B121,TRUE)=COUNTIF($B$1:B120,TRUE),\"\",COUNTIF($B$1:B121,TRUE))","v":""},{"$f":"Worksheet!$B$26","v":false},{"$f":"RANDBETWEEN(5,RANDBETWEEN(5,Worksheet!$D$8))","v":43},"m","±",{"$f":"IF(I121=1,H121*10^RANDBETWEEN(IF(Worksheet!$D$14,-1,0),0),IF(I121=2,H121*10^RANDBETWEEN(RANDBETWEEN(0,2),2),CHOOSE(RANDBETWEEN(1,3),5,10,20)))","v":0.5},{"$f":"IF(I121=1,D121,IF(I121=3,\"%\",\"mm\"))","v":"m"},5,{"$f":"IF(AND(Worksheet!$D$12,RAND()<0.2),3,IF(RAND()<Worksheet!$D$10/100,1,2))","v":1},0.5," m",500,"mm"]
[{"$f":"IF(COUNTIF($B$1:B122,TRUE)=COUNTIF($B$1:B121,TRUE),\"\",COUNTIF($B$1:B122,TRUE))","v":95},{"$f":"Worksheet!$D$20","v":true},{"$f":"RANDBETWEEN(5,RANDBETWEEN(5,Worksheet!$D$8))","v":66},"kg","±",{"$f":"IF(I122=1,H122*10^RANDBETWEEN(IF(Worksheet!$D$14,-1,0),0),IF(I122=2,H122*10^RANDBETWEEN(RANDBETWEEN(0,2),2),CHOOSE(RANDBETWEEN(1,3),5,10,20)))","v":400},{"$f":"IF(I122=1,D122,IF(I122=3,\"%\",\"g\"))","v":"g"},{"$f":"RANDBETWEEN(1,MIN(9,C122))","v":4},{"$f":"IF(AND(Worksheet!$D$12,RAND()<0.2),3,IF(RAND()<Worksheet!$D$10/100,1,2))","v":2},0.4,{"$f":"CONCATENATE(\" \",D122)","v":" kg"},400,"g"]
[{"$f":"IF(COUNTIF($B$1:B123,TRUE)=COUNTIF($B$1:B122,TRUE),\"\",COUNTIF($B$1:B123,TRUE))","v":96},{"$f":"Worksheet!$D$22","v":true},{"$f":"RANDBETWEEN(5,RANDBETWEEN(5,Worksheet!$D$8))","v":21},"tonnes","±",{"$f":"IF(I123=1,H123*10^RANDBETWEEN(IF(Worksheet!$D$14,-1,0),0),IF(I123=2,H123*10^RANDBETWEEN(RANDBETWEEN(0,2),2),CHOOSE(RANDBETWEEN(1,3),5,10,20)))","v":20},{"$f":"IF(I123=1,D123,IF(I123=3,\"%\",\"kg\"))","v":"%"},{"$f":"RANDBETWEEN(1,MIN(9,C123))","v":9},{"$f":"IF(AND(Worksheet!$D$12,RAND()<0.2),3,IF(RAND()<Worksheet!$D$10/100,1,2))","v":3},4.2,{"$f":"CONCATENATE(\" \",D123)","v":" tonnes"},4200,"kg"]
[{"$f":"IF(COUNTIF($B$1:B124,TRUE)=COUNTIF($B$1:B123,TRUE),\"\",COUNTIF($B$1:B124,TRUE))","v":97},{"$f":"Worksheet!$D$24","v":true},{"$f":"RANDBETWEEN(5,RANDBETWEEN(5,Worksheet!$D$8))","v":8},"litres","±",{"$f":"IF(I124=1,H124*10^RANDBETWEEN(IF(Worksheet!$D$14,-1,0),0),IF(I124=2,H124*10^RANDBETWEEN(RANDBETWEEN(0,2),2),CHOOSE(RANDBETWEEN(1,3),5,10,20)))","v":6},{"$f":"IF(I124=1,D124,IF(I124=3,\"%\",\"ml\"))","v":"litres"},{"$f":"RANDBETWEEN(1,MIN(9,C124))","v":6},{"$f":"IF(AND(Worksheet!$D$12,RAND()<0.2),3,IF(RAND()<Worksheet!$D$10/100,1,2))","v":1},6,{"$f":"CONCATENATE(\" \",D124)","v":" litres"},6000,"ml"]
[{"$f":"IF(COUNTIF($B$1:B125,TRUE)=COUNTIF($B$1:B124,TRUE),\"\",COUNTIF($B$1:B125,TRUE))","v":""},{"$f":"Worksheet!$D$26","v":false},{"$f":"RANDBETWEEN(5,RANDBETWEEN(5,Worksheet!$D$8))","v":50},"litres","±",{"$f":"IF(I125=1,H125*10^RANDBETWEEN(IF(Worksheet!$D$14,-1,0),0),IF(I125=2,H125*10^RANDBETWEEN(RANDBETWEEN(0,2),2),CHOOSE(RANDBETWEEN(1,3),5,10,20)))","v":0.5},{"$f":"IF(I125=1,D125,IF(I125=3,\"%\",\"cm³\"))","v":"litres"},{"$f":"RANDBETWEEN(1,MIN(9,C125))","v":5},{"$f":"IF(AND(Worksheet!$D$12,RAND()<0.2),3,IF(RAND()<Worksheet!$D$10/100,1,2))","v":1},0.5,{"$f":"CONCATENATE(\" \",D125)","v":" litres"},500,"cm³"]
[{"$f":"IF(COUNTIF($B$1:B126,TRUE)=COUNTIF($B$1:B126,TRUE),\"\",COUNTIF($B$1:B126,TRUE))","v":""},{"$f":"Worksheet!$B$28","v":true},{"$f":"RANDBETWEEN(5,20)","v":14},"°C","±",{"$f":"IF(I126=1,H126*10^RANDBETWEEN(IF(Worksheet!$D$14,-1,0),0),IF(I126=2,H126,CHOOSE(RANDBETWEEN(1,3),5,10,20)))","v":8},{"$f":"IF(I126=1,D126,IF(I126=3,\"%\",\"sec\"))","v":"°C"},{"$f":"RANDBETWEEN(1,MIN(9,C126))","v":8},{"$f":"IF(AND(Worksheet!$D$12,RAND()<0),3,IF(RAND()<Worksheet!$D$10/100,1,2))","v":1},{"$f":"IF(I126=1,F126,IF(I126=2,F126,IF(I126=3,F126/100*C126,\"\")))","v":8},{"$f":"CONCATENATE(\" \",D126)","v":" °C"},{"$f":"IF(I126=1,F126,IF(I126=2,F126,IF(I126=3,F126/100*C126,\"\")))","v":8}," °C"]
[{"$f":"COUNTIF($B$1:B127,TRUE)","v":99},{"$f":"Worksheet!$B$20","v":true},{"$f":"RANDBETWEEN(5,RANDBETWEEN(5,Worksheet!$D$8))","v":58},"cm","±",{"$f":"IF(I127=1,H127*10^RANDBETWEEN(IF(Worksheet!$D$14,-1,0),0),IF(I127=2,H127,CHOOSE(RANDBETWEEN(1,3),5,10,20)))","v":20},{"$f":"IF(I127=1,D127,IF(I127=3,\"%\",\"mm\"))","v":"%"},{"$f":"RANDBETWEEN(1,MIN(9,C127))","v":8},{"$f":"IF(AND(Worksheet!$D$12,RAND()<0.2),3,IF(RAND()<Worksheet!$D$10/100,1,2))","v":3},{"$f":"IF(I127=1,F127,IF(I127=2,F127/10,IF(I127=3,F127/100*C127,\"\")))","v":11.600000000000001},{"$f":"CONCATENATE(\" \",D127)","v":" cm"},{"$f":"IF(I127=1,F127*10,IF(I127=2,F127,IF(I127=3,F127/100*C127*10,\"\")))","v":116.00000000000001},"mm"]
[{"$f":"IF(COUNTIF($B$1:B128,TRUE)=COUNTIF($B$1:B127,TRUE),\"\",COUNTIF($B$1:B128,TRUE))","v":100},{"$f":"Worksheet!$B$22","v":true},{"$f":"RANDBETWEEN(5,RANDBETWEEN(5,Worksheet!$D$8))","v":120},"m","±",{"$f":"IF(I128=1,H128*10^RANDBETWEEN(IF(Worksheet!$D$14,-1,0),0),IF(I128=2,H128*10^RANDBETWEEN(RANDBETWEEN(0,1),1),CHOOSE(RANDBETWEEN(1,3),5,10,20)))","v":8},{"$f":"IF(I128=1,D128,IF(I128=3,\"%\",\"cm\"))","v":"m"},{"$f":"RANDBETWEEN(1,MIN(9,C128))","v":8},{"$f":"IF(AND(Worksheet!$D$12,RAND()<0.2),3,IF(RAND()<Worksheet!$D$10/100,1,2))","v":1},{"$f":"IF(I128=1,F128,IF(I128=2,F128/100,IF(I128=3,F128/100*C128,\"\")))","v":8},{"$f":"CONCATENATE(\" \",D128)","v":" m"},{"$f":"IF(I128=1,F128*100,IF(I128=2,F128,IF(I128=3,F128/100*C128*100,\"\")))","v":800},"cm"]
[{"$f":"IF(COUNTIF($B$1:B129,TRUE)=COUNTIF($B$1:B128,TRUE),\"\",COUNTIF($B$1:B129,TRUE))","v":101},{"$f":"Worksheet!$B$24","v":true},{"$f":"RANDBETWEEN(5,RANDBETWEEN(5,Worksheet!$D$8))","v":16},"km","±",{"$f":"IF(I129=1,H129*10^RANDBETWEEN(IF(Worksheet!$D$14,-1,0),0),IF(I129=2,H129*10^RANDBETWEEN(RANDBETWEEN(0,2),2),CHOOSE(RANDBETWEEN(1,3),5,10,20)))","v":10},{"$f":"IF(I129=1,D129,IF(I129=3,\"%\",\"m\"))","v":"%"},1,{"$f":"IF(AND(Worksheet!$D$12,RAND()<0.2),3,IF(RAND()<Worksheet!$D$10/100,1,2))","v":3},{"$f":"IF(I129=1,F129,IF(I129=2,F129/1000,IF(I129=3,F129/100*C129,\"\")))","v":1.6}," km",{"$f":"IF(I129=1,F129*1000,IF(I129=2,F129,IF(I129=3,F129/100*C129*1000,\"\")))","v":1600},"m"]
[{"$f":"IF(COUNTIF($B$1:B130,TRUE)=COUNTIF($B$1:B129,TRUE),\"\",COUNTIF($B$1:B130,TRUE))","v":""},{"$f":"Worksheet!$B$26","v":false},{"$f":"RANDBETWEEN(5,RANDBETWEEN(5,Worksheet!$D$8))","v":23},"m","±",{"$f":"IF(I130=1,H130*10^RANDBETWEEN(IF(Worksheet!$D$14,-1,0),0),IF(I130=2,H130*10^RANDBETWEEN(RANDBETWEEN(0,2),2),CHOOSE(RANDBETWEEN(1,3),5,10,20)))","v":5},{"$f":"IF(I130=1,D130,IF(I130=3,\"%\",\"mm\"))","v":"m"},5,{"$f":"IF(AND(Worksheet!$D$12,RAND()<0.2),3,IF(RAND()<Worksheet!$D$10/100,1,2))","v":1},5," m",5000,"mm"]
[{"$f":"IF(COUNTIF($B$1:B131,TRUE)=COUNTIF($B$1:B130,TRUE),\"\",COUNTIF($B$1:B131,TRUE))","v":102},{"$f":"Worksheet!$D$20","v":true},{"$f":"RANDBETWEEN(5,RANDBETWEEN(5,Worksheet!$D$8))","v":91},"kg","±",{"$f":"IF(I131=1,H131*10^RANDBETWEEN(IF(Worksheet!$D$14,-1,0),0),IF(I131=2,H131*10^RANDBETWEEN(RANDBETWEEN(0,2),2),CHOOSE(RANDBETWEEN(1,3),5,10,20)))","v":500},{"$f":"IF(I131=1,D131,IF(I131=3,\"%\",\"g\"))","v":"g"},{"$f":"RANDBETWEEN(1,MIN(9,C131))","v":5},{"$f":"IF(AND(Worksheet!$D$12,RAND()<0.2),3,IF(RAND()<Worksheet!$D$10/100,1,2))","v":2},0.5,{"$f":"CONCATENATE(\" \",D131)","v":" kg"},500,"g"]
[{"$f":"IF(COUNTIF($B$1:B132,TRUE)=COUNTIF($B$1:B131,TRUE),\"\",COUNTIF($B$1:B132,TRUE))","v":103},{"$f":"Worksheet!$D$22","v":true},{"$f":"RANDBETWEEN(5,RANDBETWEEN(5,Worksheet!$D$8))","v":88},"tonnes","±",{"$f":"IF(I132=1,H132*10^RANDBETWEEN(IF(Worksheet!$D$14,-1,0),0),IF(I132=2,H132*10^RANDBETWEEN(RANDBETWEEN(0,2),2),CHOOSE(RANDBETWEEN(1,3),5,10,20)))","v":0.5},{"$f":"IF(I132=1,D132,IF(I132=3,\"%\",\"kg\"))","v":"tonnes"},{"$f":"RANDBETWEEN(1,MIN(9,C132))","v":5},{"$f":"IF(AND(Worksheet!$D$12,RAND()<0.2),3,IF(RAND()<Worksheet!$D$10/100,1,2))","v":1},0.5,{"$f":"CONCATENATE(\" \",D132)","v":" tonnes"},500,"kg"]
[{"$f":"IF(COUNTIF($B$1:B133,TRUE)=COUNTIF($B$1:B132,TRUE),\"\",COUNTIF($B$1:B133,TRUE))","v":104},{"$f":"Worksheet!$D$24","v":true},{"$f":"RANDBETWEEN(5,RANDBETWEEN(5,Worksheet!$D$8))","v":5},"litres","±",{"$f":"IF(I133=1,H133*10^RANDBETWEEN(IF(Worksheet!$D$14,-1,0),0),IF(I133=2,H133*10^RANDBETWEEN(RANDBETWEEN(0,2),2),CHOOSE(RANDBETWEEN(1,3),5,10,20)))","v":0.4},{"$f":"IF(I133=1,D133,IF(I133=3,\"%\",\"ml\"))","v":"litres"},{"$f":"RANDBETWEEN(1,MIN(9,C133))","v":4},{"$f":"IF(AND(Worksheet!$D$12,RAND()<0.2),3,IF(RAND()<Worksheet!$D$10/100,1,2))","v":1},0.4,{"$f":"CONCATENATE(\" \",D133)","v":" litres"},400,"ml"]
[{"$f":"IF(COUNTIF($B$1:B134,TRUE)=COUNTIF($B$1:B133,TRUE),\"\",COUNTIF($B$1:B134,TRUE))","v":""},{"$f":"Worksheet!$D$26","v":false},{"$f":"RANDBETWEEN(5,RANDBETWEEN(5,Worksheet!$D$8))","v":82},"litres","±",{"$f":"IF(I134=1,H134*10^RANDBETWEEN(IF(Worksheet!$D$14,-1,0),0),IF(I134=2,H134*10^RANDBETWEEN(RANDBETWEEN(0,2),2),CHOOSE(RANDBETWEEN(1,3),5,10,20)))","v":10},{"$f":"IF(I134=1,D134,IF(I134=3,\"%\",\"cm³\"))","v":"%"},{"$f":"RANDBETWEEN(1,MIN(9,C134))","v":3},{"$f":"IF(AND(Worksheet!$D$12,RAND()<0.2),3,IF(RAND()<Worksheet!$D$10/100,1,2))","v":3},8.2000000000000011,{"$f":"CONCATENATE(\" \",D134)","v":" litres"},8200.0000000000018,"cm³"]
[{"$f":"IF(COUNTIF($B$1:B135,TRUE)=COUNTIF($B$1:B135,TRUE),\"\",COUNTIF($B$1:B135,TRUE))","v":""},{"$f":"Worksheet!$B$28","v":true},{"$f":"RANDBETWEEN(5,20)","v":9},"°C","±",{"$f":"IF(I135=1,H135*10^RANDBETWEEN(IF(Worksheet!$D$14,-1,0),0),IF(I135=2,H135,CHOOSE(RANDBETWEEN(1,3),5,10,20)))","v":0.1},{"$f":"IF(I135=1,D135,IF(I135=3,\"%\",\"sec\"))","v":"°C"},{"$f":"RANDBETWEEN(1,MIN(9,C135))","v":1},{"$f":"IF(AND(Worksheet!$D$12,RAND()<0),3,IF(RAND()<Worksheet!$D$10/100,1,2))","v":1},{"$f":"IF(I135=1,F135,IF(I135=2,F135,IF(I135=3,F135/100*C135,\"\")))","v":0.1},{"$f":"CONCATENATE(\" \",D135)","v":" °C"},{"$f":"IF(I135=1,F135,IF(I135=2,F135,IF(I135=3,F135/100*C135,\"\")))","v":0.1}," °C"]
[{"$f":"COUNTIF($B$1:B136,TRUE)","v":106},{"$f":"Worksheet!$B$20","v":true},{"$f":"RANDBETWEEN(5,RANDBETWEEN(5,Worksheet!$D$8))","v":19},"cm","±",{"$f":"IF(I136=1,H136*10^RANDBETWEEN(IF(Worksheet!$D$14,-1,0),0),IF(I136=2,H136,CHOOSE(RANDBETWEEN(1,3),5,10,20)))","v":0.1},{"$f":"IF(I136=1,D136,IF(I136=3,\"%\",\"mm\"))","v":"cm"},{"$f":"RANDBETWEEN(1,MIN(9,C136))","v":1},{"$f":"IF(AND(Worksheet!$D$12,RAND()<0.2),3,IF(RAND()<Worksheet!$D$10/100,1,2))","v":1},{"$f":"IF(I136=1,F136,IF(I136=2,F136/10,IF(I136=3,F136/100*C136,\"\")))","v":0.1},{"$f":"CONCATENATE(\" \",D136)","v":" cm"},{"$f":"IF(I136=1,F136*10,IF(I136=2,F136,IF(I136=3,F136/100*C136*10,\"\")))","v":1},"mm"]
[{"$f":"IF(COUNTIF($B$1:B137,TRUE)=COUNTIF($B$1:B136,TRUE),\"\",COUNTIF($B$1:B137,TRUE))","v":107},{"$f":"Worksheet!$B$22","v":true},{"$f":"RANDBETWEEN(5,RANDBETWEEN(5,Worksheet!$D$8))","v":142},"m","±",{"$f":"IF(I137=1,H137*10^RANDBETWEEN(IF(Worksheet!$D$14,-1,0),0),IF(I137=2,H137*10^RANDBETWEEN(RANDBETWEEN(0,1),1),CHOOSE(RANDBETWEEN(1,3),5,10,20)))","v":5},{"$f":"IF(I137=1,D137,IF(I137=3,\"%\",\"cm\"))","v":"%"},{"$f":"RANDBETWEEN(1,MIN(9,C137))","v":5},{"$f":"IF(AND(Worksheet!$D$12,RAND()<0.2),3,IF(RAND()<Worksheet!$D$10/100,1,2))","v":3},{"$f":"IF(I137=1,F137,IF(I137=2,F137/100,IF(I137=3,F137/100*C137,\"\")))","v":7.1000000000000005},{"$f":"CONCATENATE(\" \",D137)","v":" m"},{"$f":"IF(I137=1,F137*100,IF(I137=2,F137,IF(I137=3,F137/100*C137*100,\"\")))","v":710},"cm"]
[{"$f":"IF(COUNTIF($B$1:B138,TRUE)=COUNTIF($B$1:B137,TRUE),\"\",COUNTIF($B$1:B138,TRUE))","v":108},{"$f":"Worksheet!$B$24","v":true},{"$f":"RANDBETWEEN(5,RANDBETWEEN(5,Worksheet!$D$8))","v":21},"km","±",{"$f":"IF(I138=1,H138*10^RANDBETWEEN(IF(Worksheet!$D$14,-1,0),0),IF(I138=2,H138*10^RANDBETWEEN(RANDBETWEEN(0,2),2),CHOOSE(RANDBETWEEN(1,3),5,10,20)))","v":2},{"$f":"IF(I138=1,D138,IF(I138=3,\"%\",\"m\"))","v":"km"},2,{"$f":"IF(AND(Worksheet!$D$12,RAND()<0.2),3,IF(RAND()<Worksheet!$D$10/100,1,2))","v":1},{"$f":"IF(I138=1,F138,IF(I138=2,F138/1000,IF(I138=3,F138/100*C138,\"\")))","v":2}," km",{"$f":"IF(I138=1,F138*1000,IF(I138=2,F138,IF(I138=3,F138/100*C138*1000,\"\")))","v":2000},"m"]
[{"$f":"IF(COUNTIF($B$1:B139,TRUE)=COUNTIF($B$1:B138,TRUE),\"\",COUNTIF($B$1:B139,TRUE))","v":""},{"$f":"Worksheet!$B$26","v":false},{"$f":"RANDBETWEEN(5,RANDBETWEEN(5,Worksheet!$D$8))","v":79},"m","±",{"$f":"IF(I139=1,H139*10^RANDBETWEEN(IF(Worksheet!$D$14,-1,0),0),IF(I139=2,H139*10^RANDBETWEEN(RANDBETWEEN(0,2),2),CHOOSE(RANDBETWEEN(1,3),5,10,20)))","v":0.4},{"$f":"IF(I139=1,D139,IF(I139=3,\"%\",\"mm\"))","v":"m"},4,{"$f":"IF(AND(Worksheet!$D$12,RAND()<0.2),3,IF(RAND()<Worksheet!$D$10/100,1,2))","v":1},0.4," m",400,"mm"]
[{"$f":"IF(COUNTIF($B$1:B140,TRUE)=COUNTIF($B$1:B139,TRUE),\"\",COUNTIF($B$1:B140,TRUE))","v":109},{"$f":"Worksheet!$D$20","v":true},{"$f":"RANDBETWEEN(5,RANDBETWEEN(5,Worksheet!$D$8))","v":18},"kg","±",{"$f":"IF(I140=1,H140*10^RANDBETWEEN(IF(Worksheet!$D$14,-1,0),0),IF(I140=2,H140*10^RANDBETWEEN(RANDBETWEEN(0,2),2),CHOOSE(RANDBETWEEN(1,3),5,10,20)))","v":2},{"$f":"IF(I140=1,D140,IF(I140=3,\"%\",\"g\"))","v":"kg"},{"$f":"RANDBETWEEN(1,MIN(9,C140))","v":2},{"$f":"IF(AND(Worksheet!$D$12,RAND()<0.2),3,IF(RAND()<Worksheet!$D$10/100,1,2))","v":1},2,{"$f":"CONCATENATE(\" \",D140)","v":" kg"},2000,"g"]
[{"$f":"IF(COUNTIF($B$1:B141,TRUE)=COUNTIF($B$1:B140,TRUE),\"\",COUNTIF($B$1:B141,TRUE))","v":110},{"$f":"Worksheet!$D$22","v":true},{"$f":"RANDBETWEEN(5,RANDBETWEEN(5,Worksheet!$D$8))","v":5},"tonnes","±",{"$f":"IF(I141=1,H141*10^RANDBETWEEN(IF(Worksheet!$D$14,-1,0),0),IF(I141=2,H141*10^RANDBETWEEN(RANDBETWEEN(0,2),2),CHOOSE(RANDBETWEEN(1,3),5,10,20)))","v":2},{"$f":"IF(I141=1,D141,IF(I141=3,\"%\",\"kg\"))","v":"tonnes"},{"$f":"RANDBETWEEN(1,MIN(9,C141))","v":2},{"$f":"IF(AND(Worksheet!$D$12,RAND()<0.2),3,IF(RAND()<Worksheet!$D$10/100,1,2))","v":1},2,{"$f":"CONCATENATE(\" \",D141)","v":" tonnes"},2000,"kg"]
[{"$f":"IF(COUNTIF($B$1:B142,TRUE)=COUNTIF($B$1:B141,TRUE),\"\",COUNTIF($B$1:B142,TRUE))","v":111},{"$f":"Worksheet!$D$24","v":true},{"$f":"RANDBETWEEN(5,RANDBETWEEN(5,Worksheet!$D$8))","v":21},"litres","±",{"$f":"IF(I142=1,H142*10^RANDBETWEEN(IF(Worksheet!$D$14,-1,0),0),IF(I142=2,H142*10^RANDBETWEEN(RANDBETWEEN(0,2),2),CHOOSE(RANDBETWEEN(1,3),5,10,20)))","v":5},{"$f":"IF(I142=1,D142,IF(I142=3,\"%\",\"ml\"))","v":"%"},{"$f":"RANDBETWEEN(1,MIN(9,C142))","v":1},{"$f":"IF(AND(Worksheet!$D$12,RAND()<0.2),3,IF(RAND()<Worksheet!$D$10/100,1,2))","v":3},1.05,{"$f":"CONCATENATE(\" \",D142)","v":" litres"},1050,"ml"]
[{"$f":"IF(COUNTIF($B$1:B143,TRUE)=COUNTIF($B$1:B142,TRUE),\"\",COUNTIF($B$1:B143,TRUE))","v":""},{"$f":"Worksheet!$D$26","v":false},{"$f":"RANDBETWEEN(5,RANDBETWEEN(5,Worksheet!$D$8))","v":90},"litres","±",{"$f":"IF(I143=1,H143*10^RANDBETWEEN(IF(Worksheet!$D$14,-1,0),0),IF(I143=2,H143*10^RANDBETWEEN(RANDBETWEEN(0,2),2),CHOOSE(RANDBETWEEN(1,3),5,10,20)))","v":0.2},{"$f":"IF(I143=1,D143,IF(I143=3,\"%\",\"cm³\"))","v":"litres"},{"$f":"RANDBETWEEN(1,MIN(9,C143))","v":2},{"$f":"IF(AND(Worksheet!$D$12,RAND()<0.2),3,IF(RAND()<Worksheet!$D$10/100,1,2))","v":1},0.2,{"$f":"CONCATENATE(\" \",D143)","v":" litres"},200,"cm³"]
[{"$f":"IF(COUNTIF($B$1:B144,TRUE)=COUNTIF($B$1:B144,TRUE),\"\",COUNTIF($B$1:B144,TRUE))","v":""},{"$f":"Worksheet!$B$28","v":true},{"$f":"RANDBETWEEN(5,20)","v":19},"°C","±",{"$f":"IF(I144=1,H144*10^RANDBETWEEN(IF(Worksheet!$D$14,-1,0),0),IF(I144=2,H144,CHOOSE(RANDBETWEEN(1,3),5,10,20)))","v":2},{"$f":"IF(I144=1,D144,IF(I144=3,\"%\",\"sec\"))","v":"sec"},{"$f":"RANDBETWEEN(1,MIN(9,C144))","v":2},{"$f":"IF(AND(Worksheet!$D$12,RAND()<0),3,IF(RAND()<Worksheet!$D$10/100,1,2))","v":2},{"$f":"IF(I144=1,F144,IF(I144=2,F144,IF(I144=3,F144/100*C144,\"\")))","v":2},{"$f":"CONCATENATE(\" \",D144)","v":" °C"},{"$f":"IF(I144=1,F144,IF(I144=2,F144,IF(I144=3,F144/100*C144,\"\")))","v":2}," °C"]
[{"$f":"COUNTIF($B$1:B145,TRUE)","v":113},{"$f":"Worksheet!$B$20","v":true},{"$f":"RANDBETWEEN(5,RANDBETWEEN(5,Worksheet!$D$8))","v":91},"cm","±",{"$f":"IF(I145=1,H145*10^RANDBETWEEN(IF(Worksheet!$D$14,-1,0),0),IF(I145=2,H145,CHOOSE(RANDBETWEEN(1,3),5,10,20)))","v":0.5},{"$f":"IF(I145=1,D145,IF(I145=3,\"%\",\"mm\"))","v":"cm"},{"$f":"RANDBETWEEN(1,MIN(9,C145))","v":5},{"$f":"IF(AND(Worksheet!$D$12,RAND()<0.2),3,IF(RAND()<Worksheet!$D$10/100,1,2))","v":1},{"$f":"IF(I145=1,F145,IF(I145=2,F145/10,IF(I145=3,F145/100*C145,\"\")))","v":0.5},{"$f":"CONCATENATE(\" \",D145)","v":" cm"},{"$f":"IF(I145=1,F145*10,IF(I145=2,F145,IF(I145=3,F145/100*C145*10,\"\")))","v":5},"mm"]
[{"$f":"IF(COUNTIF($B$1:B146,TRUE)=COUNTIF($B$1:B145,TRUE),\"\",COUNTIF($B$1:B146,TRUE))","v":114},{"$f":"Worksheet!$B$22","v":true},{"$f":"RANDBETWEEN(5,RANDBETWEEN(5,Worksheet!$D$8))","v":71},"m","±",{"$f":"IF(I146=1,H146*10^RANDBETWEEN(IF(Worksheet!$D$14,-1,0),0),IF(I146=2,H146*10^RANDBETWEEN(RANDBETWEEN(0,1),1),CHOOSE(RANDBETWEEN(1,3),5,10,20)))","v":10},{"$f":"IF(I146=1,D146,IF(I146=3,\"%\",\"cm\"))","v":"cm"},{"$f":"RANDBETWEEN(1,MIN(9,C146))","v":1},{"$f":"IF(AND(Worksheet!$D$12,RAND()<0.2),3,IF(RAND()<Worksheet!$D$10/100,1,2))","v":2},{"$f":"IF(I146=1,F146,IF(I146=2,F146/100,IF(I146=3,F146/100*C146,\"\")))","v":0.1},{"$f":"CONCATENATE(\" \",D146)","v":" m"},{"$f":"IF(I146=1,F146*100,IF(I146=2,F146,IF(I146=3,F146/100*C146*100,\"\")))","v":10},"cm"]
[{"$f":"IF(COUNTIF($B$1:B147,TRUE)=COUNTIF($B$1:B146,TRUE),\"\",COUNTIF($B$1:B147,TRUE))","v":115},{"$f":"Worksheet!$B$24","v":true},{"$f":"RANDBETWEEN(5,RANDBETWEEN(5,Worksheet!$D$8))","v":12},"km","±",{"$f":"IF(I147=1,H147*10^RANDBETWEEN(IF(Worksheet!$D$14,-1,0),0),IF(I147=2,H147*10^RANDBETWEEN(RANDBETWEEN(0,2),2),CHOOSE(RANDBETWEEN(1,3),5,10,20)))","v":0.1},{"$f":"IF(I147=1,D147,IF(I147=3,\"%\",\"m\"))","v":"km"},1,{"$f":"IF(AND(Worksheet!$D$12,RAND()<0.2),3,IF(RAND()<Worksheet!$D$10/100,1,2))","v":1},{"$f":"IF(I147=1,F147,IF(I147=2,F147/1000,IF(I147=3,F147/100*C147,\"\")))","v":0.1}," km",{"$f":"IF(I147=1,F147*1000,IF(I147=2,F147,IF(I147=3,F147/100*C147*1000,\"\")))","v":100},"m"]
[{"$f":"IF(COUNTIF($B$1:B148,TRUE)=COUNTIF($B$1:B147,TRUE),\"\",COUNTIF($B$1:B148,TRUE))","v":""},{"$f":"Worksheet!$B$26","v":false},{"$f":"RANDBETWEEN(5,RANDBETWEEN(5,Worksheet!$D$8))","v":40},"m","±",{"$f":"IF(I148=1,H148*10^RANDBETWEEN(IF(Worksheet!$D$14,-1,0),0),IF(I148=2,H148*10^RANDBETWEEN(RANDBETWEEN(0,2),2),CHOOSE(RANDBETWEEN(1,3),5,10,20)))","v":9},{"$f":"IF(I148=1,D148,IF(I148=3,\"%\",\"mm\"))","v":"m"},9,{"$f":"IF(AND(Worksheet!$D$12,RAND()<0.2),3,IF(RAND()<Worksheet!$D$10/100,1,2))","v":1},9," m",9000,"mm"]
[{"$f":"IF(COUNTIF($B$1:B149,TRUE)=COUNTIF($B$1:B148,TRUE),\"\",COUNTIF($B$1:B149,TRUE))","v":116},{"$f":"Worksheet!$D$20","v":true},{"$f":"RANDBETWEEN(5,RANDBETWEEN(5,Worksheet!$D$8))","v":5},"kg","±",{"$f":"IF(I149=1,H149*10^RANDBETWEEN(IF(Worksheet!$D$14,-1,0),0),IF(I149=2,H149*10^RANDBETWEEN(RANDBETWEEN(0,2),2),CHOOSE(RANDBETWEEN(1,3),5,10,20)))","v":20},{"$f":"IF(I149=1,D149,IF(I149=3,\"%\",\"g\"))","v":"%"},{"$f":"RANDBETWEEN(1,MIN(9,C149))","v":4},{"$f":"IF(AND(Worksheet!$D$12,RAND()<0.2),3,IF(RAND()<Worksheet!$D$10/100,1,2))","v":3},1,{"$f":"CONCATENATE(\" \",D149)","v":" kg"},1000,"g"]
[{"$f":"IF(COUNTIF($B$1:B150,TRUE)=COUNTIF($B$1:B149,TRUE),\"\",COUNTIF($B$1:B150,TRUE))","v":117},{"$f":"Worksheet!$D$22","v":true},{"$f":"RANDBETWEEN(5,RANDBETWEEN(5,Worksheet!$D$8))","v":148},"tonnes","±",{"$f":"IF(I150=1,H150*10^RANDBETWEEN(IF(Worksheet!$D$14,-1,0),0),IF(I150=2,H150*10^RANDBETWEEN(RANDBETWEEN(0,2),2),CHOOSE(RANDBETWEEN(1,3),5,10,20)))","v":9},{"$f":"IF(I150=1,D150,IF(I150=3,\"%\",\"kg\"))","v":"tonnes"},{"$f":"RANDBETWEEN(1,MIN(9,C150))","v":9},{"$f":"IF(AND(Worksheet!$D$12,RAND()<0.2),3,IF(RAND()<Worksheet!$D$10/100,1,2))","v":1},9,{"$f":"CONCATENATE(\" \",D150)","v":" tonnes"},9000,"kg"]
[{"$f":"IF(COUNTIF($B$1:B151,TRUE)=COUNTIF($B$1:B150,TRUE),\"\",COUNTIF($B$1:B151,TRUE))","v":118},{"$f":"Worksheet!$D$24","v":true},{"$f":"RANDBETWEEN(5,RANDBETWEEN(5,Worksheet!$D$8))","v":117},"litres","±",{"$f":"IF(I151=1,H151*10^RANDBETWEEN(IF(Worksheet!$D$14,-1,0),0),IF(I151=2,H151*10^RANDBETWEEN(RANDBETWEEN(0,2),2),CHOOSE(RANDBETWEEN(1,3),5,10,20)))","v":500},{"$f":"IF(I151=1,D151,IF(I151=3,\"%\",\"ml\"))","v":"ml"},{"$f":"RANDBETWEEN(1,MIN(9,C151))","v":5},{"$f":"IF(AND(Worksheet!$D$12,RAND()<0.2),3,IF(RAND()<Worksheet!$D$10/100,1,2))","v":2},0.5,{"$f":"CONCATENATE(\" \",D151)","v":" litres"},500,"ml"]
[{"$f":"IF(COUNTIF($B$1:B152,TRUE)=COUNTIF($B$1:B151,TRUE),\"\",COUNTIF($B$1:B152,TRUE))","v":""},{"$f":"Worksheet!$D$26","v":false},{"$f":"RANDBETWEEN(5,RANDBETWEEN(5,Worksheet!$D$8))","v":72},"litres","±",{"$f":"IF(I152=1,H152*10^RANDBETWEEN(IF(Worksheet!$D$14,-1,0),0),IF(I152=2,H152*10^RANDBETWEEN(RANDBETWEEN(0,2),2),CHOOSE(RANDBETWEEN(1,3),5,10,20)))","v":5},{"$f":"IF(I152=1,D152,IF(I152=3,\"%\",\"cm³\"))","v":"%"},{"$f":"RANDBETWEEN(1,MIN(9,C152))","v":1},{"$f":"IF(AND(Worksheet!$D$12,RAND()<0.2),3,IF(RAND()<Worksheet!$D$10/100,1,2))","v":3},3.6,{"$f":"CONCATENATE(\" \",D152)","v":" litres"},3600,"cm³"]
[{"$f":"IF(COUNTIF($B$1:B153,TRUE)=COUNTIF($B$1:B153,TRUE),\"\",COUNTIF($B$1:B153,TRUE))","v":""},{"$f":"Worksheet!$B$28","v":true},{"$f":"RANDBETWEEN(5,20)","v":16},"°C","±",{"$f":"IF(I153=1,H153*10^RANDBETWEEN(IF(Worksheet!$D$14,-1,0),0),IF(I153=2,H153,CHOOSE(RANDBETWEEN(1,3),5,10,20)))","v":6},{"$f":"IF(I153=1,D153,IF(I153=3,\"%\",\"sec\"))","v":"°C"},{"$f":"RANDBETWEEN(1,MIN(9,C153))","v":6},{"$f":"IF(AND(Worksheet!$D$12,RAND()<0),3,IF(RAND()<Worksheet!$D$10/100,1,2))","v":1},{"$f":"IF(I153=1,F153,IF(I153=2,F153,IF(I153=3,F153/100*C153,\"\")))","v":6},{"$f":"CONCATENATE(\" \",D153)","v":" °C"},{"$f":"IF(I153=1,F153,IF(I153=2,F153,IF(I153=3,F153/100*C153,\"\")))","v":6}," °C"]
[{"$f":"COUNTIF($B$1:B154,TRUE)","v":120},{"$f":"Worksheet!$B$20","v":true},{"$f":"RANDBETWEEN(5,RANDBETWEEN(5,Worksheet!$D$8))","v":16},"cm","±",{"$f":"IF(I154=1,H154*10^RANDBETWEEN(IF(Worksheet!$D$14,-1,0),0),IF(I154=2,H154,CHOOSE(RANDBETWEEN(1,3),5,10,20)))","v":2},{"$f":"IF(I154=1,D154,IF(I154=3,\"%\",\"mm\"))","v":"cm"},{"$f":"RANDBETWEEN(1,MIN(9,C154))","v":2},{"$f":"IF(AND(Worksheet!$D$12,RAND()<0.2),3,IF(RAND()<Worksheet!$D$10/100,1,2))","v":1},{"$f":"IF(I154=1,F154,IF(I154=2,F154/10,IF(I154=3,F154/100*C154,\"\")))","v":2},{"$f":"CONCATENATE(\" \",D154)","v":" cm"},{"$f":"IF(I154=1,F154*10,IF(I154=2,F154,IF(I154=3,F154/100*C154*10,\"\")))","v":20},"mm"]
[{"$f":"IF(COUNTIF($B$1:B155,TRUE)=COUNTIF($B$1:B154,TRUE),\"\",COUNTIF($B$1:B155,TRUE))","v":121},{"$f":"Worksheet!$B$22","v":true},{"$f":"RANDBETWEEN(5,RANDBETWEEN(5,Worksheet!$D$8))","v":113},"m","±",{"$f":"IF(I155=1,H155*10^RANDBETWEEN(IF(Worksheet!$D$14,-1,0),0),IF(I155=2,H155*10^RANDBETWEEN(RANDBETWEEN(0,1),1),CHOOSE(RANDBETWEEN(1,3),5,10,20)))","v":0.9},{"$f":"IF(I155=1,D155,IF(I155=3,\"%\",\"cm\"))","v":"m"},{"$f":"RANDBETWEEN(1,MIN(9,C155))","v":9},{"$f":"IF(AND(Worksheet!$D$12,RAND()<0.2),3,IF(RAND()<Worksheet!$D$10/100,1,2))","v":1},{"$f":"IF(I155=1,F155,IF(I155=2,F155/100,IF(I155=3,F155/100*C155,\"\")))","v":0.9},{"$f":"CONCATENATE(\" \",D155)","v":" m"},{"$f":"IF(I155=1,F155*100,IF(I155=2,F155,IF(I155=3,F155/100*C155*100,\"\")))","v":90},"cm"]
[{"$f":"IF(COUNTIF($B$1:B156,TRUE)=COUNTIF($B$1:B155,TRUE),\"\",COUNTIF($B$1:B156,TRUE))","v":122},{"$f":"Worksheet!$B$24","v":true},{"$f":"RANDBETWEEN(5,RANDBETWEEN(5,Worksheet!$D$8))","v":8},"km","±",{"$f":"IF(I156=1,H156*10^RANDBETWEEN(IF(Worksheet!$D$14,-1,0),0),IF(I156=2,H156*10^RANDBETWEEN(RANDBETWEEN(0,2),2),CHOOSE(RANDBETWEEN(1,3),5,10,20)))","v":0.5},{"$f":"IF(I156=1,D156,IF(I156=3,\"%\",\"m\"))","v":"km"},5,{"$f":"IF(AND(Worksheet!$D$12,RAND()<0.2),3,IF(RAND()<Worksheet!$D$10/100,1,2))","v":1},{"$f":"IF(I156=1,F156,IF(I156=2,F156/1000,IF(I156=3,F156/100*C156,\"\")))","v":0.5}," km",{"$f":"IF(I156=1,F156*1000,IF(I156=2,F156,IF(I156=3,F156/100*C156*1000,\"\")))","v":500},"m"]
[{"$f":"IF(COUNTIF($B$1:B157,TRUE)=COUNTIF($B$1:B156,TRUE),\"\",COUNTIF($B$1:B157,TRUE))","v":""},{"$f":"Worksheet!$B$26","v":false},{"$f":"RANDBETWEEN(5,RANDBETWEEN(5,Worksheet!$D$8))","v":28},"m","±",{"$f":"IF(I157=1,H157*10^RANDBETWEEN(IF(Worksheet!$D$14,-1,0),0),IF(I157=2,H157*10^RANDBETWEEN(RANDBETWEEN(0,2),2),CHOOSE(RANDBETWEEN(1,3),5,10,20)))","v":3},{"$f":"IF(I157=1,D157,IF(I157=3,\"%\",\"mm\"))","v":"m"},3,{"$f":"IF(AND(Worksheet!$D$12,RAND()<0.2),3,IF(RAND()<Worksheet!$D$10/100,1,2))","v":1},3," m",3000,"mm"]
[{"$f":"IF(COUNTIF($B$1:B158,TRUE)=COUNTIF($B$1:B157,TRUE),\"\",COUNTIF($B$1:B158,TRUE))","v":123},{"$f":"Worksheet!$D$20","v":true},{"$f":"RANDBETWEEN(5,RANDBETWEEN(5,Worksheet!$D$8))","v":31},"kg","±",{"$f":"IF(I158=1,H158*10^RANDBETWEEN(IF(Worksheet!$D$14,-1,0),0),IF(I158=2,H158*10^RANDBETWEEN(RANDBETWEEN(0,2),2),CHOOSE(RANDBETWEEN(1,3),5,10,20)))","v":1},{"$f":"IF(I158=1,D158,IF(I158=3,\"%\",\"g\"))","v":"kg"},{"$f":"RANDBETWEEN(1,MIN(9,C158))","v":1},{"$f":"IF(AND(Worksheet!$D$12,RAND()<0.2),3,IF(RAND()<Worksheet!$D$10/100,1,2))","v":1},1,{"$f":"CONCATENATE(\" \",D158)","v":" kg"},1000,"g"]
[{"$f":"IF(COUNTIF($B$1:B159,TRUE)=COUNTIF($B$1:B158,TRUE),\"\",COUNTIF($B$1:B159,TRUE))","v":124},{"$f":"Worksheet!$D$22","v":true},{"$f":"RANDBETWEEN(5,RANDBETWEEN(5,Worksheet!$D$8))","v":53},"tonnes","±",{"$f":"IF(I159=1,H159*10^RANDBETWEEN(IF(Worksheet!$D$14,-1,0),0),IF(I159=2,H159*10^RANDBETWEEN(RANDBETWEEN(0,2),2),CHOOSE(RANDBETWEEN(1,3),5,10,20)))","v":80},{"$f":"IF(I159=1,D159,IF(I159=3,\"%\",\"kg\"))","v":"kg"},{"$f":"RANDBETWEEN(1,MIN(9,C159))","v":8},{"$f":"IF(AND(Worksheet!$D$12,RAND()<0.2),3,IF(RAND()<Worksheet!$D$10/100,1,2))","v":2},0.08,{"$f":"CONCATENATE(\" \",D159)","v":" tonnes"},80,"kg"]
[{"$f":"IF(COUNTIF($B$1:B160,TRUE)=COUNTIF($B$1:B159,TRUE),\"\",COUNTIF($B$1:B160,TRUE))","v":125},{"$f":"Worksheet!$D$24","v":true},{"$f":"RANDBETWEEN(5,RANDBETWEEN(5,Worksheet!$D$8))","v":119},"litres","±",{"$f":"IF(I160=1,H160*10^RANDBETWEEN(IF(Worksheet!$D$14,-1,0),0),IF(I160=2,H160*10^RANDBETWEEN(RANDBETWEEN(0,2),2),CHOOSE(RANDBETWEEN(1,3),5,10,20)))","v":0.4},{"$f":"IF(I160=1,D160,IF(I160=3,\"%\",\"ml\"))","v":"litres"},{"$f":"RANDBETWEEN(1,MIN(9,C160))","v":4},{"$f":"IF(AND(Worksheet!$D$12,RAND()<0.2),3,IF(RAND()<Worksheet!$D$10/100,1,2))","v":1},0.4,{"$f":"CONCATENATE(\" \",D160)","v":" litres"},400,"ml"]
[{"$f":"IF(COUNTIF($B$1:B161,TRUE)=COUNTIF($B$1:B160,TRUE),\"\",COUNTIF($B$1:B161,TRUE))","v":""},{"$f":"Worksheet!$D$26","v":false},{"$f":"RANDBETWEEN(5,RANDBETWEEN(5,Worksheet!$D$8))","v":61},"litres","±",{"$f":"IF(I161=1,H161*10^RANDBETWEEN(IF(Worksheet!$D$14,-1,0),0),IF(I161=2,H161*10^RANDBETWEEN(RANDBETWEEN(0,2),2),CHOOSE(RANDBETWEEN(1,3),5,10,20)))","v":100},{"$f":"IF(I161=1,D161,IF(I161=3,\"%\",\"cm³\"))","v":"cm³"},{"$f":"RANDBETWEEN(1,MIN(9,C161))","v":1},{"$f":"IF(AND(Worksheet!$D$12,RAND()<0.2),3,IF(RAND()<Worksheet!$D$10/100,1,2))","v":2},0.1,{"$f":"CONCATENATE(\" \",D161)","v":" litres"},100,"cm³"]
[{"$f":"IF(COUNTIF($B$1:B162,TRUE)=COUNTIF($B$1:B162,TRUE),\"\",COUNTIF($B$1:B162,TRUE))","v":""},{"$f":"Worksheet!$B$28","v":true},{"$f":"RANDBETWEEN(5,20)","v":9},"°C","±",{"$f":"IF(I162=1,H162*10^RANDBETWEEN(IF(Worksheet!$D$14,-1,0),0),IF(I162=2,H162,CHOOSE(RANDBETWEEN(1,3),5,10,20)))","v":1},{"$f":"IF(I162=1,D162,IF(I162=3,\"%\",\"sec\"))","v":"°C"},{"$f":"RANDBETWEEN(1,MIN(9,C162))","v":1},{"$f":"IF(AND(Worksheet!$D$12,RAND()<0),3,IF(RAND()<Worksheet!$D$10/100,1,2))","v":1},{"$f":"IF(I162=1,F162,IF(I162=2,F162,IF(I162=3,F162/100*C162,\"\")))","v":1},{"$f":"CONCATENATE(\" \",D162)","v":" °C"},{"$f":"IF(I162=1,F162,IF(I162=2,F162,IF(I162=3,F162/100*C162,\"\")))","v":1}," °C"]
[{"$f":"COUNTIF($B$1:B163,TRUE)","v":127},{"$f":"Worksheet!$B$20","v":true},{"$f":"RANDBETWEEN(5,RANDBETWEEN(5,Worksheet!$D$8))","v":22},"cm","±",{"$f":"IF(I163=1,H163*10^RANDBETWEEN(IF(Worksheet!$D$14,-1,0),0),IF(I163=2,H163,CHOOSE(RANDBETWEEN(1,3),5,10,20)))","v":0.9},{"$f":"IF(I163=1,D163,IF(I163=3,\"%\",\"mm\"))","v":"cm"},{"$f":"RANDBETWEEN(1,MIN(9,C163))","v":9},{"$f":"IF(AND(Worksheet!$D$12,RAND()<0.2),3,IF(RAND()<Worksheet!$D$10/100,1,2))","v":1},{"$f":"IF(I163=1,F163,IF(I163=2,F163/10,IF(I163=3,F163/100*C163,\"\")))","v":0.9},{"$f":"CONCATENATE(\" \",D163)","v":" cm"},{"$f":"IF(I163=1,F163*10,IF(I163=2,F163,IF(I163=3,F163/100*C163*10,\"\")))","v":9},"mm"]
[{"$f":"IF(COUNTIF($B$1:B164,TRUE)=COUNTIF($B$1:B163,TRUE),\"\",COUNTIF($B$1:B164,TRUE))","v":128},{"$f":"Worksheet!$B$22","v":true},{"$f":"RANDBETWEEN(5,RANDBETWEEN(5,Worksheet!$D$8))","v":69},"m","±",{"$f":"IF(I164=1,H164*10^RANDBETWEEN(IF(Worksheet!$D$14,-1,0),0),IF(I164=2,H164*10^RANDBETWEEN(RANDBETWEEN(0,1),1),CHOOSE(RANDBETWEEN(1,3),5,10,20)))","v":0.4},{"$f":"IF(I164=1,D164,IF(I164=3,\"%\",\"cm\"))","v":"m"},{"$f":"RANDBETWEEN(1,MIN(9,C164))","v":4},{"$f":"IF(AND(Worksheet!$D$12,RAND()<0.2),3,IF(RAND()<Worksheet!$D$10/100,1,2))","v":1},{"$f":"IF(I164=1,F164,IF(I164=2,F164/100,IF(I164=3,F164/100*C164,\"\")))","v":0.4},{"$f":"CONCATENATE(\" \",D164)","v":" m"},{"$f":"IF(I164=1,F164*100,IF(I164=2,F164,IF(I164=3,F164/100*C164*100,\"\")))","v":40},"cm"]
[{"$f":"IF(COUNTIF($B$1:B165,TRUE)=COUNTIF($B$1:B164,TRUE),\"\",COUNTIF($B$1:B165,TRUE))","v":129},{"$f":"Worksheet!$B$24","v":true},{"$f":"RANDBETWEEN(5,RANDBETWEEN(5,Worksheet!$D$8))","v":5},"km","±",{"$f":"IF(I165=1,H165*10^RANDBETWEEN(IF(Worksheet!$D$14,-1,0),0),IF(I165=2,H165*10^RANDBETWEEN(RANDBETWEEN(0,2),2),CHOOSE(RANDBETWEEN(1,3),5,10,20)))","v":4},{"$f":"IF(I165=1,D165,IF(I165=3,\"%\",\"m\"))","v":"km"},4,{"$f":"IF(AND(Worksheet!$D$12,RAND()<0.2),3,IF(RAND()<Worksheet!$D$10/100,1,2))","v":1},{"$f":"IF(I165=1,F165,IF(I165=2,F165/1000,IF(I165=3,F165/100*C165,\"\")))","v":4}," km",{"$f":"IF(I165=1,F165*1000,IF(I165=2,F165,IF(I165=3,F165/100*C165*1000,\"\")))","v":4000},"m"]
[{"$f":"IF(COUNTIF($B$1:B166,TRUE)=COUNTIF($B$1:B165,TRUE),\"\",COUNTIF($B$1:B166,TRUE))","v":""},{"$f":"Worksheet!$B$26","v":false},{"$f":"RANDBETWEEN(5,RANDBETWEEN(5,Worksheet!$D$8))","v":66},"m","±",{"$f":"IF(I166=1,H166*10^RANDBETWEEN(IF(Worksheet!$D$14,-1,0),0),IF(I166=2,H166*10^RANDBETWEEN(RANDBETWEEN(0,2),2),CHOOSE(RANDBETWEEN(1,3),5,10,20)))","v":5},{"$f":"IF(I166=1,D166,IF(I166=3,\"%\",\"mm\"))","v":"%"},3,{"$f":"IF(AND(Worksheet!$D$12,RAND()<0.2),3,IF(RAND()<Worksheet!$D$10/100,1,2))","v":3},3.3000000000000003," m",3300.0000000000005,"mm"]
[{"$f":"IF(COUNTIF($B$1:B167,TRUE)=COUNTIF($B$1:B166,TRUE),\"\",COUNTIF($B$1:B167,TRUE))","v":130},{"$f":"Worksheet!$D$20","v":true},{"$f":"RANDBETWEEN(5,RANDBETWEEN(5,Worksheet!$D$8))","v":41},"kg","±",{"$f":"IF(I167=1,H167*10^RANDBETWEEN(IF(Worksheet!$D$14,-1,0),0),IF(I167=2,H167*10^RANDBETWEEN(RANDBETWEEN(0,2),2),CHOOSE(RANDBETWEEN(1,3),5,10,20)))","v":600},{"$f":"IF(I167=1,D167,IF(I167=3,\"%\",\"g\"))","v":"g"},{"$f":"RANDBETWEEN(1,MIN(9,C167))","v":6},{"$f":"IF(AND(Worksheet!$D$12,RAND()<0.2),3,IF(RAND()<Worksheet!$D$10/100,1,2))","v":2},0.6,{"$f":"CONCATENATE(\" \",D167)","v":" kg"},600,"g"]
[{"$f":"IF(COUNTIF($B$1:B168,TRUE)=COUNTIF($B$1:B167,TRUE),\"\",COUNTIF($B$1:B168,TRUE))","v":131},{"$f":"Worksheet!$D$22","v":true},{"$f":"RANDBETWEEN(5,RANDBETWEEN(5,Worksheet!$D$8))","v":48},"tonnes","±",{"$f":"IF(I168=1,H168*10^RANDBETWEEN(IF(Worksheet!$D$14,-1,0),0),IF(I168=2,H168*10^RANDBETWEEN(RANDBETWEEN(0,2),2),CHOOSE(RANDBETWEEN(1,3),5,10,20)))","v":10},{"$f":"IF(I168=1,D168,IF(I168=3,\"%\",\"kg\"))","v":"%"},{"$f":"RANDBETWEEN(1,MIN(9,C168))","v":5},{"$f":"IF(AND(Worksheet!$D$12,RAND()<0.2),3,IF(RAND()<Worksheet!$D$10/100,1,2))","v":3},4.8000000000000007,{"$f":"CONCATENATE(\" \",D168)","v":" tonnes"},4800.0000000000009,"kg"]
[{"$f":"IF(COUNTIF($B$1:B169,TRUE)=COUNTIF($B$1:B168,TRUE),\"\",COUNTIF($B$1:B169,TRUE))","v":132},{"$f":"Worksheet!$D$24","v":true},{"$f":"RANDBETWEEN(5,RANDBETWEEN(5,Worksheet!$D$8))","v":189},"litres","±",{"$f":"IF(I169=1,H169*10^RANDBETWEEN(IF(Worksheet!$D$14,-1,0),0),IF(I169=2,H169*10^RANDBETWEEN(RANDBETWEEN(0,2),2),CHOOSE(RANDBETWEEN(1,3),5,10,20)))","v":10},{"$f":"IF(I169=1,D169,IF(I169=3,\"%\",\"ml\"))","v":"%"},{"$f":"RANDBETWEEN(1,MIN(9,C169))","v":1},{"$f":"IF(AND(Worksheet!$D$12,RAND()<0.2),3,IF(RAND()<Worksheet!$D$10/100,1,2))","v":3},18.900000000000002,{"$f":"CONCATENATE(\" \",D169)","v":" litres"},18900.000000000004,"ml"]
[{"$f":"IF(COUNTIF($B$1:B170,TRUE)=COUNTIF($B$1:B169,TRUE),\"\",COUNTIF($B$1:B170,TRUE))","v":""},{"$f":"Worksheet!$D$26","v":false},{"$f":"RANDBETWEEN(5,RANDBETWEEN(5,Worksheet!$D$8))","v":21},"litres","±",{"$f":"IF(I170=1,H170*10^RANDBETWEEN(IF(Worksheet!$D$14,-1,0),0),IF(I170=2,H170*10^RANDBETWEEN(RANDBETWEEN(0,2),2),CHOOSE(RANDBETWEEN(1,3),5,10,20)))","v":0.30000000000000004},{"$f":"IF(I170=1,D170,IF(I170=3,\"%\",\"cm³\"))","v":"litres"},{"$f":"RANDBETWEEN(1,MIN(9,C170))","v":3},{"$f":"IF(AND(Worksheet!$D$12,RAND()<0.2),3,IF(RAND()<Worksheet!$D$10/100,1,2))","v":1},0.30000000000000004,{"$f":"CONCATENATE(\" \",D170)","v":" litres"},300.00000000000006,"cm³"]
[{"$f":"IF(COUNTIF($B$1:B171,TRUE)=COUNTIF($B$1:B171,TRUE),\"\",COUNTIF($B$1:B171,TRUE))","v":""},{"$f":"Worksheet!$B$28","v":true},{"$f":"RANDBETWEEN(5,20)","v":12},"°C","±",{"$f":"IF(I171=1,H171*10^RANDBETWEEN(IF(Worksheet!$D$14,-1,0),0),IF(I171=2,H171,CHOOSE(RANDBETWEEN(1,3),5,10,20)))","v":6},{"$f":"IF(I171=1,D171,IF(I171=3,\"%\",\"sec\"))","v":"sec"},{"$f":"RANDBETWEEN(1,MIN(9,C171))","v":6},{"$f":"IF(AND(Worksheet!$D$12,RAND()<0),3,IF(RAND()<Worksheet!$D$10/100,1,2))","v":2},{"$f":"IF(I171=1,F171,IF(I171=2,F171,IF(I171=3,F171/100*C171,\"\")))","v":6},{"$f":"CONCATENATE(\" \",D171)","v":" °C"},{"$f":"IF(I171=1,F171,IF(I171=2,F171,IF(I171=3,F171/100*C171,\"\")))","v":6}," °C"]
[{"$f":"COUNTIF($B$1:B172,TRUE)","v":134},{"$f":"Worksheet!$B$20","v":true},{"$f":"RANDBETWEEN(5,RANDBETWEEN(5,Worksheet!$D$8))","v":145},"cm","±",{"$f":"IF(I172=1,H172*10^RANDBETWEEN(IF(Worksheet!$D$14,-1,0),0),IF(I172=2,H172,CHOOSE(RANDBETWEEN(1,3),5,10,20)))","v":0.9},{"$f":"IF(I172=1,D172,IF(I172=3,\"%\",\"mm\"))","v":"cm"},{"$f":"RANDBETWEEN(1,MIN(9,C172))","v":9},{"$f":"IF(AND(Worksheet!$D$12,RAND()<0.2),3,IF(RAND()<Worksheet!$D$10/100,1,2))","v":1},{"$f":"IF(I172=1,F172,IF(I172=2,F172/10,IF(I172=3,F172/100*C172,\"\")))","v":0.9},{"$f":"CONCATENATE(\" \",D172)","v":" cm"},{"$f":"IF(I172=1,F172*10,IF(I172=2,F172,IF(I172=3,F172/100*C172*10,\"\")))","v":9},"mm"]
[{"$f":"IF(COUNTIF($B$1:B173,TRUE)=COUNTIF($B$1:B172,TRUE),\"\",COUNTIF($B$1:B173,TRUE))","v":135},{"$f":"Worksheet!$B$22","v":true},{"$f":"RANDBETWEEN(5,RANDBETWEEN(5,Worksheet!$D$8))","v":20},"m","±",{"$f":"IF(I173=1,H173*10^RANDBETWEEN(IF(Worksheet!$D$14,-1,0),0),IF(I173=2,H173*10^RANDBETWEEN(RANDBETWEEN(0,1),1),CHOOSE(RANDBETWEEN(1,3),5,10,20)))","v":10},{"$f":"IF(I173=1,D173,IF(I173=3,\"%\",\"cm\"))","v":"%"},{"$f":"RANDBETWEEN(1,MIN(9,C173))","v":7},{"$f":"IF(AND(Worksheet!$D$12,RAND()<0.2),3,IF(RAND()<Worksheet!$D$10/100,1,2))","v":3},{"$f":"IF(I173=1,F173,IF(I173=2,F173/100,IF(I173=3,F173/100*C173,\"\")))","v":2},{"$f":"CONCATENATE(\" \",D173)","v":" m"},{"$f":"IF(I173=1,F173*100,IF(I173=2,F173,IF(I173=3,F173/100*C173*100,\"\")))","v":200},"cm"]
[{"$f":"IF(COUNTIF($B$1:B174,TRUE)=COUNTIF($B$1:B173,TRUE),\"\",COUNTIF($B$1:B174,TRUE))","v":136},{"$f":"Worksheet!$B$24","v":true},{"$f":"RANDBETWEEN(5,RANDBETWEEN(5,Worksheet!$D$8))","v":84},"km","±",{"$f":"IF(I174=1,H174*10^RANDBETWEEN(IF(Worksheet!$D$14,-1,0),0),IF(I174=2,H174*10^RANDBETWEEN(RANDBETWEEN(0,2),2),CHOOSE(RANDBETWEEN(1,3),5,10,20)))","v":70},{"$f":"IF(I174=1,D174,IF(I174=3,\"%\",\"m\"))","v":"m"},7,{"$f":"IF(AND(Worksheet!$D$12,RAND()<0.2),3,IF(RAND()<Worksheet!$D$10/100,1,2))","v":2},{"$f":"IF(I174=1,F174,IF(I174=2,F174/1000,IF(I174=3,F174/100*C174,\"\")))","v":7.0000000000000007E-2}," km",{"$f":"IF(I174=1,F174*1000,IF(I174=2,F174,IF(I174=3,F174/100*C174*1000,\"\")))","v":70},"m"]
[{"$f":"IF(COUNTIF($B$1:B175,TRUE)=COUNTIF($B$1:B174,TRUE),\"\",COUNTIF($B$1:B175,TRUE))","v":""},{"$f":"Worksheet!$B$26","v":false},{"$f":"RANDBETWEEN(5,RANDBETWEEN(5,Worksheet!$D$8))","v":37},"m","±",{"$f":"IF(I175=1,H175*10^RANDBETWEEN(IF(Worksheet!$D$14,-1,0),0),IF(I175=2,H175*10^RANDBETWEEN(RANDBETWEEN(0,2),2),CHOOSE(RANDBETWEEN(1,3),5,10,20)))","v":0.5},{"$f":"IF(I175=1,D175,IF(I175=3,\"%\",\"mm\"))","v":"m"},5,{"$f":"IF(AND(Worksheet!$D$12,RAND()<0.2),3,IF(RAND()<Worksheet!$D$10/100,1,2))","v":1},0.5," m",500,"mm"]
[{"$f":"IF(COUNTIF($B$1:B176,TRUE)=COUNTIF($B$1:B175,TRUE),\"\",COUNTIF($B$1:B176,TRUE))","v":137},{"$f":"Worksheet!$D$20","v":true},{"$f":"RANDBETWEEN(5,RANDBETWEEN(5,Worksheet!$D$8))","v":18},"kg","±",{"$f":"IF(I176=1,H176*10^RANDBETWEEN(IF(Worksheet!$D$14,-1,0),0),IF(I176=2,H176*10^RANDBETWEEN(RANDBETWEEN(0,2),2),CHOOSE(RANDBETWEEN(1,3),5,10,20)))","v":20},{"$f":"IF(I176=1,D176,IF(I176=3,\"%\",\"g\"))","v":"g"},{"$f":"RANDBETWEEN(1,MIN(9,C176))","v":2},{"$f":"IF(AND(Worksheet!$D$12,RAND()<0.2),3,IF(RAND()<Worksheet!$D$10/100,1,2))","v":2},0.02,{"$f":"CONCATENATE(\" \",D176)","v":" kg"},20,"g"]
[{"$f":"IF(COUNTIF($B$1:B177,TRUE)=COUNTIF($B$1:B176,TRUE),\"\",COUNTIF($B$1:B177,TRUE))","v":138},{"$f":"Worksheet!$D$22","v":true},{"$f":"RANDBETWEEN(5,RANDBETWEEN(5,Worksheet!$D$8))","v":40},"tonnes","±",{"$f":"IF(I177=1,H177*10^RANDBETWEEN(IF(Worksheet!$D$14,-1,0),0),IF(I177=2,H177*10^RANDBETWEEN(RANDBETWEEN(0,2),2),CHOOSE(RANDBETWEEN(1,3),5,10,20)))","v":5},{"$f":"IF(I177=1,D177,IF(I177=3,\"%\",\"kg\"))","v":"%"},{"$f":"RANDBETWEEN(1,MIN(9,C177))","v":3},{"$f":"IF(AND(Worksheet!$D$12,RAND()<0.2),3,IF(RAND()<Worksheet!$D$10/100,1,2))","v":3},2,{"$f":"CONCATENATE(\" \",D177)","v":" tonnes"},2000,"kg"]
[{"$f":"IF(COUNTIF($B$1:B178,TRUE)=COUNTIF($B$1:B177,TRUE),\"\",COUNTIF($B$1:B178,TRUE))","v":139},{"$f":"Worksheet!$D$24","v":true},{"$f":"RANDBETWEEN(5,RANDBETWEEN(5,Worksheet!$D$8))","v":54},"litres","±",{"$f":"IF(I178=1,H178*10^RANDBETWEEN(IF(Worksheet!$D$14,-1,0),0),IF(I178=2,H178*10^RANDBETWEEN(RANDBETWEEN(0,2),2),CHOOSE(RANDBETWEEN(1,3),5,10,20)))","v":600},{"$f":"IF(I178=1,D178,IF(I178=3,\"%\",\"ml\"))","v":"ml"},{"$f":"RANDBETWEEN(1,MIN(9,C178))","v":6},{"$f":"IF(AND(Worksheet!$D$12,RAND()<0.2),3,IF(RAND()<Worksheet!$D$10/100,1,2))","v":2},0.6,{"$f":"CONCATENATE(\" \",D178)","v":" litres"},600,"ml"]
[{"$f":"IF(COUNTIF($B$1:B179,TRUE)=COUNTIF($B$1:B178,TRUE),\"\",COUNTIF($B$1:B179,TRUE))","v":""},{"$f":"Worksheet!$D$26","v":false},{"$f":"RANDBETWEEN(5,RANDBETWEEN(5,Worksheet!$D$8))","v":32},"litres","±",{"$f":"IF(I179=1,H179*10^RANDBETWEEN(IF(Worksheet!$D$14,-1,0),0),IF(I179=2,H179*10^RANDBETWEEN(RANDBETWEEN(0,2),2),CHOOSE(RANDBETWEEN(1,3),5,10,20)))","v":20},{"$f":"IF(I179=1,D179,IF(I179=3,\"%\",\"cm³\"))","v":"%"},{"$f":"RANDBETWEEN(1,MIN(9,C179))","v":5},{"$f":"IF(AND(Worksheet!$D$12,RAND()<0.2),3,IF(RAND()<Worksheet!$D$10/100,1,2))","v":3},6.4,{"$f":"CONCATENATE(\" \",D179)","v":" litres"},6400,"cm³"]
[{"$f":"IF(COUNTIF($B$1:B180,TRUE)=COUNTIF($B$1:B180,TRUE),\"\",COUNTIF($B$1:B180,TRUE))","v":""},{"$f":"Worksheet!$B$28","v":true},{"$f":"RANDBETWEEN(5,20)","v":9},"°C","±",{"$f":"IF(I180=1,H180*10^RANDBETWEEN(IF(Worksheet!$D$14,-1,0),0),IF(I180=2,H180,CHOOSE(RANDBETWEEN(1,3),5,10,20)))","v":0.70000000000000007},{"$f":"IF(I180=1,D180,IF(I180=3,\"%\",\"sec\"))","v":"°C"},{"$f":"RANDBETWEEN(1,MIN(9,C180))","v":7},{"$f":"IF(AND(Worksheet!$D$12,RAND()<0),3,IF(RAND()<Worksheet!$D$10/100,1,2))","v":1},{"$f":"IF(I180=1,F180,IF(I180=2,F180,IF(I180=3,F180/100*C180,\"\")))","v":0.70000000000000007},{"$f":"CONCATENATE(\" \",D180)","v":" °C"},{"$f":"IF(I180=1,F180,IF(I180=2,F180,IF(I180=3,F180/100*C180,\"\")))","v":0.70000000000000007}," °C"]
[{"$f":"COUNTIF($B$1:B181,TRUE)","v":141},{"$f":"Worksheet!$B$20","v":true},{"$f":"RANDBETWEEN(5,RANDBETWEEN(5,Worksheet!$D$8))","v":113},"cm","±",{"$f":"IF(I181=1,H181*10^RANDBETWEEN(IF(Worksheet!$D$14,-1,0),0),IF(I181=2,H181,CHOOSE(RANDBETWEEN(1,3),5,10,20)))","v":7},{"$f":"IF(I181=1,D181,IF(I181=3,\"%\",\"mm\"))","v":"mm"},{"$f":"RANDBETWEEN(1,MIN(9,C181))","v":7},{"$f":"IF(AND(Worksheet!$D$12,RAND()<0.2),3,IF(RAND()<Worksheet!$D$10/100,1,2))","v":2},{"$f":"IF(I181=1,F181,IF(I181=2,F181/10,IF(I181=3,F181/100*C181,\"\")))","v":0.7},{"$f":"CONCATENATE(\" \",D181)","v":" cm"},{"$f":"IF(I181=1,F181*10,IF(I181=2,F181,IF(I181=3,F181/100*C181*10,\"\")))","v":7},"mm"]
[{"$f":"IF(COUNTIF($B$1:B182,TRUE)=COUNTIF($B$1:B181,TRUE),\"\",COUNTIF($B$1:B182,TRUE))","v":142},{"$f":"Worksheet!$B$22","v":true},{"$f":"RANDBETWEEN(5,RANDBETWEEN(5,Worksheet!$D$8))","v":11},"m","±",{"$f":"IF(I182=1,H182*10^RANDBETWEEN(IF(Worksheet!$D$14,-1,0),0),IF(I182=2,H182*10^RANDBETWEEN(RANDBETWEEN(0,1),1),CHOOSE(RANDBETWEEN(1,3),5,10,20)))","v":0.1},{"$f":"IF(I182=1,D182,IF(I182=3,\"%\",\"cm\"))","v":"m"},{"$f":"RANDBETWEEN(1,MIN(9,C182))","v":1},{"$f":"IF(AND(Worksheet!$D$12,RAND()<0.2),3,IF(RAND()<Worksheet!$D$10/100,1,2))","v":1},{"$f":"IF(I182=1,F182,IF(I182=2,F182/100,IF(I182=3,F182/100*C182,\"\")))","v":0.1},{"$f":"CONCATENATE(\" \",D182)","v":" m"},{"$f":"IF(I182=1,F182*100,IF(I182=2,F182,IF(I182=3,F182/100*C182*100,\"\")))","v":10},"cm"]
[{"$f":"IF(COUNTIF($B$1:B183,TRUE)=COUNTIF($B$1:B182,TRUE),\"\",COUNTIF($B$1:B183,TRUE))","v":143},{"$f":"Worksheet!$B$24","v":true},{"$f":"RANDBETWEEN(5,RANDBETWEEN(5,Worksheet!$D$8))","v":26},"km","±",{"$f":"IF(I183=1,H183*10^RANDBETWEEN(IF(Worksheet!$D$14,-1,0),0),IF(I183=2,H183*10^RANDBETWEEN(RANDBETWEEN(0,2),2),CHOOSE(RANDBETWEEN(1,3),5,10,20)))","v":5},{"$f":"IF(I183=1,D183,IF(I183=3,\"%\",\"m\"))","v":"%"},2,{"$f":"IF(AND(Worksheet!$D$12,RAND()<0.2),3,IF(RAND()<Worksheet!$D$10/100,1,2))","v":3},{"$f":"IF(I183=1,F183,IF(I183=2,F183/1000,IF(I183=3,F183/100*C183,\"\")))","v":1.3}," km",{"$f":"IF(I183=1,F183*1000,IF(I183=2,F183,IF(I183=3,F183/100*C183*1000,\"\")))","v":1300},"m"]
[{"$f":"IF(COUNTIF($B$1:B184,TRUE)=COUNTIF($B$1:B183,TRUE),\"\",COUNTIF($B$1:B184,TRUE))","v":""},{"$f":"Worksheet!$B$26","v":false},{"$f":"RANDBETWEEN(5,RANDBETWEEN(5,Worksheet!$D$8))","v":44},"m","±",{"$f":"IF(I184=1,H184*10^RANDBETWEEN(IF(Worksheet!$D$14,-1,0),0),IF(I184=2,H184*10^RANDBETWEEN(RANDBETWEEN(0,2),2),CHOOSE(RANDBETWEEN(1,3),5,10,20)))","v":100},{"$f":"IF(I184=1,D184,IF(I184=3,\"%\",\"mm\"))","v":"mm"},1,{"$f":"IF(AND(Worksheet!$D$12,RAND()<0.2),3,IF(RAND()<Worksheet!$D$10/100,1,2))","v":2},0.1," m",100,"mm"]
[{"$f":"IF(COUNTIF($B$1:B185,TRUE)=COUNTIF($B$1:B184,TRUE),\"\",COUNTIF($B$1:B185,TRUE))","v":144},{"$f":"Worksheet!$D$20","v":true},{"$f":"RANDBETWEEN(5,RANDBETWEEN(5,Worksheet!$D$8))","v":48},"kg","±",{"$f":"IF(I185=1,H185*10^RANDBETWEEN(IF(Worksheet!$D$14,-1,0),0),IF(I185=2,H185*10^RANDBETWEEN(RANDBETWEEN(0,2),2),CHOOSE(RANDBETWEEN(1,3),5,10,20)))","v":0.5},{"$f":"IF(I185=1,D185,IF(I185=3,\"%\",\"g\"))","v":"kg"},{"$f":"RANDBETWEEN(1,MIN(9,C185))","v":5},{"$f":"IF(AND(Worksheet!$D$12,RAND()<0.2),3,IF(RAND()<Worksheet!$D$10/100,1,2))","v":1},0.5,{"$f":"CONCATENATE(\" \",D185)","v":" kg"},500,"g"]
[{"$f":"IF(COUNTIF($B$1:B186,TRUE)=COUNTIF($B$1:B185,TRUE),\"\",COUNTIF($B$1:B186,TRUE))","v":145},{"$f":"Worksheet!$D$22","v":true},{"$f":"RANDBETWEEN(5,RANDBETWEEN(5,Worksheet!$D$8))","v":126},"tonnes","±",{"$f":"IF(I186=1,H186*10^RANDBETWEEN(IF(Worksheet!$D$14,-1,0),0),IF(I186=2,H186*10^RANDBETWEEN(RANDBETWEEN(0,2),2),CHOOSE(RANDBETWEEN(1,3),5,10,20)))","v":90},{"$f":"IF(I186=1,D186,IF(I186=3,\"%\",\"kg\"))","v":"kg"},{"$f":"RANDBETWEEN(1,MIN(9,C186))","v":9},{"$f":"IF(AND(Worksheet!$D$12,RAND()<0.2),3,IF(RAND()<Worksheet!$D$10/100,1,2))","v":2},0.09,{"$f":"CONCATENATE(\" \",D186)","v":" tonnes"},90,"kg"]
[{"$f":"IF(COUNTIF($B$1:B187,TRUE)=COUNTIF($B$1:B186,TRUE),\"\",COUNTIF($B$1:B187,TRUE))","v":146},{"$f":"Worksheet!$D$24","v":true},{"$f":"RANDBETWEEN(5,RANDBETWEEN(5,Worksheet!$D$8))","v":55},"litres","±",{"$f":"IF(I187=1,H187*10^RANDBETWEEN(IF(Worksheet!$D$14,-1,0),0),IF(I187=2,H187*10^RANDBETWEEN(RANDBETWEEN(0,2),2),CHOOSE(RANDBETWEEN(1,3),5,10,20)))","v":7},{"$f":"IF(I187=1,D187,IF(I187=3,\"%\",\"ml\"))","v":"litres"},{"$f":"RANDBETWEEN(1,MIN(9,C187))","v":7},{"$f":"IF(AND(Worksheet!$D$12,RAND()<0.2),3,IF(RAND()<Worksheet!$D$10/100,1,2))","v":1},7,{"$f":"CONCATENATE(\" \",D187)","v":" litres"},7000,"ml"]
[{"$f":"IF(COUNTIF($B$1:B188,TRUE)=COUNTIF($B$1:B187,TRUE),\"\",COUNTIF($B$1:B188,TRUE))","v":""},{"$f":"Worksheet!$D$26","v":false},{"$f":"RANDBETWEEN(5,RANDBETWEEN(5,Worksheet!$D$8))","v":40},"litres","±",{"$f":"IF(I188=1,H188*10^RANDBETWEEN(IF(Worksheet!$D$14,-1,0),0),IF(I188=2,H188*10^RANDBETWEEN(RANDBETWEEN(0,2),2),CHOOSE(RANDBETWEEN(1,3),5,10,20)))","v":0.8},{"$f":"IF(I188=1,D188,IF(I188=3,\"%\",\"cm³\"))","v":"litres"},{"$f":"RANDBETWEEN(1,MIN(9,C188))","v":8},{"$f":"IF(AND(Worksheet!$D$12,RAND()<0.2),3,IF(RAND()<Worksheet!$D$10/100,1,2))","v":1},0.8,{"$f":"CONCATENATE(\" \",D188)","v":" litres"},800,"cm³"]
[{"$f":"IF(COUNTIF($B$1:B189,TRUE)=COUNTIF($B$1:B189,TRUE),\"\",COUNTIF($B$1:B189,TRUE))","v":""},{"$f":"Worksheet!$B$28","v":true},{"$f":"RANDBETWEEN(5,20)","v":5},"°C","±",{"$f":"IF(I189=1,H189*10^RANDBETWEEN(IF(Worksheet!$D$14,-1,0),0),IF(I189=2,H189,CHOOSE(RANDBETWEEN(1,3),5,10,20)))","v":0.1},{"$f":"IF(I189=1,D189,IF(I189=3,\"%\",\"sec\"))","v":"°C"},{"$f":"RANDBETWEEN(1,MIN(9,C189))","v":1},{"$f":"IF(AND(Worksheet!$D$12,RAND()<0),3,IF(RAND()<Worksheet!$D$10/100,1,2))","v":1},{"$f":"IF(I189=1,F189,IF(I189=2,F189,IF(I189=3,F189/100*C189,\"\")))","v":0.1},{"$f":"CONCATENATE(\" \",D189)","v":" °C"},{"$f":"IF(I189=1,F189,IF(I189=2,F189,IF(I189=3,F189/100*C189,\"\")))","v":0.1}," °C"]
[{"$f":"COUNTIF($B$1:B190,TRUE)","v":148},{"$f":"Worksheet!$B$20","v":true},{"$f":"RANDBETWEEN(5,RANDBETWEEN(5,Worksheet!$D$8))","v":55},"cm","±",{"$f":"IF(I190=1,H190*10^RANDBETWEEN(IF(Worksheet!$D$14,-1,0),0),IF(I190=2,H190,CHOOSE(RANDBETWEEN(1,3),5,10,20)))","v":3},{"$f":"IF(I190=1,D190,IF(I190=3,\"%\",\"mm\"))","v":"cm"},{"$f":"RANDBETWEEN(1,MIN(9,C190))","v":3},{"$f":"IF(AND(Worksheet!$D$12,RAND()<0.2),3,IF(RAND()<Worksheet!$D$10/100,1,2))","v":1},{"$f":"IF(I190=1,F190,IF(I190=2,F190/10,IF(I190=3,F190/100*C190,\"\")))","v":3},{"$f":"CONCATENATE(\" \",D190)","v":" cm"},{"$f":"IF(I190=1,F190*10,IF(I190=2,F190,IF(I190=3,F190/100*C190*10,\"\")))","v":30},"mm"]
[{"$f":"IF(COUNTIF($B$1:B191,TRUE)=COUNTIF($B$1:B190,TRUE),\"\",COUNTIF($B$1:B191,TRUE))","v":149},{"$f":"Worksheet!$B$22","v":true},{"$f":"RANDBETWEEN(5,RANDBETWEEN(5,Worksheet!$D$8))","v":58},"m","±",{"$f":"IF(I191=1,H191*10^RANDBETWEEN(IF(Worksheet!$D$14,-1,0),0),IF(I191=2,H191*10^RANDBETWEEN(RANDBETWEEN(0,1),1),CHOOSE(RANDBETWEEN(1,3),5,10,20)))","v":2},{"$f":"IF(I191=1,D191,IF(I191=3,\"%\",\"cm\"))","v":"m"},{"$f":"RANDBETWEEN(1,MIN(9,C191))","v":2},{"$f":"IF(AND(Worksheet!$D$12,RAND()<0.2),3,IF(RAND()<Worksheet!$D$10/100,1,2))","v":1},{"$f":"IF(I191=1,F191,IF(I191=2,F191/100,IF(I191=3,F191/100*C191,\"\")))","v":2},{"$f":"CONCATENATE(\" \",D191)","v":" m"},{"$f":"IF(I191=1,F191*100,IF(I191=2,F191,IF(I191=3,F191/100*C191*100,\"\")))","v":200},"cm"]
[{"$f":"IF(COUNTIF($B$1:B192,TRUE)=COUNTIF($B$1:B191,TRUE),\"\",COUNTIF($B$1:B192,TRUE))","v":150},{"$f":"Worksheet!$B$24","v":true},{"$f":"RANDBETWEEN(5,RANDBETWEEN(5,Worksheet!$D$8))","v":21},"km","±",{"$f":"IF(I192=1,H192*10^RANDBETWEEN(IF(Worksheet!$D$14,-1,0),0),IF(I192=2,H192*10^RANDBETWEEN(RANDBETWEEN(0,2),2),CHOOSE(RANDBETWEEN(1,3),5,10,20)))","v":0.9},{"$f":"IF(I192=1,D192,IF(I192=3,\"%\",\"m\"))","v":"km"},9,{"$f":"IF(AND(Worksheet!$D$12,RAND()<0.2),3,IF(RAND()<Worksheet!$D$10/100,1,2))","v":1},{"$f":"IF(I192=1,F192,IF(I192=2,F192/1000,IF(I192=3,F192/100*C192,\"\")))","v":0.9}," km",{"$f":"IF(I192=1,F192*1000,IF(I192=2,F192,IF(I192=3,F192/100*C192*1000,\"\")))","v":900},"m"]
[{"$f":"IF(COUNTIF($B$1:B193,TRUE)=COUNTIF($B$1:B192,TRUE),\"\",COUNTIF($B$1:B193,TRUE))","v":""},{"$f":"Worksheet!$B$26","v":false},{"$f":"RANDBETWEEN(5,RANDBETWEEN(5,Worksheet!$D$8))","v":7},"m","±",{"$f":"IF(I193=1,H193*10^RANDBETWEEN(IF(Worksheet!$D$14,-1,0),0),IF(I193=2,H193*10^RANDBETWEEN(RANDBETWEEN(0,2),2),CHOOSE(RANDBETWEEN(1,3),5,10,20)))","v":20},{"$f":"IF(I193=1,D193,IF(I193=3,\"%\",\"mm\"))","v":"%"},1,{"$f":"IF(AND(Worksheet!$D$12,RAND()<0.2),3,IF(RAND()<Worksheet!$D$10/100,1,2))","v":3},1.4000000000000001," m",1400.0000000000002,"mm"]
[{"$f":"IF(COUNTIF($B$1:B194,TRUE)=COUNTIF($B$1:B193,TRUE),\"\",COUNTIF($B$1:B194,TRUE))","v":151},{"$f":"Worksheet!$D$20","v":true},{"$f":"RANDBETWEEN(5,RANDBETWEEN(5,Worksheet!$D$8))","v":6},"kg","±",{"$f":"IF(I194=1,H194*10^RANDBETWEEN(IF(Worksheet!$D$14,-1,0),0),IF(I194=2,H194*10^RANDBETWEEN(RANDBETWEEN(0,2),2),CHOOSE(RANDBETWEEN(1,3),5,10,20)))","v":5},{"$f":"IF(I194=1,D194,IF(I194=3,\"%\",\"g\"))","v":"%"},{"$f":"RANDBETWEEN(1,MIN(9,C194))","v":2},{"$f":"IF(AND(Worksheet!$D$12,RAND()<0.2),3,IF(RAND()<Worksheet!$D$10/100,1,2))","v":3},0.30000000000000004,{"$f":"CONCATENATE(\" \",D194)","v":" kg"},300.00000000000006,"g"]
[{"$f":"IF(COUNTIF($B$1:B195,TRUE)=COUNTIF($B$1:B194,TRUE),\"\",COUNTIF($B$1:B195,TRUE))","v":152},{"$f":"Worksheet!$D$22","v":true},{"$f":"RANDBETWEEN(5,RANDBETWEEN(5,Worksheet!$D$8))","v":60},"tonnes","±",{"$f":"IF(I195=1,H195*10^RANDBETWEEN(IF(Worksheet!$D$14,-1,0),0),IF(I195=2,H195*10^RANDBETWEEN(RANDBETWEEN(0,2),2),CHOOSE(RANDBETWEEN(1,3),5,10,20)))","v":0.8},{"$f":"IF(I195=1,D195,IF(I195=3,\"%\",\"kg\"))","v":"tonnes"},{"$f":"RANDBETWEEN(1,MIN(9,C195))","v":8},{"$f":"IF(AND(Worksheet!$D$12,RAND()<0.2),3,IF(RAND()<Worksheet!$D$10/100,1,2))","v":1},0.8,{"$f":"CONCATENATE(\" \",D195)","v":" tonnes"},800,"kg"]
[{"$f":"IF(COUNTIF($B$1:B196,TRUE)=COUNTIF($B$1:B195,TRUE),\"\",COUNTIF($B$1:B196,TRUE))","v":153},{"$f":"Worksheet!$D$24","v":true},{"$f":"RANDBETWEEN(5,RANDBETWEEN(5,Worksheet!$D$8))","v":160},"litres","±",{"$f":"IF(I196=1,H196*10^RANDBETWEEN(IF(Worksheet!$D$14,-1,0),0),IF(I196=2,H196*10^RANDBETWEEN(RANDBETWEEN(0,2),2),CHOOSE(RANDBETWEEN(1,3),5,10,20)))","v":10},{"$f":"IF(I196=1,D196,IF(I196=3,\"%\",\"ml\"))","v":"ml"},{"$f":"RANDBETWEEN(1,MIN(9,C196))","v":1},{"$f":"IF(AND(Worksheet!$D$12,RAND()<0.2),3,IF(RAND()<Worksheet!$D$10/100,1,2))","v":2},0.01,{"$f":"CONCATENATE(\" \",D196)","v":" litres"},10,"ml"]
[{"$f":"IF(COUNTIF($B$1:B197,TRUE)=COUNTIF($B$1:B196,TRUE),\"\",COUNTIF($B$1:B197,TRUE))","v":""},{"$f":"Worksheet!$D$26","v":false},{"$f":"RANDBETWEEN(5,RANDBETWEEN(5,Worksheet!$D$8))","v":16},"litres","±",{"$f":"IF(I197=1,H197*10^RANDBETWEEN(IF(Worksheet!$D$14,-1,0),0),IF(I197=2,H197*10^RANDBETWEEN(RANDBETWEEN(0,2),2),CHOOSE(RANDBETWEEN(1,3),5,10,20)))","v":800},{"$f":"IF(I197=1,D197,IF(I197=3,\"%\",\"cm³\"))","v":"cm³"},{"$f":"RANDBETWEEN(1,MIN(9,C197))","v":8},{"$f":"IF(AND(Worksheet!$D$12,RAND()<0.2),3,IF(RAND()<Worksheet!$D$10/100,1,2))","v":2},0.8,{"$f":"CONCATENATE(\" \",D197)","v":" litres"},800,"cm³"]
[{"$f":"IF(COUNTIF($B$1:B198,TRUE)=COUNTIF($B$1:B198,TRUE),\"\",COUNTIF($B$1:B198,TRUE))","v":""},{"$f":"Worksheet!$B$28","v":true},{"$f":"RANDBETWEEN(5,20)","v":18},"°C","±",{"$f":"IF(I198=1,H198*10^RANDBETWEEN(IF(Worksheet!$D$14,-1,0),0),IF(I198=2,H198,CHOOSE(RANDBETWEEN(1,3),5,10,20)))","v":4},{"$f":"IF(I198=1,D198,IF(I198=3,\"%\",\"sec\"))","v":"°C"},{"$f":"RANDBETWEEN(1,MIN(9,C198))","v":4},{"$f":"IF(AND(Worksheet!$D$12,RAND()<0),3,IF(RAND()<Worksheet!$D$10/100,1,2))","v":1},{"$f":"IF(I198=1,F198,IF(I198=2,F198,IF(I198=3,F198/100*C198,\"\")))","v":4},{"$f":"CONCATENATE(\" \",D198)","v":" °C"},{"$f":"IF(I198=1,F198,IF(I198=2,F198,IF(I198=3,F198/100*C198,\"\")))","v":4}," °C"]
[{"$f":"COUNTIF($B$1:B199,TRUE)","v":155},{"$f":"Worksheet!$B$20","v":true},{"$f":"RANDBETWEEN(5,RANDBETWEEN(5,Worksheet!$D$8))","v":95},"cm","±",{"$f":"IF(I199=1,H199*10^RANDBETWEEN(IF(Worksheet!$D$14,-1,0),0),IF(I199=2,H199,CHOOSE(RANDBETWEEN(1,3),5,10,20)))","v":10},{"$f":"IF(I199=1,D199,IF(I199=3,\"%\",\"mm\"))","v":"%"},{"$f":"RANDBETWEEN(1,MIN(9,C199))","v":8},{"$f":"IF(AND(Worksheet!$D$12,RAND()<0.2),3,IF(RAND()<Worksheet!$D$10/100,1,2))","v":3},{"$f":"IF(I199=1,F199,IF(I199=2,F199/10,IF(I199=3,F199/100*C199,\"\")))","v":9.5},{"$f":"CONCATENATE(\" \",D199)","v":" cm"},{"$f":"IF(I199=1,F199*10,IF(I199=2,F199,IF(I199=3,F199/100*C199*10,\"\")))","v":95},"mm"]
[{"$f":"IF(COUNTIF($B$1:B200,TRUE)=COUNTIF($B$1:B199,TRUE),\"\",COUNTIF($B$1:B200,TRUE))","v":156},{"$f":"Worksheet!$B$22","v":true},{"$f":"RANDBETWEEN(5,RANDBETWEEN(5,Worksheet!$D$8))","v":139},"m","±",{"$f":"IF(I200=1,H200*10^RANDBETWEEN(IF(Worksheet!$D$14,-1,0),0),IF(I200=2,H200*10^RANDBETWEEN(RANDBETWEEN(0,1),1),CHOOSE(RANDBETWEEN(1,3),5,10,20)))","v":0.30000000000000004},{"$f":"IF(I200=1,D200,IF(I200=3,\"%\",\"cm\"))","v":"m"},{"$f":"RANDBETWEEN(1,MIN(9,C200))","v":3},{"$f":"IF(AND(Worksheet!$D$12,RAND()<0.2),3,IF(RAND()<Worksheet!$D$10/100,1,2))","v":1},{"$f":"IF(I200=1,F200,IF(I200=2,F200/100,IF(I200=3,F200/100*C200,\"\")))","v":0.30000000000000004},{"$f":"CONCATENATE(\" \",D200)","v":" m"},{"$f":"IF(I200=1,F200*100,IF(I200=2,F200,IF(I200=3,F200/100*C200*100,\"\")))","v":30.000000000000004},"cm"]
[{"$f":"IF(COUNTIF($B$1:B201,TRUE)=COUNTIF($B$1:B200,TRUE),\"\",COUNTIF($B$1:B201,TRUE))","v":157},{"$f":"Worksheet!$B$24","v":true},{"$f":"RANDBETWEEN(5,RANDBETWEEN(5,Worksheet!$D$8))","v":62},"km","±",{"$f":"IF(I201=1,H201*10^RANDBETWEEN(IF(Worksheet!$D$14,-1,0),0),IF(I201=2,H201*10^RANDBETWEEN(RANDBETWEEN(0,2),2),CHOOSE(RANDBETWEEN(1,3),5,10,20)))","v":20},{"$f":"IF(I201=1,D201,IF(I201=3,\"%\",\"m\"))","v":"%"},2,{"$f":"IF(AND(Worksheet!$D$12,RAND()<0.2),3,IF(RAND()<Worksheet!$D$10/100,1,2))","v":3},{"$f":"IF(I201=1,F201,IF(I201=2,F201/1000,IF(I201=3,F201/100*C201,\"\")))","v":12.4}," km",{"$f":"IF(I201=1,F201*1000,IF(I201=2,F201,IF(I201=3,F201/100*C201*1000,\"\")))","v":12400},"m"]
[{"$f":"IF(COUNTIF($B$1:B202,TRUE)=COUNTIF($B$1:B201,TRUE),\"\",COUNTIF($B$1:B202,TRUE))","v":""},{"$f":"Worksheet!$B$26","v":false},{"$f":"RANDBETWEEN(5,RANDBETWEEN(5,Worksheet!$D$8))","v":106},"m","±",{"$f":"IF(I202=1,H202*10^RANDBETWEEN(IF(Worksheet!$D$14,-1,0),0),IF(I202=2,H202*10^RANDBETWEEN(RANDBETWEEN(0,2),2),CHOOSE(RANDBETWEEN(1,3),5,10,20)))","v":0.1},{"$f":"IF(I202=1,D202,IF(I202=3,\"%\",\"mm\"))","v":"m"},1,{"$f":"IF(AND(Worksheet!$D$12,RAND()<0.2),3,IF(RAND()<Worksheet!$D$10/100,1,2))","v":1},0.1," m",100,"mm"]
[{"$f":"IF(COUNTIF($B$1:B203,TRUE)=COUNTIF($B$1:B202,TRUE),\"\",COUNTIF($B$1:B203,TRUE))","v":158},{"$f":"Worksheet!$D$20","v":true},{"$f":"RANDBETWEEN(5,RANDBETWEEN(5,Worksheet!$D$8))","v":18},"kg","±",{"$f":"IF(I203=1,H203*10^RANDBETWEEN(IF(Worksheet!$D$14,-1,0),0),IF(I203=2,H203*10^RANDBETWEEN(RANDBETWEEN(0,2),2),CHOOSE(RANDBETWEEN(1,3),5,10,20)))","v":10},{"$f":"IF(I203=1,D203,IF(I203=3,\"%\",\"g\"))","v":"%"},{"$f":"RANDBETWEEN(1,MIN(9,C203))","v":3},{"$f":"IF(AND(Worksheet!$D$12,RAND()<0.2),3,IF(RAND()<Worksheet!$D$10/100,1,2))","v":3},1.8,{"$f":"CONCATENATE(\" \",D203)","v":" kg"},1800,"g"]
[{"$f":"IF(COUNTIF($B$1:B204,TRUE)=COUNTIF($B$1:B203,TRUE),\"\",COUNTIF($B$1:B204,TRUE))","v":159},{"$f":"Worksheet!$D$22","v":true},{"$f":"RANDBETWEEN(5,RANDBETWEEN(5,Worksheet!$D$8))","v":33},"tonnes","±",{"$f":"IF(I204=1,H204*10^RANDBETWEEN(IF(Worksheet!$D$14,-1,0),0),IF(I204=2,H204*10^RANDBETWEEN(RANDBETWEEN(0,2),2),CHOOSE(RANDBETWEEN(1,3),5,10,20)))","v":0.2},{"$f":"IF(I204=1,D204,IF(I204=3,\"%\",\"kg\"))","v":"tonnes"},{"$f":"RANDBETWEEN(1,MIN(9,C204))","v":2},{"$f":"IF(AND(Worksheet!$D$12,RAND()<0.2),3,IF(RAND()<Worksheet!$D$10/100,1,2))","v":1},0.2,{"$f":"CONCATENATE(\" \",D204)","v":" tonnes"},200,"kg"]
[{"$f":"IF(COUNTIF($B$1:B205,TRUE)=COUNTIF($B$1:B204,TRUE),\"\",COUNTIF($B$1:B205,TRUE))","v":160},{"$f":"Worksheet!$D$24","v":true},{"$f":"RANDBETWEEN(5,RANDBETWEEN(5,Worksheet!$D$8))","v":138},"litres","±",{"$f":"IF(I205=1,H205*10^RANDBETWEEN(IF(Worksheet!$D$14,-1,0),0),IF(I205=2,H205*10^RANDBETWEEN(RANDBETWEEN(0,2),2),CHOOSE(RANDBETWEEN(1,3),5,10,20)))","v":0.1},{"$f":"IF(I205=1,D205,IF(I205=3,\"%\",\"ml\"))","v":"litres"},{"$f":"RANDBETWEEN(1,MIN(9,C205))","v":1},{"$f":"IF(AND(Worksheet!$D$12,RAND()<0.2),3,IF(RAND()<Worksheet!$D$10/100,1,2))","v":1},0.1,{"$f":"CONCATENATE(\" \",D205)","v":" litres"},100,"ml"]
[{"$f":"IF(COUNTIF($B$1:B206,TRUE)=COUNTIF($B$1:B205,TRUE),\"\",COUNTIF($B$1:B206,TRUE))","v":""},{"$f":"Worksheet!$D$26","v":false},{"$f":"RANDBETWEEN(5,RANDBETWEEN(5,Worksheet!$D$8))","v":16},"litres","±",{"$f":"IF(I206=1,H206*10^RANDBETWEEN(IF(Worksheet!$D$14,-1,0),0),IF(I206=2,H206*10^RANDBETWEEN(RANDBETWEEN(0,2),2),CHOOSE(RANDBETWEEN(1,3),5,10,20)))","v":2},{"$f":"IF(I206=1,D206,IF(I206=3,\"%\",\"cm³\"))","v":"litres"},{"$f":"RANDBETWEEN(1,MIN(9,C206))","v":2},{"$f":"IF(AND(Worksheet!$D$12,RAND()<0.2),3,IF(RAND()<Worksheet!$D$10/100,1,2))","v":1},2,{"$f":"CONCATENATE(\" \",D206)","v":" litres"},2000,"cm³"]
[{"$f":"IF(COUNTIF($B$1:B207,TRUE)=COUNTIF($B$1:B207,TRUE),\"\",COUNTIF($B$1:B207,TRUE))","v":""},{"$f":"Worksheet!$B$28","v":true},{"$f":"RANDBETWEEN(5,20)","v":16},"°C","±",{"$f":"IF(I207=1,H207*10^RANDBETWEEN(IF(Worksheet!$D$14,-1,0),0),IF(I207=2,H207,CHOOSE(RANDBETWEEN(1,3),5,10,20)))","v":8},{"$f":"IF(I207=1,D207,IF(I207=3,\"%\",\"sec\"))","v":"°C"},{"$f":"RANDBETWEEN(1,MIN(9,C207))","v":8},{"$f":"IF(AND(Worksheet!$D$12,RAND()<0),3,IF(RAND()<Worksheet!$D$10/100,1,2))","v":1},{"$f":"IF(I207=1,F207,IF(I207=2,F207,IF(I207=3,F207/100*C207,\"\")))","v":8},{"$f":"CONCATENATE(\" \",D207)","v":" °C"},{"$f":"IF(I207=1,F207,IF(I207=2,F207,IF(I207=3,F207/100*C207,\"\")))","v":8}," °C"]
[{"$f":"COUNTIF($B$1:B208,TRUE)","v":162},{"$f":"Worksheet!$B$20","v":true},{"$f":"RANDBETWEEN(5,RANDBETWEEN(5,Worksheet!$D$8))","v":135},"cm","±",{"$f":"IF(I208=1,H208*10^RANDBETWEEN(IF(Worksheet!$D$14,-1,0),0),IF(I208=2,H208,CHOOSE(RANDBETWEEN(1,3),5,10,20)))","v":5},{"$f":"IF(I208=1,D208,IF(I208=3,\"%\",\"mm\"))","v":"%"},{"$f":"RANDBETWEEN(1,MIN(9,C208))","v":5},{"$f":"IF(AND(Worksheet!$D$12,RAND()<0.2),3,IF(RAND()<Worksheet!$D$10/100,1,2))","v":3},{"$f":"IF(I208=1,F208,IF(I208=2,F208/10,IF(I208=3,F208/100*C208,\"\")))","v":6.75},{"$f":"CONCATENATE(\" \",D208)","v":" cm"},{"$f":"IF(I208=1,F208*10,IF(I208=2,F208,IF(I208=3,F208/100*C208*10,\"\")))","v":67.5},"mm"]
[{"$f":"IF(COUNTIF($B$1:B209,TRUE)=COUNTIF($B$1:B208,TRUE),\"\",COUNTIF($B$1:B209,TRUE))","v":163},{"$f":"Worksheet!$B$22","v":true},{"$f":"RANDBETWEEN(5,RANDBETWEEN(5,Worksheet!$D$8))","v":7},"m","±",{"$f":"IF(I209=1,H209*10^RANDBETWEEN(IF(Worksheet!$D$14,-1,0),0),IF(I209=2,H209*10^RANDBETWEEN(RANDBETWEEN(0,1),1),CHOOSE(RANDBETWEEN(1,3),5,10,20)))","v":10},{"$f":"IF(I209=1,D209,IF(I209=3,\"%\",\"cm\"))","v":"cm"},{"$f":"RANDBETWEEN(1,MIN(9,C209))","v":1},{"$f":"IF(AND(Worksheet!$D$12,RAND()<0.2),3,IF(RAND()<Worksheet!$D$10/100,1,2))","v":2},{"$f":"IF(I209=1,F209,IF(I209=2,F209/100,IF(I209=3,F209/100*C209,\"\")))","v":0.1},{"$f":"CONCATENATE(\" \",D209)","v":" m"},{"$f":"IF(I209=1,F209*100,IF(I209=2,F209,IF(I209=3,F209/100*C209*100,\"\")))","v":10},"cm"]
[{"$f":"IF(COUNTIF($B$1:B210,TRUE)=COUNTIF($B$1:B209,TRUE),\"\",COUNTIF($B$1:B210,TRUE))","v":164},{"$f":"Worksheet!$B$24","v":true},{"$f":"RANDBETWEEN(5,RANDBETWEEN(5,Worksheet!$D$8))","v":108},"km","±",{"$f":"IF(I210=1,H210*10^RANDBETWEEN(IF(Worksheet!$D$14,-1,0),0),IF(I210=2,H210*10^RANDBETWEEN(RANDBETWEEN(0,2),2),CHOOSE(RANDBETWEEN(1,3),5,10,20)))","v":5},{"$f":"IF(I210=1,D210,IF(I210=3,\"%\",\"m\"))","v":"%"},9,{"$f":"IF(AND(Worksheet!$D$12,RAND()<0.2),3,IF(RAND()<Worksheet!$D$10/100,1,2))","v":3},{"$f":"IF(I210=1,F210,IF(I210=2,F210/1000,IF(I210=3,F210/100*C210,\"\")))","v":5.4}," km",{"$f":"IF(I210=1,F210*1000,IF(I210=2,F210,IF(I210=3,F210/100*C210*1000,\"\")))","v":5400},"m"]
[{"$f":"IF(COUNTIF($B$1:B211,TRUE)=COUNTIF($B$1:B210,TRUE),\"\",COUNTIF($B$1:B211,TRUE))","v":""},{"$f":"Worksheet!$B$26","v":false},{"$f":"RANDBETWEEN(5,RANDBETWEEN(5,Worksheet!$D$8))","v":65},"m","±",{"$f":"IF(I211=1,H211*10^RANDBETWEEN(IF(Worksheet!$D$14,-1,0),0),IF(I211=2,H211*10^RANDBETWEEN(RANDBETWEEN(0,2),2),CHOOSE(RANDBETWEEN(1,3),5,10,20)))","v":20},{"$f":"IF(I211=1,D211,IF(I211=3,\"%\",\"mm\"))","v":"%"},8,{"$f":"IF(AND(Worksheet!$D$12,RAND()<0.2),3,IF(RAND()<Worksheet!$D$10/100,1,2))","v":3},13," m",13000,"mm"]
[{"$f":"IF(COUNTIF($B$1:B212,TRUE)=COUNTIF($B$1:B211,TRUE),\"\",COUNTIF($B$1:B212,TRUE))","v":165},{"$f":"Worksheet!$D$20","v":true},{"$f":"RANDBETWEEN(5,RANDBETWEEN(5,Worksheet!$D$8))","v":17},"kg","±",{"$f":"IF(I212=1,H212*10^RANDBETWEEN(IF(Worksheet!$D$14,-1,0),0),IF(I212=2,H212*10^RANDBETWEEN(RANDBETWEEN(0,2),2),CHOOSE(RANDBETWEEN(1,3),5,10,20)))","v":0.5},{"$f":"IF(I212=1,D212,IF(I212=3,\"%\",\"g\"))","v":"kg"},{"$f":"RANDBETWEEN(1,MIN(9,C212))","v":5},{"$f":"IF(AND(Worksheet!$D$12,RAND()<0.2),3,IF(RAND()<Worksheet!$D$10/100,1,2))","v":1},0.5,{"$f":"CONCATENATE(\" \",D212)","v":" kg"},500,"g"]
[{"$f":"IF(COUNTIF($B$1:B213,TRUE)=COUNTIF($B$1:B212,TRUE),\"\",COUNTIF($B$1:B213,TRUE))","v":166},{"$f":"Worksheet!$D$22","v":true},{"$f":"RANDBETWEEN(5,RANDBETWEEN(5,Worksheet!$D$8))","v":8},"tonnes","±",{"$f":"IF(I213=1,H213*10^RANDBETWEEN(IF(Worksheet!$D$14,-1,0),0),IF(I213=2,H213*10^RANDBETWEEN(RANDBETWEEN(0,2),2),CHOOSE(RANDBETWEEN(1,3),5,10,20)))","v":700},{"$f":"IF(I213=1,D213,IF(I213=3,\"%\",\"kg\"))","v":"kg"},{"$f":"RANDBETWEEN(1,MIN(9,C213))","v":7},{"$f":"IF(AND(Worksheet!$D$12,RAND()<0.2),3,IF(RAND()<Worksheet!$D$10/100,1,2))","v":2},0.7,{"$f":"CONCATENATE(\" \",D213)","v":" tonnes"},700,"kg"]
[{"$f":"IF(COUNTIF($B$1:B214,TRUE)=COUNTIF($B$1:B213,TRUE),\"\",COUNTIF($B$1:B214,TRUE))","v":167},{"$f":"Worksheet!$D$24","v":true},{"$f":"RANDBETWEEN(5,RANDBETWEEN(5,Worksheet!$D$8))","v":24},"litres","±",{"$f":"IF(I214=1,H214*10^RANDBETWEEN(IF(Worksheet!$D$14,-1,0),0),IF(I214=2,H214*10^RANDBETWEEN(RANDBETWEEN(0,2),2),CHOOSE(RANDBETWEEN(1,3),5,10,20)))","v":600},{"$f":"IF(I214=1,D214,IF(I214=3,\"%\",\"ml\"))","v":"ml"},{"$f":"RANDBETWEEN(1,MIN(9,C214))","v":6},{"$f":"IF(AND(Worksheet!$D$12,RAND()<0.2),3,IF(RAND()<Worksheet!$D$10/100,1,2))","v":2},0.6,{"$f":"CONCATENATE(\" \",D214)","v":" litres"},600,"ml"]
[{"$f":"IF(COUNTIF($B$1:B215,TRUE)=COUNTIF($B$1:B214,TRUE),\"\",COUNTIF($B$1:B215,TRUE))","v":""},{"$f":"Worksheet!$D$26","v":false},{"$f":"RANDBETWEEN(5,RANDBETWEEN(5,Worksheet!$D$8))","v":27},"litres","±",{"$f":"IF(I215=1,H215*10^RANDBETWEEN(IF(Worksheet!$D$14,-1,0),0),IF(I215=2,H215*10^RANDBETWEEN(RANDBETWEEN(0,2),2),CHOOSE(RANDBETWEEN(1,3),5,10,20)))","v":0.30000000000000004},{"$f":"IF(I215=1,D215,IF(I215=3,\"%\",\"cm³\"))","v":"litres"},{"$f":"RANDBETWEEN(1,MIN(9,C215))","v":3},{"$f":"IF(AND(Worksheet!$D$12,RAND()<0.2),3,IF(RAND()<Worksheet!$D$10/100,1,2))","v":1},0.30000000000000004,{"$f":"CONCATENATE(\" \",D215)","v":" litres"},300.00000000000006,"cm³"]
[{"$f":"IF(COUNTIF($B$1:B216,TRUE)=COUNTIF($B$1:B216,TRUE),\"\",COUNTIF($B$1:B216,TRUE))","v":""},{"$f":"Worksheet!$B$28","v":true},{"$f":"RANDBETWEEN(5,20)","v":6},"°C","±",{"$f":"IF(I216=1,H216*10^RANDBETWEEN(IF(Worksheet!$D$14,-1,0),0),IF(I216=2,H216,CHOOSE(RANDBETWEEN(1,3),5,10,20)))","v":5},{"$f":"IF(I216=1,D216,IF(I216=3,\"%\",\"sec\"))","v":"sec"},{"$f":"RANDBETWEEN(1,MIN(9,C216))","v":5},{"$f":"IF(AND(Worksheet!$D$12,RAND()<0),3,IF(RAND()<Worksheet!$D$10/100,1,2))","v":2},{"$f":"IF(I216=1,F216,IF(I216=2,F216,IF(I216=3,F216/100*C216,\"\")))","v":5},{"$f":"CONCATENATE(\" \",D216)","v":" °C"},{"$f":"IF(I216=1,F216,IF(I216=2,F216,IF(I216=3,F216/100*C216,\"\")))","v":5}," °C"]
[{"$f":"COUNTIF($B$1:B217,TRUE)","v":169},{"$f":"Worksheet!$B$20","v":true},{"$f":"RANDBETWEEN(5,RANDBETWEEN(5,Worksheet!$D$8))","v":72},"cm","±",{"$f":"IF(I217=1,H217*10^RANDBETWEEN(IF(Worksheet!$D$14,-1,0),0),IF(I217=2,H217,CHOOSE(RANDBETWEEN(1,3),5,10,20)))","v":5},{"$f":"IF(I217=1,D217,IF(I217=3,\"%\",\"mm\"))","v":"mm"},{"$f":"RANDBETWEEN(1,MIN(9,C217))","v":5},{"$f":"IF(AND(Worksheet!$D$12,RAND()<0.2),3,IF(RAND()<Worksheet!$D$10/100,1,2))","v":2},{"$f":"IF(I217=1,F217,IF(I217=2,F217/10,IF(I217=3,F217/100*C217,\"\")))","v":0.5},{"$f":"CONCATENATE(\" \",D217)","v":" cm"},{"$f":"IF(I217=1,F217*10,IF(I217=2,F217,IF(I217=3,F217/100*C217*10,\"\")))","v":5},"mm"]
[{"$f":"IF(COUNTIF($B$1:B218,TRUE)=COUNTIF($B$1:B217,TRUE),\"\",COUNTIF($B$1:B218,TRUE))","v":170},{"$f":"Worksheet!$B$22","v":true},{"$f":"RANDBETWEEN(5,RANDBETWEEN(5,Worksheet!$D$8))","v":79},"m","±",{"$f":"IF(I218=1,H218*10^RANDBETWEEN(IF(Worksheet!$D$14,-1,0),0),IF(I218=2,H218*10^RANDBETWEEN(RANDBETWEEN(0,1),1),CHOOSE(RANDBETWEEN(1,3),5,10,20)))","v":2},{"$f":"IF(I218=1,D218,IF(I218=3,\"%\",\"cm\"))","v":"m"},{"$f":"RANDBETWEEN(1,MIN(9,C218))","v":2},{"$f":"IF(AND(Worksheet!$D$12,RAND()<0.2),3,IF(RAND()<Worksheet!$D$10/100,1,2))","v":1},{"$f":"IF(I218=1,F218,IF(I218=2,F218/100,IF(I218=3,F218/100*C218,\"\")))","v":2},{"$f":"CONCATENATE(\" \",D218)","v":" m"},{"$f":"IF(I218=1,F218*100,IF(I218=2,F218,IF(I218=3,F218/100*C218*100,\"\")))","v":200},"cm"]
[{"$f":"IF(COUNTIF($B$1:B219,TRUE)=COUNTIF($B$1:B218,TRUE),\"\",COUNTIF($B$1:B219,TRUE))","v":171},{"$f":"Worksheet!$B$24","v":true},{"$f":"RANDBETWEEN(5,RANDBETWEEN(5,Worksheet!$D$8))","v":30},"km","±",{"$f":"IF(I219=1,H219*10^RANDBETWEEN(IF(Worksheet!$D$14,-1,0),0),IF(I219=2,H219*10^RANDBETWEEN(RANDBETWEEN(0,2),2),CHOOSE(RANDBETWEEN(1,3),5,10,20)))","v":0.9},{"$f":"IF(I219=1,D219,IF(I219=3,\"%\",\"m\"))","v":"km"},9,{"$f":"IF(AND(Worksheet!$D$12,RAND()<0.2),3,IF(RAND()<Worksheet!$D$10/100,1,2))","v":1},{"$f":"IF(I219=1,F219,IF(I219=2,F219/1000,IF(I219=3,F219/100*C219,\"\")))","v":0.9}," km",{"$f":"IF(I219=1,F219*1000,IF(I219=2,F219,IF(I219=3,F219/100*C219*1000,\"\")))","v":900},"m"]
[{"$f":"IF(COUNTIF($B$1:B220,TRUE)=COUNTIF($B$1:B219,TRUE),\"\",COUNTIF($B$1:B220,TRUE))","v":""},{"$f":"Worksheet!$B$26","v":false},{"$f":"RANDBETWEEN(5,RANDBETWEEN(5,Worksheet!$D$8))","v":20},"m","±",{"$f":"IF(I220=1,H220*10^RANDBETWEEN(IF(Worksheet!$D$14,-1,0),0),IF(I220=2,H220*10^RANDBETWEEN(RANDBETWEEN(0,2),2),CHOOSE(RANDBETWEEN(1,3),5,10,20)))","v":5},{"$f":"IF(I220=1,D220,IF(I220=3,\"%\",\"mm\"))","v":"%"},9,{"$f":"IF(AND(Worksheet!$D$12,RAND()<0.2),3,IF(RAND()<Worksheet!$D$10/100,1,2))","v":3},1," m",1000,"mm"]
[{"$f":"IF(COUNTIF($B$1:B221,TRUE)=COUNTIF($B$1:B220,TRUE),\"\",COUNTIF($B$1:B221,TRUE))","v":172},{"$f":"Worksheet!$D$20","v":true},{"$f":"RANDBETWEEN(5,RANDBETWEEN(5,Worksheet!$D$8))","v":75},"kg","±",{"$f":"IF(I221=1,H221*10^RANDBETWEEN(IF(Worksheet!$D$14,-1,0),0),IF(I221=2,H221*10^RANDBETWEEN(RANDBETWEEN(0,2),2),CHOOSE(RANDBETWEEN(1,3),5,10,20)))","v":5},{"$f":"IF(I221=1,D221,IF(I221=3,\"%\",\"g\"))","v":"%"},{"$f":"RANDBETWEEN(1,MIN(9,C221))","v":9},{"$f":"IF(AND(Worksheet!$D$12,RAND()<0.2),3,IF(RAND()<Worksheet!$D$10/100,1,2))","v":3},3.75,{"$f":"CONCATENATE(\" \",D221)","v":" kg"},3750,"g"]
[{"$f":"IF(COUNTIF($B$1:B222,TRUE)=COUNTIF($B$1:B221,TRUE),\"\",COUNTIF($B$1:B222,TRUE))","v":173},{"$f":"Worksheet!$D$22","v":true},{"$f":"RANDBETWEEN(5,RANDBETWEEN(5,Worksheet!$D$8))","v":57},"tonnes","±",{"$f":"IF(I222=1,H222*10^RANDBETWEEN(IF(Worksheet!$D$14,-1,0),0),IF(I222=2,H222*10^RANDBETWEEN(RANDBETWEEN(0,2),2),CHOOSE(RANDBETWEEN(1,3),5,10,20)))","v":20},{"$f":"IF(I222=1,D222,IF(I222=3,\"%\",\"kg\"))","v":"%"},{"$f":"RANDBETWEEN(1,MIN(9,C222))","v":6},{"$f":"IF(AND(Worksheet!$D$12,RAND()<0.2),3,IF(RAND()<Worksheet!$D$10/100,1,2))","v":3},11.4,{"$f":"CONCATENATE(\" \",D222)","v":" tonnes"},11400,"kg"]
[{"$f":"IF(COUNTIF($B$1:B223,TRUE)=COUNTIF($B$1:B222,TRUE),\"\",COUNTIF($B$1:B223,TRUE))","v":174},{"$f":"Worksheet!$D$24","v":true},{"$f":"RANDBETWEEN(5,RANDBETWEEN(5,Worksheet!$D$8))","v":158},"litres","±",{"$f":"IF(I223=1,H223*10^RANDBETWEEN(IF(Worksheet!$D$14,-1,0),0),IF(I223=2,H223*10^RANDBETWEEN(RANDBETWEEN(0,2),2),CHOOSE(RANDBETWEEN(1,3),5,10,20)))","v":20},{"$f":"IF(I223=1,D223,IF(I223=3,\"%\",\"ml\"))","v":"%"},{"$f":"RANDBETWEEN(1,MIN(9,C223))","v":3},{"$f":"IF(AND(Worksheet!$D$12,RAND()<0.2),3,IF(RAND()<Worksheet!$D$10/100,1,2))","v":3},31.6,{"$f":"CONCATENATE(\" \",D223)","v":" litres"},31600,"ml"]
[{"$f":"IF(COUNTIF($B$1:B224,TRUE)=COUNTIF($B$1:B223,TRUE),\"\",COUNTIF($B$1:B224,TRUE))","v":""},{"$f":"Worksheet!$D$26","v":false},{"$f":"RANDBETWEEN(5,RANDBETWEEN(5,Worksheet!$D$8))","v":66},"litres","±",{"$f":"IF(I224=1,H224*10^RANDBETWEEN(IF(Worksheet!$D$14,-1,0),0),IF(I224=2,H224*10^RANDBETWEEN(RANDBETWEEN(0,2),2),CHOOSE(RANDBETWEEN(1,3),5,10,20)))","v":0.70000000000000007},{"$f":"IF(I224=1,D224,IF(I224=3,\"%\",\"cm³\"))","v":"litres"},{"$f":"RANDBETWEEN(1,MIN(9,C224))","v":7},{"$f":"IF(AND(Worksheet!$D$12,RAND()<0.2),3,IF(RAND()<Worksheet!$D$10/100,1,2))","v":1},0.70000000000000007,{"$f":"CONCATENATE(\" \",D224)","v":" litres"},700.00000000000011,"cm³"]
[{"$f":"IF(COUNTIF($B$1:B225,TRUE)=COUNTIF($B$1:B225,TRUE),\"\",COUNTIF($B$1:B225,TRUE))","v":""},{"$f":"Worksheet!$B$28","v":true},{"$f":"RANDBETWEEN(5,20)","v":14},"°C","±",{"$f":"IF(I225=1,H225*10^RANDBETWEEN(IF(Worksheet!$D$14,-1,0),0),IF(I225=2,H225,CHOOSE(RANDBETWEEN(1,3),5,10,20)))","v":2},{"$f":"IF(I225=1,D225,IF(I225=3,\"%\",\"sec\"))","v":"sec"},{"$f":"RANDBETWEEN(1,MIN(9,C225))","v":2},{"$f":"IF(AND(Worksheet!$D$12,RAND()<0),3,IF(RAND()<Worksheet!$D$10/100,1,2))","v":2},{"$f":"IF(I225=1,F225,IF(I225=2,F225,IF(I225=3,F225/100*C225,\"\")))","v":2},{"$f":"CONCATENATE(\" \",D225)","v":" °C"},{"$f":"IF(I225=1,F225,IF(I225=2,F225,IF(I225=3,F225/100*C225,\"\")))","v":2}," °C"]
[{"$f":"COUNTIF($B$1:B226,TRUE)","v":176},{"$f":"Worksheet!$B$20","v":true},{"$f":"RANDBETWEEN(5,RANDBETWEEN(5,Worksheet!$D$8))","v":18},"cm","±",{"$f":"IF(I226=1,H226*10^RANDBETWEEN(IF(Worksheet!$D$14,-1,0),0),IF(I226=2,H226,CHOOSE(RANDBETWEEN(1,3),5,10,20)))","v":5},{"$f":"IF(I226=1,D226,IF(I226=3,\"%\",\"mm\"))","v":"cm"},{"$f":"RANDBETWEEN(1,MIN(9,C226))","v":5},{"$f":"IF(AND(Worksheet!$D$12,RAND()<0.2),3,IF(RAND()<Worksheet!$D$10/100,1,2))","v":1},{"$f":"IF(I226=1,F226,IF(I226=2,F226/10,IF(I226=3,F226/100*C226,\"\")))","v":5},{"$f":"CONCATENATE(\" \",D226)","v":" cm"},{"$f":"IF(I226=1,F226*10,IF(I226=2,F226,IF(I226=3,F226/100*C226*10,\"\")))","v":50},"mm"]
[{"$f":"IF(COUNTIF($B$1:B227,TRUE)=COUNTIF($B$1:B226,TRUE),\"\",COUNTIF($B$1:B227,TRUE))","v":177},{"$f":"Worksheet!$B$22","v":true},{"$f":"RANDBETWEEN(5,RANDBETWEEN(5,Worksheet!$D$8))","v":24},"m","±",{"$f":"IF(I227=1,H227*10^RANDBETWEEN(IF(Worksheet!$D$14,-1,0),0),IF(I227=2,H227*10^RANDBETWEEN(RANDBETWEEN(0,1),1),CHOOSE(RANDBETWEEN(1,3),5,10,20)))","v":0.9},{"$f":"IF(I227=1,D227,IF(I227=3,\"%\",\"cm\"))","v":"m"},{"$f":"RANDBETWEEN(1,MIN(9,C227))","v":9},{"$f":"IF(AND(Worksheet!$D$12,RAND()<0.2),3,IF(RAND()<Worksheet!$D$10/100,1,2))","v":1},{"$f":"IF(I227=1,F227,IF(I227=2,F227/100,IF(I227=3,F227/100*C227,\"\")))","v":0.9},{"$f":"CONCATENATE(\" \",D227)","v":" m"},{"$f":"IF(I227=1,F227*100,IF(I227=2,F227,IF(I227=3,F227/100*C227*100,\"\")))","v":90},"cm"]
[{"$f":"IF(COUNTIF($B$1:B228,TRUE)=COUNTIF($B$1:B227,TRUE),\"\",COUNTIF($B$1:B228,TRUE))","v":178},{"$f":"Worksheet!$B$24","v":true},{"$f":"RANDBETWEEN(5,RANDBETWEEN(5,Worksheet!$D$8))","v":76},"km","±",{"$f":"IF(I228=1,H228*10^RANDBETWEEN(IF(Worksheet!$D$14,-1,0),0),IF(I228=2,H228*10^RANDBETWEEN(RANDBETWEEN(0,2),2),CHOOSE(RANDBETWEEN(1,3),5,10,20)))","v":2},{"$f":"IF(I228=1,D228,IF(I228=3,\"%\",\"m\"))","v":"km"},2,{"$f":"IF(AND(Worksheet!$D$12,RAND()<0.2),3,IF(RAND()<Worksheet!$D$10/100,1,2))","v":1},{"$f":"IF(I228=1,F228,IF(I228=2,F228/1000,IF(I228=3,F228/100*C228,\"\")))","v":2}," km",{"$f":"IF(I228=1,F228*1000,IF(I228=2,F228,IF(I228=3,F228/100*C228*1000,\"\")))","v":2000},"m"]
[{"$f":"IF(COUNTIF($B$1:B229,TRUE)=COUNTIF($B$1:B228,TRUE),\"\",COUNTIF($B$1:B229,TRUE))","v":""},{"$f":"Worksheet!$B$26","v":false},{"$f":"RANDBETWEEN(5,RANDBETWEEN(5,Worksheet!$D$8))","v":139},"m","±",{"$f":"IF(I229=1,H229*10^RANDBETWEEN(IF(Worksheet!$D$14,-1,0),0),IF(I229=2,H229*10^RANDBETWEEN(RANDBETWEEN(0,2),2),CHOOSE(RANDBETWEEN(1,3),5,10,20)))","v":4},{"$f":"IF(I229=1,D229,IF(I229=3,\"%\",\"mm\"))","v":"m"},4,{"$f":"IF(AND(Worksheet!$D$12,RAND()<0.2),3,IF(RAND()<Worksheet!$D$10/100,1,2))","v":1},4," m",4000,"mm"]
[{"$f":"IF(COUNTIF($B$1:B230,TRUE)=COUNTIF($B$1:B229,TRUE),\"\",COUNTIF($B$1:B230,TRUE))","v":179},{"$f":"Worksheet!$D$20","v":true},{"$f":"RANDBETWEEN(5,RANDBETWEEN(5,Worksheet!$D$8))","v":17},"kg","±",{"$f":"IF(I230=1,H230*10^RANDBETWEEN(IF(Worksheet!$D$14,-1,0),0),IF(I230=2,H230*10^RANDBETWEEN(RANDBETWEEN(0,2),2),CHOOSE(RANDBETWEEN(1,3),5,10,20)))","v":5},{"$f":"IF(I230=1,D230,IF(I230=3,\"%\",\"g\"))","v":"%"},{"$f":"RANDBETWEEN(1,MIN(9,C230))","v":9},{"$f":"IF(AND(Worksheet!$D$12,RAND()<0.2),3,IF(RAND()<Worksheet!$D$10/100,1,2))","v":3},0.85000000000000009,{"$f":"CONCATENATE(\" \",D230)","v":" kg"},850.00000000000011,"g"]
[{"$f":"IF(COUNTIF($B$1:B231,TRUE)=COUNTIF($B$1:B230,TRUE),\"\",COUNTIF($B$1:B231,TRUE))","v":180},{"$f":"Worksheet!$D$22","v":true},{"$f":"RANDBETWEEN(5,RANDBETWEEN(5,Worksheet!$D$8))","v":46},"tonnes","±",{"$f":"IF(I231=1,H231*10^RANDBETWEEN(IF(Worksheet!$D$14,-1,0),0),IF(I231=2,H231*10^RANDBETWEEN(RANDBETWEEN(0,2),2),CHOOSE(RANDBETWEEN(1,3),5,10,20)))","v":2},{"$f":"IF(I231=1,D231,IF(I231=3,\"%\",\"kg\"))","v":"tonnes"},{"$f":"RANDBETWEEN(1,MIN(9,C231))","v":2},{"$f":"IF(AND(Worksheet!$D$12,RAND()<0.2),3,IF(RAND()<Worksheet!$D$10/100,1,2))","v":1},2,{"$f":"CONCATENATE(\" \",D231)","v":" tonnes"},2000,"kg"]
[{"$f":"IF(COUNTIF($B$1:B232,TRUE)=COUNTIF($B$1:B231,TRUE),\"\",COUNTIF($B$1:B232,TRUE))","v":181},{"$f":"Worksheet!$D$24","v":true},{"$f":"RANDBETWEEN(5,RANDBETWEEN(5,Worksheet!$D$8))","v":33},"litres","±",{"$f":"IF(I232=1,H232*10^RANDBETWEEN(IF(Worksheet!$D$14,-1,0),0),IF(I232=2,H232*10^RANDBETWEEN(RANDBETWEEN(0,2),2),CHOOSE(RANDBETWEEN(1,3),5,10,20)))","v":1},{"$f":"IF(I232=1,D232,IF(I232=3,\"%\",\"ml\"))","v":"litres"},{"$f":"RANDBETWEEN(1,MIN(9,C232))","v":1},{"$f":"IF(AND(Worksheet!$D$12,RAND()<0.2),3,IF(RAND()<Worksheet!$D$10/100,1,2))","v":1},1,{"$f":"CONCATENATE(\" \",D232)","v":" litres"},1000,"ml"]
[{"$f":"IF(COUNTIF($B$1:B233,TRUE)=COUNTIF($B$1:B232,TRUE),\"\",COUNTIF($B$1:B233,TRUE))","v":""},{"$f":"Worksheet!$D$26","v":false},{"$f":"RANDBETWEEN(5,RANDBETWEEN(5,Worksheet!$D$8))","v":14},"litres","±",{"$f":"IF(I233=1,H233*10^RANDBETWEEN(IF(Worksheet!$D$14,-1,0),0),IF(I233=2,H233*10^RANDBETWEEN(RANDBETWEEN(0,2),2),CHOOSE(RANDBETWEEN(1,3),5,10,20)))","v":900},{"$f":"IF(I233=1,D233,IF(I233=3,\"%\",\"cm³\"))","v":"cm³"},{"$f":"RANDBETWEEN(1,MIN(9,C233))","v":9},{"$f":"IF(AND(Worksheet!$D$12,RAND()<0.2),3,IF(RAND()<Worksheet!$D$10/100,1,2))","v":2},0.9,{"$f":"CONCATENATE(\" \",D233)","v":" litres"},900,"cm³"]
[{"$f":"IF(COUNTIF($B$1:B234,TRUE)=COUNTIF($B$1:B234,TRUE),\"\",COUNTIF($B$1:B234,TRUE))","v":""},{"$f":"Worksheet!$B$28","v":true},{"$f":"RANDBETWEEN(5,20)","v":19},"°C","±",{"$f":"IF(I234=1,H234*10^RANDBETWEEN(IF(Worksheet!$D$14,-1,0),0),IF(I234=2,H234,CHOOSE(RANDBETWEEN(1,3),5,10,20)))","v":0.5},{"$f":"IF(I234=1,D234,IF(I234=3,\"%\",\"sec\"))","v":"°C"},{"$f":"RANDBETWEEN(1,MIN(9,C234))","v":5},{"$f":"IF(AND(Worksheet!$D$12,RAND()<0),3,IF(RAND()<Worksheet!$D$10/100,1,2))","v":1},{"$f":"IF(I234=1,F234,IF(I234=2,F234,IF(I234=3,F234/100*C234,\"\")))","v":0.5},{"$f":"CONCATENATE(\" \",D234)","v":" °C"},{"$f":"IF(I234=1,F234,IF(I234=2,F234,IF(I234=3,F234/100*C234,\"\")))","v":0.5}," °C"]
[{"$f":"COUNTIF($B$1:B235,TRUE)","v":183},{"$f":"Worksheet!$B$20","v":true},{"$f":"RANDBETWEEN(5,RANDBETWEEN(5,Worksheet!$D$8))","v":20},"cm","±",{"$f":"IF(I235=1,H235*10^RANDBETWEEN(IF(Worksheet!$D$14,-1,0),0),IF(I235=2,H235,CHOOSE(RANDBETWEEN(1,3),5,10,20)))","v":5},{"$f":"IF(I235=1,D235,IF(I235=3,\"%\",\"mm\"))","v":"mm"},{"$f":"RANDBETWEEN(1,MIN(9,C235))","v":5},{"$f":"IF(AND(Worksheet!$D$12,RAND()<0.2),3,IF(RAND()<Worksheet!$D$10/100,1,2))","v":2},{"$f":"IF(I235=1,F235,IF(I235=2,F235/10,IF(I235=3,F235/100*C235,\"\")))","v":0.5},{"$f":"CONCATENATE(\" \",D235)","v":" cm"},{"$f":"IF(I235=1,F235*10,IF(I235=2,F235,IF(I235=3,F235/100*C235*10,\"\")))","v":5},"mm"]
[{"$f":"IF(COUNTIF($B$1:B236,TRUE)=COUNTIF($B$1:B235,TRUE),\"\",COUNTIF($B$1:B236,TRUE))","v":184},{"$f":"Worksheet!$B$22","v":true},{"$f":"RANDBETWEEN(5,RANDBETWEEN(5,Worksheet!$D$8))","v":9},"m","±",{"$f":"IF(I236=1,H236*10^RANDBETWEEN(IF(Worksheet!$D$14,-1,0),0),IF(I236=2,H236*10^RANDBETWEEN(RANDBETWEEN(0,1),1),CHOOSE(RANDBETWEEN(1,3),5,10,20)))","v":1},{"$f":"IF(I236=1,D236,IF(I236=3,\"%\",\"cm\"))","v":"cm"},{"$f":"RANDBETWEEN(1,MIN(9,C236))","v":1},{"$f":"IF(AND(Worksheet!$D$12,RAND()<0.2),3,IF(RAND()<Worksheet!$D$10/100,1,2))","v":2},{"$f":"IF(I236=1,F236,IF(I236=2,F236/100,IF(I236=3,F236/100*C236,\"\")))","v":0.01},{"$f":"CONCATENATE(\" \",D236)","v":" m"},{"$f":"IF(I236=1,F236*100,IF(I236=2,F236,IF(I236=3,F236/100*C236*100,\"\")))","v":1},"cm"]
[{"$f":"IF(COUNTIF($B$1:B237,TRUE)=COUNTIF($B$1:B236,TRUE),\"\",COUNTIF($B$1:B237,TRUE))","v":185},{"$f":"Worksheet!$B$24","v":true},{"$f":"RANDBETWEEN(5,RANDBETWEEN(5,Worksheet!$D$8))","v":62},"km","±",{"$f":"IF(I237=1,H237*10^RANDBETWEEN(IF(Worksheet!$D$14,-1,0),0),IF(I237=2,H237*10^RANDBETWEEN(RANDBETWEEN(0,2),2),CHOOSE(RANDBETWEEN(1,3),5,10,20)))","v":0.9},{"$f":"IF(I237=1,D237,IF(I237=3,\"%\",\"m\"))","v":"km"},9,{"$f":"IF(AND(Worksheet!$D$12,RAND()<0.2),3,IF(RAND()<Worksheet!$D$10/100,1,2))","v":1},{"$f":"IF(I237=1,F237,IF(I237=2,F237/1000,IF(I237=3,F237/100*C237,\"\")))","v":0.9}," km",{"$f":"IF(I237=1,F237*1000,IF(I237=2,F237,IF(I237=3,F237/100*C237*1000,\"\")))","v":900},"m"]
[{"$f":"IF(COUNTIF($B$1:B238,TRUE)=COUNTIF($B$1:B237,TRUE),\"\",COUNTIF($B$1:B238,TRUE))","v":""},{"$f":"Worksheet!$B$26","v":false},{"$f":"RANDBETWEEN(5,RANDBETWEEN(5,Worksheet!$D$8))","v":29},"m","±",{"$f":"IF(I238=1,H238*10^RANDBETWEEN(IF(Worksheet!$D$14,-1,0),0),IF(I238=2,H238*10^RANDBETWEEN(RANDBETWEEN(0,2),2),CHOOSE(RANDBETWEEN(1,3),5,10,20)))","v":6},{"$f":"IF(I238=1,D238,IF(I238=3,\"%\",\"mm\"))","v":"mm"},6,{"$f":"IF(AND(Worksheet!$D$12,RAND()<0.2),3,IF(RAND()<Worksheet!$D$10/100,1,2))","v":2},6.0000000000000001E-3," m",6,"mm"]
[{"$f":"IF(COUNTIF($B$1:B239,TRUE)=COUNTIF($B$1:B238,TRUE),\"\",COUNTIF($B$1:B239,TRUE))","v":186},{"$f":"Worksheet!$D$20","v":true},{"$f":"RANDBETWEEN(5,RANDBETWEEN(5,Worksheet!$D$8))","v":147},"kg","±",{"$f":"IF(I239=1,H239*10^RANDBETWEEN(IF(Worksheet!$D$14,-1,0),0),IF(I239=2,H239*10^RANDBETWEEN(RANDBETWEEN(0,2),2),CHOOSE(RANDBETWEEN(1,3),5,10,20)))","v":0.9},{"$f":"IF(I239=1,D239,IF(I239=3,\"%\",\"g\"))","v":"kg"},{"$f":"RANDBETWEEN(1,MIN(9,C239))","v":9},{"$f":"IF(AND(Worksheet!$D$12,RAND()<0.2),3,IF(RAND()<Worksheet!$D$10/100,1,2))","v":1},0.9,{"$f":"CONCATENATE(\" \",D239)","v":" kg"},900,"g"]
[{"$f":"IF(COUNTIF($B$1:B240,TRUE)=COUNTIF($B$1:B239,TRUE),\"\",COUNTIF($B$1:B240,TRUE))","v":187},{"$f":"Worksheet!$D$22","v":true},{"$f":"RANDBETWEEN(5,RANDBETWEEN(5,Worksheet!$D$8))","v":145},"tonnes","±",{"$f":"IF(I240=1,H240*10^RANDBETWEEN(IF(Worksheet!$D$14,-1,0),0),IF(I240=2,H240*10^RANDBETWEEN(RANDBETWEEN(0,2),2),CHOOSE(RANDBETWEEN(1,3),5,10,20)))","v":10},{"$f":"IF(I240=1,D240,IF(I240=3,\"%\",\"kg\"))","v":"%"},{"$f":"RANDBETWEEN(1,MIN(9,C240))","v":1},{"$f":"IF(AND(Worksheet!$D$12,RAND()<0.2),3,IF(RAND()<Worksheet!$D$10/100,1,2))","v":3},14.5,{"$f":"CONCATENATE(\" \",D240)","v":" tonnes"},14500,"kg"]
[{"$f":"IF(COUNTIF($B$1:B241,TRUE)=COUNTIF($B$1:B240,TRUE),\"\",COUNTIF($B$1:B241,TRUE))","v":188},{"$f":"Worksheet!$D$24","v":true},{"$f":"RANDBETWEEN(5,RANDBETWEEN(5,Worksheet!$D$8))","v":44},"litres","±",{"$f":"IF(I241=1,H241*10^RANDBETWEEN(IF(Worksheet!$D$14,-1,0),0),IF(I241=2,H241*10^RANDBETWEEN(RANDBETWEEN(0,2),2),CHOOSE(RANDBETWEEN(1,3),5,10,20)))","v":10},{"$f":"IF(I241=1,D241,IF(I241=3,\"%\",\"ml\"))","v":"%"},{"$f":"RANDBETWEEN(1,MIN(9,C241))","v":2},{"$f":"IF(AND(Worksheet!$D$12,RAND()<0.2),3,IF(RAND()<Worksheet!$D$10/100,1,2))","v":3},4.4000000000000004,{"$f":"CONCATENATE(\" \",D241)","v":" litres"},4400,"ml"]
[{"$f":"IF(COUNTIF($B$1:B242,TRUE)=COUNTIF($B$1:B241,TRUE),\"\",COUNTIF($B$1:B242,TRUE))","v":""},{"$f":"Worksheet!$D$26","v":false},{"$f":"RANDBETWEEN(5,RANDBETWEEN(5,Worksheet!$D$8))","v":34},"litres","±",{"$f":"IF(I242=1,H242*10^RANDBETWEEN(IF(Worksheet!$D$14,-1,0),0),IF(I242=2,H242*10^RANDBETWEEN(RANDBETWEEN(0,2),2),CHOOSE(RANDBETWEEN(1,3),5,10,20)))","v":8},{"$f":"IF(I242=1,D242,IF(I242=3,\"%\",\"cm³\"))","v":"litres"},{"$f":"RANDBETWEEN(1,MIN(9,C242))","v":8},{"$f":"IF(AND(Worksheet!$D$12,RAND()<0.2),3,IF(RAND()<Worksheet!$D$10/100,1,2))","v":1},8,{"$f":"CONCATENATE(\" \",D242)","v":" litres"},8000,"cm³"]
[{"$f":"IF(COUNTIF($B$1:B243,TRUE)=COUNTIF($B$1:B243,TRUE),\"\",COUNTIF($B$1:B243,TRUE))","v":""},{"$f":"Worksheet!$B$28","v":true},{"$f":"RANDBETWEEN(5,20)","v":20},"°C","±",{"$f":"IF(I243=1,H243*10^RANDBETWEEN(IF(Worksheet!$D$14,-1,0),0),IF(I243=2,H243,CHOOSE(RANDBETWEEN(1,3),5,10,20)))","v":0.2},{"$f":"IF(I243=1,D243,IF(I243=3,\"%\",\"sec\"))","v":"°C"},{"$f":"RANDBETWEEN(1,MIN(9,C243))","v":2},{"$f":"IF(AND(Worksheet!$D$12,RAND()<0),3,IF(RAND()<Worksheet!$D$10/100,1,2))","v":1},{"$f":"IF(I243=1,F243,IF(I243=2,F243,IF(I243=3,F243/100*C243,\"\")))","v":0.2},{"$f":"CONCATENATE(\" \",D243)","v":" °C"},{"$f":"IF(I243=1,F243,IF(I243=2,F243,IF(I243=3,F243/100*C243,\"\")))","v":0.2}," °C"]
[{"$f":"COUNTIF($B$1:B244,TRUE)","v":190},{"$f":"Worksheet!$B$20","v":true},{"$f":"RANDBETWEEN(5,RANDBETWEEN(5,Worksheet!$D$8))","v":65},"cm","±",{"$f":"IF(I244=1,H244*10^RANDBETWEEN(IF(Worksheet!$D$14,-1,0),0),IF(I244=2,H244,CHOOSE(RANDBETWEEN(1,3),5,10,20)))","v":0.70000000000000007},{"$f":"IF(I244=1,D244,IF(I244=3,\"%\",\"mm\"))","v":"cm"},{"$f":"RANDBETWEEN(1,MIN(9,C244))","v":7},{"$f":"IF(AND(Worksheet!$D$12,RAND()<0.2),3,IF(RAND()<Worksheet!$D$10/100,1,2))","v":1},{"$f":"IF(I244=1,F244,IF(I244=2,F244/10,IF(I244=3,F244/100*C244,\"\")))","v":0.70000000000000007},{"$f":"CONCATENATE(\" \",D244)","v":" cm"},{"$f":"IF(I244=1,F244*10,IF(I244=2,F244,IF(I244=3,F244/100*C244*10,\"\")))","v":7.0000000000000009},"mm"]
[{"$f":"IF(COUNTIF($B$1:B245,TRUE)=COUNTIF($B$1:B244,TRUE),\"\",COUNTIF($B$1:B245,TRUE))","v":191},{"$f":"Worksheet!$B$22","v":true},{"$f":"RANDBETWEEN(5,RANDBETWEEN(5,Worksheet!$D$8))","v":132},"m","±",{"$f":"IF(I245=1,H245*10^RANDBETWEEN(IF(Worksheet!$D$14,-1,0),0),IF(I245=2,H245*10^RANDBETWEEN(RANDBETWEEN(0,1),1),CHOOSE(RANDBETWEEN(1,3),5,10,20)))","v":3},{"$f":"IF(I245=1,D245,IF(I245=3,\"%\",\"cm\"))","v":"m"},{"$f":"RANDBETWEEN(1,MIN(9,C245))","v":3},{"$f":"IF(AND(Worksheet!$D$12,RAND()<0.2),3,IF(RAND()<Worksheet!$D$10/100,1,2))","v":1},{"$f":"IF(I245=1,F245,IF(I245=2,F245/100,IF(I245=3,F245/100*C245,\"\")))","v":3},{"$f":"CONCATENATE(\" \",D245)","v":" m"},{"$f":"IF(I245=1,F245*100,IF(I245=2,F245,IF(I245=3,F245/100*C245*100,\"\")))","v":300},"cm"]
[{"$f":"IF(COUNTIF($B$1:B246,TRUE)=COUNTIF($B$1:B245,TRUE),\"\",COUNTIF($B$1:B246,TRUE))","v":192},{"$f":"Worksheet!$B$24","v":true},{"$f":"RANDBETWEEN(5,RANDBETWEEN(5,Worksheet!$D$8))","v":20},"km","±",{"$f":"IF(I246=1,H246*10^RANDBETWEEN(IF(Worksheet!$D$14,-1,0),0),IF(I246=2,H246*10^RANDBETWEEN(RANDBETWEEN(0,2),2),CHOOSE(RANDBETWEEN(1,3),5,10,20)))","v":3},{"$f":"IF(I246=1,D246,IF(I246=3,\"%\",\"m\"))","v":"km"},3,{"$f":"IF(AND(Worksheet!$D$12,RAND()<0.2),3,IF(RAND()<Worksheet!$D$10/100,1,2))","v":1},{"$f":"IF(I246=1,F246,IF(I246=2,F246/1000,IF(I246=3,F246/100*C246,\"\")))","v":3}," km",{"$f":"IF(I246=1,F246*1000,IF(I246=2,F246,IF(I246=3,F246/100*C246*1000,\"\")))","v":3000},"m"]
[{"$f":"IF(COUNTIF($B$1:B247,TRUE)=COUNTIF($B$1:B246,TRUE),\"\",COUNTIF($B$1:B247,TRUE))","v":""},{"$f":"Worksheet!$B$26","v":false},{"$f":"RANDBETWEEN(5,RANDBETWEEN(5,Worksheet!$D$8))","v":72},"m","±",{"$f":"IF(I247=1,H247*10^RANDBETWEEN(IF(Worksheet!$D$14,-1,0),0),IF(I247=2,H247*10^RANDBETWEEN(RANDBETWEEN(0,2),2),CHOOSE(RANDBETWEEN(1,3),5,10,20)))","v":0.1},{"$f":"IF(I247=1,D247,IF(I247=3,\"%\",\"mm\"))","v":"m"},1,{"$f":"IF(AND(Worksheet!$D$12,RAND()<0.2),3,IF(RAND()<Worksheet!$D$10/100,1,2))","v":1},0.1," m",100,"mm"]
[{"$f":"IF(COUNTIF($B$1:B248,TRUE)=COUNTIF($B$1:B247,TRUE),\"\",COUNTIF($B$1:B248,TRUE))","v":193},{"$f":"Worksheet!$D$20","v":true},{"$f":"RANDBETWEEN(5,RANDBETWEEN(5,Worksheet!$D$8))","v":129},"kg","±",{"$f":"IF(I248=1,H248*10^RANDBETWEEN(IF(Worksheet!$D$14,-1,0),0),IF(I248=2,H248*10^RANDBETWEEN(RANDBETWEEN(0,2),2),CHOOSE(RANDBETWEEN(1,3),5,10,20)))","v":0.70000000000000007},{"$f":"IF(I248=1,D248,IF(I248=3,\"%\",\"g\"))","v":"kg"},{"$f":"RANDBETWEEN(1,MIN(9,C248))","v":7},{"$f":"IF(AND(Worksheet!$D$12,RAND()<0.2),3,IF(RAND()<Worksheet!$D$10/100,1,2))","v":1},0.70000000000000007,{"$f":"CONCATENATE(\" \",D248)","v":" kg"},700.00000000000011,"g"]
[{"$f":"IF(COUNTIF($B$1:B249,TRUE)=COUNTIF($B$1:B248,TRUE),\"\",COUNTIF($B$1:B249,TRUE))","v":194},{"$f":"Worksheet!$D$22","v":true},{"$f":"RANDBETWEEN(5,RANDBETWEEN(5,Worksheet!$D$8))","v":110},"tonnes","±",{"$f":"IF(I249=1,H249*10^RANDBETWEEN(IF(Worksheet!$D$14,-1,0),0),IF(I249=2,H249*10^RANDBETWEEN(RANDBETWEEN(0,2),2),CHOOSE(RANDBETWEEN(1,3),5,10,20)))","v":0.5},{"$f":"IF(I249=1,D249,IF(I249=3,\"%\",\"kg\"))","v":"tonnes"},{"$f":"RANDBETWEEN(1,MIN(9,C249))","v":5},{"$f":"IF(AND(Worksheet!$D$12,RAND()<0.2),3,IF(RAND()<Worksheet!$D$10/100,1,2))","v":1},0.5,{"$f":"CONCATENATE(\" \",D249)","v":" tonnes"},500,"kg"]
[{"$f":"IF(COUNTIF($B$1:B250,TRUE)=COUNTIF($B$1:B249,TRUE),\"\",COUNTIF($B$1:B250,TRUE))","v":195},{"$f":"Worksheet!$D$24","v":true},{"$f":"RANDBETWEEN(5,RANDBETWEEN(5,Worksheet!$D$8))","v":60},"litres","±",{"$f":"IF(I250=1,H250*10^RANDBETWEEN(IF(Worksheet!$D$14,-1,0),0),IF(I250=2,H250*10^RANDBETWEEN(RANDBETWEEN(0,2),2),CHOOSE(RANDBETWEEN(1,3),5,10,20)))","v":0.60000000000000009},{"$f":"IF(I250=1,D250,IF(I250=3,\"%\",\"ml\"))","v":"litres"},{"$f":"RANDBETWEEN(1,MIN(9,C250))","v":6},{"$f":"IF(AND(Worksheet!$D$12,RAND()<0.2),3,IF(RAND()<Worksheet!$D$10/100,1,2))","v":1},0.60000000000000009,{"$f":"CONCATENATE(\" \",D250)","v":" litres"},600.00000000000011,"ml"]
[{"$f":"IF(COUNTIF($B$1:B251,TRUE)=COUNTIF($B$1:B250,TRUE),\"\",COUNTIF($B$1:B251,TRUE))","v":""},{"$f":"Worksheet!$D$26","v":false},{"$f":"RANDBETWEEN(5,RANDBETWEEN(5,Worksheet!$D$8))","v":70},"litres","±",{"$f":"IF(I251=1,H251*10^RANDBETWEEN(IF(Worksheet!$D$14,-1,0),0),IF(I251=2,H251*10^RANDBETWEEN(RANDBETWEEN(0,2),2),CHOOSE(RANDBETWEEN(1,3),5,10,20)))","v":4},{"$f":"IF(I251=1,D251,IF(I251=3,\"%\",\"cm³\"))","v":"litres"},{"$f":"RANDBETWEEN(1,MIN(9,C251))","v":4},{"$f":"IF(AND(Worksheet!$D$12,RAND()<0.2),3,IF(RAND()<Worksheet!$D$10/100,1,2))","v":1},4,{"$f":"CONCATENATE(\" \",D251)","v":" litres"},4000,"cm³"]
[{"$f":"IF(COUNTIF($B$1:B252,TRUE)=COUNTIF($B$1:B252,TRUE),\"\",COUNTIF($B$1:B252,TRUE))","v":""},{"$f":"Worksheet!$B$28","v":true},{"$f":"RANDBETWEEN(5,20)","v":18},"°C","±",{"$f":"IF(I252=1,H252*10^RANDBETWEEN(IF(Worksheet!$D$14,-1,0),0),IF(I252=2,H252,CHOOSE(RANDBETWEEN(1,3),5,10,20)))","v":1},{"$f":"IF(I252=1,D252,IF(I252=3,\"%\",\"sec\"))","v":"sec"},{"$f":"RANDBETWEEN(1,MIN(9,C252))","v":1},{"$f":"IF(AND(Worksheet!$D$12,RAND()<0),3,IF(RAND()<Worksheet!$D$10/100,1,2))","v":2},{"$f":"IF(I252=1,F252,IF(I252=2,F252,IF(I252=3,F252/100*C252,\"\")))","v":1},{"$f":"CONCATENATE(\" \",D252)","v":" °C"},{"$f":"IF(I252=1,F252,IF(I252=2,F252,IF(I252=3,F252/100*C252,\"\")))","v":1}," °C"]
[{"$f":"COUNTIF($B$1:B253,TRUE)","v":197},{"$f":"Worksheet!$B$20","v":true},{"$f":"RANDBETWEEN(5,RANDBETWEEN(5,Worksheet!$D$8))","v":68},"cm","±",{"$f":"IF(I253=1,H253*10^RANDBETWEEN(IF(Worksheet!$D$14,-1,0),0),IF(I253=2,H253,CHOOSE(RANDBETWEEN(1,3),5,10,20)))","v":2},{"$f":"IF(I253=1,D253,IF(I253=3,\"%\",\"mm\"))","v":"cm"},{"$f":"RANDBETWEEN(1,MIN(9,C253))","v":2},{"$f":"IF(AND(Worksheet!$D$12,RAND()<0.2),3,IF(RAND()<Worksheet!$D$10/100,1,2))","v":1},{"$f":"IF(I253=1,F253,IF(I253=2,F253/10,IF(I253=3,F253/100*C253,\"\")))","v":2},{"$f":"CONCATENATE(\" \",D253)","v":" cm"},{"$f":"IF(I253=1,F253*10,IF(I253=2,F253,IF(I253=3,F253/100*C253*10,\"\")))","v":20},"mm"]
[{"$f":"IF(COUNTIF($B$1:B254,TRUE)=COUNTIF($B$1:B253,TRUE),\"\",COUNTIF($B$1:B254,TRUE))","v":198},{"$f":"Worksheet!$B$22","v":true},{"$f":"RANDBETWEEN(5,RANDBETWEEN(5,Worksheet!$D$8))","v":25},"m","±",{"$f":"IF(I254=1,H254*10^RANDBETWEEN(IF(Worksheet!$D$14,-1,0),0),IF(I254=2,H254*10^RANDBETWEEN(RANDBETWEEN(0,1),1),CHOOSE(RANDBETWEEN(1,3),5,10,20)))","v":1},{"$f":"IF(I254=1,D254,IF(I254=3,\"%\",\"cm\"))","v":"m"},{"$f":"RANDBETWEEN(1,MIN(9,C254))","v":1},{"$f":"IF(AND(Worksheet!$D$12,RAND()<0.2),3,IF(RAND()<Worksheet!$D$10/100,1,2))","v":1},{"$f":"IF(I254=1,F254,IF(I254=2,F254/100,IF(I254=3,F254/100*C254,\"\")))","v":1},{"$f":"CONCATENATE(\" \",D254)","v":" m"},{"$f":"IF(I254=1,F254*100,IF(I254=2,F254,IF(I254=3,F254/100*C254*100,\"\")))","v":100},"cm"]
[{"$f":"IF(COUNTIF($B$1:B255,TRUE)=COUNTIF($B$1:B254,TRUE),\"\",COUNTIF($B$1:B255,TRUE))","v":199},{"$f":"Worksheet!$B$24","v":true},{"$f":"RANDBETWEEN(5,RANDBETWEEN(5,Worksheet!$D$8))","v":97},"km","±",{"$f":"IF(I255=1,H255*10^RANDBETWEEN(IF(Worksheet!$D$14,-1,0),0),IF(I255=2,H255*10^RANDBETWEEN(RANDBETWEEN(0,2),2),CHOOSE(RANDBETWEEN(1,3),5,10,20)))","v":20},{"$f":"IF(I255=1,D255,IF(I255=3,\"%\",\"m\"))","v":"%"},2,{"$f":"IF(AND(Worksheet!$D$12,RAND()<0.2),3,IF(RAND()<Worksheet!$D$10/100,1,2))","v":3},{"$f":"IF(I255=1,F255,IF(I255=2,F255/1000,IF(I255=3,F255/100*C255,\"\")))","v":19.400000000000002}," km",{"$f":"IF(I255=1,F255*1000,IF(I255=2,F255,IF(I255=3,F255/100*C255*1000,\"\")))","v":19400.000000000004},"m"]
[{"$f":"IF(COUNTIF($B$1:B256,TRUE)=COUNTIF($B$1:B255,TRUE),\"\",COUNTIF($B$1:B256,TRUE))","v":""},{"$f":"Worksheet!$B$26","v":false},{"$f":"RANDBETWEEN(5,RANDBETWEEN(5,Worksheet!$D$8))","v":5},"m","±",{"$f":"IF(I256=1,H256*10^RANDBETWEEN(IF(Worksheet!$D$14,-1,0),0),IF(I256=2,H256*10^RANDBETWEEN(RANDBETWEEN(0,2),2),CHOOSE(RANDBETWEEN(1,3),5,10,20)))","v":5},{"$f":"IF(I256=1,D256,IF(I256=3,\"%\",\"mm\"))","v":"m"},5,{"$f":"IF(AND(Worksheet!$D$12,RAND()<0.2),3,IF(RAND()<Worksheet!$D$10/100,1,2))","v":1},5," m",5000,"mm"]
[{"$f":"IF(COUNTIF($B$1:B257,TRUE)=COUNTIF($B$1:B256,TRUE),\"\",COUNTIF($B$1:B257,TRUE))","v":200},{"$f":"Worksheet!$D$20","v":true},{"$f":"RANDBETWEEN(5,RANDBETWEEN(5,Worksheet!$D$8))","v":22},"kg","±",{"$f":"IF(I257=1,H257*10^RANDBETWEEN(IF(Worksheet!$D$14,-1,0),0),IF(I257=2,H257*10^RANDBETWEEN(RANDBETWEEN(0,2),2),CHOOSE(RANDBETWEEN(1,3),5,10,20)))","v":0.8},{"$f":"IF(I257=1,D257,IF(I257=3,\"%\",\"g\"))","v":"kg"},{"$f":"RANDBETWEEN(1,MIN(9,C257))","v":8},{"$f":"IF(AND(Worksheet!$D$12,RAND()<0.2),3,IF(RAND()<Worksheet!$D$10/100,1,2))","v":1},0.8,{"$f":"CONCATENATE(\" \",D257)","v":" kg"},800,"g"]
[{"$f":"IF(COUNTIF($B$1:B258,TRUE)=COUNTIF($B$1:B257,TRUE),\"\",COUNTIF($B$1:B258,TRUE))","v":201},{"$f":"Worksheet!$D$22","v":true},{"$f":"RANDBETWEEN(5,RANDBETWEEN(5,Worksheet!$D$8))","v":19},"tonnes","±",{"$f":"IF(I258=1,H258*10^RANDBETWEEN(IF(Worksheet!$D$14,-1,0),0),IF(I258=2,H258*10^RANDBETWEEN(RANDBETWEEN(0,2),2),CHOOSE(RANDBETWEEN(1,3),5,10,20)))","v":0.8},{"$f":"IF(I258=1,D258,IF(I258=3,\"%\",\"kg\"))","v":"tonnes"},{"$f":"RANDBETWEEN(1,MIN(9,C258))","v":8},{"$f":"IF(AND(Worksheet!$D$12,RAND()<0.2),3,IF(RAND()<Worksheet!$D$10/100,1,2))","v":1},0.8,{"$f":"CONCATENATE(\" \",D258)","v":" tonnes"},800,"kg"]
[{"$f":"IF(COUNTIF($B$1:B259,TRUE)=COUNTIF($B$1:B258,TRUE),\"\",COUNTIF($B$1:B259,TRUE))","v":202},{"$f":"Worksheet!$D$24","v":true},{"$f":"RANDBETWEEN(5,RANDBETWEEN(5,Worksheet!$D$8))","v":79},"litres","±",{"$f":"IF(I259=1,H259*10^RANDBETWEEN(IF(Worksheet!$D$14,-1,0),0),IF(I259=2,H259*10^RANDBETWEEN(RANDBETWEEN(0,2),2),CHOOSE(RANDBETWEEN(1,3),5,10,20)))","v":10},{"$f":"IF(I259=1,D259,IF(I259=3,\"%\",\"ml\"))","v":"%"},{"$f":"RANDBETWEEN(1,MIN(9,C259))","v":7},{"$f":"IF(AND(Worksheet!$D$12,RAND()<0.2),3,IF(RAND()<Worksheet!$D$10/100,1,2))","v":3},7.9,{"$f":"CONCATENATE(\" \",D259)","v":" litres"},7900,"ml"]
[{"$f":"IF(COUNTIF($B$1:B260,TRUE)=COUNTIF($B$1:B259,TRUE),\"\",COUNTIF($B$1:B260,TRUE))","v":""},{"$f":"Worksheet!$D$26","v":false},{"$f":"RANDBETWEEN(5,RANDBETWEEN(5,Worksheet!$D$8))","v":17},"litres","±",{"$f":"IF(I260=1,H260*10^RANDBETWEEN(IF(Worksheet!$D$14,-1,0),0),IF(I260=2,H260*10^RANDBETWEEN(RANDBETWEEN(0,2),2),CHOOSE(RANDBETWEEN(1,3),5,10,20)))","v":800},{"$f":"IF(I260=1,D260,IF(I260=3,\"%\",\"cm³\"))","v":"cm³"},{"$f":"RANDBETWEEN(1,MIN(9,C260))","v":8},{"$f":"IF(AND(Worksheet!$D$12,RAND()<0.2),3,IF(RAND()<Worksheet!$D$10/100,1,2))","v":2},0.8,{"$f":"CONCATENATE(\" \",D260)","v":" litres"},800,"cm³"]
[{"$f":"IF(COUNTIF($B$1:B261,TRUE)=COUNTIF($B$1:B261,TRUE),\"\",COUNTIF($B$1:B261,TRUE))","v":""},{"$f":"Worksheet!$B$28","v":true},{"$f":"RANDBETWEEN(5,20)","v":17},"°C","±",{"$f":"IF(I261=1,H261*10^RANDBETWEEN(IF(Worksheet!$D$14,-1,0),0),IF(I261=2,H261,CHOOSE(RANDBETWEEN(1,3),5,10,20)))","v":0.1},{"$f":"IF(I261=1,D261,IF(I261=3,\"%\",\"sec\"))","v":"°C"},{"$f":"RANDBETWEEN(1,MIN(9,C261))","v":1},{"$f":"IF(AND(Worksheet!$D$12,RAND()<0),3,IF(RAND()<Worksheet!$D$10/100,1,2))","v":1},{"$f":"IF(I261=1,F261,IF(I261=2,F261,IF(I261=3,F261/100*C261,\"\")))","v":0.1},{"$f":"CONCATENATE(\" \",D261)","v":" °C"},{"$f":"IF(I261=1,F261,IF(I261=2,F261,IF(I261=3,F261/100*C261,\"\")))","v":0.1}," °C"]
[{"$f":"COUNTIF($B$1:B262,TRUE)","v":204},{"$f":"Worksheet!$B$20","v":true},{"$f":"RANDBETWEEN(5,RANDBETWEEN(5,Worksheet!$D$8))","v":48},"cm","±",{"$f":"IF(I262=1,H262*10^RANDBETWEEN(IF(Worksheet!$D$14,-1,0),0),IF(I262=2,H262,CHOOSE(RANDBETWEEN(1,3),5,10,20)))","v":9},{"$f":"IF(I262=1,D262,IF(I262=3,\"%\",\"mm\"))","v":"mm"},{"$f":"RANDBETWEEN(1,MIN(9,C262))","v":9},{"$f":"IF(AND(Worksheet!$D$12,RAND()<0.2),3,IF(RAND()<Worksheet!$D$10/100,1,2))","v":2},{"$f":"IF(I262=1,F262,IF(I262=2,F262/10,IF(I262=3,F262/100*C262,\"\")))","v":0.9},{"$f":"CONCATENATE(\" \",D262)","v":" cm"},{"$f":"IF(I262=1,F262*10,IF(I262=2,F262,IF(I262=3,F262/100*C262*10,\"\")))","v":9},"mm"]
[{"$f":"IF(COUNTIF($B$1:B263,TRUE)=COUNTIF($B$1:B262,TRUE),\"\",COUNTIF($B$1:B263,TRUE))","v":205},{"$f":"Worksheet!$B$22","v":true},{"$f":"RANDBETWEEN(5,RANDBETWEEN(5,Worksheet!$D$8))","v":63},"m","±",{"$f":"IF(I263=1,H263*10^RANDBETWEEN(IF(Worksheet!$D$14,-1,0),0),IF(I263=2,H263*10^RANDBETWEEN(RANDBETWEEN(0,1),1),CHOOSE(RANDBETWEEN(1,3),5,10,20)))","v":40},{"$f":"IF(I263=1,D263,IF(I263=3,\"%\",\"cm\"))","v":"cm"},{"$f":"RANDBETWEEN(1,MIN(9,C263))","v":4},{"$f":"IF(AND(Worksheet!$D$12,RAND()<0.2),3,IF(RAND()<Worksheet!$D$10/100,1,2))","v":2},{"$f":"IF(I263=1,F263,IF(I263=2,F263/100,IF(I263=3,F263/100*C263,\"\")))","v":0.4},{"$f":"CONCATENATE(\" \",D263)","v":" m"},{"$f":"IF(I263=1,F263*100,IF(I263=2,F263,IF(I263=3,F263/100*C263*100,\"\")))","v":40},"cm"]
[{"$f":"IF(COUNTIF($B$1:B264,TRUE)=COUNTIF($B$1:B263,TRUE),\"\",COUNTIF($B$1:B264,TRUE))","v":206},{"$f":"Worksheet!$B$24","v":true},{"$f":"RANDBETWEEN(5,RANDBETWEEN(5,Worksheet!$D$8))","v":95},"km","±",{"$f":"IF(I264=1,H264*10^RANDBETWEEN(IF(Worksheet!$D$14,-1,0),0),IF(I264=2,H264*10^RANDBETWEEN(RANDBETWEEN(0,2),2),CHOOSE(RANDBETWEEN(1,3),5,10,20)))","v":0.8},{"$f":"IF(I264=1,D264,IF(I264=3,\"%\",\"m\"))","v":"km"},8,{"$f":"IF(AND(Worksheet!$D$12,RAND()<0.2),3,IF(RAND()<Worksheet!$D$10/100,1,2))","v":1},{"$f":"IF(I264=1,F264,IF(I264=2,F264/1000,IF(I264=3,F264/100*C264,\"\")))","v":0.8}," km",{"$f":"IF(I264=1,F264*1000,IF(I264=2,F264,IF(I264=3,F264/100*C264*1000,\"\")))","v":800},"m"]
[{"$f":"IF(COUNTIF($B$1:B265,TRUE)=COUNTIF($B$1:B264,TRUE),\"\",COUNTIF($B$1:B265,TRUE))","v":""},{"$f":"Worksheet!$B$26","v":false},{"$f":"RANDBETWEEN(5,RANDBETWEEN(5,Worksheet!$D$8))","v":53},"m","±",{"$f":"IF(I265=1,H265*10^RANDBETWEEN(IF(Worksheet!$D$14,-1,0),0),IF(I265=2,H265*10^RANDBETWEEN(RANDBETWEEN(0,2),2),CHOOSE(RANDBETWEEN(1,3),5,10,20)))","v":50},{"$f":"IF(I265=1,D265,IF(I265=3,\"%\",\"mm\"))","v":"mm"},5,{"$f":"IF(AND(Worksheet!$D$12,RAND()<0.2),3,IF(RAND()<Worksheet!$D$10/100,1,2))","v":2},0.05," m",50,"mm"]
[{"$f":"IF(COUNTIF($B$1:B266,TRUE)=COUNTIF($B$1:B265,TRUE),\"\",COUNTIF($B$1:B266,TRUE))","v":207},{"$f":"Worksheet!$D$20","v":true},{"$f":"RANDBETWEEN(5,RANDBETWEEN(5,Worksheet!$D$8))","v":47},"kg","±",{"$f":"IF(I266=1,H266*10^RANDBETWEEN(IF(Worksheet!$D$14,-1,0),0),IF(I266=2,H266*10^RANDBETWEEN(RANDBETWEEN(0,2),2),CHOOSE(RANDBETWEEN(1,3),5,10,20)))","v":5},{"$f":"IF(I266=1,D266,IF(I266=3,\"%\",\"g\"))","v":"%"},{"$f":"RANDBETWEEN(1,MIN(9,C266))","v":6},{"$f":"IF(AND(Worksheet!$D$12,RAND()<0.2),3,IF(RAND()<Worksheet!$D$10/100,1,2))","v":3},2.35,{"$f":"CONCATENATE(\" \",D266)","v":" kg"},2350,"g"]
[{"$f":"IF(COUNTIF($B$1:B267,TRUE)=COUNTIF($B$1:B266,TRUE),\"\",COUNTIF($B$1:B267,TRUE))","v":208},{"$f":"Worksheet!$D$22","v":true},{"$f":"RANDBETWEEN(5,RANDBETWEEN(5,Worksheet!$D$8))","v":12},"tonnes","±",{"$f":"IF(I267=1,H267*10^RANDBETWEEN(IF(Worksheet!$D$14,-1,0),0),IF(I267=2,H267*10^RANDBETWEEN(RANDBETWEEN(0,2),2),CHOOSE(RANDBETWEEN(1,3),5,10,20)))","v":0.30000000000000004},{"$f":"IF(I267=1,D267,IF(I267=3,\"%\",\"kg\"))","v":"tonnes"},{"$f":"RANDBETWEEN(1,MIN(9,C267))","v":3},{"$f":"IF(AND(Worksheet!$D$12,RAND()<0.2),3,IF(RAND()<Worksheet!$D$10/100,1,2))","v":1},0.30000000000000004,{"$f":"CONCATENATE(\" \",D267)","v":" tonnes"},300.00000000000006,"kg"]
[{"$f":"IF(COUNTIF($B$1:B268,TRUE)=COUNTIF($B$1:B267,TRUE),\"\",COUNTIF($B$1:B268,TRUE))","v":209},{"$f":"Worksheet!$D$24","v":true},{"$f":"RANDBETWEEN(5,RANDBETWEEN(5,Worksheet!$D$8))","v":49},"litres","±",{"$f":"IF(I268=1,H268*10^RANDBETWEEN(IF(Worksheet!$D$14,-1,0),0),IF(I268=2,H268*10^RANDBETWEEN(RANDBETWEEN(0,2),2),CHOOSE(RANDBETWEEN(1,3),5,10,20)))","v":2},{"$f":"IF(I268=1,D268,IF(I268=3,\"%\",\"ml\"))","v":"litres"},{"$f":"RANDBETWEEN(1,MIN(9,C268))","v":2},{"$f":"IF(AND(Worksheet!$D$12,RAND()<0.2),3,IF(RAND()<Worksheet!$D$10/100,1,2))","v":1},2,{"$f":"CONCATENATE(\" \",D268)","v":" litres"},2000,"ml"]
[{"$f":"IF(COUNTIF($B$1:B269,TRUE)=COUNTIF($B$1:B268,TRUE),\"\",COUNTIF($B$1:B269,TRUE))","v":""},{"$f":"Worksheet!$D$26","v":false},{"$f":"RANDBETWEEN(5,RANDBETWEEN(5,Worksheet!$D$8))","v":28},"litres","±",{"$f":"IF(I269=1,H269*10^RANDBETWEEN(IF(Worksheet!$D$14,-1,0),0),IF(I269=2,H269*10^RANDBETWEEN(RANDBETWEEN(0,2),2),CHOOSE(RANDBETWEEN(1,3),5,10,20)))","v":4},{"$f":"IF(I269=1,D269,IF(I269=3,\"%\",\"cm³\"))","v":"litres"},{"$f":"RANDBETWEEN(1,MIN(9,C269))","v":4},{"$f":"IF(AND(Worksheet!$D$12,RAND()<0.2),3,IF(RAND()<Worksheet!$D$10/100,1,2))","v":1},4,{"$f":"CONCATENATE(\" \",D269)","v":" litres"},4000,"cm³"]
[{"$f":"IF(COUNTIF($B$1:B270,TRUE)=COUNTIF($B$1:B270,TRUE),\"\",COUNTIF($B$1:B270,TRUE))","v":""},{"$f":"Worksheet!$B$28","v":true},{"$f":"RANDBETWEEN(5,20)","v":16},"°C","±",{"$f":"IF(I270=1,H270*10^RANDBETWEEN(IF(Worksheet!$D$14,-1,0),0),IF(I270=2,H270,CHOOSE(RANDBETWEEN(1,3),5,10,20)))","v":0.4},{"$f":"IF(I270=1,D270,IF(I270=3,\"%\",\"sec\"))","v":"°C"},{"$f":"RANDBETWEEN(1,MIN(9,C270))","v":4},{"$f":"IF(AND(Worksheet!$D$12,RAND()<0),3,IF(RAND()<Worksheet!$D$10/100,1,2))","v":1},{"$f":"IF(I270=1,F270,IF(I270=2,F270,IF(I270=3,F270/100*C270,\"\")))","v":0.4},{"$f":"CONCATENATE(\" \",D270)","v":" °C"},{"$f":"IF(I270=1,F270,IF(I270=2,F270,IF(I270=3,F270/100*C270,\"\")))","v":0.4}," °C"]
[{"$f":"COUNTIF($B$1:B271,TRUE)","v":211},{"$f":"Worksheet!$B$20","v":true},{"$f":"RANDBETWEEN(5,RANDBETWEEN(5,Worksheet!$D$8))","v":5},"cm","±",{"$f":"IF(I271=1,H271*10^RANDBETWEEN(IF(Worksheet!$D$14,-1,0),0),IF(I271=2,H271,CHOOSE(RANDBETWEEN(1,3),5,10,20)))","v":1},{"$f":"IF(I271=1,D271,IF(I271=3,\"%\",\"mm\"))","v":"mm"},{"$f":"RANDBETWEEN(1,MIN(9,C271))","v":1},{"$f":"IF(AND(Worksheet!$D$12,RAND()<0.2),3,IF(RAND()<Worksheet!$D$10/100,1,2))","v":2},{"$f":"IF(I271=1,F271,IF(I271=2,F271/10,IF(I271=3,F271/100*C271,\"\")))","v":0.1},{"$f":"CONCATENATE(\" \",D271)","v":" cm"},{"$f":"IF(I271=1,F271*10,IF(I271=2,F271,IF(I271=3,F271/100*C271*10,\"\")))","v":1},"mm"]
[{"$f":"IF(COUNTIF($B$1:B272,TRUE)=COUNTIF($B$1:B271,TRUE),\"\",COUNTIF($B$1:B272,TRUE))","v":212},{"$f":"Worksheet!$B$22","v":true},{"$f":"RANDBETWEEN(5,RANDBETWEEN(5,Worksheet!$D$8))","v":125},"m","±",{"$f":"IF(I272=1,H272*10^RANDBETWEEN(IF(Worksheet!$D$14,-1,0),0),IF(I272=2,H272*10^RANDBETWEEN(RANDBETWEEN(0,1),1),CHOOSE(RANDBETWEEN(1,3),5,10,20)))","v":20},{"$f":"IF(I272=1,D272,IF(I272=3,\"%\",\"cm\"))","v":"%"},{"$f":"RANDBETWEEN(1,MIN(9,C272))","v":9},{"$f":"IF(AND(Worksheet!$D$12,RAND()<0.2),3,IF(RAND()<Worksheet!$D$10/100,1,2))","v":3},{"$f":"IF(I272=1,F272,IF(I272=2,F272/100,IF(I272=3,F272/100*C272,\"\")))","v":25},{"$f":"CONCATENATE(\" \",D272)","v":" m"},{"$f":"IF(I272=1,F272*100,IF(I272=2,F272,IF(I272=3,F272/100*C272*100,\"\")))","v":2500},"cm"]
[{"$f":"IF(COUNTIF($B$1:B273,TRUE)=COUNTIF($B$1:B272,TRUE),\"\",COUNTIF($B$1:B273,TRUE))","v":213},{"$f":"Worksheet!$B$24","v":true},{"$f":"RANDBETWEEN(5,RANDBETWEEN(5,Worksheet!$D$8))","v":42},"km","±",{"$f":"IF(I273=1,H273*10^RANDBETWEEN(IF(Worksheet!$D$14,-1,0),0),IF(I273=2,H273*10^RANDBETWEEN(RANDBETWEEN(0,2),2),CHOOSE(RANDBETWEEN(1,3),5,10,20)))","v":0.2},{"$f":"IF(I273=1,D273,IF(I273=3,\"%\",\"m\"))","v":"km"},2,{"$f":"IF(AND(Worksheet!$D$12,RAND()<0.2),3,IF(RAND()<Worksheet!$D$10/100,1,2))","v":1},{"$f":"IF(I273=1,F273,IF(I273=2,F273/1000,IF(I273=3,F273/100*C273,\"\")))","v":0.2}," km",{"$f":"IF(I273=1,F273*1000,IF(I273=2,F273,IF(I273=3,F273/100*C273*1000,\"\")))","v":200},"m"]
[{"$f":"IF(COUNTIF($B$1:B274,TRUE)=COUNTIF($B$1:B273,TRUE),\"\",COUNTIF($B$1:B274,TRUE))","v":""},{"$f":"Worksheet!$B$26","v":false},{"$f":"RANDBETWEEN(5,RANDBETWEEN(5,Worksheet!$D$8))","v":37},"m","±",{"$f":"IF(I274=1,H274*10^RANDBETWEEN(IF(Worksheet!$D$14,-1,0),0),IF(I274=2,H274*10^RANDBETWEEN(RANDBETWEEN(0,2),2),CHOOSE(RANDBETWEEN(1,3),5,10,20)))","v":20},{"$f":"IF(I274=1,D274,IF(I274=3,\"%\",\"mm\"))","v":"%"},4,{"$f":"IF(AND(Worksheet!$D$12,RAND()<0.2),3,IF(RAND()<Worksheet!$D$10/100,1,2))","v":3},7.4," m",7400,"mm"]
[{"$f":"IF(COUNTIF($B$1:B275,TRUE)=COUNTIF($B$1:B274,TRUE),\"\",COUNTIF($B$1:B275,TRUE))","v":214},{"$f":"Worksheet!$D$20","v":true},{"$f":"RANDBETWEEN(5,RANDBETWEEN(5,Worksheet!$D$8))","v":50},"kg","±",{"$f":"IF(I275=1,H275*10^RANDBETWEEN(IF(Worksheet!$D$14,-1,0),0),IF(I275=2,H275*10^RANDBETWEEN(RANDBETWEEN(0,2),2),CHOOSE(RANDBETWEEN(1,3),5,10,20)))","v":6},{"$f":"IF(I275=1,D275,IF(I275=3,\"%\",\"g\"))","v":"kg"},{"$f":"RANDBETWEEN(1,MIN(9,C275))","v":6},{"$f":"IF(AND(Worksheet!$D$12,RAND()<0.2),3,IF(RAND()<Worksheet!$D$10/100,1,2))","v":1},6,{"$f":"CONCATENATE(\" \",D275)","v":" kg"},6000,"g"]
[{"$f":"IF(COUNTIF($B$1:B276,TRUE)=COUNTIF($B$1:B275,TRUE),\"\",COUNTIF($B$1:B276,TRUE))","v":215},{"$f":"Worksheet!$D$22","v":true},{"$f":"RANDBETWEEN(5,RANDBETWEEN(5,Worksheet!$D$8))","v":54},"tonnes","±",{"$f":"IF(I276=1,H276*10^RANDBETWEEN(IF(Worksheet!$D$14,-1,0),0),IF(I276=2,H276*10^RANDBETWEEN(RANDBETWEEN(0,2),2),CHOOSE(RANDBETWEEN(1,3),5,10,20)))","v":5},{"$f":"IF(I276=1,D276,IF(I276=3,\"%\",\"kg\"))","v":"%"},{"$f":"RANDBETWEEN(1,MIN(9,C276))","v":7},{"$f":"IF(AND(Worksheet!$D$12,RAND()<0.2),3,IF(RAND()<Worksheet!$D$10/100,1,2))","v":3},2.7,{"$f":"CONCATENATE(\" \",D276)","v":" tonnes"},2700,"kg"]
[{"$f":"IF(COUNTIF($B$1:B277,TRUE)=COUNTIF($B$1:B276,TRUE),\"\",COUNTIF($B$1:B277,TRUE))","v":216},{"$f":"Worksheet!$D$24","v":true},{"$f":"RANDBETWEEN(5,RANDBETWEEN(5,Worksheet!$D$8))","v":44},"litres","±",{"$f":"IF(I277=1,H277*10^RANDBETWEEN(IF(Worksheet!$D$14,-1,0),0),IF(I277=2,H277*10^RANDBETWEEN(RANDBETWEEN(0,2),2),CHOOSE(RANDBETWEEN(1,3),5,10,20)))","v":10},{"$f":"IF(I277=1,D277,IF(I277=3,\"%\",\"ml\"))","v":"%"},{"$f":"RANDBETWEEN(1,MIN(9,C277))","v":4},{"$f":"IF(AND(Worksheet!$D$12,RAND()<0.2),3,IF(RAND()<Worksheet!$D$10/100,1,2))","v":3},4.4000000000000004,{"$f":"CONCATENATE(\" \",D277)","v":" litres"},4400,"ml"]
[{"$f":"IF(COUNTIF($B$1:B278,TRUE)=COUNTIF($B$1:B277,TRUE),\"\",COUNTIF($B$1:B278,TRUE))","v":""},{"$f":"Worksheet!$D$26","v":false},{"$f":"RANDBETWEEN(5,RANDBETWEEN(5,Worksheet!$D$8))","v":11},"litres","±",{"$f":"IF(I278=1,H278*10^RANDBETWEEN(IF(Worksheet!$D$14,-1,0),0),IF(I278=2,H278*10^RANDBETWEEN(RANDBETWEEN(0,2),2),CHOOSE(RANDBETWEEN(1,3),5,10,20)))","v":0.2},{"$f":"IF(I278=1,D278,IF(I278=3,\"%\",\"cm³\"))","v":"litres"},{"$f":"RANDBETWEEN(1,MIN(9,C278))","v":2},{"$f":"IF(AND(Worksheet!$D$12,RAND()<0.2),3,IF(RAND()<Worksheet!$D$10/100,1,2))","v":1},0.2,{"$f":"CONCATENATE(\" \",D278)","v":" litres"},200,"cm³"]
[{"$f":"IF(COUNTIF($B$1:B279,TRUE)=COUNTIF($B$1:B279,TRUE),\"\",COUNTIF($B$1:B279,TRUE))","v":""},{"$f":"Worksheet!$B$28","v":true},{"$f":"RANDBETWEEN(5,20)","v":19},"°C","±",{"$f":"IF(I279=1,H279*10^RANDBETWEEN(IF(Worksheet!$D$14,-1,0),0),IF(I279=2,H279,CHOOSE(RANDBETWEEN(1,3),5,10,20)))","v":0.8},{"$f":"IF(I279=1,D279,IF(I279=3,\"%\",\"sec\"))","v":"°C"},{"$f":"RANDBETWEEN(1,MIN(9,C279))","v":8},{"$f":"IF(AND(Worksheet!$D$12,RAND()<0),3,IF(RAND()<Worksheet!$D$10/100,1,2))","v":1},{"$f":"IF(I279=1,F279,IF(I279=2,F279,IF(I279=3,F279/100*C279,\"\")))","v":0.8},{"$f":"CONCATENATE(\" \",D279)","v":" °C"},{"$f":"IF(I279=1,F279,IF(I279=2,F279,IF(I279=3,F279/100*C279,\"\")))","v":0.8}," °C"]
[{"$f":"COUNTIF($B$1:B280,TRUE)","v":218},{"$f":"Worksheet!$B$20","v":true},{"$f":"RANDBETWEEN(5,RANDBETWEEN(5,Worksheet!$D$8))","v":55},"cm","±",{"$f":"IF(I280=1,H280*10^RANDBETWEEN(IF(Worksheet!$D$14,-1,0),0),IF(I280=2,H280,CHOOSE(RANDBETWEEN(1,3),5,10,20)))","v":0.30000000000000004},{"$f":"IF(I280=1,D280,IF(I280=3,\"%\",\"mm\"))","v":"cm"},{"$f":"RANDBETWEEN(1,MIN(9,C280))","v":3},{"$f":"IF(AND(Worksheet!$D$12,RAND()<0.2),3,IF(RAND()<Worksheet!$D$10/100,1,2))","v":1},{"$f":"IF(I280=1,F280,IF(I280=2,F280/10,IF(I280=3,F280/100*C280,\"\")))","v":0.30000000000000004},{"$f":"CONCATENATE(\" \",D280)","v":" cm"},{"$f":"IF(I280=1,F280*10,IF(I280=2,F280,IF(I280=3,F280/100*C280*10,\"\")))","v":3.0000000000000004},"mm"]
[{"$f":"IF(COUNTIF($B$1:B281,TRUE)=COUNTIF($B$1:B280,TRUE),\"\",COUNTIF($B$1:B281,TRUE))","v":219},{"$f":"Worksheet!$B$22","v":true},{"$f":"RANDBETWEEN(5,RANDBETWEEN(5,Worksheet!$D$8))","v":98},"m","±",{"$f":"IF(I281=1,H281*10^RANDBETWEEN(IF(Worksheet!$D$14,-1,0),0),IF(I281=2,H281*10^RANDBETWEEN(RANDBETWEEN(0,1),1),CHOOSE(RANDBETWEEN(1,3),5,10,20)))","v":5},{"$f":"IF(I281=1,D281,IF(I281=3,\"%\",\"cm\"))","v":"m"},{"$f":"RANDBETWEEN(1,MIN(9,C281))","v":5},{"$f":"IF(AND(Worksheet!$D$12,RAND()<0.2),3,IF(RAND()<Worksheet!$D$10/100,1,2))","v":1},{"$f":"IF(I281=1,F281,IF(I281=2,F281/100,IF(I281=3,F281/100*C281,\"\")))","v":5},{"$f":"CONCATENATE(\" \",D281)","v":" m"},{"$f":"IF(I281=1,F281*100,IF(I281=2,F281,IF(I281=3,F281/100*C281*100,\"\")))","v":500},"cm"]
[{"$f":"IF(COUNTIF($B$1:B282,TRUE)=COUNTIF($B$1:B281,TRUE),\"\",COUNTIF($B$1:B282,TRUE))","v":220},{"$f":"Worksheet!$B$24","v":true},{"$f":"RANDBETWEEN(5,RANDBETWEEN(5,Worksheet!$D$8))","v":23},"km","±",{"$f":"IF(I282=1,H282*10^RANDBETWEEN(IF(Worksheet!$D$14,-1,0),0),IF(I282=2,H282*10^RANDBETWEEN(RANDBETWEEN(0,2),2),CHOOSE(RANDBETWEEN(1,3),5,10,20)))","v":5},{"$f":"IF(I282=1,D282,IF(I282=3,\"%\",\"m\"))","v":"%"},1,{"$f":"IF(AND(Worksheet!$D$12,RAND()<0.2),3,IF(RAND()<Worksheet!$D$10/100,1,2))","v":3},{"$f":"IF(I282=1,F282,IF(I282=2,F282/1000,IF(I282=3,F282/100*C282,\"\")))","v":1.1500000000000001}," km",{"$f":"IF(I282=1,F282*1000,IF(I282=2,F282,IF(I282=3,F282/100*C282*1000,\"\")))","v":1150.0000000000002},"m"]
[{"$f":"IF(COUNTIF($B$1:B283,TRUE)=COUNTIF($B$1:B282,TRUE),\"\",COUNTIF($B$1:B283,TRUE))","v":""},{"$f":"Worksheet!$B$26","v":false},{"$f":"RANDBETWEEN(5,RANDBETWEEN(5,Worksheet!$D$8))","v":47},"m","±",{"$f":"IF(I283=1,H283*10^RANDBETWEEN(IF(Worksheet!$D$14,-1,0),0),IF(I283=2,H283*10^RANDBETWEEN(RANDBETWEEN(0,2),2),CHOOSE(RANDBETWEEN(1,3),5,10,20)))","v":0.2},{"$f":"IF(I283=1,D283,IF(I283=3,\"%\",\"mm\"))","v":"m"},2,{"$f":"IF(AND(Worksheet!$D$12,RAND()<0.2),3,IF(RAND()<Worksheet!$D$10/100,1,2))","v":1},0.2," m",200,"mm"]
[{"$f":"IF(COUNTIF($B$1:B284,TRUE)=COUNTIF($B$1:B283,TRUE),\"\",COUNTIF($B$1:B284,TRUE))","v":221},{"$f":"Worksheet!$D$20","v":true},{"$f":"RANDBETWEEN(5,RANDBETWEEN(5,Worksheet!$D$8))","v":24},"kg","±",{"$f":"IF(I284=1,H284*10^RANDBETWEEN(IF(Worksheet!$D$14,-1,0),0),IF(I284=2,H284*10^RANDBETWEEN(RANDBETWEEN(0,2),2),CHOOSE(RANDBETWEEN(1,3),5,10,20)))","v":5},{"$f":"IF(I284=1,D284,IF(I284=3,\"%\",\"g\"))","v":"kg"},{"$f":"RANDBETWEEN(1,MIN(9,C284))","v":5},{"$f":"IF(AND(Worksheet!$D$12,RAND()<0.2),3,IF(RAND()<Worksheet!$D$10/100,1,2))","v":1},5,{"$f":"CONCATENATE(\" \",D284)","v":" kg"},5000,"g"]
[{"$f":"IF(COUNTIF($B$1:B285,TRUE)=COUNTIF($B$1:B284,TRUE),\"\",COUNTIF($B$1:B285,TRUE))","v":222},{"$f":"Worksheet!$D$22","v":true},{"$f":"RANDBETWEEN(5,RANDBETWEEN(5,Worksheet!$D$8))","v":15},"tonnes","±",{"$f":"IF(I285=1,H285*10^RANDBETWEEN(IF(Worksheet!$D$14,-1,0),0),IF(I285=2,H285*10^RANDBETWEEN(RANDBETWEEN(0,2),2),CHOOSE(RANDBETWEEN(1,3),5,10,20)))","v":0.8},{"$f":"IF(I285=1,D285,IF(I285=3,\"%\",\"kg\"))","v":"tonnes"},{"$f":"RANDBETWEEN(1,MIN(9,C285))","v":8},{"$f":"IF(AND(Worksheet!$D$12,RAND()<0.2),3,IF(RAND()<Worksheet!$D$10/100,1,2))","v":1},0.8,{"$f":"CONCATENATE(\" \",D285)","v":" tonnes"},800,"kg"]
[{"$f":"IF(COUNTIF($B$1:B286,TRUE)=COUNTIF($B$1:B285,TRUE),\"\",COUNTIF($B$1:B286,TRUE))","v":223},{"$f":"Worksheet!$D$24","v":true},{"$f":"RANDBETWEEN(5,RANDBETWEEN(5,Worksheet!$D$8))","v":45},"litres","±",{"$f":"IF(I286=1,H286*10^RANDBETWEEN(IF(Worksheet!$D$14,-1,0),0),IF(I286=2,H286*10^RANDBETWEEN(RANDBETWEEN(0,2),2),CHOOSE(RANDBETWEEN(1,3),5,10,20)))","v":1},{"$f":"IF(I286=1,D286,IF(I286=3,\"%\",\"ml\"))","v":"litres"},{"$f":"RANDBETWEEN(1,MIN(9,C286))","v":1},{"$f":"IF(AND(Worksheet!$D$12,RAND()<0.2),3,IF(RAND()<Worksheet!$D$10/100,1,2))","v":1},1,{"$f":"CONCATENATE(\" \",D286)","v":" litres"},1000,"ml"]
[{"$f":"IF(COUNTIF($B$1:B287,TRUE)=COUNTIF($B$1:B286,TRUE),\"\",COUNTIF($B$1:B287,TRUE))","v":""},{"$f":"Worksheet!$D$26","v":false},{"$f":"RANDBETWEEN(5,RANDBETWEEN(5,Worksheet!$D$8))","v":91},"litres","±",{"$f":"IF(I287=1,H287*10^RANDBETWEEN(IF(Worksheet!$D$14,-1,0),0),IF(I287=2,H287*10^RANDBETWEEN(RANDBETWEEN(0,2),2),CHOOSE(RANDBETWEEN(1,3),5,10,20)))","v":1},{"$f":"IF(I287=1,D287,IF(I287=3,\"%\",\"cm³\"))","v":"litres"},{"$f":"RANDBETWEEN(1,MIN(9,C287))","v":1},{"$f":"IF(AND(Worksheet!$D$12,RAND()<0.2),3,IF(RAND()<Worksheet!$D$10/100,1,2))","v":1},1,{"$f":"CONCATENATE(\" \",D287)","v":" litres"},1000,"cm³"]
[{"$f":"IF(COUNTIF($B$1:B288,TRUE)=COUNTIF($B$1:B288,TRUE),\"\",COUNTIF($B$1:B288,TRUE))","v":""},{"$f":"Worksheet!$B$28","v":true},{"$f":"RANDBETWEEN(5,20)","v":18},"°C","±",{"$f":"IF(I288=1,H288*10^RANDBETWEEN(IF(Worksheet!$D$14,-1,0),0),IF(I288=2,H288,CHOOSE(RANDBETWEEN(1,3),5,10,20)))","v":3},{"$f":"IF(I288=1,D288,IF(I288=3,\"%\",\"sec\"))","v":"sec"},{"$f":"RANDBETWEEN(1,MIN(9,C288))","v":3},{"$f":"IF(AND(Worksheet!$D$12,RAND()<0),3,IF(RAND()<Worksheet!$D$10/100,1,2))","v":2},{"$f":"IF(I288=1,F288,IF(I288=2,F288,IF(I288=3,F288/100*C288,\"\")))","v":3},{"$f":"CONCATENATE(\" \",D288)","v":" °C"},{"$f":"IF(I288=1,F288,IF(I288=2,F288,IF(I288=3,F288/100*C288,\"\")))","v":3}," °C"]
[{"$f":"COUNTIF($B$1:B289,TRUE)","v":225},{"$f":"Worksheet!$B$20","v":true},{"$f":"RANDBETWEEN(5,RANDBETWEEN(5,Worksheet!$D$8))","v":60},"cm","±",{"$f":"IF(I289=1,H289*10^RANDBETWEEN(IF(Worksheet!$D$14,-1,0),0),IF(I289=2,H289,CHOOSE(RANDBETWEEN(1,3),5,10,20)))","v":8},{"$f":"IF(I289=1,D289,IF(I289=3,\"%\",\"mm\"))","v":"cm"},{"$f":"RANDBETWEEN(1,MIN(9,C289))","v":8},{"$f":"IF(AND(Worksheet!$D$12,RAND()<0.2),3,IF(RAND()<Worksheet!$D$10/100,1,2))","v":1},{"$f":"IF(I289=1,F289,IF(I289=2,F289/10,IF(I289=3,F289/100*C289,\"\")))","v":8},{"$f":"CONCATENATE(\" \",D289)","v":" cm"},{"$f":"IF(I289=1,F289*10,IF(I289=2,F289,IF(I289=3,F289/100*C289*10,\"\")))","v":80},"mm"]
[{"$f":"IF(COUNTIF($B$1:B290,TRUE)=COUNTIF($B$1:B289,TRUE),\"\",COUNTIF($B$1:B290,TRUE))","v":226},{"$f":"Worksheet!$B$22","v":true},{"$f":"RANDBETWEEN(5,RANDBETWEEN(5,Worksheet!$D$8))","v":5},"m","±",{"$f":"IF(I290=1,H290*10^RANDBETWEEN(IF(Worksheet!$D$14,-1,0),0),IF(I290=2,H290*10^RANDBETWEEN(RANDBETWEEN(0,1),1),CHOOSE(RANDBETWEEN(1,3),5,10,20)))","v":10},{"$f":"IF(I290=1,D290,IF(I290=3,\"%\",\"cm\"))","v":"%"},{"$f":"RANDBETWEEN(1,MIN(9,C290))","v":2},{"$f":"IF(AND(Worksheet!$D$12,RAND()<0.2),3,IF(RAND()<Worksheet!$D$10/100,1,2))","v":3},{"$f":"IF(I290=1,F290,IF(I290=2,F290/100,IF(I290=3,F290/100*C290,\"\")))","v":0.5},{"$f":"CONCATENATE(\" \",D290)","v":" m"},{"$f":"IF(I290=1,F290*100,IF(I290=2,F290,IF(I290=3,F290/100*C290*100,\"\")))","v":50},"cm"]
[{"$f":"IF(COUNTIF($B$1:B291,TRUE)=COUNTIF($B$1:B290,TRUE),\"\",COUNTIF($B$1:B291,TRUE))","v":227},{"$f":"Worksheet!$B$24","v":true},{"$f":"RANDBETWEEN(5,RANDBETWEEN(5,Worksheet!$D$8))","v":92},"km","±",{"$f":"IF(I291=1,H291*10^RANDBETWEEN(IF(Worksheet!$D$14,-1,0),0),IF(I291=2,H291*10^RANDBETWEEN(RANDBETWEEN(0,2),2),CHOOSE(RANDBETWEEN(1,3),5,10,20)))","v":8},{"$f":"IF(I291=1,D291,IF(I291=3,\"%\",\"m\"))","v":"km"},8,{"$f":"IF(AND(Worksheet!$D$12,RAND()<0.2),3,IF(RAND()<Worksheet!$D$10/100,1,2))","v":1},{"$f":"IF(I291=1,F291,IF(I291=2,F291/1000,IF(I291=3,F291/100*C291,\"\")))","v":8}," km",{"$f":"IF(I291=1,F291*1000,IF(I291=2,F291,IF(I291=3,F291/100*C291*1000,\"\")))","v":8000},"m"]
[{"$f":"IF(COUNTIF($B$1:B292,TRUE)=COUNTIF($B$1:B291,TRUE),\"\",COUNTIF($B$1:B292,TRUE))","v":""},{"$f":"Worksheet!$B$26","v":false},{"$f":"RANDBETWEEN(5,RANDBETWEEN(5,Worksheet!$D$8))","v":18},"m","±",{"$f":"IF(I292=1,H292*10^RANDBETWEEN(IF(Worksheet!$D$14,-1,0),0),IF(I292=2,H292*10^RANDBETWEEN(RANDBETWEEN(0,2),2),CHOOSE(RANDBETWEEN(1,3),5,10,20)))","v":0.60000000000000009},{"$f":"IF(I292=1,D292,IF(I292=3,\"%\",\"mm\"))","v":"m"},6,{"$f":"IF(AND(Worksheet!$D$12,RAND()<0.2),3,IF(RAND()<Worksheet!$D$10/100,1,2))","v":1},0.60000000000000009," m",600.00000000000011,"mm"]
[{"$f":"IF(COUNTIF($B$1:B293,TRUE)=COUNTIF($B$1:B292,TRUE),\"\",COUNTIF($B$1:B293,TRUE))","v":228},{"$f":"Worksheet!$D$20","v":true},{"$f":"RANDBETWEEN(5,RANDBETWEEN(5,Worksheet!$D$8))","v":55},"kg","±",{"$f":"IF(I293=1,H293*10^RANDBETWEEN(IF(Worksheet!$D$14,-1,0),0),IF(I293=2,H293*10^RANDBETWEEN(RANDBETWEEN(0,2),2),CHOOSE(RANDBETWEEN(1,3),5,10,20)))","v":0.5},{"$f":"IF(I293=1,D293,IF(I293=3,\"%\",\"g\"))","v":"kg"},{"$f":"RANDBETWEEN(1,MIN(9,C293))","v":5},{"$f":"IF(AND(Worksheet!$D$12,RAND()<0.2),3,IF(RAND()<Worksheet!$D$10/100,1,2))","v":1},0.5,{"$f":"CONCATENATE(\" \",D293)","v":" kg"},500,"g"]
[{"$f":"IF(COUNTIF($B$1:B294,TRUE)=COUNTIF($B$1:B293,TRUE),\"\",COUNTIF($B$1:B294,TRUE))","v":229},{"$f":"Worksheet!$D$22","v":true},{"$f":"RANDBETWEEN(5,RANDBETWEEN(5,Worksheet!$D$8))","v":13},"tonnes","±",{"$f":"IF(I294=1,H294*10^RANDBETWEEN(IF(Worksheet!$D$14,-1,0),0),IF(I294=2,H294*10^RANDBETWEEN(RANDBETWEEN(0,2),2),CHOOSE(RANDBETWEEN(1,3),5,10,20)))","v":5},{"$f":"IF(I294=1,D294,IF(I294=3,\"%\",\"kg\"))","v":"%"},{"$f":"RANDBETWEEN(1,MIN(9,C294))","v":1},{"$f":"IF(AND(Worksheet!$D$12,RAND()<0.2),3,IF(RAND()<Worksheet!$D$10/100,1,2))","v":3},0.65,{"$f":"CONCATENATE(\" \",D294)","v":" tonnes"},650,"kg"]
[{"$f":"IF(COUNTIF($B$1:B295,TRUE)=COUNTIF($B$1:B294,TRUE),\"\",COUNTIF($B$1:B295,TRUE))","v":230},{"$f":"Worksheet!$D$24","v":true},{"$f":"RANDBETWEEN(5,RANDBETWEEN(5,Worksheet!$D$8))","v":62},"litres","±",{"$f":"IF(I295=1,H295*10^RANDBETWEEN(IF(Worksheet!$D$14,-1,0),0),IF(I295=2,H295*10^RANDBETWEEN(RANDBETWEEN(0,2),2),CHOOSE(RANDBETWEEN(1,3),5,10,20)))","v":10},{"$f":"IF(I295=1,D295,IF(I295=3,\"%\",\"ml\"))","v":"%"},{"$f":"RANDBETWEEN(1,MIN(9,C295))","v":5},{"$f":"IF(AND(Worksheet!$D$12,RAND()<0.2),3,IF(RAND()<Worksheet!$D$10/100,1,2))","v":3},6.2,{"$f":"CONCATENATE(\" \",D295)","v":" litres"},6200,"ml"]
[{"$f":"IF(COUNTIF($B$1:B296,TRUE)=COUNTIF($B$1:B295,TRUE),\"\",COUNTIF($B$1:B296,TRUE))","v":""},{"$f":"Worksheet!$D$26","v":false},{"$f":"RANDBETWEEN(5,RANDBETWEEN(5,Worksheet!$D$8))","v":98},"litres","±",{"$f":"IF(I296=1,H296*10^RANDBETWEEN(IF(Worksheet!$D$14,-1,0),0),IF(I296=2,H296*10^RANDBETWEEN(RANDBETWEEN(0,2),2),CHOOSE(RANDBETWEEN(1,3),5,10,20)))","v":5},{"$f":"IF(I296=1,D296,IF(I296=3,\"%\",\"cm³\"))","v":"litres"},{"$f":"RANDBETWEEN(1,MIN(9,C296))","v":5},{"$f":"IF(AND(Worksheet!$D$12,RAND()<0.2),3,IF(RAND()<Worksheet!$D$10/100,1,2))","v":1},5,{"$f":"CONCATENATE(\" \",D296)","v":" litres"},5000,"cm³"]
[{"$f":"IF(COUNTIF($B$1:B297,TRUE)=COUNTIF($B$1:B297,TRUE),\"\",COUNTIF($B$1:B297,TRUE))","v":""},{"$f":"Worksheet!$B$28","v":true},{"$f":"RANDBETWEEN(5,20)","v":9},"°C","±",{"$f":"IF(I297=1,H297*10^RANDBETWEEN(IF(Worksheet!$D$14,-1,0),0),IF(I297=2,H297,CHOOSE(RANDBETWEEN(1,3),5,10,20)))","v":0.9},{"$f":"IF(I297=1,D297,IF(I297=3,\"%\",\"sec\"))","v":"°C"},{"$f":"RANDBETWEEN(1,MIN(9,C297))","v":9},{"$f":"IF(AND(Worksheet!$D$12,RAND()<0),3,IF(RAND()<Worksheet!$D$10/100,1,2))","v":1},{"$f":"IF(I297=1,F297,IF(I297=2,F297,IF(I297=3,F297/100*C297,\"\")))","v":0.9},{"$f":"CONCATENATE(\" \",D297)","v":" °C"},{"$f":"IF(I297=1,F297,IF(I297=2,F297,IF(I297=3,F297/100*C297,\"\")))","v":0.9}," °C"]
[{"$f":"COUNTIF($B$1:B298,TRUE)","v":232},{"$f":"Worksheet!$B$20","v":true},{"$f":"RANDBETWEEN(5,RANDBETWEEN(5,Worksheet!$D$8))","v":33},"cm","±",{"$f":"IF(I298=1,H298*10^RANDBETWEEN(IF(Worksheet!$D$14,-1,0),0),IF(I298=2,H298,CHOOSE(RANDBETWEEN(1,3),5,10,20)))","v":0.1},{"$f":"IF(I298=1,D298,IF(I298=3,\"%\",\"mm\"))","v":"cm"},{"$f":"RANDBETWEEN(1,MIN(9,C298))","v":1},{"$f":"IF(AND(Worksheet!$D$12,RAND()<0.2),3,IF(RAND()<Worksheet!$D$10/100,1,2))","v":1},{"$f":"IF(I298=1,F298,IF(I298=2,F298/10,IF(I298=3,F298/100*C298,\"\")))","v":0.1},{"$f":"CONCATENATE(\" \",D298)","v":" cm"},{"$f":"IF(I298=1,F298*10,IF(I298=2,F298,IF(I298=3,F298/100*C298*10,\"\")))","v":1},"mm"]
[{"$f":"IF(COUNTIF($B$1:B299,TRUE)=COUNTIF($B$1:B298,TRUE),\"\",COUNTIF($B$1:B299,TRUE))","v":233},{"$f":"Worksheet!$B$22","v":true},{"$f":"RANDBETWEEN(5,RANDBETWEEN(5,Worksheet!$D$8))","v":121},"m","±",{"$f":"IF(I299=1,H299*10^RANDBETWEEN(IF(Worksheet!$D$14,-1,0),0),IF(I299=2,H299*10^RANDBETWEEN(RANDBETWEEN(0,1),1),CHOOSE(RANDBETWEEN(1,3),5,10,20)))","v":70},{"$f":"IF(I299=1,D299,IF(I299=3,\"%\",\"cm\"))","v":"cm"},{"$f":"RANDBETWEEN(1,MIN(9,C299))","v":7},{"$f":"IF(AND(Worksheet!$D$12,RAND()<0.2),3,IF(RAND()<Worksheet!$D$10/100,1,2))","v":2},{"$f":"IF(I299=1,F299,IF(I299=2,F299/100,IF(I299=3,F299/100*C299,\"\")))","v":0.7},{"$f":"CONCATENATE(\" \",D299)","v":" m"},{"$f":"IF(I299=1,F299*100,IF(I299=2,F299,IF(I299=3,F299/100*C299*100,\"\")))","v":70},"cm"]
[{"$f":"IF(COUNTIF($B$1:B300,TRUE)=COUNTIF($B$1:B299,TRUE),\"\",COUNTIF($B$1:B300,TRUE))","v":234},{"$f":"Worksheet!$B$24","v":true},{"$f":"RANDBETWEEN(5,RANDBETWEEN(5,Worksheet!$D$8))","v":63},"km","±",{"$f":"IF(I300=1,H300*10^RANDBETWEEN(IF(Worksheet!$D$14,-1,0),0),IF(I300=2,H300*10^RANDBETWEEN(RANDBETWEEN(0,2),2),CHOOSE(RANDBETWEEN(1,3),5,10,20)))","v":7},{"$f":"IF(I300=1,D300,IF(I300=3,\"%\",\"m\"))","v":"km"},7,{"$f":"IF(AND(Worksheet!$D$12,RAND()<0.2),3,IF(RAND()<Worksheet!$D$10/100,1,2))","v":1},{"$f":"IF(I300=1,F300,IF(I300=2,F300/1000,IF(I300=3,F300/100*C300,\"\")))","v":7}," km",{"$f":"IF(I300=1,F300*1000,IF(I300=2,F300,IF(I300=3,F300/100*C300*1000,\"\")))","v":7000},"m"]
[{"$f":"IF(COUNTIF($B$1:B301,TRUE)=COUNTIF($B$1:B300,TRUE),\"\",COUNTIF($B$1:B301,TRUE))","v":""},{"$f":"Worksheet!$B$26","v":false},{"$f":"RANDBETWEEN(5,RANDBETWEEN(5,Worksheet!$D$8))","v":40},"m","±",{"$f":"IF(I301=1,H301*10^RANDBETWEEN(IF(Worksheet!$D$14,-1,0),0),IF(I301=2,H301*10^RANDBETWEEN(RANDBETWEEN(0,2),2),CHOOSE(RANDBETWEEN(1,3),5,10,20)))","v":700},{"$f":"IF(I301=1,D301,IF(I301=3,\"%\",\"mm\"))","v":"mm"},7,{"$f":"IF(AND(Worksheet!$D$12,RAND()<0.2),3,IF(RAND()<Worksheet!$D$10/100,1,2))","v":2},0.7," m",700,"mm"]
[{"$f":"IF(COUNTIF($B$1:B302,TRUE)=COUNTIF($B$1:B301,TRUE),\"\",COUNTIF($B$1:B302,TRUE))","v":235},{"$f":"Worksheet!$D$20","v":true},{"$f":"RANDBETWEEN(5,RANDBETWEEN(5,Worksheet!$D$8))","v":38},"kg","±",{"$f":"IF(I302=1,H302*10^RANDBETWEEN(IF(Worksheet!$D$14,-1,0),0),IF(I302=2,H302*10^RANDBETWEEN(RANDBETWEEN(0,2),2),CHOOSE(RANDBETWEEN(1,3),5,10,20)))","v":0.5},{"$f":"IF(I302=1,D302,IF(I302=3,\"%\",\"g\"))","v":"kg"},{"$f":"RANDBETWEEN(1,MIN(9,C302))","v":5},{"$f":"IF(AND(Worksheet!$D$12,RAND()<0.2),3,IF(RAND()<Worksheet!$D$10/100,1,2))","v":1},0.5,{"$f":"CONCATENATE(\" \",D302)","v":" kg"},500,"g"]
[{"$f":"IF(COUNTIF($B$1:B303,TRUE)=COUNTIF($B$1:B302,TRUE),\"\",COUNTIF($B$1:B303,TRUE))","v":236},{"$f":"Worksheet!$D$22","v":true},{"$f":"RANDBETWEEN(5,RANDBETWEEN(5,Worksheet!$D$8))","v":15},"tonnes","±",{"$f":"IF(I303=1,H303*10^RANDBETWEEN(IF(Worksheet!$D$14,-1,0),0),IF(I303=2,H303*10^RANDBETWEEN(RANDBETWEEN(0,2),2),CHOOSE(RANDBETWEEN(1,3),5,10,20)))","v":5},{"$f":"IF(I303=1,D303,IF(I303=3,\"%\",\"kg\"))","v":"tonnes"},{"$f":"RANDBETWEEN(1,MIN(9,C303))","v":5},{"$f":"IF(AND(Worksheet!$D$12,RAND()<0.2),3,IF(RAND()<Worksheet!$D$10/100,1,2))","v":1},5,{"$f":"CONCATENATE(\" \",D303)","v":" tonnes"},5000,"kg"]
[{"$f":"IF(COUNTIF($B$1:B304,TRUE)=COUNTIF($B$1:B303,TRUE),\"\",COUNTIF($B$1:B304,TRUE))","v":237},{"$f":"Worksheet!$D$24","v":true},{"$f":"RANDBETWEEN(5,RANDBETWEEN(5,Worksheet!$D$8))","v":27},"litres","±",{"$f":"IF(I304=1,H304*10^RANDBETWEEN(IF(Worksheet!$D$14,-1,0),0),IF(I304=2,H304*10^RANDBETWEEN(RANDBETWEEN(0,2),2),CHOOSE(RANDBETWEEN(1,3),5,10,20)))","v":4},{"$f":"IF(I304=1,D304,IF(I304=3,\"%\",\"ml\"))","v":"ml"},{"$f":"RANDBETWEEN(1,MIN(9,C304))","v":4},{"$f":"IF(AND(Worksheet!$D$12,RAND()<0.2),3,IF(RAND()<Worksheet!$D$10/100,1,2))","v":2},4.0000000000000001E-3,{"$f":"CONCATENATE(\" \",D304)","v":" litres"},4,"ml"]
[{"$f":"IF(COUNTIF($B$1:B305,TRUE)=COUNTIF($B$1:B304,TRUE),\"\",COUNTIF($B$1:B305,TRUE))","v":""},{"$f":"Worksheet!$D$26","v":false},{"$f":"RANDBETWEEN(5,RANDBETWEEN(5,Worksheet!$D$8))","v":46},"litres","±",{"$f":"IF(I305=1,H305*10^RANDBETWEEN(IF(Worksheet!$D$14,-1,0),0),IF(I305=2,H305*10^RANDBETWEEN(RANDBETWEEN(0,2),2),CHOOSE(RANDBETWEEN(1,3),5,10,20)))","v":0.5},{"$f":"IF(I305=1,D305,IF(I305=3,\"%\",\"cm³\"))","v":"litres"},{"$f":"RANDBETWEEN(1,MIN(9,C305))","v":5},{"$f":"IF(AND(Worksheet!$D$12,RAND()<0.2),3,IF(RAND()<Worksheet!$D$10/100,1,2))","v":1},0.5,{"$f":"CONCATENATE(\" \",D305)","v":" litres"},500,"cm³"]
[{"$f":"IF(COUNTIF($B$1:B306,TRUE)=COUNTIF($B$1:B306,TRUE),\"\",COUNTIF($B$1:B306,TRUE))","v":""},{"$f":"Worksheet!$B$28","v":true},{"$f":"RANDBETWEEN(5,20)","v":6},"°C","±",{"$f":"IF(I306=1,H306*10^RANDBETWEEN(IF(Worksheet!$D$14,-1,0),0),IF(I306=2,H306,CHOOSE(RANDBETWEEN(1,3),5,10,20)))","v":4},{"$f":"IF(I306=1,D306,IF(I306=3,\"%\",\"sec\"))","v":"sec"},{"$f":"RANDBETWEEN(1,MIN(9,C306))","v":4},{"$f":"IF(AND(Worksheet!$D$12,RAND()<0),3,IF(RAND()<Worksheet!$D$10/100,1,2))","v":2},{"$f":"IF(I306=1,F306,IF(I306=2,F306,IF(I306=3,F306/100*C306,\"\")))","v":4},{"$f":"CONCATENATE(\" \",D306)","v":" °C"},{"$f":"IF(I306=1,F306,IF(I306=2,F306,IF(I306=3,F306/100*C306,\"\")))","v":4}," °C"]
[{"$f":"COUNTIF($B$1:B307,TRUE)","v":239},{"$f":"Worksheet!$B$20","v":true},{"$f":"RANDBETWEEN(5,RANDBETWEEN(5,Worksheet!$D$8))","v":167},"cm","±",{"$f":"IF(I307=1,H307*10^RANDBETWEEN(IF(Worksheet!$D$14,-1,0),0),IF(I307=2,H307,CHOOSE(RANDBETWEEN(1,3),5,10,20)))","v":6},{"$f":"IF(I307=1,D307,IF(I307=3,\"%\",\"mm\"))","v":"cm"},{"$f":"RANDBETWEEN(1,MIN(9,C307))","v":6},{"$f":"IF(AND(Worksheet!$D$12,RAND()<0.2),3,IF(RAND()<Worksheet!$D$10/100,1,2))","v":1},{"$f":"IF(I307=1,F307,IF(I307=2,F307/10,IF(I307=3,F307/100*C307,\"\")))","v":6},{"$f":"CONCATENATE(\" \",D307)","v":" cm"},{"$f":"IF(I307=1,F307*10,IF(I307=2,F307,IF(I307=3,F307/100*C307*10,\"\")))","v":60},"mm"]
[{"$f":"IF(COUNTIF($B$1:B308,TRUE)=COUNTIF($B$1:B307,TRUE),\"\",COUNTIF($B$1:B308,TRUE))","v":240},{"$f":"Worksheet!$B$22","v":true},{"$f":"RANDBETWEEN(5,RANDBETWEEN(5,Worksheet!$D$8))","v":27},"m","±",{"$f":"IF(I308=1,H308*10^RANDBETWEEN(IF(Worksheet!$D$14,-1,0),0),IF(I308=2,H308*10^RANDBETWEEN(RANDBETWEEN(0,1),1),CHOOSE(RANDBETWEEN(1,3),5,10,20)))","v":20},{"$f":"IF(I308=1,D308,IF(I308=3,\"%\",\"cm\"))","v":"%"},{"$f":"RANDBETWEEN(1,MIN(9,C308))","v":4},{"$f":"IF(AND(Worksheet!$D$12,RAND()<0.2),3,IF(RAND()<Worksheet!$D$10/100,1,2))","v":3},{"$f":"IF(I308=1,F308,IF(I308=2,F308/100,IF(I308=3,F308/100*C308,\"\")))","v":5.4},{"$f":"CONCATENATE(\" \",D308)","v":" m"},{"$f":"IF(I308=1,F308*100,IF(I308=2,F308,IF(I308=3,F308/100*C308*100,\"\")))","v":540},"cm"]
[{"$f":"IF(COUNTIF($B$1:B309,TRUE)=COUNTIF($B$1:B308,TRUE),\"\",COUNTIF($B$1:B309,TRUE))","v":241},{"$f":"Worksheet!$B$24","v":true},{"$f":"RANDBETWEEN(5,RANDBETWEEN(5,Worksheet!$D$8))","v":23},"km","±",{"$f":"IF(I309=1,H309*10^RANDBETWEEN(IF(Worksheet!$D$14,-1,0),0),IF(I309=2,H309*10^RANDBETWEEN(RANDBETWEEN(0,2),2),CHOOSE(RANDBETWEEN(1,3),5,10,20)))","v":800},{"$f":"IF(I309=1,D309,IF(I309=3,\"%\",\"m\"))","v":"m"},8,{"$f":"IF(AND(Worksheet!$D$12,RAND()<0.2),3,IF(RAND()<Worksheet!$D$10/100,1,2))","v":2},{"$f":"IF(I309=1,F309,IF(I309=2,F309/1000,IF(I309=3,F309/100*C309,\"\")))","v":0.8}," km",{"$f":"IF(I309=1,F309*1000,IF(I309=2,F309,IF(I309=3,F309/100*C309*1000,\"\")))","v":800},"m"]
[{"$f":"IF(COUNTIF($B$1:B310,TRUE)=COUNTIF($B$1:B309,TRUE),\"\",COUNTIF($B$1:B310,TRUE))","v":""},{"$f":"Worksheet!$B$26","v":false},{"$f":"RANDBETWEEN(5,RANDBETWEEN(5,Worksheet!$D$8))","v":85},"m","±",{"$f":"IF(I310=1,H310*10^RANDBETWEEN(IF(Worksheet!$D$14,-1,0),0),IF(I310=2,H310*10^RANDBETWEEN(RANDBETWEEN(0,2),2),CHOOSE(RANDBETWEEN(1,3),5,10,20)))","v":5},{"$f":"IF(I310=1,D310,IF(I310=3,\"%\",\"mm\"))","v":"%"},7,{"$f":"IF(AND(Worksheet!$D$12,RAND()<0.2),3,IF(RAND()<Worksheet!$D$10/100,1,2))","v":3},4.25," m",4250,"mm"]
[{"$f":"IF(COUNTIF($B$1:B311,TRUE)=COUNTIF($B$1:B310,TRUE),\"\",COUNTIF($B$1:B311,TRUE))","v":242},{"$f":"Worksheet!$D$20","v":true},{"$f":"RANDBETWEEN(5,RANDBETWEEN(5,Worksheet!$D$8))","v":21},"kg","±",{"$f":"IF(I311=1,H311*10^RANDBETWEEN(IF(Worksheet!$D$14,-1,0),0),IF(I311=2,H311*10^RANDBETWEEN(RANDBETWEEN(0,2),2),CHOOSE(RANDBETWEEN(1,3),5,10,20)))","v":0.30000000000000004},{"$f":"IF(I311=1,D311,IF(I311=3,\"%\",\"g\"))","v":"kg"},{"$f":"RANDBETWEEN(1,MIN(9,C311))","v":3},{"$f":"IF(AND(Worksheet!$D$12,RAND()<0.2),3,IF(RAND()<Worksheet!$D$10/100,1,2))","v":1},0.30000000000000004,{"$f":"CONCATENATE(\" \",D311)","v":" kg"},300.00000000000006,"g"]
[{"$f":"IF(COUNTIF($B$1:B312,TRUE)=COUNTIF($B$1:B311,TRUE),\"\",COUNTIF($B$1:B312,TRUE))","v":243},{"$f":"Worksheet!$D$22","v":true},{"$f":"RANDBETWEEN(5,RANDBETWEEN(5,Worksheet!$D$8))","v":12},"tonnes","±",{"$f":"IF(I312=1,H312*10^RANDBETWEEN(IF(Worksheet!$D$14,-1,0),0),IF(I312=2,H312*10^RANDBETWEEN(RANDBETWEEN(0,2),2),CHOOSE(RANDBETWEEN(1,3),5,10,20)))","v":8},{"$f":"IF(I312=1,D312,IF(I312=3,\"%\",\"kg\"))","v":"tonnes"},{"$f":"RANDBETWEEN(1,MIN(9,C312))","v":8},{"$f":"IF(AND(Worksheet!$D$12,RAND()<0.2),3,IF(RAND()<Worksheet!$D$10/100,1,2))","v":1},8,{"$f":"CONCATENATE(\" \",D312)","v":" tonnes"},8000,"kg"]
[{"$f":"IF(COUNTIF($B$1:B313,TRUE)=COUNTIF($B$1:B312,TRUE),\"\",COUNTIF($B$1:B313,TRUE))","v":244},{"$f":"Worksheet!$D$24","v":true},{"$f":"RANDBETWEEN(5,RANDBETWEEN(5,Worksheet!$D$8))","v":47},"litres","±",{"$f":"IF(I313=1,H313*10^RANDBETWEEN(IF(Worksheet!$D$14,-1,0),0),IF(I313=2,H313*10^RANDBETWEEN(RANDBETWEEN(0,2),2),CHOOSE(RANDBETWEEN(1,3),5,10,20)))","v":90},{"$f":"IF(I313=1,D313,IF(I313=3,\"%\",\"ml\"))","v":"ml"},{"$f":"RANDBETWEEN(1,MIN(9,C313))","v":9},{"$f":"IF(AND(Worksheet!$D$12,RAND()<0.2),3,IF(RAND()<Worksheet!$D$10/100,1,2))","v":2},0.09,{"$f":"CONCATENATE(\" \",D313)","v":" litres"},90,"ml"]
[{"$f":"IF(COUNTIF($B$1:B314,TRUE)=COUNTIF($B$1:B313,TRUE),\"\",COUNTIF($B$1:B314,TRUE))","v":""},{"$f":"Worksheet!$D$26","v":false},{"$f":"RANDBETWEEN(5,RANDBETWEEN(5,Worksheet!$D$8))","v":7},"litres","±",{"$f":"IF(I314=1,H314*10^RANDBETWEEN(IF(Worksheet!$D$14,-1,0),0),IF(I314=2,H314*10^RANDBETWEEN(RANDBETWEEN(0,2),2),CHOOSE(RANDBETWEEN(1,3),5,10,20)))","v":1},{"$f":"IF(I314=1,D314,IF(I314=3,\"%\",\"cm³\"))","v":"litres"},{"$f":"RANDBETWEEN(1,MIN(9,C314))","v":1},{"$f":"IF(AND(Worksheet!$D$12,RAND()<0.2),3,IF(RAND()<Worksheet!$D$10/100,1,2))","v":1},1,{"$f":"CONCATENATE(\" \",D314)","v":" litres"},1000,"cm³"]
[{"$f":"IF(COUNTIF($B$1:B315,TRUE)=COUNTIF($B$1:B315,TRUE),\"\",COUNTIF($B$1:B315,TRUE))","v":""},{"$f":"Worksheet!$B$28","v":true},{"$f":"RANDBETWEEN(5,20)","v":7},"°C","±",{"$f":"IF(I315=1,H315*10^RANDBETWEEN(IF(Worksheet!$D$14,-1,0),0),IF(I315=2,H315,CHOOSE(RANDBETWEEN(1,3),5,10,20)))","v":5},{"$f":"IF(I315=1,D315,IF(I315=3,\"%\",\"sec\"))","v":"°C"},{"$f":"RANDBETWEEN(1,MIN(9,C315))","v":5},{"$f":"IF(AND(Worksheet!$D$12,RAND()<0),3,IF(RAND()<Worksheet!$D$10/100,1,2))","v":1},{"$f":"IF(I315=1,F315,IF(I315=2,F315,IF(I315=3,F315/100*C315,\"\")))","v":5},{"$f":"CONCATENATE(\" \",D315)","v":" °C"},{"$f":"IF(I315=1,F315,IF(I315=2,F315,IF(I315=3,F315/100*C315,\"\")))","v":5}," °C"]
[{"$f":"COUNTIF($B$1:B316,TRUE)","v":246},{"$f":"Worksheet!$B$20","v":true},{"$f":"RANDBETWEEN(5,RANDBETWEEN(5,Worksheet!$D$8))","v":27},"cm","±",{"$f":"IF(I316=1,H316*10^RANDBETWEEN(IF(Worksheet!$D$14,-1,0),0),IF(I316=2,H316,CHOOSE(RANDBETWEEN(1,3),5,10,20)))","v":0.70000000000000007},{"$f":"IF(I316=1,D316,IF(I316=3,\"%\",\"mm\"))","v":"cm"},{"$f":"RANDBETWEEN(1,MIN(9,C316))","v":7},{"$f":"IF(AND(Worksheet!$D$12,RAND()<0.2),3,IF(RAND()<Worksheet!$D$10/100,1,2))","v":1},{"$f":"IF(I316=1,F316,IF(I316=2,F316/10,IF(I316=3,F316/100*C316,\"\")))","v":0.70000000000000007},{"$f":"CONCATENATE(\" \",D316)","v":" cm"},{"$f":"IF(I316=1,F316*10,IF(I316=2,F316,IF(I316=3,F316/100*C316*10,\"\")))","v":7.0000000000000009},"mm"]
[{"$f":"IF(COUNTIF($B$1:B317,TRUE)=COUNTIF($B$1:B316,TRUE),\"\",COUNTIF($B$1:B317,TRUE))","v":247},{"$f":"Worksheet!$B$22","v":true},{"$f":"RANDBETWEEN(5,RANDBETWEEN(5,Worksheet!$D$8))","v":56},"m","±",{"$f":"IF(I317=1,H317*10^RANDBETWEEN(IF(Worksheet!$D$14,-1,0),0),IF(I317=2,H317*10^RANDBETWEEN(RANDBETWEEN(0,1),1),CHOOSE(RANDBETWEEN(1,3),5,10,20)))","v":0.60000000000000009},{"$f":"IF(I317=1,D317,IF(I317=3,\"%\",\"cm\"))","v":"m"},{"$f":"RANDBETWEEN(1,MIN(9,C317))","v":6},{"$f":"IF(AND(Worksheet!$D$12,RAND()<0.2),3,IF(RAND()<Worksheet!$D$10/100,1,2))","v":1},{"$f":"IF(I317=1,F317,IF(I317=2,F317/100,IF(I317=3,F317/100*C317,\"\")))","v":0.60000000000000009},{"$f":"CONCATENATE(\" \",D317)","v":" m"},{"$f":"IF(I317=1,F317*100,IF(I317=2,F317,IF(I317=3,F317/100*C317*100,\"\")))","v":60.000000000000007},"cm"]
[{"$f":"IF(COUNTIF($B$1:B318,TRUE)=COUNTIF($B$1:B317,TRUE),\"\",COUNTIF($B$1:B318,TRUE))","v":248},{"$f":"Worksheet!$B$24","v":true},{"$f":"RANDBETWEEN(5,RANDBETWEEN(5,Worksheet!$D$8))","v":20},"km","±",{"$f":"IF(I318=1,H318*10^RANDBETWEEN(IF(Worksheet!$D$14,-1,0),0),IF(I318=2,H318*10^RANDBETWEEN(RANDBETWEEN(0,2),2),CHOOSE(RANDBETWEEN(1,3),5,10,20)))","v":5},{"$f":"IF(I318=1,D318,IF(I318=3,\"%\",\"m\"))","v":"%"},6,{"$f":"IF(AND(Worksheet!$D$12,RAND()<0.2),3,IF(RAND()<Worksheet!$D$10/100,1,2))","v":3},{"$f":"IF(I318=1,F318,IF(I318=2,F318/1000,IF(I318=3,F318/100*C318,\"\")))","v":1}," km",{"$f":"IF(I318=1,F318*1000,IF(I318=2,F318,IF(I318=3,F318/100*C318*1000,\"\")))","v":1000},"m"]
[{"$f":"IF(COUNTIF($B$1:B319,TRUE)=COUNTIF($B$1:B318,TRUE),\"\",COUNTIF($B$1:B319,TRUE))","v":""},{"$f":"Worksheet!$B$26","v":false},{"$f":"RANDBETWEEN(5,RANDBETWEEN(5,Worksheet!$D$8))","v":39},"m","±",{"$f":"IF(I319=1,H319*10^RANDBETWEEN(IF(Worksheet!$D$14,-1,0),0),IF(I319=2,H319*10^RANDBETWEEN(RANDBETWEEN(0,2),2),CHOOSE(RANDBETWEEN(1,3),5,10,20)))","v":10},{"$f":"IF(I319=1,D319,IF(I319=3,\"%\",\"mm\"))","v":"mm"},1,{"$f":"IF(AND(Worksheet!$D$12,RAND()<0.2),3,IF(RAND()<Worksheet!$D$10/100,1,2))","v":2},0.01," m",10,"mm"]
[{"$f":"IF(COUNTIF($B$1:B320,TRUE)=COUNTIF($B$1:B319,TRUE),\"\",COUNTIF($B$1:B320,TRUE))","v":249},{"$f":"Worksheet!$D$20","v":true},{"$f":"RANDBETWEEN(5,RANDBETWEEN(5,Worksheet!$D$8))","v":30},"kg","±",{"$f":"IF(I320=1,H320*10^RANDBETWEEN(IF(Worksheet!$D$14,-1,0),0),IF(I320=2,H320*10^RANDBETWEEN(RANDBETWEEN(0,2),2),CHOOSE(RANDBETWEEN(1,3),5,10,20)))","v":0.30000000000000004},{"$f":"IF(I320=1,D320,IF(I320=3,\"%\",\"g\"))","v":"kg"},{"$f":"RANDBETWEEN(1,MIN(9,C320))","v":3},{"$f":"IF(AND(Worksheet!$D$12,RAND()<0.2),3,IF(RAND()<Worksheet!$D$10/100,1,2))","v":1},0.30000000000000004,{"$f":"CONCATENATE(\" \",D320)","v":" kg"},300.00000000000006,"g"]
[{"$f":"IF(COUNTIF($B$1:B321,TRUE)=COUNTIF($B$1:B320,TRUE),\"\",COUNTIF($B$1:B321,TRUE))","v":250},{"$f":"Worksheet!$D$22","v":true},{"$f":"RANDBETWEEN(5,RANDBETWEEN(5,Worksheet!$D$8))","v":59},"tonnes","±",{"$f":"IF(I321=1,H321*10^RANDBETWEEN(IF(Worksheet!$D$14,-1,0),0),IF(I321=2,H321*10^RANDBETWEEN(RANDBETWEEN(0,2),2),CHOOSE(RANDBETWEEN(1,3),5,10,20)))","v":1},{"$f":"IF(I321=1,D321,IF(I321=3,\"%\",\"kg\"))","v":"tonnes"},{"$f":"RANDBETWEEN(1,MIN(9,C321))","v":1},{"$f":"IF(AND(Worksheet!$D$12,RAND()<0.2),3,IF(RAND()<Worksheet!$D$10/100,1,2))","v":1},1,{"$f":"CONCATENATE(\" \",D321)","v":" tonnes"},1000,"kg"]
[{"$f":"IF(COUNTIF($B$1:B322,TRUE)=COUNTIF($B$1:B321,TRUE),\"\",COUNTIF($B$1:B322,TRUE))","v":251},{"$f":"Worksheet!$D$24","v":true},{"$f":"RANDBETWEEN(5,RANDBETWEEN(5,Worksheet!$D$8))","v":60},"litres","±",{"$f":"IF(I322=1,H322*10^RANDBETWEEN(IF(Worksheet!$D$14,-1,0),0),IF(I322=2,H322*10^RANDBETWEEN(RANDBETWEEN(0,2),2),CHOOSE(RANDBETWEEN(1,3),5,10,20)))","v":0.2},{"$f":"IF(I322=1,D322,IF(I322=3,\"%\",\"ml\"))","v":"litres"},{"$f":"RANDBETWEEN(1,MIN(9,C322))","v":2},{"$f":"IF(AND(Worksheet!$D$12,RAND()<0.2),3,IF(RAND()<Worksheet!$D$10/100,1,2))","v":1},0.2,{"$f":"CONCATENATE(\" \",D322)","v":" litres"},200,"ml"]
[{"$f":"IF(COUNTIF($B$1:B323,TRUE)=COUNTIF($B$1:B322,TRUE),\"\",COUNTIF($B$1:B323,TRUE))","v":""},{"$f":"Worksheet!$D$26","v":false},{"$f":"RANDBETWEEN(5,RANDBETWEEN(5,Worksheet!$D$8))","v":6},"litres","±",{"$f":"IF(I323=1,H323*10^RANDBETWEEN(IF(Worksheet!$D$14,-1,0),0),IF(I323=2,H323*10^RANDBETWEEN(RANDBETWEEN(0,2),2),CHOOSE(RANDBETWEEN(1,3),5,10,20)))","v":6},{"$f":"IF(I323=1,D323,IF(I323=3,\"%\",\"cm³\"))","v":"litres"},{"$f":"RANDBETWEEN(1,MIN(9,C323))","v":6},{"$f":"IF(AND(Worksheet!$D$12,RAND()<0.2),3,IF(RAND()<Worksheet!$D$10/100,1,2))","v":1},6,{"$f":"CONCATENATE(\" \",D323)","v":" litres"},6000,"cm³"]
[{"$f":"IF(COUNTIF($B$1:B324,TRUE)=COUNTIF($B$1:B324,TRUE),\"\",COUNTIF($B$1:B324,TRUE))","v":""},{"$f":"Worksheet!$B$28","v":true},{"$f":"RANDBETWEEN(5,20)","v":14},"°C","±",{"$f":"IF(I324=1,H324*10^RANDBETWEEN(IF(Worksheet!$D$14,-1,0),0),IF(I324=2,H324,CHOOSE(RANDBETWEEN(1,3),5,10,20)))","v":0.4},{"$f":"IF(I324=1,D324,IF(I324=3,\"%\",\"sec\"))","v":"°C"},{"$f":"RANDBETWEEN(1,MIN(9,C324))","v":4},{"$f":"IF(AND(Worksheet!$D$12,RAND()<0),3,IF(RAND()<Worksheet!$D$10/100,1,2))","v":1},{"$f":"IF(I324=1,F324,IF(I324=2,F324,IF(I324=3,F324/100*C324,\"\")))","v":0.4},{"$f":"CONCATENATE(\" \",D324)","v":" °C"},{"$f":"IF(I324=1,F324,IF(I324=2,F324,IF(I324=3,F324/100*C324,\"\")))","v":0.4}," °C"]
[{"$f":"COUNTIF($B$1:B325,TRUE)","v":253},{"$f":"Worksheet!$B$20","v":true},{"$f":"RANDBETWEEN(5,RANDBETWEEN(5,Worksheet!$D$8))","v":128},"cm","±",{"$f":"IF(I325=1,H325*10^RANDBETWEEN(IF(Worksheet!$D$14,-1,0),0),IF(I325=2,H325,CHOOSE(RANDBETWEEN(1,3),5,10,20)))","v":0.30000000000000004},{"$f":"IF(I325=1,D325,IF(I325=3,\"%\",\"mm\"))","v":"cm"},{"$f":"RANDBETWEEN(1,MIN(9,C325))","v":3},{"$f":"IF(AND(Worksheet!$D$12,RAND()<0.2),3,IF(RAND()<Worksheet!$D$10/100,1,2))","v":1},{"$f":"IF(I325=1,F325,IF(I325=2,F325/10,IF(I325=3,F325/100*C325,\"\")))","v":0.30000000000000004},{"$f":"CONCATENATE(\" \",D325)","v":" cm"},{"$f":"IF(I325=1,F325*10,IF(I325=2,F325,IF(I325=3,F325/100*C325*10,\"\")))","v":3.0000000000000004},"mm"]
[{"$f":"IF(COUNTIF($B$1:B326,TRUE)=COUNTIF($B$1:B325,TRUE),\"\",COUNTIF($B$1:B326,TRUE))","v":254},{"$f":"Worksheet!$B$22","v":true},{"$f":"RANDBETWEEN(5,RANDBETWEEN(5,Worksheet!$D$8))","v":47},"m","±",{"$f":"IF(I326=1,H326*10^RANDBETWEEN(IF(Worksheet!$D$14,-1,0),0),IF(I326=2,H326*10^RANDBETWEEN(RANDBETWEEN(0,1),1),CHOOSE(RANDBETWEEN(1,3),5,10,20)))","v":7},{"$f":"IF(I326=1,D326,IF(I326=3,\"%\",\"cm\"))","v":"m"},{"$f":"RANDBETWEEN(1,MIN(9,C326))","v":7},{"$f":"IF(AND(Worksheet!$D$12,RAND()<0.2),3,IF(RAND()<Worksheet!$D$10/100,1,2))","v":1},{"$f":"IF(I326=1,F326,IF(I326=2,F326/100,IF(I326=3,F326/100*C326,\"\")))","v":7},{"$f":"CONCATENATE(\" \",D326)","v":" m"},{"$f":"IF(I326=1,F326*100,IF(I326=2,F326,IF(I326=3,F326/100*C326*100,\"\")))","v":700},"cm"]
[{"$f":"IF(COUNTIF($B$1:B327,TRUE)=COUNTIF($B$1:B326,TRUE),\"\",COUNTIF($B$1:B327,TRUE))","v":255},{"$f":"Worksheet!$B$24","v":true},{"$f":"RANDBETWEEN(5,RANDBETWEEN(5,Worksheet!$D$8))","v":77},"km","±",{"$f":"IF(I327=1,H327*10^RANDBETWEEN(IF(Worksheet!$D$14,-1,0),0),IF(I327=2,H327*10^RANDBETWEEN(RANDBETWEEN(0,2),2),CHOOSE(RANDBETWEEN(1,3),5,10,20)))","v":0.1},{"$f":"IF(I327=1,D327,IF(I327=3,\"%\",\"m\"))","v":"km"},1,{"$f":"IF(AND(Worksheet!$D$12,RAND()<0.2),3,IF(RAND()<Worksheet!$D$10/100,1,2))","v":1},{"$f":"IF(I327=1,F327,IF(I327=2,F327/1000,IF(I327=3,F327/100*C327,\"\")))","v":0.1}," km",{"$f":"IF(I327=1,F327*1000,IF(I327=2,F327,IF(I327=3,F327/100*C327*1000,\"\")))","v":100},"m"]
[{"$f":"IF(COUNTIF($B$1:B328,TRUE)=COUNTIF($B$1:B327,TRUE),\"\",COUNTIF($B$1:B328,TRUE))","v":""},{"$f":"Worksheet!$B$26","v":false},{"$f":"RANDBETWEEN(5,RANDBETWEEN(5,Worksheet!$D$8))","v":105},"m","±",{"$f":"IF(I328=1,H328*10^RANDBETWEEN(IF(Worksheet!$D$14,-1,0),0),IF(I328=2,H328*10^RANDBETWEEN(RANDBETWEEN(0,2),2),CHOOSE(RANDBETWEEN(1,3),5,10,20)))","v":1},{"$f":"IF(I328=1,D328,IF(I328=3,\"%\",\"mm\"))","v":"m"},1,{"$f":"IF(AND(Worksheet!$D$12,RAND()<0.2),3,IF(RAND()<Worksheet!$D$10/100,1,2))","v":1},1," m",1000,"mm"]
[{"$f":"IF(COUNTIF($B$1:B329,TRUE)=COUNTIF($B$1:B328,TRUE),\"\",COUNTIF($B$1:B329,TRUE))","v":256},{"$f":"Worksheet!$D$20","v":true},{"$f":"RANDBETWEEN(5,RANDBETWEEN(5,Worksheet!$D$8))","v":7},"kg","±",{"$f":"IF(I329=1,H329*10^RANDBETWEEN(IF(Worksheet!$D$14,-1,0),0),IF(I329=2,H329*10^RANDBETWEEN(RANDBETWEEN(0,2),2),CHOOSE(RANDBETWEEN(1,3),5,10,20)))","v":0.5},{"$f":"IF(I329=1,D329,IF(I329=3,\"%\",\"g\"))","v":"kg"},{"$f":"RANDBETWEEN(1,MIN(9,C329))","v":5},{"$f":"IF(AND(Worksheet!$D$12,RAND()<0.2),3,IF(RAND()<Worksheet!$D$10/100,1,2))","v":1},0.5,{"$f":"CONCATENATE(\" \",D329)","v":" kg"},500,"g"]
[{"$f":"IF(COUNTIF($B$1:B330,TRUE)=COUNTIF($B$1:B329,TRUE),\"\",COUNTIF($B$1:B330,TRUE))","v":257},{"$f":"Worksheet!$D$22","v":true},{"$f":"RANDBETWEEN(5,RANDBETWEEN(5,Worksheet!$D$8))","v":77},"tonnes","±",{"$f":"IF(I330=1,H330*10^RANDBETWEEN(IF(Worksheet!$D$14,-1,0),0),IF(I330=2,H330*10^RANDBETWEEN(RANDBETWEEN(0,2),2),CHOOSE(RANDBETWEEN(1,3),5,10,20)))","v":5},{"$f":"IF(I330=1,D330,IF(I330=3,\"%\",\"kg\"))","v":"%"},{"$f":"RANDBETWEEN(1,MIN(9,C330))","v":6},{"$f":"IF(AND(Worksheet!$D$12,RAND()<0.2),3,IF(RAND()<Worksheet!$D$10/100,1,2))","v":3},3.85,{"$f":"CONCATENATE(\" \",D330)","v":" tonnes"},3850,"kg"]
[{"$f":"IF(COUNTIF($B$1:B331,TRUE)=COUNTIF($B$1:B330,TRUE),\"\",COUNTIF($B$1:B331,TRUE))","v":258},{"$f":"Worksheet!$D$24","v":true},{"$f":"RANDBETWEEN(5,RANDBETWEEN(5,Worksheet!$D$8))","v":29},"litres","±",{"$f":"IF(I331=1,H331*10^RANDBETWEEN(IF(Worksheet!$D$14,-1,0),0),IF(I331=2,H331*10^RANDBETWEEN(RANDBETWEEN(0,2),2),CHOOSE(RANDBETWEEN(1,3),5,10,20)))","v":500},{"$f":"IF(I331=1,D331,IF(I331=3,\"%\",\"ml\"))","v":"ml"},{"$f":"RANDBETWEEN(1,MIN(9,C331))","v":5},{"$f":"IF(AND(Worksheet!$D$12,RAND()<0.2),3,IF(RAND()<Worksheet!$D$10/100,1,2))","v":2},0.5,{"$f":"CONCATENATE(\" \",D331)","v":" litres"},500,"ml"]
[{"$f":"IF(COUNTIF($B$1:B332,TRUE)=COUNTIF($B$1:B331,TRUE),\"\",COUNTIF($B$1:B332,TRUE))","v":""},{"$f":"Worksheet!$D$26","v":false},{"$f":"RANDBETWEEN(5,RANDBETWEEN(5,Worksheet!$D$8))","v":68},"litres","±",{"$f":"IF(I332=1,H332*10^RANDBETWEEN(IF(Worksheet!$D$14,-1,0),0),IF(I332=2,H332*10^RANDBETWEEN(RANDBETWEEN(0,2),2),CHOOSE(RANDBETWEEN(1,3),5,10,20)))","v":0.4},{"$f":"IF(I332=1,D332,IF(I332=3,\"%\",\"cm³\"))","v":"litres"},{"$f":"RANDBETWEEN(1,MIN(9,C332))","v":4},{"$f":"IF(AND(Worksheet!$D$12,RAND()<0.2),3,IF(RAND()<Worksheet!$D$10/100,1,2))","v":1},0.4,{"$f":"CONCATENATE(\" \",D332)","v":" litres"},400,"cm³"]
[{"$f":"IF(COUNTIF($B$1:B333,TRUE)=COUNTIF($B$1:B333,TRUE),\"\",COUNTIF($B$1:B333,TRUE))","v":""},{"$f":"Worksheet!$B$28","v":true},{"$f":"RANDBETWEEN(5,20)","v":16},"°C","±",{"$f":"IF(I333=1,H333*10^RANDBETWEEN(IF(Worksheet!$D$14,-1,0),0),IF(I333=2,H333,CHOOSE(RANDBETWEEN(1,3),5,10,20)))","v":1},{"$f":"IF(I333=1,D333,IF(I333=3,\"%\",\"sec\"))","v":"sec"},{"$f":"RANDBETWEEN(1,MIN(9,C333))","v":1},{"$f":"IF(AND(Worksheet!$D$12,RAND()<0),3,IF(RAND()<Worksheet!$D$10/100,1,2))","v":2},{"$f":"IF(I333=1,F333,IF(I333=2,F333,IF(I333=3,F333/100*C333,\"\")))","v":1},{"$f":"CONCATENATE(\" \",D333)","v":" °C"},{"$f":"IF(I333=1,F333,IF(I333=2,F333,IF(I333=3,F333/100*C333,\"\")))","v":1}," °C"]
[{"$f":"COUNTIF($B$1:B334,TRUE)","v":260},{"$f":"Worksheet!$B$20","v":true},{"$f":"RANDBETWEEN(5,RANDBETWEEN(5,Worksheet!$D$8))","v":155},"cm","±",{"$f":"IF(I334=1,H334*10^RANDBETWEEN(IF(Worksheet!$D$14,-1,0),0),IF(I334=2,H334,CHOOSE(RANDBETWEEN(1,3),5,10,20)))","v":4},{"$f":"IF(I334=1,D334,IF(I334=3,\"%\",\"mm\"))","v":"cm"},{"$f":"RANDBETWEEN(1,MIN(9,C334))","v":4},{"$f":"IF(AND(Worksheet!$D$12,RAND()<0.2),3,IF(RAND()<Worksheet!$D$10/100,1,2))","v":1},{"$f":"IF(I334=1,F334,IF(I334=2,F334/10,IF(I334=3,F334/100*C334,\"\")))","v":4},{"$f":"CONCATENATE(\" \",D334)","v":" cm"},{"$f":"IF(I334=1,F334*10,IF(I334=2,F334,IF(I334=3,F334/100*C334*10,\"\")))","v":40},"mm"]
[{"$f":"IF(COUNTIF($B$1:B335,TRUE)=COUNTIF($B$1:B334,TRUE),\"\",COUNTIF($B$1:B335,TRUE))","v":261},{"$f":"Worksheet!$B$22","v":true},{"$f":"RANDBETWEEN(5,RANDBETWEEN(5,Worksheet!$D$8))","v":10},"m","±",{"$f":"IF(I335=1,H335*10^RANDBETWEEN(IF(Worksheet!$D$14,-1,0),0),IF(I335=2,H335*10^RANDBETWEEN(RANDBETWEEN(0,1),1),CHOOSE(RANDBETWEEN(1,3),5,10,20)))","v":0.70000000000000007},{"$f":"IF(I335=1,D335,IF(I335=3,\"%\",\"cm\"))","v":"m"},{"$f":"RANDBETWEEN(1,MIN(9,C335))","v":7},{"$f":"IF(AND(Worksheet!$D$12,RAND()<0.2),3,IF(RAND()<Worksheet!$D$10/100,1,2))","v":1},{"$f":"IF(I335=1,F335,IF(I335=2,F335/100,IF(I335=3,F335/100*C335,\"\")))","v":0.70000000000000007},{"$f":"CONCATENATE(\" \",D335)","v":" m"},{"$f":"IF(I335=1,F335*100,IF(I335=2,F335,IF(I335=3,F335/100*C335*100,\"\")))","v":70},"cm"]
[{"$f":"IF(COUNTIF($B$1:B336,TRUE)=COUNTIF($B$1:B335,TRUE),\"\",COUNTIF($B$1:B336,TRUE))","v":262},{"$f":"Worksheet!$B$24","v":true},{"$f":"RANDBETWEEN(5,RANDBETWEEN(5,Worksheet!$D$8))","v":12},"km","±",{"$f":"IF(I336=1,H336*10^RANDBETWEEN(IF(Worksheet!$D$14,-1,0),0),IF(I336=2,H336*10^RANDBETWEEN(RANDBETWEEN(0,2),2),CHOOSE(RANDBETWEEN(1,3),5,10,20)))","v":600},{"$f":"IF(I336=1,D336,IF(I336=3,\"%\",\"m\"))","v":"m"},6,{"$f":"IF(AND(Worksheet!$D$12,RAND()<0.2),3,IF(RAND()<Worksheet!$D$10/100,1,2))","v":2},{"$f":"IF(I336=1,F336,IF(I336=2,F336/1000,IF(I336=3,F336/100*C336,\"\")))","v":0.6}," km",{"$f":"IF(I336=1,F336*1000,IF(I336=2,F336,IF(I336=3,F336/100*C336*1000,\"\")))","v":600},"m"]
[{"$f":"IF(COUNTIF($B$1:B337,TRUE)=COUNTIF($B$1:B336,TRUE),\"\",COUNTIF($B$1:B337,TRUE))","v":""},{"$f":"Worksheet!$B$26","v":false},{"$f":"RANDBETWEEN(5,RANDBETWEEN(5,Worksheet!$D$8))","v":26},"m","±",{"$f":"IF(I337=1,H337*10^RANDBETWEEN(IF(Worksheet!$D$14,-1,0),0),IF(I337=2,H337*10^RANDBETWEEN(RANDBETWEEN(0,2),2),CHOOSE(RANDBETWEEN(1,3),5,10,20)))","v":0.70000000000000007},{"$f":"IF(I337=1,D337,IF(I337=3,\"%\",\"mm\"))","v":"m"},7,{"$f":"IF(AND(Worksheet!$D$12,RAND()<0.2),3,IF(RAND()<Worksheet!$D$10/100,1,2))","v":1},0.70000000000000007," m",700.00000000000011,"mm"]
[{"$f":"IF(COUNTIF($B$1:B338,TRUE)=COUNTIF($B$1:B337,TRUE),\"\",COUNTIF($B$1:B338,TRUE))","v":263},{"$f":"Worksheet!$D$20","v":true},{"$f":"RANDBETWEEN(5,RANDBETWEEN(5,Worksheet!$D$8))","v":82},"kg","±",{"$f":"IF(I338=1,H338*10^RANDBETWEEN(IF(Worksheet!$D$14,-1,0),0),IF(I338=2,H338*10^RANDBETWEEN(RANDBETWEEN(0,2),2),CHOOSE(RANDBETWEEN(1,3),5,10,20)))","v":5},{"$f":"IF(I338=1,D338,IF(I338=3,\"%\",\"g\"))","v":"%"},{"$f":"RANDBETWEEN(1,MIN(9,C338))","v":6},{"$f":"IF(AND(Worksheet!$D$12,RAND()<0.2),3,IF(RAND()<Worksheet!$D$10/100,1,2))","v":3},4.1000000000000005,{"$f":"CONCATENATE(\" \",D338)","v":" kg"},4100.0000000000009,"g"]
[{"$f":"IF(COUNTIF($B$1:B339,TRUE)=COUNTIF($B$1:B338,TRUE),\"\",COUNTIF($B$1:B339,TRUE))","v":264},{"$f":"Worksheet!$D$22","v":true},{"$f":"RANDBETWEEN(5,RANDBETWEEN(5,Worksheet!$D$8))","v":64},"tonnes","±",{"$f":"IF(I339=1,H339*10^RANDBETWEEN(IF(Worksheet!$D$14,-1,0),0),IF(I339=2,H339*10^RANDBETWEEN(RANDBETWEEN(0,2),2),CHOOSE(RANDBETWEEN(1,3),5,10,20)))","v":3},{"$f":"IF(I339=1,D339,IF(I339=3,\"%\",\"kg\"))","v":"tonnes"},{"$f":"RANDBETWEEN(1,MIN(9,C339))","v":3},{"$f":"IF(AND(Worksheet!$D$12,RAND()<0.2),3,IF(RAND()<Worksheet!$D$10/100,1,2))","v":1},3,{"$f":"CONCATENATE(\" \",D339)","v":" tonnes"},3000,"kg"]
[{"$f":"IF(COUNTIF($B$1:B340,TRUE)=COUNTIF($B$1:B339,TRUE),\"\",COUNTIF($B$1:B340,TRUE))","v":265},{"$f":"Worksheet!$D$24","v":true},{"$f":"RANDBETWEEN(5,RANDBETWEEN(5,Worksheet!$D$8))","v":45},"litres","±",{"$f":"IF(I340=1,H340*10^RANDBETWEEN(IF(Worksheet!$D$14,-1,0),0),IF(I340=2,H340*10^RANDBETWEEN(RANDBETWEEN(0,2),2),CHOOSE(RANDBETWEEN(1,3),5,10,20)))","v":10},{"$f":"IF(I340=1,D340,IF(I340=3,\"%\",\"ml\"))","v":"ml"},{"$f":"RANDBETWEEN(1,MIN(9,C340))","v":1},{"$f":"IF(AND(Worksheet!$D$12,RAND()<0.2),3,IF(RAND()<Worksheet!$D$10/100,1,2))","v":2},0.01,{"$f":"CONCATENATE(\" \",D340)","v":" litres"},10,"ml"]
[{"$f":"IF(COUNTIF($B$1:B341,TRUE)=COUNTIF($B$1:B340,TRUE),\"\",COUNTIF($B$1:B341,TRUE))","v":""},{"$f":"Worksheet!$D$26","v":false},{"$f":"RANDBETWEEN(5,RANDBETWEEN(5,Worksheet!$D$8))","v":72},"litres","±",{"$f":"IF(I341=1,H341*10^RANDBETWEEN(IF(Worksheet!$D$14,-1,0),0),IF(I341=2,H341*10^RANDBETWEEN(RANDBETWEEN(0,2),2),CHOOSE(RANDBETWEEN(1,3),5,10,20)))","v":7},{"$f":"IF(I341=1,D341,IF(I341=3,\"%\",\"cm³\"))","v":"litres"},{"$f":"RANDBETWEEN(1,MIN(9,C341))","v":7},{"$f":"IF(AND(Worksheet!$D$12,RAND()<0.2),3,IF(RAND()<Worksheet!$D$10/100,1,2))","v":1},7,{"$f":"CONCATENATE(\" \",D341)","v":" litres"},7000,"cm³"]
[{"$f":"IF(COUNTIF($B$1:B342,TRUE)=COUNTIF($B$1:B342,TRUE),\"\",COUNTIF($B$1:B342,TRUE))","v":""},{"$f":"Worksheet!$B$28","v":true},{"$f":"RANDBETWEEN(5,20)","v":17},"°C","±",{"$f":"IF(I342=1,H342*10^RANDBETWEEN(IF(Worksheet!$D$14,-1,0),0),IF(I342=2,H342,CHOOSE(RANDBETWEEN(1,3),5,10,20)))","v":0.8},{"$f":"IF(I342=1,D342,IF(I342=3,\"%\",\"sec\"))","v":"°C"},{"$f":"RANDBETWEEN(1,MIN(9,C342))","v":8},{"$f":"IF(AND(Worksheet!$D$12,RAND()<0),3,IF(RAND()<Worksheet!$D$10/100,1,2))","v":1},{"$f":"IF(I342=1,F342,IF(I342=2,F342,IF(I342=3,F342/100*C342,\"\")))","v":0.8},{"$f":"CONCATENATE(\" \",D342)","v":" °C"},{"$f":"IF(I342=1,F342,IF(I342=2,F342,IF(I342=3,F342/100*C342,\"\")))","v":0.8}," °C"]
[{"$f":"COUNTIF($B$1:B343,TRUE)","v":267},{"$f":"Worksheet!$B$20","v":true},{"$f":"RANDBETWEEN(5,RANDBETWEEN(5,Worksheet!$D$8))","v":69},"cm","±",{"$f":"IF(I343=1,H343*10^RANDBETWEEN(IF(Worksheet!$D$14,-1,0),0),IF(I343=2,H343,CHOOSE(RANDBETWEEN(1,3),5,10,20)))","v":2},{"$f":"IF(I343=1,D343,IF(I343=3,\"%\",\"mm\"))","v":"cm"},{"$f":"RANDBETWEEN(1,MIN(9,C343))","v":2},{"$f":"IF(AND(Worksheet!$D$12,RAND()<0.2),3,IF(RAND()<Worksheet!$D$10/100,1,2))","v":1},{"$f":"IF(I343=1,F343,IF(I343=2,F343/10,IF(I343=3,F343/100*C343,\"\")))","v":2},{"$f":"CONCATENATE(\" \",D343)","v":" cm"},{"$f":"IF(I343=1,F343*10,IF(I343=2,F343,IF(I343=3,F343/100*C343*10,\"\")))","v":20},"mm"]
[{"$f":"IF(COUNTIF($B$1:B344,TRUE)=COUNTIF($B$1:B343,TRUE),\"\",COUNTIF($B$1:B344,TRUE))","v":268},{"$f":"Worksheet!$B$22","v":true},{"$f":"RANDBETWEEN(5,RANDBETWEEN(5,Worksheet!$D$8))","v":26},"m","±",{"$f":"IF(I344=1,H344*10^RANDBETWEEN(IF(Worksheet!$D$14,-1,0),0),IF(I344=2,H344*10^RANDBETWEEN(RANDBETWEEN(0,1),1),CHOOSE(RANDBETWEEN(1,3),5,10,20)))","v":5},{"$f":"IF(I344=1,D344,IF(I344=3,\"%\",\"cm\"))","v":"%"},{"$f":"RANDBETWEEN(1,MIN(9,C344))","v":6},{"$f":"IF(AND(Worksheet!$D$12,RAND()<0.2),3,IF(RAND()<Worksheet!$D$10/100,1,2))","v":3},{"$f":"IF(I344=1,F344,IF(I344=2,F344/100,IF(I344=3,F344/100*C344,\"\")))","v":1.3},{"$f":"CONCATENATE(\" \",D344)","v":" m"},{"$f":"IF(I344=1,F344*100,IF(I344=2,F344,IF(I344=3,F344/100*C344*100,\"\")))","v":130},"cm"]
[{"$f":"IF(COUNTIF($B$1:B345,TRUE)=COUNTIF($B$1:B344,TRUE),\"\",COUNTIF($B$1:B345,TRUE))","v":269},{"$f":"Worksheet!$B$24","v":true},{"$f":"RANDBETWEEN(5,RANDBETWEEN(5,Worksheet!$D$8))","v":34},"km","±",{"$f":"IF(I345=1,H345*10^RANDBETWEEN(IF(Worksheet!$D$14,-1,0),0),IF(I345=2,H345*10^RANDBETWEEN(RANDBETWEEN(0,2),2),CHOOSE(RANDBETWEEN(1,3),5,10,20)))","v":30},{"$f":"IF(I345=1,D345,IF(I345=3,\"%\",\"m\"))","v":"m"},3,{"$f":"IF(AND(Worksheet!$D$12,RAND()<0.2),3,IF(RAND()<Worksheet!$D$10/100,1,2))","v":2},{"$f":"IF(I345=1,F345,IF(I345=2,F345/1000,IF(I345=3,F345/100*C345,\"\")))","v":0.03}," km",{"$f":"IF(I345=1,F345*1000,IF(I345=2,F345,IF(I345=3,F345/100*C345*1000,\"\")))","v":30},"m"]
[{"$f":"IF(COUNTIF($B$1:B346,TRUE)=COUNTIF($B$1:B345,TRUE),\"\",COUNTIF($B$1:B346,TRUE))","v":""},{"$f":"Worksheet!$B$26","v":false},{"$f":"RANDBETWEEN(5,RANDBETWEEN(5,Worksheet!$D$8))","v":96},"m","±",{"$f":"IF(I346=1,H346*10^RANDBETWEEN(IF(Worksheet!$D$14,-1,0),0),IF(I346=2,H346*10^RANDBETWEEN(RANDBETWEEN(0,2),2),CHOOSE(RANDBETWEEN(1,3),5,10,20)))","v":5},{"$f":"IF(I346=1,D346,IF(I346=3,\"%\",\"mm\"))","v":"%"},6,{"$f":"IF(AND(Worksheet!$D$12,RAND()<0.2),3,IF(RAND()<Worksheet!$D$10/100,1,2))","v":3},4.8000000000000007," m",4800.0000000000009,"mm"]
[{"$f":"IF(COUNTIF($B$1:B347,TRUE)=COUNTIF($B$1:B346,TRUE),\"\",COUNTIF($B$1:B347,TRUE))","v":270},{"$f":"Worksheet!$D$20","v":true},{"$f":"RANDBETWEEN(5,RANDBETWEEN(5,Worksheet!$D$8))","v":7},"kg","±",{"$f":"IF(I347=1,H347*10^RANDBETWEEN(IF(Worksheet!$D$14,-1,0),0),IF(I347=2,H347*10^RANDBETWEEN(RANDBETWEEN(0,2),2),CHOOSE(RANDBETWEEN(1,3),5,10,20)))","v":0.30000000000000004},{"$f":"IF(I347=1,D347,IF(I347=3,\"%\",\"g\"))","v":"kg"},{"$f":"RANDBETWEEN(1,MIN(9,C347))","v":3},{"$f":"IF(AND(Worksheet!$D$12,RAND()<0.2),3,IF(RAND()<Worksheet!$D$10/100,1,2))","v":1},0.30000000000000004,{"$f":"CONCATENATE(\" \",D347)","v":" kg"},300.00000000000006,"g"]
[{"$f":"IF(COUNTIF($B$1:B348,TRUE)=COUNTIF($B$1:B347,TRUE),\"\",COUNTIF($B$1:B348,TRUE))","v":271},{"$f":"Worksheet!$D$22","v":true},{"$f":"RANDBETWEEN(5,RANDBETWEEN(5,Worksheet!$D$8))","v":97},"tonnes","±",{"$f":"IF(I348=1,H348*10^RANDBETWEEN(IF(Worksheet!$D$14,-1,0),0),IF(I348=2,H348*10^RANDBETWEEN(RANDBETWEEN(0,2),2),CHOOSE(RANDBETWEEN(1,3),5,10,20)))","v":60},{"$f":"IF(I348=1,D348,IF(I348=3,\"%\",\"kg\"))","v":"kg"},{"$f":"RANDBETWEEN(1,MIN(9,C348))","v":6},{"$f":"IF(AND(Worksheet!$D$12,RAND()<0.2),3,IF(RAND()<Worksheet!$D$10/100,1,2))","v":2},0.06,{"$f":"CONCATENATE(\" \",D348)","v":" tonnes"},60,"kg"]
[{"$f":"IF(COUNTIF($B$1:B349,TRUE)=COUNTIF($B$1:B348,TRUE),\"\",COUNTIF($B$1:B349,TRUE))","v":272},{"$f":"Worksheet!$D$24","v":true},{"$f":"RANDBETWEEN(5,RANDBETWEEN(5,Worksheet!$D$8))","v":11},"litres","±",{"$f":"IF(I349=1,H349*10^RANDBETWEEN(IF(Worksheet!$D$14,-1,0),0),IF(I349=2,H349*10^RANDBETWEEN(RANDBETWEEN(0,2),2),CHOOSE(RANDBETWEEN(1,3),5,10,20)))","v":9},{"$f":"IF(I349=1,D349,IF(I349=3,\"%\",\"ml\"))","v":"litres"},{"$f":"RANDBETWEEN(1,MIN(9,C349))","v":9},{"$f":"IF(AND(Worksheet!$D$12,RAND()<0.2),3,IF(RAND()<Worksheet!$D$10/100,1,2))","v":1},9,{"$f":"CONCATENATE(\" \",D349)","v":" litres"},9000,"ml"]
[{"$f":"IF(COUNTIF($B$1:B350,TRUE)=COUNTIF($B$1:B349,TRUE),\"\",COUNTIF($B$1:B350,TRUE))","v":""},{"$f":"Worksheet!$D$26","v":false},{"$f":"RANDBETWEEN(5,RANDBETWEEN(5,Worksheet!$D$8))","v":124},"litres","±",{"$f":"IF(I350=1,H350*10^RANDBETWEEN(IF(Worksheet!$D$14,-1,0),0),IF(I350=2,H350*10^RANDBETWEEN(RANDBETWEEN(0,2),2),CHOOSE(RANDBETWEEN(1,3),5,10,20)))","v":2},{"$f":"IF(I350=1,D350,IF(I350=3,\"%\",\"cm³\"))","v":"cm³"},{"$f":"RANDBETWEEN(1,MIN(9,C350))","v":2},{"$f":"IF(AND(Worksheet!$D$12,RAND()<0.2),3,IF(RAND()<Worksheet!$D$10/100,1,2))","v":2},2E-3,{"$f":"CONCATENATE(\" \",D350)","v":" litres"},2,"cm³"]
[{"$f":"IF(COUNTIF($B$1:B351,TRUE)=COUNTIF($B$1:B351,TRUE),\"\",COUNTIF($B$1:B351,TRUE))","v":""},{"$f":"Worksheet!$B$28","v":true},{"$f":"RANDBETWEEN(5,20)","v":8},"°C","±",{"$f":"IF(I351=1,H351*10^RANDBETWEEN(IF(Worksheet!$D$14,-1,0),0),IF(I351=2,H351,CHOOSE(RANDBETWEEN(1,3),5,10,20)))","v":2},{"$f":"IF(I351=1,D351,IF(I351=3,\"%\",\"sec\"))","v":"°C"},{"$f":"RANDBETWEEN(1,MIN(9,C351))","v":2},{"$f":"IF(AND(Worksheet!$D$12,RAND()<0),3,IF(RAND()<Worksheet!$D$10/100,1,2))","v":1},{"$f":"IF(I351=1,F351,IF(I351=2,F351,IF(I351=3,F351/100*C351,\"\")))","v":2},{"$f":"CONCATENATE(\" \",D351)","v":" °C"},{"$f":"IF(I351=1,F351,IF(I351=2,F351,IF(I351=3,F351/100*C351,\"\")))","v":2}," °C"]
[{"$f":"COUNTIF($B$1:B352,TRUE)","v":274},{"$f":"Worksheet!$B$20","v":true},{"$f":"RANDBETWEEN(5,RANDBETWEEN(5,Worksheet!$D$8))","v":32},"cm","±",{"$f":"IF(I352=1,H352*10^RANDBETWEEN(IF(Worksheet!$D$14,-1,0),0),IF(I352=2,H352,CHOOSE(RANDBETWEEN(1,3),5,10,20)))","v":9},{"$f":"IF(I352=1,D352,IF(I352=3,\"%\",\"mm\"))","v":"mm"},{"$f":"RANDBETWEEN(1,MIN(9,C352))","v":9},{"$f":"IF(AND(Worksheet!$D$12,RAND()<0.2),3,IF(RAND()<Worksheet!$D$10/100,1,2))","v":2},{"$f":"IF(I352=1,F352,IF(I352=2,F352/10,IF(I352=3,F352/100*C352,\"\")))","v":0.9},{"$f":"CONCATENATE(\" \",D352)","v":" cm"},{"$f":"IF(I352=1,F352*10,IF(I352=2,F352,IF(I352=3,F352/100*C352*10,\"\")))","v":9},"mm"]
[{"$f":"IF(COUNTIF($B$1:B353,TRUE)=COUNTIF($B$1:B352,TRUE),\"\",COUNTIF($B$1:B353,TRUE))","v":275},{"$f":"Worksheet!$B$22","v":true},{"$f":"RANDBETWEEN(5,RANDBETWEEN(5,Worksheet!$D$8))","v":77},"m","±",{"$f":"IF(I353=1,H353*10^RANDBETWEEN(IF(Worksheet!$D$14,-1,0),0),IF(I353=2,H353*10^RANDBETWEEN(RANDBETWEEN(0,1),1),CHOOSE(RANDBETWEEN(1,3),5,10,20)))","v":0.4},{"$f":"IF(I353=1,D353,IF(I353=3,\"%\",\"cm\"))","v":"m"},{"$f":"RANDBETWEEN(1,MIN(9,C353))","v":4},{"$f":"IF(AND(Worksheet!$D$12,RAND()<0.2),3,IF(RAND()<Worksheet!$D$10/100,1,2))","v":1},{"$f":"IF(I353=1,F353,IF(I353=2,F353/100,IF(I353=3,F353/100*C353,\"\")))","v":0.4},{"$f":"CONCATENATE(\" \",D353)","v":" m"},{"$f":"IF(I353=1,F353*100,IF(I353=2,F353,IF(I353=3,F353/100*C353*100,\"\")))","v":40},"cm"]
[{"$f":"IF(COUNTIF($B$1:B354,TRUE)=COUNTIF($B$1:B353,TRUE),\"\",COUNTIF($B$1:B354,TRUE))","v":276},{"$f":"Worksheet!$B$24","v":true},{"$f":"RANDBETWEEN(5,RANDBETWEEN(5,Worksheet!$D$8))","v":36},"km","±",{"$f":"IF(I354=1,H354*10^RANDBETWEEN(IF(Worksheet!$D$14,-1,0),0),IF(I354=2,H354*10^RANDBETWEEN(RANDBETWEEN(0,2),2),CHOOSE(RANDBETWEEN(1,3),5,10,20)))","v":8},{"$f":"IF(I354=1,D354,IF(I354=3,\"%\",\"m\"))","v":"km"},8,{"$f":"IF(AND(Worksheet!$D$12,RAND()<0.2),3,IF(RAND()<Worksheet!$D$10/100,1,2))","v":1},{"$f":"IF(I354=1,F354,IF(I354=2,F354/1000,IF(I354=3,F354/100*C354,\"\")))","v":8}," km",{"$f":"IF(I354=1,F354*1000,IF(I354=2,F354,IF(I354=3,F354/100*C354*1000,\"\")))","v":8000},"m"]
[{"$f":"IF(COUNTIF($B$1:B355,TRUE)=COUNTIF($B$1:B354,TRUE),\"\",COUNTIF($B$1:B355,TRUE))","v":""},{"$f":"Worksheet!$B$26","v":false},{"$f":"RANDBETWEEN(5,RANDBETWEEN(5,Worksheet!$D$8))","v":103},"m","±",{"$f":"IF(I355=1,H355*10^RANDBETWEEN(IF(Worksheet!$D$14,-1,0),0),IF(I355=2,H355*10^RANDBETWEEN(RANDBETWEEN(0,2),2),CHOOSE(RANDBETWEEN(1,3),5,10,20)))","v":2},{"$f":"IF(I355=1,D355,IF(I355=3,\"%\",\"mm\"))","v":"m"},2,{"$f":"IF(AND(Worksheet!$D$12,RAND()<0.2),3,IF(RAND()<Worksheet!$D$10/100,1,2))","v":1},2," m",2000,"mm"]
[{"$f":"IF(COUNTIF($B$1:B356,TRUE)=COUNTIF($B$1:B355,TRUE),\"\",COUNTIF($B$1:B356,TRUE))","v":277},{"$f":"Worksheet!$D$20","v":true},{"$f":"RANDBETWEEN(5,RANDBETWEEN(5,Worksheet!$D$8))","v":7},"kg","±",{"$f":"IF(I356=1,H356*10^RANDBETWEEN(IF(Worksheet!$D$14,-1,0),0),IF(I356=2,H356*10^RANDBETWEEN(RANDBETWEEN(0,2),2),CHOOSE(RANDBETWEEN(1,3),5,10,20)))","v":100},{"$f":"IF(I356=1,D356,IF(I356=3,\"%\",\"g\"))","v":"g"},{"$f":"RANDBETWEEN(1,MIN(9,C356))","v":1},{"$f":"IF(AND(Worksheet!$D$12,RAND()<0.2),3,IF(RAND()<Worksheet!$D$10/100,1,2))","v":2},0.1,{"$f":"CONCATENATE(\" \",D356)","v":" kg"},100,"g"]
[{"$f":"IF(COUNTIF($B$1:B357,TRUE)=COUNTIF($B$1:B356,TRUE),\"\",COUNTIF($B$1:B357,TRUE))","v":278},{"$f":"Worksheet!$D$22","v":true},{"$f":"RANDBETWEEN(5,RANDBETWEEN(5,Worksheet!$D$8))","v":40},"tonnes","±",{"$f":"IF(I357=1,H357*10^RANDBETWEEN(IF(Worksheet!$D$14,-1,0),0),IF(I357=2,H357*10^RANDBETWEEN(RANDBETWEEN(0,2),2),CHOOSE(RANDBETWEEN(1,3),5,10,20)))","v":3},{"$f":"IF(I357=1,D357,IF(I357=3,\"%\",\"kg\"))","v":"tonnes"},{"$f":"RANDBETWEEN(1,MIN(9,C357))","v":3},{"$f":"IF(AND(Worksheet!$D$12,RAND()<0.2),3,IF(RAND()<Worksheet!$D$10/100,1,2))","v":1},3,{"$f":"CONCATENATE(\" \",D357)","v":" tonnes"},3000,"kg"]
[{"$f":"IF(COUNTIF($B$1:B358,TRUE)=COUNTIF($B$1:B357,TRUE),\"\",COUNTIF($B$1:B358,TRUE))","v":279},{"$f":"Worksheet!$D$24","v":true},{"$f":"RANDBETWEEN(5,RANDBETWEEN(5,Worksheet!$D$8))","v":90},"litres","±",{"$f":"IF(I358=1,H358*10^RANDBETWEEN(IF(Worksheet!$D$14,-1,0),0),IF(I358=2,H358*10^RANDBETWEEN(RANDBETWEEN(0,2),2),CHOOSE(RANDBETWEEN(1,3),5,10,20)))","v":8},{"$f":"IF(I358=1,D358,IF(I358=3,\"%\",\"ml\"))","v":"litres"},{"$f":"RANDBETWEEN(1,MIN(9,C358))","v":8},{"$f":"IF(AND(Worksheet!$D$12,RAND()<0.2),3,IF(RAND()<Worksheet!$D$10/100,1,2))","v":1},8,{"$f":"CONCATENATE(\" \",D358)","v":" litres"},8000,"ml"]
[{"$f":"IF(COUNTIF($B$1:B359,TRUE)=COUNTIF($B$1:B358,TRUE),\"\",COUNTIF($B$1:B359,TRUE))","v":""},{"$f":"Worksheet!$D$26","v":false},{"$f":"RANDBETWEEN(5,RANDBETWEEN(5,Worksheet!$D$8))","v":25},"litres","±",{"$f":"IF(I359=1,H359*10^RANDBETWEEN(IF(Worksheet!$D$14,-1,0),0),IF(I359=2,H359*10^RANDBETWEEN(RANDBETWEEN(0,2),2),CHOOSE(RANDBETWEEN(1,3),5,10,20)))","v":6},{"$f":"IF(I359=1,D359,IF(I359=3,\"%\",\"cm³\"))","v":"litres"},{"$f":"RANDBETWEEN(1,MIN(9,C359))","v":6},{"$f":"IF(AND(Worksheet!$D$12,RAND()<0.2),3,IF(RAND()<Worksheet!$D$10/100,1,2))","v":1},6,{"$f":"CONCATENATE(\" \",D359)","v":" litres"},6000,"cm³"]
[{"$f":"IF(COUNTIF($B$1:B360,TRUE)=COUNTIF($B$1:B360,TRUE),\"\",COUNTIF($B$1:B360,TRUE))","v":""},{"$f":"Worksheet!$B$28","v":true},{"$f":"RANDBETWEEN(5,20)","v":5},"°C","±",{"$f":"IF(I360=1,H360*10^RANDBETWEEN(IF(Worksheet!$D$14,-1,0),0),IF(I360=2,H360,CHOOSE(RANDBETWEEN(1,3),5,10,20)))","v":3},{"$f":"IF(I360=1,D360,IF(I360=3,\"%\",\"sec\"))","v":"°C"},{"$f":"RANDBETWEEN(1,MIN(9,C360))","v":3},{"$f":"IF(AND(Worksheet!$D$12,RAND()<0),3,IF(RAND()<Worksheet!$D$10/100,1,2))","v":1},{"$f":"IF(I360=1,F360,IF(I360=2,F360,IF(I360=3,F360/100*C360,\"\")))","v":3},{"$f":"CONCATENATE(\" \",D360)","v":" °C"},{"$f":"IF(I360=1,F360,IF(I360=2,F360,IF(I360=3,F360/100*C360,\"\")))","v":3}," °C"]
[{"$f":"COUNTIF($B$1:B361,TRUE)","v":281},{"$f":"Worksheet!$B$20","v":true},{"$f":"RANDBETWEEN(5,RANDBETWEEN(5,Worksheet!$D$8))","v":25},"cm","±",{"$f":"IF(I361=1,H361*10^RANDBETWEEN(IF(Worksheet!$D$14,-1,0),0),IF(I361=2,H361,CHOOSE(RANDBETWEEN(1,3),5,10,20)))","v":3},{"$f":"IF(I361=1,D361,IF(I361=3,\"%\",\"mm\"))","v":"cm"},{"$f":"RANDBETWEEN(1,MIN(9,C361))","v":3},{"$f":"IF(AND(Worksheet!$D$12,RAND()<0.2),3,IF(RAND()<Worksheet!$D$10/100,1,2))","v":1},{"$f":"IF(I361=1,F361,IF(I361=2,F361/10,IF(I361=3,F361/100*C361,\"\")))","v":3},{"$f":"CONCATENATE(\" \",D361)","v":" cm"},{"$f":"IF(I361=1,F361*10,IF(I361=2,F361,IF(I361=3,F361/100*C361*10,\"\")))","v":30},"mm"]
[{"$f":"IF(COUNTIF($B$1:B362,TRUE)=COUNTIF($B$1:B361,TRUE),\"\",COUNTIF($B$1:B362,TRUE))","v":282},{"$f":"Worksheet!$B$22","v":true},{"$f":"RANDBETWEEN(5,RANDBETWEEN(5,Worksheet!$D$8))","v":48},"m","±",{"$f":"IF(I362=1,H362*10^RANDBETWEEN(IF(Worksheet!$D$14,-1,0),0),IF(I362=2,H362*10^RANDBETWEEN(RANDBETWEEN(0,1),1),CHOOSE(RANDBETWEEN(1,3),5,10,20)))","v":0.8},{"$f":"IF(I362=1,D362,IF(I362=3,\"%\",\"cm\"))","v":"m"},{"$f":"RANDBETWEEN(1,MIN(9,C362))","v":8},{"$f":"IF(AND(Worksheet!$D$12,RAND()<0.2),3,IF(RAND()<Worksheet!$D$10/100,1,2))","v":1},{"$f":"IF(I362=1,F362,IF(I362=2,F362/100,IF(I362=3,F362/100*C362,\"\")))","v":0.8},{"$f":"CONCATENATE(\" \",D362)","v":" m"},{"$f":"IF(I362=1,F362*100,IF(I362=2,F362,IF(I362=3,F362/100*C362*100,\"\")))","v":80},"cm"]
[{"$f":"IF(COUNTIF($B$1:B363,TRUE)=COUNTIF($B$1:B362,TRUE),\"\",COUNTIF($B$1:B363,TRUE))","v":283},{"$f":"Worksheet!$B$24","v":true},{"$f":"RANDBETWEEN(5,RANDBETWEEN(5,Worksheet!$D$8))","v":8},"km","±",{"$f":"IF(I363=1,H363*10^RANDBETWEEN(IF(Worksheet!$D$14,-1,0),0),IF(I363=2,H363*10^RANDBETWEEN(RANDBETWEEN(0,2),2),CHOOSE(RANDBETWEEN(1,3),5,10,20)))","v":0.30000000000000004},{"$f":"IF(I363=1,D363,IF(I363=3,\"%\",\"m\"))","v":"km"},3,{"$f":"IF(AND(Worksheet!$D$12,RAND()<0.2),3,IF(RAND()<Worksheet!$D$10/100,1,2))","v":1},{"$f":"IF(I363=1,F363,IF(I363=2,F363/1000,IF(I363=3,F363/100*C363,\"\")))","v":0.30000000000000004}," km",{"$f":"IF(I363=1,F363*1000,IF(I363=2,F363,IF(I363=3,F363/100*C363*1000,\"\")))","v":300.00000000000006},"m"]
[{"$f":"IF(COUNTIF($B$1:B364,TRUE)=COUNTIF($B$1:B363,TRUE),\"\",COUNTIF($B$1:B364,TRUE))","v":""},{"$f":"Worksheet!$B$26","v":false},{"$f":"RANDBETWEEN(5,RANDBETWEEN(5,Worksheet!$D$8))","v":63},"m","±",{"$f":"IF(I364=1,H364*10^RANDBETWEEN(IF(Worksheet!$D$14,-1,0),0),IF(I364=2,H364*10^RANDBETWEEN(RANDBETWEEN(0,2),2),CHOOSE(RANDBETWEEN(1,3),5,10,20)))","v":800},{"$f":"IF(I364=1,D364,IF(I364=3,\"%\",\"mm\"))","v":"mm"},8,{"$f":"IF(AND(Worksheet!$D$12,RAND()<0.2),3,IF(RAND()<Worksheet!$D$10/100,1,2))","v":2},0.8," m",800,"mm"]
[{"$f":"IF(COUNTIF($B$1:B365,TRUE)=COUNTIF($B$1:B364,TRUE),\"\",COUNTIF($B$1:B365,TRUE))","v":284},{"$f":"Worksheet!$D$20","v":true},{"$f":"RANDBETWEEN(5,RANDBETWEEN(5,Worksheet!$D$8))","v":8},"kg","±",{"$f":"IF(I365=1,H365*10^RANDBETWEEN(IF(Worksheet!$D$14,-1,0),0),IF(I365=2,H365*10^RANDBETWEEN(RANDBETWEEN(0,2),2),CHOOSE(RANDBETWEEN(1,3),5,10,20)))","v":0.2},{"$f":"IF(I365=1,D365,IF(I365=3,\"%\",\"g\"))","v":"kg"},{"$f":"RANDBETWEEN(1,MIN(9,C365))","v":2},{"$f":"IF(AND(Worksheet!$D$12,RAND()<0.2),3,IF(RAND()<Worksheet!$D$10/100,1,2))","v":1},0.2,{"$f":"CONCATENATE(\" \",D365)","v":" kg"},200,"g"]
[{"$f":"IF(COUNTIF($B$1:B366,TRUE)=COUNTIF($B$1:B365,TRUE),\"\",COUNTIF($B$1:B366,TRUE))","v":285},{"$f":"Worksheet!$D$22","v":true},{"$f":"RANDBETWEEN(5,RANDBETWEEN(5,Worksheet!$D$8))","v":86},"tonnes","±",{"$f":"IF(I366=1,H366*10^RANDBETWEEN(IF(Worksheet!$D$14,-1,0),0),IF(I366=2,H366*10^RANDBETWEEN(RANDBETWEEN(0,2),2),CHOOSE(RANDBETWEEN(1,3),5,10,20)))","v":20},{"$f":"IF(I366=1,D366,IF(I366=3,\"%\",\"kg\"))","v":"%"},{"$f":"RANDBETWEEN(1,MIN(9,C366))","v":5},{"$f":"IF(AND(Worksheet!$D$12,RAND()<0.2),3,IF(RAND()<Worksheet!$D$10/100,1,2))","v":3},17.2,{"$f":"CONCATENATE(\" \",D366)","v":" tonnes"},17200,"kg"]
[{"$f":"IF(COUNTIF($B$1:B367,TRUE)=COUNTIF($B$1:B366,TRUE),\"\",COUNTIF($B$1:B367,TRUE))","v":286},{"$f":"Worksheet!$D$24","v":true},{"$f":"RANDBETWEEN(5,RANDBETWEEN(5,Worksheet!$D$8))","v":34},"litres","±",{"$f":"IF(I367=1,H367*10^RANDBETWEEN(IF(Worksheet!$D$14,-1,0),0),IF(I367=2,H367*10^RANDBETWEEN(RANDBETWEEN(0,2),2),CHOOSE(RANDBETWEEN(1,3),5,10,20)))","v":2},{"$f":"IF(I367=1,D367,IF(I367=3,\"%\",\"ml\"))","v":"litres"},{"$f":"RANDBETWEEN(1,MIN(9,C367))","v":2},{"$f":"IF(AND(Worksheet!$D$12,RAND()<0.2),3,IF(RAND()<Worksheet!$D$10/100,1,2))","v":1},2,{"$f":"CONCATENATE(\" \",D367)","v":" litres"},2000,"ml"]
[{"$f":"IF(COUNTIF($B$1:B368,TRUE)=COUNTIF($B$1:B367,TRUE),\"\",COUNTIF($B$1:B368,TRUE))","v":""},{"$f":"Worksheet!$D$26","v":false},{"$f":"RANDBETWEEN(5,RANDBETWEEN(5,Worksheet!$D$8))","v":7},"litres","±",{"$f":"IF(I368=1,H368*10^RANDBETWEEN(IF(Worksheet!$D$14,-1,0),0),IF(I368=2,H368*10^RANDBETWEEN(RANDBETWEEN(0,2),2),CHOOSE(RANDBETWEEN(1,3),5,10,20)))","v":5},{"$f":"IF(I368=1,D368,IF(I368=3,\"%\",\"cm³\"))","v":"%"},{"$f":"RANDBETWEEN(1,MIN(9,C368))","v":5},{"$f":"IF(AND(Worksheet!$D$12,RAND()<0.2),3,IF(RAND()<Worksheet!$D$10/100,1,2))","v":3},0.35000000000000003,{"$f":"CONCATENATE(\" \",D368)","v":" litres"},350.00000000000006,"cm³"]
[{"$f":"IF(COUNTIF($B$1:B369,TRUE)=COUNTIF($B$1:B369,TRUE),\"\",COUNTIF($B$1:B369,TRUE))","v":""},{"$f":"Worksheet!$B$28","v":true},{"$f":"RANDBETWEEN(5,20)","v":8},"°C","±",{"$f":"IF(I369=1,H369*10^RANDBETWEEN(IF(Worksheet!$D$14,-1,0),0),IF(I369=2,H369,CHOOSE(RANDBETWEEN(1,3),5,10,20)))","v":0.60000000000000009},{"$f":"IF(I369=1,D369,IF(I369=3,\"%\",\"sec\"))","v":"°C"},{"$f":"RANDBETWEEN(1,MIN(9,C369))","v":6},{"$f":"IF(AND(Worksheet!$D$12,RAND()<0),3,IF(RAND()<Worksheet!$D$10/100,1,2))","v":1},{"$f":"IF(I369=1,F369,IF(I369=2,F369,IF(I369=3,F369/100*C369,\"\")))","v":0.60000000000000009},{"$f":"CONCATENATE(\" \",D369)","v":" °C"},{"$f":"IF(I369=1,F369,IF(I369=2,F369,IF(I369=3,F369/100*C369,\"\")))","v":0.60000000000000009}," °C"]
[{"$f":"COUNTIF($B$1:B370,TRUE)","v":288},{"$f":"Worksheet!$B$20","v":true},{"$f":"RANDBETWEEN(5,RANDBETWEEN(5,Worksheet!$D$8))","v":53},"cm","±",{"$f":"IF(I370=1,H370*10^RANDBETWEEN(IF(Worksheet!$D$14,-1,0),0),IF(I370=2,H370,CHOOSE(RANDBETWEEN(1,3),5,10,20)))","v":6},{"$f":"IF(I370=1,D370,IF(I370=3,\"%\",\"mm\"))","v":"cm"},{"$f":"RANDBETWEEN(1,MIN(9,C370))","v":6},{"$f":"IF(AND(Worksheet!$D$12,RAND()<0.2),3,IF(RAND()<Worksheet!$D$10/100,1,2))","v":1},{"$f":"IF(I370=1,F370,IF(I370=2,F370/10,IF(I370=3,F370/100*C370,\"\")))","v":6},{"$f":"CONCATENATE(\" \",D370)","v":" cm"},{"$f":"IF(I370=1,F370*10,IF(I370=2,F370,IF(I370=3,F370/100*C370*10,\"\")))","v":60},"mm"]
[{"$f":"IF(COUNTIF($B$1:B371,TRUE)=COUNTIF($B$1:B370,TRUE),\"\",COUNTIF($B$1:B371,TRUE))","v":289},{"$f":"Worksheet!$B$22","v":true},{"$f":"RANDBETWEEN(5,RANDBETWEEN(5,Worksheet!$D$8))","v":152},"m","±",{"$f":"IF(I371=1,H371*10^RANDBETWEEN(IF(Worksheet!$D$14,-1,0),0),IF(I371=2,H371*10^RANDBETWEEN(RANDBETWEEN(0,1),1),CHOOSE(RANDBETWEEN(1,3),5,10,20)))","v":0.4},{"$f":"IF(I371=1,D371,IF(I371=3,\"%\",\"cm\"))","v":"m"},{"$f":"RANDBETWEEN(1,MIN(9,C371))","v":4},{"$f":"IF(AND(Worksheet!$D$12,RAND()<0.2),3,IF(RAND()<Worksheet!$D$10/100,1,2))","v":1},{"$f":"IF(I371=1,F371,IF(I371=2,F371/100,IF(I371=3,F371/100*C371,\"\")))","v":0.4},{"$f":"CONCATENATE(\" \",D371)","v":" m"},{"$f":"IF(I371=1,F371*100,IF(I371=2,F371,IF(I371=3,F371/100*C371*100,\"\")))","v":40},"cm"]
[{"$f":"IF(COUNTIF($B$1:B372,TRUE)=COUNTIF($B$1:B371,TRUE),\"\",COUNTIF($B$1:B372,TRUE))","v":290},{"$f":"Worksheet!$B$24","v":true},{"$f":"RANDBETWEEN(5,RANDBETWEEN(5,Worksheet!$D$8))","v":67},"km","±",{"$f":"IF(I372=1,H372*10^RANDBETWEEN(IF(Worksheet!$D$14,-1,0),0),IF(I372=2,H372*10^RANDBETWEEN(RANDBETWEEN(0,2),2),CHOOSE(RANDBETWEEN(1,3),5,10,20)))","v":0.60000000000000009},{"$f":"IF(I372=1,D372,IF(I372=3,\"%\",\"m\"))","v":"km"},6,{"$f":"IF(AND(Worksheet!$D$12,RAND()<0.2),3,IF(RAND()<Worksheet!$D$10/100,1,2))","v":1},{"$f":"IF(I372=1,F372,IF(I372=2,F372/1000,IF(I372=3,F372/100*C372,\"\")))","v":0.60000000000000009}," km",{"$f":"IF(I372=1,F372*1000,IF(I372=2,F372,IF(I372=3,F372/100*C372*1000,\"\")))","v":600.00000000000011},"m"]
[{"$f":"IF(COUNTIF($B$1:B373,TRUE)=COUNTIF($B$1:B372,TRUE),\"\",COUNTIF($B$1:B373,TRUE))","v":""},{"$f":"Worksheet!$B$26","v":false},{"$f":"RANDBETWEEN(5,RANDBETWEEN(5,Worksheet!$D$8))","v":97},"m","±",{"$f":"IF(I373=1,H373*10^RANDBETWEEN(IF(Worksheet!$D$14,-1,0),0),IF(I373=2,H373*10^RANDBETWEEN(RANDBETWEEN(0,2),2),CHOOSE(RANDBETWEEN(1,3),5,10,20)))","v":0.2},{"$f":"IF(I373=1,D373,IF(I373=3,\"%\",\"mm\"))","v":"m"},2,{"$f":"IF(AND(Worksheet!$D$12,RAND()<0.2),3,IF(RAND()<Worksheet!$D$10/100,1,2))","v":1},0.2," m",200,"mm"]
[{"$f":"IF(COUNTIF($B$1:B374,TRUE)=COUNTIF($B$1:B373,TRUE),\"\",COUNTIF($B$1:B374,TRUE))","v":291},{"$f":"Worksheet!$D$20","v":true},{"$f":"RANDBETWEEN(5,RANDBETWEEN(5,Worksheet!$D$8))","v":68},"kg","±",{"$f":"IF(I374=1,H374*10^RANDBETWEEN(IF(Worksheet!$D$14,-1,0),0),IF(I374=2,H374*10^RANDBETWEEN(RANDBETWEEN(0,2),2),CHOOSE(RANDBETWEEN(1,3),5,10,20)))","v":20},{"$f":"IF(I374=1,D374,IF(I374=3,\"%\",\"g\"))","v":"%"},{"$f":"RANDBETWEEN(1,MIN(9,C374))","v":1},{"$f":"IF(AND(Worksheet!$D$12,RAND()<0.2),3,IF(RAND()<Worksheet!$D$10/100,1,2))","v":3},13.600000000000001,{"$f":"CONCATENATE(\" \",D374)","v":" kg"},13600.000000000002,"g"]
[{"$f":"IF(COUNTIF($B$1:B375,TRUE)=COUNTIF($B$1:B374,TRUE),\"\",COUNTIF($B$1:B375,TRUE))","v":292},{"$f":"Worksheet!$D$22","v":true},{"$f":"RANDBETWEEN(5,RANDBETWEEN(5,Worksheet!$D$8))","v":33},"tonnes","±",{"$f":"IF(I375=1,H375*10^RANDBETWEEN(IF(Worksheet!$D$14,-1,0),0),IF(I375=2,H375*10^RANDBETWEEN(RANDBETWEEN(0,2),2),CHOOSE(RANDBETWEEN(1,3),5,10,20)))","v":3},{"$f":"IF(I375=1,D375,IF(I375=3,\"%\",\"kg\"))","v":"tonnes"},{"$f":"RANDBETWEEN(1,MIN(9,C375))","v":3},{"$f":"IF(AND(Worksheet!$D$12,RAND()<0.2),3,IF(RAND()<Worksheet!$D$10/100,1,2))","v":1},3,{"$f":"CONCATENATE(\" \",D375)","v":" tonnes"},3000,"kg"]
[{"$f":"IF(COUNTIF($B$1:B376,TRUE)=COUNTIF($B$1:B375,TRUE),\"\",COUNTIF($B$1:B376,TRUE))","v":293},{"$f":"Worksheet!$D$24","v":true},{"$f":"RANDBETWEEN(5,RANDBETWEEN(5,Worksheet!$D$8))","v":5},"litres","±",{"$f":"IF(I376=1,H376*10^RANDBETWEEN(IF(Worksheet!$D$14,-1,0),0),IF(I376=2,H376*10^RANDBETWEEN(RANDBETWEEN(0,2),2),CHOOSE(RANDBETWEEN(1,3),5,10,20)))","v":10},{"$f":"IF(I376=1,D376,IF(I376=3,\"%\",\"ml\"))","v":"%"},{"$f":"RANDBETWEEN(1,MIN(9,C376))","v":1},{"$f":"IF(AND(Worksheet!$D$12,RAND()<0.2),3,IF(RAND()<Worksheet!$D$10/100,1,2))","v":3},0.5,{"$f":"CONCATENATE(\" \",D376)","v":" litres"},500,"ml"]
[{"$f":"IF(COUNTIF($B$1:B377,TRUE)=COUNTIF($B$1:B376,TRUE),\"\",COUNTIF($B$1:B377,TRUE))","v":""},{"$f":"Worksheet!$D$26","v":false},{"$f":"RANDBETWEEN(5,RANDBETWEEN(5,Worksheet!$D$8))","v":35},"litres","±",{"$f":"IF(I377=1,H377*10^RANDBETWEEN(IF(Worksheet!$D$14,-1,0),0),IF(I377=2,H377*10^RANDBETWEEN(RANDBETWEEN(0,2),2),CHOOSE(RANDBETWEEN(1,3),5,10,20)))","v":5},{"$f":"IF(I377=1,D377,IF(I377=3,\"%\",\"cm³\"))","v":"litres"},{"$f":"RANDBETWEEN(1,MIN(9,C377))","v":5},{"$f":"IF(AND(Worksheet!$D$12,RAND()<0.2),3,IF(RAND()<Worksheet!$D$10/100,1,2))","v":1},5,{"$f":"CONCATENATE(\" \",D377)","v":" litres"},5000,"cm³"]
[{"$f":"IF(COUNTIF($B$1:B378,TRUE)=COUNTIF($B$1:B378,TRUE),\"\",COUNTIF($B$1:B378,TRUE))","v":""},{"$f":"Worksheet!$B$28","v":true},{"$f":"RANDBETWEEN(5,20)","v":11},"°C","±",{"$f":"IF(I378=1,H378*10^RANDBETWEEN(IF(Worksheet!$D$14,-1,0),0),IF(I378=2,H378,CHOOSE(RANDBETWEEN(1,3),5,10,20)))","v":5},{"$f":"IF(I378=1,D378,IF(I378=3,\"%\",\"sec\"))","v":"sec"},{"$f":"RANDBETWEEN(1,MIN(9,C378))","v":5},{"$f":"IF(AND(Worksheet!$D$12,RAND()<0),3,IF(RAND()<Worksheet!$D$10/100,1,2))","v":2},{"$f":"IF(I378=1,F378,IF(I378=2,F378,IF(I378=3,F378/100*C378,\"\")))","v":5},{"$f":"CONCATENATE(\" \",D378)","v":" °C"},{"$f":"IF(I378=1,F378,IF(I378=2,F378,IF(I378=3,F378/100*C378,\"\")))","v":5}," °C"]
[{"$f":"COUNTIF($B$1:B379,TRUE)","v":295},{"$f":"Worksheet!$B$20","v":true},{"$f":"RANDBETWEEN(5,RANDBETWEEN(5,Worksheet!$D$8))","v":63},"cm","±",{"$f":"IF(I379=1,H379*10^RANDBETWEEN(IF(Worksheet!$D$14,-1,0),0),IF(I379=2,H379,CHOOSE(RANDBETWEEN(1,3),5,10,20)))","v":5},{"$f":"IF(I379=1,D379,IF(I379=3,\"%\",\"mm\"))","v":"cm"},{"$f":"RANDBETWEEN(1,MIN(9,C379))","v":5},{"$f":"IF(AND(Worksheet!$D$12,RAND()<0.2),3,IF(RAND()<Worksheet!$D$10/100,1,2))","v":1},{"$f":"IF(I379=1,F379,IF(I379=2,F379/10,IF(I379=3,F379/100*C379,\"\")))","v":5},{"$f":"CONCATENATE(\" \",D379)","v":" cm"},{"$f":"IF(I379=1,F379*10,IF(I379=2,F379,IF(I379=3,F379/100*C379*10,\"\")))","v":50},"mm"]
[{"$f":"IF(COUNTIF($B$1:B380,TRUE)=COUNTIF($B$1:B379,TRUE),\"\",COUNTIF($B$1:B380,TRUE))","v":296},{"$f":"Worksheet!$B$22","v":true},{"$f":"RANDBETWEEN(5,RANDBETWEEN(5,Worksheet!$D$8))","v":191},"m","±",{"$f":"IF(I380=1,H380*10^RANDBETWEEN(IF(Worksheet!$D$14,-1,0),0),IF(I380=2,H380*10^RANDBETWEEN(RANDBETWEEN(0,1),1),CHOOSE(RANDBETWEEN(1,3),5,10,20)))","v":0.60000000000000009},{"$f":"IF(I380=1,D380,IF(I380=3,\"%\",\"cm\"))","v":"m"},{"$f":"RANDBETWEEN(1,MIN(9,C380))","v":6},{"$f":"IF(AND(Worksheet!$D$12,RAND()<0.2),3,IF(RAND()<Worksheet!$D$10/100,1,2))","v":1},{"$f":"IF(I380=1,F380,IF(I380=2,F380/100,IF(I380=3,F380/100*C380,\"\")))","v":0.60000000000000009},{"$f":"CONCATENATE(\" \",D380)","v":" m"},{"$f":"IF(I380=1,F380*100,IF(I380=2,F380,IF(I380=3,F380/100*C380*100,\"\")))","v":60.000000000000007},"cm"]
[{"$f":"IF(COUNTIF($B$1:B381,TRUE)=COUNTIF($B$1:B380,TRUE),\"\",COUNTIF($B$1:B381,TRUE))","v":297},{"$f":"Worksheet!$B$24","v":true},{"$f":"RANDBETWEEN(5,RANDBETWEEN(5,Worksheet!$D$8))","v":65},"km","±",{"$f":"IF(I381=1,H381*10^RANDBETWEEN(IF(Worksheet!$D$14,-1,0),0),IF(I381=2,H381*10^RANDBETWEEN(RANDBETWEEN(0,2),2),CHOOSE(RANDBETWEEN(1,3),5,10,20)))","v":5},{"$f":"IF(I381=1,D381,IF(I381=3,\"%\",\"m\"))","v":"%"},2,{"$f":"IF(AND(Worksheet!$D$12,RAND()<0.2),3,IF(RAND()<Worksheet!$D$10/100,1,2))","v":3},{"$f":"IF(I381=1,F381,IF(I381=2,F381/1000,IF(I381=3,F381/100*C381,\"\")))","v":3.25}," km",{"$f":"IF(I381=1,F381*1000,IF(I381=2,F381,IF(I381=3,F381/100*C381*1000,\"\")))","v":3250},"m"]
[{"$f":"IF(COUNTIF($B$1:B382,TRUE)=COUNTIF($B$1:B381,TRUE),\"\",COUNTIF($B$1:B382,TRUE))","v":""},{"$f":"Worksheet!$B$26","v":false},{"$f":"RANDBETWEEN(5,RANDBETWEEN(5,Worksheet!$D$8))","v":86},"m","±",{"$f":"IF(I382=1,H382*10^RANDBETWEEN(IF(Worksheet!$D$14,-1,0),0),IF(I382=2,H382*10^RANDBETWEEN(RANDBETWEEN(0,2),2),CHOOSE(RANDBETWEEN(1,3),5,10,20)))","v":0.2},{"$f":"IF(I382=1,D382,IF(I382=3,\"%\",\"mm\"))","v":"m"},2,{"$f":"IF(AND(Worksheet!$D$12,RAND()<0.2),3,IF(RAND()<Worksheet!$D$10/100,1,2))","v":1},0.2," m",200,"mm"]
[{"$f":"IF(COUNTIF($B$1:B383,TRUE)=COUNTIF($B$1:B382,TRUE),\"\",COUNTIF($B$1:B383,TRUE))","v":298},{"$f":"Worksheet!$D$20","v":true},{"$f":"RANDBETWEEN(5,RANDBETWEEN(5,Worksheet!$D$8))","v":6},"kg","±",{"$f":"IF(I383=1,H383*10^RANDBETWEEN(IF(Worksheet!$D$14,-1,0),0),IF(I383=2,H383*10^RANDBETWEEN(RANDBETWEEN(0,2),2),CHOOSE(RANDBETWEEN(1,3),5,10,20)))","v":20},{"$f":"IF(I383=1,D383,IF(I383=3,\"%\",\"g\"))","v":"%"},{"$f":"RANDBETWEEN(1,MIN(9,C383))","v":3},{"$f":"IF(AND(Worksheet!$D$12,RAND()<0.2),3,IF(RAND()<Worksheet!$D$10/100,1,2))","v":3},1.2000000000000002,{"$f":"CONCATENATE(\" \",D383)","v":" kg"},1200.0000000000002,"g"]
[{"$f":"IF(COUNTIF($B$1:B384,TRUE)=COUNTIF($B$1:B383,TRUE),\"\",COUNTIF($B$1:B384,TRUE))","v":299},{"$f":"Worksheet!$D$22","v":true},{"$f":"RANDBETWEEN(5,RANDBETWEEN(5,Worksheet!$D$8))","v":29},"tonnes","±",{"$f":"IF(I384=1,H384*10^RANDBETWEEN(IF(Worksheet!$D$14,-1,0),0),IF(I384=2,H384*10^RANDBETWEEN(RANDBETWEEN(0,2),2),CHOOSE(RANDBETWEEN(1,3),5,10,20)))","v":0.8},{"$f":"IF(I384=1,D384,IF(I384=3,\"%\",\"kg\"))","v":"tonnes"},{"$f":"RANDBETWEEN(1,MIN(9,C384))","v":8},{"$f":"IF(AND(Worksheet!$D$12,RAND()<0.2),3,IF(RAND()<Worksheet!$D$10/100,1,2))","v":1},0.8,{"$f":"CONCATENATE(\" \",D384)","v":" tonnes"},800,"kg"]
[{"$f":"IF(COUNTIF($B$1:B385,TRUE)=COUNTIF($B$1:B384,TRUE),\"\",COUNTIF($B$1:B385,TRUE))","v":300},{"$f":"Worksheet!$D$24","v":true},{"$f":"RANDBETWEEN(5,RANDBETWEEN(5,Worksheet!$D$8))","v":27},"litres","±",{"$f":"IF(I385=1,H385*10^RANDBETWEEN(IF(Worksheet!$D$14,-1,0),0),IF(I385=2,H385*10^RANDBETWEEN(RANDBETWEEN(0,2),2),CHOOSE(RANDBETWEEN(1,3),5,10,20)))","v":0.30000000000000004},{"$f":"IF(I385=1,D385,IF(I385=3,\"%\",\"ml\"))","v":"litres"},{"$f":"RANDBETWEEN(1,MIN(9,C385))","v":3},{"$f":"IF(AND(Worksheet!$D$12,RAND()<0.2),3,IF(RAND()<Worksheet!$D$10/100,1,2))","v":1},0.30000000000000004,{"$f":"CONCATENATE(\" \",D385)","v":" litres"},300.00000000000006,"ml"]
[{"$f":"IF(COUNTIF($B$1:B386,TRUE)=COUNTIF($B$1:B385,TRUE),\"\",COUNTIF($B$1:B386,TRUE))","v":""},{"$f":"Worksheet!$D$26","v":false},{"$f":"RANDBETWEEN(5,RANDBETWEEN(5,Worksheet!$D$8))","v":47},"litres","±",{"$f":"IF(I386=1,H386*10^RANDBETWEEN(IF(Worksheet!$D$14,-1,0),0),IF(I386=2,H386*10^RANDBETWEEN(RANDBETWEEN(0,2),2),CHOOSE(RANDBETWEEN(1,3),5,10,20)))","v":1},{"$f":"IF(I386=1,D386,IF(I386=3,\"%\",\"cm³\"))","v":"litres"},{"$f":"RANDBETWEEN(1,MIN(9,C386))","v":1},{"$f":"IF(AND(Worksheet!$D$12,RAND()<0.2),3,IF(RAND()<Worksheet!$D$10/100,1,2))","v":1},1,{"$f":"CONCATENATE(\" \",D386)","v":" litres"},1000,"cm³"]
[{"$f":"IF(COUNTIF($B$1:B387,TRUE)=COUNTIF($B$1:B387,TRUE),\"\",COUNTIF($B$1:B387,TRUE))","v":""},{"$f":"Worksheet!$B$28","v":true},{"$f":"RANDBETWEEN(5,20)","v":14},"°C","±",{"$f":"IF(I387=1,H387*10^RANDBETWEEN(IF(Worksheet!$D$14,-1,0),0),IF(I387=2,H387,CHOOSE(RANDBETWEEN(1,3),5,10,20)))","v":7},{"$f":"IF(I387=1,D387,IF(I387=3,\"%\",\"sec\"))","v":"sec"},{"$f":"RANDBETWEEN(1,MIN(9,C387))","v":7},{"$f":"IF(AND(Worksheet!$D$12,RAND()<0),3,IF(RAND()<Worksheet!$D$10/100,1,2))","v":2},{"$f":"IF(I387=1,F387,IF(I387=2,F387,IF(I387=3,F387/100*C387,\"\")))","v":7},{"$f":"CONCATENATE(\" \",D387)","v":" °C"},{"$f":"IF(I387=1,F387,IF(I387=2,F387,IF(I387=3,F387/100*C387,\"\")))","v":7}," °C"]
[{"$f":"COUNTIF($B$1:B388,TRUE)","v":302},{"$f":"Worksheet!$B$20","v":true},{"$f":"RANDBETWEEN(5,RANDBETWEEN(5,Worksheet!$D$8))","v":10},"cm","±",{"$f":"IF(I388=1,H388*10^RANDBETWEEN(IF(Worksheet!$D$14,-1,0),0),IF(I388=2,H388,CHOOSE(RANDBETWEEN(1,3),5,10,20)))","v":0.30000000000000004},{"$f":"IF(I388=1,D388,IF(I388=3,\"%\",\"mm\"))","v":"cm"},{"$f":"RANDBETWEEN(1,MIN(9,C388))","v":3},{"$f":"IF(AND(Worksheet!$D$12,RAND()<0.2),3,IF(RAND()<Worksheet!$D$10/100,1,2))","v":1},{"$f":"IF(I388=1,F388,IF(I388=2,F388/10,IF(I388=3,F388/100*C388,\"\")))","v":0.30000000000000004},{"$f":"CONCATENATE(\" \",D388)","v":" cm"},{"$f":"IF(I388=1,F388*10,IF(I388=2,F388,IF(I388=3,F388/100*C388*10,\"\")))","v":3.0000000000000004},"mm"]
[{"$f":"IF(COUNTIF($B$1:B389,TRUE)=COUNTIF($B$1:B388,TRUE),\"\",COUNTIF($B$1:B389,TRUE))","v":303},{"$f":"Worksheet!$B$22","v":true},{"$f":"RANDBETWEEN(5,RANDBETWEEN(5,Worksheet!$D$8))","v":6},"m","±",{"$f":"IF(I389=1,H389*10^RANDBETWEEN(IF(Worksheet!$D$14,-1,0),0),IF(I389=2,H389*10^RANDBETWEEN(RANDBETWEEN(0,1),1),CHOOSE(RANDBETWEEN(1,3),5,10,20)))","v":10},{"$f":"IF(I389=1,D389,IF(I389=3,\"%\",\"cm\"))","v":"%"},{"$f":"RANDBETWEEN(1,MIN(9,C389))","v":6},{"$f":"IF(AND(Worksheet!$D$12,RAND()<0.2),3,IF(RAND()<Worksheet!$D$10/100,1,2))","v":3},{"$f":"IF(I389=1,F389,IF(I389=2,F389/100,IF(I389=3,F389/100*C389,\"\")))","v":0.60000000000000009},{"$f":"CONCATENATE(\" \",D389)","v":" m"},{"$f":"IF(I389=1,F389*100,IF(I389=2,F389,IF(I389=3,F389/100*C389*100,\"\")))","v":60.000000000000007},"cm"]
[{"$f":"IF(COUNTIF($B$1:B390,TRUE)=COUNTIF($B$1:B389,TRUE),\"\",COUNTIF($B$1:B390,TRUE))","v":304},{"$f":"Worksheet!$B$24","v":true},{"$f":"RANDBETWEEN(5,RANDBETWEEN(5,Worksheet!$D$8))","v":11},"km","±",{"$f":"IF(I390=1,H390*10^RANDBETWEEN(IF(Worksheet!$D$14,-1,0),0),IF(I390=2,H390*10^RANDBETWEEN(RANDBETWEEN(0,2),2),CHOOSE(RANDBETWEEN(1,3),5,10,20)))","v":10},{"$f":"IF(I390=1,D390,IF(I390=3,\"%\",\"m\"))","v":"%"},2,{"$f":"IF(AND(Worksheet!$D$12,RAND()<0.2),3,IF(RAND()<Worksheet!$D$10/100,1,2))","v":3},{"$f":"IF(I390=1,F390,IF(I390=2,F390/1000,IF(I390=3,F390/100*C390,\"\")))","v":1.1000000000000001}," km",{"$f":"IF(I390=1,F390*1000,IF(I390=2,F390,IF(I390=3,F390/100*C390*1000,\"\")))","v":1100},"m"]
[{"$f":"IF(COUNTIF($B$1:B391,TRUE)=COUNTIF($B$1:B390,TRUE),\"\",COUNTIF($B$1:B391,TRUE))","v":""},{"$f":"Worksheet!$B$26","v":false},{"$f":"RANDBETWEEN(5,RANDBETWEEN(5,Worksheet!$D$8))","v":11},"m","±",{"$f":"IF(I391=1,H391*10^RANDBETWEEN(IF(Worksheet!$D$14,-1,0),0),IF(I391=2,H391*10^RANDBETWEEN(RANDBETWEEN(0,2),2),CHOOSE(RANDBETWEEN(1,3),5,10,20)))","v":9},{"$f":"IF(I391=1,D391,IF(I391=3,\"%\",\"mm\"))","v":"m"},9,{"$f":"IF(AND(Worksheet!$D$12,RAND()<0.2),3,IF(RAND()<Worksheet!$D$10/100,1,2))","v":1},9," m",9000,"mm"]
[{"$f":"IF(COUNTIF($B$1:B392,TRUE)=COUNTIF($B$1:B391,TRUE),\"\",COUNTIF($B$1:B392,TRUE))","v":305},{"$f":"Worksheet!$D$20","v":true},{"$f":"RANDBETWEEN(5,RANDBETWEEN(5,Worksheet!$D$8))","v":86},"kg","±",{"$f":"IF(I392=1,H392*10^RANDBETWEEN(IF(Worksheet!$D$14,-1,0),0),IF(I392=2,H392*10^RANDBETWEEN(RANDBETWEEN(0,2),2),CHOOSE(RANDBETWEEN(1,3),5,10,20)))","v":9},{"$f":"IF(I392=1,D392,IF(I392=3,\"%\",\"g\"))","v":"kg"},{"$f":"RANDBETWEEN(1,MIN(9,C392))","v":9},{"$f":"IF(AND(Worksheet!$D$12,RAND()<0.2),3,IF(RAND()<Worksheet!$D$10/100,1,2))","v":1},9,{"$f":"CONCATENATE(\" \",D392)","v":" kg"},9000,"g"]
[{"$f":"IF(COUNTIF($B$1:B393,TRUE)=COUNTIF($B$1:B392,TRUE),\"\",COUNTIF($B$1:B393,TRUE))","v":306},{"$f":"Worksheet!$D$22","v":true},{"$f":"RANDBETWEEN(5,RANDBETWEEN(5,Worksheet!$D$8))","v":7},"tonnes","±",{"$f":"IF(I393=1,H393*10^RANDBETWEEN(IF(Worksheet!$D$14,-1,0),0),IF(I393=2,H393*10^RANDBETWEEN(RANDBETWEEN(0,2),2),CHOOSE(RANDBETWEEN(1,3),5,10,20)))","v":0.30000000000000004},{"$f":"IF(I393=1,D393,IF(I393=3,\"%\",\"kg\"))","v":"tonnes"},{"$f":"RANDBETWEEN(1,MIN(9,C393))","v":3},{"$f":"IF(AND(Worksheet!$D$12,RAND()<0.2),3,IF(RAND()<Worksheet!$D$10/100,1,2))","v":1},0.30000000000000004,{"$f":"CONCATENATE(\" \",D393)","v":" tonnes"},300.00000000000006,"kg"]
[{"$f":"IF(COUNTIF($B$1:B394,TRUE)=COUNTIF($B$1:B393,TRUE),\"\",COUNTIF($B$1:B394,TRUE))","v":307},{"$f":"Worksheet!$D$24","v":true},{"$f":"RANDBETWEEN(5,RANDBETWEEN(5,Worksheet!$D$8))","v":44},"litres","±",{"$f":"IF(I394=1,H394*10^RANDBETWEEN(IF(Worksheet!$D$14,-1,0),0),IF(I394=2,H394*10^RANDBETWEEN(RANDBETWEEN(0,2),2),CHOOSE(RANDBETWEEN(1,3),5,10,20)))","v":800},{"$f":"IF(I394=1,D394,IF(I394=3,\"%\",\"ml\"))","v":"ml"},{"$f":"RANDBETWEEN(1,MIN(9,C394))","v":8},{"$f":"IF(AND(Worksheet!$D$12,RAND()<0.2),3,IF(RAND()<Worksheet!$D$10/100,1,2))","v":2},0.8,{"$f":"CONCATENATE(\" \",D394)","v":" litres"},800,"ml"]
[{"$f":"IF(COUNTIF($B$1:B395,TRUE)=COUNTIF($B$1:B394,TRUE),\"\",COUNTIF($B$1:B395,TRUE))","v":""},{"$f":"Worksheet!$D$26","v":false},{"$f":"RANDBETWEEN(5,RANDBETWEEN(5,Worksheet!$D$8))","v":5},"litres","±",{"$f":"IF(I395=1,H395*10^RANDBETWEEN(IF(Worksheet!$D$14,-1,0),0),IF(I395=2,H395*10^RANDBETWEEN(RANDBETWEEN(0,2),2),CHOOSE(RANDBETWEEN(1,3),5,10,20)))","v":100},{"$f":"IF(I395=1,D395,IF(I395=3,\"%\",\"cm³\"))","v":"cm³"},{"$f":"RANDBETWEEN(1,MIN(9,C395))","v":1},{"$f":"IF(AND(Worksheet!$D$12,RAND()<0.2),3,IF(RAND()<Worksheet!$D$10/100,1,2))","v":2},0.1,{"$f":"CONCATENATE(\" \",D395)","v":" litres"},100,"cm³"]
[{"$f":"IF(COUNTIF($B$1:B396,TRUE)=COUNTIF($B$1:B396,TRUE),\"\",COUNTIF($B$1:B396,TRUE))","v":""},{"$f":"Worksheet!$B$28","v":true},{"$f":"RANDBETWEEN(5,20)","v":9},"°C","±",{"$f":"IF(I396=1,H396*10^RANDBETWEEN(IF(Worksheet!$D$14,-1,0),0),IF(I396=2,H396,CHOOSE(RANDBETWEEN(1,3),5,10,20)))","v":1},{"$f":"IF(I396=1,D396,IF(I396=3,\"%\",\"sec\"))","v":"°C"},{"$f":"RANDBETWEEN(1,MIN(9,C396))","v":1},{"$f":"IF(AND(Worksheet!$D$12,RAND()<0),3,IF(RAND()<Worksheet!$D$10/100,1,2))","v":1},{"$f":"IF(I396=1,F396,IF(I396=2,F396,IF(I396=3,F396/100*C396,\"\")))","v":1},{"$f":"CONCATENATE(\" \",D396)","v":" °C"},{"$f":"IF(I396=1,F396,IF(I396=2,F396,IF(I396=3,F396/100*C396,\"\")))","v":1}," °C"]
[{"$f":"COUNTIF($B$1:B397,TRUE)","v":309},{"$f":"Worksheet!$B$20","v":true},{"$f":"RANDBETWEEN(5,RANDBETWEEN(5,Worksheet!$D$8))","v":16},"cm","±",{"$f":"IF(I397=1,H397*10^RANDBETWEEN(IF(Worksheet!$D$14,-1,0),0),IF(I397=2,H397,CHOOSE(RANDBETWEEN(1,3),5,10,20)))","v":7},{"$f":"IF(I397=1,D397,IF(I397=3,\"%\",\"mm\"))","v":"cm"},{"$f":"RANDBETWEEN(1,MIN(9,C397))","v":7},{"$f":"IF(AND(Worksheet!$D$12,RAND()<0.2),3,IF(RAND()<Worksheet!$D$10/100,1,2))","v":1},{"$f":"IF(I397=1,F397,IF(I397=2,F397/10,IF(I397=3,F397/100*C397,\"\")))","v":7},{"$f":"CONCATENATE(\" \",D397)","v":" cm"},{"$f":"IF(I397=1,F397*10,IF(I397=2,F397,IF(I397=3,F397/100*C397*10,\"\")))","v":70},"mm"]
[{"$f":"IF(COUNTIF($B$1:B398,TRUE)=COUNTIF($B$1:B397,TRUE),\"\",COUNTIF($B$1:B398,TRUE))","v":310},{"$f":"Worksheet!$B$22","v":true},{"$f":"RANDBETWEEN(5,RANDBETWEEN(5,Worksheet!$D$8))","v":14},"m","±",{"$f":"IF(I398=1,H398*10^RANDBETWEEN(IF(Worksheet!$D$14,-1,0),0),IF(I398=2,H398*10^RANDBETWEEN(RANDBETWEEN(0,1),1),CHOOSE(RANDBETWEEN(1,3),5,10,20)))","v":4},{"$f":"IF(I398=1,D398,IF(I398=3,\"%\",\"cm\"))","v":"m"},{"$f":"RANDBETWEEN(1,MIN(9,C398))","v":4},{"$f":"IF(AND(Worksheet!$D$12,RAND()<0.2),3,IF(RAND()<Worksheet!$D$10/100,1,2))","v":1},{"$f":"IF(I398=1,F398,IF(I398=2,F398/100,IF(I398=3,F398/100*C398,\"\")))","v":4},{"$f":"CONCATENATE(\" \",D398)","v":" m"},{"$f":"IF(I398=1,F398*100,IF(I398=2,F398,IF(I398=3,F398/100*C398*100,\"\")))","v":400},"cm"]
[{"$f":"IF(COUNTIF($B$1:B399,TRUE)=COUNTIF($B$1:B398,TRUE),\"\",COUNTIF($B$1:B399,TRUE))","v":311},{"$f":"Worksheet!$B$24","v":true},{"$f":"RANDBETWEEN(5,RANDBETWEEN(5,Worksheet!$D$8))","v":12},"km","±",{"$f":"IF(I399=1,H399*10^RANDBETWEEN(IF(Worksheet!$D$14,-1,0),0),IF(I399=2,H399*10^RANDBETWEEN(RANDBETWEEN(0,2),2),CHOOSE(RANDBETWEEN(1,3),5,10,20)))","v":0.9},{"$f":"IF(I399=1,D399,IF(I399=3,\"%\",\"m\"))","v":"km"},9,{"$f":"IF(AND(Worksheet!$D$12,RAND()<0.2),3,IF(RAND()<Worksheet!$D$10/100,1,2))","v":1},{"$f":"IF(I399=1,F399,IF(I399=2,F399/1000,IF(I399=3,F399/100*C399,\"\")))","v":0.9}," km",{"$f":"IF(I399=1,F399*1000,IF(I399=2,F399,IF(I399=3,F399/100*C399*1000,\"\")))","v":900},"m"]
[{"$f":"IF(COUNTIF($B$1:B400,TRUE)=COUNTIF($B$1:B399,TRUE),\"\",COUNTIF($B$1:B400,TRUE))","v":""},{"$f":"Worksheet!$B$26","v":false},{"$f":"RANDBETWEEN(5,RANDBETWEEN(5,Worksheet!$D$8))","v":24},"m","±",{"$f":"IF(I400=1,H400*10^RANDBETWEEN(IF(Worksheet!$D$14,-1,0),0),IF(I400=2,H400*10^RANDBETWEEN(RANDBETWEEN(0,2),2),CHOOSE(RANDBETWEEN(1,3),5,10,20)))","v":0.30000000000000004},{"$f":"IF(I400=1,D400,IF(I400=3,\"%\",\"mm\"))","v":"m"},3,{"$f":"IF(AND(Worksheet!$D$12,RAND()<0.2),3,IF(RAND()<Worksheet!$D$10/100,1,2))","v":1},0.30000000000000004," m",300.00000000000006,"mm"]
[{"$f":"IF(COUNTIF($B$1:B401,TRUE)=COUNTIF($B$1:B400,TRUE),\"\",COUNTIF($B$1:B401,TRUE))","v":312},{"$f":"Worksheet!$D$20","v":true},{"$f":"RANDBETWEEN(5,RANDBETWEEN(5,Worksheet!$D$8))","v":25},"kg","±",{"$f":"IF(I401=1,H401*10^RANDBETWEEN(IF(Worksheet!$D$14,-1,0),0),IF(I401=2,H401*10^RANDBETWEEN(RANDBETWEEN(0,2),2),CHOOSE(RANDBETWEEN(1,3),5,10,20)))","v":0.60000000000000009},{"$f":"IF(I401=1,D401,IF(I401=3,\"%\",\"g\"))","v":"kg"},{"$f":"RANDBETWEEN(1,MIN(9,C401))","v":6},{"$f":"IF(AND(Worksheet!$D$12,RAND()<0.2),3,IF(RAND()<Worksheet!$D$10/100,1,2))","v":1},0.60000000000000009,{"$f":"CONCATENATE(\" \",D401)","v":" kg"},600.00000000000011,"g"]
[{"$f":"IF(COUNTIF($B$1:B402,TRUE)=COUNTIF($B$1:B401,TRUE),\"\",COUNTIF($B$1:B402,TRUE))","v":313},{"$f":"Worksheet!$D$22","v":true},{"$f":"RANDBETWEEN(5,RANDBETWEEN(5,Worksheet!$D$8))","v":92},"tonnes","±",{"$f":"IF(I402=1,H402*10^RANDBETWEEN(IF(Worksheet!$D$14,-1,0),0),IF(I402=2,H402*10^RANDBETWEEN(RANDBETWEEN(0,2),2),CHOOSE(RANDBETWEEN(1,3),5,10,20)))","v":5},{"$f":"IF(I402=1,D402,IF(I402=3,\"%\",\"kg\"))","v":"%"},{"$f":"RANDBETWEEN(1,MIN(9,C402))","v":2},{"$f":"IF(AND(Worksheet!$D$12,RAND()<0.2),3,IF(RAND()<Worksheet!$D$10/100,1,2))","v":3},4.6000000000000005,{"$f":"CONCATENATE(\" \",D402)","v":" tonnes"},4600.0000000000009,"kg"]
[{"$f":"IF(COUNTIF($B$1:B403,TRUE)=COUNTIF($B$1:B402,TRUE),\"\",COUNTIF($B$1:B403,TRUE))","v":314},{"$f":"Worksheet!$D$24","v":true},{"$f":"RANDBETWEEN(5,RANDBETWEEN(5,Worksheet!$D$8))","v":79},"litres","±",{"$f":"IF(I403=1,H403*10^RANDBETWEEN(IF(Worksheet!$D$14,-1,0),0),IF(I403=2,H403*10^RANDBETWEEN(RANDBETWEEN(0,2),2),CHOOSE(RANDBETWEEN(1,3),5,10,20)))","v":2},{"$f":"IF(I403=1,D403,IF(I403=3,\"%\",\"ml\"))","v":"litres"},{"$f":"RANDBETWEEN(1,MIN(9,C403))","v":2},{"$f":"IF(AND(Worksheet!$D$12,RAND()<0.2),3,IF(RAND()<Worksheet!$D$10/100,1,2))","v":1},2,{"$f":"CONCATENATE(\" \",D403)","v":" litres"},2000,"ml"]
[{"$f":"IF(COUNTIF($B$1:B404,TRUE)=COUNTIF($B$1:B403,TRUE),\"\",COUNTIF($B$1:B404,TRUE))","v":""},{"$f":"Worksheet!$D$26","v":false},{"$f":"RANDBETWEEN(5,RANDBETWEEN(5,Worksheet!$D$8))","v":25},"litres","±",{"$f":"IF(I404=1,H404*10^RANDBETWEEN(IF(Worksheet!$D$14,-1,0),0),IF(I404=2,H404*10^RANDBETWEEN(RANDBETWEEN(0,2),2),CHOOSE(RANDBETWEEN(1,3),5,10,20)))","v":7},{"$f":"IF(I404=1,D404,IF(I404=3,\"%\",\"cm³\"))","v":"litres"},{"$f":"RANDBETWEEN(1,MIN(9,C404))","v":7},{"$f":"IF(AND(Worksheet!$D$12,RAND()<0.2),3,IF(RAND()<Worksheet!$D$10/100,1,2))","v":1},7,{"$f":"CONCATENATE(\" \",D404)","v":" litres"},7000,"cm³"]
[{"$f":"IF(COUNTIF($B$1:B405,TRUE)=COUNTIF($B$1:B405,TRUE),\"\",COUNTIF($B$1:B405,TRUE))","v":""},{"$f":"Worksheet!$B$28","v":true},{"$f":"RANDBETWEEN(5,20)","v":11},"°C","±",{"$f":"IF(I405=1,H405*10^RANDBETWEEN(IF(Worksheet!$D$14,-1,0),0),IF(I405=2,H405,CHOOSE(RANDBETWEEN(1,3),5,10,20)))","v":5},{"$f":"IF(I405=1,D405,IF(I405=3,\"%\",\"sec\"))","v":"°C"},{"$f":"RANDBETWEEN(1,MIN(9,C405))","v":5},{"$f":"IF(AND(Worksheet!$D$12,RAND()<0),3,IF(RAND()<Worksheet!$D$10/100,1,2))","v":1},{"$f":"IF(I405=1,F405,IF(I405=2,F405,IF(I405=3,F405/100*C405,\"\")))","v":5},{"$f":"CONCATENATE(\" \",D405)","v":" °C"},{"$f":"IF(I405=1,F405,IF(I405=2,F405,IF(I405=3,F405/100*C405,\"\")))","v":5}," °C"]
[{"$f":"COUNTIF($B$1:B406,TRUE)","v":316},{"$f":"Worksheet!$B$20","v":true},{"$f":"RANDBETWEEN(5,RANDBETWEEN(5,Worksheet!$D$8))","v":31},"cm","±",{"$f":"IF(I406=1,H406*10^RANDBETWEEN(IF(Worksheet!$D$14,-1,0),0),IF(I406=2,H406,CHOOSE(RANDBETWEEN(1,3),5,10,20)))","v":3},{"$f":"IF(I406=1,D406,IF(I406=3,\"%\",\"mm\"))","v":"mm"},{"$f":"RANDBETWEEN(1,MIN(9,C406))","v":3},{"$f":"IF(AND(Worksheet!$D$12,RAND()<0.2),3,IF(RAND()<Worksheet!$D$10/100,1,2))","v":2},{"$f":"IF(I406=1,F406,IF(I406=2,F406/10,IF(I406=3,F406/100*C406,\"\")))","v":0.3},{"$f":"CONCATENATE(\" \",D406)","v":" cm"},{"$f":"IF(I406=1,F406*10,IF(I406=2,F406,IF(I406=3,F406/100*C406*10,\"\")))","v":3},"mm"]
[{"$f":"IF(COUNTIF($B$1:B407,TRUE)=COUNTIF($B$1:B406,TRUE),\"\",COUNTIF($B$1:B407,TRUE))","v":317},{"$f":"Worksheet!$B$22","v":true},{"$f":"RANDBETWEEN(5,RANDBETWEEN(5,Worksheet!$D$8))","v":46},"m","±",{"$f":"IF(I407=1,H407*10^RANDBETWEEN(IF(Worksheet!$D$14,-1,0),0),IF(I407=2,H407*10^RANDBETWEEN(RANDBETWEEN(0,1),1),CHOOSE(RANDBETWEEN(1,3),5,10,20)))","v":10},{"$f":"IF(I407=1,D407,IF(I407=3,\"%\",\"cm\"))","v":"%"},{"$f":"RANDBETWEEN(1,MIN(9,C407))","v":2},{"$f":"IF(AND(Worksheet!$D$12,RAND()<0.2),3,IF(RAND()<Worksheet!$D$10/100,1,2))","v":3},{"$f":"IF(I407=1,F407,IF(I407=2,F407/100,IF(I407=3,F407/100*C407,\"\")))","v":4.6000000000000005},{"$f":"CONCATENATE(\" \",D407)","v":" m"},{"$f":"IF(I407=1,F407*100,IF(I407=2,F407,IF(I407=3,F407/100*C407*100,\"\")))","v":460.00000000000006},"cm"]
[{"$f":"IF(COUNTIF($B$1:B408,TRUE)=COUNTIF($B$1:B407,TRUE),\"\",COUNTIF($B$1:B408,TRUE))","v":318},{"$f":"Worksheet!$B$24","v":true},{"$f":"RANDBETWEEN(5,RANDBETWEEN(5,Worksheet!$D$8))","v":175},"km","±",{"$f":"IF(I408=1,H408*10^RANDBETWEEN(IF(Worksheet!$D$14,-1,0),0),IF(I408=2,H408*10^RANDBETWEEN(RANDBETWEEN(0,2),2),CHOOSE(RANDBETWEEN(1,3),5,10,20)))","v":0.2},{"$f":"IF(I408=1,D408,IF(I408=3,\"%\",\"m\"))","v":"km"},2,{"$f":"IF(AND(Worksheet!$D$12,RAND()<0.2),3,IF(RAND()<Worksheet!$D$10/100,1,2))","v":1},{"$f":"IF(I408=1,F408,IF(I408=2,F408/1000,IF(I408=3,F408/100*C408,\"\")))","v":0.2}," km",{"$f":"IF(I408=1,F408*1000,IF(I408=2,F408,IF(I408=3,F408/100*C408*1000,\"\")))","v":200},"m"]
[{"$f":"IF(COUNTIF($B$1:B409,TRUE)=COUNTIF($B$1:B408,TRUE),\"\",COUNTIF($B$1:B409,TRUE))","v":""},{"$f":"Worksheet!$B$26","v":false},{"$f":"RANDBETWEEN(5,RANDBETWEEN(5,Worksheet!$D$8))","v":47},"m","±",{"$f":"IF(I409=1,H409*10^RANDBETWEEN(IF(Worksheet!$D$14,-1,0),0),IF(I409=2,H409*10^RANDBETWEEN(RANDBETWEEN(0,2),2),CHOOSE(RANDBETWEEN(1,3),5,10,20)))","v":2},{"$f":"IF(I409=1,D409,IF(I409=3,\"%\",\"mm\"))","v":"m"},2,{"$f":"IF(AND(Worksheet!$D$12,RAND()<0.2),3,IF(RAND()<Worksheet!$D$10/100,1,2))","v":1},2," m",2000,"mm"]
[{"$f":"IF(COUNTIF($B$1:B410,TRUE)=COUNTIF($B$1:B409,TRUE),\"\",COUNTIF($B$1:B410,TRUE))","v":319},{"$f":"Worksheet!$D$20","v":true},{"$f":"RANDBETWEEN(5,RANDBETWEEN(5,Worksheet!$D$8))","v":50},"kg","±",{"$f":"IF(I410=1,H410*10^RANDBETWEEN(IF(Worksheet!$D$14,-1,0),0),IF(I410=2,H410*10^RANDBETWEEN(RANDBETWEEN(0,2),2),CHOOSE(RANDBETWEEN(1,3),5,10,20)))","v":5},{"$f":"IF(I410=1,D410,IF(I410=3,\"%\",\"g\"))","v":"%"},{"$f":"RANDBETWEEN(1,MIN(9,C410))","v":1},{"$f":"IF(AND(Worksheet!$D$12,RAND()<0.2),3,IF(RAND()<Worksheet!$D$10/100,1,2))","v":3},2.5,{"$f":"CONCATENATE(\" \",D410)","v":" kg"},2500,"g"]
[{"$f":"IF(COUNTIF($B$1:B411,TRUE)=COUNTIF($B$1:B410,TRUE),\"\",COUNTIF($B$1:B411,TRUE))","v":320},{"$f":"Worksheet!$D$22","v":true},{"$f":"RANDBETWEEN(5,RANDBETWEEN(5,Worksheet!$D$8))","v":6},"tonnes","±",{"$f":"IF(I411=1,H411*10^RANDBETWEEN(IF(Worksheet!$D$14,-1,0),0),IF(I411=2,H411*10^RANDBETWEEN(RANDBETWEEN(0,2),2),CHOOSE(RANDBETWEEN(1,3),5,10,20)))","v":300},{"$f":"IF(I411=1,D411,IF(I411=3,\"%\",\"kg\"))","v":"kg"},{"$f":"RANDBETWEEN(1,MIN(9,C411))","v":3},{"$f":"IF(AND(Worksheet!$D$12,RAND()<0.2),3,IF(RAND()<Worksheet!$D$10/100,1,2))","v":2},0.3,{"$f":"CONCATENATE(\" \",D411)","v":" tonnes"},300,"kg"]
[{"$f":"IF(COUNTIF($B$1:B412,TRUE)=COUNTIF($B$1:B411,TRUE),\"\",COUNTIF($B$1:B412,TRUE))","v":321},{"$f":"Worksheet!$D$24","v":true},{"$f":"RANDBETWEEN(5,RANDBETWEEN(5,Worksheet!$D$8))","v":53},"litres","±",{"$f":"IF(I412=1,H412*10^RANDBETWEEN(IF(Worksheet!$D$14,-1,0),0),IF(I412=2,H412*10^RANDBETWEEN(RANDBETWEEN(0,2),2),CHOOSE(RANDBETWEEN(1,3),5,10,20)))","v":10},{"$f":"IF(I412=1,D412,IF(I412=3,\"%\",\"ml\"))","v":"%"},{"$f":"RANDBETWEEN(1,MIN(9,C412))","v":2},{"$f":"IF(AND(Worksheet!$D$12,RAND()<0.2),3,IF(RAND()<Worksheet!$D$10/100,1,2))","v":3},5.3000000000000007,{"$f":"CONCATENATE(\" \",D412)","v":" litres"},5300.0000000000009,"ml"]
[{"$f":"IF(COUNTIF($B$1:B413,TRUE)=COUNTIF($B$1:B412,TRUE),\"\",COUNTIF($B$1:B413,TRUE))","v":""},{"$f":"Worksheet!$D$26","v":false},{"$f":"RANDBETWEEN(5,RANDBETWEEN(5,Worksheet!$D$8))","v":114},"litres","±",{"$f":"IF(I413=1,H413*10^RANDBETWEEN(IF(Worksheet!$D$14,-1,0),0),IF(I413=2,H413*10^RANDBETWEEN(RANDBETWEEN(0,2),2),CHOOSE(RANDBETWEEN(1,3),5,10,20)))","v":5},{"$f":"IF(I413=1,D413,IF(I413=3,\"%\",\"cm³\"))","v":"litres"},{"$f":"RANDBETWEEN(1,MIN(9,C413))","v":5},{"$f":"IF(AND(Worksheet!$D$12,RAND()<0.2),3,IF(RAND()<Worksheet!$D$10/100,1,2))","v":1},5,{"$f":"CONCATENATE(\" \",D413)","v":" litres"},5000,"cm³"]
[{"$f":"IF(COUNTIF($B$1:B414,TRUE)=COUNTIF($B$1:B414,TRUE),\"\",COUNTIF($B$1:B414,TRUE))","v":""},{"$f":"Worksheet!$B$28","v":true},{"$f":"RANDBETWEEN(5,20)","v":13},"°C","±",{"$f":"IF(I414=1,H414*10^RANDBETWEEN(IF(Worksheet!$D$14,-1,0),0),IF(I414=2,H414,CHOOSE(RANDBETWEEN(1,3),5,10,20)))","v":0.4},{"$f":"IF(I414=1,D414,IF(I414=3,\"%\",\"sec\"))","v":"°C"},{"$f":"RANDBETWEEN(1,MIN(9,C414))","v":4},{"$f":"IF(AND(Worksheet!$D$12,RAND()<0),3,IF(RAND()<Worksheet!$D$10/100,1,2))","v":1},{"$f":"IF(I414=1,F414,IF(I414=2,F414,IF(I414=3,F414/100*C414,\"\")))","v":0.4},{"$f":"CONCATENATE(\" \",D414)","v":" °C"},{"$f":"IF(I414=1,F414,IF(I414=2,F414,IF(I414=3,F414/100*C414,\"\")))","v":0.4}," °C"]
[{"$f":"COUNTIF($B$1:B415,TRUE)","v":323},{"$f":"Worksheet!$B$20","v":true},{"$f":"RANDBETWEEN(5,RANDBETWEEN(5,Worksheet!$D$8))","v":31},"cm","±",{"$f":"IF(I415=1,H415*10^RANDBETWEEN(IF(Worksheet!$D$14,-1,0),0),IF(I415=2,H415,CHOOSE(RANDBETWEEN(1,3),5,10,20)))","v":20},{"$f":"IF(I415=1,D415,IF(I415=3,\"%\",\"mm\"))","v":"%"},{"$f":"RANDBETWEEN(1,MIN(9,C415))","v":2},{"$f":"IF(AND(Worksheet!$D$12,RAND()<0.2),3,IF(RAND()<Worksheet!$D$10/100,1,2))","v":3},{"$f":"IF(I415=1,F415,IF(I415=2,F415/10,IF(I415=3,F415/100*C415,\"\")))","v":6.2},{"$f":"CONCATENATE(\" \",D415)","v":" cm"},{"$f":"IF(I415=1,F415*10,IF(I415=2,F415,IF(I415=3,F415/100*C415*10,\"\")))","v":62},"mm"]
[{"$f":"IF(COUNTIF($B$1:B416,TRUE)=COUNTIF($B$1:B415,TRUE),\"\",COUNTIF($B$1:B416,TRUE))","v":324},{"$f":"Worksheet!$B$22","v":true},{"$f":"RANDBETWEEN(5,RANDBETWEEN(5,Worksheet!$D$8))","v":67},"m","±",{"$f":"IF(I416=1,H416*10^RANDBETWEEN(IF(Worksheet!$D$14,-1,0),0),IF(I416=2,H416*10^RANDBETWEEN(RANDBETWEEN(0,1),1),CHOOSE(RANDBETWEEN(1,3),5,10,20)))","v":9},{"$f":"IF(I416=1,D416,IF(I416=3,\"%\",\"cm\"))","v":"m"},{"$f":"RANDBETWEEN(1,MIN(9,C416))","v":9},{"$f":"IF(AND(Worksheet!$D$12,RAND()<0.2),3,IF(RAND()<Worksheet!$D$10/100,1,2))","v":1},{"$f":"IF(I416=1,F416,IF(I416=2,F416/100,IF(I416=3,F416/100*C416,\"\")))","v":9},{"$f":"CONCATENATE(\" \",D416)","v":" m"},{"$f":"IF(I416=1,F416*100,IF(I416=2,F416,IF(I416=3,F416/100*C416*100,\"\")))","v":900},"cm"]
[{"$f":"IF(COUNTIF($B$1:B417,TRUE)=COUNTIF($B$1:B416,TRUE),\"\",COUNTIF($B$1:B417,TRUE))","v":325},{"$f":"Worksheet!$B$24","v":true},{"$f":"RANDBETWEEN(5,RANDBETWEEN(5,Worksheet!$D$8))","v":64},"km","±",{"$f":"IF(I417=1,H417*10^RANDBETWEEN(IF(Worksheet!$D$14,-1,0),0),IF(I417=2,H417*10^RANDBETWEEN(RANDBETWEEN(0,2),2),CHOOSE(RANDBETWEEN(1,3),5,10,20)))","v":700},{"$f":"IF(I417=1,D417,IF(I417=3,\"%\",\"m\"))","v":"m"},7,{"$f":"IF(AND(Worksheet!$D$12,RAND()<0.2),3,IF(RAND()<Worksheet!$D$10/100,1,2))","v":2},{"$f":"IF(I417=1,F417,IF(I417=2,F417/1000,IF(I417=3,F417/100*C417,\"\")))","v":0.7}," km",{"$f":"IF(I417=1,F417*1000,IF(I417=2,F417,IF(I417=3,F417/100*C417*1000,\"\")))","v":700},"m"]
[{"$f":"IF(COUNTIF($B$1:B418,TRUE)=COUNTIF($B$1:B417,TRUE),\"\",COUNTIF($B$1:B418,TRUE))","v":""},{"$f":"Worksheet!$B$26","v":false},{"$f":"RANDBETWEEN(5,RANDBETWEEN(5,Worksheet!$D$8))","v":99},"m","±",{"$f":"IF(I418=1,H418*10^RANDBETWEEN(IF(Worksheet!$D$14,-1,0),0),IF(I418=2,H418*10^RANDBETWEEN(RANDBETWEEN(0,2),2),CHOOSE(RANDBETWEEN(1,3),5,10,20)))","v":0.1},{"$f":"IF(I418=1,D418,IF(I418=3,\"%\",\"mm\"))","v":"m"},1,{"$f":"IF(AND(Worksheet!$D$12,RAND()<0.2),3,IF(RAND()<Worksheet!$D$10/100,1,2))","v":1},0.1," m",100,"mm"]
[{"$f":"IF(COUNTIF($B$1:B419,TRUE)=COUNTIF($B$1:B418,TRUE),\"\",COUNTIF($B$1:B419,TRUE))","v":326},{"$f":"Worksheet!$D$20","v":true},{"$f":"RANDBETWEEN(5,RANDBETWEEN(5,Worksheet!$D$8))","v":25},"kg","±",{"$f":"IF(I419=1,H419*10^RANDBETWEEN(IF(Worksheet!$D$14,-1,0),0),IF(I419=2,H419*10^RANDBETWEEN(RANDBETWEEN(0,2),2),CHOOSE(RANDBETWEEN(1,3),5,10,20)))","v":10},{"$f":"IF(I419=1,D419,IF(I419=3,\"%\",\"g\"))","v":"%"},{"$f":"RANDBETWEEN(1,MIN(9,C419))","v":8},{"$f":"IF(AND(Worksheet!$D$12,RAND()<0.2),3,IF(RAND()<Worksheet!$D$10/100,1,2))","v":3},2.5,{"$f":"CONCATENATE(\" \",D419)","v":" kg"},2500,"g"]
[{"$f":"IF(COUNTIF($B$1:B420,TRUE)=COUNTIF($B$1:B419,TRUE),\"\",COUNTIF($B$1:B420,TRUE))","v":327},{"$f":"Worksheet!$D$22","v":true},{"$f":"RANDBETWEEN(5,RANDBETWEEN(5,Worksheet!$D$8))","v":71},"tonnes","±",{"$f":"IF(I420=1,H420*10^RANDBETWEEN(IF(Worksheet!$D$14,-1,0),0),IF(I420=2,H420*10^RANDBETWEEN(RANDBETWEEN(0,2),2),CHOOSE(RANDBETWEEN(1,3),5,10,20)))","v":80},{"$f":"IF(I420=1,D420,IF(I420=3,\"%\",\"kg\"))","v":"kg"},{"$f":"RANDBETWEEN(1,MIN(9,C420))","v":8},{"$f":"IF(AND(Worksheet!$D$12,RAND()<0.2),3,IF(RAND()<Worksheet!$D$10/100,1,2))","v":2},0.08,{"$f":"CONCATENATE(\" \",D420)","v":" tonnes"},80,"kg"]
[{"$f":"IF(COUNTIF($B$1:B421,TRUE)=COUNTIF($B$1:B420,TRUE),\"\",COUNTIF($B$1:B421,TRUE))","v":328},{"$f":"Worksheet!$D$24","v":true},{"$f":"RANDBETWEEN(5,RANDBETWEEN(5,Worksheet!$D$8))","v":53},"litres","±",{"$f":"IF(I421=1,H421*10^RANDBETWEEN(IF(Worksheet!$D$14,-1,0),0),IF(I421=2,H421*10^RANDBETWEEN(RANDBETWEEN(0,2),2),CHOOSE(RANDBETWEEN(1,3),5,10,20)))","v":0.9},{"$f":"IF(I421=1,D421,IF(I421=3,\"%\",\"ml\"))","v":"litres"},{"$f":"RANDBETWEEN(1,MIN(9,C421))","v":9},{"$f":"IF(AND(Worksheet!$D$12,RAND()<0.2),3,IF(RAND()<Worksheet!$D$10/100,1,2))","v":1},0.9,{"$f":"CONCATENATE(\" \",D421)","v":" litres"},900,"ml"]
[{"$f":"IF(COUNTIF($B$1:B422,TRUE)=COUNTIF($B$1:B421,TRUE),\"\",COUNTIF($B$1:B422,TRUE))","v":""},{"$f":"Worksheet!$D$26","v":false},{"$f":"RANDBETWEEN(5,RANDBETWEEN(5,Worksheet!$D$8))","v":60},"litres","±",{"$f":"IF(I422=1,H422*10^RANDBETWEEN(IF(Worksheet!$D$14,-1,0),0),IF(I422=2,H422*10^RANDBETWEEN(RANDBETWEEN(0,2),2),CHOOSE(RANDBETWEEN(1,3),5,10,20)))","v":10},{"$f":"IF(I422=1,D422,IF(I422=3,\"%\",\"cm³\"))","v":"%"},{"$f":"RANDBETWEEN(1,MIN(9,C422))","v":8},{"$f":"IF(AND(Worksheet!$D$12,RAND()<0.2),3,IF(RAND()<Worksheet!$D$10/100,1,2))","v":3},6,{"$f":"CONCATENATE(\" \",D422)","v":" litres"},6000,"cm³"]
[{"$f":"IF(COUNTIF($B$1:B423,TRUE)=COUNTIF($B$1:B423,TRUE),\"\",COUNTIF($B$1:B423,TRUE))","v":""},{"$f":"Worksheet!$B$28","v":true},{"$f":"RANDBETWEEN(5,20)","v":16},"°C","±",{"$f":"IF(I423=1,H423*10^RANDBETWEEN(IF(Worksheet!$D$14,-1,0),0),IF(I423=2,H423,CHOOSE(RANDBETWEEN(1,3),5,10,20)))","v":0.60000000000000009},{"$f":"IF(I423=1,D423,IF(I423=3,\"%\",\"sec\"))","v":"°C"},{"$f":"RANDBETWEEN(1,MIN(9,C423))","v":6},{"$f":"IF(AND(Worksheet!$D$12,RAND()<0),3,IF(RAND()<Worksheet!$D$10/100,1,2))","v":1},{"$f":"IF(I423=1,F423,IF(I423=2,F423,IF(I423=3,F423/100*C423,\"\")))","v":0.60000000000000009},{"$f":"CONCATENATE(\" \",D423)","v":" °C"},{"$f":"IF(I423=1,F423,IF(I423=2,F423,IF(I423=3,F423/100*C423,\"\")))","v":0.60000000000000009}," °C"]
[{"$f":"COUNTIF($B$1:B424,TRUE)","v":330},{"$f":"Worksheet!$B$20","v":true},{"$f":"RANDBETWEEN(5,RANDBETWEEN(5,Worksheet!$D$8))","v":28},"cm","±",{"$f":"IF(I424=1,H424*10^RANDBETWEEN(IF(Worksheet!$D$14,-1,0),0),IF(I424=2,H424,CHOOSE(RANDBETWEEN(1,3),5,10,20)))","v":6},{"$f":"IF(I424=1,D424,IF(I424=3,\"%\",\"mm\"))","v":"mm"},{"$f":"RANDBETWEEN(1,MIN(9,C424))","v":6},{"$f":"IF(AND(Worksheet!$D$12,RAND()<0.2),3,IF(RAND()<Worksheet!$D$10/100,1,2))","v":2},{"$f":"IF(I424=1,F424,IF(I424=2,F424/10,IF(I424=3,F424/100*C424,\"\")))","v":0.6},{"$f":"CONCATENATE(\" \",D424)","v":" cm"},{"$f":"IF(I424=1,F424*10,IF(I424=2,F424,IF(I424=3,F424/100*C424*10,\"\")))","v":6},"mm"]
[{"$f":"IF(COUNTIF($B$1:B425,TRUE)=COUNTIF($B$1:B424,TRUE),\"\",COUNTIF($B$1:B425,TRUE))","v":331},{"$f":"Worksheet!$B$22","v":true},{"$f":"RANDBETWEEN(5,RANDBETWEEN(5,Worksheet!$D$8))","v":19},"m","±",{"$f":"IF(I425=1,H425*10^RANDBETWEEN(IF(Worksheet!$D$14,-1,0),0),IF(I425=2,H425*10^RANDBETWEEN(RANDBETWEEN(0,1),1),CHOOSE(RANDBETWEEN(1,3),5,10,20)))","v":0.4},{"$f":"IF(I425=1,D425,IF(I425=3,\"%\",\"cm\"))","v":"m"},{"$f":"RANDBETWEEN(1,MIN(9,C425))","v":4},{"$f":"IF(AND(Worksheet!$D$12,RAND()<0.2),3,IF(RAND()<Worksheet!$D$10/100,1,2))","v":1},{"$f":"IF(I425=1,F425,IF(I425=2,F425/100,IF(I425=3,F425/100*C425,\"\")))","v":0.4},{"$f":"CONCATENATE(\" \",D425)","v":" m"},{"$f":"IF(I425=1,F425*100,IF(I425=2,F425,IF(I425=3,F425/100*C425*100,\"\")))","v":40},"cm"]
[{"$f":"IF(COUNTIF($B$1:B426,TRUE)=COUNTIF($B$1:B425,TRUE),\"\",COUNTIF($B$1:B426,TRUE))","v":332},{"$f":"Worksheet!$B$24","v":true},{"$f":"RANDBETWEEN(5,RANDBETWEEN(5,Worksheet!$D$8))","v":24},"km","±",{"$f":"IF(I426=1,H426*10^RANDBETWEEN(IF(Worksheet!$D$14,-1,0),0),IF(I426=2,H426*10^RANDBETWEEN(RANDBETWEEN(0,2),2),CHOOSE(RANDBETWEEN(1,3),5,10,20)))","v":80},{"$f":"IF(I426=1,D426,IF(I426=3,\"%\",\"m\"))","v":"m"},8,{"$f":"IF(AND(Worksheet!$D$12,RAND()<0.2),3,IF(RAND()<Worksheet!$D$10/100,1,2))","v":2},{"$f":"IF(I426=1,F426,IF(I426=2,F426/1000,IF(I426=3,F426/100*C426,\"\")))","v":0.08}," km",{"$f":"IF(I426=1,F426*1000,IF(I426=2,F426,IF(I426=3,F426/100*C426*1000,\"\")))","v":80},"m"]
[{"$f":"IF(COUNTIF($B$1:B427,TRUE)=COUNTIF($B$1:B426,TRUE),\"\",COUNTIF($B$1:B427,TRUE))","v":""},{"$f":"Worksheet!$B$26","v":false},{"$f":"RANDBETWEEN(5,RANDBETWEEN(5,Worksheet!$D$8))","v":9},"m","±",{"$f":"IF(I427=1,H427*10^RANDBETWEEN(IF(Worksheet!$D$14,-1,0),0),IF(I427=2,H427*10^RANDBETWEEN(RANDBETWEEN(0,2),2),CHOOSE(RANDBETWEEN(1,3),5,10,20)))","v":700},{"$f":"IF(I427=1,D427,IF(I427=3,\"%\",\"mm\"))","v":"mm"},7,{"$f":"IF(AND(Worksheet!$D$12,RAND()<0.2),3,IF(RAND()<Worksheet!$D$10/100,1,2))","v":2},0.7," m",700,"mm"]
[{"$f":"IF(COUNTIF($B$1:B428,TRUE)=COUNTIF($B$1:B427,TRUE),\"\",COUNTIF($B$1:B428,TRUE))","v":333},{"$f":"Worksheet!$D$20","v":true},{"$f":"RANDBETWEEN(5,RANDBETWEEN(5,Worksheet!$D$8))","v":157},"kg","±",{"$f":"IF(I428=1,H428*10^RANDBETWEEN(IF(Worksheet!$D$14,-1,0),0),IF(I428=2,H428*10^RANDBETWEEN(RANDBETWEEN(0,2),2),CHOOSE(RANDBETWEEN(1,3),5,10,20)))","v":7},{"$f":"IF(I428=1,D428,IF(I428=3,\"%\",\"g\"))","v":"kg"},{"$f":"RANDBETWEEN(1,MIN(9,C428))","v":7},{"$f":"IF(AND(Worksheet!$D$12,RAND()<0.2),3,IF(RAND()<Worksheet!$D$10/100,1,2))","v":1},7,{"$f":"CONCATENATE(\" \",D428)","v":" kg"},7000,"g"]
[{"$f":"IF(COUNTIF($B$1:B429,TRUE)=COUNTIF($B$1:B428,TRUE),\"\",COUNTIF($B$1:B429,TRUE))","v":334},{"$f":"Worksheet!$D$22","v":true},{"$f":"RANDBETWEEN(5,RANDBETWEEN(5,Worksheet!$D$8))","v":7},"tonnes","±",{"$f":"IF(I429=1,H429*10^RANDBETWEEN(IF(Worksheet!$D$14,-1,0),0),IF(I429=2,H429*10^RANDBETWEEN(RANDBETWEEN(0,2),2),CHOOSE(RANDBETWEEN(1,3),5,10,20)))","v":0.5},{"$f":"IF(I429=1,D429,IF(I429=3,\"%\",\"kg\"))","v":"tonnes"},{"$f":"RANDBETWEEN(1,MIN(9,C429))","v":5},{"$f":"IF(AND(Worksheet!$D$12,RAND()<0.2),3,IF(RAND()<Worksheet!$D$10/100,1,2))","v":1},0.5,{"$f":"CONCATENATE(\" \",D429)","v":" tonnes"},500,"kg"]
[{"$f":"IF(COUNTIF($B$1:B430,TRUE)=COUNTIF($B$1:B429,TRUE),\"\",COUNTIF($B$1:B430,TRUE))","v":335},{"$f":"Worksheet!$D$24","v":true},{"$f":"RANDBETWEEN(5,RANDBETWEEN(5,Worksheet!$D$8))","v":128},"litres","±",{"$f":"IF(I430=1,H430*10^RANDBETWEEN(IF(Worksheet!$D$14,-1,0),0),IF(I430=2,H430*10^RANDBETWEEN(RANDBETWEEN(0,2),2),CHOOSE(RANDBETWEEN(1,3),5,10,20)))","v":4},{"$f":"IF(I430=1,D430,IF(I430=3,\"%\",\"ml\"))","v":"litres"},{"$f":"RANDBETWEEN(1,MIN(9,C430))","v":4},{"$f":"IF(AND(Worksheet!$D$12,RAND()<0.2),3,IF(RAND()<Worksheet!$D$10/100,1,2))","v":1},4,{"$f":"CONCATENATE(\" \",D430)","v":" litres"},4000,"ml"]
[{"$f":"IF(COUNTIF($B$1:B431,TRUE)=COUNTIF($B$1:B430,TRUE),\"\",COUNTIF($B$1:B431,TRUE))","v":""},{"$f":"Worksheet!$D$26","v":false},{"$f":"RANDBETWEEN(5,RANDBETWEEN(5,Worksheet!$D$8))","v":75},"litres","±",{"$f":"IF(I431=1,H431*10^RANDBETWEEN(IF(Worksheet!$D$14,-1,0),0),IF(I431=2,H431*10^RANDBETWEEN(RANDBETWEEN(0,2),2),CHOOSE(RANDBETWEEN(1,3),5,10,20)))","v":0.4},{"$f":"IF(I431=1,D431,IF(I431=3,\"%\",\"cm³\"))","v":"litres"},{"$f":"RANDBETWEEN(1,MIN(9,C431))","v":4},{"$f":"IF(AND(Worksheet!$D$12,RAND()<0.2),3,IF(RAND()<Worksheet!$D$10/100,1,2))","v":1},0.4,{"$f":"CONCATENATE(\" \",D431)","v":" litres"},400,"cm³"]
[{"$f":"IF(COUNTIF($B$1:B432,TRUE)=COUNTIF($B$1:B432,TRUE),\"\",COUNTIF($B$1:B432,TRUE))","v":""},{"$f":"Worksheet!$B$28","v":true},{"$f":"RANDBETWEEN(5,20)","v":14},"°C","±",{"$f":"IF(I432=1,H432*10^RANDBETWEEN(IF(Worksheet!$D$14,-1,0),0),IF(I432=2,H432,CHOOSE(RANDBETWEEN(1,3),5,10,20)))","v":8},{"$f":"IF(I432=1,D432,IF(I432=3,\"%\",\"sec\"))","v":"°C"},{"$f":"RANDBETWEEN(1,MIN(9,C432))","v":8},{"$f":"IF(AND(Worksheet!$D$12,RAND()<0),3,IF(RAND()<Worksheet!$D$10/100,1,2))","v":1},{"$f":"IF(I432=1,F432,IF(I432=2,F432,IF(I432=3,F432/100*C432,\"\")))","v":8},{"$f":"CONCATENATE(\" \",D432)","v":" °C"},{"$f":"IF(I432=1,F432,IF(I432=2,F432,IF(I432=3,F432/100*C432,\"\")))","v":8}," °C"]
[{"$f":"COUNTIF($B$1:B433,TRUE)","v":337},{"$f":"Worksheet!$B$20","v":true},{"$f":"RANDBETWEEN(5,RANDBETWEEN(5,Worksheet!$D$8))","v":16},"cm","±",{"$f":"IF(I433=1,H433*10^RANDBETWEEN(IF(Worksheet!$D$14,-1,0),0),IF(I433=2,H433,CHOOSE(RANDBETWEEN(1,3),5,10,20)))","v":0.70000000000000007},{"$f":"IF(I433=1,D433,IF(I433=3,\"%\",\"mm\"))","v":"cm"},{"$f":"RANDBETWEEN(1,MIN(9,C433))","v":7},{"$f":"IF(AND(Worksheet!$D$12,RAND()<0.2),3,IF(RAND()<Worksheet!$D$10/100,1,2))","v":1},{"$f":"IF(I433=1,F433,IF(I433=2,F433/10,IF(I433=3,F433/100*C433,\"\")))","v":0.70000000000000007},{"$f":"CONCATENATE(\" \",D433)","v":" cm"},{"$f":"IF(I433=1,F433*10,IF(I433=2,F433,IF(I433=3,F433/100*C433*10,\"\")))","v":7.0000000000000009},"mm"]
[{"$f":"IF(COUNTIF($B$1:B434,TRUE)=COUNTIF($B$1:B433,TRUE),\"\",COUNTIF($B$1:B434,TRUE))","v":338},{"$f":"Worksheet!$B$22","v":true},{"$f":"RANDBETWEEN(5,RANDBETWEEN(5,Worksheet!$D$8))","v":80},"m","±",{"$f":"IF(I434=1,H434*10^RANDBETWEEN(IF(Worksheet!$D$14,-1,0),0),IF(I434=2,H434*10^RANDBETWEEN(RANDBETWEEN(0,1),1),CHOOSE(RANDBETWEEN(1,3),5,10,20)))","v":0.1},{"$f":"IF(I434=1,D434,IF(I434=3,\"%\",\"cm\"))","v":"m"},{"$f":"RANDBETWEEN(1,MIN(9,C434))","v":1},{"$f":"IF(AND(Worksheet!$D$12,RAND()<0.2),3,IF(RAND()<Worksheet!$D$10/100,1,2))","v":1},{"$f":"IF(I434=1,F434,IF(I434=2,F434/100,IF(I434=3,F434/100*C434,\"\")))","v":0.1},{"$f":"CONCATENATE(\" \",D434)","v":" m"},{"$f":"IF(I434=1,F434*100,IF(I434=2,F434,IF(I434=3,F434/100*C434*100,\"\")))","v":10},"cm"]
[{"$f":"IF(COUNTIF($B$1:B435,TRUE)=COUNTIF($B$1:B434,TRUE),\"\",COUNTIF($B$1:B435,TRUE))","v":339},{"$f":"Worksheet!$B$24","v":true},{"$f":"RANDBETWEEN(5,RANDBETWEEN(5,Worksheet!$D$8))","v":36},"km","±",{"$f":"IF(I435=1,H435*10^RANDBETWEEN(IF(Worksheet!$D$14,-1,0),0),IF(I435=2,H435*10^RANDBETWEEN(RANDBETWEEN(0,2),2),CHOOSE(RANDBETWEEN(1,3),5,10,20)))","v":0.60000000000000009},{"$f":"IF(I435=1,D435,IF(I435=3,\"%\",\"m\"))","v":"km"},6,{"$f":"IF(AND(Worksheet!$D$12,RAND()<0.2),3,IF(RAND()<Worksheet!$D$10/100,1,2))","v":1},{"$f":"IF(I435=1,F435,IF(I435=2,F435/1000,IF(I435=3,F435/100*C435,\"\")))","v":0.60000000000000009}," km",{"$f":"IF(I435=1,F435*1000,IF(I435=2,F435,IF(I435=3,F435/100*C435*1000,\"\")))","v":600.00000000000011},"m"]
[{"$f":"IF(COUNTIF($B$1:B436,TRUE)=COUNTIF($B$1:B435,TRUE),\"\",COUNTIF($B$1:B436,TRUE))","v":""},{"$f":"Worksheet!$B$26","v":false},{"$f":"RANDBETWEEN(5,RANDBETWEEN(5,Worksheet!$D$8))","v":26},"m","±",{"$f":"IF(I436=1,H436*10^RANDBETWEEN(IF(Worksheet!$D$14,-1,0),0),IF(I436=2,H436*10^RANDBETWEEN(RANDBETWEEN(0,2),2),CHOOSE(RANDBETWEEN(1,3),5,10,20)))","v":4},{"$f":"IF(I436=1,D436,IF(I436=3,\"%\",\"mm\"))","v":"m"},4,{"$f":"IF(AND(Worksheet!$D$12,RAND()<0.2),3,IF(RAND()<Worksheet!$D$10/100,1,2))","v":1},4," m",4000,"mm"]
[{"$f":"IF(COUNTIF($B$1:B437,TRUE)=COUNTIF($B$1:B436,TRUE),\"\",COUNTIF($B$1:B437,TRUE))","v":340},{"$f":"Worksheet!$D$20","v":true},{"$f":"RANDBETWEEN(5,RANDBETWEEN(5,Worksheet!$D$8))","v":34},"kg","±",{"$f":"IF(I437=1,H437*10^RANDBETWEEN(IF(Worksheet!$D$14,-1,0),0),IF(I437=2,H437*10^RANDBETWEEN(RANDBETWEEN(0,2),2),CHOOSE(RANDBETWEEN(1,3),5,10,20)))","v":0.9},{"$f":"IF(I437=1,D437,IF(I437=3,\"%\",\"g\"))","v":"kg"},{"$f":"RANDBETWEEN(1,MIN(9,C437))","v":9},{"$f":"IF(AND(Worksheet!$D$12,RAND()<0.2),3,IF(RAND()<Worksheet!$D$10/100,1,2))","v":1},0.9,{"$f":"CONCATENATE(\" \",D437)","v":" kg"},900,"g"]
[{"$f":"IF(COUNTIF($B$1:B438,TRUE)=COUNTIF($B$1:B437,TRUE),\"\",COUNTIF($B$1:B438,TRUE))","v":341},{"$f":"Worksheet!$D$22","v":true},{"$f":"RANDBETWEEN(5,RANDBETWEEN(5,Worksheet!$D$8))","v":39},"tonnes","±",{"$f":"IF(I438=1,H438*10^RANDBETWEEN(IF(Worksheet!$D$14,-1,0),0),IF(I438=2,H438*10^RANDBETWEEN(RANDBETWEEN(0,2),2),CHOOSE(RANDBETWEEN(1,3),5,10,20)))","v":8},{"$f":"IF(I438=1,D438,IF(I438=3,\"%\",\"kg\"))","v":"tonnes"},{"$f":"RANDBETWEEN(1,MIN(9,C438))","v":8},{"$f":"IF(AND(Worksheet!$D$12,RAND()<0.2),3,IF(RAND()<Worksheet!$D$10/100,1,2))","v":1},8,{"$f":"CONCATENATE(\" \",D438)","v":" tonnes"},8000,"kg"]
[{"$f":"IF(COUNTIF($B$1:B439,TRUE)=COUNTIF($B$1:B438,TRUE),\"\",COUNTIF($B$1:B439,TRUE))","v":342},{"$f":"Worksheet!$D$24","v":true},{"$f":"RANDBETWEEN(5,RANDBETWEEN(5,Worksheet!$D$8))","v":96},"litres","±",{"$f":"IF(I439=1,H439*10^RANDBETWEEN(IF(Worksheet!$D$14,-1,0),0),IF(I439=2,H439*10^RANDBETWEEN(RANDBETWEEN(0,2),2),CHOOSE(RANDBETWEEN(1,3),5,10,20)))","v":6},{"$f":"IF(I439=1,D439,IF(I439=3,\"%\",\"ml\"))","v":"litres"},{"$f":"RANDBETWEEN(1,MIN(9,C439))","v":6},{"$f":"IF(AND(Worksheet!$D$12,RAND()<0.2),3,IF(RAND()<Worksheet!$D$10/100,1,2))","v":1},6,{"$f":"CONCATENATE(\" \",D439)","v":" litres"},6000,"ml"]
[{"$f":"IF(COUNTIF($B$1:B440,TRUE)=COUNTIF($B$1:B439,TRUE),\"\",COUNTIF($B$1:B440,TRUE))","v":""},{"$f":"Worksheet!$D$26","v":false},{"$f":"RANDBETWEEN(5,RANDBETWEEN(5,Worksheet!$D$8))","v":63},"litres","±",{"$f":"IF(I440=1,H440*10^RANDBETWEEN(IF(Worksheet!$D$14,-1,0),0),IF(I440=2,H440*10^RANDBETWEEN(RANDBETWEEN(0,2),2),CHOOSE(RANDBETWEEN(1,3),5,10,20)))","v":0.70000000000000007},{"$f":"IF(I440=1,D440,IF(I440=3,\"%\",\"cm³\"))","v":"litres"},{"$f":"RANDBETWEEN(1,MIN(9,C440))","v":7},{"$f":"IF(AND(Worksheet!$D$12,RAND()<0.2),3,IF(RAND()<Worksheet!$D$10/100,1,2))","v":1},0.70000000000000007,{"$f":"CONCATENATE(\" \",D440)","v":" litres"},700.00000000000011,"cm³"]
[{"$f":"IF(COUNTIF($B$1:B441,TRUE)=COUNTIF($B$1:B441,TRUE),\"\",COUNTIF($B$1:B441,TRUE))","v":""},{"$f":"Worksheet!$B$28","v":true},{"$f":"RANDBETWEEN(5,20)","v":13},"°C","±",{"$f":"IF(I441=1,H441*10^RANDBETWEEN(IF(Worksheet!$D$14,-1,0),0),IF(I441=2,H441,CHOOSE(RANDBETWEEN(1,3),5,10,20)))","v":9},{"$f":"IF(I441=1,D441,IF(I441=3,\"%\",\"sec\"))","v":"sec"},{"$f":"RANDBETWEEN(1,MIN(9,C441))","v":9},{"$f":"IF(AND(Worksheet!$D$12,RAND()<0),3,IF(RAND()<Worksheet!$D$10/100,1,2))","v":2},{"$f":"IF(I441=1,F441,IF(I441=2,F441,IF(I441=3,F441/100*C441,\"\")))","v":9},{"$f":"CONCATENATE(\" \",D441)","v":" °C"},{"$f":"IF(I441=1,F441,IF(I441=2,F441,IF(I441=3,F441/100*C441,\"\")))","v":9}," °C"]
[{"$f":"COUNTIF($B$1:B442,TRUE)","v":344},{"$f":"Worksheet!$B$20","v":true},{"$f":"RANDBETWEEN(5,RANDBETWEEN(5,Worksheet!$D$8))","v":24},"cm","±",{"$f":"IF(I442=1,H442*10^RANDBETWEEN(IF(Worksheet!$D$14,-1,0),0),IF(I442=2,H442,CHOOSE(RANDBETWEEN(1,3),5,10,20)))","v":20},{"$f":"IF(I442=1,D442,IF(I442=3,\"%\",\"mm\"))","v":"%"},{"$f":"RANDBETWEEN(1,MIN(9,C442))","v":3},{"$f":"IF(AND(Worksheet!$D$12,RAND()<0.2),3,IF(RAND()<Worksheet!$D$10/100,1,2))","v":3},{"$f":"IF(I442=1,F442,IF(I442=2,F442/10,IF(I442=3,F442/100*C442,\"\")))","v":4.8000000000000007},{"$f":"CONCATENATE(\" \",D442)","v":" cm"},{"$f":"IF(I442=1,F442*10,IF(I442=2,F442,IF(I442=3,F442/100*C442*10,\"\")))","v":48.000000000000007},"mm"]
[{"$f":"IF(COUNTIF($B$1:B443,TRUE)=COUNTIF($B$1:B442,TRUE),\"\",COUNTIF($B$1:B443,TRUE))","v":345},{"$f":"Worksheet!$B$22","v":true},{"$f":"RANDBETWEEN(5,RANDBETWEEN(5,Worksheet!$D$8))","v":47},"m","±",{"$f":"IF(I443=1,H443*10^RANDBETWEEN(IF(Worksheet!$D$14,-1,0),0),IF(I443=2,H443*10^RANDBETWEEN(RANDBETWEEN(0,1),1),CHOOSE(RANDBETWEEN(1,3),5,10,20)))","v":0.8},{"$f":"IF(I443=1,D443,IF(I443=3,\"%\",\"cm\"))","v":"m"},{"$f":"RANDBETWEEN(1,MIN(9,C443))","v":8},{"$f":"IF(AND(Worksheet!$D$12,RAND()<0.2),3,IF(RAND()<Worksheet!$D$10/100,1,2))","v":1},{"$f":"IF(I443=1,F443,IF(I443=2,F443/100,IF(I443=3,F443/100*C443,\"\")))","v":0.8},{"$f":"CONCATENATE(\" \",D443)","v":" m"},{"$f":"IF(I443=1,F443*100,IF(I443=2,F443,IF(I443=3,F443/100*C443*100,\"\")))","v":80},"cm"]
[{"$f":"IF(COUNTIF($B$1:B444,TRUE)=COUNTIF($B$1:B443,TRUE),\"\",COUNTIF($B$1:B444,TRUE))","v":346},{"$f":"Worksheet!$B$24","v":true},{"$f":"RANDBETWEEN(5,RANDBETWEEN(5,Worksheet!$D$8))","v":172},"km","±",{"$f":"IF(I444=1,H444*10^RANDBETWEEN(IF(Worksheet!$D$14,-1,0),0),IF(I444=2,H444*10^RANDBETWEEN(RANDBETWEEN(0,2),2),CHOOSE(RANDBETWEEN(1,3),5,10,20)))","v":6},{"$f":"IF(I444=1,D444,IF(I444=3,\"%\",\"m\"))","v":"km"},6,{"$f":"IF(AND(Worksheet!$D$12,RAND()<0.2),3,IF(RAND()<Worksheet!$D$10/100,1,2))","v":1},{"$f":"IF(I444=1,F444,IF(I444=2,F444/1000,IF(I444=3,F444/100*C444,\"\")))","v":6}," km",{"$f":"IF(I444=1,F444*1000,IF(I444=2,F444,IF(I444=3,F444/100*C444*1000,\"\")))","v":6000},"m"]
[{"$f":"IF(COUNTIF($B$1:B445,TRUE)=COUNTIF($B$1:B444,TRUE),\"\",COUNTIF($B$1:B445,TRUE))","v":""},{"$f":"Worksheet!$B$26","v":false},{"$f":"RANDBETWEEN(5,RANDBETWEEN(5,Worksheet!$D$8))","v":25},"m","±",{"$f":"IF(I445=1,H445*10^RANDBETWEEN(IF(Worksheet!$D$14,-1,0),0),IF(I445=2,H445*10^RANDBETWEEN(RANDBETWEEN(0,2),2),CHOOSE(RANDBETWEEN(1,3),5,10,20)))","v":0.5},{"$f":"IF(I445=1,D445,IF(I445=3,\"%\",\"mm\"))","v":"m"},5,{"$f":"IF(AND(Worksheet!$D$12,RAND()<0.2),3,IF(RAND()<Worksheet!$D$10/100,1,2))","v":1},0.5," m",500,"mm"]
[{"$f":"IF(COUNTIF($B$1:B446,TRUE)=COUNTIF($B$1:B445,TRUE),\"\",COUNTIF($B$1:B446,TRUE))","v":347},{"$f":"Worksheet!$D$20","v":true},{"$f":"RANDBETWEEN(5,RANDBETWEEN(5,Worksheet!$D$8))","v":44},"kg","±",{"$f":"IF(I446=1,H446*10^RANDBETWEEN(IF(Worksheet!$D$14,-1,0),0),IF(I446=2,H446*10^RANDBETWEEN(RANDBETWEEN(0,2),2),CHOOSE(RANDBETWEEN(1,3),5,10,20)))","v":400},{"$f":"IF(I446=1,D446,IF(I446=3,\"%\",\"g\"))","v":"g"},{"$f":"RANDBETWEEN(1,MIN(9,C446))","v":4},{"$f":"IF(AND(Worksheet!$D$12,RAND()<0.2),3,IF(RAND()<Worksheet!$D$10/100,1,2))","v":2},0.4,{"$f":"CONCATENATE(\" \",D446)","v":" kg"},400,"g"]
[{"$f":"IF(COUNTIF($B$1:B447,TRUE)=COUNTIF($B$1:B446,TRUE),\"\",COUNTIF($B$1:B447,TRUE))","v":348},{"$f":"Worksheet!$D$22","v":true},{"$f":"RANDBETWEEN(5,RANDBETWEEN(5,Worksheet!$D$8))","v":9},"tonnes","±",{"$f":"IF(I447=1,H447*10^RANDBETWEEN(IF(Worksheet!$D$14,-1,0),0),IF(I447=2,H447*10^RANDBETWEEN(RANDBETWEEN(0,2),2),CHOOSE(RANDBETWEEN(1,3),5,10,20)))","v":4},{"$f":"IF(I447=1,D447,IF(I447=3,\"%\",\"kg\"))","v":"tonnes"},{"$f":"RANDBETWEEN(1,MIN(9,C447))","v":4},{"$f":"IF(AND(Worksheet!$D$12,RAND()<0.2),3,IF(RAND()<Worksheet!$D$10/100,1,2))","v":1},4,{"$f":"CONCATENATE(\" \",D447)","v":" tonnes"},4000,"kg"]
[{"$f":"IF(COUNTIF($B$1:B448,TRUE)=COUNTIF($B$1:B447,TRUE),\"\",COUNTIF($B$1:B448,TRUE))","v":349},{"$f":"Worksheet!$D$24","v":true},{"$f":"RANDBETWEEN(5,RANDBETWEEN(5,Worksheet!$D$8))","v":43},"litres","±",{"$f":"IF(I448=1,H448*10^RANDBETWEEN(IF(Worksheet!$D$14,-1,0),0),IF(I448=2,H448*10^RANDBETWEEN(RANDBETWEEN(0,2),2),CHOOSE(RANDBETWEEN(1,3),5,10,20)))","v":0.70000000000000007},{"$f":"IF(I448=1,D448,IF(I448=3,\"%\",\"ml\"))","v":"litres"},{"$f":"RANDBETWEEN(1,MIN(9,C448))","v":7},{"$f":"IF(AND(Worksheet!$D$12,RAND()<0.2),3,IF(RAND()<Worksheet!$D$10/100,1,2))","v":1},0.70000000000000007,{"$f":"CONCATENATE(\" \",D448)","v":" litres"},700.00000000000011,"ml"]
[{"$f":"IF(COUNTIF($B$1:B449,TRUE)=COUNTIF($B$1:B448,TRUE),\"\",COUNTIF($B$1:B449,TRUE))","v":""},{"$f":"Worksheet!$D$26","v":false},{"$f":"RANDBETWEEN(5,RANDBETWEEN(5,Worksheet!$D$8))","v":49},"litres","±",{"$f":"IF(I449=1,H449*10^RANDBETWEEN(IF(Worksheet!$D$14,-1,0),0),IF(I449=2,H449*10^RANDBETWEEN(RANDBETWEEN(0,2),2),CHOOSE(RANDBETWEEN(1,3),5,10,20)))","v":20},{"$f":"IF(I449=1,D449,IF(I449=3,\"%\",\"cm³\"))","v":"%"},{"$f":"RANDBETWEEN(1,MIN(9,C449))","v":9},{"$f":"IF(AND(Worksheet!$D$12,RAND()<0.2),3,IF(RAND()<Worksheet!$D$10/100,1,2))","v":3},9.8000000000000007,{"$f":"CONCATENATE(\" \",D449)","v":" litres"},9800,"cm³"]
[{"$f":"IF(COUNTIF($B$1:B450,TRUE)=COUNTIF($B$1:B450,TRUE),\"\",COUNTIF($B$1:B450,TRUE))","v":""},{"$f":"Worksheet!$B$28","v":true},{"$f":"RANDBETWEEN(5,20)","v":17},"°C","±",{"$f":"IF(I450=1,H450*10^RANDBETWEEN(IF(Worksheet!$D$14,-1,0),0),IF(I450=2,H450,CHOOSE(RANDBETWEEN(1,3),5,10,20)))","v":2},{"$f":"IF(I450=1,D450,IF(I450=3,\"%\",\"sec\"))","v":"°C"},{"$f":"RANDBETWEEN(1,MIN(9,C450))","v":2},{"$f":"IF(AND(Worksheet!$D$12,RAND()<0),3,IF(RAND()<Worksheet!$D$10/100,1,2))","v":1},{"$f":"IF(I450=1,F450,IF(I450=2,F450,IF(I450=3,F450/100*C450,\"\")))","v":2},{"$f":"CONCATENATE(\" \",D450)","v":" °C"},{"$f":"IF(I450=1,F450,IF(I450=2,F450,IF(I450=3,F450/100*C450,\"\")))","v":2}," °C"]
[{"$f":"COUNTIF($B$1:B451,TRUE)","v":351},{"$f":"Worksheet!$B$20","v":true},{"$f":"RANDBETWEEN(5,RANDBETWEEN(5,Worksheet!$D$8))","v":43},"cm","±",{"$f":"IF(I451=1,H451*10^RANDBETWEEN(IF(Worksheet!$D$14,-1,0),0),IF(I451=2,H451,CHOOSE(RANDBETWEEN(1,3),5,10,20)))","v":10},{"$f":"IF(I451=1,D451,IF(I451=3,\"%\",\"mm\"))","v":"%"},{"$f":"RANDBETWEEN(1,MIN(9,C451))","v":9},{"$f":"IF(AND(Worksheet!$D$12,RAND()<0.2),3,IF(RAND()<Worksheet!$D$10/100,1,2))","v":3},{"$f":"IF(I451=1,F451,IF(I451=2,F451/10,IF(I451=3,F451/100*C451,\"\")))","v":4.3},{"$f":"CONCATENATE(\" \",D451)","v":" cm"},{"$f":"IF(I451=1,F451*10,IF(I451=2,F451,IF(I451=3,F451/100*C451*10,\"\")))","v":43},"mm"]
[{"$f":"IF(COUNTIF($B$1:B452,TRUE)=COUNTIF($B$1:B451,TRUE),\"\",COUNTIF($B$1:B452,TRUE))","v":352},{"$f":"Worksheet!$B$22","v":true},{"$f":"RANDBETWEEN(5,RANDBETWEEN(5,Worksheet!$D$8))","v":31},"m","±",{"$f":"IF(I452=1,H452*10^RANDBETWEEN(IF(Worksheet!$D$14,-1,0),0),IF(I452=2,H452*10^RANDBETWEEN(RANDBETWEEN(0,1),1),CHOOSE(RANDBETWEEN(1,3),5,10,20)))","v":7},{"$f":"IF(I452=1,D452,IF(I452=3,\"%\",\"cm\"))","v":"m"},{"$f":"RANDBETWEEN(1,MIN(9,C452))","v":7},{"$f":"IF(AND(Worksheet!$D$12,RAND()<0.2),3,IF(RAND()<Worksheet!$D$10/100,1,2))","v":1},{"$f":"IF(I452=1,F452,IF(I452=2,F452/100,IF(I452=3,F452/100*C452,\"\")))","v":7},{"$f":"CONCATENATE(\" \",D452)","v":" m"},{"$f":"IF(I452=1,F452*100,IF(I452=2,F452,IF(I452=3,F452/100*C452*100,\"\")))","v":700},"cm"]
[{"$f":"IF(COUNTIF($B$1:B453,TRUE)=COUNTIF($B$1:B452,TRUE),\"\",COUNTIF($B$1:B453,TRUE))","v":353},{"$f":"Worksheet!$B$24","v":true},{"$f":"RANDBETWEEN(5,RANDBETWEEN(5,Worksheet!$D$8))","v":148},"km","±",{"$f":"IF(I453=1,H453*10^RANDBETWEEN(IF(Worksheet!$D$14,-1,0),0),IF(I453=2,H453*10^RANDBETWEEN(RANDBETWEEN(0,2),2),CHOOSE(RANDBETWEEN(1,3),5,10,20)))","v":3},{"$f":"IF(I453=1,D453,IF(I453=3,\"%\",\"m\"))","v":"km"},3,{"$f":"IF(AND(Worksheet!$D$12,RAND()<0.2),3,IF(RAND()<Worksheet!$D$10/100,1,2))","v":1},{"$f":"IF(I453=1,F453,IF(I453=2,F453/1000,IF(I453=3,F453/100*C453,\"\")))","v":3}," km",{"$f":"IF(I453=1,F453*1000,IF(I453=2,F453,IF(I453=3,F453/100*C453*1000,\"\")))","v":3000},"m"]
[{"$f":"IF(COUNTIF($B$1:B454,TRUE)=COUNTIF($B$1:B453,TRUE),\"\",COUNTIF($B$1:B454,TRUE))","v":""},{"$f":"Worksheet!$B$26","v":false},{"$f":"RANDBETWEEN(5,RANDBETWEEN(5,Worksheet!$D$8))","v":29},"m","±",{"$f":"IF(I454=1,H454*10^RANDBETWEEN(IF(Worksheet!$D$14,-1,0),0),IF(I454=2,H454*10^RANDBETWEEN(RANDBETWEEN(0,2),2),CHOOSE(RANDBETWEEN(1,3),5,10,20)))","v":5},{"$f":"IF(I454=1,D454,IF(I454=3,\"%\",\"mm\"))","v":"%"},8,{"$f":"IF(AND(Worksheet!$D$12,RAND()<0.2),3,IF(RAND()<Worksheet!$D$10/100,1,2))","v":3},1.4500000000000002," m",1450.0000000000002,"mm"]
[{"$f":"IF(COUNTIF($B$1:B455,TRUE)=COUNTIF($B$1:B454,TRUE),\"\",COUNTIF($B$1:B455,TRUE))","v":354},{"$f":"Worksheet!$D$20","v":true},{"$f":"RANDBETWEEN(5,RANDBETWEEN(5,Worksheet!$D$8))","v":34},"kg","±",{"$f":"IF(I455=1,H455*10^RANDBETWEEN(IF(Worksheet!$D$14,-1,0),0),IF(I455=2,H455*10^RANDBETWEEN(RANDBETWEEN(0,2),2),CHOOSE(RANDBETWEEN(1,3),5,10,20)))","v":0.2},{"$f":"IF(I455=1,D455,IF(I455=3,\"%\",\"g\"))","v":"kg"},{"$f":"RANDBETWEEN(1,MIN(9,C455))","v":2},{"$f":"IF(AND(Worksheet!$D$12,RAND()<0.2),3,IF(RAND()<Worksheet!$D$10/100,1,2))","v":1},0.2,{"$f":"CONCATENATE(\" \",D455)","v":" kg"},200,"g"]
[{"$f":"IF(COUNTIF($B$1:B456,TRUE)=COUNTIF($B$1:B455,TRUE),\"\",COUNTIF($B$1:B456,TRUE))","v":355},{"$f":"Worksheet!$D$22","v":true},{"$f":"RANDBETWEEN(5,RANDBETWEEN(5,Worksheet!$D$8))","v":86},"tonnes","±",{"$f":"IF(I456=1,H456*10^RANDBETWEEN(IF(Worksheet!$D$14,-1,0),0),IF(I456=2,H456*10^RANDBETWEEN(RANDBETWEEN(0,2),2),CHOOSE(RANDBETWEEN(1,3),5,10,20)))","v":700},{"$f":"IF(I456=1,D456,IF(I456=3,\"%\",\"kg\"))","v":"kg"},{"$f":"RANDBETWEEN(1,MIN(9,C456))","v":7},{"$f":"IF(AND(Worksheet!$D$12,RAND()<0.2),3,IF(RAND()<Worksheet!$D$10/100,1,2))","v":2},0.7,{"$f":"CONCATENATE(\" \",D456)","v":" tonnes"},700,"kg"]
[{"$f":"IF(COUNTIF($B$1:B457,TRUE)=COUNTIF($B$1:B456,TRUE),\"\",COUNTIF($B$1:B457,TRUE))","v":356},{"$f":"Worksheet!$D$24","v":true},{"$f":"RANDBETWEEN(5,RANDBETWEEN(5,Worksheet!$D$8))","v":36},"litres","±",{"$f":"IF(I457=1,H457*10^RANDBETWEEN(IF(Worksheet!$D$14,-1,0),0),IF(I457=2,H457*10^RANDBETWEEN(RANDBETWEEN(0,2),2),CHOOSE(RANDBETWEEN(1,3),5,10,20)))","v":0.60000000000000009},{"$f":"IF(I457=1,D457,IF(I457=3,\"%\",\"ml\"))","v":"litres"},{"$f":"RANDBETWEEN(1,MIN(9,C457))","v":6},{"$f":"IF(AND(Worksheet!$D$12,RAND()<0.2),3,IF(RAND()<Worksheet!$D$10/100,1,2))","v":1},0.60000000000000009,{"$f":"CONCATENATE(\" \",D457)","v":" litres"},600.00000000000011,"ml"]
[{"$f":"IF(COUNTIF($B$1:B458,TRUE)=COUNTIF($B$1:B457,TRUE),\"\",COUNTIF($B$1:B458,TRUE))","v":""},{"$f":"Worksheet!$D$26","v":false},{"$f":"RANDBETWEEN(5,RANDBETWEEN(5,Worksheet!$D$8))","v":34},"litres","±",{"$f":"IF(I458=1,H458*10^RANDBETWEEN(IF(Worksheet!$D$14,-1,0),0),IF(I458=2,H458*10^RANDBETWEEN(RANDBETWEEN(0,2),2),CHOOSE(RANDBETWEEN(1,3),5,10,20)))","v":0.30000000000000004},{"$f":"IF(I458=1,D458,IF(I458=3,\"%\",\"cm³\"))","v":"litres"},{"$f":"RANDBETWEEN(1,MIN(9,C458))","v":3},{"$f":"IF(AND(Worksheet!$D$12,RAND()<0.2),3,IF(RAND()<Worksheet!$D$10/100,1,2))","v":1},0.30000000000000004,{"$f":"CONCATENATE(\" \",D458)","v":" litres"},300.00000000000006,"cm³"]
[{"$f":"IF(COUNTIF($B$1:B459,TRUE)=COUNTIF($B$1:B459,TRUE),\"\",COUNTIF($B$1:B459,TRUE))","v":""},{"$f":"Worksheet!$B$28","v":true},{"$f":"RANDBETWEEN(5,20)","v":19},"°C","±",{"$f":"IF(I459=1,H459*10^RANDBETWEEN(IF(Worksheet!$D$14,-1,0),0),IF(I459=2,H459,CHOOSE(RANDBETWEEN(1,3),5,10,20)))","v":1},{"$f":"IF(I459=1,D459,IF(I459=3,\"%\",\"sec\"))","v":"°C"},{"$f":"RANDBETWEEN(1,MIN(9,C459))","v":1},{"$f":"IF(AND(Worksheet!$D$12,RAND()<0),3,IF(RAND()<Worksheet!$D$10/100,1,2))","v":1},{"$f":"IF(I459=1,F459,IF(I459=2,F459,IF(I459=3,F459/100*C459,\"\")))","v":1},{"$f":"CONCATENATE(\" \",D459)","v":" °C"},{"$f":"IF(I459=1,F459,IF(I459=2,F459,IF(I459=3,F459/100*C459,\"\")))","v":1}," °C"]
[{"$f":"COUNTIF($B$1:B460,TRUE)","v":358},{"$f":"Worksheet!$B$20","v":true},{"$f":"RANDBETWEEN(5,RANDBETWEEN(5,Worksheet!$D$8))","v":29},"cm","±",{"$f":"IF(I460=1,H460*10^RANDBETWEEN(IF(Worksheet!$D$14,-1,0),0),IF(I460=2,H460,CHOOSE(RANDBETWEEN(1,3),5,10,20)))","v":3},{"$f":"IF(I460=1,D460,IF(I460=3,\"%\",\"mm\"))","v":"cm"},{"$f":"RANDBETWEEN(1,MIN(9,C460))","v":3},{"$f":"IF(AND(Worksheet!$D$12,RAND()<0.2),3,IF(RAND()<Worksheet!$D$10/100,1,2))","v":1},{"$f":"IF(I460=1,F460,IF(I460=2,F460/10,IF(I460=3,F460/100*C460,\"\")))","v":3},{"$f":"CONCATENATE(\" \",D460)","v":" cm"},{"$f":"IF(I460=1,F460*10,IF(I460=2,F460,IF(I460=3,F460/100*C460*10,\"\")))","v":30},"mm"]
[{"$f":"IF(COUNTIF($B$1:B461,TRUE)=COUNTIF($B$1:B460,TRUE),\"\",COUNTIF($B$1:B461,TRUE))","v":359},{"$f":"Worksheet!$B$22","v":true},{"$f":"RANDBETWEEN(5,RANDBETWEEN(5,Worksheet!$D$8))","v":72},"m","±",{"$f":"IF(I461=1,H461*10^RANDBETWEEN(IF(Worksheet!$D$14,-1,0),0),IF(I461=2,H461*10^RANDBETWEEN(RANDBETWEEN(0,1),1),CHOOSE(RANDBETWEEN(1,3),5,10,20)))","v":5},{"$f":"IF(I461=1,D461,IF(I461=3,\"%\",\"cm\"))","v":"%"},{"$f":"RANDBETWEEN(1,MIN(9,C461))","v":9},{"$f":"IF(AND(Worksheet!$D$12,RAND()<0.2),3,IF(RAND()<Worksheet!$D$10/100,1,2))","v":3},{"$f":"IF(I461=1,F461,IF(I461=2,F461/100,IF(I461=3,F461/100*C461,\"\")))","v":3.6},{"$f":"CONCATENATE(\" \",D461)","v":" m"},{"$f":"IF(I461=1,F461*100,IF(I461=2,F461,IF(I461=3,F461/100*C461*100,\"\")))","v":360},"cm"]
[{"$f":"IF(COUNTIF($B$1:B462,TRUE)=COUNTIF($B$1:B461,TRUE),\"\",COUNTIF($B$1:B462,TRUE))","v":360},{"$f":"Worksheet!$B$24","v":true},{"$f":"RANDBETWEEN(5,RANDBETWEEN(5,Worksheet!$D$8))","v":155},"km","±",{"$f":"IF(I462=1,H462*10^RANDBETWEEN(IF(Worksheet!$D$14,-1,0),0),IF(I462=2,H462*10^RANDBETWEEN(RANDBETWEEN(0,2),2),CHOOSE(RANDBETWEEN(1,3),5,10,20)))","v":0.30000000000000004},{"$f":"IF(I462=1,D462,IF(I462=3,\"%\",\"m\"))","v":"km"},3,{"$f":"IF(AND(Worksheet!$D$12,RAND()<0.2),3,IF(RAND()<Worksheet!$D$10/100,1,2))","v":1},{"$f":"IF(I462=1,F462,IF(I462=2,F462/1000,IF(I462=3,F462/100*C462,\"\")))","v":0.30000000000000004}," km",{"$f":"IF(I462=1,F462*1000,IF(I462=2,F462,IF(I462=3,F462/100*C462*1000,\"\")))","v":300.00000000000006},"m"]
[{"$f":"IF(COUNTIF($B$1:B463,TRUE)=COUNTIF($B$1:B462,TRUE),\"\",COUNTIF($B$1:B463,TRUE))","v":""},{"$f":"Worksheet!$B$26","v":false},{"$f":"RANDBETWEEN(5,RANDBETWEEN(5,Worksheet!$D$8))","v":100},"m","±",{"$f":"IF(I463=1,H463*10^RANDBETWEEN(IF(Worksheet!$D$14,-1,0),0),IF(I463=2,H463*10^RANDBETWEEN(RANDBETWEEN(0,2),2),CHOOSE(RANDBETWEEN(1,3),5,10,20)))","v":5},{"$f":"IF(I463=1,D463,IF(I463=3,\"%\",\"mm\"))","v":"m"},5,{"$f":"IF(AND(Worksheet!$D$12,RAND()<0.2),3,IF(RAND()<Worksheet!$D$10/100,1,2))","v":1},5," m",5000,"mm"]
[{"$f":"IF(COUNTIF($B$1:B464,TRUE)=COUNTIF($B$1:B463,TRUE),\"\",COUNTIF($B$1:B464,TRUE))","v":361},{"$f":"Worksheet!$D$20","v":true},{"$f":"RANDBETWEEN(5,RANDBETWEEN(5,Worksheet!$D$8))","v":117},"kg","±",{"$f":"IF(I464=1,H464*10^RANDBETWEEN(IF(Worksheet!$D$14,-1,0),0),IF(I464=2,H464*10^RANDBETWEEN(RANDBETWEEN(0,2),2),CHOOSE(RANDBETWEEN(1,3),5,10,20)))","v":0.4},{"$f":"IF(I464=1,D464,IF(I464=3,\"%\",\"g\"))","v":"kg"},{"$f":"RANDBETWEEN(1,MIN(9,C464))","v":4},{"$f":"IF(AND(Worksheet!$D$12,RAND()<0.2),3,IF(RAND()<Worksheet!$D$10/100,1,2))","v":1},0.4,{"$f":"CONCATENATE(\" \",D464)","v":" kg"},400,"g"]
[{"$f":"IF(COUNTIF($B$1:B465,TRUE)=COUNTIF($B$1:B464,TRUE),\"\",COUNTIF($B$1:B465,TRUE))","v":362},{"$f":"Worksheet!$D$22","v":true},{"$f":"RANDBETWEEN(5,RANDBETWEEN(5,Worksheet!$D$8))","v":41},"tonnes","±",{"$f":"IF(I465=1,H465*10^RANDBETWEEN(IF(Worksheet!$D$14,-1,0),0),IF(I465=2,H465*10^RANDBETWEEN(RANDBETWEEN(0,2),2),CHOOSE(RANDBETWEEN(1,3),5,10,20)))","v":2},{"$f":"IF(I465=1,D465,IF(I465=3,\"%\",\"kg\"))","v":"tonnes"},{"$f":"RANDBETWEEN(1,MIN(9,C465))","v":2},{"$f":"IF(AND(Worksheet!$D$12,RAND()<0.2),3,IF(RAND()<Worksheet!$D$10/100,1,2))","v":1},2,{"$f":"CONCATENATE(\" \",D465)","v":" tonnes"},2000,"kg"]
[{"$f":"IF(COUNTIF($B$1:B466,TRUE)=COUNTIF($B$1:B465,TRUE),\"\",COUNTIF($B$1:B466,TRUE))","v":363},{"$f":"Worksheet!$D$24","v":true},{"$f":"RANDBETWEEN(5,RANDBETWEEN(5,Worksheet!$D$8))","v":54},"litres","±",{"$f":"IF(I466=1,H466*10^RANDBETWEEN(IF(Worksheet!$D$14,-1,0),0),IF(I466=2,H466*10^RANDBETWEEN(RANDBETWEEN(0,2),2),CHOOSE(RANDBETWEEN(1,3),5,10,20)))","v":5},{"$f":"IF(I466=1,D466,IF(I466=3,\"%\",\"ml\"))","v":"%"},{"$f":"RANDBETWEEN(1,MIN(9,C466))","v":9},{"$f":"IF(AND(Worksheet!$D$12,RAND()<0.2),3,IF(RAND()<Worksheet!$D$10/100,1,2))","v":3},2.7,{"$f":"CONCATENATE(\" \",D466)","v":" litres"},2700,"ml"]
[{"$f":"IF(COUNTIF($B$1:B467,TRUE)=COUNTIF($B$1:B466,TRUE),\"\",COUNTIF($B$1:B467,TRUE))","v":""},{"$f":"Worksheet!$D$26","v":false},{"$f":"RANDBETWEEN(5,RANDBETWEEN(5,Worksheet!$D$8))","v":92},"litres","±",{"$f":"IF(I467=1,H467*10^RANDBETWEEN(IF(Worksheet!$D$14,-1,0),0),IF(I467=2,H467*10^RANDBETWEEN(RANDBETWEEN(0,2),2),CHOOSE(RANDBETWEEN(1,3),5,10,20)))","v":300},{"$f":"IF(I467=1,D467,IF(I467=3,\"%\",\"cm³\"))","v":"cm³"},{"$f":"RANDBETWEEN(1,MIN(9,C467))","v":3},{"$f":"IF(AND(Worksheet!$D$12,RAND()<0.2),3,IF(RAND()<Worksheet!$D$10/100,1,2))","v":2},0.3,{"$f":"CONCATENATE(\" \",D467)","v":" litres"},300,"cm³"]
[{"$f":"IF(COUNTIF($B$1:B468,TRUE)=COUNTIF($B$1:B468,TRUE),\"\",COUNTIF($B$1:B468,TRUE))","v":""},{"$f":"Worksheet!$B$28","v":true},{"$f":"RANDBETWEEN(5,20)","v":9},"°C","±",{"$f":"IF(I468=1,H468*10^RANDBETWEEN(IF(Worksheet!$D$14,-1,0),0),IF(I468=2,H468,CHOOSE(RANDBETWEEN(1,3),5,10,20)))","v":0.9},{"$f":"IF(I468=1,D468,IF(I468=3,\"%\",\"sec\"))","v":"°C"},{"$f":"RANDBETWEEN(1,MIN(9,C468))","v":9},{"$f":"IF(AND(Worksheet!$D$12,RAND()<0),3,IF(RAND()<Worksheet!$D$10/100,1,2))","v":1},{"$f":"IF(I468=1,F468,IF(I468=2,F468,IF(I468=3,F468/100*C468,\"\")))","v":0.9},{"$f":"CONCATENATE(\" \",D468)","v":" °C"},{"$f":"IF(I468=1,F468,IF(I468=2,F468,IF(I468=3,F468/100*C468,\"\")))","v":0.9}," °C"]
[{"$f":"COUNTIF($B$1:B469,TRUE)","v":365},{"$f":"Worksheet!$B$20","v":true},{"$f":"RANDBETWEEN(5,RANDBETWEEN(5,Worksheet!$D$8))","v":62},"cm","±",{"$f":"IF(I469=1,H469*10^RANDBETWEEN(IF(Worksheet!$D$14,-1,0),0),IF(I469=2,H469,CHOOSE(RANDBETWEEN(1,3),5,10,20)))","v":0.9},{"$f":"IF(I469=1,D469,IF(I469=3,\"%\",\"mm\"))","v":"cm"},{"$f":"RANDBETWEEN(1,MIN(9,C469))","v":9},{"$f":"IF(AND(Worksheet!$D$12,RAND()<0.2),3,IF(RAND()<Worksheet!$D$10/100,1,2))","v":1},{"$f":"IF(I469=1,F469,IF(I469=2,F469/10,IF(I469=3,F469/100*C469,\"\")))","v":0.9},{"$f":"CONCATENATE(\" \",D469)","v":" cm"},{"$f":"IF(I469=1,F469*10,IF(I469=2,F469,IF(I469=3,F469/100*C469*10,\"\")))","v":9},"mm"]
[{"$f":"IF(COUNTIF($B$1:B470,TRUE)=COUNTIF($B$1:B469,TRUE),\"\",COUNTIF($B$1:B470,TRUE))","v":366},{"$f":"Worksheet!$B$22","v":true},{"$f":"RANDBETWEEN(5,RANDBETWEEN(5,Worksheet!$D$8))","v":23},"m","±",{"$f":"IF(I470=1,H470*10^RANDBETWEEN(IF(Worksheet!$D$14,-1,0),0),IF(I470=2,H470*10^RANDBETWEEN(RANDBETWEEN(0,1),1),CHOOSE(RANDBETWEEN(1,3),5,10,20)))","v":3},{"$f":"IF(I470=1,D470,IF(I470=3,\"%\",\"cm\"))","v":"m"},{"$f":"RANDBETWEEN(1,MIN(9,C470))","v":3},{"$f":"IF(AND(Worksheet!$D$12,RAND()<0.2),3,IF(RAND()<Worksheet!$D$10/100,1,2))","v":1},{"$f":"IF(I470=1,F470,IF(I470=2,F470/100,IF(I470=3,F470/100*C470,\"\")))","v":3},{"$f":"CONCATENATE(\" \",D470)","v":" m"},{"$f":"IF(I470=1,F470*100,IF(I470=2,F470,IF(I470=3,F470/100*C470*100,\"\")))","v":300},"cm"]
[{"$f":"IF(COUNTIF($B$1:B471,TRUE)=COUNTIF($B$1:B470,TRUE),\"\",COUNTIF($B$1:B471,TRUE))","v":367},{"$f":"Worksheet!$B$24","v":true},{"$f":"RANDBETWEEN(5,RANDBETWEEN(5,Worksheet!$D$8))","v":63},"km","±",{"$f":"IF(I471=1,H471*10^RANDBETWEEN(IF(Worksheet!$D$14,-1,0),0),IF(I471=2,H471*10^RANDBETWEEN(RANDBETWEEN(0,2),2),CHOOSE(RANDBETWEEN(1,3),5,10,20)))","v":0.9},{"$f":"IF(I471=1,D471,IF(I471=3,\"%\",\"m\"))","v":"km"},9,{"$f":"IF(AND(Worksheet!$D$12,RAND()<0.2),3,IF(RAND()<Worksheet!$D$10/100,1,2))","v":1},{"$f":"IF(I471=1,F471,IF(I471=2,F471/1000,IF(I471=3,F471/100*C471,\"\")))","v":0.9}," km",{"$f":"IF(I471=1,F471*1000,IF(I471=2,F471,IF(I471=3,F471/100*C471*1000,\"\")))","v":900},"m"]
[{"$f":"IF(COUNTIF($B$1:B472,TRUE)=COUNTIF($B$1:B471,TRUE),\"\",COUNTIF($B$1:B472,TRUE))","v":""},{"$f":"Worksheet!$B$26","v":false},{"$f":"RANDBETWEEN(5,RANDBETWEEN(5,Worksheet!$D$8))","v":95},"m","±",{"$f":"IF(I472=1,H472*10^RANDBETWEEN(IF(Worksheet!$D$14,-1,0),0),IF(I472=2,H472*10^RANDBETWEEN(RANDBETWEEN(0,2),2),CHOOSE(RANDBETWEEN(1,3),5,10,20)))","v":0.9},{"$f":"IF(I472=1,D472,IF(I472=3,\"%\",\"mm\"))","v":"m"},9,{"$f":"IF(AND(Worksheet!$D$12,RAND()<0.2),3,IF(RAND()<Worksheet!$D$10/100,1,2))","v":1},0.9," m",900,"mm"]
[{"$f":"IF(COUNTIF($B$1:B473,TRUE)=COUNTIF($B$1:B472,TRUE),\"\",COUNTIF($B$1:B473,TRUE))","v":368},{"$f":"Worksheet!$D$20","v":true},{"$f":"RANDBETWEEN(5,RANDBETWEEN(5,Worksheet!$D$8))","v":86},"kg","±",{"$f":"IF(I473=1,H473*10^RANDBETWEEN(IF(Worksheet!$D$14,-1,0),0),IF(I473=2,H473*10^RANDBETWEEN(RANDBETWEEN(0,2),2),CHOOSE(RANDBETWEEN(1,3),5,10,20)))","v":2},{"$f":"IF(I473=1,D473,IF(I473=3,\"%\",\"g\"))","v":"kg"},{"$f":"RANDBETWEEN(1,MIN(9,C473))","v":2},{"$f":"IF(AND(Worksheet!$D$12,RAND()<0.2),3,IF(RAND()<Worksheet!$D$10/100,1,2))","v":1},2,{"$f":"CONCATENATE(\" \",D473)","v":" kg"},2000,"g"]
[{"$f":"IF(COUNTIF($B$1:B474,TRUE)=COUNTIF($B$1:B473,TRUE),\"\",COUNTIF($B$1:B474,TRUE))","v":369},{"$f":"Worksheet!$D$22","v":true},{"$f":"RANDBETWEEN(5,RANDBETWEEN(5,Worksheet!$D$8))","v":97},"tonnes","±",{"$f":"IF(I474=1,H474*10^RANDBETWEEN(IF(Worksheet!$D$14,-1,0),0),IF(I474=2,H474*10^RANDBETWEEN(RANDBETWEEN(0,2),2),CHOOSE(RANDBETWEEN(1,3),5,10,20)))","v":800},{"$f":"IF(I474=1,D474,IF(I474=3,\"%\",\"kg\"))","v":"kg"},{"$f":"RANDBETWEEN(1,MIN(9,C474))","v":8},{"$f":"IF(AND(Worksheet!$D$12,RAND()<0.2),3,IF(RAND()<Worksheet!$D$10/100,1,2))","v":2},0.8,{"$f":"CONCATENATE(\" \",D474)","v":" tonnes"},800,"kg"]
[{"$f":"IF(COUNTIF($B$1:B475,TRUE)=COUNTIF($B$1:B474,TRUE),\"\",COUNTIF($B$1:B475,TRUE))","v":370},{"$f":"Worksheet!$D$24","v":true},{"$f":"RANDBETWEEN(5,RANDBETWEEN(5,Worksheet!$D$8))","v":122},"litres","±",{"$f":"IF(I475=1,H475*10^RANDBETWEEN(IF(Worksheet!$D$14,-1,0),0),IF(I475=2,H475*10^RANDBETWEEN(RANDBETWEEN(0,2),2),CHOOSE(RANDBETWEEN(1,3),5,10,20)))","v":0.1},{"$f":"IF(I475=1,D475,IF(I475=3,\"%\",\"ml\"))","v":"litres"},{"$f":"RANDBETWEEN(1,MIN(9,C475))","v":1},{"$f":"IF(AND(Worksheet!$D$12,RAND()<0.2),3,IF(RAND()<Worksheet!$D$10/100,1,2))","v":1},0.1,{"$f":"CONCATENATE(\" \",D475)","v":" litres"},100,"ml"]
[{"$f":"IF(COUNTIF($B$1:B476,TRUE)=COUNTIF($B$1:B475,TRUE),\"\",COUNTIF($B$1:B476,TRUE))","v":""},{"$f":"Worksheet!$D$26","v":false},{"$f":"RANDBETWEEN(5,RANDBETWEEN(5,Worksheet!$D$8))","v":13},"litres","±",{"$f":"IF(I476=1,H476*10^RANDBETWEEN(IF(Worksheet!$D$14,-1,0),0),IF(I476=2,H476*10^RANDBETWEEN(RANDBETWEEN(0,2),2),CHOOSE(RANDBETWEEN(1,3),5,10,20)))","v":5},{"$f":"IF(I476=1,D476,IF(I476=3,\"%\",\"cm³\"))","v":"litres"},{"$f":"RANDBETWEEN(1,MIN(9,C476))","v":5},{"$f":"IF(AND(Worksheet!$D$12,RAND()<0.2),3,IF(RAND()<Worksheet!$D$10/100,1,2))","v":1},5,{"$f":"CONCATENATE(\" \",D476)","v":" litres"},5000,"cm³"]
[{"$f":"IF(COUNTIF($B$1:B477,TRUE)=COUNTIF($B$1:B477,TRUE),\"\",COUNTIF($B$1:B477,TRUE))","v":""},{"$f":"Worksheet!$B$28","v":true},{"$f":"RANDBETWEEN(5,20)","v":11},"°C","±",{"$f":"IF(I477=1,H477*10^RANDBETWEEN(IF(Worksheet!$D$14,-1,0),0),IF(I477=2,H477,CHOOSE(RANDBETWEEN(1,3),5,10,20)))","v":0.1},{"$f":"IF(I477=1,D477,IF(I477=3,\"%\",\"sec\"))","v":"°C"},{"$f":"RANDBETWEEN(1,MIN(9,C477))","v":1},{"$f":"IF(AND(Worksheet!$D$12,RAND()<0),3,IF(RAND()<Worksheet!$D$10/100,1,2))","v":1},{"$f":"IF(I477=1,F477,IF(I477=2,F477,IF(I477=3,F477/100*C477,\"\")))","v":0.1},{"$f":"CONCATENATE(\" \",D477)","v":" °C"},{"$f":"IF(I477=1,F477,IF(I477=2,F477,IF(I477=3,F477/100*C477,\"\")))","v":0.1}," °C"]
[{"$f":"COUNTIF($B$1:B478,TRUE)","v":372},{"$f":"Worksheet!$B$20","v":true},{"$f":"RANDBETWEEN(5,RANDBETWEEN(5,Worksheet!$D$8))","v":13},"cm","±",{"$f":"IF(I478=1,H478*10^RANDBETWEEN(IF(Worksheet!$D$14,-1,0),0),IF(I478=2,H478,CHOOSE(RANDBETWEEN(1,3),5,10,20)))","v":0.9},{"$f":"IF(I478=1,D478,IF(I478=3,\"%\",\"mm\"))","v":"cm"},{"$f":"RANDBETWEEN(1,MIN(9,C478))","v":9},{"$f":"IF(AND(Worksheet!$D$12,RAND()<0.2),3,IF(RAND()<Worksheet!$D$10/100,1,2))","v":1},{"$f":"IF(I478=1,F478,IF(I478=2,F478/10,IF(I478=3,F478/100*C478,\"\")))","v":0.9},{"$f":"CONCATENATE(\" \",D478)","v":" cm"},{"$f":"IF(I478=1,F478*10,IF(I478=2,F478,IF(I478=3,F478/100*C478*10,\"\")))","v":9},"mm"]
[{"$f":"IF(COUNTIF($B$1:B479,TRUE)=COUNTIF($B$1:B478,TRUE),\"\",COUNTIF($B$1:B479,TRUE))","v":373},{"$f":"Worksheet!$B$22","v":true},{"$f":"RANDBETWEEN(5,RANDBETWEEN(5,Worksheet!$D$8))","v":103},"m","±",{"$f":"IF(I479=1,H479*10^RANDBETWEEN(IF(Worksheet!$D$14,-1,0),0),IF(I479=2,H479*10^RANDBETWEEN(RANDBETWEEN(0,1),1),CHOOSE(RANDBETWEEN(1,3),5,10,20)))","v":0.1},{"$f":"IF(I479=1,D479,IF(I479=3,\"%\",\"cm\"))","v":"m"},{"$f":"RANDBETWEEN(1,MIN(9,C479))","v":1},{"$f":"IF(AND(Worksheet!$D$12,RAND()<0.2),3,IF(RAND()<Worksheet!$D$10/100,1,2))","v":1},{"$f":"IF(I479=1,F479,IF(I479=2,F479/100,IF(I479=3,F479/100*C479,\"\")))","v":0.1},{"$f":"CONCATENATE(\" \",D479)","v":" m"},{"$f":"IF(I479=1,F479*100,IF(I479=2,F479,IF(I479=3,F479/100*C479*100,\"\")))","v":10},"cm"]
[{"$f":"IF(COUNTIF($B$1:B480,TRUE)=COUNTIF($B$1:B479,TRUE),\"\",COUNTIF($B$1:B480,TRUE))","v":374},{"$f":"Worksheet!$B$24","v":true},{"$f":"RANDBETWEEN(5,RANDBETWEEN(5,Worksheet!$D$8))","v":136},"km","±",{"$f":"IF(I480=1,H480*10^RANDBETWEEN(IF(Worksheet!$D$14,-1,0),0),IF(I480=2,H480*10^RANDBETWEEN(RANDBETWEEN(0,2),2),CHOOSE(RANDBETWEEN(1,3),5,10,20)))","v":600},{"$f":"IF(I480=1,D480,IF(I480=3,\"%\",\"m\"))","v":"m"},6,{"$f":"IF(AND(Worksheet!$D$12,RAND()<0.2),3,IF(RAND()<Worksheet!$D$10/100,1,2))","v":2},{"$f":"IF(I480=1,F480,IF(I480=2,F480/1000,IF(I480=3,F480/100*C480,\"\")))","v":0.6}," km",{"$f":"IF(I480=1,F480*1000,IF(I480=2,F480,IF(I480=3,F480/100*C480*1000,\"\")))","v":600},"m"]
[{"$f":"IF(COUNTIF($B$1:B481,TRUE)=COUNTIF($B$1:B480,TRUE),\"\",COUNTIF($B$1:B481,TRUE))","v":""},{"$f":"Worksheet!$B$26","v":false},{"$f":"RANDBETWEEN(5,RANDBETWEEN(5,Worksheet!$D$8))","v":28},"m","±",{"$f":"IF(I481=1,H481*10^RANDBETWEEN(IF(Worksheet!$D$14,-1,0),0),IF(I481=2,H481*10^RANDBETWEEN(RANDBETWEEN(0,2),2),CHOOSE(RANDBETWEEN(1,3),5,10,20)))","v":10},{"$f":"IF(I481=1,D481,IF(I481=3,\"%\",\"mm\"))","v":"%"},3,{"$f":"IF(AND(Worksheet!$D$12,RAND()<0.2),3,IF(RAND()<Worksheet!$D$10/100,1,2))","v":3},2.8000000000000003," m",2800.0000000000005,"mm"]
[{"$f":"IF(COUNTIF($B$1:B482,TRUE)=COUNTIF($B$1:B481,TRUE),\"\",COUNTIF($B$1:B482,TRUE))","v":375},{"$f":"Worksheet!$D$20","v":true},{"$f":"RANDBETWEEN(5,RANDBETWEEN(5,Worksheet!$D$8))","v":128},"kg","±",{"$f":"IF(I482=1,H482*10^RANDBETWEEN(IF(Worksheet!$D$14,-1,0),0),IF(I482=2,H482*10^RANDBETWEEN(RANDBETWEEN(0,2),2),CHOOSE(RANDBETWEEN(1,3),5,10,20)))","v":0.2},{"$f":"IF(I482=1,D482,IF(I482=3,\"%\",\"g\"))","v":"kg"},{"$f":"RANDBETWEEN(1,MIN(9,C482))","v":2},{"$f":"IF(AND(Worksheet!$D$12,RAND()<0.2),3,IF(RAND()<Worksheet!$D$10/100,1,2))","v":1},0.2,{"$f":"CONCATENATE(\" \",D482)","v":" kg"},200,"g"]
[{"$f":"IF(COUNTIF($B$1:B483,TRUE)=COUNTIF($B$1:B482,TRUE),\"\",COUNTIF($B$1:B483,TRUE))","v":376},{"$f":"Worksheet!$D$22","v":true},{"$f":"RANDBETWEEN(5,RANDBETWEEN(5,Worksheet!$D$8))","v":35},"tonnes","±",{"$f":"IF(I483=1,H483*10^RANDBETWEEN(IF(Worksheet!$D$14,-1,0),0),IF(I483=2,H483*10^RANDBETWEEN(RANDBETWEEN(0,2),2),CHOOSE(RANDBETWEEN(1,3),5,10,20)))","v":900},{"$f":"IF(I483=1,D483,IF(I483=3,\"%\",\"kg\"))","v":"kg"},{"$f":"RANDBETWEEN(1,MIN(9,C483))","v":9},{"$f":"IF(AND(Worksheet!$D$12,RAND()<0.2),3,IF(RAND()<Worksheet!$D$10/100,1,2))","v":2},0.9,{"$f":"CONCATENATE(\" \",D483)","v":" tonnes"},900,"kg"]
[{"$f":"IF(COUNTIF($B$1:B484,TRUE)=COUNTIF($B$1:B483,TRUE),\"\",COUNTIF($B$1:B484,TRUE))","v":377},{"$f":"Worksheet!$D$24","v":true},{"$f":"RANDBETWEEN(5,RANDBETWEEN(5,Worksheet!$D$8))","v":102},"litres","±",{"$f":"IF(I484=1,H484*10^RANDBETWEEN(IF(Worksheet!$D$14,-1,0),0),IF(I484=2,H484*10^RANDBETWEEN(RANDBETWEEN(0,2),2),CHOOSE(RANDBETWEEN(1,3),5,10,20)))","v":0.9},{"$f":"IF(I484=1,D484,IF(I484=3,\"%\",\"ml\"))","v":"litres"},{"$f":"RANDBETWEEN(1,MIN(9,C484))","v":9},{"$f":"IF(AND(Worksheet!$D$12,RAND()<0.2),3,IF(RAND()<Worksheet!$D$10/100,1,2))","v":1},0.9,{"$f":"CONCATENATE(\" \",D484)","v":" litres"},900,"ml"]
[{"$f":"IF(COUNTIF($B$1:B485,TRUE)=COUNTIF($B$1:B484,TRUE),\"\",COUNTIF($B$1:B485,TRUE))","v":""},{"$f":"Worksheet!$D$26","v":false},{"$f":"RANDBETWEEN(5,RANDBETWEEN(5,Worksheet!$D$8))","v":91},"litres","±",{"$f":"IF(I485=1,H485*10^RANDBETWEEN(IF(Worksheet!$D$14,-1,0),0),IF(I485=2,H485*10^RANDBETWEEN(RANDBETWEEN(0,2),2),CHOOSE(RANDBETWEEN(1,3),5,10,20)))","v":10},{"$f":"IF(I485=1,D485,IF(I485=3,\"%\",\"cm³\"))","v":"%"},{"$f":"RANDBETWEEN(1,MIN(9,C485))","v":7},{"$f":"IF(AND(Worksheet!$D$12,RAND()<0.2),3,IF(RAND()<Worksheet!$D$10/100,1,2))","v":3},9.1,{"$f":"CONCATENATE(\" \",D485)","v":" litres"},9100,"cm³"]
[{"$f":"IF(COUNTIF($B$1:B486,TRUE)=COUNTIF($B$1:B486,TRUE),\"\",COUNTIF($B$1:B486,TRUE))","v":""},{"$f":"Worksheet!$B$28","v":true},{"$f":"RANDBETWEEN(5,20)","v":6},"°C","±",{"$f":"IF(I486=1,H486*10^RANDBETWEEN(IF(Worksheet!$D$14,-1,0),0),IF(I486=2,H486,CHOOSE(RANDBETWEEN(1,3),5,10,20)))","v":0.1},{"$f":"IF(I486=1,D486,IF(I486=3,\"%\",\"sec\"))","v":"°C"},{"$f":"RANDBETWEEN(1,MIN(9,C486))","v":1},{"$f":"IF(AND(Worksheet!$D$12,RAND()<0),3,IF(RAND()<Worksheet!$D$10/100,1,2))","v":1},{"$f":"IF(I486=1,F486,IF(I486=2,F486,IF(I486=3,F486/100*C486,\"\")))","v":0.1},{"$f":"CONCATENATE(\" \",D486)","v":" °C"},{"$f":"IF(I486=1,F486,IF(I486=2,F486,IF(I486=3,F486/100*C486,\"\")))","v":0.1}," °C"]
[{"$f":"COUNTIF($B$1:B487,TRUE)","v":379},{"$f":"Worksheet!$B$20","v":true},{"$f":"RANDBETWEEN(5,RANDBETWEEN(5,Worksheet!$D$8))","v":33},"cm","±",{"$f":"IF(I487=1,H487*10^RANDBETWEEN(IF(Worksheet!$D$14,-1,0),0),IF(I487=2,H487,CHOOSE(RANDBETWEEN(1,3),5,10,20)))","v":10},{"$f":"IF(I487=1,D487,IF(I487=3,\"%\",\"mm\"))","v":"%"},{"$f":"RANDBETWEEN(1,MIN(9,C487))","v":2},{"$f":"IF(AND(Worksheet!$D$12,RAND()<0.2),3,IF(RAND()<Worksheet!$D$10/100,1,2))","v":3},{"$f":"IF(I487=1,F487,IF(I487=2,F487/10,IF(I487=3,F487/100*C487,\"\")))","v":3.3000000000000003},{"$f":"CONCATENATE(\" \",D487)","v":" cm"},{"$f":"IF(I487=1,F487*10,IF(I487=2,F487,IF(I487=3,F487/100*C487*10,\"\")))","v":33},"mm"]
[{"$f":"IF(COUNTIF($B$1:B488,TRUE)=COUNTIF($B$1:B487,TRUE),\"\",COUNTIF($B$1:B488,TRUE))","v":380},{"$f":"Worksheet!$B$22","v":true},{"$f":"RANDBETWEEN(5,RANDBETWEEN(5,Worksheet!$D$8))","v":118},"m","±",{"$f":"IF(I488=1,H488*10^RANDBETWEEN(IF(Worksheet!$D$14,-1,0),0),IF(I488=2,H488*10^RANDBETWEEN(RANDBETWEEN(0,1),1),CHOOSE(RANDBETWEEN(1,3),5,10,20)))","v":50},{"$f":"IF(I488=1,D488,IF(I488=3,\"%\",\"cm\"))","v":"cm"},{"$f":"RANDBETWEEN(1,MIN(9,C488))","v":5},{"$f":"IF(AND(Worksheet!$D$12,RAND()<0.2),3,IF(RAND()<Worksheet!$D$10/100,1,2))","v":2},{"$f":"IF(I488=1,F488,IF(I488=2,F488/100,IF(I488=3,F488/100*C488,\"\")))","v":0.5},{"$f":"CONCATENATE(\" \",D488)","v":" m"},{"$f":"IF(I488=1,F488*100,IF(I488=2,F488,IF(I488=3,F488/100*C488*100,\"\")))","v":50},"cm"]
[{"$f":"IF(COUNTIF($B$1:B489,TRUE)=COUNTIF($B$1:B488,TRUE),\"\",COUNTIF($B$1:B489,TRUE))","v":381},{"$f":"Worksheet!$B$24","v":true},{"$f":"RANDBETWEEN(5,RANDBETWEEN(5,Worksheet!$D$8))","v":10},"km","±",{"$f":"IF(I489=1,H489*10^RANDBETWEEN(IF(Worksheet!$D$14,-1,0),0),IF(I489=2,H489*10^RANDBETWEEN(RANDBETWEEN(0,2),2),CHOOSE(RANDBETWEEN(1,3),5,10,20)))","v":900},{"$f":"IF(I489=1,D489,IF(I489=3,\"%\",\"m\"))","v":"m"},9,{"$f":"IF(AND(Worksheet!$D$12,RAND()<0.2),3,IF(RAND()<Worksheet!$D$10/100,1,2))","v":2},{"$f":"IF(I489=1,F489,IF(I489=2,F489/1000,IF(I489=3,F489/100*C489,\"\")))","v":0.9}," km",{"$f":"IF(I489=1,F489*1000,IF(I489=2,F489,IF(I489=3,F489/100*C489*1000,\"\")))","v":900},"m"]
[{"$f":"IF(COUNTIF($B$1:B490,TRUE)=COUNTIF($B$1:B489,TRUE),\"\",COUNTIF($B$1:B490,TRUE))","v":""},{"$f":"Worksheet!$B$26","v":false},{"$f":"RANDBETWEEN(5,RANDBETWEEN(5,Worksheet!$D$8))","v":14},"m","±",{"$f":"IF(I490=1,H490*10^RANDBETWEEN(IF(Worksheet!$D$14,-1,0),0),IF(I490=2,H490*10^RANDBETWEEN(RANDBETWEEN(0,2),2),CHOOSE(RANDBETWEEN(1,3),5,10,20)))","v":6},{"$f":"IF(I490=1,D490,IF(I490=3,\"%\",\"mm\"))","v":"m"},6,{"$f":"IF(AND(Worksheet!$D$12,RAND()<0.2),3,IF(RAND()<Worksheet!$D$10/100,1,2))","v":1},6," m",6000,"mm"]
[{"$f":"IF(COUNTIF($B$1:B491,TRUE)=COUNTIF($B$1:B490,TRUE),\"\",COUNTIF($B$1:B491,TRUE))","v":382},{"$f":"Worksheet!$D$20","v":true},{"$f":"RANDBETWEEN(5,RANDBETWEEN(5,Worksheet!$D$8))","v":13},"kg","±",{"$f":"IF(I491=1,H491*10^RANDBETWEEN(IF(Worksheet!$D$14,-1,0),0),IF(I491=2,H491*10^RANDBETWEEN(RANDBETWEEN(0,2),2),CHOOSE(RANDBETWEEN(1,3),5,10,20)))","v":0.8},{"$f":"IF(I491=1,D491,IF(I491=3,\"%\",\"g\"))","v":"kg"},{"$f":"RANDBETWEEN(1,MIN(9,C491))","v":8},{"$f":"IF(AND(Worksheet!$D$12,RAND()<0.2),3,IF(RAND()<Worksheet!$D$10/100,1,2))","v":1},0.8,{"$f":"CONCATENATE(\" \",D491)","v":" kg"},800,"g"]
[{"$f":"IF(COUNTIF($B$1:B492,TRUE)=COUNTIF($B$1:B491,TRUE),\"\",COUNTIF($B$1:B492,TRUE))","v":383},{"$f":"Worksheet!$D$22","v":true},{"$f":"RANDBETWEEN(5,RANDBETWEEN(5,Worksheet!$D$8))","v":97},"tonnes","±",{"$f":"IF(I492=1,H492*10^RANDBETWEEN(IF(Worksheet!$D$14,-1,0),0),IF(I492=2,H492*10^RANDBETWEEN(RANDBETWEEN(0,2),2),CHOOSE(RANDBETWEEN(1,3),5,10,20)))","v":8},{"$f":"IF(I492=1,D492,IF(I492=3,\"%\",\"kg\"))","v":"tonnes"},{"$f":"RANDBETWEEN(1,MIN(9,C492))","v":8},{"$f":"IF(AND(Worksheet!$D$12,RAND()<0.2),3,IF(RAND()<Worksheet!$D$10/100,1,2))","v":1},8,{"$f":"CONCATENATE(\" \",D492)","v":" tonnes"},8000,"kg"]
[{"$f":"IF(COUNTIF($B$1:B493,TRUE)=COUNTIF($B$1:B492,TRUE),\"\",COUNTIF($B$1:B493,TRUE))","v":384},{"$f":"Worksheet!$D$24","v":true},{"$f":"RANDBETWEEN(5,RANDBETWEEN(5,Worksheet!$D$8))","v":10},"litres","±",{"$f":"IF(I493=1,H493*10^RANDBETWEEN(IF(Worksheet!$D$14,-1,0),0),IF(I493=2,H493*10^RANDBETWEEN(RANDBETWEEN(0,2),2),CHOOSE(RANDBETWEEN(1,3),5,10,20)))","v":10},{"$f":"IF(I493=1,D493,IF(I493=3,\"%\",\"ml\"))","v":"%"},{"$f":"RANDBETWEEN(1,MIN(9,C493))","v":5},{"$f":"IF(AND(Worksheet!$D$12,RAND()<0.2),3,IF(RAND()<Worksheet!$D$10/100,1,2))","v":3},1,{"$f":"CONCATENATE(\" \",D493)","v":" litres"},1000,"ml"]
[{"$f":"IF(COUNTIF($B$1:B494,TRUE)=COUNTIF($B$1:B493,TRUE),\"\",COUNTIF($B$1:B494,TRUE))","v":""},{"$f":"Worksheet!$D$26","v":false},{"$f":"RANDBETWEEN(5,RANDBETWEEN(5,Worksheet!$D$8))","v":58},"litres","±",{"$f":"IF(I494=1,H494*10^RANDBETWEEN(IF(Worksheet!$D$14,-1,0),0),IF(I494=2,H494*10^RANDBETWEEN(RANDBETWEEN(0,2),2),CHOOSE(RANDBETWEEN(1,3),5,10,20)))","v":4},{"$f":"IF(I494=1,D494,IF(I494=3,\"%\",\"cm³\"))","v":"litres"},{"$f":"RANDBETWEEN(1,MIN(9,C494))","v":4},{"$f":"IF(AND(Worksheet!$D$12,RAND()<0.2),3,IF(RAND()<Worksheet!$D$10/100,1,2))","v":1},4,{"$f":"CONCATENATE(\" \",D494)","v":" litres"},4000,"cm³"]
[{"$f":"IF(COUNTIF($B$1:B495,TRUE)=COUNTIF($B$1:B495,TRUE),\"\",COUNTIF($B$1:B495,TRUE))","v":""},{"$f":"Worksheet!$B$28","v":true},{"$f":"RANDBETWEEN(5,20)","v":7},"°C","±",{"$f":"IF(I495=1,H495*10^RANDBETWEEN(IF(Worksheet!$D$14,-1,0),0),IF(I495=2,H495,CHOOSE(RANDBETWEEN(1,3),5,10,20)))","v":0.2},{"$f":"IF(I495=1,D495,IF(I495=3,\"%\",\"sec\"))","v":"°C"},{"$f":"RANDBETWEEN(1,MIN(9,C495))","v":2},{"$f":"IF(AND(Worksheet!$D$12,RAND()<0),3,IF(RAND()<Worksheet!$D$10/100,1,2))","v":1},{"$f":"IF(I495=1,F495,IF(I495=2,F495,IF(I495=3,F495/100*C495,\"\")))","v":0.2},{"$f":"CONCATENATE(\" \",D495)","v":" °C"},{"$f":"IF(I495=1,F495,IF(I495=2,F495,IF(I495=3,F495/100*C495,\"\")))","v":0.2}," °C"]
[{"$f":"COUNTIF($B$1:B496,TRUE)","v":386},{"$f":"Worksheet!$B$20","v":true},{"$f":"RANDBETWEEN(5,RANDBETWEEN(5,Worksheet!$D$8))","v":139},"cm","±",{"$f":"IF(I496=1,H496*10^RANDBETWEEN(IF(Worksheet!$D$14,-1,0),0),IF(I496=2,H496,CHOOSE(RANDBETWEEN(1,3),5,10,20)))","v":1},{"$f":"IF(I496=1,D496,IF(I496=3,\"%\",\"mm\"))","v":"mm"},{"$f":"RANDBETWEEN(1,MIN(9,C496))","v":1},{"$f":"IF(AND(Worksheet!$D$12,RAND()<0.2),3,IF(RAND()<Worksheet!$D$10/100,1,2))","v":2},{"$f":"IF(I496=1,F496,IF(I496=2,F496/10,IF(I496=3,F496/100*C496,\"\")))","v":0.1},{"$f":"CONCATENATE(\" \",D496)","v":" cm"},{"$f":"IF(I496=1,F496*10,IF(I496=2,F496,IF(I496=3,F496/100*C496*10,\"\")))","v":1},"mm"]
[{"$f":"IF(COUNTIF($B$1:B497,TRUE)=COUNTIF($B$1:B496,TRUE),\"\",COUNTIF($B$1:B497,TRUE))","v":387},{"$f":"Worksheet!$B$22","v":true},{"$f":"RANDBETWEEN(5,RANDBETWEEN(5,Worksheet!$D$8))","v":28},"m","±",{"$f":"IF(I497=1,H497*10^RANDBETWEEN(IF(Worksheet!$D$14,-1,0),0),IF(I497=2,H497*10^RANDBETWEEN(RANDBETWEEN(0,1),1),CHOOSE(RANDBETWEEN(1,3),5,10,20)))","v":0.9},{"$f":"IF(I497=1,D497,IF(I497=3,\"%\",\"cm\"))","v":"m"},{"$f":"RANDBETWEEN(1,MIN(9,C497))","v":9},{"$f":"IF(AND(Worksheet!$D$12,RAND()<0.2),3,IF(RAND()<Worksheet!$D$10/100,1,2))","v":1},{"$f":"IF(I497=1,F497,IF(I497=2,F497/100,IF(I497=3,F497/100*C497,\"\")))","v":0.9},{"$f":"CONCATENATE(\" \",D497)","v":" m"},{"$f":"IF(I497=1,F497*100,IF(I497=2,F497,IF(I497=3,F497/100*C497*100,\"\")))","v":90},"cm"]
[{"$f":"IF(COUNTIF($B$1:B498,TRUE)=COUNTIF($B$1:B497,TRUE),\"\",COUNTIF($B$1:B498,TRUE))","v":388},{"$f":"Worksheet!$B$24","v":true},{"$f":"RANDBETWEEN(5,RANDBETWEEN(5,Worksheet!$D$8))","v":122},"km","±",{"$f":"IF(I498=1,H498*10^RANDBETWEEN(IF(Worksheet!$D$14,-1,0),0),IF(I498=2,H498*10^RANDBETWEEN(RANDBETWEEN(0,2),2),CHOOSE(RANDBETWEEN(1,3),5,10,20)))","v":9},{"$f":"IF(I498=1,D498,IF(I498=3,\"%\",\"m\"))","v":"km"},9,{"$f":"IF(AND(Worksheet!$D$12,RAND()<0.2),3,IF(RAND()<Worksheet!$D$10/100,1,2))","v":1},{"$f":"IF(I498=1,F498,IF(I498=2,F498/1000,IF(I498=3,F498/100*C498,\"\")))","v":9}," km",{"$f":"IF(I498=1,F498*1000,IF(I498=2,F498,IF(I498=3,F498/100*C498*1000,\"\")))","v":9000},"m"]
[{"$f":"IF(COUNTIF($B$1:B499,TRUE)=COUNTIF($B$1:B498,TRUE),\"\",COUNTIF($B$1:B499,TRUE))","v":""},{"$f":"Worksheet!$B$26","v":false},{"$f":"RANDBETWEEN(5,RANDBETWEEN(5,Worksheet!$D$8))","v":41},"m","±",{"$f":"IF(I499=1,H499*10^RANDBETWEEN(IF(Worksheet!$D$14,-1,0),0),IF(I499=2,H499*10^RANDBETWEEN(RANDBETWEEN(0,2),2),CHOOSE(RANDBETWEEN(1,3),5,10,20)))","v":0.5},{"$f":"IF(I499=1,D499,IF(I499=3,\"%\",\"mm\"))","v":"m"},5,{"$f":"IF(AND(Worksheet!$D$12,RAND()<0.2),3,IF(RAND()<Worksheet!$D$10/100,1,2))","v":1},0.5," m",500,"mm"]
[{"$f":"IF(COUNTIF($B$1:B500,TRUE)=COUNTIF($B$1:B499,TRUE),\"\",COUNTIF($B$1:B500,TRUE))","v":389},{"$f":"Worksheet!$D$20","v":true},{"$f":"RANDBETWEEN(5,RANDBETWEEN(5,Worksheet!$D$8))","v":182},"kg","±",{"$f":"IF(I500=1,H500*10^RANDBETWEEN(IF(Worksheet!$D$14,-1,0),0),IF(I500=2,H500*10^RANDBETWEEN(RANDBETWEEN(0,2),2),CHOOSE(RANDBETWEEN(1,3),5,10,20)))","v":300},{"$f":"IF(I500=1,D500,IF(I500=3,\"%\",\"g\"))","v":"g"},{"$f":"RANDBETWEEN(1,MIN(9,C500))","v":3},{"$f":"IF(AND(Worksheet!$D$12,RAND()<0.2),3,IF(RAND()<Worksheet!$D$10/100,1,2))","v":2},0.3,{"$f":"CONCATENATE(\" \",D500)","v":" kg"},300,"g"]
[{"$f":"IF(COUNTIF($B$1:B501,TRUE)=COUNTIF($B$1:B500,TRUE),\"\",COUNTIF($B$1:B501,TRUE))","v":390},{"$f":"Worksheet!$D$22","v":true},{"$f":"RANDBETWEEN(5,RANDBETWEEN(5,Worksheet!$D$8))","v":73},"tonnes","±",{"$f":"IF(I501=1,H501*10^RANDBETWEEN(IF(Worksheet!$D$14,-1,0),0),IF(I501=2,H501*10^RANDBETWEEN(RANDBETWEEN(0,2),2),CHOOSE(RANDBETWEEN(1,3),5,10,20)))","v":0.30000000000000004},{"$f":"IF(I501=1,D501,IF(I501=3,\"%\",\"kg\"))","v":"tonnes"},{"$f":"RANDBETWEEN(1,MIN(9,C501))","v":3},{"$f":"IF(AND(Worksheet!$D$12,RAND()<0.2),3,IF(RAND()<Worksheet!$D$10/100,1,2))","v":1},0.30000000000000004,{"$f":"CONCATENATE(\" \",D501)","v":" tonnes"},300.00000000000006,"kg"]
[{"$f":"IF(COUNTIF($B$1:B502,TRUE)=COUNTIF($B$1:B501,TRUE),\"\",COUNTIF($B$1:B502,TRUE))","v":391},{"$f":"Worksheet!$D$24","v":true},{"$f":"RANDBETWEEN(5,RANDBETWEEN(5,Worksheet!$D$8))","v":12},"litres","±",{"$f":"IF(I502=1,H502*10^RANDBETWEEN(IF(Worksheet!$D$14,-1,0),0),IF(I502=2,H502*10^RANDBETWEEN(RANDBETWEEN(0,2),2),CHOOSE(RANDBETWEEN(1,3),5,10,20)))","v":0.30000000000000004},{"$f":"IF(I502=1,D502,IF(I502=3,\"%\",\"ml\"))","v":"litres"},{"$f":"RANDBETWEEN(1,MIN(9,C502))","v":3},{"$f":"IF(AND(Worksheet!$D$12,RAND()<0.2),3,IF(RAND()<Worksheet!$D$10/100,1,2))","v":1},0.30000000000000004,{"$f":"CONCATENATE(\" \",D502)","v":" litres"},300.00000000000006,"ml"]
[{"$f":"IF(COUNTIF($B$1:B503,TRUE)=COUNTIF($B$1:B502,TRUE),\"\",COUNTIF($B$1:B503,TRUE))","v":""},{"$f":"Worksheet!$D$26","v":false},{"$f":"RANDBETWEEN(5,RANDBETWEEN(5,Worksheet!$D$8))","v":32},"litres","±",{"$f":"IF(I503=1,H503*10^RANDBETWEEN(IF(Worksheet!$D$14,-1,0),0),IF(I503=2,H503*10^RANDBETWEEN(RANDBETWEEN(0,2),2),CHOOSE(RANDBETWEEN(1,3),5,10,20)))","v":7},{"$f":"IF(I503=1,D503,IF(I503=3,\"%\",\"cm³\"))","v":"litres"},{"$f":"RANDBETWEEN(1,MIN(9,C503))","v":7},{"$f":"IF(AND(Worksheet!$D$12,RAND()<0.2),3,IF(RAND()<Worksheet!$D$10/100,1,2))","v":1},7,{"$f":"CONCATENATE(\" \",D503)","v":" litres"},7000,"cm³"]
[{"$f":"IF(COUNTIF($B$1:B504,TRUE)=COUNTIF($B$1:B504,TRUE),\"\",COUNTIF($B$1:B504,TRUE))","v":""},{"$f":"Worksheet!$B$28","v":true},{"$f":"RANDBETWEEN(5,20)","v":15},"°C","±",{"$f":"IF(I504=1,H504*10^RANDBETWEEN(IF(Worksheet!$D$14,-1,0),0),IF(I504=2,H504,CHOOSE(RANDBETWEEN(1,3),5,10,20)))","v":2},{"$f":"IF(I504=1,D504,IF(I504=3,\"%\",\"sec\"))","v":"°C"},{"$f":"RANDBETWEEN(1,MIN(9,C504))","v":2},{"$f":"IF(AND(Worksheet!$D$12,RAND()<0),3,IF(RAND()<Worksheet!$D$10/100,1,2))","v":1},{"$f":"IF(I504=1,F504,IF(I504=2,F504,IF(I504=3,F504/100*C504,\"\")))","v":2},{"$f":"CONCATENATE(\" \",D504)","v":" °C"},{"$f":"IF(I504=1,F504,IF(I504=2,F504,IF(I504=3,F504/100*C504,\"\")))","v":2}," °C"]
[{"$f":"COUNTIF($B$1:B505,TRUE)","v":393},{"$f":"Worksheet!$B$20","v":true},{"$f":"RANDBETWEEN(5,RANDBETWEEN(5,Worksheet!$D$8))","v":15},"cm","±",{"$f":"IF(I505=1,H505*10^RANDBETWEEN(IF(Worksheet!$D$14,-1,0),0),IF(I505=2,H505,CHOOSE(RANDBETWEEN(1,3),5,10,20)))","v":10},{"$f":"IF(I505=1,D505,IF(I505=3,\"%\",\"mm\"))","v":"%"},{"$f":"RANDBETWEEN(1,MIN(9,C505))","v":4},{"$f":"IF(AND(Worksheet!$D$12,RAND()<0.2),3,IF(RAND()<Worksheet!$D$10/100,1,2))","v":3},{"$f":"IF(I505=1,F505,IF(I505=2,F505/10,IF(I505=3,F505/100*C505,\"\")))","v":1.5},{"$f":"CONCATENATE(\" \",D505)","v":" cm"},{"$f":"IF(I505=1,F505*10,IF(I505=2,F505,IF(I505=3,F505/100*C505*10,\"\")))","v":15},"mm"]
[{"$f":"IF(COUNTIF($B$1:B506,TRUE)=COUNTIF($B$1:B505,TRUE),\"\",COUNTIF($B$1:B506,TRUE))","v":394},{"$f":"Worksheet!$B$22","v":true},{"$f":"RANDBETWEEN(5,RANDBETWEEN(5,Worksheet!$D$8))","v":33},"m","±",{"$f":"IF(I506=1,H506*10^RANDBETWEEN(IF(Worksheet!$D$14,-1,0),0),IF(I506=2,H506*10^RANDBETWEEN(RANDBETWEEN(0,1),1),CHOOSE(RANDBETWEEN(1,3),5,10,20)))","v":20},{"$f":"IF(I506=1,D506,IF(I506=3,\"%\",\"cm\"))","v":"%"},{"$f":"RANDBETWEEN(1,MIN(9,C506))","v":9},{"$f":"IF(AND(Worksheet!$D$12,RAND()<0.2),3,IF(RAND()<Worksheet!$D$10/100,1,2))","v":3},{"$f":"IF(I506=1,F506,IF(I506=2,F506/100,IF(I506=3,F506/100*C506,\"\")))","v":6.6000000000000005},{"$f":"CONCATENATE(\" \",D506)","v":" m"},{"$f":"IF(I506=1,F506*100,IF(I506=2,F506,IF(I506=3,F506/100*C506*100,\"\")))","v":660},"cm"]
[{"$f":"IF(COUNTIF($B$1:B507,TRUE)=COUNTIF($B$1:B506,TRUE),\"\",COUNTIF($B$1:B507,TRUE))","v":395},{"$f":"Worksheet!$B$24","v":true},{"$f":"RANDBETWEEN(5,RANDBETWEEN(5,Worksheet!$D$8))","v":59},"km","±",{"$f":"IF(I507=1,H507*10^RANDBETWEEN(IF(Worksheet!$D$14,-1,0),0),IF(I507=2,H507*10^RANDBETWEEN(RANDBETWEEN(0,2),2),CHOOSE(RANDBETWEEN(1,3),5,10,20)))","v":5},{"$f":"IF(I507=1,D507,IF(I507=3,\"%\",\"m\"))","v":"%"},3,{"$f":"IF(AND(Worksheet!$D$12,RAND()<0.2),3,IF(RAND()<Worksheet!$D$10/100,1,2))","v":3},{"$f":"IF(I507=1,F507,IF(I507=2,F507/1000,IF(I507=3,F507/100*C507,\"\")))","v":2.95}," km",{"$f":"IF(I507=1,F507*1000,IF(I507=2,F507,IF(I507=3,F507/100*C507*1000,\"\")))","v":2950},"m"]
[{"$f":"IF(COUNTIF($B$1:B508,TRUE)=COUNTIF($B$1:B507,TRUE),\"\",COUNTIF($B$1:B508,TRUE))","v":""},{"$f":"Worksheet!$B$26","v":false},{"$f":"RANDBETWEEN(5,RANDBETWEEN(5,Worksheet!$D$8))","v":79},"m","±",{"$f":"IF(I508=1,H508*10^RANDBETWEEN(IF(Worksheet!$D$14,-1,0),0),IF(I508=2,H508*10^RANDBETWEEN(RANDBETWEEN(0,2),2),CHOOSE(RANDBETWEEN(1,3),5,10,20)))","v":7},{"$f":"IF(I508=1,D508,IF(I508=3,\"%\",\"mm\"))","v":"m"},7,{"$f":"IF(AND(Worksheet!$D$12,RAND()<0.2),3,IF(RAND()<Worksheet!$D$10/100,1,2))","v":1},7," m",7000,"mm"]
[{"$f":"IF(COUNTIF($B$1:B509,TRUE)=COUNTIF($B$1:B508,TRUE),\"\",COUNTIF($B$1:B509,TRUE))","v":396},{"$f":"Worksheet!$D$20","v":true},{"$f":"RANDBETWEEN(5,RANDBETWEEN(5,Worksheet!$D$8))","v":19},"kg","±",{"$f":"IF(I509=1,H509*10^RANDBETWEEN(IF(Worksheet!$D$14,-1,0),0),IF(I509=2,H509*10^RANDBETWEEN(RANDBETWEEN(0,2),2),CHOOSE(RANDBETWEEN(1,3),5,10,20)))","v":0.60000000000000009},{"$f":"IF(I509=1,D509,IF(I509=3,\"%\",\"g\"))","v":"kg"},{"$f":"RANDBETWEEN(1,MIN(9,C509))","v":6},{"$f":"IF(AND(Worksheet!$D$12,RAND()<0.2),3,IF(RAND()<Worksheet!$D$10/100,1,2))","v":1},0.60000000000000009,{"$f":"CONCATENATE(\" \",D509)","v":" kg"},600.00000000000011,"g"]
[{"$f":"IF(COUNTIF($B$1:B510,TRUE)=COUNTIF($B$1:B509,TRUE),\"\",COUNTIF($B$1:B510,TRUE))","v":397},{"$f":"Worksheet!$D$22","v":true},{"$f":"RANDBETWEEN(5,RANDBETWEEN(5,Worksheet!$D$8))","v":68},"tonnes","±",{"$f":"IF(I510=1,H510*10^RANDBETWEEN(IF(Worksheet!$D$14,-1,0),0),IF(I510=2,H510*10^RANDBETWEEN(RANDBETWEEN(0,2),2),CHOOSE(RANDBETWEEN(1,3),5,10,20)))","v":20},{"$f":"IF(I510=1,D510,IF(I510=3,\"%\",\"kg\"))","v":"%"},{"$f":"RANDBETWEEN(1,MIN(9,C510))","v":7},{"$f":"IF(AND(Worksheet!$D$12,RAND()<0.2),3,IF(RAND()<Worksheet!$D$10/100,1,2))","v":3},13.600000000000001,{"$f":"CONCATENATE(\" \",D510)","v":" tonnes"},13600.000000000002,"kg"]
[{"$f":"IF(COUNTIF($B$1:B511,TRUE)=COUNTIF($B$1:B510,TRUE),\"\",COUNTIF($B$1:B511,TRUE))","v":398},{"$f":"Worksheet!$D$24","v":true},{"$f":"RANDBETWEEN(5,RANDBETWEEN(5,Worksheet!$D$8))","v":5},"litres","±",{"$f":"IF(I511=1,H511*10^RANDBETWEEN(IF(Worksheet!$D$14,-1,0),0),IF(I511=2,H511*10^RANDBETWEEN(RANDBETWEEN(0,2),2),CHOOSE(RANDBETWEEN(1,3),5,10,20)))","v":0.30000000000000004},{"$f":"IF(I511=1,D511,IF(I511=3,\"%\",\"ml\"))","v":"litres"},{"$f":"RANDBETWEEN(1,MIN(9,C511))","v":3},{"$f":"IF(AND(Worksheet!$D$12,RAND()<0.2),3,IF(RAND()<Worksheet!$D$10/100,1,2))","v":1},0.30000000000000004,{"$f":"CONCATENATE(\" \",D511)","v":" litres"},300.00000000000006,"ml"]
[{"$f":"IF(COUNTIF($B$1:B512,TRUE)=COUNTIF($B$1:B511,TRUE),\"\",COUNTIF($B$1:B512,TRUE))","v":""},{"$f":"Worksheet!$D$26","v":false},{"$f":"RANDBETWEEN(5,RANDBETWEEN(5,Worksheet!$D$8))","v":10},"litres","±",{"$f":"IF(I512=1,H512*10^RANDBETWEEN(IF(Worksheet!$D$14,-1,0),0),IF(I512=2,H512*10^RANDBETWEEN(RANDBETWEEN(0,2),2),CHOOSE(RANDBETWEEN(1,3),5,10,20)))","v":0.2},{"$f":"IF(I512=1,D512,IF(I512=3,\"%\",\"cm³\"))","v":"litres"},{"$f":"RANDBETWEEN(1,MIN(9,C512))","v":2},{"$f":"IF(AND(Worksheet!$D$12,RAND()<0.2),3,IF(RAND()<Worksheet!$D$10/100,1,2))","v":1},0.2,{"$f":"CONCATENATE(\" \",D512)","v":" litres"},200,"cm³"]
[{"$f":"IF(COUNTIF($B$1:B513,TRUE)=COUNTIF($B$1:B513,TRUE),\"\",COUNTIF($B$1:B513,TRUE))","v":""},{"$f":"Worksheet!$B$28","v":true},{"$f":"RANDBETWEEN(5,20)","v":5},"°C","±",{"$f":"IF(I513=1,H513*10^RANDBETWEEN(IF(Worksheet!$D$14,-1,0),0),IF(I513=2,H513,CHOOSE(RANDBETWEEN(1,3),5,10,20)))","v":4},{"$f":"IF(I513=1,D513,IF(I513=3,\"%\",\"sec\"))","v":"sec"},{"$f":"RANDBETWEEN(1,MIN(9,C513))","v":4},{"$f":"IF(AND(Worksheet!$D$12,RAND()<0),3,IF(RAND()<Worksheet!$D$10/100,1,2))","v":2},{"$f":"IF(I513=1,F513,IF(I513=2,F513,IF(I513=3,F513/100*C513,\"\")))","v":4},{"$f":"CONCATENATE(\" \",D513)","v":" °C"},{"$f":"IF(I513=1,F513,IF(I513=2,F513,IF(I513=3,F513/100*C513,\"\")))","v":4}," °C"]
[{"$f":"COUNTIF($B$1:B514,TRUE)","v":400},{"$f":"Worksheet!$B$20","v":true},{"$f":"RANDBETWEEN(5,RANDBETWEEN(5,Worksheet!$D$8))","v":76},"cm","±",{"$f":"IF(I514=1,H514*10^RANDBETWEEN(IF(Worksheet!$D$14,-1,0),0),IF(I514=2,H514,CHOOSE(RANDBETWEEN(1,3),5,10,20)))","v":1},{"$f":"IF(I514=1,D514,IF(I514=3,\"%\",\"mm\"))","v":"mm"},{"$f":"RANDBETWEEN(1,MIN(9,C514))","v":1},{"$f":"IF(AND(Worksheet!$D$12,RAND()<0.2),3,IF(RAND()<Worksheet!$D$10/100,1,2))","v":2},{"$f":"IF(I514=1,F514,IF(I514=2,F514/10,IF(I514=3,F514/100*C514,\"\")))","v":0.1},{"$f":"CONCATENATE(\" \",D514)","v":" cm"},{"$f":"IF(I514=1,F514*10,IF(I514=2,F514,IF(I514=3,F514/100*C514*10,\"\")))","v":1},"mm"]
[{"$f":"IF(COUNTIF($B$1:B515,TRUE)=COUNTIF($B$1:B514,TRUE),\"\",COUNTIF($B$1:B515,TRUE))","v":401},{"$f":"Worksheet!$B$22","v":true},{"$f":"RANDBETWEEN(5,RANDBETWEEN(5,Worksheet!$D$8))","v":115},"m","±",{"$f":"IF(I515=1,H515*10^RANDBETWEEN(IF(Worksheet!$D$14,-1,0),0),IF(I515=2,H515*10^RANDBETWEEN(RANDBETWEEN(0,1),1),CHOOSE(RANDBETWEEN(1,3),5,10,20)))","v":0.9},{"$f":"IF(I515=1,D515,IF(I515=3,\"%\",\"cm\"))","v":"m"},{"$f":"RANDBETWEEN(1,MIN(9,C515))","v":9},{"$f":"IF(AND(Worksheet!$D$12,RAND()<0.2),3,IF(RAND()<Worksheet!$D$10/100,1,2))","v":1},{"$f":"IF(I515=1,F515,IF(I515=2,F515/100,IF(I515=3,F515/100*C515,\"\")))","v":0.9},{"$f":"CONCATENATE(\" \",D515)","v":" m"},{"$f":"IF(I515=1,F515*100,IF(I515=2,F515,IF(I515=3,F515/100*C515*100,\"\")))","v":90},"cm"]
[{"$f":"IF(COUNTIF($B$1:B516,TRUE)=COUNTIF($B$1:B515,TRUE),\"\",COUNTIF($B$1:B516,TRUE))","v":402},{"$f":"Worksheet!$B$24","v":true},{"$f":"RANDBETWEEN(5,RANDBETWEEN(5,Worksheet!$D$8))","v":21},"km","±",{"$f":"IF(I516=1,H516*10^RANDBETWEEN(IF(Worksheet!$D$14,-1,0),0),IF(I516=2,H516*10^RANDBETWEEN(RANDBETWEEN(0,2),2),CHOOSE(RANDBETWEEN(1,3),5,10,20)))","v":10},{"$f":"IF(I516=1,D516,IF(I516=3,\"%\",\"m\"))","v":"%"},2,{"$f":"IF(AND(Worksheet!$D$12,RAND()<0.2),3,IF(RAND()<Worksheet!$D$10/100,1,2))","v":3},{"$f":"IF(I516=1,F516,IF(I516=2,F516/1000,IF(I516=3,F516/100*C516,\"\")))","v":2.1}," km",{"$f":"IF(I516=1,F516*1000,IF(I516=2,F516,IF(I516=3,F516/100*C516*1000,\"\")))","v":2100},"m"]
[{"$f":"IF(COUNTIF($B$1:B517,TRUE)=COUNTIF($B$1:B516,TRUE),\"\",COUNTIF($B$1:B517,TRUE))","v":""},{"$f":"Worksheet!$B$26","v":false},{"$f":"RANDBETWEEN(5,RANDBETWEEN(5,Worksheet!$D$8))","v":21},"m","±",{"$f":"IF(I517=1,H517*10^RANDBETWEEN(IF(Worksheet!$D$14,-1,0),0),IF(I517=2,H517*10^RANDBETWEEN(RANDBETWEEN(0,2),2),CHOOSE(RANDBETWEEN(1,3),5,10,20)))","v":0.60000000000000009},{"$f":"IF(I517=1,D517,IF(I517=3,\"%\",\"mm\"))","v":"m"},6,{"$f":"IF(AND(Worksheet!$D$12,RAND()<0.2),3,IF(RAND()<Worksheet!$D$10/100,1,2))","v":1},0.60000000000000009," m",600.00000000000011,"mm"]
[{"$f":"IF(COUNTIF($B$1:B518,TRUE)=COUNTIF($B$1:B517,TRUE),\"\",COUNTIF($B$1:B518,TRUE))","v":403},{"$f":"Worksheet!$D$20","v":true},{"$f":"RANDBETWEEN(5,RANDBETWEEN(5,Worksheet!$D$8))","v":36},"kg","±",{"$f":"IF(I518=1,H518*10^RANDBETWEEN(IF(Worksheet!$D$14,-1,0),0),IF(I518=2,H518*10^RANDBETWEEN(RANDBETWEEN(0,2),2),CHOOSE(RANDBETWEEN(1,3),5,10,20)))","v":400},{"$f":"IF(I518=1,D518,IF(I518=3,\"%\",\"g\"))","v":"g"},{"$f":"RANDBETWEEN(1,MIN(9,C518))","v":4},{"$f":"IF(AND(Worksheet!$D$12,RAND()<0.2),3,IF(RAND()<Worksheet!$D$10/100,1,2))","v":2},0.4,{"$f":"CONCATENATE(\" \",D518)","v":" kg"},400,"g"]
[{"$f":"IF(COUNTIF($B$1:B519,TRUE)=COUNTIF($B$1:B518,TRUE),\"\",COUNTIF($B$1:B519,TRUE))","v":404},{"$f":"Worksheet!$D$22","v":true},{"$f":"RANDBETWEEN(5,RANDBETWEEN(5,Worksheet!$D$8))","v":47},"tonnes","±",{"$f":"IF(I519=1,H519*10^RANDBETWEEN(IF(Worksheet!$D$14,-1,0),0),IF(I519=2,H519*10^RANDBETWEEN(RANDBETWEEN(0,2),2),CHOOSE(RANDBETWEEN(1,3),5,10,20)))","v":0.9},{"$f":"IF(I519=1,D519,IF(I519=3,\"%\",\"kg\"))","v":"tonnes"},{"$f":"RANDBETWEEN(1,MIN(9,C519))","v":9},{"$f":"IF(AND(Worksheet!$D$12,RAND()<0.2),3,IF(RAND()<Worksheet!$D$10/100,1,2))","v":1},0.9,{"$f":"CONCATENATE(\" \",D519)","v":" tonnes"},900,"kg"]
[{"$f":"IF(COUNTIF($B$1:B520,TRUE)=COUNTIF($B$1:B519,TRUE),\"\",COUNTIF($B$1:B520,TRUE))","v":405},{"$f":"Worksheet!$D$24","v":true},{"$f":"RANDBETWEEN(5,RANDBETWEEN(5,Worksheet!$D$8))","v":94},"litres","±",{"$f":"IF(I520=1,H520*10^RANDBETWEEN(IF(Worksheet!$D$14,-1,0),0),IF(I520=2,H520*10^RANDBETWEEN(RANDBETWEEN(0,2),2),CHOOSE(RANDBETWEEN(1,3),5,10,20)))","v":800},{"$f":"IF(I520=1,D520,IF(I520=3,\"%\",\"ml\"))","v":"ml"},{"$f":"RANDBETWEEN(1,MIN(9,C520))","v":8},{"$f":"IF(AND(Worksheet!$D$12,RAND()<0.2),3,IF(RAND()<Worksheet!$D$10/100,1,2))","v":2},0.8,{"$f":"CONCATENATE(\" \",D520)","v":" litres"},800,"ml"]
[{"$f":"IF(COUNTIF($B$1:B521,TRUE)=COUNTIF($B$1:B520,TRUE),\"\",COUNTIF($B$1:B521,TRUE))","v":""},{"$f":"Worksheet!$D$26","v":false},{"$f":"RANDBETWEEN(5,RANDBETWEEN(5,Worksheet!$D$8))","v":55},"litres","±",{"$f":"IF(I521=1,H521*10^RANDBETWEEN(IF(Worksheet!$D$14,-1,0),0),IF(I521=2,H521*10^RANDBETWEEN(RANDBETWEEN(0,2),2),CHOOSE(RANDBETWEEN(1,3),5,10,20)))","v":3},{"$f":"IF(I521=1,D521,IF(I521=3,\"%\",\"cm³\"))","v":"litres"},{"$f":"RANDBETWEEN(1,MIN(9,C521))","v":3},{"$f":"IF(AND(Worksheet!$D$12,RAND()<0.2),3,IF(RAND()<Worksheet!$D$10/100,1,2))","v":1},3,{"$f":"CONCATENATE(\" \",D521)","v":" litres"},3000,"cm³"]
[{"$f":"IF(COUNTIF($B$1:B522,TRUE)=COUNTIF($B$1:B522,TRUE),\"\",COUNTIF($B$1:B522,TRUE))","v":""},{"$f":"Worksheet!$B$28","v":true},{"$f":"RANDBETWEEN(5,20)","v":15},"°C","±",{"$f":"IF(I522=1,H522*10^RANDBETWEEN(IF(Worksheet!$D$14,-1,0),0),IF(I522=2,H522,CHOOSE(RANDBETWEEN(1,3),5,10,20)))","v":0.30000000000000004},{"$f":"IF(I522=1,D522,IF(I522=3,\"%\",\"sec\"))","v":"°C"},{"$f":"RANDBETWEEN(1,MIN(9,C522))","v":3},{"$f":"IF(AND(Worksheet!$D$12,RAND()<0),3,IF(RAND()<Worksheet!$D$10/100,1,2))","v":1},{"$f":"IF(I522=1,F522,IF(I522=2,F522,IF(I522=3,F522/100*C522,\"\")))","v":0.30000000000000004},{"$f":"CONCATENATE(\" \",D522)","v":" °C"},{"$f":"IF(I522=1,F522,IF(I522=2,F522,IF(I522=3,F522/100*C522,\"\")))","v":0.30000000000000004}," °C"]
[{"$f":"COUNTIF($B$1:B523,TRUE)","v":407},{"$f":"Worksheet!$B$20","v":true},{"$f":"RANDBETWEEN(5,RANDBETWEEN(5,Worksheet!$D$8))","v":30},"cm","±",{"$f":"IF(I523=1,H523*10^RANDBETWEEN(IF(Worksheet!$D$14,-1,0),0),IF(I523=2,H523,CHOOSE(RANDBETWEEN(1,3),5,10,20)))","v":0.4},{"$f":"IF(I523=1,D523,IF(I523=3,\"%\",\"mm\"))","v":"cm"},{"$f":"RANDBETWEEN(1,MIN(9,C523))","v":4},{"$f":"IF(AND(Worksheet!$D$12,RAND()<0.2),3,IF(RAND()<Worksheet!$D$10/100,1,2))","v":1},{"$f":"IF(I523=1,F523,IF(I523=2,F523/10,IF(I523=3,F523/100*C523,\"\")))","v":0.4},{"$f":"CONCATENATE(\" \",D523)","v":" cm"},{"$f":"IF(I523=1,F523*10,IF(I523=2,F523,IF(I523=3,F523/100*C523*10,\"\")))","v":4},"mm"]
[{"$f":"IF(COUNTIF($B$1:B524,TRUE)=COUNTIF($B$1:B523,TRUE),\"\",COUNTIF($B$1:B524,TRUE))","v":408},{"$f":"Worksheet!$B$22","v":true},{"$f":"RANDBETWEEN(5,RANDBETWEEN(5,Worksheet!$D$8))","v":116},"m","±",{"$f":"IF(I524=1,H524*10^RANDBETWEEN(IF(Worksheet!$D$14,-1,0),0),IF(I524=2,H524*10^RANDBETWEEN(RANDBETWEEN(0,1),1),CHOOSE(RANDBETWEEN(1,3),5,10,20)))","v":4},{"$f":"IF(I524=1,D524,IF(I524=3,\"%\",\"cm\"))","v":"m"},{"$f":"RANDBETWEEN(1,MIN(9,C524))","v":4},{"$f":"IF(AND(Worksheet!$D$12,RAND()<0.2),3,IF(RAND()<Worksheet!$D$10/100,1,2))","v":1},{"$f":"IF(I524=1,F524,IF(I524=2,F524/100,IF(I524=3,F524/100*C524,\"\")))","v":4},{"$f":"CONCATENATE(\" \",D524)","v":" m"},{"$f":"IF(I524=1,F524*100,IF(I524=2,F524,IF(I524=3,F524/100*C524*100,\"\")))","v":400},"cm"]
[{"$f":"IF(COUNTIF($B$1:B525,TRUE)=COUNTIF($B$1:B524,TRUE),\"\",COUNTIF($B$1:B525,TRUE))","v":409},{"$f":"Worksheet!$B$24","v":true},{"$f":"RANDBETWEEN(5,RANDBETWEEN(5,Worksheet!$D$8))","v":104},"km","±",{"$f":"IF(I525=1,H525*10^RANDBETWEEN(IF(Worksheet!$D$14,-1,0),0),IF(I525=2,H525*10^RANDBETWEEN(RANDBETWEEN(0,2),2),CHOOSE(RANDBETWEEN(1,3),5,10,20)))","v":0.9},{"$f":"IF(I525=1,D525,IF(I525=3,\"%\",\"m\"))","v":"km"},9,{"$f":"IF(AND(Worksheet!$D$12,RAND()<0.2),3,IF(RAND()<Worksheet!$D$10/100,1,2))","v":1},{"$f":"IF(I525=1,F525,IF(I525=2,F525/1000,IF(I525=3,F525/100*C525,\"\")))","v":0.9}," km",{"$f":"IF(I525=1,F525*1000,IF(I525=2,F525,IF(I525=3,F525/100*C525*1000,\"\")))","v":900},"m"]
[{"$f":"IF(COUNTIF($B$1:B526,TRUE)=COUNTIF($B$1:B525,TRUE),\"\",COUNTIF($B$1:B526,TRUE))","v":""},{"$f":"Worksheet!$B$26","v":false},{"$f":"RANDBETWEEN(5,RANDBETWEEN(5,Worksheet!$D$8))","v":20},"m","±",{"$f":"IF(I526=1,H526*10^RANDBETWEEN(IF(Worksheet!$D$14,-1,0),0),IF(I526=2,H526*10^RANDBETWEEN(RANDBETWEEN(0,2),2),CHOOSE(RANDBETWEEN(1,3),5,10,20)))","v":0.60000000000000009},{"$f":"IF(I526=1,D526,IF(I526=3,\"%\",\"mm\"))","v":"m"},6,{"$f":"IF(AND(Worksheet!$D$12,RAND()<0.2),3,IF(RAND()<Worksheet!$D$10/100,1,2))","v":1},0.60000000000000009," m",600.00000000000011,"mm"]
[{"$f":"IF(COUNTIF($B$1:B527,TRUE)=COUNTIF($B$1:B526,TRUE),\"\",COUNTIF($B$1:B527,TRUE))","v":410},{"$f":"Worksheet!$D$20","v":true},{"$f":"RANDBETWEEN(5,RANDBETWEEN(5,Worksheet!$D$8))","v":15},"kg","±",{"$f":"IF(I527=1,H527*10^RANDBETWEEN(IF(Worksheet!$D$14,-1,0),0),IF(I527=2,H527*10^RANDBETWEEN(RANDBETWEEN(0,2),2),CHOOSE(RANDBETWEEN(1,3),5,10,20)))","v":400},{"$f":"IF(I527=1,D527,IF(I527=3,\"%\",\"g\"))","v":"g"},{"$f":"RANDBETWEEN(1,MIN(9,C527))","v":4},{"$f":"IF(AND(Worksheet!$D$12,RAND()<0.2),3,IF(RAND()<Worksheet!$D$10/100,1,2))","v":2},0.4,{"$f":"CONCATENATE(\" \",D527)","v":" kg"},400,"g"]
[{"$f":"IF(COUNTIF($B$1:B528,TRUE)=COUNTIF($B$1:B527,TRUE),\"\",COUNTIF($B$1:B528,TRUE))","v":411},{"$f":"Worksheet!$D$22","v":true},{"$f":"RANDBETWEEN(5,RANDBETWEEN(5,Worksheet!$D$8))","v":16},"tonnes","±",{"$f":"IF(I528=1,H528*10^RANDBETWEEN(IF(Worksheet!$D$14,-1,0),0),IF(I528=2,H528*10^RANDBETWEEN(RANDBETWEEN(0,2),2),CHOOSE(RANDBETWEEN(1,3),5,10,20)))","v":20},{"$f":"IF(I528=1,D528,IF(I528=3,\"%\",\"kg\"))","v":"%"},{"$f":"RANDBETWEEN(1,MIN(9,C528))","v":6},{"$f":"IF(AND(Worksheet!$D$12,RAND()<0.2),3,IF(RAND()<Worksheet!$D$10/100,1,2))","v":3},3.2,{"$f":"CONCATENATE(\" \",D528)","v":" tonnes"},3200,"kg"]
[{"$f":"IF(COUNTIF($B$1:B529,TRUE)=COUNTIF($B$1:B528,TRUE),\"\",COUNTIF($B$1:B529,TRUE))","v":412},{"$f":"Worksheet!$D$24","v":true},{"$f":"RANDBETWEEN(5,RANDBETWEEN(5,Worksheet!$D$8))","v":109},"litres","±",{"$f":"IF(I529=1,H529*10^RANDBETWEEN(IF(Worksheet!$D$14,-1,0),0),IF(I529=2,H529*10^RANDBETWEEN(RANDBETWEEN(0,2),2),CHOOSE(RANDBETWEEN(1,3),5,10,20)))","v":20},{"$f":"IF(I529=1,D529,IF(I529=3,\"%\",\"ml\"))","v":"%"},{"$f":"RANDBETWEEN(1,MIN(9,C529))","v":9},{"$f":"IF(AND(Worksheet!$D$12,RAND()<0.2),3,IF(RAND()<Worksheet!$D$10/100,1,2))","v":3},21.8,{"$f":"CONCATENATE(\" \",D529)","v":" litres"},21800,"ml"]
[{"$f":"IF(COUNTIF($B$1:B530,TRUE)=COUNTIF($B$1:B529,TRUE),\"\",COUNTIF($B$1:B530,TRUE))","v":""},{"$f":"Worksheet!$D$26","v":false},{"$f":"RANDBETWEEN(5,RANDBETWEEN(5,Worksheet!$D$8))","v":38},"litres","±",{"$f":"IF(I530=1,H530*10^RANDBETWEEN(IF(Worksheet!$D$14,-1,0),0),IF(I530=2,H530*10^RANDBETWEEN(RANDBETWEEN(0,2),2),CHOOSE(RANDBETWEEN(1,3),5,10,20)))","v":800},{"$f":"IF(I530=1,D530,IF(I530=3,\"%\",\"cm³\"))","v":"cm³"},{"$f":"RANDBETWEEN(1,MIN(9,C530))","v":8},{"$f":"IF(AND(Worksheet!$D$12,RAND()<0.2),3,IF(RAND()<Worksheet!$D$10/100,1,2))","v":2},0.8,{"$f":"CONCATENATE(\" \",D530)","v":" litres"},800,"cm³"]
[{"$f":"IF(COUNTIF($B$1:B531,TRUE)=COUNTIF($B$1:B531,TRUE),\"\",COUNTIF($B$1:B531,TRUE))","v":""},{"$f":"Worksheet!$B$28","v":true},{"$f":"RANDBETWEEN(5,20)","v":17},"°C","±",{"$f":"IF(I531=1,H531*10^RANDBETWEEN(IF(Worksheet!$D$14,-1,0),0),IF(I531=2,H531,CHOOSE(RANDBETWEEN(1,3),5,10,20)))","v":0.4},{"$f":"IF(I531=1,D531,IF(I531=3,\"%\",\"sec\"))","v":"°C"},{"$f":"RANDBETWEEN(1,MIN(9,C531))","v":4},{"$f":"IF(AND(Worksheet!$D$12,RAND()<0),3,IF(RAND()<Worksheet!$D$10/100,1,2))","v":1},{"$f":"IF(I531=1,F531,IF(I531=2,F531,IF(I531=3,F531/100*C531,\"\")))","v":0.4},{"$f":"CONCATENATE(\" \",D531)","v":" °C"},{"$f":"IF(I531=1,F531,IF(I531=2,F531,IF(I531=3,F531/100*C531,\"\")))","v":0.4}," °C"]
[{"$f":"COUNTIF($B$1:B532,TRUE)","v":414},{"$f":"Worksheet!$B$20","v":true},{"$f":"RANDBETWEEN(5,RANDBETWEEN(5,Worksheet!$D$8))","v":48},"cm","±",{"$f":"IF(I532=1,H532*10^RANDBETWEEN(IF(Worksheet!$D$14,-1,0),0),IF(I532=2,H532,CHOOSE(RANDBETWEEN(1,3),5,10,20)))","v":0.1},{"$f":"IF(I532=1,D532,IF(I532=3,\"%\",\"mm\"))","v":"cm"},{"$f":"RANDBETWEEN(1,MIN(9,C532))","v":1},{"$f":"IF(AND(Worksheet!$D$12,RAND()<0.2),3,IF(RAND()<Worksheet!$D$10/100,1,2))","v":1},{"$f":"IF(I532=1,F532,IF(I532=2,F532/10,IF(I532=3,F532/100*C532,\"\")))","v":0.1},{"$f":"CONCATENATE(\" \",D532)","v":" cm"},{"$f":"IF(I532=1,F532*10,IF(I532=2,F532,IF(I532=3,F532/100*C532*10,\"\")))","v":1},"mm"]
[{"$f":"IF(COUNTIF($B$1:B533,TRUE)=COUNTIF($B$1:B532,TRUE),\"\",COUNTIF($B$1:B533,TRUE))","v":415},{"$f":"Worksheet!$B$22","v":true},{"$f":"RANDBETWEEN(5,RANDBETWEEN(5,Worksheet!$D$8))","v":13},"m","±",{"$f":"IF(I533=1,H533*10^RANDBETWEEN(IF(Worksheet!$D$14,-1,0),0),IF(I533=2,H533*10^RANDBETWEEN(RANDBETWEEN(0,1),1),CHOOSE(RANDBETWEEN(1,3),5,10,20)))","v":7},{"$f":"IF(I533=1,D533,IF(I533=3,\"%\",\"cm\"))","v":"m"},{"$f":"RANDBETWEEN(1,MIN(9,C533))","v":7},{"$f":"IF(AND(Worksheet!$D$12,RAND()<0.2),3,IF(RAND()<Worksheet!$D$10/100,1,2))","v":1},{"$f":"IF(I533=1,F533,IF(I533=2,F533/100,IF(I533=3,F533/100*C533,\"\")))","v":7},{"$f":"CONCATENATE(\" \",D533)","v":" m"},{"$f":"IF(I533=1,F533*100,IF(I533=2,F533,IF(I533=3,F533/100*C533*100,\"\")))","v":700},"cm"]
[{"$f":"IF(COUNTIF($B$1:B534,TRUE)=COUNTIF($B$1:B533,TRUE),\"\",COUNTIF($B$1:B534,TRUE))","v":416},{"$f":"Worksheet!$B$24","v":true},{"$f":"RANDBETWEEN(5,RANDBETWEEN(5,Worksheet!$D$8))","v":13},"km","±",{"$f":"IF(I534=1,H534*10^RANDBETWEEN(IF(Worksheet!$D$14,-1,0),0),IF(I534=2,H534*10^RANDBETWEEN(RANDBETWEEN(0,2),2),CHOOSE(RANDBETWEEN(1,3),5,10,20)))","v":0.5},{"$f":"IF(I534=1,D534,IF(I534=3,\"%\",\"m\"))","v":"km"},5,{"$f":"IF(AND(Worksheet!$D$12,RAND()<0.2),3,IF(RAND()<Worksheet!$D$10/100,1,2))","v":1},{"$f":"IF(I534=1,F534,IF(I534=2,F534/1000,IF(I534=3,F534/100*C534,\"\")))","v":0.5}," km",{"$f":"IF(I534=1,F534*1000,IF(I534=2,F534,IF(I534=3,F534/100*C534*1000,\"\")))","v":500},"m"]
[{"$f":"IF(COUNTIF($B$1:B535,TRUE)=COUNTIF($B$1:B534,TRUE),\"\",COUNTIF($B$1:B535,TRUE))","v":""},{"$f":"Worksheet!$B$26","v":false},{"$f":"RANDBETWEEN(5,RANDBETWEEN(5,Worksheet!$D$8))","v":85},"m","±",{"$f":"IF(I535=1,H535*10^RANDBETWEEN(IF(Worksheet!$D$14,-1,0),0),IF(I535=2,H535*10^RANDBETWEEN(RANDBETWEEN(0,2),2),CHOOSE(RANDBETWEEN(1,3),5,10,20)))","v":2},{"$f":"IF(I535=1,D535,IF(I535=3,\"%\",\"mm\"))","v":"m"},2,{"$f":"IF(AND(Worksheet!$D$12,RAND()<0.2),3,IF(RAND()<Worksheet!$D$10/100,1,2))","v":1},2," m",2000,"mm"]
[{"$f":"IF(COUNTIF($B$1:B536,TRUE)=COUNTIF($B$1:B535,TRUE),\"\",COUNTIF($B$1:B536,TRUE))","v":417},{"$f":"Worksheet!$D$20","v":true},{"$f":"RANDBETWEEN(5,RANDBETWEEN(5,Worksheet!$D$8))","v":6},"kg","±",{"$f":"IF(I536=1,H536*10^RANDBETWEEN(IF(Worksheet!$D$14,-1,0),0),IF(I536=2,H536*10^RANDBETWEEN(RANDBETWEEN(0,2),2),CHOOSE(RANDBETWEEN(1,3),5,10,20)))","v":0.2},{"$f":"IF(I536=1,D536,IF(I536=3,\"%\",\"g\"))","v":"kg"},{"$f":"RANDBETWEEN(1,MIN(9,C536))","v":2},{"$f":"IF(AND(Worksheet!$D$12,RAND()<0.2),3,IF(RAND()<Worksheet!$D$10/100,1,2))","v":1},0.2,{"$f":"CONCATENATE(\" \",D536)","v":" kg"},200,"g"]
[{"$f":"IF(COUNTIF($B$1:B537,TRUE)=COUNTIF($B$1:B536,TRUE),\"\",COUNTIF($B$1:B537,TRUE))","v":418},{"$f":"Worksheet!$D$22","v":true},{"$f":"RANDBETWEEN(5,RANDBETWEEN(5,Worksheet!$D$8))","v":5},"tonnes","±",{"$f":"IF(I537=1,H537*10^RANDBETWEEN(IF(Worksheet!$D$14,-1,0),0),IF(I537=2,H537*10^RANDBETWEEN(RANDBETWEEN(0,2),2),CHOOSE(RANDBETWEEN(1,3),5,10,20)))","v":0.4},{"$f":"IF(I537=1,D537,IF(I537=3,\"%\",\"kg\"))","v":"tonnes"},{"$f":"RANDBETWEEN(1,MIN(9,C537))","v":4},{"$f":"IF(AND(Worksheet!$D$12,RAND()<0.2),3,IF(RAND()<Worksheet!$D$10/100,1,2))","v":1},0.4,{"$f":"CONCATENATE(\" \",D537)","v":" tonnes"},400,"kg"]
[{"$f":"IF(COUNTIF($B$1:B538,TRUE)=COUNTIF($B$1:B537,TRUE),\"\",COUNTIF($B$1:B538,TRUE))","v":419},{"$f":"Worksheet!$D$24","v":true},{"$f":"RANDBETWEEN(5,RANDBETWEEN(5,Worksheet!$D$8))","v":86},"litres","±",{"$f":"IF(I538=1,H538*10^RANDBETWEEN(IF(Worksheet!$D$14,-1,0),0),IF(I538=2,H538*10^RANDBETWEEN(RANDBETWEEN(0,2),2),CHOOSE(RANDBETWEEN(1,3),5,10,20)))","v":0.2},{"$f":"IF(I538=1,D538,IF(I538=3,\"%\",\"ml\"))","v":"litres"},{"$f":"RANDBETWEEN(1,MIN(9,C538))","v":2},{"$f":"IF(AND(Worksheet!$D$12,RAND()<0.2),3,IF(RAND()<Worksheet!$D$10/100,1,2))","v":1},0.2,{"$f":"CONCATENATE(\" \",D538)","v":" litres"},200,"ml"]
[{"$f":"IF(COUNTIF($B$1:B539,TRUE)=COUNTIF($B$1:B538,TRUE),\"\",COUNTIF($B$1:B539,TRUE))","v":""},{"$f":"Worksheet!$D$26","v":false},{"$f":"RANDBETWEEN(5,RANDBETWEEN(5,Worksheet!$D$8))","v":38},"litres","±",{"$f":"IF(I539=1,H539*10^RANDBETWEEN(IF(Worksheet!$D$14,-1,0),0),IF(I539=2,H539*10^RANDBETWEEN(RANDBETWEEN(0,2),2),CHOOSE(RANDBETWEEN(1,3),5,10,20)))","v":10},{"$f":"IF(I539=1,D539,IF(I539=3,\"%\",\"cm³\"))","v":"%"},{"$f":"RANDBETWEEN(1,MIN(9,C539))","v":9},{"$f":"IF(AND(Worksheet!$D$12,RAND()<0.2),3,IF(RAND()<Worksheet!$D$10/100,1,2))","v":3},3.8000000000000003,{"$f":"CONCATENATE(\" \",D539)","v":" litres"},3800.0000000000005,"cm³"]
[{"$f":"IF(COUNTIF($B$1:B540,TRUE)=COUNTIF($B$1:B540,TRUE),\"\",COUNTIF($B$1:B540,TRUE))","v":""},{"$f":"Worksheet!$B$28","v":true},{"$f":"RANDBETWEEN(5,20)","v":15},"°C","±",{"$f":"IF(I540=1,H540*10^RANDBETWEEN(IF(Worksheet!$D$14,-1,0),0),IF(I540=2,H540,CHOOSE(RANDBETWEEN(1,3),5,10,20)))","v":7},{"$f":"IF(I540=1,D540,IF(I540=3,\"%\",\"sec\"))","v":"°C"},{"$f":"RANDBETWEEN(1,MIN(9,C540))","v":7},{"$f":"IF(AND(Worksheet!$D$12,RAND()<0),3,IF(RAND()<Worksheet!$D$10/100,1,2))","v":1},{"$f":"IF(I540=1,F540,IF(I540=2,F540,IF(I540=3,F540/100*C540,\"\")))","v":7},{"$f":"CONCATENATE(\" \",D540)","v":" °C"},{"$f":"IF(I540=1,F540,IF(I540=2,F540,IF(I540=3,F540/100*C540,\"\")))","v":7}," °C"]
[{"$f":"COUNTIF($B$1:B541,TRUE)","v":421},{"$f":"Worksheet!$B$20","v":true},{"$f":"RANDBETWEEN(5,RANDBETWEEN(5,Worksheet!$D$8))","v":123},"cm","±",{"$f":"IF(I541=1,H541*10^RANDBETWEEN(IF(Worksheet!$D$14,-1,0),0),IF(I541=2,H541,CHOOSE(RANDBETWEEN(1,3),5,10,20)))","v":20},{"$f":"IF(I541=1,D541,IF(I541=3,\"%\",\"mm\"))","v":"%"},{"$f":"RANDBETWEEN(1,MIN(9,C541))","v":5},{"$f":"IF(AND(Worksheet!$D$12,RAND()<0.2),3,IF(RAND()<Worksheet!$D$10/100,1,2))","v":3},{"$f":"IF(I541=1,F541,IF(I541=2,F541/10,IF(I541=3,F541/100*C541,\"\")))","v":24.6},{"$f":"CONCATENATE(\" \",D541)","v":" cm"},{"$f":"IF(I541=1,F541*10,IF(I541=2,F541,IF(I541=3,F541/100*C541*10,\"\")))","v":246},"mm"]
[{"$f":"IF(COUNTIF($B$1:B542,TRUE)=COUNTIF($B$1:B541,TRUE),\"\",COUNTIF($B$1:B542,TRUE))","v":422},{"$f":"Worksheet!$B$22","v":true},{"$f":"RANDBETWEEN(5,RANDBETWEEN(5,Worksheet!$D$8))","v":16},"m","±",{"$f":"IF(I542=1,H542*10^RANDBETWEEN(IF(Worksheet!$D$14,-1,0),0),IF(I542=2,H542*10^RANDBETWEEN(RANDBETWEEN(0,1),1),CHOOSE(RANDBETWEEN(1,3),5,10,20)))","v":10},{"$f":"IF(I542=1,D542,IF(I542=3,\"%\",\"cm\"))","v":"%"},{"$f":"RANDBETWEEN(1,MIN(9,C542))","v":6},{"$f":"IF(AND(Worksheet!$D$12,RAND()<0.2),3,IF(RAND()<Worksheet!$D$10/100,1,2))","v":3},{"$f":"IF(I542=1,F542,IF(I542=2,F542/100,IF(I542=3,F542/100*C542,\"\")))","v":1.6},{"$f":"CONCATENATE(\" \",D542)","v":" m"},{"$f":"IF(I542=1,F542*100,IF(I542=2,F542,IF(I542=3,F542/100*C542*100,\"\")))","v":160},"cm"]
[{"$f":"IF(COUNTIF($B$1:B543,TRUE)=COUNTIF($B$1:B542,TRUE),\"\",COUNTIF($B$1:B543,TRUE))","v":423},{"$f":"Worksheet!$B$24","v":true},{"$f":"RANDBETWEEN(5,RANDBETWEEN(5,Worksheet!$D$8))","v":79},"km","±",{"$f":"IF(I543=1,H543*10^RANDBETWEEN(IF(Worksheet!$D$14,-1,0),0),IF(I543=2,H543*10^RANDBETWEEN(RANDBETWEEN(0,2),2),CHOOSE(RANDBETWEEN(1,3),5,10,20)))","v":0.5},{"$f":"IF(I543=1,D543,IF(I543=3,\"%\",\"m\"))","v":"km"},5,{"$f":"IF(AND(Worksheet!$D$12,RAND()<0.2),3,IF(RAND()<Worksheet!$D$10/100,1,2))","v":1},{"$f":"IF(I543=1,F543,IF(I543=2,F543/1000,IF(I543=3,F543/100*C543,\"\")))","v":0.5}," km",{"$f":"IF(I543=1,F543*1000,IF(I543=2,F543,IF(I543=3,F543/100*C543*1000,\"\")))","v":500},"m"]
[{"$f":"IF(COUNTIF($B$1:B544,TRUE)=COUNTIF($B$1:B543,TRUE),\"\",COUNTIF($B$1:B544,TRUE))","v":""},{"$f":"Worksheet!$B$26","v":false},{"$f":"RANDBETWEEN(5,RANDBETWEEN(5,Worksheet!$D$8))","v":39},"m","±",{"$f":"IF(I544=1,H544*10^RANDBETWEEN(IF(Worksheet!$D$14,-1,0),0),IF(I544=2,H544*10^RANDBETWEEN(RANDBETWEEN(0,2),2),CHOOSE(RANDBETWEEN(1,3),5,10,20)))","v":0.60000000000000009},{"$f":"IF(I544=1,D544,IF(I544=3,\"%\",\"mm\"))","v":"m"},6,{"$f":"IF(AND(Worksheet!$D$12,RAND()<0.2),3,IF(RAND()<Worksheet!$D$10/100,1,2))","v":1},0.60000000000000009," m",600.00000000000011,"mm"]
[{"$f":"IF(COUNTIF($B$1:B545,TRUE)=COUNTIF($B$1:B544,TRUE),\"\",COUNTIF($B$1:B545,TRUE))","v":424},{"$f":"Worksheet!$D$20","v":true},{"$f":"RANDBETWEEN(5,RANDBETWEEN(5,Worksheet!$D$8))","v":22},"kg","±",{"$f":"IF(I545=1,H545*10^RANDBETWEEN(IF(Worksheet!$D$14,-1,0),0),IF(I545=2,H545*10^RANDBETWEEN(RANDBETWEEN(0,2),2),CHOOSE(RANDBETWEEN(1,3),5,10,20)))","v":0.5},{"$f":"IF(I545=1,D545,IF(I545=3,\"%\",\"g\"))","v":"kg"},{"$f":"RANDBETWEEN(1,MIN(9,C545))","v":5},{"$f":"IF(AND(Worksheet!$D$12,RAND()<0.2),3,IF(RAND()<Worksheet!$D$10/100,1,2))","v":1},0.5,{"$f":"CONCATENATE(\" \",D545)","v":" kg"},500,"g"]
[{"$f":"IF(COUNTIF($B$1:B546,TRUE)=COUNTIF($B$1:B545,TRUE),\"\",COUNTIF($B$1:B546,TRUE))","v":425},{"$f":"Worksheet!$D$22","v":true},{"$f":"RANDBETWEEN(5,RANDBETWEEN(5,Worksheet!$D$8))","v":119},"tonnes","±",{"$f":"IF(I546=1,H546*10^RANDBETWEEN(IF(Worksheet!$D$14,-1,0),0),IF(I546=2,H546*10^RANDBETWEEN(RANDBETWEEN(0,2),2),CHOOSE(RANDBETWEEN(1,3),5,10,20)))","v":10},{"$f":"IF(I546=1,D546,IF(I546=3,\"%\",\"kg\"))","v":"%"},{"$f":"RANDBETWEEN(1,MIN(9,C546))","v":1},{"$f":"IF(AND(Worksheet!$D$12,RAND()<0.2),3,IF(RAND()<Worksheet!$D$10/100,1,2))","v":3},11.9,{"$f":"CONCATENATE(\" \",D546)","v":" tonnes"},11900,"kg"]
[{"$f":"IF(COUNTIF($B$1:B547,TRUE)=COUNTIF($B$1:B546,TRUE),\"\",COUNTIF($B$1:B547,TRUE))","v":426},{"$f":"Worksheet!$D$24","v":true},{"$f":"RANDBETWEEN(5,RANDBETWEEN(5,Worksheet!$D$8))","v":55},"litres","±",{"$f":"IF(I547=1,H547*10^RANDBETWEEN(IF(Worksheet!$D$14,-1,0),0),IF(I547=2,H547*10^RANDBETWEEN(RANDBETWEEN(0,2),2),CHOOSE(RANDBETWEEN(1,3),5,10,20)))","v":0.4},{"$f":"IF(I547=1,D547,IF(I547=3,\"%\",\"ml\"))","v":"litres"},{"$f":"RANDBETWEEN(1,MIN(9,C547))","v":4},{"$f":"IF(AND(Worksheet!$D$12,RAND()<0.2),3,IF(RAND()<Worksheet!$D$10/100,1,2))","v":1},0.4,{"$f":"CONCATENATE(\" \",D547)","v":" litres"},400,"ml"]
[{"$f":"IF(COUNTIF($B$1:B548,TRUE)=COUNTIF($B$1:B547,TRUE),\"\",COUNTIF($B$1:B548,TRUE))","v":""},{"$f":"Worksheet!$D$26","v":false},{"$f":"RANDBETWEEN(5,RANDBETWEEN(5,Worksheet!$D$8))","v":21},"litres","±",{"$f":"IF(I548=1,H548*10^RANDBETWEEN(IF(Worksheet!$D$14,-1,0),0),IF(I548=2,H548*10^RANDBETWEEN(RANDBETWEEN(0,2),2),CHOOSE(RANDBETWEEN(1,3),5,10,20)))","v":0.2},{"$f":"IF(I548=1,D548,IF(I548=3,\"%\",\"cm³\"))","v":"litres"},{"$f":"RANDBETWEEN(1,MIN(9,C548))","v":2},{"$f":"IF(AND(Worksheet!$D$12,RAND()<0.2),3,IF(RAND()<Worksheet!$D$10/100,1,2))","v":1},0.2,{"$f":"CONCATENATE(\" \",D548)","v":" litres"},200,"cm³"]
[{"$f":"IF(COUNTIF($B$1:B549,TRUE)=COUNTIF($B$1:B549,TRUE),\"\",COUNTIF($B$1:B549,TRUE))","v":""},{"$f":"Worksheet!$B$28","v":true},{"$f":"RANDBETWEEN(5,20)","v":6},"°C","±",{"$f":"IF(I549=1,H549*10^RANDBETWEEN(IF(Worksheet!$D$14,-1,0),0),IF(I549=2,H549,CHOOSE(RANDBETWEEN(1,3),5,10,20)))","v":0.2},{"$f":"IF(I549=1,D549,IF(I549=3,\"%\",\"sec\"))","v":"°C"},{"$f":"RANDBETWEEN(1,MIN(9,C549))","v":2},{"$f":"IF(AND(Worksheet!$D$12,RAND()<0),3,IF(RAND()<Worksheet!$D$10/100,1,2))","v":1},{"$f":"IF(I549=1,F549,IF(I549=2,F549,IF(I549=3,F549/100*C549,\"\")))","v":0.2},{"$f":"CONCATENATE(\" \",D549)","v":" °C"},{"$f":"IF(I549=1,F549,IF(I549=2,F549,IF(I549=3,F549/100*C549,\"\")))","v":0.2}," °C"]
[{"$f":"COUNTIF($B$1:B550,TRUE)","v":428},{"$f":"Worksheet!$B$20","v":true},{"$f":"RANDBETWEEN(5,RANDBETWEEN(5,Worksheet!$D$8))","v":112},"cm","±",{"$f":"IF(I550=1,H550*10^RANDBETWEEN(IF(Worksheet!$D$14,-1,0),0),IF(I550=2,H550,CHOOSE(RANDBETWEEN(1,3),5,10,20)))","v":3},{"$f":"IF(I550=1,D550,IF(I550=3,\"%\",\"mm\"))","v":"cm"},{"$f":"RANDBETWEEN(1,MIN(9,C550))","v":3},{"$f":"IF(AND(Worksheet!$D$12,RAND()<0.2),3,IF(RAND()<Worksheet!$D$10/100,1,2))","v":1},{"$f":"IF(I550=1,F550,IF(I550=2,F550/10,IF(I550=3,F550/100*C550,\"\")))","v":3},{"$f":"CONCATENATE(\" \",D550)","v":" cm"},{"$f":"IF(I550=1,F550*10,IF(I550=2,F550,IF(I550=3,F550/100*C550*10,\"\")))","v":30},"mm"]
[{"$f":"IF(COUNTIF($B$1:B551,TRUE)=COUNTIF($B$1:B550,TRUE),\"\",COUNTIF($B$1:B551,TRUE))","v":429},{"$f":"Worksheet!$B$22","v":true},{"$f":"RANDBETWEEN(5,RANDBETWEEN(5,Worksheet!$D$8))","v":109},"m","±",{"$f":"IF(I551=1,H551*10^RANDBETWEEN(IF(Worksheet!$D$14,-1,0),0),IF(I551=2,H551*10^RANDBETWEEN(RANDBETWEEN(0,1),1),CHOOSE(RANDBETWEEN(1,3),5,10,20)))","v":0.4},{"$f":"IF(I551=1,D551,IF(I551=3,\"%\",\"cm\"))","v":"m"},{"$f":"RANDBETWEEN(1,MIN(9,C551))","v":4},{"$f":"IF(AND(Worksheet!$D$12,RAND()<0.2),3,IF(RAND()<Worksheet!$D$10/100,1,2))","v":1},{"$f":"IF(I551=1,F551,IF(I551=2,F551/100,IF(I551=3,F551/100*C551,\"\")))","v":0.4},{"$f":"CONCATENATE(\" \",D551)","v":" m"},{"$f":"IF(I551=1,F551*100,IF(I551=2,F551,IF(I551=3,F551/100*C551*100,\"\")))","v":40},"cm"]
[{"$f":"IF(COUNTIF($B$1:B552,TRUE)=COUNTIF($B$1:B551,TRUE),\"\",COUNTIF($B$1:B552,TRUE))","v":430},{"$f":"Worksheet!$B$24","v":true},{"$f":"RANDBETWEEN(5,RANDBETWEEN(5,Worksheet!$D$8))","v":134},"km","±",{"$f":"IF(I552=1,H552*10^RANDBETWEEN(IF(Worksheet!$D$14,-1,0),0),IF(I552=2,H552*10^RANDBETWEEN(RANDBETWEEN(0,2),2),CHOOSE(RANDBETWEEN(1,3),5,10,20)))","v":700},{"$f":"IF(I552=1,D552,IF(I552=3,\"%\",\"m\"))","v":"m"},7,{"$f":"IF(AND(Worksheet!$D$12,RAND()<0.2),3,IF(RAND()<Worksheet!$D$10/100,1,2))","v":2},{"$f":"IF(I552=1,F552,IF(I552=2,F552/1000,IF(I552=3,F552/100*C552,\"\")))","v":0.7}," km",{"$f":"IF(I552=1,F552*1000,IF(I552=2,F552,IF(I552=3,F552/100*C552*1000,\"\")))","v":700},"m"]
[{"$f":"IF(COUNTIF($B$1:B553,TRUE)=COUNTIF($B$1:B552,TRUE),\"\",COUNTIF($B$1:B553,TRUE))","v":""},{"$f":"Worksheet!$B$26","v":false},{"$f":"RANDBETWEEN(5,RANDBETWEEN(5,Worksheet!$D$8))","v":35},"m","±",{"$f":"IF(I553=1,H553*10^RANDBETWEEN(IF(Worksheet!$D$14,-1,0),0),IF(I553=2,H553*10^RANDBETWEEN(RANDBETWEEN(0,2),2),CHOOSE(RANDBETWEEN(1,3),5,10,20)))","v":300},{"$f":"IF(I553=1,D553,IF(I553=3,\"%\",\"mm\"))","v":"mm"},3,{"$f":"IF(AND(Worksheet!$D$12,RAND()<0.2),3,IF(RAND()<Worksheet!$D$10/100,1,2))","v":2},0.3," m",300,"mm"]
[{"$f":"IF(COUNTIF($B$1:B554,TRUE)=COUNTIF($B$1:B553,TRUE),\"\",COUNTIF($B$1:B554,TRUE))","v":431},{"$f":"Worksheet!$D$20","v":true},{"$f":"RANDBETWEEN(5,RANDBETWEEN(5,Worksheet!$D$8))","v":120},"kg","±",{"$f":"IF(I554=1,H554*10^RANDBETWEEN(IF(Worksheet!$D$14,-1,0),0),IF(I554=2,H554*10^RANDBETWEEN(RANDBETWEEN(0,2),2),CHOOSE(RANDBETWEEN(1,3),5,10,20)))","v":0.2},{"$f":"IF(I554=1,D554,IF(I554=3,\"%\",\"g\"))","v":"kg"},{"$f":"RANDBETWEEN(1,MIN(9,C554))","v":2},{"$f":"IF(AND(Worksheet!$D$12,RAND()<0.2),3,IF(RAND()<Worksheet!$D$10/100,1,2))","v":1},0.2,{"$f":"CONCATENATE(\" \",D554)","v":" kg"},200,"g"]
[{"$f":"IF(COUNTIF($B$1:B555,TRUE)=COUNTIF($B$1:B554,TRUE),\"\",COUNTIF($B$1:B555,TRUE))","v":432},{"$f":"Worksheet!$D$22","v":true},{"$f":"RANDBETWEEN(5,RANDBETWEEN(5,Worksheet!$D$8))","v":44},"tonnes","±",{"$f":"IF(I555=1,H555*10^RANDBETWEEN(IF(Worksheet!$D$14,-1,0),0),IF(I555=2,H555*10^RANDBETWEEN(RANDBETWEEN(0,2),2),CHOOSE(RANDBETWEEN(1,3),5,10,20)))","v":30},{"$f":"IF(I555=1,D555,IF(I555=3,\"%\",\"kg\"))","v":"kg"},{"$f":"RANDBETWEEN(1,MIN(9,C555))","v":3},{"$f":"IF(AND(Worksheet!$D$12,RAND()<0.2),3,IF(RAND()<Worksheet!$D$10/100,1,2))","v":2},0.03,{"$f":"CONCATENATE(\" \",D555)","v":" tonnes"},30,"kg"]
[{"$f":"IF(COUNTIF($B$1:B556,TRUE)=COUNTIF($B$1:B555,TRUE),\"\",COUNTIF($B$1:B556,TRUE))","v":433},{"$f":"Worksheet!$D$24","v":true},{"$f":"RANDBETWEEN(5,RANDBETWEEN(5,Worksheet!$D$8))","v":105},"litres","±",{"$f":"IF(I556=1,H556*10^RANDBETWEEN(IF(Worksheet!$D$14,-1,0),0),IF(I556=2,H556*10^RANDBETWEEN(RANDBETWEEN(0,2),2),CHOOSE(RANDBETWEEN(1,3),5,10,20)))","v":5},{"$f":"IF(I556=1,D556,IF(I556=3,\"%\",\"ml\"))","v":"litres"},{"$f":"RANDBETWEEN(1,MIN(9,C556))","v":5},{"$f":"IF(AND(Worksheet!$D$12,RAND()<0.2),3,IF(RAND()<Worksheet!$D$10/100,1,2))","v":1},5,{"$f":"CONCATENATE(\" \",D556)","v":" litres"},5000,"ml"]
[{"$f":"IF(COUNTIF($B$1:B557,TRUE)=COUNTIF($B$1:B556,TRUE),\"\",COUNTIF($B$1:B557,TRUE))","v":""},{"$f":"Worksheet!$D$26","v":false},{"$f":"RANDBETWEEN(5,RANDBETWEEN(5,Worksheet!$D$8))","v":41},"litres","±",{"$f":"IF(I557=1,H557*10^RANDBETWEEN(IF(Worksheet!$D$14,-1,0),0),IF(I557=2,H557*10^RANDBETWEEN(RANDBETWEEN(0,2),2),CHOOSE(RANDBETWEEN(1,3),5,10,20)))","v":9},{"$f":"IF(I557=1,D557,IF(I557=3,\"%\",\"cm³\"))","v":"litres"},{"$f":"RANDBETWEEN(1,MIN(9,C557))","v":9},{"$f":"IF(AND(Worksheet!$D$12,RAND()<0.2),3,IF(RAND()<Worksheet!$D$10/100,1,2))","v":1},9,{"$f":"CONCATENATE(\" \",D557)","v":" litres"},9000,"cm³"]
[{"$f":"IF(COUNTIF($B$1:B558,TRUE)=COUNTIF($B$1:B558,TRUE),\"\",COUNTIF($B$1:B558,TRUE))","v":""},{"$f":"Worksheet!$B$28","v":true},{"$f":"RANDBETWEEN(5,20)","v":17},"°C","±",{"$f":"IF(I558=1,H558*10^RANDBETWEEN(IF(Worksheet!$D$14,-1,0),0),IF(I558=2,H558,CHOOSE(RANDBETWEEN(1,3),5,10,20)))","v":9},{"$f":"IF(I558=1,D558,IF(I558=3,\"%\",\"sec\"))","v":"sec"},{"$f":"RANDBETWEEN(1,MIN(9,C558))","v":9},{"$f":"IF(AND(Worksheet!$D$12,RAND()<0),3,IF(RAND()<Worksheet!$D$10/100,1,2))","v":2},{"$f":"IF(I558=1,F558,IF(I558=2,F558,IF(I558=3,F558/100*C558,\"\")))","v":9},{"$f":"CONCATENATE(\" \",D558)","v":" °C"},{"$f":"IF(I558=1,F558,IF(I558=2,F558,IF(I558=3,F558/100*C558,\"\")))","v":9}," °C"]
[{"$f":"COUNTIF($B$1:B559,TRUE)","v":435},{"$f":"Worksheet!$B$20","v":true},{"$f":"RANDBETWEEN(5,RANDBETWEEN(5,Worksheet!$D$8))","v":16},"cm","±",{"$f":"IF(I559=1,H559*10^RANDBETWEEN(IF(Worksheet!$D$14,-1,0),0),IF(I559=2,H559,CHOOSE(RANDBETWEEN(1,3),5,10,20)))","v":7},{"$f":"IF(I559=1,D559,IF(I559=3,\"%\",\"mm\"))","v":"mm"},{"$f":"RANDBETWEEN(1,MIN(9,C559))","v":7},{"$f":"IF(AND(Worksheet!$D$12,RAND()<0.2),3,IF(RAND()<Worksheet!$D$10/100,1,2))","v":2},{"$f":"IF(I559=1,F559,IF(I559=2,F559/10,IF(I559=3,F559/100*C559,\"\")))","v":0.7},{"$f":"CONCATENATE(\" \",D559)","v":" cm"},{"$f":"IF(I559=1,F559*10,IF(I559=2,F559,IF(I559=3,F559/100*C559*10,\"\")))","v":7},"mm"]
[{"$f":"IF(COUNTIF($B$1:B560,TRUE)=COUNTIF($B$1:B559,TRUE),\"\",COUNTIF($B$1:B560,TRUE))","v":436},{"$f":"Worksheet!$B$22","v":true},{"$f":"RANDBETWEEN(5,RANDBETWEEN(5,Worksheet!$D$8))","v":12},"m","±",{"$f":"IF(I560=1,H560*10^RANDBETWEEN(IF(Worksheet!$D$14,-1,0),0),IF(I560=2,H560*10^RANDBETWEEN(RANDBETWEEN(0,1),1),CHOOSE(RANDBETWEEN(1,3),5,10,20)))","v":8},{"$f":"IF(I560=1,D560,IF(I560=3,\"%\",\"cm\"))","v":"m"},{"$f":"RANDBETWEEN(1,MIN(9,C560))","v":8},{"$f":"IF(AND(Worksheet!$D$12,RAND()<0.2),3,IF(RAND()<Worksheet!$D$10/100,1,2))","v":1},{"$f":"IF(I560=1,F560,IF(I560=2,F560/100,IF(I560=3,F560/100*C560,\"\")))","v":8},{"$f":"CONCATENATE(\" \",D560)","v":" m"},{"$f":"IF(I560=1,F560*100,IF(I560=2,F560,IF(I560=3,F560/100*C560*100,\"\")))","v":800},"cm"]
[{"$f":"IF(COUNTIF($B$1:B561,TRUE)=COUNTIF($B$1:B560,TRUE),\"\",COUNTIF($B$1:B561,TRUE))","v":437},{"$f":"Worksheet!$B$24","v":true},{"$f":"RANDBETWEEN(5,RANDBETWEEN(5,Worksheet!$D$8))","v":82},"km","±",{"$f":"IF(I561=1,H561*10^RANDBETWEEN(IF(Worksheet!$D$14,-1,0),0),IF(I561=2,H561*10^RANDBETWEEN(RANDBETWEEN(0,2),2),CHOOSE(RANDBETWEEN(1,3),5,10,20)))","v":0.30000000000000004},{"$f":"IF(I561=1,D561,IF(I561=3,\"%\",\"m\"))","v":"km"},3,{"$f":"IF(AND(Worksheet!$D$12,RAND()<0.2),3,IF(RAND()<Worksheet!$D$10/100,1,2))","v":1},{"$f":"IF(I561=1,F561,IF(I561=2,F561/1000,IF(I561=3,F561/100*C561,\"\")))","v":0.30000000000000004}," km",{"$f":"IF(I561=1,F561*1000,IF(I561=2,F561,IF(I561=3,F561/100*C561*1000,\"\")))","v":300.00000000000006},"m"]
[{"$f":"IF(COUNTIF($B$1:B562,TRUE)=COUNTIF($B$1:B561,TRUE),\"\",COUNTIF($B$1:B562,TRUE))","v":""},{"$f":"Worksheet!$B$26","v":false},{"$f":"RANDBETWEEN(5,RANDBETWEEN(5,Worksheet!$D$8))","v":23},"m","±",{"$f":"IF(I562=1,H562*10^RANDBETWEEN(IF(Worksheet!$D$14,-1,0),0),IF(I562=2,H562*10^RANDBETWEEN(RANDBETWEEN(0,2),2),CHOOSE(RANDBETWEEN(1,3),5,10,20)))","v":0.8},{"$f":"IF(I562=1,D562,IF(I562=3,\"%\",\"mm\"))","v":"m"},8,{"$f":"IF(AND(Worksheet!$D$12,RAND()<0.2),3,IF(RAND()<Worksheet!$D$10/100,1,2))","v":1},0.8," m",800,"mm"]
[{"$f":"IF(COUNTIF($B$1:B563,TRUE)=COUNTIF($B$1:B562,TRUE),\"\",COUNTIF($B$1:B563,TRUE))","v":438},{"$f":"Worksheet!$D$20","v":true},{"$f":"RANDBETWEEN(5,RANDBETWEEN(5,Worksheet!$D$8))","v":59},"kg","±",{"$f":"IF(I563=1,H563*10^RANDBETWEEN(IF(Worksheet!$D$14,-1,0),0),IF(I563=2,H563*10^RANDBETWEEN(RANDBETWEEN(0,2),2),CHOOSE(RANDBETWEEN(1,3),5,10,20)))","v":0.4},{"$f":"IF(I563=1,D563,IF(I563=3,\"%\",\"g\"))","v":"kg"},{"$f":"RANDBETWEEN(1,MIN(9,C563))","v":4},{"$f":"IF(AND(Worksheet!$D$12,RAND()<0.2),3,IF(RAND()<Worksheet!$D$10/100,1,2))","v":1},0.4,{"$f":"CONCATENATE(\" \",D563)","v":" kg"},400,"g"]
[{"$f":"IF(COUNTIF($B$1:B564,TRUE)=COUNTIF($B$1:B563,TRUE),\"\",COUNTIF($B$1:B564,TRUE))","v":439},{"$f":"Worksheet!$D$22","v":true},{"$f":"RANDBETWEEN(5,RANDBETWEEN(5,Worksheet!$D$8))","v":147},"tonnes","±",{"$f":"IF(I564=1,H564*10^RANDBETWEEN(IF(Worksheet!$D$14,-1,0),0),IF(I564=2,H564*10^RANDBETWEEN(RANDBETWEEN(0,2),2),CHOOSE(RANDBETWEEN(1,3),5,10,20)))","v":2},{"$f":"IF(I564=1,D564,IF(I564=3,\"%\",\"kg\"))","v":"tonnes"},{"$f":"RANDBETWEEN(1,MIN(9,C564))","v":2},{"$f":"IF(AND(Worksheet!$D$12,RAND()<0.2),3,IF(RAND()<Worksheet!$D$10/100,1,2))","v":1},2,{"$f":"CONCATENATE(\" \",D564)","v":" tonnes"},2000,"kg"]
[{"$f":"IF(COUNTIF($B$1:B565,TRUE)=COUNTIF($B$1:B564,TRUE),\"\",COUNTIF($B$1:B565,TRUE))","v":440},{"$f":"Worksheet!$D$24","v":true},{"$f":"RANDBETWEEN(5,RANDBETWEEN(5,Worksheet!$D$8))","v":5},"litres","±",{"$f":"IF(I565=1,H565*10^RANDBETWEEN(IF(Worksheet!$D$14,-1,0),0),IF(I565=2,H565*10^RANDBETWEEN(RANDBETWEEN(0,2),2),CHOOSE(RANDBETWEEN(1,3),5,10,20)))","v":3},{"$f":"IF(I565=1,D565,IF(I565=3,\"%\",\"ml\"))","v":"litres"},{"$f":"RANDBETWEEN(1,MIN(9,C565))","v":3},{"$f":"IF(AND(Worksheet!$D$12,RAND()<0.2),3,IF(RAND()<Worksheet!$D$10/100,1,2))","v":1},3,{"$f":"CONCATENATE(\" \",D565)","v":" litres"},3000,"ml"]
[{"$f":"IF(COUNTIF($B$1:B566,TRUE)=COUNTIF($B$1:B565,TRUE),\"\",COUNTIF($B$1:B566,TRUE))","v":""},{"$f":"Worksheet!$D$26","v":false},{"$f":"RANDBETWEEN(5,RANDBETWEEN(5,Worksheet!$D$8))","v":113},"litres","±",{"$f":"IF(I566=1,H566*10^RANDBETWEEN(IF(Worksheet!$D$14,-1,0),0),IF(I566=2,H566*10^RANDBETWEEN(RANDBETWEEN(0,2),2),CHOOSE(RANDBETWEEN(1,3),5,10,20)))","v":5},{"$f":"IF(I566=1,D566,IF(I566=3,\"%\",\"cm³\"))","v":"%"},{"$f":"RANDBETWEEN(1,MIN(9,C566))","v":1},{"$f":"IF(AND(Worksheet!$D$12,RAND()<0.2),3,IF(RAND()<Worksheet!$D$10/100,1,2))","v":3},5.65,{"$f":"CONCATENATE(\" \",D566)","v":" litres"},5650,"cm³"]
[{"$f":"IF(COUNTIF($B$1:B567,TRUE)=COUNTIF($B$1:B567,TRUE),\"\",COUNTIF($B$1:B567,TRUE))","v":""},{"$f":"Worksheet!$B$28","v":true},{"$f":"RANDBETWEEN(5,20)","v":16},"°C","±",{"$f":"IF(I567=1,H567*10^RANDBETWEEN(IF(Worksheet!$D$14,-1,0),0),IF(I567=2,H567,CHOOSE(RANDBETWEEN(1,3),5,10,20)))","v":5},{"$f":"IF(I567=1,D567,IF(I567=3,\"%\",\"sec\"))","v":"°C"},{"$f":"RANDBETWEEN(1,MIN(9,C567))","v":5},{"$f":"IF(AND(Worksheet!$D$12,RAND()<0),3,IF(RAND()<Worksheet!$D$10/100,1,2))","v":1},{"$f":"IF(I567=1,F567,IF(I567=2,F567,IF(I567=3,F567/100*C567,\"\")))","v":5},{"$f":"CONCATENATE(\" \",D567)","v":" °C"},{"$f":"IF(I567=1,F567,IF(I567=2,F567,IF(I567=3,F567/100*C567,\"\")))","v":5}," °C"]
[{"$f":"COUNTIF($B$1:B568,TRUE)","v":442},{"$f":"Worksheet!$B$20","v":true},{"$f":"RANDBETWEEN(5,RANDBETWEEN(5,Worksheet!$D$8))","v":14},"cm","±",{"$f":"IF(I568=1,H568*10^RANDBETWEEN(IF(Worksheet!$D$14,-1,0),0),IF(I568=2,H568,CHOOSE(RANDBETWEEN(1,3),5,10,20)))","v":5},{"$f":"IF(I568=1,D568,IF(I568=3,\"%\",\"mm\"))","v":"%"},{"$f":"RANDBETWEEN(1,MIN(9,C568))","v":3},{"$f":"IF(AND(Worksheet!$D$12,RAND()<0.2),3,IF(RAND()<Worksheet!$D$10/100,1,2))","v":3},{"$f":"IF(I568=1,F568,IF(I568=2,F568/10,IF(I568=3,F568/100*C568,\"\")))","v":0.70000000000000007},{"$f":"CONCATENATE(\" \",D568)","v":" cm"},{"$f":"IF(I568=1,F568*10,IF(I568=2,F568,IF(I568=3,F568/100*C568*10,\"\")))","v":7.0000000000000009},"mm"]
[{"$f":"IF(COUNTIF($B$1:B569,TRUE)=COUNTIF($B$1:B568,TRUE),\"\",COUNTIF($B$1:B569,TRUE))","v":443},{"$f":"Worksheet!$B$22","v":true},{"$f":"RANDBETWEEN(5,RANDBETWEEN(5,Worksheet!$D$8))","v":10},"m","±",{"$f":"IF(I569=1,H569*10^RANDBETWEEN(IF(Worksheet!$D$14,-1,0),0),IF(I569=2,H569*10^RANDBETWEEN(RANDBETWEEN(0,1),1),CHOOSE(RANDBETWEEN(1,3),5,10,20)))","v":1},{"$f":"IF(I569=1,D569,IF(I569=3,\"%\",\"cm\"))","v":"m"},{"$f":"RANDBETWEEN(1,MIN(9,C569))","v":1},{"$f":"IF(AND(Worksheet!$D$12,RAND()<0.2),3,IF(RAND()<Worksheet!$D$10/100,1,2))","v":1},{"$f":"IF(I569=1,F569,IF(I569=2,F569/100,IF(I569=3,F569/100*C569,\"\")))","v":1},{"$f":"CONCATENATE(\" \",D569)","v":" m"},{"$f":"IF(I569=1,F569*100,IF(I569=2,F569,IF(I569=3,F569/100*C569*100,\"\")))","v":100},"cm"]
[{"$f":"IF(COUNTIF($B$1:B570,TRUE)=COUNTIF($B$1:B569,TRUE),\"\",COUNTIF($B$1:B570,TRUE))","v":444},{"$f":"Worksheet!$B$24","v":true},{"$f":"RANDBETWEEN(5,RANDBETWEEN(5,Worksheet!$D$8))","v":75},"km","±",{"$f":"IF(I570=1,H570*10^RANDBETWEEN(IF(Worksheet!$D$14,-1,0),0),IF(I570=2,H570*10^RANDBETWEEN(RANDBETWEEN(0,2),2),CHOOSE(RANDBETWEEN(1,3),5,10,20)))","v":70},{"$f":"IF(I570=1,D570,IF(I570=3,\"%\",\"m\"))","v":"m"},7,{"$f":"IF(AND(Worksheet!$D$12,RAND()<0.2),3,IF(RAND()<Worksheet!$D$10/100,1,2))","v":2},{"$f":"IF(I570=1,F570,IF(I570=2,F570/1000,IF(I570=3,F570/100*C570,\"\")))","v":7.0000000000000007E-2}," km",{"$f":"IF(I570=1,F570*1000,IF(I570=2,F570,IF(I570=3,F570/100*C570*1000,\"\")))","v":70},"m"]
[{"$f":"IF(COUNTIF($B$1:B571,TRUE)=COUNTIF($B$1:B570,TRUE),\"\",COUNTIF($B$1:B571,TRUE))","v":""},{"$f":"Worksheet!$B$26","v":false},{"$f":"RANDBETWEEN(5,RANDBETWEEN(5,Worksheet!$D$8))","v":129},"m","±",{"$f":"IF(I571=1,H571*10^RANDBETWEEN(IF(Worksheet!$D$14,-1,0),0),IF(I571=2,H571*10^RANDBETWEEN(RANDBETWEEN(0,2),2),CHOOSE(RANDBETWEEN(1,3),5,10,20)))","v":10},{"$f":"IF(I571=1,D571,IF(I571=3,\"%\",\"mm\"))","v":"%"},7,{"$f":"IF(AND(Worksheet!$D$12,RAND()<0.2),3,IF(RAND()<Worksheet!$D$10/100,1,2))","v":3},12.9," m",12900,"mm"]
[{"$f":"IF(COUNTIF($B$1:B572,TRUE)=COUNTIF($B$1:B571,TRUE),\"\",COUNTIF($B$1:B572,TRUE))","v":445},{"$f":"Worksheet!$D$20","v":true},{"$f":"RANDBETWEEN(5,RANDBETWEEN(5,Worksheet!$D$8))","v":67},"kg","±",{"$f":"IF(I572=1,H572*10^RANDBETWEEN(IF(Worksheet!$D$14,-1,0),0),IF(I572=2,H572*10^RANDBETWEEN(RANDBETWEEN(0,2),2),CHOOSE(RANDBETWEEN(1,3),5,10,20)))","v":20},{"$f":"IF(I572=1,D572,IF(I572=3,\"%\",\"g\"))","v":"%"},{"$f":"RANDBETWEEN(1,MIN(9,C572))","v":5},{"$f":"IF(AND(Worksheet!$D$12,RAND()<0.2),3,IF(RAND()<Worksheet!$D$10/100,1,2))","v":3},13.4,{"$f":"CONCATENATE(\" \",D572)","v":" kg"},13400,"g"]
[{"$f":"IF(COUNTIF($B$1:B573,TRUE)=COUNTIF($B$1:B572,TRUE),\"\",COUNTIF($B$1:B573,TRUE))","v":446},{"$f":"Worksheet!$D$22","v":true},{"$f":"RANDBETWEEN(5,RANDBETWEEN(5,Worksheet!$D$8))","v":77},"tonnes","±",{"$f":"IF(I573=1,H573*10^RANDBETWEEN(IF(Worksheet!$D$14,-1,0),0),IF(I573=2,H573*10^RANDBETWEEN(RANDBETWEEN(0,2),2),CHOOSE(RANDBETWEEN(1,3),5,10,20)))","v":0.8},{"$f":"IF(I573=1,D573,IF(I573=3,\"%\",\"kg\"))","v":"tonnes"},{"$f":"RANDBETWEEN(1,MIN(9,C573))","v":8},{"$f":"IF(AND(Worksheet!$D$12,RAND()<0.2),3,IF(RAND()<Worksheet!$D$10/100,1,2))","v":1},0.8,{"$f":"CONCATENATE(\" \",D573)","v":" tonnes"},800,"kg"]
[{"$f":"IF(COUNTIF($B$1:B574,TRUE)=COUNTIF($B$1:B573,TRUE),\"\",COUNTIF($B$1:B574,TRUE))","v":447},{"$f":"Worksheet!$D$24","v":true},{"$f":"RANDBETWEEN(5,RANDBETWEEN(5,Worksheet!$D$8))","v":95},"litres","±",{"$f":"IF(I574=1,H574*10^RANDBETWEEN(IF(Worksheet!$D$14,-1,0),0),IF(I574=2,H574*10^RANDBETWEEN(RANDBETWEEN(0,2),2),CHOOSE(RANDBETWEEN(1,3),5,10,20)))","v":0.30000000000000004},{"$f":"IF(I574=1,D574,IF(I574=3,\"%\",\"ml\"))","v":"litres"},{"$f":"RANDBETWEEN(1,MIN(9,C574))","v":3},{"$f":"IF(AND(Worksheet!$D$12,RAND()<0.2),3,IF(RAND()<Worksheet!$D$10/100,1,2))","v":1},0.30000000000000004,{"$f":"CONCATENATE(\" \",D574)","v":" litres"},300.00000000000006,"ml"]
[{"$f":"IF(COUNTIF($B$1:B575,TRUE)=COUNTIF($B$1:B574,TRUE),\"\",COUNTIF($B$1:B575,TRUE))","v":""},{"$f":"Worksheet!$D$26","v":false},{"$f":"RANDBETWEEN(5,RANDBETWEEN(5,Worksheet!$D$8))","v":107},"litres","±",{"$f":"IF(I575=1,H575*10^RANDBETWEEN(IF(Worksheet!$D$14,-1,0),0),IF(I575=2,H575*10^RANDBETWEEN(RANDBETWEEN(0,2),2),CHOOSE(RANDBETWEEN(1,3),5,10,20)))","v":8},{"$f":"IF(I575=1,D575,IF(I575=3,\"%\",\"cm³\"))","v":"litres"},{"$f":"RANDBETWEEN(1,MIN(9,C575))","v":8},{"$f":"IF(AND(Worksheet!$D$12,RAND()<0.2),3,IF(RAND()<Worksheet!$D$10/100,1,2))","v":1},8,{"$f":"CONCATENATE(\" \",D575)","v":" litres"},8000,"cm³"]
[{"$f":"IF(COUNTIF($B$1:B576,TRUE)=COUNTIF($B$1:B576,TRUE),\"\",COUNTIF($B$1:B576,TRUE))","v":""},{"$f":"Worksheet!$B$28","v":true},{"$f":"RANDBETWEEN(5,20)","v":6},"°C","±",{"$f":"IF(I576=1,H576*10^RANDBETWEEN(IF(Worksheet!$D$14,-1,0),0),IF(I576=2,H576,CHOOSE(RANDBETWEEN(1,3),5,10,20)))","v":1},{"$f":"IF(I576=1,D576,IF(I576=3,\"%\",\"sec\"))","v":"°C"},{"$f":"RANDBETWEEN(1,MIN(9,C576))","v":1},{"$f":"IF(AND(Worksheet!$D$12,RAND()<0),3,IF(RAND()<Worksheet!$D$10/100,1,2))","v":1},{"$f":"IF(I576=1,F576,IF(I576=2,F576,IF(I576=3,F576/100*C576,\"\")))","v":1},{"$f":"CONCATENATE(\" \",D576)","v":" °C"},{"$f":"IF(I576=1,F576,IF(I576=2,F576,IF(I576=3,F576/100*C576,\"\")))","v":1}," °C"]
[{"$f":"COUNTIF($B$1:B577,TRUE)","v":449},{"$f":"Worksheet!$B$20","v":true},{"$f":"RANDBETWEEN(5,RANDBETWEEN(5,Worksheet!$D$8))","v":26},"cm","±",{"$f":"IF(I577=1,H577*10^RANDBETWEEN(IF(Worksheet!$D$14,-1,0),0),IF(I577=2,H577,CHOOSE(RANDBETWEEN(1,3),5,10,20)))","v":7},{"$f":"IF(I577=1,D577,IF(I577=3,\"%\",\"mm\"))","v":"cm"},{"$f":"RANDBETWEEN(1,MIN(9,C577))","v":7},{"$f":"IF(AND(Worksheet!$D$12,RAND()<0.2),3,IF(RAND()<Worksheet!$D$10/100,1,2))","v":1},{"$f":"IF(I577=1,F577,IF(I577=2,F577/10,IF(I577=3,F577/100*C577,\"\")))","v":7},{"$f":"CONCATENATE(\" \",D577)","v":" cm"},{"$f":"IF(I577=1,F577*10,IF(I577=2,F577,IF(I577=3,F577/100*C577*10,\"\")))","v":70},"mm"]
[{"$f":"IF(COUNTIF($B$1:B578,TRUE)=COUNTIF($B$1:B577,TRUE),\"\",COUNTIF($B$1:B578,TRUE))","v":450},{"$f":"Worksheet!$B$22","v":true},{"$f":"RANDBETWEEN(5,RANDBETWEEN(5,Worksheet!$D$8))","v":104},"m","±",{"$f":"IF(I578=1,H578*10^RANDBETWEEN(IF(Worksheet!$D$14,-1,0),0),IF(I578=2,H578*10^RANDBETWEEN(RANDBETWEEN(0,1),1),CHOOSE(RANDBETWEEN(1,3),5,10,20)))","v":4},{"$f":"IF(I578=1,D578,IF(I578=3,\"%\",\"cm\"))","v":"m"},{"$f":"RANDBETWEEN(1,MIN(9,C578))","v":4},{"$f":"IF(AND(Worksheet!$D$12,RAND()<0.2),3,IF(RAND()<Worksheet!$D$10/100,1,2))","v":1},{"$f":"IF(I578=1,F578,IF(I578=2,F578/100,IF(I578=3,F578/100*C578,\"\")))","v":4},{"$f":"CONCATENATE(\" \",D578)","v":" m"},{"$f":"IF(I578=1,F578*100,IF(I578=2,F578,IF(I578=3,F578/100*C578*100,\"\")))","v":400},"cm"]
[{"$f":"IF(COUNTIF($B$1:B579,TRUE)=COUNTIF($B$1:B578,TRUE),\"\",COUNTIF($B$1:B579,TRUE))","v":451},{"$f":"Worksheet!$B$24","v":true},{"$f":"RANDBETWEEN(5,RANDBETWEEN(5,Worksheet!$D$8))","v":70},"km","±",{"$f":"IF(I579=1,H579*10^RANDBETWEEN(IF(Worksheet!$D$14,-1,0),0),IF(I579=2,H579*10^RANDBETWEEN(RANDBETWEEN(0,2),2),CHOOSE(RANDBETWEEN(1,3),5,10,20)))","v":900},{"$f":"IF(I579=1,D579,IF(I579=3,\"%\",\"m\"))","v":"m"},9,{"$f":"IF(AND(Worksheet!$D$12,RAND()<0.2),3,IF(RAND()<Worksheet!$D$10/100,1,2))","v":2},{"$f":"IF(I579=1,F579,IF(I579=2,F579/1000,IF(I579=3,F579/100*C579,\"\")))","v":0.9}," km",{"$f":"IF(I579=1,F579*1000,IF(I579=2,F579,IF(I579=3,F579/100*C579*1000,\"\")))","v":900},"m"]
[{"$f":"IF(COUNTIF($B$1:B580,TRUE)=COUNTIF($B$1:B579,TRUE),\"\",COUNTIF($B$1:B580,TRUE))","v":""},{"$f":"Worksheet!$B$26","v":false},{"$f":"RANDBETWEEN(5,RANDBETWEEN(5,Worksheet!$D$8))","v":7},"m","±",{"$f":"IF(I580=1,H580*10^RANDBETWEEN(IF(Worksheet!$D$14,-1,0),0),IF(I580=2,H580*10^RANDBETWEEN(RANDBETWEEN(0,2),2),CHOOSE(RANDBETWEEN(1,3),5,10,20)))","v":0.70000000000000007},{"$f":"IF(I580=1,D580,IF(I580=3,\"%\",\"mm\"))","v":"m"},7,{"$f":"IF(AND(Worksheet!$D$12,RAND()<0.2),3,IF(RAND()<Worksheet!$D$10/100,1,2))","v":1},0.70000000000000007," m",700.00000000000011,"mm"]
[{"$f":"IF(COUNTIF($B$1:B581,TRUE)=COUNTIF($B$1:B580,TRUE),\"\",COUNTIF($B$1:B581,TRUE))","v":452},{"$f":"Worksheet!$D$20","v":true},{"$f":"RANDBETWEEN(5,RANDBETWEEN(5,Worksheet!$D$8))","v":30},"kg","±",{"$f":"IF(I581=1,H581*10^RANDBETWEEN(IF(Worksheet!$D$14,-1,0),0),IF(I581=2,H581*10^RANDBETWEEN(RANDBETWEEN(0,2),2),CHOOSE(RANDBETWEEN(1,3),5,10,20)))","v":5},{"$f":"IF(I581=1,D581,IF(I581=3,\"%\",\"g\"))","v":"%"},{"$f":"RANDBETWEEN(1,MIN(9,C581))","v":5},{"$f":"IF(AND(Worksheet!$D$12,RAND()<0.2),3,IF(RAND()<Worksheet!$D$10/100,1,2))","v":3},1.5,{"$f":"CONCATENATE(\" \",D581)","v":" kg"},1500,"g"]
[{"$f":"IF(COUNTIF($B$1:B582,TRUE)=COUNTIF($B$1:B581,TRUE),\"\",COUNTIF($B$1:B582,TRUE))","v":453},{"$f":"Worksheet!$D$22","v":true},{"$f":"RANDBETWEEN(5,RANDBETWEEN(5,Worksheet!$D$8))","v":60},"tonnes","±",{"$f":"IF(I582=1,H582*10^RANDBETWEEN(IF(Worksheet!$D$14,-1,0),0),IF(I582=2,H582*10^RANDBETWEEN(RANDBETWEEN(0,2),2),CHOOSE(RANDBETWEEN(1,3),5,10,20)))","v":7},{"$f":"IF(I582=1,D582,IF(I582=3,\"%\",\"kg\"))","v":"tonnes"},{"$f":"RANDBETWEEN(1,MIN(9,C582))","v":7},{"$f":"IF(AND(Worksheet!$D$12,RAND()<0.2),3,IF(RAND()<Worksheet!$D$10/100,1,2))","v":1},7,{"$f":"CONCATENATE(\" \",D582)","v":" tonnes"},7000,"kg"]
[{"$f":"IF(COUNTIF($B$1:B583,TRUE)=COUNTIF($B$1:B582,TRUE),\"\",COUNTIF($B$1:B583,TRUE))","v":454},{"$f":"Worksheet!$D$24","v":true},{"$f":"RANDBETWEEN(5,RANDBETWEEN(5,Worksheet!$D$8))","v":118},"litres","±",{"$f":"IF(I583=1,H583*10^RANDBETWEEN(IF(Worksheet!$D$14,-1,0),0),IF(I583=2,H583*10^RANDBETWEEN(RANDBETWEEN(0,2),2),CHOOSE(RANDBETWEEN(1,3),5,10,20)))","v":5},{"$f":"IF(I583=1,D583,IF(I583=3,\"%\",\"ml\"))","v":"%"},{"$f":"RANDBETWEEN(1,MIN(9,C583))","v":1},{"$f":"IF(AND(Worksheet!$D$12,RAND()<0.2),3,IF(RAND()<Worksheet!$D$10/100,1,2))","v":3},5.9,{"$f":"CONCATENATE(\" \",D583)","v":" litres"},5900,"ml"]
[{"$f":"IF(COUNTIF($B$1:B584,TRUE)=COUNTIF($B$1:B583,TRUE),\"\",COUNTIF($B$1:B584,TRUE))","v":""},{"$f":"Worksheet!$D$26","v":false},{"$f":"RANDBETWEEN(5,RANDBETWEEN(5,Worksheet!$D$8))","v":21},"litres","±",{"$f":"IF(I584=1,H584*10^RANDBETWEEN(IF(Worksheet!$D$14,-1,0),0),IF(I584=2,H584*10^RANDBETWEEN(RANDBETWEEN(0,2),2),CHOOSE(RANDBETWEEN(1,3),5,10,20)))","v":4},{"$f":"IF(I584=1,D584,IF(I584=3,\"%\",\"cm³\"))","v":"litres"},{"$f":"RANDBETWEEN(1,MIN(9,C584))","v":4},{"$f":"IF(AND(Worksheet!$D$12,RAND()<0.2),3,IF(RAND()<Worksheet!$D$10/100,1,2))","v":1},4,{"$f":"CONCATENATE(\" \",D584)","v":" litres"},4000,"cm³"]
[{"$f":"IF(COUNTIF($B$1:B585,TRUE)=COUNTIF($B$1:B585,TRUE),\"\",COUNTIF($B$1:B585,TRUE))","v":""},{"$f":"Worksheet!$B$28","v":true},{"$f":"RANDBETWEEN(5,20)","v":6},"°C","±",{"$f":"IF(I585=1,H585*10^RANDBETWEEN(IF(Worksheet!$D$14,-1,0),0),IF(I585=2,H585,CHOOSE(RANDBETWEEN(1,3),5,10,20)))","v":0.30000000000000004},{"$f":"IF(I585=1,D585,IF(I585=3,\"%\",\"sec\"))","v":"°C"},{"$f":"RANDBETWEEN(1,MIN(9,C585))","v":3},{"$f":"IF(AND(Worksheet!$D$12,RAND()<0),3,IF(RAND()<Worksheet!$D$10/100,1,2))","v":1},{"$f":"IF(I585=1,F585,IF(I585=2,F585,IF(I585=3,F585/100*C585,\"\")))","v":0.30000000000000004},{"$f":"CONCATENATE(\" \",D585)","v":" °C"},{"$f":"IF(I585=1,F585,IF(I585=2,F585,IF(I585=3,F585/100*C585,\"\")))","v":0.30000000000000004}," °C"]
[{"$f":"COUNTIF($B$1:B586,TRUE)","v":456},{"$f":"Worksheet!$B$20","v":true},{"$f":"RANDBETWEEN(5,RANDBETWEEN(5,Worksheet!$D$8))","v":116},"cm","±",{"$f":"IF(I586=1,H586*10^RANDBETWEEN(IF(Worksheet!$D$14,-1,0),0),IF(I586=2,H586,CHOOSE(RANDBETWEEN(1,3),5,10,20)))","v":0.2},{"$f":"IF(I586=1,D586,IF(I586=3,\"%\",\"mm\"))","v":"cm"},{"$f":"RANDBETWEEN(1,MIN(9,C586))","v":2},{"$f":"IF(AND(Worksheet!$D$12,RAND()<0.2),3,IF(RAND()<Worksheet!$D$10/100,1,2))","v":1},{"$f":"IF(I586=1,F586,IF(I586=2,F586/10,IF(I586=3,F586/100*C586,\"\")))","v":0.2},{"$f":"CONCATENATE(\" \",D586)","v":" cm"},{"$f":"IF(I586=1,F586*10,IF(I586=2,F586,IF(I586=3,F586/100*C586*10,\"\")))","v":2},"mm"]
[{"$f":"IF(COUNTIF($B$1:B587,TRUE)=COUNTIF($B$1:B586,TRUE),\"\",COUNTIF($B$1:B587,TRUE))","v":457},{"$f":"Worksheet!$B$22","v":true},{"$f":"RANDBETWEEN(5,RANDBETWEEN(5,Worksheet!$D$8))","v":22},"m","±",{"$f":"IF(I587=1,H587*10^RANDBETWEEN(IF(Worksheet!$D$14,-1,0),0),IF(I587=2,H587*10^RANDBETWEEN(RANDBETWEEN(0,1),1),CHOOSE(RANDBETWEEN(1,3),5,10,20)))","v":1},{"$f":"IF(I587=1,D587,IF(I587=3,\"%\",\"cm\"))","v":"m"},{"$f":"RANDBETWEEN(1,MIN(9,C587))","v":1},{"$f":"IF(AND(Worksheet!$D$12,RAND()<0.2),3,IF(RAND()<Worksheet!$D$10/100,1,2))","v":1},{"$f":"IF(I587=1,F587,IF(I587=2,F587/100,IF(I587=3,F587/100*C587,\"\")))","v":1},{"$f":"CONCATENATE(\" \",D587)","v":" m"},{"$f":"IF(I587=1,F587*100,IF(I587=2,F587,IF(I587=3,F587/100*C587*100,\"\")))","v":100},"cm"]
[{"$f":"IF(COUNTIF($B$1:B588,TRUE)=COUNTIF($B$1:B587,TRUE),\"\",COUNTIF($B$1:B588,TRUE))","v":458},{"$f":"Worksheet!$B$24","v":true},{"$f":"RANDBETWEEN(5,RANDBETWEEN(5,Worksheet!$D$8))","v":20},"km","±",{"$f":"IF(I588=1,H588*10^RANDBETWEEN(IF(Worksheet!$D$14,-1,0),0),IF(I588=2,H588*10^RANDBETWEEN(RANDBETWEEN(0,2),2),CHOOSE(RANDBETWEEN(1,3),5,10,20)))","v":2},{"$f":"IF(I588=1,D588,IF(I588=3,\"%\",\"m\"))","v":"km"},2,{"$f":"IF(AND(Worksheet!$D$12,RAND()<0.2),3,IF(RAND()<Worksheet!$D$10/100,1,2))","v":1},{"$f":"IF(I588=1,F588,IF(I588=2,F588/1000,IF(I588=3,F588/100*C588,\"\")))","v":2}," km",{"$f":"IF(I588=1,F588*1000,IF(I588=2,F588,IF(I588=3,F588/100*C588*1000,\"\")))","v":2000},"m"]
[{"$f":"IF(COUNTIF($B$1:B589,TRUE)=COUNTIF($B$1:B588,TRUE),\"\",COUNTIF($B$1:B589,TRUE))","v":""},{"$f":"Worksheet!$B$26","v":false},{"$f":"RANDBETWEEN(5,RANDBETWEEN(5,Worksheet!$D$8))","v":30},"m","±",{"$f":"IF(I589=1,H589*10^RANDBETWEEN(IF(Worksheet!$D$14,-1,0),0),IF(I589=2,H589*10^RANDBETWEEN(RANDBETWEEN(0,2),2),CHOOSE(RANDBETWEEN(1,3),5,10,20)))","v":20},{"$f":"IF(I589=1,D589,IF(I589=3,\"%\",\"mm\"))","v":"%"},9,{"$f":"IF(AND(Worksheet!$D$12,RAND()<0.2),3,IF(RAND()<Worksheet!$D$10/100,1,2))","v":3},6," m",6000,"mm"]
[{"$f":"IF(COUNTIF($B$1:B590,TRUE)=COUNTIF($B$1:B589,TRUE),\"\",COUNTIF($B$1:B590,TRUE))","v":459},{"$f":"Worksheet!$D$20","v":true},{"$f":"RANDBETWEEN(5,RANDBETWEEN(5,Worksheet!$D$8))","v":8},"kg","±",{"$f":"IF(I590=1,H590*10^RANDBETWEEN(IF(Worksheet!$D$14,-1,0),0),IF(I590=2,H590*10^RANDBETWEEN(RANDBETWEEN(0,2),2),CHOOSE(RANDBETWEEN(1,3),5,10,20)))","v":20},{"$f":"IF(I590=1,D590,IF(I590=3,\"%\",\"g\"))","v":"g"},{"$f":"RANDBETWEEN(1,MIN(9,C590))","v":2},{"$f":"IF(AND(Worksheet!$D$12,RAND()<0.2),3,IF(RAND()<Worksheet!$D$10/100,1,2))","v":2},0.02,{"$f":"CONCATENATE(\" \",D590)","v":" kg"},20,"g"]
[{"$f":"IF(COUNTIF($B$1:B591,TRUE)=COUNTIF($B$1:B590,TRUE),\"\",COUNTIF($B$1:B591,TRUE))","v":460},{"$f":"Worksheet!$D$22","v":true},{"$f":"RANDBETWEEN(5,RANDBETWEEN(5,Worksheet!$D$8))","v":66},"tonnes","±",{"$f":"IF(I591=1,H591*10^RANDBETWEEN(IF(Worksheet!$D$14,-1,0),0),IF(I591=2,H591*10^RANDBETWEEN(RANDBETWEEN(0,2),2),CHOOSE(RANDBETWEEN(1,3),5,10,20)))","v":0.5},{"$f":"IF(I591=1,D591,IF(I591=3,\"%\",\"kg\"))","v":"tonnes"},{"$f":"RANDBETWEEN(1,MIN(9,C591))","v":5},{"$f":"IF(AND(Worksheet!$D$12,RAND()<0.2),3,IF(RAND()<Worksheet!$D$10/100,1,2))","v":1},0.5,{"$f":"CONCATENATE(\" \",D591)","v":" tonnes"},500,"kg"]
[{"$f":"IF(COUNTIF($B$1:B592,TRUE)=COUNTIF($B$1:B591,TRUE),\"\",COUNTIF($B$1:B592,TRUE))","v":461},{"$f":"Worksheet!$D$24","v":true},{"$f":"RANDBETWEEN(5,RANDBETWEEN(5,Worksheet!$D$8))","v":11},"litres","±",{"$f":"IF(I592=1,H592*10^RANDBETWEEN(IF(Worksheet!$D$14,-1,0),0),IF(I592=2,H592*10^RANDBETWEEN(RANDBETWEEN(0,2),2),CHOOSE(RANDBETWEEN(1,3),5,10,20)))","v":0.70000000000000007},{"$f":"IF(I592=1,D592,IF(I592=3,\"%\",\"ml\"))","v":"litres"},{"$f":"RANDBETWEEN(1,MIN(9,C592))","v":7},{"$f":"IF(AND(Worksheet!$D$12,RAND()<0.2),3,IF(RAND()<Worksheet!$D$10/100,1,2))","v":1},0.70000000000000007,{"$f":"CONCATENATE(\" \",D592)","v":" litres"},700.00000000000011,"ml"]
[{"$f":"IF(COUNTIF($B$1:B593,TRUE)=COUNTIF($B$1:B592,TRUE),\"\",COUNTIF($B$1:B593,TRUE))","v":""},{"$f":"Worksheet!$D$26","v":false},{"$f":"RANDBETWEEN(5,RANDBETWEEN(5,Worksheet!$D$8))","v":27},"litres","±",{"$f":"IF(I593=1,H593*10^RANDBETWEEN(IF(Worksheet!$D$14,-1,0),0),IF(I593=2,H593*10^RANDBETWEEN(RANDBETWEEN(0,2),2),CHOOSE(RANDBETWEEN(1,3),5,10,20)))","v":0.4},{"$f":"IF(I593=1,D593,IF(I593=3,\"%\",\"cm³\"))","v":"litres"},{"$f":"RANDBETWEEN(1,MIN(9,C593))","v":4},{"$f":"IF(AND(Worksheet!$D$12,RAND()<0.2),3,IF(RAND()<Worksheet!$D$10/100,1,2))","v":1},0.4,{"$f":"CONCATENATE(\" \",D593)","v":" litres"},400,"cm³"]
[{"$f":"IF(COUNTIF($B$1:B594,TRUE)=COUNTIF($B$1:B594,TRUE),\"\",COUNTIF($B$1:B594,TRUE))","v":""},{"$f":"Worksheet!$B$28","v":true},{"$f":"RANDBETWEEN(5,20)","v":18},"°C","±",{"$f":"IF(I594=1,H594*10^RANDBETWEEN(IF(Worksheet!$D$14,-1,0),0),IF(I594=2,H594,CHOOSE(RANDBETWEEN(1,3),5,10,20)))","v":8},{"$f":"IF(I594=1,D594,IF(I594=3,\"%\",\"sec\"))","v":"°C"},{"$f":"RANDBETWEEN(1,MIN(9,C594))","v":8},{"$f":"IF(AND(Worksheet!$D$12,RAND()<0),3,IF(RAND()<Worksheet!$D$10/100,1,2))","v":1},{"$f":"IF(I594=1,F594,IF(I594=2,F594,IF(I594=3,F594/100*C594,\"\")))","v":8},{"$f":"CONCATENATE(\" \",D594)","v":" °C"},{"$f":"IF(I594=1,F594,IF(I594=2,F594,IF(I594=3,F594/100*C594,\"\")))","v":8}," °C"]
[{"$f":"COUNTIF($B$1:B595,TRUE)","v":463},{"$f":"Worksheet!$B$20","v":true},{"$f":"RANDBETWEEN(5,RANDBETWEEN(5,Worksheet!$D$8))","v":6},"cm","±",{"$f":"IF(I595=1,H595*10^RANDBETWEEN(IF(Worksheet!$D$14,-1,0),0),IF(I595=2,H595,CHOOSE(RANDBETWEEN(1,3),5,10,20)))","v":5},{"$f":"IF(I595=1,D595,IF(I595=3,\"%\",\"mm\"))","v":"%"},{"$f":"RANDBETWEEN(1,MIN(9,C595))","v":5},{"$f":"IF(AND(Worksheet!$D$12,RAND()<0.2),3,IF(RAND()<Worksheet!$D$10/100,1,2))","v":3},{"$f":"IF(I595=1,F595,IF(I595=2,F595/10,IF(I595=3,F595/100*C595,\"\")))","v":0.30000000000000004},{"$f":"CONCATENATE(\" \",D595)","v":" cm"},{"$f":"IF(I595=1,F595*10,IF(I595=2,F595,IF(I595=3,F595/100*C595*10,\"\")))","v":3.0000000000000004},"mm"]
[{"$f":"IF(COUNTIF($B$1:B596,TRUE)=COUNTIF($B$1:B595,TRUE),\"\",COUNTIF($B$1:B596,TRUE))","v":464},{"$f":"Worksheet!$B$22","v":true},{"$f":"RANDBETWEEN(5,RANDBETWEEN(5,Worksheet!$D$8))","v":6},"m","±",{"$f":"IF(I596=1,H596*10^RANDBETWEEN(IF(Worksheet!$D$14,-1,0),0),IF(I596=2,H596*10^RANDBETWEEN(RANDBETWEEN(0,1),1),CHOOSE(RANDBETWEEN(1,3),5,10,20)))","v":1},{"$f":"IF(I596=1,D596,IF(I596=3,\"%\",\"cm\"))","v":"m"},{"$f":"RANDBETWEEN(1,MIN(9,C596))","v":1},{"$f":"IF(AND(Worksheet!$D$12,RAND()<0.2),3,IF(RAND()<Worksheet!$D$10/100,1,2))","v":1},{"$f":"IF(I596=1,F596,IF(I596=2,F596/100,IF(I596=3,F596/100*C596,\"\")))","v":1},{"$f":"CONCATENATE(\" \",D596)","v":" m"},{"$f":"IF(I596=1,F596*100,IF(I596=2,F596,IF(I596=3,F596/100*C596*100,\"\")))","v":100},"cm"]
[{"$f":"IF(COUNTIF($B$1:B597,TRUE)=COUNTIF($B$1:B596,TRUE),\"\",COUNTIF($B$1:B597,TRUE))","v":465},{"$f":"Worksheet!$B$24","v":true},{"$f":"RANDBETWEEN(5,RANDBETWEEN(5,Worksheet!$D$8))","v":97},"km","±",{"$f":"IF(I597=1,H597*10^RANDBETWEEN(IF(Worksheet!$D$14,-1,0),0),IF(I597=2,H597*10^RANDBETWEEN(RANDBETWEEN(0,2),2),CHOOSE(RANDBETWEEN(1,3),5,10,20)))","v":3},{"$f":"IF(I597=1,D597,IF(I597=3,\"%\",\"m\"))","v":"km"},3,{"$f":"IF(AND(Worksheet!$D$12,RAND()<0.2),3,IF(RAND()<Worksheet!$D$10/100,1,2))","v":1},{"$f":"IF(I597=1,F597,IF(I597=2,F597/1000,IF(I597=3,F597/100*C597,\"\")))","v":3}," km",{"$f":"IF(I597=1,F597*1000,IF(I597=2,F597,IF(I597=3,F597/100*C597*1000,\"\")))","v":3000},"m"]
[{"$f":"IF(COUNTIF($B$1:B598,TRUE)=COUNTIF($B$1:B597,TRUE),\"\",COUNTIF($B$1:B598,TRUE))","v":""},{"$f":"Worksheet!$B$26","v":false},{"$f":"RANDBETWEEN(5,RANDBETWEEN(5,Worksheet!$D$8))","v":22},"m","±",{"$f":"IF(I598=1,H598*10^RANDBETWEEN(IF(Worksheet!$D$14,-1,0),0),IF(I598=2,H598*10^RANDBETWEEN(RANDBETWEEN(0,2),2),CHOOSE(RANDBETWEEN(1,3),5,10,20)))","v":6},{"$f":"IF(I598=1,D598,IF(I598=3,\"%\",\"mm\"))","v":"m"},6,{"$f":"IF(AND(Worksheet!$D$12,RAND()<0.2),3,IF(RAND()<Worksheet!$D$10/100,1,2))","v":1},6," m",6000,"mm"]
[{"$f":"IF(COUNTIF($B$1:B599,TRUE)=COUNTIF($B$1:B598,TRUE),\"\",COUNTIF($B$1:B599,TRUE))","v":466},{"$f":"Worksheet!$D$20","v":true},{"$f":"RANDBETWEEN(5,RANDBETWEEN(5,Worksheet!$D$8))","v":61},"kg","±",{"$f":"IF(I599=1,H599*10^RANDBETWEEN(IF(Worksheet!$D$14,-1,0),0),IF(I599=2,H599*10^RANDBETWEEN(RANDBETWEEN(0,2),2),CHOOSE(RANDBETWEEN(1,3),5,10,20)))","v":10},{"$f":"IF(I599=1,D599,IF(I599=3,\"%\",\"g\"))","v":"%"},{"$f":"RANDBETWEEN(1,MIN(9,C599))","v":8},{"$f":"IF(AND(Worksheet!$D$12,RAND()<0.2),3,IF(RAND()<Worksheet!$D$10/100,1,2))","v":3},6.1000000000000005,{"$f":"CONCATENATE(\" \",D599)","v":" kg"},6100.0000000000009,"g"]
[{"$f":"IF(COUNTIF($B$1:B600,TRUE)=COUNTIF($B$1:B599,TRUE),\"\",COUNTIF($B$1:B600,TRUE))","v":467},{"$f":"Worksheet!$D$22","v":true},{"$f":"RANDBETWEEN(5,RANDBETWEEN(5,Worksheet!$D$8))","v":38},"tonnes","±",{"$f":"IF(I600=1,H600*10^RANDBETWEEN(IF(Worksheet!$D$14,-1,0),0),IF(I600=2,H600*10^RANDBETWEEN(RANDBETWEEN(0,2),2),CHOOSE(RANDBETWEEN(1,3),5,10,20)))","v":40},{"$f":"IF(I600=1,D600,IF(I600=3,\"%\",\"kg\"))","v":"kg"},{"$f":"RANDBETWEEN(1,MIN(9,C600))","v":4},{"$f":"IF(AND(Worksheet!$D$12,RAND()<0.2),3,IF(RAND()<Worksheet!$D$10/100,1,2))","v":2},0.04,{"$f":"CONCATENATE(\" \",D600)","v":" tonnes"},40,"kg"]
[{"$f":"IF(COUNTIF($B$1:B601,TRUE)=COUNTIF($B$1:B600,TRUE),\"\",COUNTIF($B$1:B601,TRUE))","v":468},{"$f":"Worksheet!$D$24","v":true},{"$f":"RANDBETWEEN(5,RANDBETWEEN(5,Worksheet!$D$8))","v":138},"litres","±",{"$f":"IF(I601=1,H601*10^RANDBETWEEN(IF(Worksheet!$D$14,-1,0),0),IF(I601=2,H601*10^RANDBETWEEN(RANDBETWEEN(0,2),2),CHOOSE(RANDBETWEEN(1,3),5,10,20)))","v":300},{"$f":"IF(I601=1,D601,IF(I601=3,\"%\",\"ml\"))","v":"ml"},{"$f":"RANDBETWEEN(1,MIN(9,C601))","v":3},{"$f":"IF(AND(Worksheet!$D$12,RAND()<0.2),3,IF(RAND()<Worksheet!$D$10/100,1,2))","v":2},0.3,{"$f":"CONCATENATE(\" \",D601)","v":" litres"},300,"ml"]
[{"$f":"IF(COUNTIF($B$1:B602,TRUE)=COUNTIF($B$1:B601,TRUE),\"\",COUNTIF($B$1:B602,TRUE))","v":""},{"$f":"Worksheet!$D$26","v":false},{"$f":"RANDBETWEEN(5,RANDBETWEEN(5,Worksheet!$D$8))","v":35},"litres","±",{"$f":"IF(I602=1,H602*10^RANDBETWEEN(IF(Worksheet!$D$14,-1,0),0),IF(I602=2,H602*10^RANDBETWEEN(RANDBETWEEN(0,2),2),CHOOSE(RANDBETWEEN(1,3),5,10,20)))","v":3},{"$f":"IF(I602=1,D602,IF(I602=3,\"%\",\"cm³\"))","v":"litres"},{"$f":"RANDBETWEEN(1,MIN(9,C602))","v":3},{"$f":"IF(AND(Worksheet!$D$12,RAND()<0.2),3,IF(RAND()<Worksheet!$D$10/100,1,2))","v":1},3,{"$f":"CONCATENATE(\" \",D602)","v":" litres"},3000,"cm³"]
[{"$f":"IF(COUNTIF($B$1:B603,TRUE)=COUNTIF($B$1:B603,TRUE),\"\",COUNTIF($B$1:B603,TRUE))","v":""},{"$f":"Worksheet!$B$28","v":true},{"$f":"RANDBETWEEN(5,20)","v":6},"°C","±",{"$f":"IF(I603=1,H603*10^RANDBETWEEN(IF(Worksheet!$D$14,-1,0),0),IF(I603=2,H603,CHOOSE(RANDBETWEEN(1,3),5,10,20)))","v":3},{"$f":"IF(I603=1,D603,IF(I603=3,\"%\",\"sec\"))","v":"°C"},{"$f":"RANDBETWEEN(1,MIN(9,C603))","v":3},{"$f":"IF(AND(Worksheet!$D$12,RAND()<0),3,IF(RAND()<Worksheet!$D$10/100,1,2))","v":1},{"$f":"IF(I603=1,F603,IF(I603=2,F603,IF(I603=3,F603/100*C603,\"\")))","v":3},{"$f":"CONCATENATE(\" \",D603)","v":" °C"},{"$f":"IF(I603=1,F603,IF(I603=2,F603,IF(I603=3,F603/100*C603,\"\")))","v":3}," °C"]
[{"$f":"COUNTIF($B$1:B604,TRUE)","v":470},{"$f":"Worksheet!$B$20","v":true},{"$f":"RANDBETWEEN(5,RANDBETWEEN(5,Worksheet!$D$8))","v":142},"cm","±",{"$f":"IF(I604=1,H604*10^RANDBETWEEN(IF(Worksheet!$D$14,-1,0),0),IF(I604=2,H604,CHOOSE(RANDBETWEEN(1,3),5,10,20)))","v":20},{"$f":"IF(I604=1,D604,IF(I604=3,\"%\",\"mm\"))","v":"%"},{"$f":"RANDBETWEEN(1,MIN(9,C604))","v":9},{"$f":"IF(AND(Worksheet!$D$12,RAND()<0.2),3,IF(RAND()<Worksheet!$D$10/100,1,2))","v":3},{"$f":"IF(I604=1,F604,IF(I604=2,F604/10,IF(I604=3,F604/100*C604,\"\")))","v":28.400000000000002},{"$f":"CONCATENATE(\" \",D604)","v":" cm"},{"$f":"IF(I604=1,F604*10,IF(I604=2,F604,IF(I604=3,F604/100*C604*10,\"\")))","v":284},"mm"]
[{"$f":"IF(COUNTIF($B$1:B605,TRUE)=COUNTIF($B$1:B604,TRUE),\"\",COUNTIF($B$1:B605,TRUE))","v":471},{"$f":"Worksheet!$B$22","v":true},{"$f":"RANDBETWEEN(5,RANDBETWEEN(5,Worksheet!$D$8))","v":84},"m","±",{"$f":"IF(I605=1,H605*10^RANDBETWEEN(IF(Worksheet!$D$14,-1,0),0),IF(I605=2,H605*10^RANDBETWEEN(RANDBETWEEN(0,1),1),CHOOSE(RANDBETWEEN(1,3),5,10,20)))","v":5},{"$f":"IF(I605=1,D605,IF(I605=3,\"%\",\"cm\"))","v":"%"},{"$f":"RANDBETWEEN(1,MIN(9,C605))","v":4},{"$f":"IF(AND(Worksheet!$D$12,RAND()<0.2),3,IF(RAND()<Worksheet!$D$10/100,1,2))","v":3},{"$f":"IF(I605=1,F605,IF(I605=2,F605/100,IF(I605=3,F605/100*C605,\"\")))","v":4.2},{"$f":"CONCATENATE(\" \",D605)","v":" m"},{"$f":"IF(I605=1,F605*100,IF(I605=2,F605,IF(I605=3,F605/100*C605*100,\"\")))","v":420},"cm"]
[{"$f":"IF(COUNTIF($B$1:B606,TRUE)=COUNTIF($B$1:B605,TRUE),\"\",COUNTIF($B$1:B606,TRUE))","v":472},{"$f":"Worksheet!$B$24","v":true},{"$f":"RANDBETWEEN(5,RANDBETWEEN(5,Worksheet!$D$8))","v":20},"km","±",{"$f":"IF(I606=1,H606*10^RANDBETWEEN(IF(Worksheet!$D$14,-1,0),0),IF(I606=2,H606*10^RANDBETWEEN(RANDBETWEEN(0,2),2),CHOOSE(RANDBETWEEN(1,3),5,10,20)))","v":800},{"$f":"IF(I606=1,D606,IF(I606=3,\"%\",\"m\"))","v":"m"},8,{"$f":"IF(AND(Worksheet!$D$12,RAND()<0.2),3,IF(RAND()<Worksheet!$D$10/100,1,2))","v":2},{"$f":"IF(I606=1,F606,IF(I606=2,F606/1000,IF(I606=3,F606/100*C606,\"\")))","v":0.8}," km",{"$f":"IF(I606=1,F606*1000,IF(I606=2,F606,IF(I606=3,F606/100*C606*1000,\"\")))","v":800},"m"]
[{"$f":"IF(COUNTIF($B$1:B607,TRUE)=COUNTIF($B$1:B606,TRUE),\"\",COUNTIF($B$1:B607,TRUE))","v":""},{"$f":"Worksheet!$B$26","v":false},{"$f":"RANDBETWEEN(5,RANDBETWEEN(5,Worksheet!$D$8))","v":23},"m","±",{"$f":"IF(I607=1,H607*10^RANDBETWEEN(IF(Worksheet!$D$14,-1,0),0),IF(I607=2,H607*10^RANDBETWEEN(RANDBETWEEN(0,2),2),CHOOSE(RANDBETWEEN(1,3),5,10,20)))","v":700},{"$f":"IF(I607=1,D607,IF(I607=3,\"%\",\"mm\"))","v":"mm"},7,{"$f":"IF(AND(Worksheet!$D$12,RAND()<0.2),3,IF(RAND()<Worksheet!$D$10/100,1,2))","v":2},0.7," m",700,"mm"]
[{"$f":"IF(COUNTIF($B$1:B608,TRUE)=COUNTIF($B$1:B607,TRUE),\"\",COUNTIF($B$1:B608,TRUE))","v":473},{"$f":"Worksheet!$D$20","v":true},{"$f":"RANDBETWEEN(5,RANDBETWEEN(5,Worksheet!$D$8))","v":11},"kg","±",{"$f":"IF(I608=1,H608*10^RANDBETWEEN(IF(Worksheet!$D$14,-1,0),0),IF(I608=2,H608*10^RANDBETWEEN(RANDBETWEEN(0,2),2),CHOOSE(RANDBETWEEN(1,3),5,10,20)))","v":600},{"$f":"IF(I608=1,D608,IF(I608=3,\"%\",\"g\"))","v":"g"},{"$f":"RANDBETWEEN(1,MIN(9,C608))","v":6},{"$f":"IF(AND(Worksheet!$D$12,RAND()<0.2),3,IF(RAND()<Worksheet!$D$10/100,1,2))","v":2},0.6,{"$f":"CONCATENATE(\" \",D608)","v":" kg"},600,"g"]
[{"$f":"IF(COUNTIF($B$1:B609,TRUE)=COUNTIF($B$1:B608,TRUE),\"\",COUNTIF($B$1:B609,TRUE))","v":474},{"$f":"Worksheet!$D$22","v":true},{"$f":"RANDBETWEEN(5,RANDBETWEEN(5,Worksheet!$D$8))","v":97},"tonnes","±",{"$f":"IF(I609=1,H609*10^RANDBETWEEN(IF(Worksheet!$D$14,-1,0),0),IF(I609=2,H609*10^RANDBETWEEN(RANDBETWEEN(0,2),2),CHOOSE(RANDBETWEEN(1,3),5,10,20)))","v":0.30000000000000004},{"$f":"IF(I609=1,D609,IF(I609=3,\"%\",\"kg\"))","v":"tonnes"},{"$f":"RANDBETWEEN(1,MIN(9,C609))","v":3},{"$f":"IF(AND(Worksheet!$D$12,RAND()<0.2),3,IF(RAND()<Worksheet!$D$10/100,1,2))","v":1},0.30000000000000004,{"$f":"CONCATENATE(\" \",D609)","v":" tonnes"},300.00000000000006,"kg"]
[{"$f":"IF(COUNTIF($B$1:B610,TRUE)=COUNTIF($B$1:B609,TRUE),\"\",COUNTIF($B$1:B610,TRUE))","v":475},{"$f":"Worksheet!$D$24","v":true},{"$f":"RANDBETWEEN(5,RANDBETWEEN(5,Worksheet!$D$8))","v":78},"litres","±",{"$f":"IF(I610=1,H610*10^RANDBETWEEN(IF(Worksheet!$D$14,-1,0),0),IF(I610=2,H610*10^RANDBETWEEN(RANDBETWEEN(0,2),2),CHOOSE(RANDBETWEEN(1,3),5,10,20)))","v":20},{"$f":"IF(I610=1,D610,IF(I610=3,\"%\",\"ml\"))","v":"%"},{"$f":"RANDBETWEEN(1,MIN(9,C610))","v":3},{"$f":"IF(AND(Worksheet!$D$12,RAND()<0.2),3,IF(RAND()<Worksheet!$D$10/100,1,2))","v":3},15.600000000000001,{"$f":"CONCATENATE(\" \",D610)","v":" litres"},15600.000000000002,"ml"]
[{"$f":"IF(COUNTIF($B$1:B611,TRUE)=COUNTIF($B$1:B610,TRUE),\"\",COUNTIF($B$1:B611,TRUE))","v":""},{"$f":"Worksheet!$D$26","v":false},{"$f":"RANDBETWEEN(5,RANDBETWEEN(5,Worksheet!$D$8))","v":114},"litres","±",{"$f":"IF(I611=1,H611*10^RANDBETWEEN(IF(Worksheet!$D$14,-1,0),0),IF(I611=2,H611*10^RANDBETWEEN(RANDBETWEEN(0,2),2),CHOOSE(RANDBETWEEN(1,3),5,10,20)))","v":20},{"$f":"IF(I611=1,D611,IF(I611=3,\"%\",\"cm³\"))","v":"%"},{"$f":"RANDBETWEEN(1,MIN(9,C611))","v":3},{"$f":"IF(AND(Worksheet!$D$12,RAND()<0.2),3,IF(RAND()<Worksheet!$D$10/100,1,2))","v":3},22.8,{"$f":"CONCATENATE(\" \",D611)","v":" litres"},22800,"cm³"]
[{"$f":"IF(COUNTIF($B$1:B612,TRUE)=COUNTIF($B$1:B612,TRUE),\"\",COUNTIF($B$1:B612,TRUE))","v":""},{"$f":"Worksheet!$B$28","v":true},{"$f":"RANDBETWEEN(5,20)","v":13},"°C","±",{"$f":"IF(I612=1,H612*10^RANDBETWEEN(IF(Worksheet!$D$14,-1,0),0),IF(I612=2,H612,CHOOSE(RANDBETWEEN(1,3),5,10,20)))","v":6},{"$f":"IF(I612=1,D612,IF(I612=3,\"%\",\"sec\"))","v":"°C"},{"$f":"RANDBETWEEN(1,MIN(9,C612))","v":6},{"$f":"IF(AND(Worksheet!$D$12,RAND()<0),3,IF(RAND()<Worksheet!$D$10/100,1,2))","v":1},{"$f":"IF(I612=1,F612,IF(I612=2,F612,IF(I612=3,F612/100*C612,\"\")))","v":6},{"$f":"CONCATENATE(\" \",D612)","v":" °C"},{"$f":"IF(I612=1,F612,IF(I612=2,F612,IF(I612=3,F612/100*C612,\"\")))","v":6}," °C"]
[{"$f":"COUNTIF($B$1:B613,TRUE)","v":477},{"$f":"Worksheet!$B$20","v":true},{"$f":"RANDBETWEEN(5,RANDBETWEEN(5,Worksheet!$D$8))","v":6},"cm","±",{"$f":"IF(I613=1,H613*10^RANDBETWEEN(IF(Worksheet!$D$14,-1,0),0),IF(I613=2,H613,CHOOSE(RANDBETWEEN(1,3),5,10,20)))","v":3},{"$f":"IF(I613=1,D613,IF(I613=3,\"%\",\"mm\"))","v":"mm"},{"$f":"RANDBETWEEN(1,MIN(9,C613))","v":3},{"$f":"IF(AND(Worksheet!$D$12,RAND()<0.2),3,IF(RAND()<Worksheet!$D$10/100,1,2))","v":2},{"$f":"IF(I613=1,F613,IF(I613=2,F613/10,IF(I613=3,F613/100*C613,\"\")))","v":0.3},{"$f":"CONCATENATE(\" \",D613)","v":" cm"},{"$f":"IF(I613=1,F613*10,IF(I613=2,F613,IF(I613=3,F613/100*C613*10,\"\")))","v":3},"mm"]
[{"$f":"IF(COUNTIF($B$1:B614,TRUE)=COUNTIF($B$1:B613,TRUE),\"\",COUNTIF($B$1:B614,TRUE))","v":478},{"$f":"Worksheet!$B$22","v":true},{"$f":"RANDBETWEEN(5,RANDBETWEEN(5,Worksheet!$D$8))","v":112},"m","±",{"$f":"IF(I614=1,H614*10^RANDBETWEEN(IF(Worksheet!$D$14,-1,0),0),IF(I614=2,H614*10^RANDBETWEEN(RANDBETWEEN(0,1),1),CHOOSE(RANDBETWEEN(1,3),5,10,20)))","v":80},{"$f":"IF(I614=1,D614,IF(I614=3,\"%\",\"cm\"))","v":"cm"},{"$f":"RANDBETWEEN(1,MIN(9,C614))","v":8},{"$f":"IF(AND(Worksheet!$D$12,RAND()<0.2),3,IF(RAND()<Worksheet!$D$10/100,1,2))","v":2},{"$f":"IF(I614=1,F614,IF(I614=2,F614/100,IF(I614=3,F614/100*C614,\"\")))","v":0.8},{"$f":"CONCATENATE(\" \",D614)","v":" m"},{"$f":"IF(I614=1,F614*100,IF(I614=2,F614,IF(I614=3,F614/100*C614*100,\"\")))","v":80},"cm"]
[{"$f":"IF(COUNTIF($B$1:B615,TRUE)=COUNTIF($B$1:B614,TRUE),\"\",COUNTIF($B$1:B615,TRUE))","v":479},{"$f":"Worksheet!$B$24","v":true},{"$f":"RANDBETWEEN(5,RANDBETWEEN(5,Worksheet!$D$8))","v":7},"km","±",{"$f":"IF(I615=1,H615*10^RANDBETWEEN(IF(Worksheet!$D$14,-1,0),0),IF(I615=2,H615*10^RANDBETWEEN(RANDBETWEEN(0,2),2),CHOOSE(RANDBETWEEN(1,3),5,10,20)))","v":7},{"$f":"IF(I615=1,D615,IF(I615=3,\"%\",\"m\"))","v":"km"},7,{"$f":"IF(AND(Worksheet!$D$12,RAND()<0.2),3,IF(RAND()<Worksheet!$D$10/100,1,2))","v":1},{"$f":"IF(I615=1,F615,IF(I615=2,F615/1000,IF(I615=3,F615/100*C615,\"\")))","v":7}," km",{"$f":"IF(I615=1,F615*1000,IF(I615=2,F615,IF(I615=3,F615/100*C615*1000,\"\")))","v":7000},"m"]
[{"$f":"IF(COUNTIF($B$1:B616,TRUE)=COUNTIF($B$1:B615,TRUE),\"\",COUNTIF($B$1:B616,TRUE))","v":""},{"$f":"Worksheet!$B$26","v":false},{"$f":"RANDBETWEEN(5,RANDBETWEEN(5,Worksheet!$D$8))","v":92},"m","±",{"$f":"IF(I616=1,H616*10^RANDBETWEEN(IF(Worksheet!$D$14,-1,0),0),IF(I616=2,H616*10^RANDBETWEEN(RANDBETWEEN(0,2),2),CHOOSE(RANDBETWEEN(1,3),5,10,20)))","v":2},{"$f":"IF(I616=1,D616,IF(I616=3,\"%\",\"mm\"))","v":"m"},2,{"$f":"IF(AND(Worksheet!$D$12,RAND()<0.2),3,IF(RAND()<Worksheet!$D$10/100,1,2))","v":1},2," m",2000,"mm"]
[{"$f":"IF(COUNTIF($B$1:B617,TRUE)=COUNTIF($B$1:B616,TRUE),\"\",COUNTIF($B$1:B617,TRUE))","v":480},{"$f":"Worksheet!$D$20","v":true},{"$f":"RANDBETWEEN(5,RANDBETWEEN(5,Worksheet!$D$8))","v":40},"kg","±",{"$f":"IF(I617=1,H617*10^RANDBETWEEN(IF(Worksheet!$D$14,-1,0),0),IF(I617=2,H617*10^RANDBETWEEN(RANDBETWEEN(0,2),2),CHOOSE(RANDBETWEEN(1,3),5,10,20)))","v":5},{"$f":"IF(I617=1,D617,IF(I617=3,\"%\",\"g\"))","v":"g"},{"$f":"RANDBETWEEN(1,MIN(9,C617))","v":5},{"$f":"IF(AND(Worksheet!$D$12,RAND()<0.2),3,IF(RAND()<Worksheet!$D$10/100,1,2))","v":2},5.0000000000000001E-3,{"$f":"CONCATENATE(\" \",D617)","v":" kg"},5,"g"]
[{"$f":"IF(COUNTIF($B$1:B618,TRUE)=COUNTIF($B$1:B617,TRUE),\"\",COUNTIF($B$1:B618,TRUE))","v":481},{"$f":"Worksheet!$D$22","v":true},{"$f":"RANDBETWEEN(5,RANDBETWEEN(5,Worksheet!$D$8))","v":57},"tonnes","±",{"$f":"IF(I618=1,H618*10^RANDBETWEEN(IF(Worksheet!$D$14,-1,0),0),IF(I618=2,H618*10^RANDBETWEEN(RANDBETWEEN(0,2),2),CHOOSE(RANDBETWEEN(1,3),5,10,20)))","v":5},{"$f":"IF(I618=1,D618,IF(I618=3,\"%\",\"kg\"))","v":"%"},{"$f":"RANDBETWEEN(1,MIN(9,C618))","v":5},{"$f":"IF(AND(Worksheet!$D$12,RAND()<0.2),3,IF(RAND()<Worksheet!$D$10/100,1,2))","v":3},2.85,{"$f":"CONCATENATE(\" \",D618)","v":" tonnes"},2850,"kg"]
[{"$f":"IF(COUNTIF($B$1:B619,TRUE)=COUNTIF($B$1:B618,TRUE),\"\",COUNTIF($B$1:B619,TRUE))","v":482},{"$f":"Worksheet!$D$24","v":true},{"$f":"RANDBETWEEN(5,RANDBETWEEN(5,Worksheet!$D$8))","v":14},"litres","±",{"$f":"IF(I619=1,H619*10^RANDBETWEEN(IF(Worksheet!$D$14,-1,0),0),IF(I619=2,H619*10^RANDBETWEEN(RANDBETWEEN(0,2),2),CHOOSE(RANDBETWEEN(1,3),5,10,20)))","v":5},{"$f":"IF(I619=1,D619,IF(I619=3,\"%\",\"ml\"))","v":"%"},{"$f":"RANDBETWEEN(1,MIN(9,C619))","v":4},{"$f":"IF(AND(Worksheet!$D$12,RAND()<0.2),3,IF(RAND()<Worksheet!$D$10/100,1,2))","v":3},0.70000000000000007,{"$f":"CONCATENATE(\" \",D619)","v":" litres"},700.00000000000011,"ml"]
[{"$f":"IF(COUNTIF($B$1:B620,TRUE)=COUNTIF($B$1:B619,TRUE),\"\",COUNTIF($B$1:B620,TRUE))","v":""},{"$f":"Worksheet!$D$26","v":false},{"$f":"RANDBETWEEN(5,RANDBETWEEN(5,Worksheet!$D$8))","v":10},"litres","±",{"$f":"IF(I620=1,H620*10^RANDBETWEEN(IF(Worksheet!$D$14,-1,0),0),IF(I620=2,H620*10^RANDBETWEEN(RANDBETWEEN(0,2),2),CHOOSE(RANDBETWEEN(1,3),5,10,20)))","v":20},{"$f":"IF(I620=1,D620,IF(I620=3,\"%\",\"cm³\"))","v":"%"},{"$f":"RANDBETWEEN(1,MIN(9,C620))","v":8},{"$f":"IF(AND(Worksheet!$D$12,RAND()<0.2),3,IF(RAND()<Worksheet!$D$10/100,1,2))","v":3},2,{"$f":"CONCATENATE(\" \",D620)","v":" litres"},2000,"cm³"]
[{"$f":"IF(COUNTIF($B$1:B621,TRUE)=COUNTIF($B$1:B621,TRUE),\"\",COUNTIF($B$1:B621,TRUE))","v":""},{"$f":"Worksheet!$B$28","v":true},{"$f":"RANDBETWEEN(5,20)","v":17},"°C","±",{"$f":"IF(I621=1,H621*10^RANDBETWEEN(IF(Worksheet!$D$14,-1,0),0),IF(I621=2,H621,CHOOSE(RANDBETWEEN(1,3),5,10,20)))","v":9},{"$f":"IF(I621=1,D621,IF(I621=3,\"%\",\"sec\"))","v":"°C"},{"$f":"RANDBETWEEN(1,MIN(9,C621))","v":9},{"$f":"IF(AND(Worksheet!$D$12,RAND()<0),3,IF(RAND()<Worksheet!$D$10/100,1,2))","v":1},{"$f":"IF(I621=1,F621,IF(I621=2,F621,IF(I621=3,F621/100*C621,\"\")))","v":9},{"$f":"CONCATENATE(\" \",D621)","v":" °C"},{"$f":"IF(I621=1,F621,IF(I621=2,F621,IF(I621=3,F621/100*C621,\"\")))","v":9}," °C"]
[{"$f":"COUNTIF($B$1:B622,TRUE)","v":484},{"$f":"Worksheet!$B$20","v":true},{"$f":"RANDBETWEEN(5,RANDBETWEEN(5,Worksheet!$D$8))","v":62},"cm","±",{"$f":"IF(I622=1,H622*10^RANDBETWEEN(IF(Worksheet!$D$14,-1,0),0),IF(I622=2,H622,CHOOSE(RANDBETWEEN(1,3),5,10,20)))","v":20},{"$f":"IF(I622=1,D622,IF(I622=3,\"%\",\"mm\"))","v":"%"},{"$f":"RANDBETWEEN(1,MIN(9,C622))","v":9},{"$f":"IF(AND(Worksheet!$D$12,RAND()<0.2),3,IF(RAND()<Worksheet!$D$10/100,1,2))","v":3},{"$f":"IF(I622=1,F622,IF(I622=2,F622/10,IF(I622=3,F622/100*C622,\"\")))","v":12.4},{"$f":"CONCATENATE(\" \",D622)","v":" cm"},{"$f":"IF(I622=1,F622*10,IF(I622=2,F622,IF(I622=3,F622/100*C622*10,\"\")))","v":124},"mm"]
[{"$f":"IF(COUNTIF($B$1:B623,TRUE)=COUNTIF($B$1:B622,TRUE),\"\",COUNTIF($B$1:B623,TRUE))","v":485},{"$f":"Worksheet!$B$22","v":true},{"$f":"RANDBETWEEN(5,RANDBETWEEN(5,Worksheet!$D$8))","v":49},"m","±",{"$f":"IF(I623=1,H623*10^RANDBETWEEN(IF(Worksheet!$D$14,-1,0),0),IF(I623=2,H623*10^RANDBETWEEN(RANDBETWEEN(0,1),1),CHOOSE(RANDBETWEEN(1,3),5,10,20)))","v":3},{"$f":"IF(I623=1,D623,IF(I623=3,\"%\",\"cm\"))","v":"m"},{"$f":"RANDBETWEEN(1,MIN(9,C623))","v":3},{"$f":"IF(AND(Worksheet!$D$12,RAND()<0.2),3,IF(RAND()<Worksheet!$D$10/100,1,2))","v":1},{"$f":"IF(I623=1,F623,IF(I623=2,F623/100,IF(I623=3,F623/100*C623,\"\")))","v":3},{"$f":"CONCATENATE(\" \",D623)","v":" m"},{"$f":"IF(I623=1,F623*100,IF(I623=2,F623,IF(I623=3,F623/100*C623*100,\"\")))","v":300},"cm"]
[{"$f":"IF(COUNTIF($B$1:B624,TRUE)=COUNTIF($B$1:B623,TRUE),\"\",COUNTIF($B$1:B624,TRUE))","v":486},{"$f":"Worksheet!$B$24","v":true},{"$f":"RANDBETWEEN(5,RANDBETWEEN(5,Worksheet!$D$8))","v":9},"km","±",{"$f":"IF(I624=1,H624*10^RANDBETWEEN(IF(Worksheet!$D$14,-1,0),0),IF(I624=2,H624*10^RANDBETWEEN(RANDBETWEEN(0,2),2),CHOOSE(RANDBETWEEN(1,3),5,10,20)))","v":0.70000000000000007},{"$f":"IF(I624=1,D624,IF(I624=3,\"%\",\"m\"))","v":"km"},7,{"$f":"IF(AND(Worksheet!$D$12,RAND()<0.2),3,IF(RAND()<Worksheet!$D$10/100,1,2))","v":1},{"$f":"IF(I624=1,F624,IF(I624=2,F624/1000,IF(I624=3,F624/100*C624,\"\")))","v":0.70000000000000007}," km",{"$f":"IF(I624=1,F624*1000,IF(I624=2,F624,IF(I624=3,F624/100*C624*1000,\"\")))","v":700.00000000000011},"m"]
[{"$f":"IF(COUNTIF($B$1:B625,TRUE)=COUNTIF($B$1:B624,TRUE),\"\",COUNTIF($B$1:B625,TRUE))","v":""},{"$f":"Worksheet!$B$26","v":false},{"$f":"RANDBETWEEN(5,RANDBETWEEN(5,Worksheet!$D$8))","v":51},"m","±",{"$f":"IF(I625=1,H625*10^RANDBETWEEN(IF(Worksheet!$D$14,-1,0),0),IF(I625=2,H625*10^RANDBETWEEN(RANDBETWEEN(0,2),2),CHOOSE(RANDBETWEEN(1,3),5,10,20)))","v":20},{"$f":"IF(I625=1,D625,IF(I625=3,\"%\",\"mm\"))","v":"%"},5,{"$f":"IF(AND(Worksheet!$D$12,RAND()<0.2),3,IF(RAND()<Worksheet!$D$10/100,1,2))","v":3},10.200000000000001," m",10200.000000000002,"mm"]
[{"$f":"IF(COUNTIF($B$1:B626,TRUE)=COUNTIF($B$1:B625,TRUE),\"\",COUNTIF($B$1:B626,TRUE))","v":487},{"$f":"Worksheet!$D$20","v":true},{"$f":"RANDBETWEEN(5,RANDBETWEEN(5,Worksheet!$D$8))","v":122},"kg","±",{"$f":"IF(I626=1,H626*10^RANDBETWEEN(IF(Worksheet!$D$14,-1,0),0),IF(I626=2,H626*10^RANDBETWEEN(RANDBETWEEN(0,2),2),CHOOSE(RANDBETWEEN(1,3),5,10,20)))","v":2},{"$f":"IF(I626=1,D626,IF(I626=3,\"%\",\"g\"))","v":"kg"},{"$f":"RANDBETWEEN(1,MIN(9,C626))","v":2},{"$f":"IF(AND(Worksheet!$D$12,RAND()<0.2),3,IF(RAND()<Worksheet!$D$10/100,1,2))","v":1},2,{"$f":"CONCATENATE(\" \",D626)","v":" kg"},2000,"g"]
[{"$f":"IF(COUNTIF($B$1:B627,TRUE)=COUNTIF($B$1:B626,TRUE),\"\",COUNTIF($B$1:B627,TRUE))","v":488},{"$f":"Worksheet!$D$22","v":true},{"$f":"RANDBETWEEN(5,RANDBETWEEN(5,Worksheet!$D$8))","v":25},"tonnes","±",{"$f":"IF(I627=1,H627*10^RANDBETWEEN(IF(Worksheet!$D$14,-1,0),0),IF(I627=2,H627*10^RANDBETWEEN(RANDBETWEEN(0,2),2),CHOOSE(RANDBETWEEN(1,3),5,10,20)))","v":2},{"$f":"IF(I627=1,D627,IF(I627=3,\"%\",\"kg\"))","v":"kg"},{"$f":"RANDBETWEEN(1,MIN(9,C627))","v":2},{"$f":"IF(AND(Worksheet!$D$12,RAND()<0.2),3,IF(RAND()<Worksheet!$D$10/100,1,2))","v":2},2E-3,{"$f":"CONCATENATE(\" \",D627)","v":" tonnes"},2,"kg"]
[{"$f":"IF(COUNTIF($B$1:B628,TRUE)=COUNTIF($B$1:B627,TRUE),\"\",COUNTIF($B$1:B628,TRUE))","v":489},{"$f":"Worksheet!$D$24","v":true},{"$f":"RANDBETWEEN(5,RANDBETWEEN(5,Worksheet!$D$8))","v":87},"litres","±",{"$f":"IF(I628=1,H628*10^RANDBETWEEN(IF(Worksheet!$D$14,-1,0),0),IF(I628=2,H628*10^RANDBETWEEN(RANDBETWEEN(0,2),2),CHOOSE(RANDBETWEEN(1,3),5,10,20)))","v":0.70000000000000007},{"$f":"IF(I628=1,D628,IF(I628=3,\"%\",\"ml\"))","v":"litres"},{"$f":"RANDBETWEEN(1,MIN(9,C628))","v":7},{"$f":"IF(AND(Worksheet!$D$12,RAND()<0.2),3,IF(RAND()<Worksheet!$D$10/100,1,2))","v":1},0.70000000000000007,{"$f":"CONCATENATE(\" \",D628)","v":" litres"},700.00000000000011,"ml"]
[{"$f":"IF(COUNTIF($B$1:B629,TRUE)=COUNTIF($B$1:B628,TRUE),\"\",COUNTIF($B$1:B629,TRUE))","v":""},{"$f":"Worksheet!$D$26","v":false},{"$f":"RANDBETWEEN(5,RANDBETWEEN(5,Worksheet!$D$8))","v":34},"litres","±",{"$f":"IF(I629=1,H629*10^RANDBETWEEN(IF(Worksheet!$D$14,-1,0),0),IF(I629=2,H629*10^RANDBETWEEN(RANDBETWEEN(0,2),2),CHOOSE(RANDBETWEEN(1,3),5,10,20)))","v":0.5},{"$f":"IF(I629=1,D629,IF(I629=3,\"%\",\"cm³\"))","v":"litres"},{"$f":"RANDBETWEEN(1,MIN(9,C629))","v":5},{"$f":"IF(AND(Worksheet!$D$12,RAND()<0.2),3,IF(RAND()<Worksheet!$D$10/100,1,2))","v":1},0.5,{"$f":"CONCATENATE(\" \",D629)","v":" litres"},500,"cm³"]
[{"$f":"IF(COUNTIF($B$1:B630,TRUE)=COUNTIF($B$1:B630,TRUE),\"\",COUNTIF($B$1:B630,TRUE))","v":""},{"$f":"Worksheet!$B$28","v":true},{"$f":"RANDBETWEEN(5,20)","v":10},"°C","±",{"$f":"IF(I630=1,H630*10^RANDBETWEEN(IF(Worksheet!$D$14,-1,0),0),IF(I630=2,H630,CHOOSE(RANDBETWEEN(1,3),5,10,20)))","v":3},{"$f":"IF(I630=1,D630,IF(I630=3,\"%\",\"sec\"))","v":"°C"},{"$f":"RANDBETWEEN(1,MIN(9,C630))","v":3},{"$f":"IF(AND(Worksheet!$D$12,RAND()<0),3,IF(RAND()<Worksheet!$D$10/100,1,2))","v":1},{"$f":"IF(I630=1,F630,IF(I630=2,F630,IF(I630=3,F630/100*C630,\"\")))","v":3},{"$f":"CONCATENATE(\" \",D630)","v":" °C"},{"$f":"IF(I630=1,F630,IF(I630=2,F630,IF(I630=3,F630/100*C630,\"\")))","v":3}," °C"]
[{"$f":"COUNTIF($B$1:B631,TRUE)","v":491},{"$f":"Worksheet!$B$20","v":true},{"$f":"RANDBETWEEN(5,RANDBETWEEN(5,Worksheet!$D$8))","v":44},"cm","±",{"$f":"IF(I631=1,H631*10^RANDBETWEEN(IF(Worksheet!$D$14,-1,0),0),IF(I631=2,H631,CHOOSE(RANDBETWEEN(1,3),5,10,20)))","v":0.60000000000000009},{"$f":"IF(I631=1,D631,IF(I631=3,\"%\",\"mm\"))","v":"cm"},{"$f":"RANDBETWEEN(1,MIN(9,C631))","v":6},{"$f":"IF(AND(Worksheet!$D$12,RAND()<0.2),3,IF(RAND()<Worksheet!$D$10/100,1,2))","v":1},{"$f":"IF(I631=1,F631,IF(I631=2,F631/10,IF(I631=3,F631/100*C631,\"\")))","v":0.60000000000000009},{"$f":"CONCATENATE(\" \",D631)","v":" cm"},{"$f":"IF(I631=1,F631*10,IF(I631=2,F631,IF(I631=3,F631/100*C631*10,\"\")))","v":6.0000000000000009},"mm"]
[{"$f":"IF(COUNTIF($B$1:B632,TRUE)=COUNTIF($B$1:B631,TRUE),\"\",COUNTIF($B$1:B632,TRUE))","v":492},{"$f":"Worksheet!$B$22","v":true},{"$f":"RANDBETWEEN(5,RANDBETWEEN(5,Worksheet!$D$8))","v":64},"m","±",{"$f":"IF(I632=1,H632*10^RANDBETWEEN(IF(Worksheet!$D$14,-1,0),0),IF(I632=2,H632*10^RANDBETWEEN(RANDBETWEEN(0,1),1),CHOOSE(RANDBETWEEN(1,3),5,10,20)))","v":0.5},{"$f":"IF(I632=1,D632,IF(I632=3,\"%\",\"cm\"))","v":"m"},{"$f":"RANDBETWEEN(1,MIN(9,C632))","v":5},{"$f":"IF(AND(Worksheet!$D$12,RAND()<0.2),3,IF(RAND()<Worksheet!$D$10/100,1,2))","v":1},{"$f":"IF(I632=1,F632,IF(I632=2,F632/100,IF(I632=3,F632/100*C632,\"\")))","v":0.5},{"$f":"CONCATENATE(\" \",D632)","v":" m"},{"$f":"IF(I632=1,F632*100,IF(I632=2,F632,IF(I632=3,F632/100*C632*100,\"\")))","v":50},"cm"]
[{"$f":"IF(COUNTIF($B$1:B633,TRUE)=COUNTIF($B$1:B632,TRUE),\"\",COUNTIF($B$1:B633,TRUE))","v":493},{"$f":"Worksheet!$B$24","v":true},{"$f":"RANDBETWEEN(5,RANDBETWEEN(5,Worksheet!$D$8))","v":66},"km","±",{"$f":"IF(I633=1,H633*10^RANDBETWEEN(IF(Worksheet!$D$14,-1,0),0),IF(I633=2,H633*10^RANDBETWEEN(RANDBETWEEN(0,2),2),CHOOSE(RANDBETWEEN(1,3),5,10,20)))","v":20},{"$f":"IF(I633=1,D633,IF(I633=3,\"%\",\"m\"))","v":"%"},4,{"$f":"IF(AND(Worksheet!$D$12,RAND()<0.2),3,IF(RAND()<Worksheet!$D$10/100,1,2))","v":3},{"$f":"IF(I633=1,F633,IF(I633=2,F633/1000,IF(I633=3,F633/100*C633,\"\")))","v":13.200000000000001}," km",{"$f":"IF(I633=1,F633*1000,IF(I633=2,F633,IF(I633=3,F633/100*C633*1000,\"\")))","v":13200.000000000002},"m"]
[{"$f":"IF(COUNTIF($B$1:B634,TRUE)=COUNTIF($B$1:B633,TRUE),\"\",COUNTIF($B$1:B634,TRUE))","v":""},{"$f":"Worksheet!$B$26","v":false},{"$f":"RANDBETWEEN(5,RANDBETWEEN(5,Worksheet!$D$8))","v":65},"m","±",{"$f":"IF(I634=1,H634*10^RANDBETWEEN(IF(Worksheet!$D$14,-1,0),0),IF(I634=2,H634*10^RANDBETWEEN(RANDBETWEEN(0,2),2),CHOOSE(RANDBETWEEN(1,3),5,10,20)))","v":10},{"$f":"IF(I634=1,D634,IF(I634=3,\"%\",\"mm\"))","v":"%"},7,{"$f":"IF(AND(Worksheet!$D$12,RAND()<0.2),3,IF(RAND()<Worksheet!$D$10/100,1,2))","v":3},6.5," m",6500,"mm"]
[{"$f":"IF(COUNTIF($B$1:B635,TRUE)=COUNTIF($B$1:B634,TRUE),\"\",COUNTIF($B$1:B635,TRUE))","v":494},{"$f":"Worksheet!$D$20","v":true},{"$f":"RANDBETWEEN(5,RANDBETWEEN(5,Worksheet!$D$8))","v":46},"kg","±",{"$f":"IF(I635=1,H635*10^RANDBETWEEN(IF(Worksheet!$D$14,-1,0),0),IF(I635=2,H635*10^RANDBETWEEN(RANDBETWEEN(0,2),2),CHOOSE(RANDBETWEEN(1,3),5,10,20)))","v":5},{"$f":"IF(I635=1,D635,IF(I635=3,\"%\",\"g\"))","v":"%"},{"$f":"RANDBETWEEN(1,MIN(9,C635))","v":2},{"$f":"IF(AND(Worksheet!$D$12,RAND()<0.2),3,IF(RAND()<Worksheet!$D$10/100,1,2))","v":3},2.3000000000000003,{"$f":"CONCATENATE(\" \",D635)","v":" kg"},2300.0000000000005,"g"]
[{"$f":"IF(COUNTIF($B$1:B636,TRUE)=COUNTIF($B$1:B635,TRUE),\"\",COUNTIF($B$1:B636,TRUE))","v":495},{"$f":"Worksheet!$D$22","v":true},{"$f":"RANDBETWEEN(5,RANDBETWEEN(5,Worksheet!$D$8))","v":62},"tonnes","±",{"$f":"IF(I636=1,H636*10^RANDBETWEEN(IF(Worksheet!$D$14,-1,0),0),IF(I636=2,H636*10^RANDBETWEEN(RANDBETWEEN(0,2),2),CHOOSE(RANDBETWEEN(1,3),5,10,20)))","v":0.60000000000000009},{"$f":"IF(I636=1,D636,IF(I636=3,\"%\",\"kg\"))","v":"tonnes"},{"$f":"RANDBETWEEN(1,MIN(9,C636))","v":6},{"$f":"IF(AND(Worksheet!$D$12,RAND()<0.2),3,IF(RAND()<Worksheet!$D$10/100,1,2))","v":1},0.60000000000000009,{"$f":"CONCATENATE(\" \",D636)","v":" tonnes"},600.00000000000011,"kg"]
[{"$f":"IF(COUNTIF($B$1:B637,TRUE)=COUNTIF($B$1:B636,TRUE),\"\",COUNTIF($B$1:B637,TRUE))","v":496},{"$f":"Worksheet!$D$24","v":true},{"$f":"RANDBETWEEN(5,RANDBETWEEN(5,Worksheet!$D$8))","v":105},"litres","±",{"$f":"IF(I637=1,H637*10^RANDBETWEEN(IF(Worksheet!$D$14,-1,0),0),IF(I637=2,H637*10^RANDBETWEEN(RANDBETWEEN(0,2),2),CHOOSE(RANDBETWEEN(1,3),5,10,20)))","v":5},{"$f":"IF(I637=1,D637,IF(I637=3,\"%\",\"ml\"))","v":"litres"},{"$f":"RANDBETWEEN(1,MIN(9,C637))","v":5},{"$f":"IF(AND(Worksheet!$D$12,RAND()<0.2),3,IF(RAND()<Worksheet!$D$10/100,1,2))","v":1},5,{"$f":"CONCATENATE(\" \",D637)","v":" litres"},5000,"ml"]
[{"$f":"IF(COUNTIF($B$1:B638,TRUE)=COUNTIF($B$1:B637,TRUE),\"\",COUNTIF($B$1:B638,TRUE))","v":""},{"$f":"Worksheet!$D$26","v":false},{"$f":"RANDBETWEEN(5,RANDBETWEEN(5,Worksheet!$D$8))","v":29},"litres","±",{"$f":"IF(I638=1,H638*10^RANDBETWEEN(IF(Worksheet!$D$14,-1,0),0),IF(I638=2,H638*10^RANDBETWEEN(RANDBETWEEN(0,2),2),CHOOSE(RANDBETWEEN(1,3),5,10,20)))","v":0.2},{"$f":"IF(I638=1,D638,IF(I638=3,\"%\",\"cm³\"))","v":"litres"},{"$f":"RANDBETWEEN(1,MIN(9,C638))","v":2},{"$f":"IF(AND(Worksheet!$D$12,RAND()<0.2),3,IF(RAND()<Worksheet!$D$10/100,1,2))","v":1},0.2,{"$f":"CONCATENATE(\" \",D638)","v":" litres"},200,"cm³"]
[{"$f":"IF(COUNTIF($B$1:B639,TRUE)=COUNTIF($B$1:B639,TRUE),\"\",COUNTIF($B$1:B639,TRUE))","v":""},{"$f":"Worksheet!$B$28","v":true},{"$f":"RANDBETWEEN(5,20)","v":5},"°C","±",{"$f":"IF(I639=1,H639*10^RANDBETWEEN(IF(Worksheet!$D$14,-1,0),0),IF(I639=2,H639,CHOOSE(RANDBETWEEN(1,3),5,10,20)))","v":1},{"$f":"IF(I639=1,D639,IF(I639=3,\"%\",\"sec\"))","v":"sec"},{"$f":"RANDBETWEEN(1,MIN(9,C639))","v":1},{"$f":"IF(AND(Worksheet!$D$12,RAND()<0),3,IF(RAND()<Worksheet!$D$10/100,1,2))","v":2},{"$f":"IF(I639=1,F639,IF(I639=2,F639,IF(I639=3,F639/100*C639,\"\")))","v":1},{"$f":"CONCATENATE(\" \",D639)","v":" °C"},{"$f":"IF(I639=1,F639,IF(I639=2,F639,IF(I639=3,F639/100*C639,\"\")))","v":1}," °C"]
[{"$f":"COUNTIF($B$1:B640,TRUE)","v":498},{"$f":"Worksheet!$B$20","v":true},{"$f":"RANDBETWEEN(5,RANDBETWEEN(5,Worksheet!$D$8))","v":10},"cm","±",{"$f":"IF(I640=1,H640*10^RANDBETWEEN(IF(Worksheet!$D$14,-1,0),0),IF(I640=2,H640,CHOOSE(RANDBETWEEN(1,3),5,10,20)))","v":4},{"$f":"IF(I640=1,D640,IF(I640=3,\"%\",\"mm\"))","v":"mm"},{"$f":"RANDBETWEEN(1,MIN(9,C640))","v":4},{"$f":"IF(AND(Worksheet!$D$12,RAND()<0.2),3,IF(RAND()<Worksheet!$D$10/100,1,2))","v":2},{"$f":"IF(I640=1,F640,IF(I640=2,F640/10,IF(I640=3,F640/100*C640,\"\")))","v":0.4},{"$f":"CONCATENATE(\" \",D640)","v":" cm"},{"$f":"IF(I640=1,F640*10,IF(I640=2,F640,IF(I640=3,F640/100*C640*10,\"\")))","v":4},"mm"]
[{"$f":"IF(COUNTIF($B$1:B641,TRUE)=COUNTIF($B$1:B640,TRUE),\"\",COUNTIF($B$1:B641,TRUE))","v":499},{"$f":"Worksheet!$B$22","v":true},{"$f":"RANDBETWEEN(5,RANDBETWEEN(5,Worksheet!$D$8))","v":101},"m","±",{"$f":"IF(I641=1,H641*10^RANDBETWEEN(IF(Worksheet!$D$14,-1,0),0),IF(I641=2,H641*10^RANDBETWEEN(RANDBETWEEN(0,1),1),CHOOSE(RANDBETWEEN(1,3),5,10,20)))","v":10},{"$f":"IF(I641=1,D641,IF(I641=3,\"%\",\"cm\"))","v":"%"},{"$f":"RANDBETWEEN(1,MIN(9,C641))","v":6},{"$f":"IF(AND(Worksheet!$D$12,RAND()<0.2),3,IF(RAND()<Worksheet!$D$10/100,1,2))","v":3},{"$f":"IF(I641=1,F641,IF(I641=2,F641/100,IF(I641=3,F641/100*C641,\"\")))","v":10.100000000000001},{"$f":"CONCATENATE(\" \",D641)","v":" m"},{"$f":"IF(I641=1,F641*100,IF(I641=2,F641,IF(I641=3,F641/100*C641*100,\"\")))","v":1010.0000000000001},"cm"]
[{"$f":"IF(COUNTIF($B$1:B642,TRUE)=COUNTIF($B$1:B641,TRUE),\"\",COUNTIF($B$1:B642,TRUE))","v":500},{"$f":"Worksheet!$B$24","v":true},{"$f":"RANDBETWEEN(5,RANDBETWEEN(5,Worksheet!$D$8))","v":48},"km","±",{"$f":"IF(I642=1,H642*10^RANDBETWEEN(IF(Worksheet!$D$14,-1,0),0),IF(I642=2,H642*10^RANDBETWEEN(RANDBETWEEN(0,2),2),CHOOSE(RANDBETWEEN(1,3),5,10,20)))","v":700},{"$f":"IF(I642=1,D642,IF(I642=3,\"%\",\"m\"))","v":"m"},7,{"$f":"IF(AND(Worksheet!$D$12,RAND()<0.2),3,IF(RAND()<Worksheet!$D$10/100,1,2))","v":2},{"$f":"IF(I642=1,F642,IF(I642=2,F642/1000,IF(I642=3,F642/100*C642,\"\")))","v":0.7}," km",{"$f":"IF(I642=1,F642*1000,IF(I642=2,F642,IF(I642=3,F642/100*C642*1000,\"\")))","v":700},"m"]
[{"$f":"IF(COUNTIF($B$1:B643,TRUE)=COUNTIF($B$1:B642,TRUE),\"\",COUNTIF($B$1:B643,TRUE))","v":""},{"$f":"Worksheet!$B$26","v":false},{"$f":"RANDBETWEEN(5,RANDBETWEEN(5,Worksheet!$D$8))","v":160},"m","±",{"$f":"IF(I643=1,H643*10^RANDBETWEEN(IF(Worksheet!$D$14,-1,0),0),IF(I643=2,H643*10^RANDBETWEEN(RANDBETWEEN(0,2),2),CHOOSE(RANDBETWEEN(1,3),5,10,20)))","v":0.70000000000000007},{"$f":"IF(I643=1,D643,IF(I643=3,\"%\",\"mm\"))","v":"m"},7,{"$f":"IF(AND(Worksheet!$D$12,RAND()<0.2),3,IF(RAND()<Worksheet!$D$10/100,1,2))","v":1},0.70000000000000007," m",700.00000000000011,"mm"]
[{"$f":"IF(COUNTIF($B$1:B644,TRUE)=COUNTIF($B$1:B643,TRUE),\"\",COUNTIF($B$1:B644,TRUE))","v":501},{"$f":"Worksheet!$D$20","v":true},{"$f":"RANDBETWEEN(5,RANDBETWEEN(5,Worksheet!$D$8))","v":145},"kg","±",{"$f":"IF(I644=1,H644*10^RANDBETWEEN(IF(Worksheet!$D$14,-1,0),0),IF(I644=2,H644*10^RANDBETWEEN(RANDBETWEEN(0,2),2),CHOOSE(RANDBETWEEN(1,3),5,10,20)))","v":0.8},{"$f":"IF(I644=1,D644,IF(I644=3,\"%\",\"g\"))","v":"kg"},{"$f":"RANDBETWEEN(1,MIN(9,C644))","v":8},{"$f":"IF(AND(Worksheet!$D$12,RAND()<0.2),3,IF(RAND()<Worksheet!$D$10/100,1,2))","v":1},0.8,{"$f":"CONCATENATE(\" \",D644)","v":" kg"},800,"g"]
[{"$f":"IF(COUNTIF($B$1:B645,TRUE)=COUNTIF($B$1:B644,TRUE),\"\",COUNTIF($B$1:B645,TRUE))","v":502},{"$f":"Worksheet!$D$22","v":true},{"$f":"RANDBETWEEN(5,RANDBETWEEN(5,Worksheet!$D$8))","v":18},"tonnes","±",{"$f":"IF(I645=1,H645*10^RANDBETWEEN(IF(Worksheet!$D$14,-1,0),0),IF(I645=2,H645*10^RANDBETWEEN(RANDBETWEEN(0,2),2),CHOOSE(RANDBETWEEN(1,3),5,10,20)))","v":20},{"$f":"IF(I645=1,D645,IF(I645=3,\"%\",\"kg\"))","v":"%"},{"$f":"RANDBETWEEN(1,MIN(9,C645))","v":9},{"$f":"IF(AND(Worksheet!$D$12,RAND()<0.2),3,IF(RAND()<Worksheet!$D$10/100,1,2))","v":3},3.6,{"$f":"CONCATENATE(\" \",D645)","v":" tonnes"},3600,"kg"]
[{"$f":"IF(COUNTIF($B$1:B646,TRUE)=COUNTIF($B$1:B645,TRUE),\"\",COUNTIF($B$1:B646,TRUE))","v":503},{"$f":"Worksheet!$D$24","v":true},{"$f":"RANDBETWEEN(5,RANDBETWEEN(5,Worksheet!$D$8))","v":53},"litres","±",{"$f":"IF(I646=1,H646*10^RANDBETWEEN(IF(Worksheet!$D$14,-1,0),0),IF(I646=2,H646*10^RANDBETWEEN(RANDBETWEEN(0,2),2),CHOOSE(RANDBETWEEN(1,3),5,10,20)))","v":20},{"$f":"IF(I646=1,D646,IF(I646=3,\"%\",\"ml\"))","v":"%"},{"$f":"RANDBETWEEN(1,MIN(9,C646))","v":3},{"$f":"IF(AND(Worksheet!$D$12,RAND()<0.2),3,IF(RAND()<Worksheet!$D$10/100,1,2))","v":3},10.600000000000001,{"$f":"CONCATENATE(\" \",D646)","v":" litres"},10600.000000000002,"ml"]
[{"$f":"IF(COUNTIF($B$1:B647,TRUE)=COUNTIF($B$1:B646,TRUE),\"\",COUNTIF($B$1:B647,TRUE))","v":""},{"$f":"Worksheet!$D$26","v":false},{"$f":"RANDBETWEEN(5,RANDBETWEEN(5,Worksheet!$D$8))","v":14},"litres","±",{"$f":"IF(I647=1,H647*10^RANDBETWEEN(IF(Worksheet!$D$14,-1,0),0),IF(I647=2,H647*10^RANDBETWEEN(RANDBETWEEN(0,2),2),CHOOSE(RANDBETWEEN(1,3),5,10,20)))","v":4},{"$f":"IF(I647=1,D647,IF(I647=3,\"%\",\"cm³\"))","v":"litres"},{"$f":"RANDBETWEEN(1,MIN(9,C647))","v":4},{"$f":"IF(AND(Worksheet!$D$12,RAND()<0.2),3,IF(RAND()<Worksheet!$D$10/100,1,2))","v":1},4,{"$f":"CONCATENATE(\" \",D647)","v":" litres"},4000,"cm³"]
[{"$f":"IF(COUNTIF($B$1:B648,TRUE)=COUNTIF($B$1:B648,TRUE),\"\",COUNTIF($B$1:B648,TRUE))","v":""},{"$f":"Worksheet!$B$28","v":true},{"$f":"RANDBETWEEN(5,20)","v":16},"°C","±",{"$f":"IF(I648=1,H648*10^RANDBETWEEN(IF(Worksheet!$D$14,-1,0),0),IF(I648=2,H648,CHOOSE(RANDBETWEEN(1,3),5,10,20)))","v":0.1},{"$f":"IF(I648=1,D648,IF(I648=3,\"%\",\"sec\"))","v":"°C"},{"$f":"RANDBETWEEN(1,MIN(9,C648))","v":1},{"$f":"IF(AND(Worksheet!$D$12,RAND()<0),3,IF(RAND()<Worksheet!$D$10/100,1,2))","v":1},{"$f":"IF(I648=1,F648,IF(I648=2,F648,IF(I648=3,F648/100*C648,\"\")))","v":0.1},{"$f":"CONCATENATE(\" \",D648)","v":" °C"},{"$f":"IF(I648=1,F648,IF(I648=2,F648,IF(I648=3,F648/100*C648,\"\")))","v":0.1}," °C"]
[{"$f":"COUNTIF($B$1:B649,TRUE)","v":505},{"$f":"Worksheet!$B$20","v":true},{"$f":"RANDBETWEEN(5,RANDBETWEEN(5,Worksheet!$D$8))","v":121},"cm","±",{"$f":"IF(I649=1,H649*10^RANDBETWEEN(IF(Worksheet!$D$14,-1,0),0),IF(I649=2,H649,CHOOSE(RANDBETWEEN(1,3),5,10,20)))","v":0.30000000000000004},{"$f":"IF(I649=1,D649,IF(I649=3,\"%\",\"mm\"))","v":"cm"},{"$f":"RANDBETWEEN(1,MIN(9,C649))","v":3},{"$f":"IF(AND(Worksheet!$D$12,RAND()<0.2),3,IF(RAND()<Worksheet!$D$10/100,1,2))","v":1},{"$f":"IF(I649=1,F649,IF(I649=2,F649/10,IF(I649=3,F649/100*C649,\"\")))","v":0.30000000000000004},{"$f":"CONCATENATE(\" \",D649)","v":" cm"},{"$f":"IF(I649=1,F649*10,IF(I649=2,F649,IF(I649=3,F649/100*C649*10,\"\")))","v":3.0000000000000004},"mm"]
[{"$f":"IF(COUNTIF($B$1:B650,TRUE)=COUNTIF($B$1:B649,TRUE),\"\",COUNTIF($B$1:B650,TRUE))","v":506},{"$f":"Worksheet!$B$22","v":true},{"$f":"RANDBETWEEN(5,RANDBETWEEN(5,Worksheet!$D$8))","v":16},"m","±",{"$f":"IF(I650=1,H650*10^RANDBETWEEN(IF(Worksheet!$D$14,-1,0),0),IF(I650=2,H650*10^RANDBETWEEN(RANDBETWEEN(0,1),1),CHOOSE(RANDBETWEEN(1,3),5,10,20)))","v":0.4},{"$f":"IF(I650=1,D650,IF(I650=3,\"%\",\"cm\"))","v":"m"},{"$f":"RANDBETWEEN(1,MIN(9,C650))","v":4},{"$f":"IF(AND(Worksheet!$D$12,RAND()<0.2),3,IF(RAND()<Worksheet!$D$10/100,1,2))","v":1},{"$f":"IF(I650=1,F650,IF(I650=2,F650/100,IF(I650=3,F650/100*C650,\"\")))","v":0.4},{"$f":"CONCATENATE(\" \",D650)","v":" m"},{"$f":"IF(I650=1,F650*100,IF(I650=2,F650,IF(I650=3,F650/100*C650*100,\"\")))","v":40},"cm"]
[{"$f":"IF(COUNTIF($B$1:B651,TRUE)=COUNTIF($B$1:B650,TRUE),\"\",COUNTIF($B$1:B651,TRUE))","v":507},{"$f":"Worksheet!$B$24","v":true},{"$f":"RANDBETWEEN(5,RANDBETWEEN(5,Worksheet!$D$8))","v":105},"km","±",{"$f":"IF(I651=1,H651*10^RANDBETWEEN(IF(Worksheet!$D$14,-1,0),0),IF(I651=2,H651*10^RANDBETWEEN(RANDBETWEEN(0,2),2),CHOOSE(RANDBETWEEN(1,3),5,10,20)))","v":0.4},{"$f":"IF(I651=1,D651,IF(I651=3,\"%\",\"m\"))","v":"km"},4,{"$f":"IF(AND(Worksheet!$D$12,RAND()<0.2),3,IF(RAND()<Worksheet!$D$10/100,1,2))","v":1},{"$f":"IF(I651=1,F651,IF(I651=2,F651/1000,IF(I651=3,F651/100*C651,\"\")))","v":0.4}," km",{"$f":"IF(I651=1,F651*1000,IF(I651=2,F651,IF(I651=3,F651/100*C651*1000,\"\")))","v":400},"m"]
[{"$f":"IF(COUNTIF($B$1:B652,TRUE)=COUNTIF($B$1:B651,TRUE),\"\",COUNTIF($B$1:B652,TRUE))","v":""},{"$f":"Worksheet!$B$26","v":false},{"$f":"RANDBETWEEN(5,RANDBETWEEN(5,Worksheet!$D$8))","v":42},"m","±",{"$f":"IF(I652=1,H652*10^RANDBETWEEN(IF(Worksheet!$D$14,-1,0),0),IF(I652=2,H652*10^RANDBETWEEN(RANDBETWEEN(0,2),2),CHOOSE(RANDBETWEEN(1,3),5,10,20)))","v":9},{"$f":"IF(I652=1,D652,IF(I652=3,\"%\",\"mm\"))","v":"m"},9,{"$f":"IF(AND(Worksheet!$D$12,RAND()<0.2),3,IF(RAND()<Worksheet!$D$10/100,1,2))","v":1},9," m",9000,"mm"]
[{"$f":"IF(COUNTIF($B$1:B653,TRUE)=COUNTIF($B$1:B652,TRUE),\"\",COUNTIF($B$1:B653,TRUE))","v":508},{"$f":"Worksheet!$D$20","v":true},{"$f":"RANDBETWEEN(5,RANDBETWEEN(5,Worksheet!$D$8))","v":17},"kg","±",{"$f":"IF(I653=1,H653*10^RANDBETWEEN(IF(Worksheet!$D$14,-1,0),0),IF(I653=2,H653*10^RANDBETWEEN(RANDBETWEEN(0,2),2),CHOOSE(RANDBETWEEN(1,3),5,10,20)))","v":4},{"$f":"IF(I653=1,D653,IF(I653=3,\"%\",\"g\"))","v":"kg"},{"$f":"RANDBETWEEN(1,MIN(9,C653))","v":4},{"$f":"IF(AND(Worksheet!$D$12,RAND()<0.2),3,IF(RAND()<Worksheet!$D$10/100,1,2))","v":1},4,{"$f":"CONCATENATE(\" \",D653)","v":" kg"},4000,"g"]
[{"$f":"IF(COUNTIF($B$1:B654,TRUE)=COUNTIF($B$1:B653,TRUE),\"\",COUNTIF($B$1:B654,TRUE))","v":509},{"$f":"Worksheet!$D$22","v":true},{"$f":"RANDBETWEEN(5,RANDBETWEEN(5,Worksheet!$D$8))","v":157},"tonnes","±",{"$f":"IF(I654=1,H654*10^RANDBETWEEN(IF(Worksheet!$D$14,-1,0),0),IF(I654=2,H654*10^RANDBETWEEN(RANDBETWEEN(0,2),2),CHOOSE(RANDBETWEEN(1,3),5,10,20)))","v":0.30000000000000004},{"$f":"IF(I654=1,D654,IF(I654=3,\"%\",\"kg\"))","v":"tonnes"},{"$f":"RANDBETWEEN(1,MIN(9,C654))","v":3},{"$f":"IF(AND(Worksheet!$D$12,RAND()<0.2),3,IF(RAND()<Worksheet!$D$10/100,1,2))","v":1},0.30000000000000004,{"$f":"CONCATENATE(\" \",D654)","v":" tonnes"},300.00000000000006,"kg"]
[{"$f":"IF(COUNTIF($B$1:B655,TRUE)=COUNTIF($B$1:B654,TRUE),\"\",COUNTIF($B$1:B655,TRUE))","v":510},{"$f":"Worksheet!$D$24","v":true},{"$f":"RANDBETWEEN(5,RANDBETWEEN(5,Worksheet!$D$8))","v":89},"litres","±",{"$f":"IF(I655=1,H655*10^RANDBETWEEN(IF(Worksheet!$D$14,-1,0),0),IF(I655=2,H655*10^RANDBETWEEN(RANDBETWEEN(0,2),2),CHOOSE(RANDBETWEEN(1,3),5,10,20)))","v":900},{"$f":"IF(I655=1,D655,IF(I655=3,\"%\",\"ml\"))","v":"ml"},{"$f":"RANDBETWEEN(1,MIN(9,C655))","v":9},{"$f":"IF(AND(Worksheet!$D$12,RAND()<0.2),3,IF(RAND()<Worksheet!$D$10/100,1,2))","v":2},0.9,{"$f":"CONCATENATE(\" \",D655)","v":" litres"},900,"ml"]
[{"$f":"IF(COUNTIF($B$1:B656,TRUE)=COUNTIF($B$1:B655,TRUE),\"\",COUNTIF($B$1:B656,TRUE))","v":""},{"$f":"Worksheet!$D$26","v":false},{"$f":"RANDBETWEEN(5,RANDBETWEEN(5,Worksheet!$D$8))","v":29},"litres","±",{"$f":"IF(I656=1,H656*10^RANDBETWEEN(IF(Worksheet!$D$14,-1,0),0),IF(I656=2,H656*10^RANDBETWEEN(RANDBETWEEN(0,2),2),CHOOSE(RANDBETWEEN(1,3),5,10,20)))","v":8},{"$f":"IF(I656=1,D656,IF(I656=3,\"%\",\"cm³\"))","v":"litres"},{"$f":"RANDBETWEEN(1,MIN(9,C656))","v":8},{"$f":"IF(AND(Worksheet!$D$12,RAND()<0.2),3,IF(RAND()<Worksheet!$D$10/100,1,2))","v":1},8,{"$f":"CONCATENATE(\" \",D656)","v":" litres"},8000,"cm³"]
[{"$f":"IF(COUNTIF($B$1:B657,TRUE)=COUNTIF($B$1:B657,TRUE),\"\",COUNTIF($B$1:B657,TRUE))","v":""},{"$f":"Worksheet!$B$28","v":true},{"$f":"RANDBETWEEN(5,20)","v":20},"°C","±",{"$f":"IF(I657=1,H657*10^RANDBETWEEN(IF(Worksheet!$D$14,-1,0),0),IF(I657=2,H657,CHOOSE(RANDBETWEEN(1,3),5,10,20)))","v":2},{"$f":"IF(I657=1,D657,IF(I657=3,\"%\",\"sec\"))","v":"°C"},{"$f":"RANDBETWEEN(1,MIN(9,C657))","v":2},{"$f":"IF(AND(Worksheet!$D$12,RAND()<0),3,IF(RAND()<Worksheet!$D$10/100,1,2))","v":1},{"$f":"IF(I657=1,F657,IF(I657=2,F657,IF(I657=3,F657/100*C657,\"\")))","v":2},{"$f":"CONCATENATE(\" \",D657)","v":" °C"},{"$f":"IF(I657=1,F657,IF(I657=2,F657,IF(I657=3,F657/100*C657,\"\")))","v":2}," °C"]
[{"$f":"COUNTIF($B$1:B658,TRUE)","v":512},{"$f":"Worksheet!$B$20","v":true},{"$f":"RANDBETWEEN(5,RANDBETWEEN(5,Worksheet!$D$8))","v":101},"cm","±",{"$f":"IF(I658=1,H658*10^RANDBETWEEN(IF(Worksheet!$D$14,-1,0),0),IF(I658=2,H658,CHOOSE(RANDBETWEEN(1,3),5,10,20)))","v":20},{"$f":"IF(I658=1,D658,IF(I658=3,\"%\",\"mm\"))","v":"%"},{"$f":"RANDBETWEEN(1,MIN(9,C658))","v":1},{"$f":"IF(AND(Worksheet!$D$12,RAND()<0.2),3,IF(RAND()<Worksheet!$D$10/100,1,2))","v":3},{"$f":"IF(I658=1,F658,IF(I658=2,F658/10,IF(I658=3,F658/100*C658,\"\")))","v":20.200000000000003},{"$f":"CONCATENATE(\" \",D658)","v":" cm"},{"$f":"IF(I658=1,F658*10,IF(I658=2,F658,IF(I658=3,F658/100*C658*10,\"\")))","v":202.00000000000003},"mm"]
[{"$f":"IF(COUNTIF($B$1:B659,TRUE)=COUNTIF($B$1:B658,TRUE),\"\",COUNTIF($B$1:B659,TRUE))","v":513},{"$f":"Worksheet!$B$22","v":true},{"$f":"RANDBETWEEN(5,RANDBETWEEN(5,Worksheet!$D$8))","v":178},"m","±",{"$f":"IF(I659=1,H659*10^RANDBETWEEN(IF(Worksheet!$D$14,-1,0),0),IF(I659=2,H659*10^RANDBETWEEN(RANDBETWEEN(0,1),1),CHOOSE(RANDBETWEEN(1,3),5,10,20)))","v":20},{"$f":"IF(I659=1,D659,IF(I659=3,\"%\",\"cm\"))","v":"%"},{"$f":"RANDBETWEEN(1,MIN(9,C659))","v":5},{"$f":"IF(AND(Worksheet!$D$12,RAND()<0.2),3,IF(RAND()<Worksheet!$D$10/100,1,2))","v":3},{"$f":"IF(I659=1,F659,IF(I659=2,F659/100,IF(I659=3,F659/100*C659,\"\")))","v":35.6},{"$f":"CONCATENATE(\" \",D659)","v":" m"},{"$f":"IF(I659=1,F659*100,IF(I659=2,F659,IF(I659=3,F659/100*C659*100,\"\")))","v":3560},"cm"]
[{"$f":"IF(COUNTIF($B$1:B660,TRUE)=COUNTIF($B$1:B659,TRUE),\"\",COUNTIF($B$1:B660,TRUE))","v":514},{"$f":"Worksheet!$B$24","v":true},{"$f":"RANDBETWEEN(5,RANDBETWEEN(5,Worksheet!$D$8))","v":6},"km","±",{"$f":"IF(I660=1,H660*10^RANDBETWEEN(IF(Worksheet!$D$14,-1,0),0),IF(I660=2,H660*10^RANDBETWEEN(RANDBETWEEN(0,2),2),CHOOSE(RANDBETWEEN(1,3),5,10,20)))","v":5},{"$f":"IF(I660=1,D660,IF(I660=3,\"%\",\"m\"))","v":"%"},3,{"$f":"IF(AND(Worksheet!$D$12,RAND()<0.2),3,IF(RAND()<Worksheet!$D$10/100,1,2))","v":3},{"$f":"IF(I660=1,F660,IF(I660=2,F660/1000,IF(I660=3,F660/100*C660,\"\")))","v":0.30000000000000004}," km",{"$f":"IF(I660=1,F660*1000,IF(I660=2,F660,IF(I660=3,F660/100*C660*1000,\"\")))","v":300.00000000000006},"m"]
[{"$f":"IF(COUNTIF($B$1:B661,TRUE)=COUNTIF($B$1:B660,TRUE),\"\",COUNTIF($B$1:B661,TRUE))","v":""},{"$f":"Worksheet!$B$26","v":false},{"$f":"RANDBETWEEN(5,RANDBETWEEN(5,Worksheet!$D$8))","v":109},"m","±",{"$f":"IF(I661=1,H661*10^RANDBETWEEN(IF(Worksheet!$D$14,-1,0),0),IF(I661=2,H661*10^RANDBETWEEN(RANDBETWEEN(0,2),2),CHOOSE(RANDBETWEEN(1,3),5,10,20)))","v":9},{"$f":"IF(I661=1,D661,IF(I661=3,\"%\",\"mm\"))","v":"m"},9,{"$f":"IF(AND(Worksheet!$D$12,RAND()<0.2),3,IF(RAND()<Worksheet!$D$10/100,1,2))","v":1},9," m",9000,"mm"]
[{"$f":"IF(COUNTIF($B$1:B662,TRUE)=COUNTIF($B$1:B661,TRUE),\"\",COUNTIF($B$1:B662,TRUE))","v":515},{"$f":"Worksheet!$D$20","v":true},{"$f":"RANDBETWEEN(5,RANDBETWEEN(5,Worksheet!$D$8))","v":51},"kg","±",{"$f":"IF(I662=1,H662*10^RANDBETWEEN(IF(Worksheet!$D$14,-1,0),0),IF(I662=2,H662*10^RANDBETWEEN(RANDBETWEEN(0,2),2),CHOOSE(RANDBETWEEN(1,3),5,10,20)))","v":3},{"$f":"IF(I662=1,D662,IF(I662=3,\"%\",\"g\"))","v":"kg"},{"$f":"RANDBETWEEN(1,MIN(9,C662))","v":3},{"$f":"IF(AND(Worksheet!$D$12,RAND()<0.2),3,IF(RAND()<Worksheet!$D$10/100,1,2))","v":1},3,{"$f":"CONCATENATE(\" \",D662)","v":" kg"},3000,"g"]
[{"$f":"IF(COUNTIF($B$1:B663,TRUE)=COUNTIF($B$1:B662,TRUE),\"\",COUNTIF($B$1:B663,TRUE))","v":516},{"$f":"Worksheet!$D$22","v":true},{"$f":"RANDBETWEEN(5,RANDBETWEEN(5,Worksheet!$D$8))","v":39},"tonnes","±",{"$f":"IF(I663=1,H663*10^RANDBETWEEN(IF(Worksheet!$D$14,-1,0),0),IF(I663=2,H663*10^RANDBETWEEN(RANDBETWEEN(0,2),2),CHOOSE(RANDBETWEEN(1,3),5,10,20)))","v":0.60000000000000009},{"$f":"IF(I663=1,D663,IF(I663=3,\"%\",\"kg\"))","v":"tonnes"},{"$f":"RANDBETWEEN(1,MIN(9,C663))","v":6},{"$f":"IF(AND(Worksheet!$D$12,RAND()<0.2),3,IF(RAND()<Worksheet!$D$10/100,1,2))","v":1},0.60000000000000009,{"$f":"CONCATENATE(\" \",D663)","v":" tonnes"},600.00000000000011,"kg"]
[{"$f":"IF(COUNTIF($B$1:B664,TRUE)=COUNTIF($B$1:B663,TRUE),\"\",COUNTIF($B$1:B664,TRUE))","v":517},{"$f":"Worksheet!$D$24","v":true},{"$f":"RANDBETWEEN(5,RANDBETWEEN(5,Worksheet!$D$8))","v":47},"litres","±",{"$f":"IF(I664=1,H664*10^RANDBETWEEN(IF(Worksheet!$D$14,-1,0),0),IF(I664=2,H664*10^RANDBETWEEN(RANDBETWEEN(0,2),2),CHOOSE(RANDBETWEEN(1,3),5,10,20)))","v":0.60000000000000009},{"$f":"IF(I664=1,D664,IF(I664=3,\"%\",\"ml\"))","v":"litres"},{"$f":"RANDBETWEEN(1,MIN(9,C664))","v":6},{"$f":"IF(AND(Worksheet!$D$12,RAND()<0.2),3,IF(RAND()<Worksheet!$D$10/100,1,2))","v":1},0.60000000000000009,{"$f":"CONCATENATE(\" \",D664)","v":" litres"},600.00000000000011,"ml"]
[{"$f":"IF(COUNTIF($B$1:B665,TRUE)=COUNTIF($B$1:B664,TRUE),\"\",COUNTIF($B$1:B665,TRUE))","v":""},{"$f":"Worksheet!$D$26","v":false},{"$f":"RANDBETWEEN(5,RANDBETWEEN(5,Worksheet!$D$8))","v":70},"litres","±",{"$f":"IF(I665=1,H665*10^RANDBETWEEN(IF(Worksheet!$D$14,-1,0),0),IF(I665=2,H665*10^RANDBETWEEN(RANDBETWEEN(0,2),2),CHOOSE(RANDBETWEEN(1,3),5,10,20)))","v":5},{"$f":"IF(I665=1,D665,IF(I665=3,\"%\",\"cm³\"))","v":"%"},{"$f":"RANDBETWEEN(1,MIN(9,C665))","v":6},{"$f":"IF(AND(Worksheet!$D$12,RAND()<0.2),3,IF(RAND()<Worksheet!$D$10/100,1,2))","v":3},3.5,{"$f":"CONCATENATE(\" \",D665)","v":" litres"},3500,"cm³"]
[{"$f":"IF(COUNTIF($B$1:B666,TRUE)=COUNTIF($B$1:B666,TRUE),\"\",COUNTIF($B$1:B666,TRUE))","v":""},{"$f":"Worksheet!$B$28","v":true},{"$f":"RANDBETWEEN(5,20)","v":12},"°C","±",{"$f":"IF(I666=1,H666*10^RANDBETWEEN(IF(Worksheet!$D$14,-1,0),0),IF(I666=2,H666,CHOOSE(RANDBETWEEN(1,3),5,10,20)))","v":0.1},{"$f":"IF(I666=1,D666,IF(I666=3,\"%\",\"sec\"))","v":"°C"},{"$f":"RANDBETWEEN(1,MIN(9,C666))","v":1},{"$f":"IF(AND(Worksheet!$D$12,RAND()<0),3,IF(RAND()<Worksheet!$D$10/100,1,2))","v":1},{"$f":"IF(I666=1,F666,IF(I666=2,F666,IF(I666=3,F666/100*C666,\"\")))","v":0.1},{"$f":"CONCATENATE(\" \",D666)","v":" °C"},{"$f":"IF(I666=1,F666,IF(I666=2,F666,IF(I666=3,F666/100*C666,\"\")))","v":0.1}," °C"]
[{"$f":"COUNTIF($B$1:B667,TRUE)","v":519},{"$f":"Worksheet!$B$20","v":true},{"$f":"RANDBETWEEN(5,RANDBETWEEN(5,Worksheet!$D$8))","v":5},"cm","±",{"$f":"IF(I667=1,H667*10^RANDBETWEEN(IF(Worksheet!$D$14,-1,0),0),IF(I667=2,H667,CHOOSE(RANDBETWEEN(1,3),5,10,20)))","v":0.1},{"$f":"IF(I667=1,D667,IF(I667=3,\"%\",\"mm\"))","v":"cm"},{"$f":"RANDBETWEEN(1,MIN(9,C667))","v":1},{"$f":"IF(AND(Worksheet!$D$12,RAND()<0.2),3,IF(RAND()<Worksheet!$D$10/100,1,2))","v":1},{"$f":"IF(I667=1,F667,IF(I667=2,F667/10,IF(I667=3,F667/100*C667,\"\")))","v":0.1},{"$f":"CONCATENATE(\" \",D667)","v":" cm"},{"$f":"IF(I667=1,F667*10,IF(I667=2,F667,IF(I667=3,F667/100*C667*10,\"\")))","v":1},"mm"]
[{"$f":"IF(COUNTIF($B$1:B668,TRUE)=COUNTIF($B$1:B667,TRUE),\"\",COUNTIF($B$1:B668,TRUE))","v":520},{"$f":"Worksheet!$B$22","v":true},{"$f":"RANDBETWEEN(5,RANDBETWEEN(5,Worksheet!$D$8))","v":6},"m","±",{"$f":"IF(I668=1,H668*10^RANDBETWEEN(IF(Worksheet!$D$14,-1,0),0),IF(I668=2,H668*10^RANDBETWEEN(RANDBETWEEN(0,1),1),CHOOSE(RANDBETWEEN(1,3),5,10,20)))","v":3},{"$f":"IF(I668=1,D668,IF(I668=3,\"%\",\"cm\"))","v":"m"},{"$f":"RANDBETWEEN(1,MIN(9,C668))","v":3},{"$f":"IF(AND(Worksheet!$D$12,RAND()<0.2),3,IF(RAND()<Worksheet!$D$10/100,1,2))","v":1},{"$f":"IF(I668=1,F668,IF(I668=2,F668/100,IF(I668=3,F668/100*C668,\"\")))","v":3},{"$f":"CONCATENATE(\" \",D668)","v":" m"},{"$f":"IF(I668=1,F668*100,IF(I668=2,F668,IF(I668=3,F668/100*C668*100,\"\")))","v":300},"cm"]
[{"$f":"IF(COUNTIF($B$1:B669,TRUE)=COUNTIF($B$1:B668,TRUE),\"\",COUNTIF($B$1:B669,TRUE))","v":521},{"$f":"Worksheet!$B$24","v":true},{"$f":"RANDBETWEEN(5,RANDBETWEEN(5,Worksheet!$D$8))","v":102},"km","±",{"$f":"IF(I669=1,H669*10^RANDBETWEEN(IF(Worksheet!$D$14,-1,0),0),IF(I669=2,H669*10^RANDBETWEEN(RANDBETWEEN(0,2),2),CHOOSE(RANDBETWEEN(1,3),5,10,20)))","v":20},{"$f":"IF(I669=1,D669,IF(I669=3,\"%\",\"m\"))","v":"%"},2,{"$f":"IF(AND(Worksheet!$D$12,RAND()<0.2),3,IF(RAND()<Worksheet!$D$10/100,1,2))","v":3},{"$f":"IF(I669=1,F669,IF(I669=2,F669/1000,IF(I669=3,F669/100*C669,\"\")))","v":20.400000000000002}," km",{"$f":"IF(I669=1,F669*1000,IF(I669=2,F669,IF(I669=3,F669/100*C669*1000,\"\")))","v":20400.000000000004},"m"]
[{"$f":"IF(COUNTIF($B$1:B670,TRUE)=COUNTIF($B$1:B669,TRUE),\"\",COUNTIF($B$1:B670,TRUE))","v":""},{"$f":"Worksheet!$B$26","v":false},{"$f":"RANDBETWEEN(5,RANDBETWEEN(5,Worksheet!$D$8))","v":47},"m","±",{"$f":"IF(I670=1,H670*10^RANDBETWEEN(IF(Worksheet!$D$14,-1,0),0),IF(I670=2,H670*10^RANDBETWEEN(RANDBETWEEN(0,2),2),CHOOSE(RANDBETWEEN(1,3),5,10,20)))","v":10},{"$f":"IF(I670=1,D670,IF(I670=3,\"%\",\"mm\"))","v":"%"},2,{"$f":"IF(AND(Worksheet!$D$12,RAND()<0.2),3,IF(RAND()<Worksheet!$D$10/100,1,2))","v":3},4.7," m",4700,"mm"]
[{"$f":"IF(COUNTIF($B$1:B671,TRUE)=COUNTIF($B$1:B670,TRUE),\"\",COUNTIF($B$1:B671,TRUE))","v":522},{"$f":"Worksheet!$D$20","v":true},{"$f":"RANDBETWEEN(5,RANDBETWEEN(5,Worksheet!$D$8))","v":51},"kg","±",{"$f":"IF(I671=1,H671*10^RANDBETWEEN(IF(Worksheet!$D$14,-1,0),0),IF(I671=2,H671*10^RANDBETWEEN(RANDBETWEEN(0,2),2),CHOOSE(RANDBETWEEN(1,3),5,10,20)))","v":1},{"$f":"IF(I671=1,D671,IF(I671=3,\"%\",\"g\"))","v":"kg"},{"$f":"RANDBETWEEN(1,MIN(9,C671))","v":1},{"$f":"IF(AND(Worksheet!$D$12,RAND()<0.2),3,IF(RAND()<Worksheet!$D$10/100,1,2))","v":1},1,{"$f":"CONCATENATE(\" \",D671)","v":" kg"},1000,"g"]
[{"$f":"IF(COUNTIF($B$1:B672,TRUE)=COUNTIF($B$1:B671,TRUE),\"\",COUNTIF($B$1:B672,TRUE))","v":523},{"$f":"Worksheet!$D$22","v":true},{"$f":"RANDBETWEEN(5,RANDBETWEEN(5,Worksheet!$D$8))","v":55},"tonnes","±",{"$f":"IF(I672=1,H672*10^RANDBETWEEN(IF(Worksheet!$D$14,-1,0),0),IF(I672=2,H672*10^RANDBETWEEN(RANDBETWEEN(0,2),2),CHOOSE(RANDBETWEEN(1,3),5,10,20)))","v":10},{"$f":"IF(I672=1,D672,IF(I672=3,\"%\",\"kg\"))","v":"%"},{"$f":"RANDBETWEEN(1,MIN(9,C672))","v":3},{"$f":"IF(AND(Worksheet!$D$12,RAND()<0.2),3,IF(RAND()<Worksheet!$D$10/100,1,2))","v":3},5.5,{"$f":"CONCATENATE(\" \",D672)","v":" tonnes"},5500,"kg"]
[{"$f":"IF(COUNTIF($B$1:B673,TRUE)=COUNTIF($B$1:B672,TRUE),\"\",COUNTIF($B$1:B673,TRUE))","v":524},{"$f":"Worksheet!$D$24","v":true},{"$f":"RANDBETWEEN(5,RANDBETWEEN(5,Worksheet!$D$8))","v":17},"litres","±",{"$f":"IF(I673=1,H673*10^RANDBETWEEN(IF(Worksheet!$D$14,-1,0),0),IF(I673=2,H673*10^RANDBETWEEN(RANDBETWEEN(0,2),2),CHOOSE(RANDBETWEEN(1,3),5,10,20)))","v":20},{"$f":"IF(I673=1,D673,IF(I673=3,\"%\",\"ml\"))","v":"%"},{"$f":"RANDBETWEEN(1,MIN(9,C673))","v":1},{"$f":"IF(AND(Worksheet!$D$12,RAND()<0.2),3,IF(RAND()<Worksheet!$D$10/100,1,2))","v":3},3.4000000000000004,{"$f":"CONCATENATE(\" \",D673)","v":" litres"},3400.0000000000005,"ml"]
[{"$f":"IF(COUNTIF($B$1:B674,TRUE)=COUNTIF($B$1:B673,TRUE),\"\",COUNTIF($B$1:B674,TRUE))","v":""},{"$f":"Worksheet!$D$26","v":false},{"$f":"RANDBETWEEN(5,RANDBETWEEN(5,Worksheet!$D$8))","v":5},"litres","±",{"$f":"IF(I674=1,H674*10^RANDBETWEEN(IF(Worksheet!$D$14,-1,0),0),IF(I674=2,H674*10^RANDBETWEEN(RANDBETWEEN(0,2),2),CHOOSE(RANDBETWEEN(1,3),5,10,20)))","v":0.4},{"$f":"IF(I674=1,D674,IF(I674=3,\"%\",\"cm³\"))","v":"litres"},{"$f":"RANDBETWEEN(1,MIN(9,C674))","v":4},{"$f":"IF(AND(Worksheet!$D$12,RAND()<0.2),3,IF(RAND()<Worksheet!$D$10/100,1,2))","v":1},0.4,{"$f":"CONCATENATE(\" \",D674)","v":" litres"},400,"cm³"]
[{"$f":"IF(COUNTIF($B$1:B675,TRUE)=COUNTIF($B$1:B675,TRUE),\"\",COUNTIF($B$1:B675,TRUE))","v":""},{"$f":"Worksheet!$B$28","v":true},{"$f":"RANDBETWEEN(5,20)","v":9},"°C","±",{"$f":"IF(I675=1,H675*10^RANDBETWEEN(IF(Worksheet!$D$14,-1,0),0),IF(I675=2,H675,CHOOSE(RANDBETWEEN(1,3),5,10,20)))","v":7},{"$f":"IF(I675=1,D675,IF(I675=3,\"%\",\"sec\"))","v":"°C"},{"$f":"RANDBETWEEN(1,MIN(9,C675))","v":7},{"$f":"IF(AND(Worksheet!$D$12,RAND()<0),3,IF(RAND()<Worksheet!$D$10/100,1,2))","v":1},{"$f":"IF(I675=1,F675,IF(I675=2,F675,IF(I675=3,F675/100*C675,\"\")))","v":7},{"$f":"CONCATENATE(\" \",D675)","v":" °C"},{"$f":"IF(I675=1,F675,IF(I675=2,F675,IF(I675=3,F675/100*C675,\"\")))","v":7}," °C"]
[{"$f":"COUNTIF($B$1:B676,TRUE)","v":526},{"$f":"Worksheet!$B$20","v":true},{"$f":"RANDBETWEEN(5,RANDBETWEEN(5,Worksheet!$D$8))","v":84},"cm","±",{"$f":"IF(I676=1,H676*10^RANDBETWEEN(IF(Worksheet!$D$14,-1,0),0),IF(I676=2,H676,CHOOSE(RANDBETWEEN(1,3),5,10,20)))","v":0.2},{"$f":"IF(I676=1,D676,IF(I676=3,\"%\",\"mm\"))","v":"cm"},{"$f":"RANDBETWEEN(1,MIN(9,C676))","v":2},{"$f":"IF(AND(Worksheet!$D$12,RAND()<0.2),3,IF(RAND()<Worksheet!$D$10/100,1,2))","v":1},{"$f":"IF(I676=1,F676,IF(I676=2,F676/10,IF(I676=3,F676/100*C676,\"\")))","v":0.2},{"$f":"CONCATENATE(\" \",D676)","v":" cm"},{"$f":"IF(I676=1,F676*10,IF(I676=2,F676,IF(I676=3,F676/100*C676*10,\"\")))","v":2},"mm"]
[{"$f":"IF(COUNTIF($B$1:B677,TRUE)=COUNTIF($B$1:B676,TRUE),\"\",COUNTIF($B$1:B677,TRUE))","v":527},{"$f":"Worksheet!$B$22","v":true},{"$f":"RANDBETWEEN(5,RANDBETWEEN(5,Worksheet!$D$8))","v":46},"m","±",{"$f":"IF(I677=1,H677*10^RANDBETWEEN(IF(Worksheet!$D$14,-1,0),0),IF(I677=2,H677*10^RANDBETWEEN(RANDBETWEEN(0,1),1),CHOOSE(RANDBETWEEN(1,3),5,10,20)))","v":0.4},{"$f":"IF(I677=1,D677,IF(I677=3,\"%\",\"cm\"))","v":"m"},{"$f":"RANDBETWEEN(1,MIN(9,C677))","v":4},{"$f":"IF(AND(Worksheet!$D$12,RAND()<0.2),3,IF(RAND()<Worksheet!$D$10/100,1,2))","v":1},{"$f":"IF(I677=1,F677,IF(I677=2,F677/100,IF(I677=3,F677/100*C677,\"\")))","v":0.4},{"$f":"CONCATENATE(\" \",D677)","v":" m"},{"$f":"IF(I677=1,F677*100,IF(I677=2,F677,IF(I677=3,F677/100*C677*100,\"\")))","v":40},"cm"]
[{"$f":"IF(COUNTIF($B$1:B678,TRUE)=COUNTIF($B$1:B677,TRUE),\"\",COUNTIF($B$1:B678,TRUE))","v":528},{"$f":"Worksheet!$B$24","v":true},{"$f":"RANDBETWEEN(5,RANDBETWEEN(5,Worksheet!$D$8))","v":78},"km","±",{"$f":"IF(I678=1,H678*10^RANDBETWEEN(IF(Worksheet!$D$14,-1,0),0),IF(I678=2,H678*10^RANDBETWEEN(RANDBETWEEN(0,2),2),CHOOSE(RANDBETWEEN(1,3),5,10,20)))","v":20},{"$f":"IF(I678=1,D678,IF(I678=3,\"%\",\"m\"))","v":"%"},6,{"$f":"IF(AND(Worksheet!$D$12,RAND()<0.2),3,IF(RAND()<Worksheet!$D$10/100,1,2))","v":3},{"$f":"IF(I678=1,F678,IF(I678=2,F678/1000,IF(I678=3,F678/100*C678,\"\")))","v":15.600000000000001}," km",{"$f":"IF(I678=1,F678*1000,IF(I678=2,F678,IF(I678=3,F678/100*C678*1000,\"\")))","v":15600.000000000002},"m"]
[{"$f":"IF(COUNTIF($B$1:B679,TRUE)=COUNTIF($B$1:B678,TRUE),\"\",COUNTIF($B$1:B679,TRUE))","v":""},{"$f":"Worksheet!$B$26","v":false},{"$f":"RANDBETWEEN(5,RANDBETWEEN(5,Worksheet!$D$8))","v":152},"m","±",{"$f":"IF(I679=1,H679*10^RANDBETWEEN(IF(Worksheet!$D$14,-1,0),0),IF(I679=2,H679*10^RANDBETWEEN(RANDBETWEEN(0,2),2),CHOOSE(RANDBETWEEN(1,3),5,10,20)))","v":20},{"$f":"IF(I679=1,D679,IF(I679=3,\"%\",\"mm\"))","v":"%"},9,{"$f":"IF(AND(Worksheet!$D$12,RAND()<0.2),3,IF(RAND()<Worksheet!$D$10/100,1,2))","v":3},30.400000000000002," m",30400.000000000004,"mm"]
[{"$f":"IF(COUNTIF($B$1:B680,TRUE)=COUNTIF($B$1:B679,TRUE),\"\",COUNTIF($B$1:B680,TRUE))","v":529},{"$f":"Worksheet!$D$20","v":true},{"$f":"RANDBETWEEN(5,RANDBETWEEN(5,Worksheet!$D$8))","v":69},"kg","±",{"$f":"IF(I680=1,H680*10^RANDBETWEEN(IF(Worksheet!$D$14,-1,0),0),IF(I680=2,H680*10^RANDBETWEEN(RANDBETWEEN(0,2),2),CHOOSE(RANDBETWEEN(1,3),5,10,20)))","v":3},{"$f":"IF(I680=1,D680,IF(I680=3,\"%\",\"g\"))","v":"kg"},{"$f":"RANDBETWEEN(1,MIN(9,C680))","v":3},{"$f":"IF(AND(Worksheet!$D$12,RAND()<0.2),3,IF(RAND()<Worksheet!$D$10/100,1,2))","v":1},3,{"$f":"CONCATENATE(\" \",D680)","v":" kg"},3000,"g"]
[{"$f":"IF(COUNTIF($B$1:B681,TRUE)=COUNTIF($B$1:B680,TRUE),\"\",COUNTIF($B$1:B681,TRUE))","v":530},{"$f":"Worksheet!$D$22","v":true},{"$f":"RANDBETWEEN(5,RANDBETWEEN(5,Worksheet!$D$8))","v":92},"tonnes","±",{"$f":"IF(I681=1,H681*10^RANDBETWEEN(IF(Worksheet!$D$14,-1,0),0),IF(I681=2,H681*10^RANDBETWEEN(RANDBETWEEN(0,2),2),CHOOSE(RANDBETWEEN(1,3),5,10,20)))","v":5},{"$f":"IF(I681=1,D681,IF(I681=3,\"%\",\"kg\"))","v":"kg"},{"$f":"RANDBETWEEN(1,MIN(9,C681))","v":5},{"$f":"IF(AND(Worksheet!$D$12,RAND()<0.2),3,IF(RAND()<Worksheet!$D$10/100,1,2))","v":2},5.0000000000000001E-3,{"$f":"CONCATENATE(\" \",D681)","v":" tonnes"},5,"kg"]
[{"$f":"IF(COUNTIF($B$1:B682,TRUE)=COUNTIF($B$1:B681,TRUE),\"\",COUNTIF($B$1:B682,TRUE))","v":531},{"$f":"Worksheet!$D$24","v":true},{"$f":"RANDBETWEEN(5,RANDBETWEEN(5,Worksheet!$D$8))","v":27},"litres","±",{"$f":"IF(I682=1,H682*10^RANDBETWEEN(IF(Worksheet!$D$14,-1,0),0),IF(I682=2,H682*10^RANDBETWEEN(RANDBETWEEN(0,2),2),CHOOSE(RANDBETWEEN(1,3),5,10,20)))","v":9},{"$f":"IF(I682=1,D682,IF(I682=3,\"%\",\"ml\"))","v":"litres"},{"$f":"RANDBETWEEN(1,MIN(9,C682))","v":9},{"$f":"IF(AND(Worksheet!$D$12,RAND()<0.2),3,IF(RAND()<Worksheet!$D$10/100,1,2))","v":1},9,{"$f":"CONCATENATE(\" \",D682)","v":" litres"},9000,"ml"]
[{"$f":"IF(COUNTIF($B$1:B683,TRUE)=COUNTIF($B$1:B682,TRUE),\"\",COUNTIF($B$1:B683,TRUE))","v":""},{"$f":"Worksheet!$D$26","v":false},{"$f":"RANDBETWEEN(5,RANDBETWEEN(5,Worksheet!$D$8))","v":36},"litres","±",{"$f":"IF(I683=1,H683*10^RANDBETWEEN(IF(Worksheet!$D$14,-1,0),0),IF(I683=2,H683*10^RANDBETWEEN(RANDBETWEEN(0,2),2),CHOOSE(RANDBETWEEN(1,3),5,10,20)))","v":9},{"$f":"IF(I683=1,D683,IF(I683=3,\"%\",\"cm³\"))","v":"litres"},{"$f":"RANDBETWEEN(1,MIN(9,C683))","v":9},{"$f":"IF(AND(Worksheet!$D$12,RAND()<0.2),3,IF(RAND()<Worksheet!$D$10/100,1,2))","v":1},9,{"$f":"CONCATENATE(\" \",D683)","v":" litres"},9000,"cm³"]
[{"$f":"IF(COUNTIF($B$1:B684,TRUE)=COUNTIF($B$1:B684,TRUE),\"\",COUNTIF($B$1:B684,TRUE))","v":""},{"$f":"Worksheet!$B$28","v":true},{"$f":"RANDBETWEEN(5,20)","v":6},"°C","±",{"$f":"IF(I684=1,H684*10^RANDBETWEEN(IF(Worksheet!$D$14,-1,0),0),IF(I684=2,H684,CHOOSE(RANDBETWEEN(1,3),5,10,20)))","v":6},{"$f":"IF(I684=1,D684,IF(I684=3,\"%\",\"sec\"))","v":"sec"},{"$f":"RANDBETWEEN(1,MIN(9,C684))","v":6},{"$f":"IF(AND(Worksheet!$D$12,RAND()<0),3,IF(RAND()<Worksheet!$D$10/100,1,2))","v":2},{"$f":"IF(I684=1,F684,IF(I684=2,F684,IF(I684=3,F684/100*C684,\"\")))","v":6},{"$f":"CONCATENATE(\" \",D684)","v":" °C"},{"$f":"IF(I684=1,F684,IF(I684=2,F684,IF(I684=3,F684/100*C684,\"\")))","v":6}," °C"]
[{"$f":"COUNTIF($B$1:B685,TRUE)","v":533},{"$f":"Worksheet!$B$20","v":true},{"$f":"RANDBETWEEN(5,RANDBETWEEN(5,Worksheet!$D$8))","v":109},"cm","±",{"$f":"IF(I685=1,H685*10^RANDBETWEEN(IF(Worksheet!$D$14,-1,0),0),IF(I685=2,H685,CHOOSE(RANDBETWEEN(1,3),5,10,20)))","v":5},{"$f":"IF(I685=1,D685,IF(I685=3,\"%\",\"mm\"))","v":"%"},{"$f":"RANDBETWEEN(1,MIN(9,C685))","v":1},{"$f":"IF(AND(Worksheet!$D$12,RAND()<0.2),3,IF(RAND()<Worksheet!$D$10/100,1,2))","v":3},{"$f":"IF(I685=1,F685,IF(I685=2,F685/10,IF(I685=3,F685/100*C685,\"\")))","v":5.45},{"$f":"CONCATENATE(\" \",D685)","v":" cm"},{"$f":"IF(I685=1,F685*10,IF(I685=2,F685,IF(I685=3,F685/100*C685*10,\"\")))","v":54.5},"mm"]
[{"$f":"IF(COUNTIF($B$1:B686,TRUE)=COUNTIF($B$1:B685,TRUE),\"\",COUNTIF($B$1:B686,TRUE))","v":534},{"$f":"Worksheet!$B$22","v":true},{"$f":"RANDBETWEEN(5,RANDBETWEEN(5,Worksheet!$D$8))","v":15},"m","±",{"$f":"IF(I686=1,H686*10^RANDBETWEEN(IF(Worksheet!$D$14,-1,0),0),IF(I686=2,H686*10^RANDBETWEEN(RANDBETWEEN(0,1),1),CHOOSE(RANDBETWEEN(1,3),5,10,20)))","v":3},{"$f":"IF(I686=1,D686,IF(I686=3,\"%\",\"cm\"))","v":"m"},{"$f":"RANDBETWEEN(1,MIN(9,C686))","v":3},{"$f":"IF(AND(Worksheet!$D$12,RAND()<0.2),3,IF(RAND()<Worksheet!$D$10/100,1,2))","v":1},{"$f":"IF(I686=1,F686,IF(I686=2,F686/100,IF(I686=3,F686/100*C686,\"\")))","v":3},{"$f":"CONCATENATE(\" \",D686)","v":" m"},{"$f":"IF(I686=1,F686*100,IF(I686=2,F686,IF(I686=3,F686/100*C686*100,\"\")))","v":300},"cm"]
[{"$f":"IF(COUNTIF($B$1:B687,TRUE)=COUNTIF($B$1:B686,TRUE),\"\",COUNTIF($B$1:B687,TRUE))","v":535},{"$f":"Worksheet!$B$24","v":true},{"$f":"RANDBETWEEN(5,RANDBETWEEN(5,Worksheet!$D$8))","v":14},"km","±",{"$f":"IF(I687=1,H687*10^RANDBETWEEN(IF(Worksheet!$D$14,-1,0),0),IF(I687=2,H687*10^RANDBETWEEN(RANDBETWEEN(0,2),2),CHOOSE(RANDBETWEEN(1,3),5,10,20)))","v":4},{"$f":"IF(I687=1,D687,IF(I687=3,\"%\",\"m\"))","v":"km"},4,{"$f":"IF(AND(Worksheet!$D$12,RAND()<0.2),3,IF(RAND()<Worksheet!$D$10/100,1,2))","v":1},{"$f":"IF(I687=1,F687,IF(I687=2,F687/1000,IF(I687=3,F687/100*C687,\"\")))","v":4}," km",{"$f":"IF(I687=1,F687*1000,IF(I687=2,F687,IF(I687=3,F687/100*C687*1000,\"\")))","v":4000},"m"]
[{"$f":"IF(COUNTIF($B$1:B688,TRUE)=COUNTIF($B$1:B687,TRUE),\"\",COUNTIF($B$1:B688,TRUE))","v":""},{"$f":"Worksheet!$B$26","v":false},{"$f":"RANDBETWEEN(5,RANDBETWEEN(5,Worksheet!$D$8))","v":50},"m","±",{"$f":"IF(I688=1,H688*10^RANDBETWEEN(IF(Worksheet!$D$14,-1,0),0),IF(I688=2,H688*10^RANDBETWEEN(RANDBETWEEN(0,2),2),CHOOSE(RANDBETWEEN(1,3),5,10,20)))","v":10},{"$f":"IF(I688=1,D688,IF(I688=3,\"%\",\"mm\"))","v":"mm"},1,{"$f":"IF(AND(Worksheet!$D$12,RAND()<0.2),3,IF(RAND()<Worksheet!$D$10/100,1,2))","v":2},0.01," m",10,"mm"]
[{"$f":"IF(COUNTIF($B$1:B689,TRUE)=COUNTIF($B$1:B688,TRUE),\"\",COUNTIF($B$1:B689,TRUE))","v":536},{"$f":"Worksheet!$D$20","v":true},{"$f":"RANDBETWEEN(5,RANDBETWEEN(5,Worksheet!$D$8))","v":5},"kg","±",{"$f":"IF(I689=1,H689*10^RANDBETWEEN(IF(Worksheet!$D$14,-1,0),0),IF(I689=2,H689*10^RANDBETWEEN(RANDBETWEEN(0,2),2),CHOOSE(RANDBETWEEN(1,3),5,10,20)))","v":2},{"$f":"IF(I689=1,D689,IF(I689=3,\"%\",\"g\"))","v":"kg"},{"$f":"RANDBETWEEN(1,MIN(9,C689))","v":2},{"$f":"IF(AND(Worksheet!$D$12,RAND()<0.2),3,IF(RAND()<Worksheet!$D$10/100,1,2))","v":1},2,{"$f":"CONCATENATE(\" \",D689)","v":" kg"},2000,"g"]
[{"$f":"IF(COUNTIF($B$1:B690,TRUE)=COUNTIF($B$1:B689,TRUE),\"\",COUNTIF($B$1:B690,TRUE))","v":537},{"$f":"Worksheet!$D$22","v":true},{"$f":"RANDBETWEEN(5,RANDBETWEEN(5,Worksheet!$D$8))","v":36},"tonnes","±",{"$f":"IF(I690=1,H690*10^RANDBETWEEN(IF(Worksheet!$D$14,-1,0),0),IF(I690=2,H690*10^RANDBETWEEN(RANDBETWEEN(0,2),2),CHOOSE(RANDBETWEEN(1,3),5,10,20)))","v":600},{"$f":"IF(I690=1,D690,IF(I690=3,\"%\",\"kg\"))","v":"kg"},{"$f":"RANDBETWEEN(1,MIN(9,C690))","v":6},{"$f":"IF(AND(Worksheet!$D$12,RAND()<0.2),3,IF(RAND()<Worksheet!$D$10/100,1,2))","v":2},0.6,{"$f":"CONCATENATE(\" \",D690)","v":" tonnes"},600,"kg"]
[{"$f":"IF(COUNTIF($B$1:B691,TRUE)=COUNTIF($B$1:B690,TRUE),\"\",COUNTIF($B$1:B691,TRUE))","v":538},{"$f":"Worksheet!$D$24","v":true},{"$f":"RANDBETWEEN(5,RANDBETWEEN(5,Worksheet!$D$8))","v":24},"litres","±",{"$f":"IF(I691=1,H691*10^RANDBETWEEN(IF(Worksheet!$D$14,-1,0),0),IF(I691=2,H691*10^RANDBETWEEN(RANDBETWEEN(0,2),2),CHOOSE(RANDBETWEEN(1,3),5,10,20)))","v":1},{"$f":"IF(I691=1,D691,IF(I691=3,\"%\",\"ml\"))","v":"litres"},{"$f":"RANDBETWEEN(1,MIN(9,C691))","v":1},{"$f":"IF(AND(Worksheet!$D$12,RAND()<0.2),3,IF(RAND()<Worksheet!$D$10/100,1,2))","v":1},1,{"$f":"CONCATENATE(\" \",D691)","v":" litres"},1000,"ml"]
[{"$f":"IF(COUNTIF($B$1:B692,TRUE)=COUNTIF($B$1:B691,TRUE),\"\",COUNTIF($B$1:B692,TRUE))","v":""},{"$f":"Worksheet!$D$26","v":false},{"$f":"RANDBETWEEN(5,RANDBETWEEN(5,Worksheet!$D$8))","v":9},"litres","±",{"$f":"IF(I692=1,H692*10^RANDBETWEEN(IF(Worksheet!$D$14,-1,0),0),IF(I692=2,H692*10^RANDBETWEEN(RANDBETWEEN(0,2),2),CHOOSE(RANDBETWEEN(1,3),5,10,20)))","v":900},{"$f":"IF(I692=1,D692,IF(I692=3,\"%\",\"cm³\"))","v":"cm³"},{"$f":"RANDBETWEEN(1,MIN(9,C692))","v":9},{"$f":"IF(AND(Worksheet!$D$12,RAND()<0.2),3,IF(RAND()<Worksheet!$D$10/100,1,2))","v":2},0.9,{"$f":"CONCATENATE(\" \",D692)","v":" litres"},900,"cm³"]
[{"$f":"IF(COUNTIF($B$1:B693,TRUE)=COUNTIF($B$1:B693,TRUE),\"\",COUNTIF($B$1:B693,TRUE))","v":""},{"$f":"Worksheet!$B$28","v":true},{"$f":"RANDBETWEEN(5,20)","v":20},"°C","±",{"$f":"IF(I693=1,H693*10^RANDBETWEEN(IF(Worksheet!$D$14,-1,0),0),IF(I693=2,H693,CHOOSE(RANDBETWEEN(1,3),5,10,20)))","v":1},{"$f":"IF(I693=1,D693,IF(I693=3,\"%\",\"sec\"))","v":"°C"},{"$f":"RANDBETWEEN(1,MIN(9,C693))","v":1},{"$f":"IF(AND(Worksheet!$D$12,RAND()<0),3,IF(RAND()<Worksheet!$D$10/100,1,2))","v":1},{"$f":"IF(I693=1,F693,IF(I693=2,F693,IF(I693=3,F693/100*C693,\"\")))","v":1},{"$f":"CONCATENATE(\" \",D693)","v":" °C"},{"$f":"IF(I693=1,F693,IF(I693=2,F693,IF(I693=3,F693/100*C693,\"\")))","v":1}," °C"]
[{"$f":"COUNTIF($B$1:B694,TRUE)","v":540},{"$f":"Worksheet!$B$20","v":true},{"$f":"RANDBETWEEN(5,RANDBETWEEN(5,Worksheet!$D$8))","v":111},"cm","±",{"$f":"IF(I694=1,H694*10^RANDBETWEEN(IF(Worksheet!$D$14,-1,0),0),IF(I694=2,H694,CHOOSE(RANDBETWEEN(1,3),5,10,20)))","v":6},{"$f":"IF(I694=1,D694,IF(I694=3,\"%\",\"mm\"))","v":"cm"},{"$f":"RANDBETWEEN(1,MIN(9,C694))","v":6},{"$f":"IF(AND(Worksheet!$D$12,RAND()<0.2),3,IF(RAND()<Worksheet!$D$10/100,1,2))","v":1},{"$f":"IF(I694=1,F694,IF(I694=2,F694/10,IF(I694=3,F694/100*C694,\"\")))","v":6},{"$f":"CONCATENATE(\" \",D694)","v":" cm"},{"$f":"IF(I694=1,F694*10,IF(I694=2,F694,IF(I694=3,F694/100*C694*10,\"\")))","v":60},"mm"]
[{"$f":"IF(COUNTIF($B$1:B695,TRUE)=COUNTIF($B$1:B694,TRUE),\"\",COUNTIF($B$1:B695,TRUE))","v":541},{"$f":"Worksheet!$B$22","v":true},{"$f":"RANDBETWEEN(5,RANDBETWEEN(5,Worksheet!$D$8))","v":47},"m","±",{"$f":"IF(I695=1,H695*10^RANDBETWEEN(IF(Worksheet!$D$14,-1,0),0),IF(I695=2,H695*10^RANDBETWEEN(RANDBETWEEN(0,1),1),CHOOSE(RANDBETWEEN(1,3),5,10,20)))","v":6},{"$f":"IF(I695=1,D695,IF(I695=3,\"%\",\"cm\"))","v":"m"},{"$f":"RANDBETWEEN(1,MIN(9,C695))","v":6},{"$f":"IF(AND(Worksheet!$D$12,RAND()<0.2),3,IF(RAND()<Worksheet!$D$10/100,1,2))","v":1},{"$f":"IF(I695=1,F695,IF(I695=2,F695/100,IF(I695=3,F695/100*C695,\"\")))","v":6},{"$f":"CONCATENATE(\" \",D695)","v":" m"},{"$f":"IF(I695=1,F695*100,IF(I695=2,F695,IF(I695=3,F695/100*C695*100,\"\")))","v":600},"cm"]
[{"$f":"IF(COUNTIF($B$1:B696,TRUE)=COUNTIF($B$1:B695,TRUE),\"\",COUNTIF($B$1:B696,TRUE))","v":542},{"$f":"Worksheet!$B$24","v":true},{"$f":"RANDBETWEEN(5,RANDBETWEEN(5,Worksheet!$D$8))","v":26},"km","±",{"$f":"IF(I696=1,H696*10^RANDBETWEEN(IF(Worksheet!$D$14,-1,0),0),IF(I696=2,H696*10^RANDBETWEEN(RANDBETWEEN(0,2),2),CHOOSE(RANDBETWEEN(1,3),5,10,20)))","v":6},{"$f":"IF(I696=1,D696,IF(I696=3,\"%\",\"m\"))","v":"km"},6,{"$f":"IF(AND(Worksheet!$D$12,RAND()<0.2),3,IF(RAND()<Worksheet!$D$10/100,1,2))","v":1},{"$f":"IF(I696=1,F696,IF(I696=2,F696/1000,IF(I696=3,F696/100*C696,\"\")))","v":6}," km",{"$f":"IF(I696=1,F696*1000,IF(I696=2,F696,IF(I696=3,F696/100*C696*1000,\"\")))","v":6000},"m"]
[{"$f":"IF(COUNTIF($B$1:B697,TRUE)=COUNTIF($B$1:B696,TRUE),\"\",COUNTIF($B$1:B697,TRUE))","v":""},{"$f":"Worksheet!$B$26","v":false},{"$f":"RANDBETWEEN(5,RANDBETWEEN(5,Worksheet!$D$8))","v":5},"m","±",{"$f":"IF(I697=1,H697*10^RANDBETWEEN(IF(Worksheet!$D$14,-1,0),0),IF(I697=2,H697*10^RANDBETWEEN(RANDBETWEEN(0,2),2),CHOOSE(RANDBETWEEN(1,3),5,10,20)))","v":0.30000000000000004},{"$f":"IF(I697=1,D697,IF(I697=3,\"%\",\"mm\"))","v":"m"},3,{"$f":"IF(AND(Worksheet!$D$12,RAND()<0.2),3,IF(RAND()<Worksheet!$D$10/100,1,2))","v":1},0.30000000000000004," m",300.00000000000006,"mm"]
[{"$f":"IF(COUNTIF($B$1:B698,TRUE)=COUNTIF($B$1:B697,TRUE),\"\",COUNTIF($B$1:B698,TRUE))","v":543},{"$f":"Worksheet!$D$20","v":true},{"$f":"RANDBETWEEN(5,RANDBETWEEN(5,Worksheet!$D$8))","v":9},"kg","±",{"$f":"IF(I698=1,H698*10^RANDBETWEEN(IF(Worksheet!$D$14,-1,0),0),IF(I698=2,H698*10^RANDBETWEEN(RANDBETWEEN(0,2),2),CHOOSE(RANDBETWEEN(1,3),5,10,20)))","v":7},{"$f":"IF(I698=1,D698,IF(I698=3,\"%\",\"g\"))","v":"kg"},{"$f":"RANDBETWEEN(1,MIN(9,C698))","v":7},{"$f":"IF(AND(Worksheet!$D$12,RAND()<0.2),3,IF(RAND()<Worksheet!$D$10/100,1,2))","v":1},7,{"$f":"CONCATENATE(\" \",D698)","v":" kg"},7000,"g"]
[{"$f":"IF(COUNTIF($B$1:B699,TRUE)=COUNTIF($B$1:B698,TRUE),\"\",COUNTIF($B$1:B699,TRUE))","v":544},{"$f":"Worksheet!$D$22","v":true},{"$f":"RANDBETWEEN(5,RANDBETWEEN(5,Worksheet!$D$8))","v":53},"tonnes","±",{"$f":"IF(I699=1,H699*10^RANDBETWEEN(IF(Worksheet!$D$14,-1,0),0),IF(I699=2,H699*10^RANDBETWEEN(RANDBETWEEN(0,2),2),CHOOSE(RANDBETWEEN(1,3),5,10,20)))","v":4},{"$f":"IF(I699=1,D699,IF(I699=3,\"%\",\"kg\"))","v":"tonnes"},{"$f":"RANDBETWEEN(1,MIN(9,C699))","v":4},{"$f":"IF(AND(Worksheet!$D$12,RAND()<0.2),3,IF(RAND()<Worksheet!$D$10/100,1,2))","v":1},4,{"$f":"CONCATENATE(\" \",D699)","v":" tonnes"},4000,"kg"]
[{"$f":"IF(COUNTIF($B$1:B700,TRUE)=COUNTIF($B$1:B699,TRUE),\"\",COUNTIF($B$1:B700,TRUE))","v":545},{"$f":"Worksheet!$D$24","v":true},{"$f":"RANDBETWEEN(5,RANDBETWEEN(5,Worksheet!$D$8))","v":55},"litres","±",{"$f":"IF(I700=1,H700*10^RANDBETWEEN(IF(Worksheet!$D$14,-1,0),0),IF(I700=2,H700*10^RANDBETWEEN(RANDBETWEEN(0,2),2),CHOOSE(RANDBETWEEN(1,3),5,10,20)))","v":5},{"$f":"IF(I700=1,D700,IF(I700=3,\"%\",\"ml\"))","v":"%"},{"$f":"RANDBETWEEN(1,MIN(9,C700))","v":4},{"$f":"IF(AND(Worksheet!$D$12,RAND()<0.2),3,IF(RAND()<Worksheet!$D$10/100,1,2))","v":3},2.75,{"$f":"CONCATENATE(\" \",D700)","v":" litres"},2750,"ml"]
[{"$f":"IF(COUNTIF($B$1:B701,TRUE)=COUNTIF($B$1:B700,TRUE),\"\",COUNTIF($B$1:B701,TRUE))","v":""},{"$f":"Worksheet!$D$26","v":false},{"$f":"RANDBETWEEN(5,RANDBETWEEN(5,Worksheet!$D$8))","v":32},"litres","±",{"$f":"IF(I701=1,H701*10^RANDBETWEEN(IF(Worksheet!$D$14,-1,0),0),IF(I701=2,H701*10^RANDBETWEEN(RANDBETWEEN(0,2),2),CHOOSE(RANDBETWEEN(1,3),5,10,20)))","v":50},{"$f":"IF(I701=1,D701,IF(I701=3,\"%\",\"cm³\"))","v":"cm³"},{"$f":"RANDBETWEEN(1,MIN(9,C701))","v":5},{"$f":"IF(AND(Worksheet!$D$12,RAND()<0.2),3,IF(RAND()<Worksheet!$D$10/100,1,2))","v":2},0.05,{"$f":"CONCATENATE(\" \",D701)","v":" litres"},50,"cm³"]
[{"$f":"IF(COUNTIF($B$1:B702,TRUE)=COUNTIF($B$1:B702,TRUE),\"\",COUNTIF($B$1:B702,TRUE))","v":""},{"$f":"Worksheet!$B$28","v":true},{"$f":"RANDBETWEEN(5,20)","v":7},"°C","±",{"$f":"IF(I702=1,H702*10^RANDBETWEEN(IF(Worksheet!$D$14,-1,0),0),IF(I702=2,H702,CHOOSE(RANDBETWEEN(1,3),5,10,20)))","v":3},{"$f":"IF(I702=1,D702,IF(I702=3,\"%\",\"sec\"))","v":"°C"},{"$f":"RANDBETWEEN(1,MIN(9,C702))","v":3},{"$f":"IF(AND(Worksheet!$D$12,RAND()<0),3,IF(RAND()<Worksheet!$D$10/100,1,2))","v":1},{"$f":"IF(I702=1,F702,IF(I702=2,F702,IF(I702=3,F702/100*C702,\"\")))","v":3},{"$f":"CONCATENATE(\" \",D702)","v":" °C"},{"$f":"IF(I702=1,F702,IF(I702=2,F702,IF(I702=3,F702/100*C702,\"\")))","v":3}," °C"]
[{"$f":"COUNTIF($B$1:B703,TRUE)","v":547},{"$f":"Worksheet!$B$20","v":true},{"$f":"RANDBETWEEN(5,RANDBETWEEN(5,Worksheet!$D$8))","v":7},"cm","±",{"$f":"IF(I703=1,H703*10^RANDBETWEEN(IF(Worksheet!$D$14,-1,0),0),IF(I703=2,H703,CHOOSE(RANDBETWEEN(1,3),5,10,20)))","v":0.4},{"$f":"IF(I703=1,D703,IF(I703=3,\"%\",\"mm\"))","v":"cm"},{"$f":"RANDBETWEEN(1,MIN(9,C703))","v":4},{"$f":"IF(AND(Worksheet!$D$12,RAND()<0.2),3,IF(RAND()<Worksheet!$D$10/100,1,2))","v":1},{"$f":"IF(I703=1,F703,IF(I703=2,F703/10,IF(I703=3,F703/100*C703,\"\")))","v":0.4},{"$f":"CONCATENATE(\" \",D703)","v":" cm"},{"$f":"IF(I703=1,F703*10,IF(I703=2,F703,IF(I703=3,F703/100*C703*10,\"\")))","v":4},"mm"]
[{"$f":"IF(COUNTIF($B$1:B704,TRUE)=COUNTIF($B$1:B703,TRUE),\"\",COUNTIF($B$1:B704,TRUE))","v":548},{"$f":"Worksheet!$B$22","v":true},{"$f":"RANDBETWEEN(5,RANDBETWEEN(5,Worksheet!$D$8))","v":32},"m","±",{"$f":"IF(I704=1,H704*10^RANDBETWEEN(IF(Worksheet!$D$14,-1,0),0),IF(I704=2,H704*10^RANDBETWEEN(RANDBETWEEN(0,1),1),CHOOSE(RANDBETWEEN(1,3),5,10,20)))","v":1},{"$f":"IF(I704=1,D704,IF(I704=3,\"%\",\"cm\"))","v":"m"},{"$f":"RANDBETWEEN(1,MIN(9,C704))","v":1},{"$f":"IF(AND(Worksheet!$D$12,RAND()<0.2),3,IF(RAND()<Worksheet!$D$10/100,1,2))","v":1},{"$f":"IF(I704=1,F704,IF(I704=2,F704/100,IF(I704=3,F704/100*C704,\"\")))","v":1},{"$f":"CONCATENATE(\" \",D704)","v":" m"},{"$f":"IF(I704=1,F704*100,IF(I704=2,F704,IF(I704=3,F704/100*C704*100,\"\")))","v":100},"cm"]
[{"$f":"IF(COUNTIF($B$1:B705,TRUE)=COUNTIF($B$1:B704,TRUE),\"\",COUNTIF($B$1:B705,TRUE))","v":549},{"$f":"Worksheet!$B$24","v":true},{"$f":"RANDBETWEEN(5,RANDBETWEEN(5,Worksheet!$D$8))","v":18},"km","±",{"$f":"IF(I705=1,H705*10^RANDBETWEEN(IF(Worksheet!$D$14,-1,0),0),IF(I705=2,H705*10^RANDBETWEEN(RANDBETWEEN(0,2),2),CHOOSE(RANDBETWEEN(1,3),5,10,20)))","v":8},{"$f":"IF(I705=1,D705,IF(I705=3,\"%\",\"m\"))","v":"km"},8,{"$f":"IF(AND(Worksheet!$D$12,RAND()<0.2),3,IF(RAND()<Worksheet!$D$10/100,1,2))","v":1},{"$f":"IF(I705=1,F705,IF(I705=2,F705/1000,IF(I705=3,F705/100*C705,\"\")))","v":8}," km",{"$f":"IF(I705=1,F705*1000,IF(I705=2,F705,IF(I705=3,F705/100*C705*1000,\"\")))","v":8000},"m"]
[{"$f":"IF(COUNTIF($B$1:B706,TRUE)=COUNTIF($B$1:B705,TRUE),\"\",COUNTIF($B$1:B706,TRUE))","v":""},{"$f":"Worksheet!$B$26","v":false},{"$f":"RANDBETWEEN(5,RANDBETWEEN(5,Worksheet!$D$8))","v":18},"m","±",{"$f":"IF(I706=1,H706*10^RANDBETWEEN(IF(Worksheet!$D$14,-1,0),0),IF(I706=2,H706*10^RANDBETWEEN(RANDBETWEEN(0,2),2),CHOOSE(RANDBETWEEN(1,3),5,10,20)))","v":0.30000000000000004},{"$f":"IF(I706=1,D706,IF(I706=3,\"%\",\"mm\"))","v":"m"},3,{"$f":"IF(AND(Worksheet!$D$12,RAND()<0.2),3,IF(RAND()<Worksheet!$D$10/100,1,2))","v":1},0.30000000000000004," m",300.00000000000006,"mm"]
[{"$f":"IF(COUNTIF($B$1:B707,TRUE)=COUNTIF($B$1:B706,TRUE),\"\",COUNTIF($B$1:B707,TRUE))","v":550},{"$f":"Worksheet!$D$20","v":true},{"$f":"RANDBETWEEN(5,RANDBETWEEN(5,Worksheet!$D$8))","v":87},"kg","±",{"$f":"IF(I707=1,H707*10^RANDBETWEEN(IF(Worksheet!$D$14,-1,0),0),IF(I707=2,H707*10^RANDBETWEEN(RANDBETWEEN(0,2),2),CHOOSE(RANDBETWEEN(1,3),5,10,20)))","v":0.5},{"$f":"IF(I707=1,D707,IF(I707=3,\"%\",\"g\"))","v":"kg"},{"$f":"RANDBETWEEN(1,MIN(9,C707))","v":5},{"$f":"IF(AND(Worksheet!$D$12,RAND()<0.2),3,IF(RAND()<Worksheet!$D$10/100,1,2))","v":1},0.5,{"$f":"CONCATENATE(\" \",D707)","v":" kg"},500,"g"]
[{"$f":"IF(COUNTIF($B$1:B708,TRUE)=COUNTIF($B$1:B707,TRUE),\"\",COUNTIF($B$1:B708,TRUE))","v":551},{"$f":"Worksheet!$D$22","v":true},{"$f":"RANDBETWEEN(5,RANDBETWEEN(5,Worksheet!$D$8))","v":177},"tonnes","±",{"$f":"IF(I708=1,H708*10^RANDBETWEEN(IF(Worksheet!$D$14,-1,0),0),IF(I708=2,H708*10^RANDBETWEEN(RANDBETWEEN(0,2),2),CHOOSE(RANDBETWEEN(1,3),5,10,20)))","v":5},{"$f":"IF(I708=1,D708,IF(I708=3,\"%\",\"kg\"))","v":"%"},{"$f":"RANDBETWEEN(1,MIN(9,C708))","v":5},{"$f":"IF(AND(Worksheet!$D$12,RAND()<0.2),3,IF(RAND()<Worksheet!$D$10/100,1,2))","v":3},8.85,{"$f":"CONCATENATE(\" \",D708)","v":" tonnes"},8850,"kg"]
[{"$f":"IF(COUNTIF($B$1:B709,TRUE)=COUNTIF($B$1:B708,TRUE),\"\",COUNTIF($B$1:B709,TRUE))","v":552},{"$f":"Worksheet!$D$24","v":true},{"$f":"RANDBETWEEN(5,RANDBETWEEN(5,Worksheet!$D$8))","v":29},"litres","±",{"$f":"IF(I709=1,H709*10^RANDBETWEEN(IF(Worksheet!$D$14,-1,0),0),IF(I709=2,H709*10^RANDBETWEEN(RANDBETWEEN(0,2),2),CHOOSE(RANDBETWEEN(1,3),5,10,20)))","v":300},{"$f":"IF(I709=1,D709,IF(I709=3,\"%\",\"ml\"))","v":"ml"},{"$f":"RANDBETWEEN(1,MIN(9,C709))","v":3},{"$f":"IF(AND(Worksheet!$D$12,RAND()<0.2),3,IF(RAND()<Worksheet!$D$10/100,1,2))","v":2},0.3,{"$f":"CONCATENATE(\" \",D709)","v":" litres"},300,"ml"]
[{"$f":"IF(COUNTIF($B$1:B710,TRUE)=COUNTIF($B$1:B709,TRUE),\"\",COUNTIF($B$1:B710,TRUE))","v":""},{"$f":"Worksheet!$D$26","v":false},{"$f":"RANDBETWEEN(5,RANDBETWEEN(5,Worksheet!$D$8))","v":38},"litres","±",{"$f":"IF(I710=1,H710*10^RANDBETWEEN(IF(Worksheet!$D$14,-1,0),0),IF(I710=2,H710*10^RANDBETWEEN(RANDBETWEEN(0,2),2),CHOOSE(RANDBETWEEN(1,3),5,10,20)))","v":10},{"$f":"IF(I710=1,D710,IF(I710=3,\"%\",\"cm³\"))","v":"%"},{"$f":"RANDBETWEEN(1,MIN(9,C710))","v":2},{"$f":"IF(AND(Worksheet!$D$12,RAND()<0.2),3,IF(RAND()<Worksheet!$D$10/100,1,2))","v":3},3.8000000000000003,{"$f":"CONCATENATE(\" \",D710)","v":" litres"},3800.0000000000005,"cm³"]
[{"$f":"IF(COUNTIF($B$1:B711,TRUE)=COUNTIF($B$1:B711,TRUE),\"\",COUNTIF($B$1:B711,TRUE))","v":""},{"$f":"Worksheet!$B$28","v":true},{"$f":"RANDBETWEEN(5,20)","v":14},"°C","±",{"$f":"IF(I711=1,H711*10^RANDBETWEEN(IF(Worksheet!$D$14,-1,0),0),IF(I711=2,H711,CHOOSE(RANDBETWEEN(1,3),5,10,20)))","v":7},{"$f":"IF(I711=1,D711,IF(I711=3,\"%\",\"sec\"))","v":"°C"},{"$f":"RANDBETWEEN(1,MIN(9,C711))","v":7},{"$f":"IF(AND(Worksheet!$D$12,RAND()<0),3,IF(RAND()<Worksheet!$D$10/100,1,2))","v":1},{"$f":"IF(I711=1,F711,IF(I711=2,F711,IF(I711=3,F711/100*C711,\"\")))","v":7},{"$f":"CONCATENATE(\" \",D711)","v":" °C"},{"$f":"IF(I711=1,F711,IF(I711=2,F711,IF(I711=3,F711/100*C711,\"\")))","v":7}," °C"]
[{"$f":"COUNTIF($B$1:B712,TRUE)","v":554},{"$f":"Worksheet!$B$20","v":true},{"$f":"RANDBETWEEN(5,RANDBETWEEN(5,Worksheet!$D$8))","v":34},"cm","±",{"$f":"IF(I712=1,H712*10^RANDBETWEEN(IF(Worksheet!$D$14,-1,0),0),IF(I712=2,H712,CHOOSE(RANDBETWEEN(1,3),5,10,20)))","v":3},{"$f":"IF(I712=1,D712,IF(I712=3,\"%\",\"mm\"))","v":"cm"},{"$f":"RANDBETWEEN(1,MIN(9,C712))","v":3},{"$f":"IF(AND(Worksheet!$D$12,RAND()<0.2),3,IF(RAND()<Worksheet!$D$10/100,1,2))","v":1},{"$f":"IF(I712=1,F712,IF(I712=2,F712/10,IF(I712=3,F712/100*C712,\"\")))","v":3},{"$f":"CONCATENATE(\" \",D712)","v":" cm"},{"$f":"IF(I712=1,F712*10,IF(I712=2,F712,IF(I712=3,F712/100*C712*10,\"\")))","v":30},"mm"]
[{"$f":"IF(COUNTIF($B$1:B713,TRUE)=COUNTIF($B$1:B712,TRUE),\"\",COUNTIF($B$1:B713,TRUE))","v":555},{"$f":"Worksheet!$B$22","v":true},{"$f":"RANDBETWEEN(5,RANDBETWEEN(5,Worksheet!$D$8))","v":113},"m","±",{"$f":"IF(I713=1,H713*10^RANDBETWEEN(IF(Worksheet!$D$14,-1,0),0),IF(I713=2,H713*10^RANDBETWEEN(RANDBETWEEN(0,1),1),CHOOSE(RANDBETWEEN(1,3),5,10,20)))","v":0.5},{"$f":"IF(I713=1,D713,IF(I713=3,\"%\",\"cm\"))","v":"m"},{"$f":"RANDBETWEEN(1,MIN(9,C713))","v":5},{"$f":"IF(AND(Worksheet!$D$12,RAND()<0.2),3,IF(RAND()<Worksheet!$D$10/100,1,2))","v":1},{"$f":"IF(I713=1,F713,IF(I713=2,F713/100,IF(I713=3,F713/100*C713,\"\")))","v":0.5},{"$f":"CONCATENATE(\" \",D713)","v":" m"},{"$f":"IF(I713=1,F713*100,IF(I713=2,F713,IF(I713=3,F713/100*C713*100,\"\")))","v":50},"cm"]
[{"$f":"IF(COUNTIF($B$1:B714,TRUE)=COUNTIF($B$1:B713,TRUE),\"\",COUNTIF($B$1:B714,TRUE))","v":556},{"$f":"Worksheet!$B$24","v":true},{"$f":"RANDBETWEEN(5,RANDBETWEEN(5,Worksheet!$D$8))","v":71},"km","±",{"$f":"IF(I714=1,H714*10^RANDBETWEEN(IF(Worksheet!$D$14,-1,0),0),IF(I714=2,H714*10^RANDBETWEEN(RANDBETWEEN(0,2),2),CHOOSE(RANDBETWEEN(1,3),5,10,20)))","v":20},{"$f":"IF(I714=1,D714,IF(I714=3,\"%\",\"m\"))","v":"%"},2,{"$f":"IF(AND(Worksheet!$D$12,RAND()<0.2),3,IF(RAND()<Worksheet!$D$10/100,1,2))","v":3},{"$f":"IF(I714=1,F714,IF(I714=2,F714/1000,IF(I714=3,F714/100*C714,\"\")))","v":14.200000000000001}," km",{"$f":"IF(I714=1,F714*1000,IF(I714=2,F714,IF(I714=3,F714/100*C714*1000,\"\")))","v":14200.000000000002},"m"]
[{"$f":"IF(COUNTIF($B$1:B715,TRUE)=COUNTIF($B$1:B714,TRUE),\"\",COUNTIF($B$1:B715,TRUE))","v":""},{"$f":"Worksheet!$B$26","v":false},{"$f":"RANDBETWEEN(5,RANDBETWEEN(5,Worksheet!$D$8))","v":41},"m","±",{"$f":"IF(I715=1,H715*10^RANDBETWEEN(IF(Worksheet!$D$14,-1,0),0),IF(I715=2,H715*10^RANDBETWEEN(RANDBETWEEN(0,2),2),CHOOSE(RANDBETWEEN(1,3),5,10,20)))","v":0.30000000000000004},{"$f":"IF(I715=1,D715,IF(I715=3,\"%\",\"mm\"))","v":"m"},3,{"$f":"IF(AND(Worksheet!$D$12,RAND()<0.2),3,IF(RAND()<Worksheet!$D$10/100,1,2))","v":1},0.30000000000000004," m",300.00000000000006,"mm"]
[{"$f":"IF(COUNTIF($B$1:B716,TRUE)=COUNTIF($B$1:B715,TRUE),\"\",COUNTIF($B$1:B716,TRUE))","v":557},{"$f":"Worksheet!$D$20","v":true},{"$f":"RANDBETWEEN(5,RANDBETWEEN(5,Worksheet!$D$8))","v":121},"kg","±",{"$f":"IF(I716=1,H716*10^RANDBETWEEN(IF(Worksheet!$D$14,-1,0),0),IF(I716=2,H716*10^RANDBETWEEN(RANDBETWEEN(0,2),2),CHOOSE(RANDBETWEEN(1,3),5,10,20)))","v":20},{"$f":"IF(I716=1,D716,IF(I716=3,\"%\",\"g\"))","v":"%"},{"$f":"RANDBETWEEN(1,MIN(9,C716))","v":7},{"$f":"IF(AND(Worksheet!$D$12,RAND()<0.2),3,IF(RAND()<Worksheet!$D$10/100,1,2))","v":3},24.200000000000003,{"$f":"CONCATENATE(\" \",D716)","v":" kg"},24200.000000000004,"g"]
[{"$f":"IF(COUNTIF($B$1:B717,TRUE)=COUNTIF($B$1:B716,TRUE),\"\",COUNTIF($B$1:B717,TRUE))","v":558},{"$f":"Worksheet!$D$22","v":true},{"$f":"RANDBETWEEN(5,RANDBETWEEN(5,Worksheet!$D$8))","v":32},"tonnes","±",{"$f":"IF(I717=1,H717*10^RANDBETWEEN(IF(Worksheet!$D$14,-1,0),0),IF(I717=2,H717*10^RANDBETWEEN(RANDBETWEEN(0,2),2),CHOOSE(RANDBETWEEN(1,3),5,10,20)))","v":4},{"$f":"IF(I717=1,D717,IF(I717=3,\"%\",\"kg\"))","v":"tonnes"},{"$f":"RANDBETWEEN(1,MIN(9,C717))","v":4},{"$f":"IF(AND(Worksheet!$D$12,RAND()<0.2),3,IF(RAND()<Worksheet!$D$10/100,1,2))","v":1},4,{"$f":"CONCATENATE(\" \",D717)","v":" tonnes"},4000,"kg"]
[{"$f":"IF(COUNTIF($B$1:B718,TRUE)=COUNTIF($B$1:B717,TRUE),\"\",COUNTIF($B$1:B718,TRUE))","v":559},{"$f":"Worksheet!$D$24","v":true},{"$f":"RANDBETWEEN(5,RANDBETWEEN(5,Worksheet!$D$8))","v":5},"litres","±",{"$f":"IF(I718=1,H718*10^RANDBETWEEN(IF(Worksheet!$D$14,-1,0),0),IF(I718=2,H718*10^RANDBETWEEN(RANDBETWEEN(0,2),2),CHOOSE(RANDBETWEEN(1,3),5,10,20)))","v":0.1},{"$f":"IF(I718=1,D718,IF(I718=3,\"%\",\"ml\"))","v":"litres"},{"$f":"RANDBETWEEN(1,MIN(9,C718))","v":1},{"$f":"IF(AND(Worksheet!$D$12,RAND()<0.2),3,IF(RAND()<Worksheet!$D$10/100,1,2))","v":1},0.1,{"$f":"CONCATENATE(\" \",D718)","v":" litres"},100,"ml"]
[{"$f":"IF(COUNTIF($B$1:B719,TRUE)=COUNTIF($B$1:B718,TRUE),\"\",COUNTIF($B$1:B719,TRUE))","v":""},{"$f":"Worksheet!$D$26","v":false},{"$f":"RANDBETWEEN(5,RANDBETWEEN(5,Worksheet!$D$8))","v":8},"litres","±",{"$f":"IF(I719=1,H719*10^RANDBETWEEN(IF(Worksheet!$D$14,-1,0),0),IF(I719=2,H719*10^RANDBETWEEN(RANDBETWEEN(0,2),2),CHOOSE(RANDBETWEEN(1,3),5,10,20)))","v":0.4},{"$f":"IF(I719=1,D719,IF(I719=3,\"%\",\"cm³\"))","v":"litres"},{"$f":"RANDBETWEEN(1,MIN(9,C719))","v":4},{"$f":"IF(AND(Worksheet!$D$12,RAND()<0.2),3,IF(RAND()<Worksheet!$D$10/100,1,2))","v":1},0.4,{"$f":"CONCATENATE(\" \",D719)","v":" litres"},400,"cm³"]
[{"$f":"IF(COUNTIF($B$1:B720,TRUE)=COUNTIF($B$1:B720,TRUE),\"\",COUNTIF($B$1:B720,TRUE))","v":""},{"$f":"Worksheet!$B$28","v":true},{"$f":"RANDBETWEEN(5,20)","v":17},"°C","±",{"$f":"IF(I720=1,H720*10^RANDBETWEEN(IF(Worksheet!$D$14,-1,0),0),IF(I720=2,H720,CHOOSE(RANDBETWEEN(1,3),5,10,20)))","v":0.9},{"$f":"IF(I720=1,D720,IF(I720=3,\"%\",\"sec\"))","v":"°C"},{"$f":"RANDBETWEEN(1,MIN(9,C720))","v":9},{"$f":"IF(AND(Worksheet!$D$12,RAND()<0),3,IF(RAND()<Worksheet!$D$10/100,1,2))","v":1},{"$f":"IF(I720=1,F720,IF(I720=2,F720,IF(I720=3,F720/100*C720,\"\")))","v":0.9},{"$f":"CONCATENATE(\" \",D720)","v":" °C"},{"$f":"IF(I720=1,F720,IF(I720=2,F720,IF(I720=3,F720/100*C720,\"\")))","v":0.9}," °C"]
[{"$f":"COUNTIF($B$1:B721,TRUE)","v":561},{"$f":"Worksheet!$B$20","v":true},{"$f":"RANDBETWEEN(5,RANDBETWEEN(5,Worksheet!$D$8))","v":50},"cm","±",{"$f":"IF(I721=1,H721*10^RANDBETWEEN(IF(Worksheet!$D$14,-1,0),0),IF(I721=2,H721,CHOOSE(RANDBETWEEN(1,3),5,10,20)))","v":0.9},{"$f":"IF(I721=1,D721,IF(I721=3,\"%\",\"mm\"))","v":"cm"},{"$f":"RANDBETWEEN(1,MIN(9,C721))","v":9},{"$f":"IF(AND(Worksheet!$D$12,RAND()<0.2),3,IF(RAND()<Worksheet!$D$10/100,1,2))","v":1},{"$f":"IF(I721=1,F721,IF(I721=2,F721/10,IF(I721=3,F721/100*C721,\"\")))","v":0.9},{"$f":"CONCATENATE(\" \",D721)","v":" cm"},{"$f":"IF(I721=1,F721*10,IF(I721=2,F721,IF(I721=3,F721/100*C721*10,\"\")))","v":9},"mm"]
[{"$f":"IF(COUNTIF($B$1:B722,TRUE)=COUNTIF($B$1:B721,TRUE),\"\",COUNTIF($B$1:B722,TRUE))","v":562},{"$f":"Worksheet!$B$22","v":true},{"$f":"RANDBETWEEN(5,RANDBETWEEN(5,Worksheet!$D$8))","v":131},"m","±",{"$f":"IF(I722=1,H722*10^RANDBETWEEN(IF(Worksheet!$D$14,-1,0),0),IF(I722=2,H722*10^RANDBETWEEN(RANDBETWEEN(0,1),1),CHOOSE(RANDBETWEEN(1,3),5,10,20)))","v":0.2},{"$f":"IF(I722=1,D722,IF(I722=3,\"%\",\"cm\"))","v":"m"},{"$f":"RANDBETWEEN(1,MIN(9,C722))","v":2},{"$f":"IF(AND(Worksheet!$D$12,RAND()<0.2),3,IF(RAND()<Worksheet!$D$10/100,1,2))","v":1},{"$f":"IF(I722=1,F722,IF(I722=2,F722/100,IF(I722=3,F722/100*C722,\"\")))","v":0.2},{"$f":"CONCATENATE(\" \",D722)","v":" m"},{"$f":"IF(I722=1,F722*100,IF(I722=2,F722,IF(I722=3,F722/100*C722*100,\"\")))","v":20},"cm"]
[{"$f":"IF(COUNTIF($B$1:B723,TRUE)=COUNTIF($B$1:B722,TRUE),\"\",COUNTIF($B$1:B723,TRUE))","v":563},{"$f":"Worksheet!$B$24","v":true},{"$f":"RANDBETWEEN(5,RANDBETWEEN(5,Worksheet!$D$8))","v":7},"km","±",{"$f":"IF(I723=1,H723*10^RANDBETWEEN(IF(Worksheet!$D$14,-1,0),0),IF(I723=2,H723*10^RANDBETWEEN(RANDBETWEEN(0,2),2),CHOOSE(RANDBETWEEN(1,3),5,10,20)))","v":5},{"$f":"IF(I723=1,D723,IF(I723=3,\"%\",\"m\"))","v":"km"},5,{"$f":"IF(AND(Worksheet!$D$12,RAND()<0.2),3,IF(RAND()<Worksheet!$D$10/100,1,2))","v":1},{"$f":"IF(I723=1,F723,IF(I723=2,F723/1000,IF(I723=3,F723/100*C723,\"\")))","v":5}," km",{"$f":"IF(I723=1,F723*1000,IF(I723=2,F723,IF(I723=3,F723/100*C723*1000,\"\")))","v":5000},"m"]
[{"$f":"IF(COUNTIF($B$1:B724,TRUE)=COUNTIF($B$1:B723,TRUE),\"\",COUNTIF($B$1:B724,TRUE))","v":""},{"$f":"Worksheet!$B$26","v":false},{"$f":"RANDBETWEEN(5,RANDBETWEEN(5,Worksheet!$D$8))","v":10},"m","±",{"$f":"IF(I724=1,H724*10^RANDBETWEEN(IF(Worksheet!$D$14,-1,0),0),IF(I724=2,H724*10^RANDBETWEEN(RANDBETWEEN(0,2),2),CHOOSE(RANDBETWEEN(1,3),5,10,20)))","v":900},{"$f":"IF(I724=1,D724,IF(I724=3,\"%\",\"mm\"))","v":"mm"},9,{"$f":"IF(AND(Worksheet!$D$12,RAND()<0.2),3,IF(RAND()<Worksheet!$D$10/100,1,2))","v":2},0.9," m",900,"mm"]
[{"$f":"IF(COUNTIF($B$1:B725,TRUE)=COUNTIF($B$1:B724,TRUE),\"\",COUNTIF($B$1:B725,TRUE))","v":564},{"$f":"Worksheet!$D$20","v":true},{"$f":"RANDBETWEEN(5,RANDBETWEEN(5,Worksheet!$D$8))","v":134},"kg","±",{"$f":"IF(I725=1,H725*10^RANDBETWEEN(IF(Worksheet!$D$14,-1,0),0),IF(I725=2,H725*10^RANDBETWEEN(RANDBETWEEN(0,2),2),CHOOSE(RANDBETWEEN(1,3),5,10,20)))","v":1},{"$f":"IF(I725=1,D725,IF(I725=3,\"%\",\"g\"))","v":"kg"},{"$f":"RANDBETWEEN(1,MIN(9,C725))","v":1},{"$f":"IF(AND(Worksheet!$D$12,RAND()<0.2),3,IF(RAND()<Worksheet!$D$10/100,1,2))","v":1},1,{"$f":"CONCATENATE(\" \",D725)","v":" kg"},1000,"g"]
[{"$f":"IF(COUNTIF($B$1:B726,TRUE)=COUNTIF($B$1:B725,TRUE),\"\",COUNTIF($B$1:B726,TRUE))","v":565},{"$f":"Worksheet!$D$22","v":true},{"$f":"RANDBETWEEN(5,RANDBETWEEN(5,Worksheet!$D$8))","v":23},"tonnes","±",{"$f":"IF(I726=1,H726*10^RANDBETWEEN(IF(Worksheet!$D$14,-1,0),0),IF(I726=2,H726*10^RANDBETWEEN(RANDBETWEEN(0,2),2),CHOOSE(RANDBETWEEN(1,3),5,10,20)))","v":2},{"$f":"IF(I726=1,D726,IF(I726=3,\"%\",\"kg\"))","v":"tonnes"},{"$f":"RANDBETWEEN(1,MIN(9,C726))","v":2},{"$f":"IF(AND(Worksheet!$D$12,RAND()<0.2),3,IF(RAND()<Worksheet!$D$10/100,1,2))","v":1},2,{"$f":"CONCATENATE(\" \",D726)","v":" tonnes"},2000,"kg"]
[{"$f":"IF(COUNTIF($B$1:B727,TRUE)=COUNTIF($B$1:B726,TRUE),\"\",COUNTIF($B$1:B727,TRUE))","v":566},{"$f":"Worksheet!$D$24","v":true},{"$f":"RANDBETWEEN(5,RANDBETWEEN(5,Worksheet!$D$8))","v":30},"litres","±",{"$f":"IF(I727=1,H727*10^RANDBETWEEN(IF(Worksheet!$D$14,-1,0),0),IF(I727=2,H727*10^RANDBETWEEN(RANDBETWEEN(0,2),2),CHOOSE(RANDBETWEEN(1,3),5,10,20)))","v":20},{"$f":"IF(I727=1,D727,IF(I727=3,\"%\",\"ml\"))","v":"%"},{"$f":"RANDBETWEEN(1,MIN(9,C727))","v":1},{"$f":"IF(AND(Worksheet!$D$12,RAND()<0.2),3,IF(RAND()<Worksheet!$D$10/100,1,2))","v":3},6,{"$f":"CONCATENATE(\" \",D727)","v":" litres"},6000,"ml"]
[{"$f":"IF(COUNTIF($B$1:B728,TRUE)=COUNTIF($B$1:B727,TRUE),\"\",COUNTIF($B$1:B728,TRUE))","v":""},{"$f":"Worksheet!$D$26","v":false},{"$f":"RANDBETWEEN(5,RANDBETWEEN(5,Worksheet!$D$8))","v":7},"litres","±",{"$f":"IF(I728=1,H728*10^RANDBETWEEN(IF(Worksheet!$D$14,-1,0),0),IF(I728=2,H728*10^RANDBETWEEN(RANDBETWEEN(0,2),2),CHOOSE(RANDBETWEEN(1,3),5,10,20)))","v":4},{"$f":"IF(I728=1,D728,IF(I728=3,\"%\",\"cm³\"))","v":"litres"},{"$f":"RANDBETWEEN(1,MIN(9,C728))","v":4},{"$f":"IF(AND(Worksheet!$D$12,RAND()<0.2),3,IF(RAND()<Worksheet!$D$10/100,1,2))","v":1},4,{"$f":"CONCATENATE(\" \",D728)","v":" litres"},4000,"cm³"]
[{"$f":"IF(COUNTIF($B$1:B729,TRUE)=COUNTIF($B$1:B729,TRUE),\"\",COUNTIF($B$1:B729,TRUE))","v":""},{"$f":"Worksheet!$B$28","v":true},{"$f":"RANDBETWEEN(5,20)","v":10},"°C","±",{"$f":"IF(I729=1,H729*10^RANDBETWEEN(IF(Worksheet!$D$14,-1,0),0),IF(I729=2,H729,CHOOSE(RANDBETWEEN(1,3),5,10,20)))","v":0.2},{"$f":"IF(I729=1,D729,IF(I729=3,\"%\",\"sec\"))","v":"°C"},{"$f":"RANDBETWEEN(1,MIN(9,C729))","v":2},{"$f":"IF(AND(Worksheet!$D$12,RAND()<0),3,IF(RAND()<Worksheet!$D$10/100,1,2))","v":1},{"$f":"IF(I729=1,F729,IF(I729=2,F729,IF(I729=3,F729/100*C729,\"\")))","v":0.2},{"$f":"CONCATENATE(\" \",D729)","v":" °C"},{"$f":"IF(I729=1,F729,IF(I729=2,F729,IF(I729=3,F729/100*C729,\"\")))","v":0.2}," °C"]
[{"$f":"COUNTIF($B$1:B730,TRUE)","v":568},{"$f":"Worksheet!$B$20","v":true},{"$f":"RANDBETWEEN(5,RANDBETWEEN(5,Worksheet!$D$8))","v":97},"cm","±",{"$f":"IF(I730=1,H730*10^RANDBETWEEN(IF(Worksheet!$D$14,-1,0),0),IF(I730=2,H730,CHOOSE(RANDBETWEEN(1,3),5,10,20)))","v":0.60000000000000009},{"$f":"IF(I730=1,D730,IF(I730=3,\"%\",\"mm\"))","v":"cm"},{"$f":"RANDBETWEEN(1,MIN(9,C730))","v":6},{"$f":"IF(AND(Worksheet!$D$12,RAND()<0.2),3,IF(RAND()<Worksheet!$D$10/100,1,2))","v":1},{"$f":"IF(I730=1,F730,IF(I730=2,F730/10,IF(I730=3,F730/100*C730,\"\")))","v":0.60000000000000009},{"$f":"CONCATENATE(\" \",D730)","v":" cm"},{"$f":"IF(I730=1,F730*10,IF(I730=2,F730,IF(I730=3,F730/100*C730*10,\"\")))","v":6.0000000000000009},"mm"]
[{"$f":"IF(COUNTIF($B$1:B731,TRUE)=COUNTIF($B$1:B730,TRUE),\"\",COUNTIF($B$1:B731,TRUE))","v":569},{"$f":"Worksheet!$B$22","v":true},{"$f":"RANDBETWEEN(5,RANDBETWEEN(5,Worksheet!$D$8))","v":10},"m","±",{"$f":"IF(I731=1,H731*10^RANDBETWEEN(IF(Worksheet!$D$14,-1,0),0),IF(I731=2,H731*10^RANDBETWEEN(RANDBETWEEN(0,1),1),CHOOSE(RANDBETWEEN(1,3),5,10,20)))","v":8},{"$f":"IF(I731=1,D731,IF(I731=3,\"%\",\"cm\"))","v":"m"},{"$f":"RANDBETWEEN(1,MIN(9,C731))","v":8},{"$f":"IF(AND(Worksheet!$D$12,RAND()<0.2),3,IF(RAND()<Worksheet!$D$10/100,1,2))","v":1},{"$f":"IF(I731=1,F731,IF(I731=2,F731/100,IF(I731=3,F731/100*C731,\"\")))","v":8},{"$f":"CONCATENATE(\" \",D731)","v":" m"},{"$f":"IF(I731=1,F731*100,IF(I731=2,F731,IF(I731=3,F731/100*C731*100,\"\")))","v":800},"cm"]
[{"$f":"IF(COUNTIF($B$1:B732,TRUE)=COUNTIF($B$1:B731,TRUE),\"\",COUNTIF($B$1:B732,TRUE))","v":570},{"$f":"Worksheet!$B$24","v":true},{"$f":"RANDBETWEEN(5,RANDBETWEEN(5,Worksheet!$D$8))","v":15},"km","±",{"$f":"IF(I732=1,H732*10^RANDBETWEEN(IF(Worksheet!$D$14,-1,0),0),IF(I732=2,H732*10^RANDBETWEEN(RANDBETWEEN(0,2),2),CHOOSE(RANDBETWEEN(1,3),5,10,20)))","v":3},{"$f":"IF(I732=1,D732,IF(I732=3,\"%\",\"m\"))","v":"km"},3,{"$f":"IF(AND(Worksheet!$D$12,RAND()<0.2),3,IF(RAND()<Worksheet!$D$10/100,1,2))","v":1},{"$f":"IF(I732=1,F732,IF(I732=2,F732/1000,IF(I732=3,F732/100*C732,\"\")))","v":3}," km",{"$f":"IF(I732=1,F732*1000,IF(I732=2,F732,IF(I732=3,F732/100*C732*1000,\"\")))","v":3000},"m"]
[{"$f":"IF(COUNTIF($B$1:B733,TRUE)=COUNTIF($B$1:B732,TRUE),\"\",COUNTIF($B$1:B733,TRUE))","v":""},{"$f":"Worksheet!$B$26","v":false},{"$f":"RANDBETWEEN(5,RANDBETWEEN(5,Worksheet!$D$8))","v":11},"m","±",{"$f":"IF(I733=1,H733*10^RANDBETWEEN(IF(Worksheet!$D$14,-1,0),0),IF(I733=2,H733*10^RANDBETWEEN(RANDBETWEEN(0,2),2),CHOOSE(RANDBETWEEN(1,3),5,10,20)))","v":20},{"$f":"IF(I733=1,D733,IF(I733=3,\"%\",\"mm\"))","v":"%"},1,{"$f":"IF(AND(Worksheet!$D$12,RAND()<0.2),3,IF(RAND()<Worksheet!$D$10/100,1,2))","v":3},2.2000000000000002," m",2200,"mm"]
[{"$f":"IF(COUNTIF($B$1:B734,TRUE)=COUNTIF($B$1:B733,TRUE),\"\",COUNTIF($B$1:B734,TRUE))","v":571},{"$f":"Worksheet!$D$20","v":true},{"$f":"RANDBETWEEN(5,RANDBETWEEN(5,Worksheet!$D$8))","v":30},"kg","±",{"$f":"IF(I734=1,H734*10^RANDBETWEEN(IF(Worksheet!$D$14,-1,0),0),IF(I734=2,H734*10^RANDBETWEEN(RANDBETWEEN(0,2),2),CHOOSE(RANDBETWEEN(1,3),5,10,20)))","v":0.8},{"$f":"IF(I734=1,D734,IF(I734=3,\"%\",\"g\"))","v":"kg"},{"$f":"RANDBETWEEN(1,MIN(9,C734))","v":8},{"$f":"IF(AND(Worksheet!$D$12,RAND()<0.2),3,IF(RAND()<Worksheet!$D$10/100,1,2))","v":1},0.8,{"$f":"CONCATENATE(\" \",D734)","v":" kg"},800,"g"]
[{"$f":"IF(COUNTIF($B$1:B735,TRUE)=COUNTIF($B$1:B734,TRUE),\"\",COUNTIF($B$1:B735,TRUE))","v":572},{"$f":"Worksheet!$D$22","v":true},{"$f":"RANDBETWEEN(5,RANDBETWEEN(5,Worksheet!$D$8))","v":13},"tonnes","±",{"$f":"IF(I735=1,H735*10^RANDBETWEEN(IF(Worksheet!$D$14,-1,0),0),IF(I735=2,H735*10^RANDBETWEEN(RANDBETWEEN(0,2),2),CHOOSE(RANDBETWEEN(1,3),5,10,20)))","v":20},{"$f":"IF(I735=1,D735,IF(I735=3,\"%\",\"kg\"))","v":"kg"},{"$f":"RANDBETWEEN(1,MIN(9,C735))","v":2},{"$f":"IF(AND(Worksheet!$D$12,RAND()<0.2),3,IF(RAND()<Worksheet!$D$10/100,1,2))","v":2},0.02,{"$f":"CONCATENATE(\" \",D735)","v":" tonnes"},20,"kg"]
[{"$f":"IF(COUNTIF($B$1:B736,TRUE)=COUNTIF($B$1:B735,TRUE),\"\",COUNTIF($B$1:B736,TRUE))","v":573},{"$f":"Worksheet!$D$24","v":true},{"$f":"RANDBETWEEN(5,RANDBETWEEN(5,Worksheet!$D$8))","v":13},"litres","±",{"$f":"IF(I736=1,H736*10^RANDBETWEEN(IF(Worksheet!$D$14,-1,0),0),IF(I736=2,H736*10^RANDBETWEEN(RANDBETWEEN(0,2),2),CHOOSE(RANDBETWEEN(1,3),5,10,20)))","v":0.1},{"$f":"IF(I736=1,D736,IF(I736=3,\"%\",\"ml\"))","v":"litres"},{"$f":"RANDBETWEEN(1,MIN(9,C736))","v":1},{"$f":"IF(AND(Worksheet!$D$12,RAND()<0.2),3,IF(RAND()<Worksheet!$D$10/100,1,2))","v":1},0.1,{"$f":"CONCATENATE(\" \",D736)","v":" litres"},100,"ml"]
[{"$f":"IF(COUNTIF($B$1:B737,TRUE)=COUNTIF($B$1:B736,TRUE),\"\",COUNTIF($B$1:B737,TRUE))","v":""},{"$f":"Worksheet!$D$26","v":false},{"$f":"RANDBETWEEN(5,RANDBETWEEN(5,Worksheet!$D$8))","v":7},"litres","±",{"$f":"IF(I737=1,H737*10^RANDBETWEEN(IF(Worksheet!$D$14,-1,0),0),IF(I737=2,H737*10^RANDBETWEEN(RANDBETWEEN(0,2),2),CHOOSE(RANDBETWEEN(1,3),5,10,20)))","v":40},{"$f":"IF(I737=1,D737,IF(I737=3,\"%\",\"cm³\"))","v":"cm³"},{"$f":"RANDBETWEEN(1,MIN(9,C737))","v":4},{"$f":"IF(AND(Worksheet!$D$12,RAND()<0.2),3,IF(RAND()<Worksheet!$D$10/100,1,2))","v":2},0.04,{"$f":"CONCATENATE(\" \",D737)","v":" litres"},40,"cm³"]
[{"$f":"IF(COUNTIF($B$1:B738,TRUE)=COUNTIF($B$1:B738,TRUE),\"\",COUNTIF($B$1:B738,TRUE))","v":""},{"$f":"Worksheet!$B$28","v":true},{"$f":"RANDBETWEEN(5,20)","v":9},"°C","±",{"$f":"IF(I738=1,H738*10^RANDBETWEEN(IF(Worksheet!$D$14,-1,0),0),IF(I738=2,H738,CHOOSE(RANDBETWEEN(1,3),5,10,20)))","v":0.8},{"$f":"IF(I738=1,D738,IF(I738=3,\"%\",\"sec\"))","v":"°C"},{"$f":"RANDBETWEEN(1,MIN(9,C738))","v":8},{"$f":"IF(AND(Worksheet!$D$12,RAND()<0),3,IF(RAND()<Worksheet!$D$10/100,1,2))","v":1},{"$f":"IF(I738=1,F738,IF(I738=2,F738,IF(I738=3,F738/100*C738,\"\")))","v":0.8},{"$f":"CONCATENATE(\" \",D738)","v":" °C"},{"$f":"IF(I738=1,F738,IF(I738=2,F738,IF(I738=3,F738/100*C738,\"\")))","v":0.8}," °C"]
[{"$f":"COUNTIF($B$1:B739,TRUE)","v":575},{"$f":"Worksheet!$B$20","v":true},{"$f":"RANDBETWEEN(5,RANDBETWEEN(5,Worksheet!$D$8))","v":47},"cm","±",{"$f":"IF(I739=1,H739*10^RANDBETWEEN(IF(Worksheet!$D$14,-1,0),0),IF(I739=2,H739,CHOOSE(RANDBETWEEN(1,3),5,10,20)))","v":0.9},{"$f":"IF(I739=1,D739,IF(I739=3,\"%\",\"mm\"))","v":"cm"},{"$f":"RANDBETWEEN(1,MIN(9,C739))","v":9},{"$f":"IF(AND(Worksheet!$D$12,RAND()<0.2),3,IF(RAND()<Worksheet!$D$10/100,1,2))","v":1},{"$f":"IF(I739=1,F739,IF(I739=2,F739/10,IF(I739=3,F739/100*C739,\"\")))","v":0.9},{"$f":"CONCATENATE(\" \",D739)","v":" cm"},{"$f":"IF(I739=1,F739*10,IF(I739=2,F739,IF(I739=3,F739/100*C739*10,\"\")))","v":9},"mm"]
[{"$f":"IF(COUNTIF($B$1:B740,TRUE)=COUNTIF($B$1:B739,TRUE),\"\",COUNTIF($B$1:B740,TRUE))","v":576},{"$f":"Worksheet!$B$22","v":true},{"$f":"RANDBETWEEN(5,RANDBETWEEN(5,Worksheet!$D$8))","v":11},"m","±",{"$f":"IF(I740=1,H740*10^RANDBETWEEN(IF(Worksheet!$D$14,-1,0),0),IF(I740=2,H740*10^RANDBETWEEN(RANDBETWEEN(0,1),1),CHOOSE(RANDBETWEEN(1,3),5,10,20)))","v":0.4},{"$f":"IF(I740=1,D740,IF(I740=3,\"%\",\"cm\"))","v":"m"},{"$f":"RANDBETWEEN(1,MIN(9,C740))","v":4},{"$f":"IF(AND(Worksheet!$D$12,RAND()<0.2),3,IF(RAND()<Worksheet!$D$10/100,1,2))","v":1},{"$f":"IF(I740=1,F740,IF(I740=2,F740/100,IF(I740=3,F740/100*C740,\"\")))","v":0.4},{"$f":"CONCATENATE(\" \",D740)","v":" m"},{"$f":"IF(I740=1,F740*100,IF(I740=2,F740,IF(I740=3,F740/100*C740*100,\"\")))","v":40},"cm"]
[{"$f":"IF(COUNTIF($B$1:B741,TRUE)=COUNTIF($B$1:B740,TRUE),\"\",COUNTIF($B$1:B741,TRUE))","v":577},{"$f":"Worksheet!$B$24","v":true},{"$f":"RANDBETWEEN(5,RANDBETWEEN(5,Worksheet!$D$8))","v":110},"km","±",{"$f":"IF(I741=1,H741*10^RANDBETWEEN(IF(Worksheet!$D$14,-1,0),0),IF(I741=2,H741*10^RANDBETWEEN(RANDBETWEEN(0,2),2),CHOOSE(RANDBETWEEN(1,3),5,10,20)))","v":0.2},{"$f":"IF(I741=1,D741,IF(I741=3,\"%\",\"m\"))","v":"km"},2,{"$f":"IF(AND(Worksheet!$D$12,RAND()<0.2),3,IF(RAND()<Worksheet!$D$10/100,1,2))","v":1},{"$f":"IF(I741=1,F741,IF(I741=2,F741/1000,IF(I741=3,F741/100*C741,\"\")))","v":0.2}," km",{"$f":"IF(I741=1,F741*1000,IF(I741=2,F741,IF(I741=3,F741/100*C741*1000,\"\")))","v":200},"m"]
[{"$f":"IF(COUNTIF($B$1:B742,TRUE)=COUNTIF($B$1:B741,TRUE),\"\",COUNTIF($B$1:B742,TRUE))","v":""},{"$f":"Worksheet!$B$26","v":false},{"$f":"RANDBETWEEN(5,RANDBETWEEN(5,Worksheet!$D$8))","v":81},"m","±",{"$f":"IF(I742=1,H742*10^RANDBETWEEN(IF(Worksheet!$D$14,-1,0),0),IF(I742=2,H742*10^RANDBETWEEN(RANDBETWEEN(0,2),2),CHOOSE(RANDBETWEEN(1,3),5,10,20)))","v":10},{"$f":"IF(I742=1,D742,IF(I742=3,\"%\",\"mm\"))","v":"%"},8,{"$f":"IF(AND(Worksheet!$D$12,RAND()<0.2),3,IF(RAND()<Worksheet!$D$10/100,1,2))","v":3},8.1," m",8100,"mm"]
[{"$f":"IF(COUNTIF($B$1:B743,TRUE)=COUNTIF($B$1:B742,TRUE),\"\",COUNTIF($B$1:B743,TRUE))","v":578},{"$f":"Worksheet!$D$20","v":true},{"$f":"RANDBETWEEN(5,RANDBETWEEN(5,Worksheet!$D$8))","v":117},"kg","±",{"$f":"IF(I743=1,H743*10^RANDBETWEEN(IF(Worksheet!$D$14,-1,0),0),IF(I743=2,H743*10^RANDBETWEEN(RANDBETWEEN(0,2),2),CHOOSE(RANDBETWEEN(1,3),5,10,20)))","v":10},{"$f":"IF(I743=1,D743,IF(I743=3,\"%\",\"g\"))","v":"%"},{"$f":"RANDBETWEEN(1,MIN(9,C743))","v":2},{"$f":"IF(AND(Worksheet!$D$12,RAND()<0.2),3,IF(RAND()<Worksheet!$D$10/100,1,2))","v":3},11.700000000000001,{"$f":"CONCATENATE(\" \",D743)","v":" kg"},11700.000000000002,"g"]
[{"$f":"IF(COUNTIF($B$1:B744,TRUE)=COUNTIF($B$1:B743,TRUE),\"\",COUNTIF($B$1:B744,TRUE))","v":579},{"$f":"Worksheet!$D$22","v":true},{"$f":"RANDBETWEEN(5,RANDBETWEEN(5,Worksheet!$D$8))","v":69},"tonnes","±",{"$f":"IF(I744=1,H744*10^RANDBETWEEN(IF(Worksheet!$D$14,-1,0),0),IF(I744=2,H744*10^RANDBETWEEN(RANDBETWEEN(0,2),2),CHOOSE(RANDBETWEEN(1,3),5,10,20)))","v":900},{"$f":"IF(I744=1,D744,IF(I744=3,\"%\",\"kg\"))","v":"kg"},{"$f":"RANDBETWEEN(1,MIN(9,C744))","v":9},{"$f":"IF(AND(Worksheet!$D$12,RAND()<0.2),3,IF(RAND()<Worksheet!$D$10/100,1,2))","v":2},0.9,{"$f":"CONCATENATE(\" \",D744)","v":" tonnes"},900,"kg"]
[{"$f":"IF(COUNTIF($B$1:B745,TRUE)=COUNTIF($B$1:B744,TRUE),\"\",COUNTIF($B$1:B745,TRUE))","v":580},{"$f":"Worksheet!$D$24","v":true},{"$f":"RANDBETWEEN(5,RANDBETWEEN(5,Worksheet!$D$8))","v":5},"litres","±",{"$f":"IF(I745=1,H745*10^RANDBETWEEN(IF(Worksheet!$D$14,-1,0),0),IF(I745=2,H745*10^RANDBETWEEN(RANDBETWEEN(0,2),2),CHOOSE(RANDBETWEEN(1,3),5,10,20)))","v":0.2},{"$f":"IF(I745=1,D745,IF(I745=3,\"%\",\"ml\"))","v":"litres"},{"$f":"RANDBETWEEN(1,MIN(9,C745))","v":2},{"$f":"IF(AND(Worksheet!$D$12,RAND()<0.2),3,IF(RAND()<Worksheet!$D$10/100,1,2))","v":1},0.2,{"$f":"CONCATENATE(\" \",D745)","v":" litres"},200,"ml"]
[{"$f":"IF(COUNTIF($B$1:B746,TRUE)=COUNTIF($B$1:B745,TRUE),\"\",COUNTIF($B$1:B746,TRUE))","v":""},{"$f":"Worksheet!$D$26","v":false},{"$f":"RANDBETWEEN(5,RANDBETWEEN(5,Worksheet!$D$8))","v":158},"litres","±",{"$f":"IF(I746=1,H746*10^RANDBETWEEN(IF(Worksheet!$D$14,-1,0),0),IF(I746=2,H746*10^RANDBETWEEN(RANDBETWEEN(0,2),2),CHOOSE(RANDBETWEEN(1,3),5,10,20)))","v":3},{"$f":"IF(I746=1,D746,IF(I746=3,\"%\",\"cm³\"))","v":"litres"},{"$f":"RANDBETWEEN(1,MIN(9,C746))","v":3},{"$f":"IF(AND(Worksheet!$D$12,RAND()<0.2),3,IF(RAND()<Worksheet!$D$10/100,1,2))","v":1},3,{"$f":"CONCATENATE(\" \",D746)","v":" litres"},3000,"cm³"]
[{"$f":"IF(COUNTIF($B$1:B747,TRUE)=COUNTIF($B$1:B747,TRUE),\"\",COUNTIF($B$1:B747,TRUE))","v":""},{"$f":"Worksheet!$B$28","v":true},{"$f":"RANDBETWEEN(5,20)","v":7},"°C","±",{"$f":"IF(I747=1,H747*10^RANDBETWEEN(IF(Worksheet!$D$14,-1,0),0),IF(I747=2,H747,CHOOSE(RANDBETWEEN(1,3),5,10,20)))","v":0.60000000000000009},{"$f":"IF(I747=1,D747,IF(I747=3,\"%\",\"sec\"))","v":"°C"},{"$f":"RANDBETWEEN(1,MIN(9,C747))","v":6},{"$f":"IF(AND(Worksheet!$D$12,RAND()<0),3,IF(RAND()<Worksheet!$D$10/100,1,2))","v":1},{"$f":"IF(I747=1,F747,IF(I747=2,F747,IF(I747=3,F747/100*C747,\"\")))","v":0.60000000000000009},{"$f":"CONCATENATE(\" \",D747)","v":" °C"},{"$f":"IF(I747=1,F747,IF(I747=2,F747,IF(I747=3,F747/100*C747,\"\")))","v":0.60000000000000009}," °C"]
[{"$f":"COUNTIF($B$1:B748,TRUE)","v":582},{"$f":"Worksheet!$B$20","v":true},{"$f":"RANDBETWEEN(5,RANDBETWEEN(5,Worksheet!$D$8))","v":72},"cm","±",{"$f":"IF(I748=1,H748*10^RANDBETWEEN(IF(Worksheet!$D$14,-1,0),0),IF(I748=2,H748,CHOOSE(RANDBETWEEN(1,3),5,10,20)))","v":10},{"$f":"IF(I748=1,D748,IF(I748=3,\"%\",\"mm\"))","v":"%"},{"$f":"RANDBETWEEN(1,MIN(9,C748))","v":9},{"$f":"IF(AND(Worksheet!$D$12,RAND()<0.2),3,IF(RAND()<Worksheet!$D$10/100,1,2))","v":3},{"$f":"IF(I748=1,F748,IF(I748=2,F748/10,IF(I748=3,F748/100*C748,\"\")))","v":7.2},{"$f":"CONCATENATE(\" \",D748)","v":" cm"},{"$f":"IF(I748=1,F748*10,IF(I748=2,F748,IF(I748=3,F748/100*C748*10,\"\")))","v":72},"mm"]
[{"$f":"IF(COUNTIF($B$1:B749,TRUE)=COUNTIF($B$1:B748,TRUE),\"\",COUNTIF($B$1:B749,TRUE))","v":583},{"$f":"Worksheet!$B$22","v":true},{"$f":"RANDBETWEEN(5,RANDBETWEEN(5,Worksheet!$D$8))","v":27},"m","±",{"$f":"IF(I749=1,H749*10^RANDBETWEEN(IF(Worksheet!$D$14,-1,0),0),IF(I749=2,H749*10^RANDBETWEEN(RANDBETWEEN(0,1),1),CHOOSE(RANDBETWEEN(1,3),5,10,20)))","v":2},{"$f":"IF(I749=1,D749,IF(I749=3,\"%\",\"cm\"))","v":"m"},{"$f":"RANDBETWEEN(1,MIN(9,C749))","v":2},{"$f":"IF(AND(Worksheet!$D$12,RAND()<0.2),3,IF(RAND()<Worksheet!$D$10/100,1,2))","v":1},{"$f":"IF(I749=1,F749,IF(I749=2,F749/100,IF(I749=3,F749/100*C749,\"\")))","v":2},{"$f":"CONCATENATE(\" \",D749)","v":" m"},{"$f":"IF(I749=1,F749*100,IF(I749=2,F749,IF(I749=3,F749/100*C749*100,\"\")))","v":200},"cm"]
[{"$f":"IF(COUNTIF($B$1:B750,TRUE)=COUNTIF($B$1:B749,TRUE),\"\",COUNTIF($B$1:B750,TRUE))","v":584},{"$f":"Worksheet!$B$24","v":true},{"$f":"RANDBETWEEN(5,RANDBETWEEN(5,Worksheet!$D$8))","v":129},"km","±",{"$f":"IF(I750=1,H750*10^RANDBETWEEN(IF(Worksheet!$D$14,-1,0),0),IF(I750=2,H750*10^RANDBETWEEN(RANDBETWEEN(0,2),2),CHOOSE(RANDBETWEEN(1,3),5,10,20)))","v":9},{"$f":"IF(I750=1,D750,IF(I750=3,\"%\",\"m\"))","v":"m"},9,{"$f":"IF(AND(Worksheet!$D$12,RAND()<0.2),3,IF(RAND()<Worksheet!$D$10/100,1,2))","v":2},{"$f":"IF(I750=1,F750,IF(I750=2,F750/1000,IF(I750=3,F750/100*C750,\"\")))","v":8.9999999999999993E-3}," km",{"$f":"IF(I750=1,F750*1000,IF(I750=2,F750,IF(I750=3,F750/100*C750*1000,\"\")))","v":9},"m"]
[{"$f":"IF(COUNTIF($B$1:B751,TRUE)=COUNTIF($B$1:B750,TRUE),\"\",COUNTIF($B$1:B751,TRUE))","v":""},{"$f":"Worksheet!$B$26","v":false},{"$f":"RANDBETWEEN(5,RANDBETWEEN(5,Worksheet!$D$8))","v":26},"m","±",{"$f":"IF(I751=1,H751*10^RANDBETWEEN(IF(Worksheet!$D$14,-1,0),0),IF(I751=2,H751*10^RANDBETWEEN(RANDBETWEEN(0,2),2),CHOOSE(RANDBETWEEN(1,3),5,10,20)))","v":4},{"$f":"IF(I751=1,D751,IF(I751=3,\"%\",\"mm\"))","v":"m"},4,{"$f":"IF(AND(Worksheet!$D$12,RAND()<0.2),3,IF(RAND()<Worksheet!$D$10/100,1,2))","v":1},4," m",4000,"mm"]
[{"$f":"IF(COUNTIF($B$1:B752,TRUE)=COUNTIF($B$1:B751,TRUE),\"\",COUNTIF($B$1:B752,TRUE))","v":585},{"$f":"Worksheet!$D$20","v":true},{"$f":"RANDBETWEEN(5,RANDBETWEEN(5,Worksheet!$D$8))","v":82},"kg","±",{"$f":"IF(I752=1,H752*10^RANDBETWEEN(IF(Worksheet!$D$14,-1,0),0),IF(I752=2,H752*10^RANDBETWEEN(RANDBETWEEN(0,2),2),CHOOSE(RANDBETWEEN(1,3),5,10,20)))","v":20},{"$f":"IF(I752=1,D752,IF(I752=3,\"%\",\"g\"))","v":"%"},{"$f":"RANDBETWEEN(1,MIN(9,C752))","v":1},{"$f":"IF(AND(Worksheet!$D$12,RAND()<0.2),3,IF(RAND()<Worksheet!$D$10/100,1,2))","v":3},16.400000000000002,{"$f":"CONCATENATE(\" \",D752)","v":" kg"},16400.000000000004,"g"]
[{"$f":"IF(COUNTIF($B$1:B753,TRUE)=COUNTIF($B$1:B752,TRUE),\"\",COUNTIF($B$1:B753,TRUE))","v":586},{"$f":"Worksheet!$D$22","v":true},{"$f":"RANDBETWEEN(5,RANDBETWEEN(5,Worksheet!$D$8))","v":33},"tonnes","±",{"$f":"IF(I753=1,H753*10^RANDBETWEEN(IF(Worksheet!$D$14,-1,0),0),IF(I753=2,H753*10^RANDBETWEEN(RANDBETWEEN(0,2),2),CHOOSE(RANDBETWEEN(1,3),5,10,20)))","v":0.60000000000000009},{"$f":"IF(I753=1,D753,IF(I753=3,\"%\",\"kg\"))","v":"tonnes"},{"$f":"RANDBETWEEN(1,MIN(9,C753))","v":6},{"$f":"IF(AND(Worksheet!$D$12,RAND()<0.2),3,IF(RAND()<Worksheet!$D$10/100,1,2))","v":1},0.60000000000000009,{"$f":"CONCATENATE(\" \",D753)","v":" tonnes"},600.00000000000011,"kg"]
[{"$f":"IF(COUNTIF($B$1:B754,TRUE)=COUNTIF($B$1:B753,TRUE),\"\",COUNTIF($B$1:B754,TRUE))","v":587},{"$f":"Worksheet!$D$24","v":true},{"$f":"RANDBETWEEN(5,RANDBETWEEN(5,Worksheet!$D$8))","v":61},"litres","±",{"$f":"IF(I754=1,H754*10^RANDBETWEEN(IF(Worksheet!$D$14,-1,0),0),IF(I754=2,H754*10^RANDBETWEEN(RANDBETWEEN(0,2),2),CHOOSE(RANDBETWEEN(1,3),5,10,20)))","v":800},{"$f":"IF(I754=1,D754,IF(I754=3,\"%\",\"ml\"))","v":"ml"},{"$f":"RANDBETWEEN(1,MIN(9,C754))","v":8},{"$f":"IF(AND(Worksheet!$D$12,RAND()<0.2),3,IF(RAND()<Worksheet!$D$10/100,1,2))","v":2},0.8,{"$f":"CONCATENATE(\" \",D754)","v":" litres"},800,"ml"]
[{"$f":"IF(COUNTIF($B$1:B755,TRUE)=COUNTIF($B$1:B754,TRUE),\"\",COUNTIF($B$1:B755,TRUE))","v":""},{"$f":"Worksheet!$D$26","v":false},{"$f":"RANDBETWEEN(5,RANDBETWEEN(5,Worksheet!$D$8))","v":90},"litres","±",{"$f":"IF(I755=1,H755*10^RANDBETWEEN(IF(Worksheet!$D$14,-1,0),0),IF(I755=2,H755*10^RANDBETWEEN(RANDBETWEEN(0,2),2),CHOOSE(RANDBETWEEN(1,3),5,10,20)))","v":500},{"$f":"IF(I755=1,D755,IF(I755=3,\"%\",\"cm³\"))","v":"cm³"},{"$f":"RANDBETWEEN(1,MIN(9,C755))","v":5},{"$f":"IF(AND(Worksheet!$D$12,RAND()<0.2),3,IF(RAND()<Worksheet!$D$10/100,1,2))","v":2},0.5,{"$f":"CONCATENATE(\" \",D755)","v":" litres"},500,"cm³"]
[{"$f":"IF(COUNTIF($B$1:B756,TRUE)=COUNTIF($B$1:B756,TRUE),\"\",COUNTIF($B$1:B756,TRUE))","v":""},{"$f":"Worksheet!$B$28","v":true},{"$f":"RANDBETWEEN(5,20)","v":8},"°C","±",{"$f":"IF(I756=1,H756*10^RANDBETWEEN(IF(Worksheet!$D$14,-1,0),0),IF(I756=2,H756,CHOOSE(RANDBETWEEN(1,3),5,10,20)))","v":7},{"$f":"IF(I756=1,D756,IF(I756=3,\"%\",\"sec\"))","v":"°C"},{"$f":"RANDBETWEEN(1,MIN(9,C756))","v":7},{"$f":"IF(AND(Worksheet!$D$12,RAND()<0),3,IF(RAND()<Worksheet!$D$10/100,1,2))","v":1},{"$f":"IF(I756=1,F756,IF(I756=2,F756,IF(I756=3,F756/100*C756,\"\")))","v":7},{"$f":"CONCATENATE(\" \",D756)","v":" °C"},{"$f":"IF(I756=1,F756,IF(I756=2,F756,IF(I756=3,F756/100*C756,\"\")))","v":7}," °C"]
[{"$f":"COUNTIF($B$1:B757,TRUE)","v":589},{"$f":"Worksheet!$B$20","v":true},{"$f":"RANDBETWEEN(5,RANDBETWEEN(5,Worksheet!$D$8))","v":23},"cm","±",{"$f":"IF(I757=1,H757*10^RANDBETWEEN(IF(Worksheet!$D$14,-1,0),0),IF(I757=2,H757,CHOOSE(RANDBETWEEN(1,3),5,10,20)))","v":20},{"$f":"IF(I757=1,D757,IF(I757=3,\"%\",\"mm\"))","v":"%"},{"$f":"RANDBETWEEN(1,MIN(9,C757))","v":6},{"$f":"IF(AND(Worksheet!$D$12,RAND()<0.2),3,IF(RAND()<Worksheet!$D$10/100,1,2))","v":3},{"$f":"IF(I757=1,F757,IF(I757=2,F757/10,IF(I757=3,F757/100*C757,\"\")))","v":4.6000000000000005},{"$f":"CONCATENATE(\" \",D757)","v":" cm"},{"$f":"IF(I757=1,F757*10,IF(I757=2,F757,IF(I757=3,F757/100*C757*10,\"\")))","v":46.000000000000007},"mm"]
[{"$f":"IF(COUNTIF($B$1:B758,TRUE)=COUNTIF($B$1:B757,TRUE),\"\",COUNTIF($B$1:B758,TRUE))","v":590},{"$f":"Worksheet!$B$22","v":true},{"$f":"RANDBETWEEN(5,RANDBETWEEN(5,Worksheet!$D$8))","v":124},"m","±",{"$f":"IF(I758=1,H758*10^RANDBETWEEN(IF(Worksheet!$D$14,-1,0),0),IF(I758=2,H758*10^RANDBETWEEN(RANDBETWEEN(0,1),1),CHOOSE(RANDBETWEEN(1,3),5,10,20)))","v":10},{"$f":"IF(I758=1,D758,IF(I758=3,\"%\",\"cm\"))","v":"%"},{"$f":"RANDBETWEEN(1,MIN(9,C758))","v":8},{"$f":"IF(AND(Worksheet!$D$12,RAND()<0.2),3,IF(RAND()<Worksheet!$D$10/100,1,2))","v":3},{"$f":"IF(I758=1,F758,IF(I758=2,F758/100,IF(I758=3,F758/100*C758,\"\")))","v":12.4},{"$f":"CONCATENATE(\" \",D758)","v":" m"},{"$f":"IF(I758=1,F758*100,IF(I758=2,F758,IF(I758=3,F758/100*C758*100,\"\")))","v":1240},"cm"]
[{"$f":"IF(COUNTIF($B$1:B759,TRUE)=COUNTIF($B$1:B758,TRUE),\"\",COUNTIF($B$1:B759,TRUE))","v":591},{"$f":"Worksheet!$B$24","v":true},{"$f":"RANDBETWEEN(5,RANDBETWEEN(5,Worksheet!$D$8))","v":38},"km","±",{"$f":"IF(I759=1,H759*10^RANDBETWEEN(IF(Worksheet!$D$14,-1,0),0),IF(I759=2,H759*10^RANDBETWEEN(RANDBETWEEN(0,2),2),CHOOSE(RANDBETWEEN(1,3),5,10,20)))","v":20},{"$f":"IF(I759=1,D759,IF(I759=3,\"%\",\"m\"))","v":"%"},9,{"$f":"IF(AND(Worksheet!$D$12,RAND()<0.2),3,IF(RAND()<Worksheet!$D$10/100,1,2))","v":3},{"$f":"IF(I759=1,F759,IF(I759=2,F759/1000,IF(I759=3,F759/100*C759,\"\")))","v":7.6000000000000005}," km",{"$f":"IF(I759=1,F759*1000,IF(I759=2,F759,IF(I759=3,F759/100*C759*1000,\"\")))","v":7600.0000000000009},"m"]
[{"$f":"IF(COUNTIF($B$1:B760,TRUE)=COUNTIF($B$1:B759,TRUE),\"\",COUNTIF($B$1:B760,TRUE))","v":""},{"$f":"Worksheet!$B$26","v":false},{"$f":"RANDBETWEEN(5,RANDBETWEEN(5,Worksheet!$D$8))","v":10},"m","±",{"$f":"IF(I760=1,H760*10^RANDBETWEEN(IF(Worksheet!$D$14,-1,0),0),IF(I760=2,H760*10^RANDBETWEEN(RANDBETWEEN(0,2),2),CHOOSE(RANDBETWEEN(1,3),5,10,20)))","v":600},{"$f":"IF(I760=1,D760,IF(I760=3,\"%\",\"mm\"))","v":"mm"},6,{"$f":"IF(AND(Worksheet!$D$12,RAND()<0.2),3,IF(RAND()<Worksheet!$D$10/100,1,2))","v":2},0.6," m",600,"mm"]
[{"$f":"IF(COUNTIF($B$1:B761,TRUE)=COUNTIF($B$1:B760,TRUE),\"\",COUNTIF($B$1:B761,TRUE))","v":592},{"$f":"Worksheet!$D$20","v":true},{"$f":"RANDBETWEEN(5,RANDBETWEEN(5,Worksheet!$D$8))","v":119},"kg","±",{"$f":"IF(I761=1,H761*10^RANDBETWEEN(IF(Worksheet!$D$14,-1,0),0),IF(I761=2,H761*10^RANDBETWEEN(RANDBETWEEN(0,2),2),CHOOSE(RANDBETWEEN(1,3),5,10,20)))","v":10},{"$f":"IF(I761=1,D761,IF(I761=3,\"%\",\"g\"))","v":"%"},{"$f":"RANDBETWEEN(1,MIN(9,C761))","v":3},{"$f":"IF(AND(Worksheet!$D$12,RAND()<0.2),3,IF(RAND()<Worksheet!$D$10/100,1,2))","v":3},11.9,{"$f":"CONCATENATE(\" \",D761)","v":" kg"},11900,"g"]
[{"$f":"IF(COUNTIF($B$1:B762,TRUE)=COUNTIF($B$1:B761,TRUE),\"\",COUNTIF($B$1:B762,TRUE))","v":593},{"$f":"Worksheet!$D$22","v":true},{"$f":"RANDBETWEEN(5,RANDBETWEEN(5,Worksheet!$D$8))","v":5},"tonnes","±",{"$f":"IF(I762=1,H762*10^RANDBETWEEN(IF(Worksheet!$D$14,-1,0),0),IF(I762=2,H762*10^RANDBETWEEN(RANDBETWEEN(0,2),2),CHOOSE(RANDBETWEEN(1,3),5,10,20)))","v":5},{"$f":"IF(I762=1,D762,IF(I762=3,\"%\",\"kg\"))","v":"%"},{"$f":"RANDBETWEEN(1,MIN(9,C762))","v":5},{"$f":"IF(AND(Worksheet!$D$12,RAND()<0.2),3,IF(RAND()<Worksheet!$D$10/100,1,2))","v":3},0.25,{"$f":"CONCATENATE(\" \",D762)","v":" tonnes"},250,"kg"]
[{"$f":"IF(COUNTIF($B$1:B763,TRUE)=COUNTIF($B$1:B762,TRUE),\"\",COUNTIF($B$1:B763,TRUE))","v":594},{"$f":"Worksheet!$D$24","v":true},{"$f":"RANDBETWEEN(5,RANDBETWEEN(5,Worksheet!$D$8))","v":61},"litres","±",{"$f":"IF(I763=1,H763*10^RANDBETWEEN(IF(Worksheet!$D$14,-1,0),0),IF(I763=2,H763*10^RANDBETWEEN(RANDBETWEEN(0,2),2),CHOOSE(RANDBETWEEN(1,3),5,10,20)))","v":8},{"$f":"IF(I763=1,D763,IF(I763=3,\"%\",\"ml\"))","v":"litres"},{"$f":"RANDBETWEEN(1,MIN(9,C763))","v":8},{"$f":"IF(AND(Worksheet!$D$12,RAND()<0.2),3,IF(RAND()<Worksheet!$D$10/100,1,2))","v":1},8,{"$f":"CONCATENATE(\" \",D763)","v":" litres"},8000,"ml"]
[{"$f":"IF(COUNTIF($B$1:B764,TRUE)=COUNTIF($B$1:B763,TRUE),\"\",COUNTIF($B$1:B764,TRUE))","v":""},{"$f":"Worksheet!$D$26","v":false},{"$f":"RANDBETWEEN(5,RANDBETWEEN(5,Worksheet!$D$8))","v":23},"litres","±",{"$f":"IF(I764=1,H764*10^RANDBETWEEN(IF(Worksheet!$D$14,-1,0),0),IF(I764=2,H764*10^RANDBETWEEN(RANDBETWEEN(0,2),2),CHOOSE(RANDBETWEEN(1,3),5,10,20)))","v":10},{"$f":"IF(I764=1,D764,IF(I764=3,\"%\",\"cm³\"))","v":"%"},{"$f":"RANDBETWEEN(1,MIN(9,C764))","v":9},{"$f":"IF(AND(Worksheet!$D$12,RAND()<0.2),3,IF(RAND()<Worksheet!$D$10/100,1,2))","v":3},2.3000000000000003,{"$f":"CONCATENATE(\" \",D764)","v":" litres"},2300.0000000000005,"cm³"]
[{"$f":"IF(COUNTIF($B$1:B765,TRUE)=COUNTIF($B$1:B765,TRUE),\"\",COUNTIF($B$1:B765,TRUE))","v":""},{"$f":"Worksheet!$B$28","v":true},{"$f":"RANDBETWEEN(5,20)","v":7},"°C","±",{"$f":"IF(I765=1,H765*10^RANDBETWEEN(IF(Worksheet!$D$14,-1,0),0),IF(I765=2,H765,CHOOSE(RANDBETWEEN(1,3),5,10,20)))","v":4},{"$f":"IF(I765=1,D765,IF(I765=3,\"%\",\"sec\"))","v":"°C"},{"$f":"RANDBETWEEN(1,MIN(9,C765))","v":4},{"$f":"IF(AND(Worksheet!$D$12,RAND()<0),3,IF(RAND()<Worksheet!$D$10/100,1,2))","v":1},{"$f":"IF(I765=1,F765,IF(I765=2,F765,IF(I765=3,F765/100*C765,\"\")))","v":4},{"$f":"CONCATENATE(\" \",D765)","v":" °C"},{"$f":"IF(I765=1,F765,IF(I765=2,F765,IF(I765=3,F765/100*C765,\"\")))","v":4}," °C"]
[{"$f":"COUNTIF($B$1:B766,TRUE)","v":596},{"$f":"Worksheet!$B$20","v":true},{"$f":"RANDBETWEEN(5,RANDBETWEEN(5,Worksheet!$D$8))","v":22},"cm","±",{"$f":"IF(I766=1,H766*10^RANDBETWEEN(IF(Worksheet!$D$14,-1,0),0),IF(I766=2,H766,CHOOSE(RANDBETWEEN(1,3),5,10,20)))","v":2},{"$f":"IF(I766=1,D766,IF(I766=3,\"%\",\"mm\"))","v":"mm"},{"$f":"RANDBETWEEN(1,MIN(9,C766))","v":2},{"$f":"IF(AND(Worksheet!$D$12,RAND()<0.2),3,IF(RAND()<Worksheet!$D$10/100,1,2))","v":2},{"$f":"IF(I766=1,F766,IF(I766=2,F766/10,IF(I766=3,F766/100*C766,\"\")))","v":0.2},{"$f":"CONCATENATE(\" \",D766)","v":" cm"},{"$f":"IF(I766=1,F766*10,IF(I766=2,F766,IF(I766=3,F766/100*C766*10,\"\")))","v":2},"mm"]
[{"$f":"IF(COUNTIF($B$1:B767,TRUE)=COUNTIF($B$1:B766,TRUE),\"\",COUNTIF($B$1:B767,TRUE))","v":597},{"$f":"Worksheet!$B$22","v":true},{"$f":"RANDBETWEEN(5,RANDBETWEEN(5,Worksheet!$D$8))","v":17},"m","±",{"$f":"IF(I767=1,H767*10^RANDBETWEEN(IF(Worksheet!$D$14,-1,0),0),IF(I767=2,H767*10^RANDBETWEEN(RANDBETWEEN(0,1),1),CHOOSE(RANDBETWEEN(1,3),5,10,20)))","v":10},{"$f":"IF(I767=1,D767,IF(I767=3,\"%\",\"cm\"))","v":"%"},{"$f":"RANDBETWEEN(1,MIN(9,C767))","v":8},{"$f":"IF(AND(Worksheet!$D$12,RAND()<0.2),3,IF(RAND()<Worksheet!$D$10/100,1,2))","v":3},{"$f":"IF(I767=1,F767,IF(I767=2,F767/100,IF(I767=3,F767/100*C767,\"\")))","v":1.7000000000000002},{"$f":"CONCATENATE(\" \",D767)","v":" m"},{"$f":"IF(I767=1,F767*100,IF(I767=2,F767,IF(I767=3,F767/100*C767*100,\"\")))","v":170.00000000000003},"cm"]
[{"$f":"IF(COUNTIF($B$1:B768,TRUE)=COUNTIF($B$1:B767,TRUE),\"\",COUNTIF($B$1:B768,TRUE))","v":598},{"$f":"Worksheet!$B$24","v":true},{"$f":"RANDBETWEEN(5,RANDBETWEEN(5,Worksheet!$D$8))","v":98},"km","±",{"$f":"IF(I768=1,H768*10^RANDBETWEEN(IF(Worksheet!$D$14,-1,0),0),IF(I768=2,H768*10^RANDBETWEEN(RANDBETWEEN(0,2),2),CHOOSE(RANDBETWEEN(1,3),5,10,20)))","v":1},{"$f":"IF(I768=1,D768,IF(I768=3,\"%\",\"m\"))","v":"km"},1,{"$f":"IF(AND(Worksheet!$D$12,RAND()<0.2),3,IF(RAND()<Worksheet!$D$10/100,1,2))","v":1},{"$f":"IF(I768=1,F768,IF(I768=2,F768/1000,IF(I768=3,F768/100*C768,\"\")))","v":1}," km",{"$f":"IF(I768=1,F768*1000,IF(I768=2,F768,IF(I768=3,F768/100*C768*1000,\"\")))","v":1000},"m"]
[{"$f":"IF(COUNTIF($B$1:B769,TRUE)=COUNTIF($B$1:B768,TRUE),\"\",COUNTIF($B$1:B769,TRUE))","v":""},{"$f":"Worksheet!$B$26","v":false},{"$f":"RANDBETWEEN(5,RANDBETWEEN(5,Worksheet!$D$8))","v":24},"m","±",{"$f":"IF(I769=1,H769*10^RANDBETWEEN(IF(Worksheet!$D$14,-1,0),0),IF(I769=2,H769*10^RANDBETWEEN(RANDBETWEEN(0,2),2),CHOOSE(RANDBETWEEN(1,3),5,10,20)))","v":400},{"$f":"IF(I769=1,D769,IF(I769=3,\"%\",\"mm\"))","v":"mm"},4,{"$f":"IF(AND(Worksheet!$D$12,RAND()<0.2),3,IF(RAND()<Worksheet!$D$10/100,1,2))","v":2},0.4," m",400,"mm"]
[{"$f":"IF(COUNTIF($B$1:B770,TRUE)=COUNTIF($B$1:B769,TRUE),\"\",COUNTIF($B$1:B770,TRUE))","v":599},{"$f":"Worksheet!$D$20","v":true},{"$f":"RANDBETWEEN(5,RANDBETWEEN(5,Worksheet!$D$8))","v":18},"kg","±",{"$f":"IF(I770=1,H770*10^RANDBETWEEN(IF(Worksheet!$D$14,-1,0),0),IF(I770=2,H770*10^RANDBETWEEN(RANDBETWEEN(0,2),2),CHOOSE(RANDBETWEEN(1,3),5,10,20)))","v":500},{"$f":"IF(I770=1,D770,IF(I770=3,\"%\",\"g\"))","v":"g"},{"$f":"RANDBETWEEN(1,MIN(9,C770))","v":5},{"$f":"IF(AND(Worksheet!$D$12,RAND()<0.2),3,IF(RAND()<Worksheet!$D$10/100,1,2))","v":2},0.5,{"$f":"CONCATENATE(\" \",D770)","v":" kg"},500,"g"]
[{"$f":"IF(COUNTIF($B$1:B771,TRUE)=COUNTIF($B$1:B770,TRUE),\"\",COUNTIF($B$1:B771,TRUE))","v":600},{"$f":"Worksheet!$D$22","v":true},{"$f":"RANDBETWEEN(5,RANDBETWEEN(5,Worksheet!$D$8))","v":163},"tonnes","±",{"$f":"IF(I771=1,H771*10^RANDBETWEEN(IF(Worksheet!$D$14,-1,0),0),IF(I771=2,H771*10^RANDBETWEEN(RANDBETWEEN(0,2),2),CHOOSE(RANDBETWEEN(1,3),5,10,20)))","v":20},{"$f":"IF(I771=1,D771,IF(I771=3,\"%\",\"kg\"))","v":"%"},{"$f":"RANDBETWEEN(1,MIN(9,C771))","v":8},{"$f":"IF(AND(Worksheet!$D$12,RAND()<0.2),3,IF(RAND()<Worksheet!$D$10/100,1,2))","v":3},32.6,{"$f":"CONCATENATE(\" \",D771)","v":" tonnes"},32600,"kg"]
[{"$f":"IF(COUNTIF($B$1:B772,TRUE)=COUNTIF($B$1:B771,TRUE),\"\",COUNTIF($B$1:B772,TRUE))","v":601},{"$f":"Worksheet!$D$24","v":true},{"$f":"RANDBETWEEN(5,RANDBETWEEN(5,Worksheet!$D$8))","v":118},"litres","±",{"$f":"IF(I772=1,H772*10^RANDBETWEEN(IF(Worksheet!$D$14,-1,0),0),IF(I772=2,H772*10^RANDBETWEEN(RANDBETWEEN(0,2),2),CHOOSE(RANDBETWEEN(1,3),5,10,20)))","v":0.4},{"$f":"IF(I772=1,D772,IF(I772=3,\"%\",\"ml\"))","v":"litres"},{"$f":"RANDBETWEEN(1,MIN(9,C772))","v":4},{"$f":"IF(AND(Worksheet!$D$12,RAND()<0.2),3,IF(RAND()<Worksheet!$D$10/100,1,2))","v":1},0.4,{"$f":"CONCATENATE(\" \",D772)","v":" litres"},400,"ml"]
[{"$f":"IF(COUNTIF($B$1:B773,TRUE)=COUNTIF($B$1:B772,TRUE),\"\",COUNTIF($B$1:B773,TRUE))","v":""},{"$f":"Worksheet!$D$26","v":false},{"$f":"RANDBETWEEN(5,RANDBETWEEN(5,Worksheet!$D$8))","v":53},"litres","±",{"$f":"IF(I773=1,H773*10^RANDBETWEEN(IF(Worksheet!$D$14,-1,0),0),IF(I773=2,H773*10^RANDBETWEEN(RANDBETWEEN(0,2),2),CHOOSE(RANDBETWEEN(1,3),5,10,20)))","v":9},{"$f":"IF(I773=1,D773,IF(I773=3,\"%\",\"cm³\"))","v":"litres"},{"$f":"RANDBETWEEN(1,MIN(9,C773))","v":9},{"$f":"IF(AND(Worksheet!$D$12,RAND()<0.2),3,IF(RAND()<Worksheet!$D$10/100,1,2))","v":1},9,{"$f":"CONCATENATE(\" \",D773)","v":" litres"},9000,"cm³"]
[{"$f":"IF(COUNTIF($B$1:B774,TRUE)=COUNTIF($B$1:B774,TRUE),\"\",COUNTIF($B$1:B774,TRUE))","v":""},{"$f":"Worksheet!$B$28","v":true},{"$f":"RANDBETWEEN(5,20)","v":6},"°C","±",{"$f":"IF(I774=1,H774*10^RANDBETWEEN(IF(Worksheet!$D$14,-1,0),0),IF(I774=2,H774,CHOOSE(RANDBETWEEN(1,3),5,10,20)))","v":4},{"$f":"IF(I774=1,D774,IF(I774=3,\"%\",\"sec\"))","v":"°C"},{"$f":"RANDBETWEEN(1,MIN(9,C774))","v":4},{"$f":"IF(AND(Worksheet!$D$12,RAND()<0),3,IF(RAND()<Worksheet!$D$10/100,1,2))","v":1},{"$f":"IF(I774=1,F774,IF(I774=2,F774,IF(I774=3,F774/100*C774,\"\")))","v":4},{"$f":"CONCATENATE(\" \",D774)","v":" °C"},{"$f":"IF(I774=1,F774,IF(I774=2,F774,IF(I774=3,F774/100*C774,\"\")))","v":4}," °C"]
[{"$f":"COUNTIF($B$1:B775,TRUE)","v":603},{"$f":"Worksheet!$B$20","v":true},{"$f":"RANDBETWEEN(5,RANDBETWEEN(5,Worksheet!$D$8))","v":102},"cm","±",{"$f":"IF(I775=1,H775*10^RANDBETWEEN(IF(Worksheet!$D$14,-1,0),0),IF(I775=2,H775,CHOOSE(RANDBETWEEN(1,3),5,10,20)))","v":0.70000000000000007},{"$f":"IF(I775=1,D775,IF(I775=3,\"%\",\"mm\"))","v":"cm"},{"$f":"RANDBETWEEN(1,MIN(9,C775))","v":7},{"$f":"IF(AND(Worksheet!$D$12,RAND()<0.2),3,IF(RAND()<Worksheet!$D$10/100,1,2))","v":1},{"$f":"IF(I775=1,F775,IF(I775=2,F775/10,IF(I775=3,F775/100*C775,\"\")))","v":0.70000000000000007},{"$f":"CONCATENATE(\" \",D775)","v":" cm"},{"$f":"IF(I775=1,F775*10,IF(I775=2,F775,IF(I775=3,F775/100*C775*10,\"\")))","v":7.0000000000000009},"mm"]
[{"$f":"IF(COUNTIF($B$1:B776,TRUE)=COUNTIF($B$1:B775,TRUE),\"\",COUNTIF($B$1:B776,TRUE))","v":604},{"$f":"Worksheet!$B$22","v":true},{"$f":"RANDBETWEEN(5,RANDBETWEEN(5,Worksheet!$D$8))","v":74},"m","±",{"$f":"IF(I776=1,H776*10^RANDBETWEEN(IF(Worksheet!$D$14,-1,0),0),IF(I776=2,H776*10^RANDBETWEEN(RANDBETWEEN(0,1),1),CHOOSE(RANDBETWEEN(1,3),5,10,20)))","v":8},{"$f":"IF(I776=1,D776,IF(I776=3,\"%\",\"cm\"))","v":"m"},{"$f":"RANDBETWEEN(1,MIN(9,C776))","v":8},{"$f":"IF(AND(Worksheet!$D$12,RAND()<0.2),3,IF(RAND()<Worksheet!$D$10/100,1,2))","v":1},{"$f":"IF(I776=1,F776,IF(I776=2,F776/100,IF(I776=3,F776/100*C776,\"\")))","v":8},{"$f":"CONCATENATE(\" \",D776)","v":" m"},{"$f":"IF(I776=1,F776*100,IF(I776=2,F776,IF(I776=3,F776/100*C776*100,\"\")))","v":800},"cm"]
[{"$f":"IF(COUNTIF($B$1:B777,TRUE)=COUNTIF($B$1:B776,TRUE),\"\",COUNTIF($B$1:B777,TRUE))","v":605},{"$f":"Worksheet!$B$24","v":true},{"$f":"RANDBETWEEN(5,RANDBETWEEN(5,Worksheet!$D$8))","v":92},"km","±",{"$f":"IF(I777=1,H777*10^RANDBETWEEN(IF(Worksheet!$D$14,-1,0),0),IF(I777=2,H777*10^RANDBETWEEN(RANDBETWEEN(0,2),2),CHOOSE(RANDBETWEEN(1,3),5,10,20)))","v":7},{"$f":"IF(I777=1,D777,IF(I777=3,\"%\",\"m\"))","v":"km"},7,{"$f":"IF(AND(Worksheet!$D$12,RAND()<0.2),3,IF(RAND()<Worksheet!$D$10/100,1,2))","v":1},{"$f":"IF(I777=1,F777,IF(I777=2,F777/1000,IF(I777=3,F777/100*C777,\"\")))","v":7}," km",{"$f":"IF(I777=1,F777*1000,IF(I777=2,F777,IF(I777=3,F777/100*C777*1000,\"\")))","v":7000},"m"]
[{"$f":"IF(COUNTIF($B$1:B778,TRUE)=COUNTIF($B$1:B777,TRUE),\"\",COUNTIF($B$1:B778,TRUE))","v":""},{"$f":"Worksheet!$B$26","v":false},{"$f":"RANDBETWEEN(5,RANDBETWEEN(5,Worksheet!$D$8))","v":70},"m","±",{"$f":"IF(I778=1,H778*10^RANDBETWEEN(IF(Worksheet!$D$14,-1,0),0),IF(I778=2,H778*10^RANDBETWEEN(RANDBETWEEN(0,2),2),CHOOSE(RANDBETWEEN(1,3),5,10,20)))","v":3},{"$f":"IF(I778=1,D778,IF(I778=3,\"%\",\"mm\"))","v":"m"},3,{"$f":"IF(AND(Worksheet!$D$12,RAND()<0.2),3,IF(RAND()<Worksheet!$D$10/100,1,2))","v":1},3," m",3000,"mm"]
[{"$f":"IF(COUNTIF($B$1:B779,TRUE)=COUNTIF($B$1:B778,TRUE),\"\",COUNTIF($B$1:B779,TRUE))","v":606},{"$f":"Worksheet!$D$20","v":true},{"$f":"RANDBETWEEN(5,RANDBETWEEN(5,Worksheet!$D$8))","v":25},"kg","±",{"$f":"IF(I779=1,H779*10^RANDBETWEEN(IF(Worksheet!$D$14,-1,0),0),IF(I779=2,H779*10^RANDBETWEEN(RANDBETWEEN(0,2),2),CHOOSE(RANDBETWEEN(1,3),5,10,20)))","v":5},{"$f":"IF(I779=1,D779,IF(I779=3,\"%\",\"g\"))","v":"%"},{"$f":"RANDBETWEEN(1,MIN(9,C779))","v":9},{"$f":"IF(AND(Worksheet!$D$12,RAND()<0.2),3,IF(RAND()<Worksheet!$D$10/100,1,2))","v":3},1.25,{"$f":"CONCATENATE(\" \",D779)","v":" kg"},1250,"g"]
[{"$f":"IF(COUNTIF($B$1:B780,TRUE)=COUNTIF($B$1:B779,TRUE),\"\",COUNTIF($B$1:B780,TRUE))","v":607},{"$f":"Worksheet!$D$22","v":true},{"$f":"RANDBETWEEN(5,RANDBETWEEN(5,Worksheet!$D$8))","v":24},"tonnes","±",{"$f":"IF(I780=1,H780*10^RANDBETWEEN(IF(Worksheet!$D$14,-1,0),0),IF(I780=2,H780*10^RANDBETWEEN(RANDBETWEEN(0,2),2),CHOOSE(RANDBETWEEN(1,3),5,10,20)))","v":5},{"$f":"IF(I780=1,D780,IF(I780=3,\"%\",\"kg\"))","v":"tonnes"},{"$f":"RANDBETWEEN(1,MIN(9,C780))","v":5},{"$f":"IF(AND(Worksheet!$D$12,RAND()<0.2),3,IF(RAND()<Worksheet!$D$10/100,1,2))","v":1},5,{"$f":"CONCATENATE(\" \",D780)","v":" tonnes"},5000,"kg"]
[{"$f":"IF(COUNTIF($B$1:B781,TRUE)=COUNTIF($B$1:B780,TRUE),\"\",COUNTIF($B$1:B781,TRUE))","v":608},{"$f":"Worksheet!$D$24","v":true},{"$f":"RANDBETWEEN(5,RANDBETWEEN(5,Worksheet!$D$8))","v":13},"litres","±",{"$f":"IF(I781=1,H781*10^RANDBETWEEN(IF(Worksheet!$D$14,-1,0),0),IF(I781=2,H781*10^RANDBETWEEN(RANDBETWEEN(0,2),2),CHOOSE(RANDBETWEEN(1,3),5,10,20)))","v":0.2},{"$f":"IF(I781=1,D781,IF(I781=3,\"%\",\"ml\"))","v":"litres"},{"$f":"RANDBETWEEN(1,MIN(9,C781))","v":2},{"$f":"IF(AND(Worksheet!$D$12,RAND()<0.2),3,IF(RAND()<Worksheet!$D$10/100,1,2))","v":1},0.2,{"$f":"CONCATENATE(\" \",D781)","v":" litres"},200,"ml"]
[{"$f":"IF(COUNTIF($B$1:B782,TRUE)=COUNTIF($B$1:B781,TRUE),\"\",COUNTIF($B$1:B782,TRUE))","v":""},{"$f":"Worksheet!$D$26","v":false},{"$f":"RANDBETWEEN(5,RANDBETWEEN(5,Worksheet!$D$8))","v":156},"litres","±",{"$f":"IF(I782=1,H782*10^RANDBETWEEN(IF(Worksheet!$D$14,-1,0),0),IF(I782=2,H782*10^RANDBETWEEN(RANDBETWEEN(0,2),2),CHOOSE(RANDBETWEEN(1,3),5,10,20)))","v":9},{"$f":"IF(I782=1,D782,IF(I782=3,\"%\",\"cm³\"))","v":"litres"},{"$f":"RANDBETWEEN(1,MIN(9,C782))","v":9},{"$f":"IF(AND(Worksheet!$D$12,RAND()<0.2),3,IF(RAND()<Worksheet!$D$10/100,1,2))","v":1},9,{"$f":"CONCATENATE(\" \",D782)","v":" litres"},9000,"cm³"]
[{"$f":"IF(COUNTIF($B$1:B783,TRUE)=COUNTIF($B$1:B783,TRUE),\"\",COUNTIF($B$1:B783,TRUE))","v":""},{"$f":"Worksheet!$B$28","v":true},{"$f":"RANDBETWEEN(5,20)","v":19},"°C","±",{"$f":"IF(I783=1,H783*10^RANDBETWEEN(IF(Worksheet!$D$14,-1,0),0),IF(I783=2,H783,CHOOSE(RANDBETWEEN(1,3),5,10,20)))","v":0.70000000000000007},{"$f":"IF(I783=1,D783,IF(I783=3,\"%\",\"sec\"))","v":"°C"},{"$f":"RANDBETWEEN(1,MIN(9,C783))","v":7},{"$f":"IF(AND(Worksheet!$D$12,RAND()<0),3,IF(RAND()<Worksheet!$D$10/100,1,2))","v":1},{"$f":"IF(I783=1,F783,IF(I783=2,F783,IF(I783=3,F783/100*C783,\"\")))","v":0.70000000000000007},{"$f":"CONCATENATE(\" \",D783)","v":" °C"},{"$f":"IF(I783=1,F783,IF(I783=2,F783,IF(I783=3,F783/100*C783,\"\")))","v":0.70000000000000007}," °C"]
[{"$f":"COUNTIF($B$1:B784,TRUE)","v":610},{"$f":"Worksheet!$B$20","v":true},{"$f":"RANDBETWEEN(5,RANDBETWEEN(5,Worksheet!$D$8))","v":71},"cm","±",{"$f":"IF(I784=1,H784*10^RANDBETWEEN(IF(Worksheet!$D$14,-1,0),0),IF(I784=2,H784,CHOOSE(RANDBETWEEN(1,3),5,10,20)))","v":10},{"$f":"IF(I784=1,D784,IF(I784=3,\"%\",\"mm\"))","v":"%"},{"$f":"RANDBETWEEN(1,MIN(9,C784))","v":3},{"$f":"IF(AND(Worksheet!$D$12,RAND()<0.2),3,IF(RAND()<Worksheet!$D$10/100,1,2))","v":3},{"$f":"IF(I784=1,F784,IF(I784=2,F784/10,IF(I784=3,F784/100*C784,\"\")))","v":7.1000000000000005},{"$f":"CONCATENATE(\" \",D784)","v":" cm"},{"$f":"IF(I784=1,F784*10,IF(I784=2,F784,IF(I784=3,F784/100*C784*10,\"\")))","v":71},"mm"]
[{"$f":"IF(COUNTIF($B$1:B785,TRUE)=COUNTIF($B$1:B784,TRUE),\"\",COUNTIF($B$1:B785,TRUE))","v":611},{"$f":"Worksheet!$B$22","v":true},{"$f":"RANDBETWEEN(5,RANDBETWEEN(5,Worksheet!$D$8))","v":13},"m","±",{"$f":"IF(I785=1,H785*10^RANDBETWEEN(IF(Worksheet!$D$14,-1,0),0),IF(I785=2,H785*10^RANDBETWEEN(RANDBETWEEN(0,1),1),CHOOSE(RANDBETWEEN(1,3),5,10,20)))","v":6},{"$f":"IF(I785=1,D785,IF(I785=3,\"%\",\"cm\"))","v":"m"},{"$f":"RANDBETWEEN(1,MIN(9,C785))","v":6},{"$f":"IF(AND(Worksheet!$D$12,RAND()<0.2),3,IF(RAND()<Worksheet!$D$10/100,1,2))","v":1},{"$f":"IF(I785=1,F785,IF(I785=2,F785/100,IF(I785=3,F785/100*C785,\"\")))","v":6},{"$f":"CONCATENATE(\" \",D785)","v":" m"},{"$f":"IF(I785=1,F785*100,IF(I785=2,F785,IF(I785=3,F785/100*C785*100,\"\")))","v":600},"cm"]
[{"$f":"IF(COUNTIF($B$1:B786,TRUE)=COUNTIF($B$1:B785,TRUE),\"\",COUNTIF($B$1:B786,TRUE))","v":612},{"$f":"Worksheet!$B$24","v":true},{"$f":"RANDBETWEEN(5,RANDBETWEEN(5,Worksheet!$D$8))","v":73},"km","±",{"$f":"IF(I786=1,H786*10^RANDBETWEEN(IF(Worksheet!$D$14,-1,0),0),IF(I786=2,H786*10^RANDBETWEEN(RANDBETWEEN(0,2),2),CHOOSE(RANDBETWEEN(1,3),5,10,20)))","v":0.4},{"$f":"IF(I786=1,D786,IF(I786=3,\"%\",\"m\"))","v":"km"},4,{"$f":"IF(AND(Worksheet!$D$12,RAND()<0.2),3,IF(RAND()<Worksheet!$D$10/100,1,2))","v":1},{"$f":"IF(I786=1,F786,IF(I786=2,F786/1000,IF(I786=3,F786/100*C786,\"\")))","v":0.4}," km",{"$f":"IF(I786=1,F786*1000,IF(I786=2,F786,IF(I786=3,F786/100*C786*1000,\"\")))","v":400},"m"]
[{"$f":"IF(COUNTIF($B$1:B787,TRUE)=COUNTIF($B$1:B786,TRUE),\"\",COUNTIF($B$1:B787,TRUE))","v":""},{"$f":"Worksheet!$B$26","v":false},{"$f":"RANDBETWEEN(5,RANDBETWEEN(5,Worksheet!$D$8))","v":48},"m","±",{"$f":"IF(I787=1,H787*10^RANDBETWEEN(IF(Worksheet!$D$14,-1,0),0),IF(I787=2,H787*10^RANDBETWEEN(RANDBETWEEN(0,2),2),CHOOSE(RANDBETWEEN(1,3),5,10,20)))","v":0.60000000000000009},{"$f":"IF(I787=1,D787,IF(I787=3,\"%\",\"mm\"))","v":"m"},6,{"$f":"IF(AND(Worksheet!$D$12,RAND()<0.2),3,IF(RAND()<Worksheet!$D$10/100,1,2))","v":1},0.60000000000000009," m",600.00000000000011,"mm"]
[{"$f":"IF(COUNTIF($B$1:B788,TRUE)=COUNTIF($B$1:B787,TRUE),\"\",COUNTIF($B$1:B788,TRUE))","v":613},{"$f":"Worksheet!$D$20","v":true},{"$f":"RANDBETWEEN(5,RANDBETWEEN(5,Worksheet!$D$8))","v":139},"kg","±",{"$f":"IF(I788=1,H788*10^RANDBETWEEN(IF(Worksheet!$D$14,-1,0),0),IF(I788=2,H788*10^RANDBETWEEN(RANDBETWEEN(0,2),2),CHOOSE(RANDBETWEEN(1,3),5,10,20)))","v":20},{"$f":"IF(I788=1,D788,IF(I788=3,\"%\",\"g\"))","v":"%"},{"$f":"RANDBETWEEN(1,MIN(9,C788))","v":7},{"$f":"IF(AND(Worksheet!$D$12,RAND()<0.2),3,IF(RAND()<Worksheet!$D$10/100,1,2))","v":3},27.8,{"$f":"CONCATENATE(\" \",D788)","v":" kg"},27800,"g"]
[{"$f":"IF(COUNTIF($B$1:B789,TRUE)=COUNTIF($B$1:B788,TRUE),\"\",COUNTIF($B$1:B789,TRUE))","v":614},{"$f":"Worksheet!$D$22","v":true},{"$f":"RANDBETWEEN(5,RANDBETWEEN(5,Worksheet!$D$8))","v":112},"tonnes","±",{"$f":"IF(I789=1,H789*10^RANDBETWEEN(IF(Worksheet!$D$14,-1,0),0),IF(I789=2,H789*10^RANDBETWEEN(RANDBETWEEN(0,2),2),CHOOSE(RANDBETWEEN(1,3),5,10,20)))","v":6},{"$f":"IF(I789=1,D789,IF(I789=3,\"%\",\"kg\"))","v":"tonnes"},{"$f":"RANDBETWEEN(1,MIN(9,C789))","v":6},{"$f":"IF(AND(Worksheet!$D$12,RAND()<0.2),3,IF(RAND()<Worksheet!$D$10/100,1,2))","v":1},6,{"$f":"CONCATENATE(\" \",D789)","v":" tonnes"},6000,"kg"]
[{"$f":"IF(COUNTIF($B$1:B790,TRUE)=COUNTIF($B$1:B789,TRUE),\"\",COUNTIF($B$1:B790,TRUE))","v":615},{"$f":"Worksheet!$D$24","v":true},{"$f":"RANDBETWEEN(5,RANDBETWEEN(5,Worksheet!$D$8))","v":37},"litres","±",{"$f":"IF(I790=1,H790*10^RANDBETWEEN(IF(Worksheet!$D$14,-1,0),0),IF(I790=2,H790*10^RANDBETWEEN(RANDBETWEEN(0,2),2),CHOOSE(RANDBETWEEN(1,3),5,10,20)))","v":10},{"$f":"IF(I790=1,D790,IF(I790=3,\"%\",\"ml\"))","v":"%"},{"$f":"RANDBETWEEN(1,MIN(9,C790))","v":1},{"$f":"IF(AND(Worksheet!$D$12,RAND()<0.2),3,IF(RAND()<Worksheet!$D$10/100,1,2))","v":3},3.7,{"$f":"CONCATENATE(\" \",D790)","v":" litres"},3700,"ml"]
[{"$f":"IF(COUNTIF($B$1:B791,TRUE)=COUNTIF($B$1:B790,TRUE),\"\",COUNTIF($B$1:B791,TRUE))","v":""},{"$f":"Worksheet!$D$26","v":false},{"$f":"RANDBETWEEN(5,RANDBETWEEN(5,Worksheet!$D$8))","v":93},"litres","±",{"$f":"IF(I791=1,H791*10^RANDBETWEEN(IF(Worksheet!$D$14,-1,0),0),IF(I791=2,H791*10^RANDBETWEEN(RANDBETWEEN(0,2),2),CHOOSE(RANDBETWEEN(1,3),5,10,20)))","v":8},{"$f":"IF(I791=1,D791,IF(I791=3,\"%\",\"cm³\"))","v":"litres"},{"$f":"RANDBETWEEN(1,MIN(9,C791))","v":8},{"$f":"IF(AND(Worksheet!$D$12,RAND()<0.2),3,IF(RAND()<Worksheet!$D$10/100,1,2))","v":1},8,{"$f":"CONCATENATE(\" \",D791)","v":" litres"},8000,"cm³"]
[{"$f":"IF(COUNTIF($B$1:B792,TRUE)=COUNTIF($B$1:B792,TRUE),\"\",COUNTIF($B$1:B792,TRUE))","v":""},{"$f":"Worksheet!$B$28","v":true},{"$f":"RANDBETWEEN(5,20)","v":15},"°C","±",{"$f":"IF(I792=1,H792*10^RANDBETWEEN(IF(Worksheet!$D$14,-1,0),0),IF(I792=2,H792,CHOOSE(RANDBETWEEN(1,3),5,10,20)))","v":0.60000000000000009},{"$f":"IF(I792=1,D792,IF(I792=3,\"%\",\"sec\"))","v":"°C"},{"$f":"RANDBETWEEN(1,MIN(9,C792))","v":6},{"$f":"IF(AND(Worksheet!$D$12,RAND()<0),3,IF(RAND()<Worksheet!$D$10/100,1,2))","v":1},{"$f":"IF(I792=1,F792,IF(I792=2,F792,IF(I792=3,F792/100*C792,\"\")))","v":0.60000000000000009},{"$f":"CONCATENATE(\" \",D792)","v":" °C"},{"$f":"IF(I792=1,F792,IF(I792=2,F792,IF(I792=3,F792/100*C792,\"\")))","v":0.60000000000000009}," °C"]
[{"$f":"COUNTIF($B$1:B793,TRUE)","v":617},{"$f":"Worksheet!$B$20","v":true},{"$f":"RANDBETWEEN(5,RANDBETWEEN(5,Worksheet!$D$8))","v":86},"cm","±",{"$f":"IF(I793=1,H793*10^RANDBETWEEN(IF(Worksheet!$D$14,-1,0),0),IF(I793=2,H793,CHOOSE(RANDBETWEEN(1,3),5,10,20)))","v":0.1},{"$f":"IF(I793=1,D793,IF(I793=3,\"%\",\"mm\"))","v":"cm"},{"$f":"RANDBETWEEN(1,MIN(9,C793))","v":1},{"$f":"IF(AND(Worksheet!$D$12,RAND()<0.2),3,IF(RAND()<Worksheet!$D$10/100,1,2))","v":1},{"$f":"IF(I793=1,F793,IF(I793=2,F793/10,IF(I793=3,F793/100*C793,\"\")))","v":0.1},{"$f":"CONCATENATE(\" \",D793)","v":" cm"},{"$f":"IF(I793=1,F793*10,IF(I793=2,F793,IF(I793=3,F793/100*C793*10,\"\")))","v":1},"mm"]
[{"$f":"IF(COUNTIF($B$1:B794,TRUE)=COUNTIF($B$1:B793,TRUE),\"\",COUNTIF($B$1:B794,TRUE))","v":618},{"$f":"Worksheet!$B$22","v":true},{"$f":"RANDBETWEEN(5,RANDBETWEEN(5,Worksheet!$D$8))","v":14},"m","±",{"$f":"IF(I794=1,H794*10^RANDBETWEEN(IF(Worksheet!$D$14,-1,0),0),IF(I794=2,H794*10^RANDBETWEEN(RANDBETWEEN(0,1),1),CHOOSE(RANDBETWEEN(1,3),5,10,20)))","v":0.9},{"$f":"IF(I794=1,D794,IF(I794=3,\"%\",\"cm\"))","v":"m"},{"$f":"RANDBETWEEN(1,MIN(9,C794))","v":9},{"$f":"IF(AND(Worksheet!$D$12,RAND()<0.2),3,IF(RAND()<Worksheet!$D$10/100,1,2))","v":1},{"$f":"IF(I794=1,F794,IF(I794=2,F794/100,IF(I794=3,F794/100*C794,\"\")))","v":0.9},{"$f":"CONCATENATE(\" \",D794)","v":" m"},{"$f":"IF(I794=1,F794*100,IF(I794=2,F794,IF(I794=3,F794/100*C794*100,\"\")))","v":90},"cm"]
[{"$f":"IF(COUNTIF($B$1:B795,TRUE)=COUNTIF($B$1:B794,TRUE),\"\",COUNTIF($B$1:B795,TRUE))","v":619},{"$f":"Worksheet!$B$24","v":true},{"$f":"RANDBETWEEN(5,RANDBETWEEN(5,Worksheet!$D$8))","v":150},"km","±",{"$f":"IF(I795=1,H795*10^RANDBETWEEN(IF(Worksheet!$D$14,-1,0),0),IF(I795=2,H795*10^RANDBETWEEN(RANDBETWEEN(0,2),2),CHOOSE(RANDBETWEEN(1,3),5,10,20)))","v":20},{"$f":"IF(I795=1,D795,IF(I795=3,\"%\",\"m\"))","v":"%"},2,{"$f":"IF(AND(Worksheet!$D$12,RAND()<0.2),3,IF(RAND()<Worksheet!$D$10/100,1,2))","v":3},{"$f":"IF(I795=1,F795,IF(I795=2,F795/1000,IF(I795=3,F795/100*C795,\"\")))","v":30}," km",{"$f":"IF(I795=1,F795*1000,IF(I795=2,F795,IF(I795=3,F795/100*C795*1000,\"\")))","v":30000},"m"]
[{"$f":"IF(COUNTIF($B$1:B796,TRUE)=COUNTIF($B$1:B795,TRUE),\"\",COUNTIF($B$1:B796,TRUE))","v":""},{"$f":"Worksheet!$B$26","v":false},{"$f":"RANDBETWEEN(5,RANDBETWEEN(5,Worksheet!$D$8))","v":114},"m","±",{"$f":"IF(I796=1,H796*10^RANDBETWEEN(IF(Worksheet!$D$14,-1,0),0),IF(I796=2,H796*10^RANDBETWEEN(RANDBETWEEN(0,2),2),CHOOSE(RANDBETWEEN(1,3),5,10,20)))","v":1},{"$f":"IF(I796=1,D796,IF(I796=3,\"%\",\"mm\"))","v":"m"},1,{"$f":"IF(AND(Worksheet!$D$12,RAND()<0.2),3,IF(RAND()<Worksheet!$D$10/100,1,2))","v":1},1," m",1000,"mm"]
[{"$f":"IF(COUNTIF($B$1:B797,TRUE)=COUNTIF($B$1:B796,TRUE),\"\",COUNTIF($B$1:B797,TRUE))","v":620},{"$f":"Worksheet!$D$20","v":true},{"$f":"RANDBETWEEN(5,RANDBETWEEN(5,Worksheet!$D$8))","v":49},"kg","±",{"$f":"IF(I797=1,H797*10^RANDBETWEEN(IF(Worksheet!$D$14,-1,0),0),IF(I797=2,H797*10^RANDBETWEEN(RANDBETWEEN(0,2),2),CHOOSE(RANDBETWEEN(1,3),5,10,20)))","v":90},{"$f":"IF(I797=1,D797,IF(I797=3,\"%\",\"g\"))","v":"g"},{"$f":"RANDBETWEEN(1,MIN(9,C797))","v":9},{"$f":"IF(AND(Worksheet!$D$12,RAND()<0.2),3,IF(RAND()<Worksheet!$D$10/100,1,2))","v":2},0.09,{"$f":"CONCATENATE(\" \",D797)","v":" kg"},90,"g"]
[{"$f":"IF(COUNTIF($B$1:B798,TRUE)=COUNTIF($B$1:B797,TRUE),\"\",COUNTIF($B$1:B798,TRUE))","v":621},{"$f":"Worksheet!$D$22","v":true},{"$f":"RANDBETWEEN(5,RANDBETWEEN(5,Worksheet!$D$8))","v":114},"tonnes","±",{"$f":"IF(I798=1,H798*10^RANDBETWEEN(IF(Worksheet!$D$14,-1,0),0),IF(I798=2,H798*10^RANDBETWEEN(RANDBETWEEN(0,2),2),CHOOSE(RANDBETWEEN(1,3),5,10,20)))","v":0.1},{"$f":"IF(I798=1,D798,IF(I798=3,\"%\",\"kg\"))","v":"tonnes"},{"$f":"RANDBETWEEN(1,MIN(9,C798))","v":1},{"$f":"IF(AND(Worksheet!$D$12,RAND()<0.2),3,IF(RAND()<Worksheet!$D$10/100,1,2))","v":1},0.1,{"$f":"CONCATENATE(\" \",D798)","v":" tonnes"},100,"kg"]
[{"$f":"IF(COUNTIF($B$1:B799,TRUE)=COUNTIF($B$1:B798,TRUE),\"\",COUNTIF($B$1:B799,TRUE))","v":622},{"$f":"Worksheet!$D$24","v":true},{"$f":"RANDBETWEEN(5,RANDBETWEEN(5,Worksheet!$D$8))","v":141},"litres","±",{"$f":"IF(I799=1,H799*10^RANDBETWEEN(IF(Worksheet!$D$14,-1,0),0),IF(I799=2,H799*10^RANDBETWEEN(RANDBETWEEN(0,2),2),CHOOSE(RANDBETWEEN(1,3),5,10,20)))","v":4},{"$f":"IF(I799=1,D799,IF(I799=3,\"%\",\"ml\"))","v":"litres"},{"$f":"RANDBETWEEN(1,MIN(9,C799))","v":4},{"$f":"IF(AND(Worksheet!$D$12,RAND()<0.2),3,IF(RAND()<Worksheet!$D$10/100,1,2))","v":1},4,{"$f":"CONCATENATE(\" \",D799)","v":" litres"},4000,"ml"]
[{"$f":"IF(COUNTIF($B$1:B800,TRUE)=COUNTIF($B$1:B799,TRUE),\"\",COUNTIF($B$1:B800,TRUE))","v":""},{"$f":"Worksheet!$D$26","v":false},{"$f":"RANDBETWEEN(5,RANDBETWEEN(5,Worksheet!$D$8))","v":53},"litres","±",{"$f":"IF(I800=1,H800*10^RANDBETWEEN(IF(Worksheet!$D$14,-1,0),0),IF(I800=2,H800*10^RANDBETWEEN(RANDBETWEEN(0,2),2),CHOOSE(RANDBETWEEN(1,3),5,10,20)))","v":4},{"$f":"IF(I800=1,D800,IF(I800=3,\"%\",\"cm³\"))","v":"litres"},{"$f":"RANDBETWEEN(1,MIN(9,C800))","v":4},{"$f":"IF(AND(Worksheet!$D$12,RAND()<0.2),3,IF(RAND()<Worksheet!$D$10/100,1,2))","v":1},4,{"$f":"CONCATENATE(\" \",D800)","v":" litres"},4000,"cm³"]
[{"$f":"IF(COUNTIF($B$1:B801,TRUE)=COUNTIF($B$1:B801,TRUE),\"\",COUNTIF($B$1:B801,TRUE))","v":""},{"$f":"Worksheet!$B$28","v":true},{"$f":"RANDBETWEEN(5,20)","v":14},"°C","±",{"$f":"IF(I801=1,H801*10^RANDBETWEEN(IF(Worksheet!$D$14,-1,0),0),IF(I801=2,H801,CHOOSE(RANDBETWEEN(1,3),5,10,20)))","v":1},{"$f":"IF(I801=1,D801,IF(I801=3,\"%\",\"sec\"))","v":"°C"},{"$f":"RANDBETWEEN(1,MIN(9,C801))","v":1},{"$f":"IF(AND(Worksheet!$D$12,RAND()<0),3,IF(RAND()<Worksheet!$D$10/100,1,2))","v":1},{"$f":"IF(I801=1,F801,IF(I801=2,F801,IF(I801=3,F801/100*C801,\"\")))","v":1},{"$f":"CONCATENATE(\" \",D801)","v":" °C"},{"$f":"IF(I801=1,F801,IF(I801=2,F801,IF(I801=3,F801/100*C801,\"\")))","v":1}," °C"]
[{"$f":"COUNTIF($B$1:B802,TRUE)","v":624},{"$f":"Worksheet!$B$20","v":true},{"$f":"RANDBETWEEN(5,RANDBETWEEN(5,Worksheet!$D$8))","v":5},"cm","±",{"$f":"IF(I802=1,H802*10^RANDBETWEEN(IF(Worksheet!$D$14,-1,0),0),IF(I802=2,H802,CHOOSE(RANDBETWEEN(1,3),5,10,20)))","v":5},{"$f":"IF(I802=1,D802,IF(I802=3,\"%\",\"mm\"))","v":"cm"},{"$f":"RANDBETWEEN(1,MIN(9,C802))","v":5},{"$f":"IF(AND(Worksheet!$D$12,RAND()<0.2),3,IF(RAND()<Worksheet!$D$10/100,1,2))","v":1},{"$f":"IF(I802=1,F802,IF(I802=2,F802/10,IF(I802=3,F802/100*C802,\"\")))","v":5},{"$f":"CONCATENATE(\" \",D802)","v":" cm"},{"$f":"IF(I802=1,F802*10,IF(I802=2,F802,IF(I802=3,F802/100*C802*10,\"\")))","v":50},"mm"]
[{"$f":"IF(COUNTIF($B$1:B803,TRUE)=COUNTIF($B$1:B802,TRUE),\"\",COUNTIF($B$1:B803,TRUE))","v":625},{"$f":"Worksheet!$B$22","v":true},{"$f":"RANDBETWEEN(5,RANDBETWEEN(5,Worksheet!$D$8))","v":6},"m","±",{"$f":"IF(I803=1,H803*10^RANDBETWEEN(IF(Worksheet!$D$14,-1,0),0),IF(I803=2,H803*10^RANDBETWEEN(RANDBETWEEN(0,1),1),CHOOSE(RANDBETWEEN(1,3),5,10,20)))","v":1},{"$f":"IF(I803=1,D803,IF(I803=3,\"%\",\"cm\"))","v":"m"},{"$f":"RANDBETWEEN(1,MIN(9,C803))","v":1},{"$f":"IF(AND(Worksheet!$D$12,RAND()<0.2),3,IF(RAND()<Worksheet!$D$10/100,1,2))","v":1},{"$f":"IF(I803=1,F803,IF(I803=2,F803/100,IF(I803=3,F803/100*C803,\"\")))","v":1},{"$f":"CONCATENATE(\" \",D803)","v":" m"},{"$f":"IF(I803=1,F803*100,IF(I803=2,F803,IF(I803=3,F803/100*C803*100,\"\")))","v":100},"cm"]
[{"$f":"IF(COUNTIF($B$1:B804,TRUE)=COUNTIF($B$1:B803,TRUE),\"\",COUNTIF($B$1:B804,TRUE))","v":626},{"$f":"Worksheet!$B$24","v":true},{"$f":"RANDBETWEEN(5,RANDBETWEEN(5,Worksheet!$D$8))","v":12},"km","±",{"$f":"IF(I804=1,H804*10^RANDBETWEEN(IF(Worksheet!$D$14,-1,0),0),IF(I804=2,H804*10^RANDBETWEEN(RANDBETWEEN(0,2),2),CHOOSE(RANDBETWEEN(1,3),5,10,20)))","v":200},{"$f":"IF(I804=1,D804,IF(I804=3,\"%\",\"m\"))","v":"m"},2,{"$f":"IF(AND(Worksheet!$D$12,RAND()<0.2),3,IF(RAND()<Worksheet!$D$10/100,1,2))","v":2},{"$f":"IF(I804=1,F804,IF(I804=2,F804/1000,IF(I804=3,F804/100*C804,\"\")))","v":0.2}," km",{"$f":"IF(I804=1,F804*1000,IF(I804=2,F804,IF(I804=3,F804/100*C804*1000,\"\")))","v":200},"m"]
[{"$f":"IF(COUNTIF($B$1:B805,TRUE)=COUNTIF($B$1:B804,TRUE),\"\",COUNTIF($B$1:B805,TRUE))","v":""},{"$f":"Worksheet!$B$26","v":false},{"$f":"RANDBETWEEN(5,RANDBETWEEN(5,Worksheet!$D$8))","v":36},"m","±",{"$f":"IF(I805=1,H805*10^RANDBETWEEN(IF(Worksheet!$D$14,-1,0),0),IF(I805=2,H805*10^RANDBETWEEN(RANDBETWEEN(0,2),2),CHOOSE(RANDBETWEEN(1,3),5,10,20)))","v":2},{"$f":"IF(I805=1,D805,IF(I805=3,\"%\",\"mm\"))","v":"m"},2,{"$f":"IF(AND(Worksheet!$D$12,RAND()<0.2),3,IF(RAND()<Worksheet!$D$10/100,1,2))","v":1},2," m",2000,"mm"]
[{"$f":"IF(COUNTIF($B$1:B806,TRUE)=COUNTIF($B$1:B805,TRUE),\"\",COUNTIF($B$1:B806,TRUE))","v":627},{"$f":"Worksheet!$D$20","v":true},{"$f":"RANDBETWEEN(5,RANDBETWEEN(5,Worksheet!$D$8))","v":24},"kg","±",{"$f":"IF(I806=1,H806*10^RANDBETWEEN(IF(Worksheet!$D$14,-1,0),0),IF(I806=2,H806*10^RANDBETWEEN(RANDBETWEEN(0,2),2),CHOOSE(RANDBETWEEN(1,3),5,10,20)))","v":500},{"$f":"IF(I806=1,D806,IF(I806=3,\"%\",\"g\"))","v":"g"},{"$f":"RANDBETWEEN(1,MIN(9,C806))","v":5},{"$f":"IF(AND(Worksheet!$D$12,RAND()<0.2),3,IF(RAND()<Worksheet!$D$10/100,1,2))","v":2},0.5,{"$f":"CONCATENATE(\" \",D806)","v":" kg"},500,"g"]
[{"$f":"IF(COUNTIF($B$1:B807,TRUE)=COUNTIF($B$1:B806,TRUE),\"\",COUNTIF($B$1:B807,TRUE))","v":628},{"$f":"Worksheet!$D$22","v":true},{"$f":"RANDBETWEEN(5,RANDBETWEEN(5,Worksheet!$D$8))","v":6},"tonnes","±",{"$f":"IF(I807=1,H807*10^RANDBETWEEN(IF(Worksheet!$D$14,-1,0),0),IF(I807=2,H807*10^RANDBETWEEN(RANDBETWEEN(0,2),2),CHOOSE(RANDBETWEEN(1,3),5,10,20)))","v":60},{"$f":"IF(I807=1,D807,IF(I807=3,\"%\",\"kg\"))","v":"kg"},{"$f":"RANDBETWEEN(1,MIN(9,C807))","v":6},{"$f":"IF(AND(Worksheet!$D$12,RAND()<0.2),3,IF(RAND()<Worksheet!$D$10/100,1,2))","v":2},0.06,{"$f":"CONCATENATE(\" \",D807)","v":" tonnes"},60,"kg"]
[{"$f":"IF(COUNTIF($B$1:B808,TRUE)=COUNTIF($B$1:B807,TRUE),\"\",COUNTIF($B$1:B808,TRUE))","v":629},{"$f":"Worksheet!$D$24","v":true},{"$f":"RANDBETWEEN(5,RANDBETWEEN(5,Worksheet!$D$8))","v":58},"litres","±",{"$f":"IF(I808=1,H808*10^RANDBETWEEN(IF(Worksheet!$D$14,-1,0),0),IF(I808=2,H808*10^RANDBETWEEN(RANDBETWEEN(0,2),2),CHOOSE(RANDBETWEEN(1,3),5,10,20)))","v":0.2},{"$f":"IF(I808=1,D808,IF(I808=3,\"%\",\"ml\"))","v":"litres"},{"$f":"RANDBETWEEN(1,MIN(9,C808))","v":2},{"$f":"IF(AND(Worksheet!$D$12,RAND()<0.2),3,IF(RAND()<Worksheet!$D$10/100,1,2))","v":1},0.2,{"$f":"CONCATENATE(\" \",D808)","v":" litres"},200,"ml"]
[{"$f":"IF(COUNTIF($B$1:B809,TRUE)=COUNTIF($B$1:B808,TRUE),\"\",COUNTIF($B$1:B809,TRUE))","v":""},{"$f":"Worksheet!$D$26","v":false},{"$f":"RANDBETWEEN(5,RANDBETWEEN(5,Worksheet!$D$8))","v":111},"litres","±",{"$f":"IF(I809=1,H809*10^RANDBETWEEN(IF(Worksheet!$D$14,-1,0),0),IF(I809=2,H809*10^RANDBETWEEN(RANDBETWEEN(0,2),2),CHOOSE(RANDBETWEEN(1,3),5,10,20)))","v":0.9},{"$f":"IF(I809=1,D809,IF(I809=3,\"%\",\"cm³\"))","v":"litres"},{"$f":"RANDBETWEEN(1,MIN(9,C809))","v":9},{"$f":"IF(AND(Worksheet!$D$12,RAND()<0.2),3,IF(RAND()<Worksheet!$D$10/100,1,2))","v":1},0.9,{"$f":"CONCATENATE(\" \",D809)","v":" litres"},900,"cm³"]
[{"$f":"IF(COUNTIF($B$1:B810,TRUE)=COUNTIF($B$1:B810,TRUE),\"\",COUNTIF($B$1:B810,TRUE))","v":""},{"$f":"Worksheet!$B$28","v":true},{"$f":"RANDBETWEEN(5,20)","v":13},"°C","±",{"$f":"IF(I810=1,H810*10^RANDBETWEEN(IF(Worksheet!$D$14,-1,0),0),IF(I810=2,H810,CHOOSE(RANDBETWEEN(1,3),5,10,20)))","v":9},{"$f":"IF(I810=1,D810,IF(I810=3,\"%\",\"sec\"))","v":"°C"},{"$f":"RANDBETWEEN(1,MIN(9,C810))","v":9},{"$f":"IF(AND(Worksheet!$D$12,RAND()<0),3,IF(RAND()<Worksheet!$D$10/100,1,2))","v":1},{"$f":"IF(I810=1,F810,IF(I810=2,F810,IF(I810=3,F810/100*C810,\"\")))","v":9},{"$f":"CONCATENATE(\" \",D810)","v":" °C"},{"$f":"IF(I810=1,F810,IF(I810=2,F810,IF(I810=3,F810/100*C810,\"\")))","v":9}," °C"]
[{"$f":"COUNTIF($B$1:B811,TRUE)","v":631},{"$f":"Worksheet!$B$20","v":true},{"$f":"RANDBETWEEN(5,RANDBETWEEN(5,Worksheet!$D$8))","v":31},"cm","±",{"$f":"IF(I811=1,H811*10^RANDBETWEEN(IF(Worksheet!$D$14,-1,0),0),IF(I811=2,H811,CHOOSE(RANDBETWEEN(1,3),5,10,20)))","v":5},{"$f":"IF(I811=1,D811,IF(I811=3,\"%\",\"mm\"))","v":"cm"},{"$f":"RANDBETWEEN(1,MIN(9,C811))","v":5},{"$f":"IF(AND(Worksheet!$D$12,RAND()<0.2),3,IF(RAND()<Worksheet!$D$10/100,1,2))","v":1},{"$f":"IF(I811=1,F811,IF(I811=2,F811/10,IF(I811=3,F811/100*C811,\"\")))","v":5},{"$f":"CONCATENATE(\" \",D811)","v":" cm"},{"$f":"IF(I811=1,F811*10,IF(I811=2,F811,IF(I811=3,F811/100*C811*10,\"\")))","v":50},"mm"]
[{"$f":"IF(COUNTIF($B$1:B812,TRUE)=COUNTIF($B$1:B811,TRUE),\"\",COUNTIF($B$1:B812,TRUE))","v":632},{"$f":"Worksheet!$B$22","v":true},{"$f":"RANDBETWEEN(5,RANDBETWEEN(5,Worksheet!$D$8))","v":70},"m","±",{"$f":"IF(I812=1,H812*10^RANDBETWEEN(IF(Worksheet!$D$14,-1,0),0),IF(I812=2,H812*10^RANDBETWEEN(RANDBETWEEN(0,1),1),CHOOSE(RANDBETWEEN(1,3),5,10,20)))","v":5},{"$f":"IF(I812=1,D812,IF(I812=3,\"%\",\"cm\"))","v":"m"},{"$f":"RANDBETWEEN(1,MIN(9,C812))","v":5},{"$f":"IF(AND(Worksheet!$D$12,RAND()<0.2),3,IF(RAND()<Worksheet!$D$10/100,1,2))","v":1},{"$f":"IF(I812=1,F812,IF(I812=2,F812/100,IF(I812=3,F812/100*C812,\"\")))","v":5},{"$f":"CONCATENATE(\" \",D812)","v":" m"},{"$f":"IF(I812=1,F812*100,IF(I812=2,F812,IF(I812=3,F812/100*C812*100,\"\")))","v":500},"cm"]
[{"$f":"IF(COUNTIF($B$1:B813,TRUE)=COUNTIF($B$1:B812,TRUE),\"\",COUNTIF($B$1:B813,TRUE))","v":633},{"$f":"Worksheet!$B$24","v":true},{"$f":"RANDBETWEEN(5,RANDBETWEEN(5,Worksheet!$D$8))","v":31},"km","±",{"$f":"IF(I813=1,H813*10^RANDBETWEEN(IF(Worksheet!$D$14,-1,0),0),IF(I813=2,H813*10^RANDBETWEEN(RANDBETWEEN(0,2),2),CHOOSE(RANDBETWEEN(1,3),5,10,20)))","v":800},{"$f":"IF(I813=1,D813,IF(I813=3,\"%\",\"m\"))","v":"m"},8,{"$f":"IF(AND(Worksheet!$D$12,RAND()<0.2),3,IF(RAND()<Worksheet!$D$10/100,1,2))","v":2},{"$f":"IF(I813=1,F813,IF(I813=2,F813/1000,IF(I813=3,F813/100*C813,\"\")))","v":0.8}," km",{"$f":"IF(I813=1,F813*1000,IF(I813=2,F813,IF(I813=3,F813/100*C813*1000,\"\")))","v":800},"m"]
[{"$f":"IF(COUNTIF($B$1:B814,TRUE)=COUNTIF($B$1:B813,TRUE),\"\",COUNTIF($B$1:B814,TRUE))","v":""},{"$f":"Worksheet!$B$26","v":false},{"$f":"RANDBETWEEN(5,RANDBETWEEN(5,Worksheet!$D$8))","v":131},"m","±",{"$f":"IF(I814=1,H814*10^RANDBETWEEN(IF(Worksheet!$D$14,-1,0),0),IF(I814=2,H814*10^RANDBETWEEN(RANDBETWEEN(0,2),2),CHOOSE(RANDBETWEEN(1,3),5,10,20)))","v":0.5},{"$f":"IF(I814=1,D814,IF(I814=3,\"%\",\"mm\"))","v":"m"},5,{"$f":"IF(AND(Worksheet!$D$12,RAND()<0.2),3,IF(RAND()<Worksheet!$D$10/100,1,2))","v":1},0.5," m",500,"mm"]
[{"$f":"IF(COUNTIF($B$1:B815,TRUE)=COUNTIF($B$1:B814,TRUE),\"\",COUNTIF($B$1:B815,TRUE))","v":634},{"$f":"Worksheet!$D$20","v":true},{"$f":"RANDBETWEEN(5,RANDBETWEEN(5,Worksheet!$D$8))","v":80},"kg","±",{"$f":"IF(I815=1,H815*10^RANDBETWEEN(IF(Worksheet!$D$14,-1,0),0),IF(I815=2,H815*10^RANDBETWEEN(RANDBETWEEN(0,2),2),CHOOSE(RANDBETWEEN(1,3),5,10,20)))","v":0.1},{"$f":"IF(I815=1,D815,IF(I815=3,\"%\",\"g\"))","v":"kg"},{"$f":"RANDBETWEEN(1,MIN(9,C815))","v":1},{"$f":"IF(AND(Worksheet!$D$12,RAND()<0.2),3,IF(RAND()<Worksheet!$D$10/100,1,2))","v":1},0.1,{"$f":"CONCATENATE(\" \",D815)","v":" kg"},100,"g"]
[{"$f":"IF(COUNTIF($B$1:B816,TRUE)=COUNTIF($B$1:B815,TRUE),\"\",COUNTIF($B$1:B816,TRUE))","v":635},{"$f":"Worksheet!$D$22","v":true},{"$f":"RANDBETWEEN(5,RANDBETWEEN(5,Worksheet!$D$8))","v":157},"tonnes","±",{"$f":"IF(I816=1,H816*10^RANDBETWEEN(IF(Worksheet!$D$14,-1,0),0),IF(I816=2,H816*10^RANDBETWEEN(RANDBETWEEN(0,2),2),CHOOSE(RANDBETWEEN(1,3),5,10,20)))","v":0.70000000000000007},{"$f":"IF(I816=1,D816,IF(I816=3,\"%\",\"kg\"))","v":"tonnes"},{"$f":"RANDBETWEEN(1,MIN(9,C816))","v":7},{"$f":"IF(AND(Worksheet!$D$12,RAND()<0.2),3,IF(RAND()<Worksheet!$D$10/100,1,2))","v":1},0.70000000000000007,{"$f":"CONCATENATE(\" \",D816)","v":" tonnes"},700.00000000000011,"kg"]
[{"$f":"IF(COUNTIF($B$1:B817,TRUE)=COUNTIF($B$1:B816,TRUE),\"\",COUNTIF($B$1:B817,TRUE))","v":636},{"$f":"Worksheet!$D$24","v":true},{"$f":"RANDBETWEEN(5,RANDBETWEEN(5,Worksheet!$D$8))","v":110},"litres","±",{"$f":"IF(I817=1,H817*10^RANDBETWEEN(IF(Worksheet!$D$14,-1,0),0),IF(I817=2,H817*10^RANDBETWEEN(RANDBETWEEN(0,2),2),CHOOSE(RANDBETWEEN(1,3),5,10,20)))","v":0.70000000000000007},{"$f":"IF(I817=1,D817,IF(I817=3,\"%\",\"ml\"))","v":"litres"},{"$f":"RANDBETWEEN(1,MIN(9,C817))","v":7},{"$f":"IF(AND(Worksheet!$D$12,RAND()<0.2),3,IF(RAND()<Worksheet!$D$10/100,1,2))","v":1},0.70000000000000007,{"$f":"CONCATENATE(\" \",D817)","v":" litres"},700.00000000000011,"ml"]
[{"$f":"IF(COUNTIF($B$1:B818,TRUE)=COUNTIF($B$1:B817,TRUE),\"\",COUNTIF($B$1:B818,TRUE))","v":""},{"$f":"Worksheet!$D$26","v":false},{"$f":"RANDBETWEEN(5,RANDBETWEEN(5,Worksheet!$D$8))","v":47},"litres","±",{"$f":"IF(I818=1,H818*10^RANDBETWEEN(IF(Worksheet!$D$14,-1,0),0),IF(I818=2,H818*10^RANDBETWEEN(RANDBETWEEN(0,2),2),CHOOSE(RANDBETWEEN(1,3),5,10,20)))","v":40},{"$f":"IF(I818=1,D818,IF(I818=3,\"%\",\"cm³\"))","v":"cm³"},{"$f":"RANDBETWEEN(1,MIN(9,C818))","v":4},{"$f":"IF(AND(Worksheet!$D$12,RAND()<0.2),3,IF(RAND()<Worksheet!$D$10/100,1,2))","v":2},0.04,{"$f":"CONCATENATE(\" \",D818)","v":" litres"},40,"cm³"]
[{"$f":"IF(COUNTIF($B$1:B819,TRUE)=COUNTIF($B$1:B819,TRUE),\"\",COUNTIF($B$1:B819,TRUE))","v":""},{"$f":"Worksheet!$B$28","v":true},{"$f":"RANDBETWEEN(5,20)","v":6},"°C","±",{"$f":"IF(I819=1,H819*10^RANDBETWEEN(IF(Worksheet!$D$14,-1,0),0),IF(I819=2,H819,CHOOSE(RANDBETWEEN(1,3),5,10,20)))","v":4},{"$f":"IF(I819=1,D819,IF(I819=3,\"%\",\"sec\"))","v":"sec"},{"$f":"RANDBETWEEN(1,MIN(9,C819))","v":4},{"$f":"IF(AND(Worksheet!$D$12,RAND()<0),3,IF(RAND()<Worksheet!$D$10/100,1,2))","v":2},{"$f":"IF(I819=1,F819,IF(I819=2,F819,IF(I819=3,F819/100*C819,\"\")))","v":4},{"$f":"CONCATENATE(\" \",D819)","v":" °C"},{"$f":"IF(I819=1,F819,IF(I819=2,F819,IF(I819=3,F819/100*C819,\"\")))","v":4}," °C"]
[{"$f":"COUNTIF($B$1:B820,TRUE)","v":638},{"$f":"Worksheet!$B$20","v":true},{"$f":"RANDBETWEEN(5,RANDBETWEEN(5,Worksheet!$D$8))","v":43},"cm","±",{"$f":"IF(I820=1,H820*10^RANDBETWEEN(IF(Worksheet!$D$14,-1,0),0),IF(I820=2,H820,CHOOSE(RANDBETWEEN(1,3),5,10,20)))","v":9},{"$f":"IF(I820=1,D820,IF(I820=3,\"%\",\"mm\"))","v":"mm"},{"$f":"RANDBETWEEN(1,MIN(9,C820))","v":9},{"$f":"IF(AND(Worksheet!$D$12,RAND()<0.2),3,IF(RAND()<Worksheet!$D$10/100,1,2))","v":2},{"$f":"IF(I820=1,F820,IF(I820=2,F820/10,IF(I820=3,F820/100*C820,\"\")))","v":0.9},{"$f":"CONCATENATE(\" \",D820)","v":" cm"},{"$f":"IF(I820=1,F820*10,IF(I820=2,F820,IF(I820=3,F820/100*C820*10,\"\")))","v":9},"mm"]
[{"$f":"IF(COUNTIF($B$1:B821,TRUE)=COUNTIF($B$1:B820,TRUE),\"\",COUNTIF($B$1:B821,TRUE))","v":639},{"$f":"Worksheet!$B$22","v":true},{"$f":"RANDBETWEEN(5,RANDBETWEEN(5,Worksheet!$D$8))","v":12},"m","±",{"$f":"IF(I821=1,H821*10^RANDBETWEEN(IF(Worksheet!$D$14,-1,0),0),IF(I821=2,H821*10^RANDBETWEEN(RANDBETWEEN(0,1),1),CHOOSE(RANDBETWEEN(1,3),5,10,20)))","v":2},{"$f":"IF(I821=1,D821,IF(I821=3,\"%\",\"cm\"))","v":"m"},{"$f":"RANDBETWEEN(1,MIN(9,C821))","v":2},{"$f":"IF(AND(Worksheet!$D$12,RAND()<0.2),3,IF(RAND()<Worksheet!$D$10/100,1,2))","v":1},{"$f":"IF(I821=1,F821,IF(I821=2,F821/100,IF(I821=3,F821/100*C821,\"\")))","v":2},{"$f":"CONCATENATE(\" \",D821)","v":" m"},{"$f":"IF(I821=1,F821*100,IF(I821=2,F821,IF(I821=3,F821/100*C821*100,\"\")))","v":200},"cm"]
[{"$f":"IF(COUNTIF($B$1:B822,TRUE)=COUNTIF($B$1:B821,TRUE),\"\",COUNTIF($B$1:B822,TRUE))","v":640},{"$f":"Worksheet!$B$24","v":true},{"$f":"RANDBETWEEN(5,RANDBETWEEN(5,Worksheet!$D$8))","v":47},"km","±",{"$f":"IF(I822=1,H822*10^RANDBETWEEN(IF(Worksheet!$D$14,-1,0),0),IF(I822=2,H822*10^RANDBETWEEN(RANDBETWEEN(0,2),2),CHOOSE(RANDBETWEEN(1,3),5,10,20)))","v":300},{"$f":"IF(I822=1,D822,IF(I822=3,\"%\",\"m\"))","v":"m"},3,{"$f":"IF(AND(Worksheet!$D$12,RAND()<0.2),3,IF(RAND()<Worksheet!$D$10/100,1,2))","v":2},{"$f":"IF(I822=1,F822,IF(I822=2,F822/1000,IF(I822=3,F822/100*C822,\"\")))","v":0.3}," km",{"$f":"IF(I822=1,F822*1000,IF(I822=2,F822,IF(I822=3,F822/100*C822*1000,\"\")))","v":300},"m"]
[{"$f":"IF(COUNTIF($B$1:B823,TRUE)=COUNTIF($B$1:B822,TRUE),\"\",COUNTIF($B$1:B823,TRUE))","v":""},{"$f":"Worksheet!$B$26","v":false},{"$f":"RANDBETWEEN(5,RANDBETWEEN(5,Worksheet!$D$8))","v":50},"m","±",{"$f":"IF(I823=1,H823*10^RANDBETWEEN(IF(Worksheet!$D$14,-1,0),0),IF(I823=2,H823*10^RANDBETWEEN(RANDBETWEEN(0,2),2),CHOOSE(RANDBETWEEN(1,3),5,10,20)))","v":100},{"$f":"IF(I823=1,D823,IF(I823=3,\"%\",\"mm\"))","v":"mm"},1,{"$f":"IF(AND(Worksheet!$D$12,RAND()<0.2),3,IF(RAND()<Worksheet!$D$10/100,1,2))","v":2},0.1," m",100,"mm"]
[{"$f":"IF(COUNTIF($B$1:B824,TRUE)=COUNTIF($B$1:B823,TRUE),\"\",COUNTIF($B$1:B824,TRUE))","v":641},{"$f":"Worksheet!$D$20","v":true},{"$f":"RANDBETWEEN(5,RANDBETWEEN(5,Worksheet!$D$8))","v":84},"kg","±",{"$f":"IF(I824=1,H824*10^RANDBETWEEN(IF(Worksheet!$D$14,-1,0),0),IF(I824=2,H824*10^RANDBETWEEN(RANDBETWEEN(0,2),2),CHOOSE(RANDBETWEEN(1,3),5,10,20)))","v":0.8},{"$f":"IF(I824=1,D824,IF(I824=3,\"%\",\"g\"))","v":"kg"},{"$f":"RANDBETWEEN(1,MIN(9,C824))","v":8},{"$f":"IF(AND(Worksheet!$D$12,RAND()<0.2),3,IF(RAND()<Worksheet!$D$10/100,1,2))","v":1},0.8,{"$f":"CONCATENATE(\" \",D824)","v":" kg"},800,"g"]
[{"$f":"IF(COUNTIF($B$1:B825,TRUE)=COUNTIF($B$1:B824,TRUE),\"\",COUNTIF($B$1:B825,TRUE))","v":642},{"$f":"Worksheet!$D$22","v":true},{"$f":"RANDBETWEEN(5,RANDBETWEEN(5,Worksheet!$D$8))","v":37},"tonnes","±",{"$f":"IF(I825=1,H825*10^RANDBETWEEN(IF(Worksheet!$D$14,-1,0),0),IF(I825=2,H825*10^RANDBETWEEN(RANDBETWEEN(0,2),2),CHOOSE(RANDBETWEEN(1,3),5,10,20)))","v":1},{"$f":"IF(I825=1,D825,IF(I825=3,\"%\",\"kg\"))","v":"tonnes"},{"$f":"RANDBETWEEN(1,MIN(9,C825))","v":1},{"$f":"IF(AND(Worksheet!$D$12,RAND()<0.2),3,IF(RAND()<Worksheet!$D$10/100,1,2))","v":1},1,{"$f":"CONCATENATE(\" \",D825)","v":" tonnes"},1000,"kg"]
[{"$f":"IF(COUNTIF($B$1:B826,TRUE)=COUNTIF($B$1:B825,TRUE),\"\",COUNTIF($B$1:B826,TRUE))","v":643},{"$f":"Worksheet!$D$24","v":true},{"$f":"RANDBETWEEN(5,RANDBETWEEN(5,Worksheet!$D$8))","v":9},"litres","±",{"$f":"IF(I826=1,H826*10^RANDBETWEEN(IF(Worksheet!$D$14,-1,0),0),IF(I826=2,H826*10^RANDBETWEEN(RANDBETWEEN(0,2),2),CHOOSE(RANDBETWEEN(1,3),5,10,20)))","v":2},{"$f":"IF(I826=1,D826,IF(I826=3,\"%\",\"ml\"))","v":"litres"},{"$f":"RANDBETWEEN(1,MIN(9,C826))","v":2},{"$f":"IF(AND(Worksheet!$D$12,RAND()<0.2),3,IF(RAND()<Worksheet!$D$10/100,1,2))","v":1},2,{"$f":"CONCATENATE(\" \",D826)","v":" litres"},2000,"ml"]
[{"$f":"IF(COUNTIF($B$1:B827,TRUE)=COUNTIF($B$1:B826,TRUE),\"\",COUNTIF($B$1:B827,TRUE))","v":""},{"$f":"Worksheet!$D$26","v":false},{"$f":"RANDBETWEEN(5,RANDBETWEEN(5,Worksheet!$D$8))","v":103},"litres","±",{"$f":"IF(I827=1,H827*10^RANDBETWEEN(IF(Worksheet!$D$14,-1,0),0),IF(I827=2,H827*10^RANDBETWEEN(RANDBETWEEN(0,2),2),CHOOSE(RANDBETWEEN(1,3),5,10,20)))","v":5},{"$f":"IF(I827=1,D827,IF(I827=3,\"%\",\"cm³\"))","v":"%"},{"$f":"RANDBETWEEN(1,MIN(9,C827))","v":2},{"$f":"IF(AND(Worksheet!$D$12,RAND()<0.2),3,IF(RAND()<Worksheet!$D$10/100,1,2))","v":3},5.15,{"$f":"CONCATENATE(\" \",D827)","v":" litres"},5150,"cm³"]
[{"$f":"IF(COUNTIF($B$1:B828,TRUE)=COUNTIF($B$1:B828,TRUE),\"\",COUNTIF($B$1:B828,TRUE))","v":""},{"$f":"Worksheet!$B$28","v":true},{"$f":"RANDBETWEEN(5,20)","v":11},"°C","±",{"$f":"IF(I828=1,H828*10^RANDBETWEEN(IF(Worksheet!$D$14,-1,0),0),IF(I828=2,H828,CHOOSE(RANDBETWEEN(1,3),5,10,20)))","v":9},{"$f":"IF(I828=1,D828,IF(I828=3,\"%\",\"sec\"))","v":"°C"},{"$f":"RANDBETWEEN(1,MIN(9,C828))","v":9},{"$f":"IF(AND(Worksheet!$D$12,RAND()<0),3,IF(RAND()<Worksheet!$D$10/100,1,2))","v":1},{"$f":"IF(I828=1,F828,IF(I828=2,F828,IF(I828=3,F828/100*C828,\"\")))","v":9},{"$f":"CONCATENATE(\" \",D828)","v":" °C"},{"$f":"IF(I828=1,F828,IF(I828=2,F828,IF(I828=3,F828/100*C828,\"\")))","v":9}," °C"]
[{"$f":"COUNTIF($B$1:B829,TRUE)","v":645},{"$f":"Worksheet!$B$20","v":true},{"$f":"RANDBETWEEN(5,RANDBETWEEN(5,Worksheet!$D$8))","v":162},"cm","±",{"$f":"IF(I829=1,H829*10^RANDBETWEEN(IF(Worksheet!$D$14,-1,0),0),IF(I829=2,H829,CHOOSE(RANDBETWEEN(1,3),5,10,20)))","v":2},{"$f":"IF(I829=1,D829,IF(I829=3,\"%\",\"mm\"))","v":"mm"},{"$f":"RANDBETWEEN(1,MIN(9,C829))","v":2},{"$f":"IF(AND(Worksheet!$D$12,RAND()<0.2),3,IF(RAND()<Worksheet!$D$10/100,1,2))","v":2},{"$f":"IF(I829=1,F829,IF(I829=2,F829/10,IF(I829=3,F829/100*C829,\"\")))","v":0.2},{"$f":"CONCATENATE(\" \",D829)","v":" cm"},{"$f":"IF(I829=1,F829*10,IF(I829=2,F829,IF(I829=3,F829/100*C829*10,\"\")))","v":2},"mm"]
[{"$f":"IF(COUNTIF($B$1:B830,TRUE)=COUNTIF($B$1:B829,TRUE),\"\",COUNTIF($B$1:B830,TRUE))","v":646},{"$f":"Worksheet!$B$22","v":true},{"$f":"RANDBETWEEN(5,RANDBETWEEN(5,Worksheet!$D$8))","v":64},"m","±",{"$f":"IF(I830=1,H830*10^RANDBETWEEN(IF(Worksheet!$D$14,-1,0),0),IF(I830=2,H830*10^RANDBETWEEN(RANDBETWEEN(0,1),1),CHOOSE(RANDBETWEEN(1,3),5,10,20)))","v":6},{"$f":"IF(I830=1,D830,IF(I830=3,\"%\",\"cm\"))","v":"m"},{"$f":"RANDBETWEEN(1,MIN(9,C830))","v":6},{"$f":"IF(AND(Worksheet!$D$12,RAND()<0.2),3,IF(RAND()<Worksheet!$D$10/100,1,2))","v":1},{"$f":"IF(I830=1,F830,IF(I830=2,F830/100,IF(I830=3,F830/100*C830,\"\")))","v":6},{"$f":"CONCATENATE(\" \",D830)","v":" m"},{"$f":"IF(I830=1,F830*100,IF(I830=2,F830,IF(I830=3,F830/100*C830*100,\"\")))","v":600},"cm"]
[{"$f":"IF(COUNTIF($B$1:B831,TRUE)=COUNTIF($B$1:B830,TRUE),\"\",COUNTIF($B$1:B831,TRUE))","v":647},{"$f":"Worksheet!$B$24","v":true},{"$f":"RANDBETWEEN(5,RANDBETWEEN(5,Worksheet!$D$8))","v":101},"km","±",{"$f":"IF(I831=1,H831*10^RANDBETWEEN(IF(Worksheet!$D$14,-1,0),0),IF(I831=2,H831*10^RANDBETWEEN(RANDBETWEEN(0,2),2),CHOOSE(RANDBETWEEN(1,3),5,10,20)))","v":0.1},{"$f":"IF(I831=1,D831,IF(I831=3,\"%\",\"m\"))","v":"km"},1,{"$f":"IF(AND(Worksheet!$D$12,RAND()<0.2),3,IF(RAND()<Worksheet!$D$10/100,1,2))","v":1},{"$f":"IF(I831=1,F831,IF(I831=2,F831/1000,IF(I831=3,F831/100*C831,\"\")))","v":0.1}," km",{"$f":"IF(I831=1,F831*1000,IF(I831=2,F831,IF(I831=3,F831/100*C831*1000,\"\")))","v":100},"m"]
[{"$f":"IF(COUNTIF($B$1:B832,TRUE)=COUNTIF($B$1:B831,TRUE),\"\",COUNTIF($B$1:B832,TRUE))","v":""},{"$f":"Worksheet!$B$26","v":false},{"$f":"RANDBETWEEN(5,RANDBETWEEN(5,Worksheet!$D$8))","v":135},"m","±",{"$f":"IF(I832=1,H832*10^RANDBETWEEN(IF(Worksheet!$D$14,-1,0),0),IF(I832=2,H832*10^RANDBETWEEN(RANDBETWEEN(0,2),2),CHOOSE(RANDBETWEEN(1,3),5,10,20)))","v":6},{"$f":"IF(I832=1,D832,IF(I832=3,\"%\",\"mm\"))","v":"m"},6,{"$f":"IF(AND(Worksheet!$D$12,RAND()<0.2),3,IF(RAND()<Worksheet!$D$10/100,1,2))","v":1},6," m",6000,"mm"]
[{"$f":"IF(COUNTIF($B$1:B833,TRUE)=COUNTIF($B$1:B832,TRUE),\"\",COUNTIF($B$1:B833,TRUE))","v":648},{"$f":"Worksheet!$D$20","v":true},{"$f":"RANDBETWEEN(5,RANDBETWEEN(5,Worksheet!$D$8))","v":107},"kg","±",{"$f":"IF(I833=1,H833*10^RANDBETWEEN(IF(Worksheet!$D$14,-1,0),0),IF(I833=2,H833*10^RANDBETWEEN(RANDBETWEEN(0,2),2),CHOOSE(RANDBETWEEN(1,3),5,10,20)))","v":5},{"$f":"IF(I833=1,D833,IF(I833=3,\"%\",\"g\"))","v":"%"},{"$f":"RANDBETWEEN(1,MIN(9,C833))","v":5},{"$f":"IF(AND(Worksheet!$D$12,RAND()<0.2),3,IF(RAND()<Worksheet!$D$10/100,1,2))","v":3},5.3500000000000005,{"$f":"CONCATENATE(\" \",D833)","v":" kg"},5350.0000000000009,"g"]
[{"$f":"IF(COUNTIF($B$1:B834,TRUE)=COUNTIF($B$1:B833,TRUE),\"\",COUNTIF($B$1:B834,TRUE))","v":649},{"$f":"Worksheet!$D$22","v":true},{"$f":"RANDBETWEEN(5,RANDBETWEEN(5,Worksheet!$D$8))","v":9},"tonnes","±",{"$f":"IF(I834=1,H834*10^RANDBETWEEN(IF(Worksheet!$D$14,-1,0),0),IF(I834=2,H834*10^RANDBETWEEN(RANDBETWEEN(0,2),2),CHOOSE(RANDBETWEEN(1,3),5,10,20)))","v":9},{"$f":"IF(I834=1,D834,IF(I834=3,\"%\",\"kg\"))","v":"tonnes"},{"$f":"RANDBETWEEN(1,MIN(9,C834))","v":9},{"$f":"IF(AND(Worksheet!$D$12,RAND()<0.2),3,IF(RAND()<Worksheet!$D$10/100,1,2))","v":1},9,{"$f":"CONCATENATE(\" \",D834)","v":" tonnes"},9000,"kg"]
[{"$f":"IF(COUNTIF($B$1:B835,TRUE)=COUNTIF($B$1:B834,TRUE),\"\",COUNTIF($B$1:B835,TRUE))","v":650},{"$f":"Worksheet!$D$24","v":true},{"$f":"RANDBETWEEN(5,RANDBETWEEN(5,Worksheet!$D$8))","v":6},"litres","±",{"$f":"IF(I835=1,H835*10^RANDBETWEEN(IF(Worksheet!$D$14,-1,0),0),IF(I835=2,H835*10^RANDBETWEEN(RANDBETWEEN(0,2),2),CHOOSE(RANDBETWEEN(1,3),5,10,20)))","v":20},{"$f":"IF(I835=1,D835,IF(I835=3,\"%\",\"ml\"))","v":"ml"},{"$f":"RANDBETWEEN(1,MIN(9,C835))","v":2},{"$f":"IF(AND(Worksheet!$D$12,RAND()<0.2),3,IF(RAND()<Worksheet!$D$10/100,1,2))","v":2},0.02,{"$f":"CONCATENATE(\" \",D835)","v":" litres"},20,"ml"]
[{"$f":"IF(COUNTIF($B$1:B836,TRUE)=COUNTIF($B$1:B835,TRUE),\"\",COUNTIF($B$1:B836,TRUE))","v":""},{"$f":"Worksheet!$D$26","v":false},{"$f":"RANDBETWEEN(5,RANDBETWEEN(5,Worksheet!$D$8))","v":62},"litres","±",{"$f":"IF(I836=1,H836*10^RANDBETWEEN(IF(Worksheet!$D$14,-1,0),0),IF(I836=2,H836*10^RANDBETWEEN(RANDBETWEEN(0,2),2),CHOOSE(RANDBETWEEN(1,3),5,10,20)))","v":20},{"$f":"IF(I836=1,D836,IF(I836=3,\"%\",\"cm³\"))","v":"%"},{"$f":"RANDBETWEEN(1,MIN(9,C836))","v":9},{"$f":"IF(AND(Worksheet!$D$12,RAND()<0.2),3,IF(RAND()<Worksheet!$D$10/100,1,2))","v":3},12.4,{"$f":"CONCATENATE(\" \",D836)","v":" litres"},12400,"cm³"]
[{"$f":"IF(COUNTIF($B$1:B837,TRUE)=COUNTIF($B$1:B837,TRUE),\"\",COUNTIF($B$1:B837,TRUE))","v":""},{"$f":"Worksheet!$B$28","v":true},{"$f":"RANDBETWEEN(5,20)","v":5},"°C","±",{"$f":"IF(I837=1,H837*10^RANDBETWEEN(IF(Worksheet!$D$14,-1,0),0),IF(I837=2,H837,CHOOSE(RANDBETWEEN(1,3),5,10,20)))","v":3},{"$f":"IF(I837=1,D837,IF(I837=3,\"%\",\"sec\"))","v":"°C"},{"$f":"RANDBETWEEN(1,MIN(9,C837))","v":3},{"$f":"IF(AND(Worksheet!$D$12,RAND()<0),3,IF(RAND()<Worksheet!$D$10/100,1,2))","v":1},{"$f":"IF(I837=1,F837,IF(I837=2,F837,IF(I837=3,F837/100*C837,\"\")))","v":3},{"$f":"CONCATENATE(\" \",D837)","v":" °C"},{"$f":"IF(I837=1,F837,IF(I837=2,F837,IF(I837=3,F837/100*C837,\"\")))","v":3}," °C"]
[{"$f":"COUNTIF($B$1:B838,TRUE)","v":652},{"$f":"Worksheet!$B$20","v":true},{"$f":"RANDBETWEEN(5,RANDBETWEEN(5,Worksheet!$D$8))","v":40},"cm","±",{"$f":"IF(I838=1,H838*10^RANDBETWEEN(IF(Worksheet!$D$14,-1,0),0),IF(I838=2,H838,CHOOSE(RANDBETWEEN(1,3),5,10,20)))","v":6},{"$f":"IF(I838=1,D838,IF(I838=3,\"%\",\"mm\"))","v":"mm"},{"$f":"RANDBETWEEN(1,MIN(9,C838))","v":6},{"$f":"IF(AND(Worksheet!$D$12,RAND()<0.2),3,IF(RAND()<Worksheet!$D$10/100,1,2))","v":2},{"$f":"IF(I838=1,F838,IF(I838=2,F838/10,IF(I838=3,F838/100*C838,\"\")))","v":0.6},{"$f":"CONCATENATE(\" \",D838)","v":" cm"},{"$f":"IF(I838=1,F838*10,IF(I838=2,F838,IF(I838=3,F838/100*C838*10,\"\")))","v":6},"mm"]
[{"$f":"IF(COUNTIF($B$1:B839,TRUE)=COUNTIF($B$1:B838,TRUE),\"\",COUNTIF($B$1:B839,TRUE))","v":653},{"$f":"Worksheet!$B$22","v":true},{"$f":"RANDBETWEEN(5,RANDBETWEEN(5,Worksheet!$D$8))","v":116},"m","±",{"$f":"IF(I839=1,H839*10^RANDBETWEEN(IF(Worksheet!$D$14,-1,0),0),IF(I839=2,H839*10^RANDBETWEEN(RANDBETWEEN(0,1),1),CHOOSE(RANDBETWEEN(1,3),5,10,20)))","v":0.60000000000000009},{"$f":"IF(I839=1,D839,IF(I839=3,\"%\",\"cm\"))","v":"m"},{"$f":"RANDBETWEEN(1,MIN(9,C839))","v":6},{"$f":"IF(AND(Worksheet!$D$12,RAND()<0.2),3,IF(RAND()<Worksheet!$D$10/100,1,2))","v":1},{"$f":"IF(I839=1,F839,IF(I839=2,F839/100,IF(I839=3,F839/100*C839,\"\")))","v":0.60000000000000009},{"$f":"CONCATENATE(\" \",D839)","v":" m"},{"$f":"IF(I839=1,F839*100,IF(I839=2,F839,IF(I839=3,F839/100*C839*100,\"\")))","v":60.000000000000007},"cm"]
[{"$f":"IF(COUNTIF($B$1:B840,TRUE)=COUNTIF($B$1:B839,TRUE),\"\",COUNTIF($B$1:B840,TRUE))","v":654},{"$f":"Worksheet!$B$24","v":true},{"$f":"RANDBETWEEN(5,RANDBETWEEN(5,Worksheet!$D$8))","v":48},"km","±",{"$f":"IF(I840=1,H840*10^RANDBETWEEN(IF(Worksheet!$D$14,-1,0),0),IF(I840=2,H840*10^RANDBETWEEN(RANDBETWEEN(0,2),2),CHOOSE(RANDBETWEEN(1,3),5,10,20)))","v":60},{"$f":"IF(I840=1,D840,IF(I840=3,\"%\",\"m\"))","v":"m"},6,{"$f":"IF(AND(Worksheet!$D$12,RAND()<0.2),3,IF(RAND()<Worksheet!$D$10/100,1,2))","v":2},{"$f":"IF(I840=1,F840,IF(I840=2,F840/1000,IF(I840=3,F840/100*C840,\"\")))","v":0.06}," km",{"$f":"IF(I840=1,F840*1000,IF(I840=2,F840,IF(I840=3,F840/100*C840*1000,\"\")))","v":60},"m"]
[{"$f":"IF(COUNTIF($B$1:B841,TRUE)=COUNTIF($B$1:B840,TRUE),\"\",COUNTIF($B$1:B841,TRUE))","v":""},{"$f":"Worksheet!$B$26","v":false},{"$f":"RANDBETWEEN(5,RANDBETWEEN(5,Worksheet!$D$8))","v":14},"m","±",{"$f":"IF(I841=1,H841*10^RANDBETWEEN(IF(Worksheet!$D$14,-1,0),0),IF(I841=2,H841*10^RANDBETWEEN(RANDBETWEEN(0,2),2),CHOOSE(RANDBETWEEN(1,3),5,10,20)))","v":90},{"$f":"IF(I841=1,D841,IF(I841=3,\"%\",\"mm\"))","v":"mm"},9,{"$f":"IF(AND(Worksheet!$D$12,RAND()<0.2),3,IF(RAND()<Worksheet!$D$10/100,1,2))","v":2},0.09," m",90,"mm"]
[{"$f":"IF(COUNTIF($B$1:B842,TRUE)=COUNTIF($B$1:B841,TRUE),\"\",COUNTIF($B$1:B842,TRUE))","v":655},{"$f":"Worksheet!$D$20","v":true},{"$f":"RANDBETWEEN(5,RANDBETWEEN(5,Worksheet!$D$8))","v":11},"kg","±",{"$f":"IF(I842=1,H842*10^RANDBETWEEN(IF(Worksheet!$D$14,-1,0),0),IF(I842=2,H842*10^RANDBETWEEN(RANDBETWEEN(0,2),2),CHOOSE(RANDBETWEEN(1,3),5,10,20)))","v":60},{"$f":"IF(I842=1,D842,IF(I842=3,\"%\",\"g\"))","v":"g"},{"$f":"RANDBETWEEN(1,MIN(9,C842))","v":6},{"$f":"IF(AND(Worksheet!$D$12,RAND()<0.2),3,IF(RAND()<Worksheet!$D$10/100,1,2))","v":2},0.06,{"$f":"CONCATENATE(\" \",D842)","v":" kg"},60,"g"]
[{"$f":"IF(COUNTIF($B$1:B843,TRUE)=COUNTIF($B$1:B842,TRUE),\"\",COUNTIF($B$1:B843,TRUE))","v":656},{"$f":"Worksheet!$D$22","v":true},{"$f":"RANDBETWEEN(5,RANDBETWEEN(5,Worksheet!$D$8))","v":15},"tonnes","±",{"$f":"IF(I843=1,H843*10^RANDBETWEEN(IF(Worksheet!$D$14,-1,0),0),IF(I843=2,H843*10^RANDBETWEEN(RANDBETWEEN(0,2),2),CHOOSE(RANDBETWEEN(1,3),5,10,20)))","v":0.70000000000000007},{"$f":"IF(I843=1,D843,IF(I843=3,\"%\",\"kg\"))","v":"tonnes"},{"$f":"RANDBETWEEN(1,MIN(9,C843))","v":7},{"$f":"IF(AND(Worksheet!$D$12,RAND()<0.2),3,IF(RAND()<Worksheet!$D$10/100,1,2))","v":1},0.70000000000000007,{"$f":"CONCATENATE(\" \",D843)","v":" tonnes"},700.00000000000011,"kg"]
[{"$f":"IF(COUNTIF($B$1:B844,TRUE)=COUNTIF($B$1:B843,TRUE),\"\",COUNTIF($B$1:B844,TRUE))","v":657},{"$f":"Worksheet!$D$24","v":true},{"$f":"RANDBETWEEN(5,RANDBETWEEN(5,Worksheet!$D$8))","v":18},"litres","±",{"$f":"IF(I844=1,H844*10^RANDBETWEEN(IF(Worksheet!$D$14,-1,0),0),IF(I844=2,H844*10^RANDBETWEEN(RANDBETWEEN(0,2),2),CHOOSE(RANDBETWEEN(1,3),5,10,20)))","v":5},{"$f":"IF(I844=1,D844,IF(I844=3,\"%\",\"ml\"))","v":"%"},{"$f":"RANDBETWEEN(1,MIN(9,C844))","v":4},{"$f":"IF(AND(Worksheet!$D$12,RAND()<0.2),3,IF(RAND()<Worksheet!$D$10/100,1,2))","v":3},0.9,{"$f":"CONCATENATE(\" \",D844)","v":" litres"},900,"ml"]
[{"$f":"IF(COUNTIF($B$1:B845,TRUE)=COUNTIF($B$1:B844,TRUE),\"\",COUNTIF($B$1:B845,TRUE))","v":""},{"$f":"Worksheet!$D$26","v":false},{"$f":"RANDBETWEEN(5,RANDBETWEEN(5,Worksheet!$D$8))","v":76},"litres","±",{"$f":"IF(I845=1,H845*10^RANDBETWEEN(IF(Worksheet!$D$14,-1,0),0),IF(I845=2,H845*10^RANDBETWEEN(RANDBETWEEN(0,2),2),CHOOSE(RANDBETWEEN(1,3),5,10,20)))","v":7},{"$f":"IF(I845=1,D845,IF(I845=3,\"%\",\"cm³\"))","v":"litres"},{"$f":"RANDBETWEEN(1,MIN(9,C845))","v":7},{"$f":"IF(AND(Worksheet!$D$12,RAND()<0.2),3,IF(RAND()<Worksheet!$D$10/100,1,2))","v":1},7,{"$f":"CONCATENATE(\" \",D845)","v":" litres"},7000,"cm³"]
[{"$f":"IF(COUNTIF($B$1:B846,TRUE)=COUNTIF($B$1:B846,TRUE),\"\",COUNTIF($B$1:B846,TRUE))","v":""},{"$f":"Worksheet!$B$28","v":true},{"$f":"RANDBETWEEN(5,20)","v":18},"°C","±",{"$f":"IF(I846=1,H846*10^RANDBETWEEN(IF(Worksheet!$D$14,-1,0),0),IF(I846=2,H846,CHOOSE(RANDBETWEEN(1,3),5,10,20)))","v":6},{"$f":"IF(I846=1,D846,IF(I846=3,\"%\",\"sec\"))","v":"°C"},{"$f":"RANDBETWEEN(1,MIN(9,C846))","v":6},{"$f":"IF(AND(Worksheet!$D$12,RAND()<0),3,IF(RAND()<Worksheet!$D$10/100,1,2))","v":1},{"$f":"IF(I846=1,F846,IF(I846=2,F846,IF(I846=3,F846/100*C846,\"\")))","v":6},{"$f":"CONCATENATE(\" \",D846)","v":" °C"},{"$f":"IF(I846=1,F846,IF(I846=2,F846,IF(I846=3,F846/100*C846,\"\")))","v":6}," °C"]
[{"$f":"COUNTIF($B$1:B847,TRUE)","v":659},{"$f":"Worksheet!$B$20","v":true},{"$f":"RANDBETWEEN(5,RANDBETWEEN(5,Worksheet!$D$8))","v":12},"cm","±",{"$f":"IF(I847=1,H847*10^RANDBETWEEN(IF(Worksheet!$D$14,-1,0),0),IF(I847=2,H847,CHOOSE(RANDBETWEEN(1,3),5,10,20)))","v":10},{"$f":"IF(I847=1,D847,IF(I847=3,\"%\",\"mm\"))","v":"%"},{"$f":"RANDBETWEEN(1,MIN(9,C847))","v":3},{"$f":"IF(AND(Worksheet!$D$12,RAND()<0.2),3,IF(RAND()<Worksheet!$D$10/100,1,2))","v":3},{"$f":"IF(I847=1,F847,IF(I847=2,F847/10,IF(I847=3,F847/100*C847,\"\")))","v":1.2000000000000002},{"$f":"CONCATENATE(\" \",D847)","v":" cm"},{"$f":"IF(I847=1,F847*10,IF(I847=2,F847,IF(I847=3,F847/100*C847*10,\"\")))","v":12.000000000000002},"mm"]
[{"$f":"IF(COUNTIF($B$1:B848,TRUE)=COUNTIF($B$1:B847,TRUE),\"\",COUNTIF($B$1:B848,TRUE))","v":660},{"$f":"Worksheet!$B$22","v":true},{"$f":"RANDBETWEEN(5,RANDBETWEEN(5,Worksheet!$D$8))","v":49},"m","±",{"$f":"IF(I848=1,H848*10^RANDBETWEEN(IF(Worksheet!$D$14,-1,0),0),IF(I848=2,H848*10^RANDBETWEEN(RANDBETWEEN(0,1),1),CHOOSE(RANDBETWEEN(1,3),5,10,20)))","v":1},{"$f":"IF(I848=1,D848,IF(I848=3,\"%\",\"cm\"))","v":"m"},{"$f":"RANDBETWEEN(1,MIN(9,C848))","v":1},{"$f":"IF(AND(Worksheet!$D$12,RAND()<0.2),3,IF(RAND()<Worksheet!$D$10/100,1,2))","v":1},{"$f":"IF(I848=1,F848,IF(I848=2,F848/100,IF(I848=3,F848/100*C848,\"\")))","v":1},{"$f":"CONCATENATE(\" \",D848)","v":" m"},{"$f":"IF(I848=1,F848*100,IF(I848=2,F848,IF(I848=3,F848/100*C848*100,\"\")))","v":100},"cm"]
[{"$f":"IF(COUNTIF($B$1:B849,TRUE)=COUNTIF($B$1:B848,TRUE),\"\",COUNTIF($B$1:B849,TRUE))","v":661},{"$f":"Worksheet!$B$24","v":true},{"$f":"RANDBETWEEN(5,RANDBETWEEN(5,Worksheet!$D$8))","v":16},"km","±",{"$f":"IF(I849=1,H849*10^RANDBETWEEN(IF(Worksheet!$D$14,-1,0),0),IF(I849=2,H849*10^RANDBETWEEN(RANDBETWEEN(0,2),2),CHOOSE(RANDBETWEEN(1,3),5,10,20)))","v":5},{"$f":"IF(I849=1,D849,IF(I849=3,\"%\",\"m\"))","v":"km"},5,{"$f":"IF(AND(Worksheet!$D$12,RAND()<0.2),3,IF(RAND()<Worksheet!$D$10/100,1,2))","v":1},{"$f":"IF(I849=1,F849,IF(I849=2,F849/1000,IF(I849=3,F849/100*C849,\"\")))","v":5}," km",{"$f":"IF(I849=1,F849*1000,IF(I849=2,F849,IF(I849=3,F849/100*C849*1000,\"\")))","v":5000},"m"]
[{"$f":"IF(COUNTIF($B$1:B850,TRUE)=COUNTIF($B$1:B849,TRUE),\"\",COUNTIF($B$1:B850,TRUE))","v":""},{"$f":"Worksheet!$B$26","v":false},{"$f":"RANDBETWEEN(5,RANDBETWEEN(5,Worksheet!$D$8))","v":142},"m","±",{"$f":"IF(I850=1,H850*10^RANDBETWEEN(IF(Worksheet!$D$14,-1,0),0),IF(I850=2,H850*10^RANDBETWEEN(RANDBETWEEN(0,2),2),CHOOSE(RANDBETWEEN(1,3),5,10,20)))","v":20},{"$f":"IF(I850=1,D850,IF(I850=3,\"%\",\"mm\"))","v":"%"},4,{"$f":"IF(AND(Worksheet!$D$12,RAND()<0.2),3,IF(RAND()<Worksheet!$D$10/100,1,2))","v":3},28.400000000000002," m",28400.000000000004,"mm"]
[{"$f":"IF(COUNTIF($B$1:B851,TRUE)=COUNTIF($B$1:B850,TRUE),\"\",COUNTIF($B$1:B851,TRUE))","v":662},{"$f":"Worksheet!$D$20","v":true},{"$f":"RANDBETWEEN(5,RANDBETWEEN(5,Worksheet!$D$8))","v":93},"kg","±",{"$f":"IF(I851=1,H851*10^RANDBETWEEN(IF(Worksheet!$D$14,-1,0),0),IF(I851=2,H851*10^RANDBETWEEN(RANDBETWEEN(0,2),2),CHOOSE(RANDBETWEEN(1,3),5,10,20)))","v":0.30000000000000004},{"$f":"IF(I851=1,D851,IF(I851=3,\"%\",\"g\"))","v":"kg"},{"$f":"RANDBETWEEN(1,MIN(9,C851))","v":3},{"$f":"IF(AND(Worksheet!$D$12,RAND()<0.2),3,IF(RAND()<Worksheet!$D$10/100,1,2))","v":1},0.30000000000000004,{"$f":"CONCATENATE(\" \",D851)","v":" kg"},300.00000000000006,"g"]
[{"$f":"IF(COUNTIF($B$1:B852,TRUE)=COUNTIF($B$1:B851,TRUE),\"\",COUNTIF($B$1:B852,TRUE))","v":663},{"$f":"Worksheet!$D$22","v":true},{"$f":"RANDBETWEEN(5,RANDBETWEEN(5,Worksheet!$D$8))","v":19},"tonnes","±",{"$f":"IF(I852=1,H852*10^RANDBETWEEN(IF(Worksheet!$D$14,-1,0),0),IF(I852=2,H852*10^RANDBETWEEN(RANDBETWEEN(0,2),2),CHOOSE(RANDBETWEEN(1,3),5,10,20)))","v":0.8},{"$f":"IF(I852=1,D852,IF(I852=3,\"%\",\"kg\"))","v":"tonnes"},{"$f":"RANDBETWEEN(1,MIN(9,C852))","v":8},{"$f":"IF(AND(Worksheet!$D$12,RAND()<0.2),3,IF(RAND()<Worksheet!$D$10/100,1,2))","v":1},0.8,{"$f":"CONCATENATE(\" \",D852)","v":" tonnes"},800,"kg"]
[{"$f":"IF(COUNTIF($B$1:B853,TRUE)=COUNTIF($B$1:B852,TRUE),\"\",COUNTIF($B$1:B853,TRUE))","v":664},{"$f":"Worksheet!$D$24","v":true},{"$f":"RANDBETWEEN(5,RANDBETWEEN(5,Worksheet!$D$8))","v":15},"litres","±",{"$f":"IF(I853=1,H853*10^RANDBETWEEN(IF(Worksheet!$D$14,-1,0),0),IF(I853=2,H853*10^RANDBETWEEN(RANDBETWEEN(0,2),2),CHOOSE(RANDBETWEEN(1,3),5,10,20)))","v":600},{"$f":"IF(I853=1,D853,IF(I853=3,\"%\",\"ml\"))","v":"ml"},{"$f":"RANDBETWEEN(1,MIN(9,C853))","v":6},{"$f":"IF(AND(Worksheet!$D$12,RAND()<0.2),3,IF(RAND()<Worksheet!$D$10/100,1,2))","v":2},0.6,{"$f":"CONCATENATE(\" \",D853)","v":" litres"},600,"ml"]
[{"$f":"IF(COUNTIF($B$1:B854,TRUE)=COUNTIF($B$1:B853,TRUE),\"\",COUNTIF($B$1:B854,TRUE))","v":""},{"$f":"Worksheet!$D$26","v":false},{"$f":"RANDBETWEEN(5,RANDBETWEEN(5,Worksheet!$D$8))","v":69},"litres","±",{"$f":"IF(I854=1,H854*10^RANDBETWEEN(IF(Worksheet!$D$14,-1,0),0),IF(I854=2,H854*10^RANDBETWEEN(RANDBETWEEN(0,2),2),CHOOSE(RANDBETWEEN(1,3),5,10,20)))","v":4},{"$f":"IF(I854=1,D854,IF(I854=3,\"%\",\"cm³\"))","v":"litres"},{"$f":"RANDBETWEEN(1,MIN(9,C854))","v":4},{"$f":"IF(AND(Worksheet!$D$12,RAND()<0.2),3,IF(RAND()<Worksheet!$D$10/100,1,2))","v":1},4,{"$f":"CONCATENATE(\" \",D854)","v":" litres"},4000,"cm³"]
[{"$f":"IF(COUNTIF($B$1:B855,TRUE)=COUNTIF($B$1:B855,TRUE),\"\",COUNTIF($B$1:B855,TRUE))","v":""},{"$f":"Worksheet!$B$28","v":true},{"$f":"RANDBETWEEN(5,20)","v":6},"°C","±",{"$f":"IF(I855=1,H855*10^RANDBETWEEN(IF(Worksheet!$D$14,-1,0),0),IF(I855=2,H855,CHOOSE(RANDBETWEEN(1,3),5,10,20)))","v":5},{"$f":"IF(I855=1,D855,IF(I855=3,\"%\",\"sec\"))","v":"sec"},{"$f":"RANDBETWEEN(1,MIN(9,C855))","v":5},{"$f":"IF(AND(Worksheet!$D$12,RAND()<0),3,IF(RAND()<Worksheet!$D$10/100,1,2))","v":2},{"$f":"IF(I855=1,F855,IF(I855=2,F855,IF(I855=3,F855/100*C855,\"\")))","v":5},{"$f":"CONCATENATE(\" \",D855)","v":" °C"},{"$f":"IF(I855=1,F855,IF(I855=2,F855,IF(I855=3,F855/100*C855,\"\")))","v":5}," °C"]
[{"$f":"COUNTIF($B$1:B856,TRUE)","v":666},{"$f":"Worksheet!$B$20","v":true},{"$f":"RANDBETWEEN(5,RANDBETWEEN(5,Worksheet!$D$8))","v":79},"cm","±",{"$f":"IF(I856=1,H856*10^RANDBETWEEN(IF(Worksheet!$D$14,-1,0),0),IF(I856=2,H856,CHOOSE(RANDBETWEEN(1,3),5,10,20)))","v":5},{"$f":"IF(I856=1,D856,IF(I856=3,\"%\",\"mm\"))","v":"mm"},{"$f":"RANDBETWEEN(1,MIN(9,C856))","v":5},{"$f":"IF(AND(Worksheet!$D$12,RAND()<0.2),3,IF(RAND()<Worksheet!$D$10/100,1,2))","v":2},{"$f":"IF(I856=1,F856,IF(I856=2,F856/10,IF(I856=3,F856/100*C856,\"\")))","v":0.5},{"$f":"CONCATENATE(\" \",D856)","v":" cm"},{"$f":"IF(I856=1,F856*10,IF(I856=2,F856,IF(I856=3,F856/100*C856*10,\"\")))","v":5},"mm"]
[{"$f":"IF(COUNTIF($B$1:B857,TRUE)=COUNTIF($B$1:B856,TRUE),\"\",COUNTIF($B$1:B857,TRUE))","v":667},{"$f":"Worksheet!$B$22","v":true},{"$f":"RANDBETWEEN(5,RANDBETWEEN(5,Worksheet!$D$8))","v":5},"m","±",{"$f":"IF(I857=1,H857*10^RANDBETWEEN(IF(Worksheet!$D$14,-1,0),0),IF(I857=2,H857*10^RANDBETWEEN(RANDBETWEEN(0,1),1),CHOOSE(RANDBETWEEN(1,3),5,10,20)))","v":50},{"$f":"IF(I857=1,D857,IF(I857=3,\"%\",\"cm\"))","v":"cm"},{"$f":"RANDBETWEEN(1,MIN(9,C857))","v":5},{"$f":"IF(AND(Worksheet!$D$12,RAND()<0.2),3,IF(RAND()<Worksheet!$D$10/100,1,2))","v":2},{"$f":"IF(I857=1,F857,IF(I857=2,F857/100,IF(I857=3,F857/100*C857,\"\")))","v":0.5},{"$f":"CONCATENATE(\" \",D857)","v":" m"},{"$f":"IF(I857=1,F857*100,IF(I857=2,F857,IF(I857=3,F857/100*C857*100,\"\")))","v":50},"cm"]
[{"$f":"IF(COUNTIF($B$1:B858,TRUE)=COUNTIF($B$1:B857,TRUE),\"\",COUNTIF($B$1:B858,TRUE))","v":668},{"$f":"Worksheet!$B$24","v":true},{"$f":"RANDBETWEEN(5,RANDBETWEEN(5,Worksheet!$D$8))","v":12},"km","±",{"$f":"IF(I858=1,H858*10^RANDBETWEEN(IF(Worksheet!$D$14,-1,0),0),IF(I858=2,H858*10^RANDBETWEEN(RANDBETWEEN(0,2),2),CHOOSE(RANDBETWEEN(1,3),5,10,20)))","v":20},{"$f":"IF(I858=1,D858,IF(I858=3,\"%\",\"m\"))","v":"%"},5,{"$f":"IF(AND(Worksheet!$D$12,RAND()<0.2),3,IF(RAND()<Worksheet!$D$10/100,1,2))","v":3},{"$f":"IF(I858=1,F858,IF(I858=2,F858/1000,IF(I858=3,F858/100*C858,\"\")))","v":2.4000000000000004}," km",{"$f":"IF(I858=1,F858*1000,IF(I858=2,F858,IF(I858=3,F858/100*C858*1000,\"\")))","v":2400.0000000000005},"m"]
[{"$f":"IF(COUNTIF($B$1:B859,TRUE)=COUNTIF($B$1:B858,TRUE),\"\",COUNTIF($B$1:B859,TRUE))","v":""},{"$f":"Worksheet!$B$26","v":false},{"$f":"RANDBETWEEN(5,RANDBETWEEN(5,Worksheet!$D$8))","v":5},"m","±",{"$f":"IF(I859=1,H859*10^RANDBETWEEN(IF(Worksheet!$D$14,-1,0),0),IF(I859=2,H859*10^RANDBETWEEN(RANDBETWEEN(0,2),2),CHOOSE(RANDBETWEEN(1,3),5,10,20)))","v":3},{"$f":"IF(I859=1,D859,IF(I859=3,\"%\",\"mm\"))","v":"m"},3,{"$f":"IF(AND(Worksheet!$D$12,RAND()<0.2),3,IF(RAND()<Worksheet!$D$10/100,1,2))","v":1},3," m",3000,"mm"]
[{"$f":"IF(COUNTIF($B$1:B860,TRUE)=COUNTIF($B$1:B859,TRUE),\"\",COUNTIF($B$1:B860,TRUE))","v":669},{"$f":"Worksheet!$D$20","v":true},{"$f":"RANDBETWEEN(5,RANDBETWEEN(5,Worksheet!$D$8))","v":90},"kg","±",{"$f":"IF(I860=1,H860*10^RANDBETWEEN(IF(Worksheet!$D$14,-1,0),0),IF(I860=2,H860*10^RANDBETWEEN(RANDBETWEEN(0,2),2),CHOOSE(RANDBETWEEN(1,3),5,10,20)))","v":0.70000000000000007},{"$f":"IF(I860=1,D860,IF(I860=3,\"%\",\"g\"))","v":"kg"},{"$f":"RANDBETWEEN(1,MIN(9,C860))","v":7},{"$f":"IF(AND(Worksheet!$D$12,RAND()<0.2),3,IF(RAND()<Worksheet!$D$10/100,1,2))","v":1},0.70000000000000007,{"$f":"CONCATENATE(\" \",D860)","v":" kg"},700.00000000000011,"g"]
[{"$f":"IF(COUNTIF($B$1:B861,TRUE)=COUNTIF($B$1:B860,TRUE),\"\",COUNTIF($B$1:B861,TRUE))","v":670},{"$f":"Worksheet!$D$22","v":true},{"$f":"RANDBETWEEN(5,RANDBETWEEN(5,Worksheet!$D$8))","v":128},"tonnes","±",{"$f":"IF(I861=1,H861*10^RANDBETWEEN(IF(Worksheet!$D$14,-1,0),0),IF(I861=2,H861*10^RANDBETWEEN(RANDBETWEEN(0,2),2),CHOOSE(RANDBETWEEN(1,3),5,10,20)))","v":0.1},{"$f":"IF(I861=1,D861,IF(I861=3,\"%\",\"kg\"))","v":"tonnes"},{"$f":"RANDBETWEEN(1,MIN(9,C861))","v":1},{"$f":"IF(AND(Worksheet!$D$12,RAND()<0.2),3,IF(RAND()<Worksheet!$D$10/100,1,2))","v":1},0.1,{"$f":"CONCATENATE(\" \",D861)","v":" tonnes"},100,"kg"]
[{"$f":"IF(COUNTIF($B$1:B862,TRUE)=COUNTIF($B$1:B861,TRUE),\"\",COUNTIF($B$1:B862,TRUE))","v":671},{"$f":"Worksheet!$D$24","v":true},{"$f":"RANDBETWEEN(5,RANDBETWEEN(5,Worksheet!$D$8))","v":8},"litres","±",{"$f":"IF(I862=1,H862*10^RANDBETWEEN(IF(Worksheet!$D$14,-1,0),0),IF(I862=2,H862*10^RANDBETWEEN(RANDBETWEEN(0,2),2),CHOOSE(RANDBETWEEN(1,3),5,10,20)))","v":600},{"$f":"IF(I862=1,D862,IF(I862=3,\"%\",\"ml\"))","v":"ml"},{"$f":"RANDBETWEEN(1,MIN(9,C862))","v":6},{"$f":"IF(AND(Worksheet!$D$12,RAND()<0.2),3,IF(RAND()<Worksheet!$D$10/100,1,2))","v":2},0.6,{"$f":"CONCATENATE(\" \",D862)","v":" litres"},600,"ml"]
[{"$f":"IF(COUNTIF($B$1:B863,TRUE)=COUNTIF($B$1:B862,TRUE),\"\",COUNTIF($B$1:B863,TRUE))","v":""},{"$f":"Worksheet!$D$26","v":false},{"$f":"RANDBETWEEN(5,RANDBETWEEN(5,Worksheet!$D$8))","v":10},"litres","±",{"$f":"IF(I863=1,H863*10^RANDBETWEEN(IF(Worksheet!$D$14,-1,0),0),IF(I863=2,H863*10^RANDBETWEEN(RANDBETWEEN(0,2),2),CHOOSE(RANDBETWEEN(1,3),5,10,20)))","v":0.5},{"$f":"IF(I863=1,D863,IF(I863=3,\"%\",\"cm³\"))","v":"litres"},{"$f":"RANDBETWEEN(1,MIN(9,C863))","v":5},{"$f":"IF(AND(Worksheet!$D$12,RAND()<0.2),3,IF(RAND()<Worksheet!$D$10/100,1,2))","v":1},0.5,{"$f":"CONCATENATE(\" \",D863)","v":" litres"},500,"cm³"]
[{"$f":"IF(COUNTIF($B$1:B864,TRUE)=COUNTIF($B$1:B864,TRUE),\"\",COUNTIF($B$1:B864,TRUE))","v":""},{"$f":"Worksheet!$B$28","v":true},{"$f":"RANDBETWEEN(5,20)","v":12},"°C","±",{"$f":"IF(I864=1,H864*10^RANDBETWEEN(IF(Worksheet!$D$14,-1,0),0),IF(I864=2,H864,CHOOSE(RANDBETWEEN(1,3),5,10,20)))","v":6},{"$f":"IF(I864=1,D864,IF(I864=3,\"%\",\"sec\"))","v":"°C"},{"$f":"RANDBETWEEN(1,MIN(9,C864))","v":6},{"$f":"IF(AND(Worksheet!$D$12,RAND()<0),3,IF(RAND()<Worksheet!$D$10/100,1,2))","v":1},{"$f":"IF(I864=1,F864,IF(I864=2,F864,IF(I864=3,F864/100*C864,\"\")))","v":6},{"$f":"CONCATENATE(\" \",D864)","v":" °C"},{"$f":"IF(I864=1,F864,IF(I864=2,F864,IF(I864=3,F864/100*C864,\"\")))","v":6}," °C"]
[{"$f":"COUNTIF($B$1:B865,TRUE)","v":673},{"$f":"Worksheet!$B$20","v":true},{"$f":"RANDBETWEEN(5,RANDBETWEEN(5,Worksheet!$D$8))","v":19},"cm","±",{"$f":"IF(I865=1,H865*10^RANDBETWEEN(IF(Worksheet!$D$14,-1,0),0),IF(I865=2,H865,CHOOSE(RANDBETWEEN(1,3),5,10,20)))","v":10},{"$f":"IF(I865=1,D865,IF(I865=3,\"%\",\"mm\"))","v":"%"},{"$f":"RANDBETWEEN(1,MIN(9,C865))","v":9},{"$f":"IF(AND(Worksheet!$D$12,RAND()<0.2),3,IF(RAND()<Worksheet!$D$10/100,1,2))","v":3},{"$f":"IF(I865=1,F865,IF(I865=2,F865/10,IF(I865=3,F865/100*C865,\"\")))","v":1.9000000000000001},{"$f":"CONCATENATE(\" \",D865)","v":" cm"},{"$f":"IF(I865=1,F865*10,IF(I865=2,F865,IF(I865=3,F865/100*C865*10,\"\")))","v":19},"mm"]
[{"$f":"IF(COUNTIF($B$1:B866,TRUE)=COUNTIF($B$1:B865,TRUE),\"\",COUNTIF($B$1:B866,TRUE))","v":674},{"$f":"Worksheet!$B$22","v":true},{"$f":"RANDBETWEEN(5,RANDBETWEEN(5,Worksheet!$D$8))","v":15},"m","±",{"$f":"IF(I866=1,H866*10^RANDBETWEEN(IF(Worksheet!$D$14,-1,0),0),IF(I866=2,H866*10^RANDBETWEEN(RANDBETWEEN(0,1),1),CHOOSE(RANDBETWEEN(1,3),5,10,20)))","v":0.30000000000000004},{"$f":"IF(I866=1,D866,IF(I866=3,\"%\",\"cm\"))","v":"m"},{"$f":"RANDBETWEEN(1,MIN(9,C866))","v":3},{"$f":"IF(AND(Worksheet!$D$12,RAND()<0.2),3,IF(RAND()<Worksheet!$D$10/100,1,2))","v":1},{"$f":"IF(I866=1,F866,IF(I866=2,F866/100,IF(I866=3,F866/100*C866,\"\")))","v":0.30000000000000004},{"$f":"CONCATENATE(\" \",D866)","v":" m"},{"$f":"IF(I866=1,F866*100,IF(I866=2,F866,IF(I866=3,F866/100*C866*100,\"\")))","v":30.000000000000004},"cm"]
[{"$f":"IF(COUNTIF($B$1:B867,TRUE)=COUNTIF($B$1:B866,TRUE),\"\",COUNTIF($B$1:B867,TRUE))","v":675},{"$f":"Worksheet!$B$24","v":true},{"$f":"RANDBETWEEN(5,RANDBETWEEN(5,Worksheet!$D$8))","v":13},"km","±",{"$f":"IF(I867=1,H867*10^RANDBETWEEN(IF(Worksheet!$D$14,-1,0),0),IF(I867=2,H867*10^RANDBETWEEN(RANDBETWEEN(0,2),2),CHOOSE(RANDBETWEEN(1,3),5,10,20)))","v":500},{"$f":"IF(I867=1,D867,IF(I867=3,\"%\",\"m\"))","v":"m"},5,{"$f":"IF(AND(Worksheet!$D$12,RAND()<0.2),3,IF(RAND()<Worksheet!$D$10/100,1,2))","v":2},{"$f":"IF(I867=1,F867,IF(I867=2,F867/1000,IF(I867=3,F867/100*C867,\"\")))","v":0.5}," km",{"$f":"IF(I867=1,F867*1000,IF(I867=2,F867,IF(I867=3,F867/100*C867*1000,\"\")))","v":500},"m"]
[{"$f":"IF(COUNTIF($B$1:B868,TRUE)=COUNTIF($B$1:B867,TRUE),\"\",COUNTIF($B$1:B868,TRUE))","v":""},{"$f":"Worksheet!$B$26","v":false},{"$f":"RANDBETWEEN(5,RANDBETWEEN(5,Worksheet!$D$8))","v":19},"m","±",{"$f":"IF(I868=1,H868*10^RANDBETWEEN(IF(Worksheet!$D$14,-1,0),0),IF(I868=2,H868*10^RANDBETWEEN(RANDBETWEEN(0,2),2),CHOOSE(RANDBETWEEN(1,3),5,10,20)))","v":0.60000000000000009},{"$f":"IF(I868=1,D868,IF(I868=3,\"%\",\"mm\"))","v":"m"},6,{"$f":"IF(AND(Worksheet!$D$12,RAND()<0.2),3,IF(RAND()<Worksheet!$D$10/100,1,2))","v":1},0.60000000000000009," m",600.00000000000011,"mm"]
[{"$f":"IF(COUNTIF($B$1:B869,TRUE)=COUNTIF($B$1:B868,TRUE),\"\",COUNTIF($B$1:B869,TRUE))","v":676},{"$f":"Worksheet!$D$20","v":true},{"$f":"RANDBETWEEN(5,RANDBETWEEN(5,Worksheet!$D$8))","v":7},"kg","±",{"$f":"IF(I869=1,H869*10^RANDBETWEEN(IF(Worksheet!$D$14,-1,0),0),IF(I869=2,H869*10^RANDBETWEEN(RANDBETWEEN(0,2),2),CHOOSE(RANDBETWEEN(1,3),5,10,20)))","v":0.60000000000000009},{"$f":"IF(I869=1,D869,IF(I869=3,\"%\",\"g\"))","v":"kg"},{"$f":"RANDBETWEEN(1,MIN(9,C869))","v":6},{"$f":"IF(AND(Worksheet!$D$12,RAND()<0.2),3,IF(RAND()<Worksheet!$D$10/100,1,2))","v":1},0.60000000000000009,{"$f":"CONCATENATE(\" \",D869)","v":" kg"},600.00000000000011,"g"]
[{"$f":"IF(COUNTIF($B$1:B870,TRUE)=COUNTIF($B$1:B869,TRUE),\"\",COUNTIF($B$1:B870,TRUE))","v":677},{"$f":"Worksheet!$D$22","v":true},{"$f":"RANDBETWEEN(5,RANDBETWEEN(5,Worksheet!$D$8))","v":102},"tonnes","±",{"$f":"IF(I870=1,H870*10^RANDBETWEEN(IF(Worksheet!$D$14,-1,0),0),IF(I870=2,H870*10^RANDBETWEEN(RANDBETWEEN(0,2),2),CHOOSE(RANDBETWEEN(1,3),5,10,20)))","v":300},{"$f":"IF(I870=1,D870,IF(I870=3,\"%\",\"kg\"))","v":"kg"},{"$f":"RANDBETWEEN(1,MIN(9,C870))","v":3},{"$f":"IF(AND(Worksheet!$D$12,RAND()<0.2),3,IF(RAND()<Worksheet!$D$10/100,1,2))","v":2},0.3,{"$f":"CONCATENATE(\" \",D870)","v":" tonnes"},300,"kg"]
[{"$f":"IF(COUNTIF($B$1:B871,TRUE)=COUNTIF($B$1:B870,TRUE),\"\",COUNTIF($B$1:B871,TRUE))","v":678},{"$f":"Worksheet!$D$24","v":true},{"$f":"RANDBETWEEN(5,RANDBETWEEN(5,Worksheet!$D$8))","v":9},"litres","±",{"$f":"IF(I871=1,H871*10^RANDBETWEEN(IF(Worksheet!$D$14,-1,0),0),IF(I871=2,H871*10^RANDBETWEEN(RANDBETWEEN(0,2),2),CHOOSE(RANDBETWEEN(1,3),5,10,20)))","v":1},{"$f":"IF(I871=1,D871,IF(I871=3,\"%\",\"ml\"))","v":"litres"},{"$f":"RANDBETWEEN(1,MIN(9,C871))","v":1},{"$f":"IF(AND(Worksheet!$D$12,RAND()<0.2),3,IF(RAND()<Worksheet!$D$10/100,1,2))","v":1},1,{"$f":"CONCATENATE(\" \",D871)","v":" litres"},1000,"ml"]
[{"$f":"IF(COUNTIF($B$1:B872,TRUE)=COUNTIF($B$1:B871,TRUE),\"\",COUNTIF($B$1:B872,TRUE))","v":""},{"$f":"Worksheet!$D$26","v":false},{"$f":"RANDBETWEEN(5,RANDBETWEEN(5,Worksheet!$D$8))","v":5},"litres","±",{"$f":"IF(I872=1,H872*10^RANDBETWEEN(IF(Worksheet!$D$14,-1,0),0),IF(I872=2,H872*10^RANDBETWEEN(RANDBETWEEN(0,2),2),CHOOSE(RANDBETWEEN(1,3),5,10,20)))","v":3},{"$f":"IF(I872=1,D872,IF(I872=3,\"%\",\"cm³\"))","v":"cm³"},{"$f":"RANDBETWEEN(1,MIN(9,C872))","v":3},{"$f":"IF(AND(Worksheet!$D$12,RAND()<0.2),3,IF(RAND()<Worksheet!$D$10/100,1,2))","v":2},3.0000000000000001E-3,{"$f":"CONCATENATE(\" \",D872)","v":" litres"},3,"cm³"]
[{"$f":"IF(COUNTIF($B$1:B873,TRUE)=COUNTIF($B$1:B873,TRUE),\"\",COUNTIF($B$1:B873,TRUE))","v":""},{"$f":"Worksheet!$B$28","v":true},{"$f":"RANDBETWEEN(5,20)","v":17},"°C","±",{"$f":"IF(I873=1,H873*10^RANDBETWEEN(IF(Worksheet!$D$14,-1,0),0),IF(I873=2,H873,CHOOSE(RANDBETWEEN(1,3),5,10,20)))","v":0.2},{"$f":"IF(I873=1,D873,IF(I873=3,\"%\",\"sec\"))","v":"°C"},{"$f":"RANDBETWEEN(1,MIN(9,C873))","v":2},{"$f":"IF(AND(Worksheet!$D$12,RAND()<0),3,IF(RAND()<Worksheet!$D$10/100,1,2))","v":1},{"$f":"IF(I873=1,F873,IF(I873=2,F873,IF(I873=3,F873/100*C873,\"\")))","v":0.2},{"$f":"CONCATENATE(\" \",D873)","v":" °C"},{"$f":"IF(I873=1,F873,IF(I873=2,F873,IF(I873=3,F873/100*C873,\"\")))","v":0.2}," °C"]
[{"$f":"COUNTIF($B$1:B874,TRUE)","v":680},{"$f":"Worksheet!$B$20","v":true},{"$f":"RANDBETWEEN(5,RANDBETWEEN(5,Worksheet!$D$8))","v":50},"cm","±",{"$f":"IF(I874=1,H874*10^RANDBETWEEN(IF(Worksheet!$D$14,-1,0),0),IF(I874=2,H874,CHOOSE(RANDBETWEEN(1,3),5,10,20)))","v":20},{"$f":"IF(I874=1,D874,IF(I874=3,\"%\",\"mm\"))","v":"%"},{"$f":"RANDBETWEEN(1,MIN(9,C874))","v":2},{"$f":"IF(AND(Worksheet!$D$12,RAND()<0.2),3,IF(RAND()<Worksheet!$D$10/100,1,2))","v":3},{"$f":"IF(I874=1,F874,IF(I874=2,F874/10,IF(I874=3,F874/100*C874,\"\")))","v":10},{"$f":"CONCATENATE(\" \",D874)","v":" cm"},{"$f":"IF(I874=1,F874*10,IF(I874=2,F874,IF(I874=3,F874/100*C874*10,\"\")))","v":100},"mm"]
[{"$f":"IF(COUNTIF($B$1:B875,TRUE)=COUNTIF($B$1:B874,TRUE),\"\",COUNTIF($B$1:B875,TRUE))","v":681},{"$f":"Worksheet!$B$22","v":true},{"$f":"RANDBETWEEN(5,RANDBETWEEN(5,Worksheet!$D$8))","v":72},"m","±",{"$f":"IF(I875=1,H875*10^RANDBETWEEN(IF(Worksheet!$D$14,-1,0),0),IF(I875=2,H875*10^RANDBETWEEN(RANDBETWEEN(0,1),1),CHOOSE(RANDBETWEEN(1,3),5,10,20)))","v":8},{"$f":"IF(I875=1,D875,IF(I875=3,\"%\",\"cm\"))","v":"m"},{"$f":"RANDBETWEEN(1,MIN(9,C875))","v":8},{"$f":"IF(AND(Worksheet!$D$12,RAND()<0.2),3,IF(RAND()<Worksheet!$D$10/100,1,2))","v":1},{"$f":"IF(I875=1,F875,IF(I875=2,F875/100,IF(I875=3,F875/100*C875,\"\")))","v":8},{"$f":"CONCATENATE(\" \",D875)","v":" m"},{"$f":"IF(I875=1,F875*100,IF(I875=2,F875,IF(I875=3,F875/100*C875*100,\"\")))","v":800},"cm"]
[{"$f":"IF(COUNTIF($B$1:B876,TRUE)=COUNTIF($B$1:B875,TRUE),\"\",COUNTIF($B$1:B876,TRUE))","v":682},{"$f":"Worksheet!$B$24","v":true},{"$f":"RANDBETWEEN(5,RANDBETWEEN(5,Worksheet!$D$8))","v":5},"km","±",{"$f":"IF(I876=1,H876*10^RANDBETWEEN(IF(Worksheet!$D$14,-1,0),0),IF(I876=2,H876*10^RANDBETWEEN(RANDBETWEEN(0,2),2),CHOOSE(RANDBETWEEN(1,3),5,10,20)))","v":0.30000000000000004},{"$f":"IF(I876=1,D876,IF(I876=3,\"%\",\"m\"))","v":"km"},3,{"$f":"IF(AND(Worksheet!$D$12,RAND()<0.2),3,IF(RAND()<Worksheet!$D$10/100,1,2))","v":1},{"$f":"IF(I876=1,F876,IF(I876=2,F876/1000,IF(I876=3,F876/100*C876,\"\")))","v":0.30000000000000004}," km",{"$f":"IF(I876=1,F876*1000,IF(I876=2,F876,IF(I876=3,F876/100*C876*1000,\"\")))","v":300.00000000000006},"m"]
[{"$f":"IF(COUNTIF($B$1:B877,TRUE)=COUNTIF($B$1:B876,TRUE),\"\",COUNTIF($B$1:B877,TRUE))","v":""},{"$f":"Worksheet!$B$26","v":false},{"$f":"RANDBETWEEN(5,RANDBETWEEN(5,Worksheet!$D$8))","v":14},"m","±",{"$f":"IF(I877=1,H877*10^RANDBETWEEN(IF(Worksheet!$D$14,-1,0),0),IF(I877=2,H877*10^RANDBETWEEN(RANDBETWEEN(0,2),2),CHOOSE(RANDBETWEEN(1,3),5,10,20)))","v":400},{"$f":"IF(I877=1,D877,IF(I877=3,\"%\",\"mm\"))","v":"mm"},4,{"$f":"IF(AND(Worksheet!$D$12,RAND()<0.2),3,IF(RAND()<Worksheet!$D$10/100,1,2))","v":2},0.4," m",400,"mm"]
[{"$f":"IF(COUNTIF($B$1:B878,TRUE)=COUNTIF($B$1:B877,TRUE),\"\",COUNTIF($B$1:B878,TRUE))","v":683},{"$f":"Worksheet!$D$20","v":true},{"$f":"RANDBETWEEN(5,RANDBETWEEN(5,Worksheet!$D$8))","v":42},"kg","±",{"$f":"IF(I878=1,H878*10^RANDBETWEEN(IF(Worksheet!$D$14,-1,0),0),IF(I878=2,H878*10^RANDBETWEEN(RANDBETWEEN(0,2),2),CHOOSE(RANDBETWEEN(1,3),5,10,20)))","v":0.4},{"$f":"IF(I878=1,D878,IF(I878=3,\"%\",\"g\"))","v":"kg"},{"$f":"RANDBETWEEN(1,MIN(9,C878))","v":4},{"$f":"IF(AND(Worksheet!$D$12,RAND()<0.2),3,IF(RAND()<Worksheet!$D$10/100,1,2))","v":1},0.4,{"$f":"CONCATENATE(\" \",D878)","v":" kg"},400,"g"]
[{"$f":"IF(COUNTIF($B$1:B879,TRUE)=COUNTIF($B$1:B878,TRUE),\"\",COUNTIF($B$1:B879,TRUE))","v":684},{"$f":"Worksheet!$D$22","v":true},{"$f":"RANDBETWEEN(5,RANDBETWEEN(5,Worksheet!$D$8))","v":13},"tonnes","±",{"$f":"IF(I879=1,H879*10^RANDBETWEEN(IF(Worksheet!$D$14,-1,0),0),IF(I879=2,H879*10^RANDBETWEEN(RANDBETWEEN(0,2),2),CHOOSE(RANDBETWEEN(1,3),5,10,20)))","v":600},{"$f":"IF(I879=1,D879,IF(I879=3,\"%\",\"kg\"))","v":"kg"},{"$f":"RANDBETWEEN(1,MIN(9,C879))","v":6},{"$f":"IF(AND(Worksheet!$D$12,RAND()<0.2),3,IF(RAND()<Worksheet!$D$10/100,1,2))","v":2},0.6,{"$f":"CONCATENATE(\" \",D879)","v":" tonnes"},600,"kg"]
[{"$f":"IF(COUNTIF($B$1:B880,TRUE)=COUNTIF($B$1:B879,TRUE),\"\",COUNTIF($B$1:B880,TRUE))","v":685},{"$f":"Worksheet!$D$24","v":true},{"$f":"RANDBETWEEN(5,RANDBETWEEN(5,Worksheet!$D$8))","v":71},"litres","±",{"$f":"IF(I880=1,H880*10^RANDBETWEEN(IF(Worksheet!$D$14,-1,0),0),IF(I880=2,H880*10^RANDBETWEEN(RANDBETWEEN(0,2),2),CHOOSE(RANDBETWEEN(1,3),5,10,20)))","v":300},{"$f":"IF(I880=1,D880,IF(I880=3,\"%\",\"ml\"))","v":"ml"},{"$f":"RANDBETWEEN(1,MIN(9,C880))","v":3},{"$f":"IF(AND(Worksheet!$D$12,RAND()<0.2),3,IF(RAND()<Worksheet!$D$10/100,1,2))","v":2},0.3,{"$f":"CONCATENATE(\" \",D880)","v":" litres"},300,"ml"]
[{"$f":"IF(COUNTIF($B$1:B881,TRUE)=COUNTIF($B$1:B880,TRUE),\"\",COUNTIF($B$1:B881,TRUE))","v":""},{"$f":"Worksheet!$D$26","v":false},{"$f":"RANDBETWEEN(5,RANDBETWEEN(5,Worksheet!$D$8))","v":107},"litres","±",{"$f":"IF(I881=1,H881*10^RANDBETWEEN(IF(Worksheet!$D$14,-1,0),0),IF(I881=2,H881*10^RANDBETWEEN(RANDBETWEEN(0,2),2),CHOOSE(RANDBETWEEN(1,3),5,10,20)))","v":1},{"$f":"IF(I881=1,D881,IF(I881=3,\"%\",\"cm³\"))","v":"litres"},{"$f":"RANDBETWEEN(1,MIN(9,C881))","v":1},{"$f":"IF(AND(Worksheet!$D$12,RAND()<0.2),3,IF(RAND()<Worksheet!$D$10/100,1,2))","v":1},1,{"$f":"CONCATENATE(\" \",D881)","v":" litres"},1000,"cm³"]
[{"$f":"IF(COUNTIF($B$1:B882,TRUE)=COUNTIF($B$1:B882,TRUE),\"\",COUNTIF($B$1:B882,TRUE))","v":""},{"$f":"Worksheet!$B$28","v":true},{"$f":"RANDBETWEEN(5,20)","v":6},"°C","±",{"$f":"IF(I882=1,H882*10^RANDBETWEEN(IF(Worksheet!$D$14,-1,0),0),IF(I882=2,H882,CHOOSE(RANDBETWEEN(1,3),5,10,20)))","v":6},{"$f":"IF(I882=1,D882,IF(I882=3,\"%\",\"sec\"))","v":"°C"},{"$f":"RANDBETWEEN(1,MIN(9,C882))","v":6},{"$f":"IF(AND(Worksheet!$D$12,RAND()<0),3,IF(RAND()<Worksheet!$D$10/100,1,2))","v":1},{"$f":"IF(I882=1,F882,IF(I882=2,F882,IF(I882=3,F882/100*C882,\"\")))","v":6},{"$f":"CONCATENATE(\" \",D882)","v":" °C"},{"$f":"IF(I882=1,F882,IF(I882=2,F882,IF(I882=3,F882/100*C882,\"\")))","v":6}," °C"]
[{"$f":"COUNTIF($B$1:B883,TRUE)","v":687},{"$f":"Worksheet!$B$20","v":true},{"$f":"RANDBETWEEN(5,RANDBETWEEN(5,Worksheet!$D$8))","v":12},"cm","±",{"$f":"IF(I883=1,H883*10^RANDBETWEEN(IF(Worksheet!$D$14,-1,0),0),IF(I883=2,H883,CHOOSE(RANDBETWEEN(1,3),5,10,20)))","v":1},{"$f":"IF(I883=1,D883,IF(I883=3,\"%\",\"mm\"))","v":"cm"},{"$f":"RANDBETWEEN(1,MIN(9,C883))","v":1},{"$f":"IF(AND(Worksheet!$D$12,RAND()<0.2),3,IF(RAND()<Worksheet!$D$10/100,1,2))","v":1},{"$f":"IF(I883=1,F883,IF(I883=2,F883/10,IF(I883=3,F883/100*C883,\"\")))","v":1},{"$f":"CONCATENATE(\" \",D883)","v":" cm"},{"$f":"IF(I883=1,F883*10,IF(I883=2,F883,IF(I883=3,F883/100*C883*10,\"\")))","v":10},"mm"]
[{"$f":"IF(COUNTIF($B$1:B884,TRUE)=COUNTIF($B$1:B883,TRUE),\"\",COUNTIF($B$1:B884,TRUE))","v":688},{"$f":"Worksheet!$B$22","v":true},{"$f":"RANDBETWEEN(5,RANDBETWEEN(5,Worksheet!$D$8))","v":154},"m","±",{"$f":"IF(I884=1,H884*10^RANDBETWEEN(IF(Worksheet!$D$14,-1,0),0),IF(I884=2,H884*10^RANDBETWEEN(RANDBETWEEN(0,1),1),CHOOSE(RANDBETWEEN(1,3),5,10,20)))","v":0.8},{"$f":"IF(I884=1,D884,IF(I884=3,\"%\",\"cm\"))","v":"m"},{"$f":"RANDBETWEEN(1,MIN(9,C884))","v":8},{"$f":"IF(AND(Worksheet!$D$12,RAND()<0.2),3,IF(RAND()<Worksheet!$D$10/100,1,2))","v":1},{"$f":"IF(I884=1,F884,IF(I884=2,F884/100,IF(I884=3,F884/100*C884,\"\")))","v":0.8},{"$f":"CONCATENATE(\" \",D884)","v":" m"},{"$f":"IF(I884=1,F884*100,IF(I884=2,F884,IF(I884=3,F884/100*C884*100,\"\")))","v":80},"cm"]
[{"$f":"IF(COUNTIF($B$1:B885,TRUE)=COUNTIF($B$1:B884,TRUE),\"\",COUNTIF($B$1:B885,TRUE))","v":689},{"$f":"Worksheet!$B$24","v":true},{"$f":"RANDBETWEEN(5,RANDBETWEEN(5,Worksheet!$D$8))","v":96},"km","±",{"$f":"IF(I885=1,H885*10^RANDBETWEEN(IF(Worksheet!$D$14,-1,0),0),IF(I885=2,H885*10^RANDBETWEEN(RANDBETWEEN(0,2),2),CHOOSE(RANDBETWEEN(1,3),5,10,20)))","v":5},{"$f":"IF(I885=1,D885,IF(I885=3,\"%\",\"m\"))","v":"%"},5,{"$f":"IF(AND(Worksheet!$D$12,RAND()<0.2),3,IF(RAND()<Worksheet!$D$10/100,1,2))","v":3},{"$f":"IF(I885=1,F885,IF(I885=2,F885/1000,IF(I885=3,F885/100*C885,\"\")))","v":4.8000000000000007}," km",{"$f":"IF(I885=1,F885*1000,IF(I885=2,F885,IF(I885=3,F885/100*C885*1000,\"\")))","v":4800.0000000000009},"m"]
[{"$f":"IF(COUNTIF($B$1:B886,TRUE)=COUNTIF($B$1:B885,TRUE),\"\",COUNTIF($B$1:B886,TRUE))","v":""},{"$f":"Worksheet!$B$26","v":false},{"$f":"RANDBETWEEN(5,RANDBETWEEN(5,Worksheet!$D$8))","v":21},"m","±",{"$f":"IF(I886=1,H886*10^RANDBETWEEN(IF(Worksheet!$D$14,-1,0),0),IF(I886=2,H886*10^RANDBETWEEN(RANDBETWEEN(0,2),2),CHOOSE(RANDBETWEEN(1,3),5,10,20)))","v":20},{"$f":"IF(I886=1,D886,IF(I886=3,\"%\",\"mm\"))","v":"%"},3,{"$f":"IF(AND(Worksheet!$D$12,RAND()<0.2),3,IF(RAND()<Worksheet!$D$10/100,1,2))","v":3},4.2," m",4200,"mm"]
[{"$f":"IF(COUNTIF($B$1:B887,TRUE)=COUNTIF($B$1:B886,TRUE),\"\",COUNTIF($B$1:B887,TRUE))","v":690},{"$f":"Worksheet!$D$20","v":true},{"$f":"RANDBETWEEN(5,RANDBETWEEN(5,Worksheet!$D$8))","v":33},"kg","±",{"$f":"IF(I887=1,H887*10^RANDBETWEEN(IF(Worksheet!$D$14,-1,0),0),IF(I887=2,H887*10^RANDBETWEEN(RANDBETWEEN(0,2),2),CHOOSE(RANDBETWEEN(1,3),5,10,20)))","v":10},{"$f":"IF(I887=1,D887,IF(I887=3,\"%\",\"g\"))","v":"g"},{"$f":"RANDBETWEEN(1,MIN(9,C887))","v":1},{"$f":"IF(AND(Worksheet!$D$12,RAND()<0.2),3,IF(RAND()<Worksheet!$D$10/100,1,2))","v":2},0.01,{"$f":"CONCATENATE(\" \",D887)","v":" kg"},10,"g"]
[{"$f":"IF(COUNTIF($B$1:B888,TRUE)=COUNTIF($B$1:B887,TRUE),\"\",COUNTIF($B$1:B888,TRUE))","v":691},{"$f":"Worksheet!$D$22","v":true},{"$f":"RANDBETWEEN(5,RANDBETWEEN(5,Worksheet!$D$8))","v":12},"tonnes","±",{"$f":"IF(I888=1,H888*10^RANDBETWEEN(IF(Worksheet!$D$14,-1,0),0),IF(I888=2,H888*10^RANDBETWEEN(RANDBETWEEN(0,2),2),CHOOSE(RANDBETWEEN(1,3),5,10,20)))","v":10},{"$f":"IF(I888=1,D888,IF(I888=3,\"%\",\"kg\"))","v":"kg"},{"$f":"RANDBETWEEN(1,MIN(9,C888))","v":1},{"$f":"IF(AND(Worksheet!$D$12,RAND()<0.2),3,IF(RAND()<Worksheet!$D$10/100,1,2))","v":2},0.01,{"$f":"CONCATENATE(\" \",D888)","v":" tonnes"},10,"kg"]
[{"$f":"IF(COUNTIF($B$1:B889,TRUE)=COUNTIF($B$1:B888,TRUE),\"\",COUNTIF($B$1:B889,TRUE))","v":692},{"$f":"Worksheet!$D$24","v":true},{"$f":"RANDBETWEEN(5,RANDBETWEEN(5,Worksheet!$D$8))","v":77},"litres","±",{"$f":"IF(I889=1,H889*10^RANDBETWEEN(IF(Worksheet!$D$14,-1,0),0),IF(I889=2,H889*10^RANDBETWEEN(RANDBETWEEN(0,2),2),CHOOSE(RANDBETWEEN(1,3),5,10,20)))","v":2},{"$f":"IF(I889=1,D889,IF(I889=3,\"%\",\"ml\"))","v":"litres"},{"$f":"RANDBETWEEN(1,MIN(9,C889))","v":2},{"$f":"IF(AND(Worksheet!$D$12,RAND()<0.2),3,IF(RAND()<Worksheet!$D$10/100,1,2))","v":1},2,{"$f":"CONCATENATE(\" \",D889)","v":" litres"},2000,"ml"]
[{"$f":"IF(COUNTIF($B$1:B890,TRUE)=COUNTIF($B$1:B889,TRUE),\"\",COUNTIF($B$1:B890,TRUE))","v":""},{"$f":"Worksheet!$D$26","v":false},{"$f":"RANDBETWEEN(5,RANDBETWEEN(5,Worksheet!$D$8))","v":150},"litres","±",{"$f":"IF(I890=1,H890*10^RANDBETWEEN(IF(Worksheet!$D$14,-1,0),0),IF(I890=2,H890*10^RANDBETWEEN(RANDBETWEEN(0,2),2),CHOOSE(RANDBETWEEN(1,3),5,10,20)))","v":500},{"$f":"IF(I890=1,D890,IF(I890=3,\"%\",\"cm³\"))","v":"cm³"},{"$f":"RANDBETWEEN(1,MIN(9,C890))","v":5},{"$f":"IF(AND(Worksheet!$D$12,RAND()<0.2),3,IF(RAND()<Worksheet!$D$10/100,1,2))","v":2},0.5,{"$f":"CONCATENATE(\" \",D890)","v":" litres"},500,"cm³"]
[{"$f":"IF(COUNTIF($B$1:B891,TRUE)=COUNTIF($B$1:B891,TRUE),\"\",COUNTIF($B$1:B891,TRUE))","v":""},{"$f":"Worksheet!$B$28","v":true},{"$f":"RANDBETWEEN(5,20)","v":8},"°C","±",{"$f":"IF(I891=1,H891*10^RANDBETWEEN(IF(Worksheet!$D$14,-1,0),0),IF(I891=2,H891,CHOOSE(RANDBETWEEN(1,3),5,10,20)))","v":5},{"$f":"IF(I891=1,D891,IF(I891=3,\"%\",\"sec\"))","v":"°C"},{"$f":"RANDBETWEEN(1,MIN(9,C891))","v":5},{"$f":"IF(AND(Worksheet!$D$12,RAND()<0),3,IF(RAND()<Worksheet!$D$10/100,1,2))","v":1},{"$f":"IF(I891=1,F891,IF(I891=2,F891,IF(I891=3,F891/100*C891,\"\")))","v":5},{"$f":"CONCATENATE(\" \",D891)","v":" °C"},{"$f":"IF(I891=1,F891,IF(I891=2,F891,IF(I891=3,F891/100*C891,\"\")))","v":5}," °C"]
[{"$f":"COUNTIF($B$1:B892,TRUE)","v":694},{"$f":"Worksheet!$B$20","v":true},{"$f":"RANDBETWEEN(5,RANDBETWEEN(5,Worksheet!$D$8))","v":96},"cm","±",{"$f":"IF(I892=1,H892*10^RANDBETWEEN(IF(Worksheet!$D$14,-1,0),0),IF(I892=2,H892,CHOOSE(RANDBETWEEN(1,3),5,10,20)))","v":9},{"$f":"IF(I892=1,D892,IF(I892=3,\"%\",\"mm\"))","v":"mm"},{"$f":"RANDBETWEEN(1,MIN(9,C892))","v":9},{"$f":"IF(AND(Worksheet!$D$12,RAND()<0.2),3,IF(RAND()<Worksheet!$D$10/100,1,2))","v":2},{"$f":"IF(I892=1,F892,IF(I892=2,F892/10,IF(I892=3,F892/100*C892,\"\")))","v":0.9},{"$f":"CONCATENATE(\" \",D892)","v":" cm"},{"$f":"IF(I892=1,F892*10,IF(I892=2,F892,IF(I892=3,F892/100*C892*10,\"\")))","v":9},"mm"]
[{"$f":"IF(COUNTIF($B$1:B893,TRUE)=COUNTIF($B$1:B892,TRUE),\"\",COUNTIF($B$1:B893,TRUE))","v":695},{"$f":"Worksheet!$B$22","v":true},{"$f":"RANDBETWEEN(5,RANDBETWEEN(5,Worksheet!$D$8))","v":33},"m","±",{"$f":"IF(I893=1,H893*10^RANDBETWEEN(IF(Worksheet!$D$14,-1,0),0),IF(I893=2,H893*10^RANDBETWEEN(RANDBETWEEN(0,1),1),CHOOSE(RANDBETWEEN(1,3),5,10,20)))","v":7},{"$f":"IF(I893=1,D893,IF(I893=3,\"%\",\"cm\"))","v":"cm"},{"$f":"RANDBETWEEN(1,MIN(9,C893))","v":7},{"$f":"IF(AND(Worksheet!$D$12,RAND()<0.2),3,IF(RAND()<Worksheet!$D$10/100,1,2))","v":2},{"$f":"IF(I893=1,F893,IF(I893=2,F893/100,IF(I893=3,F893/100*C893,\"\")))","v":7.0000000000000007E-2},{"$f":"CONCATENATE(\" \",D893)","v":" m"},{"$f":"IF(I893=1,F893*100,IF(I893=2,F893,IF(I893=3,F893/100*C893*100,\"\")))","v":7},"cm"]
[{"$f":"IF(COUNTIF($B$1:B894,TRUE)=COUNTIF($B$1:B893,TRUE),\"\",COUNTIF($B$1:B894,TRUE))","v":696},{"$f":"Worksheet!$B$24","v":true},{"$f":"RANDBETWEEN(5,RANDBETWEEN(5,Worksheet!$D$8))","v":115},"km","±",{"$f":"IF(I894=1,H894*10^RANDBETWEEN(IF(Worksheet!$D$14,-1,0),0),IF(I894=2,H894*10^RANDBETWEEN(RANDBETWEEN(0,2),2),CHOOSE(RANDBETWEEN(1,3),5,10,20)))","v":0.4},{"$f":"IF(I894=1,D894,IF(I894=3,\"%\",\"m\"))","v":"km"},4,{"$f":"IF(AND(Worksheet!$D$12,RAND()<0.2),3,IF(RAND()<Worksheet!$D$10/100,1,2))","v":1},{"$f":"IF(I894=1,F894,IF(I894=2,F894/1000,IF(I894=3,F894/100*C894,\"\")))","v":0.4}," km",{"$f":"IF(I894=1,F894*1000,IF(I894=2,F894,IF(I894=3,F894/100*C894*1000,\"\")))","v":400},"m"]
[{"$f":"IF(COUNTIF($B$1:B895,TRUE)=COUNTIF($B$1:B894,TRUE),\"\",COUNTIF($B$1:B895,TRUE))","v":""},{"$f":"Worksheet!$B$26","v":false},{"$f":"RANDBETWEEN(5,RANDBETWEEN(5,Worksheet!$D$8))","v":26},"m","±",{"$f":"IF(I895=1,H895*10^RANDBETWEEN(IF(Worksheet!$D$14,-1,0),0),IF(I895=2,H895*10^RANDBETWEEN(RANDBETWEEN(0,2),2),CHOOSE(RANDBETWEEN(1,3),5,10,20)))","v":1},{"$f":"IF(I895=1,D895,IF(I895=3,\"%\",\"mm\"))","v":"m"},1,{"$f":"IF(AND(Worksheet!$D$12,RAND()<0.2),3,IF(RAND()<Worksheet!$D$10/100,1,2))","v":1},1," m",1000,"mm"]
[{"$f":"IF(COUNTIF($B$1:B896,TRUE)=COUNTIF($B$1:B895,TRUE),\"\",COUNTIF($B$1:B896,TRUE))","v":697},{"$f":"Worksheet!$D$20","v":true},{"$f":"RANDBETWEEN(5,RANDBETWEEN(5,Worksheet!$D$8))","v":111},"kg","±",{"$f":"IF(I896=1,H896*10^RANDBETWEEN(IF(Worksheet!$D$14,-1,0),0),IF(I896=2,H896*10^RANDBETWEEN(RANDBETWEEN(0,2),2),CHOOSE(RANDBETWEEN(1,3),5,10,20)))","v":7},{"$f":"IF(I896=1,D896,IF(I896=3,\"%\",\"g\"))","v":"kg"},{"$f":"RANDBETWEEN(1,MIN(9,C896))","v":7},{"$f":"IF(AND(Worksheet!$D$12,RAND()<0.2),3,IF(RAND()<Worksheet!$D$10/100,1,2))","v":1},7,{"$f":"CONCATENATE(\" \",D896)","v":" kg"},7000,"g"]
[{"$f":"IF(COUNTIF($B$1:B897,TRUE)=COUNTIF($B$1:B896,TRUE),\"\",COUNTIF($B$1:B897,TRUE))","v":698},{"$f":"Worksheet!$D$22","v":true},{"$f":"RANDBETWEEN(5,RANDBETWEEN(5,Worksheet!$D$8))","v":84},"tonnes","±",{"$f":"IF(I897=1,H897*10^RANDBETWEEN(IF(Worksheet!$D$14,-1,0),0),IF(I897=2,H897*10^RANDBETWEEN(RANDBETWEEN(0,2),2),CHOOSE(RANDBETWEEN(1,3),5,10,20)))","v":5},{"$f":"IF(I897=1,D897,IF(I897=3,\"%\",\"kg\"))","v":"%"},{"$f":"RANDBETWEEN(1,MIN(9,C897))","v":4},{"$f":"IF(AND(Worksheet!$D$12,RAND()<0.2),3,IF(RAND()<Worksheet!$D$10/100,1,2))","v":3},4.2,{"$f":"CONCATENATE(\" \",D897)","v":" tonnes"},4200,"kg"]
[{"$f":"IF(COUNTIF($B$1:B898,TRUE)=COUNTIF($B$1:B897,TRUE),\"\",COUNTIF($B$1:B898,TRUE))","v":699},{"$f":"Worksheet!$D$24","v":true},{"$f":"RANDBETWEEN(5,RANDBETWEEN(5,Worksheet!$D$8))","v":58},"litres","±",{"$f":"IF(I898=1,H898*10^RANDBETWEEN(IF(Worksheet!$D$14,-1,0),0),IF(I898=2,H898*10^RANDBETWEEN(RANDBETWEEN(0,2),2),CHOOSE(RANDBETWEEN(1,3),5,10,20)))","v":10},{"$f":"IF(I898=1,D898,IF(I898=3,\"%\",\"ml\"))","v":"%"},{"$f":"RANDBETWEEN(1,MIN(9,C898))","v":7},{"$f":"IF(AND(Worksheet!$D$12,RAND()<0.2),3,IF(RAND()<Worksheet!$D$10/100,1,2))","v":3},5.8000000000000007,{"$f":"CONCATENATE(\" \",D898)","v":" litres"},5800.0000000000009,"ml"]
[{"$f":"IF(COUNTIF($B$1:B899,TRUE)=COUNTIF($B$1:B898,TRUE),\"\",COUNTIF($B$1:B899,TRUE))","v":""},{"$f":"Worksheet!$D$26","v":false},{"$f":"RANDBETWEEN(5,RANDBETWEEN(5,Worksheet!$D$8))","v":9},"litres","±",{"$f":"IF(I899=1,H899*10^RANDBETWEEN(IF(Worksheet!$D$14,-1,0),0),IF(I899=2,H899*10^RANDBETWEEN(RANDBETWEEN(0,2),2),CHOOSE(RANDBETWEEN(1,3),5,10,20)))","v":4},{"$f":"IF(I899=1,D899,IF(I899=3,\"%\",\"cm³\"))","v":"litres"},{"$f":"RANDBETWEEN(1,MIN(9,C899))","v":4},{"$f":"IF(AND(Worksheet!$D$12,RAND()<0.2),3,IF(RAND()<Worksheet!$D$10/100,1,2))","v":1},4,{"$f":"CONCATENATE(\" \",D899)","v":" litres"},4000,"cm³"]
[{"$f":"IF(COUNTIF($B$1:B900,TRUE)=COUNTIF($B$1:B900,TRUE),\"\",COUNTIF($B$1:B900,TRUE))","v":""},{"$f":"Worksheet!$B$28","v":true},{"$f":"RANDBETWEEN(5,20)","v":20},"°C","±",{"$f":"IF(I900=1,H900*10^RANDBETWEEN(IF(Worksheet!$D$14,-1,0),0),IF(I900=2,H900,CHOOSE(RANDBETWEEN(1,3),5,10,20)))","v":4},{"$f":"IF(I900=1,D900,IF(I900=3,\"%\",\"sec\"))","v":"°C"},{"$f":"RANDBETWEEN(1,MIN(9,C900))","v":4},{"$f":"IF(AND(Worksheet!$D$12,RAND()<0),3,IF(RAND()<Worksheet!$D$10/100,1,2))","v":1},{"$f":"IF(I900=1,F900,IF(I900=2,F900,IF(I900=3,F900/100*C900,\"\")))","v":4},{"$f":"CONCATENATE(\" \",D900)","v":" °C"},{"$f":"IF(I900=1,F900,IF(I900=2,F900,IF(I900=3,F900/100*C900,\"\")))","v":4}," °C"]
[{"$f":"COUNTIF($B$1:B901,TRUE)","v":701},{"$f":"Worksheet!$B$20","v":true},{"$f":"RANDBETWEEN(5,RANDBETWEEN(5,Worksheet!$D$8))","v":121},"cm","±",{"$f":"IF(I901=1,H901*10^RANDBETWEEN(IF(Worksheet!$D$14,-1,0),0),IF(I901=2,H901,CHOOSE(RANDBETWEEN(1,3),5,10,20)))","v":5},{"$f":"IF(I901=1,D901,IF(I901=3,\"%\",\"mm\"))","v":"%"},{"$f":"RANDBETWEEN(1,MIN(9,C901))","v":9},{"$f":"IF(AND(Worksheet!$D$12,RAND()<0.2),3,IF(RAND()<Worksheet!$D$10/100,1,2))","v":3},{"$f":"IF(I901=1,F901,IF(I901=2,F901/10,IF(I901=3,F901/100*C901,\"\")))","v":6.0500000000000007},{"$f":"CONCATENATE(\" \",D901)","v":" cm"},{"$f":"IF(I901=1,F901*10,IF(I901=2,F901,IF(I901=3,F901/100*C901*10,\"\")))","v":60.500000000000007},"mm"]
[{"$f":"IF(COUNTIF($B$1:B902,TRUE)=COUNTIF($B$1:B901,TRUE),\"\",COUNTIF($B$1:B902,TRUE))","v":702},{"$f":"Worksheet!$B$22","v":true},{"$f":"RANDBETWEEN(5,RANDBETWEEN(5,Worksheet!$D$8))","v":63},"m","±",{"$f":"IF(I902=1,H902*10^RANDBETWEEN(IF(Worksheet!$D$14,-1,0),0),IF(I902=2,H902*10^RANDBETWEEN(RANDBETWEEN(0,1),1),CHOOSE(RANDBETWEEN(1,3),5,10,20)))","v":0.5},{"$f":"IF(I902=1,D902,IF(I902=3,\"%\",\"cm\"))","v":"m"},{"$f":"RANDBETWEEN(1,MIN(9,C902))","v":5},{"$f":"IF(AND(Worksheet!$D$12,RAND()<0.2),3,IF(RAND()<Worksheet!$D$10/100,1,2))","v":1},{"$f":"IF(I902=1,F902,IF(I902=2,F902/100,IF(I902=3,F902/100*C902,\"\")))","v":0.5},{"$f":"CONCATENATE(\" \",D902)","v":" m"},{"$f":"IF(I902=1,F902*100,IF(I902=2,F902,IF(I902=3,F902/100*C902*100,\"\")))","v":50},"cm"]
[{"$f":"IF(COUNTIF($B$1:B903,TRUE)=COUNTIF($B$1:B902,TRUE),\"\",COUNTIF($B$1:B903,TRUE))","v":703},{"$f":"Worksheet!$B$24","v":true},{"$f":"RANDBETWEEN(5,RANDBETWEEN(5,Worksheet!$D$8))","v":42},"km","±",{"$f":"IF(I903=1,H903*10^RANDBETWEEN(IF(Worksheet!$D$14,-1,0),0),IF(I903=2,H903*10^RANDBETWEEN(RANDBETWEEN(0,2),2),CHOOSE(RANDBETWEEN(1,3),5,10,20)))","v":6},{"$f":"IF(I903=1,D903,IF(I903=3,\"%\",\"m\"))","v":"km"},6,{"$f":"IF(AND(Worksheet!$D$12,RAND()<0.2),3,IF(RAND()<Worksheet!$D$10/100,1,2))","v":1},{"$f":"IF(I903=1,F903,IF(I903=2,F903/1000,IF(I903=3,F903/100*C903,\"\")))","v":6}," km",{"$f":"IF(I903=1,F903*1000,IF(I903=2,F903,IF(I903=3,F903/100*C903*1000,\"\")))","v":6000},"m"]
[{"$f":"IF(COUNTIF($B$1:B904,TRUE)=COUNTIF($B$1:B903,TRUE),\"\",COUNTIF($B$1:B904,TRUE))","v":""},{"$f":"Worksheet!$B$26","v":false},{"$f":"RANDBETWEEN(5,RANDBETWEEN(5,Worksheet!$D$8))","v":11},"m","±",{"$f":"IF(I904=1,H904*10^RANDBETWEEN(IF(Worksheet!$D$14,-1,0),0),IF(I904=2,H904*10^RANDBETWEEN(RANDBETWEEN(0,2),2),CHOOSE(RANDBETWEEN(1,3),5,10,20)))","v":0.1},{"$f":"IF(I904=1,D904,IF(I904=3,\"%\",\"mm\"))","v":"m"},1,{"$f":"IF(AND(Worksheet!$D$12,RAND()<0.2),3,IF(RAND()<Worksheet!$D$10/100,1,2))","v":1},0.1," m",100,"mm"]
[{"$f":"IF(COUNTIF($B$1:B905,TRUE)=COUNTIF($B$1:B904,TRUE),\"\",COUNTIF($B$1:B905,TRUE))","v":704},{"$f":"Worksheet!$D$20","v":true},{"$f":"RANDBETWEEN(5,RANDBETWEEN(5,Worksheet!$D$8))","v":132},"kg","±",{"$f":"IF(I905=1,H905*10^RANDBETWEEN(IF(Worksheet!$D$14,-1,0),0),IF(I905=2,H905*10^RANDBETWEEN(RANDBETWEEN(0,2),2),CHOOSE(RANDBETWEEN(1,3),5,10,20)))","v":9},{"$f":"IF(I905=1,D905,IF(I905=3,\"%\",\"g\"))","v":"kg"},{"$f":"RANDBETWEEN(1,MIN(9,C905))","v":9},{"$f":"IF(AND(Worksheet!$D$12,RAND()<0.2),3,IF(RAND()<Worksheet!$D$10/100,1,2))","v":1},9,{"$f":"CONCATENATE(\" \",D905)","v":" kg"},9000,"g"]
[{"$f":"IF(COUNTIF($B$1:B906,TRUE)=COUNTIF($B$1:B905,TRUE),\"\",COUNTIF($B$1:B906,TRUE))","v":705},{"$f":"Worksheet!$D$22","v":true},{"$f":"RANDBETWEEN(5,RANDBETWEEN(5,Worksheet!$D$8))","v":7},"tonnes","±",{"$f":"IF(I906=1,H906*10^RANDBETWEEN(IF(Worksheet!$D$14,-1,0),0),IF(I906=2,H906*10^RANDBETWEEN(RANDBETWEEN(0,2),2),CHOOSE(RANDBETWEEN(1,3),5,10,20)))","v":5},{"$f":"IF(I906=1,D906,IF(I906=3,\"%\",\"kg\"))","v":"tonnes"},{"$f":"RANDBETWEEN(1,MIN(9,C906))","v":5},{"$f":"IF(AND(Worksheet!$D$12,RAND()<0.2),3,IF(RAND()<Worksheet!$D$10/100,1,2))","v":1},5,{"$f":"CONCATENATE(\" \",D906)","v":" tonnes"},5000,"kg"]
[{"$f":"IF(COUNTIF($B$1:B907,TRUE)=COUNTIF($B$1:B906,TRUE),\"\",COUNTIF($B$1:B907,TRUE))","v":706},{"$f":"Worksheet!$D$24","v":true},{"$f":"RANDBETWEEN(5,RANDBETWEEN(5,Worksheet!$D$8))","v":5},"litres","±",{"$f":"IF(I907=1,H907*10^RANDBETWEEN(IF(Worksheet!$D$14,-1,0),0),IF(I907=2,H907*10^RANDBETWEEN(RANDBETWEEN(0,2),2),CHOOSE(RANDBETWEEN(1,3),5,10,20)))","v":3},{"$f":"IF(I907=1,D907,IF(I907=3,\"%\",\"ml\"))","v":"litres"},{"$f":"RANDBETWEEN(1,MIN(9,C907))","v":3},{"$f":"IF(AND(Worksheet!$D$12,RAND()<0.2),3,IF(RAND()<Worksheet!$D$10/100,1,2))","v":1},3,{"$f":"CONCATENATE(\" \",D907)","v":" litres"},3000,"ml"]
[{"$f":"IF(COUNTIF($B$1:B908,TRUE)=COUNTIF($B$1:B907,TRUE),\"\",COUNTIF($B$1:B908,TRUE))","v":""},{"$f":"Worksheet!$D$26","v":false},{"$f":"RANDBETWEEN(5,RANDBETWEEN(5,Worksheet!$D$8))","v":10},"litres","±",{"$f":"IF(I908=1,H908*10^RANDBETWEEN(IF(Worksheet!$D$14,-1,0),0),IF(I908=2,H908*10^RANDBETWEEN(RANDBETWEEN(0,2),2),CHOOSE(RANDBETWEEN(1,3),5,10,20)))","v":30},{"$f":"IF(I908=1,D908,IF(I908=3,\"%\",\"cm³\"))","v":"cm³"},{"$f":"RANDBETWEEN(1,MIN(9,C908))","v":3},{"$f":"IF(AND(Worksheet!$D$12,RAND()<0.2),3,IF(RAND()<Worksheet!$D$10/100,1,2))","v":2},0.03,{"$f":"CONCATENATE(\" \",D908)","v":" litres"},30,"cm³"]
[{"$f":"IF(COUNTIF($B$1:B909,TRUE)=COUNTIF($B$1:B909,TRUE),\"\",COUNTIF($B$1:B909,TRUE))","v":""},{"$f":"Worksheet!$B$28","v":true},{"$f":"RANDBETWEEN(5,20)","v":16},"°C","±",{"$f":"IF(I909=1,H909*10^RANDBETWEEN(IF(Worksheet!$D$14,-1,0),0),IF(I909=2,H909,CHOOSE(RANDBETWEEN(1,3),5,10,20)))","v":0.8},{"$f":"IF(I909=1,D909,IF(I909=3,\"%\",\"sec\"))","v":"°C"},{"$f":"RANDBETWEEN(1,MIN(9,C909))","v":8},{"$f":"IF(AND(Worksheet!$D$12,RAND()<0),3,IF(RAND()<Worksheet!$D$10/100,1,2))","v":1},{"$f":"IF(I909=1,F909,IF(I909=2,F909,IF(I909=3,F909/100*C909,\"\")))","v":0.8},{"$f":"CONCATENATE(\" \",D909)","v":" °C"},{"$f":"IF(I909=1,F909,IF(I909=2,F909,IF(I909=3,F909/100*C909,\"\")))","v":0.8}," °C"]
[{"$f":"COUNTIF($B$1:B910,TRUE)","v":708},{"$f":"Worksheet!$B$20","v":true},{"$f":"RANDBETWEEN(5,RANDBETWEEN(5,Worksheet!$D$8))","v":18},"cm","±",{"$f":"IF(I910=1,H910*10^RANDBETWEEN(IF(Worksheet!$D$14,-1,0),0),IF(I910=2,H910,CHOOSE(RANDBETWEEN(1,3),5,10,20)))","v":2},{"$f":"IF(I910=1,D910,IF(I910=3,\"%\",\"mm\"))","v":"cm"},{"$f":"RANDBETWEEN(1,MIN(9,C910))","v":2},{"$f":"IF(AND(Worksheet!$D$12,RAND()<0.2),3,IF(RAND()<Worksheet!$D$10/100,1,2))","v":1},{"$f":"IF(I910=1,F910,IF(I910=2,F910/10,IF(I910=3,F910/100*C910,\"\")))","v":2},{"$f":"CONCATENATE(\" \",D910)","v":" cm"},{"$f":"IF(I910=1,F910*10,IF(I910=2,F910,IF(I910=3,F910/100*C910*10,\"\")))","v":20},"mm"]
[{"$f":"IF(COUNTIF($B$1:B911,TRUE)=COUNTIF($B$1:B910,TRUE),\"\",COUNTIF($B$1:B911,TRUE))","v":709},{"$f":"Worksheet!$B$22","v":true},{"$f":"RANDBETWEEN(5,RANDBETWEEN(5,Worksheet!$D$8))","v":61},"m","±",{"$f":"IF(I911=1,H911*10^RANDBETWEEN(IF(Worksheet!$D$14,-1,0),0),IF(I911=2,H911*10^RANDBETWEEN(RANDBETWEEN(0,1),1),CHOOSE(RANDBETWEEN(1,3),5,10,20)))","v":3},{"$f":"IF(I911=1,D911,IF(I911=3,\"%\",\"cm\"))","v":"m"},{"$f":"RANDBETWEEN(1,MIN(9,C911))","v":3},{"$f":"IF(AND(Worksheet!$D$12,RAND()<0.2),3,IF(RAND()<Worksheet!$D$10/100,1,2))","v":1},{"$f":"IF(I911=1,F911,IF(I911=2,F911/100,IF(I911=3,F911/100*C911,\"\")))","v":3},{"$f":"CONCATENATE(\" \",D911)","v":" m"},{"$f":"IF(I911=1,F911*100,IF(I911=2,F911,IF(I911=3,F911/100*C911*100,\"\")))","v":300},"cm"]
[{"$f":"IF(COUNTIF($B$1:B912,TRUE)=COUNTIF($B$1:B911,TRUE),\"\",COUNTIF($B$1:B912,TRUE))","v":710},{"$f":"Worksheet!$B$24","v":true},{"$f":"RANDBETWEEN(5,RANDBETWEEN(5,Worksheet!$D$8))","v":27},"km","±",{"$f":"IF(I912=1,H912*10^RANDBETWEEN(IF(Worksheet!$D$14,-1,0),0),IF(I912=2,H912*10^RANDBETWEEN(RANDBETWEEN(0,2),2),CHOOSE(RANDBETWEEN(1,3),5,10,20)))","v":5},{"$f":"IF(I912=1,D912,IF(I912=3,\"%\",\"m\"))","v":"km"},5,{"$f":"IF(AND(Worksheet!$D$12,RAND()<0.2),3,IF(RAND()<Worksheet!$D$10/100,1,2))","v":1},{"$f":"IF(I912=1,F912,IF(I912=2,F912/1000,IF(I912=3,F912/100*C912,\"\")))","v":5}," km",{"$f":"IF(I912=1,F912*1000,IF(I912=2,F912,IF(I912=3,F912/100*C912*1000,\"\")))","v":5000},"m"]
[{"$f":"IF(COUNTIF($B$1:B913,TRUE)=COUNTIF($B$1:B912,TRUE),\"\",COUNTIF($B$1:B913,TRUE))","v":""},{"$f":"Worksheet!$B$26","v":false},{"$f":"RANDBETWEEN(5,RANDBETWEEN(5,Worksheet!$D$8))","v":147},"m","±",{"$f":"IF(I913=1,H913*10^RANDBETWEEN(IF(Worksheet!$D$14,-1,0),0),IF(I913=2,H913*10^RANDBETWEEN(RANDBETWEEN(0,2),2),CHOOSE(RANDBETWEEN(1,3),5,10,20)))","v":0.9},{"$f":"IF(I913=1,D913,IF(I913=3,\"%\",\"mm\"))","v":"m"},9,{"$f":"IF(AND(Worksheet!$D$12,RAND()<0.2),3,IF(RAND()<Worksheet!$D$10/100,1,2))","v":1},0.9," m",900,"mm"]
[{"$f":"IF(COUNTIF($B$1:B914,TRUE)=COUNTIF($B$1:B913,TRUE),\"\",COUNTIF($B$1:B914,TRUE))","v":711},{"$f":"Worksheet!$D$20","v":true},{"$f":"RANDBETWEEN(5,RANDBETWEEN(5,Worksheet!$D$8))","v":31},"kg","±",{"$f":"IF(I914=1,H914*10^RANDBETWEEN(IF(Worksheet!$D$14,-1,0),0),IF(I914=2,H914*10^RANDBETWEEN(RANDBETWEEN(0,2),2),CHOOSE(RANDBETWEEN(1,3),5,10,20)))","v":8},{"$f":"IF(I914=1,D914,IF(I914=3,\"%\",\"g\"))","v":"kg"},{"$f":"RANDBETWEEN(1,MIN(9,C914))","v":8},{"$f":"IF(AND(Worksheet!$D$12,RAND()<0.2),3,IF(RAND()<Worksheet!$D$10/100,1,2))","v":1},8,{"$f":"CONCATENATE(\" \",D914)","v":" kg"},8000,"g"]
[{"$f":"IF(COUNTIF($B$1:B915,TRUE)=COUNTIF($B$1:B914,TRUE),\"\",COUNTIF($B$1:B915,TRUE))","v":712},{"$f":"Worksheet!$D$22","v":true},{"$f":"RANDBETWEEN(5,RANDBETWEEN(5,Worksheet!$D$8))","v":25},"tonnes","±",{"$f":"IF(I915=1,H915*10^RANDBETWEEN(IF(Worksheet!$D$14,-1,0),0),IF(I915=2,H915*10^RANDBETWEEN(RANDBETWEEN(0,2),2),CHOOSE(RANDBETWEEN(1,3),5,10,20)))","v":0.5},{"$f":"IF(I915=1,D915,IF(I915=3,\"%\",\"kg\"))","v":"tonnes"},{"$f":"RANDBETWEEN(1,MIN(9,C915))","v":5},{"$f":"IF(AND(Worksheet!$D$12,RAND()<0.2),3,IF(RAND()<Worksheet!$D$10/100,1,2))","v":1},0.5,{"$f":"CONCATENATE(\" \",D915)","v":" tonnes"},500,"kg"]
[{"$f":"IF(COUNTIF($B$1:B916,TRUE)=COUNTIF($B$1:B915,TRUE),\"\",COUNTIF($B$1:B916,TRUE))","v":713},{"$f":"Worksheet!$D$24","v":true},{"$f":"RANDBETWEEN(5,RANDBETWEEN(5,Worksheet!$D$8))","v":7},"litres","±",{"$f":"IF(I916=1,H916*10^RANDBETWEEN(IF(Worksheet!$D$14,-1,0),0),IF(I916=2,H916*10^RANDBETWEEN(RANDBETWEEN(0,2),2),CHOOSE(RANDBETWEEN(1,3),5,10,20)))","v":0.2},{"$f":"IF(I916=1,D916,IF(I916=3,\"%\",\"ml\"))","v":"litres"},{"$f":"RANDBETWEEN(1,MIN(9,C916))","v":2},{"$f":"IF(AND(Worksheet!$D$12,RAND()<0.2),3,IF(RAND()<Worksheet!$D$10/100,1,2))","v":1},0.2,{"$f":"CONCATENATE(\" \",D916)","v":" litres"},200,"ml"]
[{"$f":"IF(COUNTIF($B$1:B917,TRUE)=COUNTIF($B$1:B916,TRUE),\"\",COUNTIF($B$1:B917,TRUE))","v":""},{"$f":"Worksheet!$D$26","v":false},{"$f":"RANDBETWEEN(5,RANDBETWEEN(5,Worksheet!$D$8))","v":26},"litres","±",{"$f":"IF(I917=1,H917*10^RANDBETWEEN(IF(Worksheet!$D$14,-1,0),0),IF(I917=2,H917*10^RANDBETWEEN(RANDBETWEEN(0,2),2),CHOOSE(RANDBETWEEN(1,3),5,10,20)))","v":10},{"$f":"IF(I917=1,D917,IF(I917=3,\"%\",\"cm³\"))","v":"%"},{"$f":"RANDBETWEEN(1,MIN(9,C917))","v":3},{"$f":"IF(AND(Worksheet!$D$12,RAND()<0.2),3,IF(RAND()<Worksheet!$D$10/100,1,2))","v":3},2.6,{"$f":"CONCATENATE(\" \",D917)","v":" litres"},2600,"cm³"]
[{"$f":"IF(COUNTIF($B$1:B918,TRUE)=COUNTIF($B$1:B918,TRUE),\"\",COUNTIF($B$1:B918,TRUE))","v":""},{"$f":"Worksheet!$B$28","v":true},{"$f":"RANDBETWEEN(5,20)","v":6},"°C","±",{"$f":"IF(I918=1,H918*10^RANDBETWEEN(IF(Worksheet!$D$14,-1,0),0),IF(I918=2,H918,CHOOSE(RANDBETWEEN(1,3),5,10,20)))","v":4},{"$f":"IF(I918=1,D918,IF(I918=3,\"%\",\"sec\"))","v":"°C"},{"$f":"RANDBETWEEN(1,MIN(9,C918))","v":4},{"$f":"IF(AND(Worksheet!$D$12,RAND()<0),3,IF(RAND()<Worksheet!$D$10/100,1,2))","v":1},{"$f":"IF(I918=1,F918,IF(I918=2,F918,IF(I918=3,F918/100*C918,\"\")))","v":4},{"$f":"CONCATENATE(\" \",D918)","v":" °C"},{"$f":"IF(I918=1,F918,IF(I918=2,F918,IF(I918=3,F918/100*C918,\"\")))","v":4}," °C"]
[{"$f":"COUNTIF($B$1:B919,TRUE)","v":715},{"$f":"Worksheet!$B$20","v":true},{"$f":"RANDBETWEEN(5,RANDBETWEEN(5,Worksheet!$D$8))","v":21},"cm","±",{"$f":"IF(I919=1,H919*10^RANDBETWEEN(IF(Worksheet!$D$14,-1,0),0),IF(I919=2,H919,CHOOSE(RANDBETWEEN(1,3),5,10,20)))","v":3},{"$f":"IF(I919=1,D919,IF(I919=3,\"%\",\"mm\"))","v":"cm"},{"$f":"RANDBETWEEN(1,MIN(9,C919))","v":3},{"$f":"IF(AND(Worksheet!$D$12,RAND()<0.2),3,IF(RAND()<Worksheet!$D$10/100,1,2))","v":1},{"$f":"IF(I919=1,F919,IF(I919=2,F919/10,IF(I919=3,F919/100*C919,\"\")))","v":3},{"$f":"CONCATENATE(\" \",D919)","v":" cm"},{"$f":"IF(I919=1,F919*10,IF(I919=2,F919,IF(I919=3,F919/100*C919*10,\"\")))","v":30},"mm"]
[{"$f":"IF(COUNTIF($B$1:B920,TRUE)=COUNTIF($B$1:B919,TRUE),\"\",COUNTIF($B$1:B920,TRUE))","v":716},{"$f":"Worksheet!$B$22","v":true},{"$f":"RANDBETWEEN(5,RANDBETWEEN(5,Worksheet!$D$8))","v":74},"m","±",{"$f":"IF(I920=1,H920*10^RANDBETWEEN(IF(Worksheet!$D$14,-1,0),0),IF(I920=2,H920*10^RANDBETWEEN(RANDBETWEEN(0,1),1),CHOOSE(RANDBETWEEN(1,3),5,10,20)))","v":20},{"$f":"IF(I920=1,D920,IF(I920=3,\"%\",\"cm\"))","v":"%"},{"$f":"RANDBETWEEN(1,MIN(9,C920))","v":1},{"$f":"IF(AND(Worksheet!$D$12,RAND()<0.2),3,IF(RAND()<Worksheet!$D$10/100,1,2))","v":3},{"$f":"IF(I920=1,F920,IF(I920=2,F920/100,IF(I920=3,F920/100*C920,\"\")))","v":14.8},{"$f":"CONCATENATE(\" \",D920)","v":" m"},{"$f":"IF(I920=1,F920*100,IF(I920=2,F920,IF(I920=3,F920/100*C920*100,\"\")))","v":1480},"cm"]
[{"$f":"IF(COUNTIF($B$1:B921,TRUE)=COUNTIF($B$1:B920,TRUE),\"\",COUNTIF($B$1:B921,TRUE))","v":717},{"$f":"Worksheet!$B$24","v":true},{"$f":"RANDBETWEEN(5,RANDBETWEEN(5,Worksheet!$D$8))","v":108},"km","±",{"$f":"IF(I921=1,H921*10^RANDBETWEEN(IF(Worksheet!$D$14,-1,0),0),IF(I921=2,H921*10^RANDBETWEEN(RANDBETWEEN(0,2),2),CHOOSE(RANDBETWEEN(1,3),5,10,20)))","v":6},{"$f":"IF(I921=1,D921,IF(I921=3,\"%\",\"m\"))","v":"km"},6,{"$f":"IF(AND(Worksheet!$D$12,RAND()<0.2),3,IF(RAND()<Worksheet!$D$10/100,1,2))","v":1},{"$f":"IF(I921=1,F921,IF(I921=2,F921/1000,IF(I921=3,F921/100*C921,\"\")))","v":6}," km",{"$f":"IF(I921=1,F921*1000,IF(I921=2,F921,IF(I921=3,F921/100*C921*1000,\"\")))","v":6000},"m"]
[{"$f":"IF(COUNTIF($B$1:B922,TRUE)=COUNTIF($B$1:B921,TRUE),\"\",COUNTIF($B$1:B922,TRUE))","v":""},{"$f":"Worksheet!$B$26","v":false},{"$f":"RANDBETWEEN(5,RANDBETWEEN(5,Worksheet!$D$8))","v":20},"m","±",{"$f":"IF(I922=1,H922*10^RANDBETWEEN(IF(Worksheet!$D$14,-1,0),0),IF(I922=2,H922*10^RANDBETWEEN(RANDBETWEEN(0,2),2),CHOOSE(RANDBETWEEN(1,3),5,10,20)))","v":8},{"$f":"IF(I922=1,D922,IF(I922=3,\"%\",\"mm\"))","v":"m"},8,{"$f":"IF(AND(Worksheet!$D$12,RAND()<0.2),3,IF(RAND()<Worksheet!$D$10/100,1,2))","v":1},8," m",8000,"mm"]
[{"$f":"IF(COUNTIF($B$1:B923,TRUE)=COUNTIF($B$1:B922,TRUE),\"\",COUNTIF($B$1:B923,TRUE))","v":718},{"$f":"Worksheet!$D$20","v":true},{"$f":"RANDBETWEEN(5,RANDBETWEEN(5,Worksheet!$D$8))","v":40},"kg","±",{"$f":"IF(I923=1,H923*10^RANDBETWEEN(IF(Worksheet!$D$14,-1,0),0),IF(I923=2,H923*10^RANDBETWEEN(RANDBETWEEN(0,2),2),CHOOSE(RANDBETWEEN(1,3),5,10,20)))","v":20},{"$f":"IF(I923=1,D923,IF(I923=3,\"%\",\"g\"))","v":"%"},{"$f":"RANDBETWEEN(1,MIN(9,C923))","v":4},{"$f":"IF(AND(Worksheet!$D$12,RAND()<0.2),3,IF(RAND()<Worksheet!$D$10/100,1,2))","v":3},8,{"$f":"CONCATENATE(\" \",D923)","v":" kg"},8000,"g"]
[{"$f":"IF(COUNTIF($B$1:B924,TRUE)=COUNTIF($B$1:B923,TRUE),\"\",COUNTIF($B$1:B924,TRUE))","v":719},{"$f":"Worksheet!$D$22","v":true},{"$f":"RANDBETWEEN(5,RANDBETWEEN(5,Worksheet!$D$8))","v":108},"tonnes","±",{"$f":"IF(I924=1,H924*10^RANDBETWEEN(IF(Worksheet!$D$14,-1,0),0),IF(I924=2,H924*10^RANDBETWEEN(RANDBETWEEN(0,2),2),CHOOSE(RANDBETWEEN(1,3),5,10,20)))","v":600},{"$f":"IF(I924=1,D924,IF(I924=3,\"%\",\"kg\"))","v":"kg"},{"$f":"RANDBETWEEN(1,MIN(9,C924))","v":6},{"$f":"IF(AND(Worksheet!$D$12,RAND()<0.2),3,IF(RAND()<Worksheet!$D$10/100,1,2))","v":2},0.6,{"$f":"CONCATENATE(\" \",D924)","v":" tonnes"},600,"kg"]
[{"$f":"IF(COUNTIF($B$1:B925,TRUE)=COUNTIF($B$1:B924,TRUE),\"\",COUNTIF($B$1:B925,TRUE))","v":720},{"$f":"Worksheet!$D$24","v":true},{"$f":"RANDBETWEEN(5,RANDBETWEEN(5,Worksheet!$D$8))","v":13},"litres","±",{"$f":"IF(I925=1,H925*10^RANDBETWEEN(IF(Worksheet!$D$14,-1,0),0),IF(I925=2,H925*10^RANDBETWEEN(RANDBETWEEN(0,2),2),CHOOSE(RANDBETWEEN(1,3),5,10,20)))","v":4},{"$f":"IF(I925=1,D925,IF(I925=3,\"%\",\"ml\"))","v":"litres"},{"$f":"RANDBETWEEN(1,MIN(9,C925))","v":4},{"$f":"IF(AND(Worksheet!$D$12,RAND()<0.2),3,IF(RAND()<Worksheet!$D$10/100,1,2))","v":1},4,{"$f":"CONCATENATE(\" \",D925)","v":" litres"},4000,"ml"]
[{"$f":"IF(COUNTIF($B$1:B926,TRUE)=COUNTIF($B$1:B925,TRUE),\"\",COUNTIF($B$1:B926,TRUE))","v":""},{"$f":"Worksheet!$D$26","v":false},{"$f":"RANDBETWEEN(5,RANDBETWEEN(5,Worksheet!$D$8))","v":51},"litres","±",{"$f":"IF(I926=1,H926*10^RANDBETWEEN(IF(Worksheet!$D$14,-1,0),0),IF(I926=2,H926*10^RANDBETWEEN(RANDBETWEEN(0,2),2),CHOOSE(RANDBETWEEN(1,3),5,10,20)))","v":20},{"$f":"IF(I926=1,D926,IF(I926=3,\"%\",\"cm³\"))","v":"%"},{"$f":"RANDBETWEEN(1,MIN(9,C926))","v":1},{"$f":"IF(AND(Worksheet!$D$12,RAND()<0.2),3,IF(RAND()<Worksheet!$D$10/100,1,2))","v":3},10.200000000000001,{"$f":"CONCATENATE(\" \",D926)","v":" litres"},10200.000000000002,"cm³"]
[{"$f":"IF(COUNTIF($B$1:B927,TRUE)=COUNTIF($B$1:B927,TRUE),\"\",COUNTIF($B$1:B927,TRUE))","v":""},{"$f":"Worksheet!$B$28","v":true},{"$f":"RANDBETWEEN(5,20)","v":16},"°C","±",{"$f":"IF(I927=1,H927*10^RANDBETWEEN(IF(Worksheet!$D$14,-1,0),0),IF(I927=2,H927,CHOOSE(RANDBETWEEN(1,3),5,10,20)))","v":9},{"$f":"IF(I927=1,D927,IF(I927=3,\"%\",\"sec\"))","v":"sec"},{"$f":"RANDBETWEEN(1,MIN(9,C927))","v":9},{"$f":"IF(AND(Worksheet!$D$12,RAND()<0),3,IF(RAND()<Worksheet!$D$10/100,1,2))","v":2},{"$f":"IF(I927=1,F927,IF(I927=2,F927,IF(I927=3,F927/100*C927,\"\")))","v":9},{"$f":"CONCATENATE(\" \",D927)","v":" °C"},{"$f":"IF(I927=1,F927,IF(I927=2,F927,IF(I927=3,F927/100*C927,\"\")))","v":9}," °C"]
[{"$f":"COUNTIF($B$1:B928,TRUE)","v":722},{"$f":"Worksheet!$B$20","v":true},{"$f":"RANDBETWEEN(5,RANDBETWEEN(5,Worksheet!$D$8))","v":45},"cm","±",{"$f":"IF(I928=1,H928*10^RANDBETWEEN(IF(Worksheet!$D$14,-1,0),0),IF(I928=2,H928,CHOOSE(RANDBETWEEN(1,3),5,10,20)))","v":0.4},{"$f":"IF(I928=1,D928,IF(I928=3,\"%\",\"mm\"))","v":"cm"},{"$f":"RANDBETWEEN(1,MIN(9,C928))","v":4},{"$f":"IF(AND(Worksheet!$D$12,RAND()<0.2),3,IF(RAND()<Worksheet!$D$10/100,1,2))","v":1},{"$f":"IF(I928=1,F928,IF(I928=2,F928/10,IF(I928=3,F928/100*C928,\"\")))","v":0.4},{"$f":"CONCATENATE(\" \",D928)","v":" cm"},{"$f":"IF(I928=1,F928*10,IF(I928=2,F928,IF(I928=3,F928/100*C928*10,\"\")))","v":4},"mm"]
[{"$f":"IF(COUNTIF($B$1:B929,TRUE)=COUNTIF($B$1:B928,TRUE),\"\",COUNTIF($B$1:B929,TRUE))","v":723},{"$f":"Worksheet!$B$22","v":true},{"$f":"RANDBETWEEN(5,RANDBETWEEN(5,Worksheet!$D$8))","v":11},"m","±",{"$f":"IF(I929=1,H929*10^RANDBETWEEN(IF(Worksheet!$D$14,-1,0),0),IF(I929=2,H929*10^RANDBETWEEN(RANDBETWEEN(0,1),1),CHOOSE(RANDBETWEEN(1,3),5,10,20)))","v":6},{"$f":"IF(I929=1,D929,IF(I929=3,\"%\",\"cm\"))","v":"m"},{"$f":"RANDBETWEEN(1,MIN(9,C929))","v":6},{"$f":"IF(AND(Worksheet!$D$12,RAND()<0.2),3,IF(RAND()<Worksheet!$D$10/100,1,2))","v":1},{"$f":"IF(I929=1,F929,IF(I929=2,F929/100,IF(I929=3,F929/100*C929,\"\")))","v":6},{"$f":"CONCATENATE(\" \",D929)","v":" m"},{"$f":"IF(I929=1,F929*100,IF(I929=2,F929,IF(I929=3,F929/100*C929*100,\"\")))","v":600},"cm"]
[{"$f":"IF(COUNTIF($B$1:B930,TRUE)=COUNTIF($B$1:B929,TRUE),\"\",COUNTIF($B$1:B930,TRUE))","v":724},{"$f":"Worksheet!$B$24","v":true},{"$f":"RANDBETWEEN(5,RANDBETWEEN(5,Worksheet!$D$8))","v":12},"km","±",{"$f":"IF(I930=1,H930*10^RANDBETWEEN(IF(Worksheet!$D$14,-1,0),0),IF(I930=2,H930*10^RANDBETWEEN(RANDBETWEEN(0,2),2),CHOOSE(RANDBETWEEN(1,3),5,10,20)))","v":7},{"$f":"IF(I930=1,D930,IF(I930=3,\"%\",\"m\"))","v":"km"},7,{"$f":"IF(AND(Worksheet!$D$12,RAND()<0.2),3,IF(RAND()<Worksheet!$D$10/100,1,2))","v":1},{"$f":"IF(I930=1,F930,IF(I930=2,F930/1000,IF(I930=3,F930/100*C930,\"\")))","v":7}," km",{"$f":"IF(I930=1,F930*1000,IF(I930=2,F930,IF(I930=3,F930/100*C930*1000,\"\")))","v":7000},"m"]
[{"$f":"IF(COUNTIF($B$1:B931,TRUE)=COUNTIF($B$1:B930,TRUE),\"\",COUNTIF($B$1:B931,TRUE))","v":""},{"$f":"Worksheet!$B$26","v":false},{"$f":"RANDBETWEEN(5,RANDBETWEEN(5,Worksheet!$D$8))","v":41},"m","±",{"$f":"IF(I931=1,H931*10^RANDBETWEEN(IF(Worksheet!$D$14,-1,0),0),IF(I931=2,H931*10^RANDBETWEEN(RANDBETWEEN(0,2),2),CHOOSE(RANDBETWEEN(1,3),5,10,20)))","v":0.8},{"$f":"IF(I931=1,D931,IF(I931=3,\"%\",\"mm\"))","v":"m"},8,{"$f":"IF(AND(Worksheet!$D$12,RAND()<0.2),3,IF(RAND()<Worksheet!$D$10/100,1,2))","v":1},0.8," m",800,"mm"]
[{"$f":"IF(COUNTIF($B$1:B932,TRUE)=COUNTIF($B$1:B931,TRUE),\"\",COUNTIF($B$1:B932,TRUE))","v":725},{"$f":"Worksheet!$D$20","v":true},{"$f":"RANDBETWEEN(5,RANDBETWEEN(5,Worksheet!$D$8))","v":93},"kg","±",{"$f":"IF(I932=1,H932*10^RANDBETWEEN(IF(Worksheet!$D$14,-1,0),0),IF(I932=2,H932*10^RANDBETWEEN(RANDBETWEEN(0,2),2),CHOOSE(RANDBETWEEN(1,3),5,10,20)))","v":10},{"$f":"IF(I932=1,D932,IF(I932=3,\"%\",\"g\"))","v":"%"},{"$f":"RANDBETWEEN(1,MIN(9,C932))","v":8},{"$f":"IF(AND(Worksheet!$D$12,RAND()<0.2),3,IF(RAND()<Worksheet!$D$10/100,1,2))","v":3},9.3000000000000007,{"$f":"CONCATENATE(\" \",D932)","v":" kg"},9300,"g"]
[{"$f":"IF(COUNTIF($B$1:B933,TRUE)=COUNTIF($B$1:B932,TRUE),\"\",COUNTIF($B$1:B933,TRUE))","v":726},{"$f":"Worksheet!$D$22","v":true},{"$f":"RANDBETWEEN(5,RANDBETWEEN(5,Worksheet!$D$8))","v":5},"tonnes","±",{"$f":"IF(I933=1,H933*10^RANDBETWEEN(IF(Worksheet!$D$14,-1,0),0),IF(I933=2,H933*10^RANDBETWEEN(RANDBETWEEN(0,2),2),CHOOSE(RANDBETWEEN(1,3),5,10,20)))","v":1},{"$f":"IF(I933=1,D933,IF(I933=3,\"%\",\"kg\"))","v":"tonnes"},{"$f":"RANDBETWEEN(1,MIN(9,C933))","v":1},{"$f":"IF(AND(Worksheet!$D$12,RAND()<0.2),3,IF(RAND()<Worksheet!$D$10/100,1,2))","v":1},1,{"$f":"CONCATENATE(\" \",D933)","v":" tonnes"},1000,"kg"]
[{"$f":"IF(COUNTIF($B$1:B934,TRUE)=COUNTIF($B$1:B933,TRUE),\"\",COUNTIF($B$1:B934,TRUE))","v":727},{"$f":"Worksheet!$D$24","v":true},{"$f":"RANDBETWEEN(5,RANDBETWEEN(5,Worksheet!$D$8))","v":86},"litres","±",{"$f":"IF(I934=1,H934*10^RANDBETWEEN(IF(Worksheet!$D$14,-1,0),0),IF(I934=2,H934*10^RANDBETWEEN(RANDBETWEEN(0,2),2),CHOOSE(RANDBETWEEN(1,3),5,10,20)))","v":0.2},{"$f":"IF(I934=1,D934,IF(I934=3,\"%\",\"ml\"))","v":"litres"},{"$f":"RANDBETWEEN(1,MIN(9,C934))","v":2},{"$f":"IF(AND(Worksheet!$D$12,RAND()<0.2),3,IF(RAND()<Worksheet!$D$10/100,1,2))","v":1},0.2,{"$f":"CONCATENATE(\" \",D934)","v":" litres"},200,"ml"]
[{"$f":"IF(COUNTIF($B$1:B935,TRUE)=COUNTIF($B$1:B934,TRUE),\"\",COUNTIF($B$1:B935,TRUE))","v":""},{"$f":"Worksheet!$D$26","v":false},{"$f":"RANDBETWEEN(5,RANDBETWEEN(5,Worksheet!$D$8))","v":46},"litres","±",{"$f":"IF(I935=1,H935*10^RANDBETWEEN(IF(Worksheet!$D$14,-1,0),0),IF(I935=2,H935*10^RANDBETWEEN(RANDBETWEEN(0,2),2),CHOOSE(RANDBETWEEN(1,3),5,10,20)))","v":3},{"$f":"IF(I935=1,D935,IF(I935=3,\"%\",\"cm³\"))","v":"litres"},{"$f":"RANDBETWEEN(1,MIN(9,C935))","v":3},{"$f":"IF(AND(Worksheet!$D$12,RAND()<0.2),3,IF(RAND()<Worksheet!$D$10/100,1,2))","v":1},3,{"$f":"CONCATENATE(\" \",D935)","v":" litres"},3000,"cm³"]
[{"$f":"IF(COUNTIF($B$1:B936,TRUE)=COUNTIF($B$1:B936,TRUE),\"\",COUNTIF($B$1:B936,TRUE))","v":""},{"$f":"Worksheet!$B$28","v":true},{"$f":"RANDBETWEEN(5,20)","v":20},"°C","±",{"$f":"IF(I936=1,H936*10^RANDBETWEEN(IF(Worksheet!$D$14,-1,0),0),IF(I936=2,H936,CHOOSE(RANDBETWEEN(1,3),5,10,20)))","v":3},{"$f":"IF(I936=1,D936,IF(I936=3,\"%\",\"sec\"))","v":"°C"},{"$f":"RANDBETWEEN(1,MIN(9,C936))","v":3},{"$f":"IF(AND(Worksheet!$D$12,RAND()<0),3,IF(RAND()<Worksheet!$D$10/100,1,2))","v":1},{"$f":"IF(I936=1,F936,IF(I936=2,F936,IF(I936=3,F936/100*C936,\"\")))","v":3},{"$f":"CONCATENATE(\" \",D936)","v":" °C"},{"$f":"IF(I936=1,F936,IF(I936=2,F936,IF(I936=3,F936/100*C936,\"\")))","v":3}," °C"]
[{"$f":"COUNTIF($B$1:B937,TRUE)","v":729},{"$f":"Worksheet!$B$20","v":true},{"$f":"RANDBETWEEN(5,RANDBETWEEN(5,Worksheet!$D$8))","v":62},"cm","±",{"$f":"IF(I937=1,H937*10^RANDBETWEEN(IF(Worksheet!$D$14,-1,0),0),IF(I937=2,H937,CHOOSE(RANDBETWEEN(1,3),5,10,20)))","v":9},{"$f":"IF(I937=1,D937,IF(I937=3,\"%\",\"mm\"))","v":"mm"},{"$f":"RANDBETWEEN(1,MIN(9,C937))","v":9},{"$f":"IF(AND(Worksheet!$D$12,RAND()<0.2),3,IF(RAND()<Worksheet!$D$10/100,1,2))","v":2},{"$f":"IF(I937=1,F937,IF(I937=2,F937/10,IF(I937=3,F937/100*C937,\"\")))","v":0.9},{"$f":"CONCATENATE(\" \",D937)","v":" cm"},{"$f":"IF(I937=1,F937*10,IF(I937=2,F937,IF(I937=3,F937/100*C937*10,\"\")))","v":9},"mm"]
[{"$f":"IF(COUNTIF($B$1:B938,TRUE)=COUNTIF($B$1:B937,TRUE),\"\",COUNTIF($B$1:B938,TRUE))","v":730},{"$f":"Worksheet!$B$22","v":true},{"$f":"RANDBETWEEN(5,RANDBETWEEN(5,Worksheet!$D$8))","v":17},"m","±",{"$f":"IF(I938=1,H938*10^RANDBETWEEN(IF(Worksheet!$D$14,-1,0),0),IF(I938=2,H938*10^RANDBETWEEN(RANDBETWEEN(0,1),1),CHOOSE(RANDBETWEEN(1,3),5,10,20)))","v":0.30000000000000004},{"$f":"IF(I938=1,D938,IF(I938=3,\"%\",\"cm\"))","v":"m"},{"$f":"RANDBETWEEN(1,MIN(9,C938))","v":3},{"$f":"IF(AND(Worksheet!$D$12,RAND()<0.2),3,IF(RAND()<Worksheet!$D$10/100,1,2))","v":1},{"$f":"IF(I938=1,F938,IF(I938=2,F938/100,IF(I938=3,F938/100*C938,\"\")))","v":0.30000000000000004},{"$f":"CONCATENATE(\" \",D938)","v":" m"},{"$f":"IF(I938=1,F938*100,IF(I938=2,F938,IF(I938=3,F938/100*C938*100,\"\")))","v":30.000000000000004},"cm"]
[{"$f":"IF(COUNTIF($B$1:B939,TRUE)=COUNTIF($B$1:B938,TRUE),\"\",COUNTIF($B$1:B939,TRUE))","v":731},{"$f":"Worksheet!$B$24","v":true},{"$f":"RANDBETWEEN(5,RANDBETWEEN(5,Worksheet!$D$8))","v":78},"km","±",{"$f":"IF(I939=1,H939*10^RANDBETWEEN(IF(Worksheet!$D$14,-1,0),0),IF(I939=2,H939*10^RANDBETWEEN(RANDBETWEEN(0,2),2),CHOOSE(RANDBETWEEN(1,3),5,10,20)))","v":700},{"$f":"IF(I939=1,D939,IF(I939=3,\"%\",\"m\"))","v":"m"},7,{"$f":"IF(AND(Worksheet!$D$12,RAND()<0.2),3,IF(RAND()<Worksheet!$D$10/100,1,2))","v":2},{"$f":"IF(I939=1,F939,IF(I939=2,F939/1000,IF(I939=3,F939/100*C939,\"\")))","v":0.7}," km",{"$f":"IF(I939=1,F939*1000,IF(I939=2,F939,IF(I939=3,F939/100*C939*1000,\"\")))","v":700},"m"]
[{"$f":"IF(COUNTIF($B$1:B940,TRUE)=COUNTIF($B$1:B939,TRUE),\"\",COUNTIF($B$1:B940,TRUE))","v":""},{"$f":"Worksheet!$B$26","v":false},{"$f":"RANDBETWEEN(5,RANDBETWEEN(5,Worksheet!$D$8))","v":36},"m","±",{"$f":"IF(I940=1,H940*10^RANDBETWEEN(IF(Worksheet!$D$14,-1,0),0),IF(I940=2,H940*10^RANDBETWEEN(RANDBETWEEN(0,2),2),CHOOSE(RANDBETWEEN(1,3),5,10,20)))","v":0.30000000000000004},{"$f":"IF(I940=1,D940,IF(I940=3,\"%\",\"mm\"))","v":"m"},3,{"$f":"IF(AND(Worksheet!$D$12,RAND()<0.2),3,IF(RAND()<Worksheet!$D$10/100,1,2))","v":1},0.30000000000000004," m",300.00000000000006,"mm"]
[{"$f":"IF(COUNTIF($B$1:B941,TRUE)=COUNTIF($B$1:B940,TRUE),\"\",COUNTIF($B$1:B941,TRUE))","v":732},{"$f":"Worksheet!$D$20","v":true},{"$f":"RANDBETWEEN(5,RANDBETWEEN(5,Worksheet!$D$8))","v":46},"kg","±",{"$f":"IF(I941=1,H941*10^RANDBETWEEN(IF(Worksheet!$D$14,-1,0),0),IF(I941=2,H941*10^RANDBETWEEN(RANDBETWEEN(0,2),2),CHOOSE(RANDBETWEEN(1,3),5,10,20)))","v":700},{"$f":"IF(I941=1,D941,IF(I941=3,\"%\",\"g\"))","v":"g"},{"$f":"RANDBETWEEN(1,MIN(9,C941))","v":7},{"$f":"IF(AND(Worksheet!$D$12,RAND()<0.2),3,IF(RAND()<Worksheet!$D$10/100,1,2))","v":2},0.7,{"$f":"CONCATENATE(\" \",D941)","v":" kg"},700,"g"]
[{"$f":"IF(COUNTIF($B$1:B942,TRUE)=COUNTIF($B$1:B941,TRUE),\"\",COUNTIF($B$1:B942,TRUE))","v":733},{"$f":"Worksheet!$D$22","v":true},{"$f":"RANDBETWEEN(5,RANDBETWEEN(5,Worksheet!$D$8))","v":109},"tonnes","±",{"$f":"IF(I942=1,H942*10^RANDBETWEEN(IF(Worksheet!$D$14,-1,0),0),IF(I942=2,H942*10^RANDBETWEEN(RANDBETWEEN(0,2),2),CHOOSE(RANDBETWEEN(1,3),5,10,20)))","v":5},{"$f":"IF(I942=1,D942,IF(I942=3,\"%\",\"kg\"))","v":"%"},{"$f":"RANDBETWEEN(1,MIN(9,C942))","v":1},{"$f":"IF(AND(Worksheet!$D$12,RAND()<0.2),3,IF(RAND()<Worksheet!$D$10/100,1,2))","v":3},5.45,{"$f":"CONCATENATE(\" \",D942)","v":" tonnes"},5450,"kg"]
[{"$f":"IF(COUNTIF($B$1:B943,TRUE)=COUNTIF($B$1:B942,TRUE),\"\",COUNTIF($B$1:B943,TRUE))","v":734},{"$f":"Worksheet!$D$24","v":true},{"$f":"RANDBETWEEN(5,RANDBETWEEN(5,Worksheet!$D$8))","v":113},"litres","±",{"$f":"IF(I943=1,H943*10^RANDBETWEEN(IF(Worksheet!$D$14,-1,0),0),IF(I943=2,H943*10^RANDBETWEEN(RANDBETWEEN(0,2),2),CHOOSE(RANDBETWEEN(1,3),5,10,20)))","v":70},{"$f":"IF(I943=1,D943,IF(I943=3,\"%\",\"ml\"))","v":"ml"},{"$f":"RANDBETWEEN(1,MIN(9,C943))","v":7},{"$f":"IF(AND(Worksheet!$D$12,RAND()<0.2),3,IF(RAND()<Worksheet!$D$10/100,1,2))","v":2},7.0000000000000007E-2,{"$f":"CONCATENATE(\" \",D943)","v":" litres"},70,"ml"]
[{"$f":"IF(COUNTIF($B$1:B944,TRUE)=COUNTIF($B$1:B943,TRUE),\"\",COUNTIF($B$1:B944,TRUE))","v":""},{"$f":"Worksheet!$D$26","v":false},{"$f":"RANDBETWEEN(5,RANDBETWEEN(5,Worksheet!$D$8))","v":51},"litres","±",{"$f":"IF(I944=1,H944*10^RANDBETWEEN(IF(Worksheet!$D$14,-1,0),0),IF(I944=2,H944*10^RANDBETWEEN(RANDBETWEEN(0,2),2),CHOOSE(RANDBETWEEN(1,3),5,10,20)))","v":5},{"$f":"IF(I944=1,D944,IF(I944=3,\"%\",\"cm³\"))","v":"litres"},{"$f":"RANDBETWEEN(1,MIN(9,C944))","v":5},{"$f":"IF(AND(Worksheet!$D$12,RAND()<0.2),3,IF(RAND()<Worksheet!$D$10/100,1,2))","v":1},5,{"$f":"CONCATENATE(\" \",D944)","v":" litres"},5000,"cm³"]
[{"$f":"IF(COUNTIF($B$1:B945,TRUE)=COUNTIF($B$1:B945,TRUE),\"\",COUNTIF($B$1:B945,TRUE))","v":""},{"$f":"Worksheet!$B$28","v":true},{"$f":"RANDBETWEEN(5,20)","v":19},"°C","±",{"$f":"IF(I945=1,H945*10^RANDBETWEEN(IF(Worksheet!$D$14,-1,0),0),IF(I945=2,H945,CHOOSE(RANDBETWEEN(1,3),5,10,20)))","v":3},{"$f":"IF(I945=1,D945,IF(I945=3,\"%\",\"sec\"))","v":"°C"},{"$f":"RANDBETWEEN(1,MIN(9,C945))","v":3},{"$f":"IF(AND(Worksheet!$D$12,RAND()<0),3,IF(RAND()<Worksheet!$D$10/100,1,2))","v":1},{"$f":"IF(I945=1,F945,IF(I945=2,F945,IF(I945=3,F945/100*C945,\"\")))","v":3},{"$f":"CONCATENATE(\" \",D945)","v":" °C"},{"$f":"IF(I945=1,F945,IF(I945=2,F945,IF(I945=3,F945/100*C945,\"\")))","v":3}," °C"]
[{"$f":"COUNTIF($B$1:B946,TRUE)","v":736},{"$f":"Worksheet!$B$20","v":true},{"$f":"RANDBETWEEN(5,RANDBETWEEN(5,Worksheet!$D$8))","v":150},"cm","±",{"$f":"IF(I946=1,H946*10^RANDBETWEEN(IF(Worksheet!$D$14,-1,0),0),IF(I946=2,H946,CHOOSE(RANDBETWEEN(1,3),5,10,20)))","v":9},{"$f":"IF(I946=1,D946,IF(I946=3,\"%\",\"mm\"))","v":"mm"},{"$f":"RANDBETWEEN(1,MIN(9,C946))","v":9},{"$f":"IF(AND(Worksheet!$D$12,RAND()<0.2),3,IF(RAND()<Worksheet!$D$10/100,1,2))","v":2},{"$f":"IF(I946=1,F946,IF(I946=2,F946/10,IF(I946=3,F946/100*C946,\"\")))","v":0.9},{"$f":"CONCATENATE(\" \",D946)","v":" cm"},{"$f":"IF(I946=1,F946*10,IF(I946=2,F946,IF(I946=3,F946/100*C946*10,\"\")))","v":9},"mm"]
[{"$f":"IF(COUNTIF($B$1:B947,TRUE)=COUNTIF($B$1:B946,TRUE),\"\",COUNTIF($B$1:B947,TRUE))","v":737},{"$f":"Worksheet!$B$22","v":true},{"$f":"RANDBETWEEN(5,RANDBETWEEN(5,Worksheet!$D$8))","v":6},"m","±",{"$f":"IF(I947=1,H947*10^RANDBETWEEN(IF(Worksheet!$D$14,-1,0),0),IF(I947=2,H947*10^RANDBETWEEN(RANDBETWEEN(0,1),1),CHOOSE(RANDBETWEEN(1,3),5,10,20)))","v":10},{"$f":"IF(I947=1,D947,IF(I947=3,\"%\",\"cm\"))","v":"cm"},{"$f":"RANDBETWEEN(1,MIN(9,C947))","v":1},{"$f":"IF(AND(Worksheet!$D$12,RAND()<0.2),3,IF(RAND()<Worksheet!$D$10/100,1,2))","v":2},{"$f":"IF(I947=1,F947,IF(I947=2,F947/100,IF(I947=3,F947/100*C947,\"\")))","v":0.1},{"$f":"CONCATENATE(\" \",D947)","v":" m"},{"$f":"IF(I947=1,F947*100,IF(I947=2,F947,IF(I947=3,F947/100*C947*100,\"\")))","v":10},"cm"]
[{"$f":"IF(COUNTIF($B$1:B948,TRUE)=COUNTIF($B$1:B947,TRUE),\"\",COUNTIF($B$1:B948,TRUE))","v":738},{"$f":"Worksheet!$B$24","v":true},{"$f":"RANDBETWEEN(5,RANDBETWEEN(5,Worksheet!$D$8))","v":25},"km","±",{"$f":"IF(I948=1,H948*10^RANDBETWEEN(IF(Worksheet!$D$14,-1,0),0),IF(I948=2,H948*10^RANDBETWEEN(RANDBETWEEN(0,2),2),CHOOSE(RANDBETWEEN(1,3),5,10,20)))","v":0.30000000000000004},{"$f":"IF(I948=1,D948,IF(I948=3,\"%\",\"m\"))","v":"km"},3,{"$f":"IF(AND(Worksheet!$D$12,RAND()<0.2),3,IF(RAND()<Worksheet!$D$10/100,1,2))","v":1},{"$f":"IF(I948=1,F948,IF(I948=2,F948/1000,IF(I948=3,F948/100*C948,\"\")))","v":0.30000000000000004}," km",{"$f":"IF(I948=1,F948*1000,IF(I948=2,F948,IF(I948=3,F948/100*C948*1000,\"\")))","v":300.00000000000006},"m"]
[{"$f":"IF(COUNTIF($B$1:B949,TRUE)=COUNTIF($B$1:B948,TRUE),\"\",COUNTIF($B$1:B949,TRUE))","v":""},{"$f":"Worksheet!$B$26","v":false},{"$f":"RANDBETWEEN(5,RANDBETWEEN(5,Worksheet!$D$8))","v":13},"m","±",{"$f":"IF(I949=1,H949*10^RANDBETWEEN(IF(Worksheet!$D$14,-1,0),0),IF(I949=2,H949*10^RANDBETWEEN(RANDBETWEEN(0,2),2),CHOOSE(RANDBETWEEN(1,3),5,10,20)))","v":0.4},{"$f":"IF(I949=1,D949,IF(I949=3,\"%\",\"mm\"))","v":"m"},4,{"$f":"IF(AND(Worksheet!$D$12,RAND()<0.2),3,IF(RAND()<Worksheet!$D$10/100,1,2))","v":1},0.4," m",400,"mm"]
[{"$f":"IF(COUNTIF($B$1:B950,TRUE)=COUNTIF($B$1:B949,TRUE),\"\",COUNTIF($B$1:B950,TRUE))","v":739},{"$f":"Worksheet!$D$20","v":true},{"$f":"RANDBETWEEN(5,RANDBETWEEN(5,Worksheet!$D$8))","v":14},"kg","±",{"$f":"IF(I950=1,H950*10^RANDBETWEEN(IF(Worksheet!$D$14,-1,0),0),IF(I950=2,H950*10^RANDBETWEEN(RANDBETWEEN(0,2),2),CHOOSE(RANDBETWEEN(1,3),5,10,20)))","v":100},{"$f":"IF(I950=1,D950,IF(I950=3,\"%\",\"g\"))","v":"g"},{"$f":"RANDBETWEEN(1,MIN(9,C950))","v":1},{"$f":"IF(AND(Worksheet!$D$12,RAND()<0.2),3,IF(RAND()<Worksheet!$D$10/100,1,2))","v":2},0.1,{"$f":"CONCATENATE(\" \",D950)","v":" kg"},100,"g"]
[{"$f":"IF(COUNTIF($B$1:B951,TRUE)=COUNTIF($B$1:B950,TRUE),\"\",COUNTIF($B$1:B951,TRUE))","v":740},{"$f":"Worksheet!$D$22","v":true},{"$f":"RANDBETWEEN(5,RANDBETWEEN(5,Worksheet!$D$8))","v":32},"tonnes","±",{"$f":"IF(I951=1,H951*10^RANDBETWEEN(IF(Worksheet!$D$14,-1,0),0),IF(I951=2,H951*10^RANDBETWEEN(RANDBETWEEN(0,2),2),CHOOSE(RANDBETWEEN(1,3),5,10,20)))","v":2},{"$f":"IF(I951=1,D951,IF(I951=3,\"%\",\"kg\"))","v":"tonnes"},{"$f":"RANDBETWEEN(1,MIN(9,C951))","v":2},{"$f":"IF(AND(Worksheet!$D$12,RAND()<0.2),3,IF(RAND()<Worksheet!$D$10/100,1,2))","v":1},2,{"$f":"CONCATENATE(\" \",D951)","v":" tonnes"},2000,"kg"]
[{"$f":"IF(COUNTIF($B$1:B952,TRUE)=COUNTIF($B$1:B951,TRUE),\"\",COUNTIF($B$1:B952,TRUE))","v":741},{"$f":"Worksheet!$D$24","v":true},{"$f":"RANDBETWEEN(5,RANDBETWEEN(5,Worksheet!$D$8))","v":46},"litres","±",{"$f":"IF(I952=1,H952*10^RANDBETWEEN(IF(Worksheet!$D$14,-1,0),0),IF(I952=2,H952*10^RANDBETWEEN(RANDBETWEEN(0,2),2),CHOOSE(RANDBETWEEN(1,3),5,10,20)))","v":5},{"$f":"IF(I952=1,D952,IF(I952=3,\"%\",\"ml\"))","v":"%"},{"$f":"RANDBETWEEN(1,MIN(9,C952))","v":4},{"$f":"IF(AND(Worksheet!$D$12,RAND()<0.2),3,IF(RAND()<Worksheet!$D$10/100,1,2))","v":3},2.3000000000000003,{"$f":"CONCATENATE(\" \",D952)","v":" litres"},2300.0000000000005,"ml"]
[{"$f":"IF(COUNTIF($B$1:B953,TRUE)=COUNTIF($B$1:B952,TRUE),\"\",COUNTIF($B$1:B953,TRUE))","v":""},{"$f":"Worksheet!$D$26","v":false},{"$f":"RANDBETWEEN(5,RANDBETWEEN(5,Worksheet!$D$8))","v":115},"litres","±",{"$f":"IF(I953=1,H953*10^RANDBETWEEN(IF(Worksheet!$D$14,-1,0),0),IF(I953=2,H953*10^RANDBETWEEN(RANDBETWEEN(0,2),2),CHOOSE(RANDBETWEEN(1,3),5,10,20)))","v":10},{"$f":"IF(I953=1,D953,IF(I953=3,\"%\",\"cm³\"))","v":"%"},{"$f":"RANDBETWEEN(1,MIN(9,C953))","v":6},{"$f":"IF(AND(Worksheet!$D$12,RAND()<0.2),3,IF(RAND()<Worksheet!$D$10/100,1,2))","v":3},11.5,{"$f":"CONCATENATE(\" \",D953)","v":" litres"},11500,"cm³"]
[{"$f":"IF(COUNTIF($B$1:B954,TRUE)=COUNTIF($B$1:B954,TRUE),\"\",COUNTIF($B$1:B954,TRUE))","v":""},{"$f":"Worksheet!$B$28","v":true},{"$f":"RANDBETWEEN(5,20)","v":10},"°C","±",{"$f":"IF(I954=1,H954*10^RANDBETWEEN(IF(Worksheet!$D$14,-1,0),0),IF(I954=2,H954,CHOOSE(RANDBETWEEN(1,3),5,10,20)))","v":7},{"$f":"IF(I954=1,D954,IF(I954=3,\"%\",\"sec\"))","v":"sec"},{"$f":"RANDBETWEEN(1,MIN(9,C954))","v":7},{"$f":"IF(AND(Worksheet!$D$12,RAND()<0),3,IF(RAND()<Worksheet!$D$10/100,1,2))","v":2},{"$f":"IF(I954=1,F954,IF(I954=2,F954,IF(I954=3,F954/100*C954,\"\")))","v":7},{"$f":"CONCATENATE(\" \",D954)","v":" °C"},{"$f":"IF(I954=1,F954,IF(I954=2,F954,IF(I954=3,F954/100*C954,\"\")))","v":7}," °C"]
[{"$f":"COUNTIF($B$1:B955,TRUE)","v":743},{"$f":"Worksheet!$B$20","v":true},{"$f":"RANDBETWEEN(5,RANDBETWEEN(5,Worksheet!$D$8))","v":6},"cm","±",{"$f":"IF(I955=1,H955*10^RANDBETWEEN(IF(Worksheet!$D$14,-1,0),0),IF(I955=2,H955,CHOOSE(RANDBETWEEN(1,3),5,10,20)))","v":6},{"$f":"IF(I955=1,D955,IF(I955=3,\"%\",\"mm\"))","v":"mm"},{"$f":"RANDBETWEEN(1,MIN(9,C955))","v":6},{"$f":"IF(AND(Worksheet!$D$12,RAND()<0.2),3,IF(RAND()<Worksheet!$D$10/100,1,2))","v":2},{"$f":"IF(I955=1,F955,IF(I955=2,F955/10,IF(I955=3,F955/100*C955,\"\")))","v":0.6},{"$f":"CONCATENATE(\" \",D955)","v":" cm"},{"$f":"IF(I955=1,F955*10,IF(I955=2,F955,IF(I955=3,F955/100*C955*10,\"\")))","v":6},"mm"]
[{"$f":"IF(COUNTIF($B$1:B956,TRUE)=COUNTIF($B$1:B955,TRUE),\"\",COUNTIF($B$1:B956,TRUE))","v":744},{"$f":"Worksheet!$B$22","v":true},{"$f":"RANDBETWEEN(5,RANDBETWEEN(5,Worksheet!$D$8))","v":147},"m","±",{"$f":"IF(I956=1,H956*10^RANDBETWEEN(IF(Worksheet!$D$14,-1,0),0),IF(I956=2,H956*10^RANDBETWEEN(RANDBETWEEN(0,1),1),CHOOSE(RANDBETWEEN(1,3),5,10,20)))","v":0.1},{"$f":"IF(I956=1,D956,IF(I956=3,\"%\",\"cm\"))","v":"m"},{"$f":"RANDBETWEEN(1,MIN(9,C956))","v":1},{"$f":"IF(AND(Worksheet!$D$12,RAND()<0.2),3,IF(RAND()<Worksheet!$D$10/100,1,2))","v":1},{"$f":"IF(I956=1,F956,IF(I956=2,F956/100,IF(I956=3,F956/100*C956,\"\")))","v":0.1},{"$f":"CONCATENATE(\" \",D956)","v":" m"},{"$f":"IF(I956=1,F956*100,IF(I956=2,F956,IF(I956=3,F956/100*C956*100,\"\")))","v":10},"cm"]
[{"$f":"IF(COUNTIF($B$1:B957,TRUE)=COUNTIF($B$1:B956,TRUE),\"\",COUNTIF($B$1:B957,TRUE))","v":745},{"$f":"Worksheet!$B$24","v":true},{"$f":"RANDBETWEEN(5,RANDBETWEEN(5,Worksheet!$D$8))","v":10},"km","±",{"$f":"IF(I957=1,H957*10^RANDBETWEEN(IF(Worksheet!$D$14,-1,0),0),IF(I957=2,H957*10^RANDBETWEEN(RANDBETWEEN(0,2),2),CHOOSE(RANDBETWEEN(1,3),5,10,20)))","v":20},{"$f":"IF(I957=1,D957,IF(I957=3,\"%\",\"m\"))","v":"%"},4,{"$f":"IF(AND(Worksheet!$D$12,RAND()<0.2),3,IF(RAND()<Worksheet!$D$10/100,1,2))","v":3},{"$f":"IF(I957=1,F957,IF(I957=2,F957/1000,IF(I957=3,F957/100*C957,\"\")))","v":2}," km",{"$f":"IF(I957=1,F957*1000,IF(I957=2,F957,IF(I957=3,F957/100*C957*1000,\"\")))","v":2000},"m"]
[{"$f":"IF(COUNTIF($B$1:B958,TRUE)=COUNTIF($B$1:B957,TRUE),\"\",COUNTIF($B$1:B958,TRUE))","v":""},{"$f":"Worksheet!$B$26","v":false},{"$f":"RANDBETWEEN(5,RANDBETWEEN(5,Worksheet!$D$8))","v":133},"m","±",{"$f":"IF(I958=1,H958*10^RANDBETWEEN(IF(Worksheet!$D$14,-1,0),0),IF(I958=2,H958*10^RANDBETWEEN(RANDBETWEEN(0,2),2),CHOOSE(RANDBETWEEN(1,3),5,10,20)))","v":10},{"$f":"IF(I958=1,D958,IF(I958=3,\"%\",\"mm\"))","v":"mm"},1,{"$f":"IF(AND(Worksheet!$D$12,RAND()<0.2),3,IF(RAND()<Worksheet!$D$10/100,1,2))","v":2},0.01," m",10,"mm"]
[{"$f":"IF(COUNTIF($B$1:B959,TRUE)=COUNTIF($B$1:B958,TRUE),\"\",COUNTIF($B$1:B959,TRUE))","v":746},{"$f":"Worksheet!$D$20","v":true},{"$f":"RANDBETWEEN(5,RANDBETWEEN(5,Worksheet!$D$8))","v":40},"kg","±",{"$f":"IF(I959=1,H959*10^RANDBETWEEN(IF(Worksheet!$D$14,-1,0),0),IF(I959=2,H959*10^RANDBETWEEN(RANDBETWEEN(0,2),2),CHOOSE(RANDBETWEEN(1,3),5,10,20)))","v":8},{"$f":"IF(I959=1,D959,IF(I959=3,\"%\",\"g\"))","v":"kg"},{"$f":"RANDBETWEEN(1,MIN(9,C959))","v":8},{"$f":"IF(AND(Worksheet!$D$12,RAND()<0.2),3,IF(RAND()<Worksheet!$D$10/100,1,2))","v":1},8,{"$f":"CONCATENATE(\" \",D959)","v":" kg"},8000,"g"]
[{"$f":"IF(COUNTIF($B$1:B960,TRUE)=COUNTIF($B$1:B959,TRUE),\"\",COUNTIF($B$1:B960,TRUE))","v":747},{"$f":"Worksheet!$D$22","v":true},{"$f":"RANDBETWEEN(5,RANDBETWEEN(5,Worksheet!$D$8))","v":45},"tonnes","±",{"$f":"IF(I960=1,H960*10^RANDBETWEEN(IF(Worksheet!$D$14,-1,0),0),IF(I960=2,H960*10^RANDBETWEEN(RANDBETWEEN(0,2),2),CHOOSE(RANDBETWEEN(1,3),5,10,20)))","v":0.5},{"$f":"IF(I960=1,D960,IF(I960=3,\"%\",\"kg\"))","v":"tonnes"},{"$f":"RANDBETWEEN(1,MIN(9,C960))","v":5},{"$f":"IF(AND(Worksheet!$D$12,RAND()<0.2),3,IF(RAND()<Worksheet!$D$10/100,1,2))","v":1},0.5,{"$f":"CONCATENATE(\" \",D960)","v":" tonnes"},500,"kg"]
[{"$f":"IF(COUNTIF($B$1:B961,TRUE)=COUNTIF($B$1:B960,TRUE),\"\",COUNTIF($B$1:B961,TRUE))","v":748},{"$f":"Worksheet!$D$24","v":true},{"$f":"RANDBETWEEN(5,RANDBETWEEN(5,Worksheet!$D$8))","v":178},"litres","±",{"$f":"IF(I961=1,H961*10^RANDBETWEEN(IF(Worksheet!$D$14,-1,0),0),IF(I961=2,H961*10^RANDBETWEEN(RANDBETWEEN(0,2),2),CHOOSE(RANDBETWEEN(1,3),5,10,20)))","v":0.5},{"$f":"IF(I961=1,D961,IF(I961=3,\"%\",\"ml\"))","v":"litres"},{"$f":"RANDBETWEEN(1,MIN(9,C961))","v":5},{"$f":"IF(AND(Worksheet!$D$12,RAND()<0.2),3,IF(RAND()<Worksheet!$D$10/100,1,2))","v":1},0.5,{"$f":"CONCATENATE(\" \",D961)","v":" litres"},500,"ml"]
[{"$f":"IF(COUNTIF($B$1:B962,TRUE)=COUNTIF($B$1:B961,TRUE),\"\",COUNTIF($B$1:B962,TRUE))","v":""},{"$f":"Worksheet!$D$26","v":false},{"$f":"RANDBETWEEN(5,RANDBETWEEN(5,Worksheet!$D$8))","v":33},"litres","±",{"$f":"IF(I962=1,H962*10^RANDBETWEEN(IF(Worksheet!$D$14,-1,0),0),IF(I962=2,H962*10^RANDBETWEEN(RANDBETWEEN(0,2),2),CHOOSE(RANDBETWEEN(1,3),5,10,20)))","v":0.70000000000000007},{"$f":"IF(I962=1,D962,IF(I962=3,\"%\",\"cm³\"))","v":"litres"},{"$f":"RANDBETWEEN(1,MIN(9,C962))","v":7},{"$f":"IF(AND(Worksheet!$D$12,RAND()<0.2),3,IF(RAND()<Worksheet!$D$10/100,1,2))","v":1},0.70000000000000007,{"$f":"CONCATENATE(\" \",D962)","v":" litres"},700.00000000000011,"cm³"]
[{"$f":"IF(COUNTIF($B$1:B963,TRUE)=COUNTIF($B$1:B963,TRUE),\"\",COUNTIF($B$1:B963,TRUE))","v":""},{"$f":"Worksheet!$B$28","v":true},{"$f":"RANDBETWEEN(5,20)","v":11},"°C","±",{"$f":"IF(I963=1,H963*10^RANDBETWEEN(IF(Worksheet!$D$14,-1,0),0),IF(I963=2,H963,CHOOSE(RANDBETWEEN(1,3),5,10,20)))","v":6},{"$f":"IF(I963=1,D963,IF(I963=3,\"%\",\"sec\"))","v":"°C"},{"$f":"RANDBETWEEN(1,MIN(9,C963))","v":6},{"$f":"IF(AND(Worksheet!$D$12,RAND()<0),3,IF(RAND()<Worksheet!$D$10/100,1,2))","v":1},{"$f":"IF(I963=1,F963,IF(I963=2,F963,IF(I963=3,F963/100*C963,\"\")))","v":6},{"$f":"CONCATENATE(\" \",D963)","v":" °C"},{"$f":"IF(I963=1,F963,IF(I963=2,F963,IF(I963=3,F963/100*C963,\"\")))","v":6}," °C"]
[{"$f":"COUNTIF($B$1:B964,TRUE)","v":750},{"$f":"Worksheet!$B$20","v":true},{"$f":"RANDBETWEEN(5,RANDBETWEEN(5,Worksheet!$D$8))","v":75},"cm","±",{"$f":"IF(I964=1,H964*10^RANDBETWEEN(IF(Worksheet!$D$14,-1,0),0),IF(I964=2,H964,CHOOSE(RANDBETWEEN(1,3),5,10,20)))","v":2},{"$f":"IF(I964=1,D964,IF(I964=3,\"%\",\"mm\"))","v":"cm"},{"$f":"RANDBETWEEN(1,MIN(9,C964))","v":2},{"$f":"IF(AND(Worksheet!$D$12,RAND()<0.2),3,IF(RAND()<Worksheet!$D$10/100,1,2))","v":1},{"$f":"IF(I964=1,F964,IF(I964=2,F964/10,IF(I964=3,F964/100*C964,\"\")))","v":2},{"$f":"CONCATENATE(\" \",D964)","v":" cm"},{"$f":"IF(I964=1,F964*10,IF(I964=2,F964,IF(I964=3,F964/100*C964*10,\"\")))","v":20},"mm"]
[{"$f":"IF(COUNTIF($B$1:B965,TRUE)=COUNTIF($B$1:B964,TRUE),\"\",COUNTIF($B$1:B965,TRUE))","v":751},{"$f":"Worksheet!$B$22","v":true},{"$f":"RANDBETWEEN(5,RANDBETWEEN(5,Worksheet!$D$8))","v":125},"m","±",{"$f":"IF(I965=1,H965*10^RANDBETWEEN(IF(Worksheet!$D$14,-1,0),0),IF(I965=2,H965*10^RANDBETWEEN(RANDBETWEEN(0,1),1),CHOOSE(RANDBETWEEN(1,3),5,10,20)))","v":20},{"$f":"IF(I965=1,D965,IF(I965=3,\"%\",\"cm\"))","v":"%"},{"$f":"RANDBETWEEN(1,MIN(9,C965))","v":7},{"$f":"IF(AND(Worksheet!$D$12,RAND()<0.2),3,IF(RAND()<Worksheet!$D$10/100,1,2))","v":3},{"$f":"IF(I965=1,F965,IF(I965=2,F965/100,IF(I965=3,F965/100*C965,\"\")))","v":25},{"$f":"CONCATENATE(\" \",D965)","v":" m"},{"$f":"IF(I965=1,F965*100,IF(I965=2,F965,IF(I965=3,F965/100*C965*100,\"\")))","v":2500},"cm"]
[{"$f":"IF(COUNTIF($B$1:B966,TRUE)=COUNTIF($B$1:B965,TRUE),\"\",COUNTIF($B$1:B966,TRUE))","v":752},{"$f":"Worksheet!$B$24","v":true},{"$f":"RANDBETWEEN(5,RANDBETWEEN(5,Worksheet!$D$8))","v":46},"km","±",{"$f":"IF(I966=1,H966*10^RANDBETWEEN(IF(Worksheet!$D$14,-1,0),0),IF(I966=2,H966*10^RANDBETWEEN(RANDBETWEEN(0,2),2),CHOOSE(RANDBETWEEN(1,3),5,10,20)))","v":0.2},{"$f":"IF(I966=1,D966,IF(I966=3,\"%\",\"m\"))","v":"km"},2,{"$f":"IF(AND(Worksheet!$D$12,RAND()<0.2),3,IF(RAND()<Worksheet!$D$10/100,1,2))","v":1},{"$f":"IF(I966=1,F966,IF(I966=2,F966/1000,IF(I966=3,F966/100*C966,\"\")))","v":0.2}," km",{"$f":"IF(I966=1,F966*1000,IF(I966=2,F966,IF(I966=3,F966/100*C966*1000,\"\")))","v":200},"m"]
[{"$f":"IF(COUNTIF($B$1:B967,TRUE)=COUNTIF($B$1:B966,TRUE),\"\",COUNTIF($B$1:B967,TRUE))","v":""},{"$f":"Worksheet!$B$26","v":false},{"$f":"RANDBETWEEN(5,RANDBETWEEN(5,Worksheet!$D$8))","v":66},"m","±",{"$f":"IF(I967=1,H967*10^RANDBETWEEN(IF(Worksheet!$D$14,-1,0),0),IF(I967=2,H967*10^RANDBETWEEN(RANDBETWEEN(0,2),2),CHOOSE(RANDBETWEEN(1,3),5,10,20)))","v":3},{"$f":"IF(I967=1,D967,IF(I967=3,\"%\",\"mm\"))","v":"m"},3,{"$f":"IF(AND(Worksheet!$D$12,RAND()<0.2),3,IF(RAND()<Worksheet!$D$10/100,1,2))","v":1},3," m",3000,"mm"]
[{"$f":"IF(COUNTIF($B$1:B968,TRUE)=COUNTIF($B$1:B967,TRUE),\"\",COUNTIF($B$1:B968,TRUE))","v":753},{"$f":"Worksheet!$D$20","v":true},{"$f":"RANDBETWEEN(5,RANDBETWEEN(5,Worksheet!$D$8))","v":33},"kg","±",{"$f":"IF(I968=1,H968*10^RANDBETWEEN(IF(Worksheet!$D$14,-1,0),0),IF(I968=2,H968*10^RANDBETWEEN(RANDBETWEEN(0,2),2),CHOOSE(RANDBETWEEN(1,3),5,10,20)))","v":9},{"$f":"IF(I968=1,D968,IF(I968=3,\"%\",\"g\"))","v":"g"},{"$f":"RANDBETWEEN(1,MIN(9,C968))","v":9},{"$f":"IF(AND(Worksheet!$D$12,RAND()<0.2),3,IF(RAND()<Worksheet!$D$10/100,1,2))","v":2},8.9999999999999993E-3,{"$f":"CONCATENATE(\" \",D968)","v":" kg"},9,"g"]
[{"$f":"IF(COUNTIF($B$1:B969,TRUE)=COUNTIF($B$1:B968,TRUE),\"\",COUNTIF($B$1:B969,TRUE))","v":754},{"$f":"Worksheet!$D$22","v":true},{"$f":"RANDBETWEEN(5,RANDBETWEEN(5,Worksheet!$D$8))","v":7},"tonnes","±",{"$f":"IF(I969=1,H969*10^RANDBETWEEN(IF(Worksheet!$D$14,-1,0),0),IF(I969=2,H969*10^RANDBETWEEN(RANDBETWEEN(0,2),2),CHOOSE(RANDBETWEEN(1,3),5,10,20)))","v":5},{"$f":"IF(I969=1,D969,IF(I969=3,\"%\",\"kg\"))","v":"%"},{"$f":"RANDBETWEEN(1,MIN(9,C969))","v":5},{"$f":"IF(AND(Worksheet!$D$12,RAND()<0.2),3,IF(RAND()<Worksheet!$D$10/100,1,2))","v":3},0.35000000000000003,{"$f":"CONCATENATE(\" \",D969)","v":" tonnes"},350.00000000000006,"kg"]
[{"$f":"IF(COUNTIF($B$1:B970,TRUE)=COUNTIF($B$1:B969,TRUE),\"\",COUNTIF($B$1:B970,TRUE))","v":755},{"$f":"Worksheet!$D$24","v":true},{"$f":"RANDBETWEEN(5,RANDBETWEEN(5,Worksheet!$D$8))","v":171},"litres","±",{"$f":"IF(I970=1,H970*10^RANDBETWEEN(IF(Worksheet!$D$14,-1,0),0),IF(I970=2,H970*10^RANDBETWEEN(RANDBETWEEN(0,2),2),CHOOSE(RANDBETWEEN(1,3),5,10,20)))","v":0.8},{"$f":"IF(I970=1,D970,IF(I970=3,\"%\",\"ml\"))","v":"litres"},{"$f":"RANDBETWEEN(1,MIN(9,C970))","v":8},{"$f":"IF(AND(Worksheet!$D$12,RAND()<0.2),3,IF(RAND()<Worksheet!$D$10/100,1,2))","v":1},0.8,{"$f":"CONCATENATE(\" \",D970)","v":" litres"},800,"ml"]
[{"$f":"IF(COUNTIF($B$1:B971,TRUE)=COUNTIF($B$1:B970,TRUE),\"\",COUNTIF($B$1:B971,TRUE))","v":""},{"$f":"Worksheet!$D$26","v":false},{"$f":"RANDBETWEEN(5,RANDBETWEEN(5,Worksheet!$D$8))","v":114},"litres","±",{"$f":"IF(I971=1,H971*10^RANDBETWEEN(IF(Worksheet!$D$14,-1,0),0),IF(I971=2,H971*10^RANDBETWEEN(RANDBETWEEN(0,2),2),CHOOSE(RANDBETWEEN(1,3),5,10,20)))","v":1},{"$f":"IF(I971=1,D971,IF(I971=3,\"%\",\"cm³\"))","v":"litres"},{"$f":"RANDBETWEEN(1,MIN(9,C971))","v":1},{"$f":"IF(AND(Worksheet!$D$12,RAND()<0.2),3,IF(RAND()<Worksheet!$D$10/100,1,2))","v":1},1,{"$f":"CONCATENATE(\" \",D971)","v":" litres"},1000,"cm³"]
[{"$f":"IF(COUNTIF($B$1:B972,TRUE)=COUNTIF($B$1:B972,TRUE),\"\",COUNTIF($B$1:B972,TRUE))","v":""},{"$f":"Worksheet!$B$28","v":true},{"$f":"RANDBETWEEN(5,20)","v":20},"°C","±",{"$f":"IF(I972=1,H972*10^RANDBETWEEN(IF(Worksheet!$D$14,-1,0),0),IF(I972=2,H972,CHOOSE(RANDBETWEEN(1,3),5,10,20)))","v":9},{"$f":"IF(I972=1,D972,IF(I972=3,\"%\",\"sec\"))","v":"sec"},{"$f":"RANDBETWEEN(1,MIN(9,C972))","v":9},{"$f":"IF(AND(Worksheet!$D$12,RAND()<0),3,IF(RAND()<Worksheet!$D$10/100,1,2))","v":2},{"$f":"IF(I972=1,F972,IF(I972=2,F972,IF(I972=3,F972/100*C972,\"\")))","v":9},{"$f":"CONCATENATE(\" \",D972)","v":" °C"},{"$f":"IF(I972=1,F972,IF(I972=2,F972,IF(I972=3,F972/100*C972,\"\")))","v":9}," °C"]
[{"$f":"COUNTIF($B$1:B973,TRUE)","v":757},{"$f":"Worksheet!$B$20","v":true},{"$f":"RANDBETWEEN(5,RANDBETWEEN(5,Worksheet!$D$8))","v":70},"cm","±",{"$f":"IF(I973=1,H973*10^RANDBETWEEN(IF(Worksheet!$D$14,-1,0),0),IF(I973=2,H973,CHOOSE(RANDBETWEEN(1,3),5,10,20)))","v":3},{"$f":"IF(I973=1,D973,IF(I973=3,\"%\",\"mm\"))","v":"cm"},{"$f":"RANDBETWEEN(1,MIN(9,C973))","v":3},{"$f":"IF(AND(Worksheet!$D$12,RAND()<0.2),3,IF(RAND()<Worksheet!$D$10/100,1,2))","v":1},{"$f":"IF(I973=1,F973,IF(I973=2,F973/10,IF(I973=3,F973/100*C973,\"\")))","v":3},{"$f":"CONCATENATE(\" \",D973)","v":" cm"},{"$f":"IF(I973=1,F973*10,IF(I973=2,F973,IF(I973=3,F973/100*C973*10,\"\")))","v":30},"mm"]
[{"$f":"IF(COUNTIF($B$1:B974,TRUE)=COUNTIF($B$1:B973,TRUE),\"\",COUNTIF($B$1:B974,TRUE))","v":758},{"$f":"Worksheet!$B$22","v":true},{"$f":"RANDBETWEEN(5,RANDBETWEEN(5,Worksheet!$D$8))","v":8},"m","±",{"$f":"IF(I974=1,H974*10^RANDBETWEEN(IF(Worksheet!$D$14,-1,0),0),IF(I974=2,H974*10^RANDBETWEEN(RANDBETWEEN(0,1),1),CHOOSE(RANDBETWEEN(1,3),5,10,20)))","v":8},{"$f":"IF(I974=1,D974,IF(I974=3,\"%\",\"cm\"))","v":"cm"},{"$f":"RANDBETWEEN(1,MIN(9,C974))","v":8},{"$f":"IF(AND(Worksheet!$D$12,RAND()<0.2),3,IF(RAND()<Worksheet!$D$10/100,1,2))","v":2},{"$f":"IF(I974=1,F974,IF(I974=2,F974/100,IF(I974=3,F974/100*C974,\"\")))","v":0.08},{"$f":"CONCATENATE(\" \",D974)","v":" m"},{"$f":"IF(I974=1,F974*100,IF(I974=2,F974,IF(I974=3,F974/100*C974*100,\"\")))","v":8},"cm"]
[{"$f":"IF(COUNTIF($B$1:B975,TRUE)=COUNTIF($B$1:B974,TRUE),\"\",COUNTIF($B$1:B975,TRUE))","v":759},{"$f":"Worksheet!$B$24","v":true},{"$f":"RANDBETWEEN(5,RANDBETWEEN(5,Worksheet!$D$8))","v":38},"km","±",{"$f":"IF(I975=1,H975*10^RANDBETWEEN(IF(Worksheet!$D$14,-1,0),0),IF(I975=2,H975*10^RANDBETWEEN(RANDBETWEEN(0,2),2),CHOOSE(RANDBETWEEN(1,3),5,10,20)))","v":8},{"$f":"IF(I975=1,D975,IF(I975=3,\"%\",\"m\"))","v":"km"},8,{"$f":"IF(AND(Worksheet!$D$12,RAND()<0.2),3,IF(RAND()<Worksheet!$D$10/100,1,2))","v":1},{"$f":"IF(I975=1,F975,IF(I975=2,F975/1000,IF(I975=3,F975/100*C975,\"\")))","v":8}," km",{"$f":"IF(I975=1,F975*1000,IF(I975=2,F975,IF(I975=3,F975/100*C975*1000,\"\")))","v":8000},"m"]
[{"$f":"IF(COUNTIF($B$1:B976,TRUE)=COUNTIF($B$1:B975,TRUE),\"\",COUNTIF($B$1:B976,TRUE))","v":""},{"$f":"Worksheet!$B$26","v":false},{"$f":"RANDBETWEEN(5,RANDBETWEEN(5,Worksheet!$D$8))","v":25},"m","±",{"$f":"IF(I976=1,H976*10^RANDBETWEEN(IF(Worksheet!$D$14,-1,0),0),IF(I976=2,H976*10^RANDBETWEEN(RANDBETWEEN(0,2),2),CHOOSE(RANDBETWEEN(1,3),5,10,20)))","v":0.4},{"$f":"IF(I976=1,D976,IF(I976=3,\"%\",\"mm\"))","v":"m"},4,{"$f":"IF(AND(Worksheet!$D$12,RAND()<0.2),3,IF(RAND()<Worksheet!$D$10/100,1,2))","v":1},0.4," m",400,"mm"]
[{"$f":"IF(COUNTIF($B$1:B977,TRUE)=COUNTIF($B$1:B976,TRUE),\"\",COUNTIF($B$1:B977,TRUE))","v":760},{"$f":"Worksheet!$D$20","v":true},{"$f":"RANDBETWEEN(5,RANDBETWEEN(5,Worksheet!$D$8))","v":151},"kg","±",{"$f":"IF(I977=1,H977*10^RANDBETWEEN(IF(Worksheet!$D$14,-1,0),0),IF(I977=2,H977*10^RANDBETWEEN(RANDBETWEEN(0,2),2),CHOOSE(RANDBETWEEN(1,3),5,10,20)))","v":0.70000000000000007},{"$f":"IF(I977=1,D977,IF(I977=3,\"%\",\"g\"))","v":"kg"},{"$f":"RANDBETWEEN(1,MIN(9,C977))","v":7},{"$f":"IF(AND(Worksheet!$D$12,RAND()<0.2),3,IF(RAND()<Worksheet!$D$10/100,1,2))","v":1},0.70000000000000007,{"$f":"CONCATENATE(\" \",D977)","v":" kg"},700.00000000000011,"g"]
[{"$f":"IF(COUNTIF($B$1:B978,TRUE)=COUNTIF($B$1:B977,TRUE),\"\",COUNTIF($B$1:B978,TRUE))","v":761},{"$f":"Worksheet!$D$22","v":true},{"$f":"RANDBETWEEN(5,RANDBETWEEN(5,Worksheet!$D$8))","v":34},"tonnes","±",{"$f":"IF(I978=1,H978*10^RANDBETWEEN(IF(Worksheet!$D$14,-1,0),0),IF(I978=2,H978*10^RANDBETWEEN(RANDBETWEEN(0,2),2),CHOOSE(RANDBETWEEN(1,3),5,10,20)))","v":5},{"$f":"IF(I978=1,D978,IF(I978=3,\"%\",\"kg\"))","v":"tonnes"},{"$f":"RANDBETWEEN(1,MIN(9,C978))","v":5},{"$f":"IF(AND(Worksheet!$D$12,RAND()<0.2),3,IF(RAND()<Worksheet!$D$10/100,1,2))","v":1},5,{"$f":"CONCATENATE(\" \",D978)","v":" tonnes"},5000,"kg"]
[{"$f":"IF(COUNTIF($B$1:B979,TRUE)=COUNTIF($B$1:B978,TRUE),\"\",COUNTIF($B$1:B979,TRUE))","v":762},{"$f":"Worksheet!$D$24","v":true},{"$f":"RANDBETWEEN(5,RANDBETWEEN(5,Worksheet!$D$8))","v":169},"litres","±",{"$f":"IF(I979=1,H979*10^RANDBETWEEN(IF(Worksheet!$D$14,-1,0),0),IF(I979=2,H979*10^RANDBETWEEN(RANDBETWEEN(0,2),2),CHOOSE(RANDBETWEEN(1,3),5,10,20)))","v":60},{"$f":"IF(I979=1,D979,IF(I979=3,\"%\",\"ml\"))","v":"ml"},{"$f":"RANDBETWEEN(1,MIN(9,C979))","v":6},{"$f":"IF(AND(Worksheet!$D$12,RAND()<0.2),3,IF(RAND()<Worksheet!$D$10/100,1,2))","v":2},0.06,{"$f":"CONCATENATE(\" \",D979)","v":" litres"},60,"ml"]
[{"$f":"IF(COUNTIF($B$1:B980,TRUE)=COUNTIF($B$1:B979,TRUE),\"\",COUNTIF($B$1:B980,TRUE))","v":""},{"$f":"Worksheet!$D$26","v":false},{"$f":"RANDBETWEEN(5,RANDBETWEEN(5,Worksheet!$D$8))","v":77},"litres","±",{"$f":"IF(I980=1,H980*10^RANDBETWEEN(IF(Worksheet!$D$14,-1,0),0),IF(I980=2,H980*10^RANDBETWEEN(RANDBETWEEN(0,2),2),CHOOSE(RANDBETWEEN(1,3),5,10,20)))","v":70},{"$f":"IF(I980=1,D980,IF(I980=3,\"%\",\"cm³\"))","v":"cm³"},{"$f":"RANDBETWEEN(1,MIN(9,C980))","v":7},{"$f":"IF(AND(Worksheet!$D$12,RAND()<0.2),3,IF(RAND()<Worksheet!$D$10/100,1,2))","v":2},7.0000000000000007E-2,{"$f":"CONCATENATE(\" \",D980)","v":" litres"},70,"cm³"]
[{"$f":"IF(COUNTIF($B$1:B981,TRUE)=COUNTIF($B$1:B981,TRUE),\"\",COUNTIF($B$1:B981,TRUE))","v":""},{"$f":"Worksheet!$B$28","v":true},{"$f":"RANDBETWEEN(5,20)","v":7},"°C","±",{"$f":"IF(I981=1,H981*10^RANDBETWEEN(IF(Worksheet!$D$14,-1,0),0),IF(I981=2,H981,CHOOSE(RANDBETWEEN(1,3),5,10,20)))","v":0.1},{"$f":"IF(I981=1,D981,IF(I981=3,\"%\",\"sec\"))","v":"°C"},{"$f":"RANDBETWEEN(1,MIN(9,C981))","v":1},{"$f":"IF(AND(Worksheet!$D$12,RAND()<0),3,IF(RAND()<Worksheet!$D$10/100,1,2))","v":1},{"$f":"IF(I981=1,F981,IF(I981=2,F981,IF(I981=3,F981/100*C981,\"\")))","v":0.1},{"$f":"CONCATENATE(\" \",D981)","v":" °C"},{"$f":"IF(I981=1,F981,IF(I981=2,F981,IF(I981=3,F981/100*C981,\"\")))","v":0.1}," °C"]
[{"$f":"COUNTIF($B$1:B982,TRUE)","v":764},{"$f":"Worksheet!$B$20","v":true},{"$f":"RANDBETWEEN(5,RANDBETWEEN(5,Worksheet!$D$8))","v":18},"cm","±",{"$f":"IF(I982=1,H982*10^RANDBETWEEN(IF(Worksheet!$D$14,-1,0),0),IF(I982=2,H982,CHOOSE(RANDBETWEEN(1,3),5,10,20)))","v":8},{"$f":"IF(I982=1,D982,IF(I982=3,\"%\",\"mm\"))","v":"mm"},{"$f":"RANDBETWEEN(1,MIN(9,C982))","v":8},{"$f":"IF(AND(Worksheet!$D$12,RAND()<0.2),3,IF(RAND()<Worksheet!$D$10/100,1,2))","v":2},{"$f":"IF(I982=1,F982,IF(I982=2,F982/10,IF(I982=3,F982/100*C982,\"\")))","v":0.8},{"$f":"CONCATENATE(\" \",D982)","v":" cm"},{"$f":"IF(I982=1,F982*10,IF(I982=2,F982,IF(I982=3,F982/100*C982*10,\"\")))","v":8},"mm"]
[{"$f":"IF(COUNTIF($B$1:B983,TRUE)=COUNTIF($B$1:B982,TRUE),\"\",COUNTIF($B$1:B983,TRUE))","v":765},{"$f":"Worksheet!$B$22","v":true},{"$f":"RANDBETWEEN(5,RANDBETWEEN(5,Worksheet!$D$8))","v":65},"m","±",{"$f":"IF(I983=1,H983*10^RANDBETWEEN(IF(Worksheet!$D$14,-1,0),0),IF(I983=2,H983*10^RANDBETWEEN(RANDBETWEEN(0,1),1),CHOOSE(RANDBETWEEN(1,3),5,10,20)))","v":5},{"$f":"IF(I983=1,D983,IF(I983=3,\"%\",\"cm\"))","v":"%"},{"$f":"RANDBETWEEN(1,MIN(9,C983))","v":8},{"$f":"IF(AND(Worksheet!$D$12,RAND()<0.2),3,IF(RAND()<Worksheet!$D$10/100,1,2))","v":3},{"$f":"IF(I983=1,F983,IF(I983=2,F983/100,IF(I983=3,F983/100*C983,\"\")))","v":3.25},{"$f":"CONCATENATE(\" \",D983)","v":" m"},{"$f":"IF(I983=1,F983*100,IF(I983=2,F983,IF(I983=3,F983/100*C983*100,\"\")))","v":325},"cm"]
[{"$f":"IF(COUNTIF($B$1:B984,TRUE)=COUNTIF($B$1:B983,TRUE),\"\",COUNTIF($B$1:B984,TRUE))","v":766},{"$f":"Worksheet!$B$24","v":true},{"$f":"RANDBETWEEN(5,RANDBETWEEN(5,Worksheet!$D$8))","v":7},"km","±",{"$f":"IF(I984=1,H984*10^RANDBETWEEN(IF(Worksheet!$D$14,-1,0),0),IF(I984=2,H984*10^RANDBETWEEN(RANDBETWEEN(0,2),2),CHOOSE(RANDBETWEEN(1,3),5,10,20)))","v":700},{"$f":"IF(I984=1,D984,IF(I984=3,\"%\",\"m\"))","v":"m"},7,{"$f":"IF(AND(Worksheet!$D$12,RAND()<0.2),3,IF(RAND()<Worksheet!$D$10/100,1,2))","v":2},{"$f":"IF(I984=1,F984,IF(I984=2,F984/1000,IF(I984=3,F984/100*C984,\"\")))","v":0.7}," km",{"$f":"IF(I984=1,F984*1000,IF(I984=2,F984,IF(I984=3,F984/100*C984*1000,\"\")))","v":700},"m"]
[{"$f":"IF(COUNTIF($B$1:B985,TRUE)=COUNTIF($B$1:B984,TRUE),\"\",COUNTIF($B$1:B985,TRUE))","v":""},{"$f":"Worksheet!$B$26","v":false},{"$f":"RANDBETWEEN(5,RANDBETWEEN(5,Worksheet!$D$8))","v":7},"m","±",{"$f":"IF(I985=1,H985*10^RANDBETWEEN(IF(Worksheet!$D$14,-1,0),0),IF(I985=2,H985*10^RANDBETWEEN(RANDBETWEEN(0,2),2),CHOOSE(RANDBETWEEN(1,3),5,10,20)))","v":0.60000000000000009},{"$f":"IF(I985=1,D985,IF(I985=3,\"%\",\"mm\"))","v":"m"},6,{"$f":"IF(AND(Worksheet!$D$12,RAND()<0.2),3,IF(RAND()<Worksheet!$D$10/100,1,2))","v":1},0.60000000000000009," m",600.00000000000011,"mm"]
[{"$f":"IF(COUNTIF($B$1:B986,TRUE)=COUNTIF($B$1:B985,TRUE),\"\",COUNTIF($B$1:B986,TRUE))","v":767},{"$f":"Worksheet!$D$20","v":true},{"$f":"RANDBETWEEN(5,RANDBETWEEN(5,Worksheet!$D$8))","v":111},"kg","±",{"$f":"IF(I986=1,H986*10^RANDBETWEEN(IF(Worksheet!$D$14,-1,0),0),IF(I986=2,H986*10^RANDBETWEEN(RANDBETWEEN(0,2),2),CHOOSE(RANDBETWEEN(1,3),5,10,20)))","v":400},{"$f":"IF(I986=1,D986,IF(I986=3,\"%\",\"g\"))","v":"g"},{"$f":"RANDBETWEEN(1,MIN(9,C986))","v":4},{"$f":"IF(AND(Worksheet!$D$12,RAND()<0.2),3,IF(RAND()<Worksheet!$D$10/100,1,2))","v":2},0.4,{"$f":"CONCATENATE(\" \",D986)","v":" kg"},400,"g"]
[{"$f":"IF(COUNTIF($B$1:B987,TRUE)=COUNTIF($B$1:B986,TRUE),\"\",COUNTIF($B$1:B987,TRUE))","v":768},{"$f":"Worksheet!$D$22","v":true},{"$f":"RANDBETWEEN(5,RANDBETWEEN(5,Worksheet!$D$8))","v":30},"tonnes","±",{"$f":"IF(I987=1,H987*10^RANDBETWEEN(IF(Worksheet!$D$14,-1,0),0),IF(I987=2,H987*10^RANDBETWEEN(RANDBETWEEN(0,2),2),CHOOSE(RANDBETWEEN(1,3),5,10,20)))","v":8},{"$f":"IF(I987=1,D987,IF(I987=3,\"%\",\"kg\"))","v":"tonnes"},{"$f":"RANDBETWEEN(1,MIN(9,C987))","v":8},{"$f":"IF(AND(Worksheet!$D$12,RAND()<0.2),3,IF(RAND()<Worksheet!$D$10/100,1,2))","v":1},8,{"$f":"CONCATENATE(\" \",D987)","v":" tonnes"},8000,"kg"]
[{"$f":"IF(COUNTIF($B$1:B988,TRUE)=COUNTIF($B$1:B987,TRUE),\"\",COUNTIF($B$1:B988,TRUE))","v":769},{"$f":"Worksheet!$D$24","v":true},{"$f":"RANDBETWEEN(5,RANDBETWEEN(5,Worksheet!$D$8))","v":5},"litres","±",{"$f":"IF(I988=1,H988*10^RANDBETWEEN(IF(Worksheet!$D$14,-1,0),0),IF(I988=2,H988*10^RANDBETWEEN(RANDBETWEEN(0,2),2),CHOOSE(RANDBETWEEN(1,3),5,10,20)))","v":50},{"$f":"IF(I988=1,D988,IF(I988=3,\"%\",\"ml\"))","v":"ml"},{"$f":"RANDBETWEEN(1,MIN(9,C988))","v":5},{"$f":"IF(AND(Worksheet!$D$12,RAND()<0.2),3,IF(RAND()<Worksheet!$D$10/100,1,2))","v":2},0.05,{"$f":"CONCATENATE(\" \",D988)","v":" litres"},50,"ml"]
[{"$f":"IF(COUNTIF($B$1:B989,TRUE)=COUNTIF($B$1:B988,TRUE),\"\",COUNTIF($B$1:B989,TRUE))","v":""},{"$f":"Worksheet!$D$26","v":false},{"$f":"RANDBETWEEN(5,RANDBETWEEN(5,Worksheet!$D$8))","v":35},"litres","±",{"$f":"IF(I989=1,H989*10^RANDBETWEEN(IF(Worksheet!$D$14,-1,0),0),IF(I989=2,H989*10^RANDBETWEEN(RANDBETWEEN(0,2),2),CHOOSE(RANDBETWEEN(1,3),5,10,20)))","v":0.8},{"$f":"IF(I989=1,D989,IF(I989=3,\"%\",\"cm³\"))","v":"litres"},{"$f":"RANDBETWEEN(1,MIN(9,C989))","v":8},{"$f":"IF(AND(Worksheet!$D$12,RAND()<0.2),3,IF(RAND()<Worksheet!$D$10/100,1,2))","v":1},0.8,{"$f":"CONCATENATE(\" \",D989)","v":" litres"},800,"cm³"]
[{"$f":"IF(COUNTIF($B$1:B990,TRUE)=COUNTIF($B$1:B990,TRUE),\"\",COUNTIF($B$1:B990,TRUE))","v":""},{"$f":"Worksheet!$B$28","v":true},{"$f":"RANDBETWEEN(5,20)","v":7},"°C","±",{"$f":"IF(I990=1,H990*10^RANDBETWEEN(IF(Worksheet!$D$14,-1,0),0),IF(I990=2,H990,CHOOSE(RANDBETWEEN(1,3),5,10,20)))","v":5},{"$f":"IF(I990=1,D990,IF(I990=3,\"%\",\"sec\"))","v":"°C"},{"$f":"RANDBETWEEN(1,MIN(9,C990))","v":5},{"$f":"IF(AND(Worksheet!$D$12,RAND()<0),3,IF(RAND()<Worksheet!$D$10/100,1,2))","v":1},{"$f":"IF(I990=1,F990,IF(I990=2,F990,IF(I990=3,F990/100*C990,\"\")))","v":5},{"$f":"CONCATENATE(\" \",D990)","v":" °C"},{"$f":"IF(I990=1,F990,IF(I990=2,F990,IF(I990=3,F990/100*C990,\"\")))","v":5}," °C"]
[{"$f":"COUNTIF($B$1:B991,TRUE)","v":771},{"$f":"Worksheet!$B$20","v":true},{"$f":"RANDBETWEEN(5,RANDBETWEEN(5,Worksheet!$D$8))","v":144},"cm","±",{"$f":"IF(I991=1,H991*10^RANDBETWEEN(IF(Worksheet!$D$14,-1,0),0),IF(I991=2,H991,CHOOSE(RANDBETWEEN(1,3),5,10,20)))","v":4},{"$f":"IF(I991=1,D991,IF(I991=3,\"%\",\"mm\"))","v":"cm"},{"$f":"RANDBETWEEN(1,MIN(9,C991))","v":4},{"$f":"IF(AND(Worksheet!$D$12,RAND()<0.2),3,IF(RAND()<Worksheet!$D$10/100,1,2))","v":1},{"$f":"IF(I991=1,F991,IF(I991=2,F991/10,IF(I991=3,F991/100*C991,\"\")))","v":4},{"$f":"CONCATENATE(\" \",D991)","v":" cm"},{"$f":"IF(I991=1,F991*10,IF(I991=2,F991,IF(I991=3,F991/100*C991*10,\"\")))","v":40},"mm"]
[{"$f":"IF(COUNTIF($B$1:B992,TRUE)=COUNTIF($B$1:B991,TRUE),\"\",COUNTIF($B$1:B992,TRUE))","v":772},{"$f":"Worksheet!$B$22","v":true},{"$f":"RANDBETWEEN(5,RANDBETWEEN(5,Worksheet!$D$8))","v":133},"m","±",{"$f":"IF(I992=1,H992*10^RANDBETWEEN(IF(Worksheet!$D$14,-1,0),0),IF(I992=2,H992*10^RANDBETWEEN(RANDBETWEEN(0,1),1),CHOOSE(RANDBETWEEN(1,3),5,10,20)))","v":20},{"$f":"IF(I992=1,D992,IF(I992=3,\"%\",\"cm\"))","v":"%"},{"$f":"RANDBETWEEN(1,MIN(9,C992))","v":9},{"$f":"IF(AND(Worksheet!$D$12,RAND()<0.2),3,IF(RAND()<Worksheet!$D$10/100,1,2))","v":3},{"$f":"IF(I992=1,F992,IF(I992=2,F992/100,IF(I992=3,F992/100*C992,\"\")))","v":26.6},{"$f":"CONCATENATE(\" \",D992)","v":" m"},{"$f":"IF(I992=1,F992*100,IF(I992=2,F992,IF(I992=3,F992/100*C992*100,\"\")))","v":2660},"cm"]
[{"$f":"IF(COUNTIF($B$1:B993,TRUE)=COUNTIF($B$1:B992,TRUE),\"\",COUNTIF($B$1:B993,TRUE))","v":773},{"$f":"Worksheet!$B$24","v":true},{"$f":"RANDBETWEEN(5,RANDBETWEEN(5,Worksheet!$D$8))","v":37},"km","±",{"$f":"IF(I993=1,H993*10^RANDBETWEEN(IF(Worksheet!$D$14,-1,0),0),IF(I993=2,H993*10^RANDBETWEEN(RANDBETWEEN(0,2),2),CHOOSE(RANDBETWEEN(1,3),5,10,20)))","v":30},{"$f":"IF(I993=1,D993,IF(I993=3,\"%\",\"m\"))","v":"m"},3,{"$f":"IF(AND(Worksheet!$D$12,RAND()<0.2),3,IF(RAND()<Worksheet!$D$10/100,1,2))","v":2},{"$f":"IF(I993=1,F993,IF(I993=2,F993/1000,IF(I993=3,F993/100*C993,\"\")))","v":0.03}," km",{"$f":"IF(I993=1,F993*1000,IF(I993=2,F993,IF(I993=3,F993/100*C993*1000,\"\")))","v":30},"m"]
[{"$f":"IF(COUNTIF($B$1:B994,TRUE)=COUNTIF($B$1:B993,TRUE),\"\",COUNTIF($B$1:B994,TRUE))","v":""},{"$f":"Worksheet!$B$26","v":false},{"$f":"RANDBETWEEN(5,RANDBETWEEN(5,Worksheet!$D$8))","v":29},"m","±",{"$f":"IF(I994=1,H994*10^RANDBETWEEN(IF(Worksheet!$D$14,-1,0),0),IF(I994=2,H994*10^RANDBETWEEN(RANDBETWEEN(0,2),2),CHOOSE(RANDBETWEEN(1,3),5,10,20)))","v":9},{"$f":"IF(I994=1,D994,IF(I994=3,\"%\",\"mm\"))","v":"m"},9,{"$f":"IF(AND(Worksheet!$D$12,RAND()<0.2),3,IF(RAND()<Worksheet!$D$10/100,1,2))","v":1},9," m",9000,"mm"]
[{"$f":"IF(COUNTIF($B$1:B995,TRUE)=COUNTIF($B$1:B994,TRUE),\"\",COUNTIF($B$1:B995,TRUE))","v":774},{"$f":"Worksheet!$D$20","v":true},{"$f":"RANDBETWEEN(5,RANDBETWEEN(5,Worksheet!$D$8))","v":9},"kg","±",{"$f":"IF(I995=1,H995*10^RANDBETWEEN(IF(Worksheet!$D$14,-1,0),0),IF(I995=2,H995*10^RANDBETWEEN(RANDBETWEEN(0,2),2),CHOOSE(RANDBETWEEN(1,3),5,10,20)))","v":7},{"$f":"IF(I995=1,D995,IF(I995=3,\"%\",\"g\"))","v":"kg"},{"$f":"RANDBETWEEN(1,MIN(9,C995))","v":7},{"$f":"IF(AND(Worksheet!$D$12,RAND()<0.2),3,IF(RAND()<Worksheet!$D$10/100,1,2))","v":1},7,{"$f":"CONCATENATE(\" \",D995)","v":" kg"},7000,"g"]
[{"$f":"IF(COUNTIF($B$1:B996,TRUE)=COUNTIF($B$1:B995,TRUE),\"\",COUNTIF($B$1:B996,TRUE))","v":775},{"$f":"Worksheet!$D$22","v":true},{"$f":"RANDBETWEEN(5,RANDBETWEEN(5,Worksheet!$D$8))","v":31},"tonnes","±",{"$f":"IF(I996=1,H996*10^RANDBETWEEN(IF(Worksheet!$D$14,-1,0),0),IF(I996=2,H996*10^RANDBETWEEN(RANDBETWEEN(0,2),2),CHOOSE(RANDBETWEEN(1,3),5,10,20)))","v":10},{"$f":"IF(I996=1,D996,IF(I996=3,\"%\",\"kg\"))","v":"%"},{"$f":"RANDBETWEEN(1,MIN(9,C996))","v":7},{"$f":"IF(AND(Worksheet!$D$12,RAND()<0.2),3,IF(RAND()<Worksheet!$D$10/100,1,2))","v":3},3.1,{"$f":"CONCATENATE(\" \",D996)","v":" tonnes"},3100,"kg"]
[{"$f":"IF(COUNTIF($B$1:B997,TRUE)=COUNTIF($B$1:B996,TRUE),\"\",COUNTIF($B$1:B997,TRUE))","v":776},{"$f":"Worksheet!$D$24","v":true},{"$f":"RANDBETWEEN(5,RANDBETWEEN(5,Worksheet!$D$8))","v":29},"litres","±",{"$f":"IF(I997=1,H997*10^RANDBETWEEN(IF(Worksheet!$D$14,-1,0),0),IF(I997=2,H997*10^RANDBETWEEN(RANDBETWEEN(0,2),2),CHOOSE(RANDBETWEEN(1,3),5,10,20)))","v":6},{"$f":"IF(I997=1,D997,IF(I997=3,\"%\",\"ml\"))","v":"litres"},{"$f":"RANDBETWEEN(1,MIN(9,C997))","v":6},{"$f":"IF(AND(Worksheet!$D$12,RAND()<0.2),3,IF(RAND()<Worksheet!$D$10/100,1,2))","v":1},6,{"$f":"CONCATENATE(\" \",D997)","v":" litres"},6000,"ml"]
[{"$f":"IF(COUNTIF($B$1:B998,TRUE)=COUNTIF($B$1:B997,TRUE),\"\",COUNTIF($B$1:B998,TRUE))","v":""},{"$f":"Worksheet!$D$26","v":false},{"$f":"RANDBETWEEN(5,RANDBETWEEN(5,Worksheet!$D$8))","v":5},"litres","±",{"$f":"IF(I998=1,H998*10^RANDBETWEEN(IF(Worksheet!$D$14,-1,0),0),IF(I998=2,H998*10^RANDBETWEEN(RANDBETWEEN(0,2),2),CHOOSE(RANDBETWEEN(1,3),5,10,20)))","v":4},{"$f":"IF(I998=1,D998,IF(I998=3,\"%\",\"cm³\"))","v":"litres"},{"$f":"RANDBETWEEN(1,MIN(9,C998))","v":4},{"$f":"IF(AND(Worksheet!$D$12,RAND()<0.2),3,IF(RAND()<Worksheet!$D$10/100,1,2))","v":1},4,{"$f":"CONCATENATE(\" \",D998)","v":" litres"},4000,"cm³"]
[{"$f":"IF(COUNTIF($B$1:B999,TRUE)=COUNTIF($B$1:B999,TRUE),\"\",COUNTIF($B$1:B999,TRUE))","v":""},{"$f":"Worksheet!$B$28","v":true},{"$f":"RANDBETWEEN(5,20)","v":20},"°C","±",{"$f":"IF(I999=1,H999*10^RANDBETWEEN(IF(Worksheet!$D$14,-1,0),0),IF(I999=2,H999,CHOOSE(RANDBETWEEN(1,3),5,10,20)))","v":7},{"$f":"IF(I999=1,D999,IF(I999=3,\"%\",\"sec\"))","v":"sec"},{"$f":"RANDBETWEEN(1,MIN(9,C999))","v":7},{"$f":"IF(AND(Worksheet!$D$12,RAND()<0),3,IF(RAND()<Worksheet!$D$10/100,1,2))","v":2},{"$f":"IF(I999=1,F999,IF(I999=2,F999,IF(I999=3,F999/100*C999,\"\")))","v":7},{"$f":"CONCATENATE(\" \",D999)","v":" °C"},{"$f":"IF(I999=1,F999,IF(I999=2,F999,IF(I999=3,F999/100*C999,\"\")))","v":7}," °C"]
[{"$f":"COUNTIF($B$1:B1000,TRUE)","v":778},{"$f":"Worksheet!$B$20","v":true},{"$f":"RANDBETWEEN(5,RANDBETWEEN(5,Worksheet!$D$8))","v":26},"cm","±",{"$f":"IF(I1000=1,H1000*10^RANDBETWEEN(IF(Worksheet!$D$14,-1,0),0),IF(I1000=2,H1000,CHOOSE(RANDBETWEEN(1,3),5,10,20)))","v":1},{"$f":"IF(I1000=1,D1000,IF(I1000=3,\"%\",\"mm\"))","v":"cm"},{"$f":"RANDBETWEEN(1,MIN(9,C1000))","v":1},{"$f":"IF(AND(Worksheet!$D$12,RAND()<0.2),3,IF(RAND()<Worksheet!$D$10/100,1,2))","v":1},{"$f":"IF(I1000=1,F1000,IF(I1000=2,F1000/10,IF(I1000=3,F1000/100*C1000,\"\")))","v":1},{"$f":"CONCATENATE(\" \",D1000)","v":" cm"},{"$f":"IF(I1000=1,F1000*10,IF(I1000=2,F1000,IF(I1000=3,F1000/100*C1000*10,\"\")))","v":10},"mm"]
[{"$f":"IF(COUNTIF($B$1:B1001,TRUE)=COUNTIF($B$1:B1000,TRUE),\"\",COUNTIF($B$1:B1001,TRUE))","v":779},{"$f":"Worksheet!$B$22","v":true},{"$f":"RANDBETWEEN(5,RANDBETWEEN(5,Worksheet!$D$8))","v":132},"m","±",{"$f":"IF(I1001=1,H1001*10^RANDBETWEEN(IF(Worksheet!$D$14,-1,0),0),IF(I1001=2,H1001*10^RANDBETWEEN(RANDBETWEEN(0,1),1),CHOOSE(RANDBETWEEN(1,3),5,10,20)))","v":2},{"$f":"IF(I1001=1,D1001,IF(I1001=3,\"%\",\"cm\"))","v":"m"},{"$f":"RANDBETWEEN(1,MIN(9,C1001))","v":2},{"$f":"IF(AND(Worksheet!$D$12,RAND()<0.2),3,IF(RAND()<Worksheet!$D$10/100,1,2))","v":1},{"$f":"IF(I1001=1,F1001,IF(I1001=2,F1001/100,IF(I1001=3,F1001/100*C1001,\"\")))","v":2},{"$f":"CONCATENATE(\" \",D1001)","v":" m"},{"$f":"IF(I1001=1,F1001*100,IF(I1001=2,F1001,IF(I1001=3,F1001/100*C1001*100,\"\")))","v":200},"cm"]
[{"$f":"IF(COUNTIF($B$1:B1002,TRUE)=COUNTIF($B$1:B1001,TRUE),\"\",COUNTIF($B$1:B1002,TRUE))","v":780},{"$f":"Worksheet!$B$24","v":true},{"$f":"RANDBETWEEN(5,RANDBETWEEN(5,Worksheet!$D$8))","v":17},"km","±",{"$f":"IF(I1002=1,H1002*10^RANDBETWEEN(IF(Worksheet!$D$14,-1,0),0),IF(I1002=2,H1002*10^RANDBETWEEN(RANDBETWEEN(0,2),2),CHOOSE(RANDBETWEEN(1,3),5,10,20)))","v":100},{"$f":"IF(I1002=1,D1002,IF(I1002=3,\"%\",\"m\"))","v":"m"},1,{"$f":"IF(AND(Worksheet!$D$12,RAND()<0.2),3,IF(RAND()<Worksheet!$D$10/100,1,2))","v":2},{"$f":"IF(I1002=1,F1002,IF(I1002=2,F1002/1000,IF(I1002=3,F1002/100*C1002,\"\")))","v":0.1}," km",{"$f":"IF(I1002=1,F1002*1000,IF(I1002=2,F1002,IF(I1002=3,F1002/100*C1002*1000,\"\")))","v":100},"m"]
[{"$f":"IF(COUNTIF($B$1:B1003,TRUE)=COUNTIF($B$1:B1002,TRUE),\"\",COUNTIF($B$1:B1003,TRUE))","v":""},{"$f":"Worksheet!$B$26","v":false},{"$f":"RANDBETWEEN(5,RANDBETWEEN(5,Worksheet!$D$8))","v":84},"m","±",{"$f":"IF(I1003=1,H1003*10^RANDBETWEEN(IF(Worksheet!$D$14,-1,0),0),IF(I1003=2,H1003*10^RANDBETWEEN(RANDBETWEEN(0,2),2),CHOOSE(RANDBETWEEN(1,3),5,10,20)))","v":10},{"$f":"IF(I1003=1,D1003,IF(I1003=3,\"%\",\"mm\"))","v":"%"},5,{"$f":"IF(AND(Worksheet!$D$12,RAND()<0.2),3,IF(RAND()<Worksheet!$D$10/100,1,2))","v":3},8.4," m",8400,"mm"]
[{"$f":"IF(COUNTIF($B$1:B1004,TRUE)=COUNTIF($B$1:B1003,TRUE),\"\",COUNTIF($B$1:B1004,TRUE))","v":781},{"$f":"Worksheet!$D$20","v":true},{"$f":"RANDBETWEEN(5,RANDBETWEEN(5,Worksheet!$D$8))","v":111},"kg","±",{"$f":"IF(I1004=1,H1004*10^RANDBETWEEN(IF(Worksheet!$D$14,-1,0),0),IF(I1004=2,H1004*10^RANDBETWEEN(RANDBETWEEN(0,2),2),CHOOSE(RANDBETWEEN(1,3),5,10,20)))","v":5},{"$f":"IF(I1004=1,D1004,IF(I1004=3,\"%\",\"g\"))","v":"%"},{"$f":"RANDBETWEEN(1,MIN(9,C1004))","v":4},{"$f":"IF(AND(Worksheet!$D$12,RAND()<0.2),3,IF(RAND()<Worksheet!$D$10/100,1,2))","v":3},5.5500000000000007,{"$f":"CONCATENATE(\" \",D1004)","v":" kg"},5550.0000000000009,"g"]
[{"$f":"IF(COUNTIF($B$1:B1005,TRUE)=COUNTIF($B$1:B1004,TRUE),\"\",COUNTIF($B$1:B1005,TRUE))","v":782},{"$f":"Worksheet!$D$22","v":true},{"$f":"RANDBETWEEN(5,RANDBETWEEN(5,Worksheet!$D$8))","v":116},"tonnes","±",{"$f":"IF(I1005=1,H1005*10^RANDBETWEEN(IF(Worksheet!$D$14,-1,0),0),IF(I1005=2,H1005*10^RANDBETWEEN(RANDBETWEEN(0,2),2),CHOOSE(RANDBETWEEN(1,3),5,10,20)))","v":5},{"$f":"IF(I1005=1,D1005,IF(I1005=3,\"%\",\"kg\"))","v":"%"},{"$f":"RANDBETWEEN(1,MIN(9,C1005))","v":6},{"$f":"IF(AND(Worksheet!$D$12,RAND()<0.2),3,IF(RAND()<Worksheet!$D$10/100,1,2))","v":3},5.8000000000000007,{"$f":"CONCATENATE(\" \",D1005)","v":" tonnes"},5800.0000000000009,"kg"]
[{"$f":"IF(COUNTIF($B$1:B1006,TRUE)=COUNTIF($B$1:B1005,TRUE),\"\",COUNTIF($B$1:B1006,TRUE))","v":783},{"$f":"Worksheet!$D$24","v":true},{"$f":"RANDBETWEEN(5,RANDBETWEEN(5,Worksheet!$D$8))","v":74},"litres","±",{"$f":"IF(I1006=1,H1006*10^RANDBETWEEN(IF(Worksheet!$D$14,-1,0),0),IF(I1006=2,H1006*10^RANDBETWEEN(RANDBETWEEN(0,2),2),CHOOSE(RANDBETWEEN(1,3),5,10,20)))","v":8},{"$f":"IF(I1006=1,D1006,IF(I1006=3,\"%\",\"ml\"))","v":"litres"},{"$f":"RANDBETWEEN(1,MIN(9,C1006))","v":8},{"$f":"IF(AND(Worksheet!$D$12,RAND()<0.2),3,IF(RAND()<Worksheet!$D$10/100,1,2))","v":1},8,{"$f":"CONCATENATE(\" \",D1006)","v":" litres"},8000,"ml"]
[{"$f":"IF(COUNTIF($B$1:B1007,TRUE)=COUNTIF($B$1:B1006,TRUE),\"\",COUNTIF($B$1:B1007,TRUE))","v":""},{"$f":"Worksheet!$D$26","v":false},{"$f":"RANDBETWEEN(5,RANDBETWEEN(5,Worksheet!$D$8))","v":13},"litres","±",{"$f":"IF(I1007=1,H1007*10^RANDBETWEEN(IF(Worksheet!$D$14,-1,0),0),IF(I1007=2,H1007*10^RANDBETWEEN(RANDBETWEEN(0,2),2),CHOOSE(RANDBETWEEN(1,3),5,10,20)))","v":1},{"$f":"IF(I1007=1,D1007,IF(I1007=3,\"%\",\"cm³\"))","v":"litres"},{"$f":"RANDBETWEEN(1,MIN(9,C1007))","v":1},{"$f":"IF(AND(Worksheet!$D$12,RAND()<0.2),3,IF(RAND()<Worksheet!$D$10/100,1,2))","v":1},1,{"$f":"CONCATENATE(\" \",D1007)","v":" litres"},1000,"cm³"]
[{"$f":"IF(COUNTIF($B$1:B1008,TRUE)=COUNTIF($B$1:B1008,TRUE),\"\",COUNTIF($B$1:B1008,TRUE))","v":""},{"$f":"Worksheet!$B$28","v":true},{"$f":"RANDBETWEEN(5,20)","v":9},"°C","±",{"$f":"IF(I1008=1,H1008*10^RANDBETWEEN(IF(Worksheet!$D$14,-1,0),0),IF(I1008=2,H1008,CHOOSE(RANDBETWEEN(1,3),5,10,20)))","v":1},{"$f":"IF(I1008=1,D1008,IF(I1008=3,\"%\",\"sec\"))","v":"°C"},{"$f":"RANDBETWEEN(1,MIN(9,C1008))","v":1},{"$f":"IF(AND(Worksheet!$D$12,RAND()<0),3,IF(RAND()<Worksheet!$D$10/100,1,2))","v":1},{"$f":"IF(I1008=1,F1008,IF(I1008=2,F1008,IF(I1008=3,F1008/100*C1008,\"\")))","v":1},{"$f":"CONCATENATE(\" \",D1008)","v":" °C"},{"$f":"IF(I1008=1,F1008,IF(I1008=2,F1008,IF(I1008=3,F1008/100*C1008,\"\")))","v":1}," °C"]
[{"$f":"COUNTIF($B$1:B1009,TRUE)","v":785},{"$f":"Worksheet!$B$20","v":true},{"$f":"RANDBETWEEN(5,RANDBETWEEN(5,Worksheet!$D$8))","v":149},"cm","±",{"$f":"IF(I1009=1,H1009*10^RANDBETWEEN(IF(Worksheet!$D$14,-1,0),0),IF(I1009=2,H1009,CHOOSE(RANDBETWEEN(1,3),5,10,20)))","v":0.30000000000000004},{"$f":"IF(I1009=1,D1009,IF(I1009=3,\"%\",\"mm\"))","v":"cm"},{"$f":"RANDBETWEEN(1,MIN(9,C1009))","v":3},{"$f":"IF(AND(Worksheet!$D$12,RAND()<0.2),3,IF(RAND()<Worksheet!$D$10/100,1,2))","v":1},{"$f":"IF(I1009=1,F1009,IF(I1009=2,F1009/10,IF(I1009=3,F1009/100*C1009,\"\")))","v":0.30000000000000004},{"$f":"CONCATENATE(\" \",D1009)","v":" cm"},{"$f":"IF(I1009=1,F1009*10,IF(I1009=2,F1009,IF(I1009=3,F1009/100*C1009*10,\"\")))","v":3.0000000000000004},"mm"]
[{"$f":"IF(COUNTIF($B$1:B1010,TRUE)=COUNTIF($B$1:B1009,TRUE),\"\",COUNTIF($B$1:B1010,TRUE))","v":786},{"$f":"Worksheet!$B$22","v":true},{"$f":"RANDBETWEEN(5,RANDBETWEEN(5,Worksheet!$D$8))","v":36},"m","±",{"$f":"IF(I1010=1,H1010*10^RANDBETWEEN(IF(Worksheet!$D$14,-1,0),0),IF(I1010=2,H1010*10^RANDBETWEEN(RANDBETWEEN(0,1),1),CHOOSE(RANDBETWEEN(1,3),5,10,20)))","v":10},{"$f":"IF(I1010=1,D1010,IF(I1010=3,\"%\",\"cm\"))","v":"%"},{"$f":"RANDBETWEEN(1,MIN(9,C1010))","v":3},{"$f":"IF(AND(Worksheet!$D$12,RAND()<0.2),3,IF(RAND()<Worksheet!$D$10/100,1,2))","v":3},{"$f":"IF(I1010=1,F1010,IF(I1010=2,F1010/100,IF(I1010=3,F1010/100*C1010,\"\")))","v":3.6},{"$f":"CONCATENATE(\" \",D1010)","v":" m"},{"$f":"IF(I1010=1,F1010*100,IF(I1010=2,F1010,IF(I1010=3,F1010/100*C1010*100,\"\")))","v":360},"cm"]
[{"$f":"IF(COUNTIF($B$1:B1011,TRUE)=COUNTIF($B$1:B1010,TRUE),\"\",COUNTIF($B$1:B1011,TRUE))","v":787},{"$f":"Worksheet!$B$24","v":true},{"$f":"RANDBETWEEN(5,RANDBETWEEN(5,Worksheet!$D$8))","v":51},"km","±",{"$f":"IF(I1011=1,H1011*10^RANDBETWEEN(IF(Worksheet!$D$14,-1,0),0),IF(I1011=2,H1011*10^RANDBETWEEN(RANDBETWEEN(0,2),2),CHOOSE(RANDBETWEEN(1,3),5,10,20)))","v":8},{"$f":"IF(I1011=1,D1011,IF(I1011=3,\"%\",\"m\"))","v":"km"},8,{"$f":"IF(AND(Worksheet!$D$12,RAND()<0.2),3,IF(RAND()<Worksheet!$D$10/100,1,2))","v":1},{"$f":"IF(I1011=1,F1011,IF(I1011=2,F1011/1000,IF(I1011=3,F1011/100*C1011,\"\")))","v":8}," km",{"$f":"IF(I1011=1,F1011*1000,IF(I1011=2,F1011,IF(I1011=3,F1011/100*C1011*1000,\"\")))","v":8000},"m"]
[{"$f":"IF(COUNTIF($B$1:B1012,TRUE)=COUNTIF($B$1:B1011,TRUE),\"\",COUNTIF($B$1:B1012,TRUE))","v":""},{"$f":"Worksheet!$B$26","v":false},{"$f":"RANDBETWEEN(5,RANDBETWEEN(5,Worksheet!$D$8))","v":15},"m","±",{"$f":"IF(I1012=1,H1012*10^RANDBETWEEN(IF(Worksheet!$D$14,-1,0),0),IF(I1012=2,H1012*10^RANDBETWEEN(RANDBETWEEN(0,2),2),CHOOSE(RANDBETWEEN(1,3),5,10,20)))","v":900},{"$f":"IF(I1012=1,D1012,IF(I1012=3,\"%\",\"mm\"))","v":"mm"},9,{"$f":"IF(AND(Worksheet!$D$12,RAND()<0.2),3,IF(RAND()<Worksheet!$D$10/100,1,2))","v":2},0.9," m",900,"mm"]
[{"$f":"IF(COUNTIF($B$1:B1013,TRUE)=COUNTIF($B$1:B1012,TRUE),\"\",COUNTIF($B$1:B1013,TRUE))","v":788},{"$f":"Worksheet!$D$20","v":true},{"$f":"RANDBETWEEN(5,RANDBETWEEN(5,Worksheet!$D$8))","v":24},"kg","±",{"$f":"IF(I1013=1,H1013*10^RANDBETWEEN(IF(Worksheet!$D$14,-1,0),0),IF(I1013=2,H1013*10^RANDBETWEEN(RANDBETWEEN(0,2),2),CHOOSE(RANDBETWEEN(1,3),5,10,20)))","v":4},{"$f":"IF(I1013=1,D1013,IF(I1013=3,\"%\",\"g\"))","v":"kg"},{"$f":"RANDBETWEEN(1,MIN(9,C1013))","v":4},{"$f":"IF(AND(Worksheet!$D$12,RAND()<0.2),3,IF(RAND()<Worksheet!$D$10/100,1,2))","v":1},4,{"$f":"CONCATENATE(\" \",D1013)","v":" kg"},4000,"g"]
[{"$f":"IF(COUNTIF($B$1:B1014,TRUE)=COUNTIF($B$1:B1013,TRUE),\"\",COUNTIF($B$1:B1014,TRUE))","v":789},{"$f":"Worksheet!$D$22","v":true},{"$f":"RANDBETWEEN(5,RANDBETWEEN(5,Worksheet!$D$8))","v":5},"tonnes","±",{"$f":"IF(I1014=1,H1014*10^RANDBETWEEN(IF(Worksheet!$D$14,-1,0),0),IF(I1014=2,H1014*10^RANDBETWEEN(RANDBETWEEN(0,2),2),CHOOSE(RANDBETWEEN(1,3),5,10,20)))","v":400},{"$f":"IF(I1014=1,D1014,IF(I1014=3,\"%\",\"kg\"))","v":"kg"},{"$f":"RANDBETWEEN(1,MIN(9,C1014))","v":4},{"$f":"IF(AND(Worksheet!$D$12,RAND()<0.2),3,IF(RAND()<Worksheet!$D$10/100,1,2))","v":2},0.4,{"$f":"CONCATENATE(\" \",D1014)","v":" tonnes"},400,"kg"]
[{"$f":"IF(COUNTIF($B$1:B1015,TRUE)=COUNTIF($B$1:B1014,TRUE),\"\",COUNTIF($B$1:B1015,TRUE))","v":790},{"$f":"Worksheet!$D$24","v":true},{"$f":"RANDBETWEEN(5,RANDBETWEEN(5,Worksheet!$D$8))","v":69},"litres","±",{"$f":"IF(I1015=1,H1015*10^RANDBETWEEN(IF(Worksheet!$D$14,-1,0),0),IF(I1015=2,H1015*10^RANDBETWEEN(RANDBETWEEN(0,2),2),CHOOSE(RANDBETWEEN(1,3),5,10,20)))","v":900},{"$f":"IF(I1015=1,D1015,IF(I1015=3,\"%\",\"ml\"))","v":"ml"},{"$f":"RANDBETWEEN(1,MIN(9,C1015))","v":9},{"$f":"IF(AND(Worksheet!$D$12,RAND()<0.2),3,IF(RAND()<Worksheet!$D$10/100,1,2))","v":2},0.9,{"$f":"CONCATENATE(\" \",D1015)","v":" litres"},900,"ml"]
[{"$f":"IF(COUNTIF($B$1:B1016,TRUE)=COUNTIF($B$1:B1015,TRUE),\"\",COUNTIF($B$1:B1016,TRUE))","v":""},{"$f":"Worksheet!$D$26","v":false},{"$f":"RANDBETWEEN(5,RANDBETWEEN(5,Worksheet!$D$8))","v":29},"litres","±",{"$f":"IF(I1016=1,H1016*10^RANDBETWEEN(IF(Worksheet!$D$14,-1,0),0),IF(I1016=2,H1016*10^RANDBETWEEN(RANDBETWEEN(0,2),2),CHOOSE(RANDBETWEEN(1,3),5,10,20)))","v":0.9},{"$f":"IF(I1016=1,D1016,IF(I1016=3,\"%\",\"cm³\"))","v":"litres"},{"$f":"RANDBETWEEN(1,MIN(9,C1016))","v":9},{"$f":"IF(AND(Worksheet!$D$12,RAND()<0.2),3,IF(RAND()<Worksheet!$D$10/100,1,2))","v":1},0.9,{"$f":"CONCATENATE(\" \",D1016)","v":" litres"},900,"cm³"]
[{"$f":"IF(COUNTIF($B$1:B1017,TRUE)=COUNTIF($B$1:B1017,TRUE),\"\",COUNTIF($B$1:B1017,TRUE))","v":""},{"$f":"Worksheet!$B$28","v":true},{"$f":"RANDBETWEEN(5,20)","v":15},"°C","±",{"$f":"IF(I1017=1,H1017*10^RANDBETWEEN(IF(Worksheet!$D$14,-1,0),0),IF(I1017=2,H1017,CHOOSE(RANDBETWEEN(1,3),5,10,20)))","v":7},{"$f":"IF(I1017=1,D1017,IF(I1017=3,\"%\",\"sec\"))","v":"°C"},{"$f":"RANDBETWEEN(1,MIN(9,C1017))","v":7},{"$f":"IF(AND(Worksheet!$D$12,RAND()<0),3,IF(RAND()<Worksheet!$D$10/100,1,2))","v":1},{"$f":"IF(I1017=1,F1017,IF(I1017=2,F1017,IF(I1017=3,F1017/100*C1017,\"\")))","v":7},{"$f":"CONCATENATE(\" \",D1017)","v":" °C"},{"$f":"IF(I1017=1,F1017,IF(I1017=2,F1017,IF(I1017=3,F1017/100*C1017,\"\")))","v":7}," °C"]
[{"$f":"COUNTIF($B$1:B1018,TRUE)","v":792},{"$f":"Worksheet!$B$20","v":true},{"$f":"RANDBETWEEN(5,RANDBETWEEN(5,Worksheet!$D$8))","v":100},"cm","±",{"$f":"IF(I1018=1,H1018*10^RANDBETWEEN(IF(Worksheet!$D$14,-1,0),0),IF(I1018=2,H1018,CHOOSE(RANDBETWEEN(1,3),5,10,20)))","v":3},{"$f":"IF(I1018=1,D1018,IF(I1018=3,\"%\",\"mm\"))","v":"mm"},{"$f":"RANDBETWEEN(1,MIN(9,C1018))","v":3},{"$f":"IF(AND(Worksheet!$D$12,RAND()<0.2),3,IF(RAND()<Worksheet!$D$10/100,1,2))","v":2},{"$f":"IF(I1018=1,F1018,IF(I1018=2,F1018/10,IF(I1018=3,F1018/100*C1018,\"\")))","v":0.3},{"$f":"CONCATENATE(\" \",D1018)","v":" cm"},{"$f":"IF(I1018=1,F1018*10,IF(I1018=2,F1018,IF(I1018=3,F1018/100*C1018*10,\"\")))","v":3},"mm"]
[{"$f":"IF(COUNTIF($B$1:B1019,TRUE)=COUNTIF($B$1:B1018,TRUE),\"\",COUNTIF($B$1:B1019,TRUE))","v":793},{"$f":"Worksheet!$B$22","v":true},{"$f":"RANDBETWEEN(5,RANDBETWEEN(5,Worksheet!$D$8))","v":31},"m","±",{"$f":"IF(I1019=1,H1019*10^RANDBETWEEN(IF(Worksheet!$D$14,-1,0),0),IF(I1019=2,H1019*10^RANDBETWEEN(RANDBETWEEN(0,1),1),CHOOSE(RANDBETWEEN(1,3),5,10,20)))","v":6},{"$f":"IF(I1019=1,D1019,IF(I1019=3,\"%\",\"cm\"))","v":"m"},{"$f":"RANDBETWEEN(1,MIN(9,C1019))","v":6},{"$f":"IF(AND(Worksheet!$D$12,RAND()<0.2),3,IF(RAND()<Worksheet!$D$10/100,1,2))","v":1},{"$f":"IF(I1019=1,F1019,IF(I1019=2,F1019/100,IF(I1019=3,F1019/100*C1019,\"\")))","v":6},{"$f":"CONCATENATE(\" \",D1019)","v":" m"},{"$f":"IF(I1019=1,F1019*100,IF(I1019=2,F1019,IF(I1019=3,F1019/100*C1019*100,\"\")))","v":600},"cm"]
[{"$f":"IF(COUNTIF($B$1:B1020,TRUE)=COUNTIF($B$1:B1019,TRUE),\"\",COUNTIF($B$1:B1020,TRUE))","v":794},{"$f":"Worksheet!$B$24","v":true},{"$f":"RANDBETWEEN(5,RANDBETWEEN(5,Worksheet!$D$8))","v":23},"km","±",{"$f":"IF(I1020=1,H1020*10^RANDBETWEEN(IF(Worksheet!$D$14,-1,0),0),IF(I1020=2,H1020*10^RANDBETWEEN(RANDBETWEEN(0,2),2),CHOOSE(RANDBETWEEN(1,3),5,10,20)))","v":5},{"$f":"IF(I1020=1,D1020,IF(I1020=3,\"%\",\"m\"))","v":"km"},5,{"$f":"IF(AND(Worksheet!$D$12,RAND()<0.2),3,IF(RAND()<Worksheet!$D$10/100,1,2))","v":1},{"$f":"IF(I1020=1,F1020,IF(I1020=2,F1020/1000,IF(I1020=3,F1020/100*C1020,\"\")))","v":5}," km",{"$f":"IF(I1020=1,F1020*1000,IF(I1020=2,F1020,IF(I1020=3,F1020/100*C1020*1000,\"\")))","v":5000},"m"]
[{"$f":"IF(COUNTIF($B$1:B1021,TRUE)=COUNTIF($B$1:B1020,TRUE),\"\",COUNTIF($B$1:B1021,TRUE))","v":""},{"$f":"Worksheet!$B$26","v":false},{"$f":"RANDBETWEEN(5,RANDBETWEEN(5,Worksheet!$D$8))","v":60},"m","±",{"$f":"IF(I1021=1,H1021*10^RANDBETWEEN(IF(Worksheet!$D$14,-1,0),0),IF(I1021=2,H1021*10^RANDBETWEEN(RANDBETWEEN(0,2),2),CHOOSE(RANDBETWEEN(1,3),5,10,20)))","v":0.5},{"$f":"IF(I1021=1,D1021,IF(I1021=3,\"%\",\"mm\"))","v":"m"},5,{"$f":"IF(AND(Worksheet!$D$12,RAND()<0.2),3,IF(RAND()<Worksheet!$D$10/100,1,2))","v":1},0.5," m",500,"mm"]
[{"$f":"IF(COUNTIF($B$1:B1022,TRUE)=COUNTIF($B$1:B1021,TRUE),\"\",COUNTIF($B$1:B1022,TRUE))","v":795},{"$f":"Worksheet!$D$20","v":true},{"$f":"RANDBETWEEN(5,RANDBETWEEN(5,Worksheet!$D$8))","v":19},"kg","±",{"$f":"IF(I1022=1,H1022*10^RANDBETWEEN(IF(Worksheet!$D$14,-1,0),0),IF(I1022=2,H1022*10^RANDBETWEEN(RANDBETWEEN(0,2),2),CHOOSE(RANDBETWEEN(1,3),5,10,20)))","v":5},{"$f":"IF(I1022=1,D1022,IF(I1022=3,\"%\",\"g\"))","v":"%"},{"$f":"RANDBETWEEN(1,MIN(9,C1022))","v":5},{"$f":"IF(AND(Worksheet!$D$12,RAND()<0.2),3,IF(RAND()<Worksheet!$D$10/100,1,2))","v":3},0.95000000000000007,{"$f":"CONCATENATE(\" \",D1022)","v":" kg"},950.00000000000011,"g"]
[{"$f":"IF(COUNTIF($B$1:B1023,TRUE)=COUNTIF($B$1:B1022,TRUE),\"\",COUNTIF($B$1:B1023,TRUE))","v":796},{"$f":"Worksheet!$D$22","v":true},{"$f":"RANDBETWEEN(5,RANDBETWEEN(5,Worksheet!$D$8))","v":83},"tonnes","±",{"$f":"IF(I1023=1,H1023*10^RANDBETWEEN(IF(Worksheet!$D$14,-1,0),0),IF(I1023=2,H1023*10^RANDBETWEEN(RANDBETWEEN(0,2),2),CHOOSE(RANDBETWEEN(1,3),5,10,20)))","v":100},{"$f":"IF(I1023=1,D1023,IF(I1023=3,\"%\",\"kg\"))","v":"kg"},{"$f":"RANDBETWEEN(1,MIN(9,C1023))","v":1},{"$f":"IF(AND(Worksheet!$D$12,RAND()<0.2),3,IF(RAND()<Worksheet!$D$10/100,1,2))","v":2},0.1,{"$f":"CONCATENATE(\" \",D1023)","v":" tonnes"},100,"kg"]
[{"$f":"IF(COUNTIF($B$1:B1024,TRUE)=COUNTIF($B$1:B1023,TRUE),\"\",COUNTIF($B$1:B1024,TRUE))","v":797},{"$f":"Worksheet!$D$24","v":true},{"$f":"RANDBETWEEN(5,RANDBETWEEN(5,Worksheet!$D$8))","v":85},"litres","±",{"$f":"IF(I1024=1,H1024*10^RANDBETWEEN(IF(Worksheet!$D$14,-1,0),0),IF(I1024=2,H1024*10^RANDBETWEEN(RANDBETWEEN(0,2),2),CHOOSE(RANDBETWEEN(1,3),5,10,20)))","v":300},{"$f":"IF(I1024=1,D1024,IF(I1024=3,\"%\",\"ml\"))","v":"ml"},{"$f":"RANDBETWEEN(1,MIN(9,C1024))","v":3},{"$f":"IF(AND(Worksheet!$D$12,RAND()<0.2),3,IF(RAND()<Worksheet!$D$10/100,1,2))","v":2},0.3,{"$f":"CONCATENATE(\" \",D1024)","v":" litres"},300,"ml"]
[{"$f":"IF(COUNTIF($B$1:B1025,TRUE)=COUNTIF($B$1:B1024,TRUE),\"\",COUNTIF($B$1:B1025,TRUE))","v":""},{"$f":"Worksheet!$D$26","v":false},{"$f":"RANDBETWEEN(5,RANDBETWEEN(5,Worksheet!$D$8))","v":32},"litres","±",{"$f":"IF(I1025=1,H1025*10^RANDBETWEEN(IF(Worksheet!$D$14,-1,0),0),IF(I1025=2,H1025*10^RANDBETWEEN(RANDBETWEEN(0,2),2),CHOOSE(RANDBETWEEN(1,3),5,10,20)))","v":20},{"$f":"IF(I1025=1,D1025,IF(I1025=3,\"%\",\"cm³\"))","v":"%"},{"$f":"RANDBETWEEN(1,MIN(9,C1025))","v":4},{"$f":"IF(AND(Worksheet!$D$12,RAND()<0.2),3,IF(RAND()<Worksheet!$D$10/100,1,2))","v":3},6.4,{"$f":"CONCATENATE(\" \",D1025)","v":" litres"},6400,"cm³"]
[{"$f":"IF(COUNTIF($B$1:B1026,TRUE)=COUNTIF($B$1:B1026,TRUE),\"\",COUNTIF($B$1:B1026,TRUE))","v":""},{"$f":"Worksheet!$B$28","v":true},{"$f":"RANDBETWEEN(5,20)","v":16},"°C","±",{"$f":"IF(I1026=1,H1026*10^RANDBETWEEN(IF(Worksheet!$D$14,-1,0),0),IF(I1026=2,H1026,CHOOSE(RANDBETWEEN(1,3),5,10,20)))","v":0.70000000000000007},{"$f":"IF(I1026=1,D1026,IF(I1026=3,\"%\",\"sec\"))","v":"°C"},{"$f":"RANDBETWEEN(1,MIN(9,C1026))","v":7},{"$f":"IF(AND(Worksheet!$D$12,RAND()<0),3,IF(RAND()<Worksheet!$D$10/100,1,2))","v":1},{"$f":"IF(I1026=1,F1026,IF(I1026=2,F1026,IF(I1026=3,F1026/100*C1026,\"\")))","v":0.70000000000000007},{"$f":"CONCATENATE(\" \",D1026)","v":" °C"},{"$f":"IF(I1026=1,F1026,IF(I1026=2,F1026,IF(I1026=3,F1026/100*C1026,\"\")))","v":0.70000000000000007}," °C"]
[{"$f":"COUNTIF($B$1:B1027,TRUE)","v":799},{"$f":"Worksheet!$B$20","v":true},{"$f":"RANDBETWEEN(5,RANDBETWEEN(5,Worksheet!$D$8))","v":18},"cm","±",{"$f":"IF(I1027=1,H1027*10^RANDBETWEEN(IF(Worksheet!$D$14,-1,0),0),IF(I1027=2,H1027,CHOOSE(RANDBETWEEN(1,3),5,10,20)))","v":7},{"$f":"IF(I1027=1,D1027,IF(I1027=3,\"%\",\"mm\"))","v":"cm"},{"$f":"RANDBETWEEN(1,MIN(9,C1027))","v":7},{"$f":"IF(AND(Worksheet!$D$12,RAND()<0.2),3,IF(RAND()<Worksheet!$D$10/100,1,2))","v":1},{"$f":"IF(I1027=1,F1027,IF(I1027=2,F1027/10,IF(I1027=3,F1027/100*C1027,\"\")))","v":7},{"$f":"CONCATENATE(\" \",D1027)","v":" cm"},{"$f":"IF(I1027=1,F1027*10,IF(I1027=2,F1027,IF(I1027=3,F1027/100*C1027*10,\"\")))","v":70},"mm"]
[{"$f":"IF(COUNTIF($B$1:B1028,TRUE)=COUNTIF($B$1:B1027,TRUE),\"\",COUNTIF($B$1:B1028,TRUE))","v":800},{"$f":"Worksheet!$B$22","v":true},{"$f":"RANDBETWEEN(5,RANDBETWEEN(5,Worksheet!$D$8))","v":21},"m","±",{"$f":"IF(I1028=1,H1028*10^RANDBETWEEN(IF(Worksheet!$D$14,-1,0),0),IF(I1028=2,H1028*10^RANDBETWEEN(RANDBETWEEN(0,1),1),CHOOSE(RANDBETWEEN(1,3),5,10,20)))","v":7},{"$f":"IF(I1028=1,D1028,IF(I1028=3,\"%\",\"cm\"))","v":"cm"},{"$f":"RANDBETWEEN(1,MIN(9,C1028))","v":7},{"$f":"IF(AND(Worksheet!$D$12,RAND()<0.2),3,IF(RAND()<Worksheet!$D$10/100,1,2))","v":2},{"$f":"IF(I1028=1,F1028,IF(I1028=2,F1028/100,IF(I1028=3,F1028/100*C1028,\"\")))","v":7.0000000000000007E-2},{"$f":"CONCATENATE(\" \",D1028)","v":" m"},{"$f":"IF(I1028=1,F1028*100,IF(I1028=2,F1028,IF(I1028=3,F1028/100*C1028*100,\"\")))","v":7},"cm"]
[{"$f":"IF(COUNTIF($B$1:B1029,TRUE)=COUNTIF($B$1:B1028,TRUE),\"\",COUNTIF($B$1:B1029,TRUE))","v":801},{"$f":"Worksheet!$B$24","v":true},{"$f":"RANDBETWEEN(5,RANDBETWEEN(5,Worksheet!$D$8))","v":141},"km","±",{"$f":"IF(I1029=1,H1029*10^RANDBETWEEN(IF(Worksheet!$D$14,-1,0),0),IF(I1029=2,H1029*10^RANDBETWEEN(RANDBETWEEN(0,2),2),CHOOSE(RANDBETWEEN(1,3),5,10,20)))","v":0.70000000000000007},{"$f":"IF(I1029=1,D1029,IF(I1029=3,\"%\",\"m\"))","v":"km"},7,{"$f":"IF(AND(Worksheet!$D$12,RAND()<0.2),3,IF(RAND()<Worksheet!$D$10/100,1,2))","v":1},{"$f":"IF(I1029=1,F1029,IF(I1029=2,F1029/1000,IF(I1029=3,F1029/100*C1029,\"\")))","v":0.70000000000000007}," km",{"$f":"IF(I1029=1,F1029*1000,IF(I1029=2,F1029,IF(I1029=3,F1029/100*C1029*1000,\"\")))","v":700.00000000000011},"m"]
[{"$f":"IF(COUNTIF($B$1:B1030,TRUE)=COUNTIF($B$1:B1029,TRUE),\"\",COUNTIF($B$1:B1030,TRUE))","v":""},{"$f":"Worksheet!$B$26","v":false},{"$f":"RANDBETWEEN(5,RANDBETWEEN(5,Worksheet!$D$8))","v":154},"m","±",{"$f":"IF(I1030=1,H1030*10^RANDBETWEEN(IF(Worksheet!$D$14,-1,0),0),IF(I1030=2,H1030*10^RANDBETWEEN(RANDBETWEEN(0,2),2),CHOOSE(RANDBETWEEN(1,3),5,10,20)))","v":5},{"$f":"IF(I1030=1,D1030,IF(I1030=3,\"%\",\"mm\"))","v":"%"},6,{"$f":"IF(AND(Worksheet!$D$12,RAND()<0.2),3,IF(RAND()<Worksheet!$D$10/100,1,2))","v":3},7.7," m",7700,"mm"]
[{"$f":"IF(COUNTIF($B$1:B1031,TRUE)=COUNTIF($B$1:B1030,TRUE),\"\",COUNTIF($B$1:B1031,TRUE))","v":802},{"$f":"Worksheet!$D$20","v":true},{"$f":"RANDBETWEEN(5,RANDBETWEEN(5,Worksheet!$D$8))","v":12},"kg","±",{"$f":"IF(I1031=1,H1031*10^RANDBETWEEN(IF(Worksheet!$D$14,-1,0),0),IF(I1031=2,H1031*10^RANDBETWEEN(RANDBETWEEN(0,2),2),CHOOSE(RANDBETWEEN(1,3),5,10,20)))","v":2},{"$f":"IF(I1031=1,D1031,IF(I1031=3,\"%\",\"g\"))","v":"kg"},{"$f":"RANDBETWEEN(1,MIN(9,C1031))","v":2},{"$f":"IF(AND(Worksheet!$D$12,RAND()<0.2),3,IF(RAND()<Worksheet!$D$10/100,1,2))","v":1},2,{"$f":"CONCATENATE(\" \",D1031)","v":" kg"},2000,"g"]
[{"$f":"IF(COUNTIF($B$1:B1032,TRUE)=COUNTIF($B$1:B1031,TRUE),\"\",COUNTIF($B$1:B1032,TRUE))","v":803},{"$f":"Worksheet!$D$22","v":true},{"$f":"RANDBETWEEN(5,RANDBETWEEN(5,Worksheet!$D$8))","v":48},"tonnes","±",{"$f":"IF(I1032=1,H1032*10^RANDBETWEEN(IF(Worksheet!$D$14,-1,0),0),IF(I1032=2,H1032*10^RANDBETWEEN(RANDBETWEEN(0,2),2),CHOOSE(RANDBETWEEN(1,3),5,10,20)))","v":20},{"$f":"IF(I1032=1,D1032,IF(I1032=3,\"%\",\"kg\"))","v":"%"},{"$f":"RANDBETWEEN(1,MIN(9,C1032))","v":9},{"$f":"IF(AND(Worksheet!$D$12,RAND()<0.2),3,IF(RAND()<Worksheet!$D$10/100,1,2))","v":3},9.6000000000000014,{"$f":"CONCATENATE(\" \",D1032)","v":" tonnes"},9600.0000000000018,"kg"]
[{"$f":"IF(COUNTIF($B$1:B1033,TRUE)=COUNTIF($B$1:B1032,TRUE),\"\",COUNTIF($B$1:B1033,TRUE))","v":804},{"$f":"Worksheet!$D$24","v":true},{"$f":"RANDBETWEEN(5,RANDBETWEEN(5,Worksheet!$D$8))","v":140},"litres","±",{"$f":"IF(I1033=1,H1033*10^RANDBETWEEN(IF(Worksheet!$D$14,-1,0),0),IF(I1033=2,H1033*10^RANDBETWEEN(RANDBETWEEN(0,2),2),CHOOSE(RANDBETWEEN(1,3),5,10,20)))","v":5},{"$f":"IF(I1033=1,D1033,IF(I1033=3,\"%\",\"ml\"))","v":"litres"},{"$f":"RANDBETWEEN(1,MIN(9,C1033))","v":5},{"$f":"IF(AND(Worksheet!$D$12,RAND()<0.2),3,IF(RAND()<Worksheet!$D$10/100,1,2))","v":1},5,{"$f":"CONCATENATE(\" \",D1033)","v":" litres"},5000,"ml"]
[{"$f":"IF(COUNTIF($B$1:B1034,TRUE)=COUNTIF($B$1:B1033,TRUE),\"\",COUNTIF($B$1:B1034,TRUE))","v":""},{"$f":"Worksheet!$D$26","v":false},{"$f":"RANDBETWEEN(5,RANDBETWEEN(5,Worksheet!$D$8))","v":9},"litres","±",{"$f":"IF(I1034=1,H1034*10^RANDBETWEEN(IF(Worksheet!$D$14,-1,0),0),IF(I1034=2,H1034*10^RANDBETWEEN(RANDBETWEEN(0,2),2),CHOOSE(RANDBETWEEN(1,3),5,10,20)))","v":3},{"$f":"IF(I1034=1,D1034,IF(I1034=3,\"%\",\"cm³\"))","v":"cm³"},{"$f":"RANDBETWEEN(1,MIN(9,C1034))","v":3},{"$f":"IF(AND(Worksheet!$D$12,RAND()<0.2),3,IF(RAND()<Worksheet!$D$10/100,1,2))","v":2},3.0000000000000001E-3,{"$f":"CONCATENATE(\" \",D1034)","v":" litres"},3,"cm³"]
[{"$f":"IF(COUNTIF($B$1:B1035,TRUE)=COUNTIF($B$1:B1035,TRUE),\"\",COUNTIF($B$1:B1035,TRUE))","v":""},{"$f":"Worksheet!$B$28","v":true},{"$f":"RANDBETWEEN(5,20)","v":7},"°C","±",{"$f":"IF(I1035=1,H1035*10^RANDBETWEEN(IF(Worksheet!$D$14,-1,0),0),IF(I1035=2,H1035,CHOOSE(RANDBETWEEN(1,3),5,10,20)))","v":1},{"$f":"IF(I1035=1,D1035,IF(I1035=3,\"%\",\"sec\"))","v":"°C"},{"$f":"RANDBETWEEN(1,MIN(9,C1035))","v":1},{"$f":"IF(AND(Worksheet!$D$12,RAND()<0),3,IF(RAND()<Worksheet!$D$10/100,1,2))","v":1},{"$f":"IF(I1035=1,F1035,IF(I1035=2,F1035,IF(I1035=3,F1035/100*C1035,\"\")))","v":1},{"$f":"CONCATENATE(\" \",D1035)","v":" °C"},{"$f":"IF(I1035=1,F1035,IF(I1035=2,F1035,IF(I1035=3,F1035/100*C1035,\"\")))","v":1}," °C"]
[{"$f":"COUNTIF($B$1:B1036,TRUE)","v":806},{"$f":"Worksheet!$B$20","v":true},{"$f":"RANDBETWEEN(5,RANDBETWEEN(5,Worksheet!$D$8))","v":31},"cm","±",{"$f":"IF(I1036=1,H1036*10^RANDBETWEEN(IF(Worksheet!$D$14,-1,0),0),IF(I1036=2,H1036,CHOOSE(RANDBETWEEN(1,3),5,10,20)))","v":2},{"$f":"IF(I1036=1,D1036,IF(I1036=3,\"%\",\"mm\"))","v":"mm"},{"$f":"RANDBETWEEN(1,MIN(9,C1036))","v":2},{"$f":"IF(AND(Worksheet!$D$12,RAND()<0.2),3,IF(RAND()<Worksheet!$D$10/100,1,2))","v":2},{"$f":"IF(I1036=1,F1036,IF(I1036=2,F1036/10,IF(I1036=3,F1036/100*C1036,\"\")))","v":0.2},{"$f":"CONCATENATE(\" \",D1036)","v":" cm"},{"$f":"IF(I1036=1,F1036*10,IF(I1036=2,F1036,IF(I1036=3,F1036/100*C1036*10,\"\")))","v":2},"mm"]
[{"$f":"IF(COUNTIF($B$1:B1037,TRUE)=COUNTIF($B$1:B1036,TRUE),\"\",COUNTIF($B$1:B1037,TRUE))","v":807},{"$f":"Worksheet!$B$22","v":true},{"$f":"RANDBETWEEN(5,RANDBETWEEN(5,Worksheet!$D$8))","v":17},"m","±",{"$f":"IF(I1037=1,H1037*10^RANDBETWEEN(IF(Worksheet!$D$14,-1,0),0),IF(I1037=2,H1037*10^RANDBETWEEN(RANDBETWEEN(0,1),1),CHOOSE(RANDBETWEEN(1,3),5,10,20)))","v":0.60000000000000009},{"$f":"IF(I1037=1,D1037,IF(I1037=3,\"%\",\"cm\"))","v":"m"},{"$f":"RANDBETWEEN(1,MIN(9,C1037))","v":6},{"$f":"IF(AND(Worksheet!$D$12,RAND()<0.2),3,IF(RAND()<Worksheet!$D$10/100,1,2))","v":1},{"$f":"IF(I1037=1,F1037,IF(I1037=2,F1037/100,IF(I1037=3,F1037/100*C1037,\"\")))","v":0.60000000000000009},{"$f":"CONCATENATE(\" \",D1037)","v":" m"},{"$f":"IF(I1037=1,F1037*100,IF(I1037=2,F1037,IF(I1037=3,F1037/100*C1037*100,\"\")))","v":60.000000000000007},"cm"]
[{"$f":"IF(COUNTIF($B$1:B1038,TRUE)=COUNTIF($B$1:B1037,TRUE),\"\",COUNTIF($B$1:B1038,TRUE))","v":808},{"$f":"Worksheet!$B$24","v":true},{"$f":"RANDBETWEEN(5,RANDBETWEEN(5,Worksheet!$D$8))","v":8},"km","±",{"$f":"IF(I1038=1,H1038*10^RANDBETWEEN(IF(Worksheet!$D$14,-1,0),0),IF(I1038=2,H1038*10^RANDBETWEEN(RANDBETWEEN(0,2),2),CHOOSE(RANDBETWEEN(1,3),5,10,20)))","v":20},{"$f":"IF(I1038=1,D1038,IF(I1038=3,\"%\",\"m\"))","v":"%"},2,{"$f":"IF(AND(Worksheet!$D$12,RAND()<0.2),3,IF(RAND()<Worksheet!$D$10/100,1,2))","v":3},{"$f":"IF(I1038=1,F1038,IF(I1038=2,F1038/1000,IF(I1038=3,F1038/100*C1038,\"\")))","v":1.6}," km",{"$f":"IF(I1038=1,F1038*1000,IF(I1038=2,F1038,IF(I1038=3,F1038/100*C1038*1000,\"\")))","v":1600},"m"]
[{"$f":"IF(COUNTIF($B$1:B1039,TRUE)=COUNTIF($B$1:B1038,TRUE),\"\",COUNTIF($B$1:B1039,TRUE))","v":""},{"$f":"Worksheet!$B$26","v":false},{"$f":"RANDBETWEEN(5,RANDBETWEEN(5,Worksheet!$D$8))","v":97},"m","±",{"$f":"IF(I1039=1,H1039*10^RANDBETWEEN(IF(Worksheet!$D$14,-1,0),0),IF(I1039=2,H1039*10^RANDBETWEEN(RANDBETWEEN(0,2),2),CHOOSE(RANDBETWEEN(1,3),5,10,20)))","v":20},{"$f":"IF(I1039=1,D1039,IF(I1039=3,\"%\",\"mm\"))","v":"%"},8,{"$f":"IF(AND(Worksheet!$D$12,RAND()<0.2),3,IF(RAND()<Worksheet!$D$10/100,1,2))","v":3},19.400000000000002," m",19400.000000000004,"mm"]
[{"$f":"IF(COUNTIF($B$1:B1040,TRUE)=COUNTIF($B$1:B1039,TRUE),\"\",COUNTIF($B$1:B1040,TRUE))","v":809},{"$f":"Worksheet!$D$20","v":true},{"$f":"RANDBETWEEN(5,RANDBETWEEN(5,Worksheet!$D$8))","v":61},"kg","±",{"$f":"IF(I1040=1,H1040*10^RANDBETWEEN(IF(Worksheet!$D$14,-1,0),0),IF(I1040=2,H1040*10^RANDBETWEEN(RANDBETWEEN(0,2),2),CHOOSE(RANDBETWEEN(1,3),5,10,20)))","v":20},{"$f":"IF(I1040=1,D1040,IF(I1040=3,\"%\",\"g\"))","v":"g"},{"$f":"RANDBETWEEN(1,MIN(9,C1040))","v":2},{"$f":"IF(AND(Worksheet!$D$12,RAND()<0.2),3,IF(RAND()<Worksheet!$D$10/100,1,2))","v":2},0.02,{"$f":"CONCATENATE(\" \",D1040)","v":" kg"},20,"g"]
[{"$f":"IF(COUNTIF($B$1:B1041,TRUE)=COUNTIF($B$1:B1040,TRUE),\"\",COUNTIF($B$1:B1041,TRUE))","v":810},{"$f":"Worksheet!$D$22","v":true},{"$f":"RANDBETWEEN(5,RANDBETWEEN(5,Worksheet!$D$8))","v":11},"tonnes","±",{"$f":"IF(I1041=1,H1041*10^RANDBETWEEN(IF(Worksheet!$D$14,-1,0),0),IF(I1041=2,H1041*10^RANDBETWEEN(RANDBETWEEN(0,2),2),CHOOSE(RANDBETWEEN(1,3),5,10,20)))","v":3},{"$f":"IF(I1041=1,D1041,IF(I1041=3,\"%\",\"kg\"))","v":"tonnes"},{"$f":"RANDBETWEEN(1,MIN(9,C1041))","v":3},{"$f":"IF(AND(Worksheet!$D$12,RAND()<0.2),3,IF(RAND()<Worksheet!$D$10/100,1,2))","v":1},3,{"$f":"CONCATENATE(\" \",D1041)","v":" tonnes"},3000,"kg"]
[{"$f":"IF(COUNTIF($B$1:B1042,TRUE)=COUNTIF($B$1:B1041,TRUE),\"\",COUNTIF($B$1:B1042,TRUE))","v":811},{"$f":"Worksheet!$D$24","v":true},{"$f":"RANDBETWEEN(5,RANDBETWEEN(5,Worksheet!$D$8))","v":24},"litres","±",{"$f":"IF(I1042=1,H1042*10^RANDBETWEEN(IF(Worksheet!$D$14,-1,0),0),IF(I1042=2,H1042*10^RANDBETWEEN(RANDBETWEEN(0,2),2),CHOOSE(RANDBETWEEN(1,3),5,10,20)))","v":70},{"$f":"IF(I1042=1,D1042,IF(I1042=3,\"%\",\"ml\"))","v":"ml"},{"$f":"RANDBETWEEN(1,MIN(9,C1042))","v":7},{"$f":"IF(AND(Worksheet!$D$12,RAND()<0.2),3,IF(RAND()<Worksheet!$D$10/100,1,2))","v":2},7.0000000000000007E-2,{"$f":"CONCATENATE(\" \",D1042)","v":" litres"},70,"ml"]
[{"$f":"IF(COUNTIF($B$1:B1043,TRUE)=COUNTIF($B$1:B1042,TRUE),\"\",COUNTIF($B$1:B1043,TRUE))","v":""},{"$f":"Worksheet!$D$26","v":false},{"$f":"RANDBETWEEN(5,RANDBETWEEN(5,Worksheet!$D$8))","v":50},"litres","±",{"$f":"IF(I1043=1,H1043*10^RANDBETWEEN(IF(Worksheet!$D$14,-1,0),0),IF(I1043=2,H1043*10^RANDBETWEEN(RANDBETWEEN(0,2),2),CHOOSE(RANDBETWEEN(1,3),5,10,20)))","v":10},{"$f":"IF(I1043=1,D1043,IF(I1043=3,\"%\",\"cm³\"))","v":"%"},{"$f":"RANDBETWEEN(1,MIN(9,C1043))","v":3},{"$f":"IF(AND(Worksheet!$D$12,RAND()<0.2),3,IF(RAND()<Worksheet!$D$10/100,1,2))","v":3},5,{"$f":"CONCATENATE(\" \",D1043)","v":" litres"},5000,"cm³"]
[{"$f":"IF(COUNTIF($B$1:B1044,TRUE)=COUNTIF($B$1:B1044,TRUE),\"\",COUNTIF($B$1:B1044,TRUE))","v":""},{"$f":"Worksheet!$B$28","v":true},{"$f":"RANDBETWEEN(5,20)","v":11},"°C","±",{"$f":"IF(I1044=1,H1044*10^RANDBETWEEN(IF(Worksheet!$D$14,-1,0),0),IF(I1044=2,H1044,CHOOSE(RANDBETWEEN(1,3),5,10,20)))","v":7},{"$f":"IF(I1044=1,D1044,IF(I1044=3,\"%\",\"sec\"))","v":"°C"},{"$f":"RANDBETWEEN(1,MIN(9,C1044))","v":7},{"$f":"IF(AND(Worksheet!$D$12,RAND()<0),3,IF(RAND()<Worksheet!$D$10/100,1,2))","v":1},{"$f":"IF(I1044=1,F1044,IF(I1044=2,F1044,IF(I1044=3,F1044/100*C1044,\"\")))","v":7},{"$f":"CONCATENATE(\" \",D1044)","v":" °C"},{"$f":"IF(I1044=1,F1044,IF(I1044=2,F1044,IF(I1044=3,F1044/100*C1044,\"\")))","v":7}," °C"]
[{"$f":"COUNTIF($B$1:B1045,TRUE)","v":813},{"$f":"Worksheet!$B$20","v":true},{"$f":"RANDBETWEEN(5,RANDBETWEEN(5,Worksheet!$D$8))","v":102},"cm","±",{"$f":"IF(I1045=1,H1045*10^RANDBETWEEN(IF(Worksheet!$D$14,-1,0),0),IF(I1045=2,H1045,CHOOSE(RANDBETWEEN(1,3),5,10,20)))","v":7},{"$f":"IF(I1045=1,D1045,IF(I1045=3,\"%\",\"mm\"))","v":"mm"},{"$f":"RANDBETWEEN(1,MIN(9,C1045))","v":7},{"$f":"IF(AND(Worksheet!$D$12,RAND()<0.2),3,IF(RAND()<Worksheet!$D$10/100,1,2))","v":2},{"$f":"IF(I1045=1,F1045,IF(I1045=2,F1045/10,IF(I1045=3,F1045/100*C1045,\"\")))","v":0.7},{"$f":"CONCATENATE(\" \",D1045)","v":" cm"},{"$f":"IF(I1045=1,F1045*10,IF(I1045=2,F1045,IF(I1045=3,F1045/100*C1045*10,\"\")))","v":7},"mm"]
[{"$f":"IF(COUNTIF($B$1:B1046,TRUE)=COUNTIF($B$1:B1045,TRUE),\"\",COUNTIF($B$1:B1046,TRUE))","v":814},{"$f":"Worksheet!$B$22","v":true},{"$f":"RANDBETWEEN(5,RANDBETWEEN(5,Worksheet!$D$8))","v":38},"m","±",{"$f":"IF(I1046=1,H1046*10^RANDBETWEEN(IF(Worksheet!$D$14,-1,0),0),IF(I1046=2,H1046*10^RANDBETWEEN(RANDBETWEEN(0,1),1),CHOOSE(RANDBETWEEN(1,3),5,10,20)))","v":0.4},{"$f":"IF(I1046=1,D1046,IF(I1046=3,\"%\",\"cm\"))","v":"m"},{"$f":"RANDBETWEEN(1,MIN(9,C1046))","v":4},{"$f":"IF(AND(Worksheet!$D$12,RAND()<0.2),3,IF(RAND()<Worksheet!$D$10/100,1,2))","v":1},{"$f":"IF(I1046=1,F1046,IF(I1046=2,F1046/100,IF(I1046=3,F1046/100*C1046,\"\")))","v":0.4},{"$f":"CONCATENATE(\" \",D1046)","v":" m"},{"$f":"IF(I1046=1,F1046*100,IF(I1046=2,F1046,IF(I1046=3,F1046/100*C1046*100,\"\")))","v":40},"cm"]
[{"$f":"IF(COUNTIF($B$1:B1047,TRUE)=COUNTIF($B$1:B1046,TRUE),\"\",COUNTIF($B$1:B1047,TRUE))","v":815},{"$f":"Worksheet!$B$24","v":true},{"$f":"RANDBETWEEN(5,RANDBETWEEN(5,Worksheet!$D$8))","v":90},"km","±",{"$f":"IF(I1047=1,H1047*10^RANDBETWEEN(IF(Worksheet!$D$14,-1,0),0),IF(I1047=2,H1047*10^RANDBETWEEN(RANDBETWEEN(0,2),2),CHOOSE(RANDBETWEEN(1,3),5,10,20)))","v":800},{"$f":"IF(I1047=1,D1047,IF(I1047=3,\"%\",\"m\"))","v":"m"},8,{"$f":"IF(AND(Worksheet!$D$12,RAND()<0.2),3,IF(RAND()<Worksheet!$D$10/100,1,2))","v":2},{"$f":"IF(I1047=1,F1047,IF(I1047=2,F1047/1000,IF(I1047=3,F1047/100*C1047,\"\")))","v":0.8}," km",{"$f":"IF(I1047=1,F1047*1000,IF(I1047=2,F1047,IF(I1047=3,F1047/100*C1047*1000,\"\")))","v":800},"m"]
[{"$f":"IF(COUNTIF($B$1:B1048,TRUE)=COUNTIF($B$1:B1047,TRUE),\"\",COUNTIF($B$1:B1048,TRUE))","v":""},{"$f":"Worksheet!$B$26","v":false},{"$f":"RANDBETWEEN(5,RANDBETWEEN(5,Worksheet!$D$8))","v":52},"m","±",{"$f":"IF(I1048=1,H1048*10^RANDBETWEEN(IF(Worksheet!$D$14,-1,0),0),IF(I1048=2,H1048*10^RANDBETWEEN(RANDBETWEEN(0,2),2),CHOOSE(RANDBETWEEN(1,3),5,10,20)))","v":5},{"$f":"IF(I1048=1,D1048,IF(I1048=3,\"%\",\"mm\"))","v":"%"},2,{"$f":"IF(AND(Worksheet!$D$12,RAND()<0.2),3,IF(RAND()<Worksheet!$D$10/100,1,2))","v":3},2.6," m",2600,"mm"]
[{"$f":"IF(COUNTIF($B$1:B1049,TRUE)=COUNTIF($B$1:B1048,TRUE),\"\",COUNTIF($B$1:B1049,TRUE))","v":816},{"$f":"Worksheet!$D$20","v":true},{"$f":"RANDBETWEEN(5,RANDBETWEEN(5,Worksheet!$D$8))","v":5},"kg","±",{"$f":"IF(I1049=1,H1049*10^RANDBETWEEN(IF(Worksheet!$D$14,-1,0),0),IF(I1049=2,H1049*10^RANDBETWEEN(RANDBETWEEN(0,2),2),CHOOSE(RANDBETWEEN(1,3),5,10,20)))","v":300},{"$f":"IF(I1049=1,D1049,IF(I1049=3,\"%\",\"g\"))","v":"g"},{"$f":"RANDBETWEEN(1,MIN(9,C1049))","v":3},{"$f":"IF(AND(Worksheet!$D$12,RAND()<0.2),3,IF(RAND()<Worksheet!$D$10/100,1,2))","v":2},0.3,{"$f":"CONCATENATE(\" \",D1049)","v":" kg"},300,"g"]
[{"$f":"IF(COUNTIF($B$1:B1050,TRUE)=COUNTIF($B$1:B1049,TRUE),\"\",COUNTIF($B$1:B1050,TRUE))","v":817},{"$f":"Worksheet!$D$22","v":true},{"$f":"RANDBETWEEN(5,RANDBETWEEN(5,Worksheet!$D$8))","v":38},"tonnes","±",{"$f":"IF(I1050=1,H1050*10^RANDBETWEEN(IF(Worksheet!$D$14,-1,0),0),IF(I1050=2,H1050*10^RANDBETWEEN(RANDBETWEEN(0,2),2),CHOOSE(RANDBETWEEN(1,3),5,10,20)))","v":7},{"$f":"IF(I1050=1,D1050,IF(I1050=3,\"%\",\"kg\"))","v":"tonnes"},{"$f":"RANDBETWEEN(1,MIN(9,C1050))","v":7},{"$f":"IF(AND(Worksheet!$D$12,RAND()<0.2),3,IF(RAND()<Worksheet!$D$10/100,1,2))","v":1},7,{"$f":"CONCATENATE(\" \",D1050)","v":" tonnes"},7000,"kg"]
[{"$f":"IF(COUNTIF($B$1:B1051,TRUE)=COUNTIF($B$1:B1050,TRUE),\"\",COUNTIF($B$1:B1051,TRUE))","v":818},{"$f":"Worksheet!$D$24","v":true},{"$f":"RANDBETWEEN(5,RANDBETWEEN(5,Worksheet!$D$8))","v":11},"litres","±",{"$f":"IF(I1051=1,H1051*10^RANDBETWEEN(IF(Worksheet!$D$14,-1,0),0),IF(I1051=2,H1051*10^RANDBETWEEN(RANDBETWEEN(0,2),2),CHOOSE(RANDBETWEEN(1,3),5,10,20)))","v":0.8},{"$f":"IF(I1051=1,D1051,IF(I1051=3,\"%\",\"ml\"))","v":"litres"},{"$f":"RANDBETWEEN(1,MIN(9,C1051))","v":8},{"$f":"IF(AND(Worksheet!$D$12,RAND()<0.2),3,IF(RAND()<Worksheet!$D$10/100,1,2))","v":1},0.8,{"$f":"CONCATENATE(\" \",D1051)","v":" litres"},800,"ml"]
[{"$f":"IF(COUNTIF($B$1:B1052,TRUE)=COUNTIF($B$1:B1051,TRUE),\"\",COUNTIF($B$1:B1052,TRUE))","v":""},{"$f":"Worksheet!$D$26","v":false},{"$f":"RANDBETWEEN(5,RANDBETWEEN(5,Worksheet!$D$8))","v":25},"litres","±",{"$f":"IF(I1052=1,H1052*10^RANDBETWEEN(IF(Worksheet!$D$14,-1,0),0),IF(I1052=2,H1052*10^RANDBETWEEN(RANDBETWEEN(0,2),2),CHOOSE(RANDBETWEEN(1,3),5,10,20)))","v":0.4},{"$f":"IF(I1052=1,D1052,IF(I1052=3,\"%\",\"cm³\"))","v":"litres"},{"$f":"RANDBETWEEN(1,MIN(9,C1052))","v":4},{"$f":"IF(AND(Worksheet!$D$12,RAND()<0.2),3,IF(RAND()<Worksheet!$D$10/100,1,2))","v":1},0.4,{"$f":"CONCATENATE(\" \",D1052)","v":" litres"},400,"cm³"]
[{"$f":"IF(COUNTIF($B$1:B1053,TRUE)=COUNTIF($B$1:B1053,TRUE),\"\",COUNTIF($B$1:B1053,TRUE))","v":""},{"$f":"Worksheet!$B$28","v":true},{"$f":"RANDBETWEEN(5,20)","v":12},"°C","±",{"$f":"IF(I1053=1,H1053*10^RANDBETWEEN(IF(Worksheet!$D$14,-1,0),0),IF(I1053=2,H1053,CHOOSE(RANDBETWEEN(1,3),5,10,20)))","v":8},{"$f":"IF(I1053=1,D1053,IF(I1053=3,\"%\",\"sec\"))","v":"sec"},{"$f":"RANDBETWEEN(1,MIN(9,C1053))","v":8},{"$f":"IF(AND(Worksheet!$D$12,RAND()<0),3,IF(RAND()<Worksheet!$D$10/100,1,2))","v":2},{"$f":"IF(I1053=1,F1053,IF(I1053=2,F1053,IF(I1053=3,F1053/100*C1053,\"\")))","v":8},{"$f":"CONCATENATE(\" \",D1053)","v":" °C"},{"$f":"IF(I1053=1,F1053,IF(I1053=2,F1053,IF(I1053=3,F1053/100*C1053,\"\")))","v":8}," °C"]
[{"$f":"COUNTIF($B$1:B1054,TRUE)","v":820},{"$f":"Worksheet!$B$20","v":true},{"$f":"RANDBETWEEN(5,RANDBETWEEN(5,Worksheet!$D$8))","v":29},"cm","±",{"$f":"IF(I1054=1,H1054*10^RANDBETWEEN(IF(Worksheet!$D$14,-1,0),0),IF(I1054=2,H1054,CHOOSE(RANDBETWEEN(1,3),5,10,20)))","v":5},{"$f":"IF(I1054=1,D1054,IF(I1054=3,\"%\",\"mm\"))","v":"%"},{"$f":"RANDBETWEEN(1,MIN(9,C1054))","v":9},{"$f":"IF(AND(Worksheet!$D$12,RAND()<0.2),3,IF(RAND()<Worksheet!$D$10/100,1,2))","v":3},{"$f":"IF(I1054=1,F1054,IF(I1054=2,F1054/10,IF(I1054=3,F1054/100*C1054,\"\")))","v":1.4500000000000002},{"$f":"CONCATENATE(\" \",D1054)","v":" cm"},{"$f":"IF(I1054=1,F1054*10,IF(I1054=2,F1054,IF(I1054=3,F1054/100*C1054*10,\"\")))","v":14.500000000000002},"mm"]
[{"$f":"IF(COUNTIF($B$1:B1055,TRUE)=COUNTIF($B$1:B1054,TRUE),\"\",COUNTIF($B$1:B1055,TRUE))","v":821},{"$f":"Worksheet!$B$22","v":true},{"$f":"RANDBETWEEN(5,RANDBETWEEN(5,Worksheet!$D$8))","v":100},"m","±",{"$f":"IF(I1055=1,H1055*10^RANDBETWEEN(IF(Worksheet!$D$14,-1,0),0),IF(I1055=2,H1055*10^RANDBETWEEN(RANDBETWEEN(0,1),1),CHOOSE(RANDBETWEEN(1,3),5,10,20)))","v":7},{"$f":"IF(I1055=1,D1055,IF(I1055=3,\"%\",\"cm\"))","v":"m"},{"$f":"RANDBETWEEN(1,MIN(9,C1055))","v":7},{"$f":"IF(AND(Worksheet!$D$12,RAND()<0.2),3,IF(RAND()<Worksheet!$D$10/100,1,2))","v":1},{"$f":"IF(I1055=1,F1055,IF(I1055=2,F1055/100,IF(I1055=3,F1055/100*C1055,\"\")))","v":7},{"$f":"CONCATENATE(\" \",D1055)","v":" m"},{"$f":"IF(I1055=1,F1055*100,IF(I1055=2,F1055,IF(I1055=3,F1055/100*C1055*100,\"\")))","v":700},"cm"]
[{"$f":"IF(COUNTIF($B$1:B1056,TRUE)=COUNTIF($B$1:B1055,TRUE),\"\",COUNTIF($B$1:B1056,TRUE))","v":822},{"$f":"Worksheet!$B$24","v":true},{"$f":"RANDBETWEEN(5,RANDBETWEEN(5,Worksheet!$D$8))","v":18},"km","±",{"$f":"IF(I1056=1,H1056*10^RANDBETWEEN(IF(Worksheet!$D$14,-1,0),0),IF(I1056=2,H1056*10^RANDBETWEEN(RANDBETWEEN(0,2),2),CHOOSE(RANDBETWEEN(1,3),5,10,20)))","v":0.4},{"$f":"IF(I1056=1,D1056,IF(I1056=3,\"%\",\"m\"))","v":"km"},4,{"$f":"IF(AND(Worksheet!$D$12,RAND()<0.2),3,IF(RAND()<Worksheet!$D$10/100,1,2))","v":1},{"$f":"IF(I1056=1,F1056,IF(I1056=2,F1056/1000,IF(I1056=3,F1056/100*C1056,\"\")))","v":0.4}," km",{"$f":"IF(I1056=1,F1056*1000,IF(I1056=2,F1056,IF(I1056=3,F1056/100*C1056*1000,\"\")))","v":400},"m"]
[{"$f":"IF(COUNTIF($B$1:B1057,TRUE)=COUNTIF($B$1:B1056,TRUE),\"\",COUNTIF($B$1:B1057,TRUE))","v":""},{"$f":"Worksheet!$B$26","v":false},{"$f":"RANDBETWEEN(5,RANDBETWEEN(5,Worksheet!$D$8))","v":18},"m","±",{"$f":"IF(I1057=1,H1057*10^RANDBETWEEN(IF(Worksheet!$D$14,-1,0),0),IF(I1057=2,H1057*10^RANDBETWEEN(RANDBETWEEN(0,2),2),CHOOSE(RANDBETWEEN(1,3),5,10,20)))","v":50},{"$f":"IF(I1057=1,D1057,IF(I1057=3,\"%\",\"mm\"))","v":"mm"},5,{"$f":"IF(AND(Worksheet!$D$12,RAND()<0.2),3,IF(RAND()<Worksheet!$D$10/100,1,2))","v":2},0.05," m",50,"mm"]
[{"$f":"IF(COUNTIF($B$1:B1058,TRUE)=COUNTIF($B$1:B1057,TRUE),\"\",COUNTIF($B$1:B1058,TRUE))","v":823},{"$f":"Worksheet!$D$20","v":true},{"$f":"RANDBETWEEN(5,RANDBETWEEN(5,Worksheet!$D$8))","v":34},"kg","±",{"$f":"IF(I1058=1,H1058*10^RANDBETWEEN(IF(Worksheet!$D$14,-1,0),0),IF(I1058=2,H1058*10^RANDBETWEEN(RANDBETWEEN(0,2),2),CHOOSE(RANDBETWEEN(1,3),5,10,20)))","v":8},{"$f":"IF(I1058=1,D1058,IF(I1058=3,\"%\",\"g\"))","v":"kg"},{"$f":"RANDBETWEEN(1,MIN(9,C1058))","v":8},{"$f":"IF(AND(Worksheet!$D$12,RAND()<0.2),3,IF(RAND()<Worksheet!$D$10/100,1,2))","v":1},8,{"$f":"CONCATENATE(\" \",D1058)","v":" kg"},8000,"g"]
[{"$f":"IF(COUNTIF($B$1:B1059,TRUE)=COUNTIF($B$1:B1058,TRUE),\"\",COUNTIF($B$1:B1059,TRUE))","v":824},{"$f":"Worksheet!$D$22","v":true},{"$f":"RANDBETWEEN(5,RANDBETWEEN(5,Worksheet!$D$8))","v":109},"tonnes","±",{"$f":"IF(I1059=1,H1059*10^RANDBETWEEN(IF(Worksheet!$D$14,-1,0),0),IF(I1059=2,H1059*10^RANDBETWEEN(RANDBETWEEN(0,2),2),CHOOSE(RANDBETWEEN(1,3),5,10,20)))","v":8},{"$f":"IF(I1059=1,D1059,IF(I1059=3,\"%\",\"kg\"))","v":"tonnes"},{"$f":"RANDBETWEEN(1,MIN(9,C1059))","v":8},{"$f":"IF(AND(Worksheet!$D$12,RAND()<0.2),3,IF(RAND()<Worksheet!$D$10/100,1,2))","v":1},8,{"$f":"CONCATENATE(\" \",D1059)","v":" tonnes"},8000,"kg"]
[{"$f":"IF(COUNTIF($B$1:B1060,TRUE)=COUNTIF($B$1:B1059,TRUE),\"\",COUNTIF($B$1:B1060,TRUE))","v":825},{"$f":"Worksheet!$D$24","v":true},{"$f":"RANDBETWEEN(5,RANDBETWEEN(5,Worksheet!$D$8))","v":8},"litres","±",{"$f":"IF(I1060=1,H1060*10^RANDBETWEEN(IF(Worksheet!$D$14,-1,0),0),IF(I1060=2,H1060*10^RANDBETWEEN(RANDBETWEEN(0,2),2),CHOOSE(RANDBETWEEN(1,3),5,10,20)))","v":0.8},{"$f":"IF(I1060=1,D1060,IF(I1060=3,\"%\",\"ml\"))","v":"litres"},{"$f":"RANDBETWEEN(1,MIN(9,C1060))","v":8},{"$f":"IF(AND(Worksheet!$D$12,RAND()<0.2),3,IF(RAND()<Worksheet!$D$10/100,1,2))","v":1},0.8,{"$f":"CONCATENATE(\" \",D1060)","v":" litres"},800,"ml"]
[{"$f":"IF(COUNTIF($B$1:B1061,TRUE)=COUNTIF($B$1:B1060,TRUE),\"\",COUNTIF($B$1:B1061,TRUE))","v":""},{"$f":"Worksheet!$D$26","v":false},{"$f":"RANDBETWEEN(5,RANDBETWEEN(5,Worksheet!$D$8))","v":151},"litres","±",{"$f":"IF(I1061=1,H1061*10^RANDBETWEEN(IF(Worksheet!$D$14,-1,0),0),IF(I1061=2,H1061*10^RANDBETWEEN(RANDBETWEEN(0,2),2),CHOOSE(RANDBETWEEN(1,3),5,10,20)))","v":900},{"$f":"IF(I1061=1,D1061,IF(I1061=3,\"%\",\"cm³\"))","v":"cm³"},{"$f":"RANDBETWEEN(1,MIN(9,C1061))","v":9},{"$f":"IF(AND(Worksheet!$D$12,RAND()<0.2),3,IF(RAND()<Worksheet!$D$10/100,1,2))","v":2},0.9,{"$f":"CONCATENATE(\" \",D1061)","v":" litres"},900,"cm³"]
[{"$f":"IF(COUNTIF($B$1:B1062,TRUE)=COUNTIF($B$1:B1062,TRUE),\"\",COUNTIF($B$1:B1062,TRUE))","v":""},{"$f":"Worksheet!$B$28","v":true},{"$f":"RANDBETWEEN(5,20)","v":13},"°C","±",{"$f":"IF(I1062=1,H1062*10^RANDBETWEEN(IF(Worksheet!$D$14,-1,0),0),IF(I1062=2,H1062,CHOOSE(RANDBETWEEN(1,3),5,10,20)))","v":9},{"$f":"IF(I1062=1,D1062,IF(I1062=3,\"%\",\"sec\"))","v":"°C"},{"$f":"RANDBETWEEN(1,MIN(9,C1062))","v":9},{"$f":"IF(AND(Worksheet!$D$12,RAND()<0),3,IF(RAND()<Worksheet!$D$10/100,1,2))","v":1},{"$f":"IF(I1062=1,F1062,IF(I1062=2,F1062,IF(I1062=3,F1062/100*C1062,\"\")))","v":9},{"$f":"CONCATENATE(\" \",D1062)","v":" °C"},{"$f":"IF(I1062=1,F1062,IF(I1062=2,F1062,IF(I1062=3,F1062/100*C1062,\"\")))","v":9}," °C"]
[{"$f":"COUNTIF($B$1:B1063,TRUE)","v":827},{"$f":"Worksheet!$B$20","v":true},{"$f":"RANDBETWEEN(5,RANDBETWEEN(5,Worksheet!$D$8))","v":7},"cm","±",{"$f":"IF(I1063=1,H1063*10^RANDBETWEEN(IF(Worksheet!$D$14,-1,0),0),IF(I1063=2,H1063,CHOOSE(RANDBETWEEN(1,3),5,10,20)))","v":0.30000000000000004},{"$f":"IF(I1063=1,D1063,IF(I1063=3,\"%\",\"mm\"))","v":"cm"},{"$f":"RANDBETWEEN(1,MIN(9,C1063))","v":3},{"$f":"IF(AND(Worksheet!$D$12,RAND()<0.2),3,IF(RAND()<Worksheet!$D$10/100,1,2))","v":1},{"$f":"IF(I1063=1,F1063,IF(I1063=2,F1063/10,IF(I1063=3,F1063/100*C1063,\"\")))","v":0.30000000000000004},{"$f":"CONCATENATE(\" \",D1063)","v":" cm"},{"$f":"IF(I1063=1,F1063*10,IF(I1063=2,F1063,IF(I1063=3,F1063/100*C1063*10,\"\")))","v":3.0000000000000004},"mm"]
[{"$f":"IF(COUNTIF($B$1:B1064,TRUE)=COUNTIF($B$1:B1063,TRUE),\"\",COUNTIF($B$1:B1064,TRUE))","v":828},{"$f":"Worksheet!$B$22","v":true},{"$f":"RANDBETWEEN(5,RANDBETWEEN(5,Worksheet!$D$8))","v":46},"m","±",{"$f":"IF(I1064=1,H1064*10^RANDBETWEEN(IF(Worksheet!$D$14,-1,0),0),IF(I1064=2,H1064*10^RANDBETWEEN(RANDBETWEEN(0,1),1),CHOOSE(RANDBETWEEN(1,3),5,10,20)))","v":1},{"$f":"IF(I1064=1,D1064,IF(I1064=3,\"%\",\"cm\"))","v":"m"},{"$f":"RANDBETWEEN(1,MIN(9,C1064))","v":1},{"$f":"IF(AND(Worksheet!$D$12,RAND()<0.2),3,IF(RAND()<Worksheet!$D$10/100,1,2))","v":1},{"$f":"IF(I1064=1,F1064,IF(I1064=2,F1064/100,IF(I1064=3,F1064/100*C1064,\"\")))","v":1},{"$f":"CONCATENATE(\" \",D1064)","v":" m"},{"$f":"IF(I1064=1,F1064*100,IF(I1064=2,F1064,IF(I1064=3,F1064/100*C1064*100,\"\")))","v":100},"cm"]
[{"$f":"IF(COUNTIF($B$1:B1065,TRUE)=COUNTIF($B$1:B1064,TRUE),\"\",COUNTIF($B$1:B1065,TRUE))","v":829},{"$f":"Worksheet!$B$24","v":true},{"$f":"RANDBETWEEN(5,RANDBETWEEN(5,Worksheet!$D$8))","v":32},"km","±",{"$f":"IF(I1065=1,H1065*10^RANDBETWEEN(IF(Worksheet!$D$14,-1,0),0),IF(I1065=2,H1065*10^RANDBETWEEN(RANDBETWEEN(0,2),2),CHOOSE(RANDBETWEEN(1,3),5,10,20)))","v":6},{"$f":"IF(I1065=1,D1065,IF(I1065=3,\"%\",\"m\"))","v":"km"},6,{"$f":"IF(AND(Worksheet!$D$12,RAND()<0.2),3,IF(RAND()<Worksheet!$D$10/100,1,2))","v":1},{"$f":"IF(I1065=1,F1065,IF(I1065=2,F1065/1000,IF(I1065=3,F1065/100*C1065,\"\")))","v":6}," km",{"$f":"IF(I1065=1,F1065*1000,IF(I1065=2,F1065,IF(I1065=3,F1065/100*C1065*1000,\"\")))","v":6000},"m"]
[{"$f":"IF(COUNTIF($B$1:B1066,TRUE)=COUNTIF($B$1:B1065,TRUE),\"\",COUNTIF($B$1:B1066,TRUE))","v":""},{"$f":"Worksheet!$B$26","v":false},{"$f":"RANDBETWEEN(5,RANDBETWEEN(5,Worksheet!$D$8))","v":132},"m","±",{"$f":"IF(I1066=1,H1066*10^RANDBETWEEN(IF(Worksheet!$D$14,-1,0),0),IF(I1066=2,H1066*10^RANDBETWEEN(RANDBETWEEN(0,2),2),CHOOSE(RANDBETWEEN(1,3),5,10,20)))","v":0.5},{"$f":"IF(I1066=1,D1066,IF(I1066=3,\"%\",\"mm\"))","v":"m"},5,{"$f":"IF(AND(Worksheet!$D$12,RAND()<0.2),3,IF(RAND()<Worksheet!$D$10/100,1,2))","v":1},0.5," m",500,"mm"]
[{"$f":"IF(COUNTIF($B$1:B1067,TRUE)=COUNTIF($B$1:B1066,TRUE),\"\",COUNTIF($B$1:B1067,TRUE))","v":830},{"$f":"Worksheet!$D$20","v":true},{"$f":"RANDBETWEEN(5,RANDBETWEEN(5,Worksheet!$D$8))","v":10},"kg","±",{"$f":"IF(I1067=1,H1067*10^RANDBETWEEN(IF(Worksheet!$D$14,-1,0),0),IF(I1067=2,H1067*10^RANDBETWEEN(RANDBETWEEN(0,2),2),CHOOSE(RANDBETWEEN(1,3),5,10,20)))","v":1},{"$f":"IF(I1067=1,D1067,IF(I1067=3,\"%\",\"g\"))","v":"kg"},{"$f":"RANDBETWEEN(1,MIN(9,C1067))","v":1},{"$f":"IF(AND(Worksheet!$D$12,RAND()<0.2),3,IF(RAND()<Worksheet!$D$10/100,1,2))","v":1},1,{"$f":"CONCATENATE(\" \",D1067)","v":" kg"},1000,"g"]
[{"$f":"IF(COUNTIF($B$1:B1068,TRUE)=COUNTIF($B$1:B1067,TRUE),\"\",COUNTIF($B$1:B1068,TRUE))","v":831},{"$f":"Worksheet!$D$22","v":true},{"$f":"RANDBETWEEN(5,RANDBETWEEN(5,Worksheet!$D$8))","v":28},"tonnes","±",{"$f":"IF(I1068=1,H1068*10^RANDBETWEEN(IF(Worksheet!$D$14,-1,0),0),IF(I1068=2,H1068*10^RANDBETWEEN(RANDBETWEEN(0,2),2),CHOOSE(RANDBETWEEN(1,3),5,10,20)))","v":0.5},{"$f":"IF(I1068=1,D1068,IF(I1068=3,\"%\",\"kg\"))","v":"tonnes"},{"$f":"RANDBETWEEN(1,MIN(9,C1068))","v":5},{"$f":"IF(AND(Worksheet!$D$12,RAND()<0.2),3,IF(RAND()<Worksheet!$D$10/100,1,2))","v":1},0.5,{"$f":"CONCATENATE(\" \",D1068)","v":" tonnes"},500,"kg"]
[{"$f":"IF(COUNTIF($B$1:B1069,TRUE)=COUNTIF($B$1:B1068,TRUE),\"\",COUNTIF($B$1:B1069,TRUE))","v":832},{"$f":"Worksheet!$D$24","v":true},{"$f":"RANDBETWEEN(5,RANDBETWEEN(5,Worksheet!$D$8))","v":32},"litres","±",{"$f":"IF(I1069=1,H1069*10^RANDBETWEEN(IF(Worksheet!$D$14,-1,0),0),IF(I1069=2,H1069*10^RANDBETWEEN(RANDBETWEEN(0,2),2),CHOOSE(RANDBETWEEN(1,3),5,10,20)))","v":0.30000000000000004},{"$f":"IF(I1069=1,D1069,IF(I1069=3,\"%\",\"ml\"))","v":"litres"},{"$f":"RANDBETWEEN(1,MIN(9,C1069))","v":3},{"$f":"IF(AND(Worksheet!$D$12,RAND()<0.2),3,IF(RAND()<Worksheet!$D$10/100,1,2))","v":1},0.30000000000000004,{"$f":"CONCATENATE(\" \",D1069)","v":" litres"},300.00000000000006,"ml"]
[{"$f":"IF(COUNTIF($B$1:B1070,TRUE)=COUNTIF($B$1:B1069,TRUE),\"\",COUNTIF($B$1:B1070,TRUE))","v":""},{"$f":"Worksheet!$D$26","v":false},{"$f":"RANDBETWEEN(5,RANDBETWEEN(5,Worksheet!$D$8))","v":80},"litres","±",{"$f":"IF(I1070=1,H1070*10^RANDBETWEEN(IF(Worksheet!$D$14,-1,0),0),IF(I1070=2,H1070*10^RANDBETWEEN(RANDBETWEEN(0,2),2),CHOOSE(RANDBETWEEN(1,3),5,10,20)))","v":10},{"$f":"IF(I1070=1,D1070,IF(I1070=3,\"%\",\"cm³\"))","v":"%"},{"$f":"RANDBETWEEN(1,MIN(9,C1070))","v":7},{"$f":"IF(AND(Worksheet!$D$12,RAND()<0.2),3,IF(RAND()<Worksheet!$D$10/100,1,2))","v":3},8,{"$f":"CONCATENATE(\" \",D1070)","v":" litres"},8000,"cm³"]
[{"$f":"IF(COUNTIF($B$1:B1071,TRUE)=COUNTIF($B$1:B1071,TRUE),\"\",COUNTIF($B$1:B1071,TRUE))","v":""},{"$f":"Worksheet!$B$28","v":true},{"$f":"RANDBETWEEN(5,20)","v":15},"°C","±",{"$f":"IF(I1071=1,H1071*10^RANDBETWEEN(IF(Worksheet!$D$14,-1,0),0),IF(I1071=2,H1071,CHOOSE(RANDBETWEEN(1,3),5,10,20)))","v":0.1},{"$f":"IF(I1071=1,D1071,IF(I1071=3,\"%\",\"sec\"))","v":"°C"},{"$f":"RANDBETWEEN(1,MIN(9,C1071))","v":1},{"$f":"IF(AND(Worksheet!$D$12,RAND()<0),3,IF(RAND()<Worksheet!$D$10/100,1,2))","v":1},{"$f":"IF(I1071=1,F1071,IF(I1071=2,F1071,IF(I1071=3,F1071/100*C1071,\"\")))","v":0.1},{"$f":"CONCATENATE(\" \",D1071)","v":" °C"},{"$f":"IF(I1071=1,F1071,IF(I1071=2,F1071,IF(I1071=3,F1071/100*C1071,\"\")))","v":0.1}," °C"]
[{"$f":"COUNTIF($B$1:B1072,TRUE)","v":834},{"$f":"Worksheet!$B$20","v":true},{"$f":"RANDBETWEEN(5,RANDBETWEEN(5,Worksheet!$D$8))","v":90},"cm","±",{"$f":"IF(I1072=1,H1072*10^RANDBETWEEN(IF(Worksheet!$D$14,-1,0),0),IF(I1072=2,H1072,CHOOSE(RANDBETWEEN(1,3),5,10,20)))","v":10},{"$f":"IF(I1072=1,D1072,IF(I1072=3,\"%\",\"mm\"))","v":"%"},{"$f":"RANDBETWEEN(1,MIN(9,C1072))","v":6},{"$f":"IF(AND(Worksheet!$D$12,RAND()<0.2),3,IF(RAND()<Worksheet!$D$10/100,1,2))","v":3},{"$f":"IF(I1072=1,F1072,IF(I1072=2,F1072/10,IF(I1072=3,F1072/100*C1072,\"\")))","v":9},{"$f":"CONCATENATE(\" \",D1072)","v":" cm"},{"$f":"IF(I1072=1,F1072*10,IF(I1072=2,F1072,IF(I1072=3,F1072/100*C1072*10,\"\")))","v":90},"mm"]
[{"$f":"IF(COUNTIF($B$1:B1073,TRUE)=COUNTIF($B$1:B1072,TRUE),\"\",COUNTIF($B$1:B1073,TRUE))","v":835},{"$f":"Worksheet!$B$22","v":true},{"$f":"RANDBETWEEN(5,RANDBETWEEN(5,Worksheet!$D$8))","v":22},"m","±",{"$f":"IF(I1073=1,H1073*10^RANDBETWEEN(IF(Worksheet!$D$14,-1,0),0),IF(I1073=2,H1073*10^RANDBETWEEN(RANDBETWEEN(0,1),1),CHOOSE(RANDBETWEEN(1,3),5,10,20)))","v":4},{"$f":"IF(I1073=1,D1073,IF(I1073=3,\"%\",\"cm\"))","v":"m"},{"$f":"RANDBETWEEN(1,MIN(9,C1073))","v":4},{"$f":"IF(AND(Worksheet!$D$12,RAND()<0.2),3,IF(RAND()<Worksheet!$D$10/100,1,2))","v":1},{"$f":"IF(I1073=1,F1073,IF(I1073=2,F1073/100,IF(I1073=3,F1073/100*C1073,\"\")))","v":4},{"$f":"CONCATENATE(\" \",D1073)","v":" m"},{"$f":"IF(I1073=1,F1073*100,IF(I1073=2,F1073,IF(I1073=3,F1073/100*C1073*100,\"\")))","v":400},"cm"]
[{"$f":"IF(COUNTIF($B$1:B1074,TRUE)=COUNTIF($B$1:B1073,TRUE),\"\",COUNTIF($B$1:B1074,TRUE))","v":836},{"$f":"Worksheet!$B$24","v":true},{"$f":"RANDBETWEEN(5,RANDBETWEEN(5,Worksheet!$D$8))","v":45},"km","±",{"$f":"IF(I1074=1,H1074*10^RANDBETWEEN(IF(Worksheet!$D$14,-1,0),0),IF(I1074=2,H1074*10^RANDBETWEEN(RANDBETWEEN(0,2),2),CHOOSE(RANDBETWEEN(1,3),5,10,20)))","v":2},{"$f":"IF(I1074=1,D1074,IF(I1074=3,\"%\",\"m\"))","v":"km"},2,{"$f":"IF(AND(Worksheet!$D$12,RAND()<0.2),3,IF(RAND()<Worksheet!$D$10/100,1,2))","v":1},{"$f":"IF(I1074=1,F1074,IF(I1074=2,F1074/1000,IF(I1074=3,F1074/100*C1074,\"\")))","v":2}," km",{"$f":"IF(I1074=1,F1074*1000,IF(I1074=2,F1074,IF(I1074=3,F1074/100*C1074*1000,\"\")))","v":2000},"m"]
[{"$f":"IF(COUNTIF($B$1:B1075,TRUE)=COUNTIF($B$1:B1074,TRUE),\"\",COUNTIF($B$1:B1075,TRUE))","v":""},{"$f":"Worksheet!$B$26","v":false},{"$f":"RANDBETWEEN(5,RANDBETWEEN(5,Worksheet!$D$8))","v":19},"m","±",{"$f":"IF(I1075=1,H1075*10^RANDBETWEEN(IF(Worksheet!$D$14,-1,0),0),IF(I1075=2,H1075*10^RANDBETWEEN(RANDBETWEEN(0,2),2),CHOOSE(RANDBETWEEN(1,3),5,10,20)))","v":600},{"$f":"IF(I1075=1,D1075,IF(I1075=3,\"%\",\"mm\"))","v":"mm"},6,{"$f":"IF(AND(Worksheet!$D$12,RAND()<0.2),3,IF(RAND()<Worksheet!$D$10/100,1,2))","v":2},0.6," m",600,"mm"]
[{"$f":"IF(COUNTIF($B$1:B1076,TRUE)=COUNTIF($B$1:B1075,TRUE),\"\",COUNTIF($B$1:B1076,TRUE))","v":837},{"$f":"Worksheet!$D$20","v":true},{"$f":"RANDBETWEEN(5,RANDBETWEEN(5,Worksheet!$D$8))","v":96},"kg","±",{"$f":"IF(I1076=1,H1076*10^RANDBETWEEN(IF(Worksheet!$D$14,-1,0),0),IF(I1076=2,H1076*10^RANDBETWEEN(RANDBETWEEN(0,2),2),CHOOSE(RANDBETWEEN(1,3),5,10,20)))","v":4},{"$f":"IF(I1076=1,D1076,IF(I1076=3,\"%\",\"g\"))","v":"kg"},{"$f":"RANDBETWEEN(1,MIN(9,C1076))","v":4},{"$f":"IF(AND(Worksheet!$D$12,RAND()<0.2),3,IF(RAND()<Worksheet!$D$10/100,1,2))","v":1},4,{"$f":"CONCATENATE(\" \",D1076)","v":" kg"},4000,"g"]
[{"$f":"IF(COUNTIF($B$1:B1077,TRUE)=COUNTIF($B$1:B1076,TRUE),\"\",COUNTIF($B$1:B1077,TRUE))","v":838},{"$f":"Worksheet!$D$22","v":true},{"$f":"RANDBETWEEN(5,RANDBETWEEN(5,Worksheet!$D$8))","v":98},"tonnes","±",{"$f":"IF(I1077=1,H1077*10^RANDBETWEEN(IF(Worksheet!$D$14,-1,0),0),IF(I1077=2,H1077*10^RANDBETWEEN(RANDBETWEEN(0,2),2),CHOOSE(RANDBETWEEN(1,3),5,10,20)))","v":60},{"$f":"IF(I1077=1,D1077,IF(I1077=3,\"%\",\"kg\"))","v":"kg"},{"$f":"RANDBETWEEN(1,MIN(9,C1077))","v":6},{"$f":"IF(AND(Worksheet!$D$12,RAND()<0.2),3,IF(RAND()<Worksheet!$D$10/100,1,2))","v":2},0.06,{"$f":"CONCATENATE(\" \",D1077)","v":" tonnes"},60,"kg"]
[{"$f":"IF(COUNTIF($B$1:B1078,TRUE)=COUNTIF($B$1:B1077,TRUE),\"\",COUNTIF($B$1:B1078,TRUE))","v":839},{"$f":"Worksheet!$D$24","v":true},{"$f":"RANDBETWEEN(5,RANDBETWEEN(5,Worksheet!$D$8))","v":36},"litres","±",{"$f":"IF(I1078=1,H1078*10^RANDBETWEEN(IF(Worksheet!$D$14,-1,0),0),IF(I1078=2,H1078*10^RANDBETWEEN(RANDBETWEEN(0,2),2),CHOOSE(RANDBETWEEN(1,3),5,10,20)))","v":0.30000000000000004},{"$f":"IF(I1078=1,D1078,IF(I1078=3,\"%\",\"ml\"))","v":"litres"},{"$f":"RANDBETWEEN(1,MIN(9,C1078))","v":3},{"$f":"IF(AND(Worksheet!$D$12,RAND()<0.2),3,IF(RAND()<Worksheet!$D$10/100,1,2))","v":1},0.30000000000000004,{"$f":"CONCATENATE(\" \",D1078)","v":" litres"},300.00000000000006,"ml"]
[{"$f":"IF(COUNTIF($B$1:B1079,TRUE)=COUNTIF($B$1:B1078,TRUE),\"\",COUNTIF($B$1:B1079,TRUE))","v":""},{"$f":"Worksheet!$D$26","v":false},{"$f":"RANDBETWEEN(5,RANDBETWEEN(5,Worksheet!$D$8))","v":14},"litres","±",{"$f":"IF(I1079=1,H1079*10^RANDBETWEEN(IF(Worksheet!$D$14,-1,0),0),IF(I1079=2,H1079*10^RANDBETWEEN(RANDBETWEEN(0,2),2),CHOOSE(RANDBETWEEN(1,3),5,10,20)))","v":0.70000000000000007},{"$f":"IF(I1079=1,D1079,IF(I1079=3,\"%\",\"cm³\"))","v":"litres"},{"$f":"RANDBETWEEN(1,MIN(9,C1079))","v":7},{"$f":"IF(AND(Worksheet!$D$12,RAND()<0.2),3,IF(RAND()<Worksheet!$D$10/100,1,2))","v":1},0.70000000000000007,{"$f":"CONCATENATE(\" \",D1079)","v":" litres"},700.00000000000011,"cm³"]
[{"$f":"IF(COUNTIF($B$1:B1080,TRUE)=COUNTIF($B$1:B1080,TRUE),\"\",COUNTIF($B$1:B1080,TRUE))","v":""},{"$f":"Worksheet!$B$28","v":true},{"$f":"RANDBETWEEN(5,20)","v":5},"°C","±",{"$f":"IF(I1080=1,H1080*10^RANDBETWEEN(IF(Worksheet!$D$14,-1,0),0),IF(I1080=2,H1080,CHOOSE(RANDBETWEEN(1,3),5,10,20)))","v":2},{"$f":"IF(I1080=1,D1080,IF(I1080=3,\"%\",\"sec\"))","v":"°C"},{"$f":"RANDBETWEEN(1,MIN(9,C1080))","v":2},{"$f":"IF(AND(Worksheet!$D$12,RAND()<0),3,IF(RAND()<Worksheet!$D$10/100,1,2))","v":1},{"$f":"IF(I1080=1,F1080,IF(I1080=2,F1080,IF(I1080=3,F1080/100*C1080,\"\")))","v":2},{"$f":"CONCATENATE(\" \",D1080)","v":" °C"},{"$f":"IF(I1080=1,F1080,IF(I1080=2,F1080,IF(I1080=3,F1080/100*C1080,\"\")))","v":2}," °C"]
[{"$f":"COUNTIF($B$1:B1081,TRUE)","v":841},{"$f":"Worksheet!$B$20","v":true},{"$f":"RANDBETWEEN(5,RANDBETWEEN(5,Worksheet!$D$8))","v":177},"cm","±",{"$f":"IF(I1081=1,H1081*10^RANDBETWEEN(IF(Worksheet!$D$14,-1,0),0),IF(I1081=2,H1081,CHOOSE(RANDBETWEEN(1,3),5,10,20)))","v":2},{"$f":"IF(I1081=1,D1081,IF(I1081=3,\"%\",\"mm\"))","v":"mm"},{"$f":"RANDBETWEEN(1,MIN(9,C1081))","v":2},{"$f":"IF(AND(Worksheet!$D$12,RAND()<0.2),3,IF(RAND()<Worksheet!$D$10/100,1,2))","v":2},{"$f":"IF(I1081=1,F1081,IF(I1081=2,F1081/10,IF(I1081=3,F1081/100*C1081,\"\")))","v":0.2},{"$f":"CONCATENATE(\" \",D1081)","v":" cm"},{"$f":"IF(I1081=1,F1081*10,IF(I1081=2,F1081,IF(I1081=3,F1081/100*C1081*10,\"\")))","v":2},"mm"]
[{"$f":"IF(COUNTIF($B$1:B1082,TRUE)=COUNTIF($B$1:B1081,TRUE),\"\",COUNTIF($B$1:B1082,TRUE))","v":842},{"$f":"Worksheet!$B$22","v":true},{"$f":"RANDBETWEEN(5,RANDBETWEEN(5,Worksheet!$D$8))","v":53},"m","±",{"$f":"IF(I1082=1,H1082*10^RANDBETWEEN(IF(Worksheet!$D$14,-1,0),0),IF(I1082=2,H1082*10^RANDBETWEEN(RANDBETWEEN(0,1),1),CHOOSE(RANDBETWEEN(1,3),5,10,20)))","v":2},{"$f":"IF(I1082=1,D1082,IF(I1082=3,\"%\",\"cm\"))","v":"m"},{"$f":"RANDBETWEEN(1,MIN(9,C1082))","v":2},{"$f":"IF(AND(Worksheet!$D$12,RAND()<0.2),3,IF(RAND()<Worksheet!$D$10/100,1,2))","v":1},{"$f":"IF(I1082=1,F1082,IF(I1082=2,F1082/100,IF(I1082=3,F1082/100*C1082,\"\")))","v":2},{"$f":"CONCATENATE(\" \",D1082)","v":" m"},{"$f":"IF(I1082=1,F1082*100,IF(I1082=2,F1082,IF(I1082=3,F1082/100*C1082*100,\"\")))","v":200},"cm"]
[{"$f":"IF(COUNTIF($B$1:B1083,TRUE)=COUNTIF($B$1:B1082,TRUE),\"\",COUNTIF($B$1:B1083,TRUE))","v":843},{"$f":"Worksheet!$B$24","v":true},{"$f":"RANDBETWEEN(5,RANDBETWEEN(5,Worksheet!$D$8))","v":64},"km","±",{"$f":"IF(I1083=1,H1083*10^RANDBETWEEN(IF(Worksheet!$D$14,-1,0),0),IF(I1083=2,H1083*10^RANDBETWEEN(RANDBETWEEN(0,2),2),CHOOSE(RANDBETWEEN(1,3),5,10,20)))","v":20},{"$f":"IF(I1083=1,D1083,IF(I1083=3,\"%\",\"m\"))","v":"%"},3,{"$f":"IF(AND(Worksheet!$D$12,RAND()<0.2),3,IF(RAND()<Worksheet!$D$10/100,1,2))","v":3},{"$f":"IF(I1083=1,F1083,IF(I1083=2,F1083/1000,IF(I1083=3,F1083/100*C1083,\"\")))","v":12.8}," km",{"$f":"IF(I1083=1,F1083*1000,IF(I1083=2,F1083,IF(I1083=3,F1083/100*C1083*1000,\"\")))","v":12800},"m"]
[{"$f":"IF(COUNTIF($B$1:B1084,TRUE)=COUNTIF($B$1:B1083,TRUE),\"\",COUNTIF($B$1:B1084,TRUE))","v":""},{"$f":"Worksheet!$B$26","v":false},{"$f":"RANDBETWEEN(5,RANDBETWEEN(5,Worksheet!$D$8))","v":44},"m","±",{"$f":"IF(I1084=1,H1084*10^RANDBETWEEN(IF(Worksheet!$D$14,-1,0),0),IF(I1084=2,H1084*10^RANDBETWEEN(RANDBETWEEN(0,2),2),CHOOSE(RANDBETWEEN(1,3),5,10,20)))","v":3},{"$f":"IF(I1084=1,D1084,IF(I1084=3,\"%\",\"mm\"))","v":"m"},3,{"$f":"IF(AND(Worksheet!$D$12,RAND()<0.2),3,IF(RAND()<Worksheet!$D$10/100,1,2))","v":1},3," m",3000,"mm"]
[{"$f":"IF(COUNTIF($B$1:B1085,TRUE)=COUNTIF($B$1:B1084,TRUE),\"\",COUNTIF($B$1:B1085,TRUE))","v":844},{"$f":"Worksheet!$D$20","v":true},{"$f":"RANDBETWEEN(5,RANDBETWEEN(5,Worksheet!$D$8))","v":13},"kg","±",{"$f":"IF(I1085=1,H1085*10^RANDBETWEEN(IF(Worksheet!$D$14,-1,0),0),IF(I1085=2,H1085*10^RANDBETWEEN(RANDBETWEEN(0,2),2),CHOOSE(RANDBETWEEN(1,3),5,10,20)))","v":6},{"$f":"IF(I1085=1,D1085,IF(I1085=3,\"%\",\"g\"))","v":"kg"},{"$f":"RANDBETWEEN(1,MIN(9,C1085))","v":6},{"$f":"IF(AND(Worksheet!$D$12,RAND()<0.2),3,IF(RAND()<Worksheet!$D$10/100,1,2))","v":1},6,{"$f":"CONCATENATE(\" \",D1085)","v":" kg"},6000,"g"]
[{"$f":"IF(COUNTIF($B$1:B1086,TRUE)=COUNTIF($B$1:B1085,TRUE),\"\",COUNTIF($B$1:B1086,TRUE))","v":845},{"$f":"Worksheet!$D$22","v":true},{"$f":"RANDBETWEEN(5,RANDBETWEEN(5,Worksheet!$D$8))","v":159},"tonnes","±",{"$f":"IF(I1086=1,H1086*10^RANDBETWEEN(IF(Worksheet!$D$14,-1,0),0),IF(I1086=2,H1086*10^RANDBETWEEN(RANDBETWEEN(0,2),2),CHOOSE(RANDBETWEEN(1,3),5,10,20)))","v":0.1},{"$f":"IF(I1086=1,D1086,IF(I1086=3,\"%\",\"kg\"))","v":"tonnes"},{"$f":"RANDBETWEEN(1,MIN(9,C1086))","v":1},{"$f":"IF(AND(Worksheet!$D$12,RAND()<0.2),3,IF(RAND()<Worksheet!$D$10/100,1,2))","v":1},0.1,{"$f":"CONCATENATE(\" \",D1086)","v":" tonnes"},100,"kg"]
[{"$f":"IF(COUNTIF($B$1:B1087,TRUE)=COUNTIF($B$1:B1086,TRUE),\"\",COUNTIF($B$1:B1087,TRUE))","v":846},{"$f":"Worksheet!$D$24","v":true},{"$f":"RANDBETWEEN(5,RANDBETWEEN(5,Worksheet!$D$8))","v":96},"litres","±",{"$f":"IF(I1087=1,H1087*10^RANDBETWEEN(IF(Worksheet!$D$14,-1,0),0),IF(I1087=2,H1087*10^RANDBETWEEN(RANDBETWEEN(0,2),2),CHOOSE(RANDBETWEEN(1,3),5,10,20)))","v":0.8},{"$f":"IF(I1087=1,D1087,IF(I1087=3,\"%\",\"ml\"))","v":"litres"},{"$f":"RANDBETWEEN(1,MIN(9,C1087))","v":8},{"$f":"IF(AND(Worksheet!$D$12,RAND()<0.2),3,IF(RAND()<Worksheet!$D$10/100,1,2))","v":1},0.8,{"$f":"CONCATENATE(\" \",D1087)","v":" litres"},800,"ml"]
[{"$f":"IF(COUNTIF($B$1:B1088,TRUE)=COUNTIF($B$1:B1087,TRUE),\"\",COUNTIF($B$1:B1088,TRUE))","v":""},{"$f":"Worksheet!$D$26","v":false},{"$f":"RANDBETWEEN(5,RANDBETWEEN(5,Worksheet!$D$8))","v":53},"litres","±",{"$f":"IF(I1088=1,H1088*10^RANDBETWEEN(IF(Worksheet!$D$14,-1,0),0),IF(I1088=2,H1088*10^RANDBETWEEN(RANDBETWEEN(0,2),2),CHOOSE(RANDBETWEEN(1,3),5,10,20)))","v":9},{"$f":"IF(I1088=1,D1088,IF(I1088=3,\"%\",\"cm³\"))","v":"litres"},{"$f":"RANDBETWEEN(1,MIN(9,C1088))","v":9},{"$f":"IF(AND(Worksheet!$D$12,RAND()<0.2),3,IF(RAND()<Worksheet!$D$10/100,1,2))","v":1},9,{"$f":"CONCATENATE(\" \",D1088)","v":" litres"},9000,"cm³"]
[{"$f":"IF(COUNTIF($B$1:B1089,TRUE)=COUNTIF($B$1:B1089,TRUE),\"\",COUNTIF($B$1:B1089,TRUE))","v":""},{"$f":"Worksheet!$B$28","v":true},{"$f":"RANDBETWEEN(5,20)","v":12},"°C","±",{"$f":"IF(I1089=1,H1089*10^RANDBETWEEN(IF(Worksheet!$D$14,-1,0),0),IF(I1089=2,H1089,CHOOSE(RANDBETWEEN(1,3),5,10,20)))","v":0.4},{"$f":"IF(I1089=1,D1089,IF(I1089=3,\"%\",\"sec\"))","v":"°C"},{"$f":"RANDBETWEEN(1,MIN(9,C1089))","v":4},{"$f":"IF(AND(Worksheet!$D$12,RAND()<0),3,IF(RAND()<Worksheet!$D$10/100,1,2))","v":1},{"$f":"IF(I1089=1,F1089,IF(I1089=2,F1089,IF(I1089=3,F1089/100*C1089,\"\")))","v":0.4},{"$f":"CONCATENATE(\" \",D1089)","v":" °C"},{"$f":"IF(I1089=1,F1089,IF(I1089=2,F1089,IF(I1089=3,F1089/100*C1089,\"\")))","v":0.4}," °C"]
[{"$f":"COUNTIF($B$1:B1090,TRUE)","v":848},{"$f":"Worksheet!$B$20","v":true},{"$f":"RANDBETWEEN(5,RANDBETWEEN(5,Worksheet!$D$8))","v":47},"cm","±",{"$f":"IF(I1090=1,H1090*10^RANDBETWEEN(IF(Worksheet!$D$14,-1,0),0),IF(I1090=2,H1090,CHOOSE(RANDBETWEEN(1,3),5,10,20)))","v":10},{"$f":"IF(I1090=1,D1090,IF(I1090=3,\"%\",\"mm\"))","v":"%"},{"$f":"RANDBETWEEN(1,MIN(9,C1090))","v":9},{"$f":"IF(AND(Worksheet!$D$12,RAND()<0.2),3,IF(RAND()<Worksheet!$D$10/100,1,2))","v":3},{"$f":"IF(I1090=1,F1090,IF(I1090=2,F1090/10,IF(I1090=3,F1090/100*C1090,\"\")))","v":4.7},{"$f":"CONCATENATE(\" \",D1090)","v":" cm"},{"$f":"IF(I1090=1,F1090*10,IF(I1090=2,F1090,IF(I1090=3,F1090/100*C1090*10,\"\")))","v":47},"mm"]
[{"$f":"IF(COUNTIF($B$1:B1091,TRUE)=COUNTIF($B$1:B1090,TRUE),\"\",COUNTIF($B$1:B1091,TRUE))","v":849},{"$f":"Worksheet!$B$22","v":true},{"$f":"RANDBETWEEN(5,RANDBETWEEN(5,Worksheet!$D$8))","v":24},"m","±",{"$f":"IF(I1091=1,H1091*10^RANDBETWEEN(IF(Worksheet!$D$14,-1,0),0),IF(I1091=2,H1091*10^RANDBETWEEN(RANDBETWEEN(0,1),1),CHOOSE(RANDBETWEEN(1,3),5,10,20)))","v":3},{"$f":"IF(I1091=1,D1091,IF(I1091=3,\"%\",\"cm\"))","v":"m"},{"$f":"RANDBETWEEN(1,MIN(9,C1091))","v":3},{"$f":"IF(AND(Worksheet!$D$12,RAND()<0.2),3,IF(RAND()<Worksheet!$D$10/100,1,2))","v":1},{"$f":"IF(I1091=1,F1091,IF(I1091=2,F1091/100,IF(I1091=3,F1091/100*C1091,\"\")))","v":3},{"$f":"CONCATENATE(\" \",D1091)","v":" m"},{"$f":"IF(I1091=1,F1091*100,IF(I1091=2,F1091,IF(I1091=3,F1091/100*C1091*100,\"\")))","v":300},"cm"]
[{"$f":"IF(COUNTIF($B$1:B1092,TRUE)=COUNTIF($B$1:B1091,TRUE),\"\",COUNTIF($B$1:B1092,TRUE))","v":850},{"$f":"Worksheet!$B$24","v":true},{"$f":"RANDBETWEEN(5,RANDBETWEEN(5,Worksheet!$D$8))","v":114},"km","±",{"$f":"IF(I1092=1,H1092*10^RANDBETWEEN(IF(Worksheet!$D$14,-1,0),0),IF(I1092=2,H1092*10^RANDBETWEEN(RANDBETWEEN(0,2),2),CHOOSE(RANDBETWEEN(1,3),5,10,20)))","v":0.2},{"$f":"IF(I1092=1,D1092,IF(I1092=3,\"%\",\"m\"))","v":"km"},2,{"$f":"IF(AND(Worksheet!$D$12,RAND()<0.2),3,IF(RAND()<Worksheet!$D$10/100,1,2))","v":1},{"$f":"IF(I1092=1,F1092,IF(I1092=2,F1092/1000,IF(I1092=3,F1092/100*C1092,\"\")))","v":0.2}," km",{"$f":"IF(I1092=1,F1092*1000,IF(I1092=2,F1092,IF(I1092=3,F1092/100*C1092*1000,\"\")))","v":200},"m"]
[{"$f":"IF(COUNTIF($B$1:B1093,TRUE)=COUNTIF($B$1:B1092,TRUE),\"\",COUNTIF($B$1:B1093,TRUE))","v":""},{"$f":"Worksheet!$B$26","v":false},{"$f":"RANDBETWEEN(5,RANDBETWEEN(5,Worksheet!$D$8))","v":30},"m","±",{"$f":"IF(I1093=1,H1093*10^RANDBETWEEN(IF(Worksheet!$D$14,-1,0),0),IF(I1093=2,H1093*10^RANDBETWEEN(RANDBETWEEN(0,2),2),CHOOSE(RANDBETWEEN(1,3),5,10,20)))","v":0.5},{"$f":"IF(I1093=1,D1093,IF(I1093=3,\"%\",\"mm\"))","v":"m"},5,{"$f":"IF(AND(Worksheet!$D$12,RAND()<0.2),3,IF(RAND()<Worksheet!$D$10/100,1,2))","v":1},0.5," m",500,"mm"]
[{"$f":"IF(COUNTIF($B$1:B1094,TRUE)=COUNTIF($B$1:B1093,TRUE),\"\",COUNTIF($B$1:B1094,TRUE))","v":851},{"$f":"Worksheet!$D$20","v":true},{"$f":"RANDBETWEEN(5,RANDBETWEEN(5,Worksheet!$D$8))","v":150},"kg","±",{"$f":"IF(I1094=1,H1094*10^RANDBETWEEN(IF(Worksheet!$D$14,-1,0),0),IF(I1094=2,H1094*10^RANDBETWEEN(RANDBETWEEN(0,2),2),CHOOSE(RANDBETWEEN(1,3),5,10,20)))","v":0.60000000000000009},{"$f":"IF(I1094=1,D1094,IF(I1094=3,\"%\",\"g\"))","v":"kg"},{"$f":"RANDBETWEEN(1,MIN(9,C1094))","v":6},{"$f":"IF(AND(Worksheet!$D$12,RAND()<0.2),3,IF(RAND()<Worksheet!$D$10/100,1,2))","v":1},0.60000000000000009,{"$f":"CONCATENATE(\" \",D1094)","v":" kg"},600.00000000000011,"g"]
[{"$f":"IF(COUNTIF($B$1:B1095,TRUE)=COUNTIF($B$1:B1094,TRUE),\"\",COUNTIF($B$1:B1095,TRUE))","v":852},{"$f":"Worksheet!$D$22","v":true},{"$f":"RANDBETWEEN(5,RANDBETWEEN(5,Worksheet!$D$8))","v":76},"tonnes","±",{"$f":"IF(I1095=1,H1095*10^RANDBETWEEN(IF(Worksheet!$D$14,-1,0),0),IF(I1095=2,H1095*10^RANDBETWEEN(RANDBETWEEN(0,2),2),CHOOSE(RANDBETWEEN(1,3),5,10,20)))","v":80},{"$f":"IF(I1095=1,D1095,IF(I1095=3,\"%\",\"kg\"))","v":"kg"},{"$f":"RANDBETWEEN(1,MIN(9,C1095))","v":8},{"$f":"IF(AND(Worksheet!$D$12,RAND()<0.2),3,IF(RAND()<Worksheet!$D$10/100,1,2))","v":2},0.08,{"$f":"CONCATENATE(\" \",D1095)","v":" tonnes"},80,"kg"]
[{"$f":"IF(COUNTIF($B$1:B1096,TRUE)=COUNTIF($B$1:B1095,TRUE),\"\",COUNTIF($B$1:B1096,TRUE))","v":853},{"$f":"Worksheet!$D$24","v":true},{"$f":"RANDBETWEEN(5,RANDBETWEEN(5,Worksheet!$D$8))","v":16},"litres","±",{"$f":"IF(I1096=1,H1096*10^RANDBETWEEN(IF(Worksheet!$D$14,-1,0),0),IF(I1096=2,H1096*10^RANDBETWEEN(RANDBETWEEN(0,2),2),CHOOSE(RANDBETWEEN(1,3),5,10,20)))","v":0.30000000000000004},{"$f":"IF(I1096=1,D1096,IF(I1096=3,\"%\",\"ml\"))","v":"litres"},{"$f":"RANDBETWEEN(1,MIN(9,C1096))","v":3},{"$f":"IF(AND(Worksheet!$D$12,RAND()<0.2),3,IF(RAND()<Worksheet!$D$10/100,1,2))","v":1},0.30000000000000004,{"$f":"CONCATENATE(\" \",D1096)","v":" litres"},300.00000000000006,"ml"]
[{"$f":"IF(COUNTIF($B$1:B1097,TRUE)=COUNTIF($B$1:B1096,TRUE),\"\",COUNTIF($B$1:B1097,TRUE))","v":""},{"$f":"Worksheet!$D$26","v":false},{"$f":"RANDBETWEEN(5,RANDBETWEEN(5,Worksheet!$D$8))","v":14},"litres","±",{"$f":"IF(I1097=1,H1097*10^RANDBETWEEN(IF(Worksheet!$D$14,-1,0),0),IF(I1097=2,H1097*10^RANDBETWEEN(RANDBETWEEN(0,2),2),CHOOSE(RANDBETWEEN(1,3),5,10,20)))","v":0.9},{"$f":"IF(I1097=1,D1097,IF(I1097=3,\"%\",\"cm³\"))","v":"litres"},{"$f":"RANDBETWEEN(1,MIN(9,C1097))","v":9},{"$f":"IF(AND(Worksheet!$D$12,RAND()<0.2),3,IF(RAND()<Worksheet!$D$10/100,1,2))","v":1},0.9,{"$f":"CONCATENATE(\" \",D1097)","v":" litres"},900,"cm³"]
[{"$f":"IF(COUNTIF($B$1:B1098,TRUE)=COUNTIF($B$1:B1098,TRUE),\"\",COUNTIF($B$1:B1098,TRUE))","v":""},{"$f":"Worksheet!$B$28","v":true},{"$f":"RANDBETWEEN(5,20)","v":17},"°C","±",{"$f":"IF(I1098=1,H1098*10^RANDBETWEEN(IF(Worksheet!$D$14,-1,0),0),IF(I1098=2,H1098,CHOOSE(RANDBETWEEN(1,3),5,10,20)))","v":2},{"$f":"IF(I1098=1,D1098,IF(I1098=3,\"%\",\"sec\"))","v":"°C"},{"$f":"RANDBETWEEN(1,MIN(9,C1098))","v":2},{"$f":"IF(AND(Worksheet!$D$12,RAND()<0),3,IF(RAND()<Worksheet!$D$10/100,1,2))","v":1},{"$f":"IF(I1098=1,F1098,IF(I1098=2,F1098,IF(I1098=3,F1098/100*C1098,\"\")))","v":2},{"$f":"CONCATENATE(\" \",D1098)","v":" °C"},{"$f":"IF(I1098=1,F1098,IF(I1098=2,F1098,IF(I1098=3,F1098/100*C1098,\"\")))","v":2}," °C"]
[{"$f":"COUNTIF($B$1:B1099,TRUE)","v":855},{"$f":"Worksheet!$B$20","v":true},{"$f":"RANDBETWEEN(5,RANDBETWEEN(5,Worksheet!$D$8))","v":141},"cm","±",{"$f":"IF(I1099=1,H1099*10^RANDBETWEEN(IF(Worksheet!$D$14,-1,0),0),IF(I1099=2,H1099,CHOOSE(RANDBETWEEN(1,3),5,10,20)))","v":1},{"$f":"IF(I1099=1,D1099,IF(I1099=3,\"%\",\"mm\"))","v":"cm"},{"$f":"RANDBETWEEN(1,MIN(9,C1099))","v":1},{"$f":"IF(AND(Worksheet!$D$12,RAND()<0.2),3,IF(RAND()<Worksheet!$D$10/100,1,2))","v":1},{"$f":"IF(I1099=1,F1099,IF(I1099=2,F1099/10,IF(I1099=3,F1099/100*C1099,\"\")))","v":1},{"$f":"CONCATENATE(\" \",D1099)","v":" cm"},{"$f":"IF(I1099=1,F1099*10,IF(I1099=2,F1099,IF(I1099=3,F1099/100*C1099*10,\"\")))","v":10},"mm"]
[{"$f":"IF(COUNTIF($B$1:B1100,TRUE)=COUNTIF($B$1:B1099,TRUE),\"\",COUNTIF($B$1:B1100,TRUE))","v":856},{"$f":"Worksheet!$B$22","v":true},{"$f":"RANDBETWEEN(5,RANDBETWEEN(5,Worksheet!$D$8))","v":36},"m","±",{"$f":"IF(I1100=1,H1100*10^RANDBETWEEN(IF(Worksheet!$D$14,-1,0),0),IF(I1100=2,H1100*10^RANDBETWEEN(RANDBETWEEN(0,1),1),CHOOSE(RANDBETWEEN(1,3),5,10,20)))","v":90},{"$f":"IF(I1100=1,D1100,IF(I1100=3,\"%\",\"cm\"))","v":"cm"},{"$f":"RANDBETWEEN(1,MIN(9,C1100))","v":9},{"$f":"IF(AND(Worksheet!$D$12,RAND()<0.2),3,IF(RAND()<Worksheet!$D$10/100,1,2))","v":2},{"$f":"IF(I1100=1,F1100,IF(I1100=2,F1100/100,IF(I1100=3,F1100/100*C1100,\"\")))","v":0.9},{"$f":"CONCATENATE(\" \",D1100)","v":" m"},{"$f":"IF(I1100=1,F1100*100,IF(I1100=2,F1100,IF(I1100=3,F1100/100*C1100*100,\"\")))","v":90},"cm"]
[{"$f":"IF(COUNTIF($B$1:B1101,TRUE)=COUNTIF($B$1:B1100,TRUE),\"\",COUNTIF($B$1:B1101,TRUE))","v":857},{"$f":"Worksheet!$B$24","v":true},{"$f":"RANDBETWEEN(5,RANDBETWEEN(5,Worksheet!$D$8))","v":17},"km","±",{"$f":"IF(I1101=1,H1101*10^RANDBETWEEN(IF(Worksheet!$D$14,-1,0),0),IF(I1101=2,H1101*10^RANDBETWEEN(RANDBETWEEN(0,2),2),CHOOSE(RANDBETWEEN(1,3),5,10,20)))","v":20},{"$f":"IF(I1101=1,D1101,IF(I1101=3,\"%\",\"m\"))","v":"%"},3,{"$f":"IF(AND(Worksheet!$D$12,RAND()<0.2),3,IF(RAND()<Worksheet!$D$10/100,1,2))","v":3},{"$f":"IF(I1101=1,F1101,IF(I1101=2,F1101/1000,IF(I1101=3,F1101/100*C1101,\"\")))","v":3.4000000000000004}," km",{"$f":"IF(I1101=1,F1101*1000,IF(I1101=2,F1101,IF(I1101=3,F1101/100*C1101*1000,\"\")))","v":3400.0000000000005},"m"]
[{"$f":"IF(COUNTIF($B$1:B1102,TRUE)=COUNTIF($B$1:B1101,TRUE),\"\",COUNTIF($B$1:B1102,TRUE))","v":""},{"$f":"Worksheet!$B$26","v":false},{"$f":"RANDBETWEEN(5,RANDBETWEEN(5,Worksheet!$D$8))","v":126},"m","±",{"$f":"IF(I1102=1,H1102*10^RANDBETWEEN(IF(Worksheet!$D$14,-1,0),0),IF(I1102=2,H1102*10^RANDBETWEEN(RANDBETWEEN(0,2),2),CHOOSE(RANDBETWEEN(1,3),5,10,20)))","v":500},{"$f":"IF(I1102=1,D1102,IF(I1102=3,\"%\",\"mm\"))","v":"mm"},5,{"$f":"IF(AND(Worksheet!$D$12,RAND()<0.2),3,IF(RAND()<Worksheet!$D$10/100,1,2))","v":2},0.5," m",500,"mm"]
[{"$f":"IF(COUNTIF($B$1:B1103,TRUE)=COUNTIF($B$1:B1102,TRUE),\"\",COUNTIF($B$1:B1103,TRUE))","v":858},{"$f":"Worksheet!$D$20","v":true},{"$f":"RANDBETWEEN(5,RANDBETWEEN(5,Worksheet!$D$8))","v":91},"kg","±",{"$f":"IF(I1103=1,H1103*10^RANDBETWEEN(IF(Worksheet!$D$14,-1,0),0),IF(I1103=2,H1103*10^RANDBETWEEN(RANDBETWEEN(0,2),2),CHOOSE(RANDBETWEEN(1,3),5,10,20)))","v":5},{"$f":"IF(I1103=1,D1103,IF(I1103=3,\"%\",\"g\"))","v":"%"},{"$f":"RANDBETWEEN(1,MIN(9,C1103))","v":3},{"$f":"IF(AND(Worksheet!$D$12,RAND()<0.2),3,IF(RAND()<Worksheet!$D$10/100,1,2))","v":3},4.55,{"$f":"CONCATENATE(\" \",D1103)","v":" kg"},4550,"g"]
[{"$f":"IF(COUNTIF($B$1:B1104,TRUE)=COUNTIF($B$1:B1103,TRUE),\"\",COUNTIF($B$1:B1104,TRUE))","v":859},{"$f":"Worksheet!$D$22","v":true},{"$f":"RANDBETWEEN(5,RANDBETWEEN(5,Worksheet!$D$8))","v":135},"tonnes","±",{"$f":"IF(I1104=1,H1104*10^RANDBETWEEN(IF(Worksheet!$D$14,-1,0),0),IF(I1104=2,H1104*10^RANDBETWEEN(RANDBETWEEN(0,2),2),CHOOSE(RANDBETWEEN(1,3),5,10,20)))","v":0.70000000000000007},{"$f":"IF(I1104=1,D1104,IF(I1104=3,\"%\",\"kg\"))","v":"tonnes"},{"$f":"RANDBETWEEN(1,MIN(9,C1104))","v":7},{"$f":"IF(AND(Worksheet!$D$12,RAND()<0.2),3,IF(RAND()<Worksheet!$D$10/100,1,2))","v":1},0.70000000000000007,{"$f":"CONCATENATE(\" \",D1104)","v":" tonnes"},700.00000000000011,"kg"]
[{"$f":"IF(COUNTIF($B$1:B1105,TRUE)=COUNTIF($B$1:B1104,TRUE),\"\",COUNTIF($B$1:B1105,TRUE))","v":860},{"$f":"Worksheet!$D$24","v":true},{"$f":"RANDBETWEEN(5,RANDBETWEEN(5,Worksheet!$D$8))","v":34},"litres","±",{"$f":"IF(I1105=1,H1105*10^RANDBETWEEN(IF(Worksheet!$D$14,-1,0),0),IF(I1105=2,H1105*10^RANDBETWEEN(RANDBETWEEN(0,2),2),CHOOSE(RANDBETWEEN(1,3),5,10,20)))","v":10},{"$f":"IF(I1105=1,D1105,IF(I1105=3,\"%\",\"ml\"))","v":"%"},{"$f":"RANDBETWEEN(1,MIN(9,C1105))","v":1},{"$f":"IF(AND(Worksheet!$D$12,RAND()<0.2),3,IF(RAND()<Worksheet!$D$10/100,1,2))","v":3},3.4000000000000004,{"$f":"CONCATENATE(\" \",D1105)","v":" litres"},3400.0000000000005,"ml"]
[{"$f":"IF(COUNTIF($B$1:B1106,TRUE)=COUNTIF($B$1:B1105,TRUE),\"\",COUNTIF($B$1:B1106,TRUE))","v":""},{"$f":"Worksheet!$D$26","v":false},{"$f":"RANDBETWEEN(5,RANDBETWEEN(5,Worksheet!$D$8))","v":42},"litres","±",{"$f":"IF(I1106=1,H1106*10^RANDBETWEEN(IF(Worksheet!$D$14,-1,0),0),IF(I1106=2,H1106*10^RANDBETWEEN(RANDBETWEEN(0,2),2),CHOOSE(RANDBETWEEN(1,3),5,10,20)))","v":0.1},{"$f":"IF(I1106=1,D1106,IF(I1106=3,\"%\",\"cm³\"))","v":"litres"},{"$f":"RANDBETWEEN(1,MIN(9,C1106))","v":1},{"$f":"IF(AND(Worksheet!$D$12,RAND()<0.2),3,IF(RAND()<Worksheet!$D$10/100,1,2))","v":1},0.1,{"$f":"CONCATENATE(\" \",D1106)","v":" litres"},100,"cm³"]
[{"$f":"IF(COUNTIF($B$1:B1107,TRUE)=COUNTIF($B$1:B1107,TRUE),\"\",COUNTIF($B$1:B1107,TRUE))","v":""},{"$f":"Worksheet!$B$28","v":true},{"$f":"RANDBETWEEN(5,20)","v":5},"°C","±",{"$f":"IF(I1107=1,H1107*10^RANDBETWEEN(IF(Worksheet!$D$14,-1,0),0),IF(I1107=2,H1107,CHOOSE(RANDBETWEEN(1,3),5,10,20)))","v":0.5},{"$f":"IF(I1107=1,D1107,IF(I1107=3,\"%\",\"sec\"))","v":"°C"},{"$f":"RANDBETWEEN(1,MIN(9,C1107))","v":5},{"$f":"IF(AND(Worksheet!$D$12,RAND()<0),3,IF(RAND()<Worksheet!$D$10/100,1,2))","v":1},{"$f":"IF(I1107=1,F1107,IF(I1107=2,F1107,IF(I1107=3,F1107/100*C1107,\"\")))","v":0.5},{"$f":"CONCATENATE(\" \",D1107)","v":" °C"},{"$f":"IF(I1107=1,F1107,IF(I1107=2,F1107,IF(I1107=3,F1107/100*C1107,\"\")))","v":0.5}," °C"]
[{"$f":"COUNTIF($B$1:B1108,TRUE)","v":862},{"$f":"Worksheet!$B$20","v":true},{"$f":"RANDBETWEEN(5,RANDBETWEEN(5,Worksheet!$D$8))","v":108},"cm","±",{"$f":"IF(I1108=1,H1108*10^RANDBETWEEN(IF(Worksheet!$D$14,-1,0),0),IF(I1108=2,H1108,CHOOSE(RANDBETWEEN(1,3),5,10,20)))","v":0.60000000000000009},{"$f":"IF(I1108=1,D1108,IF(I1108=3,\"%\",\"mm\"))","v":"cm"},{"$f":"RANDBETWEEN(1,MIN(9,C1108))","v":6},{"$f":"IF(AND(Worksheet!$D$12,RAND()<0.2),3,IF(RAND()<Worksheet!$D$10/100,1,2))","v":1},{"$f":"IF(I1108=1,F1108,IF(I1108=2,F1108/10,IF(I1108=3,F1108/100*C1108,\"\")))","v":0.60000000000000009},{"$f":"CONCATENATE(\" \",D1108)","v":" cm"},{"$f":"IF(I1108=1,F1108*10,IF(I1108=2,F1108,IF(I1108=3,F1108/100*C1108*10,\"\")))","v":6.0000000000000009},"mm"]
[{"$f":"IF(COUNTIF($B$1:B1109,TRUE)=COUNTIF($B$1:B1108,TRUE),\"\",COUNTIF($B$1:B1109,TRUE))","v":863},{"$f":"Worksheet!$B$22","v":true},{"$f":"RANDBETWEEN(5,RANDBETWEEN(5,Worksheet!$D$8))","v":54},"m","±",{"$f":"IF(I1109=1,H1109*10^RANDBETWEEN(IF(Worksheet!$D$14,-1,0),0),IF(I1109=2,H1109*10^RANDBETWEEN(RANDBETWEEN(0,1),1),CHOOSE(RANDBETWEEN(1,3),5,10,20)))","v":0.9},{"$f":"IF(I1109=1,D1109,IF(I1109=3,\"%\",\"cm\"))","v":"m"},{"$f":"RANDBETWEEN(1,MIN(9,C1109))","v":9},{"$f":"IF(AND(Worksheet!$D$12,RAND()<0.2),3,IF(RAND()<Worksheet!$D$10/100,1,2))","v":1},{"$f":"IF(I1109=1,F1109,IF(I1109=2,F1109/100,IF(I1109=3,F1109/100*C1109,\"\")))","v":0.9},{"$f":"CONCATENATE(\" \",D1109)","v":" m"},{"$f":"IF(I1109=1,F1109*100,IF(I1109=2,F1109,IF(I1109=3,F1109/100*C1109*100,\"\")))","v":90},"cm"]
[{"$f":"IF(COUNTIF($B$1:B1110,TRUE)=COUNTIF($B$1:B1109,TRUE),\"\",COUNTIF($B$1:B1110,TRUE))","v":864},{"$f":"Worksheet!$B$24","v":true},{"$f":"RANDBETWEEN(5,RANDBETWEEN(5,Worksheet!$D$8))","v":167},"km","±",{"$f":"IF(I1110=1,H1110*10^RANDBETWEEN(IF(Worksheet!$D$14,-1,0),0),IF(I1110=2,H1110*10^RANDBETWEEN(RANDBETWEEN(0,2),2),CHOOSE(RANDBETWEEN(1,3),5,10,20)))","v":0.30000000000000004},{"$f":"IF(I1110=1,D1110,IF(I1110=3,\"%\",\"m\"))","v":"km"},3,{"$f":"IF(AND(Worksheet!$D$12,RAND()<0.2),3,IF(RAND()<Worksheet!$D$10/100,1,2))","v":1},{"$f":"IF(I1110=1,F1110,IF(I1110=2,F1110/1000,IF(I1110=3,F1110/100*C1110,\"\")))","v":0.30000000000000004}," km",{"$f":"IF(I1110=1,F1110*1000,IF(I1110=2,F1110,IF(I1110=3,F1110/100*C1110*1000,\"\")))","v":300.00000000000006},"m"]
[{"$f":"IF(COUNTIF($B$1:B1111,TRUE)=COUNTIF($B$1:B1110,TRUE),\"\",COUNTIF($B$1:B1111,TRUE))","v":""},{"$f":"Worksheet!$B$26","v":false},{"$f":"RANDBETWEEN(5,RANDBETWEEN(5,Worksheet!$D$8))","v":65},"m","±",{"$f":"IF(I1111=1,H1111*10^RANDBETWEEN(IF(Worksheet!$D$14,-1,0),0),IF(I1111=2,H1111*10^RANDBETWEEN(RANDBETWEEN(0,2),2),CHOOSE(RANDBETWEEN(1,3),5,10,20)))","v":10},{"$f":"IF(I1111=1,D1111,IF(I1111=3,\"%\",\"mm\"))","v":"%"},1,{"$f":"IF(AND(Worksheet!$D$12,RAND()<0.2),3,IF(RAND()<Worksheet!$D$10/100,1,2))","v":3},6.5," m",6500,"mm"]
[{"$f":"IF(COUNTIF($B$1:B1112,TRUE)=COUNTIF($B$1:B1111,TRUE),\"\",COUNTIF($B$1:B1112,TRUE))","v":865},{"$f":"Worksheet!$D$20","v":true},{"$f":"RANDBETWEEN(5,RANDBETWEEN(5,Worksheet!$D$8))","v":19},"kg","±",{"$f":"IF(I1112=1,H1112*10^RANDBETWEEN(IF(Worksheet!$D$14,-1,0),0),IF(I1112=2,H1112*10^RANDBETWEEN(RANDBETWEEN(0,2),2),CHOOSE(RANDBETWEEN(1,3),5,10,20)))","v":0.2},{"$f":"IF(I1112=1,D1112,IF(I1112=3,\"%\",\"g\"))","v":"kg"},{"$f":"RANDBETWEEN(1,MIN(9,C1112))","v":2},{"$f":"IF(AND(Worksheet!$D$12,RAND()<0.2),3,IF(RAND()<Worksheet!$D$10/100,1,2))","v":1},0.2,{"$f":"CONCATENATE(\" \",D1112)","v":" kg"},200,"g"]
[{"$f":"IF(COUNTIF($B$1:B1113,TRUE)=COUNTIF($B$1:B1112,TRUE),\"\",COUNTIF($B$1:B1113,TRUE))","v":866},{"$f":"Worksheet!$D$22","v":true},{"$f":"RANDBETWEEN(5,RANDBETWEEN(5,Worksheet!$D$8))","v":139},"tonnes","±",{"$f":"IF(I1113=1,H1113*10^RANDBETWEEN(IF(Worksheet!$D$14,-1,0),0),IF(I1113=2,H1113*10^RANDBETWEEN(RANDBETWEEN(0,2),2),CHOOSE(RANDBETWEEN(1,3),5,10,20)))","v":0.4},{"$f":"IF(I1113=1,D1113,IF(I1113=3,\"%\",\"kg\"))","v":"tonnes"},{"$f":"RANDBETWEEN(1,MIN(9,C1113))","v":4},{"$f":"IF(AND(Worksheet!$D$12,RAND()<0.2),3,IF(RAND()<Worksheet!$D$10/100,1,2))","v":1},0.4,{"$f":"CONCATENATE(\" \",D1113)","v":" tonnes"},400,"kg"]
[{"$f":"IF(COUNTIF($B$1:B1114,TRUE)=COUNTIF($B$1:B1113,TRUE),\"\",COUNTIF($B$1:B1114,TRUE))","v":867},{"$f":"Worksheet!$D$24","v":true},{"$f":"RANDBETWEEN(5,RANDBETWEEN(5,Worksheet!$D$8))","v":72},"litres","±",{"$f":"IF(I1114=1,H1114*10^RANDBETWEEN(IF(Worksheet!$D$14,-1,0),0),IF(I1114=2,H1114*10^RANDBETWEEN(RANDBETWEEN(0,2),2),CHOOSE(RANDBETWEEN(1,3),5,10,20)))","v":800},{"$f":"IF(I1114=1,D1114,IF(I1114=3,\"%\",\"ml\"))","v":"ml"},{"$f":"RANDBETWEEN(1,MIN(9,C1114))","v":8},{"$f":"IF(AND(Worksheet!$D$12,RAND()<0.2),3,IF(RAND()<Worksheet!$D$10/100,1,2))","v":2},0.8,{"$f":"CONCATENATE(\" \",D1114)","v":" litres"},800,"ml"]
[{"$f":"IF(COUNTIF($B$1:B1115,TRUE)=COUNTIF($B$1:B1114,TRUE),\"\",COUNTIF($B$1:B1115,TRUE))","v":""},{"$f":"Worksheet!$D$26","v":false},{"$f":"RANDBETWEEN(5,RANDBETWEEN(5,Worksheet!$D$8))","v":29},"litres","±",{"$f":"IF(I1115=1,H1115*10^RANDBETWEEN(IF(Worksheet!$D$14,-1,0),0),IF(I1115=2,H1115*10^RANDBETWEEN(RANDBETWEEN(0,2),2),CHOOSE(RANDBETWEEN(1,3),5,10,20)))","v":7},{"$f":"IF(I1115=1,D1115,IF(I1115=3,\"%\",\"cm³\"))","v":"litres"},{"$f":"RANDBETWEEN(1,MIN(9,C1115))","v":7},{"$f":"IF(AND(Worksheet!$D$12,RAND()<0.2),3,IF(RAND()<Worksheet!$D$10/100,1,2))","v":1},7,{"$f":"CONCATENATE(\" \",D1115)","v":" litres"},7000,"cm³"]
[{"$f":"IF(COUNTIF($B$1:B1116,TRUE)=COUNTIF($B$1:B1116,TRUE),\"\",COUNTIF($B$1:B1116,TRUE))","v":""},{"$f":"Worksheet!$B$28","v":true},{"$f":"RANDBETWEEN(5,20)","v":13},"°C","±",{"$f":"IF(I1116=1,H1116*10^RANDBETWEEN(IF(Worksheet!$D$14,-1,0),0),IF(I1116=2,H1116,CHOOSE(RANDBETWEEN(1,3),5,10,20)))","v":0.9},{"$f":"IF(I1116=1,D1116,IF(I1116=3,\"%\",\"sec\"))","v":"°C"},{"$f":"RANDBETWEEN(1,MIN(9,C1116))","v":9},{"$f":"IF(AND(Worksheet!$D$12,RAND()<0),3,IF(RAND()<Worksheet!$D$10/100,1,2))","v":1},{"$f":"IF(I1116=1,F1116,IF(I1116=2,F1116,IF(I1116=3,F1116/100*C1116,\"\")))","v":0.9},{"$f":"CONCATENATE(\" \",D1116)","v":" °C"},{"$f":"IF(I1116=1,F1116,IF(I1116=2,F1116,IF(I1116=3,F1116/100*C1116,\"\")))","v":0.9}," °C"]
[{"$f":"COUNTIF($B$1:B1117,TRUE)","v":869},{"$f":"Worksheet!$B$20","v":true},{"$f":"RANDBETWEEN(5,RANDBETWEEN(5,Worksheet!$D$8))","v":20},"cm","±",{"$f":"IF(I1117=1,H1117*10^RANDBETWEEN(IF(Worksheet!$D$14,-1,0),0),IF(I1117=2,H1117,CHOOSE(RANDBETWEEN(1,3),5,10,20)))","v":0.2},{"$f":"IF(I1117=1,D1117,IF(I1117=3,\"%\",\"mm\"))","v":"cm"},{"$f":"RANDBETWEEN(1,MIN(9,C1117))","v":2},{"$f":"IF(AND(Worksheet!$D$12,RAND()<0.2),3,IF(RAND()<Worksheet!$D$10/100,1,2))","v":1},{"$f":"IF(I1117=1,F1117,IF(I1117=2,F1117/10,IF(I1117=3,F1117/100*C1117,\"\")))","v":0.2},{"$f":"CONCATENATE(\" \",D1117)","v":" cm"},{"$f":"IF(I1117=1,F1117*10,IF(I1117=2,F1117,IF(I1117=3,F1117/100*C1117*10,\"\")))","v":2},"mm"]
[{"$f":"IF(COUNTIF($B$1:B1118,TRUE)=COUNTIF($B$1:B1117,TRUE),\"\",COUNTIF($B$1:B1118,TRUE))","v":870},{"$f":"Worksheet!$B$22","v":true},{"$f":"RANDBETWEEN(5,RANDBETWEEN(5,Worksheet!$D$8))","v":20},"m","±",{"$f":"IF(I1118=1,H1118*10^RANDBETWEEN(IF(Worksheet!$D$14,-1,0),0),IF(I1118=2,H1118*10^RANDBETWEEN(RANDBETWEEN(0,1),1),CHOOSE(RANDBETWEEN(1,3),5,10,20)))","v":10},{"$f":"IF(I1118=1,D1118,IF(I1118=3,\"%\",\"cm\"))","v":"%"},{"$f":"RANDBETWEEN(1,MIN(9,C1118))","v":9},{"$f":"IF(AND(Worksheet!$D$12,RAND()<0.2),3,IF(RAND()<Worksheet!$D$10/100,1,2))","v":3},{"$f":"IF(I1118=1,F1118,IF(I1118=2,F1118/100,IF(I1118=3,F1118/100*C1118,\"\")))","v":2},{"$f":"CONCATENATE(\" \",D1118)","v":" m"},{"$f":"IF(I1118=1,F1118*100,IF(I1118=2,F1118,IF(I1118=3,F1118/100*C1118*100,\"\")))","v":200},"cm"]
[{"$f":"IF(COUNTIF($B$1:B1119,TRUE)=COUNTIF($B$1:B1118,TRUE),\"\",COUNTIF($B$1:B1119,TRUE))","v":871},{"$f":"Worksheet!$B$24","v":true},{"$f":"RANDBETWEEN(5,RANDBETWEEN(5,Worksheet!$D$8))","v":15},"km","±",{"$f":"IF(I1119=1,H1119*10^RANDBETWEEN(IF(Worksheet!$D$14,-1,0),0),IF(I1119=2,H1119*10^RANDBETWEEN(RANDBETWEEN(0,2),2),CHOOSE(RANDBETWEEN(1,3),5,10,20)))","v":6},{"$f":"IF(I1119=1,D1119,IF(I1119=3,\"%\",\"m\"))","v":"km"},6,{"$f":"IF(AND(Worksheet!$D$12,RAND()<0.2),3,IF(RAND()<Worksheet!$D$10/100,1,2))","v":1},{"$f":"IF(I1119=1,F1119,IF(I1119=2,F1119/1000,IF(I1119=3,F1119/100*C1119,\"\")))","v":6}," km",{"$f":"IF(I1119=1,F1119*1000,IF(I1119=2,F1119,IF(I1119=3,F1119/100*C1119*1000,\"\")))","v":6000},"m"]
[{"$f":"IF(COUNTIF($B$1:B1120,TRUE)=COUNTIF($B$1:B1119,TRUE),\"\",COUNTIF($B$1:B1120,TRUE))","v":""},{"$f":"Worksheet!$B$26","v":false},{"$f":"RANDBETWEEN(5,RANDBETWEEN(5,Worksheet!$D$8))","v":7},"m","±",{"$f":"IF(I1120=1,H1120*10^RANDBETWEEN(IF(Worksheet!$D$14,-1,0),0),IF(I1120=2,H1120*10^RANDBETWEEN(RANDBETWEEN(0,2),2),CHOOSE(RANDBETWEEN(1,3),5,10,20)))","v":0.2},{"$f":"IF(I1120=1,D1120,IF(I1120=3,\"%\",\"mm\"))","v":"m"},2,{"$f":"IF(AND(Worksheet!$D$12,RAND()<0.2),3,IF(RAND()<Worksheet!$D$10/100,1,2))","v":1},0.2," m",200,"mm"]
[{"$f":"IF(COUNTIF($B$1:B1121,TRUE)=COUNTIF($B$1:B1120,TRUE),\"\",COUNTIF($B$1:B1121,TRUE))","v":872},{"$f":"Worksheet!$D$20","v":true},{"$f":"RANDBETWEEN(5,RANDBETWEEN(5,Worksheet!$D$8))","v":9},"kg","±",{"$f":"IF(I1121=1,H1121*10^RANDBETWEEN(IF(Worksheet!$D$14,-1,0),0),IF(I1121=2,H1121*10^RANDBETWEEN(RANDBETWEEN(0,2),2),CHOOSE(RANDBETWEEN(1,3),5,10,20)))","v":0.60000000000000009},{"$f":"IF(I1121=1,D1121,IF(I1121=3,\"%\",\"g\"))","v":"kg"},{"$f":"RANDBETWEEN(1,MIN(9,C1121))","v":6},{"$f":"IF(AND(Worksheet!$D$12,RAND()<0.2),3,IF(RAND()<Worksheet!$D$10/100,1,2))","v":1},0.60000000000000009,{"$f":"CONCATENATE(\" \",D1121)","v":" kg"},600.00000000000011,"g"]
[{"$f":"IF(COUNTIF($B$1:B1122,TRUE)=COUNTIF($B$1:B1121,TRUE),\"\",COUNTIF($B$1:B1122,TRUE))","v":873},{"$f":"Worksheet!$D$22","v":true},{"$f":"RANDBETWEEN(5,RANDBETWEEN(5,Worksheet!$D$8))","v":98},"tonnes","±",{"$f":"IF(I1122=1,H1122*10^RANDBETWEEN(IF(Worksheet!$D$14,-1,0),0),IF(I1122=2,H1122*10^RANDBETWEEN(RANDBETWEEN(0,2),2),CHOOSE(RANDBETWEEN(1,3),5,10,20)))","v":100},{"$f":"IF(I1122=1,D1122,IF(I1122=3,\"%\",\"kg\"))","v":"kg"},{"$f":"RANDBETWEEN(1,MIN(9,C1122))","v":1},{"$f":"IF(AND(Worksheet!$D$12,RAND()<0.2),3,IF(RAND()<Worksheet!$D$10/100,1,2))","v":2},0.1,{"$f":"CONCATENATE(\" \",D1122)","v":" tonnes"},100,"kg"]
[{"$f":"IF(COUNTIF($B$1:B1123,TRUE)=COUNTIF($B$1:B1122,TRUE),\"\",COUNTIF($B$1:B1123,TRUE))","v":874},{"$f":"Worksheet!$D$24","v":true},{"$f":"RANDBETWEEN(5,RANDBETWEEN(5,Worksheet!$D$8))","v":121},"litres","±",{"$f":"IF(I1123=1,H1123*10^RANDBETWEEN(IF(Worksheet!$D$14,-1,0),0),IF(I1123=2,H1123*10^RANDBETWEEN(RANDBETWEEN(0,2),2),CHOOSE(RANDBETWEEN(1,3),5,10,20)))","v":20},{"$f":"IF(I1123=1,D1123,IF(I1123=3,\"%\",\"ml\"))","v":"%"},{"$f":"RANDBETWEEN(1,MIN(9,C1123))","v":9},{"$f":"IF(AND(Worksheet!$D$12,RAND()<0.2),3,IF(RAND()<Worksheet!$D$10/100,1,2))","v":3},24.200000000000003,{"$f":"CONCATENATE(\" \",D1123)","v":" litres"},24200.000000000004,"ml"]
[{"$f":"IF(COUNTIF($B$1:B1124,TRUE)=COUNTIF($B$1:B1123,TRUE),\"\",COUNTIF($B$1:B1124,TRUE))","v":""},{"$f":"Worksheet!$D$26","v":false},{"$f":"RANDBETWEEN(5,RANDBETWEEN(5,Worksheet!$D$8))","v":92},"litres","±",{"$f":"IF(I1124=1,H1124*10^RANDBETWEEN(IF(Worksheet!$D$14,-1,0),0),IF(I1124=2,H1124*10^RANDBETWEEN(RANDBETWEEN(0,2),2),CHOOSE(RANDBETWEEN(1,3),5,10,20)))","v":9},{"$f":"IF(I1124=1,D1124,IF(I1124=3,\"%\",\"cm³\"))","v":"litres"},{"$f":"RANDBETWEEN(1,MIN(9,C1124))","v":9},{"$f":"IF(AND(Worksheet!$D$12,RAND()<0.2),3,IF(RAND()<Worksheet!$D$10/100,1,2))","v":1},9,{"$f":"CONCATENATE(\" \",D1124)","v":" litres"},9000,"cm³"]
[{"$f":"IF(COUNTIF($B$1:B1125,TRUE)=COUNTIF($B$1:B1125,TRUE),\"\",COUNTIF($B$1:B1125,TRUE))","v":""},{"$f":"Worksheet!$B$28","v":true},{"$f":"RANDBETWEEN(5,20)","v":20},"°C","±",{"$f":"IF(I1125=1,H1125*10^RANDBETWEEN(IF(Worksheet!$D$14,-1,0),0),IF(I1125=2,H1125,CHOOSE(RANDBETWEEN(1,3),5,10,20)))","v":2},{"$f":"IF(I1125=1,D1125,IF(I1125=3,\"%\",\"sec\"))","v":"°C"},{"$f":"RANDBETWEEN(1,MIN(9,C1125))","v":2},{"$f":"IF(AND(Worksheet!$D$12,RAND()<0),3,IF(RAND()<Worksheet!$D$10/100,1,2))","v":1},{"$f":"IF(I1125=1,F1125,IF(I1125=2,F1125,IF(I1125=3,F1125/100*C1125,\"\")))","v":2},{"$f":"CONCATENATE(\" \",D1125)","v":" °C"},{"$f":"IF(I1125=1,F1125,IF(I1125=2,F1125,IF(I1125=3,F1125/100*C1125,\"\")))","v":2}," °C"]
[{"$f":"COUNTIF($B$1:B1126,TRUE)","v":876},{"$f":"Worksheet!$B$20","v":true},{"$f":"RANDBETWEEN(5,RANDBETWEEN(5,Worksheet!$D$8))","v":8},"cm","±",{"$f":"IF(I1126=1,H1126*10^RANDBETWEEN(IF(Worksheet!$D$14,-1,0),0),IF(I1126=2,H1126,CHOOSE(RANDBETWEEN(1,3),5,10,20)))","v":0.30000000000000004},{"$f":"IF(I1126=1,D1126,IF(I1126=3,\"%\",\"mm\"))","v":"cm"},{"$f":"RANDBETWEEN(1,MIN(9,C1126))","v":3},{"$f":"IF(AND(Worksheet!$D$12,RAND()<0.2),3,IF(RAND()<Worksheet!$D$10/100,1,2))","v":1},{"$f":"IF(I1126=1,F1126,IF(I1126=2,F1126/10,IF(I1126=3,F1126/100*C1126,\"\")))","v":0.30000000000000004},{"$f":"CONCATENATE(\" \",D1126)","v":" cm"},{"$f":"IF(I1126=1,F1126*10,IF(I1126=2,F1126,IF(I1126=3,F1126/100*C1126*10,\"\")))","v":3.0000000000000004},"mm"]
[{"$f":"IF(COUNTIF($B$1:B1127,TRUE)=COUNTIF($B$1:B1126,TRUE),\"\",COUNTIF($B$1:B1127,TRUE))","v":877},{"$f":"Worksheet!$B$22","v":true},{"$f":"RANDBETWEEN(5,RANDBETWEEN(5,Worksheet!$D$8))","v":52},"m","±",{"$f":"IF(I1127=1,H1127*10^RANDBETWEEN(IF(Worksheet!$D$14,-1,0),0),IF(I1127=2,H1127*10^RANDBETWEEN(RANDBETWEEN(0,1),1),CHOOSE(RANDBETWEEN(1,3),5,10,20)))","v":9},{"$f":"IF(I1127=1,D1127,IF(I1127=3,\"%\",\"cm\"))","v":"m"},{"$f":"RANDBETWEEN(1,MIN(9,C1127))","v":9},{"$f":"IF(AND(Worksheet!$D$12,RAND()<0.2),3,IF(RAND()<Worksheet!$D$10/100,1,2))","v":1},{"$f":"IF(I1127=1,F1127,IF(I1127=2,F1127/100,IF(I1127=3,F1127/100*C1127,\"\")))","v":9},{"$f":"CONCATENATE(\" \",D1127)","v":" m"},{"$f":"IF(I1127=1,F1127*100,IF(I1127=2,F1127,IF(I1127=3,F1127/100*C1127*100,\"\")))","v":900},"cm"]
[{"$f":"IF(COUNTIF($B$1:B1128,TRUE)=COUNTIF($B$1:B1127,TRUE),\"\",COUNTIF($B$1:B1128,TRUE))","v":878},{"$f":"Worksheet!$B$24","v":true},{"$f":"RANDBETWEEN(5,RANDBETWEEN(5,Worksheet!$D$8))","v":55},"km","±",{"$f":"IF(I1128=1,H1128*10^RANDBETWEEN(IF(Worksheet!$D$14,-1,0),0),IF(I1128=2,H1128*10^RANDBETWEEN(RANDBETWEEN(0,2),2),CHOOSE(RANDBETWEEN(1,3),5,10,20)))","v":0.30000000000000004},{"$f":"IF(I1128=1,D1128,IF(I1128=3,\"%\",\"m\"))","v":"km"},3,{"$f":"IF(AND(Worksheet!$D$12,RAND()<0.2),3,IF(RAND()<Worksheet!$D$10/100,1,2))","v":1},{"$f":"IF(I1128=1,F1128,IF(I1128=2,F1128/1000,IF(I1128=3,F1128/100*C1128,\"\")))","v":0.30000000000000004}," km",{"$f":"IF(I1128=1,F1128*1000,IF(I1128=2,F1128,IF(I1128=3,F1128/100*C1128*1000,\"\")))","v":300.00000000000006},"m"]
[{"$f":"IF(COUNTIF($B$1:B1129,TRUE)=COUNTIF($B$1:B1128,TRUE),\"\",COUNTIF($B$1:B1129,TRUE))","v":""},{"$f":"Worksheet!$B$26","v":false},{"$f":"RANDBETWEEN(5,RANDBETWEEN(5,Worksheet!$D$8))","v":72},"m","±",{"$f":"IF(I1129=1,H1129*10^RANDBETWEEN(IF(Worksheet!$D$14,-1,0),0),IF(I1129=2,H1129*10^RANDBETWEEN(RANDBETWEEN(0,2),2),CHOOSE(RANDBETWEEN(1,3),5,10,20)))","v":800},{"$f":"IF(I1129=1,D1129,IF(I1129=3,\"%\",\"mm\"))","v":"mm"},8,{"$f":"IF(AND(Worksheet!$D$12,RAND()<0.2),3,IF(RAND()<Worksheet!$D$10/100,1,2))","v":2},0.8," m",800,"mm"]
[{"$f":"IF(COUNTIF($B$1:B1130,TRUE)=COUNTIF($B$1:B1129,TRUE),\"\",COUNTIF($B$1:B1130,TRUE))","v":879},{"$f":"Worksheet!$D$20","v":true},{"$f":"RANDBETWEEN(5,RANDBETWEEN(5,Worksheet!$D$8))","v":5},"kg","±",{"$f":"IF(I1130=1,H1130*10^RANDBETWEEN(IF(Worksheet!$D$14,-1,0),0),IF(I1130=2,H1130*10^RANDBETWEEN(RANDBETWEEN(0,2),2),CHOOSE(RANDBETWEEN(1,3),5,10,20)))","v":1},{"$f":"IF(I1130=1,D1130,IF(I1130=3,\"%\",\"g\"))","v":"kg"},{"$f":"RANDBETWEEN(1,MIN(9,C1130))","v":1},{"$f":"IF(AND(Worksheet!$D$12,RAND()<0.2),3,IF(RAND()<Worksheet!$D$10/100,1,2))","v":1},1,{"$f":"CONCATENATE(\" \",D1130)","v":" kg"},1000,"g"]
[{"$f":"IF(COUNTIF($B$1:B1131,TRUE)=COUNTIF($B$1:B1130,TRUE),\"\",COUNTIF($B$1:B1131,TRUE))","v":880},{"$f":"Worksheet!$D$22","v":true},{"$f":"RANDBETWEEN(5,RANDBETWEEN(5,Worksheet!$D$8))","v":37},"tonnes","±",{"$f":"IF(I1131=1,H1131*10^RANDBETWEEN(IF(Worksheet!$D$14,-1,0),0),IF(I1131=2,H1131*10^RANDBETWEEN(RANDBETWEEN(0,2),2),CHOOSE(RANDBETWEEN(1,3),5,10,20)))","v":0.9},{"$f":"IF(I1131=1,D1131,IF(I1131=3,\"%\",\"kg\"))","v":"tonnes"},{"$f":"RANDBETWEEN(1,MIN(9,C1131))","v":9},{"$f":"IF(AND(Worksheet!$D$12,RAND()<0.2),3,IF(RAND()<Worksheet!$D$10/100,1,2))","v":1},0.9,{"$f":"CONCATENATE(\" \",D1131)","v":" tonnes"},900,"kg"]
[{"$f":"IF(COUNTIF($B$1:B1132,TRUE)=COUNTIF($B$1:B1131,TRUE),\"\",COUNTIF($B$1:B1132,TRUE))","v":881},{"$f":"Worksheet!$D$24","v":true},{"$f":"RANDBETWEEN(5,RANDBETWEEN(5,Worksheet!$D$8))","v":47},"litres","±",{"$f":"IF(I1132=1,H1132*10^RANDBETWEEN(IF(Worksheet!$D$14,-1,0),0),IF(I1132=2,H1132*10^RANDBETWEEN(RANDBETWEEN(0,2),2),CHOOSE(RANDBETWEEN(1,3),5,10,20)))","v":20},{"$f":"IF(I1132=1,D1132,IF(I1132=3,\"%\",\"ml\"))","v":"%"},{"$f":"RANDBETWEEN(1,MIN(9,C1132))","v":5},{"$f":"IF(AND(Worksheet!$D$12,RAND()<0.2),3,IF(RAND()<Worksheet!$D$10/100,1,2))","v":3},9.4,{"$f":"CONCATENATE(\" \",D1132)","v":" litres"},9400,"ml"]
[{"$f":"IF(COUNTIF($B$1:B1133,TRUE)=COUNTIF($B$1:B1132,TRUE),\"\",COUNTIF($B$1:B1133,TRUE))","v":""},{"$f":"Worksheet!$D$26","v":false},{"$f":"RANDBETWEEN(5,RANDBETWEEN(5,Worksheet!$D$8))","v":111},"litres","±",{"$f":"IF(I1133=1,H1133*10^RANDBETWEEN(IF(Worksheet!$D$14,-1,0),0),IF(I1133=2,H1133*10^RANDBETWEEN(RANDBETWEEN(0,2),2),CHOOSE(RANDBETWEEN(1,3),5,10,20)))","v":0.9},{"$f":"IF(I1133=1,D1133,IF(I1133=3,\"%\",\"cm³\"))","v":"litres"},{"$f":"RANDBETWEEN(1,MIN(9,C1133))","v":9},{"$f":"IF(AND(Worksheet!$D$12,RAND()<0.2),3,IF(RAND()<Worksheet!$D$10/100,1,2))","v":1},0.9,{"$f":"CONCATENATE(\" \",D1133)","v":" litres"},900,"cm³"]
[{"$f":"IF(COUNTIF($B$1:B1134,TRUE)=COUNTIF($B$1:B1134,TRUE),\"\",COUNTIF($B$1:B1134,TRUE))","v":""},{"$f":"Worksheet!$B$28","v":true},{"$f":"RANDBETWEEN(5,20)","v":6},"°C","±",{"$f":"IF(I1134=1,H1134*10^RANDBETWEEN(IF(Worksheet!$D$14,-1,0),0),IF(I1134=2,H1134,CHOOSE(RANDBETWEEN(1,3),5,10,20)))","v":2},{"$f":"IF(I1134=1,D1134,IF(I1134=3,\"%\",\"sec\"))","v":"sec"},{"$f":"RANDBETWEEN(1,MIN(9,C1134))","v":2},{"$f":"IF(AND(Worksheet!$D$12,RAND()<0),3,IF(RAND()<Worksheet!$D$10/100,1,2))","v":2},{"$f":"IF(I1134=1,F1134,IF(I1134=2,F1134,IF(I1134=3,F1134/100*C1134,\"\")))","v":2},{"$f":"CONCATENATE(\" \",D1134)","v":" °C"},{"$f":"IF(I1134=1,F1134,IF(I1134=2,F1134,IF(I1134=3,F1134/100*C1134,\"\")))","v":2}," °C"]
[{"$f":"COUNTIF($B$1:B1135,TRUE)","v":883},{"$f":"Worksheet!$B$20","v":true},{"$f":"RANDBETWEEN(5,RANDBETWEEN(5,Worksheet!$D$8))","v":13},"cm","±",{"$f":"IF(I1135=1,H1135*10^RANDBETWEEN(IF(Worksheet!$D$14,-1,0),0),IF(I1135=2,H1135,CHOOSE(RANDBETWEEN(1,3),5,10,20)))","v":5},{"$f":"IF(I1135=1,D1135,IF(I1135=3,\"%\",\"mm\"))","v":"%"},{"$f":"RANDBETWEEN(1,MIN(9,C1135))","v":6},{"$f":"IF(AND(Worksheet!$D$12,RAND()<0.2),3,IF(RAND()<Worksheet!$D$10/100,1,2))","v":3},{"$f":"IF(I1135=1,F1135,IF(I1135=2,F1135/10,IF(I1135=3,F1135/100*C1135,\"\")))","v":0.65},{"$f":"CONCATENATE(\" \",D1135)","v":" cm"},{"$f":"IF(I1135=1,F1135*10,IF(I1135=2,F1135,IF(I1135=3,F1135/100*C1135*10,\"\")))","v":6.5},"mm"]
[{"$f":"IF(COUNTIF($B$1:B1136,TRUE)=COUNTIF($B$1:B1135,TRUE),\"\",COUNTIF($B$1:B1136,TRUE))","v":884},{"$f":"Worksheet!$B$22","v":true},{"$f":"RANDBETWEEN(5,RANDBETWEEN(5,Worksheet!$D$8))","v":74},"m","±",{"$f":"IF(I1136=1,H1136*10^RANDBETWEEN(IF(Worksheet!$D$14,-1,0),0),IF(I1136=2,H1136*10^RANDBETWEEN(RANDBETWEEN(0,1),1),CHOOSE(RANDBETWEEN(1,3),5,10,20)))","v":0.2},{"$f":"IF(I1136=1,D1136,IF(I1136=3,\"%\",\"cm\"))","v":"m"},{"$f":"RANDBETWEEN(1,MIN(9,C1136))","v":2},{"$f":"IF(AND(Worksheet!$D$12,RAND()<0.2),3,IF(RAND()<Worksheet!$D$10/100,1,2))","v":1},{"$f":"IF(I1136=1,F1136,IF(I1136=2,F1136/100,IF(I1136=3,F1136/100*C1136,\"\")))","v":0.2},{"$f":"CONCATENATE(\" \",D1136)","v":" m"},{"$f":"IF(I1136=1,F1136*100,IF(I1136=2,F1136,IF(I1136=3,F1136/100*C1136*100,\"\")))","v":20},"cm"]
[{"$f":"IF(COUNTIF($B$1:B1137,TRUE)=COUNTIF($B$1:B1136,TRUE),\"\",COUNTIF($B$1:B1137,TRUE))","v":885},{"$f":"Worksheet!$B$24","v":true},{"$f":"RANDBETWEEN(5,RANDBETWEEN(5,Worksheet!$D$8))","v":71},"km","±",{"$f":"IF(I1137=1,H1137*10^RANDBETWEEN(IF(Worksheet!$D$14,-1,0),0),IF(I1137=2,H1137*10^RANDBETWEEN(RANDBETWEEN(0,2),2),CHOOSE(RANDBETWEEN(1,3),5,10,20)))","v":2},{"$f":"IF(I1137=1,D1137,IF(I1137=3,\"%\",\"m\"))","v":"km"},2,{"$f":"IF(AND(Worksheet!$D$12,RAND()<0.2),3,IF(RAND()<Worksheet!$D$10/100,1,2))","v":1},{"$f":"IF(I1137=1,F1137,IF(I1137=2,F1137/1000,IF(I1137=3,F1137/100*C1137,\"\")))","v":2}," km",{"$f":"IF(I1137=1,F1137*1000,IF(I1137=2,F1137,IF(I1137=3,F1137/100*C1137*1000,\"\")))","v":2000},"m"]
[{"$f":"IF(COUNTIF($B$1:B1138,TRUE)=COUNTIF($B$1:B1137,TRUE),\"\",COUNTIF($B$1:B1138,TRUE))","v":""},{"$f":"Worksheet!$B$26","v":false},{"$f":"RANDBETWEEN(5,RANDBETWEEN(5,Worksheet!$D$8))","v":123},"m","±",{"$f":"IF(I1138=1,H1138*10^RANDBETWEEN(IF(Worksheet!$D$14,-1,0),0),IF(I1138=2,H1138*10^RANDBETWEEN(RANDBETWEEN(0,2),2),CHOOSE(RANDBETWEEN(1,3),5,10,20)))","v":3},{"$f":"IF(I1138=1,D1138,IF(I1138=3,\"%\",\"mm\"))","v":"m"},3,{"$f":"IF(AND(Worksheet!$D$12,RAND()<0.2),3,IF(RAND()<Worksheet!$D$10/100,1,2))","v":1},3," m",3000,"mm"]
[{"$f":"IF(COUNTIF($B$1:B1139,TRUE)=COUNTIF($B$1:B1138,TRUE),\"\",COUNTIF($B$1:B1139,TRUE))","v":886},{"$f":"Worksheet!$D$20","v":true},{"$f":"RANDBETWEEN(5,RANDBETWEEN(5,Worksheet!$D$8))","v":25},"kg","±",{"$f":"IF(I1139=1,H1139*10^RANDBETWEEN(IF(Worksheet!$D$14,-1,0),0),IF(I1139=2,H1139*10^RANDBETWEEN(RANDBETWEEN(0,2),2),CHOOSE(RANDBETWEEN(1,3),5,10,20)))","v":10},{"$f":"IF(I1139=1,D1139,IF(I1139=3,\"%\",\"g\"))","v":"%"},{"$f":"RANDBETWEEN(1,MIN(9,C1139))","v":9},{"$f":"IF(AND(Worksheet!$D$12,RAND()<0.2),3,IF(RAND()<Worksheet!$D$10/100,1,2))","v":3},2.5,{"$f":"CONCATENATE(\" \",D1139)","v":" kg"},2500,"g"]
[{"$f":"IF(COUNTIF($B$1:B1140,TRUE)=COUNTIF($B$1:B1139,TRUE),\"\",COUNTIF($B$1:B1140,TRUE))","v":887},{"$f":"Worksheet!$D$22","v":true},{"$f":"RANDBETWEEN(5,RANDBETWEEN(5,Worksheet!$D$8))","v":7},"tonnes","±",{"$f":"IF(I1140=1,H1140*10^RANDBETWEEN(IF(Worksheet!$D$14,-1,0),0),IF(I1140=2,H1140*10^RANDBETWEEN(RANDBETWEEN(0,2),2),CHOOSE(RANDBETWEEN(1,3),5,10,20)))","v":300},{"$f":"IF(I1140=1,D1140,IF(I1140=3,\"%\",\"kg\"))","v":"kg"},{"$f":"RANDBETWEEN(1,MIN(9,C1140))","v":3},{"$f":"IF(AND(Worksheet!$D$12,RAND()<0.2),3,IF(RAND()<Worksheet!$D$10/100,1,2))","v":2},0.3,{"$f":"CONCATENATE(\" \",D1140)","v":" tonnes"},300,"kg"]
[{"$f":"IF(COUNTIF($B$1:B1141,TRUE)=COUNTIF($B$1:B1140,TRUE),\"\",COUNTIF($B$1:B1141,TRUE))","v":888},{"$f":"Worksheet!$D$24","v":true},{"$f":"RANDBETWEEN(5,RANDBETWEEN(5,Worksheet!$D$8))","v":40},"litres","±",{"$f":"IF(I1141=1,H1141*10^RANDBETWEEN(IF(Worksheet!$D$14,-1,0),0),IF(I1141=2,H1141*10^RANDBETWEEN(RANDBETWEEN(0,2),2),CHOOSE(RANDBETWEEN(1,3),5,10,20)))","v":0.1},{"$f":"IF(I1141=1,D1141,IF(I1141=3,\"%\",\"ml\"))","v":"litres"},{"$f":"RANDBETWEEN(1,MIN(9,C1141))","v":1},{"$f":"IF(AND(Worksheet!$D$12,RAND()<0.2),3,IF(RAND()<Worksheet!$D$10/100,1,2))","v":1},0.1,{"$f":"CONCATENATE(\" \",D1141)","v":" litres"},100,"ml"]
[{"$f":"IF(COUNTIF($B$1:B1142,TRUE)=COUNTIF($B$1:B1141,TRUE),\"\",COUNTIF($B$1:B1142,TRUE))","v":""},{"$f":"Worksheet!$D$26","v":false},{"$f":"RANDBETWEEN(5,RANDBETWEEN(5,Worksheet!$D$8))","v":12},"litres","±",{"$f":"IF(I1142=1,H1142*10^RANDBETWEEN(IF(Worksheet!$D$14,-1,0),0),IF(I1142=2,H1142*10^RANDBETWEEN(RANDBETWEEN(0,2),2),CHOOSE(RANDBETWEEN(1,3),5,10,20)))","v":3},{"$f":"IF(I1142=1,D1142,IF(I1142=3,\"%\",\"cm³\"))","v":"litres"},{"$f":"RANDBETWEEN(1,MIN(9,C1142))","v":3},{"$f":"IF(AND(Worksheet!$D$12,RAND()<0.2),3,IF(RAND()<Worksheet!$D$10/100,1,2))","v":1},3,{"$f":"CONCATENATE(\" \",D1142)","v":" litres"},3000,"cm³"]
[{"$f":"IF(COUNTIF($B$1:B1143,TRUE)=COUNTIF($B$1:B1143,TRUE),\"\",COUNTIF($B$1:B1143,TRUE))","v":""},{"$f":"Worksheet!$B$28","v":true},{"$f":"RANDBETWEEN(5,20)","v":20},"°C","±",{"$f":"IF(I1143=1,H1143*10^RANDBETWEEN(IF(Worksheet!$D$14,-1,0),0),IF(I1143=2,H1143,CHOOSE(RANDBETWEEN(1,3),5,10,20)))","v":3},{"$f":"IF(I1143=1,D1143,IF(I1143=3,\"%\",\"sec\"))","v":"sec"},{"$f":"RANDBETWEEN(1,MIN(9,C1143))","v":3},{"$f":"IF(AND(Worksheet!$D$12,RAND()<0),3,IF(RAND()<Worksheet!$D$10/100,1,2))","v":2},{"$f":"IF(I1143=1,F1143,IF(I1143=2,F1143,IF(I1143=3,F1143/100*C1143,\"\")))","v":3},{"$f":"CONCATENATE(\" \",D1143)","v":" °C"},{"$f":"IF(I1143=1,F1143,IF(I1143=2,F1143,IF(I1143=3,F1143/100*C1143,\"\")))","v":3}," °C"]
[{"$f":"COUNTIF($B$1:B1144,TRUE)","v":890},{"$f":"Worksheet!$B$20","v":true},{"$f":"RANDBETWEEN(5,RANDBETWEEN(5,Worksheet!$D$8))","v":134},"cm","±",{"$f":"IF(I1144=1,H1144*10^RANDBETWEEN(IF(Worksheet!$D$14,-1,0),0),IF(I1144=2,H1144,CHOOSE(RANDBETWEEN(1,3),5,10,20)))","v":0.8},{"$f":"IF(I1144=1,D1144,IF(I1144=3,\"%\",\"mm\"))","v":"cm"},{"$f":"RANDBETWEEN(1,MIN(9,C1144))","v":8},{"$f":"IF(AND(Worksheet!$D$12,RAND()<0.2),3,IF(RAND()<Worksheet!$D$10/100,1,2))","v":1},{"$f":"IF(I1144=1,F1144,IF(I1144=2,F1144/10,IF(I1144=3,F1144/100*C1144,\"\")))","v":0.8},{"$f":"CONCATENATE(\" \",D1144)","v":" cm"},{"$f":"IF(I1144=1,F1144*10,IF(I1144=2,F1144,IF(I1144=3,F1144/100*C1144*10,\"\")))","v":8},"mm"]
[{"$f":"IF(COUNTIF($B$1:B1145,TRUE)=COUNTIF($B$1:B1144,TRUE),\"\",COUNTIF($B$1:B1145,TRUE))","v":891},{"$f":"Worksheet!$B$22","v":true},{"$f":"RANDBETWEEN(5,RANDBETWEEN(5,Worksheet!$D$8))","v":90},"m","±",{"$f":"IF(I1145=1,H1145*10^RANDBETWEEN(IF(Worksheet!$D$14,-1,0),0),IF(I1145=2,H1145*10^RANDBETWEEN(RANDBETWEEN(0,1),1),CHOOSE(RANDBETWEEN(1,3),5,10,20)))","v":5},{"$f":"IF(I1145=1,D1145,IF(I1145=3,\"%\",\"cm\"))","v":"%"},{"$f":"RANDBETWEEN(1,MIN(9,C1145))","v":2},{"$f":"IF(AND(Worksheet!$D$12,RAND()<0.2),3,IF(RAND()<Worksheet!$D$10/100,1,2))","v":3},{"$f":"IF(I1145=1,F1145,IF(I1145=2,F1145/100,IF(I1145=3,F1145/100*C1145,\"\")))","v":4.5},{"$f":"CONCATENATE(\" \",D1145)","v":" m"},{"$f":"IF(I1145=1,F1145*100,IF(I1145=2,F1145,IF(I1145=3,F1145/100*C1145*100,\"\")))","v":450},"cm"]
[{"$f":"IF(COUNTIF($B$1:B1146,TRUE)=COUNTIF($B$1:B1145,TRUE),\"\",COUNTIF($B$1:B1146,TRUE))","v":892},{"$f":"Worksheet!$B$24","v":true},{"$f":"RANDBETWEEN(5,RANDBETWEEN(5,Worksheet!$D$8))","v":23},"km","±",{"$f":"IF(I1146=1,H1146*10^RANDBETWEEN(IF(Worksheet!$D$14,-1,0),0),IF(I1146=2,H1146*10^RANDBETWEEN(RANDBETWEEN(0,2),2),CHOOSE(RANDBETWEEN(1,3),5,10,20)))","v":7},{"$f":"IF(I1146=1,D1146,IF(I1146=3,\"%\",\"m\"))","v":"m"},7,{"$f":"IF(AND(Worksheet!$D$12,RAND()<0.2),3,IF(RAND()<Worksheet!$D$10/100,1,2))","v":2},{"$f":"IF(I1146=1,F1146,IF(I1146=2,F1146/1000,IF(I1146=3,F1146/100*C1146,\"\")))","v":7.0000000000000001E-3}," km",{"$f":"IF(I1146=1,F1146*1000,IF(I1146=2,F1146,IF(I1146=3,F1146/100*C1146*1000,\"\")))","v":7},"m"]
[{"$f":"IF(COUNTIF($B$1:B1147,TRUE)=COUNTIF($B$1:B1146,TRUE),\"\",COUNTIF($B$1:B1147,TRUE))","v":""},{"$f":"Worksheet!$B$26","v":false},{"$f":"RANDBETWEEN(5,RANDBETWEEN(5,Worksheet!$D$8))","v":11},"m","±",{"$f":"IF(I1147=1,H1147*10^RANDBETWEEN(IF(Worksheet!$D$14,-1,0),0),IF(I1147=2,H1147*10^RANDBETWEEN(RANDBETWEEN(0,2),2),CHOOSE(RANDBETWEEN(1,3),5,10,20)))","v":2},{"$f":"IF(I1147=1,D1147,IF(I1147=3,\"%\",\"mm\"))","v":"m"},2,{"$f":"IF(AND(Worksheet!$D$12,RAND()<0.2),3,IF(RAND()<Worksheet!$D$10/100,1,2))","v":1},2," m",2000,"mm"]
[{"$f":"IF(COUNTIF($B$1:B1148,TRUE)=COUNTIF($B$1:B1147,TRUE),\"\",COUNTIF($B$1:B1148,TRUE))","v":893},{"$f":"Worksheet!$D$20","v":true},{"$f":"RANDBETWEEN(5,RANDBETWEEN(5,Worksheet!$D$8))","v":32},"kg","±",{"$f":"IF(I1148=1,H1148*10^RANDBETWEEN(IF(Worksheet!$D$14,-1,0),0),IF(I1148=2,H1148*10^RANDBETWEEN(RANDBETWEEN(0,2),2),CHOOSE(RANDBETWEEN(1,3),5,10,20)))","v":200},{"$f":"IF(I1148=1,D1148,IF(I1148=3,\"%\",\"g\"))","v":"g"},{"$f":"RANDBETWEEN(1,MIN(9,C1148))","v":2},{"$f":"IF(AND(Worksheet!$D$12,RAND()<0.2),3,IF(RAND()<Worksheet!$D$10/100,1,2))","v":2},0.2,{"$f":"CONCATENATE(\" \",D1148)","v":" kg"},200,"g"]
[{"$f":"IF(COUNTIF($B$1:B1149,TRUE)=COUNTIF($B$1:B1148,TRUE),\"\",COUNTIF($B$1:B1149,TRUE))","v":894},{"$f":"Worksheet!$D$22","v":true},{"$f":"RANDBETWEEN(5,RANDBETWEEN(5,Worksheet!$D$8))","v":33},"tonnes","±",{"$f":"IF(I1149=1,H1149*10^RANDBETWEEN(IF(Worksheet!$D$14,-1,0),0),IF(I1149=2,H1149*10^RANDBETWEEN(RANDBETWEEN(0,2),2),CHOOSE(RANDBETWEEN(1,3),5,10,20)))","v":0.2},{"$f":"IF(I1149=1,D1149,IF(I1149=3,\"%\",\"kg\"))","v":"tonnes"},{"$f":"RANDBETWEEN(1,MIN(9,C1149))","v":2},{"$f":"IF(AND(Worksheet!$D$12,RAND()<0.2),3,IF(RAND()<Worksheet!$D$10/100,1,2))","v":1},0.2,{"$f":"CONCATENATE(\" \",D1149)","v":" tonnes"},200,"kg"]
[{"$f":"IF(COUNTIF($B$1:B1150,TRUE)=COUNTIF($B$1:B1149,TRUE),\"\",COUNTIF($B$1:B1150,TRUE))","v":895},{"$f":"Worksheet!$D$24","v":true},{"$f":"RANDBETWEEN(5,RANDBETWEEN(5,Worksheet!$D$8))","v":13},"litres","±",{"$f":"IF(I1150=1,H1150*10^RANDBETWEEN(IF(Worksheet!$D$14,-1,0),0),IF(I1150=2,H1150*10^RANDBETWEEN(RANDBETWEEN(0,2),2),CHOOSE(RANDBETWEEN(1,3),5,10,20)))","v":5},{"$f":"IF(I1150=1,D1150,IF(I1150=3,\"%\",\"ml\"))","v":"%"},{"$f":"RANDBETWEEN(1,MIN(9,C1150))","v":4},{"$f":"IF(AND(Worksheet!$D$12,RAND()<0.2),3,IF(RAND()<Worksheet!$D$10/100,1,2))","v":3},0.65,{"$f":"CONCATENATE(\" \",D1150)","v":" litres"},650,"ml"]
[{"$f":"IF(COUNTIF($B$1:B1151,TRUE)=COUNTIF($B$1:B1150,TRUE),\"\",COUNTIF($B$1:B1151,TRUE))","v":""},{"$f":"Worksheet!$D$26","v":false},{"$f":"RANDBETWEEN(5,RANDBETWEEN(5,Worksheet!$D$8))","v":72},"litres","±",{"$f":"IF(I1151=1,H1151*10^RANDBETWEEN(IF(Worksheet!$D$14,-1,0),0),IF(I1151=2,H1151*10^RANDBETWEEN(RANDBETWEEN(0,2),2),CHOOSE(RANDBETWEEN(1,3),5,10,20)))","v":10},{"$f":"IF(I1151=1,D1151,IF(I1151=3,\"%\",\"cm³\"))","v":"%"},{"$f":"RANDBETWEEN(1,MIN(9,C1151))","v":8},{"$f":"IF(AND(Worksheet!$D$12,RAND()<0.2),3,IF(RAND()<Worksheet!$D$10/100,1,2))","v":3},7.2,{"$f":"CONCATENATE(\" \",D1151)","v":" litres"},7200,"cm³"]
[{"$f":"IF(COUNTIF($B$1:B1152,TRUE)=COUNTIF($B$1:B1152,TRUE),\"\",COUNTIF($B$1:B1152,TRUE))","v":""},{"$f":"Worksheet!$B$28","v":true},{"$f":"RANDBETWEEN(5,20)","v":16},"°C","±",{"$f":"IF(I1152=1,H1152*10^RANDBETWEEN(IF(Worksheet!$D$14,-1,0),0),IF(I1152=2,H1152,CHOOSE(RANDBETWEEN(1,3),5,10,20)))","v":9},{"$f":"IF(I1152=1,D1152,IF(I1152=3,\"%\",\"sec\"))","v":"sec"},{"$f":"RANDBETWEEN(1,MIN(9,C1152))","v":9},{"$f":"IF(AND(Worksheet!$D$12,RAND()<0),3,IF(RAND()<Worksheet!$D$10/100,1,2))","v":2},{"$f":"IF(I1152=1,F1152,IF(I1152=2,F1152,IF(I1152=3,F1152/100*C1152,\"\")))","v":9},{"$f":"CONCATENATE(\" \",D1152)","v":" °C"},{"$f":"IF(I1152=1,F1152,IF(I1152=2,F1152,IF(I1152=3,F1152/100*C1152,\"\")))","v":9}," °C"]
[{"$f":"COUNTIF($B$1:B1153,TRUE)","v":897},{"$f":"Worksheet!$B$20","v":true},{"$f":"RANDBETWEEN(5,RANDBETWEEN(5,Worksheet!$D$8))","v":51},"cm","±",{"$f":"IF(I1153=1,H1153*10^RANDBETWEEN(IF(Worksheet!$D$14,-1,0),0),IF(I1153=2,H1153,CHOOSE(RANDBETWEEN(1,3),5,10,20)))","v":0.70000000000000007},{"$f":"IF(I1153=1,D1153,IF(I1153=3,\"%\",\"mm\"))","v":"cm"},{"$f":"RANDBETWEEN(1,MIN(9,C1153))","v":7},{"$f":"IF(AND(Worksheet!$D$12,RAND()<0.2),3,IF(RAND()<Worksheet!$D$10/100,1,2))","v":1},{"$f":"IF(I1153=1,F1153,IF(I1153=2,F1153/10,IF(I1153=3,F1153/100*C1153,\"\")))","v":0.70000000000000007},{"$f":"CONCATENATE(\" \",D1153)","v":" cm"},{"$f":"IF(I1153=1,F1153*10,IF(I1153=2,F1153,IF(I1153=3,F1153/100*C1153*10,\"\")))","v":7.0000000000000009},"mm"]
[{"$f":"IF(COUNTIF($B$1:B1154,TRUE)=COUNTIF($B$1:B1153,TRUE),\"\",COUNTIF($B$1:B1154,TRUE))","v":898},{"$f":"Worksheet!$B$22","v":true},{"$f":"RANDBETWEEN(5,RANDBETWEEN(5,Worksheet!$D$8))","v":44},"m","±",{"$f":"IF(I1154=1,H1154*10^RANDBETWEEN(IF(Worksheet!$D$14,-1,0),0),IF(I1154=2,H1154*10^RANDBETWEEN(RANDBETWEEN(0,1),1),CHOOSE(RANDBETWEEN(1,3),5,10,20)))","v":3},{"$f":"IF(I1154=1,D1154,IF(I1154=3,\"%\",\"cm\"))","v":"m"},{"$f":"RANDBETWEEN(1,MIN(9,C1154))","v":3},{"$f":"IF(AND(Worksheet!$D$12,RAND()<0.2),3,IF(RAND()<Worksheet!$D$10/100,1,2))","v":1},{"$f":"IF(I1154=1,F1154,IF(I1154=2,F1154/100,IF(I1154=3,F1154/100*C1154,\"\")))","v":3},{"$f":"CONCATENATE(\" \",D1154)","v":" m"},{"$f":"IF(I1154=1,F1154*100,IF(I1154=2,F1154,IF(I1154=3,F1154/100*C1154*100,\"\")))","v":300},"cm"]
[{"$f":"IF(COUNTIF($B$1:B1155,TRUE)=COUNTIF($B$1:B1154,TRUE),\"\",COUNTIF($B$1:B1155,TRUE))","v":899},{"$f":"Worksheet!$B$24","v":true},{"$f":"RANDBETWEEN(5,RANDBETWEEN(5,Worksheet!$D$8))","v":5},"km","±",{"$f":"IF(I1155=1,H1155*10^RANDBETWEEN(IF(Worksheet!$D$14,-1,0),0),IF(I1155=2,H1155*10^RANDBETWEEN(RANDBETWEEN(0,2),2),CHOOSE(RANDBETWEEN(1,3),5,10,20)))","v":200},{"$f":"IF(I1155=1,D1155,IF(I1155=3,\"%\",\"m\"))","v":"m"},2,{"$f":"IF(AND(Worksheet!$D$12,RAND()<0.2),3,IF(RAND()<Worksheet!$D$10/100,1,2))","v":2},{"$f":"IF(I1155=1,F1155,IF(I1155=2,F1155/1000,IF(I1155=3,F1155/100*C1155,\"\")))","v":0.2}," km",{"$f":"IF(I1155=1,F1155*1000,IF(I1155=2,F1155,IF(I1155=3,F1155/100*C1155*1000,\"\")))","v":200},"m"]
[{"$f":"IF(COUNTIF($B$1:B1156,TRUE)=COUNTIF($B$1:B1155,TRUE),\"\",COUNTIF($B$1:B1156,TRUE))","v":""},{"$f":"Worksheet!$B$26","v":false},{"$f":"RANDBETWEEN(5,RANDBETWEEN(5,Worksheet!$D$8))","v":5},"m","±",{"$f":"IF(I1156=1,H1156*10^RANDBETWEEN(IF(Worksheet!$D$14,-1,0),0),IF(I1156=2,H1156*10^RANDBETWEEN(RANDBETWEEN(0,2),2),CHOOSE(RANDBETWEEN(1,3),5,10,20)))","v":5},{"$f":"IF(I1156=1,D1156,IF(I1156=3,\"%\",\"mm\"))","v":"%"},5,{"$f":"IF(AND(Worksheet!$D$12,RAND()<0.2),3,IF(RAND()<Worksheet!$D$10/100,1,2))","v":3},0.25," m",250,"mm"]
[{"$f":"IF(COUNTIF($B$1:B1157,TRUE)=COUNTIF($B$1:B1156,TRUE),\"\",COUNTIF($B$1:B1157,TRUE))","v":900},{"$f":"Worksheet!$D$20","v":true},{"$f":"RANDBETWEEN(5,RANDBETWEEN(5,Worksheet!$D$8))","v":181},"kg","±",{"$f":"IF(I1157=1,H1157*10^RANDBETWEEN(IF(Worksheet!$D$14,-1,0),0),IF(I1157=2,H1157*10^RANDBETWEEN(RANDBETWEEN(0,2),2),CHOOSE(RANDBETWEEN(1,3),5,10,20)))","v":50},{"$f":"IF(I1157=1,D1157,IF(I1157=3,\"%\",\"g\"))","v":"g"},{"$f":"RANDBETWEEN(1,MIN(9,C1157))","v":5},{"$f":"IF(AND(Worksheet!$D$12,RAND()<0.2),3,IF(RAND()<Worksheet!$D$10/100,1,2))","v":2},0.05,{"$f":"CONCATENATE(\" \",D1157)","v":" kg"},50,"g"]
[{"$f":"IF(COUNTIF($B$1:B1158,TRUE)=COUNTIF($B$1:B1157,TRUE),\"\",COUNTIF($B$1:B1158,TRUE))","v":901},{"$f":"Worksheet!$D$22","v":true},{"$f":"RANDBETWEEN(5,RANDBETWEEN(5,Worksheet!$D$8))","v":162},"tonnes","±",{"$f":"IF(I1158=1,H1158*10^RANDBETWEEN(IF(Worksheet!$D$14,-1,0),0),IF(I1158=2,H1158*10^RANDBETWEEN(RANDBETWEEN(0,2),2),CHOOSE(RANDBETWEEN(1,3),5,10,20)))","v":1},{"$f":"IF(I1158=1,D1158,IF(I1158=3,\"%\",\"kg\"))","v":"tonnes"},{"$f":"RANDBETWEEN(1,MIN(9,C1158))","v":1},{"$f":"IF(AND(Worksheet!$D$12,RAND()<0.2),3,IF(RAND()<Worksheet!$D$10/100,1,2))","v":1},1,{"$f":"CONCATENATE(\" \",D1158)","v":" tonnes"},1000,"kg"]
[{"$f":"IF(COUNTIF($B$1:B1159,TRUE)=COUNTIF($B$1:B1158,TRUE),\"\",COUNTIF($B$1:B1159,TRUE))","v":902},{"$f":"Worksheet!$D$24","v":true},{"$f":"RANDBETWEEN(5,RANDBETWEEN(5,Worksheet!$D$8))","v":27},"litres","±",{"$f":"IF(I1159=1,H1159*10^RANDBETWEEN(IF(Worksheet!$D$14,-1,0),0),IF(I1159=2,H1159*10^RANDBETWEEN(RANDBETWEEN(0,2),2),CHOOSE(RANDBETWEEN(1,3),5,10,20)))","v":0.9},{"$f":"IF(I1159=1,D1159,IF(I1159=3,\"%\",\"ml\"))","v":"litres"},{"$f":"RANDBETWEEN(1,MIN(9,C1159))","v":9},{"$f":"IF(AND(Worksheet!$D$12,RAND()<0.2),3,IF(RAND()<Worksheet!$D$10/100,1,2))","v":1},0.9,{"$f":"CONCATENATE(\" \",D1159)","v":" litres"},900,"ml"]
[{"$f":"IF(COUNTIF($B$1:B1160,TRUE)=COUNTIF($B$1:B1159,TRUE),\"\",COUNTIF($B$1:B1160,TRUE))","v":""},{"$f":"Worksheet!$D$26","v":false},{"$f":"RANDBETWEEN(5,RANDBETWEEN(5,Worksheet!$D$8))","v":51},"litres","±",{"$f":"IF(I1160=1,H1160*10^RANDBETWEEN(IF(Worksheet!$D$14,-1,0),0),IF(I1160=2,H1160*10^RANDBETWEEN(RANDBETWEEN(0,2),2),CHOOSE(RANDBETWEEN(1,3),5,10,20)))","v":7},{"$f":"IF(I1160=1,D1160,IF(I1160=3,\"%\",\"cm³\"))","v":"litres"},{"$f":"RANDBETWEEN(1,MIN(9,C1160))","v":7},{"$f":"IF(AND(Worksheet!$D$12,RAND()<0.2),3,IF(RAND()<Worksheet!$D$10/100,1,2))","v":1},7,{"$f":"CONCATENATE(\" \",D1160)","v":" litres"},7000,"cm³"]
[{"$f":"IF(COUNTIF($B$1:B1161,TRUE)=COUNTIF($B$1:B1161,TRUE),\"\",COUNTIF($B$1:B1161,TRUE))","v":""},{"$f":"Worksheet!$B$28","v":true},{"$f":"RANDBETWEEN(5,20)","v":11},"°C","±",{"$f":"IF(I1161=1,H1161*10^RANDBETWEEN(IF(Worksheet!$D$14,-1,0),0),IF(I1161=2,H1161,CHOOSE(RANDBETWEEN(1,3),5,10,20)))","v":0.1},{"$f":"IF(I1161=1,D1161,IF(I1161=3,\"%\",\"sec\"))","v":"°C"},{"$f":"RANDBETWEEN(1,MIN(9,C1161))","v":1},{"$f":"IF(AND(Worksheet!$D$12,RAND()<0),3,IF(RAND()<Worksheet!$D$10/100,1,2))","v":1},{"$f":"IF(I1161=1,F1161,IF(I1161=2,F1161,IF(I1161=3,F1161/100*C1161,\"\")))","v":0.1},{"$f":"CONCATENATE(\" \",D1161)","v":" °C"},{"$f":"IF(I1161=1,F1161,IF(I1161=2,F1161,IF(I1161=3,F1161/100*C1161,\"\")))","v":0.1}," °C"]
[{"$f":"COUNTIF($B$1:B1162,TRUE)","v":904},{"$f":"Worksheet!$B$20","v":true},{"$f":"RANDBETWEEN(5,RANDBETWEEN(5,Worksheet!$D$8))","v":25},"cm","±",{"$f":"IF(I1162=1,H1162*10^RANDBETWEEN(IF(Worksheet!$D$14,-1,0),0),IF(I1162=2,H1162,CHOOSE(RANDBETWEEN(1,3),5,10,20)))","v":0.4},{"$f":"IF(I1162=1,D1162,IF(I1162=3,\"%\",\"mm\"))","v":"cm"},{"$f":"RANDBETWEEN(1,MIN(9,C1162))","v":4},{"$f":"IF(AND(Worksheet!$D$12,RAND()<0.2),3,IF(RAND()<Worksheet!$D$10/100,1,2))","v":1},{"$f":"IF(I1162=1,F1162,IF(I1162=2,F1162/10,IF(I1162=3,F1162/100*C1162,\"\")))","v":0.4},{"$f":"CONCATENATE(\" \",D1162)","v":" cm"},{"$f":"IF(I1162=1,F1162*10,IF(I1162=2,F1162,IF(I1162=3,F1162/100*C1162*10,\"\")))","v":4},"mm"]
[{"$f":"IF(COUNTIF($B$1:B1163,TRUE)=COUNTIF($B$1:B1162,TRUE),\"\",COUNTIF($B$1:B1163,TRUE))","v":905},{"$f":"Worksheet!$B$22","v":true},{"$f":"RANDBETWEEN(5,RANDBETWEEN(5,Worksheet!$D$8))","v":56},"m","±",{"$f":"IF(I1163=1,H1163*10^RANDBETWEEN(IF(Worksheet!$D$14,-1,0),0),IF(I1163=2,H1163*10^RANDBETWEEN(RANDBETWEEN(0,1),1),CHOOSE(RANDBETWEEN(1,3),5,10,20)))","v":0.4},{"$f":"IF(I1163=1,D1163,IF(I1163=3,\"%\",\"cm\"))","v":"m"},{"$f":"RANDBETWEEN(1,MIN(9,C1163))","v":4},{"$f":"IF(AND(Worksheet!$D$12,RAND()<0.2),3,IF(RAND()<Worksheet!$D$10/100,1,2))","v":1},{"$f":"IF(I1163=1,F1163,IF(I1163=2,F1163/100,IF(I1163=3,F1163/100*C1163,\"\")))","v":0.4},{"$f":"CONCATENATE(\" \",D1163)","v":" m"},{"$f":"IF(I1163=1,F1163*100,IF(I1163=2,F1163,IF(I1163=3,F1163/100*C1163*100,\"\")))","v":40},"cm"]
[{"$f":"IF(COUNTIF($B$1:B1164,TRUE)=COUNTIF($B$1:B1163,TRUE),\"\",COUNTIF($B$1:B1164,TRUE))","v":906},{"$f":"Worksheet!$B$24","v":true},{"$f":"RANDBETWEEN(5,RANDBETWEEN(5,Worksheet!$D$8))","v":34},"km","±",{"$f":"IF(I1164=1,H1164*10^RANDBETWEEN(IF(Worksheet!$D$14,-1,0),0),IF(I1164=2,H1164*10^RANDBETWEEN(RANDBETWEEN(0,2),2),CHOOSE(RANDBETWEEN(1,3),5,10,20)))","v":9},{"$f":"IF(I1164=1,D1164,IF(I1164=3,\"%\",\"m\"))","v":"km"},9,{"$f":"IF(AND(Worksheet!$D$12,RAND()<0.2),3,IF(RAND()<Worksheet!$D$10/100,1,2))","v":1},{"$f":"IF(I1164=1,F1164,IF(I1164=2,F1164/1000,IF(I1164=3,F1164/100*C1164,\"\")))","v":9}," km",{"$f":"IF(I1164=1,F1164*1000,IF(I1164=2,F1164,IF(I1164=3,F1164/100*C1164*1000,\"\")))","v":9000},"m"]
[{"$f":"IF(COUNTIF($B$1:B1165,TRUE)=COUNTIF($B$1:B1164,TRUE),\"\",COUNTIF($B$1:B1165,TRUE))","v":""},{"$f":"Worksheet!$B$26","v":false},{"$f":"RANDBETWEEN(5,RANDBETWEEN(5,Worksheet!$D$8))","v":43},"m","±",{"$f":"IF(I1165=1,H1165*10^RANDBETWEEN(IF(Worksheet!$D$14,-1,0),0),IF(I1165=2,H1165*10^RANDBETWEEN(RANDBETWEEN(0,2),2),CHOOSE(RANDBETWEEN(1,3),5,10,20)))","v":200},{"$f":"IF(I1165=1,D1165,IF(I1165=3,\"%\",\"mm\"))","v":"mm"},2,{"$f":"IF(AND(Worksheet!$D$12,RAND()<0.2),3,IF(RAND()<Worksheet!$D$10/100,1,2))","v":2},0.2," m",200,"mm"]
[{"$f":"IF(COUNTIF($B$1:B1166,TRUE)=COUNTIF($B$1:B1165,TRUE),\"\",COUNTIF($B$1:B1166,TRUE))","v":907},{"$f":"Worksheet!$D$20","v":true},{"$f":"RANDBETWEEN(5,RANDBETWEEN(5,Worksheet!$D$8))","v":64},"kg","±",{"$f":"IF(I1166=1,H1166*10^RANDBETWEEN(IF(Worksheet!$D$14,-1,0),0),IF(I1166=2,H1166*10^RANDBETWEEN(RANDBETWEEN(0,2),2),CHOOSE(RANDBETWEEN(1,3),5,10,20)))","v":5},{"$f":"IF(I1166=1,D1166,IF(I1166=3,\"%\",\"g\"))","v":"%"},{"$f":"RANDBETWEEN(1,MIN(9,C1166))","v":5},{"$f":"IF(AND(Worksheet!$D$12,RAND()<0.2),3,IF(RAND()<Worksheet!$D$10/100,1,2))","v":3},3.2,{"$f":"CONCATENATE(\" \",D1166)","v":" kg"},3200,"g"]
[{"$f":"IF(COUNTIF($B$1:B1167,TRUE)=COUNTIF($B$1:B1166,TRUE),\"\",COUNTIF($B$1:B1167,TRUE))","v":908},{"$f":"Worksheet!$D$22","v":true},{"$f":"RANDBETWEEN(5,RANDBETWEEN(5,Worksheet!$D$8))","v":45},"tonnes","±",{"$f":"IF(I1167=1,H1167*10^RANDBETWEEN(IF(Worksheet!$D$14,-1,0),0),IF(I1167=2,H1167*10^RANDBETWEEN(RANDBETWEEN(0,2),2),CHOOSE(RANDBETWEEN(1,3),5,10,20)))","v":400},{"$f":"IF(I1167=1,D1167,IF(I1167=3,\"%\",\"kg\"))","v":"kg"},{"$f":"RANDBETWEEN(1,MIN(9,C1167))","v":4},{"$f":"IF(AND(Worksheet!$D$12,RAND()<0.2),3,IF(RAND()<Worksheet!$D$10/100,1,2))","v":2},0.4,{"$f":"CONCATENATE(\" \",D1167)","v":" tonnes"},400,"kg"]
[{"$f":"IF(COUNTIF($B$1:B1168,TRUE)=COUNTIF($B$1:B1167,TRUE),\"\",COUNTIF($B$1:B1168,TRUE))","v":909},{"$f":"Worksheet!$D$24","v":true},{"$f":"RANDBETWEEN(5,RANDBETWEEN(5,Worksheet!$D$8))","v":13},"litres","±",{"$f":"IF(I1168=1,H1168*10^RANDBETWEEN(IF(Worksheet!$D$14,-1,0),0),IF(I1168=2,H1168*10^RANDBETWEEN(RANDBETWEEN(0,2),2),CHOOSE(RANDBETWEEN(1,3),5,10,20)))","v":300},{"$f":"IF(I1168=1,D1168,IF(I1168=3,\"%\",\"ml\"))","v":"ml"},{"$f":"RANDBETWEEN(1,MIN(9,C1168))","v":3},{"$f":"IF(AND(Worksheet!$D$12,RAND()<0.2),3,IF(RAND()<Worksheet!$D$10/100,1,2))","v":2},0.3,{"$f":"CONCATENATE(\" \",D1168)","v":" litres"},300,"ml"]
[{"$f":"IF(COUNTIF($B$1:B1169,TRUE)=COUNTIF($B$1:B1168,TRUE),\"\",COUNTIF($B$1:B1169,TRUE))","v":""},{"$f":"Worksheet!$D$26","v":false},{"$f":"RANDBETWEEN(5,RANDBETWEEN(5,Worksheet!$D$8))","v":17},"litres","±",{"$f":"IF(I1169=1,H1169*10^RANDBETWEEN(IF(Worksheet!$D$14,-1,0),0),IF(I1169=2,H1169*10^RANDBETWEEN(RANDBETWEEN(0,2),2),CHOOSE(RANDBETWEEN(1,3),5,10,20)))","v":200},{"$f":"IF(I1169=1,D1169,IF(I1169=3,\"%\",\"cm³\"))","v":"cm³"},{"$f":"RANDBETWEEN(1,MIN(9,C1169))","v":2},{"$f":"IF(AND(Worksheet!$D$12,RAND()<0.2),3,IF(RAND()<Worksheet!$D$10/100,1,2))","v":2},0.2,{"$f":"CONCATENATE(\" \",D1169)","v":" litres"},200,"cm³"]
[{"$f":"IF(COUNTIF($B$1:B1170,TRUE)=COUNTIF($B$1:B1170,TRUE),\"\",COUNTIF($B$1:B1170,TRUE))","v":""},{"$f":"Worksheet!$B$28","v":true},{"$f":"RANDBETWEEN(5,20)","v":15},"°C","±",{"$f":"IF(I1170=1,H1170*10^RANDBETWEEN(IF(Worksheet!$D$14,-1,0),0),IF(I1170=2,H1170,CHOOSE(RANDBETWEEN(1,3),5,10,20)))","v":9},{"$f":"IF(I1170=1,D1170,IF(I1170=3,\"%\",\"sec\"))","v":"sec"},{"$f":"RANDBETWEEN(1,MIN(9,C1170))","v":9},{"$f":"IF(AND(Worksheet!$D$12,RAND()<0),3,IF(RAND()<Worksheet!$D$10/100,1,2))","v":2},{"$f":"IF(I1170=1,F1170,IF(I1170=2,F1170,IF(I1170=3,F1170/100*C1170,\"\")))","v":9},{"$f":"CONCATENATE(\" \",D1170)","v":" °C"},{"$f":"IF(I1170=1,F1170,IF(I1170=2,F1170,IF(I1170=3,F1170/100*C1170,\"\")))","v":9}," °C"]
[{"$f":"COUNTIF($B$1:B1171,TRUE)","v":911},{"$f":"Worksheet!$B$20","v":true},{"$f":"RANDBETWEEN(5,RANDBETWEEN(5,Worksheet!$D$8))","v":80},"cm","±",{"$f":"IF(I1171=1,H1171*10^RANDBETWEEN(IF(Worksheet!$D$14,-1,0),0),IF(I1171=2,H1171,CHOOSE(RANDBETWEEN(1,3),5,10,20)))","v":7},{"$f":"IF(I1171=1,D1171,IF(I1171=3,\"%\",\"mm\"))","v":"mm"},{"$f":"RANDBETWEEN(1,MIN(9,C1171))","v":7},{"$f":"IF(AND(Worksheet!$D$12,RAND()<0.2),3,IF(RAND()<Worksheet!$D$10/100,1,2))","v":2},{"$f":"IF(I1171=1,F1171,IF(I1171=2,F1171/10,IF(I1171=3,F1171/100*C1171,\"\")))","v":0.7},{"$f":"CONCATENATE(\" \",D1171)","v":" cm"},{"$f":"IF(I1171=1,F1171*10,IF(I1171=2,F1171,IF(I1171=3,F1171/100*C1171*10,\"\")))","v":7},"mm"]
[{"$f":"IF(COUNTIF($B$1:B1172,TRUE)=COUNTIF($B$1:B1171,TRUE),\"\",COUNTIF($B$1:B1172,TRUE))","v":912},{"$f":"Worksheet!$B$22","v":true},{"$f":"RANDBETWEEN(5,RANDBETWEEN(5,Worksheet!$D$8))","v":8},"m","±",{"$f":"IF(I1172=1,H1172*10^RANDBETWEEN(IF(Worksheet!$D$14,-1,0),0),IF(I1172=2,H1172*10^RANDBETWEEN(RANDBETWEEN(0,1),1),CHOOSE(RANDBETWEEN(1,3),5,10,20)))","v":30},{"$f":"IF(I1172=1,D1172,IF(I1172=3,\"%\",\"cm\"))","v":"cm"},{"$f":"RANDBETWEEN(1,MIN(9,C1172))","v":3},{"$f":"IF(AND(Worksheet!$D$12,RAND()<0.2),3,IF(RAND()<Worksheet!$D$10/100,1,2))","v":2},{"$f":"IF(I1172=1,F1172,IF(I1172=2,F1172/100,IF(I1172=3,F1172/100*C1172,\"\")))","v":0.3},{"$f":"CONCATENATE(\" \",D1172)","v":" m"},{"$f":"IF(I1172=1,F1172*100,IF(I1172=2,F1172,IF(I1172=3,F1172/100*C1172*100,\"\")))","v":30},"cm"]
[{"$f":"IF(COUNTIF($B$1:B1173,TRUE)=COUNTIF($B$1:B1172,TRUE),\"\",COUNTIF($B$1:B1173,TRUE))","v":913},{"$f":"Worksheet!$B$24","v":true},{"$f":"RANDBETWEEN(5,RANDBETWEEN(5,Worksheet!$D$8))","v":150},"km","±",{"$f":"IF(I1173=1,H1173*10^RANDBETWEEN(IF(Worksheet!$D$14,-1,0),0),IF(I1173=2,H1173*10^RANDBETWEEN(RANDBETWEEN(0,2),2),CHOOSE(RANDBETWEEN(1,3),5,10,20)))","v":0.2},{"$f":"IF(I1173=1,D1173,IF(I1173=3,\"%\",\"m\"))","v":"km"},2,{"$f":"IF(AND(Worksheet!$D$12,RAND()<0.2),3,IF(RAND()<Worksheet!$D$10/100,1,2))","v":1},{"$f":"IF(I1173=1,F1173,IF(I1173=2,F1173/1000,IF(I1173=3,F1173/100*C1173,\"\")))","v":0.2}," km",{"$f":"IF(I1173=1,F1173*1000,IF(I1173=2,F1173,IF(I1173=3,F1173/100*C1173*1000,\"\")))","v":200},"m"]
[{"$f":"IF(COUNTIF($B$1:B1174,TRUE)=COUNTIF($B$1:B1173,TRUE),\"\",COUNTIF($B$1:B1174,TRUE))","v":""},{"$f":"Worksheet!$B$26","v":false},{"$f":"RANDBETWEEN(5,RANDBETWEEN(5,Worksheet!$D$8))","v":5},"m","±",{"$f":"IF(I1174=1,H1174*10^RANDBETWEEN(IF(Worksheet!$D$14,-1,0),0),IF(I1174=2,H1174*10^RANDBETWEEN(RANDBETWEEN(0,2),2),CHOOSE(RANDBETWEEN(1,3),5,10,20)))","v":0.30000000000000004},{"$f":"IF(I1174=1,D1174,IF(I1174=3,\"%\",\"mm\"))","v":"m"},3,{"$f":"IF(AND(Worksheet!$D$12,RAND()<0.2),3,IF(RAND()<Worksheet!$D$10/100,1,2))","v":1},0.30000000000000004," m",300.00000000000006,"mm"]
[{"$f":"IF(COUNTIF($B$1:B1175,TRUE)=COUNTIF($B$1:B1174,TRUE),\"\",COUNTIF($B$1:B1175,TRUE))","v":914},{"$f":"Worksheet!$D$20","v":true},{"$f":"RANDBETWEEN(5,RANDBETWEEN(5,Worksheet!$D$8))","v":89},"kg","±",{"$f":"IF(I1175=1,H1175*10^RANDBETWEEN(IF(Worksheet!$D$14,-1,0),0),IF(I1175=2,H1175*10^RANDBETWEEN(RANDBETWEEN(0,2),2),CHOOSE(RANDBETWEEN(1,3),5,10,20)))","v":7},{"$f":"IF(I1175=1,D1175,IF(I1175=3,\"%\",\"g\"))","v":"g"},{"$f":"RANDBETWEEN(1,MIN(9,C1175))","v":7},{"$f":"IF(AND(Worksheet!$D$12,RAND()<0.2),3,IF(RAND()<Worksheet!$D$10/100,1,2))","v":2},7.0000000000000001E-3,{"$f":"CONCATENATE(\" \",D1175)","v":" kg"},7,"g"]
[{"$f":"IF(COUNTIF($B$1:B1176,TRUE)=COUNTIF($B$1:B1175,TRUE),\"\",COUNTIF($B$1:B1176,TRUE))","v":915},{"$f":"Worksheet!$D$22","v":true},{"$f":"RANDBETWEEN(5,RANDBETWEEN(5,Worksheet!$D$8))","v":58},"tonnes","±",{"$f":"IF(I1176=1,H1176*10^RANDBETWEEN(IF(Worksheet!$D$14,-1,0),0),IF(I1176=2,H1176*10^RANDBETWEEN(RANDBETWEEN(0,2),2),CHOOSE(RANDBETWEEN(1,3),5,10,20)))","v":10},{"$f":"IF(I1176=1,D1176,IF(I1176=3,\"%\",\"kg\"))","v":"kg"},{"$f":"RANDBETWEEN(1,MIN(9,C1176))","v":1},{"$f":"IF(AND(Worksheet!$D$12,RAND()<0.2),3,IF(RAND()<Worksheet!$D$10/100,1,2))","v":2},0.01,{"$f":"CONCATENATE(\" \",D1176)","v":" tonnes"},10,"kg"]
[{"$f":"IF(COUNTIF($B$1:B1177,TRUE)=COUNTIF($B$1:B1176,TRUE),\"\",COUNTIF($B$1:B1177,TRUE))","v":916},{"$f":"Worksheet!$D$24","v":true},{"$f":"RANDBETWEEN(5,RANDBETWEEN(5,Worksheet!$D$8))","v":14},"litres","±",{"$f":"IF(I1177=1,H1177*10^RANDBETWEEN(IF(Worksheet!$D$14,-1,0),0),IF(I1177=2,H1177*10^RANDBETWEEN(RANDBETWEEN(0,2),2),CHOOSE(RANDBETWEEN(1,3),5,10,20)))","v":100},{"$f":"IF(I1177=1,D1177,IF(I1177=3,\"%\",\"ml\"))","v":"ml"},{"$f":"RANDBETWEEN(1,MIN(9,C1177))","v":1},{"$f":"IF(AND(Worksheet!$D$12,RAND()<0.2),3,IF(RAND()<Worksheet!$D$10/100,1,2))","v":2},0.1,{"$f":"CONCATENATE(\" \",D1177)","v":" litres"},100,"ml"]
[{"$f":"IF(COUNTIF($B$1:B1178,TRUE)=COUNTIF($B$1:B1177,TRUE),\"\",COUNTIF($B$1:B1178,TRUE))","v":""},{"$f":"Worksheet!$D$26","v":false},{"$f":"RANDBETWEEN(5,RANDBETWEEN(5,Worksheet!$D$8))","v":35},"litres","±",{"$f":"IF(I1178=1,H1178*10^RANDBETWEEN(IF(Worksheet!$D$14,-1,0),0),IF(I1178=2,H1178*10^RANDBETWEEN(RANDBETWEEN(0,2),2),CHOOSE(RANDBETWEEN(1,3),5,10,20)))","v":0.30000000000000004},{"$f":"IF(I1178=1,D1178,IF(I1178=3,\"%\",\"cm³\"))","v":"litres"},{"$f":"RANDBETWEEN(1,MIN(9,C1178))","v":3},{"$f":"IF(AND(Worksheet!$D$12,RAND()<0.2),3,IF(RAND()<Worksheet!$D$10/100,1,2))","v":1},0.30000000000000004,{"$f":"CONCATENATE(\" \",D1178)","v":" litres"},300.00000000000006,"cm³"]
[{"$f":"IF(COUNTIF($B$1:B1179,TRUE)=COUNTIF($B$1:B1179,TRUE),\"\",COUNTIF($B$1:B1179,TRUE))","v":""},{"$f":"Worksheet!$B$28","v":true},{"$f":"RANDBETWEEN(5,20)","v":15},"°C","±",{"$f":"IF(I1179=1,H1179*10^RANDBETWEEN(IF(Worksheet!$D$14,-1,0),0),IF(I1179=2,H1179,CHOOSE(RANDBETWEEN(1,3),5,10,20)))","v":0.4},{"$f":"IF(I1179=1,D1179,IF(I1179=3,\"%\",\"sec\"))","v":"°C"},{"$f":"RANDBETWEEN(1,MIN(9,C1179))","v":4},{"$f":"IF(AND(Worksheet!$D$12,RAND()<0),3,IF(RAND()<Worksheet!$D$10/100,1,2))","v":1},{"$f":"IF(I1179=1,F1179,IF(I1179=2,F1179,IF(I1179=3,F1179/100*C1179,\"\")))","v":0.4},{"$f":"CONCATENATE(\" \",D1179)","v":" °C"},{"$f":"IF(I1179=1,F1179,IF(I1179=2,F1179,IF(I1179=3,F1179/100*C1179,\"\")))","v":0.4}," °C"]
[{"$f":"COUNTIF($B$1:B1180,TRUE)","v":918},{"$f":"Worksheet!$B$20","v":true},{"$f":"RANDBETWEEN(5,RANDBETWEEN(5,Worksheet!$D$8))","v":42},"cm","±",{"$f":"IF(I1180=1,H1180*10^RANDBETWEEN(IF(Worksheet!$D$14,-1,0),0),IF(I1180=2,H1180,CHOOSE(RANDBETWEEN(1,3),5,10,20)))","v":0.8},{"$f":"IF(I1180=1,D1180,IF(I1180=3,\"%\",\"mm\"))","v":"cm"},{"$f":"RANDBETWEEN(1,MIN(9,C1180))","v":8},{"$f":"IF(AND(Worksheet!$D$12,RAND()<0.2),3,IF(RAND()<Worksheet!$D$10/100,1,2))","v":1},{"$f":"IF(I1180=1,F1180,IF(I1180=2,F1180/10,IF(I1180=3,F1180/100*C1180,\"\")))","v":0.8},{"$f":"CONCATENATE(\" \",D1180)","v":" cm"},{"$f":"IF(I1180=1,F1180*10,IF(I1180=2,F1180,IF(I1180=3,F1180/100*C1180*10,\"\")))","v":8},"mm"]
[{"$f":"IF(COUNTIF($B$1:B1181,TRUE)=COUNTIF($B$1:B1180,TRUE),\"\",COUNTIF($B$1:B1181,TRUE))","v":919},{"$f":"Worksheet!$B$22","v":true},{"$f":"RANDBETWEEN(5,RANDBETWEEN(5,Worksheet!$D$8))","v":162},"m","±",{"$f":"IF(I1181=1,H1181*10^RANDBETWEEN(IF(Worksheet!$D$14,-1,0),0),IF(I1181=2,H1181*10^RANDBETWEEN(RANDBETWEEN(0,1),1),CHOOSE(RANDBETWEEN(1,3),5,10,20)))","v":5},{"$f":"IF(I1181=1,D1181,IF(I1181=3,\"%\",\"cm\"))","v":"%"},{"$f":"RANDBETWEEN(1,MIN(9,C1181))","v":1},{"$f":"IF(AND(Worksheet!$D$12,RAND()<0.2),3,IF(RAND()<Worksheet!$D$10/100,1,2))","v":3},{"$f":"IF(I1181=1,F1181,IF(I1181=2,F1181/100,IF(I1181=3,F1181/100*C1181,\"\")))","v":8.1},{"$f":"CONCATENATE(\" \",D1181)","v":" m"},{"$f":"IF(I1181=1,F1181*100,IF(I1181=2,F1181,IF(I1181=3,F1181/100*C1181*100,\"\")))","v":810},"cm"]
[{"$f":"IF(COUNTIF($B$1:B1182,TRUE)=COUNTIF($B$1:B1181,TRUE),\"\",COUNTIF($B$1:B1182,TRUE))","v":920},{"$f":"Worksheet!$B$24","v":true},{"$f":"RANDBETWEEN(5,RANDBETWEEN(5,Worksheet!$D$8))","v":108},"km","±",{"$f":"IF(I1182=1,H1182*10^RANDBETWEEN(IF(Worksheet!$D$14,-1,0),0),IF(I1182=2,H1182*10^RANDBETWEEN(RANDBETWEEN(0,2),2),CHOOSE(RANDBETWEEN(1,3),5,10,20)))","v":50},{"$f":"IF(I1182=1,D1182,IF(I1182=3,\"%\",\"m\"))","v":"m"},5,{"$f":"IF(AND(Worksheet!$D$12,RAND()<0.2),3,IF(RAND()<Worksheet!$D$10/100,1,2))","v":2},{"$f":"IF(I1182=1,F1182,IF(I1182=2,F1182/1000,IF(I1182=3,F1182/100*C1182,\"\")))","v":0.05}," km",{"$f":"IF(I1182=1,F1182*1000,IF(I1182=2,F1182,IF(I1182=3,F1182/100*C1182*1000,\"\")))","v":50},"m"]
[{"$f":"IF(COUNTIF($B$1:B1183,TRUE)=COUNTIF($B$1:B1182,TRUE),\"\",COUNTIF($B$1:B1183,TRUE))","v":""},{"$f":"Worksheet!$B$26","v":false},{"$f":"RANDBETWEEN(5,RANDBETWEEN(5,Worksheet!$D$8))","v":55},"m","±",{"$f":"IF(I1183=1,H1183*10^RANDBETWEEN(IF(Worksheet!$D$14,-1,0),0),IF(I1183=2,H1183*10^RANDBETWEEN(RANDBETWEEN(0,2),2),CHOOSE(RANDBETWEEN(1,3),5,10,20)))","v":80},{"$f":"IF(I1183=1,D1183,IF(I1183=3,\"%\",\"mm\"))","v":"mm"},8,{"$f":"IF(AND(Worksheet!$D$12,RAND()<0.2),3,IF(RAND()<Worksheet!$D$10/100,1,2))","v":2},0.08," m",80,"mm"]
[{"$f":"IF(COUNTIF($B$1:B1184,TRUE)=COUNTIF($B$1:B1183,TRUE),\"\",COUNTIF($B$1:B1184,TRUE))","v":921},{"$f":"Worksheet!$D$20","v":true},{"$f":"RANDBETWEEN(5,RANDBETWEEN(5,Worksheet!$D$8))","v":66},"kg","±",{"$f":"IF(I1184=1,H1184*10^RANDBETWEEN(IF(Worksheet!$D$14,-1,0),0),IF(I1184=2,H1184*10^RANDBETWEEN(RANDBETWEEN(0,2),2),CHOOSE(RANDBETWEEN(1,3),5,10,20)))","v":5},{"$f":"IF(I1184=1,D1184,IF(I1184=3,\"%\",\"g\"))","v":"%"},{"$f":"RANDBETWEEN(1,MIN(9,C1184))","v":4},{"$f":"IF(AND(Worksheet!$D$12,RAND()<0.2),3,IF(RAND()<Worksheet!$D$10/100,1,2))","v":3},3.3000000000000003,{"$f":"CONCATENATE(\" \",D1184)","v":" kg"},3300.0000000000005,"g"]
[{"$f":"IF(COUNTIF($B$1:B1185,TRUE)=COUNTIF($B$1:B1184,TRUE),\"\",COUNTIF($B$1:B1185,TRUE))","v":922},{"$f":"Worksheet!$D$22","v":true},{"$f":"RANDBETWEEN(5,RANDBETWEEN(5,Worksheet!$D$8))","v":60},"tonnes","±",{"$f":"IF(I1185=1,H1185*10^RANDBETWEEN(IF(Worksheet!$D$14,-1,0),0),IF(I1185=2,H1185*10^RANDBETWEEN(RANDBETWEEN(0,2),2),CHOOSE(RANDBETWEEN(1,3),5,10,20)))","v":0.1},{"$f":"IF(I1185=1,D1185,IF(I1185=3,\"%\",\"kg\"))","v":"tonnes"},{"$f":"RANDBETWEEN(1,MIN(9,C1185))","v":1},{"$f":"IF(AND(Worksheet!$D$12,RAND()<0.2),3,IF(RAND()<Worksheet!$D$10/100,1,2))","v":1},0.1,{"$f":"CONCATENATE(\" \",D1185)","v":" tonnes"},100,"kg"]
[{"$f":"IF(COUNTIF($B$1:B1186,TRUE)=COUNTIF($B$1:B1185,TRUE),\"\",COUNTIF($B$1:B1186,TRUE))","v":923},{"$f":"Worksheet!$D$24","v":true},{"$f":"RANDBETWEEN(5,RANDBETWEEN(5,Worksheet!$D$8))","v":43},"litres","±",{"$f":"IF(I1186=1,H1186*10^RANDBETWEEN(IF(Worksheet!$D$14,-1,0),0),IF(I1186=2,H1186*10^RANDBETWEEN(RANDBETWEEN(0,2),2),CHOOSE(RANDBETWEEN(1,3),5,10,20)))","v":700},{"$f":"IF(I1186=1,D1186,IF(I1186=3,\"%\",\"ml\"))","v":"ml"},{"$f":"RANDBETWEEN(1,MIN(9,C1186))","v":7},{"$f":"IF(AND(Worksheet!$D$12,RAND()<0.2),3,IF(RAND()<Worksheet!$D$10/100,1,2))","v":2},0.7,{"$f":"CONCATENATE(\" \",D1186)","v":" litres"},700,"ml"]
[{"$f":"IF(COUNTIF($B$1:B1187,TRUE)=COUNTIF($B$1:B1186,TRUE),\"\",COUNTIF($B$1:B1187,TRUE))","v":""},{"$f":"Worksheet!$D$26","v":false},{"$f":"RANDBETWEEN(5,RANDBETWEEN(5,Worksheet!$D$8))","v":149},"litres","±",{"$f":"IF(I1187=1,H1187*10^RANDBETWEEN(IF(Worksheet!$D$14,-1,0),0),IF(I1187=2,H1187*10^RANDBETWEEN(RANDBETWEEN(0,2),2),CHOOSE(RANDBETWEEN(1,3),5,10,20)))","v":10},{"$f":"IF(I1187=1,D1187,IF(I1187=3,\"%\",\"cm³\"))","v":"%"},{"$f":"RANDBETWEEN(1,MIN(9,C1187))","v":7},{"$f":"IF(AND(Worksheet!$D$12,RAND()<0.2),3,IF(RAND()<Worksheet!$D$10/100,1,2))","v":3},14.9,{"$f":"CONCATENATE(\" \",D1187)","v":" litres"},14900,"cm³"]
[{"$f":"IF(COUNTIF($B$1:B1188,TRUE)=COUNTIF($B$1:B1188,TRUE),\"\",COUNTIF($B$1:B1188,TRUE))","v":""},{"$f":"Worksheet!$B$28","v":true},{"$f":"RANDBETWEEN(5,20)","v":12},"°C","±",{"$f":"IF(I1188=1,H1188*10^RANDBETWEEN(IF(Worksheet!$D$14,-1,0),0),IF(I1188=2,H1188,CHOOSE(RANDBETWEEN(1,3),5,10,20)))","v":7},{"$f":"IF(I1188=1,D1188,IF(I1188=3,\"%\",\"sec\"))","v":"sec"},{"$f":"RANDBETWEEN(1,MIN(9,C1188))","v":7},{"$f":"IF(AND(Worksheet!$D$12,RAND()<0),3,IF(RAND()<Worksheet!$D$10/100,1,2))","v":2},{"$f":"IF(I1188=1,F1188,IF(I1188=2,F1188,IF(I1188=3,F1188/100*C1188,\"\")))","v":7},{"$f":"CONCATENATE(\" \",D1188)","v":" °C"},{"$f":"IF(I1188=1,F1188,IF(I1188=2,F1188,IF(I1188=3,F1188/100*C1188,\"\")))","v":7}," °C"]
[{"$f":"COUNTIF($B$1:B1189,TRUE)","v":925},{"$f":"Worksheet!$B$20","v":true},{"$f":"RANDBETWEEN(5,RANDBETWEEN(5,Worksheet!$D$8))","v":49},"cm","±",{"$f":"IF(I1189=1,H1189*10^RANDBETWEEN(IF(Worksheet!$D$14,-1,0),0),IF(I1189=2,H1189,CHOOSE(RANDBETWEEN(1,3),5,10,20)))","v":3},{"$f":"IF(I1189=1,D1189,IF(I1189=3,\"%\",\"mm\"))","v":"cm"},{"$f":"RANDBETWEEN(1,MIN(9,C1189))","v":3},{"$f":"IF(AND(Worksheet!$D$12,RAND()<0.2),3,IF(RAND()<Worksheet!$D$10/100,1,2))","v":1},{"$f":"IF(I1189=1,F1189,IF(I1189=2,F1189/10,IF(I1189=3,F1189/100*C1189,\"\")))","v":3},{"$f":"CONCATENATE(\" \",D1189)","v":" cm"},{"$f":"IF(I1189=1,F1189*10,IF(I1189=2,F1189,IF(I1189=3,F1189/100*C1189*10,\"\")))","v":30},"mm"]
[{"$f":"IF(COUNTIF($B$1:B1190,TRUE)=COUNTIF($B$1:B1189,TRUE),\"\",COUNTIF($B$1:B1190,TRUE))","v":926},{"$f":"Worksheet!$B$22","v":true},{"$f":"RANDBETWEEN(5,RANDBETWEEN(5,Worksheet!$D$8))","v":8},"m","±",{"$f":"IF(I1190=1,H1190*10^RANDBETWEEN(IF(Worksheet!$D$14,-1,0),0),IF(I1190=2,H1190*10^RANDBETWEEN(RANDBETWEEN(0,1),1),CHOOSE(RANDBETWEEN(1,3),5,10,20)))","v":20},{"$f":"IF(I1190=1,D1190,IF(I1190=3,\"%\",\"cm\"))","v":"%"},{"$f":"RANDBETWEEN(1,MIN(9,C1190))","v":3},{"$f":"IF(AND(Worksheet!$D$12,RAND()<0.2),3,IF(RAND()<Worksheet!$D$10/100,1,2))","v":3},{"$f":"IF(I1190=1,F1190,IF(I1190=2,F1190/100,IF(I1190=3,F1190/100*C1190,\"\")))","v":1.6},{"$f":"CONCATENATE(\" \",D1190)","v":" m"},{"$f":"IF(I1190=1,F1190*100,IF(I1190=2,F1190,IF(I1190=3,F1190/100*C1190*100,\"\")))","v":160},"cm"]
[{"$f":"IF(COUNTIF($B$1:B1191,TRUE)=COUNTIF($B$1:B1190,TRUE),\"\",COUNTIF($B$1:B1191,TRUE))","v":927},{"$f":"Worksheet!$B$24","v":true},{"$f":"RANDBETWEEN(5,RANDBETWEEN(5,Worksheet!$D$8))","v":32},"km","±",{"$f":"IF(I1191=1,H1191*10^RANDBETWEEN(IF(Worksheet!$D$14,-1,0),0),IF(I1191=2,H1191*10^RANDBETWEEN(RANDBETWEEN(0,2),2),CHOOSE(RANDBETWEEN(1,3),5,10,20)))","v":0.1},{"$f":"IF(I1191=1,D1191,IF(I1191=3,\"%\",\"m\"))","v":"km"},1,{"$f":"IF(AND(Worksheet!$D$12,RAND()<0.2),3,IF(RAND()<Worksheet!$D$10/100,1,2))","v":1},{"$f":"IF(I1191=1,F1191,IF(I1191=2,F1191/1000,IF(I1191=3,F1191/100*C1191,\"\")))","v":0.1}," km",{"$f":"IF(I1191=1,F1191*1000,IF(I1191=2,F1191,IF(I1191=3,F1191/100*C1191*1000,\"\")))","v":100},"m"]
[{"$f":"IF(COUNTIF($B$1:B1192,TRUE)=COUNTIF($B$1:B1191,TRUE),\"\",COUNTIF($B$1:B1192,TRUE))","v":""},{"$f":"Worksheet!$B$26","v":false},{"$f":"RANDBETWEEN(5,RANDBETWEEN(5,Worksheet!$D$8))","v":50},"m","±",{"$f":"IF(I1192=1,H1192*10^RANDBETWEEN(IF(Worksheet!$D$14,-1,0),0),IF(I1192=2,H1192*10^RANDBETWEEN(RANDBETWEEN(0,2),2),CHOOSE(RANDBETWEEN(1,3),5,10,20)))","v":20},{"$f":"IF(I1192=1,D1192,IF(I1192=3,\"%\",\"mm\"))","v":"%"},6,{"$f":"IF(AND(Worksheet!$D$12,RAND()<0.2),3,IF(RAND()<Worksheet!$D$10/100,1,2))","v":3},10," m",10000,"mm"]
[{"$f":"IF(COUNTIF($B$1:B1193,TRUE)=COUNTIF($B$1:B1192,TRUE),\"\",COUNTIF($B$1:B1193,TRUE))","v":928},{"$f":"Worksheet!$D$20","v":true},{"$f":"RANDBETWEEN(5,RANDBETWEEN(5,Worksheet!$D$8))","v":89},"kg","±",{"$f":"IF(I1193=1,H1193*10^RANDBETWEEN(IF(Worksheet!$D$14,-1,0),0),IF(I1193=2,H1193*10^RANDBETWEEN(RANDBETWEEN(0,2),2),CHOOSE(RANDBETWEEN(1,3),5,10,20)))","v":9},{"$f":"IF(I1193=1,D1193,IF(I1193=3,\"%\",\"g\"))","v":"kg"},{"$f":"RANDBETWEEN(1,MIN(9,C1193))","v":9},{"$f":"IF(AND(Worksheet!$D$12,RAND()<0.2),3,IF(RAND()<Worksheet!$D$10/100,1,2))","v":1},9,{"$f":"CONCATENATE(\" \",D1193)","v":" kg"},9000,"g"]
[{"$f":"IF(COUNTIF($B$1:B1194,TRUE)=COUNTIF($B$1:B1193,TRUE),\"\",COUNTIF($B$1:B1194,TRUE))","v":929},{"$f":"Worksheet!$D$22","v":true},{"$f":"RANDBETWEEN(5,RANDBETWEEN(5,Worksheet!$D$8))","v":7},"tonnes","±",{"$f":"IF(I1194=1,H1194*10^RANDBETWEEN(IF(Worksheet!$D$14,-1,0),0),IF(I1194=2,H1194*10^RANDBETWEEN(RANDBETWEEN(0,2),2),CHOOSE(RANDBETWEEN(1,3),5,10,20)))","v":4},{"$f":"IF(I1194=1,D1194,IF(I1194=3,\"%\",\"kg\"))","v":"tonnes"},{"$f":"RANDBETWEEN(1,MIN(9,C1194))","v":4},{"$f":"IF(AND(Worksheet!$D$12,RAND()<0.2),3,IF(RAND()<Worksheet!$D$10/100,1,2))","v":1},4,{"$f":"CONCATENATE(\" \",D1194)","v":" tonnes"},4000,"kg"]
[{"$f":"IF(COUNTIF($B$1:B1195,TRUE)=COUNTIF($B$1:B1194,TRUE),\"\",COUNTIF($B$1:B1195,TRUE))","v":930},{"$f":"Worksheet!$D$24","v":true},{"$f":"RANDBETWEEN(5,RANDBETWEEN(5,Worksheet!$D$8))","v":120},"litres","±",{"$f":"IF(I1195=1,H1195*10^RANDBETWEEN(IF(Worksheet!$D$14,-1,0),0),IF(I1195=2,H1195*10^RANDBETWEEN(RANDBETWEEN(0,2),2),CHOOSE(RANDBETWEEN(1,3),5,10,20)))","v":0.5},{"$f":"IF(I1195=1,D1195,IF(I1195=3,\"%\",\"ml\"))","v":"litres"},{"$f":"RANDBETWEEN(1,MIN(9,C1195))","v":5},{"$f":"IF(AND(Worksheet!$D$12,RAND()<0.2),3,IF(RAND()<Worksheet!$D$10/100,1,2))","v":1},0.5,{"$f":"CONCATENATE(\" \",D1195)","v":" litres"},500,"ml"]
[{"$f":"IF(COUNTIF($B$1:B1196,TRUE)=COUNTIF($B$1:B1195,TRUE),\"\",COUNTIF($B$1:B1196,TRUE))","v":""},{"$f":"Worksheet!$D$26","v":false},{"$f":"RANDBETWEEN(5,RANDBETWEEN(5,Worksheet!$D$8))","v":38},"litres","±",{"$f":"IF(I1196=1,H1196*10^RANDBETWEEN(IF(Worksheet!$D$14,-1,0),0),IF(I1196=2,H1196*10^RANDBETWEEN(RANDBETWEEN(0,2),2),CHOOSE(RANDBETWEEN(1,3),5,10,20)))","v":0.1},{"$f":"IF(I1196=1,D1196,IF(I1196=3,\"%\",\"cm³\"))","v":"litres"},{"$f":"RANDBETWEEN(1,MIN(9,C1196))","v":1},{"$f":"IF(AND(Worksheet!$D$12,RAND()<0.2),3,IF(RAND()<Worksheet!$D$10/100,1,2))","v":1},0.1,{"$f":"CONCATENATE(\" \",D1196)","v":" litres"},100,"cm³"]
[{"$f":"IF(COUNTIF($B$1:B1197,TRUE)=COUNTIF($B$1:B1197,TRUE),\"\",COUNTIF($B$1:B1197,TRUE))","v":""},{"$f":"Worksheet!$B$28","v":true},{"$f":"RANDBETWEEN(5,20)","v":8},"°C","±",{"$f":"IF(I1197=1,H1197*10^RANDBETWEEN(IF(Worksheet!$D$14,-1,0),0),IF(I1197=2,H1197,CHOOSE(RANDBETWEEN(1,3),5,10,20)))","v":3},{"$f":"IF(I1197=1,D1197,IF(I1197=3,\"%\",\"sec\"))","v":"°C"},{"$f":"RANDBETWEEN(1,MIN(9,C1197))","v":3},{"$f":"IF(AND(Worksheet!$D$12,RAND()<0),3,IF(RAND()<Worksheet!$D$10/100,1,2))","v":1},{"$f":"IF(I1197=1,F1197,IF(I1197=2,F1197,IF(I1197=3,F1197/100*C1197,\"\")))","v":3},{"$f":"CONCATENATE(\" \",D1197)","v":" °C"},{"$f":"IF(I1197=1,F1197,IF(I1197=2,F1197,IF(I1197=3,F1197/100*C1197,\"\")))","v":3}," °C"]
[{"$f":"COUNTIF($B$1:B1198,TRUE)","v":932},{"$f":"Worksheet!$B$20","v":true},{"$f":"RANDBETWEEN(5,RANDBETWEEN(5,Worksheet!$D$8))","v":19},"cm","±",{"$f":"IF(I1198=1,H1198*10^RANDBETWEEN(IF(Worksheet!$D$14,-1,0),0),IF(I1198=2,H1198,CHOOSE(RANDBETWEEN(1,3),5,10,20)))","v":0.70000000000000007},{"$f":"IF(I1198=1,D1198,IF(I1198=3,\"%\",\"mm\"))","v":"cm"},{"$f":"RANDBETWEEN(1,MIN(9,C1198))","v":7},{"$f":"IF(AND(Worksheet!$D$12,RAND()<0.2),3,IF(RAND()<Worksheet!$D$10/100,1,2))","v":1},{"$f":"IF(I1198=1,F1198,IF(I1198=2,F1198/10,IF(I1198=3,F1198/100*C1198,\"\")))","v":0.70000000000000007},{"$f":"CONCATENATE(\" \",D1198)","v":" cm"},{"$f":"IF(I1198=1,F1198*10,IF(I1198=2,F1198,IF(I1198=3,F1198/100*C1198*10,\"\")))","v":7.0000000000000009},"mm"]
[{"$f":"IF(COUNTIF($B$1:B1199,TRUE)=COUNTIF($B$1:B1198,TRUE),\"\",COUNTIF($B$1:B1199,TRUE))","v":933},{"$f":"Worksheet!$B$22","v":true},{"$f":"RANDBETWEEN(5,RANDBETWEEN(5,Worksheet!$D$8))","v":52},"m","±",{"$f":"IF(I1199=1,H1199*10^RANDBETWEEN(IF(Worksheet!$D$14,-1,0),0),IF(I1199=2,H1199*10^RANDBETWEEN(RANDBETWEEN(0,1),1),CHOOSE(RANDBETWEEN(1,3),5,10,20)))","v":5},{"$f":"IF(I1199=1,D1199,IF(I1199=3,\"%\",\"cm\"))","v":"m"},{"$f":"RANDBETWEEN(1,MIN(9,C1199))","v":5},{"$f":"IF(AND(Worksheet!$D$12,RAND()<0.2),3,IF(RAND()<Worksheet!$D$10/100,1,2))","v":1},{"$f":"IF(I1199=1,F1199,IF(I1199=2,F1199/100,IF(I1199=3,F1199/100*C1199,\"\")))","v":5},{"$f":"CONCATENATE(\" \",D1199)","v":" m"},{"$f":"IF(I1199=1,F1199*100,IF(I1199=2,F1199,IF(I1199=3,F1199/100*C1199*100,\"\")))","v":500},"cm"]
[{"$f":"IF(COUNTIF($B$1:B1200,TRUE)=COUNTIF($B$1:B1199,TRUE),\"\",COUNTIF($B$1:B1200,TRUE))","v":934},{"$f":"Worksheet!$B$24","v":true},{"$f":"RANDBETWEEN(5,RANDBETWEEN(5,Worksheet!$D$8))","v":53},"km","±",{"$f":"IF(I1200=1,H1200*10^RANDBETWEEN(IF(Worksheet!$D$14,-1,0),0),IF(I1200=2,H1200*10^RANDBETWEEN(RANDBETWEEN(0,2),2),CHOOSE(RANDBETWEEN(1,3),5,10,20)))","v":0.9},{"$f":"IF(I1200=1,D1200,IF(I1200=3,\"%\",\"m\"))","v":"km"},9,{"$f":"IF(AND(Worksheet!$D$12,RAND()<0.2),3,IF(RAND()<Worksheet!$D$10/100,1,2))","v":1},{"$f":"IF(I1200=1,F1200,IF(I1200=2,F1200/1000,IF(I1200=3,F1200/100*C1200,\"\")))","v":0.9}," km",{"$f":"IF(I1200=1,F1200*1000,IF(I1200=2,F1200,IF(I1200=3,F1200/100*C1200*1000,\"\")))","v":900},"m"]
[{"$f":"IF(COUNTIF($B$1:B1201,TRUE)=COUNTIF($B$1:B1200,TRUE),\"\",COUNTIF($B$1:B1201,TRUE))","v":""},{"$f":"Worksheet!$B$26","v":false},{"$f":"RANDBETWEEN(5,RANDBETWEEN(5,Worksheet!$D$8))","v":35},"m","±",{"$f":"IF(I1201=1,H1201*10^RANDBETWEEN(IF(Worksheet!$D$14,-1,0),0),IF(I1201=2,H1201*10^RANDBETWEEN(RANDBETWEEN(0,2),2),CHOOSE(RANDBETWEEN(1,3),5,10,20)))","v":700},{"$f":"IF(I1201=1,D1201,IF(I1201=3,\"%\",\"mm\"))","v":"mm"},7,{"$f":"IF(AND(Worksheet!$D$12,RAND()<0.2),3,IF(RAND()<Worksheet!$D$10/100,1,2))","v":2},0.7," m",700,"mm"]
[{"$f":"IF(COUNTIF($B$1:B1202,TRUE)=COUNTIF($B$1:B1201,TRUE),\"\",COUNTIF($B$1:B1202,TRUE))","v":935},{"$f":"Worksheet!$D$20","v":true},{"$f":"RANDBETWEEN(5,RANDBETWEEN(5,Worksheet!$D$8))","v":49},"kg","±",{"$f":"IF(I1202=1,H1202*10^RANDBETWEEN(IF(Worksheet!$D$14,-1,0),0),IF(I1202=2,H1202*10^RANDBETWEEN(RANDBETWEEN(0,2),2),CHOOSE(RANDBETWEEN(1,3),5,10,20)))","v":0.30000000000000004},{"$f":"IF(I1202=1,D1202,IF(I1202=3,\"%\",\"g\"))","v":"kg"},{"$f":"RANDBETWEEN(1,MIN(9,C1202))","v":3},{"$f":"IF(AND(Worksheet!$D$12,RAND()<0.2),3,IF(RAND()<Worksheet!$D$10/100,1,2))","v":1},0.30000000000000004,{"$f":"CONCATENATE(\" \",D1202)","v":" kg"},300.00000000000006,"g"]
[{"$f":"IF(COUNTIF($B$1:B1203,TRUE)=COUNTIF($B$1:B1202,TRUE),\"\",COUNTIF($B$1:B1203,TRUE))","v":936},{"$f":"Worksheet!$D$22","v":true},{"$f":"RANDBETWEEN(5,RANDBETWEEN(5,Worksheet!$D$8))","v":79},"tonnes","±",{"$f":"IF(I1203=1,H1203*10^RANDBETWEEN(IF(Worksheet!$D$14,-1,0),0),IF(I1203=2,H1203*10^RANDBETWEEN(RANDBETWEEN(0,2),2),CHOOSE(RANDBETWEEN(1,3),5,10,20)))","v":5},{"$f":"IF(I1203=1,D1203,IF(I1203=3,\"%\",\"kg\"))","v":"%"},{"$f":"RANDBETWEEN(1,MIN(9,C1203))","v":8},{"$f":"IF(AND(Worksheet!$D$12,RAND()<0.2),3,IF(RAND()<Worksheet!$D$10/100,1,2))","v":3},3.95,{"$f":"CONCATENATE(\" \",D1203)","v":" tonnes"},3950,"kg"]
[{"$f":"IF(COUNTIF($B$1:B1204,TRUE)=COUNTIF($B$1:B1203,TRUE),\"\",COUNTIF($B$1:B1204,TRUE))","v":937},{"$f":"Worksheet!$D$24","v":true},{"$f":"RANDBETWEEN(5,RANDBETWEEN(5,Worksheet!$D$8))","v":5},"litres","±",{"$f":"IF(I1204=1,H1204*10^RANDBETWEEN(IF(Worksheet!$D$14,-1,0),0),IF(I1204=2,H1204*10^RANDBETWEEN(RANDBETWEEN(0,2),2),CHOOSE(RANDBETWEEN(1,3),5,10,20)))","v":2},{"$f":"IF(I1204=1,D1204,IF(I1204=3,\"%\",\"ml\"))","v":"litres"},{"$f":"RANDBETWEEN(1,MIN(9,C1204))","v":2},{"$f":"IF(AND(Worksheet!$D$12,RAND()<0.2),3,IF(RAND()<Worksheet!$D$10/100,1,2))","v":1},2,{"$f":"CONCATENATE(\" \",D1204)","v":" litres"},2000,"ml"]
[{"$f":"IF(COUNTIF($B$1:B1205,TRUE)=COUNTIF($B$1:B1204,TRUE),\"\",COUNTIF($B$1:B1205,TRUE))","v":""},{"$f":"Worksheet!$D$26","v":false},{"$f":"RANDBETWEEN(5,RANDBETWEEN(5,Worksheet!$D$8))","v":43},"litres","±",{"$f":"IF(I1205=1,H1205*10^RANDBETWEEN(IF(Worksheet!$D$14,-1,0),0),IF(I1205=2,H1205*10^RANDBETWEEN(RANDBETWEEN(0,2),2),CHOOSE(RANDBETWEEN(1,3),5,10,20)))","v":2},{"$f":"IF(I1205=1,D1205,IF(I1205=3,\"%\",\"cm³\"))","v":"litres"},{"$f":"RANDBETWEEN(1,MIN(9,C1205))","v":2},{"$f":"IF(AND(Worksheet!$D$12,RAND()<0.2),3,IF(RAND()<Worksheet!$D$10/100,1,2))","v":1},2,{"$f":"CONCATENATE(\" \",D1205)","v":" litres"},2000,"cm³"]
[{"$f":"IF(COUNTIF($B$1:B1206,TRUE)=COUNTIF($B$1:B1206,TRUE),\"\",COUNTIF($B$1:B1206,TRUE))","v":""},{"$f":"Worksheet!$B$28","v":true},{"$f":"RANDBETWEEN(5,20)","v":13},"°C","±",{"$f":"IF(I1206=1,H1206*10^RANDBETWEEN(IF(Worksheet!$D$14,-1,0),0),IF(I1206=2,H1206,CHOOSE(RANDBETWEEN(1,3),5,10,20)))","v":9},{"$f":"IF(I1206=1,D1206,IF(I1206=3,\"%\",\"sec\"))","v":"°C"},{"$f":"RANDBETWEEN(1,MIN(9,C1206))","v":9},{"$f":"IF(AND(Worksheet!$D$12,RAND()<0),3,IF(RAND()<Worksheet!$D$10/100,1,2))","v":1},{"$f":"IF(I1206=1,F1206,IF(I1206=2,F1206,IF(I1206=3,F1206/100*C1206,\"\")))","v":9},{"$f":"CONCATENATE(\" \",D1206)","v":" °C"},{"$f":"IF(I1206=1,F1206,IF(I1206=2,F1206,IF(I1206=3,F1206/100*C1206,\"\")))","v":9}," °C"]
[{"$f":"COUNTIF($B$1:B1207,TRUE)","v":939},{"$f":"Worksheet!$B$20","v":true},{"$f":"RANDBETWEEN(5,RANDBETWEEN(5,Worksheet!$D$8))","v":28},"cm","±",{"$f":"IF(I1207=1,H1207*10^RANDBETWEEN(IF(Worksheet!$D$14,-1,0),0),IF(I1207=2,H1207,CHOOSE(RANDBETWEEN(1,3),5,10,20)))","v":0.70000000000000007},{"$f":"IF(I1207=1,D1207,IF(I1207=3,\"%\",\"mm\"))","v":"cm"},{"$f":"RANDBETWEEN(1,MIN(9,C1207))","v":7},{"$f":"IF(AND(Worksheet!$D$12,RAND()<0.2),3,IF(RAND()<Worksheet!$D$10/100,1,2))","v":1},{"$f":"IF(I1207=1,F1207,IF(I1207=2,F1207/10,IF(I1207=3,F1207/100*C1207,\"\")))","v":0.70000000000000007},{"$f":"CONCATENATE(\" \",D1207)","v":" cm"},{"$f":"IF(I1207=1,F1207*10,IF(I1207=2,F1207,IF(I1207=3,F1207/100*C1207*10,\"\")))","v":7.0000000000000009},"mm"]
[{"$f":"IF(COUNTIF($B$1:B1208,TRUE)=COUNTIF($B$1:B1207,TRUE),\"\",COUNTIF($B$1:B1208,TRUE))","v":940},{"$f":"Worksheet!$B$22","v":true},{"$f":"RANDBETWEEN(5,RANDBETWEEN(5,Worksheet!$D$8))","v":61},"m","±",{"$f":"IF(I1208=1,H1208*10^RANDBETWEEN(IF(Worksheet!$D$14,-1,0),0),IF(I1208=2,H1208*10^RANDBETWEEN(RANDBETWEEN(0,1),1),CHOOSE(RANDBETWEEN(1,3),5,10,20)))","v":0.2},{"$f":"IF(I1208=1,D1208,IF(I1208=3,\"%\",\"cm\"))","v":"m"},{"$f":"RANDBETWEEN(1,MIN(9,C1208))","v":2},{"$f":"IF(AND(Worksheet!$D$12,RAND()<0.2),3,IF(RAND()<Worksheet!$D$10/100,1,2))","v":1},{"$f":"IF(I1208=1,F1208,IF(I1208=2,F1208/100,IF(I1208=3,F1208/100*C1208,\"\")))","v":0.2},{"$f":"CONCATENATE(\" \",D1208)","v":" m"},{"$f":"IF(I1208=1,F1208*100,IF(I1208=2,F1208,IF(I1208=3,F1208/100*C1208*100,\"\")))","v":20},"cm"]
[{"$f":"IF(COUNTIF($B$1:B1209,TRUE)=COUNTIF($B$1:B1208,TRUE),\"\",COUNTIF($B$1:B1209,TRUE))","v":941},{"$f":"Worksheet!$B$24","v":true},{"$f":"RANDBETWEEN(5,RANDBETWEEN(5,Worksheet!$D$8))","v":9},"km","±",{"$f":"IF(I1209=1,H1209*10^RANDBETWEEN(IF(Worksheet!$D$14,-1,0),0),IF(I1209=2,H1209*10^RANDBETWEEN(RANDBETWEEN(0,2),2),CHOOSE(RANDBETWEEN(1,3),5,10,20)))","v":0.5},{"$f":"IF(I1209=1,D1209,IF(I1209=3,\"%\",\"m\"))","v":"km"},5,{"$f":"IF(AND(Worksheet!$D$12,RAND()<0.2),3,IF(RAND()<Worksheet!$D$10/100,1,2))","v":1},{"$f":"IF(I1209=1,F1209,IF(I1209=2,F1209/1000,IF(I1209=3,F1209/100*C1209,\"\")))","v":0.5}," km",{"$f":"IF(I1209=1,F1209*1000,IF(I1209=2,F1209,IF(I1209=3,F1209/100*C1209*1000,\"\")))","v":500},"m"]
[{"$f":"IF(COUNTIF($B$1:B1210,TRUE)=COUNTIF($B$1:B1209,TRUE),\"\",COUNTIF($B$1:B1210,TRUE))","v":""},{"$f":"Worksheet!$B$26","v":false},{"$f":"RANDBETWEEN(5,RANDBETWEEN(5,Worksheet!$D$8))","v":30},"m","±",{"$f":"IF(I1210=1,H1210*10^RANDBETWEEN(IF(Worksheet!$D$14,-1,0),0),IF(I1210=2,H1210*10^RANDBETWEEN(RANDBETWEEN(0,2),2),CHOOSE(RANDBETWEEN(1,3),5,10,20)))","v":0.5},{"$f":"IF(I1210=1,D1210,IF(I1210=3,\"%\",\"mm\"))","v":"m"},5,{"$f":"IF(AND(Worksheet!$D$12,RAND()<0.2),3,IF(RAND()<Worksheet!$D$10/100,1,2))","v":1},0.5," m",500,"mm"]
[{"$f":"IF(COUNTIF($B$1:B1211,TRUE)=COUNTIF($B$1:B1210,TRUE),\"\",COUNTIF($B$1:B1211,TRUE))","v":942},{"$f":"Worksheet!$D$20","v":true},{"$f":"RANDBETWEEN(5,RANDBETWEEN(5,Worksheet!$D$8))","v":12},"kg","±",{"$f":"IF(I1211=1,H1211*10^RANDBETWEEN(IF(Worksheet!$D$14,-1,0),0),IF(I1211=2,H1211*10^RANDBETWEEN(RANDBETWEEN(0,2),2),CHOOSE(RANDBETWEEN(1,3),5,10,20)))","v":0.9},{"$f":"IF(I1211=1,D1211,IF(I1211=3,\"%\",\"g\"))","v":"kg"},{"$f":"RANDBETWEEN(1,MIN(9,C1211))","v":9},{"$f":"IF(AND(Worksheet!$D$12,RAND()<0.2),3,IF(RAND()<Worksheet!$D$10/100,1,2))","v":1},0.9,{"$f":"CONCATENATE(\" \",D1211)","v":" kg"},900,"g"]
[{"$f":"IF(COUNTIF($B$1:B1212,TRUE)=COUNTIF($B$1:B1211,TRUE),\"\",COUNTIF($B$1:B1212,TRUE))","v":943},{"$f":"Worksheet!$D$22","v":true},{"$f":"RANDBETWEEN(5,RANDBETWEEN(5,Worksheet!$D$8))","v":73},"tonnes","±",{"$f":"IF(I1212=1,H1212*10^RANDBETWEEN(IF(Worksheet!$D$14,-1,0),0),IF(I1212=2,H1212*10^RANDBETWEEN(RANDBETWEEN(0,2),2),CHOOSE(RANDBETWEEN(1,3),5,10,20)))","v":600},{"$f":"IF(I1212=1,D1212,IF(I1212=3,\"%\",\"kg\"))","v":"kg"},{"$f":"RANDBETWEEN(1,MIN(9,C1212))","v":6},{"$f":"IF(AND(Worksheet!$D$12,RAND()<0.2),3,IF(RAND()<Worksheet!$D$10/100,1,2))","v":2},0.6,{"$f":"CONCATENATE(\" \",D1212)","v":" tonnes"},600,"kg"]
[{"$f":"IF(COUNTIF($B$1:B1213,TRUE)=COUNTIF($B$1:B1212,TRUE),\"\",COUNTIF($B$1:B1213,TRUE))","v":944},{"$f":"Worksheet!$D$24","v":true},{"$f":"RANDBETWEEN(5,RANDBETWEEN(5,Worksheet!$D$8))","v":69},"litres","±",{"$f":"IF(I1213=1,H1213*10^RANDBETWEEN(IF(Worksheet!$D$14,-1,0),0),IF(I1213=2,H1213*10^RANDBETWEEN(RANDBETWEEN(0,2),2),CHOOSE(RANDBETWEEN(1,3),5,10,20)))","v":0.9},{"$f":"IF(I1213=1,D1213,IF(I1213=3,\"%\",\"ml\"))","v":"litres"},{"$f":"RANDBETWEEN(1,MIN(9,C1213))","v":9},{"$f":"IF(AND(Worksheet!$D$12,RAND()<0.2),3,IF(RAND()<Worksheet!$D$10/100,1,2))","v":1},0.9,{"$f":"CONCATENATE(\" \",D1213)","v":" litres"},900,"ml"]
[{"$f":"IF(COUNTIF($B$1:B1214,TRUE)=COUNTIF($B$1:B1213,TRUE),\"\",COUNTIF($B$1:B1214,TRUE))","v":""},{"$f":"Worksheet!$D$26","v":false},{"$f":"RANDBETWEEN(5,RANDBETWEEN(5,Worksheet!$D$8))","v":175},"litres","±",{"$f":"IF(I1214=1,H1214*10^RANDBETWEEN(IF(Worksheet!$D$14,-1,0),0),IF(I1214=2,H1214*10^RANDBETWEEN(RANDBETWEEN(0,2),2),CHOOSE(RANDBETWEEN(1,3),5,10,20)))","v":5},{"$f":"IF(I1214=1,D1214,IF(I1214=3,\"%\",\"cm³\"))","v":"%"},{"$f":"RANDBETWEEN(1,MIN(9,C1214))","v":1},{"$f":"IF(AND(Worksheet!$D$12,RAND()<0.2),3,IF(RAND()<Worksheet!$D$10/100,1,2))","v":3},8.75,{"$f":"CONCATENATE(\" \",D1214)","v":" litres"},8750,"cm³"]
[{"$f":"IF(COUNTIF($B$1:B1215,TRUE)=COUNTIF($B$1:B1215,TRUE),\"\",COUNTIF($B$1:B1215,TRUE))","v":""},{"$f":"Worksheet!$B$28","v":true},{"$f":"RANDBETWEEN(5,20)","v":13},"°C","±",{"$f":"IF(I1215=1,H1215*10^RANDBETWEEN(IF(Worksheet!$D$14,-1,0),0),IF(I1215=2,H1215,CHOOSE(RANDBETWEEN(1,3),5,10,20)))","v":0.2},{"$f":"IF(I1215=1,D1215,IF(I1215=3,\"%\",\"sec\"))","v":"°C"},{"$f":"RANDBETWEEN(1,MIN(9,C1215))","v":2},{"$f":"IF(AND(Worksheet!$D$12,RAND()<0),3,IF(RAND()<Worksheet!$D$10/100,1,2))","v":1},{"$f":"IF(I1215=1,F1215,IF(I1215=2,F1215,IF(I1215=3,F1215/100*C1215,\"\")))","v":0.2},{"$f":"CONCATENATE(\" \",D1215)","v":" °C"},{"$f":"IF(I1215=1,F1215,IF(I1215=2,F1215,IF(I1215=3,F1215/100*C1215,\"\")))","v":0.2}," °C"]
[{"$f":"COUNTIF($B$1:B1216,TRUE)","v":946},{"$f":"Worksheet!$B$20","v":true},{"$f":"RANDBETWEEN(5,RANDBETWEEN(5,Worksheet!$D$8))","v":10},"cm","±",{"$f":"IF(I1216=1,H1216*10^RANDBETWEEN(IF(Worksheet!$D$14,-1,0),0),IF(I1216=2,H1216,CHOOSE(RANDBETWEEN(1,3),5,10,20)))","v":6},{"$f":"IF(I1216=1,D1216,IF(I1216=3,\"%\",\"mm\"))","v":"cm"},{"$f":"RANDBETWEEN(1,MIN(9,C1216))","v":6},{"$f":"IF(AND(Worksheet!$D$12,RAND()<0.2),3,IF(RAND()<Worksheet!$D$10/100,1,2))","v":1},{"$f":"IF(I1216=1,F1216,IF(I1216=2,F1216/10,IF(I1216=3,F1216/100*C1216,\"\")))","v":6},{"$f":"CONCATENATE(\" \",D1216)","v":" cm"},{"$f":"IF(I1216=1,F1216*10,IF(I1216=2,F1216,IF(I1216=3,F1216/100*C1216*10,\"\")))","v":60},"mm"]
[{"$f":"IF(COUNTIF($B$1:B1217,TRUE)=COUNTIF($B$1:B1216,TRUE),\"\",COUNTIF($B$1:B1217,TRUE))","v":947},{"$f":"Worksheet!$B$22","v":true},{"$f":"RANDBETWEEN(5,RANDBETWEEN(5,Worksheet!$D$8))","v":67},"m","±",{"$f":"IF(I1217=1,H1217*10^RANDBETWEEN(IF(Worksheet!$D$14,-1,0),0),IF(I1217=2,H1217*10^RANDBETWEEN(RANDBETWEEN(0,1),1),CHOOSE(RANDBETWEEN(1,3),5,10,20)))","v":0.30000000000000004},{"$f":"IF(I1217=1,D1217,IF(I1217=3,\"%\",\"cm\"))","v":"m"},{"$f":"RANDBETWEEN(1,MIN(9,C1217))","v":3},{"$f":"IF(AND(Worksheet!$D$12,RAND()<0.2),3,IF(RAND()<Worksheet!$D$10/100,1,2))","v":1},{"$f":"IF(I1217=1,F1217,IF(I1217=2,F1217/100,IF(I1217=3,F1217/100*C1217,\"\")))","v":0.30000000000000004},{"$f":"CONCATENATE(\" \",D1217)","v":" m"},{"$f":"IF(I1217=1,F1217*100,IF(I1217=2,F1217,IF(I1217=3,F1217/100*C1217*100,\"\")))","v":30.000000000000004},"cm"]
[{"$f":"IF(COUNTIF($B$1:B1218,TRUE)=COUNTIF($B$1:B1217,TRUE),\"\",COUNTIF($B$1:B1218,TRUE))","v":948},{"$f":"Worksheet!$B$24","v":true},{"$f":"RANDBETWEEN(5,RANDBETWEEN(5,Worksheet!$D$8))","v":127},"km","±",{"$f":"IF(I1218=1,H1218*10^RANDBETWEEN(IF(Worksheet!$D$14,-1,0),0),IF(I1218=2,H1218*10^RANDBETWEEN(RANDBETWEEN(0,2),2),CHOOSE(RANDBETWEEN(1,3),5,10,20)))","v":1},{"$f":"IF(I1218=1,D1218,IF(I1218=3,\"%\",\"m\"))","v":"km"},1,{"$f":"IF(AND(Worksheet!$D$12,RAND()<0.2),3,IF(RAND()<Worksheet!$D$10/100,1,2))","v":1},{"$f":"IF(I1218=1,F1218,IF(I1218=2,F1218/1000,IF(I1218=3,F1218/100*C1218,\"\")))","v":1}," km",{"$f":"IF(I1218=1,F1218*1000,IF(I1218=2,F1218,IF(I1218=3,F1218/100*C1218*1000,\"\")))","v":1000},"m"]
[{"$f":"IF(COUNTIF($B$1:B1219,TRUE)=COUNTIF($B$1:B1218,TRUE),\"\",COUNTIF($B$1:B1219,TRUE))","v":""},{"$f":"Worksheet!$B$26","v":false},{"$f":"RANDBETWEEN(5,RANDBETWEEN(5,Worksheet!$D$8))","v":44},"m","±",{"$f":"IF(I1219=1,H1219*10^RANDBETWEEN(IF(Worksheet!$D$14,-1,0),0),IF(I1219=2,H1219*10^RANDBETWEEN(RANDBETWEEN(0,2),2),CHOOSE(RANDBETWEEN(1,3),5,10,20)))","v":400},{"$f":"IF(I1219=1,D1219,IF(I1219=3,\"%\",\"mm\"))","v":"mm"},4,{"$f":"IF(AND(Worksheet!$D$12,RAND()<0.2),3,IF(RAND()<Worksheet!$D$10/100,1,2))","v":2},0.4," m",400,"mm"]
[{"$f":"IF(COUNTIF($B$1:B1220,TRUE)=COUNTIF($B$1:B1219,TRUE),\"\",COUNTIF($B$1:B1220,TRUE))","v":949},{"$f":"Worksheet!$D$20","v":true},{"$f":"RANDBETWEEN(5,RANDBETWEEN(5,Worksheet!$D$8))","v":74},"kg","±",{"$f":"IF(I1220=1,H1220*10^RANDBETWEEN(IF(Worksheet!$D$14,-1,0),0),IF(I1220=2,H1220*10^RANDBETWEEN(RANDBETWEEN(0,2),2),CHOOSE(RANDBETWEEN(1,3),5,10,20)))","v":0.60000000000000009},{"$f":"IF(I1220=1,D1220,IF(I1220=3,\"%\",\"g\"))","v":"kg"},{"$f":"RANDBETWEEN(1,MIN(9,C1220))","v":6},{"$f":"IF(AND(Worksheet!$D$12,RAND()<0.2),3,IF(RAND()<Worksheet!$D$10/100,1,2))","v":1},0.60000000000000009,{"$f":"CONCATENATE(\" \",D1220)","v":" kg"},600.00000000000011,"g"]
[{"$f":"IF(COUNTIF($B$1:B1221,TRUE)=COUNTIF($B$1:B1220,TRUE),\"\",COUNTIF($B$1:B1221,TRUE))","v":950},{"$f":"Worksheet!$D$22","v":true},{"$f":"RANDBETWEEN(5,RANDBETWEEN(5,Worksheet!$D$8))","v":5},"tonnes","±",{"$f":"IF(I1221=1,H1221*10^RANDBETWEEN(IF(Worksheet!$D$14,-1,0),0),IF(I1221=2,H1221*10^RANDBETWEEN(RANDBETWEEN(0,2),2),CHOOSE(RANDBETWEEN(1,3),5,10,20)))","v":0.2},{"$f":"IF(I1221=1,D1221,IF(I1221=3,\"%\",\"kg\"))","v":"tonnes"},{"$f":"RANDBETWEEN(1,MIN(9,C1221))","v":2},{"$f":"IF(AND(Worksheet!$D$12,RAND()<0.2),3,IF(RAND()<Worksheet!$D$10/100,1,2))","v":1},0.2,{"$f":"CONCATENATE(\" \",D1221)","v":" tonnes"},200,"kg"]
[{"$f":"IF(COUNTIF($B$1:B1222,TRUE)=COUNTIF($B$1:B1221,TRUE),\"\",COUNTIF($B$1:B1222,TRUE))","v":951},{"$f":"Worksheet!$D$24","v":true},{"$f":"RANDBETWEEN(5,RANDBETWEEN(5,Worksheet!$D$8))","v":28},"litres","±",{"$f":"IF(I1222=1,H1222*10^RANDBETWEEN(IF(Worksheet!$D$14,-1,0),0),IF(I1222=2,H1222*10^RANDBETWEEN(RANDBETWEEN(0,2),2),CHOOSE(RANDBETWEEN(1,3),5,10,20)))","v":20},{"$f":"IF(I1222=1,D1222,IF(I1222=3,\"%\",\"ml\"))","v":"ml"},{"$f":"RANDBETWEEN(1,MIN(9,C1222))","v":2},{"$f":"IF(AND(Worksheet!$D$12,RAND()<0.2),3,IF(RAND()<Worksheet!$D$10/100,1,2))","v":2},0.02,{"$f":"CONCATENATE(\" \",D1222)","v":" litres"},20,"ml"]
[{"$f":"IF(COUNTIF($B$1:B1223,TRUE)=COUNTIF($B$1:B1222,TRUE),\"\",COUNTIF($B$1:B1223,TRUE))","v":""},{"$f":"Worksheet!$D$26","v":false},{"$f":"RANDBETWEEN(5,RANDBETWEEN(5,Worksheet!$D$8))","v":20},"litres","±",{"$f":"IF(I1223=1,H1223*10^RANDBETWEEN(IF(Worksheet!$D$14,-1,0),0),IF(I1223=2,H1223*10^RANDBETWEEN(RANDBETWEEN(0,2),2),CHOOSE(RANDBETWEEN(1,3),5,10,20)))","v":2},{"$f":"IF(I1223=1,D1223,IF(I1223=3,\"%\",\"cm³\"))","v":"litres"},{"$f":"RANDBETWEEN(1,MIN(9,C1223))","v":2},{"$f":"IF(AND(Worksheet!$D$12,RAND()<0.2),3,IF(RAND()<Worksheet!$D$10/100,1,2))","v":1},2,{"$f":"CONCATENATE(\" \",D1223)","v":" litres"},2000,"cm³"]
[{"$f":"IF(COUNTIF($B$1:B1224,TRUE)=COUNTIF($B$1:B1224,TRUE),\"\",COUNTIF($B$1:B1224,TRUE))","v":""},{"$f":"Worksheet!$B$28","v":true},{"$f":"RANDBETWEEN(5,20)","v":13},"°C","±",{"$f":"IF(I1224=1,H1224*10^RANDBETWEEN(IF(Worksheet!$D$14,-1,0),0),IF(I1224=2,H1224,CHOOSE(RANDBETWEEN(1,3),5,10,20)))","v":1},{"$f":"IF(I1224=1,D1224,IF(I1224=3,\"%\",\"sec\"))","v":"°C"},{"$f":"RANDBETWEEN(1,MIN(9,C1224))","v":1},{"$f":"IF(AND(Worksheet!$D$12,RAND()<0),3,IF(RAND()<Worksheet!$D$10/100,1,2))","v":1},{"$f":"IF(I1224=1,F1224,IF(I1224=2,F1224,IF(I1224=3,F1224/100*C1224,\"\")))","v":1},{"$f":"CONCATENATE(\" \",D1224)","v":" °C"},{"$f":"IF(I1224=1,F1224,IF(I1224=2,F1224,IF(I1224=3,F1224/100*C1224,\"\")))","v":1}," °C"]
[{"$f":"COUNTIF($B$1:B1225,TRUE)","v":953},{"$f":"Worksheet!$B$20","v":true},{"$f":"RANDBETWEEN(5,RANDBETWEEN(5,Worksheet!$D$8))","v":29},"cm","±",{"$f":"IF(I1225=1,H1225*10^RANDBETWEEN(IF(Worksheet!$D$14,-1,0),0),IF(I1225=2,H1225,CHOOSE(RANDBETWEEN(1,3),5,10,20)))","v":0.4},{"$f":"IF(I1225=1,D1225,IF(I1225=3,\"%\",\"mm\"))","v":"cm"},{"$f":"RANDBETWEEN(1,MIN(9,C1225))","v":4},{"$f":"IF(AND(Worksheet!$D$12,RAND()<0.2),3,IF(RAND()<Worksheet!$D$10/100,1,2))","v":1},{"$f":"IF(I1225=1,F1225,IF(I1225=2,F1225/10,IF(I1225=3,F1225/100*C1225,\"\")))","v":0.4},{"$f":"CONCATENATE(\" \",D1225)","v":" cm"},{"$f":"IF(I1225=1,F1225*10,IF(I1225=2,F1225,IF(I1225=3,F1225/100*C1225*10,\"\")))","v":4},"mm"]
[{"$f":"IF(COUNTIF($B$1:B1226,TRUE)=COUNTIF($B$1:B1225,TRUE),\"\",COUNTIF($B$1:B1226,TRUE))","v":954},{"$f":"Worksheet!$B$22","v":true},{"$f":"RANDBETWEEN(5,RANDBETWEEN(5,Worksheet!$D$8))","v":91},"m","±",{"$f":"IF(I1226=1,H1226*10^RANDBETWEEN(IF(Worksheet!$D$14,-1,0),0),IF(I1226=2,H1226*10^RANDBETWEEN(RANDBETWEEN(0,1),1),CHOOSE(RANDBETWEEN(1,3),5,10,20)))","v":7},{"$f":"IF(I1226=1,D1226,IF(I1226=3,\"%\",\"cm\"))","v":"cm"},{"$f":"RANDBETWEEN(1,MIN(9,C1226))","v":7},{"$f":"IF(AND(Worksheet!$D$12,RAND()<0.2),3,IF(RAND()<Worksheet!$D$10/100,1,2))","v":2},{"$f":"IF(I1226=1,F1226,IF(I1226=2,F1226/100,IF(I1226=3,F1226/100*C1226,\"\")))","v":7.0000000000000007E-2},{"$f":"CONCATENATE(\" \",D1226)","v":" m"},{"$f":"IF(I1226=1,F1226*100,IF(I1226=2,F1226,IF(I1226=3,F1226/100*C1226*100,\"\")))","v":7},"cm"]
[{"$f":"IF(COUNTIF($B$1:B1227,TRUE)=COUNTIF($B$1:B1226,TRUE),\"\",COUNTIF($B$1:B1227,TRUE))","v":955},{"$f":"Worksheet!$B$24","v":true},{"$f":"RANDBETWEEN(5,RANDBETWEEN(5,Worksheet!$D$8))","v":12},"km","±",{"$f":"IF(I1227=1,H1227*10^RANDBETWEEN(IF(Worksheet!$D$14,-1,0),0),IF(I1227=2,H1227*10^RANDBETWEEN(RANDBETWEEN(0,2),2),CHOOSE(RANDBETWEEN(1,3),5,10,20)))","v":5},{"$f":"IF(I1227=1,D1227,IF(I1227=3,\"%\",\"m\"))","v":"km"},5,{"$f":"IF(AND(Worksheet!$D$12,RAND()<0.2),3,IF(RAND()<Worksheet!$D$10/100,1,2))","v":1},{"$f":"IF(I1227=1,F1227,IF(I1227=2,F1227/1000,IF(I1227=3,F1227/100*C1227,\"\")))","v":5}," km",{"$f":"IF(I1227=1,F1227*1000,IF(I1227=2,F1227,IF(I1227=3,F1227/100*C1227*1000,\"\")))","v":5000},"m"]
[{"$f":"IF(COUNTIF($B$1:B1228,TRUE)=COUNTIF($B$1:B1227,TRUE),\"\",COUNTIF($B$1:B1228,TRUE))","v":""},{"$f":"Worksheet!$B$26","v":false},{"$f":"RANDBETWEEN(5,RANDBETWEEN(5,Worksheet!$D$8))","v":44},"m","±",{"$f":"IF(I1228=1,H1228*10^RANDBETWEEN(IF(Worksheet!$D$14,-1,0),0),IF(I1228=2,H1228*10^RANDBETWEEN(RANDBETWEEN(0,2),2),CHOOSE(RANDBETWEEN(1,3),5,10,20)))","v":900},{"$f":"IF(I1228=1,D1228,IF(I1228=3,\"%\",\"mm\"))","v":"mm"},9,{"$f":"IF(AND(Worksheet!$D$12,RAND()<0.2),3,IF(RAND()<Worksheet!$D$10/100,1,2))","v":2},0.9," m",900,"mm"]
[{"$f":"IF(COUNTIF($B$1:B1229,TRUE)=COUNTIF($B$1:B1228,TRUE),\"\",COUNTIF($B$1:B1229,TRUE))","v":956},{"$f":"Worksheet!$D$20","v":true},{"$f":"RANDBETWEEN(5,RANDBETWEEN(5,Worksheet!$D$8))","v":6},"kg","±",{"$f":"IF(I1229=1,H1229*10^RANDBETWEEN(IF(Worksheet!$D$14,-1,0),0),IF(I1229=2,H1229*10^RANDBETWEEN(RANDBETWEEN(0,2),2),CHOOSE(RANDBETWEEN(1,3),5,10,20)))","v":3},{"$f":"IF(I1229=1,D1229,IF(I1229=3,\"%\",\"g\"))","v":"kg"},{"$f":"RANDBETWEEN(1,MIN(9,C1229))","v":3},{"$f":"IF(AND(Worksheet!$D$12,RAND()<0.2),3,IF(RAND()<Worksheet!$D$10/100,1,2))","v":1},3,{"$f":"CONCATENATE(\" \",D1229)","v":" kg"},3000,"g"]
[{"$f":"IF(COUNTIF($B$1:B1230,TRUE)=COUNTIF($B$1:B1229,TRUE),\"\",COUNTIF($B$1:B1230,TRUE))","v":957},{"$f":"Worksheet!$D$22","v":true},{"$f":"RANDBETWEEN(5,RANDBETWEEN(5,Worksheet!$D$8))","v":12},"tonnes","±",{"$f":"IF(I1230=1,H1230*10^RANDBETWEEN(IF(Worksheet!$D$14,-1,0),0),IF(I1230=2,H1230*10^RANDBETWEEN(RANDBETWEEN(0,2),2),CHOOSE(RANDBETWEEN(1,3),5,10,20)))","v":2},{"$f":"IF(I1230=1,D1230,IF(I1230=3,\"%\",\"kg\"))","v":"kg"},{"$f":"RANDBETWEEN(1,MIN(9,C1230))","v":2},{"$f":"IF(AND(Worksheet!$D$12,RAND()<0.2),3,IF(RAND()<Worksheet!$D$10/100,1,2))","v":2},2E-3,{"$f":"CONCATENATE(\" \",D1230)","v":" tonnes"},2,"kg"]
[{"$f":"IF(COUNTIF($B$1:B1231,TRUE)=COUNTIF($B$1:B1230,TRUE),\"\",COUNTIF($B$1:B1231,TRUE))","v":958},{"$f":"Worksheet!$D$24","v":true},{"$f":"RANDBETWEEN(5,RANDBETWEEN(5,Worksheet!$D$8))","v":13},"litres","±",{"$f":"IF(I1231=1,H1231*10^RANDBETWEEN(IF(Worksheet!$D$14,-1,0),0),IF(I1231=2,H1231*10^RANDBETWEEN(RANDBETWEEN(0,2),2),CHOOSE(RANDBETWEEN(1,3),5,10,20)))","v":0.4},{"$f":"IF(I1231=1,D1231,IF(I1231=3,\"%\",\"ml\"))","v":"litres"},{"$f":"RANDBETWEEN(1,MIN(9,C1231))","v":4},{"$f":"IF(AND(Worksheet!$D$12,RAND()<0.2),3,IF(RAND()<Worksheet!$D$10/100,1,2))","v":1},0.4,{"$f":"CONCATENATE(\" \",D1231)","v":" litres"},400,"ml"]
[{"$f":"IF(COUNTIF($B$1:B1232,TRUE)=COUNTIF($B$1:B1231,TRUE),\"\",COUNTIF($B$1:B1232,TRUE))","v":""},{"$f":"Worksheet!$D$26","v":false},{"$f":"RANDBETWEEN(5,RANDBETWEEN(5,Worksheet!$D$8))","v":120},"litres","±",{"$f":"IF(I1232=1,H1232*10^RANDBETWEEN(IF(Worksheet!$D$14,-1,0),0),IF(I1232=2,H1232*10^RANDBETWEEN(RANDBETWEEN(0,2),2),CHOOSE(RANDBETWEEN(1,3),5,10,20)))","v":20},{"$f":"IF(I1232=1,D1232,IF(I1232=3,\"%\",\"cm³\"))","v":"%"},{"$f":"RANDBETWEEN(1,MIN(9,C1232))","v":4},{"$f":"IF(AND(Worksheet!$D$12,RAND()<0.2),3,IF(RAND()<Worksheet!$D$10/100,1,2))","v":3},24,{"$f":"CONCATENATE(\" \",D1232)","v":" litres"},24000,"cm³"]
[{"$f":"IF(COUNTIF($B$1:B1233,TRUE)=COUNTIF($B$1:B1233,TRUE),\"\",COUNTIF($B$1:B1233,TRUE))","v":""},{"$f":"Worksheet!$B$28","v":true},{"$f":"RANDBETWEEN(5,20)","v":16},"°C","±",{"$f":"IF(I1233=1,H1233*10^RANDBETWEEN(IF(Worksheet!$D$14,-1,0),0),IF(I1233=2,H1233,CHOOSE(RANDBETWEEN(1,3),5,10,20)))","v":8},{"$f":"IF(I1233=1,D1233,IF(I1233=3,\"%\",\"sec\"))","v":"°C"},{"$f":"RANDBETWEEN(1,MIN(9,C1233))","v":8},{"$f":"IF(AND(Worksheet!$D$12,RAND()<0),3,IF(RAND()<Worksheet!$D$10/100,1,2))","v":1},{"$f":"IF(I1233=1,F1233,IF(I1233=2,F1233,IF(I1233=3,F1233/100*C1233,\"\")))","v":8},{"$f":"CONCATENATE(\" \",D1233)","v":" °C"},{"$f":"IF(I1233=1,F1233,IF(I1233=2,F1233,IF(I1233=3,F1233/100*C1233,\"\")))","v":8}," °C"]
[{"$f":"COUNTIF($B$1:B1234,TRUE)","v":960},{"$f":"Worksheet!$B$20","v":true},{"$f":"RANDBETWEEN(5,RANDBETWEEN(5,Worksheet!$D$8))","v":45},"cm","±",{"$f":"IF(I1234=1,H1234*10^RANDBETWEEN(IF(Worksheet!$D$14,-1,0),0),IF(I1234=2,H1234,CHOOSE(RANDBETWEEN(1,3),5,10,20)))","v":4},{"$f":"IF(I1234=1,D1234,IF(I1234=3,\"%\",\"mm\"))","v":"mm"},{"$f":"RANDBETWEEN(1,MIN(9,C1234))","v":4},{"$f":"IF(AND(Worksheet!$D$12,RAND()<0.2),3,IF(RAND()<Worksheet!$D$10/100,1,2))","v":2},{"$f":"IF(I1234=1,F1234,IF(I1234=2,F1234/10,IF(I1234=3,F1234/100*C1234,\"\")))","v":0.4},{"$f":"CONCATENATE(\" \",D1234)","v":" cm"},{"$f":"IF(I1234=1,F1234*10,IF(I1234=2,F1234,IF(I1234=3,F1234/100*C1234*10,\"\")))","v":4},"mm"]
[{"$f":"IF(COUNTIF($B$1:B1235,TRUE)=COUNTIF($B$1:B1234,TRUE),\"\",COUNTIF($B$1:B1235,TRUE))","v":961},{"$f":"Worksheet!$B$22","v":true},{"$f":"RANDBETWEEN(5,RANDBETWEEN(5,Worksheet!$D$8))","v":153},"m","±",{"$f":"IF(I1235=1,H1235*10^RANDBETWEEN(IF(Worksheet!$D$14,-1,0),0),IF(I1235=2,H1235*10^RANDBETWEEN(RANDBETWEEN(0,1),1),CHOOSE(RANDBETWEEN(1,3),5,10,20)))","v":5},{"$f":"IF(I1235=1,D1235,IF(I1235=3,\"%\",\"cm\"))","v":"m"},{"$f":"RANDBETWEEN(1,MIN(9,C1235))","v":5},{"$f":"IF(AND(Worksheet!$D$12,RAND()<0.2),3,IF(RAND()<Worksheet!$D$10/100,1,2))","v":1},{"$f":"IF(I1235=1,F1235,IF(I1235=2,F1235/100,IF(I1235=3,F1235/100*C1235,\"\")))","v":5},{"$f":"CONCATENATE(\" \",D1235)","v":" m"},{"$f":"IF(I1235=1,F1235*100,IF(I1235=2,F1235,IF(I1235=3,F1235/100*C1235*100,\"\")))","v":500},"cm"]
[{"$f":"IF(COUNTIF($B$1:B1236,TRUE)=COUNTIF($B$1:B1235,TRUE),\"\",COUNTIF($B$1:B1236,TRUE))","v":962},{"$f":"Worksheet!$B$24","v":true},{"$f":"RANDBETWEEN(5,RANDBETWEEN(5,Worksheet!$D$8))","v":119},"km","±",{"$f":"IF(I1236=1,H1236*10^RANDBETWEEN(IF(Worksheet!$D$14,-1,0),0),IF(I1236=2,H1236*10^RANDBETWEEN(RANDBETWEEN(0,2),2),CHOOSE(RANDBETWEEN(1,3),5,10,20)))","v":400},{"$f":"IF(I1236=1,D1236,IF(I1236=3,\"%\",\"m\"))","v":"m"},4,{"$f":"IF(AND(Worksheet!$D$12,RAND()<0.2),3,IF(RAND()<Worksheet!$D$10/100,1,2))","v":2},{"$f":"IF(I1236=1,F1236,IF(I1236=2,F1236/1000,IF(I1236=3,F1236/100*C1236,\"\")))","v":0.4}," km",{"$f":"IF(I1236=1,F1236*1000,IF(I1236=2,F1236,IF(I1236=3,F1236/100*C1236*1000,\"\")))","v":400},"m"]
[{"$f":"IF(COUNTIF($B$1:B1237,TRUE)=COUNTIF($B$1:B1236,TRUE),\"\",COUNTIF($B$1:B1237,TRUE))","v":""},{"$f":"Worksheet!$B$26","v":false},{"$f":"RANDBETWEEN(5,RANDBETWEEN(5,Worksheet!$D$8))","v":32},"m","±",{"$f":"IF(I1237=1,H1237*10^RANDBETWEEN(IF(Worksheet!$D$14,-1,0),0),IF(I1237=2,H1237*10^RANDBETWEEN(RANDBETWEEN(0,2),2),CHOOSE(RANDBETWEEN(1,3),5,10,20)))","v":3},{"$f":"IF(I1237=1,D1237,IF(I1237=3,\"%\",\"mm\"))","v":"m"},3,{"$f":"IF(AND(Worksheet!$D$12,RAND()<0.2),3,IF(RAND()<Worksheet!$D$10/100,1,2))","v":1},3," m",3000,"mm"]
[{"$f":"IF(COUNTIF($B$1:B1238,TRUE)=COUNTIF($B$1:B1237,TRUE),\"\",COUNTIF($B$1:B1238,TRUE))","v":963},{"$f":"Worksheet!$D$20","v":true},{"$f":"RANDBETWEEN(5,RANDBETWEEN(5,Worksheet!$D$8))","v":35},"kg","±",{"$f":"IF(I1238=1,H1238*10^RANDBETWEEN(IF(Worksheet!$D$14,-1,0),0),IF(I1238=2,H1238*10^RANDBETWEEN(RANDBETWEEN(0,2),2),CHOOSE(RANDBETWEEN(1,3),5,10,20)))","v":7},{"$f":"IF(I1238=1,D1238,IF(I1238=3,\"%\",\"g\"))","v":"kg"},{"$f":"RANDBETWEEN(1,MIN(9,C1238))","v":7},{"$f":"IF(AND(Worksheet!$D$12,RAND()<0.2),3,IF(RAND()<Worksheet!$D$10/100,1,2))","v":1},7,{"$f":"CONCATENATE(\" \",D1238)","v":" kg"},7000,"g"]
[{"$f":"IF(COUNTIF($B$1:B1239,TRUE)=COUNTIF($B$1:B1238,TRUE),\"\",COUNTIF($B$1:B1239,TRUE))","v":964},{"$f":"Worksheet!$D$22","v":true},{"$f":"RANDBETWEEN(5,RANDBETWEEN(5,Worksheet!$D$8))","v":5},"tonnes","±",{"$f":"IF(I1239=1,H1239*10^RANDBETWEEN(IF(Worksheet!$D$14,-1,0),0),IF(I1239=2,H1239*10^RANDBETWEEN(RANDBETWEEN(0,2),2),CHOOSE(RANDBETWEEN(1,3),5,10,20)))","v":20},{"$f":"IF(I1239=1,D1239,IF(I1239=3,\"%\",\"kg\"))","v":"kg"},{"$f":"RANDBETWEEN(1,MIN(9,C1239))","v":2},{"$f":"IF(AND(Worksheet!$D$12,RAND()<0.2),3,IF(RAND()<Worksheet!$D$10/100,1,2))","v":2},0.02,{"$f":"CONCATENATE(\" \",D1239)","v":" tonnes"},20,"kg"]
[{"$f":"IF(COUNTIF($B$1:B1240,TRUE)=COUNTIF($B$1:B1239,TRUE),\"\",COUNTIF($B$1:B1240,TRUE))","v":965},{"$f":"Worksheet!$D$24","v":true},{"$f":"RANDBETWEEN(5,RANDBETWEEN(5,Worksheet!$D$8))","v":23},"litres","±",{"$f":"IF(I1240=1,H1240*10^RANDBETWEEN(IF(Worksheet!$D$14,-1,0),0),IF(I1240=2,H1240*10^RANDBETWEEN(RANDBETWEEN(0,2),2),CHOOSE(RANDBETWEEN(1,3),5,10,20)))","v":100},{"$f":"IF(I1240=1,D1240,IF(I1240=3,\"%\",\"ml\"))","v":"ml"},{"$f":"RANDBETWEEN(1,MIN(9,C1240))","v":1},{"$f":"IF(AND(Worksheet!$D$12,RAND()<0.2),3,IF(RAND()<Worksheet!$D$10/100,1,2))","v":2},0.1,{"$f":"CONCATENATE(\" \",D1240)","v":" litres"},100,"ml"]
[{"$f":"IF(COUNTIF($B$1:B1241,TRUE)=COUNTIF($B$1:B1240,TRUE),\"\",COUNTIF($B$1:B1241,TRUE))","v":""},{"$f":"Worksheet!$D$26","v":false},{"$f":"RANDBETWEEN(5,RANDBETWEEN(5,Worksheet!$D$8))","v":46},"litres","±",{"$f":"IF(I1241=1,H1241*10^RANDBETWEEN(IF(Worksheet!$D$14,-1,0),0),IF(I1241=2,H1241*10^RANDBETWEEN(RANDBETWEEN(0,2),2),CHOOSE(RANDBETWEEN(1,3),5,10,20)))","v":500},{"$f":"IF(I1241=1,D1241,IF(I1241=3,\"%\",\"cm³\"))","v":"cm³"},{"$f":"RANDBETWEEN(1,MIN(9,C1241))","v":5},{"$f":"IF(AND(Worksheet!$D$12,RAND()<0.2),3,IF(RAND()<Worksheet!$D$10/100,1,2))","v":2},0.5,{"$f":"CONCATENATE(\" \",D1241)","v":" litres"},500,"cm³"]
[{"$f":"IF(COUNTIF($B$1:B1242,TRUE)=COUNTIF($B$1:B1242,TRUE),\"\",COUNTIF($B$1:B1242,TRUE))","v":""},{"$f":"Worksheet!$B$28","v":true},{"$f":"RANDBETWEEN(5,20)","v":17},"°C","±",{"$f":"IF(I1242=1,H1242*10^RANDBETWEEN(IF(Worksheet!$D$14,-1,0),0),IF(I1242=2,H1242,CHOOSE(RANDBETWEEN(1,3),5,10,20)))","v":0.8},{"$f":"IF(I1242=1,D1242,IF(I1242=3,\"%\",\"sec\"))","v":"°C"},{"$f":"RANDBETWEEN(1,MIN(9,C1242))","v":8},{"$f":"IF(AND(Worksheet!$D$12,RAND()<0),3,IF(RAND()<Worksheet!$D$10/100,1,2))","v":1},{"$f":"IF(I1242=1,F1242,IF(I1242=2,F1242,IF(I1242=3,F1242/100*C1242,\"\")))","v":0.8},{"$f":"CONCATENATE(\" \",D1242)","v":" °C"},{"$f":"IF(I1242=1,F1242,IF(I1242=2,F1242,IF(I1242=3,F1242/100*C1242,\"\")))","v":0.8}," °C"]
[{"$f":"COUNTIF($B$1:B1243,TRUE)","v":967},{"$f":"Worksheet!$B$20","v":true},{"$f":"RANDBETWEEN(5,RANDBETWEEN(5,Worksheet!$D$8))","v":8},"cm","±",{"$f":"IF(I1243=1,H1243*10^RANDBETWEEN(IF(Worksheet!$D$14,-1,0),0),IF(I1243=2,H1243,CHOOSE(RANDBETWEEN(1,3),5,10,20)))","v":5},{"$f":"IF(I1243=1,D1243,IF(I1243=3,\"%\",\"mm\"))","v":"%"},{"$f":"RANDBETWEEN(1,MIN(9,C1243))","v":7},{"$f":"IF(AND(Worksheet!$D$12,RAND()<0.2),3,IF(RAND()<Worksheet!$D$10/100,1,2))","v":3},{"$f":"IF(I1243=1,F1243,IF(I1243=2,F1243/10,IF(I1243=3,F1243/100*C1243,\"\")))","v":0.4},{"$f":"CONCATENATE(\" \",D1243)","v":" cm"},{"$f":"IF(I1243=1,F1243*10,IF(I1243=2,F1243,IF(I1243=3,F1243/100*C1243*10,\"\")))","v":4},"mm"]
[{"$f":"IF(COUNTIF($B$1:B1244,TRUE)=COUNTIF($B$1:B1243,TRUE),\"\",COUNTIF($B$1:B1244,TRUE))","v":968},{"$f":"Worksheet!$B$22","v":true},{"$f":"RANDBETWEEN(5,RANDBETWEEN(5,Worksheet!$D$8))","v":110},"m","±",{"$f":"IF(I1244=1,H1244*10^RANDBETWEEN(IF(Worksheet!$D$14,-1,0),0),IF(I1244=2,H1244*10^RANDBETWEEN(RANDBETWEEN(0,1),1),CHOOSE(RANDBETWEEN(1,3),5,10,20)))","v":7},{"$f":"IF(I1244=1,D1244,IF(I1244=3,\"%\",\"cm\"))","v":"m"},{"$f":"RANDBETWEEN(1,MIN(9,C1244))","v":7},{"$f":"IF(AND(Worksheet!$D$12,RAND()<0.2),3,IF(RAND()<Worksheet!$D$10/100,1,2))","v":1},{"$f":"IF(I1244=1,F1244,IF(I1244=2,F1244/100,IF(I1244=3,F1244/100*C1244,\"\")))","v":7},{"$f":"CONCATENATE(\" \",D1244)","v":" m"},{"$f":"IF(I1244=1,F1244*100,IF(I1244=2,F1244,IF(I1244=3,F1244/100*C1244*100,\"\")))","v":700},"cm"]
[{"$f":"IF(COUNTIF($B$1:B1245,TRUE)=COUNTIF($B$1:B1244,TRUE),\"\",COUNTIF($B$1:B1245,TRUE))","v":969},{"$f":"Worksheet!$B$24","v":true},{"$f":"RANDBETWEEN(5,RANDBETWEEN(5,Worksheet!$D$8))","v":14},"km","±",{"$f":"IF(I1245=1,H1245*10^RANDBETWEEN(IF(Worksheet!$D$14,-1,0),0),IF(I1245=2,H1245*10^RANDBETWEEN(RANDBETWEEN(0,2),2),CHOOSE(RANDBETWEEN(1,3),5,10,20)))","v":0.60000000000000009},{"$f":"IF(I1245=1,D1245,IF(I1245=3,\"%\",\"m\"))","v":"km"},6,{"$f":"IF(AND(Worksheet!$D$12,RAND()<0.2),3,IF(RAND()<Worksheet!$D$10/100,1,2))","v":1},{"$f":"IF(I1245=1,F1245,IF(I1245=2,F1245/1000,IF(I1245=3,F1245/100*C1245,\"\")))","v":0.60000000000000009}," km",{"$f":"IF(I1245=1,F1245*1000,IF(I1245=2,F1245,IF(I1245=3,F1245/100*C1245*1000,\"\")))","v":600.00000000000011},"m"]
[{"$f":"IF(COUNTIF($B$1:B1246,TRUE)=COUNTIF($B$1:B1245,TRUE),\"\",COUNTIF($B$1:B1246,TRUE))","v":""},{"$f":"Worksheet!$B$26","v":false},{"$f":"RANDBETWEEN(5,RANDBETWEEN(5,Worksheet!$D$8))","v":187},"m","±",{"$f":"IF(I1246=1,H1246*10^RANDBETWEEN(IF(Worksheet!$D$14,-1,0),0),IF(I1246=2,H1246*10^RANDBETWEEN(RANDBETWEEN(0,2),2),CHOOSE(RANDBETWEEN(1,3),5,10,20)))","v":60},{"$f":"IF(I1246=1,D1246,IF(I1246=3,\"%\",\"mm\"))","v":"mm"},6,{"$f":"IF(AND(Worksheet!$D$12,RAND()<0.2),3,IF(RAND()<Worksheet!$D$10/100,1,2))","v":2},0.06," m",60,"mm"]
[{"$f":"IF(COUNTIF($B$1:B1247,TRUE)=COUNTIF($B$1:B1246,TRUE),\"\",COUNTIF($B$1:B1247,TRUE))","v":970},{"$f":"Worksheet!$D$20","v":true},{"$f":"RANDBETWEEN(5,RANDBETWEEN(5,Worksheet!$D$8))","v":10},"kg","±",{"$f":"IF(I1247=1,H1247*10^RANDBETWEEN(IF(Worksheet!$D$14,-1,0),0),IF(I1247=2,H1247*10^RANDBETWEEN(RANDBETWEEN(0,2),2),CHOOSE(RANDBETWEEN(1,3),5,10,20)))","v":4},{"$f":"IF(I1247=1,D1247,IF(I1247=3,\"%\",\"g\"))","v":"kg"},{"$f":"RANDBETWEEN(1,MIN(9,C1247))","v":4},{"$f":"IF(AND(Worksheet!$D$12,RAND()<0.2),3,IF(RAND()<Worksheet!$D$10/100,1,2))","v":1},4,{"$f":"CONCATENATE(\" \",D1247)","v":" kg"},4000,"g"]
[{"$f":"IF(COUNTIF($B$1:B1248,TRUE)=COUNTIF($B$1:B1247,TRUE),\"\",COUNTIF($B$1:B1248,TRUE))","v":971},{"$f":"Worksheet!$D$22","v":true},{"$f":"RANDBETWEEN(5,RANDBETWEEN(5,Worksheet!$D$8))","v":10},"tonnes","±",{"$f":"IF(I1248=1,H1248*10^RANDBETWEEN(IF(Worksheet!$D$14,-1,0),0),IF(I1248=2,H1248*10^RANDBETWEEN(RANDBETWEEN(0,2),2),CHOOSE(RANDBETWEEN(1,3),5,10,20)))","v":5},{"$f":"IF(I1248=1,D1248,IF(I1248=3,\"%\",\"kg\"))","v":"%"},{"$f":"RANDBETWEEN(1,MIN(9,C1248))","v":2},{"$f":"IF(AND(Worksheet!$D$12,RAND()<0.2),3,IF(RAND()<Worksheet!$D$10/100,1,2))","v":3},0.5,{"$f":"CONCATENATE(\" \",D1248)","v":" tonnes"},500,"kg"]
[{"$f":"IF(COUNTIF($B$1:B1249,TRUE)=COUNTIF($B$1:B1248,TRUE),\"\",COUNTIF($B$1:B1249,TRUE))","v":972},{"$f":"Worksheet!$D$24","v":true},{"$f":"RANDBETWEEN(5,RANDBETWEEN(5,Worksheet!$D$8))","v":14},"litres","±",{"$f":"IF(I1249=1,H1249*10^RANDBETWEEN(IF(Worksheet!$D$14,-1,0),0),IF(I1249=2,H1249*10^RANDBETWEEN(RANDBETWEEN(0,2),2),CHOOSE(RANDBETWEEN(1,3),5,10,20)))","v":9},{"$f":"IF(I1249=1,D1249,IF(I1249=3,\"%\",\"ml\"))","v":"ml"},{"$f":"RANDBETWEEN(1,MIN(9,C1249))","v":9},{"$f":"IF(AND(Worksheet!$D$12,RAND()<0.2),3,IF(RAND()<Worksheet!$D$10/100,1,2))","v":2},8.9999999999999993E-3,{"$f":"CONCATENATE(\" \",D1249)","v":" litres"},9,"ml"]
[{"$f":"IF(COUNTIF($B$1:B1250,TRUE)=COUNTIF($B$1:B1249,TRUE),\"\",COUNTIF($B$1:B1250,TRUE))","v":""},{"$f":"Worksheet!$D$26","v":false},{"$f":"RANDBETWEEN(5,RANDBETWEEN(5,Worksheet!$D$8))","v":68},"litres","±",{"$f":"IF(I1250=1,H1250*10^RANDBETWEEN(IF(Worksheet!$D$14,-1,0),0),IF(I1250=2,H1250*10^RANDBETWEEN(RANDBETWEEN(0,2),2),CHOOSE(RANDBETWEEN(1,3),5,10,20)))","v":0.30000000000000004},{"$f":"IF(I1250=1,D1250,IF(I1250=3,\"%\",\"cm³\"))","v":"litres"},{"$f":"RANDBETWEEN(1,MIN(9,C1250))","v":3},{"$f":"IF(AND(Worksheet!$D$12,RAND()<0.2),3,IF(RAND()<Worksheet!$D$10/100,1,2))","v":1},0.30000000000000004,{"$f":"CONCATENATE(\" \",D1250)","v":" litres"},300.00000000000006,"cm³"]
[{"$f":"IF(COUNTIF($B$1:B1251,TRUE)=COUNTIF($B$1:B1251,TRUE),\"\",COUNTIF($B$1:B1251,TRUE))","v":""},{"$f":"Worksheet!$B$28","v":true},{"$f":"RANDBETWEEN(5,20)","v":6},"°C","±",{"$f":"IF(I1251=1,H1251*10^RANDBETWEEN(IF(Worksheet!$D$14,-1,0),0),IF(I1251=2,H1251,CHOOSE(RANDBETWEEN(1,3),5,10,20)))","v":4},{"$f":"IF(I1251=1,D1251,IF(I1251=3,\"%\",\"sec\"))","v":"°C"},{"$f":"RANDBETWEEN(1,MIN(9,C1251))","v":4},{"$f":"IF(AND(Worksheet!$D$12,RAND()<0),3,IF(RAND()<Worksheet!$D$10/100,1,2))","v":1},{"$f":"IF(I1251=1,F1251,IF(I1251=2,F1251,IF(I1251=3,F1251/100*C1251,\"\")))","v":4},{"$f":"CONCATENATE(\" \",D1251)","v":" °C"},{"$f":"IF(I1251=1,F1251,IF(I1251=2,F1251,IF(I1251=3,F1251/100*C1251,\"\")))","v":4}," °C"]
[{"$f":"COUNTIF($B$1:B1252,TRUE)","v":974},{"$f":"Worksheet!$B$20","v":true},{"$f":"RANDBETWEEN(5,RANDBETWEEN(5,Worksheet!$D$8))","v":33},"cm","±",{"$f":"IF(I1252=1,H1252*10^RANDBETWEEN(IF(Worksheet!$D$14,-1,0),0),IF(I1252=2,H1252,CHOOSE(RANDBETWEEN(1,3),5,10,20)))","v":3},{"$f":"IF(I1252=1,D1252,IF(I1252=3,\"%\",\"mm\"))","v":"mm"},{"$f":"RANDBETWEEN(1,MIN(9,C1252))","v":3},{"$f":"IF(AND(Worksheet!$D$12,RAND()<0.2),3,IF(RAND()<Worksheet!$D$10/100,1,2))","v":2},{"$f":"IF(I1252=1,F1252,IF(I1252=2,F1252/10,IF(I1252=3,F1252/100*C1252,\"\")))","v":0.3},{"$f":"CONCATENATE(\" \",D1252)","v":" cm"},{"$f":"IF(I1252=1,F1252*10,IF(I1252=2,F1252,IF(I1252=3,F1252/100*C1252*10,\"\")))","v":3},"mm"]
[{"$f":"IF(COUNTIF($B$1:B1253,TRUE)=COUNTIF($B$1:B1252,TRUE),\"\",COUNTIF($B$1:B1253,TRUE))","v":975},{"$f":"Worksheet!$B$22","v":true},{"$f":"RANDBETWEEN(5,RANDBETWEEN(5,Worksheet!$D$8))","v":43},"m","±",{"$f":"IF(I1253=1,H1253*10^RANDBETWEEN(IF(Worksheet!$D$14,-1,0),0),IF(I1253=2,H1253*10^RANDBETWEEN(RANDBETWEEN(0,1),1),CHOOSE(RANDBETWEEN(1,3),5,10,20)))","v":1},{"$f":"IF(I1253=1,D1253,IF(I1253=3,\"%\",\"cm\"))","v":"m"},{"$f":"RANDBETWEEN(1,MIN(9,C1253))","v":1},{"$f":"IF(AND(Worksheet!$D$12,RAND()<0.2),3,IF(RAND()<Worksheet!$D$10/100,1,2))","v":1},{"$f":"IF(I1253=1,F1253,IF(I1253=2,F1253/100,IF(I1253=3,F1253/100*C1253,\"\")))","v":1},{"$f":"CONCATENATE(\" \",D1253)","v":" m"},{"$f":"IF(I1253=1,F1253*100,IF(I1253=2,F1253,IF(I1253=3,F1253/100*C1253*100,\"\")))","v":100},"cm"]
[{"$f":"IF(COUNTIF($B$1:B1254,TRUE)=COUNTIF($B$1:B1253,TRUE),\"\",COUNTIF($B$1:B1254,TRUE))","v":976},{"$f":"Worksheet!$B$24","v":true},{"$f":"RANDBETWEEN(5,RANDBETWEEN(5,Worksheet!$D$8))","v":23},"km","±",{"$f":"IF(I1254=1,H1254*10^RANDBETWEEN(IF(Worksheet!$D$14,-1,0),0),IF(I1254=2,H1254*10^RANDBETWEEN(RANDBETWEEN(0,2),2),CHOOSE(RANDBETWEEN(1,3),5,10,20)))","v":0.1},{"$f":"IF(I1254=1,D1254,IF(I1254=3,\"%\",\"m\"))","v":"km"},1,{"$f":"IF(AND(Worksheet!$D$12,RAND()<0.2),3,IF(RAND()<Worksheet!$D$10/100,1,2))","v":1},{"$f":"IF(I1254=1,F1254,IF(I1254=2,F1254/1000,IF(I1254=3,F1254/100*C1254,\"\")))","v":0.1}," km",{"$f":"IF(I1254=1,F1254*1000,IF(I1254=2,F1254,IF(I1254=3,F1254/100*C1254*1000,\"\")))","v":100},"m"]
[{"$f":"IF(COUNTIF($B$1:B1255,TRUE)=COUNTIF($B$1:B1254,TRUE),\"\",COUNTIF($B$1:B1255,TRUE))","v":""},{"$f":"Worksheet!$B$26","v":false},{"$f":"RANDBETWEEN(5,RANDBETWEEN(5,Worksheet!$D$8))","v":12},"m","±",{"$f":"IF(I1255=1,H1255*10^RANDBETWEEN(IF(Worksheet!$D$14,-1,0),0),IF(I1255=2,H1255*10^RANDBETWEEN(RANDBETWEEN(0,2),2),CHOOSE(RANDBETWEEN(1,3),5,10,20)))","v":0.2},{"$f":"IF(I1255=1,D1255,IF(I1255=3,\"%\",\"mm\"))","v":"m"},2,{"$f":"IF(AND(Worksheet!$D$12,RAND()<0.2),3,IF(RAND()<Worksheet!$D$10/100,1,2))","v":1},0.2," m",200,"mm"]
[{"$f":"IF(COUNTIF($B$1:B1256,TRUE)=COUNTIF($B$1:B1255,TRUE),\"\",COUNTIF($B$1:B1256,TRUE))","v":977},{"$f":"Worksheet!$D$20","v":true},{"$f":"RANDBETWEEN(5,RANDBETWEEN(5,Worksheet!$D$8))","v":25},"kg","±",{"$f":"IF(I1256=1,H1256*10^RANDBETWEEN(IF(Worksheet!$D$14,-1,0),0),IF(I1256=2,H1256*10^RANDBETWEEN(RANDBETWEEN(0,2),2),CHOOSE(RANDBETWEEN(1,3),5,10,20)))","v":0.8},{"$f":"IF(I1256=1,D1256,IF(I1256=3,\"%\",\"g\"))","v":"kg"},{"$f":"RANDBETWEEN(1,MIN(9,C1256))","v":8},{"$f":"IF(AND(Worksheet!$D$12,RAND()<0.2),3,IF(RAND()<Worksheet!$D$10/100,1,2))","v":1},0.8,{"$f":"CONCATENATE(\" \",D1256)","v":" kg"},800,"g"]
[{"$f":"IF(COUNTIF($B$1:B1257,TRUE)=COUNTIF($B$1:B1256,TRUE),\"\",COUNTIF($B$1:B1257,TRUE))","v":978},{"$f":"Worksheet!$D$22","v":true},{"$f":"RANDBETWEEN(5,RANDBETWEEN(5,Worksheet!$D$8))","v":126},"tonnes","±",{"$f":"IF(I1257=1,H1257*10^RANDBETWEEN(IF(Worksheet!$D$14,-1,0),0),IF(I1257=2,H1257*10^RANDBETWEEN(RANDBETWEEN(0,2),2),CHOOSE(RANDBETWEEN(1,3),5,10,20)))","v":0.2},{"$f":"IF(I1257=1,D1257,IF(I1257=3,\"%\",\"kg\"))","v":"tonnes"},{"$f":"RANDBETWEEN(1,MIN(9,C1257))","v":2},{"$f":"IF(AND(Worksheet!$D$12,RAND()<0.2),3,IF(RAND()<Worksheet!$D$10/100,1,2))","v":1},0.2,{"$f":"CONCATENATE(\" \",D1257)","v":" tonnes"},200,"kg"]
[{"$f":"IF(COUNTIF($B$1:B1258,TRUE)=COUNTIF($B$1:B1257,TRUE),\"\",COUNTIF($B$1:B1258,TRUE))","v":979},{"$f":"Worksheet!$D$24","v":true},{"$f":"RANDBETWEEN(5,RANDBETWEEN(5,Worksheet!$D$8))","v":14},"litres","±",{"$f":"IF(I1258=1,H1258*10^RANDBETWEEN(IF(Worksheet!$D$14,-1,0),0),IF(I1258=2,H1258*10^RANDBETWEEN(RANDBETWEEN(0,2),2),CHOOSE(RANDBETWEEN(1,3),5,10,20)))","v":40},{"$f":"IF(I1258=1,D1258,IF(I1258=3,\"%\",\"ml\"))","v":"ml"},{"$f":"RANDBETWEEN(1,MIN(9,C1258))","v":4},{"$f":"IF(AND(Worksheet!$D$12,RAND()<0.2),3,IF(RAND()<Worksheet!$D$10/100,1,2))","v":2},0.04,{"$f":"CONCATENATE(\" \",D1258)","v":" litres"},40,"ml"]
[{"$f":"IF(COUNTIF($B$1:B1259,TRUE)=COUNTIF($B$1:B1258,TRUE),\"\",COUNTIF($B$1:B1259,TRUE))","v":""},{"$f":"Worksheet!$D$26","v":false},{"$f":"RANDBETWEEN(5,RANDBETWEEN(5,Worksheet!$D$8))","v":8},"litres","±",{"$f":"IF(I1259=1,H1259*10^RANDBETWEEN(IF(Worksheet!$D$14,-1,0),0),IF(I1259=2,H1259*10^RANDBETWEEN(RANDBETWEEN(0,2),2),CHOOSE(RANDBETWEEN(1,3),5,10,20)))","v":2},{"$f":"IF(I1259=1,D1259,IF(I1259=3,\"%\",\"cm³\"))","v":"litres"},{"$f":"RANDBETWEEN(1,MIN(9,C1259))","v":2},{"$f":"IF(AND(Worksheet!$D$12,RAND()<0.2),3,IF(RAND()<Worksheet!$D$10/100,1,2))","v":1},2,{"$f":"CONCATENATE(\" \",D1259)","v":" litres"},2000,"cm³"]
[{"$f":"IF(COUNTIF($B$1:B1260,TRUE)=COUNTIF($B$1:B1260,TRUE),\"\",COUNTIF($B$1:B1260,TRUE))","v":""},{"$f":"Worksheet!$B$28","v":true},{"$f":"RANDBETWEEN(5,20)","v":13},"°C","±",{"$f":"IF(I1260=1,H1260*10^RANDBETWEEN(IF(Worksheet!$D$14,-1,0),0),IF(I1260=2,H1260,CHOOSE(RANDBETWEEN(1,3),5,10,20)))","v":3},{"$f":"IF(I1260=1,D1260,IF(I1260=3,\"%\",\"sec\"))","v":"°C"},{"$f":"RANDBETWEEN(1,MIN(9,C1260))","v":3},{"$f":"IF(AND(Worksheet!$D$12,RAND()<0),3,IF(RAND()<Worksheet!$D$10/100,1,2))","v":1},{"$f":"IF(I1260=1,F1260,IF(I1260=2,F1260,IF(I1260=3,F1260/100*C1260,\"\")))","v":3},{"$f":"CONCATENATE(\" \",D1260)","v":" °C"},{"$f":"IF(I1260=1,F1260,IF(I1260=2,F1260,IF(I1260=3,F1260/100*C1260,\"\")))","v":3}," °C"]
[{"$f":"COUNTIF($B$1:B1261,TRUE)","v":981},{"$f":"Worksheet!$B$20","v":true},{"$f":"RANDBETWEEN(5,RANDBETWEEN(5,Worksheet!$D$8))","v":138},"cm","±",{"$f":"IF(I1261=1,H1261*10^RANDBETWEEN(IF(Worksheet!$D$14,-1,0),0),IF(I1261=2,H1261,CHOOSE(RANDBETWEEN(1,3),5,10,20)))","v":7},{"$f":"IF(I1261=1,D1261,IF(I1261=3,\"%\",\"mm\"))","v":"mm"},{"$f":"RANDBETWEEN(1,MIN(9,C1261))","v":7},{"$f":"IF(AND(Worksheet!$D$12,RAND()<0.2),3,IF(RAND()<Worksheet!$D$10/100,1,2))","v":2},{"$f":"IF(I1261=1,F1261,IF(I1261=2,F1261/10,IF(I1261=3,F1261/100*C1261,\"\")))","v":0.7},{"$f":"CONCATENATE(\" \",D1261)","v":" cm"},{"$f":"IF(I1261=1,F1261*10,IF(I1261=2,F1261,IF(I1261=3,F1261/100*C1261*10,\"\")))","v":7},"mm"]
[{"$f":"IF(COUNTIF($B$1:B1262,TRUE)=COUNTIF($B$1:B1261,TRUE),\"\",COUNTIF($B$1:B1262,TRUE))","v":982},{"$f":"Worksheet!$B$22","v":true},{"$f":"RANDBETWEEN(5,RANDBETWEEN(5,Worksheet!$D$8))","v":25},"m","±",{"$f":"IF(I1262=1,H1262*10^RANDBETWEEN(IF(Worksheet!$D$14,-1,0),0),IF(I1262=2,H1262*10^RANDBETWEEN(RANDBETWEEN(0,1),1),CHOOSE(RANDBETWEEN(1,3),5,10,20)))","v":0.60000000000000009},{"$f":"IF(I1262=1,D1262,IF(I1262=3,\"%\",\"cm\"))","v":"m"},{"$f":"RANDBETWEEN(1,MIN(9,C1262))","v":6},{"$f":"IF(AND(Worksheet!$D$12,RAND()<0.2),3,IF(RAND()<Worksheet!$D$10/100,1,2))","v":1},{"$f":"IF(I1262=1,F1262,IF(I1262=2,F1262/100,IF(I1262=3,F1262/100*C1262,\"\")))","v":0.60000000000000009},{"$f":"CONCATENATE(\" \",D1262)","v":" m"},{"$f":"IF(I1262=1,F1262*100,IF(I1262=2,F1262,IF(I1262=3,F1262/100*C1262*100,\"\")))","v":60.000000000000007},"cm"]
[{"$f":"IF(COUNTIF($B$1:B1263,TRUE)=COUNTIF($B$1:B1262,TRUE),\"\",COUNTIF($B$1:B1263,TRUE))","v":983},{"$f":"Worksheet!$B$24","v":true},{"$f":"RANDBETWEEN(5,RANDBETWEEN(5,Worksheet!$D$8))","v":5},"km","±",{"$f":"IF(I1263=1,H1263*10^RANDBETWEEN(IF(Worksheet!$D$14,-1,0),0),IF(I1263=2,H1263*10^RANDBETWEEN(RANDBETWEEN(0,2),2),CHOOSE(RANDBETWEEN(1,3),5,10,20)))","v":0.30000000000000004},{"$f":"IF(I1263=1,D1263,IF(I1263=3,\"%\",\"m\"))","v":"km"},3,{"$f":"IF(AND(Worksheet!$D$12,RAND()<0.2),3,IF(RAND()<Worksheet!$D$10/100,1,2))","v":1},{"$f":"IF(I1263=1,F1263,IF(I1263=2,F1263/1000,IF(I1263=3,F1263/100*C1263,\"\")))","v":0.30000000000000004}," km",{"$f":"IF(I1263=1,F1263*1000,IF(I1263=2,F1263,IF(I1263=3,F1263/100*C1263*1000,\"\")))","v":300.00000000000006},"m"]
[{"$f":"IF(COUNTIF($B$1:B1264,TRUE)=COUNTIF($B$1:B1263,TRUE),\"\",COUNTIF($B$1:B1264,TRUE))","v":""},{"$f":"Worksheet!$B$26","v":false},{"$f":"RANDBETWEEN(5,RANDBETWEEN(5,Worksheet!$D$8))","v":51},"m","±",{"$f":"IF(I1264=1,H1264*10^RANDBETWEEN(IF(Worksheet!$D$14,-1,0),0),IF(I1264=2,H1264*10^RANDBETWEEN(RANDBETWEEN(0,2),2),CHOOSE(RANDBETWEEN(1,3),5,10,20)))","v":0.4},{"$f":"IF(I1264=1,D1264,IF(I1264=3,\"%\",\"mm\"))","v":"m"},4,{"$f":"IF(AND(Worksheet!$D$12,RAND()<0.2),3,IF(RAND()<Worksheet!$D$10/100,1,2))","v":1},0.4," m",400,"mm"]
[{"$f":"IF(COUNTIF($B$1:B1265,TRUE)=COUNTIF($B$1:B1264,TRUE),\"\",COUNTIF($B$1:B1265,TRUE))","v":984},{"$f":"Worksheet!$D$20","v":true},{"$f":"RANDBETWEEN(5,RANDBETWEEN(5,Worksheet!$D$8))","v":60},"kg","±",{"$f":"IF(I1265=1,H1265*10^RANDBETWEEN(IF(Worksheet!$D$14,-1,0),0),IF(I1265=2,H1265*10^RANDBETWEEN(RANDBETWEEN(0,2),2),CHOOSE(RANDBETWEEN(1,3),5,10,20)))","v":0.60000000000000009},{"$f":"IF(I1265=1,D1265,IF(I1265=3,\"%\",\"g\"))","v":"kg"},{"$f":"RANDBETWEEN(1,MIN(9,C1265))","v":6},{"$f":"IF(AND(Worksheet!$D$12,RAND()<0.2),3,IF(RAND()<Worksheet!$D$10/100,1,2))","v":1},0.60000000000000009,{"$f":"CONCATENATE(\" \",D1265)","v":" kg"},600.00000000000011,"g"]
[{"$f":"IF(COUNTIF($B$1:B1266,TRUE)=COUNTIF($B$1:B1265,TRUE),\"\",COUNTIF($B$1:B1266,TRUE))","v":985},{"$f":"Worksheet!$D$22","v":true},{"$f":"RANDBETWEEN(5,RANDBETWEEN(5,Worksheet!$D$8))","v":162},"tonnes","±",{"$f":"IF(I1266=1,H1266*10^RANDBETWEEN(IF(Worksheet!$D$14,-1,0),0),IF(I1266=2,H1266*10^RANDBETWEEN(RANDBETWEEN(0,2),2),CHOOSE(RANDBETWEEN(1,3),5,10,20)))","v":900},{"$f":"IF(I1266=1,D1266,IF(I1266=3,\"%\",\"kg\"))","v":"kg"},{"$f":"RANDBETWEEN(1,MIN(9,C1266))","v":9},{"$f":"IF(AND(Worksheet!$D$12,RAND()<0.2),3,IF(RAND()<Worksheet!$D$10/100,1,2))","v":2},0.9,{"$f":"CONCATENATE(\" \",D1266)","v":" tonnes"},900,"kg"]
[{"$f":"IF(COUNTIF($B$1:B1267,TRUE)=COUNTIF($B$1:B1266,TRUE),\"\",COUNTIF($B$1:B1267,TRUE))","v":986},{"$f":"Worksheet!$D$24","v":true},{"$f":"RANDBETWEEN(5,RANDBETWEEN(5,Worksheet!$D$8))","v":13},"litres","±",{"$f":"IF(I1267=1,H1267*10^RANDBETWEEN(IF(Worksheet!$D$14,-1,0),0),IF(I1267=2,H1267*10^RANDBETWEEN(RANDBETWEEN(0,2),2),CHOOSE(RANDBETWEEN(1,3),5,10,20)))","v":5},{"$f":"IF(I1267=1,D1267,IF(I1267=3,\"%\",\"ml\"))","v":"%"},{"$f":"RANDBETWEEN(1,MIN(9,C1267))","v":7},{"$f":"IF(AND(Worksheet!$D$12,RAND()<0.2),3,IF(RAND()<Worksheet!$D$10/100,1,2))","v":3},0.65,{"$f":"CONCATENATE(\" \",D1267)","v":" litres"},650,"ml"]
[{"$f":"IF(COUNTIF($B$1:B1268,TRUE)=COUNTIF($B$1:B1267,TRUE),\"\",COUNTIF($B$1:B1268,TRUE))","v":""},{"$f":"Worksheet!$D$26","v":false},{"$f":"RANDBETWEEN(5,RANDBETWEEN(5,Worksheet!$D$8))","v":41},"litres","±",{"$f":"IF(I1268=1,H1268*10^RANDBETWEEN(IF(Worksheet!$D$14,-1,0),0),IF(I1268=2,H1268*10^RANDBETWEEN(RANDBETWEEN(0,2),2),CHOOSE(RANDBETWEEN(1,3),5,10,20)))","v":400},{"$f":"IF(I1268=1,D1268,IF(I1268=3,\"%\",\"cm³\"))","v":"cm³"},{"$f":"RANDBETWEEN(1,MIN(9,C1268))","v":4},{"$f":"IF(AND(Worksheet!$D$12,RAND()<0.2),3,IF(RAND()<Worksheet!$D$10/100,1,2))","v":2},0.4,{"$f":"CONCATENATE(\" \",D1268)","v":" litres"},400,"cm³"]
[{"$f":"IF(COUNTIF($B$1:B1269,TRUE)=COUNTIF($B$1:B1269,TRUE),\"\",COUNTIF($B$1:B1269,TRUE))","v":""},{"$f":"Worksheet!$B$28","v":true},{"$f":"RANDBETWEEN(5,20)","v":20},"°C","±",{"$f":"IF(I1269=1,H1269*10^RANDBETWEEN(IF(Worksheet!$D$14,-1,0),0),IF(I1269=2,H1269,CHOOSE(RANDBETWEEN(1,3),5,10,20)))","v":2},{"$f":"IF(I1269=1,D1269,IF(I1269=3,\"%\",\"sec\"))","v":"°C"},{"$f":"RANDBETWEEN(1,MIN(9,C1269))","v":2},{"$f":"IF(AND(Worksheet!$D$12,RAND()<0),3,IF(RAND()<Worksheet!$D$10/100,1,2))","v":1},{"$f":"IF(I1269=1,F1269,IF(I1269=2,F1269,IF(I1269=3,F1269/100*C1269,\"\")))","v":2},{"$f":"CONCATENATE(\" \",D1269)","v":" °C"},{"$f":"IF(I1269=1,F1269,IF(I1269=2,F1269,IF(I1269=3,F1269/100*C1269,\"\")))","v":2}," °C"]
[{"$f":"COUNTIF($B$1:B1270,TRUE)","v":988},{"$f":"Worksheet!$B$20","v":true},{"$f":"RANDBETWEEN(5,RANDBETWEEN(5,Worksheet!$D$8))","v":67},"cm","±",{"$f":"IF(I1270=1,H1270*10^RANDBETWEEN(IF(Worksheet!$D$14,-1,0),0),IF(I1270=2,H1270,CHOOSE(RANDBETWEEN(1,3),5,10,20)))","v":10},{"$f":"IF(I1270=1,D1270,IF(I1270=3,\"%\",\"mm\"))","v":"%"},{"$f":"RANDBETWEEN(1,MIN(9,C1270))","v":6},{"$f":"IF(AND(Worksheet!$D$12,RAND()<0.2),3,IF(RAND()<Worksheet!$D$10/100,1,2))","v":3},{"$f":"IF(I1270=1,F1270,IF(I1270=2,F1270/10,IF(I1270=3,F1270/100*C1270,\"\")))","v":6.7},{"$f":"CONCATENATE(\" \",D1270)","v":" cm"},{"$f":"IF(I1270=1,F1270*10,IF(I1270=2,F1270,IF(I1270=3,F1270/100*C1270*10,\"\")))","v":67},"mm"]
[{"$f":"IF(COUNTIF($B$1:B1271,TRUE)=COUNTIF($B$1:B1270,TRUE),\"\",COUNTIF($B$1:B1271,TRUE))","v":989},{"$f":"Worksheet!$B$22","v":true},{"$f":"RANDBETWEEN(5,RANDBETWEEN(5,Worksheet!$D$8))","v":27},"m","±",{"$f":"IF(I1271=1,H1271*10^RANDBETWEEN(IF(Worksheet!$D$14,-1,0),0),IF(I1271=2,H1271*10^RANDBETWEEN(RANDBETWEEN(0,1),1),CHOOSE(RANDBETWEEN(1,3),5,10,20)))","v":1},{"$f":"IF(I1271=1,D1271,IF(I1271=3,\"%\",\"cm\"))","v":"m"},{"$f":"RANDBETWEEN(1,MIN(9,C1271))","v":1},{"$f":"IF(AND(Worksheet!$D$12,RAND()<0.2),3,IF(RAND()<Worksheet!$D$10/100,1,2))","v":1},{"$f":"IF(I1271=1,F1271,IF(I1271=2,F1271/100,IF(I1271=3,F1271/100*C1271,\"\")))","v":1},{"$f":"CONCATENATE(\" \",D1271)","v":" m"},{"$f":"IF(I1271=1,F1271*100,IF(I1271=2,F1271,IF(I1271=3,F1271/100*C1271*100,\"\")))","v":100},"cm"]
[{"$f":"IF(COUNTIF($B$1:B1272,TRUE)=COUNTIF($B$1:B1271,TRUE),\"\",COUNTIF($B$1:B1272,TRUE))","v":990},{"$f":"Worksheet!$B$24","v":true},{"$f":"RANDBETWEEN(5,RANDBETWEEN(5,Worksheet!$D$8))","v":10},"km","±",{"$f":"IF(I1272=1,H1272*10^RANDBETWEEN(IF(Worksheet!$D$14,-1,0),0),IF(I1272=2,H1272*10^RANDBETWEEN(RANDBETWEEN(0,2),2),CHOOSE(RANDBETWEEN(1,3),5,10,20)))","v":0.60000000000000009},{"$f":"IF(I1272=1,D1272,IF(I1272=3,\"%\",\"m\"))","v":"km"},6,{"$f":"IF(AND(Worksheet!$D$12,RAND()<0.2),3,IF(RAND()<Worksheet!$D$10/100,1,2))","v":1},{"$f":"IF(I1272=1,F1272,IF(I1272=2,F1272/1000,IF(I1272=3,F1272/100*C1272,\"\")))","v":0.60000000000000009}," km",{"$f":"IF(I1272=1,F1272*1000,IF(I1272=2,F1272,IF(I1272=3,F1272/100*C1272*1000,\"\")))","v":600.00000000000011},"m"]
[{"$f":"IF(COUNTIF($B$1:B1273,TRUE)=COUNTIF($B$1:B1272,TRUE),\"\",COUNTIF($B$1:B1273,TRUE))","v":""},{"$f":"Worksheet!$B$26","v":false},{"$f":"RANDBETWEEN(5,RANDBETWEEN(5,Worksheet!$D$8))","v":156},"m","±",{"$f":"IF(I1273=1,H1273*10^RANDBETWEEN(IF(Worksheet!$D$14,-1,0),0),IF(I1273=2,H1273*10^RANDBETWEEN(RANDBETWEEN(0,2),2),CHOOSE(RANDBETWEEN(1,3),5,10,20)))","v":20},{"$f":"IF(I1273=1,D1273,IF(I1273=3,\"%\",\"mm\"))","v":"%"},3,{"$f":"IF(AND(Worksheet!$D$12,RAND()<0.2),3,IF(RAND()<Worksheet!$D$10/100,1,2))","v":3},31.200000000000003," m",31200.000000000004,"mm"]
[{"$f":"IF(COUNTIF($B$1:B1274,TRUE)=COUNTIF($B$1:B1273,TRUE),\"\",COUNTIF($B$1:B1274,TRUE))","v":991},{"$f":"Worksheet!$D$20","v":true},{"$f":"RANDBETWEEN(5,RANDBETWEEN(5,Worksheet!$D$8))","v":75},"kg","±",{"$f":"IF(I1274=1,H1274*10^RANDBETWEEN(IF(Worksheet!$D$14,-1,0),0),IF(I1274=2,H1274*10^RANDBETWEEN(RANDBETWEEN(0,2),2),CHOOSE(RANDBETWEEN(1,3),5,10,20)))","v":5},{"$f":"IF(I1274=1,D1274,IF(I1274=3,\"%\",\"g\"))","v":"%"},{"$f":"RANDBETWEEN(1,MIN(9,C1274))","v":1},{"$f":"IF(AND(Worksheet!$D$12,RAND()<0.2),3,IF(RAND()<Worksheet!$D$10/100,1,2))","v":3},3.75,{"$f":"CONCATENATE(\" \",D1274)","v":" kg"},3750,"g"]
[{"$f":"IF(COUNTIF($B$1:B1275,TRUE)=COUNTIF($B$1:B1274,TRUE),\"\",COUNTIF($B$1:B1275,TRUE))","v":992},{"$f":"Worksheet!$D$22","v":true},{"$f":"RANDBETWEEN(5,RANDBETWEEN(5,Worksheet!$D$8))","v":28},"tonnes","±",{"$f":"IF(I1275=1,H1275*10^RANDBETWEEN(IF(Worksheet!$D$14,-1,0),0),IF(I1275=2,H1275*10^RANDBETWEEN(RANDBETWEEN(0,2),2),CHOOSE(RANDBETWEEN(1,3),5,10,20)))","v":7},{"$f":"IF(I1275=1,D1275,IF(I1275=3,\"%\",\"kg\"))","v":"tonnes"},{"$f":"RANDBETWEEN(1,MIN(9,C1275))","v":7},{"$f":"IF(AND(Worksheet!$D$12,RAND()<0.2),3,IF(RAND()<Worksheet!$D$10/100,1,2))","v":1},7,{"$f":"CONCATENATE(\" \",D1275)","v":" tonnes"},7000,"kg"]
[{"$f":"IF(COUNTIF($B$1:B1276,TRUE)=COUNTIF($B$1:B1275,TRUE),\"\",COUNTIF($B$1:B1276,TRUE))","v":993},{"$f":"Worksheet!$D$24","v":true},{"$f":"RANDBETWEEN(5,RANDBETWEEN(5,Worksheet!$D$8))","v":90},"litres","±",{"$f":"IF(I1276=1,H1276*10^RANDBETWEEN(IF(Worksheet!$D$14,-1,0),0),IF(I1276=2,H1276*10^RANDBETWEEN(RANDBETWEEN(0,2),2),CHOOSE(RANDBETWEEN(1,3),5,10,20)))","v":0.70000000000000007},{"$f":"IF(I1276=1,D1276,IF(I1276=3,\"%\",\"ml\"))","v":"litres"},{"$f":"RANDBETWEEN(1,MIN(9,C1276))","v":7},{"$f":"IF(AND(Worksheet!$D$12,RAND()<0.2),3,IF(RAND()<Worksheet!$D$10/100,1,2))","v":1},0.70000000000000007,{"$f":"CONCATENATE(\" \",D1276)","v":" litres"},700.00000000000011,"ml"]
[{"$f":"IF(COUNTIF($B$1:B1277,TRUE)=COUNTIF($B$1:B1276,TRUE),\"\",COUNTIF($B$1:B1277,TRUE))","v":""},{"$f":"Worksheet!$D$26","v":false},{"$f":"RANDBETWEEN(5,RANDBETWEEN(5,Worksheet!$D$8))","v":136},"litres","±",{"$f":"IF(I1277=1,H1277*10^RANDBETWEEN(IF(Worksheet!$D$14,-1,0),0),IF(I1277=2,H1277*10^RANDBETWEEN(RANDBETWEEN(0,2),2),CHOOSE(RANDBETWEEN(1,3),5,10,20)))","v":0.60000000000000009},{"$f":"IF(I1277=1,D1277,IF(I1277=3,\"%\",\"cm³\"))","v":"litres"},{"$f":"RANDBETWEEN(1,MIN(9,C1277))","v":6},{"$f":"IF(AND(Worksheet!$D$12,RAND()<0.2),3,IF(RAND()<Worksheet!$D$10/100,1,2))","v":1},0.60000000000000009,{"$f":"CONCATENATE(\" \",D1277)","v":" litres"},600.00000000000011,"cm³"]
[{"$f":"IF(COUNTIF($B$1:B1278,TRUE)=COUNTIF($B$1:B1278,TRUE),\"\",COUNTIF($B$1:B1278,TRUE))","v":""},{"$f":"Worksheet!$B$28","v":true},{"$f":"RANDBETWEEN(5,20)","v":19},"°C","±",{"$f":"IF(I1278=1,H1278*10^RANDBETWEEN(IF(Worksheet!$D$14,-1,0),0),IF(I1278=2,H1278,CHOOSE(RANDBETWEEN(1,3),5,10,20)))","v":0.4},{"$f":"IF(I1278=1,D1278,IF(I1278=3,\"%\",\"sec\"))","v":"°C"},{"$f":"RANDBETWEEN(1,MIN(9,C1278))","v":4},{"$f":"IF(AND(Worksheet!$D$12,RAND()<0),3,IF(RAND()<Worksheet!$D$10/100,1,2))","v":1},{"$f":"IF(I1278=1,F1278,IF(I1278=2,F1278,IF(I1278=3,F1278/100*C1278,\"\")))","v":0.4},{"$f":"CONCATENATE(\" \",D1278)","v":" °C"},{"$f":"IF(I1278=1,F1278,IF(I1278=2,F1278,IF(I1278=3,F1278/100*C1278,\"\")))","v":0.4}," °C"]
[{"$f":"COUNTIF($B$1:B1279,TRUE)","v":995},{"$f":"Worksheet!$B$20","v":true},{"$f":"RANDBETWEEN(5,RANDBETWEEN(5,Worksheet!$D$8))","v":6},"cm","±",{"$f":"IF(I1279=1,H1279*10^RANDBETWEEN(IF(Worksheet!$D$14,-1,0),0),IF(I1279=2,H1279,CHOOSE(RANDBETWEEN(1,3),5,10,20)))","v":2},{"$f":"IF(I1279=1,D1279,IF(I1279=3,\"%\",\"mm\"))","v":"mm"},{"$f":"RANDBETWEEN(1,MIN(9,C1279))","v":2},{"$f":"IF(AND(Worksheet!$D$12,RAND()<0.2),3,IF(RAND()<Worksheet!$D$10/100,1,2))","v":2},{"$f":"IF(I1279=1,F1279,IF(I1279=2,F1279/10,IF(I1279=3,F1279/100*C1279,\"\")))","v":0.2},{"$f":"CONCATENATE(\" \",D1279)","v":" cm"},{"$f":"IF(I1279=1,F1279*10,IF(I1279=2,F1279,IF(I1279=3,F1279/100*C1279*10,\"\")))","v":2},"mm"]
[{"$f":"IF(COUNTIF($B$1:B1280,TRUE)=COUNTIF($B$1:B1279,TRUE),\"\",COUNTIF($B$1:B1280,TRUE))","v":996},{"$f":"Worksheet!$B$22","v":true},{"$f":"RANDBETWEEN(5,RANDBETWEEN(5,Worksheet!$D$8))","v":66},"m","±",{"$f":"IF(I1280=1,H1280*10^RANDBETWEEN(IF(Worksheet!$D$14,-1,0),0),IF(I1280=2,H1280*10^RANDBETWEEN(RANDBETWEEN(0,1),1),CHOOSE(RANDBETWEEN(1,3),5,10,20)))","v":0.70000000000000007},{"$f":"IF(I1280=1,D1280,IF(I1280=3,\"%\",\"cm\"))","v":"m"},{"$f":"RANDBETWEEN(1,MIN(9,C1280))","v":7},{"$f":"IF(AND(Worksheet!$D$12,RAND()<0.2),3,IF(RAND()<Worksheet!$D$10/100,1,2))","v":1},{"$f":"IF(I1280=1,F1280,IF(I1280=2,F1280/100,IF(I1280=3,F1280/100*C1280,\"\")))","v":0.70000000000000007},{"$f":"CONCATENATE(\" \",D1280)","v":" m"},{"$f":"IF(I1280=1,F1280*100,IF(I1280=2,F1280,IF(I1280=3,F1280/100*C1280*100,\"\")))","v":70},"cm"]
[{"$f":"IF(COUNTIF($B$1:B1281,TRUE)=COUNTIF($B$1:B1280,TRUE),\"\",COUNTIF($B$1:B1281,TRUE))","v":997},{"$f":"Worksheet!$B$24","v":true},{"$f":"RANDBETWEEN(5,RANDBETWEEN(5,Worksheet!$D$8))","v":10},"km","±",{"$f":"IF(I1281=1,H1281*10^RANDBETWEEN(IF(Worksheet!$D$14,-1,0),0),IF(I1281=2,H1281*10^RANDBETWEEN(RANDBETWEEN(0,2),2),CHOOSE(RANDBETWEEN(1,3),5,10,20)))","v":20},{"$f":"IF(I1281=1,D1281,IF(I1281=3,\"%\",\"m\"))","v":"%"},1,{"$f":"IF(AND(Worksheet!$D$12,RAND()<0.2),3,IF(RAND()<Worksheet!$D$10/100,1,2))","v":3},{"$f":"IF(I1281=1,F1281,IF(I1281=2,F1281/1000,IF(I1281=3,F1281/100*C1281,\"\")))","v":2}," km",{"$f":"IF(I1281=1,F1281*1000,IF(I1281=2,F1281,IF(I1281=3,F1281/100*C1281*1000,\"\")))","v":2000},"m"]
[{"$f":"IF(COUNTIF($B$1:B1282,TRUE)=COUNTIF($B$1:B1281,TRUE),\"\",COUNTIF($B$1:B1282,TRUE))","v":""},{"$f":"Worksheet!$B$26","v":false},{"$f":"RANDBETWEEN(5,RANDBETWEEN(5,Worksheet!$D$8))","v":122},"m","±",{"$f":"IF(I1282=1,H1282*10^RANDBETWEEN(IF(Worksheet!$D$14,-1,0),0),IF(I1282=2,H1282*10^RANDBETWEEN(RANDBETWEEN(0,2),2),CHOOSE(RANDBETWEEN(1,3),5,10,20)))","v":0.2},{"$f":"IF(I1282=1,D1282,IF(I1282=3,\"%\",\"mm\"))","v":"m"},2,{"$f":"IF(AND(Worksheet!$D$12,RAND()<0.2),3,IF(RAND()<Worksheet!$D$10/100,1,2))","v":1},0.2," m",200,"mm"]
[{"$f":"IF(COUNTIF($B$1:B1283,TRUE)=COUNTIF($B$1:B1282,TRUE),\"\",COUNTIF($B$1:B1283,TRUE))","v":998},{"$f":"Worksheet!$D$20","v":true},{"$f":"RANDBETWEEN(5,RANDBETWEEN(5,Worksheet!$D$8))","v":57},"kg","±",{"$f":"IF(I1283=1,H1283*10^RANDBETWEEN(IF(Worksheet!$D$14,-1,0),0),IF(I1283=2,H1283*10^RANDBETWEEN(RANDBETWEEN(0,2),2),CHOOSE(RANDBETWEEN(1,3),5,10,20)))","v":5},{"$f":"IF(I1283=1,D1283,IF(I1283=3,\"%\",\"g\"))","v":"%"},{"$f":"RANDBETWEEN(1,MIN(9,C1283))","v":3},{"$f":"IF(AND(Worksheet!$D$12,RAND()<0.2),3,IF(RAND()<Worksheet!$D$10/100,1,2))","v":3},2.85,{"$f":"CONCATENATE(\" \",D1283)","v":" kg"},2850,"g"]
[{"$f":"IF(COUNTIF($B$1:B1284,TRUE)=COUNTIF($B$1:B1283,TRUE),\"\",COUNTIF($B$1:B1284,TRUE))","v":999},{"$f":"Worksheet!$D$22","v":true},{"$f":"RANDBETWEEN(5,RANDBETWEEN(5,Worksheet!$D$8))","v":34},"tonnes","±",{"$f":"IF(I1284=1,H1284*10^RANDBETWEEN(IF(Worksheet!$D$14,-1,0),0),IF(I1284=2,H1284*10^RANDBETWEEN(RANDBETWEEN(0,2),2),CHOOSE(RANDBETWEEN(1,3),5,10,20)))","v":30},{"$f":"IF(I1284=1,D1284,IF(I1284=3,\"%\",\"kg\"))","v":"kg"},{"$f":"RANDBETWEEN(1,MIN(9,C1284))","v":3},{"$f":"IF(AND(Worksheet!$D$12,RAND()<0.2),3,IF(RAND()<Worksheet!$D$10/100,1,2))","v":2},0.03,{"$f":"CONCATENATE(\" \",D1284)","v":" tonnes"},30,"kg"]
[{"$f":"IF(COUNTIF($B$1:B1285,TRUE)=COUNTIF($B$1:B1284,TRUE),\"\",COUNTIF($B$1:B1285,TRUE))","v":1000},{"$f":"Worksheet!$D$24","v":true},{"$f":"RANDBETWEEN(5,RANDBETWEEN(5,Worksheet!$D$8))","v":38},"litres","±",{"$f":"IF(I1285=1,H1285*10^RANDBETWEEN(IF(Worksheet!$D$14,-1,0),0),IF(I1285=2,H1285*10^RANDBETWEEN(RANDBETWEEN(0,2),2),CHOOSE(RANDBETWEEN(1,3),5,10,20)))","v":70},{"$f":"IF(I1285=1,D1285,IF(I1285=3,\"%\",\"ml\"))","v":"ml"},{"$f":"RANDBETWEEN(1,MIN(9,C1285))","v":7},{"$f":"IF(AND(Worksheet!$D$12,RAND()<0.2),3,IF(RAND()<Worksheet!$D$10/100,1,2))","v":2},7.0000000000000007E-2,{"$f":"CONCATENATE(\" \",D1285)","v":" litres"},70,"ml"]
[{"$f":"IF(COUNTIF($B$1:B1286,TRUE)=COUNTIF($B$1:B1285,TRUE),\"\",COUNTIF($B$1:B1286,TRUE))","v":""},{"$f":"Worksheet!$D$26","v":false},{"$f":"RANDBETWEEN(5,RANDBETWEEN(5,Worksheet!$D$8))","v":99},"litres","±",{"$f":"IF(I1286=1,H1286*10^RANDBETWEEN(IF(Worksheet!$D$14,-1,0),0),IF(I1286=2,H1286*10^RANDBETWEEN(RANDBETWEEN(0,2),2),CHOOSE(RANDBETWEEN(1,3),5,10,20)))","v":5},{"$f":"IF(I1286=1,D1286,IF(I1286=3,\"%\",\"cm³\"))","v":"litres"},{"$f":"RANDBETWEEN(1,MIN(9,C1286))","v":5},{"$f":"IF(AND(Worksheet!$D$12,RAND()<0.2),3,IF(RAND()<Worksheet!$D$10/100,1,2))","v":1},5,{"$f":"CONCATENATE(\" \",D1286)","v":" litres"},5000,"cm³"]
[{"$f":"IF(COUNTIF($B$1:B1287,TRUE)=COUNTIF($B$1:B1287,TRUE),\"\",COUNTIF($B$1:B1287,TRUE))","v":""},{"$f":"Worksheet!$B$28","v":true},{"$f":"RANDBETWEEN(5,20)","v":20},"°C","±",{"$f":"IF(I1287=1,H1287*10^RANDBETWEEN(IF(Worksheet!$D$14,-1,0),0),IF(I1287=2,H1287,CHOOSE(RANDBETWEEN(1,3),5,10,20)))","v":9},{"$f":"IF(I1287=1,D1287,IF(I1287=3,\"%\",\"sec\"))","v":"°C"},{"$f":"RANDBETWEEN(1,MIN(9,C1287))","v":9},{"$f":"IF(AND(Worksheet!$D$12,RAND()<0),3,IF(RAND()<Worksheet!$D$10/100,1,2))","v":1},{"$f":"IF(I1287=1,F1287,IF(I1287=2,F1287,IF(I1287=3,F1287/100*C1287,\"\")))","v":9},{"$f":"CONCATENATE(\" \",D1287)","v":" °C"},{"$f":"IF(I1287=1,F1287,IF(I1287=2,F1287,IF(I1287=3,F1287/100*C1287,\"\")))","v":9}," °C"]
[{"$f":"COUNTIF($B$1:B1288,TRUE)","v":1002},{"$f":"Worksheet!$B$20","v":true},{"$f":"RANDBETWEEN(5,RANDBETWEEN(5,Worksheet!$D$8))","v":21},"cm","±",{"$f":"IF(I1288=1,H1288*10^RANDBETWEEN(IF(Worksheet!$D$14,-1,0),0),IF(I1288=2,H1288,CHOOSE(RANDBETWEEN(1,3),5,10,20)))","v":0.30000000000000004},{"$f":"IF(I1288=1,D1288,IF(I1288=3,\"%\",\"mm\"))","v":"cm"},{"$f":"RANDBETWEEN(1,MIN(9,C1288))","v":3},{"$f":"IF(AND(Worksheet!$D$12,RAND()<0.2),3,IF(RAND()<Worksheet!$D$10/100,1,2))","v":1},{"$f":"IF(I1288=1,F1288,IF(I1288=2,F1288/10,IF(I1288=3,F1288/100*C1288,\"\")))","v":0.30000000000000004},{"$f":"CONCATENATE(\" \",D1288)","v":" cm"},{"$f":"IF(I1288=1,F1288*10,IF(I1288=2,F1288,IF(I1288=3,F1288/100*C1288*10,\"\")))","v":3.0000000000000004},"mm"]
[{"$f":"IF(COUNTIF($B$1:B1289,TRUE)=COUNTIF($B$1:B1288,TRUE),\"\",COUNTIF($B$1:B1289,TRUE))","v":1003},{"$f":"Worksheet!$B$22","v":true},{"$f":"RANDBETWEEN(5,RANDBETWEEN(5,Worksheet!$D$8))","v":6},"m","±",{"$f":"IF(I1289=1,H1289*10^RANDBETWEEN(IF(Worksheet!$D$14,-1,0),0),IF(I1289=2,H1289*10^RANDBETWEEN(RANDBETWEEN(0,1),1),CHOOSE(RANDBETWEEN(1,3),5,10,20)))","v":4},{"$f":"IF(I1289=1,D1289,IF(I1289=3,\"%\",\"cm\"))","v":"m"},{"$f":"RANDBETWEEN(1,MIN(9,C1289))","v":4},{"$f":"IF(AND(Worksheet!$D$12,RAND()<0.2),3,IF(RAND()<Worksheet!$D$10/100,1,2))","v":1},{"$f":"IF(I1289=1,F1289,IF(I1289=2,F1289/100,IF(I1289=3,F1289/100*C1289,\"\")))","v":4},{"$f":"CONCATENATE(\" \",D1289)","v":" m"},{"$f":"IF(I1289=1,F1289*100,IF(I1289=2,F1289,IF(I1289=3,F1289/100*C1289*100,\"\")))","v":400},"cm"]
[{"$f":"IF(COUNTIF($B$1:B1290,TRUE)=COUNTIF($B$1:B1289,TRUE),\"\",COUNTIF($B$1:B1290,TRUE))","v":1004},{"$f":"Worksheet!$B$24","v":true},{"$f":"RANDBETWEEN(5,RANDBETWEEN(5,Worksheet!$D$8))","v":9},"km","±",{"$f":"IF(I1290=1,H1290*10^RANDBETWEEN(IF(Worksheet!$D$14,-1,0),0),IF(I1290=2,H1290*10^RANDBETWEEN(RANDBETWEEN(0,2),2),CHOOSE(RANDBETWEEN(1,3),5,10,20)))","v":400},{"$f":"IF(I1290=1,D1290,IF(I1290=3,\"%\",\"m\"))","v":"m"},4,{"$f":"IF(AND(Worksheet!$D$12,RAND()<0.2),3,IF(RAND()<Worksheet!$D$10/100,1,2))","v":2},{"$f":"IF(I1290=1,F1290,IF(I1290=2,F1290/1000,IF(I1290=3,F1290/100*C1290,\"\")))","v":0.4}," km",{"$f":"IF(I1290=1,F1290*1000,IF(I1290=2,F1290,IF(I1290=3,F1290/100*C1290*1000,\"\")))","v":400},"m"]
[{"$f":"IF(COUNTIF($B$1:B1291,TRUE)=COUNTIF($B$1:B1290,TRUE),\"\",COUNTIF($B$1:B1291,TRUE))","v":""},{"$f":"Worksheet!$B$26","v":false},{"$f":"RANDBETWEEN(5,RANDBETWEEN(5,Worksheet!$D$8))","v":150},"m","±",{"$f":"IF(I1291=1,H1291*10^RANDBETWEEN(IF(Worksheet!$D$14,-1,0),0),IF(I1291=2,H1291*10^RANDBETWEEN(RANDBETWEEN(0,2),2),CHOOSE(RANDBETWEEN(1,3),5,10,20)))","v":0.9},{"$f":"IF(I1291=1,D1291,IF(I1291=3,\"%\",\"mm\"))","v":"m"},9,{"$f":"IF(AND(Worksheet!$D$12,RAND()<0.2),3,IF(RAND()<Worksheet!$D$10/100,1,2))","v":1},0.9," m",900,"mm"]
[{"$f":"IF(COUNTIF($B$1:B1292,TRUE)=COUNTIF($B$1:B1291,TRUE),\"\",COUNTIF($B$1:B1292,TRUE))","v":1005},{"$f":"Worksheet!$D$20","v":true},{"$f":"RANDBETWEEN(5,RANDBETWEEN(5,Worksheet!$D$8))","v":27},"kg","±",{"$f":"IF(I1292=1,H1292*10^RANDBETWEEN(IF(Worksheet!$D$14,-1,0),0),IF(I1292=2,H1292*10^RANDBETWEEN(RANDBETWEEN(0,2),2),CHOOSE(RANDBETWEEN(1,3),5,10,20)))","v":0.60000000000000009},{"$f":"IF(I1292=1,D1292,IF(I1292=3,\"%\",\"g\"))","v":"kg"},{"$f":"RANDBETWEEN(1,MIN(9,C1292))","v":6},{"$f":"IF(AND(Worksheet!$D$12,RAND()<0.2),3,IF(RAND()<Worksheet!$D$10/100,1,2))","v":1},0.60000000000000009,{"$f":"CONCATENATE(\" \",D1292)","v":" kg"},600.00000000000011,"g"]
[{"$f":"IF(COUNTIF($B$1:B1293,TRUE)=COUNTIF($B$1:B1292,TRUE),\"\",COUNTIF($B$1:B1293,TRUE))","v":1006},{"$f":"Worksheet!$D$22","v":true},{"$f":"RANDBETWEEN(5,RANDBETWEEN(5,Worksheet!$D$8))","v":32},"tonnes","±",{"$f":"IF(I1293=1,H1293*10^RANDBETWEEN(IF(Worksheet!$D$14,-1,0),0),IF(I1293=2,H1293*10^RANDBETWEEN(RANDBETWEEN(0,2),2),CHOOSE(RANDBETWEEN(1,3),5,10,20)))","v":40},{"$f":"IF(I1293=1,D1293,IF(I1293=3,\"%\",\"kg\"))","v":"kg"},{"$f":"RANDBETWEEN(1,MIN(9,C1293))","v":4},{"$f":"IF(AND(Worksheet!$D$12,RAND()<0.2),3,IF(RAND()<Worksheet!$D$10/100,1,2))","v":2},0.04,{"$f":"CONCATENATE(\" \",D1293)","v":" tonnes"},40,"kg"]
[{"$f":"IF(COUNTIF($B$1:B1294,TRUE)=COUNTIF($B$1:B1293,TRUE),\"\",COUNTIF($B$1:B1294,TRUE))","v":1007},{"$f":"Worksheet!$D$24","v":true},{"$f":"RANDBETWEEN(5,RANDBETWEEN(5,Worksheet!$D$8))","v":87},"litres","±",{"$f":"IF(I1294=1,H1294*10^RANDBETWEEN(IF(Worksheet!$D$14,-1,0),0),IF(I1294=2,H1294*10^RANDBETWEEN(RANDBETWEEN(0,2),2),CHOOSE(RANDBETWEEN(1,3),5,10,20)))","v":0.70000000000000007},{"$f":"IF(I1294=1,D1294,IF(I1294=3,\"%\",\"ml\"))","v":"litres"},{"$f":"RANDBETWEEN(1,MIN(9,C1294))","v":7},{"$f":"IF(AND(Worksheet!$D$12,RAND()<0.2),3,IF(RAND()<Worksheet!$D$10/100,1,2))","v":1},0.70000000000000007,{"$f":"CONCATENATE(\" \",D1294)","v":" litres"},700.00000000000011,"ml"]
[{"$f":"IF(COUNTIF($B$1:B1295,TRUE)=COUNTIF($B$1:B1294,TRUE),\"\",COUNTIF($B$1:B1295,TRUE))","v":""},{"$f":"Worksheet!$D$26","v":false},{"$f":"RANDBETWEEN(5,RANDBETWEEN(5,Worksheet!$D$8))","v":62},"litres","±",{"$f":"IF(I1295=1,H1295*10^RANDBETWEEN(IF(Worksheet!$D$14,-1,0),0),IF(I1295=2,H1295*10^RANDBETWEEN(RANDBETWEEN(0,2),2),CHOOSE(RANDBETWEEN(1,3),5,10,20)))","v":6},{"$f":"IF(I1295=1,D1295,IF(I1295=3,\"%\",\"cm³\"))","v":"litres"},{"$f":"RANDBETWEEN(1,MIN(9,C1295))","v":6},{"$f":"IF(AND(Worksheet!$D$12,RAND()<0.2),3,IF(RAND()<Worksheet!$D$10/100,1,2))","v":1},6,{"$f":"CONCATENATE(\" \",D1295)","v":" litres"},6000,"cm³"]
[{"$f":"IF(COUNTIF($B$1:B1296,TRUE)=COUNTIF($B$1:B1296,TRUE),\"\",COUNTIF($B$1:B1296,TRUE))","v":""},{"$f":"Worksheet!$B$28","v":true},{"$f":"RANDBETWEEN(5,20)","v":7},"°C","±",{"$f":"IF(I1296=1,H1296*10^RANDBETWEEN(IF(Worksheet!$D$14,-1,0),0),IF(I1296=2,H1296,CHOOSE(RANDBETWEEN(1,3),5,10,20)))","v":0.1},{"$f":"IF(I1296=1,D1296,IF(I1296=3,\"%\",\"sec\"))","v":"°C"},{"$f":"RANDBETWEEN(1,MIN(9,C1296))","v":1},{"$f":"IF(AND(Worksheet!$D$12,RAND()<0),3,IF(RAND()<Worksheet!$D$10/100,1,2))","v":1},{"$f":"IF(I1296=1,F1296,IF(I1296=2,F1296,IF(I1296=3,F1296/100*C1296,\"\")))","v":0.1},{"$f":"CONCATENATE(\" \",D1296)","v":" °C"},{"$f":"IF(I1296=1,F1296,IF(I1296=2,F1296,IF(I1296=3,F1296/100*C1296,\"\")))","v":0.1}," °C"]
[{"$f":"COUNTIF($B$1:B1297,TRUE)","v":1009},{"$f":"Worksheet!$B$20","v":true},{"$f":"RANDBETWEEN(5,RANDBETWEEN(5,Worksheet!$D$8))","v":69},"cm","±",{"$f":"IF(I1297=1,H1297*10^RANDBETWEEN(IF(Worksheet!$D$14,-1,0),0),IF(I1297=2,H1297,CHOOSE(RANDBETWEEN(1,3),5,10,20)))","v":2},{"$f":"IF(I1297=1,D1297,IF(I1297=3,\"%\",\"mm\"))","v":"mm"},{"$f":"RANDBETWEEN(1,MIN(9,C1297))","v":2},{"$f":"IF(AND(Worksheet!$D$12,RAND()<0.2),3,IF(RAND()<Worksheet!$D$10/100,1,2))","v":2},{"$f":"IF(I1297=1,F1297,IF(I1297=2,F1297/10,IF(I1297=3,F1297/100*C1297,\"\")))","v":0.2},{"$f":"CONCATENATE(\" \",D1297)","v":" cm"},{"$f":"IF(I1297=1,F1297*10,IF(I1297=2,F1297,IF(I1297=3,F1297/100*C1297*10,\"\")))","v":2},"mm"]
[{"$f":"IF(COUNTIF($B$1:B1298,TRUE)=COUNTIF($B$1:B1297,TRUE),\"\",COUNTIF($B$1:B1298,TRUE))","v":1010},{"$f":"Worksheet!$B$22","v":true},{"$f":"RANDBETWEEN(5,RANDBETWEEN(5,Worksheet!$D$8))","v":98},"m","±",{"$f":"IF(I1298=1,H1298*10^RANDBETWEEN(IF(Worksheet!$D$14,-1,0),0),IF(I1298=2,H1298*10^RANDBETWEEN(RANDBETWEEN(0,1),1),CHOOSE(RANDBETWEEN(1,3),5,10,20)))","v":8},{"$f":"IF(I1298=1,D1298,IF(I1298=3,\"%\",\"cm\"))","v":"m"},{"$f":"RANDBETWEEN(1,MIN(9,C1298))","v":8},{"$f":"IF(AND(Worksheet!$D$12,RAND()<0.2),3,IF(RAND()<Worksheet!$D$10/100,1,2))","v":1},{"$f":"IF(I1298=1,F1298,IF(I1298=2,F1298/100,IF(I1298=3,F1298/100*C1298,\"\")))","v":8},{"$f":"CONCATENATE(\" \",D1298)","v":" m"},{"$f":"IF(I1298=1,F1298*100,IF(I1298=2,F1298,IF(I1298=3,F1298/100*C1298*100,\"\")))","v":800},"cm"]
[{"$f":"IF(COUNTIF($B$1:B1299,TRUE)=COUNTIF($B$1:B1298,TRUE),\"\",COUNTIF($B$1:B1299,TRUE))","v":1011},{"$f":"Worksheet!$B$24","v":true},{"$f":"RANDBETWEEN(5,RANDBETWEEN(5,Worksheet!$D$8))","v":83},"km","±",{"$f":"IF(I1299=1,H1299*10^RANDBETWEEN(IF(Worksheet!$D$14,-1,0),0),IF(I1299=2,H1299*10^RANDBETWEEN(RANDBETWEEN(0,2),2),CHOOSE(RANDBETWEEN(1,3),5,10,20)))","v":0.30000000000000004},{"$f":"IF(I1299=1,D1299,IF(I1299=3,\"%\",\"m\"))","v":"km"},3,{"$f":"IF(AND(Worksheet!$D$12,RAND()<0.2),3,IF(RAND()<Worksheet!$D$10/100,1,2))","v":1},{"$f":"IF(I1299=1,F1299,IF(I1299=2,F1299/1000,IF(I1299=3,F1299/100*C1299,\"\")))","v":0.30000000000000004}," km",{"$f":"IF(I1299=1,F1299*1000,IF(I1299=2,F1299,IF(I1299=3,F1299/100*C1299*1000,\"\")))","v":300.00000000000006},"m"]
[{"$f":"IF(COUNTIF($B$1:B1300,TRUE)=COUNTIF($B$1:B1299,TRUE),\"\",COUNTIF($B$1:B1300,TRUE))","v":""},{"$f":"Worksheet!$B$26","v":false},{"$f":"RANDBETWEEN(5,RANDBETWEEN(5,Worksheet!$D$8))","v":47},"m","±",{"$f":"IF(I1300=1,H1300*10^RANDBETWEEN(IF(Worksheet!$D$14,-1,0),0),IF(I1300=2,H1300*10^RANDBETWEEN(RANDBETWEEN(0,2),2),CHOOSE(RANDBETWEEN(1,3),5,10,20)))","v":10},{"$f":"IF(I1300=1,D1300,IF(I1300=3,\"%\",\"mm\"))","v":"%"},4,{"$f":"IF(AND(Worksheet!$D$12,RAND()<0.2),3,IF(RAND()<Worksheet!$D$10/100,1,2))","v":3},4.7," m",4700,"mm"]
[{"$f":"IF(COUNTIF($B$1:B1301,TRUE)=COUNTIF($B$1:B1300,TRUE),\"\",COUNTIF($B$1:B1301,TRUE))","v":1012},{"$f":"Worksheet!$D$20","v":true},{"$f":"RANDBETWEEN(5,RANDBETWEEN(5,Worksheet!$D$8))","v":126},"kg","±",{"$f":"IF(I1301=1,H1301*10^RANDBETWEEN(IF(Worksheet!$D$14,-1,0),0),IF(I1301=2,H1301*10^RANDBETWEEN(RANDBETWEEN(0,2),2),CHOOSE(RANDBETWEEN(1,3),5,10,20)))","v":0.2},{"$f":"IF(I1301=1,D1301,IF(I1301=3,\"%\",\"g\"))","v":"kg"},{"$f":"RANDBETWEEN(1,MIN(9,C1301))","v":2},{"$f":"IF(AND(Worksheet!$D$12,RAND()<0.2),3,IF(RAND()<Worksheet!$D$10/100,1,2))","v":1},0.2,{"$f":"CONCATENATE(\" \",D1301)","v":" kg"},200,"g"]
[{"$f":"IF(COUNTIF($B$1:B1302,TRUE)=COUNTIF($B$1:B1301,TRUE),\"\",COUNTIF($B$1:B1302,TRUE))","v":1013},{"$f":"Worksheet!$D$22","v":true},{"$f":"RANDBETWEEN(5,RANDBETWEEN(5,Worksheet!$D$8))","v":21},"tonnes","±",{"$f":"IF(I1302=1,H1302*10^RANDBETWEEN(IF(Worksheet!$D$14,-1,0),0),IF(I1302=2,H1302*10^RANDBETWEEN(RANDBETWEEN(0,2),2),CHOOSE(RANDBETWEEN(1,3),5,10,20)))","v":10},{"$f":"IF(I1302=1,D1302,IF(I1302=3,\"%\",\"kg\"))","v":"%"},{"$f":"RANDBETWEEN(1,MIN(9,C1302))","v":3},{"$f":"IF(AND(Worksheet!$D$12,RAND()<0.2),3,IF(RAND()<Worksheet!$D$10/100,1,2))","v":3},2.1,{"$f":"CONCATENATE(\" \",D1302)","v":" tonnes"},2100,"kg"]
[{"$f":"IF(COUNTIF($B$1:B1303,TRUE)=COUNTIF($B$1:B1302,TRUE),\"\",COUNTIF($B$1:B1303,TRUE))","v":1014},{"$f":"Worksheet!$D$24","v":true},{"$f":"RANDBETWEEN(5,RANDBETWEEN(5,Worksheet!$D$8))","v":60},"litres","±",{"$f":"IF(I1303=1,H1303*10^RANDBETWEEN(IF(Worksheet!$D$14,-1,0),0),IF(I1303=2,H1303*10^RANDBETWEEN(RANDBETWEEN(0,2),2),CHOOSE(RANDBETWEEN(1,3),5,10,20)))","v":0.5},{"$f":"IF(I1303=1,D1303,IF(I1303=3,\"%\",\"ml\"))","v":"litres"},{"$f":"RANDBETWEEN(1,MIN(9,C1303))","v":5},{"$f":"IF(AND(Worksheet!$D$12,RAND()<0.2),3,IF(RAND()<Worksheet!$D$10/100,1,2))","v":1},0.5,{"$f":"CONCATENATE(\" \",D1303)","v":" litres"},500,"ml"]
[{"$f":"IF(COUNTIF($B$1:B1304,TRUE)=COUNTIF($B$1:B1303,TRUE),\"\",COUNTIF($B$1:B1304,TRUE))","v":""},{"$f":"Worksheet!$D$26","v":false},{"$f":"RANDBETWEEN(5,RANDBETWEEN(5,Worksheet!$D$8))","v":6},"litres","±",{"$f":"IF(I1304=1,H1304*10^RANDBETWEEN(IF(Worksheet!$D$14,-1,0),0),IF(I1304=2,H1304*10^RANDBETWEEN(RANDBETWEEN(0,2),2),CHOOSE(RANDBETWEEN(1,3),5,10,20)))","v":5},{"$f":"IF(I1304=1,D1304,IF(I1304=3,\"%\",\"cm³\"))","v":"%"},{"$f":"RANDBETWEEN(1,MIN(9,C1304))","v":2},{"$f":"IF(AND(Worksheet!$D$12,RAND()<0.2),3,IF(RAND()<Worksheet!$D$10/100,1,2))","v":3},0.30000000000000004,{"$f":"CONCATENATE(\" \",D1304)","v":" litres"},300.00000000000006,"cm³"]
[{"$f":"IF(COUNTIF($B$1:B1305,TRUE)=COUNTIF($B$1:B1305,TRUE),\"\",COUNTIF($B$1:B1305,TRUE))","v":""},{"$f":"Worksheet!$B$28","v":true},{"$f":"RANDBETWEEN(5,20)","v":13},"°C","±",{"$f":"IF(I1305=1,H1305*10^RANDBETWEEN(IF(Worksheet!$D$14,-1,0),0),IF(I1305=2,H1305,CHOOSE(RANDBETWEEN(1,3),5,10,20)))","v":6},{"$f":"IF(I1305=1,D1305,IF(I1305=3,\"%\",\"sec\"))","v":"sec"},{"$f":"RANDBETWEEN(1,MIN(9,C1305))","v":6},{"$f":"IF(AND(Worksheet!$D$12,RAND()<0),3,IF(RAND()<Worksheet!$D$10/100,1,2))","v":2},{"$f":"IF(I1305=1,F1305,IF(I1305=2,F1305,IF(I1305=3,F1305/100*C1305,\"\")))","v":6},{"$f":"CONCATENATE(\" \",D1305)","v":" °C"},{"$f":"IF(I1305=1,F1305,IF(I1305=2,F1305,IF(I1305=3,F1305/100*C1305,\"\")))","v":6}," °C"]
[{"$f":"COUNTIF($B$1:B1306,TRUE)","v":1016},{"$f":"Worksheet!$B$20","v":true},{"$f":"RANDBETWEEN(5,RANDBETWEEN(5,Worksheet!$D$8))","v":145},"cm","±",{"$f":"IF(I1306=1,H1306*10^RANDBETWEEN(IF(Worksheet!$D$14,-1,0),0),IF(I1306=2,H1306,CHOOSE(RANDBETWEEN(1,3),5,10,20)))","v":4},{"$f":"IF(I1306=1,D1306,IF(I1306=3,\"%\",\"mm\"))","v":"cm"},{"$f":"RANDBETWEEN(1,MIN(9,C1306))","v":4},{"$f":"IF(AND(Worksheet!$D$12,RAND()<0.2),3,IF(RAND()<Worksheet!$D$10/100,1,2))","v":1},{"$f":"IF(I1306=1,F1306,IF(I1306=2,F1306/10,IF(I1306=3,F1306/100*C1306,\"\")))","v":4},{"$f":"CONCATENATE(\" \",D1306)","v":" cm"},{"$f":"IF(I1306=1,F1306*10,IF(I1306=2,F1306,IF(I1306=3,F1306/100*C1306*10,\"\")))","v":40},"mm"]
[{"$f":"IF(COUNTIF($B$1:B1307,TRUE)=COUNTIF($B$1:B1306,TRUE),\"\",COUNTIF($B$1:B1307,TRUE))","v":1017},{"$f":"Worksheet!$B$22","v":true},{"$f":"RANDBETWEEN(5,RANDBETWEEN(5,Worksheet!$D$8))","v":60},"m","±",{"$f":"IF(I1307=1,H1307*10^RANDBETWEEN(IF(Worksheet!$D$14,-1,0),0),IF(I1307=2,H1307*10^RANDBETWEEN(RANDBETWEEN(0,1),1),CHOOSE(RANDBETWEEN(1,3),5,10,20)))","v":2},{"$f":"IF(I1307=1,D1307,IF(I1307=3,\"%\",\"cm\"))","v":"m"},{"$f":"RANDBETWEEN(1,MIN(9,C1307))","v":2},{"$f":"IF(AND(Worksheet!$D$12,RAND()<0.2),3,IF(RAND()<Worksheet!$D$10/100,1,2))","v":1},{"$f":"IF(I1307=1,F1307,IF(I1307=2,F1307/100,IF(I1307=3,F1307/100*C1307,\"\")))","v":2},{"$f":"CONCATENATE(\" \",D1307)","v":" m"},{"$f":"IF(I1307=1,F1307*100,IF(I1307=2,F1307,IF(I1307=3,F1307/100*C1307*100,\"\")))","v":200},"cm"]
[{"$f":"IF(COUNTIF($B$1:B1308,TRUE)=COUNTIF($B$1:B1307,TRUE),\"\",COUNTIF($B$1:B1308,TRUE))","v":1018},{"$f":"Worksheet!$B$24","v":true},{"$f":"RANDBETWEEN(5,RANDBETWEEN(5,Worksheet!$D$8))","v":66},"km","±",{"$f":"IF(I1308=1,H1308*10^RANDBETWEEN(IF(Worksheet!$D$14,-1,0),0),IF(I1308=2,H1308*10^RANDBETWEEN(RANDBETWEEN(0,2),2),CHOOSE(RANDBETWEEN(1,3),5,10,20)))","v":0.9},{"$f":"IF(I1308=1,D1308,IF(I1308=3,\"%\",\"m\"))","v":"km"},9,{"$f":"IF(AND(Worksheet!$D$12,RAND()<0.2),3,IF(RAND()<Worksheet!$D$10/100,1,2))","v":1},{"$f":"IF(I1308=1,F1308,IF(I1308=2,F1308/1000,IF(I1308=3,F1308/100*C1308,\"\")))","v":0.9}," km",{"$f":"IF(I1308=1,F1308*1000,IF(I1308=2,F1308,IF(I1308=3,F1308/100*C1308*1000,\"\")))","v":900},"m"]
[{"$f":"IF(COUNTIF($B$1:B1309,TRUE)=COUNTIF($B$1:B1308,TRUE),\"\",COUNTIF($B$1:B1309,TRUE))","v":""},{"$f":"Worksheet!$B$26","v":false},{"$f":"RANDBETWEEN(5,RANDBETWEEN(5,Worksheet!$D$8))","v":11},"m","±",{"$f":"IF(I1309=1,H1309*10^RANDBETWEEN(IF(Worksheet!$D$14,-1,0),0),IF(I1309=2,H1309*10^RANDBETWEEN(RANDBETWEEN(0,2),2),CHOOSE(RANDBETWEEN(1,3),5,10,20)))","v":20},{"$f":"IF(I1309=1,D1309,IF(I1309=3,\"%\",\"mm\"))","v":"%"},1,{"$f":"IF(AND(Worksheet!$D$12,RAND()<0.2),3,IF(RAND()<Worksheet!$D$10/100,1,2))","v":3},2.2000000000000002," m",2200,"mm"]
[{"$f":"IF(COUNTIF($B$1:B1310,TRUE)=COUNTIF($B$1:B1309,TRUE),\"\",COUNTIF($B$1:B1310,TRUE))","v":1019},{"$f":"Worksheet!$D$20","v":true},{"$f":"RANDBETWEEN(5,RANDBETWEEN(5,Worksheet!$D$8))","v":20},"kg","±",{"$f":"IF(I1310=1,H1310*10^RANDBETWEEN(IF(Worksheet!$D$14,-1,0),0),IF(I1310=2,H1310*10^RANDBETWEEN(RANDBETWEEN(0,2),2),CHOOSE(RANDBETWEEN(1,3),5,10,20)))","v":1},{"$f":"IF(I1310=1,D1310,IF(I1310=3,\"%\",\"g\"))","v":"kg"},{"$f":"RANDBETWEEN(1,MIN(9,C1310))","v":1},{"$f":"IF(AND(Worksheet!$D$12,RAND()<0.2),3,IF(RAND()<Worksheet!$D$10/100,1,2))","v":1},1,{"$f":"CONCATENATE(\" \",D1310)","v":" kg"},1000,"g"]
[{"$f":"IF(COUNTIF($B$1:B1311,TRUE)=COUNTIF($B$1:B1310,TRUE),\"\",COUNTIF($B$1:B1311,TRUE))","v":1020},{"$f":"Worksheet!$D$22","v":true},{"$f":"RANDBETWEEN(5,RANDBETWEEN(5,Worksheet!$D$8))","v":33},"tonnes","±",{"$f":"IF(I1311=1,H1311*10^RANDBETWEEN(IF(Worksheet!$D$14,-1,0),0),IF(I1311=2,H1311*10^RANDBETWEEN(RANDBETWEEN(0,2),2),CHOOSE(RANDBETWEEN(1,3),5,10,20)))","v":0.30000000000000004},{"$f":"IF(I1311=1,D1311,IF(I1311=3,\"%\",\"kg\"))","v":"tonnes"},{"$f":"RANDBETWEEN(1,MIN(9,C1311))","v":3},{"$f":"IF(AND(Worksheet!$D$12,RAND()<0.2),3,IF(RAND()<Worksheet!$D$10/100,1,2))","v":1},0.30000000000000004,{"$f":"CONCATENATE(\" \",D1311)","v":" tonnes"},300.00000000000006,"kg"]
[{"$f":"IF(COUNTIF($B$1:B1312,TRUE)=COUNTIF($B$1:B1311,TRUE),\"\",COUNTIF($B$1:B1312,TRUE))","v":1021},{"$f":"Worksheet!$D$24","v":true},{"$f":"RANDBETWEEN(5,RANDBETWEEN(5,Worksheet!$D$8))","v":17},"litres","±",{"$f":"IF(I1312=1,H1312*10^RANDBETWEEN(IF(Worksheet!$D$14,-1,0),0),IF(I1312=2,H1312*10^RANDBETWEEN(RANDBETWEEN(0,2),2),CHOOSE(RANDBETWEEN(1,3),5,10,20)))","v":4},{"$f":"IF(I1312=1,D1312,IF(I1312=3,\"%\",\"ml\"))","v":"litres"},{"$f":"RANDBETWEEN(1,MIN(9,C1312))","v":4},{"$f":"IF(AND(Worksheet!$D$12,RAND()<0.2),3,IF(RAND()<Worksheet!$D$10/100,1,2))","v":1},4,{"$f":"CONCATENATE(\" \",D1312)","v":" litres"},4000,"ml"]
[{"$f":"IF(COUNTIF($B$1:B1313,TRUE)=COUNTIF($B$1:B1312,TRUE),\"\",COUNTIF($B$1:B1313,TRUE))","v":""},{"$f":"Worksheet!$D$26","v":false},{"$f":"RANDBETWEEN(5,RANDBETWEEN(5,Worksheet!$D$8))","v":109},"litres","±",{"$f":"IF(I1313=1,H1313*10^RANDBETWEEN(IF(Worksheet!$D$14,-1,0),0),IF(I1313=2,H1313*10^RANDBETWEEN(RANDBETWEEN(0,2),2),CHOOSE(RANDBETWEEN(1,3),5,10,20)))","v":5},{"$f":"IF(I1313=1,D1313,IF(I1313=3,\"%\",\"cm³\"))","v":"%"},{"$f":"RANDBETWEEN(1,MIN(9,C1313))","v":5},{"$f":"IF(AND(Worksheet!$D$12,RAND()<0.2),3,IF(RAND()<Worksheet!$D$10/100,1,2))","v":3},5.45,{"$f":"CONCATENATE(\" \",D1313)","v":" litres"},5450,"cm³"]
[{"$f":"IF(COUNTIF($B$1:B1314,TRUE)=COUNTIF($B$1:B1314,TRUE),\"\",COUNTIF($B$1:B1314,TRUE))","v":""},{"$f":"Worksheet!$B$28","v":true},{"$f":"RANDBETWEEN(5,20)","v":19},"°C","±",{"$f":"IF(I1314=1,H1314*10^RANDBETWEEN(IF(Worksheet!$D$14,-1,0),0),IF(I1314=2,H1314,CHOOSE(RANDBETWEEN(1,3),5,10,20)))","v":0.8},{"$f":"IF(I1314=1,D1314,IF(I1314=3,\"%\",\"sec\"))","v":"°C"},{"$f":"RANDBETWEEN(1,MIN(9,C1314))","v":8},{"$f":"IF(AND(Worksheet!$D$12,RAND()<0),3,IF(RAND()<Worksheet!$D$10/100,1,2))","v":1},{"$f":"IF(I1314=1,F1314,IF(I1314=2,F1314,IF(I1314=3,F1314/100*C1314,\"\")))","v":0.8},{"$f":"CONCATENATE(\" \",D1314)","v":" °C"},{"$f":"IF(I1314=1,F1314,IF(I1314=2,F1314,IF(I1314=3,F1314/100*C1314,\"\")))","v":0.8}," °C"]
[{"$f":"COUNTIF($B$1:B1315,TRUE)","v":1023},{"$f":"Worksheet!$B$20","v":true},{"$f":"RANDBETWEEN(5,RANDBETWEEN(5,Worksheet!$D$8))","v":63},"cm","±",{"$f":"IF(I1315=1,H1315*10^RANDBETWEEN(IF(Worksheet!$D$14,-1,0),0),IF(I1315=2,H1315,CHOOSE(RANDBETWEEN(1,3),5,10,20)))","v":0.70000000000000007},{"$f":"IF(I1315=1,D1315,IF(I1315=3,\"%\",\"mm\"))","v":"cm"},{"$f":"RANDBETWEEN(1,MIN(9,C1315))","v":7},{"$f":"IF(AND(Worksheet!$D$12,RAND()<0.2),3,IF(RAND()<Worksheet!$D$10/100,1,2))","v":1},{"$f":"IF(I1315=1,F1315,IF(I1315=2,F1315/10,IF(I1315=3,F1315/100*C1315,\"\")))","v":0.70000000000000007},{"$f":"CONCATENATE(\" \",D1315)","v":" cm"},{"$f":"IF(I1315=1,F1315*10,IF(I1315=2,F1315,IF(I1315=3,F1315/100*C1315*10,\"\")))","v":7.0000000000000009},"mm"]
[{"$f":"IF(COUNTIF($B$1:B1316,TRUE)=COUNTIF($B$1:B1315,TRUE),\"\",COUNTIF($B$1:B1316,TRUE))","v":1024},{"$f":"Worksheet!$B$22","v":true},{"$f":"RANDBETWEEN(5,RANDBETWEEN(5,Worksheet!$D$8))","v":44},"m","±",{"$f":"IF(I1316=1,H1316*10^RANDBETWEEN(IF(Worksheet!$D$14,-1,0),0),IF(I1316=2,H1316*10^RANDBETWEEN(RANDBETWEEN(0,1),1),CHOOSE(RANDBETWEEN(1,3),5,10,20)))","v":20},{"$f":"IF(I1316=1,D1316,IF(I1316=3,\"%\",\"cm\"))","v":"cm"},{"$f":"RANDBETWEEN(1,MIN(9,C1316))","v":2},{"$f":"IF(AND(Worksheet!$D$12,RAND()<0.2),3,IF(RAND()<Worksheet!$D$10/100,1,2))","v":2},{"$f":"IF(I1316=1,F1316,IF(I1316=2,F1316/100,IF(I1316=3,F1316/100*C1316,\"\")))","v":0.2},{"$f":"CONCATENATE(\" \",D1316)","v":" m"},{"$f":"IF(I1316=1,F1316*100,IF(I1316=2,F1316,IF(I1316=3,F1316/100*C1316*100,\"\")))","v":20},"cm"]
[{"$f":"IF(COUNTIF($B$1:B1317,TRUE)=COUNTIF($B$1:B1316,TRUE),\"\",COUNTIF($B$1:B1317,TRUE))","v":1025},{"$f":"Worksheet!$B$24","v":true},{"$f":"RANDBETWEEN(5,RANDBETWEEN(5,Worksheet!$D$8))","v":96},"km","±",{"$f":"IF(I1317=1,H1317*10^RANDBETWEEN(IF(Worksheet!$D$14,-1,0),0),IF(I1317=2,H1317*10^RANDBETWEEN(RANDBETWEEN(0,2),2),CHOOSE(RANDBETWEEN(1,3),5,10,20)))","v":9},{"$f":"IF(I1317=1,D1317,IF(I1317=3,\"%\",\"m\"))","v":"km"},9,{"$f":"IF(AND(Worksheet!$D$12,RAND()<0.2),3,IF(RAND()<Worksheet!$D$10/100,1,2))","v":1},{"$f":"IF(I1317=1,F1317,IF(I1317=2,F1317/1000,IF(I1317=3,F1317/100*C1317,\"\")))","v":9}," km",{"$f":"IF(I1317=1,F1317*1000,IF(I1317=2,F1317,IF(I1317=3,F1317/100*C1317*1000,\"\")))","v":9000},"m"]
[{"$f":"IF(COUNTIF($B$1:B1318,TRUE)=COUNTIF($B$1:B1317,TRUE),\"\",COUNTIF($B$1:B1318,TRUE))","v":""},{"$f":"Worksheet!$B$26","v":false},{"$f":"RANDBETWEEN(5,RANDBETWEEN(5,Worksheet!$D$8))","v":24},"m","±",{"$f":"IF(I1318=1,H1318*10^RANDBETWEEN(IF(Worksheet!$D$14,-1,0),0),IF(I1318=2,H1318*10^RANDBETWEEN(RANDBETWEEN(0,2),2),CHOOSE(RANDBETWEEN(1,3),5,10,20)))","v":5},{"$f":"IF(I1318=1,D1318,IF(I1318=3,\"%\",\"mm\"))","v":"%"},3,{"$f":"IF(AND(Worksheet!$D$12,RAND()<0.2),3,IF(RAND()<Worksheet!$D$10/100,1,2))","v":3},1.2000000000000002," m",1200.0000000000002,"mm"]
[{"$f":"IF(COUNTIF($B$1:B1319,TRUE)=COUNTIF($B$1:B1318,TRUE),\"\",COUNTIF($B$1:B1319,TRUE))","v":1026},{"$f":"Worksheet!$D$20","v":true},{"$f":"RANDBETWEEN(5,RANDBETWEEN(5,Worksheet!$D$8))","v":11},"kg","±",{"$f":"IF(I1319=1,H1319*10^RANDBETWEEN(IF(Worksheet!$D$14,-1,0),0),IF(I1319=2,H1319*10^RANDBETWEEN(RANDBETWEEN(0,2),2),CHOOSE(RANDBETWEEN(1,3),5,10,20)))","v":100},{"$f":"IF(I1319=1,D1319,IF(I1319=3,\"%\",\"g\"))","v":"g"},{"$f":"RANDBETWEEN(1,MIN(9,C1319))","v":1},{"$f":"IF(AND(Worksheet!$D$12,RAND()<0.2),3,IF(RAND()<Worksheet!$D$10/100,1,2))","v":2},0.1,{"$f":"CONCATENATE(\" \",D1319)","v":" kg"},100,"g"]
[{"$f":"IF(COUNTIF($B$1:B1320,TRUE)=COUNTIF($B$1:B1319,TRUE),\"\",COUNTIF($B$1:B1320,TRUE))","v":1027},{"$f":"Worksheet!$D$22","v":true},{"$f":"RANDBETWEEN(5,RANDBETWEEN(5,Worksheet!$D$8))","v":119},"tonnes","±",{"$f":"IF(I1320=1,H1320*10^RANDBETWEEN(IF(Worksheet!$D$14,-1,0),0),IF(I1320=2,H1320*10^RANDBETWEEN(RANDBETWEEN(0,2),2),CHOOSE(RANDBETWEEN(1,3),5,10,20)))","v":0.5},{"$f":"IF(I1320=1,D1320,IF(I1320=3,\"%\",\"kg\"))","v":"tonnes"},{"$f":"RANDBETWEEN(1,MIN(9,C1320))","v":5},{"$f":"IF(AND(Worksheet!$D$12,RAND()<0.2),3,IF(RAND()<Worksheet!$D$10/100,1,2))","v":1},0.5,{"$f":"CONCATENATE(\" \",D1320)","v":" tonnes"},500,"kg"]
[{"$f":"IF(COUNTIF($B$1:B1321,TRUE)=COUNTIF($B$1:B1320,TRUE),\"\",COUNTIF($B$1:B1321,TRUE))","v":1028},{"$f":"Worksheet!$D$24","v":true},{"$f":"RANDBETWEEN(5,RANDBETWEEN(5,Worksheet!$D$8))","v":8},"litres","±",{"$f":"IF(I1321=1,H1321*10^RANDBETWEEN(IF(Worksheet!$D$14,-1,0),0),IF(I1321=2,H1321*10^RANDBETWEEN(RANDBETWEEN(0,2),2),CHOOSE(RANDBETWEEN(1,3),5,10,20)))","v":20},{"$f":"IF(I1321=1,D1321,IF(I1321=3,\"%\",\"ml\"))","v":"%"},{"$f":"RANDBETWEEN(1,MIN(9,C1321))","v":6},{"$f":"IF(AND(Worksheet!$D$12,RAND()<0.2),3,IF(RAND()<Worksheet!$D$10/100,1,2))","v":3},1.6,{"$f":"CONCATENATE(\" \",D1321)","v":" litres"},1600,"ml"]
[{"$f":"IF(COUNTIF($B$1:B1322,TRUE)=COUNTIF($B$1:B1321,TRUE),\"\",COUNTIF($B$1:B1322,TRUE))","v":""},{"$f":"Worksheet!$D$26","v":false},{"$f":"RANDBETWEEN(5,RANDBETWEEN(5,Worksheet!$D$8))","v":100},"litres","±",{"$f":"IF(I1322=1,H1322*10^RANDBETWEEN(IF(Worksheet!$D$14,-1,0),0),IF(I1322=2,H1322*10^RANDBETWEEN(RANDBETWEEN(0,2),2),CHOOSE(RANDBETWEEN(1,3),5,10,20)))","v":0.1},{"$f":"IF(I1322=1,D1322,IF(I1322=3,\"%\",\"cm³\"))","v":"litres"},{"$f":"RANDBETWEEN(1,MIN(9,C1322))","v":1},{"$f":"IF(AND(Worksheet!$D$12,RAND()<0.2),3,IF(RAND()<Worksheet!$D$10/100,1,2))","v":1},0.1,{"$f":"CONCATENATE(\" \",D1322)","v":" litres"},100,"cm³"]
[{"$f":"IF(COUNTIF($B$1:B1323,TRUE)=COUNTIF($B$1:B1323,TRUE),\"\",COUNTIF($B$1:B1323,TRUE))","v":""},{"$f":"Worksheet!$B$28","v":true},{"$f":"RANDBETWEEN(5,20)","v":16},"°C","±",{"$f":"IF(I1323=1,H1323*10^RANDBETWEEN(IF(Worksheet!$D$14,-1,0),0),IF(I1323=2,H1323,CHOOSE(RANDBETWEEN(1,3),5,10,20)))","v":6},{"$f":"IF(I1323=1,D1323,IF(I1323=3,\"%\",\"sec\"))","v":"sec"},{"$f":"RANDBETWEEN(1,MIN(9,C1323))","v":6},{"$f":"IF(AND(Worksheet!$D$12,RAND()<0),3,IF(RAND()<Worksheet!$D$10/100,1,2))","v":2},{"$f":"IF(I1323=1,F1323,IF(I1323=2,F1323,IF(I1323=3,F1323/100*C1323,\"\")))","v":6},{"$f":"CONCATENATE(\" \",D1323)","v":" °C"},{"$f":"IF(I1323=1,F1323,IF(I1323=2,F1323,IF(I1323=3,F1323/100*C1323,\"\")))","v":6}," °C"]
[{"$f":"COUNTIF($B$1:B1324,TRUE)","v":1030},{"$f":"Worksheet!$B$20","v":true},{"$f":"RANDBETWEEN(5,RANDBETWEEN(5,Worksheet!$D$8))","v":61},"cm","±",{"$f":"IF(I1324=1,H1324*10^RANDBETWEEN(IF(Worksheet!$D$14,-1,0),0),IF(I1324=2,H1324,CHOOSE(RANDBETWEEN(1,3),5,10,20)))","v":0.4},{"$f":"IF(I1324=1,D1324,IF(I1324=3,\"%\",\"mm\"))","v":"cm"},{"$f":"RANDBETWEEN(1,MIN(9,C1324))","v":4},{"$f":"IF(AND(Worksheet!$D$12,RAND()<0.2),3,IF(RAND()<Worksheet!$D$10/100,1,2))","v":1},{"$f":"IF(I1324=1,F1324,IF(I1324=2,F1324/10,IF(I1324=3,F1324/100*C1324,\"\")))","v":0.4},{"$f":"CONCATENATE(\" \",D1324)","v":" cm"},{"$f":"IF(I1324=1,F1324*10,IF(I1324=2,F1324,IF(I1324=3,F1324/100*C1324*10,\"\")))","v":4},"mm"]
[{"$f":"IF(COUNTIF($B$1:B1325,TRUE)=COUNTIF($B$1:B1324,TRUE),\"\",COUNTIF($B$1:B1325,TRUE))","v":1031},{"$f":"Worksheet!$B$22","v":true},{"$f":"RANDBETWEEN(5,RANDBETWEEN(5,Worksheet!$D$8))","v":39},"m","±",{"$f":"IF(I1325=1,H1325*10^RANDBETWEEN(IF(Worksheet!$D$14,-1,0),0),IF(I1325=2,H1325*10^RANDBETWEEN(RANDBETWEEN(0,1),1),CHOOSE(RANDBETWEEN(1,3),5,10,20)))","v":8},{"$f":"IF(I1325=1,D1325,IF(I1325=3,\"%\",\"cm\"))","v":"m"},{"$f":"RANDBETWEEN(1,MIN(9,C1325))","v":8},{"$f":"IF(AND(Worksheet!$D$12,RAND()<0.2),3,IF(RAND()<Worksheet!$D$10/100,1,2))","v":1},{"$f":"IF(I1325=1,F1325,IF(I1325=2,F1325/100,IF(I1325=3,F1325/100*C1325,\"\")))","v":8},{"$f":"CONCATENATE(\" \",D1325)","v":" m"},{"$f":"IF(I1325=1,F1325*100,IF(I1325=2,F1325,IF(I1325=3,F1325/100*C1325*100,\"\")))","v":800},"cm"]
[{"$f":"IF(COUNTIF($B$1:B1326,TRUE)=COUNTIF($B$1:B1325,TRUE),\"\",COUNTIF($B$1:B1326,TRUE))","v":1032},{"$f":"Worksheet!$B$24","v":true},{"$f":"RANDBETWEEN(5,RANDBETWEEN(5,Worksheet!$D$8))","v":31},"km","±",{"$f":"IF(I1326=1,H1326*10^RANDBETWEEN(IF(Worksheet!$D$14,-1,0),0),IF(I1326=2,H1326*10^RANDBETWEEN(RANDBETWEEN(0,2),2),CHOOSE(RANDBETWEEN(1,3),5,10,20)))","v":90},{"$f":"IF(I1326=1,D1326,IF(I1326=3,\"%\",\"m\"))","v":"m"},9,{"$f":"IF(AND(Worksheet!$D$12,RAND()<0.2),3,IF(RAND()<Worksheet!$D$10/100,1,2))","v":2},{"$f":"IF(I1326=1,F1326,IF(I1326=2,F1326/1000,IF(I1326=3,F1326/100*C1326,\"\")))","v":0.09}," km",{"$f":"IF(I1326=1,F1326*1000,IF(I1326=2,F1326,IF(I1326=3,F1326/100*C1326*1000,\"\")))","v":90},"m"]
[{"$f":"IF(COUNTIF($B$1:B1327,TRUE)=COUNTIF($B$1:B1326,TRUE),\"\",COUNTIF($B$1:B1327,TRUE))","v":""},{"$f":"Worksheet!$B$26","v":false},{"$f":"RANDBETWEEN(5,RANDBETWEEN(5,Worksheet!$D$8))","v":47},"m","±",{"$f":"IF(I1327=1,H1327*10^RANDBETWEEN(IF(Worksheet!$D$14,-1,0),0),IF(I1327=2,H1327*10^RANDBETWEEN(RANDBETWEEN(0,2),2),CHOOSE(RANDBETWEEN(1,3),5,10,20)))","v":10},{"$f":"IF(I1327=1,D1327,IF(I1327=3,\"%\",\"mm\"))","v":"%"},4,{"$f":"IF(AND(Worksheet!$D$12,RAND()<0.2),3,IF(RAND()<Worksheet!$D$10/100,1,2))","v":3},4.7," m",4700,"mm"]
[{"$f":"IF(COUNTIF($B$1:B1328,TRUE)=COUNTIF($B$1:B1327,TRUE),\"\",COUNTIF($B$1:B1328,TRUE))","v":1033},{"$f":"Worksheet!$D$20","v":true},{"$f":"RANDBETWEEN(5,RANDBETWEEN(5,Worksheet!$D$8))","v":113},"kg","±",{"$f":"IF(I1328=1,H1328*10^RANDBETWEEN(IF(Worksheet!$D$14,-1,0),0),IF(I1328=2,H1328*10^RANDBETWEEN(RANDBETWEEN(0,2),2),CHOOSE(RANDBETWEEN(1,3),5,10,20)))","v":0.2},{"$f":"IF(I1328=1,D1328,IF(I1328=3,\"%\",\"g\"))","v":"kg"},{"$f":"RANDBETWEEN(1,MIN(9,C1328))","v":2},{"$f":"IF(AND(Worksheet!$D$12,RAND()<0.2),3,IF(RAND()<Worksheet!$D$10/100,1,2))","v":1},0.2,{"$f":"CONCATENATE(\" \",D1328)","v":" kg"},200,"g"]
[{"$f":"IF(COUNTIF($B$1:B1329,TRUE)=COUNTIF($B$1:B1328,TRUE),\"\",COUNTIF($B$1:B1329,TRUE))","v":1034},{"$f":"Worksheet!$D$22","v":true},{"$f":"RANDBETWEEN(5,RANDBETWEEN(5,Worksheet!$D$8))","v":63},"tonnes","±",{"$f":"IF(I1329=1,H1329*10^RANDBETWEEN(IF(Worksheet!$D$14,-1,0),0),IF(I1329=2,H1329*10^RANDBETWEEN(RANDBETWEEN(0,2),2),CHOOSE(RANDBETWEEN(1,3),5,10,20)))","v":70},{"$f":"IF(I1329=1,D1329,IF(I1329=3,\"%\",\"kg\"))","v":"kg"},{"$f":"RANDBETWEEN(1,MIN(9,C1329))","v":7},{"$f":"IF(AND(Worksheet!$D$12,RAND()<0.2),3,IF(RAND()<Worksheet!$D$10/100,1,2))","v":2},7.0000000000000007E-2,{"$f":"CONCATENATE(\" \",D1329)","v":" tonnes"},70,"kg"]
[{"$f":"IF(COUNTIF($B$1:B1330,TRUE)=COUNTIF($B$1:B1329,TRUE),\"\",COUNTIF($B$1:B1330,TRUE))","v":1035},{"$f":"Worksheet!$D$24","v":true},{"$f":"RANDBETWEEN(5,RANDBETWEEN(5,Worksheet!$D$8))","v":36},"litres","±",{"$f":"IF(I1330=1,H1330*10^RANDBETWEEN(IF(Worksheet!$D$14,-1,0),0),IF(I1330=2,H1330*10^RANDBETWEEN(RANDBETWEEN(0,2),2),CHOOSE(RANDBETWEEN(1,3),5,10,20)))","v":50},{"$f":"IF(I1330=1,D1330,IF(I1330=3,\"%\",\"ml\"))","v":"ml"},{"$f":"RANDBETWEEN(1,MIN(9,C1330))","v":5},{"$f":"IF(AND(Worksheet!$D$12,RAND()<0.2),3,IF(RAND()<Worksheet!$D$10/100,1,2))","v":2},0.05,{"$f":"CONCATENATE(\" \",D1330)","v":" litres"},50,"ml"]
[{"$f":"IF(COUNTIF($B$1:B1331,TRUE)=COUNTIF($B$1:B1330,TRUE),\"\",COUNTIF($B$1:B1331,TRUE))","v":""},{"$f":"Worksheet!$D$26","v":false},{"$f":"RANDBETWEEN(5,RANDBETWEEN(5,Worksheet!$D$8))","v":37},"litres","±",{"$f":"IF(I1331=1,H1331*10^RANDBETWEEN(IF(Worksheet!$D$14,-1,0),0),IF(I1331=2,H1331*10^RANDBETWEEN(RANDBETWEEN(0,2),2),CHOOSE(RANDBETWEEN(1,3),5,10,20)))","v":50},{"$f":"IF(I1331=1,D1331,IF(I1331=3,\"%\",\"cm³\"))","v":"cm³"},{"$f":"RANDBETWEEN(1,MIN(9,C1331))","v":5},{"$f":"IF(AND(Worksheet!$D$12,RAND()<0.2),3,IF(RAND()<Worksheet!$D$10/100,1,2))","v":2},0.05,{"$f":"CONCATENATE(\" \",D1331)","v":" litres"},50,"cm³"]
[{"$f":"IF(COUNTIF($B$1:B1332,TRUE)=COUNTIF($B$1:B1332,TRUE),\"\",COUNTIF($B$1:B1332,TRUE))","v":""},{"$f":"Worksheet!$B$28","v":true},{"$f":"RANDBETWEEN(5,20)","v":15},"°C","±",{"$f":"IF(I1332=1,H1332*10^RANDBETWEEN(IF(Worksheet!$D$14,-1,0),0),IF(I1332=2,H1332,CHOOSE(RANDBETWEEN(1,3),5,10,20)))","v":4},{"$f":"IF(I1332=1,D1332,IF(I1332=3,\"%\",\"sec\"))","v":"°C"},{"$f":"RANDBETWEEN(1,MIN(9,C1332))","v":4},{"$f":"IF(AND(Worksheet!$D$12,RAND()<0),3,IF(RAND()<Worksheet!$D$10/100,1,2))","v":1},{"$f":"IF(I1332=1,F1332,IF(I1332=2,F1332,IF(I1332=3,F1332/100*C1332,\"\")))","v":4},{"$f":"CONCATENATE(\" \",D1332)","v":" °C"},{"$f":"IF(I1332=1,F1332,IF(I1332=2,F1332,IF(I1332=3,F1332/100*C1332,\"\")))","v":4}," °C"]
[{"$f":"COUNTIF($B$1:B1333,TRUE)","v":1037},{"$f":"Worksheet!$B$20","v":true},{"$f":"RANDBETWEEN(5,RANDBETWEEN(5,Worksheet!$D$8))","v":66},"cm","±",{"$f":"IF(I1333=1,H1333*10^RANDBETWEEN(IF(Worksheet!$D$14,-1,0),0),IF(I1333=2,H1333,CHOOSE(RANDBETWEEN(1,3),5,10,20)))","v":6},{"$f":"IF(I1333=1,D1333,IF(I1333=3,\"%\",\"mm\"))","v":"cm"},{"$f":"RANDBETWEEN(1,MIN(9,C1333))","v":6},{"$f":"IF(AND(Worksheet!$D$12,RAND()<0.2),3,IF(RAND()<Worksheet!$D$10/100,1,2))","v":1},{"$f":"IF(I1333=1,F1333,IF(I1333=2,F1333/10,IF(I1333=3,F1333/100*C1333,\"\")))","v":6},{"$f":"CONCATENATE(\" \",D1333)","v":" cm"},{"$f":"IF(I1333=1,F1333*10,IF(I1333=2,F1333,IF(I1333=3,F1333/100*C1333*10,\"\")))","v":60},"mm"]
[{"$f":"IF(COUNTIF($B$1:B1334,TRUE)=COUNTIF($B$1:B1333,TRUE),\"\",COUNTIF($B$1:B1334,TRUE))","v":1038},{"$f":"Worksheet!$B$22","v":true},{"$f":"RANDBETWEEN(5,RANDBETWEEN(5,Worksheet!$D$8))","v":77},"m","±",{"$f":"IF(I1334=1,H1334*10^RANDBETWEEN(IF(Worksheet!$D$14,-1,0),0),IF(I1334=2,H1334*10^RANDBETWEEN(RANDBETWEEN(0,1),1),CHOOSE(RANDBETWEEN(1,3),5,10,20)))","v":0.4},{"$f":"IF(I1334=1,D1334,IF(I1334=3,\"%\",\"cm\"))","v":"m"},{"$f":"RANDBETWEEN(1,MIN(9,C1334))","v":4},{"$f":"IF(AND(Worksheet!$D$12,RAND()<0.2),3,IF(RAND()<Worksheet!$D$10/100,1,2))","v":1},{"$f":"IF(I1334=1,F1334,IF(I1334=2,F1334/100,IF(I1334=3,F1334/100*C1334,\"\")))","v":0.4},{"$f":"CONCATENATE(\" \",D1334)","v":" m"},{"$f":"IF(I1334=1,F1334*100,IF(I1334=2,F1334,IF(I1334=3,F1334/100*C1334*100,\"\")))","v":40},"cm"]
[{"$f":"IF(COUNTIF($B$1:B1335,TRUE)=COUNTIF($B$1:B1334,TRUE),\"\",COUNTIF($B$1:B1335,TRUE))","v":1039},{"$f":"Worksheet!$B$24","v":true},{"$f":"RANDBETWEEN(5,RANDBETWEEN(5,Worksheet!$D$8))","v":102},"km","±",{"$f":"IF(I1335=1,H1335*10^RANDBETWEEN(IF(Worksheet!$D$14,-1,0),0),IF(I1335=2,H1335*10^RANDBETWEEN(RANDBETWEEN(0,2),2),CHOOSE(RANDBETWEEN(1,3),5,10,20)))","v":4},{"$f":"IF(I1335=1,D1335,IF(I1335=3,\"%\",\"m\"))","v":"km"},4,{"$f":"IF(AND(Worksheet!$D$12,RAND()<0.2),3,IF(RAND()<Worksheet!$D$10/100,1,2))","v":1},{"$f":"IF(I1335=1,F1335,IF(I1335=2,F1335/1000,IF(I1335=3,F1335/100*C1335,\"\")))","v":4}," km",{"$f":"IF(I1335=1,F1335*1000,IF(I1335=2,F1335,IF(I1335=3,F1335/100*C1335*1000,\"\")))","v":4000},"m"]
[{"$f":"IF(COUNTIF($B$1:B1336,TRUE)=COUNTIF($B$1:B1335,TRUE),\"\",COUNTIF($B$1:B1336,TRUE))","v":""},{"$f":"Worksheet!$B$26","v":false},{"$f":"RANDBETWEEN(5,RANDBETWEEN(5,Worksheet!$D$8))","v":72},"m","±",{"$f":"IF(I1336=1,H1336*10^RANDBETWEEN(IF(Worksheet!$D$14,-1,0),0),IF(I1336=2,H1336*10^RANDBETWEEN(RANDBETWEEN(0,2),2),CHOOSE(RANDBETWEEN(1,3),5,10,20)))","v":60},{"$f":"IF(I1336=1,D1336,IF(I1336=3,\"%\",\"mm\"))","v":"mm"},6,{"$f":"IF(AND(Worksheet!$D$12,RAND()<0.2),3,IF(RAND()<Worksheet!$D$10/100,1,2))","v":2},0.06," m",60,"mm"]
[{"$f":"IF(COUNTIF($B$1:B1337,TRUE)=COUNTIF($B$1:B1336,TRUE),\"\",COUNTIF($B$1:B1337,TRUE))","v":1040},{"$f":"Worksheet!$D$20","v":true},{"$f":"RANDBETWEEN(5,RANDBETWEEN(5,Worksheet!$D$8))","v":6},"kg","±",{"$f":"IF(I1337=1,H1337*10^RANDBETWEEN(IF(Worksheet!$D$14,-1,0),0),IF(I1337=2,H1337*10^RANDBETWEEN(RANDBETWEEN(0,2),2),CHOOSE(RANDBETWEEN(1,3),5,10,20)))","v":5},{"$f":"IF(I1337=1,D1337,IF(I1337=3,\"%\",\"g\"))","v":"kg"},{"$f":"RANDBETWEEN(1,MIN(9,C1337))","v":5},{"$f":"IF(AND(Worksheet!$D$12,RAND()<0.2),3,IF(RAND()<Worksheet!$D$10/100,1,2))","v":1},5,{"$f":"CONCATENATE(\" \",D1337)","v":" kg"},5000,"g"]
[{"$f":"IF(COUNTIF($B$1:B1338,TRUE)=COUNTIF($B$1:B1337,TRUE),\"\",COUNTIF($B$1:B1338,TRUE))","v":1041},{"$f":"Worksheet!$D$22","v":true},{"$f":"RANDBETWEEN(5,RANDBETWEEN(5,Worksheet!$D$8))","v":69},"tonnes","±",{"$f":"IF(I1338=1,H1338*10^RANDBETWEEN(IF(Worksheet!$D$14,-1,0),0),IF(I1338=2,H1338*10^RANDBETWEEN(RANDBETWEEN(0,2),2),CHOOSE(RANDBETWEEN(1,3),5,10,20)))","v":70},{"$f":"IF(I1338=1,D1338,IF(I1338=3,\"%\",\"kg\"))","v":"kg"},{"$f":"RANDBETWEEN(1,MIN(9,C1338))","v":7},{"$f":"IF(AND(Worksheet!$D$12,RAND()<0.2),3,IF(RAND()<Worksheet!$D$10/100,1,2))","v":2},7.0000000000000007E-2,{"$f":"CONCATENATE(\" \",D1338)","v":" tonnes"},70,"kg"]
[{"$f":"IF(COUNTIF($B$1:B1339,TRUE)=COUNTIF($B$1:B1338,TRUE),\"\",COUNTIF($B$1:B1339,TRUE))","v":1042},{"$f":"Worksheet!$D$24","v":true},{"$f":"RANDBETWEEN(5,RANDBETWEEN(5,Worksheet!$D$8))","v":25},"litres","±",{"$f":"IF(I1339=1,H1339*10^RANDBETWEEN(IF(Worksheet!$D$14,-1,0),0),IF(I1339=2,H1339*10^RANDBETWEEN(RANDBETWEEN(0,2),2),CHOOSE(RANDBETWEEN(1,3),5,10,20)))","v":5},{"$f":"IF(I1339=1,D1339,IF(I1339=3,\"%\",\"ml\"))","v":"%"},{"$f":"RANDBETWEEN(1,MIN(9,C1339))","v":5},{"$f":"IF(AND(Worksheet!$D$12,RAND()<0.2),3,IF(RAND()<Worksheet!$D$10/100,1,2))","v":3},1.25,{"$f":"CONCATENATE(\" \",D1339)","v":" litres"},1250,"ml"]
[{"$f":"IF(COUNTIF($B$1:B1340,TRUE)=COUNTIF($B$1:B1339,TRUE),\"\",COUNTIF($B$1:B1340,TRUE))","v":""},{"$f":"Worksheet!$D$26","v":false},{"$f":"RANDBETWEEN(5,RANDBETWEEN(5,Worksheet!$D$8))","v":76},"litres","±",{"$f":"IF(I1340=1,H1340*10^RANDBETWEEN(IF(Worksheet!$D$14,-1,0),0),IF(I1340=2,H1340*10^RANDBETWEEN(RANDBETWEEN(0,2),2),CHOOSE(RANDBETWEEN(1,3),5,10,20)))","v":20},{"$f":"IF(I1340=1,D1340,IF(I1340=3,\"%\",\"cm³\"))","v":"%"},{"$f":"RANDBETWEEN(1,MIN(9,C1340))","v":9},{"$f":"IF(AND(Worksheet!$D$12,RAND()<0.2),3,IF(RAND()<Worksheet!$D$10/100,1,2))","v":3},15.200000000000001,{"$f":"CONCATENATE(\" \",D1340)","v":" litres"},15200.000000000002,"cm³"]
[{"$f":"IF(COUNTIF($B$1:B1341,TRUE)=COUNTIF($B$1:B1341,TRUE),\"\",COUNTIF($B$1:B1341,TRUE))","v":""},{"$f":"Worksheet!$B$28","v":true},{"$f":"RANDBETWEEN(5,20)","v":5},"°C","±",{"$f":"IF(I1341=1,H1341*10^RANDBETWEEN(IF(Worksheet!$D$14,-1,0),0),IF(I1341=2,H1341,CHOOSE(RANDBETWEEN(1,3),5,10,20)))","v":2},{"$f":"IF(I1341=1,D1341,IF(I1341=3,\"%\",\"sec\"))","v":"sec"},{"$f":"RANDBETWEEN(1,MIN(9,C1341))","v":2},{"$f":"IF(AND(Worksheet!$D$12,RAND()<0),3,IF(RAND()<Worksheet!$D$10/100,1,2))","v":2},{"$f":"IF(I1341=1,F1341,IF(I1341=2,F1341,IF(I1341=3,F1341/100*C1341,\"\")))","v":2},{"$f":"CONCATENATE(\" \",D1341)","v":" °C"},{"$f":"IF(I1341=1,F1341,IF(I1341=2,F1341,IF(I1341=3,F1341/100*C1341,\"\")))","v":2}," °C"]
[{"$f":"COUNTIF($B$1:B1342,TRUE)","v":1044},{"$f":"Worksheet!$B$20","v":true},{"$f":"RANDBETWEEN(5,RANDBETWEEN(5,Worksheet!$D$8))","v":32},"cm","±",{"$f":"IF(I1342=1,H1342*10^RANDBETWEEN(IF(Worksheet!$D$14,-1,0),0),IF(I1342=2,H1342,CHOOSE(RANDBETWEEN(1,3),5,10,20)))","v":0.9},{"$f":"IF(I1342=1,D1342,IF(I1342=3,\"%\",\"mm\"))","v":"cm"},{"$f":"RANDBETWEEN(1,MIN(9,C1342))","v":9},{"$f":"IF(AND(Worksheet!$D$12,RAND()<0.2),3,IF(RAND()<Worksheet!$D$10/100,1,2))","v":1},{"$f":"IF(I1342=1,F1342,IF(I1342=2,F1342/10,IF(I1342=3,F1342/100*C1342,\"\")))","v":0.9},{"$f":"CONCATENATE(\" \",D1342)","v":" cm"},{"$f":"IF(I1342=1,F1342*10,IF(I1342=2,F1342,IF(I1342=3,F1342/100*C1342*10,\"\")))","v":9},"mm"]
[{"$f":"IF(COUNTIF($B$1:B1343,TRUE)=COUNTIF($B$1:B1342,TRUE),\"\",COUNTIF($B$1:B1343,TRUE))","v":1045},{"$f":"Worksheet!$B$22","v":true},{"$f":"RANDBETWEEN(5,RANDBETWEEN(5,Worksheet!$D$8))","v":132},"m","±",{"$f":"IF(I1343=1,H1343*10^RANDBETWEEN(IF(Worksheet!$D$14,-1,0),0),IF(I1343=2,H1343*10^RANDBETWEEN(RANDBETWEEN(0,1),1),CHOOSE(RANDBETWEEN(1,3),5,10,20)))","v":10},{"$f":"IF(I1343=1,D1343,IF(I1343=3,\"%\",\"cm\"))","v":"%"},{"$f":"RANDBETWEEN(1,MIN(9,C1343))","v":8},{"$f":"IF(AND(Worksheet!$D$12,RAND()<0.2),3,IF(RAND()<Worksheet!$D$10/100,1,2))","v":3},{"$f":"IF(I1343=1,F1343,IF(I1343=2,F1343/100,IF(I1343=3,F1343/100*C1343,\"\")))","v":13.200000000000001},{"$f":"CONCATENATE(\" \",D1343)","v":" m"},{"$f":"IF(I1343=1,F1343*100,IF(I1343=2,F1343,IF(I1343=3,F1343/100*C1343*100,\"\")))","v":1320},"cm"]
[{"$f":"IF(COUNTIF($B$1:B1344,TRUE)=COUNTIF($B$1:B1343,TRUE),\"\",COUNTIF($B$1:B1344,TRUE))","v":1046},{"$f":"Worksheet!$B$24","v":true},{"$f":"RANDBETWEEN(5,RANDBETWEEN(5,Worksheet!$D$8))","v":49},"km","±",{"$f":"IF(I1344=1,H1344*10^RANDBETWEEN(IF(Worksheet!$D$14,-1,0),0),IF(I1344=2,H1344*10^RANDBETWEEN(RANDBETWEEN(0,2),2),CHOOSE(RANDBETWEEN(1,3),5,10,20)))","v":700},{"$f":"IF(I1344=1,D1344,IF(I1344=3,\"%\",\"m\"))","v":"m"},7,{"$f":"IF(AND(Worksheet!$D$12,RAND()<0.2),3,IF(RAND()<Worksheet!$D$10/100,1,2))","v":2},{"$f":"IF(I1344=1,F1344,IF(I1344=2,F1344/1000,IF(I1344=3,F1344/100*C1344,\"\")))","v":0.7}," km",{"$f":"IF(I1344=1,F1344*1000,IF(I1344=2,F1344,IF(I1344=3,F1344/100*C1344*1000,\"\")))","v":700},"m"]
[{"$f":"IF(COUNTIF($B$1:B1345,TRUE)=COUNTIF($B$1:B1344,TRUE),\"\",COUNTIF($B$1:B1345,TRUE))","v":""},{"$f":"Worksheet!$B$26","v":false},{"$f":"RANDBETWEEN(5,RANDBETWEEN(5,Worksheet!$D$8))","v":29},"m","±",{"$f":"IF(I1345=1,H1345*10^RANDBETWEEN(IF(Worksheet!$D$14,-1,0),0),IF(I1345=2,H1345*10^RANDBETWEEN(RANDBETWEEN(0,2),2),CHOOSE(RANDBETWEEN(1,3),5,10,20)))","v":300},{"$f":"IF(I1345=1,D1345,IF(I1345=3,\"%\",\"mm\"))","v":"mm"},3,{"$f":"IF(AND(Worksheet!$D$12,RAND()<0.2),3,IF(RAND()<Worksheet!$D$10/100,1,2))","v":2},0.3," m",300,"mm"]
[{"$f":"IF(COUNTIF($B$1:B1346,TRUE)=COUNTIF($B$1:B1345,TRUE),\"\",COUNTIF($B$1:B1346,TRUE))","v":1047},{"$f":"Worksheet!$D$20","v":true},{"$f":"RANDBETWEEN(5,RANDBETWEEN(5,Worksheet!$D$8))","v":12},"kg","±",{"$f":"IF(I1346=1,H1346*10^RANDBETWEEN(IF(Worksheet!$D$14,-1,0),0),IF(I1346=2,H1346*10^RANDBETWEEN(RANDBETWEEN(0,2),2),CHOOSE(RANDBETWEEN(1,3),5,10,20)))","v":200},{"$f":"IF(I1346=1,D1346,IF(I1346=3,\"%\",\"g\"))","v":"g"},{"$f":"RANDBETWEEN(1,MIN(9,C1346))","v":2},{"$f":"IF(AND(Worksheet!$D$12,RAND()<0.2),3,IF(RAND()<Worksheet!$D$10/100,1,2))","v":2},0.2,{"$f":"CONCATENATE(\" \",D1346)","v":" kg"},200,"g"]
[{"$f":"IF(COUNTIF($B$1:B1347,TRUE)=COUNTIF($B$1:B1346,TRUE),\"\",COUNTIF($B$1:B1347,TRUE))","v":1048},{"$f":"Worksheet!$D$22","v":true},{"$f":"RANDBETWEEN(5,RANDBETWEEN(5,Worksheet!$D$8))","v":96},"tonnes","±",{"$f":"IF(I1347=1,H1347*10^RANDBETWEEN(IF(Worksheet!$D$14,-1,0),0),IF(I1347=2,H1347*10^RANDBETWEEN(RANDBETWEEN(0,2),2),CHOOSE(RANDBETWEEN(1,3),5,10,20)))","v":1},{"$f":"IF(I1347=1,D1347,IF(I1347=3,\"%\",\"kg\"))","v":"tonnes"},{"$f":"RANDBETWEEN(1,MIN(9,C1347))","v":1},{"$f":"IF(AND(Worksheet!$D$12,RAND()<0.2),3,IF(RAND()<Worksheet!$D$10/100,1,2))","v":1},1,{"$f":"CONCATENATE(\" \",D1347)","v":" tonnes"},1000,"kg"]
[{"$f":"IF(COUNTIF($B$1:B1348,TRUE)=COUNTIF($B$1:B1347,TRUE),\"\",COUNTIF($B$1:B1348,TRUE))","v":1049},{"$f":"Worksheet!$D$24","v":true},{"$f":"RANDBETWEEN(5,RANDBETWEEN(5,Worksheet!$D$8))","v":117},"litres","±",{"$f":"IF(I1348=1,H1348*10^RANDBETWEEN(IF(Worksheet!$D$14,-1,0),0),IF(I1348=2,H1348*10^RANDBETWEEN(RANDBETWEEN(0,2),2),CHOOSE(RANDBETWEEN(1,3),5,10,20)))","v":2},{"$f":"IF(I1348=1,D1348,IF(I1348=3,\"%\",\"ml\"))","v":"litres"},{"$f":"RANDBETWEEN(1,MIN(9,C1348))","v":2},{"$f":"IF(AND(Worksheet!$D$12,RAND()<0.2),3,IF(RAND()<Worksheet!$D$10/100,1,2))","v":1},2,{"$f":"CONCATENATE(\" \",D1348)","v":" litres"},2000,"ml"]
[{"$f":"IF(COUNTIF($B$1:B1349,TRUE)=COUNTIF($B$1:B1348,TRUE),\"\",COUNTIF($B$1:B1349,TRUE))","v":""},{"$f":"Worksheet!$D$26","v":false},{"$f":"RANDBETWEEN(5,RANDBETWEEN(5,Worksheet!$D$8))","v":63},"litres","±",{"$f":"IF(I1349=1,H1349*10^RANDBETWEEN(IF(Worksheet!$D$14,-1,0),0),IF(I1349=2,H1349*10^RANDBETWEEN(RANDBETWEEN(0,2),2),CHOOSE(RANDBETWEEN(1,3),5,10,20)))","v":1},{"$f":"IF(I1349=1,D1349,IF(I1349=3,\"%\",\"cm³\"))","v":"litres"},{"$f":"RANDBETWEEN(1,MIN(9,C1349))","v":1},{"$f":"IF(AND(Worksheet!$D$12,RAND()<0.2),3,IF(RAND()<Worksheet!$D$10/100,1,2))","v":1},1,{"$f":"CONCATENATE(\" \",D1349)","v":" litres"},1000,"cm³"]
[{"$f":"IF(COUNTIF($B$1:B1350,TRUE)=COUNTIF($B$1:B1350,TRUE),\"\",COUNTIF($B$1:B1350,TRUE))","v":""},{"$f":"Worksheet!$B$28","v":true},{"$f":"RANDBETWEEN(5,20)","v":14},"°C","±",{"$f":"IF(I1350=1,H1350*10^RANDBETWEEN(IF(Worksheet!$D$14,-1,0),0),IF(I1350=2,H1350,CHOOSE(RANDBETWEEN(1,3),5,10,20)))","v":0.30000000000000004},{"$f":"IF(I1350=1,D1350,IF(I1350=3,\"%\",\"sec\"))","v":"°C"},{"$f":"RANDBETWEEN(1,MIN(9,C1350))","v":3},{"$f":"IF(AND(Worksheet!$D$12,RAND()<0),3,IF(RAND()<Worksheet!$D$10/100,1,2))","v":1},{"$f":"IF(I1350=1,F1350,IF(I1350=2,F1350,IF(I1350=3,F1350/100*C1350,\"\")))","v":0.30000000000000004},{"$f":"CONCATENATE(\" \",D1350)","v":" °C"},{"$f":"IF(I1350=1,F1350,IF(I1350=2,F1350,IF(I1350=3,F1350/100*C1350,\"\")))","v":0.30000000000000004}," °C"]
[{"$f":"COUNTIF($B$1:B1351,TRUE)","v":1051},{"$f":"Worksheet!$B$20","v":true},{"$f":"RANDBETWEEN(5,RANDBETWEEN(5,Worksheet!$D$8))","v":5},"cm","±",{"$f":"IF(I1351=1,H1351*10^RANDBETWEEN(IF(Worksheet!$D$14,-1,0),0),IF(I1351=2,H1351,CHOOSE(RANDBETWEEN(1,3),5,10,20)))","v":1},{"$f":"IF(I1351=1,D1351,IF(I1351=3,\"%\",\"mm\"))","v":"cm"},{"$f":"RANDBETWEEN(1,MIN(9,C1351))","v":1},{"$f":"IF(AND(Worksheet!$D$12,RAND()<0.2),3,IF(RAND()<Worksheet!$D$10/100,1,2))","v":1},{"$f":"IF(I1351=1,F1351,IF(I1351=2,F1351/10,IF(I1351=3,F1351/100*C1351,\"\")))","v":1},{"$f":"CONCATENATE(\" \",D1351)","v":" cm"},{"$f":"IF(I1351=1,F1351*10,IF(I1351=2,F1351,IF(I1351=3,F1351/100*C1351*10,\"\")))","v":10},"mm"]
[{"$f":"IF(COUNTIF($B$1:B1352,TRUE)=COUNTIF($B$1:B1351,TRUE),\"\",COUNTIF($B$1:B1352,TRUE))","v":1052},{"$f":"Worksheet!$B$22","v":true},{"$f":"RANDBETWEEN(5,RANDBETWEEN(5,Worksheet!$D$8))","v":18},"m","±",{"$f":"IF(I1352=1,H1352*10^RANDBETWEEN(IF(Worksheet!$D$14,-1,0),0),IF(I1352=2,H1352*10^RANDBETWEEN(RANDBETWEEN(0,1),1),CHOOSE(RANDBETWEEN(1,3),5,10,20)))","v":4},{"$f":"IF(I1352=1,D1352,IF(I1352=3,\"%\",\"cm\"))","v":"m"},{"$f":"RANDBETWEEN(1,MIN(9,C1352))","v":4},{"$f":"IF(AND(Worksheet!$D$12,RAND()<0.2),3,IF(RAND()<Worksheet!$D$10/100,1,2))","v":1},{"$f":"IF(I1352=1,F1352,IF(I1352=2,F1352/100,IF(I1352=3,F1352/100*C1352,\"\")))","v":4},{"$f":"CONCATENATE(\" \",D1352)","v":" m"},{"$f":"IF(I1352=1,F1352*100,IF(I1352=2,F1352,IF(I1352=3,F1352/100*C1352*100,\"\")))","v":400},"cm"]
[{"$f":"IF(COUNTIF($B$1:B1353,TRUE)=COUNTIF($B$1:B1352,TRUE),\"\",COUNTIF($B$1:B1353,TRUE))","v":1053},{"$f":"Worksheet!$B$24","v":true},{"$f":"RANDBETWEEN(5,RANDBETWEEN(5,Worksheet!$D$8))","v":69},"km","±",{"$f":"IF(I1353=1,H1353*10^RANDBETWEEN(IF(Worksheet!$D$14,-1,0),0),IF(I1353=2,H1353*10^RANDBETWEEN(RANDBETWEEN(0,2),2),CHOOSE(RANDBETWEEN(1,3),5,10,20)))","v":0.9},{"$f":"IF(I1353=1,D1353,IF(I1353=3,\"%\",\"m\"))","v":"km"},9,{"$f":"IF(AND(Worksheet!$D$12,RAND()<0.2),3,IF(RAND()<Worksheet!$D$10/100,1,2))","v":1},{"$f":"IF(I1353=1,F1353,IF(I1353=2,F1353/1000,IF(I1353=3,F1353/100*C1353,\"\")))","v":0.9}," km",{"$f":"IF(I1353=1,F1353*1000,IF(I1353=2,F1353,IF(I1353=3,F1353/100*C1353*1000,\"\")))","v":900},"m"]
[{"$f":"IF(COUNTIF($B$1:B1354,TRUE)=COUNTIF($B$1:B1353,TRUE),\"\",COUNTIF($B$1:B1354,TRUE))","v":""},{"$f":"Worksheet!$B$26","v":false},{"$f":"RANDBETWEEN(5,RANDBETWEEN(5,Worksheet!$D$8))","v":8},"m","±",{"$f":"IF(I1354=1,H1354*10^RANDBETWEEN(IF(Worksheet!$D$14,-1,0),0),IF(I1354=2,H1354*10^RANDBETWEEN(RANDBETWEEN(0,2),2),CHOOSE(RANDBETWEEN(1,3),5,10,20)))","v":20},{"$f":"IF(I1354=1,D1354,IF(I1354=3,\"%\",\"mm\"))","v":"%"},4,{"$f":"IF(AND(Worksheet!$D$12,RAND()<0.2),3,IF(RAND()<Worksheet!$D$10/100,1,2))","v":3},1.6," m",1600,"mm"]
[{"$f":"IF(COUNTIF($B$1:B1355,TRUE)=COUNTIF($B$1:B1354,TRUE),\"\",COUNTIF($B$1:B1355,TRUE))","v":1054},{"$f":"Worksheet!$D$20","v":true},{"$f":"RANDBETWEEN(5,RANDBETWEEN(5,Worksheet!$D$8))","v":16},"kg","±",{"$f":"IF(I1355=1,H1355*10^RANDBETWEEN(IF(Worksheet!$D$14,-1,0),0),IF(I1355=2,H1355*10^RANDBETWEEN(RANDBETWEEN(0,2),2),CHOOSE(RANDBETWEEN(1,3),5,10,20)))","v":3},{"$f":"IF(I1355=1,D1355,IF(I1355=3,\"%\",\"g\"))","v":"kg"},{"$f":"RANDBETWEEN(1,MIN(9,C1355))","v":3},{"$f":"IF(AND(Worksheet!$D$12,RAND()<0.2),3,IF(RAND()<Worksheet!$D$10/100,1,2))","v":1},3,{"$f":"CONCATENATE(\" \",D1355)","v":" kg"},3000,"g"]
[{"$f":"IF(COUNTIF($B$1:B1356,TRUE)=COUNTIF($B$1:B1355,TRUE),\"\",COUNTIF($B$1:B1356,TRUE))","v":1055},{"$f":"Worksheet!$D$22","v":true},{"$f":"RANDBETWEEN(5,RANDBETWEEN(5,Worksheet!$D$8))","v":21},"tonnes","±",{"$f":"IF(I1356=1,H1356*10^RANDBETWEEN(IF(Worksheet!$D$14,-1,0),0),IF(I1356=2,H1356*10^RANDBETWEEN(RANDBETWEEN(0,2),2),CHOOSE(RANDBETWEEN(1,3),5,10,20)))","v":8},{"$f":"IF(I1356=1,D1356,IF(I1356=3,\"%\",\"kg\"))","v":"tonnes"},{"$f":"RANDBETWEEN(1,MIN(9,C1356))","v":8},{"$f":"IF(AND(Worksheet!$D$12,RAND()<0.2),3,IF(RAND()<Worksheet!$D$10/100,1,2))","v":1},8,{"$f":"CONCATENATE(\" \",D1356)","v":" tonnes"},8000,"kg"]
[{"$f":"IF(COUNTIF($B$1:B1357,TRUE)=COUNTIF($B$1:B1356,TRUE),\"\",COUNTIF($B$1:B1357,TRUE))","v":1056},{"$f":"Worksheet!$D$24","v":true},{"$f":"RANDBETWEEN(5,RANDBETWEEN(5,Worksheet!$D$8))","v":126},"litres","±",{"$f":"IF(I1357=1,H1357*10^RANDBETWEEN(IF(Worksheet!$D$14,-1,0),0),IF(I1357=2,H1357*10^RANDBETWEEN(RANDBETWEEN(0,2),2),CHOOSE(RANDBETWEEN(1,3),5,10,20)))","v":800},{"$f":"IF(I1357=1,D1357,IF(I1357=3,\"%\",\"ml\"))","v":"ml"},{"$f":"RANDBETWEEN(1,MIN(9,C1357))","v":8},{"$f":"IF(AND(Worksheet!$D$12,RAND()<0.2),3,IF(RAND()<Worksheet!$D$10/100,1,2))","v":2},0.8,{"$f":"CONCATENATE(\" \",D1357)","v":" litres"},800,"ml"]
[{"$f":"IF(COUNTIF($B$1:B1358,TRUE)=COUNTIF($B$1:B1357,TRUE),\"\",COUNTIF($B$1:B1358,TRUE))","v":""},{"$f":"Worksheet!$D$26","v":false},{"$f":"RANDBETWEEN(5,RANDBETWEEN(5,Worksheet!$D$8))","v":34},"litres","±",{"$f":"IF(I1358=1,H1358*10^RANDBETWEEN(IF(Worksheet!$D$14,-1,0),0),IF(I1358=2,H1358*10^RANDBETWEEN(RANDBETWEEN(0,2),2),CHOOSE(RANDBETWEEN(1,3),5,10,20)))","v":4},{"$f":"IF(I1358=1,D1358,IF(I1358=3,\"%\",\"cm³\"))","v":"litres"},{"$f":"RANDBETWEEN(1,MIN(9,C1358))","v":4},{"$f":"IF(AND(Worksheet!$D$12,RAND()<0.2),3,IF(RAND()<Worksheet!$D$10/100,1,2))","v":1},4,{"$f":"CONCATENATE(\" \",D1358)","v":" litres"},4000,"cm³"]
[{"$f":"IF(COUNTIF($B$1:B1359,TRUE)=COUNTIF($B$1:B1359,TRUE),\"\",COUNTIF($B$1:B1359,TRUE))","v":""},{"$f":"Worksheet!$B$28","v":true},{"$f":"RANDBETWEEN(5,20)","v":10},"°C","±",{"$f":"IF(I1359=1,H1359*10^RANDBETWEEN(IF(Worksheet!$D$14,-1,0),0),IF(I1359=2,H1359,CHOOSE(RANDBETWEEN(1,3),5,10,20)))","v":0.5},{"$f":"IF(I1359=1,D1359,IF(I1359=3,\"%\",\"sec\"))","v":"°C"},{"$f":"RANDBETWEEN(1,MIN(9,C1359))","v":5},{"$f":"IF(AND(Worksheet!$D$12,RAND()<0),3,IF(RAND()<Worksheet!$D$10/100,1,2))","v":1},{"$f":"IF(I1359=1,F1359,IF(I1359=2,F1359,IF(I1359=3,F1359/100*C1359,\"\")))","v":0.5},{"$f":"CONCATENATE(\" \",D1359)","v":" °C"},{"$f":"IF(I1359=1,F1359,IF(I1359=2,F1359,IF(I1359=3,F1359/100*C1359,\"\")))","v":0.5}," °C"]
[{"$f":"COUNTIF($B$1:B1360,TRUE)","v":1058},{"$f":"Worksheet!$B$20","v":true},{"$f":"RANDBETWEEN(5,RANDBETWEEN(5,Worksheet!$D$8))","v":43},"cm","±",{"$f":"IF(I1360=1,H1360*10^RANDBETWEEN(IF(Worksheet!$D$14,-1,0),0),IF(I1360=2,H1360,CHOOSE(RANDBETWEEN(1,3),5,10,20)))","v":5},{"$f":"IF(I1360=1,D1360,IF(I1360=3,\"%\",\"mm\"))","v":"%"},{"$f":"RANDBETWEEN(1,MIN(9,C1360))","v":1},{"$f":"IF(AND(Worksheet!$D$12,RAND()<0.2),3,IF(RAND()<Worksheet!$D$10/100,1,2))","v":3},{"$f":"IF(I1360=1,F1360,IF(I1360=2,F1360/10,IF(I1360=3,F1360/100*C1360,\"\")))","v":2.15},{"$f":"CONCATENATE(\" \",D1360)","v":" cm"},{"$f":"IF(I1360=1,F1360*10,IF(I1360=2,F1360,IF(I1360=3,F1360/100*C1360*10,\"\")))","v":21.5},"mm"]
[{"$f":"IF(COUNTIF($B$1:B1361,TRUE)=COUNTIF($B$1:B1360,TRUE),\"\",COUNTIF($B$1:B1361,TRUE))","v":1059},{"$f":"Worksheet!$B$22","v":true},{"$f":"RANDBETWEEN(5,RANDBETWEEN(5,Worksheet!$D$8))","v":5},"m","±",{"$f":"IF(I1361=1,H1361*10^RANDBETWEEN(IF(Worksheet!$D$14,-1,0),0),IF(I1361=2,H1361*10^RANDBETWEEN(RANDBETWEEN(0,1),1),CHOOSE(RANDBETWEEN(1,3),5,10,20)))","v":50},{"$f":"IF(I1361=1,D1361,IF(I1361=3,\"%\",\"cm\"))","v":"cm"},{"$f":"RANDBETWEEN(1,MIN(9,C1361))","v":5},{"$f":"IF(AND(Worksheet!$D$12,RAND()<0.2),3,IF(RAND()<Worksheet!$D$10/100,1,2))","v":2},{"$f":"IF(I1361=1,F1361,IF(I1361=2,F1361/100,IF(I1361=3,F1361/100*C1361,\"\")))","v":0.5},{"$f":"CONCATENATE(\" \",D1361)","v":" m"},{"$f":"IF(I1361=1,F1361*100,IF(I1361=2,F1361,IF(I1361=3,F1361/100*C1361*100,\"\")))","v":50},"cm"]
[{"$f":"IF(COUNTIF($B$1:B1362,TRUE)=COUNTIF($B$1:B1361,TRUE),\"\",COUNTIF($B$1:B1362,TRUE))","v":1060},{"$f":"Worksheet!$B$24","v":true},{"$f":"RANDBETWEEN(5,RANDBETWEEN(5,Worksheet!$D$8))","v":44},"km","±",{"$f":"IF(I1362=1,H1362*10^RANDBETWEEN(IF(Worksheet!$D$14,-1,0),0),IF(I1362=2,H1362*10^RANDBETWEEN(RANDBETWEEN(0,2),2),CHOOSE(RANDBETWEEN(1,3),5,10,20)))","v":5},{"$f":"IF(I1362=1,D1362,IF(I1362=3,\"%\",\"m\"))","v":"%"},2,{"$f":"IF(AND(Worksheet!$D$12,RAND()<0.2),3,IF(RAND()<Worksheet!$D$10/100,1,2))","v":3},{"$f":"IF(I1362=1,F1362,IF(I1362=2,F1362/1000,IF(I1362=3,F1362/100*C1362,\"\")))","v":2.2000000000000002}," km",{"$f":"IF(I1362=1,F1362*1000,IF(I1362=2,F1362,IF(I1362=3,F1362/100*C1362*1000,\"\")))","v":2200},"m"]
[{"$f":"IF(COUNTIF($B$1:B1363,TRUE)=COUNTIF($B$1:B1362,TRUE),\"\",COUNTIF($B$1:B1363,TRUE))","v":""},{"$f":"Worksheet!$B$26","v":false},{"$f":"RANDBETWEEN(5,RANDBETWEEN(5,Worksheet!$D$8))","v":87},"m","±",{"$f":"IF(I1363=1,H1363*10^RANDBETWEEN(IF(Worksheet!$D$14,-1,0),0),IF(I1363=2,H1363*10^RANDBETWEEN(RANDBETWEEN(0,2),2),CHOOSE(RANDBETWEEN(1,3),5,10,20)))","v":1},{"$f":"IF(I1363=1,D1363,IF(I1363=3,\"%\",\"mm\"))","v":"m"},1,{"$f":"IF(AND(Worksheet!$D$12,RAND()<0.2),3,IF(RAND()<Worksheet!$D$10/100,1,2))","v":1},1," m",1000,"mm"]
[{"$f":"IF(COUNTIF($B$1:B1364,TRUE)=COUNTIF($B$1:B1363,TRUE),\"\",COUNTIF($B$1:B1364,TRUE))","v":1061},{"$f":"Worksheet!$D$20","v":true},{"$f":"RANDBETWEEN(5,RANDBETWEEN(5,Worksheet!$D$8))","v":59},"kg","±",{"$f":"IF(I1364=1,H1364*10^RANDBETWEEN(IF(Worksheet!$D$14,-1,0),0),IF(I1364=2,H1364*10^RANDBETWEEN(RANDBETWEEN(0,2),2),CHOOSE(RANDBETWEEN(1,3),5,10,20)))","v":20},{"$f":"IF(I1364=1,D1364,IF(I1364=3,\"%\",\"g\"))","v":"g"},{"$f":"RANDBETWEEN(1,MIN(9,C1364))","v":2},{"$f":"IF(AND(Worksheet!$D$12,RAND()<0.2),3,IF(RAND()<Worksheet!$D$10/100,1,2))","v":2},0.02,{"$f":"CONCATENATE(\" \",D1364)","v":" kg"},20,"g"]
[{"$f":"IF(COUNTIF($B$1:B1365,TRUE)=COUNTIF($B$1:B1364,TRUE),\"\",COUNTIF($B$1:B1365,TRUE))","v":1062},{"$f":"Worksheet!$D$22","v":true},{"$f":"RANDBETWEEN(5,RANDBETWEEN(5,Worksheet!$D$8))","v":72},"tonnes","±",{"$f":"IF(I1365=1,H1365*10^RANDBETWEEN(IF(Worksheet!$D$14,-1,0),0),IF(I1365=2,H1365*10^RANDBETWEEN(RANDBETWEEN(0,2),2),CHOOSE(RANDBETWEEN(1,3),5,10,20)))","v":80},{"$f":"IF(I1365=1,D1365,IF(I1365=3,\"%\",\"kg\"))","v":"kg"},{"$f":"RANDBETWEEN(1,MIN(9,C1365))","v":8},{"$f":"IF(AND(Worksheet!$D$12,RAND()<0.2),3,IF(RAND()<Worksheet!$D$10/100,1,2))","v":2},0.08,{"$f":"CONCATENATE(\" \",D1365)","v":" tonnes"},80,"kg"]
[{"$f":"IF(COUNTIF($B$1:B1366,TRUE)=COUNTIF($B$1:B1365,TRUE),\"\",COUNTIF($B$1:B1366,TRUE))","v":1063},{"$f":"Worksheet!$D$24","v":true},{"$f":"RANDBETWEEN(5,RANDBETWEEN(5,Worksheet!$D$8))","v":8},"litres","±",{"$f":"IF(I1366=1,H1366*10^RANDBETWEEN(IF(Worksheet!$D$14,-1,0),0),IF(I1366=2,H1366*10^RANDBETWEEN(RANDBETWEEN(0,2),2),CHOOSE(RANDBETWEEN(1,3),5,10,20)))","v":20},{"$f":"IF(I1366=1,D1366,IF(I1366=3,\"%\",\"ml\"))","v":"%"},{"$f":"RANDBETWEEN(1,MIN(9,C1366))","v":6},{"$f":"IF(AND(Worksheet!$D$12,RAND()<0.2),3,IF(RAND()<Worksheet!$D$10/100,1,2))","v":3},1.6,{"$f":"CONCATENATE(\" \",D1366)","v":" litres"},1600,"ml"]
[{"$f":"IF(COUNTIF($B$1:B1367,TRUE)=COUNTIF($B$1:B1366,TRUE),\"\",COUNTIF($B$1:B1367,TRUE))","v":""},{"$f":"Worksheet!$D$26","v":false},{"$f":"RANDBETWEEN(5,RANDBETWEEN(5,Worksheet!$D$8))","v":97},"litres","±",{"$f":"IF(I1367=1,H1367*10^RANDBETWEEN(IF(Worksheet!$D$14,-1,0),0),IF(I1367=2,H1367*10^RANDBETWEEN(RANDBETWEEN(0,2),2),CHOOSE(RANDBETWEEN(1,3),5,10,20)))","v":0.60000000000000009},{"$f":"IF(I1367=1,D1367,IF(I1367=3,\"%\",\"cm³\"))","v":"litres"},{"$f":"RANDBETWEEN(1,MIN(9,C1367))","v":6},{"$f":"IF(AND(Worksheet!$D$12,RAND()<0.2),3,IF(RAND()<Worksheet!$D$10/100,1,2))","v":1},0.60000000000000009,{"$f":"CONCATENATE(\" \",D1367)","v":" litres"},600.00000000000011,"cm³"]
[{"$f":"IF(COUNTIF($B$1:B1368,TRUE)=COUNTIF($B$1:B1368,TRUE),\"\",COUNTIF($B$1:B1368,TRUE))","v":""},{"$f":"Worksheet!$B$28","v":true},{"$f":"RANDBETWEEN(5,20)","v":11},"°C","±",{"$f":"IF(I1368=1,H1368*10^RANDBETWEEN(IF(Worksheet!$D$14,-1,0),0),IF(I1368=2,H1368,CHOOSE(RANDBETWEEN(1,3),5,10,20)))","v":6},{"$f":"IF(I1368=1,D1368,IF(I1368=3,\"%\",\"sec\"))","v":"sec"},{"$f":"RANDBETWEEN(1,MIN(9,C1368))","v":6},{"$f":"IF(AND(Worksheet!$D$12,RAND()<0),3,IF(RAND()<Worksheet!$D$10/100,1,2))","v":2},{"$f":"IF(I1368=1,F1368,IF(I1368=2,F1368,IF(I1368=3,F1368/100*C1368,\"\")))","v":6},{"$f":"CONCATENATE(\" \",D1368)","v":" °C"},{"$f":"IF(I1368=1,F1368,IF(I1368=2,F1368,IF(I1368=3,F1368/100*C1368,\"\")))","v":6}," °C"]
[{"$f":"COUNTIF($B$1:B1369,TRUE)","v":1065},{"$f":"Worksheet!$B$20","v":true},{"$f":"RANDBETWEEN(5,RANDBETWEEN(5,Worksheet!$D$8))","v":40},"cm","±",{"$f":"IF(I1369=1,H1369*10^RANDBETWEEN(IF(Worksheet!$D$14,-1,0),0),IF(I1369=2,H1369,CHOOSE(RANDBETWEEN(1,3),5,10,20)))","v":3},{"$f":"IF(I1369=1,D1369,IF(I1369=3,\"%\",\"mm\"))","v":"cm"},{"$f":"RANDBETWEEN(1,MIN(9,C1369))","v":3},{"$f":"IF(AND(Worksheet!$D$12,RAND()<0.2),3,IF(RAND()<Worksheet!$D$10/100,1,2))","v":1},{"$f":"IF(I1369=1,F1369,IF(I1369=2,F1369/10,IF(I1369=3,F1369/100*C1369,\"\")))","v":3},{"$f":"CONCATENATE(\" \",D1369)","v":" cm"},{"$f":"IF(I1369=1,F1369*10,IF(I1369=2,F1369,IF(I1369=3,F1369/100*C1369*10,\"\")))","v":30},"mm"]
[{"$f":"IF(COUNTIF($B$1:B1370,TRUE)=COUNTIF($B$1:B1369,TRUE),\"\",COUNTIF($B$1:B1370,TRUE))","v":1066},{"$f":"Worksheet!$B$22","v":true},{"$f":"RANDBETWEEN(5,RANDBETWEEN(5,Worksheet!$D$8))","v":57},"m","±",{"$f":"IF(I1370=1,H1370*10^RANDBETWEEN(IF(Worksheet!$D$14,-1,0),0),IF(I1370=2,H1370*10^RANDBETWEEN(RANDBETWEEN(0,1),1),CHOOSE(RANDBETWEEN(1,3),5,10,20)))","v":0.60000000000000009},{"$f":"IF(I1370=1,D1370,IF(I1370=3,\"%\",\"cm\"))","v":"m"},{"$f":"RANDBETWEEN(1,MIN(9,C1370))","v":6},{"$f":"IF(AND(Worksheet!$D$12,RAND()<0.2),3,IF(RAND()<Worksheet!$D$10/100,1,2))","v":1},{"$f":"IF(I1370=1,F1370,IF(I1370=2,F1370/100,IF(I1370=3,F1370/100*C1370,\"\")))","v":0.60000000000000009},{"$f":"CONCATENATE(\" \",D1370)","v":" m"},{"$f":"IF(I1370=1,F1370*100,IF(I1370=2,F1370,IF(I1370=3,F1370/100*C1370*100,\"\")))","v":60.000000000000007},"cm"]
[{"$f":"IF(COUNTIF($B$1:B1371,TRUE)=COUNTIF($B$1:B1370,TRUE),\"\",COUNTIF($B$1:B1371,TRUE))","v":1067},{"$f":"Worksheet!$B$24","v":true},{"$f":"RANDBETWEEN(5,RANDBETWEEN(5,Worksheet!$D$8))","v":5},"km","±",{"$f":"IF(I1371=1,H1371*10^RANDBETWEEN(IF(Worksheet!$D$14,-1,0),0),IF(I1371=2,H1371*10^RANDBETWEEN(RANDBETWEEN(0,2),2),CHOOSE(RANDBETWEEN(1,3),5,10,20)))","v":0.1},{"$f":"IF(I1371=1,D1371,IF(I1371=3,\"%\",\"m\"))","v":"km"},1,{"$f":"IF(AND(Worksheet!$D$12,RAND()<0.2),3,IF(RAND()<Worksheet!$D$10/100,1,2))","v":1},{"$f":"IF(I1371=1,F1371,IF(I1371=2,F1371/1000,IF(I1371=3,F1371/100*C1371,\"\")))","v":0.1}," km",{"$f":"IF(I1371=1,F1371*1000,IF(I1371=2,F1371,IF(I1371=3,F1371/100*C1371*1000,\"\")))","v":100},"m"]
[{"$f":"IF(COUNTIF($B$1:B1372,TRUE)=COUNTIF($B$1:B1371,TRUE),\"\",COUNTIF($B$1:B1372,TRUE))","v":""},{"$f":"Worksheet!$B$26","v":false},{"$f":"RANDBETWEEN(5,RANDBETWEEN(5,Worksheet!$D$8))","v":40},"m","±",{"$f":"IF(I1372=1,H1372*10^RANDBETWEEN(IF(Worksheet!$D$14,-1,0),0),IF(I1372=2,H1372*10^RANDBETWEEN(RANDBETWEEN(0,2),2),CHOOSE(RANDBETWEEN(1,3),5,10,20)))","v":0.9},{"$f":"IF(I1372=1,D1372,IF(I1372=3,\"%\",\"mm\"))","v":"m"},9,{"$f":"IF(AND(Worksheet!$D$12,RAND()<0.2),3,IF(RAND()<Worksheet!$D$10/100,1,2))","v":1},0.9," m",900,"mm"]
[{"$f":"IF(COUNTIF($B$1:B1373,TRUE)=COUNTIF($B$1:B1372,TRUE),\"\",COUNTIF($B$1:B1373,TRUE))","v":1068},{"$f":"Worksheet!$D$20","v":true},{"$f":"RANDBETWEEN(5,RANDBETWEEN(5,Worksheet!$D$8))","v":30},"kg","±",{"$f":"IF(I1373=1,H1373*10^RANDBETWEEN(IF(Worksheet!$D$14,-1,0),0),IF(I1373=2,H1373*10^RANDBETWEEN(RANDBETWEEN(0,2),2),CHOOSE(RANDBETWEEN(1,3),5,10,20)))","v":2},{"$f":"IF(I1373=1,D1373,IF(I1373=3,\"%\",\"g\"))","v":"kg"},{"$f":"RANDBETWEEN(1,MIN(9,C1373))","v":2},{"$f":"IF(AND(Worksheet!$D$12,RAND()<0.2),3,IF(RAND()<Worksheet!$D$10/100,1,2))","v":1},2,{"$f":"CONCATENATE(\" \",D1373)","v":" kg"},2000,"g"]
[{"$f":"IF(COUNTIF($B$1:B1374,TRUE)=COUNTIF($B$1:B1373,TRUE),\"\",COUNTIF($B$1:B1374,TRUE))","v":1069},{"$f":"Worksheet!$D$22","v":true},{"$f":"RANDBETWEEN(5,RANDBETWEEN(5,Worksheet!$D$8))","v":11},"tonnes","±",{"$f":"IF(I1374=1,H1374*10^RANDBETWEEN(IF(Worksheet!$D$14,-1,0),0),IF(I1374=2,H1374*10^RANDBETWEEN(RANDBETWEEN(0,2),2),CHOOSE(RANDBETWEEN(1,3),5,10,20)))","v":8},{"$f":"IF(I1374=1,D1374,IF(I1374=3,\"%\",\"kg\"))","v":"tonnes"},{"$f":"RANDBETWEEN(1,MIN(9,C1374))","v":8},{"$f":"IF(AND(Worksheet!$D$12,RAND()<0.2),3,IF(RAND()<Worksheet!$D$10/100,1,2))","v":1},8,{"$f":"CONCATENATE(\" \",D1374)","v":" tonnes"},8000,"kg"]
[{"$f":"IF(COUNTIF($B$1:B1375,TRUE)=COUNTIF($B$1:B1374,TRUE),\"\",COUNTIF($B$1:B1375,TRUE))","v":1070},{"$f":"Worksheet!$D$24","v":true},{"$f":"RANDBETWEEN(5,RANDBETWEEN(5,Worksheet!$D$8))","v":79},"litres","±",{"$f":"IF(I1375=1,H1375*10^RANDBETWEEN(IF(Worksheet!$D$14,-1,0),0),IF(I1375=2,H1375*10^RANDBETWEEN(RANDBETWEEN(0,2),2),CHOOSE(RANDBETWEEN(1,3),5,10,20)))","v":6},{"$f":"IF(I1375=1,D1375,IF(I1375=3,\"%\",\"ml\"))","v":"litres"},{"$f":"RANDBETWEEN(1,MIN(9,C1375))","v":6},{"$f":"IF(AND(Worksheet!$D$12,RAND()<0.2),3,IF(RAND()<Worksheet!$D$10/100,1,2))","v":1},6,{"$f":"CONCATENATE(\" \",D1375)","v":" litres"},6000,"ml"]
[{"$f":"IF(COUNTIF($B$1:B1376,TRUE)=COUNTIF($B$1:B1375,TRUE),\"\",COUNTIF($B$1:B1376,TRUE))","v":""},{"$f":"Worksheet!$D$26","v":false},{"$f":"RANDBETWEEN(5,RANDBETWEEN(5,Worksheet!$D$8))","v":6},"litres","±",{"$f":"IF(I1376=1,H1376*10^RANDBETWEEN(IF(Worksheet!$D$14,-1,0),0),IF(I1376=2,H1376*10^RANDBETWEEN(RANDBETWEEN(0,2),2),CHOOSE(RANDBETWEEN(1,3),5,10,20)))","v":20},{"$f":"IF(I1376=1,D1376,IF(I1376=3,\"%\",\"cm³\"))","v":"cm³"},{"$f":"RANDBETWEEN(1,MIN(9,C1376))","v":2},{"$f":"IF(AND(Worksheet!$D$12,RAND()<0.2),3,IF(RAND()<Worksheet!$D$10/100,1,2))","v":2},0.02,{"$f":"CONCATENATE(\" \",D1376)","v":" litres"},20,"cm³"]
[{"$f":"IF(COUNTIF($B$1:B1377,TRUE)=COUNTIF($B$1:B1377,TRUE),\"\",COUNTIF($B$1:B1377,TRUE))","v":""},{"$f":"Worksheet!$B$28","v":true},{"$f":"RANDBETWEEN(5,20)","v":5},"°C","±",{"$f":"IF(I1377=1,H1377*10^RANDBETWEEN(IF(Worksheet!$D$14,-1,0),0),IF(I1377=2,H1377,CHOOSE(RANDBETWEEN(1,3),5,10,20)))","v":2},{"$f":"IF(I1377=1,D1377,IF(I1377=3,\"%\",\"sec\"))","v":"sec"},{"$f":"RANDBETWEEN(1,MIN(9,C1377))","v":2},{"$f":"IF(AND(Worksheet!$D$12,RAND()<0),3,IF(RAND()<Worksheet!$D$10/100,1,2))","v":2},{"$f":"IF(I1377=1,F1377,IF(I1377=2,F1377,IF(I1377=3,F1377/100*C1377,\"\")))","v":2},{"$f":"CONCATENATE(\" \",D1377)","v":" °C"},{"$f":"IF(I1377=1,F1377,IF(I1377=2,F1377,IF(I1377=3,F1377/100*C1377,\"\")))","v":2}," °C"]
[{"$f":"COUNTIF($B$1:B1378,TRUE)","v":1072},{"$f":"Worksheet!$B$20","v":true},{"$f":"RANDBETWEEN(5,RANDBETWEEN(5,Worksheet!$D$8))","v":7},"cm","±",{"$f":"IF(I1378=1,H1378*10^RANDBETWEEN(IF(Worksheet!$D$14,-1,0),0),IF(I1378=2,H1378,CHOOSE(RANDBETWEEN(1,3),5,10,20)))","v":5},{"$f":"IF(I1378=1,D1378,IF(I1378=3,\"%\",\"mm\"))","v":"mm"},{"$f":"RANDBETWEEN(1,MIN(9,C1378))","v":5},{"$f":"IF(AND(Worksheet!$D$12,RAND()<0.2),3,IF(RAND()<Worksheet!$D$10/100,1,2))","v":2},{"$f":"IF(I1378=1,F1378,IF(I1378=2,F1378/10,IF(I1378=3,F1378/100*C1378,\"\")))","v":0.5},{"$f":"CONCATENATE(\" \",D1378)","v":" cm"},{"$f":"IF(I1378=1,F1378*10,IF(I1378=2,F1378,IF(I1378=3,F1378/100*C1378*10,\"\")))","v":5},"mm"]
[{"$f":"IF(COUNTIF($B$1:B1379,TRUE)=COUNTIF($B$1:B1378,TRUE),\"\",COUNTIF($B$1:B1379,TRUE))","v":1073},{"$f":"Worksheet!$B$22","v":true},{"$f":"RANDBETWEEN(5,RANDBETWEEN(5,Worksheet!$D$8))","v":62},"m","±",{"$f":"IF(I1379=1,H1379*10^RANDBETWEEN(IF(Worksheet!$D$14,-1,0),0),IF(I1379=2,H1379*10^RANDBETWEEN(RANDBETWEEN(0,1),1),CHOOSE(RANDBETWEEN(1,3),5,10,20)))","v":10},{"$f":"IF(I1379=1,D1379,IF(I1379=3,\"%\",\"cm\"))","v":"%"},{"$f":"RANDBETWEEN(1,MIN(9,C1379))","v":6},{"$f":"IF(AND(Worksheet!$D$12,RAND()<0.2),3,IF(RAND()<Worksheet!$D$10/100,1,2))","v":3},{"$f":"IF(I1379=1,F1379,IF(I1379=2,F1379/100,IF(I1379=3,F1379/100*C1379,\"\")))","v":6.2},{"$f":"CONCATENATE(\" \",D1379)","v":" m"},{"$f":"IF(I1379=1,F1379*100,IF(I1379=2,F1379,IF(I1379=3,F1379/100*C1379*100,\"\")))","v":620},"cm"]
[{"$f":"IF(COUNTIF($B$1:B1380,TRUE)=COUNTIF($B$1:B1379,TRUE),\"\",COUNTIF($B$1:B1380,TRUE))","v":1074},{"$f":"Worksheet!$B$24","v":true},{"$f":"RANDBETWEEN(5,RANDBETWEEN(5,Worksheet!$D$8))","v":105},"km","±",{"$f":"IF(I1380=1,H1380*10^RANDBETWEEN(IF(Worksheet!$D$14,-1,0),0),IF(I1380=2,H1380*10^RANDBETWEEN(RANDBETWEEN(0,2),2),CHOOSE(RANDBETWEEN(1,3),5,10,20)))","v":100},{"$f":"IF(I1380=1,D1380,IF(I1380=3,\"%\",\"m\"))","v":"m"},1,{"$f":"IF(AND(Worksheet!$D$12,RAND()<0.2),3,IF(RAND()<Worksheet!$D$10/100,1,2))","v":2},{"$f":"IF(I1380=1,F1380,IF(I1380=2,F1380/1000,IF(I1380=3,F1380/100*C1380,\"\")))","v":0.1}," km",{"$f":"IF(I1380=1,F1380*1000,IF(I1380=2,F1380,IF(I1380=3,F1380/100*C1380*1000,\"\")))","v":100},"m"]
[{"$f":"IF(COUNTIF($B$1:B1381,TRUE)=COUNTIF($B$1:B1380,TRUE),\"\",COUNTIF($B$1:B1381,TRUE))","v":""},{"$f":"Worksheet!$B$26","v":false},{"$f":"RANDBETWEEN(5,RANDBETWEEN(5,Worksheet!$D$8))","v":31},"m","±",{"$f":"IF(I1381=1,H1381*10^RANDBETWEEN(IF(Worksheet!$D$14,-1,0),0),IF(I1381=2,H1381*10^RANDBETWEEN(RANDBETWEEN(0,2),2),CHOOSE(RANDBETWEEN(1,3),5,10,20)))","v":0.8},{"$f":"IF(I1381=1,D1381,IF(I1381=3,\"%\",\"mm\"))","v":"m"},8,{"$f":"IF(AND(Worksheet!$D$12,RAND()<0.2),3,IF(RAND()<Worksheet!$D$10/100,1,2))","v":1},0.8," m",800,"mm"]
[{"$f":"IF(COUNTIF($B$1:B1382,TRUE)=COUNTIF($B$1:B1381,TRUE),\"\",COUNTIF($B$1:B1382,TRUE))","v":1075},{"$f":"Worksheet!$D$20","v":true},{"$f":"RANDBETWEEN(5,RANDBETWEEN(5,Worksheet!$D$8))","v":15},"kg","±",{"$f":"IF(I1382=1,H1382*10^RANDBETWEEN(IF(Worksheet!$D$14,-1,0),0),IF(I1382=2,H1382*10^RANDBETWEEN(RANDBETWEEN(0,2),2),CHOOSE(RANDBETWEEN(1,3),5,10,20)))","v":9},{"$f":"IF(I1382=1,D1382,IF(I1382=3,\"%\",\"g\"))","v":"g"},{"$f":"RANDBETWEEN(1,MIN(9,C1382))","v":9},{"$f":"IF(AND(Worksheet!$D$12,RAND()<0.2),3,IF(RAND()<Worksheet!$D$10/100,1,2))","v":2},8.9999999999999993E-3,{"$f":"CONCATENATE(\" \",D1382)","v":" kg"},9,"g"]
[{"$f":"IF(COUNTIF($B$1:B1383,TRUE)=COUNTIF($B$1:B1382,TRUE),\"\",COUNTIF($B$1:B1383,TRUE))","v":1076},{"$f":"Worksheet!$D$22","v":true},{"$f":"RANDBETWEEN(5,RANDBETWEEN(5,Worksheet!$D$8))","v":34},"tonnes","±",{"$f":"IF(I1383=1,H1383*10^RANDBETWEEN(IF(Worksheet!$D$14,-1,0),0),IF(I1383=2,H1383*10^RANDBETWEEN(RANDBETWEEN(0,2),2),CHOOSE(RANDBETWEEN(1,3),5,10,20)))","v":5},{"$f":"IF(I1383=1,D1383,IF(I1383=3,\"%\",\"kg\"))","v":"tonnes"},{"$f":"RANDBETWEEN(1,MIN(9,C1383))","v":5},{"$f":"IF(AND(Worksheet!$D$12,RAND()<0.2),3,IF(RAND()<Worksheet!$D$10/100,1,2))","v":1},5,{"$f":"CONCATENATE(\" \",D1383)","v":" tonnes"},5000,"kg"]
[{"$f":"IF(COUNTIF($B$1:B1384,TRUE)=COUNTIF($B$1:B1383,TRUE),\"\",COUNTIF($B$1:B1384,TRUE))","v":1077},{"$f":"Worksheet!$D$24","v":true},{"$f":"RANDBETWEEN(5,RANDBETWEEN(5,Worksheet!$D$8))","v":7},"litres","±",{"$f":"IF(I1384=1,H1384*10^RANDBETWEEN(IF(Worksheet!$D$14,-1,0),0),IF(I1384=2,H1384*10^RANDBETWEEN(RANDBETWEEN(0,2),2),CHOOSE(RANDBETWEEN(1,3),5,10,20)))","v":10},{"$f":"IF(I1384=1,D1384,IF(I1384=3,\"%\",\"ml\"))","v":"%"},{"$f":"RANDBETWEEN(1,MIN(9,C1384))","v":5},{"$f":"IF(AND(Worksheet!$D$12,RAND()<0.2),3,IF(RAND()<Worksheet!$D$10/100,1,2))","v":3},0.70000000000000007,{"$f":"CONCATENATE(\" \",D1384)","v":" litres"},700.00000000000011,"ml"]
[{"$f":"IF(COUNTIF($B$1:B1385,TRUE)=COUNTIF($B$1:B1384,TRUE),\"\",COUNTIF($B$1:B1385,TRUE))","v":""},{"$f":"Worksheet!$D$26","v":false},{"$f":"RANDBETWEEN(5,RANDBETWEEN(5,Worksheet!$D$8))","v":26},"litres","±",{"$f":"IF(I1385=1,H1385*10^RANDBETWEEN(IF(Worksheet!$D$14,-1,0),0),IF(I1385=2,H1385*10^RANDBETWEEN(RANDBETWEEN(0,2),2),CHOOSE(RANDBETWEEN(1,3),5,10,20)))","v":20},{"$f":"IF(I1385=1,D1385,IF(I1385=3,\"%\",\"cm³\"))","v":"%"},{"$f":"RANDBETWEEN(1,MIN(9,C1385))","v":8},{"$f":"IF(AND(Worksheet!$D$12,RAND()<0.2),3,IF(RAND()<Worksheet!$D$10/100,1,2))","v":3},5.2,{"$f":"CONCATENATE(\" \",D1385)","v":" litres"},5200,"cm³"]
[{"$f":"IF(COUNTIF($B$1:B1386,TRUE)=COUNTIF($B$1:B1386,TRUE),\"\",COUNTIF($B$1:B1386,TRUE))","v":""},{"$f":"Worksheet!$B$28","v":true},{"$f":"RANDBETWEEN(5,20)","v":20},"°C","±",{"$f":"IF(I1386=1,H1386*10^RANDBETWEEN(IF(Worksheet!$D$14,-1,0),0),IF(I1386=2,H1386,CHOOSE(RANDBETWEEN(1,3),5,10,20)))","v":9},{"$f":"IF(I1386=1,D1386,IF(I1386=3,\"%\",\"sec\"))","v":"sec"},{"$f":"RANDBETWEEN(1,MIN(9,C1386))","v":9},{"$f":"IF(AND(Worksheet!$D$12,RAND()<0),3,IF(RAND()<Worksheet!$D$10/100,1,2))","v":2},{"$f":"IF(I1386=1,F1386,IF(I1386=2,F1386,IF(I1386=3,F1386/100*C1386,\"\")))","v":9},{"$f":"CONCATENATE(\" \",D1386)","v":" °C"},{"$f":"IF(I1386=1,F1386,IF(I1386=2,F1386,IF(I1386=3,F1386/100*C1386,\"\")))","v":9}," °C"]
[{"$f":"COUNTIF($B$1:B1387,TRUE)","v":1079},{"$f":"Worksheet!$B$20","v":true},{"$f":"RANDBETWEEN(5,RANDBETWEEN(5,Worksheet!$D$8))","v":21},"cm","±",{"$f":"IF(I1387=1,H1387*10^RANDBETWEEN(IF(Worksheet!$D$14,-1,0),0),IF(I1387=2,H1387,CHOOSE(RANDBETWEEN(1,3),5,10,20)))","v":20},{"$f":"IF(I1387=1,D1387,IF(I1387=3,\"%\",\"mm\"))","v":"%"},{"$f":"RANDBETWEEN(1,MIN(9,C1387))","v":7},{"$f":"IF(AND(Worksheet!$D$12,RAND()<0.2),3,IF(RAND()<Worksheet!$D$10/100,1,2))","v":3},{"$f":"IF(I1387=1,F1387,IF(I1387=2,F1387/10,IF(I1387=3,F1387/100*C1387,\"\")))","v":4.2},{"$f":"CONCATENATE(\" \",D1387)","v":" cm"},{"$f":"IF(I1387=1,F1387*10,IF(I1387=2,F1387,IF(I1387=3,F1387/100*C1387*10,\"\")))","v":42},"mm"]
[{"$f":"IF(COUNTIF($B$1:B1388,TRUE)=COUNTIF($B$1:B1387,TRUE),\"\",COUNTIF($B$1:B1388,TRUE))","v":1080},{"$f":"Worksheet!$B$22","v":true},{"$f":"RANDBETWEEN(5,RANDBETWEEN(5,Worksheet!$D$8))","v":79},"m","±",{"$f":"IF(I1388=1,H1388*10^RANDBETWEEN(IF(Worksheet!$D$14,-1,0),0),IF(I1388=2,H1388*10^RANDBETWEEN(RANDBETWEEN(0,1),1),CHOOSE(RANDBETWEEN(1,3),5,10,20)))","v":5},{"$f":"IF(I1388=1,D1388,IF(I1388=3,\"%\",\"cm\"))","v":"%"},{"$f":"RANDBETWEEN(1,MIN(9,C1388))","v":3},{"$f":"IF(AND(Worksheet!$D$12,RAND()<0.2),3,IF(RAND()<Worksheet!$D$10/100,1,2))","v":3},{"$f":"IF(I1388=1,F1388,IF(I1388=2,F1388/100,IF(I1388=3,F1388/100*C1388,\"\")))","v":3.95},{"$f":"CONCATENATE(\" \",D1388)","v":" m"},{"$f":"IF(I1388=1,F1388*100,IF(I1388=2,F1388,IF(I1388=3,F1388/100*C1388*100,\"\")))","v":395},"cm"]
[{"$f":"IF(COUNTIF($B$1:B1389,TRUE)=COUNTIF($B$1:B1388,TRUE),\"\",COUNTIF($B$1:B1389,TRUE))","v":1081},{"$f":"Worksheet!$B$24","v":true},{"$f":"RANDBETWEEN(5,RANDBETWEEN(5,Worksheet!$D$8))","v":54},"km","±",{"$f":"IF(I1389=1,H1389*10^RANDBETWEEN(IF(Worksheet!$D$14,-1,0),0),IF(I1389=2,H1389*10^RANDBETWEEN(RANDBETWEEN(0,2),2),CHOOSE(RANDBETWEEN(1,3),5,10,20)))","v":900},{"$f":"IF(I1389=1,D1389,IF(I1389=3,\"%\",\"m\"))","v":"m"},9,{"$f":"IF(AND(Worksheet!$D$12,RAND()<0.2),3,IF(RAND()<Worksheet!$D$10/100,1,2))","v":2},{"$f":"IF(I1389=1,F1389,IF(I1389=2,F1389/1000,IF(I1389=3,F1389/100*C1389,\"\")))","v":0.9}," km",{"$f":"IF(I1389=1,F1389*1000,IF(I1389=2,F1389,IF(I1389=3,F1389/100*C1389*1000,\"\")))","v":900},"m"]
[{"$f":"IF(COUNTIF($B$1:B1390,TRUE)=COUNTIF($B$1:B1389,TRUE),\"\",COUNTIF($B$1:B1390,TRUE))","v":""},{"$f":"Worksheet!$B$26","v":false},{"$f":"RANDBETWEEN(5,RANDBETWEEN(5,Worksheet!$D$8))","v":182},"m","±",{"$f":"IF(I1390=1,H1390*10^RANDBETWEEN(IF(Worksheet!$D$14,-1,0),0),IF(I1390=2,H1390*10^RANDBETWEEN(RANDBETWEEN(0,2),2),CHOOSE(RANDBETWEEN(1,3),5,10,20)))","v":10},{"$f":"IF(I1390=1,D1390,IF(I1390=3,\"%\",\"mm\"))","v":"%"},7,{"$f":"IF(AND(Worksheet!$D$12,RAND()<0.2),3,IF(RAND()<Worksheet!$D$10/100,1,2))","v":3},18.2," m",18200,"mm"]
[{"$f":"IF(COUNTIF($B$1:B1391,TRUE)=COUNTIF($B$1:B1390,TRUE),\"\",COUNTIF($B$1:B1391,TRUE))","v":1082},{"$f":"Worksheet!$D$20","v":true},{"$f":"RANDBETWEEN(5,RANDBETWEEN(5,Worksheet!$D$8))","v":64},"kg","±",{"$f":"IF(I1391=1,H1391*10^RANDBETWEEN(IF(Worksheet!$D$14,-1,0),0),IF(I1391=2,H1391*10^RANDBETWEEN(RANDBETWEEN(0,2),2),CHOOSE(RANDBETWEEN(1,3),5,10,20)))","v":0.60000000000000009},{"$f":"IF(I1391=1,D1391,IF(I1391=3,\"%\",\"g\"))","v":"kg"},{"$f":"RANDBETWEEN(1,MIN(9,C1391))","v":6},{"$f":"IF(AND(Worksheet!$D$12,RAND()<0.2),3,IF(RAND()<Worksheet!$D$10/100,1,2))","v":1},0.60000000000000009,{"$f":"CONCATENATE(\" \",D1391)","v":" kg"},600.00000000000011,"g"]
[{"$f":"IF(COUNTIF($B$1:B1392,TRUE)=COUNTIF($B$1:B1391,TRUE),\"\",COUNTIF($B$1:B1392,TRUE))","v":1083},{"$f":"Worksheet!$D$22","v":true},{"$f":"RANDBETWEEN(5,RANDBETWEEN(5,Worksheet!$D$8))","v":92},"tonnes","±",{"$f":"IF(I1392=1,H1392*10^RANDBETWEEN(IF(Worksheet!$D$14,-1,0),0),IF(I1392=2,H1392*10^RANDBETWEEN(RANDBETWEEN(0,2),2),CHOOSE(RANDBETWEEN(1,3),5,10,20)))","v":0.60000000000000009},{"$f":"IF(I1392=1,D1392,IF(I1392=3,\"%\",\"kg\"))","v":"tonnes"},{"$f":"RANDBETWEEN(1,MIN(9,C1392))","v":6},{"$f":"IF(AND(Worksheet!$D$12,RAND()<0.2),3,IF(RAND()<Worksheet!$D$10/100,1,2))","v":1},0.60000000000000009,{"$f":"CONCATENATE(\" \",D1392)","v":" tonnes"},600.00000000000011,"kg"]
[{"$f":"IF(COUNTIF($B$1:B1393,TRUE)=COUNTIF($B$1:B1392,TRUE),\"\",COUNTIF($B$1:B1393,TRUE))","v":1084},{"$f":"Worksheet!$D$24","v":true},{"$f":"RANDBETWEEN(5,RANDBETWEEN(5,Worksheet!$D$8))","v":100},"litres","±",{"$f":"IF(I1393=1,H1393*10^RANDBETWEEN(IF(Worksheet!$D$14,-1,0),0),IF(I1393=2,H1393*10^RANDBETWEEN(RANDBETWEEN(0,2),2),CHOOSE(RANDBETWEEN(1,3),5,10,20)))","v":3},{"$f":"IF(I1393=1,D1393,IF(I1393=3,\"%\",\"ml\"))","v":"litres"},{"$f":"RANDBETWEEN(1,MIN(9,C1393))","v":3},{"$f":"IF(AND(Worksheet!$D$12,RAND()<0.2),3,IF(RAND()<Worksheet!$D$10/100,1,2))","v":1},3,{"$f":"CONCATENATE(\" \",D1393)","v":" litres"},3000,"ml"]
[{"$f":"IF(COUNTIF($B$1:B1394,TRUE)=COUNTIF($B$1:B1393,TRUE),\"\",COUNTIF($B$1:B1394,TRUE))","v":""},{"$f":"Worksheet!$D$26","v":false},{"$f":"RANDBETWEEN(5,RANDBETWEEN(5,Worksheet!$D$8))","v":24},"litres","±",{"$f":"IF(I1394=1,H1394*10^RANDBETWEEN(IF(Worksheet!$D$14,-1,0),0),IF(I1394=2,H1394*10^RANDBETWEEN(RANDBETWEEN(0,2),2),CHOOSE(RANDBETWEEN(1,3),5,10,20)))","v":0.4},{"$f":"IF(I1394=1,D1394,IF(I1394=3,\"%\",\"cm³\"))","v":"litres"},{"$f":"RANDBETWEEN(1,MIN(9,C1394))","v":4},{"$f":"IF(AND(Worksheet!$D$12,RAND()<0.2),3,IF(RAND()<Worksheet!$D$10/100,1,2))","v":1},0.4,{"$f":"CONCATENATE(\" \",D1394)","v":" litres"},400,"cm³"]
[{"$f":"IF(COUNTIF($B$1:B1395,TRUE)=COUNTIF($B$1:B1395,TRUE),\"\",COUNTIF($B$1:B1395,TRUE))","v":""},{"$f":"Worksheet!$B$28","v":true},{"$f":"RANDBETWEEN(5,20)","v":8},"°C","±",{"$f":"IF(I1395=1,H1395*10^RANDBETWEEN(IF(Worksheet!$D$14,-1,0),0),IF(I1395=2,H1395,CHOOSE(RANDBETWEEN(1,3),5,10,20)))","v":7},{"$f":"IF(I1395=1,D1395,IF(I1395=3,\"%\",\"sec\"))","v":"sec"},{"$f":"RANDBETWEEN(1,MIN(9,C1395))","v":7},{"$f":"IF(AND(Worksheet!$D$12,RAND()<0),3,IF(RAND()<Worksheet!$D$10/100,1,2))","v":2},{"$f":"IF(I1395=1,F1395,IF(I1395=2,F1395,IF(I1395=3,F1395/100*C1395,\"\")))","v":7},{"$f":"CONCATENATE(\" \",D1395)","v":" °C"},{"$f":"IF(I1395=1,F1395,IF(I1395=2,F1395,IF(I1395=3,F1395/100*C1395,\"\")))","v":7}," °C"]
[{"$f":"COUNTIF($B$1:B1396,TRUE)","v":1086},{"$f":"Worksheet!$B$20","v":true},{"$f":"RANDBETWEEN(5,RANDBETWEEN(5,Worksheet!$D$8))","v":96},"cm","±",{"$f":"IF(I1396=1,H1396*10^RANDBETWEEN(IF(Worksheet!$D$14,-1,0),0),IF(I1396=2,H1396,CHOOSE(RANDBETWEEN(1,3),5,10,20)))","v":3},{"$f":"IF(I1396=1,D1396,IF(I1396=3,\"%\",\"mm\"))","v":"cm"},{"$f":"RANDBETWEEN(1,MIN(9,C1396))","v":3},{"$f":"IF(AND(Worksheet!$D$12,RAND()<0.2),3,IF(RAND()<Worksheet!$D$10/100,1,2))","v":1},{"$f":"IF(I1396=1,F1396,IF(I1396=2,F1396/10,IF(I1396=3,F1396/100*C1396,\"\")))","v":3},{"$f":"CONCATENATE(\" \",D1396)","v":" cm"},{"$f":"IF(I1396=1,F1396*10,IF(I1396=2,F1396,IF(I1396=3,F1396/100*C1396*10,\"\")))","v":30},"mm"]
[{"$f":"IF(COUNTIF($B$1:B1397,TRUE)=COUNTIF($B$1:B1396,TRUE),\"\",COUNTIF($B$1:B1397,TRUE))","v":1087},{"$f":"Worksheet!$B$22","v":true},{"$f":"RANDBETWEEN(5,RANDBETWEEN(5,Worksheet!$D$8))","v":168},"m","±",{"$f":"IF(I1397=1,H1397*10^RANDBETWEEN(IF(Worksheet!$D$14,-1,0),0),IF(I1397=2,H1397*10^RANDBETWEEN(RANDBETWEEN(0,1),1),CHOOSE(RANDBETWEEN(1,3),5,10,20)))","v":9},{"$f":"IF(I1397=1,D1397,IF(I1397=3,\"%\",\"cm\"))","v":"cm"},{"$f":"RANDBETWEEN(1,MIN(9,C1397))","v":9},{"$f":"IF(AND(Worksheet!$D$12,RAND()<0.2),3,IF(RAND()<Worksheet!$D$10/100,1,2))","v":2},{"$f":"IF(I1397=1,F1397,IF(I1397=2,F1397/100,IF(I1397=3,F1397/100*C1397,\"\")))","v":0.09},{"$f":"CONCATENATE(\" \",D1397)","v":" m"},{"$f":"IF(I1397=1,F1397*100,IF(I1397=2,F1397,IF(I1397=3,F1397/100*C1397*100,\"\")))","v":9},"cm"]
[{"$f":"IF(COUNTIF($B$1:B1398,TRUE)=COUNTIF($B$1:B1397,TRUE),\"\",COUNTIF($B$1:B1398,TRUE))","v":1088},{"$f":"Worksheet!$B$24","v":true},{"$f":"RANDBETWEEN(5,RANDBETWEEN(5,Worksheet!$D$8))","v":8},"km","±",{"$f":"IF(I1398=1,H1398*10^RANDBETWEEN(IF(Worksheet!$D$14,-1,0),0),IF(I1398=2,H1398*10^RANDBETWEEN(RANDBETWEEN(0,2),2),CHOOSE(RANDBETWEEN(1,3),5,10,20)))","v":0.70000000000000007},{"$f":"IF(I1398=1,D1398,IF(I1398=3,\"%\",\"m\"))","v":"km"},7,{"$f":"IF(AND(Worksheet!$D$12,RAND()<0.2),3,IF(RAND()<Worksheet!$D$10/100,1,2))","v":1},{"$f":"IF(I1398=1,F1398,IF(I1398=2,F1398/1000,IF(I1398=3,F1398/100*C1398,\"\")))","v":0.70000000000000007}," km",{"$f":"IF(I1398=1,F1398*1000,IF(I1398=2,F1398,IF(I1398=3,F1398/100*C1398*1000,\"\")))","v":700.00000000000011},"m"]
[{"$f":"IF(COUNTIF($B$1:B1399,TRUE)=COUNTIF($B$1:B1398,TRUE),\"\",COUNTIF($B$1:B1399,TRUE))","v":""},{"$f":"Worksheet!$B$26","v":false},{"$f":"RANDBETWEEN(5,RANDBETWEEN(5,Worksheet!$D$8))","v":47},"m","±",{"$f":"IF(I1399=1,H1399*10^RANDBETWEEN(IF(Worksheet!$D$14,-1,0),0),IF(I1399=2,H1399*10^RANDBETWEEN(RANDBETWEEN(0,2),2),CHOOSE(RANDBETWEEN(1,3),5,10,20)))","v":0.4},{"$f":"IF(I1399=1,D1399,IF(I1399=3,\"%\",\"mm\"))","v":"m"},4,{"$f":"IF(AND(Worksheet!$D$12,RAND()<0.2),3,IF(RAND()<Worksheet!$D$10/100,1,2))","v":1},0.4," m",400,"mm"]
[{"$f":"IF(COUNTIF($B$1:B1400,TRUE)=COUNTIF($B$1:B1399,TRUE),\"\",COUNTIF($B$1:B1400,TRUE))","v":1089},{"$f":"Worksheet!$D$20","v":true},{"$f":"RANDBETWEEN(5,RANDBETWEEN(5,Worksheet!$D$8))","v":24},"kg","±",{"$f":"IF(I1400=1,H1400*10^RANDBETWEEN(IF(Worksheet!$D$14,-1,0),0),IF(I1400=2,H1400*10^RANDBETWEEN(RANDBETWEEN(0,2),2),CHOOSE(RANDBETWEEN(1,3),5,10,20)))","v":70},{"$f":"IF(I1400=1,D1400,IF(I1400=3,\"%\",\"g\"))","v":"g"},{"$f":"RANDBETWEEN(1,MIN(9,C1400))","v":7},{"$f":"IF(AND(Worksheet!$D$12,RAND()<0.2),3,IF(RAND()<Worksheet!$D$10/100,1,2))","v":2},7.0000000000000007E-2,{"$f":"CONCATENATE(\" \",D1400)","v":" kg"},70,"g"]
[{"$f":"IF(COUNTIF($B$1:B1401,TRUE)=COUNTIF($B$1:B1400,TRUE),\"\",COUNTIF($B$1:B1401,TRUE))","v":1090},{"$f":"Worksheet!$D$22","v":true},{"$f":"RANDBETWEEN(5,RANDBETWEEN(5,Worksheet!$D$8))","v":90},"tonnes","±",{"$f":"IF(I1401=1,H1401*10^RANDBETWEEN(IF(Worksheet!$D$14,-1,0),0),IF(I1401=2,H1401*10^RANDBETWEEN(RANDBETWEEN(0,2),2),CHOOSE(RANDBETWEEN(1,3),5,10,20)))","v":20},{"$f":"IF(I1401=1,D1401,IF(I1401=3,\"%\",\"kg\"))","v":"%"},{"$f":"RANDBETWEEN(1,MIN(9,C1401))","v":3},{"$f":"IF(AND(Worksheet!$D$12,RAND()<0.2),3,IF(RAND()<Worksheet!$D$10/100,1,2))","v":3},18,{"$f":"CONCATENATE(\" \",D1401)","v":" tonnes"},18000,"kg"]
[{"$f":"IF(COUNTIF($B$1:B1402,TRUE)=COUNTIF($B$1:B1401,TRUE),\"\",COUNTIF($B$1:B1402,TRUE))","v":1091},{"$f":"Worksheet!$D$24","v":true},{"$f":"RANDBETWEEN(5,RANDBETWEEN(5,Worksheet!$D$8))","v":16},"litres","±",{"$f":"IF(I1402=1,H1402*10^RANDBETWEEN(IF(Worksheet!$D$14,-1,0),0),IF(I1402=2,H1402*10^RANDBETWEEN(RANDBETWEEN(0,2),2),CHOOSE(RANDBETWEEN(1,3),5,10,20)))","v":8},{"$f":"IF(I1402=1,D1402,IF(I1402=3,\"%\",\"ml\"))","v":"litres"},{"$f":"RANDBETWEEN(1,MIN(9,C1402))","v":8},{"$f":"IF(AND(Worksheet!$D$12,RAND()<0.2),3,IF(RAND()<Worksheet!$D$10/100,1,2))","v":1},8,{"$f":"CONCATENATE(\" \",D1402)","v":" litres"},8000,"ml"]
[{"$f":"IF(COUNTIF($B$1:B1403,TRUE)=COUNTIF($B$1:B1402,TRUE),\"\",COUNTIF($B$1:B1403,TRUE))","v":""},{"$f":"Worksheet!$D$26","v":false},{"$f":"RANDBETWEEN(5,RANDBETWEEN(5,Worksheet!$D$8))","v":5},"litres","±",{"$f":"IF(I1403=1,H1403*10^RANDBETWEEN(IF(Worksheet!$D$14,-1,0),0),IF(I1403=2,H1403*10^RANDBETWEEN(RANDBETWEEN(0,2),2),CHOOSE(RANDBETWEEN(1,3),5,10,20)))","v":1},{"$f":"IF(I1403=1,D1403,IF(I1403=3,\"%\",\"cm³\"))","v":"litres"},{"$f":"RANDBETWEEN(1,MIN(9,C1403))","v":1},{"$f":"IF(AND(Worksheet!$D$12,RAND()<0.2),3,IF(RAND()<Worksheet!$D$10/100,1,2))","v":1},1,{"$f":"CONCATENATE(\" \",D1403)","v":" litres"},1000,"cm³"]
[{"$f":"IF(COUNTIF($B$1:B1404,TRUE)=COUNTIF($B$1:B1404,TRUE),\"\",COUNTIF($B$1:B1404,TRUE))","v":""},{"$f":"Worksheet!$B$28","v":true},{"$f":"RANDBETWEEN(5,20)","v":14},"°C","±",{"$f":"IF(I1404=1,H1404*10^RANDBETWEEN(IF(Worksheet!$D$14,-1,0),0),IF(I1404=2,H1404,CHOOSE(RANDBETWEEN(1,3),5,10,20)))","v":9},{"$f":"IF(I1404=1,D1404,IF(I1404=3,\"%\",\"sec\"))","v":"sec"},{"$f":"RANDBETWEEN(1,MIN(9,C1404))","v":9},{"$f":"IF(AND(Worksheet!$D$12,RAND()<0),3,IF(RAND()<Worksheet!$D$10/100,1,2))","v":2},{"$f":"IF(I1404=1,F1404,IF(I1404=2,F1404,IF(I1404=3,F1404/100*C1404,\"\")))","v":9},{"$f":"CONCATENATE(\" \",D1404)","v":" °C"},{"$f":"IF(I1404=1,F1404,IF(I1404=2,F1404,IF(I1404=3,F1404/100*C1404,\"\")))","v":9}," °C"]
[{"$f":"COUNTIF($B$1:B1405,TRUE)","v":1093},{"$f":"Worksheet!$B$20","v":true},{"$f":"RANDBETWEEN(5,RANDBETWEEN(5,Worksheet!$D$8))","v":43},"cm","±",{"$f":"IF(I1405=1,H1405*10^RANDBETWEEN(IF(Worksheet!$D$14,-1,0),0),IF(I1405=2,H1405,CHOOSE(RANDBETWEEN(1,3),5,10,20)))","v":9},{"$f":"IF(I1405=1,D1405,IF(I1405=3,\"%\",\"mm\"))","v":"cm"},{"$f":"RANDBETWEEN(1,MIN(9,C1405))","v":9},{"$f":"IF(AND(Worksheet!$D$12,RAND()<0.2),3,IF(RAND()<Worksheet!$D$10/100,1,2))","v":1},{"$f":"IF(I1405=1,F1405,IF(I1405=2,F1405/10,IF(I1405=3,F1405/100*C1405,\"\")))","v":9},{"$f":"CONCATENATE(\" \",D1405)","v":" cm"},{"$f":"IF(I1405=1,F1405*10,IF(I1405=2,F1405,IF(I1405=3,F1405/100*C1405*10,\"\")))","v":90},"mm"]
[{"$f":"IF(COUNTIF($B$1:B1406,TRUE)=COUNTIF($B$1:B1405,TRUE),\"\",COUNTIF($B$1:B1406,TRUE))","v":1094},{"$f":"Worksheet!$B$22","v":true},{"$f":"RANDBETWEEN(5,RANDBETWEEN(5,Worksheet!$D$8))","v":26},"m","±",{"$f":"IF(I1406=1,H1406*10^RANDBETWEEN(IF(Worksheet!$D$14,-1,0),0),IF(I1406=2,H1406*10^RANDBETWEEN(RANDBETWEEN(0,1),1),CHOOSE(RANDBETWEEN(1,3),5,10,20)))","v":0.4},{"$f":"IF(I1406=1,D1406,IF(I1406=3,\"%\",\"cm\"))","v":"m"},{"$f":"RANDBETWEEN(1,MIN(9,C1406))","v":4},{"$f":"IF(AND(Worksheet!$D$12,RAND()<0.2),3,IF(RAND()<Worksheet!$D$10/100,1,2))","v":1},{"$f":"IF(I1406=1,F1406,IF(I1406=2,F1406/100,IF(I1406=3,F1406/100*C1406,\"\")))","v":0.4},{"$f":"CONCATENATE(\" \",D1406)","v":" m"},{"$f":"IF(I1406=1,F1406*100,IF(I1406=2,F1406,IF(I1406=3,F1406/100*C1406*100,\"\")))","v":40},"cm"]
[{"$f":"IF(COUNTIF($B$1:B1407,TRUE)=COUNTIF($B$1:B1406,TRUE),\"\",COUNTIF($B$1:B1407,TRUE))","v":1095},{"$f":"Worksheet!$B$24","v":true},{"$f":"RANDBETWEEN(5,RANDBETWEEN(5,Worksheet!$D$8))","v":129},"km","±",{"$f":"IF(I1407=1,H1407*10^RANDBETWEEN(IF(Worksheet!$D$14,-1,0),0),IF(I1407=2,H1407*10^RANDBETWEEN(RANDBETWEEN(0,2),2),CHOOSE(RANDBETWEEN(1,3),5,10,20)))","v":800},{"$f":"IF(I1407=1,D1407,IF(I1407=3,\"%\",\"m\"))","v":"m"},8,{"$f":"IF(AND(Worksheet!$D$12,RAND()<0.2),3,IF(RAND()<Worksheet!$D$10/100,1,2))","v":2},{"$f":"IF(I1407=1,F1407,IF(I1407=2,F1407/1000,IF(I1407=3,F1407/100*C1407,\"\")))","v":0.8}," km",{"$f":"IF(I1407=1,F1407*1000,IF(I1407=2,F1407,IF(I1407=3,F1407/100*C1407*1000,\"\")))","v":800},"m"]
[{"$f":"IF(COUNTIF($B$1:B1408,TRUE)=COUNTIF($B$1:B1407,TRUE),\"\",COUNTIF($B$1:B1408,TRUE))","v":""},{"$f":"Worksheet!$B$26","v":false},{"$f":"RANDBETWEEN(5,RANDBETWEEN(5,Worksheet!$D$8))","v":58},"m","±",{"$f":"IF(I1408=1,H1408*10^RANDBETWEEN(IF(Worksheet!$D$14,-1,0),0),IF(I1408=2,H1408*10^RANDBETWEEN(RANDBETWEEN(0,2),2),CHOOSE(RANDBETWEEN(1,3),5,10,20)))","v":8},{"$f":"IF(I1408=1,D1408,IF(I1408=3,\"%\",\"mm\"))","v":"m"},8,{"$f":"IF(AND(Worksheet!$D$12,RAND()<0.2),3,IF(RAND()<Worksheet!$D$10/100,1,2))","v":1},8," m",8000,"mm"]
[{"$f":"IF(COUNTIF($B$1:B1409,TRUE)=COUNTIF($B$1:B1408,TRUE),\"\",COUNTIF($B$1:B1409,TRUE))","v":1096},{"$f":"Worksheet!$D$20","v":true},{"$f":"RANDBETWEEN(5,RANDBETWEEN(5,Worksheet!$D$8))","v":124},"kg","±",{"$f":"IF(I1409=1,H1409*10^RANDBETWEEN(IF(Worksheet!$D$14,-1,0),0),IF(I1409=2,H1409*10^RANDBETWEEN(RANDBETWEEN(0,2),2),CHOOSE(RANDBETWEEN(1,3),5,10,20)))","v":1},{"$f":"IF(I1409=1,D1409,IF(I1409=3,\"%\",\"g\"))","v":"kg"},{"$f":"RANDBETWEEN(1,MIN(9,C1409))","v":1},{"$f":"IF(AND(Worksheet!$D$12,RAND()<0.2),3,IF(RAND()<Worksheet!$D$10/100,1,2))","v":1},1,{"$f":"CONCATENATE(\" \",D1409)","v":" kg"},1000,"g"]
[{"$f":"IF(COUNTIF($B$1:B1410,TRUE)=COUNTIF($B$1:B1409,TRUE),\"\",COUNTIF($B$1:B1410,TRUE))","v":1097},{"$f":"Worksheet!$D$22","v":true},{"$f":"RANDBETWEEN(5,RANDBETWEEN(5,Worksheet!$D$8))","v":25},"tonnes","±",{"$f":"IF(I1410=1,H1410*10^RANDBETWEEN(IF(Worksheet!$D$14,-1,0),0),IF(I1410=2,H1410*10^RANDBETWEEN(RANDBETWEEN(0,2),2),CHOOSE(RANDBETWEEN(1,3),5,10,20)))","v":2},{"$f":"IF(I1410=1,D1410,IF(I1410=3,\"%\",\"kg\"))","v":"tonnes"},{"$f":"RANDBETWEEN(1,MIN(9,C1410))","v":2},{"$f":"IF(AND(Worksheet!$D$12,RAND()<0.2),3,IF(RAND()<Worksheet!$D$10/100,1,2))","v":1},2,{"$f":"CONCATENATE(\" \",D1410)","v":" tonnes"},2000,"kg"]
[{"$f":"IF(COUNTIF($B$1:B1411,TRUE)=COUNTIF($B$1:B1410,TRUE),\"\",COUNTIF($B$1:B1411,TRUE))","v":1098},{"$f":"Worksheet!$D$24","v":true},{"$f":"RANDBETWEEN(5,RANDBETWEEN(5,Worksheet!$D$8))","v":24},"litres","±",{"$f":"IF(I1411=1,H1411*10^RANDBETWEEN(IF(Worksheet!$D$14,-1,0),0),IF(I1411=2,H1411*10^RANDBETWEEN(RANDBETWEEN(0,2),2),CHOOSE(RANDBETWEEN(1,3),5,10,20)))","v":0.70000000000000007},{"$f":"IF(I1411=1,D1411,IF(I1411=3,\"%\",\"ml\"))","v":"litres"},{"$f":"RANDBETWEEN(1,MIN(9,C1411))","v":7},{"$f":"IF(AND(Worksheet!$D$12,RAND()<0.2),3,IF(RAND()<Worksheet!$D$10/100,1,2))","v":1},0.70000000000000007,{"$f":"CONCATENATE(\" \",D1411)","v":" litres"},700.00000000000011,"ml"]
[{"$f":"IF(COUNTIF($B$1:B1412,TRUE)=COUNTIF($B$1:B1411,TRUE),\"\",COUNTIF($B$1:B1412,TRUE))","v":""},{"$f":"Worksheet!$D$26","v":false},{"$f":"RANDBETWEEN(5,RANDBETWEEN(5,Worksheet!$D$8))","v":70},"litres","±",{"$f":"IF(I1412=1,H1412*10^RANDBETWEEN(IF(Worksheet!$D$14,-1,0),0),IF(I1412=2,H1412*10^RANDBETWEEN(RANDBETWEEN(0,2),2),CHOOSE(RANDBETWEEN(1,3),5,10,20)))","v":0.5},{"$f":"IF(I1412=1,D1412,IF(I1412=3,\"%\",\"cm³\"))","v":"litres"},{"$f":"RANDBETWEEN(1,MIN(9,C1412))","v":5},{"$f":"IF(AND(Worksheet!$D$12,RAND()<0.2),3,IF(RAND()<Worksheet!$D$10/100,1,2))","v":1},0.5,{"$f":"CONCATENATE(\" \",D1412)","v":" litres"},500,"cm³"]
[{"$f":"IF(COUNTIF($B$1:B1413,TRUE)=COUNTIF($B$1:B1413,TRUE),\"\",COUNTIF($B$1:B1413,TRUE))","v":""},{"$f":"Worksheet!$B$28","v":true},{"$f":"RANDBETWEEN(5,20)","v":7},"°C","±",{"$f":"IF(I1413=1,H1413*10^RANDBETWEEN(IF(Worksheet!$D$14,-1,0),0),IF(I1413=2,H1413,CHOOSE(RANDBETWEEN(1,3),5,10,20)))","v":7},{"$f":"IF(I1413=1,D1413,IF(I1413=3,\"%\",\"sec\"))","v":"°C"},{"$f":"RANDBETWEEN(1,MIN(9,C1413))","v":7},{"$f":"IF(AND(Worksheet!$D$12,RAND()<0),3,IF(RAND()<Worksheet!$D$10/100,1,2))","v":1},{"$f":"IF(I1413=1,F1413,IF(I1413=2,F1413,IF(I1413=3,F1413/100*C1413,\"\")))","v":7},{"$f":"CONCATENATE(\" \",D1413)","v":" °C"},{"$f":"IF(I1413=1,F1413,IF(I1413=2,F1413,IF(I1413=3,F1413/100*C1413,\"\")))","v":7}," °C"]
[{"$f":"COUNTIF($B$1:B1414,TRUE)","v":1100},{"$f":"Worksheet!$B$20","v":true},{"$f":"RANDBETWEEN(5,RANDBETWEEN(5,Worksheet!$D$8))","v":77},"cm","±",{"$f":"IF(I1414=1,H1414*10^RANDBETWEEN(IF(Worksheet!$D$14,-1,0),0),IF(I1414=2,H1414,CHOOSE(RANDBETWEEN(1,3),5,10,20)))","v":0.70000000000000007},{"$f":"IF(I1414=1,D1414,IF(I1414=3,\"%\",\"mm\"))","v":"cm"},{"$f":"RANDBETWEEN(1,MIN(9,C1414))","v":7},{"$f":"IF(AND(Worksheet!$D$12,RAND()<0.2),3,IF(RAND()<Worksheet!$D$10/100,1,2))","v":1},{"$f":"IF(I1414=1,F1414,IF(I1414=2,F1414/10,IF(I1414=3,F1414/100*C1414,\"\")))","v":0.70000000000000007},{"$f":"CONCATENATE(\" \",D1414)","v":" cm"},{"$f":"IF(I1414=1,F1414*10,IF(I1414=2,F1414,IF(I1414=3,F1414/100*C1414*10,\"\")))","v":7.0000000000000009},"mm"]
[{"$f":"IF(COUNTIF($B$1:B1415,TRUE)=COUNTIF($B$1:B1414,TRUE),\"\",COUNTIF($B$1:B1415,TRUE))","v":1101},{"$f":"Worksheet!$B$22","v":true},{"$f":"RANDBETWEEN(5,RANDBETWEEN(5,Worksheet!$D$8))","v":186},"m","±",{"$f":"IF(I1415=1,H1415*10^RANDBETWEEN(IF(Worksheet!$D$14,-1,0),0),IF(I1415=2,H1415*10^RANDBETWEEN(RANDBETWEEN(0,1),1),CHOOSE(RANDBETWEEN(1,3),5,10,20)))","v":0.5},{"$f":"IF(I1415=1,D1415,IF(I1415=3,\"%\",\"cm\"))","v":"m"},{"$f":"RANDBETWEEN(1,MIN(9,C1415))","v":5},{"$f":"IF(AND(Worksheet!$D$12,RAND()<0.2),3,IF(RAND()<Worksheet!$D$10/100,1,2))","v":1},{"$f":"IF(I1415=1,F1415,IF(I1415=2,F1415/100,IF(I1415=3,F1415/100*C1415,\"\")))","v":0.5},{"$f":"CONCATENATE(\" \",D1415)","v":" m"},{"$f":"IF(I1415=1,F1415*100,IF(I1415=2,F1415,IF(I1415=3,F1415/100*C1415*100,\"\")))","v":50},"cm"]
[{"$f":"IF(COUNTIF($B$1:B1416,TRUE)=COUNTIF($B$1:B1415,TRUE),\"\",COUNTIF($B$1:B1416,TRUE))","v":1102},{"$f":"Worksheet!$B$24","v":true},{"$f":"RANDBETWEEN(5,RANDBETWEEN(5,Worksheet!$D$8))","v":8},"km","±",{"$f":"IF(I1416=1,H1416*10^RANDBETWEEN(IF(Worksheet!$D$14,-1,0),0),IF(I1416=2,H1416*10^RANDBETWEEN(RANDBETWEEN(0,2),2),CHOOSE(RANDBETWEEN(1,3),5,10,20)))","v":6},{"$f":"IF(I1416=1,D1416,IF(I1416=3,\"%\",\"m\"))","v":"km"},6,{"$f":"IF(AND(Worksheet!$D$12,RAND()<0.2),3,IF(RAND()<Worksheet!$D$10/100,1,2))","v":1},{"$f":"IF(I1416=1,F1416,IF(I1416=2,F1416/1000,IF(I1416=3,F1416/100*C1416,\"\")))","v":6}," km",{"$f":"IF(I1416=1,F1416*1000,IF(I1416=2,F1416,IF(I1416=3,F1416/100*C1416*1000,\"\")))","v":6000},"m"]
[{"$f":"IF(COUNTIF($B$1:B1417,TRUE)=COUNTIF($B$1:B1416,TRUE),\"\",COUNTIF($B$1:B1417,TRUE))","v":""},{"$f":"Worksheet!$B$26","v":false},{"$f":"RANDBETWEEN(5,RANDBETWEEN(5,Worksheet!$D$8))","v":30},"m","±",{"$f":"IF(I1417=1,H1417*10^RANDBETWEEN(IF(Worksheet!$D$14,-1,0),0),IF(I1417=2,H1417*10^RANDBETWEEN(RANDBETWEEN(0,2),2),CHOOSE(RANDBETWEEN(1,3),5,10,20)))","v":0.1},{"$f":"IF(I1417=1,D1417,IF(I1417=3,\"%\",\"mm\"))","v":"m"},1,{"$f":"IF(AND(Worksheet!$D$12,RAND()<0.2),3,IF(RAND()<Worksheet!$D$10/100,1,2))","v":1},0.1," m",100,"mm"]
[{"$f":"IF(COUNTIF($B$1:B1418,TRUE)=COUNTIF($B$1:B1417,TRUE),\"\",COUNTIF($B$1:B1418,TRUE))","v":1103},{"$f":"Worksheet!$D$20","v":true},{"$f":"RANDBETWEEN(5,RANDBETWEEN(5,Worksheet!$D$8))","v":5},"kg","±",{"$f":"IF(I1418=1,H1418*10^RANDBETWEEN(IF(Worksheet!$D$14,-1,0),0),IF(I1418=2,H1418*10^RANDBETWEEN(RANDBETWEEN(0,2),2),CHOOSE(RANDBETWEEN(1,3),5,10,20)))","v":200},{"$f":"IF(I1418=1,D1418,IF(I1418=3,\"%\",\"g\"))","v":"g"},{"$f":"RANDBETWEEN(1,MIN(9,C1418))","v":2},{"$f":"IF(AND(Worksheet!$D$12,RAND()<0.2),3,IF(RAND()<Worksheet!$D$10/100,1,2))","v":2},0.2,{"$f":"CONCATENATE(\" \",D1418)","v":" kg"},200,"g"]
[{"$f":"IF(COUNTIF($B$1:B1419,TRUE)=COUNTIF($B$1:B1418,TRUE),\"\",COUNTIF($B$1:B1419,TRUE))","v":1104},{"$f":"Worksheet!$D$22","v":true},{"$f":"RANDBETWEEN(5,RANDBETWEEN(5,Worksheet!$D$8))","v":58},"tonnes","±",{"$f":"IF(I1419=1,H1419*10^RANDBETWEEN(IF(Worksheet!$D$14,-1,0),0),IF(I1419=2,H1419*10^RANDBETWEEN(RANDBETWEEN(0,2),2),CHOOSE(RANDBETWEEN(1,3),5,10,20)))","v":80},{"$f":"IF(I1419=1,D1419,IF(I1419=3,\"%\",\"kg\"))","v":"kg"},{"$f":"RANDBETWEEN(1,MIN(9,C1419))","v":8},{"$f":"IF(AND(Worksheet!$D$12,RAND()<0.2),3,IF(RAND()<Worksheet!$D$10/100,1,2))","v":2},0.08,{"$f":"CONCATENATE(\" \",D1419)","v":" tonnes"},80,"kg"]
[{"$f":"IF(COUNTIF($B$1:B1420,TRUE)=COUNTIF($B$1:B1419,TRUE),\"\",COUNTIF($B$1:B1420,TRUE))","v":1105},{"$f":"Worksheet!$D$24","v":true},{"$f":"RANDBETWEEN(5,RANDBETWEEN(5,Worksheet!$D$8))","v":77},"litres","±",{"$f":"IF(I1420=1,H1420*10^RANDBETWEEN(IF(Worksheet!$D$14,-1,0),0),IF(I1420=2,H1420*10^RANDBETWEEN(RANDBETWEEN(0,2),2),CHOOSE(RANDBETWEEN(1,3),5,10,20)))","v":6},{"$f":"IF(I1420=1,D1420,IF(I1420=3,\"%\",\"ml\"))","v":"litres"},{"$f":"RANDBETWEEN(1,MIN(9,C1420))","v":6},{"$f":"IF(AND(Worksheet!$D$12,RAND()<0.2),3,IF(RAND()<Worksheet!$D$10/100,1,2))","v":1},6,{"$f":"CONCATENATE(\" \",D1420)","v":" litres"},6000,"ml"]
[{"$f":"IF(COUNTIF($B$1:B1421,TRUE)=COUNTIF($B$1:B1420,TRUE),\"\",COUNTIF($B$1:B1421,TRUE))","v":""},{"$f":"Worksheet!$D$26","v":false},{"$f":"RANDBETWEEN(5,RANDBETWEEN(5,Worksheet!$D$8))","v":93},"litres","±",{"$f":"IF(I1421=1,H1421*10^RANDBETWEEN(IF(Worksheet!$D$14,-1,0),0),IF(I1421=2,H1421*10^RANDBETWEEN(RANDBETWEEN(0,2),2),CHOOSE(RANDBETWEEN(1,3),5,10,20)))","v":0.70000000000000007},{"$f":"IF(I1421=1,D1421,IF(I1421=3,\"%\",\"cm³\"))","v":"litres"},{"$f":"RANDBETWEEN(1,MIN(9,C1421))","v":7},{"$f":"IF(AND(Worksheet!$D$12,RAND()<0.2),3,IF(RAND()<Worksheet!$D$10/100,1,2))","v":1},0.70000000000000007,{"$f":"CONCATENATE(\" \",D1421)","v":" litres"},700.00000000000011,"cm³"]
[{"$f":"IF(COUNTIF($B$1:B1422,TRUE)=COUNTIF($B$1:B1422,TRUE),\"\",COUNTIF($B$1:B1422,TRUE))","v":""},{"$f":"Worksheet!$B$28","v":true},{"$f":"RANDBETWEEN(5,20)","v":10},"°C","±",{"$f":"IF(I1422=1,H1422*10^RANDBETWEEN(IF(Worksheet!$D$14,-1,0),0),IF(I1422=2,H1422,CHOOSE(RANDBETWEEN(1,3),5,10,20)))","v":7},{"$f":"IF(I1422=1,D1422,IF(I1422=3,\"%\",\"sec\"))","v":"sec"},{"$f":"RANDBETWEEN(1,MIN(9,C1422))","v":7},{"$f":"IF(AND(Worksheet!$D$12,RAND()<0),3,IF(RAND()<Worksheet!$D$10/100,1,2))","v":2},{"$f":"IF(I1422=1,F1422,IF(I1422=2,F1422,IF(I1422=3,F1422/100*C1422,\"\")))","v":7},{"$f":"CONCATENATE(\" \",D1422)","v":" °C"},{"$f":"IF(I1422=1,F1422,IF(I1422=2,F1422,IF(I1422=3,F1422/100*C1422,\"\")))","v":7}," °C"]
[{"$f":"COUNTIF($B$1:B1423,TRUE)","v":1107},{"$f":"Worksheet!$B$20","v":true},{"$f":"RANDBETWEEN(5,RANDBETWEEN(5,Worksheet!$D$8))","v":97},"cm","±",{"$f":"IF(I1423=1,H1423*10^RANDBETWEEN(IF(Worksheet!$D$14,-1,0),0),IF(I1423=2,H1423,CHOOSE(RANDBETWEEN(1,3),5,10,20)))","v":5},{"$f":"IF(I1423=1,D1423,IF(I1423=3,\"%\",\"mm\"))","v":"cm"},{"$f":"RANDBETWEEN(1,MIN(9,C1423))","v":5},{"$f":"IF(AND(Worksheet!$D$12,RAND()<0.2),3,IF(RAND()<Worksheet!$D$10/100,1,2))","v":1},{"$f":"IF(I1423=1,F1423,IF(I1423=2,F1423/10,IF(I1423=3,F1423/100*C1423,\"\")))","v":5},{"$f":"CONCATENATE(\" \",D1423)","v":" cm"},{"$f":"IF(I1423=1,F1423*10,IF(I1423=2,F1423,IF(I1423=3,F1423/100*C1423*10,\"\")))","v":50},"mm"]
[{"$f":"IF(COUNTIF($B$1:B1424,TRUE)=COUNTIF($B$1:B1423,TRUE),\"\",COUNTIF($B$1:B1424,TRUE))","v":1108},{"$f":"Worksheet!$B$22","v":true},{"$f":"RANDBETWEEN(5,RANDBETWEEN(5,Worksheet!$D$8))","v":41},"m","±",{"$f":"IF(I1424=1,H1424*10^RANDBETWEEN(IF(Worksheet!$D$14,-1,0),0),IF(I1424=2,H1424*10^RANDBETWEEN(RANDBETWEEN(0,1),1),CHOOSE(RANDBETWEEN(1,3),5,10,20)))","v":0.1},{"$f":"IF(I1424=1,D1424,IF(I1424=3,\"%\",\"cm\"))","v":"m"},{"$f":"RANDBETWEEN(1,MIN(9,C1424))","v":1},{"$f":"IF(AND(Worksheet!$D$12,RAND()<0.2),3,IF(RAND()<Worksheet!$D$10/100,1,2))","v":1},{"$f":"IF(I1424=1,F1424,IF(I1424=2,F1424/100,IF(I1424=3,F1424/100*C1424,\"\")))","v":0.1},{"$f":"CONCATENATE(\" \",D1424)","v":" m"},{"$f":"IF(I1424=1,F1424*100,IF(I1424=2,F1424,IF(I1424=3,F1424/100*C1424*100,\"\")))","v":10},"cm"]
[{"$f":"IF(COUNTIF($B$1:B1425,TRUE)=COUNTIF($B$1:B1424,TRUE),\"\",COUNTIF($B$1:B1425,TRUE))","v":1109},{"$f":"Worksheet!$B$24","v":true},{"$f":"RANDBETWEEN(5,RANDBETWEEN(5,Worksheet!$D$8))","v":38},"km","±",{"$f":"IF(I1425=1,H1425*10^RANDBETWEEN(IF(Worksheet!$D$14,-1,0),0),IF(I1425=2,H1425*10^RANDBETWEEN(RANDBETWEEN(0,2),2),CHOOSE(RANDBETWEEN(1,3),5,10,20)))","v":0.8},{"$f":"IF(I1425=1,D1425,IF(I1425=3,\"%\",\"m\"))","v":"km"},8,{"$f":"IF(AND(Worksheet!$D$12,RAND()<0.2),3,IF(RAND()<Worksheet!$D$10/100,1,2))","v":1},{"$f":"IF(I1425=1,F1425,IF(I1425=2,F1425/1000,IF(I1425=3,F1425/100*C1425,\"\")))","v":0.8}," km",{"$f":"IF(I1425=1,F1425*1000,IF(I1425=2,F1425,IF(I1425=3,F1425/100*C1425*1000,\"\")))","v":800},"m"]
[{"$f":"IF(COUNTIF($B$1:B1426,TRUE)=COUNTIF($B$1:B1425,TRUE),\"\",COUNTIF($B$1:B1426,TRUE))","v":""},{"$f":"Worksheet!$B$26","v":false},{"$f":"RANDBETWEEN(5,RANDBETWEEN(5,Worksheet!$D$8))","v":21},"m","±",{"$f":"IF(I1426=1,H1426*10^RANDBETWEEN(IF(Worksheet!$D$14,-1,0),0),IF(I1426=2,H1426*10^RANDBETWEEN(RANDBETWEEN(0,2),2),CHOOSE(RANDBETWEEN(1,3),5,10,20)))","v":50},{"$f":"IF(I1426=1,D1426,IF(I1426=3,\"%\",\"mm\"))","v":"mm"},5,{"$f":"IF(AND(Worksheet!$D$12,RAND()<0.2),3,IF(RAND()<Worksheet!$D$10/100,1,2))","v":2},0.05," m",50,"mm"]
[{"$f":"IF(COUNTIF($B$1:B1427,TRUE)=COUNTIF($B$1:B1426,TRUE),\"\",COUNTIF($B$1:B1427,TRUE))","v":1110},{"$f":"Worksheet!$D$20","v":true},{"$f":"RANDBETWEEN(5,RANDBETWEEN(5,Worksheet!$D$8))","v":116},"kg","±",{"$f":"IF(I1427=1,H1427*10^RANDBETWEEN(IF(Worksheet!$D$14,-1,0),0),IF(I1427=2,H1427*10^RANDBETWEEN(RANDBETWEEN(0,2),2),CHOOSE(RANDBETWEEN(1,3),5,10,20)))","v":10},{"$f":"IF(I1427=1,D1427,IF(I1427=3,\"%\",\"g\"))","v":"%"},{"$f":"RANDBETWEEN(1,MIN(9,C1427))","v":6},{"$f":"IF(AND(Worksheet!$D$12,RAND()<0.2),3,IF(RAND()<Worksheet!$D$10/100,1,2))","v":3},11.600000000000001,{"$f":"CONCATENATE(\" \",D1427)","v":" kg"},11600.000000000002,"g"]
[{"$f":"IF(COUNTIF($B$1:B1428,TRUE)=COUNTIF($B$1:B1427,TRUE),\"\",COUNTIF($B$1:B1428,TRUE))","v":1111},{"$f":"Worksheet!$D$22","v":true},{"$f":"RANDBETWEEN(5,RANDBETWEEN(5,Worksheet!$D$8))","v":72},"tonnes","±",{"$f":"IF(I1428=1,H1428*10^RANDBETWEEN(IF(Worksheet!$D$14,-1,0),0),IF(I1428=2,H1428*10^RANDBETWEEN(RANDBETWEEN(0,2),2),CHOOSE(RANDBETWEEN(1,3),5,10,20)))","v":0.30000000000000004},{"$f":"IF(I1428=1,D1428,IF(I1428=3,\"%\",\"kg\"))","v":"tonnes"},{"$f":"RANDBETWEEN(1,MIN(9,C1428))","v":3},{"$f":"IF(AND(Worksheet!$D$12,RAND()<0.2),3,IF(RAND()<Worksheet!$D$10/100,1,2))","v":1},0.30000000000000004,{"$f":"CONCATENATE(\" \",D1428)","v":" tonnes"},300.00000000000006,"kg"]
[{"$f":"IF(COUNTIF($B$1:B1429,TRUE)=COUNTIF($B$1:B1428,TRUE),\"\",COUNTIF($B$1:B1429,TRUE))","v":1112},{"$f":"Worksheet!$D$24","v":true},{"$f":"RANDBETWEEN(5,RANDBETWEEN(5,Worksheet!$D$8))","v":18},"litres","±",{"$f":"IF(I1429=1,H1429*10^RANDBETWEEN(IF(Worksheet!$D$14,-1,0),0),IF(I1429=2,H1429*10^RANDBETWEEN(RANDBETWEEN(0,2),2),CHOOSE(RANDBETWEEN(1,3),5,10,20)))","v":2},{"$f":"IF(I1429=1,D1429,IF(I1429=3,\"%\",\"ml\"))","v":"litres"},{"$f":"RANDBETWEEN(1,MIN(9,C1429))","v":2},{"$f":"IF(AND(Worksheet!$D$12,RAND()<0.2),3,IF(RAND()<Worksheet!$D$10/100,1,2))","v":1},2,{"$f":"CONCATENATE(\" \",D1429)","v":" litres"},2000,"ml"]
[{"$f":"IF(COUNTIF($B$1:B1430,TRUE)=COUNTIF($B$1:B1429,TRUE),\"\",COUNTIF($B$1:B1430,TRUE))","v":""},{"$f":"Worksheet!$D$26","v":false},{"$f":"RANDBETWEEN(5,RANDBETWEEN(5,Worksheet!$D$8))","v":164},"litres","±",{"$f":"IF(I1430=1,H1430*10^RANDBETWEEN(IF(Worksheet!$D$14,-1,0),0),IF(I1430=2,H1430*10^RANDBETWEEN(RANDBETWEEN(0,2),2),CHOOSE(RANDBETWEEN(1,3),5,10,20)))","v":20},{"$f":"IF(I1430=1,D1430,IF(I1430=3,\"%\",\"cm³\"))","v":"%"},{"$f":"RANDBETWEEN(1,MIN(9,C1430))","v":9},{"$f":"IF(AND(Worksheet!$D$12,RAND()<0.2),3,IF(RAND()<Worksheet!$D$10/100,1,2))","v":3},32.800000000000004,{"$f":"CONCATENATE(\" \",D1430)","v":" litres"},32800.000000000007,"cm³"]
[{"$f":"IF(COUNTIF($B$1:B1431,TRUE)=COUNTIF($B$1:B1431,TRUE),\"\",COUNTIF($B$1:B1431,TRUE))","v":""},{"$f":"Worksheet!$B$28","v":true},{"$f":"RANDBETWEEN(5,20)","v":9},"°C","±",{"$f":"IF(I1431=1,H1431*10^RANDBETWEEN(IF(Worksheet!$D$14,-1,0),0),IF(I1431=2,H1431,CHOOSE(RANDBETWEEN(1,3),5,10,20)))","v":5},{"$f":"IF(I1431=1,D1431,IF(I1431=3,\"%\",\"sec\"))","v":"°C"},{"$f":"RANDBETWEEN(1,MIN(9,C1431))","v":5},{"$f":"IF(AND(Worksheet!$D$12,RAND()<0),3,IF(RAND()<Worksheet!$D$10/100,1,2))","v":1},{"$f":"IF(I1431=1,F1431,IF(I1431=2,F1431,IF(I1431=3,F1431/100*C1431,\"\")))","v":5},{"$f":"CONCATENATE(\" \",D1431)","v":" °C"},{"$f":"IF(I1431=1,F1431,IF(I1431=2,F1431,IF(I1431=3,F1431/100*C1431,\"\")))","v":5}," °C"]
[{"$f":"COUNTIF($B$1:B1432,TRUE)","v":1114},{"$f":"Worksheet!$B$20","v":true},{"$f":"RANDBETWEEN(5,RANDBETWEEN(5,Worksheet!$D$8))","v":40},"cm","±",{"$f":"IF(I1432=1,H1432*10^RANDBETWEEN(IF(Worksheet!$D$14,-1,0),0),IF(I1432=2,H1432,CHOOSE(RANDBETWEEN(1,3),5,10,20)))","v":0.30000000000000004},{"$f":"IF(I1432=1,D1432,IF(I1432=3,\"%\",\"mm\"))","v":"cm"},{"$f":"RANDBETWEEN(1,MIN(9,C1432))","v":3},{"$f":"IF(AND(Worksheet!$D$12,RAND()<0.2),3,IF(RAND()<Worksheet!$D$10/100,1,2))","v":1},{"$f":"IF(I1432=1,F1432,IF(I1432=2,F1432/10,IF(I1432=3,F1432/100*C1432,\"\")))","v":0.30000000000000004},{"$f":"CONCATENATE(\" \",D1432)","v":" cm"},{"$f":"IF(I1432=1,F1432*10,IF(I1432=2,F1432,IF(I1432=3,F1432/100*C1432*10,\"\")))","v":3.0000000000000004},"mm"]
[{"$f":"IF(COUNTIF($B$1:B1433,TRUE)=COUNTIF($B$1:B1432,TRUE),\"\",COUNTIF($B$1:B1433,TRUE))","v":1115},{"$f":"Worksheet!$B$22","v":true},{"$f":"RANDBETWEEN(5,RANDBETWEEN(5,Worksheet!$D$8))","v":8},"m","±",{"$f":"IF(I1433=1,H1433*10^RANDBETWEEN(IF(Worksheet!$D$14,-1,0),0),IF(I1433=2,H1433*10^RANDBETWEEN(RANDBETWEEN(0,1),1),CHOOSE(RANDBETWEEN(1,3),5,10,20)))","v":0.8},{"$f":"IF(I1433=1,D1433,IF(I1433=3,\"%\",\"cm\"))","v":"m"},{"$f":"RANDBETWEEN(1,MIN(9,C1433))","v":8},{"$f":"IF(AND(Worksheet!$D$12,RAND()<0.2),3,IF(RAND()<Worksheet!$D$10/100,1,2))","v":1},{"$f":"IF(I1433=1,F1433,IF(I1433=2,F1433/100,IF(I1433=3,F1433/100*C1433,\"\")))","v":0.8},{"$f":"CONCATENATE(\" \",D1433)","v":" m"},{"$f":"IF(I1433=1,F1433*100,IF(I1433=2,F1433,IF(I1433=3,F1433/100*C1433*100,\"\")))","v":80},"cm"]
[{"$f":"IF(COUNTIF($B$1:B1434,TRUE)=COUNTIF($B$1:B1433,TRUE),\"\",COUNTIF($B$1:B1434,TRUE))","v":1116},{"$f":"Worksheet!$B$24","v":true},{"$f":"RANDBETWEEN(5,RANDBETWEEN(5,Worksheet!$D$8))","v":75},"km","±",{"$f":"IF(I1434=1,H1434*10^RANDBETWEEN(IF(Worksheet!$D$14,-1,0),0),IF(I1434=2,H1434*10^RANDBETWEEN(RANDBETWEEN(0,2),2),CHOOSE(RANDBETWEEN(1,3),5,10,20)))","v":0.60000000000000009},{"$f":"IF(I1434=1,D1434,IF(I1434=3,\"%\",\"m\"))","v":"km"},6,{"$f":"IF(AND(Worksheet!$D$12,RAND()<0.2),3,IF(RAND()<Worksheet!$D$10/100,1,2))","v":1},{"$f":"IF(I1434=1,F1434,IF(I1434=2,F1434/1000,IF(I1434=3,F1434/100*C1434,\"\")))","v":0.60000000000000009}," km",{"$f":"IF(I1434=1,F1434*1000,IF(I1434=2,F1434,IF(I1434=3,F1434/100*C1434*1000,\"\")))","v":600.00000000000011},"m"]
[{"$f":"IF(COUNTIF($B$1:B1435,TRUE)=COUNTIF($B$1:B1434,TRUE),\"\",COUNTIF($B$1:B1435,TRUE))","v":""},{"$f":"Worksheet!$B$26","v":false},{"$f":"RANDBETWEEN(5,RANDBETWEEN(5,Worksheet!$D$8))","v":157},"m","±",{"$f":"IF(I1435=1,H1435*10^RANDBETWEEN(IF(Worksheet!$D$14,-1,0),0),IF(I1435=2,H1435*10^RANDBETWEEN(RANDBETWEEN(0,2),2),CHOOSE(RANDBETWEEN(1,3),5,10,20)))","v":1},{"$f":"IF(I1435=1,D1435,IF(I1435=3,\"%\",\"mm\"))","v":"m"},1,{"$f":"IF(AND(Worksheet!$D$12,RAND()<0.2),3,IF(RAND()<Worksheet!$D$10/100,1,2))","v":1},1," m",1000,"mm"]
[{"$f":"IF(COUNTIF($B$1:B1436,TRUE)=COUNTIF($B$1:B1435,TRUE),\"\",COUNTIF($B$1:B1436,TRUE))","v":1117},{"$f":"Worksheet!$D$20","v":true},{"$f":"RANDBETWEEN(5,RANDBETWEEN(5,Worksheet!$D$8))","v":21},"kg","±",{"$f":"IF(I1436=1,H1436*10^RANDBETWEEN(IF(Worksheet!$D$14,-1,0),0),IF(I1436=2,H1436*10^RANDBETWEEN(RANDBETWEEN(0,2),2),CHOOSE(RANDBETWEEN(1,3),5,10,20)))","v":0.2},{"$f":"IF(I1436=1,D1436,IF(I1436=3,\"%\",\"g\"))","v":"kg"},{"$f":"RANDBETWEEN(1,MIN(9,C1436))","v":2},{"$f":"IF(AND(Worksheet!$D$12,RAND()<0.2),3,IF(RAND()<Worksheet!$D$10/100,1,2))","v":1},0.2,{"$f":"CONCATENATE(\" \",D1436)","v":" kg"},200,"g"]
[{"$f":"IF(COUNTIF($B$1:B1437,TRUE)=COUNTIF($B$1:B1436,TRUE),\"\",COUNTIF($B$1:B1437,TRUE))","v":1118},{"$f":"Worksheet!$D$22","v":true},{"$f":"RANDBETWEEN(5,RANDBETWEEN(5,Worksheet!$D$8))","v":79},"tonnes","±",{"$f":"IF(I1437=1,H1437*10^RANDBETWEEN(IF(Worksheet!$D$14,-1,0),0),IF(I1437=2,H1437*10^RANDBETWEEN(RANDBETWEEN(0,2),2),CHOOSE(RANDBETWEEN(1,3),5,10,20)))","v":0.5},{"$f":"IF(I1437=1,D1437,IF(I1437=3,\"%\",\"kg\"))","v":"tonnes"},{"$f":"RANDBETWEEN(1,MIN(9,C1437))","v":5},{"$f":"IF(AND(Worksheet!$D$12,RAND()<0.2),3,IF(RAND()<Worksheet!$D$10/100,1,2))","v":1},0.5,{"$f":"CONCATENATE(\" \",D1437)","v":" tonnes"},500,"kg"]
[{"$f":"IF(COUNTIF($B$1:B1438,TRUE)=COUNTIF($B$1:B1437,TRUE),\"\",COUNTIF($B$1:B1438,TRUE))","v":1119},{"$f":"Worksheet!$D$24","v":true},{"$f":"RANDBETWEEN(5,RANDBETWEEN(5,Worksheet!$D$8))","v":62},"litres","±",{"$f":"IF(I1438=1,H1438*10^RANDBETWEEN(IF(Worksheet!$D$14,-1,0),0),IF(I1438=2,H1438*10^RANDBETWEEN(RANDBETWEEN(0,2),2),CHOOSE(RANDBETWEEN(1,3),5,10,20)))","v":1},{"$f":"IF(I1438=1,D1438,IF(I1438=3,\"%\",\"ml\"))","v":"litres"},{"$f":"RANDBETWEEN(1,MIN(9,C1438))","v":1},{"$f":"IF(AND(Worksheet!$D$12,RAND()<0.2),3,IF(RAND()<Worksheet!$D$10/100,1,2))","v":1},1,{"$f":"CONCATENATE(\" \",D1438)","v":" litres"},1000,"ml"]
[{"$f":"IF(COUNTIF($B$1:B1439,TRUE)=COUNTIF($B$1:B1438,TRUE),\"\",COUNTIF($B$1:B1439,TRUE))","v":""},{"$f":"Worksheet!$D$26","v":false},{"$f":"RANDBETWEEN(5,RANDBETWEEN(5,Worksheet!$D$8))","v":146},"litres","±",{"$f":"IF(I1439=1,H1439*10^RANDBETWEEN(IF(Worksheet!$D$14,-1,0),0),IF(I1439=2,H1439*10^RANDBETWEEN(RANDBETWEEN(0,2),2),CHOOSE(RANDBETWEEN(1,3),5,10,20)))","v":80},{"$f":"IF(I1439=1,D1439,IF(I1439=3,\"%\",\"cm³\"))","v":"cm³"},{"$f":"RANDBETWEEN(1,MIN(9,C1439))","v":8},{"$f":"IF(AND(Worksheet!$D$12,RAND()<0.2),3,IF(RAND()<Worksheet!$D$10/100,1,2))","v":2},0.08,{"$f":"CONCATENATE(\" \",D1439)","v":" litres"},80,"cm³"]
[{"$f":"IF(COUNTIF($B$1:B1440,TRUE)=COUNTIF($B$1:B1440,TRUE),\"\",COUNTIF($B$1:B1440,TRUE))","v":""},{"$f":"Worksheet!$B$28","v":true},{"$f":"RANDBETWEEN(5,20)","v":20},"°C","±",{"$f":"IF(I1440=1,H1440*10^RANDBETWEEN(IF(Worksheet!$D$14,-1,0),0),IF(I1440=2,H1440,CHOOSE(RANDBETWEEN(1,3),5,10,20)))","v":0.2},{"$f":"IF(I1440=1,D1440,IF(I1440=3,\"%\",\"sec\"))","v":"°C"},{"$f":"RANDBETWEEN(1,MIN(9,C1440))","v":2},{"$f":"IF(AND(Worksheet!$D$12,RAND()<0),3,IF(RAND()<Worksheet!$D$10/100,1,2))","v":1},{"$f":"IF(I1440=1,F1440,IF(I1440=2,F1440,IF(I1440=3,F1440/100*C1440,\"\")))","v":0.2},{"$f":"CONCATENATE(\" \",D1440)","v":" °C"},{"$f":"IF(I1440=1,F1440,IF(I1440=2,F1440,IF(I1440=3,F1440/100*C1440,\"\")))","v":0.2}," °C"]
[{"$f":"COUNTIF($B$1:B1441,TRUE)","v":1121},{"$f":"Worksheet!$B$20","v":true},{"$f":"RANDBETWEEN(5,RANDBETWEEN(5,Worksheet!$D$8))","v":33},"cm","±",{"$f":"IF(I1441=1,H1441*10^RANDBETWEEN(IF(Worksheet!$D$14,-1,0),0),IF(I1441=2,H1441,CHOOSE(RANDBETWEEN(1,3),5,10,20)))","v":0.60000000000000009},{"$f":"IF(I1441=1,D1441,IF(I1441=3,\"%\",\"mm\"))","v":"cm"},{"$f":"RANDBETWEEN(1,MIN(9,C1441))","v":6},{"$f":"IF(AND(Worksheet!$D$12,RAND()<0.2),3,IF(RAND()<Worksheet!$D$10/100,1,2))","v":1},{"$f":"IF(I1441=1,F1441,IF(I1441=2,F1441/10,IF(I1441=3,F1441/100*C1441,\"\")))","v":0.60000000000000009},{"$f":"CONCATENATE(\" \",D1441)","v":" cm"},{"$f":"IF(I1441=1,F1441*10,IF(I1441=2,F1441,IF(I1441=3,F1441/100*C1441*10,\"\")))","v":6.0000000000000009},"mm"]
[{"$f":"IF(COUNTIF($B$1:B1442,TRUE)=COUNTIF($B$1:B1441,TRUE),\"\",COUNTIF($B$1:B1442,TRUE))","v":1122},{"$f":"Worksheet!$B$22","v":true},{"$f":"RANDBETWEEN(5,RANDBETWEEN(5,Worksheet!$D$8))","v":29},"m","±",{"$f":"IF(I1442=1,H1442*10^RANDBETWEEN(IF(Worksheet!$D$14,-1,0),0),IF(I1442=2,H1442*10^RANDBETWEEN(RANDBETWEEN(0,1),1),CHOOSE(RANDBETWEEN(1,3),5,10,20)))","v":20},{"$f":"IF(I1442=1,D1442,IF(I1442=3,\"%\",\"cm\"))","v":"%"},{"$f":"RANDBETWEEN(1,MIN(9,C1442))","v":2},{"$f":"IF(AND(Worksheet!$D$12,RAND()<0.2),3,IF(RAND()<Worksheet!$D$10/100,1,2))","v":3},{"$f":"IF(I1442=1,F1442,IF(I1442=2,F1442/100,IF(I1442=3,F1442/100*C1442,\"\")))","v":5.8000000000000007},{"$f":"CONCATENATE(\" \",D1442)","v":" m"},{"$f":"IF(I1442=1,F1442*100,IF(I1442=2,F1442,IF(I1442=3,F1442/100*C1442*100,\"\")))","v":580.00000000000011},"cm"]
[{"$f":"IF(COUNTIF($B$1:B1443,TRUE)=COUNTIF($B$1:B1442,TRUE),\"\",COUNTIF($B$1:B1443,TRUE))","v":1123},{"$f":"Worksheet!$B$24","v":true},{"$f":"RANDBETWEEN(5,RANDBETWEEN(5,Worksheet!$D$8))","v":69},"km","±",{"$f":"IF(I1443=1,H1443*10^RANDBETWEEN(IF(Worksheet!$D$14,-1,0),0),IF(I1443=2,H1443*10^RANDBETWEEN(RANDBETWEEN(0,2),2),CHOOSE(RANDBETWEEN(1,3),5,10,20)))","v":10},{"$f":"IF(I1443=1,D1443,IF(I1443=3,\"%\",\"m\"))","v":"%"},3,{"$f":"IF(AND(Worksheet!$D$12,RAND()<0.2),3,IF(RAND()<Worksheet!$D$10/100,1,2))","v":3},{"$f":"IF(I1443=1,F1443,IF(I1443=2,F1443/1000,IF(I1443=3,F1443/100*C1443,\"\")))","v":6.9}," km",{"$f":"IF(I1443=1,F1443*1000,IF(I1443=2,F1443,IF(I1443=3,F1443/100*C1443*1000,\"\")))","v":6900},"m"]
[{"$f":"IF(COUNTIF($B$1:B1444,TRUE)=COUNTIF($B$1:B1443,TRUE),\"\",COUNTIF($B$1:B1444,TRUE))","v":""},{"$f":"Worksheet!$B$26","v":false},{"$f":"RANDBETWEEN(5,RANDBETWEEN(5,Worksheet!$D$8))","v":19},"m","±",{"$f":"IF(I1444=1,H1444*10^RANDBETWEEN(IF(Worksheet!$D$14,-1,0),0),IF(I1444=2,H1444*10^RANDBETWEEN(RANDBETWEEN(0,2),2),CHOOSE(RANDBETWEEN(1,3),5,10,20)))","v":0.1},{"$f":"IF(I1444=1,D1444,IF(I1444=3,\"%\",\"mm\"))","v":"m"},1,{"$f":"IF(AND(Worksheet!$D$12,RAND()<0.2),3,IF(RAND()<Worksheet!$D$10/100,1,2))","v":1},0.1," m",100,"mm"]
[{"$f":"IF(COUNTIF($B$1:B1445,TRUE)=COUNTIF($B$1:B1444,TRUE),\"\",COUNTIF($B$1:B1445,TRUE))","v":1124},{"$f":"Worksheet!$D$20","v":true},{"$f":"RANDBETWEEN(5,RANDBETWEEN(5,Worksheet!$D$8))","v":75},"kg","±",{"$f":"IF(I1445=1,H1445*10^RANDBETWEEN(IF(Worksheet!$D$14,-1,0),0),IF(I1445=2,H1445*10^RANDBETWEEN(RANDBETWEEN(0,2),2),CHOOSE(RANDBETWEEN(1,3),5,10,20)))","v":9},{"$f":"IF(I1445=1,D1445,IF(I1445=3,\"%\",\"g\"))","v":"kg"},{"$f":"RANDBETWEEN(1,MIN(9,C1445))","v":9},{"$f":"IF(AND(Worksheet!$D$12,RAND()<0.2),3,IF(RAND()<Worksheet!$D$10/100,1,2))","v":1},9,{"$f":"CONCATENATE(\" \",D1445)","v":" kg"},9000,"g"]
[{"$f":"IF(COUNTIF($B$1:B1446,TRUE)=COUNTIF($B$1:B1445,TRUE),\"\",COUNTIF($B$1:B1446,TRUE))","v":1125},{"$f":"Worksheet!$D$22","v":true},{"$f":"RANDBETWEEN(5,RANDBETWEEN(5,Worksheet!$D$8))","v":130},"tonnes","±",{"$f":"IF(I1446=1,H1446*10^RANDBETWEEN(IF(Worksheet!$D$14,-1,0),0),IF(I1446=2,H1446*10^RANDBETWEEN(RANDBETWEEN(0,2),2),CHOOSE(RANDBETWEEN(1,3),5,10,20)))","v":0.5},{"$f":"IF(I1446=1,D1446,IF(I1446=3,\"%\",\"kg\"))","v":"tonnes"},{"$f":"RANDBETWEEN(1,MIN(9,C1446))","v":5},{"$f":"IF(AND(Worksheet!$D$12,RAND()<0.2),3,IF(RAND()<Worksheet!$D$10/100,1,2))","v":1},0.5,{"$f":"CONCATENATE(\" \",D1446)","v":" tonnes"},500,"kg"]
[{"$f":"IF(COUNTIF($B$1:B1447,TRUE)=COUNTIF($B$1:B1446,TRUE),\"\",COUNTIF($B$1:B1447,TRUE))","v":1126},{"$f":"Worksheet!$D$24","v":true},{"$f":"RANDBETWEEN(5,RANDBETWEEN(5,Worksheet!$D$8))","v":21},"litres","±",{"$f":"IF(I1447=1,H1447*10^RANDBETWEEN(IF(Worksheet!$D$14,-1,0),0),IF(I1447=2,H1447*10^RANDBETWEEN(RANDBETWEEN(0,2),2),CHOOSE(RANDBETWEEN(1,3),5,10,20)))","v":0.1},{"$f":"IF(I1447=1,D1447,IF(I1447=3,\"%\",\"ml\"))","v":"litres"},{"$f":"RANDBETWEEN(1,MIN(9,C1447))","v":1},{"$f":"IF(AND(Worksheet!$D$12,RAND()<0.2),3,IF(RAND()<Worksheet!$D$10/100,1,2))","v":1},0.1,{"$f":"CONCATENATE(\" \",D1447)","v":" litres"},100,"ml"]
[{"$f":"IF(COUNTIF($B$1:B1448,TRUE)=COUNTIF($B$1:B1447,TRUE),\"\",COUNTIF($B$1:B1448,TRUE))","v":""},{"$f":"Worksheet!$D$26","v":false},{"$f":"RANDBETWEEN(5,RANDBETWEEN(5,Worksheet!$D$8))","v":8},"litres","±",{"$f":"IF(I1448=1,H1448*10^RANDBETWEEN(IF(Worksheet!$D$14,-1,0),0),IF(I1448=2,H1448*10^RANDBETWEEN(RANDBETWEEN(0,2),2),CHOOSE(RANDBETWEEN(1,3),5,10,20)))","v":5},{"$f":"IF(I1448=1,D1448,IF(I1448=3,\"%\",\"cm³\"))","v":"%"},{"$f":"RANDBETWEEN(1,MIN(9,C1448))","v":2},{"$f":"IF(AND(Worksheet!$D$12,RAND()<0.2),3,IF(RAND()<Worksheet!$D$10/100,1,2))","v":3},0.4,{"$f":"CONCATENATE(\" \",D1448)","v":" litres"},400,"cm³"]
[{"$f":"IF(COUNTIF($B$1:B1449,TRUE)=COUNTIF($B$1:B1449,TRUE),\"\",COUNTIF($B$1:B1449,TRUE))","v":""},{"$f":"Worksheet!$B$28","v":true},{"$f":"RANDBETWEEN(5,20)","v":10},"°C","±",{"$f":"IF(I1449=1,H1449*10^RANDBETWEEN(IF(Worksheet!$D$14,-1,0),0),IF(I1449=2,H1449,CHOOSE(RANDBETWEEN(1,3),5,10,20)))","v":0.5},{"$f":"IF(I1449=1,D1449,IF(I1449=3,\"%\",\"sec\"))","v":"°C"},{"$f":"RANDBETWEEN(1,MIN(9,C1449))","v":5},{"$f":"IF(AND(Worksheet!$D$12,RAND()<0),3,IF(RAND()<Worksheet!$D$10/100,1,2))","v":1},{"$f":"IF(I1449=1,F1449,IF(I1449=2,F1449,IF(I1449=3,F1449/100*C1449,\"\")))","v":0.5},{"$f":"CONCATENATE(\" \",D1449)","v":" °C"},{"$f":"IF(I1449=1,F1449,IF(I1449=2,F1449,IF(I1449=3,F1449/100*C1449,\"\")))","v":0.5}," °C"]
[{"$f":"COUNTIF($B$1:B1450,TRUE)","v":1128},{"$f":"Worksheet!$B$20","v":true},{"$f":"RANDBETWEEN(5,RANDBETWEEN(5,Worksheet!$D$8))","v":34},"cm","±",{"$f":"IF(I1450=1,H1450*10^RANDBETWEEN(IF(Worksheet!$D$14,-1,0),0),IF(I1450=2,H1450,CHOOSE(RANDBETWEEN(1,3),5,10,20)))","v":8},{"$f":"IF(I1450=1,D1450,IF(I1450=3,\"%\",\"mm\"))","v":"cm"},{"$f":"RANDBETWEEN(1,MIN(9,C1450))","v":8},{"$f":"IF(AND(Worksheet!$D$12,RAND()<0.2),3,IF(RAND()<Worksheet!$D$10/100,1,2))","v":1},{"$f":"IF(I1450=1,F1450,IF(I1450=2,F1450/10,IF(I1450=3,F1450/100*C1450,\"\")))","v":8},{"$f":"CONCATENATE(\" \",D1450)","v":" cm"},{"$f":"IF(I1450=1,F1450*10,IF(I1450=2,F1450,IF(I1450=3,F1450/100*C1450*10,\"\")))","v":80},"mm"]
[{"$f":"IF(COUNTIF($B$1:B1451,TRUE)=COUNTIF($B$1:B1450,TRUE),\"\",COUNTIF($B$1:B1451,TRUE))","v":1129},{"$f":"Worksheet!$B$22","v":true},{"$f":"RANDBETWEEN(5,RANDBETWEEN(5,Worksheet!$D$8))","v":45},"m","±",{"$f":"IF(I1451=1,H1451*10^RANDBETWEEN(IF(Worksheet!$D$14,-1,0),0),IF(I1451=2,H1451*10^RANDBETWEEN(RANDBETWEEN(0,1),1),CHOOSE(RANDBETWEEN(1,3),5,10,20)))","v":20},{"$f":"IF(I1451=1,D1451,IF(I1451=3,\"%\",\"cm\"))","v":"%"},{"$f":"RANDBETWEEN(1,MIN(9,C1451))","v":5},{"$f":"IF(AND(Worksheet!$D$12,RAND()<0.2),3,IF(RAND()<Worksheet!$D$10/100,1,2))","v":3},{"$f":"IF(I1451=1,F1451,IF(I1451=2,F1451/100,IF(I1451=3,F1451/100*C1451,\"\")))","v":9},{"$f":"CONCATENATE(\" \",D1451)","v":" m"},{"$f":"IF(I1451=1,F1451*100,IF(I1451=2,F1451,IF(I1451=3,F1451/100*C1451*100,\"\")))","v":900},"cm"]
[{"$f":"IF(COUNTIF($B$1:B1452,TRUE)=COUNTIF($B$1:B1451,TRUE),\"\",COUNTIF($B$1:B1452,TRUE))","v":1130},{"$f":"Worksheet!$B$24","v":true},{"$f":"RANDBETWEEN(5,RANDBETWEEN(5,Worksheet!$D$8))","v":69},"km","±",{"$f":"IF(I1452=1,H1452*10^RANDBETWEEN(IF(Worksheet!$D$14,-1,0),0),IF(I1452=2,H1452*10^RANDBETWEEN(RANDBETWEEN(0,2),2),CHOOSE(RANDBETWEEN(1,3),5,10,20)))","v":1},{"$f":"IF(I1452=1,D1452,IF(I1452=3,\"%\",\"m\"))","v":"km"},1,{"$f":"IF(AND(Worksheet!$D$12,RAND()<0.2),3,IF(RAND()<Worksheet!$D$10/100,1,2))","v":1},{"$f":"IF(I1452=1,F1452,IF(I1452=2,F1452/1000,IF(I1452=3,F1452/100*C1452,\"\")))","v":1}," km",{"$f":"IF(I1452=1,F1452*1000,IF(I1452=2,F1452,IF(I1452=3,F1452/100*C1452*1000,\"\")))","v":1000},"m"]
[{"$f":"IF(COUNTIF($B$1:B1453,TRUE)=COUNTIF($B$1:B1452,TRUE),\"\",COUNTIF($B$1:B1453,TRUE))","v":""},{"$f":"Worksheet!$B$26","v":false},{"$f":"RANDBETWEEN(5,RANDBETWEEN(5,Worksheet!$D$8))","v":32},"m","±",{"$f":"IF(I1453=1,H1453*10^RANDBETWEEN(IF(Worksheet!$D$14,-1,0),0),IF(I1453=2,H1453*10^RANDBETWEEN(RANDBETWEEN(0,2),2),CHOOSE(RANDBETWEEN(1,3),5,10,20)))","v":20},{"$f":"IF(I1453=1,D1453,IF(I1453=3,\"%\",\"mm\"))","v":"%"},8,{"$f":"IF(AND(Worksheet!$D$12,RAND()<0.2),3,IF(RAND()<Worksheet!$D$10/100,1,2))","v":3},6.4," m",6400,"mm"]
[{"$f":"IF(COUNTIF($B$1:B1454,TRUE)=COUNTIF($B$1:B1453,TRUE),\"\",COUNTIF($B$1:B1454,TRUE))","v":1131},{"$f":"Worksheet!$D$20","v":true},{"$f":"RANDBETWEEN(5,RANDBETWEEN(5,Worksheet!$D$8))","v":155},"kg","±",{"$f":"IF(I1454=1,H1454*10^RANDBETWEEN(IF(Worksheet!$D$14,-1,0),0),IF(I1454=2,H1454*10^RANDBETWEEN(RANDBETWEEN(0,2),2),CHOOSE(RANDBETWEEN(1,3),5,10,20)))","v":0.2},{"$f":"IF(I1454=1,D1454,IF(I1454=3,\"%\",\"g\"))","v":"kg"},{"$f":"RANDBETWEEN(1,MIN(9,C1454))","v":2},{"$f":"IF(AND(Worksheet!$D$12,RAND()<0.2),3,IF(RAND()<Worksheet!$D$10/100,1,2))","v":1},0.2,{"$f":"CONCATENATE(\" \",D1454)","v":" kg"},200,"g"]
[{"$f":"IF(COUNTIF($B$1:B1455,TRUE)=COUNTIF($B$1:B1454,TRUE),\"\",COUNTIF($B$1:B1455,TRUE))","v":1132},{"$f":"Worksheet!$D$22","v":true},{"$f":"RANDBETWEEN(5,RANDBETWEEN(5,Worksheet!$D$8))","v":93},"tonnes","±",{"$f":"IF(I1455=1,H1455*10^RANDBETWEEN(IF(Worksheet!$D$14,-1,0),0),IF(I1455=2,H1455*10^RANDBETWEEN(RANDBETWEEN(0,2),2),CHOOSE(RANDBETWEEN(1,3),5,10,20)))","v":0.70000000000000007},{"$f":"IF(I1455=1,D1455,IF(I1455=3,\"%\",\"kg\"))","v":"tonnes"},{"$f":"RANDBETWEEN(1,MIN(9,C1455))","v":7},{"$f":"IF(AND(Worksheet!$D$12,RAND()<0.2),3,IF(RAND()<Worksheet!$D$10/100,1,2))","v":1},0.70000000000000007,{"$f":"CONCATENATE(\" \",D1455)","v":" tonnes"},700.00000000000011,"kg"]
[{"$f":"IF(COUNTIF($B$1:B1456,TRUE)=COUNTIF($B$1:B1455,TRUE),\"\",COUNTIF($B$1:B1456,TRUE))","v":1133},{"$f":"Worksheet!$D$24","v":true},{"$f":"RANDBETWEEN(5,RANDBETWEEN(5,Worksheet!$D$8))","v":14},"litres","±",{"$f":"IF(I1456=1,H1456*10^RANDBETWEEN(IF(Worksheet!$D$14,-1,0),0),IF(I1456=2,H1456*10^RANDBETWEEN(RANDBETWEEN(0,2),2),CHOOSE(RANDBETWEEN(1,3),5,10,20)))","v":0.4},{"$f":"IF(I1456=1,D1456,IF(I1456=3,\"%\",\"ml\"))","v":"litres"},{"$f":"RANDBETWEEN(1,MIN(9,C1456))","v":4},{"$f":"IF(AND(Worksheet!$D$12,RAND()<0.2),3,IF(RAND()<Worksheet!$D$10/100,1,2))","v":1},0.4,{"$f":"CONCATENATE(\" \",D1456)","v":" litres"},400,"ml"]
[{"$f":"IF(COUNTIF($B$1:B1457,TRUE)=COUNTIF($B$1:B1456,TRUE),\"\",COUNTIF($B$1:B1457,TRUE))","v":""},{"$f":"Worksheet!$D$26","v":false},{"$f":"RANDBETWEEN(5,RANDBETWEEN(5,Worksheet!$D$8))","v":74},"litres","±",{"$f":"IF(I1457=1,H1457*10^RANDBETWEEN(IF(Worksheet!$D$14,-1,0),0),IF(I1457=2,H1457*10^RANDBETWEEN(RANDBETWEEN(0,2),2),CHOOSE(RANDBETWEEN(1,3),5,10,20)))","v":10},{"$f":"IF(I1457=1,D1457,IF(I1457=3,\"%\",\"cm³\"))","v":"%"},{"$f":"RANDBETWEEN(1,MIN(9,C1457))","v":8},{"$f":"IF(AND(Worksheet!$D$12,RAND()<0.2),3,IF(RAND()<Worksheet!$D$10/100,1,2))","v":3},7.4,{"$f":"CONCATENATE(\" \",D1457)","v":" litres"},7400,"cm³"]
[{"$f":"IF(COUNTIF($B$1:B1458,TRUE)=COUNTIF($B$1:B1458,TRUE),\"\",COUNTIF($B$1:B1458,TRUE))","v":""},{"$f":"Worksheet!$B$28","v":true},{"$f":"RANDBETWEEN(5,20)","v":6},"°C","±",{"$f":"IF(I1458=1,H1458*10^RANDBETWEEN(IF(Worksheet!$D$14,-1,0),0),IF(I1458=2,H1458,CHOOSE(RANDBETWEEN(1,3),5,10,20)))","v":5},{"$f":"IF(I1458=1,D1458,IF(I1458=3,\"%\",\"sec\"))","v":"°C"},{"$f":"RANDBETWEEN(1,MIN(9,C1458))","v":5},{"$f":"IF(AND(Worksheet!$D$12,RAND()<0),3,IF(RAND()<Worksheet!$D$10/100,1,2))","v":1},{"$f":"IF(I1458=1,F1458,IF(I1458=2,F1458,IF(I1458=3,F1458/100*C1458,\"\")))","v":5},{"$f":"CONCATENATE(\" \",D1458)","v":" °C"},{"$f":"IF(I1458=1,F1458,IF(I1458=2,F1458,IF(I1458=3,F1458/100*C1458,\"\")))","v":5}," °C"]
[{"$f":"COUNTIF($B$1:B1459,TRUE)","v":1135},{"$f":"Worksheet!$B$20","v":true},{"$f":"RANDBETWEEN(5,RANDBETWEEN(5,Worksheet!$D$8))","v":56},"cm","±",{"$f":"IF(I1459=1,H1459*10^RANDBETWEEN(IF(Worksheet!$D$14,-1,0),0),IF(I1459=2,H1459,CHOOSE(RANDBETWEEN(1,3),5,10,20)))","v":4},{"$f":"IF(I1459=1,D1459,IF(I1459=3,\"%\",\"mm\"))","v":"cm"},{"$f":"RANDBETWEEN(1,MIN(9,C1459))","v":4},{"$f":"IF(AND(Worksheet!$D$12,RAND()<0.2),3,IF(RAND()<Worksheet!$D$10/100,1,2))","v":1},{"$f":"IF(I1459=1,F1459,IF(I1459=2,F1459/10,IF(I1459=3,F1459/100*C1459,\"\")))","v":4},{"$f":"CONCATENATE(\" \",D1459)","v":" cm"},{"$f":"IF(I1459=1,F1459*10,IF(I1459=2,F1459,IF(I1459=3,F1459/100*C1459*10,\"\")))","v":40},"mm"]
[{"$f":"IF(COUNTIF($B$1:B1460,TRUE)=COUNTIF($B$1:B1459,TRUE),\"\",COUNTIF($B$1:B1460,TRUE))","v":1136},{"$f":"Worksheet!$B$22","v":true},{"$f":"RANDBETWEEN(5,RANDBETWEEN(5,Worksheet!$D$8))","v":21},"m","±",{"$f":"IF(I1460=1,H1460*10^RANDBETWEEN(IF(Worksheet!$D$14,-1,0),0),IF(I1460=2,H1460*10^RANDBETWEEN(RANDBETWEEN(0,1),1),CHOOSE(RANDBETWEEN(1,3),5,10,20)))","v":3},{"$f":"IF(I1460=1,D1460,IF(I1460=3,\"%\",\"cm\"))","v":"m"},{"$f":"RANDBETWEEN(1,MIN(9,C1460))","v":3},{"$f":"IF(AND(Worksheet!$D$12,RAND()<0.2),3,IF(RAND()<Worksheet!$D$10/100,1,2))","v":1},{"$f":"IF(I1460=1,F1460,IF(I1460=2,F1460/100,IF(I1460=3,F1460/100*C1460,\"\")))","v":3},{"$f":"CONCATENATE(\" \",D1460)","v":" m"},{"$f":"IF(I1460=1,F1460*100,IF(I1460=2,F1460,IF(I1460=3,F1460/100*C1460*100,\"\")))","v":300},"cm"]
[{"$f":"IF(COUNTIF($B$1:B1461,TRUE)=COUNTIF($B$1:B1460,TRUE),\"\",COUNTIF($B$1:B1461,TRUE))","v":1137},{"$f":"Worksheet!$B$24","v":true},{"$f":"RANDBETWEEN(5,RANDBETWEEN(5,Worksheet!$D$8))","v":57},"km","±",{"$f":"IF(I1461=1,H1461*10^RANDBETWEEN(IF(Worksheet!$D$14,-1,0),0),IF(I1461=2,H1461*10^RANDBETWEEN(RANDBETWEEN(0,2),2),CHOOSE(RANDBETWEEN(1,3),5,10,20)))","v":4},{"$f":"IF(I1461=1,D1461,IF(I1461=3,\"%\",\"m\"))","v":"km"},4,{"$f":"IF(AND(Worksheet!$D$12,RAND()<0.2),3,IF(RAND()<Worksheet!$D$10/100,1,2))","v":1},{"$f":"IF(I1461=1,F1461,IF(I1461=2,F1461/1000,IF(I1461=3,F1461/100*C1461,\"\")))","v":4}," km",{"$f":"IF(I1461=1,F1461*1000,IF(I1461=2,F1461,IF(I1461=3,F1461/100*C1461*1000,\"\")))","v":4000},"m"]
[{"$f":"IF(COUNTIF($B$1:B1462,TRUE)=COUNTIF($B$1:B1461,TRUE),\"\",COUNTIF($B$1:B1462,TRUE))","v":""},{"$f":"Worksheet!$B$26","v":false},{"$f":"RANDBETWEEN(5,RANDBETWEEN(5,Worksheet!$D$8))","v":49},"m","±",{"$f":"IF(I1462=1,H1462*10^RANDBETWEEN(IF(Worksheet!$D$14,-1,0),0),IF(I1462=2,H1462*10^RANDBETWEEN(RANDBETWEEN(0,2),2),CHOOSE(RANDBETWEEN(1,3),5,10,20)))","v":4},{"$f":"IF(I1462=1,D1462,IF(I1462=3,\"%\",\"mm\"))","v":"m"},4,{"$f":"IF(AND(Worksheet!$D$12,RAND()<0.2),3,IF(RAND()<Worksheet!$D$10/100,1,2))","v":1},4," m",4000,"mm"]
[{"$f":"IF(COUNTIF($B$1:B1463,TRUE)=COUNTIF($B$1:B1462,TRUE),\"\",COUNTIF($B$1:B1463,TRUE))","v":1138},{"$f":"Worksheet!$D$20","v":true},{"$f":"RANDBETWEEN(5,RANDBETWEEN(5,Worksheet!$D$8))","v":9},"kg","±",{"$f":"IF(I1463=1,H1463*10^RANDBETWEEN(IF(Worksheet!$D$14,-1,0),0),IF(I1463=2,H1463*10^RANDBETWEEN(RANDBETWEEN(0,2),2),CHOOSE(RANDBETWEEN(1,3),5,10,20)))","v":0.8},{"$f":"IF(I1463=1,D1463,IF(I1463=3,\"%\",\"g\"))","v":"kg"},{"$f":"RANDBETWEEN(1,MIN(9,C1463))","v":8},{"$f":"IF(AND(Worksheet!$D$12,RAND()<0.2),3,IF(RAND()<Worksheet!$D$10/100,1,2))","v":1},0.8,{"$f":"CONCATENATE(\" \",D1463)","v":" kg"},800,"g"]
[{"$f":"IF(COUNTIF($B$1:B1464,TRUE)=COUNTIF($B$1:B1463,TRUE),\"\",COUNTIF($B$1:B1464,TRUE))","v":1139},{"$f":"Worksheet!$D$22","v":true},{"$f":"RANDBETWEEN(5,RANDBETWEEN(5,Worksheet!$D$8))","v":137},"tonnes","±",{"$f":"IF(I1464=1,H1464*10^RANDBETWEEN(IF(Worksheet!$D$14,-1,0),0),IF(I1464=2,H1464*10^RANDBETWEEN(RANDBETWEEN(0,2),2),CHOOSE(RANDBETWEEN(1,3),5,10,20)))","v":3},{"$f":"IF(I1464=1,D1464,IF(I1464=3,\"%\",\"kg\"))","v":"tonnes"},{"$f":"RANDBETWEEN(1,MIN(9,C1464))","v":3},{"$f":"IF(AND(Worksheet!$D$12,RAND()<0.2),3,IF(RAND()<Worksheet!$D$10/100,1,2))","v":1},3,{"$f":"CONCATENATE(\" \",D1464)","v":" tonnes"},3000,"kg"]
[{"$f":"IF(COUNTIF($B$1:B1465,TRUE)=COUNTIF($B$1:B1464,TRUE),\"\",COUNTIF($B$1:B1465,TRUE))","v":1140},{"$f":"Worksheet!$D$24","v":true},{"$f":"RANDBETWEEN(5,RANDBETWEEN(5,Worksheet!$D$8))","v":39},"litres","±",{"$f":"IF(I1465=1,H1465*10^RANDBETWEEN(IF(Worksheet!$D$14,-1,0),0),IF(I1465=2,H1465*10^RANDBETWEEN(RANDBETWEEN(0,2),2),CHOOSE(RANDBETWEEN(1,3),5,10,20)))","v":20},{"$f":"IF(I1465=1,D1465,IF(I1465=3,\"%\",\"ml\"))","v":"%"},{"$f":"RANDBETWEEN(1,MIN(9,C1465))","v":3},{"$f":"IF(AND(Worksheet!$D$12,RAND()<0.2),3,IF(RAND()<Worksheet!$D$10/100,1,2))","v":3},7.8000000000000007,{"$f":"CONCATENATE(\" \",D1465)","v":" litres"},7800.0000000000009,"ml"]
[{"$f":"IF(COUNTIF($B$1:B1466,TRUE)=COUNTIF($B$1:B1465,TRUE),\"\",COUNTIF($B$1:B1466,TRUE))","v":""},{"$f":"Worksheet!$D$26","v":false},{"$f":"RANDBETWEEN(5,RANDBETWEEN(5,Worksheet!$D$8))","v":31},"litres","±",{"$f":"IF(I1466=1,H1466*10^RANDBETWEEN(IF(Worksheet!$D$14,-1,0),0),IF(I1466=2,H1466*10^RANDBETWEEN(RANDBETWEEN(0,2),2),CHOOSE(RANDBETWEEN(1,3),5,10,20)))","v":5},{"$f":"IF(I1466=1,D1466,IF(I1466=3,\"%\",\"cm³\"))","v":"%"},{"$f":"RANDBETWEEN(1,MIN(9,C1466))","v":8},{"$f":"IF(AND(Worksheet!$D$12,RAND()<0.2),3,IF(RAND()<Worksheet!$D$10/100,1,2))","v":3},1.55,{"$f":"CONCATENATE(\" \",D1466)","v":" litres"},1550,"cm³"]
[{"$f":"IF(COUNTIF($B$1:B1467,TRUE)=COUNTIF($B$1:B1467,TRUE),\"\",COUNTIF($B$1:B1467,TRUE))","v":""},{"$f":"Worksheet!$B$28","v":true},{"$f":"RANDBETWEEN(5,20)","v":20},"°C","±",{"$f":"IF(I1467=1,H1467*10^RANDBETWEEN(IF(Worksheet!$D$14,-1,0),0),IF(I1467=2,H1467,CHOOSE(RANDBETWEEN(1,3),5,10,20)))","v":8},{"$f":"IF(I1467=1,D1467,IF(I1467=3,\"%\",\"sec\"))","v":"sec"},{"$f":"RANDBETWEEN(1,MIN(9,C1467))","v":8},{"$f":"IF(AND(Worksheet!$D$12,RAND()<0),3,IF(RAND()<Worksheet!$D$10/100,1,2))","v":2},{"$f":"IF(I1467=1,F1467,IF(I1467=2,F1467,IF(I1467=3,F1467/100*C1467,\"\")))","v":8},{"$f":"CONCATENATE(\" \",D1467)","v":" °C"},{"$f":"IF(I1467=1,F1467,IF(I1467=2,F1467,IF(I1467=3,F1467/100*C1467,\"\")))","v":8}," °C"]
[{"$f":"COUNTIF($B$1:B1468,TRUE)","v":1142},{"$f":"Worksheet!$B$20","v":true},{"$f":"RANDBETWEEN(5,RANDBETWEEN(5,Worksheet!$D$8))","v":23},"cm","±",{"$f":"IF(I1468=1,H1468*10^RANDBETWEEN(IF(Worksheet!$D$14,-1,0),0),IF(I1468=2,H1468,CHOOSE(RANDBETWEEN(1,3),5,10,20)))","v":10},{"$f":"IF(I1468=1,D1468,IF(I1468=3,\"%\",\"mm\"))","v":"%"},{"$f":"RANDBETWEEN(1,MIN(9,C1468))","v":5},{"$f":"IF(AND(Worksheet!$D$12,RAND()<0.2),3,IF(RAND()<Worksheet!$D$10/100,1,2))","v":3},{"$f":"IF(I1468=1,F1468,IF(I1468=2,F1468/10,IF(I1468=3,F1468/100*C1468,\"\")))","v":2.3000000000000003},{"$f":"CONCATENATE(\" \",D1468)","v":" cm"},{"$f":"IF(I1468=1,F1468*10,IF(I1468=2,F1468,IF(I1468=3,F1468/100*C1468*10,\"\")))","v":23.000000000000004},"mm"]
[{"$f":"IF(COUNTIF($B$1:B1469,TRUE)=COUNTIF($B$1:B1468,TRUE),\"\",COUNTIF($B$1:B1469,TRUE))","v":1143},{"$f":"Worksheet!$B$22","v":true},{"$f":"RANDBETWEEN(5,RANDBETWEEN(5,Worksheet!$D$8))","v":101},"m","±",{"$f":"IF(I1469=1,H1469*10^RANDBETWEEN(IF(Worksheet!$D$14,-1,0),0),IF(I1469=2,H1469*10^RANDBETWEEN(RANDBETWEEN(0,1),1),CHOOSE(RANDBETWEEN(1,3),5,10,20)))","v":20},{"$f":"IF(I1469=1,D1469,IF(I1469=3,\"%\",\"cm\"))","v":"%"},{"$f":"RANDBETWEEN(1,MIN(9,C1469))","v":8},{"$f":"IF(AND(Worksheet!$D$12,RAND()<0.2),3,IF(RAND()<Worksheet!$D$10/100,1,2))","v":3},{"$f":"IF(I1469=1,F1469,IF(I1469=2,F1469/100,IF(I1469=3,F1469/100*C1469,\"\")))","v":20.200000000000003},{"$f":"CONCATENATE(\" \",D1469)","v":" m"},{"$f":"IF(I1469=1,F1469*100,IF(I1469=2,F1469,IF(I1469=3,F1469/100*C1469*100,\"\")))","v":2020.0000000000002},"cm"]
[{"$f":"IF(COUNTIF($B$1:B1470,TRUE)=COUNTIF($B$1:B1469,TRUE),\"\",COUNTIF($B$1:B1470,TRUE))","v":1144},{"$f":"Worksheet!$B$24","v":true},{"$f":"RANDBETWEEN(5,RANDBETWEEN(5,Worksheet!$D$8))","v":8},"km","±",{"$f":"IF(I1470=1,H1470*10^RANDBETWEEN(IF(Worksheet!$D$14,-1,0),0),IF(I1470=2,H1470*10^RANDBETWEEN(RANDBETWEEN(0,2),2),CHOOSE(RANDBETWEEN(1,3),5,10,20)))","v":300},{"$f":"IF(I1470=1,D1470,IF(I1470=3,\"%\",\"m\"))","v":"m"},3,{"$f":"IF(AND(Worksheet!$D$12,RAND()<0.2),3,IF(RAND()<Worksheet!$D$10/100,1,2))","v":2},{"$f":"IF(I1470=1,F1470,IF(I1470=2,F1470/1000,IF(I1470=3,F1470/100*C1470,\"\")))","v":0.3}," km",{"$f":"IF(I1470=1,F1470*1000,IF(I1470=2,F1470,IF(I1470=3,F1470/100*C1470*1000,\"\")))","v":300},"m"]
[{"$f":"IF(COUNTIF($B$1:B1471,TRUE)=COUNTIF($B$1:B1470,TRUE),\"\",COUNTIF($B$1:B1471,TRUE))","v":""},{"$f":"Worksheet!$B$26","v":false},{"$f":"RANDBETWEEN(5,RANDBETWEEN(5,Worksheet!$D$8))","v":122},"m","±",{"$f":"IF(I1471=1,H1471*10^RANDBETWEEN(IF(Worksheet!$D$14,-1,0),0),IF(I1471=2,H1471*10^RANDBETWEEN(RANDBETWEEN(0,2),2),CHOOSE(RANDBETWEEN(1,3),5,10,20)))","v":0.9},{"$f":"IF(I1471=1,D1471,IF(I1471=3,\"%\",\"mm\"))","v":"m"},9,{"$f":"IF(AND(Worksheet!$D$12,RAND()<0.2),3,IF(RAND()<Worksheet!$D$10/100,1,2))","v":1},0.9," m",900,"mm"]
[{"$f":"IF(COUNTIF($B$1:B1472,TRUE)=COUNTIF($B$1:B1471,TRUE),\"\",COUNTIF($B$1:B1472,TRUE))","v":1145},{"$f":"Worksheet!$D$20","v":true},{"$f":"RANDBETWEEN(5,RANDBETWEEN(5,Worksheet!$D$8))","v":18},"kg","±",{"$f":"IF(I1472=1,H1472*10^RANDBETWEEN(IF(Worksheet!$D$14,-1,0),0),IF(I1472=2,H1472*10^RANDBETWEEN(RANDBETWEEN(0,2),2),CHOOSE(RANDBETWEEN(1,3),5,10,20)))","v":0.8},{"$f":"IF(I1472=1,D1472,IF(I1472=3,\"%\",\"g\"))","v":"kg"},{"$f":"RANDBETWEEN(1,MIN(9,C1472))","v":8},{"$f":"IF(AND(Worksheet!$D$12,RAND()<0.2),3,IF(RAND()<Worksheet!$D$10/100,1,2))","v":1},0.8,{"$f":"CONCATENATE(\" \",D1472)","v":" kg"},800,"g"]
[{"$f":"IF(COUNTIF($B$1:B1473,TRUE)=COUNTIF($B$1:B1472,TRUE),\"\",COUNTIF($B$1:B1473,TRUE))","v":1146},{"$f":"Worksheet!$D$22","v":true},{"$f":"RANDBETWEEN(5,RANDBETWEEN(5,Worksheet!$D$8))","v":78},"tonnes","±",{"$f":"IF(I1473=1,H1473*10^RANDBETWEEN(IF(Worksheet!$D$14,-1,0),0),IF(I1473=2,H1473*10^RANDBETWEEN(RANDBETWEEN(0,2),2),CHOOSE(RANDBETWEEN(1,3),5,10,20)))","v":0.60000000000000009},{"$f":"IF(I1473=1,D1473,IF(I1473=3,\"%\",\"kg\"))","v":"tonnes"},{"$f":"RANDBETWEEN(1,MIN(9,C1473))","v":6},{"$f":"IF(AND(Worksheet!$D$12,RAND()<0.2),3,IF(RAND()<Worksheet!$D$10/100,1,2))","v":1},0.60000000000000009,{"$f":"CONCATENATE(\" \",D1473)","v":" tonnes"},600.00000000000011,"kg"]
[{"$f":"IF(COUNTIF($B$1:B1474,TRUE)=COUNTIF($B$1:B1473,TRUE),\"\",COUNTIF($B$1:B1474,TRUE))","v":1147},{"$f":"Worksheet!$D$24","v":true},{"$f":"RANDBETWEEN(5,RANDBETWEEN(5,Worksheet!$D$8))","v":37},"litres","±",{"$f":"IF(I1474=1,H1474*10^RANDBETWEEN(IF(Worksheet!$D$14,-1,0),0),IF(I1474=2,H1474*10^RANDBETWEEN(RANDBETWEEN(0,2),2),CHOOSE(RANDBETWEEN(1,3),5,10,20)))","v":30},{"$f":"IF(I1474=1,D1474,IF(I1474=3,\"%\",\"ml\"))","v":"ml"},{"$f":"RANDBETWEEN(1,MIN(9,C1474))","v":3},{"$f":"IF(AND(Worksheet!$D$12,RAND()<0.2),3,IF(RAND()<Worksheet!$D$10/100,1,2))","v":2},0.03,{"$f":"CONCATENATE(\" \",D1474)","v":" litres"},30,"ml"]
[{"$f":"IF(COUNTIF($B$1:B1475,TRUE)=COUNTIF($B$1:B1474,TRUE),\"\",COUNTIF($B$1:B1475,TRUE))","v":""},{"$f":"Worksheet!$D$26","v":false},{"$f":"RANDBETWEEN(5,RANDBETWEEN(5,Worksheet!$D$8))","v":56},"litres","±",{"$f":"IF(I1475=1,H1475*10^RANDBETWEEN(IF(Worksheet!$D$14,-1,0),0),IF(I1475=2,H1475*10^RANDBETWEEN(RANDBETWEEN(0,2),2),CHOOSE(RANDBETWEEN(1,3),5,10,20)))","v":7},{"$f":"IF(I1475=1,D1475,IF(I1475=3,\"%\",\"cm³\"))","v":"litres"},{"$f":"RANDBETWEEN(1,MIN(9,C1475))","v":7},{"$f":"IF(AND(Worksheet!$D$12,RAND()<0.2),3,IF(RAND()<Worksheet!$D$10/100,1,2))","v":1},7,{"$f":"CONCATENATE(\" \",D1475)","v":" litres"},7000,"cm³"]
[{"$f":"IF(COUNTIF($B$1:B1476,TRUE)=COUNTIF($B$1:B1476,TRUE),\"\",COUNTIF($B$1:B1476,TRUE))","v":""},{"$f":"Worksheet!$B$28","v":true},{"$f":"RANDBETWEEN(5,20)","v":8},"°C","±",{"$f":"IF(I1476=1,H1476*10^RANDBETWEEN(IF(Worksheet!$D$14,-1,0),0),IF(I1476=2,H1476,CHOOSE(RANDBETWEEN(1,3),5,10,20)))","v":6},{"$f":"IF(I1476=1,D1476,IF(I1476=3,\"%\",\"sec\"))","v":"sec"},{"$f":"RANDBETWEEN(1,MIN(9,C1476))","v":6},{"$f":"IF(AND(Worksheet!$D$12,RAND()<0),3,IF(RAND()<Worksheet!$D$10/100,1,2))","v":2},{"$f":"IF(I1476=1,F1476,IF(I1476=2,F1476,IF(I1476=3,F1476/100*C1476,\"\")))","v":6},{"$f":"CONCATENATE(\" \",D1476)","v":" °C"},{"$f":"IF(I1476=1,F1476,IF(I1476=2,F1476,IF(I1476=3,F1476/100*C1476,\"\")))","v":6}," °C"]
[{"$f":"COUNTIF($B$1:B1477,TRUE)","v":1149},{"$f":"Worksheet!$B$20","v":true},{"$f":"RANDBETWEEN(5,RANDBETWEEN(5,Worksheet!$D$8))","v":12},"cm","±",{"$f":"IF(I1477=1,H1477*10^RANDBETWEEN(IF(Worksheet!$D$14,-1,0),0),IF(I1477=2,H1477,CHOOSE(RANDBETWEEN(1,3),5,10,20)))","v":9},{"$f":"IF(I1477=1,D1477,IF(I1477=3,\"%\",\"mm\"))","v":"cm"},{"$f":"RANDBETWEEN(1,MIN(9,C1477))","v":9},{"$f":"IF(AND(Worksheet!$D$12,RAND()<0.2),3,IF(RAND()<Worksheet!$D$10/100,1,2))","v":1},{"$f":"IF(I1477=1,F1477,IF(I1477=2,F1477/10,IF(I1477=3,F1477/100*C1477,\"\")))","v":9},{"$f":"CONCATENATE(\" \",D1477)","v":" cm"},{"$f":"IF(I1477=1,F1477*10,IF(I1477=2,F1477,IF(I1477=3,F1477/100*C1477*10,\"\")))","v":90},"mm"]
[{"$f":"IF(COUNTIF($B$1:B1478,TRUE)=COUNTIF($B$1:B1477,TRUE),\"\",COUNTIF($B$1:B1478,TRUE))","v":1150},{"$f":"Worksheet!$B$22","v":true},{"$f":"RANDBETWEEN(5,RANDBETWEEN(5,Worksheet!$D$8))","v":77},"m","±",{"$f":"IF(I1478=1,H1478*10^RANDBETWEEN(IF(Worksheet!$D$14,-1,0),0),IF(I1478=2,H1478*10^RANDBETWEEN(RANDBETWEEN(0,1),1),CHOOSE(RANDBETWEEN(1,3),5,10,20)))","v":9},{"$f":"IF(I1478=1,D1478,IF(I1478=3,\"%\",\"cm\"))","v":"m"},{"$f":"RANDBETWEEN(1,MIN(9,C1478))","v":9},{"$f":"IF(AND(Worksheet!$D$12,RAND()<0.2),3,IF(RAND()<Worksheet!$D$10/100,1,2))","v":1},{"$f":"IF(I1478=1,F1478,IF(I1478=2,F1478/100,IF(I1478=3,F1478/100*C1478,\"\")))","v":9},{"$f":"CONCATENATE(\" \",D1478)","v":" m"},{"$f":"IF(I1478=1,F1478*100,IF(I1478=2,F1478,IF(I1478=3,F1478/100*C1478*100,\"\")))","v":900},"cm"]
[{"$f":"IF(COUNTIF($B$1:B1479,TRUE)=COUNTIF($B$1:B1478,TRUE),\"\",COUNTIF($B$1:B1479,TRUE))","v":1151},{"$f":"Worksheet!$B$24","v":true},{"$f":"RANDBETWEEN(5,RANDBETWEEN(5,Worksheet!$D$8))","v":15},"km","±",{"$f":"IF(I1479=1,H1479*10^RANDBETWEEN(IF(Worksheet!$D$14,-1,0),0),IF(I1479=2,H1479*10^RANDBETWEEN(RANDBETWEEN(0,2),2),CHOOSE(RANDBETWEEN(1,3),5,10,20)))","v":1},{"$f":"IF(I1479=1,D1479,IF(I1479=3,\"%\",\"m\"))","v":"km"},1,{"$f":"IF(AND(Worksheet!$D$12,RAND()<0.2),3,IF(RAND()<Worksheet!$D$10/100,1,2))","v":1},{"$f":"IF(I1479=1,F1479,IF(I1479=2,F1479/1000,IF(I1479=3,F1479/100*C1479,\"\")))","v":1}," km",{"$f":"IF(I1479=1,F1479*1000,IF(I1479=2,F1479,IF(I1479=3,F1479/100*C1479*1000,\"\")))","v":1000},"m"]
[{"$f":"IF(COUNTIF($B$1:B1480,TRUE)=COUNTIF($B$1:B1479,TRUE),\"\",COUNTIF($B$1:B1480,TRUE))","v":""},{"$f":"Worksheet!$B$26","v":false},{"$f":"RANDBETWEEN(5,RANDBETWEEN(5,Worksheet!$D$8))","v":13},"m","±",{"$f":"IF(I1480=1,H1480*10^RANDBETWEEN(IF(Worksheet!$D$14,-1,0),0),IF(I1480=2,H1480*10^RANDBETWEEN(RANDBETWEEN(0,2),2),CHOOSE(RANDBETWEEN(1,3),5,10,20)))","v":100},{"$f":"IF(I1480=1,D1480,IF(I1480=3,\"%\",\"mm\"))","v":"mm"},1,{"$f":"IF(AND(Worksheet!$D$12,RAND()<0.2),3,IF(RAND()<Worksheet!$D$10/100,1,2))","v":2},0.1," m",100,"mm"]
[{"$f":"IF(COUNTIF($B$1:B1481,TRUE)=COUNTIF($B$1:B1480,TRUE),\"\",COUNTIF($B$1:B1481,TRUE))","v":1152},{"$f":"Worksheet!$D$20","v":true},{"$f":"RANDBETWEEN(5,RANDBETWEEN(5,Worksheet!$D$8))","v":11},"kg","±",{"$f":"IF(I1481=1,H1481*10^RANDBETWEEN(IF(Worksheet!$D$14,-1,0),0),IF(I1481=2,H1481*10^RANDBETWEEN(RANDBETWEEN(0,2),2),CHOOSE(RANDBETWEEN(1,3),5,10,20)))","v":9},{"$f":"IF(I1481=1,D1481,IF(I1481=3,\"%\",\"g\"))","v":"kg"},{"$f":"RANDBETWEEN(1,MIN(9,C1481))","v":9},{"$f":"IF(AND(Worksheet!$D$12,RAND()<0.2),3,IF(RAND()<Worksheet!$D$10/100,1,2))","v":1},9,{"$f":"CONCATENATE(\" \",D1481)","v":" kg"},9000,"g"]
[{"$f":"IF(COUNTIF($B$1:B1482,TRUE)=COUNTIF($B$1:B1481,TRUE),\"\",COUNTIF($B$1:B1482,TRUE))","v":1153},{"$f":"Worksheet!$D$22","v":true},{"$f":"RANDBETWEEN(5,RANDBETWEEN(5,Worksheet!$D$8))","v":192},"tonnes","±",{"$f":"IF(I1482=1,H1482*10^RANDBETWEEN(IF(Worksheet!$D$14,-1,0),0),IF(I1482=2,H1482*10^RANDBETWEEN(RANDBETWEEN(0,2),2),CHOOSE(RANDBETWEEN(1,3),5,10,20)))","v":5},{"$f":"IF(I1482=1,D1482,IF(I1482=3,\"%\",\"kg\"))","v":"%"},{"$f":"RANDBETWEEN(1,MIN(9,C1482))","v":2},{"$f":"IF(AND(Worksheet!$D$12,RAND()<0.2),3,IF(RAND()<Worksheet!$D$10/100,1,2))","v":3},9.6000000000000014,{"$f":"CONCATENATE(\" \",D1482)","v":" tonnes"},9600.0000000000018,"kg"]
[{"$f":"IF(COUNTIF($B$1:B1483,TRUE)=COUNTIF($B$1:B1482,TRUE),\"\",COUNTIF($B$1:B1483,TRUE))","v":1154},{"$f":"Worksheet!$D$24","v":true},{"$f":"RANDBETWEEN(5,RANDBETWEEN(5,Worksheet!$D$8))","v":171},"litres","±",{"$f":"IF(I1483=1,H1483*10^RANDBETWEEN(IF(Worksheet!$D$14,-1,0),0),IF(I1483=2,H1483*10^RANDBETWEEN(RANDBETWEEN(0,2),2),CHOOSE(RANDBETWEEN(1,3),5,10,20)))","v":300},{"$f":"IF(I1483=1,D1483,IF(I1483=3,\"%\",\"ml\"))","v":"ml"},{"$f":"RANDBETWEEN(1,MIN(9,C1483))","v":3},{"$f":"IF(AND(Worksheet!$D$12,RAND()<0.2),3,IF(RAND()<Worksheet!$D$10/100,1,2))","v":2},0.3,{"$f":"CONCATENATE(\" \",D1483)","v":" litres"},300,"ml"]
[{"$f":"IF(COUNTIF($B$1:B1484,TRUE)=COUNTIF($B$1:B1483,TRUE),\"\",COUNTIF($B$1:B1484,TRUE))","v":""},{"$f":"Worksheet!$D$26","v":false},{"$f":"RANDBETWEEN(5,RANDBETWEEN(5,Worksheet!$D$8))","v":95},"litres","±",{"$f":"IF(I1484=1,H1484*10^RANDBETWEEN(IF(Worksheet!$D$14,-1,0),0),IF(I1484=2,H1484*10^RANDBETWEEN(RANDBETWEEN(0,2),2),CHOOSE(RANDBETWEEN(1,3),5,10,20)))","v":5},{"$f":"IF(I1484=1,D1484,IF(I1484=3,\"%\",\"cm³\"))","v":"%"},{"$f":"RANDBETWEEN(1,MIN(9,C1484))","v":6},{"$f":"IF(AND(Worksheet!$D$12,RAND()<0.2),3,IF(RAND()<Worksheet!$D$10/100,1,2))","v":3},4.75,{"$f":"CONCATENATE(\" \",D1484)","v":" litres"},4750,"cm³"]
[{"$f":"IF(COUNTIF($B$1:B1485,TRUE)=COUNTIF($B$1:B1485,TRUE),\"\",COUNTIF($B$1:B1485,TRUE))","v":""},{"$f":"Worksheet!$B$28","v":true},{"$f":"RANDBETWEEN(5,20)","v":13},"°C","±",{"$f":"IF(I1485=1,H1485*10^RANDBETWEEN(IF(Worksheet!$D$14,-1,0),0),IF(I1485=2,H1485,CHOOSE(RANDBETWEEN(1,3),5,10,20)))","v":2},{"$f":"IF(I1485=1,D1485,IF(I1485=3,\"%\",\"sec\"))","v":"sec"},{"$f":"RANDBETWEEN(1,MIN(9,C1485))","v":2},{"$f":"IF(AND(Worksheet!$D$12,RAND()<0),3,IF(RAND()<Worksheet!$D$10/100,1,2))","v":2},{"$f":"IF(I1485=1,F1485,IF(I1485=2,F1485,IF(I1485=3,F1485/100*C1485,\"\")))","v":2},{"$f":"CONCATENATE(\" \",D1485)","v":" °C"},{"$f":"IF(I1485=1,F1485,IF(I1485=2,F1485,IF(I1485=3,F1485/100*C1485,\"\")))","v":2}," °C"]
[{"$f":"COUNTIF($B$1:B1486,TRUE)","v":1156},{"$f":"Worksheet!$B$20","v":true},{"$f":"RANDBETWEEN(5,RANDBETWEEN(5,Worksheet!$D$8))","v":84},"cm","±",{"$f":"IF(I1486=1,H1486*10^RANDBETWEEN(IF(Worksheet!$D$14,-1,0),0),IF(I1486=2,H1486,CHOOSE(RANDBETWEEN(1,3),5,10,20)))","v":1},{"$f":"IF(I1486=1,D1486,IF(I1486=3,\"%\",\"mm\"))","v":"cm"},{"$f":"RANDBETWEEN(1,MIN(9,C1486))","v":1},{"$f":"IF(AND(Worksheet!$D$12,RAND()<0.2),3,IF(RAND()<Worksheet!$D$10/100,1,2))","v":1},{"$f":"IF(I1486=1,F1486,IF(I1486=2,F1486/10,IF(I1486=3,F1486/100*C1486,\"\")))","v":1},{"$f":"CONCATENATE(\" \",D1486)","v":" cm"},{"$f":"IF(I1486=1,F1486*10,IF(I1486=2,F1486,IF(I1486=3,F1486/100*C1486*10,\"\")))","v":10},"mm"]
[{"$f":"IF(COUNTIF($B$1:B1487,TRUE)=COUNTIF($B$1:B1486,TRUE),\"\",COUNTIF($B$1:B1487,TRUE))","v":1157},{"$f":"Worksheet!$B$22","v":true},{"$f":"RANDBETWEEN(5,RANDBETWEEN(5,Worksheet!$D$8))","v":47},"m","±",{"$f":"IF(I1487=1,H1487*10^RANDBETWEEN(IF(Worksheet!$D$14,-1,0),0),IF(I1487=2,H1487*10^RANDBETWEEN(RANDBETWEEN(0,1),1),CHOOSE(RANDBETWEEN(1,3),5,10,20)))","v":20},{"$f":"IF(I1487=1,D1487,IF(I1487=3,\"%\",\"cm\"))","v":"%"},{"$f":"RANDBETWEEN(1,MIN(9,C1487))","v":1},{"$f":"IF(AND(Worksheet!$D$12,RAND()<0.2),3,IF(RAND()<Worksheet!$D$10/100,1,2))","v":3},{"$f":"IF(I1487=1,F1487,IF(I1487=2,F1487/100,IF(I1487=3,F1487/100*C1487,\"\")))","v":9.4},{"$f":"CONCATENATE(\" \",D1487)","v":" m"},{"$f":"IF(I1487=1,F1487*100,IF(I1487=2,F1487,IF(I1487=3,F1487/100*C1487*100,\"\")))","v":940},"cm"]
[{"$f":"IF(COUNTIF($B$1:B1488,TRUE)=COUNTIF($B$1:B1487,TRUE),\"\",COUNTIF($B$1:B1488,TRUE))","v":1158},{"$f":"Worksheet!$B$24","v":true},{"$f":"RANDBETWEEN(5,RANDBETWEEN(5,Worksheet!$D$8))","v":24},"km","±",{"$f":"IF(I1488=1,H1488*10^RANDBETWEEN(IF(Worksheet!$D$14,-1,0),0),IF(I1488=2,H1488*10^RANDBETWEEN(RANDBETWEEN(0,2),2),CHOOSE(RANDBETWEEN(1,3),5,10,20)))","v":400},{"$f":"IF(I1488=1,D1488,IF(I1488=3,\"%\",\"m\"))","v":"m"},4,{"$f":"IF(AND(Worksheet!$D$12,RAND()<0.2),3,IF(RAND()<Worksheet!$D$10/100,1,2))","v":2},{"$f":"IF(I1488=1,F1488,IF(I1488=2,F1488/1000,IF(I1488=3,F1488/100*C1488,\"\")))","v":0.4}," km",{"$f":"IF(I1488=1,F1488*1000,IF(I1488=2,F1488,IF(I1488=3,F1488/100*C1488*1000,\"\")))","v":400},"m"]
[{"$f":"IF(COUNTIF($B$1:B1489,TRUE)=COUNTIF($B$1:B1488,TRUE),\"\",COUNTIF($B$1:B1489,TRUE))","v":""},{"$f":"Worksheet!$B$26","v":false},{"$f":"RANDBETWEEN(5,RANDBETWEEN(5,Worksheet!$D$8))","v":5},"m","±",{"$f":"IF(I1489=1,H1489*10^RANDBETWEEN(IF(Worksheet!$D$14,-1,0),0),IF(I1489=2,H1489*10^RANDBETWEEN(RANDBETWEEN(0,2),2),CHOOSE(RANDBETWEEN(1,3),5,10,20)))","v":10},{"$f":"IF(I1489=1,D1489,IF(I1489=3,\"%\",\"mm\"))","v":"%"},4,{"$f":"IF(AND(Worksheet!$D$12,RAND()<0.2),3,IF(RAND()<Worksheet!$D$10/100,1,2))","v":3},0.5," m",500,"mm"]
[{"$f":"IF(COUNTIF($B$1:B1490,TRUE)=COUNTIF($B$1:B1489,TRUE),\"\",COUNTIF($B$1:B1490,TRUE))","v":1159},{"$f":"Worksheet!$D$20","v":true},{"$f":"RANDBETWEEN(5,RANDBETWEEN(5,Worksheet!$D$8))","v":47},"kg","±",{"$f":"IF(I1490=1,H1490*10^RANDBETWEEN(IF(Worksheet!$D$14,-1,0),0),IF(I1490=2,H1490*10^RANDBETWEEN(RANDBETWEEN(0,2),2),CHOOSE(RANDBETWEEN(1,3),5,10,20)))","v":80},{"$f":"IF(I1490=1,D1490,IF(I1490=3,\"%\",\"g\"))","v":"g"},{"$f":"RANDBETWEEN(1,MIN(9,C1490))","v":8},{"$f":"IF(AND(Worksheet!$D$12,RAND()<0.2),3,IF(RAND()<Worksheet!$D$10/100,1,2))","v":2},0.08,{"$f":"CONCATENATE(\" \",D1490)","v":" kg"},80,"g"]
[{"$f":"IF(COUNTIF($B$1:B1491,TRUE)=COUNTIF($B$1:B1490,TRUE),\"\",COUNTIF($B$1:B1491,TRUE))","v":1160},{"$f":"Worksheet!$D$22","v":true},{"$f":"RANDBETWEEN(5,RANDBETWEEN(5,Worksheet!$D$8))","v":24},"tonnes","±",{"$f":"IF(I1491=1,H1491*10^RANDBETWEEN(IF(Worksheet!$D$14,-1,0),0),IF(I1491=2,H1491*10^RANDBETWEEN(RANDBETWEEN(0,2),2),CHOOSE(RANDBETWEEN(1,3),5,10,20)))","v":9},{"$f":"IF(I1491=1,D1491,IF(I1491=3,\"%\",\"kg\"))","v":"tonnes"},{"$f":"RANDBETWEEN(1,MIN(9,C1491))","v":9},{"$f":"IF(AND(Worksheet!$D$12,RAND()<0.2),3,IF(RAND()<Worksheet!$D$10/100,1,2))","v":1},9,{"$f":"CONCATENATE(\" \",D1491)","v":" tonnes"},9000,"kg"]
[{"$f":"IF(COUNTIF($B$1:B1492,TRUE)=COUNTIF($B$1:B1491,TRUE),\"\",COUNTIF($B$1:B1492,TRUE))","v":1161},{"$f":"Worksheet!$D$24","v":true},{"$f":"RANDBETWEEN(5,RANDBETWEEN(5,Worksheet!$D$8))","v":122},"litres","±",{"$f":"IF(I1492=1,H1492*10^RANDBETWEEN(IF(Worksheet!$D$14,-1,0),0),IF(I1492=2,H1492*10^RANDBETWEEN(RANDBETWEEN(0,2),2),CHOOSE(RANDBETWEEN(1,3),5,10,20)))","v":9},{"$f":"IF(I1492=1,D1492,IF(I1492=3,\"%\",\"ml\"))","v":"litres"},{"$f":"RANDBETWEEN(1,MIN(9,C1492))","v":9},{"$f":"IF(AND(Worksheet!$D$12,RAND()<0.2),3,IF(RAND()<Worksheet!$D$10/100,1,2))","v":1},9,{"$f":"CONCATENATE(\" \",D1492)","v":" litres"},9000,"ml"]
[{"$f":"IF(COUNTIF($B$1:B1493,TRUE)=COUNTIF($B$1:B1492,TRUE),\"\",COUNTIF($B$1:B1493,TRUE))","v":""},{"$f":"Worksheet!$D$26","v":false},{"$f":"RANDBETWEEN(5,RANDBETWEEN(5,Worksheet!$D$8))","v":128},"litres","±",{"$f":"IF(I1493=1,H1493*10^RANDBETWEEN(IF(Worksheet!$D$14,-1,0),0),IF(I1493=2,H1493*10^RANDBETWEEN(RANDBETWEEN(0,2),2),CHOOSE(RANDBETWEEN(1,3),5,10,20)))","v":0.1},{"$f":"IF(I1493=1,D1493,IF(I1493=3,\"%\",\"cm³\"))","v":"litres"},{"$f":"RANDBETWEEN(1,MIN(9,C1493))","v":1},{"$f":"IF(AND(Worksheet!$D$12,RAND()<0.2),3,IF(RAND()<Worksheet!$D$10/100,1,2))","v":1},0.1,{"$f":"CONCATENATE(\" \",D1493)","v":" litres"},100,"cm³"]
[{"$f":"IF(COUNTIF($B$1:B1494,TRUE)=COUNTIF($B$1:B1494,TRUE),\"\",COUNTIF($B$1:B1494,TRUE))","v":""},{"$f":"Worksheet!$B$28","v":true},{"$f":"RANDBETWEEN(5,20)","v":14},"°C","±",{"$f":"IF(I1494=1,H1494*10^RANDBETWEEN(IF(Worksheet!$D$14,-1,0),0),IF(I1494=2,H1494,CHOOSE(RANDBETWEEN(1,3),5,10,20)))","v":3},{"$f":"IF(I1494=1,D1494,IF(I1494=3,\"%\",\"sec\"))","v":"sec"},{"$f":"RANDBETWEEN(1,MIN(9,C1494))","v":3},{"$f":"IF(AND(Worksheet!$D$12,RAND()<0),3,IF(RAND()<Worksheet!$D$10/100,1,2))","v":2},{"$f":"IF(I1494=1,F1494,IF(I1494=2,F1494,IF(I1494=3,F1494/100*C1494,\"\")))","v":3},{"$f":"CONCATENATE(\" \",D1494)","v":" °C"},{"$f":"IF(I1494=1,F1494,IF(I1494=2,F1494,IF(I1494=3,F1494/100*C1494,\"\")))","v":3}," °C"]
[{"$f":"COUNTIF($B$1:B1495,TRUE)","v":1163},{"$f":"Worksheet!$B$20","v":true},{"$f":"RANDBETWEEN(5,RANDBETWEEN(5,Worksheet!$D$8))","v":64},"cm","±",{"$f":"IF(I1495=1,H1495*10^RANDBETWEEN(IF(Worksheet!$D$14,-1,0),0),IF(I1495=2,H1495,CHOOSE(RANDBETWEEN(1,3),5,10,20)))","v":1},{"$f":"IF(I1495=1,D1495,IF(I1495=3,\"%\",\"mm\"))","v":"cm"},{"$f":"RANDBETWEEN(1,MIN(9,C1495))","v":1},{"$f":"IF(AND(Worksheet!$D$12,RAND()<0.2),3,IF(RAND()<Worksheet!$D$10/100,1,2))","v":1},{"$f":"IF(I1495=1,F1495,IF(I1495=2,F1495/10,IF(I1495=3,F1495/100*C1495,\"\")))","v":1},{"$f":"CONCATENATE(\" \",D1495)","v":" cm"},{"$f":"IF(I1495=1,F1495*10,IF(I1495=2,F1495,IF(I1495=3,F1495/100*C1495*10,\"\")))","v":10},"mm"]
[{"$f":"IF(COUNTIF($B$1:B1496,TRUE)=COUNTIF($B$1:B1495,TRUE),\"\",COUNTIF($B$1:B1496,TRUE))","v":1164},{"$f":"Worksheet!$B$22","v":true},{"$f":"RANDBETWEEN(5,RANDBETWEEN(5,Worksheet!$D$8))","v":16},"m","±",{"$f":"IF(I1496=1,H1496*10^RANDBETWEEN(IF(Worksheet!$D$14,-1,0),0),IF(I1496=2,H1496*10^RANDBETWEEN(RANDBETWEEN(0,1),1),CHOOSE(RANDBETWEEN(1,3),5,10,20)))","v":0.9},{"$f":"IF(I1496=1,D1496,IF(I1496=3,\"%\",\"cm\"))","v":"m"},{"$f":"RANDBETWEEN(1,MIN(9,C1496))","v":9},{"$f":"IF(AND(Worksheet!$D$12,RAND()<0.2),3,IF(RAND()<Worksheet!$D$10/100,1,2))","v":1},{"$f":"IF(I1496=1,F1496,IF(I1496=2,F1496/100,IF(I1496=3,F1496/100*C1496,\"\")))","v":0.9},{"$f":"CONCATENATE(\" \",D1496)","v":" m"},{"$f":"IF(I1496=1,F1496*100,IF(I1496=2,F1496,IF(I1496=3,F1496/100*C1496*100,\"\")))","v":90},"cm"]
[{"$f":"IF(COUNTIF($B$1:B1497,TRUE)=COUNTIF($B$1:B1496,TRUE),\"\",COUNTIF($B$1:B1497,TRUE))","v":1165},{"$f":"Worksheet!$B$24","v":true},{"$f":"RANDBETWEEN(5,RANDBETWEEN(5,Worksheet!$D$8))","v":17},"km","±",{"$f":"IF(I1497=1,H1497*10^RANDBETWEEN(IF(Worksheet!$D$14,-1,0),0),IF(I1497=2,H1497*10^RANDBETWEEN(RANDBETWEEN(0,2),2),CHOOSE(RANDBETWEEN(1,3),5,10,20)))","v":7},{"$f":"IF(I1497=1,D1497,IF(I1497=3,\"%\",\"m\"))","v":"km"},7,{"$f":"IF(AND(Worksheet!$D$12,RAND()<0.2),3,IF(RAND()<Worksheet!$D$10/100,1,2))","v":1},{"$f":"IF(I1497=1,F1497,IF(I1497=2,F1497/1000,IF(I1497=3,F1497/100*C1497,\"\")))","v":7}," km",{"$f":"IF(I1497=1,F1497*1000,IF(I1497=2,F1497,IF(I1497=3,F1497/100*C1497*1000,\"\")))","v":7000},"m"]
[{"$f":"IF(COUNTIF($B$1:B1498,TRUE)=COUNTIF($B$1:B1497,TRUE),\"\",COUNTIF($B$1:B1498,TRUE))","v":""},{"$f":"Worksheet!$B$26","v":false},{"$f":"RANDBETWEEN(5,RANDBETWEEN(5,Worksheet!$D$8))","v":70},"m","±",{"$f":"IF(I1498=1,H1498*10^RANDBETWEEN(IF(Worksheet!$D$14,-1,0),0),IF(I1498=2,H1498*10^RANDBETWEEN(RANDBETWEEN(0,2),2),CHOOSE(RANDBETWEEN(1,3),5,10,20)))","v":8},{"$f":"IF(I1498=1,D1498,IF(I1498=3,\"%\",\"mm\"))","v":"m"},8,{"$f":"IF(AND(Worksheet!$D$12,RAND()<0.2),3,IF(RAND()<Worksheet!$D$10/100,1,2))","v":1},8," m",8000,"mm"]
[{"$f":"IF(COUNTIF($B$1:B1499,TRUE)=COUNTIF($B$1:B1498,TRUE),\"\",COUNTIF($B$1:B1499,TRUE))","v":1166},{"$f":"Worksheet!$D$20","v":true},{"$f":"RANDBETWEEN(5,RANDBETWEEN(5,Worksheet!$D$8))","v":119},"kg","±",{"$f":"IF(I1499=1,H1499*10^RANDBETWEEN(IF(Worksheet!$D$14,-1,0),0),IF(I1499=2,H1499*10^RANDBETWEEN(RANDBETWEEN(0,2),2),CHOOSE(RANDBETWEEN(1,3),5,10,20)))","v":40},{"$f":"IF(I1499=1,D1499,IF(I1499=3,\"%\",\"g\"))","v":"g"},{"$f":"RANDBETWEEN(1,MIN(9,C1499))","v":4},{"$f":"IF(AND(Worksheet!$D$12,RAND()<0.2),3,IF(RAND()<Worksheet!$D$10/100,1,2))","v":2},0.04,{"$f":"CONCATENATE(\" \",D1499)","v":" kg"},40,"g"]
[{"$f":"IF(COUNTIF($B$1:B1500,TRUE)=COUNTIF($B$1:B1499,TRUE),\"\",COUNTIF($B$1:B1500,TRUE))","v":1167},{"$f":"Worksheet!$D$22","v":true},{"$f":"RANDBETWEEN(5,RANDBETWEEN(5,Worksheet!$D$8))","v":38},"tonnes","±",{"$f":"IF(I1500=1,H1500*10^RANDBETWEEN(IF(Worksheet!$D$14,-1,0),0),IF(I1500=2,H1500*10^RANDBETWEEN(RANDBETWEEN(0,2),2),CHOOSE(RANDBETWEEN(1,3),5,10,20)))","v":0.60000000000000009},{"$f":"IF(I1500=1,D1500,IF(I1500=3,\"%\",\"kg\"))","v":"tonnes"},{"$f":"RANDBETWEEN(1,MIN(9,C1500))","v":6},{"$f":"IF(AND(Worksheet!$D$12,RAND()<0.2),3,IF(RAND()<Worksheet!$D$10/100,1,2))","v":1},0.60000000000000009,{"$f":"CONCATENATE(\" \",D1500)","v":" tonnes"},600.00000000000011,"kg"]
[{"$f":"IF(COUNTIF($B$1:B1501,TRUE)=COUNTIF($B$1:B1500,TRUE),\"\",COUNTIF($B$1:B1501,TRUE))","v":1168},{"$f":"Worksheet!$D$24","v":true},{"$f":"RANDBETWEEN(5,RANDBETWEEN(5,Worksheet!$D$8))","v":62},"litres","±",{"$f":"IF(I1501=1,H1501*10^RANDBETWEEN(IF(Worksheet!$D$14,-1,0),0),IF(I1501=2,H1501*10^RANDBETWEEN(RANDBETWEEN(0,2),2),CHOOSE(RANDBETWEEN(1,3),5,10,20)))","v":0.9},{"$f":"IF(I1501=1,D1501,IF(I1501=3,\"%\",\"ml\"))","v":"litres"},{"$f":"RANDBETWEEN(1,MIN(9,C1501))","v":9},{"$f":"IF(AND(Worksheet!$D$12,RAND()<0.2),3,IF(RAND()<Worksheet!$D$10/100,1,2))","v":1},0.9,{"$f":"CONCATENATE(\" \",D1501)","v":" litres"},900,"ml"]
[{"$f":"IF(COUNTIF($B$1:B1502,TRUE)=COUNTIF($B$1:B1501,TRUE),\"\",COUNTIF($B$1:B1502,TRUE))","v":""},{"$f":"Worksheet!$D$26","v":false},{"$f":"RANDBETWEEN(5,RANDBETWEEN(5,Worksheet!$D$8))","v":14},"litres","±",{"$f":"IF(I1502=1,H1502*10^RANDBETWEEN(IF(Worksheet!$D$14,-1,0),0),IF(I1502=2,H1502*10^RANDBETWEEN(RANDBETWEEN(0,2),2),CHOOSE(RANDBETWEEN(1,3),5,10,20)))","v":0.4},{"$f":"IF(I1502=1,D1502,IF(I1502=3,\"%\",\"cm³\"))","v":"litres"},{"$f":"RANDBETWEEN(1,MIN(9,C1502))","v":4},{"$f":"IF(AND(Worksheet!$D$12,RAND()<0.2),3,IF(RAND()<Worksheet!$D$10/100,1,2))","v":1},0.4,{"$f":"CONCATENATE(\" \",D1502)","v":" litres"},400,"cm³"]
[{"$f":"IF(COUNTIF($B$1:B1503,TRUE)=COUNTIF($B$1:B1503,TRUE),\"\",COUNTIF($B$1:B1503,TRUE))","v":""},{"$f":"Worksheet!$B$28","v":true},{"$f":"RANDBETWEEN(5,20)","v":14},"°C","±",{"$f":"IF(I1503=1,H1503*10^RANDBETWEEN(IF(Worksheet!$D$14,-1,0),0),IF(I1503=2,H1503,CHOOSE(RANDBETWEEN(1,3),5,10,20)))","v":0.1},{"$f":"IF(I1503=1,D1503,IF(I1503=3,\"%\",\"sec\"))","v":"°C"},{"$f":"RANDBETWEEN(1,MIN(9,C1503))","v":1},{"$f":"IF(AND(Worksheet!$D$12,RAND()<0),3,IF(RAND()<Worksheet!$D$10/100,1,2))","v":1},{"$f":"IF(I1503=1,F1503,IF(I1503=2,F1503,IF(I1503=3,F1503/100*C1503,\"\")))","v":0.1},{"$f":"CONCATENATE(\" \",D1503)","v":" °C"},{"$f":"IF(I1503=1,F1503,IF(I1503=2,F1503,IF(I1503=3,F1503/100*C1503,\"\")))","v":0.1}," °C"]
[{"$f":"COUNTIF($B$1:B1504,TRUE)","v":1170},{"$f":"Worksheet!$B$20","v":true},{"$f":"RANDBETWEEN(5,RANDBETWEEN(5,Worksheet!$D$8))","v":63},"cm","±",{"$f":"IF(I1504=1,H1504*10^RANDBETWEEN(IF(Worksheet!$D$14,-1,0),0),IF(I1504=2,H1504,CHOOSE(RANDBETWEEN(1,3),5,10,20)))","v":2},{"$f":"IF(I1504=1,D1504,IF(I1504=3,\"%\",\"mm\"))","v":"mm"},{"$f":"RANDBETWEEN(1,MIN(9,C1504))","v":2},{"$f":"IF(AND(Worksheet!$D$12,RAND()<0.2),3,IF(RAND()<Worksheet!$D$10/100,1,2))","v":2},{"$f":"IF(I1504=1,F1504,IF(I1504=2,F1504/10,IF(I1504=3,F1504/100*C1504,\"\")))","v":0.2},{"$f":"CONCATENATE(\" \",D1504)","v":" cm"},{"$f":"IF(I1504=1,F1504*10,IF(I1504=2,F1504,IF(I1504=3,F1504/100*C1504*10,\"\")))","v":2},"mm"]
[{"$f":"IF(COUNTIF($B$1:B1505,TRUE)=COUNTIF($B$1:B1504,TRUE),\"\",COUNTIF($B$1:B1505,TRUE))","v":1171},{"$f":"Worksheet!$B$22","v":true},{"$f":"RANDBETWEEN(5,RANDBETWEEN(5,Worksheet!$D$8))","v":7},"m","±",{"$f":"IF(I1505=1,H1505*10^RANDBETWEEN(IF(Worksheet!$D$14,-1,0),0),IF(I1505=2,H1505*10^RANDBETWEEN(RANDBETWEEN(0,1),1),CHOOSE(RANDBETWEEN(1,3),5,10,20)))","v":2},{"$f":"IF(I1505=1,D1505,IF(I1505=3,\"%\",\"cm\"))","v":"m"},{"$f":"RANDBETWEEN(1,MIN(9,C1505))","v":2},{"$f":"IF(AND(Worksheet!$D$12,RAND()<0.2),3,IF(RAND()<Worksheet!$D$10/100,1,2))","v":1},{"$f":"IF(I1505=1,F1505,IF(I1505=2,F1505/100,IF(I1505=3,F1505/100*C1505,\"\")))","v":2},{"$f":"CONCATENATE(\" \",D1505)","v":" m"},{"$f":"IF(I1505=1,F1505*100,IF(I1505=2,F1505,IF(I1505=3,F1505/100*C1505*100,\"\")))","v":200},"cm"]
[{"$f":"IF(COUNTIF($B$1:B1506,TRUE)=COUNTIF($B$1:B1505,TRUE),\"\",COUNTIF($B$1:B1506,TRUE))","v":1172},{"$f":"Worksheet!$B$24","v":true},{"$f":"RANDBETWEEN(5,RANDBETWEEN(5,Worksheet!$D$8))","v":5},"km","±",{"$f":"IF(I1506=1,H1506*10^RANDBETWEEN(IF(Worksheet!$D$14,-1,0),0),IF(I1506=2,H1506*10^RANDBETWEEN(RANDBETWEEN(0,2),2),CHOOSE(RANDBETWEEN(1,3),5,10,20)))","v":2},{"$f":"IF(I1506=1,D1506,IF(I1506=3,\"%\",\"m\"))","v":"km"},2,{"$f":"IF(AND(Worksheet!$D$12,RAND()<0.2),3,IF(RAND()<Worksheet!$D$10/100,1,2))","v":1},{"$f":"IF(I1506=1,F1506,IF(I1506=2,F1506/1000,IF(I1506=3,F1506/100*C1506,\"\")))","v":2}," km",{"$f":"IF(I1506=1,F1506*1000,IF(I1506=2,F1506,IF(I1506=3,F1506/100*C1506*1000,\"\")))","v":2000},"m"]
[{"$f":"IF(COUNTIF($B$1:B1507,TRUE)=COUNTIF($B$1:B1506,TRUE),\"\",COUNTIF($B$1:B1507,TRUE))","v":""},{"$f":"Worksheet!$B$26","v":false},{"$f":"RANDBETWEEN(5,RANDBETWEEN(5,Worksheet!$D$8))","v":70},"m","±",{"$f":"IF(I1507=1,H1507*10^RANDBETWEEN(IF(Worksheet!$D$14,-1,0),0),IF(I1507=2,H1507*10^RANDBETWEEN(RANDBETWEEN(0,2),2),CHOOSE(RANDBETWEEN(1,3),5,10,20)))","v":9},{"$f":"IF(I1507=1,D1507,IF(I1507=3,\"%\",\"mm\"))","v":"m"},9,{"$f":"IF(AND(Worksheet!$D$12,RAND()<0.2),3,IF(RAND()<Worksheet!$D$10/100,1,2))","v":1},9," m",9000,"mm"]
[{"$f":"IF(COUNTIF($B$1:B1508,TRUE)=COUNTIF($B$1:B1507,TRUE),\"\",COUNTIF($B$1:B1508,TRUE))","v":1173},{"$f":"Worksheet!$D$20","v":true},{"$f":"RANDBETWEEN(5,RANDBETWEEN(5,Worksheet!$D$8))","v":94},"kg","±",{"$f":"IF(I1508=1,H1508*10^RANDBETWEEN(IF(Worksheet!$D$14,-1,0),0),IF(I1508=2,H1508*10^RANDBETWEEN(RANDBETWEEN(0,2),2),CHOOSE(RANDBETWEEN(1,3),5,10,20)))","v":5},{"$f":"IF(I1508=1,D1508,IF(I1508=3,\"%\",\"g\"))","v":"%"},{"$f":"RANDBETWEEN(1,MIN(9,C1508))","v":7},{"$f":"IF(AND(Worksheet!$D$12,RAND()<0.2),3,IF(RAND()<Worksheet!$D$10/100,1,2))","v":3},4.7,{"$f":"CONCATENATE(\" \",D1508)","v":" kg"},4700,"g"]
[{"$f":"IF(COUNTIF($B$1:B1509,TRUE)=COUNTIF($B$1:B1508,TRUE),\"\",COUNTIF($B$1:B1509,TRUE))","v":1174},{"$f":"Worksheet!$D$22","v":true},{"$f":"RANDBETWEEN(5,RANDBETWEEN(5,Worksheet!$D$8))","v":13},"tonnes","±",{"$f":"IF(I1509=1,H1509*10^RANDBETWEEN(IF(Worksheet!$D$14,-1,0),0),IF(I1509=2,H1509*10^RANDBETWEEN(RANDBETWEEN(0,2),2),CHOOSE(RANDBETWEEN(1,3),5,10,20)))","v":0.9},{"$f":"IF(I1509=1,D1509,IF(I1509=3,\"%\",\"kg\"))","v":"tonnes"},{"$f":"RANDBETWEEN(1,MIN(9,C1509))","v":9},{"$f":"IF(AND(Worksheet!$D$12,RAND()<0.2),3,IF(RAND()<Worksheet!$D$10/100,1,2))","v":1},0.9,{"$f":"CONCATENATE(\" \",D1509)","v":" tonnes"},900,"kg"]
[{"$f":"IF(COUNTIF($B$1:B1510,TRUE)=COUNTIF($B$1:B1509,TRUE),\"\",COUNTIF($B$1:B1510,TRUE))","v":1175},{"$f":"Worksheet!$D$24","v":true},{"$f":"RANDBETWEEN(5,RANDBETWEEN(5,Worksheet!$D$8))","v":19},"litres","±",{"$f":"IF(I1510=1,H1510*10^RANDBETWEEN(IF(Worksheet!$D$14,-1,0),0),IF(I1510=2,H1510*10^RANDBETWEEN(RANDBETWEEN(0,2),2),CHOOSE(RANDBETWEEN(1,3),5,10,20)))","v":0.4},{"$f":"IF(I1510=1,D1510,IF(I1510=3,\"%\",\"ml\"))","v":"litres"},{"$f":"RANDBETWEEN(1,MIN(9,C1510))","v":4},{"$f":"IF(AND(Worksheet!$D$12,RAND()<0.2),3,IF(RAND()<Worksheet!$D$10/100,1,2))","v":1},0.4,{"$f":"CONCATENATE(\" \",D1510)","v":" litres"},400,"ml"]
[{"$f":"IF(COUNTIF($B$1:B1511,TRUE)=COUNTIF($B$1:B1510,TRUE),\"\",COUNTIF($B$1:B1511,TRUE))","v":""},{"$f":"Worksheet!$D$26","v":false},{"$f":"RANDBETWEEN(5,RANDBETWEEN(5,Worksheet!$D$8))","v":105},"litres","±",{"$f":"IF(I1511=1,H1511*10^RANDBETWEEN(IF(Worksheet!$D$14,-1,0),0),IF(I1511=2,H1511*10^RANDBETWEEN(RANDBETWEEN(0,2),2),CHOOSE(RANDBETWEEN(1,3),5,10,20)))","v":5},{"$f":"IF(I1511=1,D1511,IF(I1511=3,\"%\",\"cm³\"))","v":"%"},{"$f":"RANDBETWEEN(1,MIN(9,C1511))","v":3},{"$f":"IF(AND(Worksheet!$D$12,RAND()<0.2),3,IF(RAND()<Worksheet!$D$10/100,1,2))","v":3},5.25,{"$f":"CONCATENATE(\" \",D1511)","v":" litres"},5250,"cm³"]
[{"$f":"IF(COUNTIF($B$1:B1512,TRUE)=COUNTIF($B$1:B1512,TRUE),\"\",COUNTIF($B$1:B1512,TRUE))","v":""},{"$f":"Worksheet!$B$28","v":true},{"$f":"RANDBETWEEN(5,20)","v":10},"°C","±",{"$f":"IF(I1512=1,H1512*10^RANDBETWEEN(IF(Worksheet!$D$14,-1,0),0),IF(I1512=2,H1512,CHOOSE(RANDBETWEEN(1,3),5,10,20)))","v":1},{"$f":"IF(I1512=1,D1512,IF(I1512=3,\"%\",\"sec\"))","v":"sec"},{"$f":"RANDBETWEEN(1,MIN(9,C1512))","v":1},{"$f":"IF(AND(Worksheet!$D$12,RAND()<0),3,IF(RAND()<Worksheet!$D$10/100,1,2))","v":2},{"$f":"IF(I1512=1,F1512,IF(I1512=2,F1512,IF(I1512=3,F1512/100*C1512,\"\")))","v":1},{"$f":"CONCATENATE(\" \",D1512)","v":" °C"},{"$f":"IF(I1512=1,F1512,IF(I1512=2,F1512,IF(I1512=3,F1512/100*C1512,\"\")))","v":1}," °C"]
[{"$f":"COUNTIF($B$1:B1513,TRUE)","v":1177},{"$f":"Worksheet!$B$20","v":true},{"$f":"RANDBETWEEN(5,RANDBETWEEN(5,Worksheet!$D$8))","v":26},"cm","±",{"$f":"IF(I1513=1,H1513*10^RANDBETWEEN(IF(Worksheet!$D$14,-1,0),0),IF(I1513=2,H1513,CHOOSE(RANDBETWEEN(1,3),5,10,20)))","v":3},{"$f":"IF(I1513=1,D1513,IF(I1513=3,\"%\",\"mm\"))","v":"cm"},{"$f":"RANDBETWEEN(1,MIN(9,C1513))","v":3},{"$f":"IF(AND(Worksheet!$D$12,RAND()<0.2),3,IF(RAND()<Worksheet!$D$10/100,1,2))","v":1},{"$f":"IF(I1513=1,F1513,IF(I1513=2,F1513/10,IF(I1513=3,F1513/100*C1513,\"\")))","v":3},{"$f":"CONCATENATE(\" \",D1513)","v":" cm"},{"$f":"IF(I1513=1,F1513*10,IF(I1513=2,F1513,IF(I1513=3,F1513/100*C1513*10,\"\")))","v":30},"mm"]
[{"$f":"IF(COUNTIF($B$1:B1514,TRUE)=COUNTIF($B$1:B1513,TRUE),\"\",COUNTIF($B$1:B1514,TRUE))","v":1178},{"$f":"Worksheet!$B$22","v":true},{"$f":"RANDBETWEEN(5,RANDBETWEEN(5,Worksheet!$D$8))","v":12},"m","±",{"$f":"IF(I1514=1,H1514*10^RANDBETWEEN(IF(Worksheet!$D$14,-1,0),0),IF(I1514=2,H1514*10^RANDBETWEEN(RANDBETWEEN(0,1),1),CHOOSE(RANDBETWEEN(1,3),5,10,20)))","v":9},{"$f":"IF(I1514=1,D1514,IF(I1514=3,\"%\",\"cm\"))","v":"m"},{"$f":"RANDBETWEEN(1,MIN(9,C1514))","v":9},{"$f":"IF(AND(Worksheet!$D$12,RAND()<0.2),3,IF(RAND()<Worksheet!$D$10/100,1,2))","v":1},{"$f":"IF(I1514=1,F1514,IF(I1514=2,F1514/100,IF(I1514=3,F1514/100*C1514,\"\")))","v":9},{"$f":"CONCATENATE(\" \",D1514)","v":" m"},{"$f":"IF(I1514=1,F1514*100,IF(I1514=2,F1514,IF(I1514=3,F1514/100*C1514*100,\"\")))","v":900},"cm"]
[{"$f":"IF(COUNTIF($B$1:B1515,TRUE)=COUNTIF($B$1:B1514,TRUE),\"\",COUNTIF($B$1:B1515,TRUE))","v":1179},{"$f":"Worksheet!$B$24","v":true},{"$f":"RANDBETWEEN(5,RANDBETWEEN(5,Worksheet!$D$8))","v":47},"km","±",{"$f":"IF(I1515=1,H1515*10^RANDBETWEEN(IF(Worksheet!$D$14,-1,0),0),IF(I1515=2,H1515*10^RANDBETWEEN(RANDBETWEEN(0,2),2),CHOOSE(RANDBETWEEN(1,3),5,10,20)))","v":100},{"$f":"IF(I1515=1,D1515,IF(I1515=3,\"%\",\"m\"))","v":"m"},1,{"$f":"IF(AND(Worksheet!$D$12,RAND()<0.2),3,IF(RAND()<Worksheet!$D$10/100,1,2))","v":2},{"$f":"IF(I1515=1,F1515,IF(I1515=2,F1515/1000,IF(I1515=3,F1515/100*C1515,\"\")))","v":0.1}," km",{"$f":"IF(I1515=1,F1515*1000,IF(I1515=2,F1515,IF(I1515=3,F1515/100*C1515*1000,\"\")))","v":100},"m"]
[{"$f":"IF(COUNTIF($B$1:B1516,TRUE)=COUNTIF($B$1:B1515,TRUE),\"\",COUNTIF($B$1:B1516,TRUE))","v":""},{"$f":"Worksheet!$B$26","v":false},{"$f":"RANDBETWEEN(5,RANDBETWEEN(5,Worksheet!$D$8))","v":12},"m","±",{"$f":"IF(I1516=1,H1516*10^RANDBETWEEN(IF(Worksheet!$D$14,-1,0),0),IF(I1516=2,H1516*10^RANDBETWEEN(RANDBETWEEN(0,2),2),CHOOSE(RANDBETWEEN(1,3),5,10,20)))","v":0.9},{"$f":"IF(I1516=1,D1516,IF(I1516=3,\"%\",\"mm\"))","v":"m"},9,{"$f":"IF(AND(Worksheet!$D$12,RAND()<0.2),3,IF(RAND()<Worksheet!$D$10/100,1,2))","v":1},0.9," m",900,"mm"]
[{"$f":"IF(COUNTIF($B$1:B1517,TRUE)=COUNTIF($B$1:B1516,TRUE),\"\",COUNTIF($B$1:B1517,TRUE))","v":1180},{"$f":"Worksheet!$D$20","v":true},{"$f":"RANDBETWEEN(5,RANDBETWEEN(5,Worksheet!$D$8))","v":77},"kg","±",{"$f":"IF(I1517=1,H1517*10^RANDBETWEEN(IF(Worksheet!$D$14,-1,0),0),IF(I1517=2,H1517*10^RANDBETWEEN(RANDBETWEEN(0,2),2),CHOOSE(RANDBETWEEN(1,3),5,10,20)))","v":10},{"$f":"IF(I1517=1,D1517,IF(I1517=3,\"%\",\"g\"))","v":"%"},{"$f":"RANDBETWEEN(1,MIN(9,C1517))","v":2},{"$f":"IF(AND(Worksheet!$D$12,RAND()<0.2),3,IF(RAND()<Worksheet!$D$10/100,1,2))","v":3},7.7,{"$f":"CONCATENATE(\" \",D1517)","v":" kg"},7700,"g"]
[{"$f":"IF(COUNTIF($B$1:B1518,TRUE)=COUNTIF($B$1:B1517,TRUE),\"\",COUNTIF($B$1:B1518,TRUE))","v":1181},{"$f":"Worksheet!$D$22","v":true},{"$f":"RANDBETWEEN(5,RANDBETWEEN(5,Worksheet!$D$8))","v":109},"tonnes","±",{"$f":"IF(I1518=1,H1518*10^RANDBETWEEN(IF(Worksheet!$D$14,-1,0),0),IF(I1518=2,H1518*10^RANDBETWEEN(RANDBETWEEN(0,2),2),CHOOSE(RANDBETWEEN(1,3),5,10,20)))","v":2},{"$f":"IF(I1518=1,D1518,IF(I1518=3,\"%\",\"kg\"))","v":"tonnes"},{"$f":"RANDBETWEEN(1,MIN(9,C1518))","v":2},{"$f":"IF(AND(Worksheet!$D$12,RAND()<0.2),3,IF(RAND()<Worksheet!$D$10/100,1,2))","v":1},2,{"$f":"CONCATENATE(\" \",D1518)","v":" tonnes"},2000,"kg"]
[{"$f":"IF(COUNTIF($B$1:B1519,TRUE)=COUNTIF($B$1:B1518,TRUE),\"\",COUNTIF($B$1:B1519,TRUE))","v":1182},{"$f":"Worksheet!$D$24","v":true},{"$f":"RANDBETWEEN(5,RANDBETWEEN(5,Worksheet!$D$8))","v":120},"litres","±",{"$f":"IF(I1519=1,H1519*10^RANDBETWEEN(IF(Worksheet!$D$14,-1,0),0),IF(I1519=2,H1519*10^RANDBETWEEN(RANDBETWEEN(0,2),2),CHOOSE(RANDBETWEEN(1,3),5,10,20)))","v":5},{"$f":"IF(I1519=1,D1519,IF(I1519=3,\"%\",\"ml\"))","v":"%"},{"$f":"RANDBETWEEN(1,MIN(9,C1519))","v":5},{"$f":"IF(AND(Worksheet!$D$12,RAND()<0.2),3,IF(RAND()<Worksheet!$D$10/100,1,2))","v":3},6,{"$f":"CONCATENATE(\" \",D1519)","v":" litres"},6000,"ml"]
[{"$f":"IF(COUNTIF($B$1:B1520,TRUE)=COUNTIF($B$1:B1519,TRUE),\"\",COUNTIF($B$1:B1520,TRUE))","v":""},{"$f":"Worksheet!$D$26","v":false},{"$f":"RANDBETWEEN(5,RANDBETWEEN(5,Worksheet!$D$8))","v":23},"litres","±",{"$f":"IF(I1520=1,H1520*10^RANDBETWEEN(IF(Worksheet!$D$14,-1,0),0),IF(I1520=2,H1520*10^RANDBETWEEN(RANDBETWEEN(0,2),2),CHOOSE(RANDBETWEEN(1,3),5,10,20)))","v":300},{"$f":"IF(I1520=1,D1520,IF(I1520=3,\"%\",\"cm³\"))","v":"cm³"},{"$f":"RANDBETWEEN(1,MIN(9,C1520))","v":3},{"$f":"IF(AND(Worksheet!$D$12,RAND()<0.2),3,IF(RAND()<Worksheet!$D$10/100,1,2))","v":2},0.3,{"$f":"CONCATENATE(\" \",D1520)","v":" litres"},300,"cm³"]
[{"$f":"IF(COUNTIF($B$1:B1521,TRUE)=COUNTIF($B$1:B1521,TRUE),\"\",COUNTIF($B$1:B1521,TRUE))","v":""},{"$f":"Worksheet!$B$28","v":true},{"$f":"RANDBETWEEN(5,20)","v":7},"°C","±",{"$f":"IF(I1521=1,H1521*10^RANDBETWEEN(IF(Worksheet!$D$14,-1,0),0),IF(I1521=2,H1521,CHOOSE(RANDBETWEEN(1,3),5,10,20)))","v":1},{"$f":"IF(I1521=1,D1521,IF(I1521=3,\"%\",\"sec\"))","v":"sec"},{"$f":"RANDBETWEEN(1,MIN(9,C1521))","v":1},{"$f":"IF(AND(Worksheet!$D$12,RAND()<0),3,IF(RAND()<Worksheet!$D$10/100,1,2))","v":2},{"$f":"IF(I1521=1,F1521,IF(I1521=2,F1521,IF(I1521=3,F1521/100*C1521,\"\")))","v":1},{"$f":"CONCATENATE(\" \",D1521)","v":" °C"},{"$f":"IF(I1521=1,F1521,IF(I1521=2,F1521,IF(I1521=3,F1521/100*C1521,\"\")))","v":1}," °C"]
[{"$f":"COUNTIF($B$1:B1522,TRUE)","v":1184},{"$f":"Worksheet!$B$20","v":true},{"$f":"RANDBETWEEN(5,RANDBETWEEN(5,Worksheet!$D$8))","v":58},"cm","±",{"$f":"IF(I1522=1,H1522*10^RANDBETWEEN(IF(Worksheet!$D$14,-1,0),0),IF(I1522=2,H1522,CHOOSE(RANDBETWEEN(1,3),5,10,20)))","v":3},{"$f":"IF(I1522=1,D1522,IF(I1522=3,\"%\",\"mm\"))","v":"cm"},{"$f":"RANDBETWEEN(1,MIN(9,C1522))","v":3},{"$f":"IF(AND(Worksheet!$D$12,RAND()<0.2),3,IF(RAND()<Worksheet!$D$10/100,1,2))","v":1},{"$f":"IF(I1522=1,F1522,IF(I1522=2,F1522/10,IF(I1522=3,F1522/100*C1522,\"\")))","v":3},{"$f":"CONCATENATE(\" \",D1522)","v":" cm"},{"$f":"IF(I1522=1,F1522*10,IF(I1522=2,F1522,IF(I1522=3,F1522/100*C1522*10,\"\")))","v":30},"mm"]
[{"$f":"IF(COUNTIF($B$1:B1523,TRUE)=COUNTIF($B$1:B1522,TRUE),\"\",COUNTIF($B$1:B1523,TRUE))","v":1185},{"$f":"Worksheet!$B$22","v":true},{"$f":"RANDBETWEEN(5,RANDBETWEEN(5,Worksheet!$D$8))","v":26},"m","±",{"$f":"IF(I1523=1,H1523*10^RANDBETWEEN(IF(Worksheet!$D$14,-1,0),0),IF(I1523=2,H1523*10^RANDBETWEEN(RANDBETWEEN(0,1),1),CHOOSE(RANDBETWEEN(1,3),5,10,20)))","v":2},{"$f":"IF(I1523=1,D1523,IF(I1523=3,\"%\",\"cm\"))","v":"m"},{"$f":"RANDBETWEEN(1,MIN(9,C1523))","v":2},{"$f":"IF(AND(Worksheet!$D$12,RAND()<0.2),3,IF(RAND()<Worksheet!$D$10/100,1,2))","v":1},{"$f":"IF(I1523=1,F1523,IF(I1523=2,F1523/100,IF(I1523=3,F1523/100*C1523,\"\")))","v":2},{"$f":"CONCATENATE(\" \",D1523)","v":" m"},{"$f":"IF(I1523=1,F1523*100,IF(I1523=2,F1523,IF(I1523=3,F1523/100*C1523*100,\"\")))","v":200},"cm"]
[{"$f":"IF(COUNTIF($B$1:B1524,TRUE)=COUNTIF($B$1:B1523,TRUE),\"\",COUNTIF($B$1:B1524,TRUE))","v":1186},{"$f":"Worksheet!$B$24","v":true},{"$f":"RANDBETWEEN(5,RANDBETWEEN(5,Worksheet!$D$8))","v":54},"km","±",{"$f":"IF(I1524=1,H1524*10^RANDBETWEEN(IF(Worksheet!$D$14,-1,0),0),IF(I1524=2,H1524*10^RANDBETWEEN(RANDBETWEEN(0,2),2),CHOOSE(RANDBETWEEN(1,3),5,10,20)))","v":0.30000000000000004},{"$f":"IF(I1524=1,D1524,IF(I1524=3,\"%\",\"m\"))","v":"km"},3,{"$f":"IF(AND(Worksheet!$D$12,RAND()<0.2),3,IF(RAND()<Worksheet!$D$10/100,1,2))","v":1},{"$f":"IF(I1524=1,F1524,IF(I1524=2,F1524/1000,IF(I1524=3,F1524/100*C1524,\"\")))","v":0.30000000000000004}," km",{"$f":"IF(I1524=1,F1524*1000,IF(I1524=2,F1524,IF(I1524=3,F1524/100*C1524*1000,\"\")))","v":300.00000000000006},"m"]
[{"$f":"IF(COUNTIF($B$1:B1525,TRUE)=COUNTIF($B$1:B1524,TRUE),\"\",COUNTIF($B$1:B1525,TRUE))","v":""},{"$f":"Worksheet!$B$26","v":false},{"$f":"RANDBETWEEN(5,RANDBETWEEN(5,Worksheet!$D$8))","v":17},"m","±",{"$f":"IF(I1525=1,H1525*10^RANDBETWEEN(IF(Worksheet!$D$14,-1,0),0),IF(I1525=2,H1525*10^RANDBETWEEN(RANDBETWEEN(0,2),2),CHOOSE(RANDBETWEEN(1,3),5,10,20)))","v":0.30000000000000004},{"$f":"IF(I1525=1,D1525,IF(I1525=3,\"%\",\"mm\"))","v":"m"},3,{"$f":"IF(AND(Worksheet!$D$12,RAND()<0.2),3,IF(RAND()<Worksheet!$D$10/100,1,2))","v":1},0.30000000000000004," m",300.00000000000006,"mm"]
[{"$f":"IF(COUNTIF($B$1:B1526,TRUE)=COUNTIF($B$1:B1525,TRUE),\"\",COUNTIF($B$1:B1526,TRUE))","v":1187},{"$f":"Worksheet!$D$20","v":true},{"$f":"RANDBETWEEN(5,RANDBETWEEN(5,Worksheet!$D$8))","v":148},"kg","±",{"$f":"IF(I1526=1,H1526*10^RANDBETWEEN(IF(Worksheet!$D$14,-1,0),0),IF(I1526=2,H1526*10^RANDBETWEEN(RANDBETWEEN(0,2),2),CHOOSE(RANDBETWEEN(1,3),5,10,20)))","v":0.8},{"$f":"IF(I1526=1,D1526,IF(I1526=3,\"%\",\"g\"))","v":"kg"},{"$f":"RANDBETWEEN(1,MIN(9,C1526))","v":8},{"$f":"IF(AND(Worksheet!$D$12,RAND()<0.2),3,IF(RAND()<Worksheet!$D$10/100,1,2))","v":1},0.8,{"$f":"CONCATENATE(\" \",D1526)","v":" kg"},800,"g"]
[{"$f":"IF(COUNTIF($B$1:B1527,TRUE)=COUNTIF($B$1:B1526,TRUE),\"\",COUNTIF($B$1:B1527,TRUE))","v":1188},{"$f":"Worksheet!$D$22","v":true},{"$f":"RANDBETWEEN(5,RANDBETWEEN(5,Worksheet!$D$8))","v":44},"tonnes","±",{"$f":"IF(I1527=1,H1527*10^RANDBETWEEN(IF(Worksheet!$D$14,-1,0),0),IF(I1527=2,H1527*10^RANDBETWEEN(RANDBETWEEN(0,2),2),CHOOSE(RANDBETWEEN(1,3),5,10,20)))","v":300},{"$f":"IF(I1527=1,D1527,IF(I1527=3,\"%\",\"kg\"))","v":"kg"},{"$f":"RANDBETWEEN(1,MIN(9,C1527))","v":3},{"$f":"IF(AND(Worksheet!$D$12,RAND()<0.2),3,IF(RAND()<Worksheet!$D$10/100,1,2))","v":2},0.3,{"$f":"CONCATENATE(\" \",D1527)","v":" tonnes"},300,"kg"]
[{"$f":"IF(COUNTIF($B$1:B1528,TRUE)=COUNTIF($B$1:B1527,TRUE),\"\",COUNTIF($B$1:B1528,TRUE))","v":1189},{"$f":"Worksheet!$D$24","v":true},{"$f":"RANDBETWEEN(5,RANDBETWEEN(5,Worksheet!$D$8))","v":27},"litres","±",{"$f":"IF(I1528=1,H1528*10^RANDBETWEEN(IF(Worksheet!$D$14,-1,0),0),IF(I1528=2,H1528*10^RANDBETWEEN(RANDBETWEEN(0,2),2),CHOOSE(RANDBETWEEN(1,3),5,10,20)))","v":20},{"$f":"IF(I1528=1,D1528,IF(I1528=3,\"%\",\"ml\"))","v":"%"},{"$f":"RANDBETWEEN(1,MIN(9,C1528))","v":2},{"$f":"IF(AND(Worksheet!$D$12,RAND()<0.2),3,IF(RAND()<Worksheet!$D$10/100,1,2))","v":3},5.4,{"$f":"CONCATENATE(\" \",D1528)","v":" litres"},5400,"ml"]
[{"$f":"IF(COUNTIF($B$1:B1529,TRUE)=COUNTIF($B$1:B1528,TRUE),\"\",COUNTIF($B$1:B1529,TRUE))","v":""},{"$f":"Worksheet!$D$26","v":false},{"$f":"RANDBETWEEN(5,RANDBETWEEN(5,Worksheet!$D$8))","v":39},"litres","±",{"$f":"IF(I1529=1,H1529*10^RANDBETWEEN(IF(Worksheet!$D$14,-1,0),0),IF(I1529=2,H1529*10^RANDBETWEEN(RANDBETWEEN(0,2),2),CHOOSE(RANDBETWEEN(1,3),5,10,20)))","v":10},{"$f":"IF(I1529=1,D1529,IF(I1529=3,\"%\",\"cm³\"))","v":"%"},{"$f":"RANDBETWEEN(1,MIN(9,C1529))","v":2},{"$f":"IF(AND(Worksheet!$D$12,RAND()<0.2),3,IF(RAND()<Worksheet!$D$10/100,1,2))","v":3},3.9000000000000004,{"$f":"CONCATENATE(\" \",D1529)","v":" litres"},3900.0000000000005,"cm³"]
[{"$f":"IF(COUNTIF($B$1:B1530,TRUE)=COUNTIF($B$1:B1530,TRUE),\"\",COUNTIF($B$1:B1530,TRUE))","v":""},{"$f":"Worksheet!$B$28","v":true},{"$f":"RANDBETWEEN(5,20)","v":13},"°C","±",{"$f":"IF(I1530=1,H1530*10^RANDBETWEEN(IF(Worksheet!$D$14,-1,0),0),IF(I1530=2,H1530,CHOOSE(RANDBETWEEN(1,3),5,10,20)))","v":1},{"$f":"IF(I1530=1,D1530,IF(I1530=3,\"%\",\"sec\"))","v":"°C"},{"$f":"RANDBETWEEN(1,MIN(9,C1530))","v":1},{"$f":"IF(AND(Worksheet!$D$12,RAND()<0),3,IF(RAND()<Worksheet!$D$10/100,1,2))","v":1},{"$f":"IF(I1530=1,F1530,IF(I1530=2,F1530,IF(I1530=3,F1530/100*C1530,\"\")))","v":1},{"$f":"CONCATENATE(\" \",D1530)","v":" °C"},{"$f":"IF(I1530=1,F1530,IF(I1530=2,F1530,IF(I1530=3,F1530/100*C1530,\"\")))","v":1}," °C"]
[{"$f":"COUNTIF($B$1:B1531,TRUE)","v":1191},{"$f":"Worksheet!$B$20","v":true},{"$f":"RANDBETWEEN(5,RANDBETWEEN(5,Worksheet!$D$8))","v":118},"cm","±",{"$f":"IF(I1531=1,H1531*10^RANDBETWEEN(IF(Worksheet!$D$14,-1,0),0),IF(I1531=2,H1531,CHOOSE(RANDBETWEEN(1,3),5,10,20)))","v":5},{"$f":"IF(I1531=1,D1531,IF(I1531=3,\"%\",\"mm\"))","v":"%"},{"$f":"RANDBETWEEN(1,MIN(9,C1531))","v":2},{"$f":"IF(AND(Worksheet!$D$12,RAND()<0.2),3,IF(RAND()<Worksheet!$D$10/100,1,2))","v":3},{"$f":"IF(I1531=1,F1531,IF(I1531=2,F1531/10,IF(I1531=3,F1531/100*C1531,\"\")))","v":5.9},{"$f":"CONCATENATE(\" \",D1531)","v":" cm"},{"$f":"IF(I1531=1,F1531*10,IF(I1531=2,F1531,IF(I1531=3,F1531/100*C1531*10,\"\")))","v":59},"mm"]
[{"$f":"IF(COUNTIF($B$1:B1532,TRUE)=COUNTIF($B$1:B1531,TRUE),\"\",COUNTIF($B$1:B1532,TRUE))","v":1192},{"$f":"Worksheet!$B$22","v":true},{"$f":"RANDBETWEEN(5,RANDBETWEEN(5,Worksheet!$D$8))","v":81},"m","±",{"$f":"IF(I1532=1,H1532*10^RANDBETWEEN(IF(Worksheet!$D$14,-1,0),0),IF(I1532=2,H1532*10^RANDBETWEEN(RANDBETWEEN(0,1),1),CHOOSE(RANDBETWEEN(1,3),5,10,20)))","v":7},{"$f":"IF(I1532=1,D1532,IF(I1532=3,\"%\",\"cm\"))","v":"m"},{"$f":"RANDBETWEEN(1,MIN(9,C1532))","v":7},{"$f":"IF(AND(Worksheet!$D$12,RAND()<0.2),3,IF(RAND()<Worksheet!$D$10/100,1,2))","v":1},{"$f":"IF(I1532=1,F1532,IF(I1532=2,F1532/100,IF(I1532=3,F1532/100*C1532,\"\")))","v":7},{"$f":"CONCATENATE(\" \",D1532)","v":" m"},{"$f":"IF(I1532=1,F1532*100,IF(I1532=2,F1532,IF(I1532=3,F1532/100*C1532*100,\"\")))","v":700},"cm"]
[{"$f":"IF(COUNTIF($B$1:B1533,TRUE)=COUNTIF($B$1:B1532,TRUE),\"\",COUNTIF($B$1:B1533,TRUE))","v":1193},{"$f":"Worksheet!$B$24","v":true},{"$f":"RANDBETWEEN(5,RANDBETWEEN(5,Worksheet!$D$8))","v":125},"km","±",{"$f":"IF(I1533=1,H1533*10^RANDBETWEEN(IF(Worksheet!$D$14,-1,0),0),IF(I1533=2,H1533*10^RANDBETWEEN(RANDBETWEEN(0,2),2),CHOOSE(RANDBETWEEN(1,3),5,10,20)))","v":10},{"$f":"IF(I1533=1,D1533,IF(I1533=3,\"%\",\"m\"))","v":"%"},4,{"$f":"IF(AND(Worksheet!$D$12,RAND()<0.2),3,IF(RAND()<Worksheet!$D$10/100,1,2))","v":3},{"$f":"IF(I1533=1,F1533,IF(I1533=2,F1533/1000,IF(I1533=3,F1533/100*C1533,\"\")))","v":12.5}," km",{"$f":"IF(I1533=1,F1533*1000,IF(I1533=2,F1533,IF(I1533=3,F1533/100*C1533*1000,\"\")))","v":12500},"m"]
[{"$f":"IF(COUNTIF($B$1:B1534,TRUE)=COUNTIF($B$1:B1533,TRUE),\"\",COUNTIF($B$1:B1534,TRUE))","v":""},{"$f":"Worksheet!$B$26","v":false},{"$f":"RANDBETWEEN(5,RANDBETWEEN(5,Worksheet!$D$8))","v":20},"m","±",{"$f":"IF(I1534=1,H1534*10^RANDBETWEEN(IF(Worksheet!$D$14,-1,0),0),IF(I1534=2,H1534*10^RANDBETWEEN(RANDBETWEEN(0,2),2),CHOOSE(RANDBETWEEN(1,3),5,10,20)))","v":3},{"$f":"IF(I1534=1,D1534,IF(I1534=3,\"%\",\"mm\"))","v":"m"},3,{"$f":"IF(AND(Worksheet!$D$12,RAND()<0.2),3,IF(RAND()<Worksheet!$D$10/100,1,2))","v":1},3," m",3000,"mm"]
[{"$f":"IF(COUNTIF($B$1:B1535,TRUE)=COUNTIF($B$1:B1534,TRUE),\"\",COUNTIF($B$1:B1535,TRUE))","v":1194},{"$f":"Worksheet!$D$20","v":true},{"$f":"RANDBETWEEN(5,RANDBETWEEN(5,Worksheet!$D$8))","v":61},"kg","±",{"$f":"IF(I1535=1,H1535*10^RANDBETWEEN(IF(Worksheet!$D$14,-1,0),0),IF(I1535=2,H1535*10^RANDBETWEEN(RANDBETWEEN(0,2),2),CHOOSE(RANDBETWEEN(1,3),5,10,20)))","v":8},{"$f":"IF(I1535=1,D1535,IF(I1535=3,\"%\",\"g\"))","v":"kg"},{"$f":"RANDBETWEEN(1,MIN(9,C1535))","v":8},{"$f":"IF(AND(Worksheet!$D$12,RAND()<0.2),3,IF(RAND()<Worksheet!$D$10/100,1,2))","v":1},8,{"$f":"CONCATENATE(\" \",D1535)","v":" kg"},8000,"g"]
[{"$f":"IF(COUNTIF($B$1:B1536,TRUE)=COUNTIF($B$1:B1535,TRUE),\"\",COUNTIF($B$1:B1536,TRUE))","v":1195},{"$f":"Worksheet!$D$22","v":true},{"$f":"RANDBETWEEN(5,RANDBETWEEN(5,Worksheet!$D$8))","v":23},"tonnes","±",{"$f":"IF(I1536=1,H1536*10^RANDBETWEEN(IF(Worksheet!$D$14,-1,0),0),IF(I1536=2,H1536*10^RANDBETWEEN(RANDBETWEEN(0,2),2),CHOOSE(RANDBETWEEN(1,3),5,10,20)))","v":0.9},{"$f":"IF(I1536=1,D1536,IF(I1536=3,\"%\",\"kg\"))","v":"tonnes"},{"$f":"RANDBETWEEN(1,MIN(9,C1536))","v":9},{"$f":"IF(AND(Worksheet!$D$12,RAND()<0.2),3,IF(RAND()<Worksheet!$D$10/100,1,2))","v":1},0.9,{"$f":"CONCATENATE(\" \",D1536)","v":" tonnes"},900,"kg"]
[{"$f":"IF(COUNTIF($B$1:B1537,TRUE)=COUNTIF($B$1:B1536,TRUE),\"\",COUNTIF($B$1:B1537,TRUE))","v":1196},{"$f":"Worksheet!$D$24","v":true},{"$f":"RANDBETWEEN(5,RANDBETWEEN(5,Worksheet!$D$8))","v":31},"litres","±",{"$f":"IF(I1537=1,H1537*10^RANDBETWEEN(IF(Worksheet!$D$14,-1,0),0),IF(I1537=2,H1537*10^RANDBETWEEN(RANDBETWEEN(0,2),2),CHOOSE(RANDBETWEEN(1,3),5,10,20)))","v":1},{"$f":"IF(I1537=1,D1537,IF(I1537=3,\"%\",\"ml\"))","v":"litres"},{"$f":"RANDBETWEEN(1,MIN(9,C1537))","v":1},{"$f":"IF(AND(Worksheet!$D$12,RAND()<0.2),3,IF(RAND()<Worksheet!$D$10/100,1,2))","v":1},1,{"$f":"CONCATENATE(\" \",D1537)","v":" litres"},1000,"ml"]
[{"$f":"IF(COUNTIF($B$1:B1538,TRUE)=COUNTIF($B$1:B1537,TRUE),\"\",COUNTIF($B$1:B1538,TRUE))","v":""},{"$f":"Worksheet!$D$26","v":false},{"$f":"RANDBETWEEN(5,RANDBETWEEN(5,Worksheet!$D$8))","v":148},"litres","±",{"$f":"IF(I1538=1,H1538*10^RANDBETWEEN(IF(Worksheet!$D$14,-1,0),0),IF(I1538=2,H1538*10^RANDBETWEEN(RANDBETWEEN(0,2),2),CHOOSE(RANDBETWEEN(1,3),5,10,20)))","v":4},{"$f":"IF(I1538=1,D1538,IF(I1538=3,\"%\",\"cm³\"))","v":"litres"},{"$f":"RANDBETWEEN(1,MIN(9,C1538))","v":4},{"$f":"IF(AND(Worksheet!$D$12,RAND()<0.2),3,IF(RAND()<Worksheet!$D$10/100,1,2))","v":1},4,{"$f":"CONCATENATE(\" \",D1538)","v":" litres"},4000,"cm³"]
[{"$f":"IF(COUNTIF($B$1:B1539,TRUE)=COUNTIF($B$1:B1539,TRUE),\"\",COUNTIF($B$1:B1539,TRUE))","v":""},{"$f":"Worksheet!$B$28","v":true},{"$f":"RANDBETWEEN(5,20)","v":10},"°C","±",{"$f":"IF(I1539=1,H1539*10^RANDBETWEEN(IF(Worksheet!$D$14,-1,0),0),IF(I1539=2,H1539,CHOOSE(RANDBETWEEN(1,3),5,10,20)))","v":0.30000000000000004},{"$f":"IF(I1539=1,D1539,IF(I1539=3,\"%\",\"sec\"))","v":"°C"},{"$f":"RANDBETWEEN(1,MIN(9,C1539))","v":3},{"$f":"IF(AND(Worksheet!$D$12,RAND()<0),3,IF(RAND()<Worksheet!$D$10/100,1,2))","v":1},{"$f":"IF(I1539=1,F1539,IF(I1539=2,F1539,IF(I1539=3,F1539/100*C1539,\"\")))","v":0.30000000000000004},{"$f":"CONCATENATE(\" \",D1539)","v":" °C"},{"$f":"IF(I1539=1,F1539,IF(I1539=2,F1539,IF(I1539=3,F1539/100*C1539,\"\")))","v":0.30000000000000004}," °C"]
[{"$f":"COUNTIF($B$1:B1540,TRUE)","v":1198},{"$f":"Worksheet!$B$20","v":true},{"$f":"RANDBETWEEN(5,RANDBETWEEN(5,Worksheet!$D$8))","v":52},"cm","±",{"$f":"IF(I1540=1,H1540*10^RANDBETWEEN(IF(Worksheet!$D$14,-1,0),0),IF(I1540=2,H1540,CHOOSE(RANDBETWEEN(1,3),5,10,20)))","v":0.5},{"$f":"IF(I1540=1,D1540,IF(I1540=3,\"%\",\"mm\"))","v":"cm"},{"$f":"RANDBETWEEN(1,MIN(9,C1540))","v":5},{"$f":"IF(AND(Worksheet!$D$12,RAND()<0.2),3,IF(RAND()<Worksheet!$D$10/100,1,2))","v":1},{"$f":"IF(I1540=1,F1540,IF(I1540=2,F1540/10,IF(I1540=3,F1540/100*C1540,\"\")))","v":0.5},{"$f":"CONCATENATE(\" \",D1540)","v":" cm"},{"$f":"IF(I1540=1,F1540*10,IF(I1540=2,F1540,IF(I1540=3,F1540/100*C1540*10,\"\")))","v":5},"mm"]
[{"$f":"IF(COUNTIF($B$1:B1541,TRUE)=COUNTIF($B$1:B1540,TRUE),\"\",COUNTIF($B$1:B1541,TRUE))","v":1199},{"$f":"Worksheet!$B$22","v":true},{"$f":"RANDBETWEEN(5,RANDBETWEEN(5,Worksheet!$D$8))","v":6},"m","±",{"$f":"IF(I1541=1,H1541*10^RANDBETWEEN(IF(Worksheet!$D$14,-1,0),0),IF(I1541=2,H1541*10^RANDBETWEEN(RANDBETWEEN(0,1),1),CHOOSE(RANDBETWEEN(1,3),5,10,20)))","v":0.5},{"$f":"IF(I1541=1,D1541,IF(I1541=3,\"%\",\"cm\"))","v":"m"},{"$f":"RANDBETWEEN(1,MIN(9,C1541))","v":5},{"$f":"IF(AND(Worksheet!$D$12,RAND()<0.2),3,IF(RAND()<Worksheet!$D$10/100,1,2))","v":1},{"$f":"IF(I1541=1,F1541,IF(I1541=2,F1541/100,IF(I1541=3,F1541/100*C1541,\"\")))","v":0.5},{"$f":"CONCATENATE(\" \",D1541)","v":" m"},{"$f":"IF(I1541=1,F1541*100,IF(I1541=2,F1541,IF(I1541=3,F1541/100*C1541*100,\"\")))","v":50},"cm"]
[{"$f":"IF(COUNTIF($B$1:B1542,TRUE)=COUNTIF($B$1:B1541,TRUE),\"\",COUNTIF($B$1:B1542,TRUE))","v":1200},{"$f":"Worksheet!$B$24","v":true},{"$f":"RANDBETWEEN(5,RANDBETWEEN(5,Worksheet!$D$8))","v":74},"km","±",{"$f":"IF(I1542=1,H1542*10^RANDBETWEEN(IF(Worksheet!$D$14,-1,0),0),IF(I1542=2,H1542*10^RANDBETWEEN(RANDBETWEEN(0,2),2),CHOOSE(RANDBETWEEN(1,3),5,10,20)))","v":30},{"$f":"IF(I1542=1,D1542,IF(I1542=3,\"%\",\"m\"))","v":"m"},3,{"$f":"IF(AND(Worksheet!$D$12,RAND()<0.2),3,IF(RAND()<Worksheet!$D$10/100,1,2))","v":2},{"$f":"IF(I1542=1,F1542,IF(I1542=2,F1542/1000,IF(I1542=3,F1542/100*C1542,\"\")))","v":0.03}," km",{"$f":"IF(I1542=1,F1542*1000,IF(I1542=2,F1542,IF(I1542=3,F1542/100*C1542*1000,\"\")))","v":30},"m"]
[{"$f":"IF(COUNTIF($B$1:B1543,TRUE)=COUNTIF($B$1:B1542,TRUE),\"\",COUNTIF($B$1:B1543,TRUE))","v":""},{"$f":"Worksheet!$B$26","v":false},{"$f":"RANDBETWEEN(5,RANDBETWEEN(5,Worksheet!$D$8))","v":12},"m","±",{"$f":"IF(I1543=1,H1543*10^RANDBETWEEN(IF(Worksheet!$D$14,-1,0),0),IF(I1543=2,H1543*10^RANDBETWEEN(RANDBETWEEN(0,2),2),CHOOSE(RANDBETWEEN(1,3),5,10,20)))","v":0.5},{"$f":"IF(I1543=1,D1543,IF(I1543=3,\"%\",\"mm\"))","v":"m"},5,{"$f":"IF(AND(Worksheet!$D$12,RAND()<0.2),3,IF(RAND()<Worksheet!$D$10/100,1,2))","v":1},0.5," m",500,"mm"]
[{"$f":"IF(COUNTIF($B$1:B1544,TRUE)=COUNTIF($B$1:B1543,TRUE),\"\",COUNTIF($B$1:B1544,TRUE))","v":1201},{"$f":"Worksheet!$D$20","v":true},{"$f":"RANDBETWEEN(5,RANDBETWEEN(5,Worksheet!$D$8))","v":9},"kg","±",{"$f":"IF(I1544=1,H1544*10^RANDBETWEEN(IF(Worksheet!$D$14,-1,0),0),IF(I1544=2,H1544*10^RANDBETWEEN(RANDBETWEEN(0,2),2),CHOOSE(RANDBETWEEN(1,3),5,10,20)))","v":3},{"$f":"IF(I1544=1,D1544,IF(I1544=3,\"%\",\"g\"))","v":"kg"},{"$f":"RANDBETWEEN(1,MIN(9,C1544))","v":3},{"$f":"IF(AND(Worksheet!$D$12,RAND()<0.2),3,IF(RAND()<Worksheet!$D$10/100,1,2))","v":1},3,{"$f":"CONCATENATE(\" \",D1544)","v":" kg"},3000,"g"]
[{"$f":"IF(COUNTIF($B$1:B1545,TRUE)=COUNTIF($B$1:B1544,TRUE),\"\",COUNTIF($B$1:B1545,TRUE))","v":1202},{"$f":"Worksheet!$D$22","v":true},{"$f":"RANDBETWEEN(5,RANDBETWEEN(5,Worksheet!$D$8))","v":9},"tonnes","±",{"$f":"IF(I1545=1,H1545*10^RANDBETWEEN(IF(Worksheet!$D$14,-1,0),0),IF(I1545=2,H1545*10^RANDBETWEEN(RANDBETWEEN(0,2),2),CHOOSE(RANDBETWEEN(1,3),5,10,20)))","v":100},{"$f":"IF(I1545=1,D1545,IF(I1545=3,\"%\",\"kg\"))","v":"kg"},{"$f":"RANDBETWEEN(1,MIN(9,C1545))","v":1},{"$f":"IF(AND(Worksheet!$D$12,RAND()<0.2),3,IF(RAND()<Worksheet!$D$10/100,1,2))","v":2},0.1,{"$f":"CONCATENATE(\" \",D1545)","v":" tonnes"},100,"kg"]
[{"$f":"IF(COUNTIF($B$1:B1546,TRUE)=COUNTIF($B$1:B1545,TRUE),\"\",COUNTIF($B$1:B1546,TRUE))","v":1203},{"$f":"Worksheet!$D$24","v":true},{"$f":"RANDBETWEEN(5,RANDBETWEEN(5,Worksheet!$D$8))","v":106},"litres","±",{"$f":"IF(I1546=1,H1546*10^RANDBETWEEN(IF(Worksheet!$D$14,-1,0),0),IF(I1546=2,H1546*10^RANDBETWEEN(RANDBETWEEN(0,2),2),CHOOSE(RANDBETWEEN(1,3),5,10,20)))","v":5},{"$f":"IF(I1546=1,D1546,IF(I1546=3,\"%\",\"ml\"))","v":"litres"},{"$f":"RANDBETWEEN(1,MIN(9,C1546))","v":5},{"$f":"IF(AND(Worksheet!$D$12,RAND()<0.2),3,IF(RAND()<Worksheet!$D$10/100,1,2))","v":1},5,{"$f":"CONCATENATE(\" \",D1546)","v":" litres"},5000,"ml"]
[{"$f":"IF(COUNTIF($B$1:B1547,TRUE)=COUNTIF($B$1:B1546,TRUE),\"\",COUNTIF($B$1:B1547,TRUE))","v":""},{"$f":"Worksheet!$D$26","v":false},{"$f":"RANDBETWEEN(5,RANDBETWEEN(5,Worksheet!$D$8))","v":29},"litres","±",{"$f":"IF(I1547=1,H1547*10^RANDBETWEEN(IF(Worksheet!$D$14,-1,0),0),IF(I1547=2,H1547*10^RANDBETWEEN(RANDBETWEEN(0,2),2),CHOOSE(RANDBETWEEN(1,3),5,10,20)))","v":0.9},{"$f":"IF(I1547=1,D1547,IF(I1547=3,\"%\",\"cm³\"))","v":"litres"},{"$f":"RANDBETWEEN(1,MIN(9,C1547))","v":9},{"$f":"IF(AND(Worksheet!$D$12,RAND()<0.2),3,IF(RAND()<Worksheet!$D$10/100,1,2))","v":1},0.9,{"$f":"CONCATENATE(\" \",D1547)","v":" litres"},900,"cm³"]
[{"$f":"IF(COUNTIF($B$1:B1548,TRUE)=COUNTIF($B$1:B1548,TRUE),\"\",COUNTIF($B$1:B1548,TRUE))","v":""},{"$f":"Worksheet!$B$28","v":true},{"$f":"RANDBETWEEN(5,20)","v":19},"°C","±",{"$f":"IF(I1548=1,H1548*10^RANDBETWEEN(IF(Worksheet!$D$14,-1,0),0),IF(I1548=2,H1548,CHOOSE(RANDBETWEEN(1,3),5,10,20)))","v":1},{"$f":"IF(I1548=1,D1548,IF(I1548=3,\"%\",\"sec\"))","v":"°C"},{"$f":"RANDBETWEEN(1,MIN(9,C1548))","v":1},{"$f":"IF(AND(Worksheet!$D$12,RAND()<0),3,IF(RAND()<Worksheet!$D$10/100,1,2))","v":1},{"$f":"IF(I1548=1,F1548,IF(I1548=2,F1548,IF(I1548=3,F1548/100*C1548,\"\")))","v":1},{"$f":"CONCATENATE(\" \",D1548)","v":" °C"},{"$f":"IF(I1548=1,F1548,IF(I1548=2,F1548,IF(I1548=3,F1548/100*C1548,\"\")))","v":1}," °C"]
[{"$f":"COUNTIF($B$1:B1549,TRUE)","v":1205},{"$f":"Worksheet!$B$20","v":true},{"$f":"RANDBETWEEN(5,RANDBETWEEN(5,Worksheet!$D$8))","v":24},"cm","±",{"$f":"IF(I1549=1,H1549*10^RANDBETWEEN(IF(Worksheet!$D$14,-1,0),0),IF(I1549=2,H1549,CHOOSE(RANDBETWEEN(1,3),5,10,20)))","v":5},{"$f":"IF(I1549=1,D1549,IF(I1549=3,\"%\",\"mm\"))","v":"%"},{"$f":"RANDBETWEEN(1,MIN(9,C1549))","v":8},{"$f":"IF(AND(Worksheet!$D$12,RAND()<0.2),3,IF(RAND()<Worksheet!$D$10/100,1,2))","v":3},{"$f":"IF(I1549=1,F1549,IF(I1549=2,F1549/10,IF(I1549=3,F1549/100*C1549,\"\")))","v":1.2000000000000002},{"$f":"CONCATENATE(\" \",D1549)","v":" cm"},{"$f":"IF(I1549=1,F1549*10,IF(I1549=2,F1549,IF(I1549=3,F1549/100*C1549*10,\"\")))","v":12.000000000000002},"mm"]
[{"$f":"IF(COUNTIF($B$1:B1550,TRUE)=COUNTIF($B$1:B1549,TRUE),\"\",COUNTIF($B$1:B1550,TRUE))","v":1206},{"$f":"Worksheet!$B$22","v":true},{"$f":"RANDBETWEEN(5,RANDBETWEEN(5,Worksheet!$D$8))","v":46},"m","±",{"$f":"IF(I1550=1,H1550*10^RANDBETWEEN(IF(Worksheet!$D$14,-1,0),0),IF(I1550=2,H1550*10^RANDBETWEEN(RANDBETWEEN(0,1),1),CHOOSE(RANDBETWEEN(1,3),5,10,20)))","v":7},{"$f":"IF(I1550=1,D1550,IF(I1550=3,\"%\",\"cm\"))","v":"m"},{"$f":"RANDBETWEEN(1,MIN(9,C1550))","v":7},{"$f":"IF(AND(Worksheet!$D$12,RAND()<0.2),3,IF(RAND()<Worksheet!$D$10/100,1,2))","v":1},{"$f":"IF(I1550=1,F1550,IF(I1550=2,F1550/100,IF(I1550=3,F1550/100*C1550,\"\")))","v":7},{"$f":"CONCATENATE(\" \",D1550)","v":" m"},{"$f":"IF(I1550=1,F1550*100,IF(I1550=2,F1550,IF(I1550=3,F1550/100*C1550*100,\"\")))","v":700},"cm"]
[{"$f":"IF(COUNTIF($B$1:B1551,TRUE)=COUNTIF($B$1:B1550,TRUE),\"\",COUNTIF($B$1:B1551,TRUE))","v":1207},{"$f":"Worksheet!$B$24","v":true},{"$f":"RANDBETWEEN(5,RANDBETWEEN(5,Worksheet!$D$8))","v":9},"km","±",{"$f":"IF(I1551=1,H1551*10^RANDBETWEEN(IF(Worksheet!$D$14,-1,0),0),IF(I1551=2,H1551*10^RANDBETWEEN(RANDBETWEEN(0,2),2),CHOOSE(RANDBETWEEN(1,3),5,10,20)))","v":0.60000000000000009},{"$f":"IF(I1551=1,D1551,IF(I1551=3,\"%\",\"m\"))","v":"km"},6,{"$f":"IF(AND(Worksheet!$D$12,RAND()<0.2),3,IF(RAND()<Worksheet!$D$10/100,1,2))","v":1},{"$f":"IF(I1551=1,F1551,IF(I1551=2,F1551/1000,IF(I1551=3,F1551/100*C1551,\"\")))","v":0.60000000000000009}," km",{"$f":"IF(I1551=1,F1551*1000,IF(I1551=2,F1551,IF(I1551=3,F1551/100*C1551*1000,\"\")))","v":600.00000000000011},"m"]
[{"$f":"IF(COUNTIF($B$1:B1552,TRUE)=COUNTIF($B$1:B1551,TRUE),\"\",COUNTIF($B$1:B1552,TRUE))","v":""},{"$f":"Worksheet!$B$26","v":false},{"$f":"RANDBETWEEN(5,RANDBETWEEN(5,Worksheet!$D$8))","v":29},"m","±",{"$f":"IF(I1552=1,H1552*10^RANDBETWEEN(IF(Worksheet!$D$14,-1,0),0),IF(I1552=2,H1552*10^RANDBETWEEN(RANDBETWEEN(0,2),2),CHOOSE(RANDBETWEEN(1,3),5,10,20)))","v":8},{"$f":"IF(I1552=1,D1552,IF(I1552=3,\"%\",\"mm\"))","v":"m"},8,{"$f":"IF(AND(Worksheet!$D$12,RAND()<0.2),3,IF(RAND()<Worksheet!$D$10/100,1,2))","v":1},8," m",8000,"mm"]
[{"$f":"IF(COUNTIF($B$1:B1553,TRUE)=COUNTIF($B$1:B1552,TRUE),\"\",COUNTIF($B$1:B1553,TRUE))","v":1208},{"$f":"Worksheet!$D$20","v":true},{"$f":"RANDBETWEEN(5,RANDBETWEEN(5,Worksheet!$D$8))","v":5},"kg","±",{"$f":"IF(I1553=1,H1553*10^RANDBETWEEN(IF(Worksheet!$D$14,-1,0),0),IF(I1553=2,H1553*10^RANDBETWEEN(RANDBETWEEN(0,2),2),CHOOSE(RANDBETWEEN(1,3),5,10,20)))","v":0.30000000000000004},{"$f":"IF(I1553=1,D1553,IF(I1553=3,\"%\",\"g\"))","v":"kg"},{"$f":"RANDBETWEEN(1,MIN(9,C1553))","v":3},{"$f":"IF(AND(Worksheet!$D$12,RAND()<0.2),3,IF(RAND()<Worksheet!$D$10/100,1,2))","v":1},0.30000000000000004,{"$f":"CONCATENATE(\" \",D1553)","v":" kg"},300.00000000000006,"g"]
[{"$f":"IF(COUNTIF($B$1:B1554,TRUE)=COUNTIF($B$1:B1553,TRUE),\"\",COUNTIF($B$1:B1554,TRUE))","v":1209},{"$f":"Worksheet!$D$22","v":true},{"$f":"RANDBETWEEN(5,RANDBETWEEN(5,Worksheet!$D$8))","v":10},"tonnes","±",{"$f":"IF(I1554=1,H1554*10^RANDBETWEEN(IF(Worksheet!$D$14,-1,0),0),IF(I1554=2,H1554*10^RANDBETWEEN(RANDBETWEEN(0,2),2),CHOOSE(RANDBETWEEN(1,3),5,10,20)))","v":0.4},{"$f":"IF(I1554=1,D1554,IF(I1554=3,\"%\",\"kg\"))","v":"tonnes"},{"$f":"RANDBETWEEN(1,MIN(9,C1554))","v":4},{"$f":"IF(AND(Worksheet!$D$12,RAND()<0.2),3,IF(RAND()<Worksheet!$D$10/100,1,2))","v":1},0.4,{"$f":"CONCATENATE(\" \",D1554)","v":" tonnes"},400,"kg"]
[{"$f":"IF(COUNTIF($B$1:B1555,TRUE)=COUNTIF($B$1:B1554,TRUE),\"\",COUNTIF($B$1:B1555,TRUE))","v":1210},{"$f":"Worksheet!$D$24","v":true},{"$f":"RANDBETWEEN(5,RANDBETWEEN(5,Worksheet!$D$8))","v":60},"litres","±",{"$f":"IF(I1555=1,H1555*10^RANDBETWEEN(IF(Worksheet!$D$14,-1,0),0),IF(I1555=2,H1555*10^RANDBETWEEN(RANDBETWEEN(0,2),2),CHOOSE(RANDBETWEEN(1,3),5,10,20)))","v":10},{"$f":"IF(I1555=1,D1555,IF(I1555=3,\"%\",\"ml\"))","v":"%"},{"$f":"RANDBETWEEN(1,MIN(9,C1555))","v":7},{"$f":"IF(AND(Worksheet!$D$12,RAND()<0.2),3,IF(RAND()<Worksheet!$D$10/100,1,2))","v":3},6,{"$f":"CONCATENATE(\" \",D1555)","v":" litres"},6000,"ml"]
[{"$f":"IF(COUNTIF($B$1:B1556,TRUE)=COUNTIF($B$1:B1555,TRUE),\"\",COUNTIF($B$1:B1556,TRUE))","v":""},{"$f":"Worksheet!$D$26","v":false},{"$f":"RANDBETWEEN(5,RANDBETWEEN(5,Worksheet!$D$8))","v":27},"litres","±",{"$f":"IF(I1556=1,H1556*10^RANDBETWEEN(IF(Worksheet!$D$14,-1,0),0),IF(I1556=2,H1556*10^RANDBETWEEN(RANDBETWEEN(0,2),2),CHOOSE(RANDBETWEEN(1,3),5,10,20)))","v":5},{"$f":"IF(I1556=1,D1556,IF(I1556=3,\"%\",\"cm³\"))","v":"litres"},{"$f":"RANDBETWEEN(1,MIN(9,C1556))","v":5},{"$f":"IF(AND(Worksheet!$D$12,RAND()<0.2),3,IF(RAND()<Worksheet!$D$10/100,1,2))","v":1},5,{"$f":"CONCATENATE(\" \",D1556)","v":" litres"},5000,"cm³"]
[{"$f":"IF(COUNTIF($B$1:B1557,TRUE)=COUNTIF($B$1:B1557,TRUE),\"\",COUNTIF($B$1:B1557,TRUE))","v":""},{"$f":"Worksheet!$B$28","v":true},{"$f":"RANDBETWEEN(5,20)","v":19},"°C","±",{"$f":"IF(I1557=1,H1557*10^RANDBETWEEN(IF(Worksheet!$D$14,-1,0),0),IF(I1557=2,H1557,CHOOSE(RANDBETWEEN(1,3),5,10,20)))","v":0.70000000000000007},{"$f":"IF(I1557=1,D1557,IF(I1557=3,\"%\",\"sec\"))","v":"°C"},{"$f":"RANDBETWEEN(1,MIN(9,C1557))","v":7},{"$f":"IF(AND(Worksheet!$D$12,RAND()<0),3,IF(RAND()<Worksheet!$D$10/100,1,2))","v":1},{"$f":"IF(I1557=1,F1557,IF(I1557=2,F1557,IF(I1557=3,F1557/100*C1557,\"\")))","v":0.70000000000000007},{"$f":"CONCATENATE(\" \",D1557)","v":" °C"},{"$f":"IF(I1557=1,F1557,IF(I1557=2,F1557,IF(I1557=3,F1557/100*C1557,\"\")))","v":0.70000000000000007}," °C"]
[{"$f":"COUNTIF($B$1:B1558,TRUE)","v":1212},{"$f":"Worksheet!$B$20","v":true},{"$f":"RANDBETWEEN(5,RANDBETWEEN(5,Worksheet!$D$8))","v":28},"cm","±",{"$f":"IF(I1558=1,H1558*10^RANDBETWEEN(IF(Worksheet!$D$14,-1,0),0),IF(I1558=2,H1558,CHOOSE(RANDBETWEEN(1,3),5,10,20)))","v":7},{"$f":"IF(I1558=1,D1558,IF(I1558=3,\"%\",\"mm\"))","v":"cm"},{"$f":"RANDBETWEEN(1,MIN(9,C1558))","v":7},{"$f":"IF(AND(Worksheet!$D$12,RAND()<0.2),3,IF(RAND()<Worksheet!$D$10/100,1,2))","v":1},{"$f":"IF(I1558=1,F1558,IF(I1558=2,F1558/10,IF(I1558=3,F1558/100*C1558,\"\")))","v":7},{"$f":"CONCATENATE(\" \",D1558)","v":" cm"},{"$f":"IF(I1558=1,F1558*10,IF(I1558=2,F1558,IF(I1558=3,F1558/100*C1558*10,\"\")))","v":70},"mm"]
[{"$f":"IF(COUNTIF($B$1:B1559,TRUE)=COUNTIF($B$1:B1558,TRUE),\"\",COUNTIF($B$1:B1559,TRUE))","v":1213},{"$f":"Worksheet!$B$22","v":true},{"$f":"RANDBETWEEN(5,RANDBETWEEN(5,Worksheet!$D$8))","v":40},"m","±",{"$f":"IF(I1559=1,H1559*10^RANDBETWEEN(IF(Worksheet!$D$14,-1,0),0),IF(I1559=2,H1559*10^RANDBETWEEN(RANDBETWEEN(0,1),1),CHOOSE(RANDBETWEEN(1,3),5,10,20)))","v":5},{"$f":"IF(I1559=1,D1559,IF(I1559=3,\"%\",\"cm\"))","v":"%"},{"$f":"RANDBETWEEN(1,MIN(9,C1559))","v":6},{"$f":"IF(AND(Worksheet!$D$12,RAND()<0.2),3,IF(RAND()<Worksheet!$D$10/100,1,2))","v":3},{"$f":"IF(I1559=1,F1559,IF(I1559=2,F1559/100,IF(I1559=3,F1559/100*C1559,\"\")))","v":2},{"$f":"CONCATENATE(\" \",D1559)","v":" m"},{"$f":"IF(I1559=1,F1559*100,IF(I1559=2,F1559,IF(I1559=3,F1559/100*C1559*100,\"\")))","v":200},"cm"]
[{"$f":"IF(COUNTIF($B$1:B1560,TRUE)=COUNTIF($B$1:B1559,TRUE),\"\",COUNTIF($B$1:B1560,TRUE))","v":1214},{"$f":"Worksheet!$B$24","v":true},{"$f":"RANDBETWEEN(5,RANDBETWEEN(5,Worksheet!$D$8))","v":8},"km","±",{"$f":"IF(I1560=1,H1560*10^RANDBETWEEN(IF(Worksheet!$D$14,-1,0),0),IF(I1560=2,H1560*10^RANDBETWEEN(RANDBETWEEN(0,2),2),CHOOSE(RANDBETWEEN(1,3),5,10,20)))","v":400},{"$f":"IF(I1560=1,D1560,IF(I1560=3,\"%\",\"m\"))","v":"m"},4,{"$f":"IF(AND(Worksheet!$D$12,RAND()<0.2),3,IF(RAND()<Worksheet!$D$10/100,1,2))","v":2},{"$f":"IF(I1560=1,F1560,IF(I1560=2,F1560/1000,IF(I1560=3,F1560/100*C1560,\"\")))","v":0.4}," km",{"$f":"IF(I1560=1,F1560*1000,IF(I1560=2,F1560,IF(I1560=3,F1560/100*C1560*1000,\"\")))","v":400},"m"]
[{"$f":"IF(COUNTIF($B$1:B1561,TRUE)=COUNTIF($B$1:B1560,TRUE),\"\",COUNTIF($B$1:B1561,TRUE))","v":""},{"$f":"Worksheet!$B$26","v":false},{"$f":"RANDBETWEEN(5,RANDBETWEEN(5,Worksheet!$D$8))","v":8},"m","±",{"$f":"IF(I1561=1,H1561*10^RANDBETWEEN(IF(Worksheet!$D$14,-1,0),0),IF(I1561=2,H1561*10^RANDBETWEEN(RANDBETWEEN(0,2),2),CHOOSE(RANDBETWEEN(1,3),5,10,20)))","v":20},{"$f":"IF(I1561=1,D1561,IF(I1561=3,\"%\",\"mm\"))","v":"%"},4,{"$f":"IF(AND(Worksheet!$D$12,RAND()<0.2),3,IF(RAND()<Worksheet!$D$10/100,1,2))","v":3},1.6," m",1600,"mm"]
[{"$f":"IF(COUNTIF($B$1:B1562,TRUE)=COUNTIF($B$1:B1561,TRUE),\"\",COUNTIF($B$1:B1562,TRUE))","v":1215},{"$f":"Worksheet!$D$20","v":true},{"$f":"RANDBETWEEN(5,RANDBETWEEN(5,Worksheet!$D$8))","v":58},"kg","±",{"$f":"IF(I1562=1,H1562*10^RANDBETWEEN(IF(Worksheet!$D$14,-1,0),0),IF(I1562=2,H1562*10^RANDBETWEEN(RANDBETWEEN(0,2),2),CHOOSE(RANDBETWEEN(1,3),5,10,20)))","v":20},{"$f":"IF(I1562=1,D1562,IF(I1562=3,\"%\",\"g\"))","v":"%"},{"$f":"RANDBETWEEN(1,MIN(9,C1562))","v":9},{"$f":"IF(AND(Worksheet!$D$12,RAND()<0.2),3,IF(RAND()<Worksheet!$D$10/100,1,2))","v":3},11.600000000000001,{"$f":"CONCATENATE(\" \",D1562)","v":" kg"},11600.000000000002,"g"]
[{"$f":"IF(COUNTIF($B$1:B1563,TRUE)=COUNTIF($B$1:B1562,TRUE),\"\",COUNTIF($B$1:B1563,TRUE))","v":1216},{"$f":"Worksheet!$D$22","v":true},{"$f":"RANDBETWEEN(5,RANDBETWEEN(5,Worksheet!$D$8))","v":44},"tonnes","±",{"$f":"IF(I1563=1,H1563*10^RANDBETWEEN(IF(Worksheet!$D$14,-1,0),0),IF(I1563=2,H1563*10^RANDBETWEEN(RANDBETWEEN(0,2),2),CHOOSE(RANDBETWEEN(1,3),5,10,20)))","v":2},{"$f":"IF(I1563=1,D1563,IF(I1563=3,\"%\",\"kg\"))","v":"tonnes"},{"$f":"RANDBETWEEN(1,MIN(9,C1563))","v":2},{"$f":"IF(AND(Worksheet!$D$12,RAND()<0.2),3,IF(RAND()<Worksheet!$D$10/100,1,2))","v":1},2,{"$f":"CONCATENATE(\" \",D1563)","v":" tonnes"},2000,"kg"]
[{"$f":"IF(COUNTIF($B$1:B1564,TRUE)=COUNTIF($B$1:B1563,TRUE),\"\",COUNTIF($B$1:B1564,TRUE))","v":1217},{"$f":"Worksheet!$D$24","v":true},{"$f":"RANDBETWEEN(5,RANDBETWEEN(5,Worksheet!$D$8))","v":32},"litres","±",{"$f":"IF(I1564=1,H1564*10^RANDBETWEEN(IF(Worksheet!$D$14,-1,0),0),IF(I1564=2,H1564*10^RANDBETWEEN(RANDBETWEEN(0,2),2),CHOOSE(RANDBETWEEN(1,3),5,10,20)))","v":4},{"$f":"IF(I1564=1,D1564,IF(I1564=3,\"%\",\"ml\"))","v":"litres"},{"$f":"RANDBETWEEN(1,MIN(9,C1564))","v":4},{"$f":"IF(AND(Worksheet!$D$12,RAND()<0.2),3,IF(RAND()<Worksheet!$D$10/100,1,2))","v":1},4,{"$f":"CONCATENATE(\" \",D1564)","v":" litres"},4000,"ml"]
[{"$f":"IF(COUNTIF($B$1:B1565,TRUE)=COUNTIF($B$1:B1564,TRUE),\"\",COUNTIF($B$1:B1565,TRUE))","v":""},{"$f":"Worksheet!$D$26","v":false},{"$f":"RANDBETWEEN(5,RANDBETWEEN(5,Worksheet!$D$8))","v":5},"litres","±",{"$f":"IF(I1565=1,H1565*10^RANDBETWEEN(IF(Worksheet!$D$14,-1,0),0),IF(I1565=2,H1565*10^RANDBETWEEN(RANDBETWEEN(0,2),2),CHOOSE(RANDBETWEEN(1,3),5,10,20)))","v":10},{"$f":"IF(I1565=1,D1565,IF(I1565=3,\"%\",\"cm³\"))","v":"%"},{"$f":"RANDBETWEEN(1,MIN(9,C1565))","v":2},{"$f":"IF(AND(Worksheet!$D$12,RAND()<0.2),3,IF(RAND()<Worksheet!$D$10/100,1,2))","v":3},0.5,{"$f":"CONCATENATE(\" \",D1565)","v":" litres"},500,"cm³"]
[{"$f":"IF(COUNTIF($B$1:B1566,TRUE)=COUNTIF($B$1:B1566,TRUE),\"\",COUNTIF($B$1:B1566,TRUE))","v":""},{"$f":"Worksheet!$B$28","v":true},{"$f":"RANDBETWEEN(5,20)","v":6},"°C","±",{"$f":"IF(I1566=1,H1566*10^RANDBETWEEN(IF(Worksheet!$D$14,-1,0),0),IF(I1566=2,H1566,CHOOSE(RANDBETWEEN(1,3),5,10,20)))","v":4},{"$f":"IF(I1566=1,D1566,IF(I1566=3,\"%\",\"sec\"))","v":"°C"},{"$f":"RANDBETWEEN(1,MIN(9,C1566))","v":4},{"$f":"IF(AND(Worksheet!$D$12,RAND()<0),3,IF(RAND()<Worksheet!$D$10/100,1,2))","v":1},{"$f":"IF(I1566=1,F1566,IF(I1566=2,F1566,IF(I1566=3,F1566/100*C1566,\"\")))","v":4},{"$f":"CONCATENATE(\" \",D1566)","v":" °C"},{"$f":"IF(I1566=1,F1566,IF(I1566=2,F1566,IF(I1566=3,F1566/100*C1566,\"\")))","v":4}," °C"]
[{"$f":"COUNTIF($B$1:B1567,TRUE)","v":1219},{"$f":"Worksheet!$B$20","v":true},{"$f":"RANDBETWEEN(5,RANDBETWEEN(5,Worksheet!$D$8))","v":10},"cm","±",{"$f":"IF(I1567=1,H1567*10^RANDBETWEEN(IF(Worksheet!$D$14,-1,0),0),IF(I1567=2,H1567,CHOOSE(RANDBETWEEN(1,3),5,10,20)))","v":0.9},{"$f":"IF(I1567=1,D1567,IF(I1567=3,\"%\",\"mm\"))","v":"cm"},{"$f":"RANDBETWEEN(1,MIN(9,C1567))","v":9},{"$f":"IF(AND(Worksheet!$D$12,RAND()<0.2),3,IF(RAND()<Worksheet!$D$10/100,1,2))","v":1},{"$f":"IF(I1567=1,F1567,IF(I1567=2,F1567/10,IF(I1567=3,F1567/100*C1567,\"\")))","v":0.9},{"$f":"CONCATENATE(\" \",D1567)","v":" cm"},{"$f":"IF(I1567=1,F1567*10,IF(I1567=2,F1567,IF(I1567=3,F1567/100*C1567*10,\"\")))","v":9},"mm"]
[{"$f":"IF(COUNTIF($B$1:B1568,TRUE)=COUNTIF($B$1:B1567,TRUE),\"\",COUNTIF($B$1:B1568,TRUE))","v":1220},{"$f":"Worksheet!$B$22","v":true},{"$f":"RANDBETWEEN(5,RANDBETWEEN(5,Worksheet!$D$8))","v":114},"m","±",{"$f":"IF(I1568=1,H1568*10^RANDBETWEEN(IF(Worksheet!$D$14,-1,0),0),IF(I1568=2,H1568*10^RANDBETWEEN(RANDBETWEEN(0,1),1),CHOOSE(RANDBETWEEN(1,3),5,10,20)))","v":0.4},{"$f":"IF(I1568=1,D1568,IF(I1568=3,\"%\",\"cm\"))","v":"m"},{"$f":"RANDBETWEEN(1,MIN(9,C1568))","v":4},{"$f":"IF(AND(Worksheet!$D$12,RAND()<0.2),3,IF(RAND()<Worksheet!$D$10/100,1,2))","v":1},{"$f":"IF(I1568=1,F1568,IF(I1568=2,F1568/100,IF(I1568=3,F1568/100*C1568,\"\")))","v":0.4},{"$f":"CONCATENATE(\" \",D1568)","v":" m"},{"$f":"IF(I1568=1,F1568*100,IF(I1568=2,F1568,IF(I1568=3,F1568/100*C1568*100,\"\")))","v":40},"cm"]
[{"$f":"IF(COUNTIF($B$1:B1569,TRUE)=COUNTIF($B$1:B1568,TRUE),\"\",COUNTIF($B$1:B1569,TRUE))","v":1221},{"$f":"Worksheet!$B$24","v":true},{"$f":"RANDBETWEEN(5,RANDBETWEEN(5,Worksheet!$D$8))","v":25},"km","±",{"$f":"IF(I1569=1,H1569*10^RANDBETWEEN(IF(Worksheet!$D$14,-1,0),0),IF(I1569=2,H1569*10^RANDBETWEEN(RANDBETWEEN(0,2),2),CHOOSE(RANDBETWEEN(1,3),5,10,20)))","v":2},{"$f":"IF(I1569=1,D1569,IF(I1569=3,\"%\",\"m\"))","v":"km"},2,{"$f":"IF(AND(Worksheet!$D$12,RAND()<0.2),3,IF(RAND()<Worksheet!$D$10/100,1,2))","v":1},{"$f":"IF(I1569=1,F1569,IF(I1569=2,F1569/1000,IF(I1569=3,F1569/100*C1569,\"\")))","v":2}," km",{"$f":"IF(I1569=1,F1569*1000,IF(I1569=2,F1569,IF(I1569=3,F1569/100*C1569*1000,\"\")))","v":2000},"m"]
[{"$f":"IF(COUNTIF($B$1:B1570,TRUE)=COUNTIF($B$1:B1569,TRUE),\"\",COUNTIF($B$1:B1570,TRUE))","v":""},{"$f":"Worksheet!$B$26","v":false},{"$f":"RANDBETWEEN(5,RANDBETWEEN(5,Worksheet!$D$8))","v":51},"m","±",{"$f":"IF(I1570=1,H1570*10^RANDBETWEEN(IF(Worksheet!$D$14,-1,0),0),IF(I1570=2,H1570*10^RANDBETWEEN(RANDBETWEEN(0,2),2),CHOOSE(RANDBETWEEN(1,3),5,10,20)))","v":4},{"$f":"IF(I1570=1,D1570,IF(I1570=3,\"%\",\"mm\"))","v":"m"},4,{"$f":"IF(AND(Worksheet!$D$12,RAND()<0.2),3,IF(RAND()<Worksheet!$D$10/100,1,2))","v":1},4," m",4000,"mm"]
[{"$f":"IF(COUNTIF($B$1:B1571,TRUE)=COUNTIF($B$1:B1570,TRUE),\"\",COUNTIF($B$1:B1571,TRUE))","v":1222},{"$f":"Worksheet!$D$20","v":true},{"$f":"RANDBETWEEN(5,RANDBETWEEN(5,Worksheet!$D$8))","v":82},"kg","±",{"$f":"IF(I1571=1,H1571*10^RANDBETWEEN(IF(Worksheet!$D$14,-1,0),0),IF(I1571=2,H1571*10^RANDBETWEEN(RANDBETWEEN(0,2),2),CHOOSE(RANDBETWEEN(1,3),5,10,20)))","v":20},{"$f":"IF(I1571=1,D1571,IF(I1571=3,\"%\",\"g\"))","v":"%"},{"$f":"RANDBETWEEN(1,MIN(9,C1571))","v":7},{"$f":"IF(AND(Worksheet!$D$12,RAND()<0.2),3,IF(RAND()<Worksheet!$D$10/100,1,2))","v":3},16.400000000000002,{"$f":"CONCATENATE(\" \",D1571)","v":" kg"},16400.000000000004,"g"]
[{"$f":"IF(COUNTIF($B$1:B1572,TRUE)=COUNTIF($B$1:B1571,TRUE),\"\",COUNTIF($B$1:B1572,TRUE))","v":1223},{"$f":"Worksheet!$D$22","v":true},{"$f":"RANDBETWEEN(5,RANDBETWEEN(5,Worksheet!$D$8))","v":49},"tonnes","±",{"$f":"IF(I1572=1,H1572*10^RANDBETWEEN(IF(Worksheet!$D$14,-1,0),0),IF(I1572=2,H1572*10^RANDBETWEEN(RANDBETWEEN(0,2),2),CHOOSE(RANDBETWEEN(1,3),5,10,20)))","v":10},{"$f":"IF(I1572=1,D1572,IF(I1572=3,\"%\",\"kg\"))","v":"%"},{"$f":"RANDBETWEEN(1,MIN(9,C1572))","v":8},{"$f":"IF(AND(Worksheet!$D$12,RAND()<0.2),3,IF(RAND()<Worksheet!$D$10/100,1,2))","v":3},4.9000000000000004,{"$f":"CONCATENATE(\" \",D1572)","v":" tonnes"},4900,"kg"]
[{"$f":"IF(COUNTIF($B$1:B1573,TRUE)=COUNTIF($B$1:B1572,TRUE),\"\",COUNTIF($B$1:B1573,TRUE))","v":1224},{"$f":"Worksheet!$D$24","v":true},{"$f":"RANDBETWEEN(5,RANDBETWEEN(5,Worksheet!$D$8))","v":41},"litres","±",{"$f":"IF(I1573=1,H1573*10^RANDBETWEEN(IF(Worksheet!$D$14,-1,0),0),IF(I1573=2,H1573*10^RANDBETWEEN(RANDBETWEEN(0,2),2),CHOOSE(RANDBETWEEN(1,3),5,10,20)))","v":0.9},{"$f":"IF(I1573=1,D1573,IF(I1573=3,\"%\",\"ml\"))","v":"litres"},{"$f":"RANDBETWEEN(1,MIN(9,C1573))","v":9},{"$f":"IF(AND(Worksheet!$D$12,RAND()<0.2),3,IF(RAND()<Worksheet!$D$10/100,1,2))","v":1},0.9,{"$f":"CONCATENATE(\" \",D1573)","v":" litres"},900,"ml"]
[{"$f":"IF(COUNTIF($B$1:B1574,TRUE)=COUNTIF($B$1:B1573,TRUE),\"\",COUNTIF($B$1:B1574,TRUE))","v":""},{"$f":"Worksheet!$D$26","v":false},{"$f":"RANDBETWEEN(5,RANDBETWEEN(5,Worksheet!$D$8))","v":18},"litres","±",{"$f":"IF(I1574=1,H1574*10^RANDBETWEEN(IF(Worksheet!$D$14,-1,0),0),IF(I1574=2,H1574*10^RANDBETWEEN(RANDBETWEEN(0,2),2),CHOOSE(RANDBETWEEN(1,3),5,10,20)))","v":70},{"$f":"IF(I1574=1,D1574,IF(I1574=3,\"%\",\"cm³\"))","v":"cm³"},{"$f":"RANDBETWEEN(1,MIN(9,C1574))","v":7},{"$f":"IF(AND(Worksheet!$D$12,RAND()<0.2),3,IF(RAND()<Worksheet!$D$10/100,1,2))","v":2},7.0000000000000007E-2,{"$f":"CONCATENATE(\" \",D1574)","v":" litres"},70,"cm³"]
[{"$f":"IF(COUNTIF($B$1:B1575,TRUE)=COUNTIF($B$1:B1575,TRUE),\"\",COUNTIF($B$1:B1575,TRUE))","v":""},{"$f":"Worksheet!$B$28","v":true},{"$f":"RANDBETWEEN(5,20)","v":6},"°C","±",{"$f":"IF(I1575=1,H1575*10^RANDBETWEEN(IF(Worksheet!$D$14,-1,0),0),IF(I1575=2,H1575,CHOOSE(RANDBETWEEN(1,3),5,10,20)))","v":3},{"$f":"IF(I1575=1,D1575,IF(I1575=3,\"%\",\"sec\"))","v":"°C"},{"$f":"RANDBETWEEN(1,MIN(9,C1575))","v":3},{"$f":"IF(AND(Worksheet!$D$12,RAND()<0),3,IF(RAND()<Worksheet!$D$10/100,1,2))","v":1},{"$f":"IF(I1575=1,F1575,IF(I1575=2,F1575,IF(I1575=3,F1575/100*C1575,\"\")))","v":3},{"$f":"CONCATENATE(\" \",D1575)","v":" °C"},{"$f":"IF(I1575=1,F1575,IF(I1575=2,F1575,IF(I1575=3,F1575/100*C1575,\"\")))","v":3}," °C"]
[{"$f":"COUNTIF($B$1:B1576,TRUE)","v":1226},{"$f":"Worksheet!$B$20","v":true},{"$f":"RANDBETWEEN(5,RANDBETWEEN(5,Worksheet!$D$8))","v":18},"cm","±",{"$f":"IF(I1576=1,H1576*10^RANDBETWEEN(IF(Worksheet!$D$14,-1,0),0),IF(I1576=2,H1576,CHOOSE(RANDBETWEEN(1,3),5,10,20)))","v":5},{"$f":"IF(I1576=1,D1576,IF(I1576=3,\"%\",\"mm\"))","v":"%"},{"$f":"RANDBETWEEN(1,MIN(9,C1576))","v":1},{"$f":"IF(AND(Worksheet!$D$12,RAND()<0.2),3,IF(RAND()<Worksheet!$D$10/100,1,2))","v":3},{"$f":"IF(I1576=1,F1576,IF(I1576=2,F1576/10,IF(I1576=3,F1576/100*C1576,\"\")))","v":0.9},{"$f":"CONCATENATE(\" \",D1576)","v":" cm"},{"$f":"IF(I1576=1,F1576*10,IF(I1576=2,F1576,IF(I1576=3,F1576/100*C1576*10,\"\")))","v":9},"mm"]
[{"$f":"IF(COUNTIF($B$1:B1577,TRUE)=COUNTIF($B$1:B1576,TRUE),\"\",COUNTIF($B$1:B1577,TRUE))","v":1227},{"$f":"Worksheet!$B$22","v":true},{"$f":"RANDBETWEEN(5,RANDBETWEEN(5,Worksheet!$D$8))","v":18},"m","±",{"$f":"IF(I1577=1,H1577*10^RANDBETWEEN(IF(Worksheet!$D$14,-1,0),0),IF(I1577=2,H1577*10^RANDBETWEEN(RANDBETWEEN(0,1),1),CHOOSE(RANDBETWEEN(1,3),5,10,20)))","v":9},{"$f":"IF(I1577=1,D1577,IF(I1577=3,\"%\",\"cm\"))","v":"m"},{"$f":"RANDBETWEEN(1,MIN(9,C1577))","v":9},{"$f":"IF(AND(Worksheet!$D$12,RAND()<0.2),3,IF(RAND()<Worksheet!$D$10/100,1,2))","v":1},{"$f":"IF(I1577=1,F1577,IF(I1577=2,F1577/100,IF(I1577=3,F1577/100*C1577,\"\")))","v":9},{"$f":"CONCATENATE(\" \",D1577)","v":" m"},{"$f":"IF(I1577=1,F1577*100,IF(I1577=2,F1577,IF(I1577=3,F1577/100*C1577*100,\"\")))","v":900},"cm"]
[{"$f":"IF(COUNTIF($B$1:B1578,TRUE)=COUNTIF($B$1:B1577,TRUE),\"\",COUNTIF($B$1:B1578,TRUE))","v":1228},{"$f":"Worksheet!$B$24","v":true},{"$f":"RANDBETWEEN(5,RANDBETWEEN(5,Worksheet!$D$8))","v":148},"km","±",{"$f":"IF(I1578=1,H1578*10^RANDBETWEEN(IF(Worksheet!$D$14,-1,0),0),IF(I1578=2,H1578*10^RANDBETWEEN(RANDBETWEEN(0,2),2),CHOOSE(RANDBETWEEN(1,3),5,10,20)))","v":7},{"$f":"IF(I1578=1,D1578,IF(I1578=3,\"%\",\"m\"))","v":"km"},7,{"$f":"IF(AND(Worksheet!$D$12,RAND()<0.2),3,IF(RAND()<Worksheet!$D$10/100,1,2))","v":1},{"$f":"IF(I1578=1,F1578,IF(I1578=2,F1578/1000,IF(I1578=3,F1578/100*C1578,\"\")))","v":7}," km",{"$f":"IF(I1578=1,F1578*1000,IF(I1578=2,F1578,IF(I1578=3,F1578/100*C1578*1000,\"\")))","v":7000},"m"]
[{"$f":"IF(COUNTIF($B$1:B1579,TRUE)=COUNTIF($B$1:B1578,TRUE),\"\",COUNTIF($B$1:B1579,TRUE))","v":""},{"$f":"Worksheet!$B$26","v":false},{"$f":"RANDBETWEEN(5,RANDBETWEEN(5,Worksheet!$D$8))","v":73},"m","±",{"$f":"IF(I1579=1,H1579*10^RANDBETWEEN(IF(Worksheet!$D$14,-1,0),0),IF(I1579=2,H1579*10^RANDBETWEEN(RANDBETWEEN(0,2),2),CHOOSE(RANDBETWEEN(1,3),5,10,20)))","v":20},{"$f":"IF(I1579=1,D1579,IF(I1579=3,\"%\",\"mm\"))","v":"%"},7,{"$f":"IF(AND(Worksheet!$D$12,RAND()<0.2),3,IF(RAND()<Worksheet!$D$10/100,1,2))","v":3},14.600000000000001," m",14600.000000000002,"mm"]
[{"$f":"IF(COUNTIF($B$1:B1580,TRUE)=COUNTIF($B$1:B1579,TRUE),\"\",COUNTIF($B$1:B1580,TRUE))","v":1229},{"$f":"Worksheet!$D$20","v":true},{"$f":"RANDBETWEEN(5,RANDBETWEEN(5,Worksheet!$D$8))","v":11},"kg","±",{"$f":"IF(I1580=1,H1580*10^RANDBETWEEN(IF(Worksheet!$D$14,-1,0),0),IF(I1580=2,H1580*10^RANDBETWEEN(RANDBETWEEN(0,2),2),CHOOSE(RANDBETWEEN(1,3),5,10,20)))","v":0.1},{"$f":"IF(I1580=1,D1580,IF(I1580=3,\"%\",\"g\"))","v":"kg"},{"$f":"RANDBETWEEN(1,MIN(9,C1580))","v":1},{"$f":"IF(AND(Worksheet!$D$12,RAND()<0.2),3,IF(RAND()<Worksheet!$D$10/100,1,2))","v":1},0.1,{"$f":"CONCATENATE(\" \",D1580)","v":" kg"},100,"g"]
[{"$f":"IF(COUNTIF($B$1:B1581,TRUE)=COUNTIF($B$1:B1580,TRUE),\"\",COUNTIF($B$1:B1581,TRUE))","v":1230},{"$f":"Worksheet!$D$22","v":true},{"$f":"RANDBETWEEN(5,RANDBETWEEN(5,Worksheet!$D$8))","v":22},"tonnes","±",{"$f":"IF(I1581=1,H1581*10^RANDBETWEEN(IF(Worksheet!$D$14,-1,0),0),IF(I1581=2,H1581*10^RANDBETWEEN(RANDBETWEEN(0,2),2),CHOOSE(RANDBETWEEN(1,3),5,10,20)))","v":4},{"$f":"IF(I1581=1,D1581,IF(I1581=3,\"%\",\"kg\"))","v":"tonnes"},{"$f":"RANDBETWEEN(1,MIN(9,C1581))","v":4},{"$f":"IF(AND(Worksheet!$D$12,RAND()<0.2),3,IF(RAND()<Worksheet!$D$10/100,1,2))","v":1},4,{"$f":"CONCATENATE(\" \",D1581)","v":" tonnes"},4000,"kg"]
[{"$f":"IF(COUNTIF($B$1:B1582,TRUE)=COUNTIF($B$1:B1581,TRUE),\"\",COUNTIF($B$1:B1582,TRUE))","v":1231},{"$f":"Worksheet!$D$24","v":true},{"$f":"RANDBETWEEN(5,RANDBETWEEN(5,Worksheet!$D$8))","v":27},"litres","±",{"$f":"IF(I1582=1,H1582*10^RANDBETWEEN(IF(Worksheet!$D$14,-1,0),0),IF(I1582=2,H1582*10^RANDBETWEEN(RANDBETWEEN(0,2),2),CHOOSE(RANDBETWEEN(1,3),5,10,20)))","v":300},{"$f":"IF(I1582=1,D1582,IF(I1582=3,\"%\",\"ml\"))","v":"ml"},{"$f":"RANDBETWEEN(1,MIN(9,C1582))","v":3},{"$f":"IF(AND(Worksheet!$D$12,RAND()<0.2),3,IF(RAND()<Worksheet!$D$10/100,1,2))","v":2},0.3,{"$f":"CONCATENATE(\" \",D1582)","v":" litres"},300,"ml"]
[{"$f":"IF(COUNTIF($B$1:B1583,TRUE)=COUNTIF($B$1:B1582,TRUE),\"\",COUNTIF($B$1:B1583,TRUE))","v":""},{"$f":"Worksheet!$D$26","v":false},{"$f":"RANDBETWEEN(5,RANDBETWEEN(5,Worksheet!$D$8))","v":88},"litres","±",{"$f":"IF(I1583=1,H1583*10^RANDBETWEEN(IF(Worksheet!$D$14,-1,0),0),IF(I1583=2,H1583*10^RANDBETWEEN(RANDBETWEEN(0,2),2),CHOOSE(RANDBETWEEN(1,3),5,10,20)))","v":0.2},{"$f":"IF(I1583=1,D1583,IF(I1583=3,\"%\",\"cm³\"))","v":"litres"},{"$f":"RANDBETWEEN(1,MIN(9,C1583))","v":2},{"$f":"IF(AND(Worksheet!$D$12,RAND()<0.2),3,IF(RAND()<Worksheet!$D$10/100,1,2))","v":1},0.2,{"$f":"CONCATENATE(\" \",D1583)","v":" litres"},200,"cm³"]
[{"$f":"IF(COUNTIF($B$1:B1584,TRUE)=COUNTIF($B$1:B1584,TRUE),\"\",COUNTIF($B$1:B1584,TRUE))","v":""},{"$f":"Worksheet!$B$28","v":true},{"$f":"RANDBETWEEN(5,20)","v":11},"°C","±",{"$f":"IF(I1584=1,H1584*10^RANDBETWEEN(IF(Worksheet!$D$14,-1,0),0),IF(I1584=2,H1584,CHOOSE(RANDBETWEEN(1,3),5,10,20)))","v":0.5},{"$f":"IF(I1584=1,D1584,IF(I1584=3,\"%\",\"sec\"))","v":"°C"},{"$f":"RANDBETWEEN(1,MIN(9,C1584))","v":5},{"$f":"IF(AND(Worksheet!$D$12,RAND()<0),3,IF(RAND()<Worksheet!$D$10/100,1,2))","v":1},{"$f":"IF(I1584=1,F1584,IF(I1584=2,F1584,IF(I1584=3,F1584/100*C1584,\"\")))","v":0.5},{"$f":"CONCATENATE(\" \",D1584)","v":" °C"},{"$f":"IF(I1584=1,F1584,IF(I1584=2,F1584,IF(I1584=3,F1584/100*C1584,\"\")))","v":0.5}," °C"]
[{"$f":"COUNTIF($B$1:B1585,TRUE)","v":1233},{"$f":"Worksheet!$B$20","v":true},{"$f":"RANDBETWEEN(5,RANDBETWEEN(5,Worksheet!$D$8))","v":111},"cm","±",{"$f":"IF(I1585=1,H1585*10^RANDBETWEEN(IF(Worksheet!$D$14,-1,0),0),IF(I1585=2,H1585,CHOOSE(RANDBETWEEN(1,3),5,10,20)))","v":20},{"$f":"IF(I1585=1,D1585,IF(I1585=3,\"%\",\"mm\"))","v":"%"},{"$f":"RANDBETWEEN(1,MIN(9,C1585))","v":4},{"$f":"IF(AND(Worksheet!$D$12,RAND()<0.2),3,IF(RAND()<Worksheet!$D$10/100,1,2))","v":3},{"$f":"IF(I1585=1,F1585,IF(I1585=2,F1585/10,IF(I1585=3,F1585/100*C1585,\"\")))","v":22.200000000000003},{"$f":"CONCATENATE(\" \",D1585)","v":" cm"},{"$f":"IF(I1585=1,F1585*10,IF(I1585=2,F1585,IF(I1585=3,F1585/100*C1585*10,\"\")))","v":222.00000000000003},"mm"]
[{"$f":"IF(COUNTIF($B$1:B1586,TRUE)=COUNTIF($B$1:B1585,TRUE),\"\",COUNTIF($B$1:B1586,TRUE))","v":1234},{"$f":"Worksheet!$B$22","v":true},{"$f":"RANDBETWEEN(5,RANDBETWEEN(5,Worksheet!$D$8))","v":16},"m","±",{"$f":"IF(I1586=1,H1586*10^RANDBETWEEN(IF(Worksheet!$D$14,-1,0),0),IF(I1586=2,H1586*10^RANDBETWEEN(RANDBETWEEN(0,1),1),CHOOSE(RANDBETWEEN(1,3),5,10,20)))","v":0.8},{"$f":"IF(I1586=1,D1586,IF(I1586=3,\"%\",\"cm\"))","v":"m"},{"$f":"RANDBETWEEN(1,MIN(9,C1586))","v":8},{"$f":"IF(AND(Worksheet!$D$12,RAND()<0.2),3,IF(RAND()<Worksheet!$D$10/100,1,2))","v":1},{"$f":"IF(I1586=1,F1586,IF(I1586=2,F1586/100,IF(I1586=3,F1586/100*C1586,\"\")))","v":0.8},{"$f":"CONCATENATE(\" \",D1586)","v":" m"},{"$f":"IF(I1586=1,F1586*100,IF(I1586=2,F1586,IF(I1586=3,F1586/100*C1586*100,\"\")))","v":80},"cm"]
[{"$f":"IF(COUNTIF($B$1:B1587,TRUE)=COUNTIF($B$1:B1586,TRUE),\"\",COUNTIF($B$1:B1587,TRUE))","v":1235},{"$f":"Worksheet!$B$24","v":true},{"$f":"RANDBETWEEN(5,RANDBETWEEN(5,Worksheet!$D$8))","v":50},"km","±",{"$f":"IF(I1587=1,H1587*10^RANDBETWEEN(IF(Worksheet!$D$14,-1,0),0),IF(I1587=2,H1587*10^RANDBETWEEN(RANDBETWEEN(0,2),2),CHOOSE(RANDBETWEEN(1,3),5,10,20)))","v":0.70000000000000007},{"$f":"IF(I1587=1,D1587,IF(I1587=3,\"%\",\"m\"))","v":"km"},7,{"$f":"IF(AND(Worksheet!$D$12,RAND()<0.2),3,IF(RAND()<Worksheet!$D$10/100,1,2))","v":1},{"$f":"IF(I1587=1,F1587,IF(I1587=2,F1587/1000,IF(I1587=3,F1587/100*C1587,\"\")))","v":0.70000000000000007}," km",{"$f":"IF(I1587=1,F1587*1000,IF(I1587=2,F1587,IF(I1587=3,F1587/100*C1587*1000,\"\")))","v":700.00000000000011},"m"]
[{"$f":"IF(COUNTIF($B$1:B1588,TRUE)=COUNTIF($B$1:B1587,TRUE),\"\",COUNTIF($B$1:B1588,TRUE))","v":""},{"$f":"Worksheet!$B$26","v":false},{"$f":"RANDBETWEEN(5,RANDBETWEEN(5,Worksheet!$D$8))","v":81},"m","±",{"$f":"IF(I1588=1,H1588*10^RANDBETWEEN(IF(Worksheet!$D$14,-1,0),0),IF(I1588=2,H1588*10^RANDBETWEEN(RANDBETWEEN(0,2),2),CHOOSE(RANDBETWEEN(1,3),5,10,20)))","v":0.4},{"$f":"IF(I1588=1,D1588,IF(I1588=3,\"%\",\"mm\"))","v":"m"},4,{"$f":"IF(AND(Worksheet!$D$12,RAND()<0.2),3,IF(RAND()<Worksheet!$D$10/100,1,2))","v":1},0.4," m",400,"mm"]
[{"$f":"IF(COUNTIF($B$1:B1589,TRUE)=COUNTIF($B$1:B1588,TRUE),\"\",COUNTIF($B$1:B1589,TRUE))","v":1236},{"$f":"Worksheet!$D$20","v":true},{"$f":"RANDBETWEEN(5,RANDBETWEEN(5,Worksheet!$D$8))","v":35},"kg","±",{"$f":"IF(I1589=1,H1589*10^RANDBETWEEN(IF(Worksheet!$D$14,-1,0),0),IF(I1589=2,H1589*10^RANDBETWEEN(RANDBETWEEN(0,2),2),CHOOSE(RANDBETWEEN(1,3),5,10,20)))","v":10},{"$f":"IF(I1589=1,D1589,IF(I1589=3,\"%\",\"g\"))","v":"%"},{"$f":"RANDBETWEEN(1,MIN(9,C1589))","v":4},{"$f":"IF(AND(Worksheet!$D$12,RAND()<0.2),3,IF(RAND()<Worksheet!$D$10/100,1,2))","v":3},3.5,{"$f":"CONCATENATE(\" \",D1589)","v":" kg"},3500,"g"]
[{"$f":"IF(COUNTIF($B$1:B1590,TRUE)=COUNTIF($B$1:B1589,TRUE),\"\",COUNTIF($B$1:B1590,TRUE))","v":1237},{"$f":"Worksheet!$D$22","v":true},{"$f":"RANDBETWEEN(5,RANDBETWEEN(5,Worksheet!$D$8))","v":92},"tonnes","±",{"$f":"IF(I1590=1,H1590*10^RANDBETWEEN(IF(Worksheet!$D$14,-1,0),0),IF(I1590=2,H1590*10^RANDBETWEEN(RANDBETWEEN(0,2),2),CHOOSE(RANDBETWEEN(1,3),5,10,20)))","v":0.4},{"$f":"IF(I1590=1,D1590,IF(I1590=3,\"%\",\"kg\"))","v":"tonnes"},{"$f":"RANDBETWEEN(1,MIN(9,C1590))","v":4},{"$f":"IF(AND(Worksheet!$D$12,RAND()<0.2),3,IF(RAND()<Worksheet!$D$10/100,1,2))","v":1},0.4,{"$f":"CONCATENATE(\" \",D1590)","v":" tonnes"},400,"kg"]
[{"$f":"IF(COUNTIF($B$1:B1591,TRUE)=COUNTIF($B$1:B1590,TRUE),\"\",COUNTIF($B$1:B1591,TRUE))","v":1238},{"$f":"Worksheet!$D$24","v":true},{"$f":"RANDBETWEEN(5,RANDBETWEEN(5,Worksheet!$D$8))","v":17},"litres","±",{"$f":"IF(I1591=1,H1591*10^RANDBETWEEN(IF(Worksheet!$D$14,-1,0),0),IF(I1591=2,H1591*10^RANDBETWEEN(RANDBETWEEN(0,2),2),CHOOSE(RANDBETWEEN(1,3),5,10,20)))","v":0.70000000000000007},{"$f":"IF(I1591=1,D1591,IF(I1591=3,\"%\",\"ml\"))","v":"litres"},{"$f":"RANDBETWEEN(1,MIN(9,C1591))","v":7},{"$f":"IF(AND(Worksheet!$D$12,RAND()<0.2),3,IF(RAND()<Worksheet!$D$10/100,1,2))","v":1},0.70000000000000007,{"$f":"CONCATENATE(\" \",D1591)","v":" litres"},700.00000000000011,"ml"]
[{"$f":"IF(COUNTIF($B$1:B1592,TRUE)=COUNTIF($B$1:B1591,TRUE),\"\",COUNTIF($B$1:B1592,TRUE))","v":""},{"$f":"Worksheet!$D$26","v":false},{"$f":"RANDBETWEEN(5,RANDBETWEEN(5,Worksheet!$D$8))","v":60},"litres","±",{"$f":"IF(I1592=1,H1592*10^RANDBETWEEN(IF(Worksheet!$D$14,-1,0),0),IF(I1592=2,H1592*10^RANDBETWEEN(RANDBETWEEN(0,2),2),CHOOSE(RANDBETWEEN(1,3),5,10,20)))","v":100},{"$f":"IF(I1592=1,D1592,IF(I1592=3,\"%\",\"cm³\"))","v":"cm³"},{"$f":"RANDBETWEEN(1,MIN(9,C1592))","v":1},{"$f":"IF(AND(Worksheet!$D$12,RAND()<0.2),3,IF(RAND()<Worksheet!$D$10/100,1,2))","v":2},0.1,{"$f":"CONCATENATE(\" \",D1592)","v":" litres"},100,"cm³"]
[{"$f":"IF(COUNTIF($B$1:B1593,TRUE)=COUNTIF($B$1:B1593,TRUE),\"\",COUNTIF($B$1:B1593,TRUE))","v":""},{"$f":"Worksheet!$B$28","v":true},{"$f":"RANDBETWEEN(5,20)","v":14},"°C","±",{"$f":"IF(I1593=1,H1593*10^RANDBETWEEN(IF(Worksheet!$D$14,-1,0),0),IF(I1593=2,H1593,CHOOSE(RANDBETWEEN(1,3),5,10,20)))","v":4},{"$f":"IF(I1593=1,D1593,IF(I1593=3,\"%\",\"sec\"))","v":"°C"},{"$f":"RANDBETWEEN(1,MIN(9,C1593))","v":4},{"$f":"IF(AND(Worksheet!$D$12,RAND()<0),3,IF(RAND()<Worksheet!$D$10/100,1,2))","v":1},{"$f":"IF(I1593=1,F1593,IF(I1593=2,F1593,IF(I1593=3,F1593/100*C1593,\"\")))","v":4},{"$f":"CONCATENATE(\" \",D1593)","v":" °C"},{"$f":"IF(I1593=1,F1593,IF(I1593=2,F1593,IF(I1593=3,F1593/100*C1593,\"\")))","v":4}," °C"]
[{"$f":"COUNTIF($B$1:B1594,TRUE)","v":1240},{"$f":"Worksheet!$B$20","v":true},{"$f":"RANDBETWEEN(5,RANDBETWEEN(5,Worksheet!$D$8))","v":113},"cm","±",{"$f":"IF(I1594=1,H1594*10^RANDBETWEEN(IF(Worksheet!$D$14,-1,0),0),IF(I1594=2,H1594,CHOOSE(RANDBETWEEN(1,3),5,10,20)))","v":5},{"$f":"IF(I1594=1,D1594,IF(I1594=3,\"%\",\"mm\"))","v":"cm"},{"$f":"RANDBETWEEN(1,MIN(9,C1594))","v":5},{"$f":"IF(AND(Worksheet!$D$12,RAND()<0.2),3,IF(RAND()<Worksheet!$D$10/100,1,2))","v":1},{"$f":"IF(I1594=1,F1594,IF(I1594=2,F1594/10,IF(I1594=3,F1594/100*C1594,\"\")))","v":5},{"$f":"CONCATENATE(\" \",D1594)","v":" cm"},{"$f":"IF(I1594=1,F1594*10,IF(I1594=2,F1594,IF(I1594=3,F1594/100*C1594*10,\"\")))","v":50},"mm"]
[{"$f":"IF(COUNTIF($B$1:B1595,TRUE)=COUNTIF($B$1:B1594,TRUE),\"\",COUNTIF($B$1:B1595,TRUE))","v":1241},{"$f":"Worksheet!$B$22","v":true},{"$f":"RANDBETWEEN(5,RANDBETWEEN(5,Worksheet!$D$8))","v":158},"m","±",{"$f":"IF(I1595=1,H1595*10^RANDBETWEEN(IF(Worksheet!$D$14,-1,0),0),IF(I1595=2,H1595*10^RANDBETWEEN(RANDBETWEEN(0,1),1),CHOOSE(RANDBETWEEN(1,3),5,10,20)))","v":0.9},{"$f":"IF(I1595=1,D1595,IF(I1595=3,\"%\",\"cm\"))","v":"m"},{"$f":"RANDBETWEEN(1,MIN(9,C1595))","v":9},{"$f":"IF(AND(Worksheet!$D$12,RAND()<0.2),3,IF(RAND()<Worksheet!$D$10/100,1,2))","v":1},{"$f":"IF(I1595=1,F1595,IF(I1595=2,F1595/100,IF(I1595=3,F1595/100*C1595,\"\")))","v":0.9},{"$f":"CONCATENATE(\" \",D1595)","v":" m"},{"$f":"IF(I1595=1,F1595*100,IF(I1595=2,F1595,IF(I1595=3,F1595/100*C1595*100,\"\")))","v":90},"cm"]
[{"$f":"IF(COUNTIF($B$1:B1596,TRUE)=COUNTIF($B$1:B1595,TRUE),\"\",COUNTIF($B$1:B1596,TRUE))","v":1242},{"$f":"Worksheet!$B$24","v":true},{"$f":"RANDBETWEEN(5,RANDBETWEEN(5,Worksheet!$D$8))","v":45},"km","±",{"$f":"IF(I1596=1,H1596*10^RANDBETWEEN(IF(Worksheet!$D$14,-1,0),0),IF(I1596=2,H1596*10^RANDBETWEEN(RANDBETWEEN(0,2),2),CHOOSE(RANDBETWEEN(1,3),5,10,20)))","v":50},{"$f":"IF(I1596=1,D1596,IF(I1596=3,\"%\",\"m\"))","v":"m"},5,{"$f":"IF(AND(Worksheet!$D$12,RAND()<0.2),3,IF(RAND()<Worksheet!$D$10/100,1,2))","v":2},{"$f":"IF(I1596=1,F1596,IF(I1596=2,F1596/1000,IF(I1596=3,F1596/100*C1596,\"\")))","v":0.05}," km",{"$f":"IF(I1596=1,F1596*1000,IF(I1596=2,F1596,IF(I1596=3,F1596/100*C1596*1000,\"\")))","v":50},"m"]
[{"$f":"IF(COUNTIF($B$1:B1597,TRUE)=COUNTIF($B$1:B1596,TRUE),\"\",COUNTIF($B$1:B1597,TRUE))","v":""},{"$f":"Worksheet!$B$26","v":false},{"$f":"RANDBETWEEN(5,RANDBETWEEN(5,Worksheet!$D$8))","v":27},"m","±",{"$f":"IF(I1597=1,H1597*10^RANDBETWEEN(IF(Worksheet!$D$14,-1,0),0),IF(I1597=2,H1597*10^RANDBETWEEN(RANDBETWEEN(0,2),2),CHOOSE(RANDBETWEEN(1,3),5,10,20)))","v":5},{"$f":"IF(I1597=1,D1597,IF(I1597=3,\"%\",\"mm\"))","v":"m"},5,{"$f":"IF(AND(Worksheet!$D$12,RAND()<0.2),3,IF(RAND()<Worksheet!$D$10/100,1,2))","v":1},5," m",5000,"mm"]
[{"$f":"IF(COUNTIF($B$1:B1598,TRUE)=COUNTIF($B$1:B1597,TRUE),\"\",COUNTIF($B$1:B1598,TRUE))","v":1243},{"$f":"Worksheet!$D$20","v":true},{"$f":"RANDBETWEEN(5,RANDBETWEEN(5,Worksheet!$D$8))","v":6},"kg","±",{"$f":"IF(I1598=1,H1598*10^RANDBETWEEN(IF(Worksheet!$D$14,-1,0),0),IF(I1598=2,H1598*10^RANDBETWEEN(RANDBETWEEN(0,2),2),CHOOSE(RANDBETWEEN(1,3),5,10,20)))","v":0.2},{"$f":"IF(I1598=1,D1598,IF(I1598=3,\"%\",\"g\"))","v":"kg"},{"$f":"RANDBETWEEN(1,MIN(9,C1598))","v":2},{"$f":"IF(AND(Worksheet!$D$12,RAND()<0.2),3,IF(RAND()<Worksheet!$D$10/100,1,2))","v":1},0.2,{"$f":"CONCATENATE(\" \",D1598)","v":" kg"},200,"g"]
[{"$f":"IF(COUNTIF($B$1:B1599,TRUE)=COUNTIF($B$1:B1598,TRUE),\"\",COUNTIF($B$1:B1599,TRUE))","v":1244},{"$f":"Worksheet!$D$22","v":true},{"$f":"RANDBETWEEN(5,RANDBETWEEN(5,Worksheet!$D$8))","v":20},"tonnes","±",{"$f":"IF(I1599=1,H1599*10^RANDBETWEEN(IF(Worksheet!$D$14,-1,0),0),IF(I1599=2,H1599*10^RANDBETWEEN(RANDBETWEEN(0,2),2),CHOOSE(RANDBETWEEN(1,3),5,10,20)))","v":5},{"$f":"IF(I1599=1,D1599,IF(I1599=3,\"%\",\"kg\"))","v":"%"},{"$f":"RANDBETWEEN(1,MIN(9,C1599))","v":6},{"$f":"IF(AND(Worksheet!$D$12,RAND()<0.2),3,IF(RAND()<Worksheet!$D$10/100,1,2))","v":3},1,{"$f":"CONCATENATE(\" \",D1599)","v":" tonnes"},1000,"kg"]
[{"$f":"IF(COUNTIF($B$1:B1600,TRUE)=COUNTIF($B$1:B1599,TRUE),\"\",COUNTIF($B$1:B1600,TRUE))","v":1245},{"$f":"Worksheet!$D$24","v":true},{"$f":"RANDBETWEEN(5,RANDBETWEEN(5,Worksheet!$D$8))","v":73},"litres","±",{"$f":"IF(I1600=1,H1600*10^RANDBETWEEN(IF(Worksheet!$D$14,-1,0),0),IF(I1600=2,H1600*10^RANDBETWEEN(RANDBETWEEN(0,2),2),CHOOSE(RANDBETWEEN(1,3),5,10,20)))","v":1},{"$f":"IF(I1600=1,D1600,IF(I1600=3,\"%\",\"ml\"))","v":"litres"},{"$f":"RANDBETWEEN(1,MIN(9,C1600))","v":1},{"$f":"IF(AND(Worksheet!$D$12,RAND()<0.2),3,IF(RAND()<Worksheet!$D$10/100,1,2))","v":1},1,{"$f":"CONCATENATE(\" \",D1600)","v":" litres"},1000,"ml"]
[{"$f":"IF(COUNTIF($B$1:B1601,TRUE)=COUNTIF($B$1:B1600,TRUE),\"\",COUNTIF($B$1:B1601,TRUE))","v":""},{"$f":"Worksheet!$D$26","v":false},{"$f":"RANDBETWEEN(5,RANDBETWEEN(5,Worksheet!$D$8))","v":48},"litres","±",{"$f":"IF(I1601=1,H1601*10^RANDBETWEEN(IF(Worksheet!$D$14,-1,0),0),IF(I1601=2,H1601*10^RANDBETWEEN(RANDBETWEEN(0,2),2),CHOOSE(RANDBETWEEN(1,3),5,10,20)))","v":900},{"$f":"IF(I1601=1,D1601,IF(I1601=3,\"%\",\"cm³\"))","v":"cm³"},{"$f":"RANDBETWEEN(1,MIN(9,C1601))","v":9},{"$f":"IF(AND(Worksheet!$D$12,RAND()<0.2),3,IF(RAND()<Worksheet!$D$10/100,1,2))","v":2},0.9,{"$f":"CONCATENATE(\" \",D1601)","v":" litres"},900,"cm³"]
[{"$f":"IF(COUNTIF($B$1:B1602,TRUE)=COUNTIF($B$1:B1602,TRUE),\"\",COUNTIF($B$1:B1602,TRUE))","v":""},{"$f":"Worksheet!$B$28","v":true},{"$f":"RANDBETWEEN(5,20)","v":17},"°C","±",{"$f":"IF(I1602=1,H1602*10^RANDBETWEEN(IF(Worksheet!$D$14,-1,0),0),IF(I1602=2,H1602,CHOOSE(RANDBETWEEN(1,3),5,10,20)))","v":9},{"$f":"IF(I1602=1,D1602,IF(I1602=3,\"%\",\"sec\"))","v":"sec"},{"$f":"RANDBETWEEN(1,MIN(9,C1602))","v":9},{"$f":"IF(AND(Worksheet!$D$12,RAND()<0),3,IF(RAND()<Worksheet!$D$10/100,1,2))","v":2},{"$f":"IF(I1602=1,F1602,IF(I1602=2,F1602,IF(I1602=3,F1602/100*C1602,\"\")))","v":9},{"$f":"CONCATENATE(\" \",D1602)","v":" °C"},{"$f":"IF(I1602=1,F1602,IF(I1602=2,F1602,IF(I1602=3,F1602/100*C1602,\"\")))","v":9}," °C"]
[{"$f":"COUNTIF($B$1:B1603,TRUE)","v":1247},{"$f":"Worksheet!$B$20","v":true},{"$f":"RANDBETWEEN(5,RANDBETWEEN(5,Worksheet!$D$8))","v":69},"cm","±",{"$f":"IF(I1603=1,H1603*10^RANDBETWEEN(IF(Worksheet!$D$14,-1,0),0),IF(I1603=2,H1603,CHOOSE(RANDBETWEEN(1,3),5,10,20)))","v":3},{"$f":"IF(I1603=1,D1603,IF(I1603=3,\"%\",\"mm\"))","v":"mm"},{"$f":"RANDBETWEEN(1,MIN(9,C1603))","v":3},{"$f":"IF(AND(Worksheet!$D$12,RAND()<0.2),3,IF(RAND()<Worksheet!$D$10/100,1,2))","v":2},{"$f":"IF(I1603=1,F1603,IF(I1603=2,F1603/10,IF(I1603=3,F1603/100*C1603,\"\")))","v":0.3},{"$f":"CONCATENATE(\" \",D1603)","v":" cm"},{"$f":"IF(I1603=1,F1603*10,IF(I1603=2,F1603,IF(I1603=3,F1603/100*C1603*10,\"\")))","v":3},"mm"]
[{"$f":"IF(COUNTIF($B$1:B1604,TRUE)=COUNTIF($B$1:B1603,TRUE),\"\",COUNTIF($B$1:B1604,TRUE))","v":1248},{"$f":"Worksheet!$B$22","v":true},{"$f":"RANDBETWEEN(5,RANDBETWEEN(5,Worksheet!$D$8))","v":96},"m","±",{"$f":"IF(I1604=1,H1604*10^RANDBETWEEN(IF(Worksheet!$D$14,-1,0),0),IF(I1604=2,H1604*10^RANDBETWEEN(RANDBETWEEN(0,1),1),CHOOSE(RANDBETWEEN(1,3),5,10,20)))","v":0.4},{"$f":"IF(I1604=1,D1604,IF(I1604=3,\"%\",\"cm\"))","v":"m"},{"$f":"RANDBETWEEN(1,MIN(9,C1604))","v":4},{"$f":"IF(AND(Worksheet!$D$12,RAND()<0.2),3,IF(RAND()<Worksheet!$D$10/100,1,2))","v":1},{"$f":"IF(I1604=1,F1604,IF(I1604=2,F1604/100,IF(I1604=3,F1604/100*C1604,\"\")))","v":0.4},{"$f":"CONCATENATE(\" \",D1604)","v":" m"},{"$f":"IF(I1604=1,F1604*100,IF(I1604=2,F1604,IF(I1604=3,F1604/100*C1604*100,\"\")))","v":40},"cm"]
[{"$f":"IF(COUNTIF($B$1:B1605,TRUE)=COUNTIF($B$1:B1604,TRUE),\"\",COUNTIF($B$1:B1605,TRUE))","v":1249},{"$f":"Worksheet!$B$24","v":true},{"$f":"RANDBETWEEN(5,RANDBETWEEN(5,Worksheet!$D$8))","v":89},"km","±",{"$f":"IF(I1605=1,H1605*10^RANDBETWEEN(IF(Worksheet!$D$14,-1,0),0),IF(I1605=2,H1605*10^RANDBETWEEN(RANDBETWEEN(0,2),2),CHOOSE(RANDBETWEEN(1,3),5,10,20)))","v":2},{"$f":"IF(I1605=1,D1605,IF(I1605=3,\"%\",\"m\"))","v":"km"},2,{"$f":"IF(AND(Worksheet!$D$12,RAND()<0.2),3,IF(RAND()<Worksheet!$D$10/100,1,2))","v":1},{"$f":"IF(I1605=1,F1605,IF(I1605=2,F1605/1000,IF(I1605=3,F1605/100*C1605,\"\")))","v":2}," km",{"$f":"IF(I1605=1,F1605*1000,IF(I1605=2,F1605,IF(I1605=3,F1605/100*C1605*1000,\"\")))","v":2000},"m"]
[{"$f":"IF(COUNTIF($B$1:B1606,TRUE)=COUNTIF($B$1:B1605,TRUE),\"\",COUNTIF($B$1:B1606,TRUE))","v":""},{"$f":"Worksheet!$B$26","v":false},{"$f":"RANDBETWEEN(5,RANDBETWEEN(5,Worksheet!$D$8))","v":20},"m","±",{"$f":"IF(I1606=1,H1606*10^RANDBETWEEN(IF(Worksheet!$D$14,-1,0),0),IF(I1606=2,H1606*10^RANDBETWEEN(RANDBETWEEN(0,2),2),CHOOSE(RANDBETWEEN(1,3),5,10,20)))","v":5},{"$f":"IF(I1606=1,D1606,IF(I1606=3,\"%\",\"mm\"))","v":"m"},5,{"$f":"IF(AND(Worksheet!$D$12,RAND()<0.2),3,IF(RAND()<Worksheet!$D$10/100,1,2))","v":1},5," m",5000,"mm"]
[{"$f":"IF(COUNTIF($B$1:B1607,TRUE)=COUNTIF($B$1:B1606,TRUE),\"\",COUNTIF($B$1:B1607,TRUE))","v":1250},{"$f":"Worksheet!$D$20","v":true},{"$f":"RANDBETWEEN(5,RANDBETWEEN(5,Worksheet!$D$8))","v":80},"kg","±",{"$f":"IF(I1607=1,H1607*10^RANDBETWEEN(IF(Worksheet!$D$14,-1,0),0),IF(I1607=2,H1607*10^RANDBETWEEN(RANDBETWEEN(0,2),2),CHOOSE(RANDBETWEEN(1,3),5,10,20)))","v":8},{"$f":"IF(I1607=1,D1607,IF(I1607=3,\"%\",\"g\"))","v":"kg"},{"$f":"RANDBETWEEN(1,MIN(9,C1607))","v":8},{"$f":"IF(AND(Worksheet!$D$12,RAND()<0.2),3,IF(RAND()<Worksheet!$D$10/100,1,2))","v":1},8,{"$f":"CONCATENATE(\" \",D1607)","v":" kg"},8000,"g"]
[{"$f":"IF(COUNTIF($B$1:B1608,TRUE)=COUNTIF($B$1:B1607,TRUE),\"\",COUNTIF($B$1:B1608,TRUE))","v":1251},{"$f":"Worksheet!$D$22","v":true},{"$f":"RANDBETWEEN(5,RANDBETWEEN(5,Worksheet!$D$8))","v":40},"tonnes","±",{"$f":"IF(I1608=1,H1608*10^RANDBETWEEN(IF(Worksheet!$D$14,-1,0),0),IF(I1608=2,H1608*10^RANDBETWEEN(RANDBETWEEN(0,2),2),CHOOSE(RANDBETWEEN(1,3),5,10,20)))","v":3},{"$f":"IF(I1608=1,D1608,IF(I1608=3,\"%\",\"kg\"))","v":"tonnes"},{"$f":"RANDBETWEEN(1,MIN(9,C1608))","v":3},{"$f":"IF(AND(Worksheet!$D$12,RAND()<0.2),3,IF(RAND()<Worksheet!$D$10/100,1,2))","v":1},3,{"$f":"CONCATENATE(\" \",D1608)","v":" tonnes"},3000,"kg"]
[{"$f":"IF(COUNTIF($B$1:B1609,TRUE)=COUNTIF($B$1:B1608,TRUE),\"\",COUNTIF($B$1:B1609,TRUE))","v":1252},{"$f":"Worksheet!$D$24","v":true},{"$f":"RANDBETWEEN(5,RANDBETWEEN(5,Worksheet!$D$8))","v":30},"litres","±",{"$f":"IF(I1609=1,H1609*10^RANDBETWEEN(IF(Worksheet!$D$14,-1,0),0),IF(I1609=2,H1609*10^RANDBETWEEN(RANDBETWEEN(0,2),2),CHOOSE(RANDBETWEEN(1,3),5,10,20)))","v":0.4},{"$f":"IF(I1609=1,D1609,IF(I1609=3,\"%\",\"ml\"))","v":"litres"},{"$f":"RANDBETWEEN(1,MIN(9,C1609))","v":4},{"$f":"IF(AND(Worksheet!$D$12,RAND()<0.2),3,IF(RAND()<Worksheet!$D$10/100,1,2))","v":1},0.4,{"$f":"CONCATENATE(\" \",D1609)","v":" litres"},400,"ml"]
[{"$f":"IF(COUNTIF($B$1:B1610,TRUE)=COUNTIF($B$1:B1609,TRUE),\"\",COUNTIF($B$1:B1610,TRUE))","v":""},{"$f":"Worksheet!$D$26","v":false},{"$f":"RANDBETWEEN(5,RANDBETWEEN(5,Worksheet!$D$8))","v":33},"litres","±",{"$f":"IF(I1610=1,H1610*10^RANDBETWEEN(IF(Worksheet!$D$14,-1,0),0),IF(I1610=2,H1610*10^RANDBETWEEN(RANDBETWEEN(0,2),2),CHOOSE(RANDBETWEEN(1,3),5,10,20)))","v":0.1},{"$f":"IF(I1610=1,D1610,IF(I1610=3,\"%\",\"cm³\"))","v":"litres"},{"$f":"RANDBETWEEN(1,MIN(9,C1610))","v":1},{"$f":"IF(AND(Worksheet!$D$12,RAND()<0.2),3,IF(RAND()<Worksheet!$D$10/100,1,2))","v":1},0.1,{"$f":"CONCATENATE(\" \",D1610)","v":" litres"},100,"cm³"]
[{"$f":"IF(COUNTIF($B$1:B1611,TRUE)=COUNTIF($B$1:B1611,TRUE),\"\",COUNTIF($B$1:B1611,TRUE))","v":""},{"$f":"Worksheet!$B$28","v":true},{"$f":"RANDBETWEEN(5,20)","v":17},"°C","±",{"$f":"IF(I1611=1,H1611*10^RANDBETWEEN(IF(Worksheet!$D$14,-1,0),0),IF(I1611=2,H1611,CHOOSE(RANDBETWEEN(1,3),5,10,20)))","v":0.70000000000000007},{"$f":"IF(I1611=1,D1611,IF(I1611=3,\"%\",\"sec\"))","v":"°C"},{"$f":"RANDBETWEEN(1,MIN(9,C1611))","v":7},{"$f":"IF(AND(Worksheet!$D$12,RAND()<0),3,IF(RAND()<Worksheet!$D$10/100,1,2))","v":1},{"$f":"IF(I1611=1,F1611,IF(I1611=2,F1611,IF(I1611=3,F1611/100*C1611,\"\")))","v":0.70000000000000007},{"$f":"CONCATENATE(\" \",D1611)","v":" °C"},{"$f":"IF(I1611=1,F1611,IF(I1611=2,F1611,IF(I1611=3,F1611/100*C1611,\"\")))","v":0.70000000000000007}," °C"]
[{"$f":"COUNTIF($B$1:B1612,TRUE)","v":1254},{"$f":"Worksheet!$B$20","v":true},{"$f":"RANDBETWEEN(5,RANDBETWEEN(5,Worksheet!$D$8))","v":28},"cm","±",{"$f":"IF(I1612=1,H1612*10^RANDBETWEEN(IF(Worksheet!$D$14,-1,0),0),IF(I1612=2,H1612,CHOOSE(RANDBETWEEN(1,3),5,10,20)))","v":0.9},{"$f":"IF(I1612=1,D1612,IF(I1612=3,\"%\",\"mm\"))","v":"cm"},{"$f":"RANDBETWEEN(1,MIN(9,C1612))","v":9},{"$f":"IF(AND(Worksheet!$D$12,RAND()<0.2),3,IF(RAND()<Worksheet!$D$10/100,1,2))","v":1},{"$f":"IF(I1612=1,F1612,IF(I1612=2,F1612/10,IF(I1612=3,F1612/100*C1612,\"\")))","v":0.9},{"$f":"CONCATENATE(\" \",D1612)","v":" cm"},{"$f":"IF(I1612=1,F1612*10,IF(I1612=2,F1612,IF(I1612=3,F1612/100*C1612*10,\"\")))","v":9},"mm"]
[{"$f":"IF(COUNTIF($B$1:B1613,TRUE)=COUNTIF($B$1:B1612,TRUE),\"\",COUNTIF($B$1:B1613,TRUE))","v":1255},{"$f":"Worksheet!$B$22","v":true},{"$f":"RANDBETWEEN(5,RANDBETWEEN(5,Worksheet!$D$8))","v":7},"m","±",{"$f":"IF(I1613=1,H1613*10^RANDBETWEEN(IF(Worksheet!$D$14,-1,0),0),IF(I1613=2,H1613*10^RANDBETWEEN(RANDBETWEEN(0,1),1),CHOOSE(RANDBETWEEN(1,3),5,10,20)))","v":0.60000000000000009},{"$f":"IF(I1613=1,D1613,IF(I1613=3,\"%\",\"cm\"))","v":"m"},{"$f":"RANDBETWEEN(1,MIN(9,C1613))","v":6},{"$f":"IF(AND(Worksheet!$D$12,RAND()<0.2),3,IF(RAND()<Worksheet!$D$10/100,1,2))","v":1},{"$f":"IF(I1613=1,F1613,IF(I1613=2,F1613/100,IF(I1613=3,F1613/100*C1613,\"\")))","v":0.60000000000000009},{"$f":"CONCATENATE(\" \",D1613)","v":" m"},{"$f":"IF(I1613=1,F1613*100,IF(I1613=2,F1613,IF(I1613=3,F1613/100*C1613*100,\"\")))","v":60.000000000000007},"cm"]
[{"$f":"IF(COUNTIF($B$1:B1614,TRUE)=COUNTIF($B$1:B1613,TRUE),\"\",COUNTIF($B$1:B1614,TRUE))","v":1256},{"$f":"Worksheet!$B$24","v":true},{"$f":"RANDBETWEEN(5,RANDBETWEEN(5,Worksheet!$D$8))","v":40},"km","±",{"$f":"IF(I1614=1,H1614*10^RANDBETWEEN(IF(Worksheet!$D$14,-1,0),0),IF(I1614=2,H1614*10^RANDBETWEEN(RANDBETWEEN(0,2),2),CHOOSE(RANDBETWEEN(1,3),5,10,20)))","v":20},{"$f":"IF(I1614=1,D1614,IF(I1614=3,\"%\",\"m\"))","v":"%"},6,{"$f":"IF(AND(Worksheet!$D$12,RAND()<0.2),3,IF(RAND()<Worksheet!$D$10/100,1,2))","v":3},{"$f":"IF(I1614=1,F1614,IF(I1614=2,F1614/1000,IF(I1614=3,F1614/100*C1614,\"\")))","v":8}," km",{"$f":"IF(I1614=1,F1614*1000,IF(I1614=2,F1614,IF(I1614=3,F1614/100*C1614*1000,\"\")))","v":8000},"m"]
[{"$f":"IF(COUNTIF($B$1:B1615,TRUE)=COUNTIF($B$1:B1614,TRUE),\"\",COUNTIF($B$1:B1615,TRUE))","v":""},{"$f":"Worksheet!$B$26","v":false},{"$f":"RANDBETWEEN(5,RANDBETWEEN(5,Worksheet!$D$8))","v":18},"m","±",{"$f":"IF(I1615=1,H1615*10^RANDBETWEEN(IF(Worksheet!$D$14,-1,0),0),IF(I1615=2,H1615*10^RANDBETWEEN(RANDBETWEEN(0,2),2),CHOOSE(RANDBETWEEN(1,3),5,10,20)))","v":1},{"$f":"IF(I1615=1,D1615,IF(I1615=3,\"%\",\"mm\"))","v":"m"},1,{"$f":"IF(AND(Worksheet!$D$12,RAND()<0.2),3,IF(RAND()<Worksheet!$D$10/100,1,2))","v":1},1," m",1000,"mm"]
[{"$f":"IF(COUNTIF($B$1:B1616,TRUE)=COUNTIF($B$1:B1615,TRUE),\"\",COUNTIF($B$1:B1616,TRUE))","v":1257},{"$f":"Worksheet!$D$20","v":true},{"$f":"RANDBETWEEN(5,RANDBETWEEN(5,Worksheet!$D$8))","v":25},"kg","±",{"$f":"IF(I1616=1,H1616*10^RANDBETWEEN(IF(Worksheet!$D$14,-1,0),0),IF(I1616=2,H1616*10^RANDBETWEEN(RANDBETWEEN(0,2),2),CHOOSE(RANDBETWEEN(1,3),5,10,20)))","v":10},{"$f":"IF(I1616=1,D1616,IF(I1616=3,\"%\",\"g\"))","v":"%"},{"$f":"RANDBETWEEN(1,MIN(9,C1616))","v":8},{"$f":"IF(AND(Worksheet!$D$12,RAND()<0.2),3,IF(RAND()<Worksheet!$D$10/100,1,2))","v":3},2.5,{"$f":"CONCATENATE(\" \",D1616)","v":" kg"},2500,"g"]
[{"$f":"IF(COUNTIF($B$1:B1617,TRUE)=COUNTIF($B$1:B1616,TRUE),\"\",COUNTIF($B$1:B1617,TRUE))","v":1258},{"$f":"Worksheet!$D$22","v":true},{"$f":"RANDBETWEEN(5,RANDBETWEEN(5,Worksheet!$D$8))","v":32},"tonnes","±",{"$f":"IF(I1617=1,H1617*10^RANDBETWEEN(IF(Worksheet!$D$14,-1,0),0),IF(I1617=2,H1617*10^RANDBETWEEN(RANDBETWEEN(0,2),2),CHOOSE(RANDBETWEEN(1,3),5,10,20)))","v":20},{"$f":"IF(I1617=1,D1617,IF(I1617=3,\"%\",\"kg\"))","v":"%"},{"$f":"RANDBETWEEN(1,MIN(9,C1617))","v":2},{"$f":"IF(AND(Worksheet!$D$12,RAND()<0.2),3,IF(RAND()<Worksheet!$D$10/100,1,2))","v":3},6.4,{"$f":"CONCATENATE(\" \",D1617)","v":" tonnes"},6400,"kg"]
[{"$f":"IF(COUNTIF($B$1:B1618,TRUE)=COUNTIF($B$1:B1617,TRUE),\"\",COUNTIF($B$1:B1618,TRUE))","v":1259},{"$f":"Worksheet!$D$24","v":true},{"$f":"RANDBETWEEN(5,RANDBETWEEN(5,Worksheet!$D$8))","v":9},"litres","±",{"$f":"IF(I1618=1,H1618*10^RANDBETWEEN(IF(Worksheet!$D$14,-1,0),0),IF(I1618=2,H1618*10^RANDBETWEEN(RANDBETWEEN(0,2),2),CHOOSE(RANDBETWEEN(1,3),5,10,20)))","v":600},{"$f":"IF(I1618=1,D1618,IF(I1618=3,\"%\",\"ml\"))","v":"ml"},{"$f":"RANDBETWEEN(1,MIN(9,C1618))","v":6},{"$f":"IF(AND(Worksheet!$D$12,RAND()<0.2),3,IF(RAND()<Worksheet!$D$10/100,1,2))","v":2},0.6,{"$f":"CONCATENATE(\" \",D1618)","v":" litres"},600,"ml"]
[{"$f":"IF(COUNTIF($B$1:B1619,TRUE)=COUNTIF($B$1:B1618,TRUE),\"\",COUNTIF($B$1:B1619,TRUE))","v":""},{"$f":"Worksheet!$D$26","v":false},{"$f":"RANDBETWEEN(5,RANDBETWEEN(5,Worksheet!$D$8))","v":7},"litres","±",{"$f":"IF(I1619=1,H1619*10^RANDBETWEEN(IF(Worksheet!$D$14,-1,0),0),IF(I1619=2,H1619*10^RANDBETWEEN(RANDBETWEEN(0,2),2),CHOOSE(RANDBETWEEN(1,3),5,10,20)))","v":5},{"$f":"IF(I1619=1,D1619,IF(I1619=3,\"%\",\"cm³\"))","v":"%"},{"$f":"RANDBETWEEN(1,MIN(9,C1619))","v":1},{"$f":"IF(AND(Worksheet!$D$12,RAND()<0.2),3,IF(RAND()<Worksheet!$D$10/100,1,2))","v":3},0.35000000000000003,{"$f":"CONCATENATE(\" \",D1619)","v":" litres"},350.00000000000006,"cm³"]
[{"$f":"IF(COUNTIF($B$1:B1620,TRUE)=COUNTIF($B$1:B1620,TRUE),\"\",COUNTIF($B$1:B1620,TRUE))","v":""},{"$f":"Worksheet!$B$28","v":true},{"$f":"RANDBETWEEN(5,20)","v":13},"°C","±",{"$f":"IF(I1620=1,H1620*10^RANDBETWEEN(IF(Worksheet!$D$14,-1,0),0),IF(I1620=2,H1620,CHOOSE(RANDBETWEEN(1,3),5,10,20)))","v":6},{"$f":"IF(I1620=1,D1620,IF(I1620=3,\"%\",\"sec\"))","v":"°C"},{"$f":"RANDBETWEEN(1,MIN(9,C1620))","v":6},{"$f":"IF(AND(Worksheet!$D$12,RAND()<0),3,IF(RAND()<Worksheet!$D$10/100,1,2))","v":1},{"$f":"IF(I1620=1,F1620,IF(I1620=2,F1620,IF(I1620=3,F1620/100*C1620,\"\")))","v":6},{"$f":"CONCATENATE(\" \",D1620)","v":" °C"},{"$f":"IF(I1620=1,F1620,IF(I1620=2,F1620,IF(I1620=3,F1620/100*C1620,\"\")))","v":6}," °C"]
[{"$f":"COUNTIF($B$1:B1621,TRUE)","v":1261},{"$f":"Worksheet!$B$20","v":true},{"$f":"RANDBETWEEN(5,RANDBETWEEN(5,Worksheet!$D$8))","v":37},"cm","±",{"$f":"IF(I1621=1,H1621*10^RANDBETWEEN(IF(Worksheet!$D$14,-1,0),0),IF(I1621=2,H1621,CHOOSE(RANDBETWEEN(1,3),5,10,20)))","v":20},{"$f":"IF(I1621=1,D1621,IF(I1621=3,\"%\",\"mm\"))","v":"%"},{"$f":"RANDBETWEEN(1,MIN(9,C1621))","v":3},{"$f":"IF(AND(Worksheet!$D$12,RAND()<0.2),3,IF(RAND()<Worksheet!$D$10/100,1,2))","v":3},{"$f":"IF(I1621=1,F1621,IF(I1621=2,F1621/10,IF(I1621=3,F1621/100*C1621,\"\")))","v":7.4},{"$f":"CONCATENATE(\" \",D1621)","v":" cm"},{"$f":"IF(I1621=1,F1621*10,IF(I1621=2,F1621,IF(I1621=3,F1621/100*C1621*10,\"\")))","v":74},"mm"]
[{"$f":"IF(COUNTIF($B$1:B1622,TRUE)=COUNTIF($B$1:B1621,TRUE),\"\",COUNTIF($B$1:B1622,TRUE))","v":1262},{"$f":"Worksheet!$B$22","v":true},{"$f":"RANDBETWEEN(5,RANDBETWEEN(5,Worksheet!$D$8))","v":49},"m","±",{"$f":"IF(I1622=1,H1622*10^RANDBETWEEN(IF(Worksheet!$D$14,-1,0),0),IF(I1622=2,H1622*10^RANDBETWEEN(RANDBETWEEN(0,1),1),CHOOSE(RANDBETWEEN(1,3),5,10,20)))","v":0.1},{"$f":"IF(I1622=1,D1622,IF(I1622=3,\"%\",\"cm\"))","v":"m"},{"$f":"RANDBETWEEN(1,MIN(9,C1622))","v":1},{"$f":"IF(AND(Worksheet!$D$12,RAND()<0.2),3,IF(RAND()<Worksheet!$D$10/100,1,2))","v":1},{"$f":"IF(I1622=1,F1622,IF(I1622=2,F1622/100,IF(I1622=3,F1622/100*C1622,\"\")))","v":0.1},{"$f":"CONCATENATE(\" \",D1622)","v":" m"},{"$f":"IF(I1622=1,F1622*100,IF(I1622=2,F1622,IF(I1622=3,F1622/100*C1622*100,\"\")))","v":10},"cm"]
[{"$f":"IF(COUNTIF($B$1:B1623,TRUE)=COUNTIF($B$1:B1622,TRUE),\"\",COUNTIF($B$1:B1623,TRUE))","v":1263},{"$f":"Worksheet!$B$24","v":true},{"$f":"RANDBETWEEN(5,RANDBETWEEN(5,Worksheet!$D$8))","v":78},"km","±",{"$f":"IF(I1623=1,H1623*10^RANDBETWEEN(IF(Worksheet!$D$14,-1,0),0),IF(I1623=2,H1623*10^RANDBETWEEN(RANDBETWEEN(0,2),2),CHOOSE(RANDBETWEEN(1,3),5,10,20)))","v":0.4},{"$f":"IF(I1623=1,D1623,IF(I1623=3,\"%\",\"m\"))","v":"km"},4,{"$f":"IF(AND(Worksheet!$D$12,RAND()<0.2),3,IF(RAND()<Worksheet!$D$10/100,1,2))","v":1},{"$f":"IF(I1623=1,F1623,IF(I1623=2,F1623/1000,IF(I1623=3,F1623/100*C1623,\"\")))","v":0.4}," km",{"$f":"IF(I1623=1,F1623*1000,IF(I1623=2,F1623,IF(I1623=3,F1623/100*C1623*1000,\"\")))","v":400},"m"]
[{"$f":"IF(COUNTIF($B$1:B1624,TRUE)=COUNTIF($B$1:B1623,TRUE),\"\",COUNTIF($B$1:B1624,TRUE))","v":""},{"$f":"Worksheet!$B$26","v":false},{"$f":"RANDBETWEEN(5,RANDBETWEEN(5,Worksheet!$D$8))","v":49},"m","±",{"$f":"IF(I1624=1,H1624*10^RANDBETWEEN(IF(Worksheet!$D$14,-1,0),0),IF(I1624=2,H1624*10^RANDBETWEEN(RANDBETWEEN(0,2),2),CHOOSE(RANDBETWEEN(1,3),5,10,20)))","v":10},{"$f":"IF(I1624=1,D1624,IF(I1624=3,\"%\",\"mm\"))","v":"%"},3,{"$f":"IF(AND(Worksheet!$D$12,RAND()<0.2),3,IF(RAND()<Worksheet!$D$10/100,1,2))","v":3},4.9000000000000004," m",4900,"mm"]
[{"$f":"IF(COUNTIF($B$1:B1625,TRUE)=COUNTIF($B$1:B1624,TRUE),\"\",COUNTIF($B$1:B1625,TRUE))","v":1264},{"$f":"Worksheet!$D$20","v":true},{"$f":"RANDBETWEEN(5,RANDBETWEEN(5,Worksheet!$D$8))","v":36},"kg","±",{"$f":"IF(I1625=1,H1625*10^RANDBETWEEN(IF(Worksheet!$D$14,-1,0),0),IF(I1625=2,H1625*10^RANDBETWEEN(RANDBETWEEN(0,2),2),CHOOSE(RANDBETWEEN(1,3),5,10,20)))","v":10},{"$f":"IF(I1625=1,D1625,IF(I1625=3,\"%\",\"g\"))","v":"%"},{"$f":"RANDBETWEEN(1,MIN(9,C1625))","v":6},{"$f":"IF(AND(Worksheet!$D$12,RAND()<0.2),3,IF(RAND()<Worksheet!$D$10/100,1,2))","v":3},3.6,{"$f":"CONCATENATE(\" \",D1625)","v":" kg"},3600,"g"]
[{"$f":"IF(COUNTIF($B$1:B1626,TRUE)=COUNTIF($B$1:B1625,TRUE),\"\",COUNTIF($B$1:B1626,TRUE))","v":1265},{"$f":"Worksheet!$D$22","v":true},{"$f":"RANDBETWEEN(5,RANDBETWEEN(5,Worksheet!$D$8))","v":88},"tonnes","±",{"$f":"IF(I1626=1,H1626*10^RANDBETWEEN(IF(Worksheet!$D$14,-1,0),0),IF(I1626=2,H1626*10^RANDBETWEEN(RANDBETWEEN(0,2),2),CHOOSE(RANDBETWEEN(1,3),5,10,20)))","v":4},{"$f":"IF(I1626=1,D1626,IF(I1626=3,\"%\",\"kg\"))","v":"tonnes"},{"$f":"RANDBETWEEN(1,MIN(9,C1626))","v":4},{"$f":"IF(AND(Worksheet!$D$12,RAND()<0.2),3,IF(RAND()<Worksheet!$D$10/100,1,2))","v":1},4,{"$f":"CONCATENATE(\" \",D1626)","v":" tonnes"},4000,"kg"]
[{"$f":"IF(COUNTIF($B$1:B1627,TRUE)=COUNTIF($B$1:B1626,TRUE),\"\",COUNTIF($B$1:B1627,TRUE))","v":1266},{"$f":"Worksheet!$D$24","v":true},{"$f":"RANDBETWEEN(5,RANDBETWEEN(5,Worksheet!$D$8))","v":26},"litres","±",{"$f":"IF(I1627=1,H1627*10^RANDBETWEEN(IF(Worksheet!$D$14,-1,0),0),IF(I1627=2,H1627*10^RANDBETWEEN(RANDBETWEEN(0,2),2),CHOOSE(RANDBETWEEN(1,3),5,10,20)))","v":3},{"$f":"IF(I1627=1,D1627,IF(I1627=3,\"%\",\"ml\"))","v":"litres"},{"$f":"RANDBETWEEN(1,MIN(9,C1627))","v":3},{"$f":"IF(AND(Worksheet!$D$12,RAND()<0.2),3,IF(RAND()<Worksheet!$D$10/100,1,2))","v":1},3,{"$f":"CONCATENATE(\" \",D1627)","v":" litres"},3000,"ml"]
[{"$f":"IF(COUNTIF($B$1:B1628,TRUE)=COUNTIF($B$1:B1627,TRUE),\"\",COUNTIF($B$1:B1628,TRUE))","v":""},{"$f":"Worksheet!$D$26","v":false},{"$f":"RANDBETWEEN(5,RANDBETWEEN(5,Worksheet!$D$8))","v":86},"litres","±",{"$f":"IF(I1628=1,H1628*10^RANDBETWEEN(IF(Worksheet!$D$14,-1,0),0),IF(I1628=2,H1628*10^RANDBETWEEN(RANDBETWEEN(0,2),2),CHOOSE(RANDBETWEEN(1,3),5,10,20)))","v":3},{"$f":"IF(I1628=1,D1628,IF(I1628=3,\"%\",\"cm³\"))","v":"litres"},{"$f":"RANDBETWEEN(1,MIN(9,C1628))","v":3},{"$f":"IF(AND(Worksheet!$D$12,RAND()<0.2),3,IF(RAND()<Worksheet!$D$10/100,1,2))","v":1},3,{"$f":"CONCATENATE(\" \",D1628)","v":" litres"},3000,"cm³"]
[{"$f":"IF(COUNTIF($B$1:B1629,TRUE)=COUNTIF($B$1:B1629,TRUE),\"\",COUNTIF($B$1:B1629,TRUE))","v":""},{"$f":"Worksheet!$B$28","v":true},{"$f":"RANDBETWEEN(5,20)","v":15},"°C","±",{"$f":"IF(I1629=1,H1629*10^RANDBETWEEN(IF(Worksheet!$D$14,-1,0),0),IF(I1629=2,H1629,CHOOSE(RANDBETWEEN(1,3),5,10,20)))","v":0.4},{"$f":"IF(I1629=1,D1629,IF(I1629=3,\"%\",\"sec\"))","v":"°C"},{"$f":"RANDBETWEEN(1,MIN(9,C1629))","v":4},{"$f":"IF(AND(Worksheet!$D$12,RAND()<0),3,IF(RAND()<Worksheet!$D$10/100,1,2))","v":1},{"$f":"IF(I1629=1,F1629,IF(I1629=2,F1629,IF(I1629=3,F1629/100*C1629,\"\")))","v":0.4},{"$f":"CONCATENATE(\" \",D1629)","v":" °C"},{"$f":"IF(I1629=1,F1629,IF(I1629=2,F1629,IF(I1629=3,F1629/100*C1629,\"\")))","v":0.4}," °C"]
[{"$f":"COUNTIF($B$1:B1630,TRUE)","v":1268},{"$f":"Worksheet!$B$20","v":true},{"$f":"RANDBETWEEN(5,RANDBETWEEN(5,Worksheet!$D$8))","v":34},"cm","±",{"$f":"IF(I1630=1,H1630*10^RANDBETWEEN(IF(Worksheet!$D$14,-1,0),0),IF(I1630=2,H1630,CHOOSE(RANDBETWEEN(1,3),5,10,20)))","v":0.9},{"$f":"IF(I1630=1,D1630,IF(I1630=3,\"%\",\"mm\"))","v":"cm"},{"$f":"RANDBETWEEN(1,MIN(9,C1630))","v":9},{"$f":"IF(AND(Worksheet!$D$12,RAND()<0.2),3,IF(RAND()<Worksheet!$D$10/100,1,2))","v":1},{"$f":"IF(I1630=1,F1630,IF(I1630=2,F1630/10,IF(I1630=3,F1630/100*C1630,\"\")))","v":0.9},{"$f":"CONCATENATE(\" \",D1630)","v":" cm"},{"$f":"IF(I1630=1,F1630*10,IF(I1630=2,F1630,IF(I1630=3,F1630/100*C1630*10,\"\")))","v":9},"mm"]
[{"$f":"IF(COUNTIF($B$1:B1631,TRUE)=COUNTIF($B$1:B1630,TRUE),\"\",COUNTIF($B$1:B1631,TRUE))","v":1269},{"$f":"Worksheet!$B$22","v":true},{"$f":"RANDBETWEEN(5,RANDBETWEEN(5,Worksheet!$D$8))","v":10},"m","±",{"$f":"IF(I1631=1,H1631*10^RANDBETWEEN(IF(Worksheet!$D$14,-1,0),0),IF(I1631=2,H1631*10^RANDBETWEEN(RANDBETWEEN(0,1),1),CHOOSE(RANDBETWEEN(1,3),5,10,20)))","v":20},{"$f":"IF(I1631=1,D1631,IF(I1631=3,\"%\",\"cm\"))","v":"%"},{"$f":"RANDBETWEEN(1,MIN(9,C1631))","v":4},{"$f":"IF(AND(Worksheet!$D$12,RAND()<0.2),3,IF(RAND()<Worksheet!$D$10/100,1,2))","v":3},{"$f":"IF(I1631=1,F1631,IF(I1631=2,F1631/100,IF(I1631=3,F1631/100*C1631,\"\")))","v":2},{"$f":"CONCATENATE(\" \",D1631)","v":" m"},{"$f":"IF(I1631=1,F1631*100,IF(I1631=2,F1631,IF(I1631=3,F1631/100*C1631*100,\"\")))","v":200},"cm"]
[{"$f":"IF(COUNTIF($B$1:B1632,TRUE)=COUNTIF($B$1:B1631,TRUE),\"\",COUNTIF($B$1:B1632,TRUE))","v":1270},{"$f":"Worksheet!$B$24","v":true},{"$f":"RANDBETWEEN(5,RANDBETWEEN(5,Worksheet!$D$8))","v":83},"km","±",{"$f":"IF(I1632=1,H1632*10^RANDBETWEEN(IF(Worksheet!$D$14,-1,0),0),IF(I1632=2,H1632*10^RANDBETWEEN(RANDBETWEEN(0,2),2),CHOOSE(RANDBETWEEN(1,3),5,10,20)))","v":10},{"$f":"IF(I1632=1,D1632,IF(I1632=3,\"%\",\"m\"))","v":"%"},1,{"$f":"IF(AND(Worksheet!$D$12,RAND()<0.2),3,IF(RAND()<Worksheet!$D$10/100,1,2))","v":3},{"$f":"IF(I1632=1,F1632,IF(I1632=2,F1632/1000,IF(I1632=3,F1632/100*C1632,\"\")))","v":8.3000000000000007}," km",{"$f":"IF(I1632=1,F1632*1000,IF(I1632=2,F1632,IF(I1632=3,F1632/100*C1632*1000,\"\")))","v":8300},"m"]
[{"$f":"IF(COUNTIF($B$1:B1633,TRUE)=COUNTIF($B$1:B1632,TRUE),\"\",COUNTIF($B$1:B1633,TRUE))","v":""},{"$f":"Worksheet!$B$26","v":false},{"$f":"RANDBETWEEN(5,RANDBETWEEN(5,Worksheet!$D$8))","v":142},"m","±",{"$f":"IF(I1633=1,H1633*10^RANDBETWEEN(IF(Worksheet!$D$14,-1,0),0),IF(I1633=2,H1633*10^RANDBETWEEN(RANDBETWEEN(0,2),2),CHOOSE(RANDBETWEEN(1,3),5,10,20)))","v":6},{"$f":"IF(I1633=1,D1633,IF(I1633=3,\"%\",\"mm\"))","v":"m"},6,{"$f":"IF(AND(Worksheet!$D$12,RAND()<0.2),3,IF(RAND()<Worksheet!$D$10/100,1,2))","v":1},6," m",6000,"mm"]
[{"$f":"IF(COUNTIF($B$1:B1634,TRUE)=COUNTIF($B$1:B1633,TRUE),\"\",COUNTIF($B$1:B1634,TRUE))","v":1271},{"$f":"Worksheet!$D$20","v":true},{"$f":"RANDBETWEEN(5,RANDBETWEEN(5,Worksheet!$D$8))","v":46},"kg","±",{"$f":"IF(I1634=1,H1634*10^RANDBETWEEN(IF(Worksheet!$D$14,-1,0),0),IF(I1634=2,H1634*10^RANDBETWEEN(RANDBETWEEN(0,2),2),CHOOSE(RANDBETWEEN(1,3),5,10,20)))","v":8},{"$f":"IF(I1634=1,D1634,IF(I1634=3,\"%\",\"g\"))","v":"kg"},{"$f":"RANDBETWEEN(1,MIN(9,C1634))","v":8},{"$f":"IF(AND(Worksheet!$D$12,RAND()<0.2),3,IF(RAND()<Worksheet!$D$10/100,1,2))","v":1},8,{"$f":"CONCATENATE(\" \",D1634)","v":" kg"},8000,"g"]
[{"$f":"IF(COUNTIF($B$1:B1635,TRUE)=COUNTIF($B$1:B1634,TRUE),\"\",COUNTIF($B$1:B1635,TRUE))","v":1272},{"$f":"Worksheet!$D$22","v":true},{"$f":"RANDBETWEEN(5,RANDBETWEEN(5,Worksheet!$D$8))","v":32},"tonnes","±",{"$f":"IF(I1635=1,H1635*10^RANDBETWEEN(IF(Worksheet!$D$14,-1,0),0),IF(I1635=2,H1635*10^RANDBETWEEN(RANDBETWEEN(0,2),2),CHOOSE(RANDBETWEEN(1,3),5,10,20)))","v":5},{"$f":"IF(I1635=1,D1635,IF(I1635=3,\"%\",\"kg\"))","v":"%"},{"$f":"RANDBETWEEN(1,MIN(9,C1635))","v":8},{"$f":"IF(AND(Worksheet!$D$12,RAND()<0.2),3,IF(RAND()<Worksheet!$D$10/100,1,2))","v":3},1.6,{"$f":"CONCATENATE(\" \",D1635)","v":" tonnes"},1600,"kg"]
[{"$f":"IF(COUNTIF($B$1:B1636,TRUE)=COUNTIF($B$1:B1635,TRUE),\"\",COUNTIF($B$1:B1636,TRUE))","v":1273},{"$f":"Worksheet!$D$24","v":true},{"$f":"RANDBETWEEN(5,RANDBETWEEN(5,Worksheet!$D$8))","v":24},"litres","±",{"$f":"IF(I1636=1,H1636*10^RANDBETWEEN(IF(Worksheet!$D$14,-1,0),0),IF(I1636=2,H1636*10^RANDBETWEEN(RANDBETWEEN(0,2),2),CHOOSE(RANDBETWEEN(1,3),5,10,20)))","v":1},{"$f":"IF(I1636=1,D1636,IF(I1636=3,\"%\",\"ml\"))","v":"litres"},{"$f":"RANDBETWEEN(1,MIN(9,C1636))","v":1},{"$f":"IF(AND(Worksheet!$D$12,RAND()<0.2),3,IF(RAND()<Worksheet!$D$10/100,1,2))","v":1},1,{"$f":"CONCATENATE(\" \",D1636)","v":" litres"},1000,"ml"]
[{"$f":"IF(COUNTIF($B$1:B1637,TRUE)=COUNTIF($B$1:B1636,TRUE),\"\",COUNTIF($B$1:B1637,TRUE))","v":""},{"$f":"Worksheet!$D$26","v":false},{"$f":"RANDBETWEEN(5,RANDBETWEEN(5,Worksheet!$D$8))","v":8},"litres","±",{"$f":"IF(I1637=1,H1637*10^RANDBETWEEN(IF(Worksheet!$D$14,-1,0),0),IF(I1637=2,H1637*10^RANDBETWEEN(RANDBETWEEN(0,2),2),CHOOSE(RANDBETWEEN(1,3),5,10,20)))","v":3},{"$f":"IF(I1637=1,D1637,IF(I1637=3,\"%\",\"cm³\"))","v":"litres"},{"$f":"RANDBETWEEN(1,MIN(9,C1637))","v":3},{"$f":"IF(AND(Worksheet!$D$12,RAND()<0.2),3,IF(RAND()<Worksheet!$D$10/100,1,2))","v":1},3,{"$f":"CONCATENATE(\" \",D1637)","v":" litres"},3000,"cm³"]
[{"$f":"IF(COUNTIF($B$1:B1638,TRUE)=COUNTIF($B$1:B1638,TRUE),\"\",COUNTIF($B$1:B1638,TRUE))","v":""},{"$f":"Worksheet!$B$28","v":true},{"$f":"RANDBETWEEN(5,20)","v":19},"°C","±",{"$f":"IF(I1638=1,H1638*10^RANDBETWEEN(IF(Worksheet!$D$14,-1,0),0),IF(I1638=2,H1638,CHOOSE(RANDBETWEEN(1,3),5,10,20)))","v":7},{"$f":"IF(I1638=1,D1638,IF(I1638=3,\"%\",\"sec\"))","v":"sec"},{"$f":"RANDBETWEEN(1,MIN(9,C1638))","v":7},{"$f":"IF(AND(Worksheet!$D$12,RAND()<0),3,IF(RAND()<Worksheet!$D$10/100,1,2))","v":2},{"$f":"IF(I1638=1,F1638,IF(I1638=2,F1638,IF(I1638=3,F1638/100*C1638,\"\")))","v":7},{"$f":"CONCATENATE(\" \",D1638)","v":" °C"},{"$f":"IF(I1638=1,F1638,IF(I1638=2,F1638,IF(I1638=3,F1638/100*C1638,\"\")))","v":7}," °C"]
[{"$f":"COUNTIF($B$1:B1639,TRUE)","v":1275},{"$f":"Worksheet!$B$20","v":true},{"$f":"RANDBETWEEN(5,RANDBETWEEN(5,Worksheet!$D$8))","v":121},"cm","±",{"$f":"IF(I1639=1,H1639*10^RANDBETWEEN(IF(Worksheet!$D$14,-1,0),0),IF(I1639=2,H1639,CHOOSE(RANDBETWEEN(1,3),5,10,20)))","v":0.60000000000000009},{"$f":"IF(I1639=1,D1639,IF(I1639=3,\"%\",\"mm\"))","v":"cm"},{"$f":"RANDBETWEEN(1,MIN(9,C1639))","v":6},{"$f":"IF(AND(Worksheet!$D$12,RAND()<0.2),3,IF(RAND()<Worksheet!$D$10/100,1,2))","v":1},{"$f":"IF(I1639=1,F1639,IF(I1639=2,F1639/10,IF(I1639=3,F1639/100*C1639,\"\")))","v":0.60000000000000009},{"$f":"CONCATENATE(\" \",D1639)","v":" cm"},{"$f":"IF(I1639=1,F1639*10,IF(I1639=2,F1639,IF(I1639=3,F1639/100*C1639*10,\"\")))","v":6.0000000000000009},"mm"]
[{"$f":"IF(COUNTIF($B$1:B1640,TRUE)=COUNTIF($B$1:B1639,TRUE),\"\",COUNTIF($B$1:B1640,TRUE))","v":1276},{"$f":"Worksheet!$B$22","v":true},{"$f":"RANDBETWEEN(5,RANDBETWEEN(5,Worksheet!$D$8))","v":160},"m","±",{"$f":"IF(I1640=1,H1640*10^RANDBETWEEN(IF(Worksheet!$D$14,-1,0),0),IF(I1640=2,H1640*10^RANDBETWEEN(RANDBETWEEN(0,1),1),CHOOSE(RANDBETWEEN(1,3),5,10,20)))","v":20},{"$f":"IF(I1640=1,D1640,IF(I1640=3,\"%\",\"cm\"))","v":"%"},{"$f":"RANDBETWEEN(1,MIN(9,C1640))","v":6},{"$f":"IF(AND(Worksheet!$D$12,RAND()<0.2),3,IF(RAND()<Worksheet!$D$10/100,1,2))","v":3},{"$f":"IF(I1640=1,F1640,IF(I1640=2,F1640/100,IF(I1640=3,F1640/100*C1640,\"\")))","v":32},{"$f":"CONCATENATE(\" \",D1640)","v":" m"},{"$f":"IF(I1640=1,F1640*100,IF(I1640=2,F1640,IF(I1640=3,F1640/100*C1640*100,\"\")))","v":3200},"cm"]
[{"$f":"IF(COUNTIF($B$1:B1641,TRUE)=COUNTIF($B$1:B1640,TRUE),\"\",COUNTIF($B$1:B1641,TRUE))","v":1277},{"$f":"Worksheet!$B$24","v":true},{"$f":"RANDBETWEEN(5,RANDBETWEEN(5,Worksheet!$D$8))","v":19},"km","±",{"$f":"IF(I1641=1,H1641*10^RANDBETWEEN(IF(Worksheet!$D$14,-1,0),0),IF(I1641=2,H1641*10^RANDBETWEEN(RANDBETWEEN(0,2),2),CHOOSE(RANDBETWEEN(1,3),5,10,20)))","v":8},{"$f":"IF(I1641=1,D1641,IF(I1641=3,\"%\",\"m\"))","v":"km"},8,{"$f":"IF(AND(Worksheet!$D$12,RAND()<0.2),3,IF(RAND()<Worksheet!$D$10/100,1,2))","v":1},{"$f":"IF(I1641=1,F1641,IF(I1641=2,F1641/1000,IF(I1641=3,F1641/100*C1641,\"\")))","v":8}," km",{"$f":"IF(I1641=1,F1641*1000,IF(I1641=2,F1641,IF(I1641=3,F1641/100*C1641*1000,\"\")))","v":8000},"m"]
[{"$f":"IF(COUNTIF($B$1:B1642,TRUE)=COUNTIF($B$1:B1641,TRUE),\"\",COUNTIF($B$1:B1642,TRUE))","v":""},{"$f":"Worksheet!$B$26","v":false},{"$f":"RANDBETWEEN(5,RANDBETWEEN(5,Worksheet!$D$8))","v":46},"m","±",{"$f":"IF(I1642=1,H1642*10^RANDBETWEEN(IF(Worksheet!$D$14,-1,0),0),IF(I1642=2,H1642*10^RANDBETWEEN(RANDBETWEEN(0,2),2),CHOOSE(RANDBETWEEN(1,3),5,10,20)))","v":20},{"$f":"IF(I1642=1,D1642,IF(I1642=3,\"%\",\"mm\"))","v":"%"},3,{"$f":"IF(AND(Worksheet!$D$12,RAND()<0.2),3,IF(RAND()<Worksheet!$D$10/100,1,2))","v":3},9.2000000000000011," m",9200.0000000000018,"mm"]
[{"$f":"IF(COUNTIF($B$1:B1643,TRUE)=COUNTIF($B$1:B1642,TRUE),\"\",COUNTIF($B$1:B1643,TRUE))","v":1278},{"$f":"Worksheet!$D$20","v":true},{"$f":"RANDBETWEEN(5,RANDBETWEEN(5,Worksheet!$D$8))","v":33},"kg","±",{"$f":"IF(I1643=1,H1643*10^RANDBETWEEN(IF(Worksheet!$D$14,-1,0),0),IF(I1643=2,H1643*10^RANDBETWEEN(RANDBETWEEN(0,2),2),CHOOSE(RANDBETWEEN(1,3),5,10,20)))","v":8},{"$f":"IF(I1643=1,D1643,IF(I1643=3,\"%\",\"g\"))","v":"kg"},{"$f":"RANDBETWEEN(1,MIN(9,C1643))","v":8},{"$f":"IF(AND(Worksheet!$D$12,RAND()<0.2),3,IF(RAND()<Worksheet!$D$10/100,1,2))","v":1},8,{"$f":"CONCATENATE(\" \",D1643)","v":" kg"},8000,"g"]
[{"$f":"IF(COUNTIF($B$1:B1644,TRUE)=COUNTIF($B$1:B1643,TRUE),\"\",COUNTIF($B$1:B1644,TRUE))","v":1279},{"$f":"Worksheet!$D$22","v":true},{"$f":"RANDBETWEEN(5,RANDBETWEEN(5,Worksheet!$D$8))","v":12},"tonnes","±",{"$f":"IF(I1644=1,H1644*10^RANDBETWEEN(IF(Worksheet!$D$14,-1,0),0),IF(I1644=2,H1644*10^RANDBETWEEN(RANDBETWEEN(0,2),2),CHOOSE(RANDBETWEEN(1,3),5,10,20)))","v":6},{"$f":"IF(I1644=1,D1644,IF(I1644=3,\"%\",\"kg\"))","v":"tonnes"},{"$f":"RANDBETWEEN(1,MIN(9,C1644))","v":6},{"$f":"IF(AND(Worksheet!$D$12,RAND()<0.2),3,IF(RAND()<Worksheet!$D$10/100,1,2))","v":1},6,{"$f":"CONCATENATE(\" \",D1644)","v":" tonnes"},6000,"kg"]
[{"$f":"IF(COUNTIF($B$1:B1645,TRUE)=COUNTIF($B$1:B1644,TRUE),\"\",COUNTIF($B$1:B1645,TRUE))","v":1280},{"$f":"Worksheet!$D$24","v":true},{"$f":"RANDBETWEEN(5,RANDBETWEEN(5,Worksheet!$D$8))","v":53},"litres","±",{"$f":"IF(I1645=1,H1645*10^RANDBETWEEN(IF(Worksheet!$D$14,-1,0),0),IF(I1645=2,H1645*10^RANDBETWEEN(RANDBETWEEN(0,2),2),CHOOSE(RANDBETWEEN(1,3),5,10,20)))","v":60},{"$f":"IF(I1645=1,D1645,IF(I1645=3,\"%\",\"ml\"))","v":"ml"},{"$f":"RANDBETWEEN(1,MIN(9,C1645))","v":6},{"$f":"IF(AND(Worksheet!$D$12,RAND()<0.2),3,IF(RAND()<Worksheet!$D$10/100,1,2))","v":2},0.06,{"$f":"CONCATENATE(\" \",D1645)","v":" litres"},60,"ml"]
[{"$f":"IF(COUNTIF($B$1:B1646,TRUE)=COUNTIF($B$1:B1645,TRUE),\"\",COUNTIF($B$1:B1646,TRUE))","v":""},{"$f":"Worksheet!$D$26","v":false},{"$f":"RANDBETWEEN(5,RANDBETWEEN(5,Worksheet!$D$8))","v":6},"litres","±",{"$f":"IF(I1646=1,H1646*10^RANDBETWEEN(IF(Worksheet!$D$14,-1,0),0),IF(I1646=2,H1646*10^RANDBETWEEN(RANDBETWEEN(0,2),2),CHOOSE(RANDBETWEEN(1,3),5,10,20)))","v":0.4},{"$f":"IF(I1646=1,D1646,IF(I1646=3,\"%\",\"cm³\"))","v":"litres"},{"$f":"RANDBETWEEN(1,MIN(9,C1646))","v":4},{"$f":"IF(AND(Worksheet!$D$12,RAND()<0.2),3,IF(RAND()<Worksheet!$D$10/100,1,2))","v":1},0.4,{"$f":"CONCATENATE(\" \",D1646)","v":" litres"},400,"cm³"]
[{"$f":"IF(COUNTIF($B$1:B1647,TRUE)=COUNTIF($B$1:B1647,TRUE),\"\",COUNTIF($B$1:B1647,TRUE))","v":""},{"$f":"Worksheet!$B$28","v":true},{"$f":"RANDBETWEEN(5,20)","v":16},"°C","±",{"$f":"IF(I1647=1,H1647*10^RANDBETWEEN(IF(Worksheet!$D$14,-1,0),0),IF(I1647=2,H1647,CHOOSE(RANDBETWEEN(1,3),5,10,20)))","v":2},{"$f":"IF(I1647=1,D1647,IF(I1647=3,\"%\",\"sec\"))","v":"sec"},{"$f":"RANDBETWEEN(1,MIN(9,C1647))","v":2},{"$f":"IF(AND(Worksheet!$D$12,RAND()<0),3,IF(RAND()<Worksheet!$D$10/100,1,2))","v":2},{"$f":"IF(I1647=1,F1647,IF(I1647=2,F1647,IF(I1647=3,F1647/100*C1647,\"\")))","v":2},{"$f":"CONCATENATE(\" \",D1647)","v":" °C"},{"$f":"IF(I1647=1,F1647,IF(I1647=2,F1647,IF(I1647=3,F1647/100*C1647,\"\")))","v":2}," °C"]
[{"$f":"COUNTIF($B$1:B1648,TRUE)","v":1282},{"$f":"Worksheet!$B$20","v":true},{"$f":"RANDBETWEEN(5,RANDBETWEEN(5,Worksheet!$D$8))","v":100},"cm","±",{"$f":"IF(I1648=1,H1648*10^RANDBETWEEN(IF(Worksheet!$D$14,-1,0),0),IF(I1648=2,H1648,CHOOSE(RANDBETWEEN(1,3),5,10,20)))","v":4},{"$f":"IF(I1648=1,D1648,IF(I1648=3,\"%\",\"mm\"))","v":"mm"},{"$f":"RANDBETWEEN(1,MIN(9,C1648))","v":4},{"$f":"IF(AND(Worksheet!$D$12,RAND()<0.2),3,IF(RAND()<Worksheet!$D$10/100,1,2))","v":2},{"$f":"IF(I1648=1,F1648,IF(I1648=2,F1648/10,IF(I1648=3,F1648/100*C1648,\"\")))","v":0.4},{"$f":"CONCATENATE(\" \",D1648)","v":" cm"},{"$f":"IF(I1648=1,F1648*10,IF(I1648=2,F1648,IF(I1648=3,F1648/100*C1648*10,\"\")))","v":4},"mm"]
[{"$f":"IF(COUNTIF($B$1:B1649,TRUE)=COUNTIF($B$1:B1648,TRUE),\"\",COUNTIF($B$1:B1649,TRUE))","v":1283},{"$f":"Worksheet!$B$22","v":true},{"$f":"RANDBETWEEN(5,RANDBETWEEN(5,Worksheet!$D$8))","v":43},"m","±",{"$f":"IF(I1649=1,H1649*10^RANDBETWEEN(IF(Worksheet!$D$14,-1,0),0),IF(I1649=2,H1649*10^RANDBETWEEN(RANDBETWEEN(0,1),1),CHOOSE(RANDBETWEEN(1,3),5,10,20)))","v":90},{"$f":"IF(I1649=1,D1649,IF(I1649=3,\"%\",\"cm\"))","v":"cm"},{"$f":"RANDBETWEEN(1,MIN(9,C1649))","v":9},{"$f":"IF(AND(Worksheet!$D$12,RAND()<0.2),3,IF(RAND()<Worksheet!$D$10/100,1,2))","v":2},{"$f":"IF(I1649=1,F1649,IF(I1649=2,F1649/100,IF(I1649=3,F1649/100*C1649,\"\")))","v":0.9},{"$f":"CONCATENATE(\" \",D1649)","v":" m"},{"$f":"IF(I1649=1,F1649*100,IF(I1649=2,F1649,IF(I1649=3,F1649/100*C1649*100,\"\")))","v":90},"cm"]
[{"$f":"IF(COUNTIF($B$1:B1650,TRUE)=COUNTIF($B$1:B1649,TRUE),\"\",COUNTIF($B$1:B1650,TRUE))","v":1284},{"$f":"Worksheet!$B$24","v":true},{"$f":"RANDBETWEEN(5,RANDBETWEEN(5,Worksheet!$D$8))","v":76},"km","±",{"$f":"IF(I1650=1,H1650*10^RANDBETWEEN(IF(Worksheet!$D$14,-1,0),0),IF(I1650=2,H1650*10^RANDBETWEEN(RANDBETWEEN(0,2),2),CHOOSE(RANDBETWEEN(1,3),5,10,20)))","v":20},{"$f":"IF(I1650=1,D1650,IF(I1650=3,\"%\",\"m\"))","v":"%"},3,{"$f":"IF(AND(Worksheet!$D$12,RAND()<0.2),3,IF(RAND()<Worksheet!$D$10/100,1,2))","v":3},{"$f":"IF(I1650=1,F1650,IF(I1650=2,F1650/1000,IF(I1650=3,F1650/100*C1650,\"\")))","v":15.200000000000001}," km",{"$f":"IF(I1650=1,F1650*1000,IF(I1650=2,F1650,IF(I1650=3,F1650/100*C1650*1000,\"\")))","v":15200.000000000002},"m"]
[{"$f":"IF(COUNTIF($B$1:B1651,TRUE)=COUNTIF($B$1:B1650,TRUE),\"\",COUNTIF($B$1:B1651,TRUE))","v":""},{"$f":"Worksheet!$B$26","v":false},{"$f":"RANDBETWEEN(5,RANDBETWEEN(5,Worksheet!$D$8))","v":65},"m","±",{"$f":"IF(I1651=1,H1651*10^RANDBETWEEN(IF(Worksheet!$D$14,-1,0),0),IF(I1651=2,H1651*10^RANDBETWEEN(RANDBETWEEN(0,2),2),CHOOSE(RANDBETWEEN(1,3),5,10,20)))","v":7},{"$f":"IF(I1651=1,D1651,IF(I1651=3,\"%\",\"mm\"))","v":"m"},7,{"$f":"IF(AND(Worksheet!$D$12,RAND()<0.2),3,IF(RAND()<Worksheet!$D$10/100,1,2))","v":1},7," m",7000,"mm"]
[{"$f":"IF(COUNTIF($B$1:B1652,TRUE)=COUNTIF($B$1:B1651,TRUE),\"\",COUNTIF($B$1:B1652,TRUE))","v":1285},{"$f":"Worksheet!$D$20","v":true},{"$f":"RANDBETWEEN(5,RANDBETWEEN(5,Worksheet!$D$8))","v":20},"kg","±",{"$f":"IF(I1652=1,H1652*10^RANDBETWEEN(IF(Worksheet!$D$14,-1,0),0),IF(I1652=2,H1652*10^RANDBETWEEN(RANDBETWEEN(0,2),2),CHOOSE(RANDBETWEEN(1,3),5,10,20)))","v":0.8},{"$f":"IF(I1652=1,D1652,IF(I1652=3,\"%\",\"g\"))","v":"kg"},{"$f":"RANDBETWEEN(1,MIN(9,C1652))","v":8},{"$f":"IF(AND(Worksheet!$D$12,RAND()<0.2),3,IF(RAND()<Worksheet!$D$10/100,1,2))","v":1},0.8,{"$f":"CONCATENATE(\" \",D1652)","v":" kg"},800,"g"]
[{"$f":"IF(COUNTIF($B$1:B1653,TRUE)=COUNTIF($B$1:B1652,TRUE),\"\",COUNTIF($B$1:B1653,TRUE))","v":1286},{"$f":"Worksheet!$D$22","v":true},{"$f":"RANDBETWEEN(5,RANDBETWEEN(5,Worksheet!$D$8))","v":111},"tonnes","±",{"$f":"IF(I1653=1,H1653*10^RANDBETWEEN(IF(Worksheet!$D$14,-1,0),0),IF(I1653=2,H1653*10^RANDBETWEEN(RANDBETWEEN(0,2),2),CHOOSE(RANDBETWEEN(1,3),5,10,20)))","v":1},{"$f":"IF(I1653=1,D1653,IF(I1653=3,\"%\",\"kg\"))","v":"tonnes"},{"$f":"RANDBETWEEN(1,MIN(9,C1653))","v":1},{"$f":"IF(AND(Worksheet!$D$12,RAND()<0.2),3,IF(RAND()<Worksheet!$D$10/100,1,2))","v":1},1,{"$f":"CONCATENATE(\" \",D1653)","v":" tonnes"},1000,"kg"]
[{"$f":"IF(COUNTIF($B$1:B1654,TRUE)=COUNTIF($B$1:B1653,TRUE),\"\",COUNTIF($B$1:B1654,TRUE))","v":1287},{"$f":"Worksheet!$D$24","v":true},{"$f":"RANDBETWEEN(5,RANDBETWEEN(5,Worksheet!$D$8))","v":8},"litres","±",{"$f":"IF(I1654=1,H1654*10^RANDBETWEEN(IF(Worksheet!$D$14,-1,0),0),IF(I1654=2,H1654*10^RANDBETWEEN(RANDBETWEEN(0,2),2),CHOOSE(RANDBETWEEN(1,3),5,10,20)))","v":20},{"$f":"IF(I1654=1,D1654,IF(I1654=3,\"%\",\"ml\"))","v":"%"},{"$f":"RANDBETWEEN(1,MIN(9,C1654))","v":8},{"$f":"IF(AND(Worksheet!$D$12,RAND()<0.2),3,IF(RAND()<Worksheet!$D$10/100,1,2))","v":3},1.6,{"$f":"CONCATENATE(\" \",D1654)","v":" litres"},1600,"ml"]
[{"$f":"IF(COUNTIF($B$1:B1655,TRUE)=COUNTIF($B$1:B1654,TRUE),\"\",COUNTIF($B$1:B1655,TRUE))","v":""},{"$f":"Worksheet!$D$26","v":false},{"$f":"RANDBETWEEN(5,RANDBETWEEN(5,Worksheet!$D$8))","v":103},"litres","±",{"$f":"IF(I1655=1,H1655*10^RANDBETWEEN(IF(Worksheet!$D$14,-1,0),0),IF(I1655=2,H1655*10^RANDBETWEEN(RANDBETWEEN(0,2),2),CHOOSE(RANDBETWEEN(1,3),5,10,20)))","v":90},{"$f":"IF(I1655=1,D1655,IF(I1655=3,\"%\",\"cm³\"))","v":"cm³"},{"$f":"RANDBETWEEN(1,MIN(9,C1655))","v":9},{"$f":"IF(AND(Worksheet!$D$12,RAND()<0.2),3,IF(RAND()<Worksheet!$D$10/100,1,2))","v":2},0.09,{"$f":"CONCATENATE(\" \",D1655)","v":" litres"},90,"cm³"]
[{"$f":"IF(COUNTIF($B$1:B1656,TRUE)=COUNTIF($B$1:B1656,TRUE),\"\",COUNTIF($B$1:B1656,TRUE))","v":""},{"$f":"Worksheet!$B$28","v":true},{"$f":"RANDBETWEEN(5,20)","v":6},"°C","±",{"$f":"IF(I1656=1,H1656*10^RANDBETWEEN(IF(Worksheet!$D$14,-1,0),0),IF(I1656=2,H1656,CHOOSE(RANDBETWEEN(1,3),5,10,20)))","v":6},{"$f":"IF(I1656=1,D1656,IF(I1656=3,\"%\",\"sec\"))","v":"°C"},{"$f":"RANDBETWEEN(1,MIN(9,C1656))","v":6},{"$f":"IF(AND(Worksheet!$D$12,RAND()<0),3,IF(RAND()<Worksheet!$D$10/100,1,2))","v":1},{"$f":"IF(I1656=1,F1656,IF(I1656=2,F1656,IF(I1656=3,F1656/100*C1656,\"\")))","v":6},{"$f":"CONCATENATE(\" \",D1656)","v":" °C"},{"$f":"IF(I1656=1,F1656,IF(I1656=2,F1656,IF(I1656=3,F1656/100*C1656,\"\")))","v":6}," °C"]
[{"$f":"COUNTIF($B$1:B1657,TRUE)","v":1289},{"$f":"Worksheet!$B$20","v":true},{"$f":"RANDBETWEEN(5,RANDBETWEEN(5,Worksheet!$D$8))","v":71},"cm","±",{"$f":"IF(I1657=1,H1657*10^RANDBETWEEN(IF(Worksheet!$D$14,-1,0),0),IF(I1657=2,H1657,CHOOSE(RANDBETWEEN(1,3),5,10,20)))","v":6},{"$f":"IF(I1657=1,D1657,IF(I1657=3,\"%\",\"mm\"))","v":"mm"},{"$f":"RANDBETWEEN(1,MIN(9,C1657))","v":6},{"$f":"IF(AND(Worksheet!$D$12,RAND()<0.2),3,IF(RAND()<Worksheet!$D$10/100,1,2))","v":2},{"$f":"IF(I1657=1,F1657,IF(I1657=2,F1657/10,IF(I1657=3,F1657/100*C1657,\"\")))","v":0.6},{"$f":"CONCATENATE(\" \",D1657)","v":" cm"},{"$f":"IF(I1657=1,F1657*10,IF(I1657=2,F1657,IF(I1657=3,F1657/100*C1657*10,\"\")))","v":6},"mm"]
[{"$f":"IF(COUNTIF($B$1:B1658,TRUE)=COUNTIF($B$1:B1657,TRUE),\"\",COUNTIF($B$1:B1658,TRUE))","v":1290},{"$f":"Worksheet!$B$22","v":true},{"$f":"RANDBETWEEN(5,RANDBETWEEN(5,Worksheet!$D$8))","v":7},"m","±",{"$f":"IF(I1658=1,H1658*10^RANDBETWEEN(IF(Worksheet!$D$14,-1,0),0),IF(I1658=2,H1658*10^RANDBETWEEN(RANDBETWEEN(0,1),1),CHOOSE(RANDBETWEEN(1,3),5,10,20)))","v":1},{"$f":"IF(I1658=1,D1658,IF(I1658=3,\"%\",\"cm\"))","v":"m"},{"$f":"RANDBETWEEN(1,MIN(9,C1658))","v":1},{"$f":"IF(AND(Worksheet!$D$12,RAND()<0.2),3,IF(RAND()<Worksheet!$D$10/100,1,2))","v":1},{"$f":"IF(I1658=1,F1658,IF(I1658=2,F1658/100,IF(I1658=3,F1658/100*C1658,\"\")))","v":1},{"$f":"CONCATENATE(\" \",D1658)","v":" m"},{"$f":"IF(I1658=1,F1658*100,IF(I1658=2,F1658,IF(I1658=3,F1658/100*C1658*100,\"\")))","v":100},"cm"]
[{"$f":"IF(COUNTIF($B$1:B1659,TRUE)=COUNTIF($B$1:B1658,TRUE),\"\",COUNTIF($B$1:B1659,TRUE))","v":1291},{"$f":"Worksheet!$B$24","v":true},{"$f":"RANDBETWEEN(5,RANDBETWEEN(5,Worksheet!$D$8))","v":55},"km","±",{"$f":"IF(I1659=1,H1659*10^RANDBETWEEN(IF(Worksheet!$D$14,-1,0),0),IF(I1659=2,H1659*10^RANDBETWEEN(RANDBETWEEN(0,2),2),CHOOSE(RANDBETWEEN(1,3),5,10,20)))","v":700},{"$f":"IF(I1659=1,D1659,IF(I1659=3,\"%\",\"m\"))","v":"m"},7,{"$f":"IF(AND(Worksheet!$D$12,RAND()<0.2),3,IF(RAND()<Worksheet!$D$10/100,1,2))","v":2},{"$f":"IF(I1659=1,F1659,IF(I1659=2,F1659/1000,IF(I1659=3,F1659/100*C1659,\"\")))","v":0.7}," km",{"$f":"IF(I1659=1,F1659*1000,IF(I1659=2,F1659,IF(I1659=3,F1659/100*C1659*1000,\"\")))","v":700},"m"]
[{"$f":"IF(COUNTIF($B$1:B1660,TRUE)=COUNTIF($B$1:B1659,TRUE),\"\",COUNTIF($B$1:B1660,TRUE))","v":""},{"$f":"Worksheet!$B$26","v":false},{"$f":"RANDBETWEEN(5,RANDBETWEEN(5,Worksheet!$D$8))","v":26},"m","±",{"$f":"IF(I1660=1,H1660*10^RANDBETWEEN(IF(Worksheet!$D$14,-1,0),0),IF(I1660=2,H1660*10^RANDBETWEEN(RANDBETWEEN(0,2),2),CHOOSE(RANDBETWEEN(1,3),5,10,20)))","v":10},{"$f":"IF(I1660=1,D1660,IF(I1660=3,\"%\",\"mm\"))","v":"%"},9,{"$f":"IF(AND(Worksheet!$D$12,RAND()<0.2),3,IF(RAND()<Worksheet!$D$10/100,1,2))","v":3},2.6," m",2600,"mm"]
[{"$f":"IF(COUNTIF($B$1:B1661,TRUE)=COUNTIF($B$1:B1660,TRUE),\"\",COUNTIF($B$1:B1661,TRUE))","v":1292},{"$f":"Worksheet!$D$20","v":true},{"$f":"RANDBETWEEN(5,RANDBETWEEN(5,Worksheet!$D$8))","v":24},"kg","±",{"$f":"IF(I1661=1,H1661*10^RANDBETWEEN(IF(Worksheet!$D$14,-1,0),0),IF(I1661=2,H1661*10^RANDBETWEEN(RANDBETWEEN(0,2),2),CHOOSE(RANDBETWEEN(1,3),5,10,20)))","v":3},{"$f":"IF(I1661=1,D1661,IF(I1661=3,\"%\",\"g\"))","v":"kg"},{"$f":"RANDBETWEEN(1,MIN(9,C1661))","v":3},{"$f":"IF(AND(Worksheet!$D$12,RAND()<0.2),3,IF(RAND()<Worksheet!$D$10/100,1,2))","v":1},3,{"$f":"CONCATENATE(\" \",D1661)","v":" kg"},3000,"g"]
[{"$f":"IF(COUNTIF($B$1:B1662,TRUE)=COUNTIF($B$1:B1661,TRUE),\"\",COUNTIF($B$1:B1662,TRUE))","v":1293},{"$f":"Worksheet!$D$22","v":true},{"$f":"RANDBETWEEN(5,RANDBETWEEN(5,Worksheet!$D$8))","v":17},"tonnes","±",{"$f":"IF(I1662=1,H1662*10^RANDBETWEEN(IF(Worksheet!$D$14,-1,0),0),IF(I1662=2,H1662*10^RANDBETWEEN(RANDBETWEEN(0,2),2),CHOOSE(RANDBETWEEN(1,3),5,10,20)))","v":7},{"$f":"IF(I1662=1,D1662,IF(I1662=3,\"%\",\"kg\"))","v":"tonnes"},{"$f":"RANDBETWEEN(1,MIN(9,C1662))","v":7},{"$f":"IF(AND(Worksheet!$D$12,RAND()<0.2),3,IF(RAND()<Worksheet!$D$10/100,1,2))","v":1},7,{"$f":"CONCATENATE(\" \",D1662)","v":" tonnes"},7000,"kg"]
[{"$f":"IF(COUNTIF($B$1:B1663,TRUE)=COUNTIF($B$1:B1662,TRUE),\"\",COUNTIF($B$1:B1663,TRUE))","v":1294},{"$f":"Worksheet!$D$24","v":true},{"$f":"RANDBETWEEN(5,RANDBETWEEN(5,Worksheet!$D$8))","v":7},"litres","±",{"$f":"IF(I1663=1,H1663*10^RANDBETWEEN(IF(Worksheet!$D$14,-1,0),0),IF(I1663=2,H1663*10^RANDBETWEEN(RANDBETWEEN(0,2),2),CHOOSE(RANDBETWEEN(1,3),5,10,20)))","v":10},{"$f":"IF(I1663=1,D1663,IF(I1663=3,\"%\",\"ml\"))","v":"%"},{"$f":"RANDBETWEEN(1,MIN(9,C1663))","v":2},{"$f":"IF(AND(Worksheet!$D$12,RAND()<0.2),3,IF(RAND()<Worksheet!$D$10/100,1,2))","v":3},0.70000000000000007,{"$f":"CONCATENATE(\" \",D1663)","v":" litres"},700.00000000000011,"ml"]
[{"$f":"IF(COUNTIF($B$1:B1664,TRUE)=COUNTIF($B$1:B1663,TRUE),\"\",COUNTIF($B$1:B1664,TRUE))","v":""},{"$f":"Worksheet!$D$26","v":false},{"$f":"RANDBETWEEN(5,RANDBETWEEN(5,Worksheet!$D$8))","v":98},"litres","±",{"$f":"IF(I1664=1,H1664*10^RANDBETWEEN(IF(Worksheet!$D$14,-1,0),0),IF(I1664=2,H1664*10^RANDBETWEEN(RANDBETWEEN(0,2),2),CHOOSE(RANDBETWEEN(1,3),5,10,20)))","v":20},{"$f":"IF(I1664=1,D1664,IF(I1664=3,\"%\",\"cm³\"))","v":"%"},{"$f":"RANDBETWEEN(1,MIN(9,C1664))","v":9},{"$f":"IF(AND(Worksheet!$D$12,RAND()<0.2),3,IF(RAND()<Worksheet!$D$10/100,1,2))","v":3},19.600000000000001,{"$f":"CONCATENATE(\" \",D1664)","v":" litres"},19600,"cm³"]
[{"$f":"IF(COUNTIF($B$1:B1665,TRUE)=COUNTIF($B$1:B1665,TRUE),\"\",COUNTIF($B$1:B1665,TRUE))","v":""},{"$f":"Worksheet!$B$28","v":true},{"$f":"RANDBETWEEN(5,20)","v":6},"°C","±",{"$f":"IF(I1665=1,H1665*10^RANDBETWEEN(IF(Worksheet!$D$14,-1,0),0),IF(I1665=2,H1665,CHOOSE(RANDBETWEEN(1,3),5,10,20)))","v":0.4},{"$f":"IF(I1665=1,D1665,IF(I1665=3,\"%\",\"sec\"))","v":"°C"},{"$f":"RANDBETWEEN(1,MIN(9,C1665))","v":4},{"$f":"IF(AND(Worksheet!$D$12,RAND()<0),3,IF(RAND()<Worksheet!$D$10/100,1,2))","v":1},{"$f":"IF(I1665=1,F1665,IF(I1665=2,F1665,IF(I1665=3,F1665/100*C1665,\"\")))","v":0.4},{"$f":"CONCATENATE(\" \",D1665)","v":" °C"},{"$f":"IF(I1665=1,F1665,IF(I1665=2,F1665,IF(I1665=3,F1665/100*C1665,\"\")))","v":0.4}," °C"]
[{"$f":"COUNTIF($B$1:B1666,TRUE)","v":1296},{"$f":"Worksheet!$B$20","v":true},{"$f":"RANDBETWEEN(5,RANDBETWEEN(5,Worksheet!$D$8))","v":33},"cm","±",{"$f":"IF(I1666=1,H1666*10^RANDBETWEEN(IF(Worksheet!$D$14,-1,0),0),IF(I1666=2,H1666,CHOOSE(RANDBETWEEN(1,3),5,10,20)))","v":20},{"$f":"IF(I1666=1,D1666,IF(I1666=3,\"%\",\"mm\"))","v":"%"},{"$f":"RANDBETWEEN(1,MIN(9,C1666))","v":4},{"$f":"IF(AND(Worksheet!$D$12,RAND()<0.2),3,IF(RAND()<Worksheet!$D$10/100,1,2))","v":3},{"$f":"IF(I1666=1,F1666,IF(I1666=2,F1666/10,IF(I1666=3,F1666/100*C1666,\"\")))","v":6.6000000000000005},{"$f":"CONCATENATE(\" \",D1666)","v":" cm"},{"$f":"IF(I1666=1,F1666*10,IF(I1666=2,F1666,IF(I1666=3,F1666/100*C1666*10,\"\")))","v":66},"mm"]
[{"$f":"IF(COUNTIF($B$1:B1667,TRUE)=COUNTIF($B$1:B1666,TRUE),\"\",COUNTIF($B$1:B1667,TRUE))","v":1297},{"$f":"Worksheet!$B$22","v":true},{"$f":"RANDBETWEEN(5,RANDBETWEEN(5,Worksheet!$D$8))","v":25},"m","±",{"$f":"IF(I1667=1,H1667*10^RANDBETWEEN(IF(Worksheet!$D$14,-1,0),0),IF(I1667=2,H1667*10^RANDBETWEEN(RANDBETWEEN(0,1),1),CHOOSE(RANDBETWEEN(1,3),5,10,20)))","v":5},{"$f":"IF(I1667=1,D1667,IF(I1667=3,\"%\",\"cm\"))","v":"m"},{"$f":"RANDBETWEEN(1,MIN(9,C1667))","v":5},{"$f":"IF(AND(Worksheet!$D$12,RAND()<0.2),3,IF(RAND()<Worksheet!$D$10/100,1,2))","v":1},{"$f":"IF(I1667=1,F1667,IF(I1667=2,F1667/100,IF(I1667=3,F1667/100*C1667,\"\")))","v":5},{"$f":"CONCATENATE(\" \",D1667)","v":" m"},{"$f":"IF(I1667=1,F1667*100,IF(I1667=2,F1667,IF(I1667=3,F1667/100*C1667*100,\"\")))","v":500},"cm"]
[{"$f":"IF(COUNTIF($B$1:B1668,TRUE)=COUNTIF($B$1:B1667,TRUE),\"\",COUNTIF($B$1:B1668,TRUE))","v":1298},{"$f":"Worksheet!$B$24","v":true},{"$f":"RANDBETWEEN(5,RANDBETWEEN(5,Worksheet!$D$8))","v":109},"km","±",{"$f":"IF(I1668=1,H1668*10^RANDBETWEEN(IF(Worksheet!$D$14,-1,0),0),IF(I1668=2,H1668*10^RANDBETWEEN(RANDBETWEEN(0,2),2),CHOOSE(RANDBETWEEN(1,3),5,10,20)))","v":0.9},{"$f":"IF(I1668=1,D1668,IF(I1668=3,\"%\",\"m\"))","v":"km"},9,{"$f":"IF(AND(Worksheet!$D$12,RAND()<0.2),3,IF(RAND()<Worksheet!$D$10/100,1,2))","v":1},{"$f":"IF(I1668=1,F1668,IF(I1668=2,F1668/1000,IF(I1668=3,F1668/100*C1668,\"\")))","v":0.9}," km",{"$f":"IF(I1668=1,F1668*1000,IF(I1668=2,F1668,IF(I1668=3,F1668/100*C1668*1000,\"\")))","v":900},"m"]
[{"$f":"IF(COUNTIF($B$1:B1669,TRUE)=COUNTIF($B$1:B1668,TRUE),\"\",COUNTIF($B$1:B1669,TRUE))","v":""},{"$f":"Worksheet!$B$26","v":false},{"$f":"RANDBETWEEN(5,RANDBETWEEN(5,Worksheet!$D$8))","v":15},"m","±",{"$f":"IF(I1669=1,H1669*10^RANDBETWEEN(IF(Worksheet!$D$14,-1,0),0),IF(I1669=2,H1669*10^RANDBETWEEN(RANDBETWEEN(0,2),2),CHOOSE(RANDBETWEEN(1,3),5,10,20)))","v":0.2},{"$f":"IF(I1669=1,D1669,IF(I1669=3,\"%\",\"mm\"))","v":"m"},2,{"$f":"IF(AND(Worksheet!$D$12,RAND()<0.2),3,IF(RAND()<Worksheet!$D$10/100,1,2))","v":1},0.2," m",200,"mm"]
[{"$f":"IF(COUNTIF($B$1:B1670,TRUE)=COUNTIF($B$1:B1669,TRUE),\"\",COUNTIF($B$1:B1670,TRUE))","v":1299},{"$f":"Worksheet!$D$20","v":true},{"$f":"RANDBETWEEN(5,RANDBETWEEN(5,Worksheet!$D$8))","v":79},"kg","±",{"$f":"IF(I1670=1,H1670*10^RANDBETWEEN(IF(Worksheet!$D$14,-1,0),0),IF(I1670=2,H1670*10^RANDBETWEEN(RANDBETWEEN(0,2),2),CHOOSE(RANDBETWEEN(1,3),5,10,20)))","v":900},{"$f":"IF(I1670=1,D1670,IF(I1670=3,\"%\",\"g\"))","v":"g"},{"$f":"RANDBETWEEN(1,MIN(9,C1670))","v":9},{"$f":"IF(AND(Worksheet!$D$12,RAND()<0.2),3,IF(RAND()<Worksheet!$D$10/100,1,2))","v":2},0.9,{"$f":"CONCATENATE(\" \",D1670)","v":" kg"},900,"g"]
[{"$f":"IF(COUNTIF($B$1:B1671,TRUE)=COUNTIF($B$1:B1670,TRUE),\"\",COUNTIF($B$1:B1671,TRUE))","v":1300},{"$f":"Worksheet!$D$22","v":true},{"$f":"RANDBETWEEN(5,RANDBETWEEN(5,Worksheet!$D$8))","v":7},"tonnes","±",{"$f":"IF(I1671=1,H1671*10^RANDBETWEEN(IF(Worksheet!$D$14,-1,0),0),IF(I1671=2,H1671*10^RANDBETWEEN(RANDBETWEEN(0,2),2),CHOOSE(RANDBETWEEN(1,3),5,10,20)))","v":6},{"$f":"IF(I1671=1,D1671,IF(I1671=3,\"%\",\"kg\"))","v":"kg"},{"$f":"RANDBETWEEN(1,MIN(9,C1671))","v":6},{"$f":"IF(AND(Worksheet!$D$12,RAND()<0.2),3,IF(RAND()<Worksheet!$D$10/100,1,2))","v":2},6.0000000000000001E-3,{"$f":"CONCATENATE(\" \",D1671)","v":" tonnes"},6,"kg"]
[{"$f":"IF(COUNTIF($B$1:B1672,TRUE)=COUNTIF($B$1:B1671,TRUE),\"\",COUNTIF($B$1:B1672,TRUE))","v":1301},{"$f":"Worksheet!$D$24","v":true},{"$f":"RANDBETWEEN(5,RANDBETWEEN(5,Worksheet!$D$8))","v":30},"litres","±",{"$f":"IF(I1672=1,H1672*10^RANDBETWEEN(IF(Worksheet!$D$14,-1,0),0),IF(I1672=2,H1672*10^RANDBETWEEN(RANDBETWEEN(0,2),2),CHOOSE(RANDBETWEEN(1,3),5,10,20)))","v":200},{"$f":"IF(I1672=1,D1672,IF(I1672=3,\"%\",\"ml\"))","v":"ml"},{"$f":"RANDBETWEEN(1,MIN(9,C1672))","v":2},{"$f":"IF(AND(Worksheet!$D$12,RAND()<0.2),3,IF(RAND()<Worksheet!$D$10/100,1,2))","v":2},0.2,{"$f":"CONCATENATE(\" \",D1672)","v":" litres"},200,"ml"]
[{"$f":"IF(COUNTIF($B$1:B1673,TRUE)=COUNTIF($B$1:B1672,TRUE),\"\",COUNTIF($B$1:B1673,TRUE))","v":""},{"$f":"Worksheet!$D$26","v":false},{"$f":"RANDBETWEEN(5,RANDBETWEEN(5,Worksheet!$D$8))","v":99},"litres","±",{"$f":"IF(I1673=1,H1673*10^RANDBETWEEN(IF(Worksheet!$D$14,-1,0),0),IF(I1673=2,H1673*10^RANDBETWEEN(RANDBETWEEN(0,2),2),CHOOSE(RANDBETWEEN(1,3),5,10,20)))","v":2},{"$f":"IF(I1673=1,D1673,IF(I1673=3,\"%\",\"cm³\"))","v":"litres"},{"$f":"RANDBETWEEN(1,MIN(9,C1673))","v":2},{"$f":"IF(AND(Worksheet!$D$12,RAND()<0.2),3,IF(RAND()<Worksheet!$D$10/100,1,2))","v":1},2,{"$f":"CONCATENATE(\" \",D1673)","v":" litres"},2000,"cm³"]
[{"$f":"IF(COUNTIF($B$1:B1674,TRUE)=COUNTIF($B$1:B1674,TRUE),\"\",COUNTIF($B$1:B1674,TRUE))","v":""},{"$f":"Worksheet!$B$28","v":true},{"$f":"RANDBETWEEN(5,20)","v":10},"°C","±",{"$f":"IF(I1674=1,H1674*10^RANDBETWEEN(IF(Worksheet!$D$14,-1,0),0),IF(I1674=2,H1674,CHOOSE(RANDBETWEEN(1,3),5,10,20)))","v":0.9},{"$f":"IF(I1674=1,D1674,IF(I1674=3,\"%\",\"sec\"))","v":"°C"},{"$f":"RANDBETWEEN(1,MIN(9,C1674))","v":9},{"$f":"IF(AND(Worksheet!$D$12,RAND()<0),3,IF(RAND()<Worksheet!$D$10/100,1,2))","v":1},{"$f":"IF(I1674=1,F1674,IF(I1674=2,F1674,IF(I1674=3,F1674/100*C1674,\"\")))","v":0.9},{"$f":"CONCATENATE(\" \",D1674)","v":" °C"},{"$f":"IF(I1674=1,F1674,IF(I1674=2,F1674,IF(I1674=3,F1674/100*C1674,\"\")))","v":0.9}," °C"]
[{"$f":"COUNTIF($B$1:B1675,TRUE)","v":1303},{"$f":"Worksheet!$B$20","v":true},{"$f":"RANDBETWEEN(5,RANDBETWEEN(5,Worksheet!$D$8))","v":93},"cm","±",{"$f":"IF(I1675=1,H1675*10^RANDBETWEEN(IF(Worksheet!$D$14,-1,0),0),IF(I1675=2,H1675,CHOOSE(RANDBETWEEN(1,3),5,10,20)))","v":0.2},{"$f":"IF(I1675=1,D1675,IF(I1675=3,\"%\",\"mm\"))","v":"cm"},{"$f":"RANDBETWEEN(1,MIN(9,C1675))","v":2},{"$f":"IF(AND(Worksheet!$D$12,RAND()<0.2),3,IF(RAND()<Worksheet!$D$10/100,1,2))","v":1},{"$f":"IF(I1675=1,F1675,IF(I1675=2,F1675/10,IF(I1675=3,F1675/100*C1675,\"\")))","v":0.2},{"$f":"CONCATENATE(\" \",D1675)","v":" cm"},{"$f":"IF(I1675=1,F1675*10,IF(I1675=2,F1675,IF(I1675=3,F1675/100*C1675*10,\"\")))","v":2},"mm"]
[{"$f":"IF(COUNTIF($B$1:B1676,TRUE)=COUNTIF($B$1:B1675,TRUE),\"\",COUNTIF($B$1:B1676,TRUE))","v":1304},{"$f":"Worksheet!$B$22","v":true},{"$f":"RANDBETWEEN(5,RANDBETWEEN(5,Worksheet!$D$8))","v":25},"m","±",{"$f":"IF(I1676=1,H1676*10^RANDBETWEEN(IF(Worksheet!$D$14,-1,0),0),IF(I1676=2,H1676*10^RANDBETWEEN(RANDBETWEEN(0,1),1),CHOOSE(RANDBETWEEN(1,3),5,10,20)))","v":90},{"$f":"IF(I1676=1,D1676,IF(I1676=3,\"%\",\"cm\"))","v":"cm"},{"$f":"RANDBETWEEN(1,MIN(9,C1676))","v":9},{"$f":"IF(AND(Worksheet!$D$12,RAND()<0.2),3,IF(RAND()<Worksheet!$D$10/100,1,2))","v":2},{"$f":"IF(I1676=1,F1676,IF(I1676=2,F1676/100,IF(I1676=3,F1676/100*C1676,\"\")))","v":0.9},{"$f":"CONCATENATE(\" \",D1676)","v":" m"},{"$f":"IF(I1676=1,F1676*100,IF(I1676=2,F1676,IF(I1676=3,F1676/100*C1676*100,\"\")))","v":90},"cm"]
[{"$f":"IF(COUNTIF($B$1:B1677,TRUE)=COUNTIF($B$1:B1676,TRUE),\"\",COUNTIF($B$1:B1677,TRUE))","v":1305},{"$f":"Worksheet!$B$24","v":true},{"$f":"RANDBETWEEN(5,RANDBETWEEN(5,Worksheet!$D$8))","v":90},"km","±",{"$f":"IF(I1677=1,H1677*10^RANDBETWEEN(IF(Worksheet!$D$14,-1,0),0),IF(I1677=2,H1677*10^RANDBETWEEN(RANDBETWEEN(0,2),2),CHOOSE(RANDBETWEEN(1,3),5,10,20)))","v":100},{"$f":"IF(I1677=1,D1677,IF(I1677=3,\"%\",\"m\"))","v":"m"},1,{"$f":"IF(AND(Worksheet!$D$12,RAND()<0.2),3,IF(RAND()<Worksheet!$D$10/100,1,2))","v":2},{"$f":"IF(I1677=1,F1677,IF(I1677=2,F1677/1000,IF(I1677=3,F1677/100*C1677,\"\")))","v":0.1}," km",{"$f":"IF(I1677=1,F1677*1000,IF(I1677=2,F1677,IF(I1677=3,F1677/100*C1677*1000,\"\")))","v":100},"m"]
[{"$f":"IF(COUNTIF($B$1:B1678,TRUE)=COUNTIF($B$1:B1677,TRUE),\"\",COUNTIF($B$1:B1678,TRUE))","v":""},{"$f":"Worksheet!$B$26","v":false},{"$f":"RANDBETWEEN(5,RANDBETWEEN(5,Worksheet!$D$8))","v":80},"m","±",{"$f":"IF(I1678=1,H1678*10^RANDBETWEEN(IF(Worksheet!$D$14,-1,0),0),IF(I1678=2,H1678*10^RANDBETWEEN(RANDBETWEEN(0,2),2),CHOOSE(RANDBETWEEN(1,3),5,10,20)))","v":20},{"$f":"IF(I1678=1,D1678,IF(I1678=3,\"%\",\"mm\"))","v":"%"},8,{"$f":"IF(AND(Worksheet!$D$12,RAND()<0.2),3,IF(RAND()<Worksheet!$D$10/100,1,2))","v":3},16," m",16000,"mm"]
[{"$f":"IF(COUNTIF($B$1:B1679,TRUE)=COUNTIF($B$1:B1678,TRUE),\"\",COUNTIF($B$1:B1679,TRUE))","v":1306},{"$f":"Worksheet!$D$20","v":true},{"$f":"RANDBETWEEN(5,RANDBETWEEN(5,Worksheet!$D$8))","v":79},"kg","±",{"$f":"IF(I1679=1,H1679*10^RANDBETWEEN(IF(Worksheet!$D$14,-1,0),0),IF(I1679=2,H1679*10^RANDBETWEEN(RANDBETWEEN(0,2),2),CHOOSE(RANDBETWEEN(1,3),5,10,20)))","v":0.60000000000000009},{"$f":"IF(I1679=1,D1679,IF(I1679=3,\"%\",\"g\"))","v":"kg"},{"$f":"RANDBETWEEN(1,MIN(9,C1679))","v":6},{"$f":"IF(AND(Worksheet!$D$12,RAND()<0.2),3,IF(RAND()<Worksheet!$D$10/100,1,2))","v":1},0.60000000000000009,{"$f":"CONCATENATE(\" \",D1679)","v":" kg"},600.00000000000011,"g"]
[{"$f":"IF(COUNTIF($B$1:B1680,TRUE)=COUNTIF($B$1:B1679,TRUE),\"\",COUNTIF($B$1:B1680,TRUE))","v":1307},{"$f":"Worksheet!$D$22","v":true},{"$f":"RANDBETWEEN(5,RANDBETWEEN(5,Worksheet!$D$8))","v":25},"tonnes","±",{"$f":"IF(I1680=1,H1680*10^RANDBETWEEN(IF(Worksheet!$D$14,-1,0),0),IF(I1680=2,H1680*10^RANDBETWEEN(RANDBETWEEN(0,2),2),CHOOSE(RANDBETWEEN(1,3),5,10,20)))","v":4},{"$f":"IF(I1680=1,D1680,IF(I1680=3,\"%\",\"kg\"))","v":"tonnes"},{"$f":"RANDBETWEEN(1,MIN(9,C1680))","v":4},{"$f":"IF(AND(Worksheet!$D$12,RAND()<0.2),3,IF(RAND()<Worksheet!$D$10/100,1,2))","v":1},4,{"$f":"CONCATENATE(\" \",D1680)","v":" tonnes"},4000,"kg"]
[{"$f":"IF(COUNTIF($B$1:B1681,TRUE)=COUNTIF($B$1:B1680,TRUE),\"\",COUNTIF($B$1:B1681,TRUE))","v":1308},{"$f":"Worksheet!$D$24","v":true},{"$f":"RANDBETWEEN(5,RANDBETWEEN(5,Worksheet!$D$8))","v":174},"litres","±",{"$f":"IF(I1681=1,H1681*10^RANDBETWEEN(IF(Worksheet!$D$14,-1,0),0),IF(I1681=2,H1681*10^RANDBETWEEN(RANDBETWEEN(0,2),2),CHOOSE(RANDBETWEEN(1,3),5,10,20)))","v":7},{"$f":"IF(I1681=1,D1681,IF(I1681=3,\"%\",\"ml\"))","v":"litres"},{"$f":"RANDBETWEEN(1,MIN(9,C1681))","v":7},{"$f":"IF(AND(Worksheet!$D$12,RAND()<0.2),3,IF(RAND()<Worksheet!$D$10/100,1,2))","v":1},7,{"$f":"CONCATENATE(\" \",D1681)","v":" litres"},7000,"ml"]
[{"$f":"IF(COUNTIF($B$1:B1682,TRUE)=COUNTIF($B$1:B1681,TRUE),\"\",COUNTIF($B$1:B1682,TRUE))","v":""},{"$f":"Worksheet!$D$26","v":false},{"$f":"RANDBETWEEN(5,RANDBETWEEN(5,Worksheet!$D$8))","v":20},"litres","±",{"$f":"IF(I1682=1,H1682*10^RANDBETWEEN(IF(Worksheet!$D$14,-1,0),0),IF(I1682=2,H1682*10^RANDBETWEEN(RANDBETWEEN(0,2),2),CHOOSE(RANDBETWEEN(1,3),5,10,20)))","v":5},{"$f":"IF(I1682=1,D1682,IF(I1682=3,\"%\",\"cm³\"))","v":"litres"},{"$f":"RANDBETWEEN(1,MIN(9,C1682))","v":5},{"$f":"IF(AND(Worksheet!$D$12,RAND()<0.2),3,IF(RAND()<Worksheet!$D$10/100,1,2))","v":1},5,{"$f":"CONCATENATE(\" \",D1682)","v":" litres"},5000,"cm³"]
[{"$f":"IF(COUNTIF($B$1:B1683,TRUE)=COUNTIF($B$1:B1683,TRUE),\"\",COUNTIF($B$1:B1683,TRUE))","v":""},{"$f":"Worksheet!$B$28","v":true},{"$f":"RANDBETWEEN(5,20)","v":5},"°C","±",{"$f":"IF(I1683=1,H1683*10^RANDBETWEEN(IF(Worksheet!$D$14,-1,0),0),IF(I1683=2,H1683,CHOOSE(RANDBETWEEN(1,3),5,10,20)))","v":0.30000000000000004},{"$f":"IF(I1683=1,D1683,IF(I1683=3,\"%\",\"sec\"))","v":"°C"},{"$f":"RANDBETWEEN(1,MIN(9,C1683))","v":3},{"$f":"IF(AND(Worksheet!$D$12,RAND()<0),3,IF(RAND()<Worksheet!$D$10/100,1,2))","v":1},{"$f":"IF(I1683=1,F1683,IF(I1683=2,F1683,IF(I1683=3,F1683/100*C1683,\"\")))","v":0.30000000000000004},{"$f":"CONCATENATE(\" \",D1683)","v":" °C"},{"$f":"IF(I1683=1,F1683,IF(I1683=2,F1683,IF(I1683=3,F1683/100*C1683,\"\")))","v":0.30000000000000004}," °C"]
[{"$f":"COUNTIF($B$1:B1684,TRUE)","v":1310},{"$f":"Worksheet!$B$20","v":true},{"$f":"RANDBETWEEN(5,RANDBETWEEN(5,Worksheet!$D$8))","v":11},"cm","±",{"$f":"IF(I1684=1,H1684*10^RANDBETWEEN(IF(Worksheet!$D$14,-1,0),0),IF(I1684=2,H1684,CHOOSE(RANDBETWEEN(1,3),5,10,20)))","v":0.70000000000000007},{"$f":"IF(I1684=1,D1684,IF(I1684=3,\"%\",\"mm\"))","v":"cm"},{"$f":"RANDBETWEEN(1,MIN(9,C1684))","v":7},{"$f":"IF(AND(Worksheet!$D$12,RAND()<0.2),3,IF(RAND()<Worksheet!$D$10/100,1,2))","v":1},{"$f":"IF(I1684=1,F1684,IF(I1684=2,F1684/10,IF(I1684=3,F1684/100*C1684,\"\")))","v":0.70000000000000007},{"$f":"CONCATENATE(\" \",D1684)","v":" cm"},{"$f":"IF(I1684=1,F1684*10,IF(I1684=2,F1684,IF(I1684=3,F1684/100*C1684*10,\"\")))","v":7.0000000000000009},"mm"]
[{"$f":"IF(COUNTIF($B$1:B1685,TRUE)=COUNTIF($B$1:B1684,TRUE),\"\",COUNTIF($B$1:B1685,TRUE))","v":1311},{"$f":"Worksheet!$B$22","v":true},{"$f":"RANDBETWEEN(5,RANDBETWEEN(5,Worksheet!$D$8))","v":29},"m","±",{"$f":"IF(I1685=1,H1685*10^RANDBETWEEN(IF(Worksheet!$D$14,-1,0),0),IF(I1685=2,H1685*10^RANDBETWEEN(RANDBETWEEN(0,1),1),CHOOSE(RANDBETWEEN(1,3),5,10,20)))","v":8},{"$f":"IF(I1685=1,D1685,IF(I1685=3,\"%\",\"cm\"))","v":"m"},{"$f":"RANDBETWEEN(1,MIN(9,C1685))","v":8},{"$f":"IF(AND(Worksheet!$D$12,RAND()<0.2),3,IF(RAND()<Worksheet!$D$10/100,1,2))","v":1},{"$f":"IF(I1685=1,F1685,IF(I1685=2,F1685/100,IF(I1685=3,F1685/100*C1685,\"\")))","v":8},{"$f":"CONCATENATE(\" \",D1685)","v":" m"},{"$f":"IF(I1685=1,F1685*100,IF(I1685=2,F1685,IF(I1685=3,F1685/100*C1685*100,\"\")))","v":800},"cm"]
[{"$f":"IF(COUNTIF($B$1:B1686,TRUE)=COUNTIF($B$1:B1685,TRUE),\"\",COUNTIF($B$1:B1686,TRUE))","v":1312},{"$f":"Worksheet!$B$24","v":true},{"$f":"RANDBETWEEN(5,RANDBETWEEN(5,Worksheet!$D$8))","v":5},"km","±",{"$f":"IF(I1686=1,H1686*10^RANDBETWEEN(IF(Worksheet!$D$14,-1,0),0),IF(I1686=2,H1686*10^RANDBETWEEN(RANDBETWEEN(0,2),2),CHOOSE(RANDBETWEEN(1,3),5,10,20)))","v":0.5},{"$f":"IF(I1686=1,D1686,IF(I1686=3,\"%\",\"m\"))","v":"km"},5,{"$f":"IF(AND(Worksheet!$D$12,RAND()<0.2),3,IF(RAND()<Worksheet!$D$10/100,1,2))","v":1},{"$f":"IF(I1686=1,F1686,IF(I1686=2,F1686/1000,IF(I1686=3,F1686/100*C1686,\"\")))","v":0.5}," km",{"$f":"IF(I1686=1,F1686*1000,IF(I1686=2,F1686,IF(I1686=3,F1686/100*C1686*1000,\"\")))","v":500},"m"]
[{"$f":"IF(COUNTIF($B$1:B1687,TRUE)=COUNTIF($B$1:B1686,TRUE),\"\",COUNTIF($B$1:B1687,TRUE))","v":""},{"$f":"Worksheet!$B$26","v":false},{"$f":"RANDBETWEEN(5,RANDBETWEEN(5,Worksheet!$D$8))","v":121},"m","±",{"$f":"IF(I1687=1,H1687*10^RANDBETWEEN(IF(Worksheet!$D$14,-1,0),0),IF(I1687=2,H1687*10^RANDBETWEEN(RANDBETWEEN(0,2),2),CHOOSE(RANDBETWEEN(1,3),5,10,20)))","v":0.2},{"$f":"IF(I1687=1,D1687,IF(I1687=3,\"%\",\"mm\"))","v":"m"},2,{"$f":"IF(AND(Worksheet!$D$12,RAND()<0.2),3,IF(RAND()<Worksheet!$D$10/100,1,2))","v":1},0.2," m",200,"mm"]
[{"$f":"IF(COUNTIF($B$1:B1688,TRUE)=COUNTIF($B$1:B1687,TRUE),\"\",COUNTIF($B$1:B1688,TRUE))","v":1313},{"$f":"Worksheet!$D$20","v":true},{"$f":"RANDBETWEEN(5,RANDBETWEEN(5,Worksheet!$D$8))","v":39},"kg","±",{"$f":"IF(I1688=1,H1688*10^RANDBETWEEN(IF(Worksheet!$D$14,-1,0),0),IF(I1688=2,H1688*10^RANDBETWEEN(RANDBETWEEN(0,2),2),CHOOSE(RANDBETWEEN(1,3),5,10,20)))","v":4},{"$f":"IF(I1688=1,D1688,IF(I1688=3,\"%\",\"g\"))","v":"kg"},{"$f":"RANDBETWEEN(1,MIN(9,C1688))","v":4},{"$f":"IF(AND(Worksheet!$D$12,RAND()<0.2),3,IF(RAND()<Worksheet!$D$10/100,1,2))","v":1},4,{"$f":"CONCATENATE(\" \",D1688)","v":" kg"},4000,"g"]
[{"$f":"IF(COUNTIF($B$1:B1689,TRUE)=COUNTIF($B$1:B1688,TRUE),\"\",COUNTIF($B$1:B1689,TRUE))","v":1314},{"$f":"Worksheet!$D$22","v":true},{"$f":"RANDBETWEEN(5,RANDBETWEEN(5,Worksheet!$D$8))","v":9},"tonnes","±",{"$f":"IF(I1689=1,H1689*10^RANDBETWEEN(IF(Worksheet!$D$14,-1,0),0),IF(I1689=2,H1689*10^RANDBETWEEN(RANDBETWEEN(0,2),2),CHOOSE(RANDBETWEEN(1,3),5,10,20)))","v":4},{"$f":"IF(I1689=1,D1689,IF(I1689=3,\"%\",\"kg\"))","v":"tonnes"},{"$f":"RANDBETWEEN(1,MIN(9,C1689))","v":4},{"$f":"IF(AND(Worksheet!$D$12,RAND()<0.2),3,IF(RAND()<Worksheet!$D$10/100,1,2))","v":1},4,{"$f":"CONCATENATE(\" \",D1689)","v":" tonnes"},4000,"kg"]
[{"$f":"IF(COUNTIF($B$1:B1690,TRUE)=COUNTIF($B$1:B1689,TRUE),\"\",COUNTIF($B$1:B1690,TRUE))","v":1315},{"$f":"Worksheet!$D$24","v":true},{"$f":"RANDBETWEEN(5,RANDBETWEEN(5,Worksheet!$D$8))","v":6},"litres","±",{"$f":"IF(I1690=1,H1690*10^RANDBETWEEN(IF(Worksheet!$D$14,-1,0),0),IF(I1690=2,H1690*10^RANDBETWEEN(RANDBETWEEN(0,2),2),CHOOSE(RANDBETWEEN(1,3),5,10,20)))","v":4},{"$f":"IF(I1690=1,D1690,IF(I1690=3,\"%\",\"ml\"))","v":"litres"},{"$f":"RANDBETWEEN(1,MIN(9,C1690))","v":4},{"$f":"IF(AND(Worksheet!$D$12,RAND()<0.2),3,IF(RAND()<Worksheet!$D$10/100,1,2))","v":1},4,{"$f":"CONCATENATE(\" \",D1690)","v":" litres"},4000,"ml"]
[{"$f":"IF(COUNTIF($B$1:B1691,TRUE)=COUNTIF($B$1:B1690,TRUE),\"\",COUNTIF($B$1:B1691,TRUE))","v":""},{"$f":"Worksheet!$D$26","v":false},{"$f":"RANDBETWEEN(5,RANDBETWEEN(5,Worksheet!$D$8))","v":73},"litres","±",{"$f":"IF(I1691=1,H1691*10^RANDBETWEEN(IF(Worksheet!$D$14,-1,0),0),IF(I1691=2,H1691*10^RANDBETWEEN(RANDBETWEEN(0,2),2),CHOOSE(RANDBETWEEN(1,3),5,10,20)))","v":0.30000000000000004},{"$f":"IF(I1691=1,D1691,IF(I1691=3,\"%\",\"cm³\"))","v":"litres"},{"$f":"RANDBETWEEN(1,MIN(9,C1691))","v":3},{"$f":"IF(AND(Worksheet!$D$12,RAND()<0.2),3,IF(RAND()<Worksheet!$D$10/100,1,2))","v":1},0.30000000000000004,{"$f":"CONCATENATE(\" \",D1691)","v":" litres"},300.00000000000006,"cm³"]
[{"$f":"IF(COUNTIF($B$1:B1692,TRUE)=COUNTIF($B$1:B1692,TRUE),\"\",COUNTIF($B$1:B1692,TRUE))","v":""},{"$f":"Worksheet!$B$28","v":true},{"$f":"RANDBETWEEN(5,20)","v":6},"°C","±",{"$f":"IF(I1692=1,H1692*10^RANDBETWEEN(IF(Worksheet!$D$14,-1,0),0),IF(I1692=2,H1692,CHOOSE(RANDBETWEEN(1,3),5,10,20)))","v":2},{"$f":"IF(I1692=1,D1692,IF(I1692=3,\"%\",\"sec\"))","v":"sec"},{"$f":"RANDBETWEEN(1,MIN(9,C1692))","v":2},{"$f":"IF(AND(Worksheet!$D$12,RAND()<0),3,IF(RAND()<Worksheet!$D$10/100,1,2))","v":2},{"$f":"IF(I1692=1,F1692,IF(I1692=2,F1692,IF(I1692=3,F1692/100*C1692,\"\")))","v":2},{"$f":"CONCATENATE(\" \",D1692)","v":" °C"},{"$f":"IF(I1692=1,F1692,IF(I1692=2,F1692,IF(I1692=3,F1692/100*C1692,\"\")))","v":2}," °C"]
[{"$f":"COUNTIF($B$1:B1693,TRUE)","v":1317},{"$f":"Worksheet!$B$20","v":true},{"$f":"RANDBETWEEN(5,RANDBETWEEN(5,Worksheet!$D$8))","v":6},"cm","±",{"$f":"IF(I1693=1,H1693*10^RANDBETWEEN(IF(Worksheet!$D$14,-1,0),0),IF(I1693=2,H1693,CHOOSE(RANDBETWEEN(1,3),5,10,20)))","v":20},{"$f":"IF(I1693=1,D1693,IF(I1693=3,\"%\",\"mm\"))","v":"%"},{"$f":"RANDBETWEEN(1,MIN(9,C1693))","v":4},{"$f":"IF(AND(Worksheet!$D$12,RAND()<0.2),3,IF(RAND()<Worksheet!$D$10/100,1,2))","v":3},{"$f":"IF(I1693=1,F1693,IF(I1693=2,F1693/10,IF(I1693=3,F1693/100*C1693,\"\")))","v":1.2000000000000002},{"$f":"CONCATENATE(\" \",D1693)","v":" cm"},{"$f":"IF(I1693=1,F1693*10,IF(I1693=2,F1693,IF(I1693=3,F1693/100*C1693*10,\"\")))","v":12.000000000000002},"mm"]
[{"$f":"IF(COUNTIF($B$1:B1694,TRUE)=COUNTIF($B$1:B1693,TRUE),\"\",COUNTIF($B$1:B1694,TRUE))","v":1318},{"$f":"Worksheet!$B$22","v":true},{"$f":"RANDBETWEEN(5,RANDBETWEEN(5,Worksheet!$D$8))","v":12},"m","±",{"$f":"IF(I1694=1,H1694*10^RANDBETWEEN(IF(Worksheet!$D$14,-1,0),0),IF(I1694=2,H1694*10^RANDBETWEEN(RANDBETWEEN(0,1),1),CHOOSE(RANDBETWEEN(1,3),5,10,20)))","v":1},{"$f":"IF(I1694=1,D1694,IF(I1694=3,\"%\",\"cm\"))","v":"cm"},{"$f":"RANDBETWEEN(1,MIN(9,C1694))","v":1},{"$f":"IF(AND(Worksheet!$D$12,RAND()<0.2),3,IF(RAND()<Worksheet!$D$10/100,1,2))","v":2},{"$f":"IF(I1694=1,F1694,IF(I1694=2,F1694/100,IF(I1694=3,F1694/100*C1694,\"\")))","v":0.01},{"$f":"CONCATENATE(\" \",D1694)","v":" m"},{"$f":"IF(I1694=1,F1694*100,IF(I1694=2,F1694,IF(I1694=3,F1694/100*C1694*100,\"\")))","v":1},"cm"]
[{"$f":"IF(COUNTIF($B$1:B1695,TRUE)=COUNTIF($B$1:B1694,TRUE),\"\",COUNTIF($B$1:B1695,TRUE))","v":1319},{"$f":"Worksheet!$B$24","v":true},{"$f":"RANDBETWEEN(5,RANDBETWEEN(5,Worksheet!$D$8))","v":57},"km","±",{"$f":"IF(I1695=1,H1695*10^RANDBETWEEN(IF(Worksheet!$D$14,-1,0),0),IF(I1695=2,H1695*10^RANDBETWEEN(RANDBETWEEN(0,2),2),CHOOSE(RANDBETWEEN(1,3),5,10,20)))","v":7},{"$f":"IF(I1695=1,D1695,IF(I1695=3,\"%\",\"m\"))","v":"km"},7,{"$f":"IF(AND(Worksheet!$D$12,RAND()<0.2),3,IF(RAND()<Worksheet!$D$10/100,1,2))","v":1},{"$f":"IF(I1695=1,F1695,IF(I1695=2,F1695/1000,IF(I1695=3,F1695/100*C1695,\"\")))","v":7}," km",{"$f":"IF(I1695=1,F1695*1000,IF(I1695=2,F1695,IF(I1695=3,F1695/100*C1695*1000,\"\")))","v":7000},"m"]
[{"$f":"IF(COUNTIF($B$1:B1696,TRUE)=COUNTIF($B$1:B1695,TRUE),\"\",COUNTIF($B$1:B1696,TRUE))","v":""},{"$f":"Worksheet!$B$26","v":false},{"$f":"RANDBETWEEN(5,RANDBETWEEN(5,Worksheet!$D$8))","v":38},"m","±",{"$f":"IF(I1696=1,H1696*10^RANDBETWEEN(IF(Worksheet!$D$14,-1,0),0),IF(I1696=2,H1696*10^RANDBETWEEN(RANDBETWEEN(0,2),2),CHOOSE(RANDBETWEEN(1,3),5,10,20)))","v":800},{"$f":"IF(I1696=1,D1696,IF(I1696=3,\"%\",\"mm\"))","v":"mm"},8,{"$f":"IF(AND(Worksheet!$D$12,RAND()<0.2),3,IF(RAND()<Worksheet!$D$10/100,1,2))","v":2},0.8," m",800,"mm"]
[{"$f":"IF(COUNTIF($B$1:B1697,TRUE)=COUNTIF($B$1:B1696,TRUE),\"\",COUNTIF($B$1:B1697,TRUE))","v":1320},{"$f":"Worksheet!$D$20","v":true},{"$f":"RANDBETWEEN(5,RANDBETWEEN(5,Worksheet!$D$8))","v":72},"kg","±",{"$f":"IF(I1697=1,H1697*10^RANDBETWEEN(IF(Worksheet!$D$14,-1,0),0),IF(I1697=2,H1697*10^RANDBETWEEN(RANDBETWEEN(0,2),2),CHOOSE(RANDBETWEEN(1,3),5,10,20)))","v":400},{"$f":"IF(I1697=1,D1697,IF(I1697=3,\"%\",\"g\"))","v":"g"},{"$f":"RANDBETWEEN(1,MIN(9,C1697))","v":4},{"$f":"IF(AND(Worksheet!$D$12,RAND()<0.2),3,IF(RAND()<Worksheet!$D$10/100,1,2))","v":2},0.4,{"$f":"CONCATENATE(\" \",D1697)","v":" kg"},400,"g"]
[{"$f":"IF(COUNTIF($B$1:B1698,TRUE)=COUNTIF($B$1:B1697,TRUE),\"\",COUNTIF($B$1:B1698,TRUE))","v":1321},{"$f":"Worksheet!$D$22","v":true},{"$f":"RANDBETWEEN(5,RANDBETWEEN(5,Worksheet!$D$8))","v":81},"tonnes","±",{"$f":"IF(I1698=1,H1698*10^RANDBETWEEN(IF(Worksheet!$D$14,-1,0),0),IF(I1698=2,H1698*10^RANDBETWEEN(RANDBETWEEN(0,2),2),CHOOSE(RANDBETWEEN(1,3),5,10,20)))","v":0.70000000000000007},{"$f":"IF(I1698=1,D1698,IF(I1698=3,\"%\",\"kg\"))","v":"tonnes"},{"$f":"RANDBETWEEN(1,MIN(9,C1698))","v":7},{"$f":"IF(AND(Worksheet!$D$12,RAND()<0.2),3,IF(RAND()<Worksheet!$D$10/100,1,2))","v":1},0.70000000000000007,{"$f":"CONCATENATE(\" \",D1698)","v":" tonnes"},700.00000000000011,"kg"]
[{"$f":"IF(COUNTIF($B$1:B1699,TRUE)=COUNTIF($B$1:B1698,TRUE),\"\",COUNTIF($B$1:B1699,TRUE))","v":1322},{"$f":"Worksheet!$D$24","v":true},{"$f":"RANDBETWEEN(5,RANDBETWEEN(5,Worksheet!$D$8))","v":12},"litres","±",{"$f":"IF(I1699=1,H1699*10^RANDBETWEEN(IF(Worksheet!$D$14,-1,0),0),IF(I1699=2,H1699*10^RANDBETWEEN(RANDBETWEEN(0,2),2),CHOOSE(RANDBETWEEN(1,3),5,10,20)))","v":0.70000000000000007},{"$f":"IF(I1699=1,D1699,IF(I1699=3,\"%\",\"ml\"))","v":"litres"},{"$f":"RANDBETWEEN(1,MIN(9,C1699))","v":7},{"$f":"IF(AND(Worksheet!$D$12,RAND()<0.2),3,IF(RAND()<Worksheet!$D$10/100,1,2))","v":1},0.70000000000000007,{"$f":"CONCATENATE(\" \",D1699)","v":" litres"},700.00000000000011,"ml"]
[{"$f":"IF(COUNTIF($B$1:B1700,TRUE)=COUNTIF($B$1:B1699,TRUE),\"\",COUNTIF($B$1:B1700,TRUE))","v":""},{"$f":"Worksheet!$D$26","v":false},{"$f":"RANDBETWEEN(5,RANDBETWEEN(5,Worksheet!$D$8))","v":74},"litres","±",{"$f":"IF(I1700=1,H1700*10^RANDBETWEEN(IF(Worksheet!$D$14,-1,0),0),IF(I1700=2,H1700*10^RANDBETWEEN(RANDBETWEEN(0,2),2),CHOOSE(RANDBETWEEN(1,3),5,10,20)))","v":5},{"$f":"IF(I1700=1,D1700,IF(I1700=3,\"%\",\"cm³\"))","v":"%"},{"$f":"RANDBETWEEN(1,MIN(9,C1700))","v":8},{"$f":"IF(AND(Worksheet!$D$12,RAND()<0.2),3,IF(RAND()<Worksheet!$D$10/100,1,2))","v":3},3.7,{"$f":"CONCATENATE(\" \",D1700)","v":" litres"},3700,"cm³"]
[{"$f":"IF(COUNTIF($B$1:B1701,TRUE)=COUNTIF($B$1:B1701,TRUE),\"\",COUNTIF($B$1:B1701,TRUE))","v":""},{"$f":"Worksheet!$B$28","v":true},{"$f":"RANDBETWEEN(5,20)","v":17},"°C","±",{"$f":"IF(I1701=1,H1701*10^RANDBETWEEN(IF(Worksheet!$D$14,-1,0),0),IF(I1701=2,H1701,CHOOSE(RANDBETWEEN(1,3),5,10,20)))","v":5},{"$f":"IF(I1701=1,D1701,IF(I1701=3,\"%\",\"sec\"))","v":"sec"},{"$f":"RANDBETWEEN(1,MIN(9,C1701))","v":5},{"$f":"IF(AND(Worksheet!$D$12,RAND()<0),3,IF(RAND()<Worksheet!$D$10/100,1,2))","v":2},{"$f":"IF(I1701=1,F1701,IF(I1701=2,F1701,IF(I1701=3,F1701/100*C1701,\"\")))","v":5},{"$f":"CONCATENATE(\" \",D1701)","v":" °C"},{"$f":"IF(I1701=1,F1701,IF(I1701=2,F1701,IF(I1701=3,F1701/100*C1701,\"\")))","v":5}," °C"]
[{"$f":"COUNTIF($B$1:B1702,TRUE)","v":1324},{"$f":"Worksheet!$B$20","v":true},{"$f":"RANDBETWEEN(5,RANDBETWEEN(5,Worksheet!$D$8))","v":20},"cm","±",{"$f":"IF(I1702=1,H1702*10^RANDBETWEEN(IF(Worksheet!$D$14,-1,0),0),IF(I1702=2,H1702,CHOOSE(RANDBETWEEN(1,3),5,10,20)))","v":5},{"$f":"IF(I1702=1,D1702,IF(I1702=3,\"%\",\"mm\"))","v":"cm"},{"$f":"RANDBETWEEN(1,MIN(9,C1702))","v":5},{"$f":"IF(AND(Worksheet!$D$12,RAND()<0.2),3,IF(RAND()<Worksheet!$D$10/100,1,2))","v":1},{"$f":"IF(I1702=1,F1702,IF(I1702=2,F1702/10,IF(I1702=3,F1702/100*C1702,\"\")))","v":5},{"$f":"CONCATENATE(\" \",D1702)","v":" cm"},{"$f":"IF(I1702=1,F1702*10,IF(I1702=2,F1702,IF(I1702=3,F1702/100*C1702*10,\"\")))","v":50},"mm"]
[{"$f":"IF(COUNTIF($B$1:B1703,TRUE)=COUNTIF($B$1:B1702,TRUE),\"\",COUNTIF($B$1:B1703,TRUE))","v":1325},{"$f":"Worksheet!$B$22","v":true},{"$f":"RANDBETWEEN(5,RANDBETWEEN(5,Worksheet!$D$8))","v":101},"m","±",{"$f":"IF(I1703=1,H1703*10^RANDBETWEEN(IF(Worksheet!$D$14,-1,0),0),IF(I1703=2,H1703*10^RANDBETWEEN(RANDBETWEEN(0,1),1),CHOOSE(RANDBETWEEN(1,3),5,10,20)))","v":40},{"$f":"IF(I1703=1,D1703,IF(I1703=3,\"%\",\"cm\"))","v":"cm"},{"$f":"RANDBETWEEN(1,MIN(9,C1703))","v":4},{"$f":"IF(AND(Worksheet!$D$12,RAND()<0.2),3,IF(RAND()<Worksheet!$D$10/100,1,2))","v":2},{"$f":"IF(I1703=1,F1703,IF(I1703=2,F1703/100,IF(I1703=3,F1703/100*C1703,\"\")))","v":0.4},{"$f":"CONCATENATE(\" \",D1703)","v":" m"},{"$f":"IF(I1703=1,F1703*100,IF(I1703=2,F1703,IF(I1703=3,F1703/100*C1703*100,\"\")))","v":40},"cm"]
[{"$f":"IF(COUNTIF($B$1:B1704,TRUE)=COUNTIF($B$1:B1703,TRUE),\"\",COUNTIF($B$1:B1704,TRUE))","v":1326},{"$f":"Worksheet!$B$24","v":true},{"$f":"RANDBETWEEN(5,RANDBETWEEN(5,Worksheet!$D$8))","v":101},"km","±",{"$f":"IF(I1704=1,H1704*10^RANDBETWEEN(IF(Worksheet!$D$14,-1,0),0),IF(I1704=2,H1704*10^RANDBETWEEN(RANDBETWEEN(0,2),2),CHOOSE(RANDBETWEEN(1,3),5,10,20)))","v":0.30000000000000004},{"$f":"IF(I1704=1,D1704,IF(I1704=3,\"%\",\"m\"))","v":"km"},3,{"$f":"IF(AND(Worksheet!$D$12,RAND()<0.2),3,IF(RAND()<Worksheet!$D$10/100,1,2))","v":1},{"$f":"IF(I1704=1,F1704,IF(I1704=2,F1704/1000,IF(I1704=3,F1704/100*C1704,\"\")))","v":0.30000000000000004}," km",{"$f":"IF(I1704=1,F1704*1000,IF(I1704=2,F1704,IF(I1704=3,F1704/100*C1704*1000,\"\")))","v":300.00000000000006},"m"]
[{"$f":"IF(COUNTIF($B$1:B1705,TRUE)=COUNTIF($B$1:B1704,TRUE),\"\",COUNTIF($B$1:B1705,TRUE))","v":""},{"$f":"Worksheet!$B$26","v":false},{"$f":"RANDBETWEEN(5,RANDBETWEEN(5,Worksheet!$D$8))","v":63},"m","±",{"$f":"IF(I1705=1,H1705*10^RANDBETWEEN(IF(Worksheet!$D$14,-1,0),0),IF(I1705=2,H1705*10^RANDBETWEEN(RANDBETWEEN(0,2),2),CHOOSE(RANDBETWEEN(1,3),5,10,20)))","v":6},{"$f":"IF(I1705=1,D1705,IF(I1705=3,\"%\",\"mm\"))","v":"m"},6,{"$f":"IF(AND(Worksheet!$D$12,RAND()<0.2),3,IF(RAND()<Worksheet!$D$10/100,1,2))","v":1},6," m",6000,"mm"]
[{"$f":"IF(COUNTIF($B$1:B1706,TRUE)=COUNTIF($B$1:B1705,TRUE),\"\",COUNTIF($B$1:B1706,TRUE))","v":1327},{"$f":"Worksheet!$D$20","v":true},{"$f":"RANDBETWEEN(5,RANDBETWEEN(5,Worksheet!$D$8))","v":185},"kg","±",{"$f":"IF(I1706=1,H1706*10^RANDBETWEEN(IF(Worksheet!$D$14,-1,0),0),IF(I1706=2,H1706*10^RANDBETWEEN(RANDBETWEEN(0,2),2),CHOOSE(RANDBETWEEN(1,3),5,10,20)))","v":3},{"$f":"IF(I1706=1,D1706,IF(I1706=3,\"%\",\"g\"))","v":"kg"},{"$f":"RANDBETWEEN(1,MIN(9,C1706))","v":3},{"$f":"IF(AND(Worksheet!$D$12,RAND()<0.2),3,IF(RAND()<Worksheet!$D$10/100,1,2))","v":1},3,{"$f":"CONCATENATE(\" \",D1706)","v":" kg"},3000,"g"]
[{"$f":"IF(COUNTIF($B$1:B1707,TRUE)=COUNTIF($B$1:B1706,TRUE),\"\",COUNTIF($B$1:B1707,TRUE))","v":1328},{"$f":"Worksheet!$D$22","v":true},{"$f":"RANDBETWEEN(5,RANDBETWEEN(5,Worksheet!$D$8))","v":13},"tonnes","±",{"$f":"IF(I1707=1,H1707*10^RANDBETWEEN(IF(Worksheet!$D$14,-1,0),0),IF(I1707=2,H1707*10^RANDBETWEEN(RANDBETWEEN(0,2),2),CHOOSE(RANDBETWEEN(1,3),5,10,20)))","v":1},{"$f":"IF(I1707=1,D1707,IF(I1707=3,\"%\",\"kg\"))","v":"tonnes"},{"$f":"RANDBETWEEN(1,MIN(9,C1707))","v":1},{"$f":"IF(AND(Worksheet!$D$12,RAND()<0.2),3,IF(RAND()<Worksheet!$D$10/100,1,2))","v":1},1,{"$f":"CONCATENATE(\" \",D1707)","v":" tonnes"},1000,"kg"]
[{"$f":"IF(COUNTIF($B$1:B1708,TRUE)=COUNTIF($B$1:B1707,TRUE),\"\",COUNTIF($B$1:B1708,TRUE))","v":1329},{"$f":"Worksheet!$D$24","v":true},{"$f":"RANDBETWEEN(5,RANDBETWEEN(5,Worksheet!$D$8))","v":21},"litres","±",{"$f":"IF(I1708=1,H1708*10^RANDBETWEEN(IF(Worksheet!$D$14,-1,0),0),IF(I1708=2,H1708*10^RANDBETWEEN(RANDBETWEEN(0,2),2),CHOOSE(RANDBETWEEN(1,3),5,10,20)))","v":10},{"$f":"IF(I1708=1,D1708,IF(I1708=3,\"%\",\"ml\"))","v":"%"},{"$f":"RANDBETWEEN(1,MIN(9,C1708))","v":6},{"$f":"IF(AND(Worksheet!$D$12,RAND()<0.2),3,IF(RAND()<Worksheet!$D$10/100,1,2))","v":3},2.1,{"$f":"CONCATENATE(\" \",D1708)","v":" litres"},2100,"ml"]
[{"$f":"IF(COUNTIF($B$1:B1709,TRUE)=COUNTIF($B$1:B1708,TRUE),\"\",COUNTIF($B$1:B1709,TRUE))","v":""},{"$f":"Worksheet!$D$26","v":false},{"$f":"RANDBETWEEN(5,RANDBETWEEN(5,Worksheet!$D$8))","v":48},"litres","±",{"$f":"IF(I1709=1,H1709*10^RANDBETWEEN(IF(Worksheet!$D$14,-1,0),0),IF(I1709=2,H1709*10^RANDBETWEEN(RANDBETWEEN(0,2),2),CHOOSE(RANDBETWEEN(1,3),5,10,20)))","v":10},{"$f":"IF(I1709=1,D1709,IF(I1709=3,\"%\",\"cm³\"))","v":"%"},{"$f":"RANDBETWEEN(1,MIN(9,C1709))","v":4},{"$f":"IF(AND(Worksheet!$D$12,RAND()<0.2),3,IF(RAND()<Worksheet!$D$10/100,1,2))","v":3},4.8000000000000007,{"$f":"CONCATENATE(\" \",D1709)","v":" litres"},4800.0000000000009,"cm³"]
[{"$f":"IF(COUNTIF($B$1:B1710,TRUE)=COUNTIF($B$1:B1710,TRUE),\"\",COUNTIF($B$1:B1710,TRUE))","v":""},{"$f":"Worksheet!$B$28","v":true},{"$f":"RANDBETWEEN(5,20)","v":12},"°C","±",{"$f":"IF(I1710=1,H1710*10^RANDBETWEEN(IF(Worksheet!$D$14,-1,0),0),IF(I1710=2,H1710,CHOOSE(RANDBETWEEN(1,3),5,10,20)))","v":1},{"$f":"IF(I1710=1,D1710,IF(I1710=3,\"%\",\"sec\"))","v":"°C"},{"$f":"RANDBETWEEN(1,MIN(9,C1710))","v":1},{"$f":"IF(AND(Worksheet!$D$12,RAND()<0),3,IF(RAND()<Worksheet!$D$10/100,1,2))","v":1},{"$f":"IF(I1710=1,F1710,IF(I1710=2,F1710,IF(I1710=3,F1710/100*C1710,\"\")))","v":1},{"$f":"CONCATENATE(\" \",D1710)","v":" °C"},{"$f":"IF(I1710=1,F1710,IF(I1710=2,F1710,IF(I1710=3,F1710/100*C1710,\"\")))","v":1}," °C"]
[{"$f":"COUNTIF($B$1:B1711,TRUE)","v":1331},{"$f":"Worksheet!$B$20","v":true},{"$f":"RANDBETWEEN(5,RANDBETWEEN(5,Worksheet!$D$8))","v":99},"cm","±",{"$f":"IF(I1711=1,H1711*10^RANDBETWEEN(IF(Worksheet!$D$14,-1,0),0),IF(I1711=2,H1711,CHOOSE(RANDBETWEEN(1,3),5,10,20)))","v":0.9},{"$f":"IF(I1711=1,D1711,IF(I1711=3,\"%\",\"mm\"))","v":"cm"},{"$f":"RANDBETWEEN(1,MIN(9,C1711))","v":9},{"$f":"IF(AND(Worksheet!$D$12,RAND()<0.2),3,IF(RAND()<Worksheet!$D$10/100,1,2))","v":1},{"$f":"IF(I1711=1,F1711,IF(I1711=2,F1711/10,IF(I1711=3,F1711/100*C1711,\"\")))","v":0.9},{"$f":"CONCATENATE(\" \",D1711)","v":" cm"},{"$f":"IF(I1711=1,F1711*10,IF(I1711=2,F1711,IF(I1711=3,F1711/100*C1711*10,\"\")))","v":9},"mm"]
[{"$f":"IF(COUNTIF($B$1:B1712,TRUE)=COUNTIF($B$1:B1711,TRUE),\"\",COUNTIF($B$1:B1712,TRUE))","v":1332},{"$f":"Worksheet!$B$22","v":true},{"$f":"RANDBETWEEN(5,RANDBETWEEN(5,Worksheet!$D$8))","v":32},"m","±",{"$f":"IF(I1712=1,H1712*10^RANDBETWEEN(IF(Worksheet!$D$14,-1,0),0),IF(I1712=2,H1712*10^RANDBETWEEN(RANDBETWEEN(0,1),1),CHOOSE(RANDBETWEEN(1,3),5,10,20)))","v":20},{"$f":"IF(I1712=1,D1712,IF(I1712=3,\"%\",\"cm\"))","v":"%"},{"$f":"RANDBETWEEN(1,MIN(9,C1712))","v":2},{"$f":"IF(AND(Worksheet!$D$12,RAND()<0.2),3,IF(RAND()<Worksheet!$D$10/100,1,2))","v":3},{"$f":"IF(I1712=1,F1712,IF(I1712=2,F1712/100,IF(I1712=3,F1712/100*C1712,\"\")))","v":6.4},{"$f":"CONCATENATE(\" \",D1712)","v":" m"},{"$f":"IF(I1712=1,F1712*100,IF(I1712=2,F1712,IF(I1712=3,F1712/100*C1712*100,\"\")))","v":640},"cm"]
[{"$f":"IF(COUNTIF($B$1:B1713,TRUE)=COUNTIF($B$1:B1712,TRUE),\"\",COUNTIF($B$1:B1713,TRUE))","v":1333},{"$f":"Worksheet!$B$24","v":true},{"$f":"RANDBETWEEN(5,RANDBETWEEN(5,Worksheet!$D$8))","v":18},"km","±",{"$f":"IF(I1713=1,H1713*10^RANDBETWEEN(IF(Worksheet!$D$14,-1,0),0),IF(I1713=2,H1713*10^RANDBETWEEN(RANDBETWEEN(0,2),2),CHOOSE(RANDBETWEEN(1,3),5,10,20)))","v":2},{"$f":"IF(I1713=1,D1713,IF(I1713=3,\"%\",\"m\"))","v":"km"},2,{"$f":"IF(AND(Worksheet!$D$12,RAND()<0.2),3,IF(RAND()<Worksheet!$D$10/100,1,2))","v":1},{"$f":"IF(I1713=1,F1713,IF(I1713=2,F1713/1000,IF(I1713=3,F1713/100*C1713,\"\")))","v":2}," km",{"$f":"IF(I1713=1,F1713*1000,IF(I1713=2,F1713,IF(I1713=3,F1713/100*C1713*1000,\"\")))","v":2000},"m"]
[{"$f":"IF(COUNTIF($B$1:B1714,TRUE)=COUNTIF($B$1:B1713,TRUE),\"\",COUNTIF($B$1:B1714,TRUE))","v":""},{"$f":"Worksheet!$B$26","v":false},{"$f":"RANDBETWEEN(5,RANDBETWEEN(5,Worksheet!$D$8))","v":128},"m","±",{"$f":"IF(I1714=1,H1714*10^RANDBETWEEN(IF(Worksheet!$D$14,-1,0),0),IF(I1714=2,H1714*10^RANDBETWEEN(RANDBETWEEN(0,2),2),CHOOSE(RANDBETWEEN(1,3),5,10,20)))","v":40},{"$f":"IF(I1714=1,D1714,IF(I1714=3,\"%\",\"mm\"))","v":"mm"},4,{"$f":"IF(AND(Worksheet!$D$12,RAND()<0.2),3,IF(RAND()<Worksheet!$D$10/100,1,2))","v":2},0.04," m",40,"mm"]
[{"$f":"IF(COUNTIF($B$1:B1715,TRUE)=COUNTIF($B$1:B1714,TRUE),\"\",COUNTIF($B$1:B1715,TRUE))","v":1334},{"$f":"Worksheet!$D$20","v":true},{"$f":"RANDBETWEEN(5,RANDBETWEEN(5,Worksheet!$D$8))","v":105},"kg","±",{"$f":"IF(I1715=1,H1715*10^RANDBETWEEN(IF(Worksheet!$D$14,-1,0),0),IF(I1715=2,H1715*10^RANDBETWEEN(RANDBETWEEN(0,2),2),CHOOSE(RANDBETWEEN(1,3),5,10,20)))","v":4},{"$f":"IF(I1715=1,D1715,IF(I1715=3,\"%\",\"g\"))","v":"kg"},{"$f":"RANDBETWEEN(1,MIN(9,C1715))","v":4},{"$f":"IF(AND(Worksheet!$D$12,RAND()<0.2),3,IF(RAND()<Worksheet!$D$10/100,1,2))","v":1},4,{"$f":"CONCATENATE(\" \",D1715)","v":" kg"},4000,"g"]
[{"$f":"IF(COUNTIF($B$1:B1716,TRUE)=COUNTIF($B$1:B1715,TRUE),\"\",COUNTIF($B$1:B1716,TRUE))","v":1335},{"$f":"Worksheet!$D$22","v":true},{"$f":"RANDBETWEEN(5,RANDBETWEEN(5,Worksheet!$D$8))","v":67},"tonnes","±",{"$f":"IF(I1716=1,H1716*10^RANDBETWEEN(IF(Worksheet!$D$14,-1,0),0),IF(I1716=2,H1716*10^RANDBETWEEN(RANDBETWEEN(0,2),2),CHOOSE(RANDBETWEEN(1,3),5,10,20)))","v":0.60000000000000009},{"$f":"IF(I1716=1,D1716,IF(I1716=3,\"%\",\"kg\"))","v":"tonnes"},{"$f":"RANDBETWEEN(1,MIN(9,C1716))","v":6},{"$f":"IF(AND(Worksheet!$D$12,RAND()<0.2),3,IF(RAND()<Worksheet!$D$10/100,1,2))","v":1},0.60000000000000009,{"$f":"CONCATENATE(\" \",D1716)","v":" tonnes"},600.00000000000011,"kg"]
[{"$f":"IF(COUNTIF($B$1:B1717,TRUE)=COUNTIF($B$1:B1716,TRUE),\"\",COUNTIF($B$1:B1717,TRUE))","v":1336},{"$f":"Worksheet!$D$24","v":true},{"$f":"RANDBETWEEN(5,RANDBETWEEN(5,Worksheet!$D$8))","v":72},"litres","±",{"$f":"IF(I1717=1,H1717*10^RANDBETWEEN(IF(Worksheet!$D$14,-1,0),0),IF(I1717=2,H1717*10^RANDBETWEEN(RANDBETWEEN(0,2),2),CHOOSE(RANDBETWEEN(1,3),5,10,20)))","v":300},{"$f":"IF(I1717=1,D1717,IF(I1717=3,\"%\",\"ml\"))","v":"ml"},{"$f":"RANDBETWEEN(1,MIN(9,C1717))","v":3},{"$f":"IF(AND(Worksheet!$D$12,RAND()<0.2),3,IF(RAND()<Worksheet!$D$10/100,1,2))","v":2},0.3,{"$f":"CONCATENATE(\" \",D1717)","v":" litres"},300,"ml"]
[{"$f":"IF(COUNTIF($B$1:B1718,TRUE)=COUNTIF($B$1:B1717,TRUE),\"\",COUNTIF($B$1:B1718,TRUE))","v":""},{"$f":"Worksheet!$D$26","v":false},{"$f":"RANDBETWEEN(5,RANDBETWEEN(5,Worksheet!$D$8))","v":67},"litres","±",{"$f":"IF(I1718=1,H1718*10^RANDBETWEEN(IF(Worksheet!$D$14,-1,0),0),IF(I1718=2,H1718*10^RANDBETWEEN(RANDBETWEEN(0,2),2),CHOOSE(RANDBETWEEN(1,3),5,10,20)))","v":0.5},{"$f":"IF(I1718=1,D1718,IF(I1718=3,\"%\",\"cm³\"))","v":"litres"},{"$f":"RANDBETWEEN(1,MIN(9,C1718))","v":5},{"$f":"IF(AND(Worksheet!$D$12,RAND()<0.2),3,IF(RAND()<Worksheet!$D$10/100,1,2))","v":1},0.5,{"$f":"CONCATENATE(\" \",D1718)","v":" litres"},500,"cm³"]
[{"$f":"IF(COUNTIF($B$1:B1719,TRUE)=COUNTIF($B$1:B1719,TRUE),\"\",COUNTIF($B$1:B1719,TRUE))","v":""},{"$f":"Worksheet!$B$28","v":true},{"$f":"RANDBETWEEN(5,20)","v":9},"°C","±",{"$f":"IF(I1719=1,H1719*10^RANDBETWEEN(IF(Worksheet!$D$14,-1,0),0),IF(I1719=2,H1719,CHOOSE(RANDBETWEEN(1,3),5,10,20)))","v":8},{"$f":"IF(I1719=1,D1719,IF(I1719=3,\"%\",\"sec\"))","v":"°C"},{"$f":"RANDBETWEEN(1,MIN(9,C1719))","v":8},{"$f":"IF(AND(Worksheet!$D$12,RAND()<0),3,IF(RAND()<Worksheet!$D$10/100,1,2))","v":1},{"$f":"IF(I1719=1,F1719,IF(I1719=2,F1719,IF(I1719=3,F1719/100*C1719,\"\")))","v":8},{"$f":"CONCATENATE(\" \",D1719)","v":" °C"},{"$f":"IF(I1719=1,F1719,IF(I1719=2,F1719,IF(I1719=3,F1719/100*C1719,\"\")))","v":8}," °C"]
[{"$f":"COUNTIF($B$1:B1720,TRUE)","v":1338},{"$f":"Worksheet!$B$20","v":true},{"$f":"RANDBETWEEN(5,RANDBETWEEN(5,Worksheet!$D$8))","v":99},"cm","±",{"$f":"IF(I1720=1,H1720*10^RANDBETWEEN(IF(Worksheet!$D$14,-1,0),0),IF(I1720=2,H1720,CHOOSE(RANDBETWEEN(1,3),5,10,20)))","v":6},{"$f":"IF(I1720=1,D1720,IF(I1720=3,\"%\",\"mm\"))","v":"mm"},{"$f":"RANDBETWEEN(1,MIN(9,C1720))","v":6},{"$f":"IF(AND(Worksheet!$D$12,RAND()<0.2),3,IF(RAND()<Worksheet!$D$10/100,1,2))","v":2},{"$f":"IF(I1720=1,F1720,IF(I1720=2,F1720/10,IF(I1720=3,F1720/100*C1720,\"\")))","v":0.6},{"$f":"CONCATENATE(\" \",D1720)","v":" cm"},{"$f":"IF(I1720=1,F1720*10,IF(I1720=2,F1720,IF(I1720=3,F1720/100*C1720*10,\"\")))","v":6},"mm"]
[{"$f":"IF(COUNTIF($B$1:B1721,TRUE)=COUNTIF($B$1:B1720,TRUE),\"\",COUNTIF($B$1:B1721,TRUE))","v":1339},{"$f":"Worksheet!$B$22","v":true},{"$f":"RANDBETWEEN(5,RANDBETWEEN(5,Worksheet!$D$8))","v":30},"m","±",{"$f":"IF(I1721=1,H1721*10^RANDBETWEEN(IF(Worksheet!$D$14,-1,0),0),IF(I1721=2,H1721*10^RANDBETWEEN(RANDBETWEEN(0,1),1),CHOOSE(RANDBETWEEN(1,3),5,10,20)))","v":10},{"$f":"IF(I1721=1,D1721,IF(I1721=3,\"%\",\"cm\"))","v":"%"},{"$f":"RANDBETWEEN(1,MIN(9,C1721))","v":3},{"$f":"IF(AND(Worksheet!$D$12,RAND()<0.2),3,IF(RAND()<Worksheet!$D$10/100,1,2))","v":3},{"$f":"IF(I1721=1,F1721,IF(I1721=2,F1721/100,IF(I1721=3,F1721/100*C1721,\"\")))","v":3},{"$f":"CONCATENATE(\" \",D1721)","v":" m"},{"$f":"IF(I1721=1,F1721*100,IF(I1721=2,F1721,IF(I1721=3,F1721/100*C1721*100,\"\")))","v":300},"cm"]
[{"$f":"IF(COUNTIF($B$1:B1722,TRUE)=COUNTIF($B$1:B1721,TRUE),\"\",COUNTIF($B$1:B1722,TRUE))","v":1340},{"$f":"Worksheet!$B$24","v":true},{"$f":"RANDBETWEEN(5,RANDBETWEEN(5,Worksheet!$D$8))","v":35},"km","±",{"$f":"IF(I1722=1,H1722*10^RANDBETWEEN(IF(Worksheet!$D$14,-1,0),0),IF(I1722=2,H1722*10^RANDBETWEEN(RANDBETWEEN(0,2),2),CHOOSE(RANDBETWEEN(1,3),5,10,20)))","v":7},{"$f":"IF(I1722=1,D1722,IF(I1722=3,\"%\",\"m\"))","v":"km"},7,{"$f":"IF(AND(Worksheet!$D$12,RAND()<0.2),3,IF(RAND()<Worksheet!$D$10/100,1,2))","v":1},{"$f":"IF(I1722=1,F1722,IF(I1722=2,F1722/1000,IF(I1722=3,F1722/100*C1722,\"\")))","v":7}," km",{"$f":"IF(I1722=1,F1722*1000,IF(I1722=2,F1722,IF(I1722=3,F1722/100*C1722*1000,\"\")))","v":7000},"m"]
[{"$f":"IF(COUNTIF($B$1:B1723,TRUE)=COUNTIF($B$1:B1722,TRUE),\"\",COUNTIF($B$1:B1723,TRUE))","v":""},{"$f":"Worksheet!$B$26","v":false},{"$f":"RANDBETWEEN(5,RANDBETWEEN(5,Worksheet!$D$8))","v":110},"m","±",{"$f":"IF(I1723=1,H1723*10^RANDBETWEEN(IF(Worksheet!$D$14,-1,0),0),IF(I1723=2,H1723*10^RANDBETWEEN(RANDBETWEEN(0,2),2),CHOOSE(RANDBETWEEN(1,3),5,10,20)))","v":8},{"$f":"IF(I1723=1,D1723,IF(I1723=3,\"%\",\"mm\"))","v":"mm"},8,{"$f":"IF(AND(Worksheet!$D$12,RAND()<0.2),3,IF(RAND()<Worksheet!$D$10/100,1,2))","v":2},8.0000000000000002E-3," m",8,"mm"]
[{"$f":"IF(COUNTIF($B$1:B1724,TRUE)=COUNTIF($B$1:B1723,TRUE),\"\",COUNTIF($B$1:B1724,TRUE))","v":1341},{"$f":"Worksheet!$D$20","v":true},{"$f":"RANDBETWEEN(5,RANDBETWEEN(5,Worksheet!$D$8))","v":10},"kg","±",{"$f":"IF(I1724=1,H1724*10^RANDBETWEEN(IF(Worksheet!$D$14,-1,0),0),IF(I1724=2,H1724*10^RANDBETWEEN(RANDBETWEEN(0,2),2),CHOOSE(RANDBETWEEN(1,3),5,10,20)))","v":4},{"$f":"IF(I1724=1,D1724,IF(I1724=3,\"%\",\"g\"))","v":"kg"},{"$f":"RANDBETWEEN(1,MIN(9,C1724))","v":4},{"$f":"IF(AND(Worksheet!$D$12,RAND()<0.2),3,IF(RAND()<Worksheet!$D$10/100,1,2))","v":1},4,{"$f":"CONCATENATE(\" \",D1724)","v":" kg"},4000,"g"]
[{"$f":"IF(COUNTIF($B$1:B1725,TRUE)=COUNTIF($B$1:B1724,TRUE),\"\",COUNTIF($B$1:B1725,TRUE))","v":1342},{"$f":"Worksheet!$D$22","v":true},{"$f":"RANDBETWEEN(5,RANDBETWEEN(5,Worksheet!$D$8))","v":18},"tonnes","±",{"$f":"IF(I1725=1,H1725*10^RANDBETWEEN(IF(Worksheet!$D$14,-1,0),0),IF(I1725=2,H1725*10^RANDBETWEEN(RANDBETWEEN(0,2),2),CHOOSE(RANDBETWEEN(1,3),5,10,20)))","v":5},{"$f":"IF(I1725=1,D1725,IF(I1725=3,\"%\",\"kg\"))","v":"%"},{"$f":"RANDBETWEEN(1,MIN(9,C1725))","v":4},{"$f":"IF(AND(Worksheet!$D$12,RAND()<0.2),3,IF(RAND()<Worksheet!$D$10/100,1,2))","v":3},0.9,{"$f":"CONCATENATE(\" \",D1725)","v":" tonnes"},900,"kg"]
[{"$f":"IF(COUNTIF($B$1:B1726,TRUE)=COUNTIF($B$1:B1725,TRUE),\"\",COUNTIF($B$1:B1726,TRUE))","v":1343},{"$f":"Worksheet!$D$24","v":true},{"$f":"RANDBETWEEN(5,RANDBETWEEN(5,Worksheet!$D$8))","v":94},"litres","±",{"$f":"IF(I1726=1,H1726*10^RANDBETWEEN(IF(Worksheet!$D$14,-1,0),0),IF(I1726=2,H1726*10^RANDBETWEEN(RANDBETWEEN(0,2),2),CHOOSE(RANDBETWEEN(1,3),5,10,20)))","v":700},{"$f":"IF(I1726=1,D1726,IF(I1726=3,\"%\",\"ml\"))","v":"ml"},{"$f":"RANDBETWEEN(1,MIN(9,C1726))","v":7},{"$f":"IF(AND(Worksheet!$D$12,RAND()<0.2),3,IF(RAND()<Worksheet!$D$10/100,1,2))","v":2},0.7,{"$f":"CONCATENATE(\" \",D1726)","v":" litres"},700,"ml"]
[{"$f":"IF(COUNTIF($B$1:B1727,TRUE)=COUNTIF($B$1:B1726,TRUE),\"\",COUNTIF($B$1:B1727,TRUE))","v":""},{"$f":"Worksheet!$D$26","v":false},{"$f":"RANDBETWEEN(5,RANDBETWEEN(5,Worksheet!$D$8))","v":104},"litres","±",{"$f":"IF(I1727=1,H1727*10^RANDBETWEEN(IF(Worksheet!$D$14,-1,0),0),IF(I1727=2,H1727*10^RANDBETWEEN(RANDBETWEEN(0,2),2),CHOOSE(RANDBETWEEN(1,3),5,10,20)))","v":0.70000000000000007},{"$f":"IF(I1727=1,D1727,IF(I1727=3,\"%\",\"cm³\"))","v":"litres"},{"$f":"RANDBETWEEN(1,MIN(9,C1727))","v":7},{"$f":"IF(AND(Worksheet!$D$12,RAND()<0.2),3,IF(RAND()<Worksheet!$D$10/100,1,2))","v":1},0.70000000000000007,{"$f":"CONCATENATE(\" \",D1727)","v":" litres"},700.00000000000011,"cm³"]
[{"$f":"IF(COUNTIF($B$1:B1728,TRUE)=COUNTIF($B$1:B1728,TRUE),\"\",COUNTIF($B$1:B1728,TRUE))","v":""},{"$f":"Worksheet!$B$28","v":true},{"$f":"RANDBETWEEN(5,20)","v":9},"°C","±",{"$f":"IF(I1728=1,H1728*10^RANDBETWEEN(IF(Worksheet!$D$14,-1,0),0),IF(I1728=2,H1728,CHOOSE(RANDBETWEEN(1,3),5,10,20)))","v":0.60000000000000009},{"$f":"IF(I1728=1,D1728,IF(I1728=3,\"%\",\"sec\"))","v":"°C"},{"$f":"RANDBETWEEN(1,MIN(9,C1728))","v":6},{"$f":"IF(AND(Worksheet!$D$12,RAND()<0),3,IF(RAND()<Worksheet!$D$10/100,1,2))","v":1},{"$f":"IF(I1728=1,F1728,IF(I1728=2,F1728,IF(I1728=3,F1728/100*C1728,\"\")))","v":0.60000000000000009},{"$f":"CONCATENATE(\" \",D1728)","v":" °C"},{"$f":"IF(I1728=1,F1728,IF(I1728=2,F1728,IF(I1728=3,F1728/100*C1728,\"\")))","v":0.60000000000000009}," °C"]
[{"$f":"COUNTIF($B$1:B1729,TRUE)","v":1345},{"$f":"Worksheet!$B$20","v":true},{"$f":"RANDBETWEEN(5,RANDBETWEEN(5,Worksheet!$D$8))","v":55},"cm","±",{"$f":"IF(I1729=1,H1729*10^RANDBETWEEN(IF(Worksheet!$D$14,-1,0),0),IF(I1729=2,H1729,CHOOSE(RANDBETWEEN(1,3),5,10,20)))","v":0.9},{"$f":"IF(I1729=1,D1729,IF(I1729=3,\"%\",\"mm\"))","v":"cm"},{"$f":"RANDBETWEEN(1,MIN(9,C1729))","v":9},{"$f":"IF(AND(Worksheet!$D$12,RAND()<0.2),3,IF(RAND()<Worksheet!$D$10/100,1,2))","v":1},{"$f":"IF(I1729=1,F1729,IF(I1729=2,F1729/10,IF(I1729=3,F1729/100*C1729,\"\")))","v":0.9},{"$f":"CONCATENATE(\" \",D1729)","v":" cm"},{"$f":"IF(I1729=1,F1729*10,IF(I1729=2,F1729,IF(I1729=3,F1729/100*C1729*10,\"\")))","v":9},"mm"]
[{"$f":"IF(COUNTIF($B$1:B1730,TRUE)=COUNTIF($B$1:B1729,TRUE),\"\",COUNTIF($B$1:B1730,TRUE))","v":1346},{"$f":"Worksheet!$B$22","v":true},{"$f":"RANDBETWEEN(5,RANDBETWEEN(5,Worksheet!$D$8))","v":22},"m","±",{"$f":"IF(I1730=1,H1730*10^RANDBETWEEN(IF(Worksheet!$D$14,-1,0),0),IF(I1730=2,H1730*10^RANDBETWEEN(RANDBETWEEN(0,1),1),CHOOSE(RANDBETWEEN(1,3),5,10,20)))","v":40},{"$f":"IF(I1730=1,D1730,IF(I1730=3,\"%\",\"cm\"))","v":"cm"},{"$f":"RANDBETWEEN(1,MIN(9,C1730))","v":4},{"$f":"IF(AND(Worksheet!$D$12,RAND()<0.2),3,IF(RAND()<Worksheet!$D$10/100,1,2))","v":2},{"$f":"IF(I1730=1,F1730,IF(I1730=2,F1730/100,IF(I1730=3,F1730/100*C1730,\"\")))","v":0.4},{"$f":"CONCATENATE(\" \",D1730)","v":" m"},{"$f":"IF(I1730=1,F1730*100,IF(I1730=2,F1730,IF(I1730=3,F1730/100*C1730*100,\"\")))","v":40},"cm"]
[{"$f":"IF(COUNTIF($B$1:B1731,TRUE)=COUNTIF($B$1:B1730,TRUE),\"\",COUNTIF($B$1:B1731,TRUE))","v":1347},{"$f":"Worksheet!$B$24","v":true},{"$f":"RANDBETWEEN(5,RANDBETWEEN(5,Worksheet!$D$8))","v":34},"km","±",{"$f":"IF(I1731=1,H1731*10^RANDBETWEEN(IF(Worksheet!$D$14,-1,0),0),IF(I1731=2,H1731*10^RANDBETWEEN(RANDBETWEEN(0,2),2),CHOOSE(RANDBETWEEN(1,3),5,10,20)))","v":600},{"$f":"IF(I1731=1,D1731,IF(I1731=3,\"%\",\"m\"))","v":"m"},6,{"$f":"IF(AND(Worksheet!$D$12,RAND()<0.2),3,IF(RAND()<Worksheet!$D$10/100,1,2))","v":2},{"$f":"IF(I1731=1,F1731,IF(I1731=2,F1731/1000,IF(I1731=3,F1731/100*C1731,\"\")))","v":0.6}," km",{"$f":"IF(I1731=1,F1731*1000,IF(I1731=2,F1731,IF(I1731=3,F1731/100*C1731*1000,\"\")))","v":600},"m"]
[{"$f":"IF(COUNTIF($B$1:B1732,TRUE)=COUNTIF($B$1:B1731,TRUE),\"\",COUNTIF($B$1:B1732,TRUE))","v":""},{"$f":"Worksheet!$B$26","v":false},{"$f":"RANDBETWEEN(5,RANDBETWEEN(5,Worksheet!$D$8))","v":47},"m","±",{"$f":"IF(I1732=1,H1732*10^RANDBETWEEN(IF(Worksheet!$D$14,-1,0),0),IF(I1732=2,H1732*10^RANDBETWEEN(RANDBETWEEN(0,2),2),CHOOSE(RANDBETWEEN(1,3),5,10,20)))","v":8},{"$f":"IF(I1732=1,D1732,IF(I1732=3,\"%\",\"mm\"))","v":"m"},8,{"$f":"IF(AND(Worksheet!$D$12,RAND()<0.2),3,IF(RAND()<Worksheet!$D$10/100,1,2))","v":1},8," m",8000,"mm"]
[{"$f":"IF(COUNTIF($B$1:B1733,TRUE)=COUNTIF($B$1:B1732,TRUE),\"\",COUNTIF($B$1:B1733,TRUE))","v":1348},{"$f":"Worksheet!$D$20","v":true},{"$f":"RANDBETWEEN(5,RANDBETWEEN(5,Worksheet!$D$8))","v":143},"kg","±",{"$f":"IF(I1733=1,H1733*10^RANDBETWEEN(IF(Worksheet!$D$14,-1,0),0),IF(I1733=2,H1733*10^RANDBETWEEN(RANDBETWEEN(0,2),2),CHOOSE(RANDBETWEEN(1,3),5,10,20)))","v":0.5},{"$f":"IF(I1733=1,D1733,IF(I1733=3,\"%\",\"g\"))","v":"kg"},{"$f":"RANDBETWEEN(1,MIN(9,C1733))","v":5},{"$f":"IF(AND(Worksheet!$D$12,RAND()<0.2),3,IF(RAND()<Worksheet!$D$10/100,1,2))","v":1},0.5,{"$f":"CONCATENATE(\" \",D1733)","v":" kg"},500,"g"]
[{"$f":"IF(COUNTIF($B$1:B1734,TRUE)=COUNTIF($B$1:B1733,TRUE),\"\",COUNTIF($B$1:B1734,TRUE))","v":1349},{"$f":"Worksheet!$D$22","v":true},{"$f":"RANDBETWEEN(5,RANDBETWEEN(5,Worksheet!$D$8))","v":101},"tonnes","±",{"$f":"IF(I1734=1,H1734*10^RANDBETWEEN(IF(Worksheet!$D$14,-1,0),0),IF(I1734=2,H1734*10^RANDBETWEEN(RANDBETWEEN(0,2),2),CHOOSE(RANDBETWEEN(1,3),5,10,20)))","v":5},{"$f":"IF(I1734=1,D1734,IF(I1734=3,\"%\",\"kg\"))","v":"%"},{"$f":"RANDBETWEEN(1,MIN(9,C1734))","v":3},{"$f":"IF(AND(Worksheet!$D$12,RAND()<0.2),3,IF(RAND()<Worksheet!$D$10/100,1,2))","v":3},5.0500000000000007,{"$f":"CONCATENATE(\" \",D1734)","v":" tonnes"},5050.0000000000009,"kg"]
[{"$f":"IF(COUNTIF($B$1:B1735,TRUE)=COUNTIF($B$1:B1734,TRUE),\"\",COUNTIF($B$1:B1735,TRUE))","v":1350},{"$f":"Worksheet!$D$24","v":true},{"$f":"RANDBETWEEN(5,RANDBETWEEN(5,Worksheet!$D$8))","v":20},"litres","±",{"$f":"IF(I1735=1,H1735*10^RANDBETWEEN(IF(Worksheet!$D$14,-1,0),0),IF(I1735=2,H1735*10^RANDBETWEEN(RANDBETWEEN(0,2),2),CHOOSE(RANDBETWEEN(1,3),5,10,20)))","v":6},{"$f":"IF(I1735=1,D1735,IF(I1735=3,\"%\",\"ml\"))","v":"litres"},{"$f":"RANDBETWEEN(1,MIN(9,C1735))","v":6},{"$f":"IF(AND(Worksheet!$D$12,RAND()<0.2),3,IF(RAND()<Worksheet!$D$10/100,1,2))","v":1},6,{"$f":"CONCATENATE(\" \",D1735)","v":" litres"},6000,"ml"]
[{"$f":"IF(COUNTIF($B$1:B1736,TRUE)=COUNTIF($B$1:B1735,TRUE),\"\",COUNTIF($B$1:B1736,TRUE))","v":""},{"$f":"Worksheet!$D$26","v":false},{"$f":"RANDBETWEEN(5,RANDBETWEEN(5,Worksheet!$D$8))","v":76},"litres","±",{"$f":"IF(I1736=1,H1736*10^RANDBETWEEN(IF(Worksheet!$D$14,-1,0),0),IF(I1736=2,H1736*10^RANDBETWEEN(RANDBETWEEN(0,2),2),CHOOSE(RANDBETWEEN(1,3),5,10,20)))","v":0.5},{"$f":"IF(I1736=1,D1736,IF(I1736=3,\"%\",\"cm³\"))","v":"litres"},{"$f":"RANDBETWEEN(1,MIN(9,C1736))","v":5},{"$f":"IF(AND(Worksheet!$D$12,RAND()<0.2),3,IF(RAND()<Worksheet!$D$10/100,1,2))","v":1},0.5,{"$f":"CONCATENATE(\" \",D1736)","v":" litres"},500,"cm³"]
[{"$f":"IF(COUNTIF($B$1:B1737,TRUE)=COUNTIF($B$1:B1737,TRUE),\"\",COUNTIF($B$1:B1737,TRUE))","v":""},{"$f":"Worksheet!$B$28","v":true},{"$f":"RANDBETWEEN(5,20)","v":10},"°C","±",{"$f":"IF(I1737=1,H1737*10^RANDBETWEEN(IF(Worksheet!$D$14,-1,0),0),IF(I1737=2,H1737,CHOOSE(RANDBETWEEN(1,3),5,10,20)))","v":6},{"$f":"IF(I1737=1,D1737,IF(I1737=3,\"%\",\"sec\"))","v":"°C"},{"$f":"RANDBETWEEN(1,MIN(9,C1737))","v":6},{"$f":"IF(AND(Worksheet!$D$12,RAND()<0),3,IF(RAND()<Worksheet!$D$10/100,1,2))","v":1},{"$f":"IF(I1737=1,F1737,IF(I1737=2,F1737,IF(I1737=3,F1737/100*C1737,\"\")))","v":6},{"$f":"CONCATENATE(\" \",D1737)","v":" °C"},{"$f":"IF(I1737=1,F1737,IF(I1737=2,F1737,IF(I1737=3,F1737/100*C1737,\"\")))","v":6}," °C"]