{"text_format":"1","workbook":"xlsx","n_sheets":2,"sheets":["Worksheet","SYSTEM FORMULAE"],"not_rendered":{"charts":0,"images":0,"macros":1,"external_links":0,"defined_names":2,"comments":0,"pivot_tables":0},"unopened":[],"bounds":{"document_bytes":16777216,"sheet_cells":100000,"rows_first":2000,"rows_last":500,"rows_between":2000,"halvings":0,"cell_chars":16384,"cell_head_chars":4096},"cells_cut":0,"cells_raw":0,"read":"whole","date_system":"1900"}

{"sheet":"Worksheet","index":0,"n_rows":31,"n_cols":15,"rows_kept":31,"cut":false,"hidden":false,"merged":[[5,0,5,2],[7,0,7,2],[8,0,8,2],[9,0,9,3],[0,4,0,14],[1,0,1,3],[4,0,4,3],[2,0,2,2],[6,0,6,2],[3,0,3,2]]}
[null,null,null,null,"Write down the maximum and minimum possible values for each tolerance statement"]
["Variables",null,null,null,1,836," 6","tonnes","±"," 60","kg","Minimum ="," 5·94 tonnes or 5 940kg","Maximum = "," 6·06  tonnes or 6 060kg"]
["SHOW ANSWERS",null,null,false,2,483," 6","kg","±"," 6","kg","Minimum ="," 0g","Maximum = ","12 000g"]
["Number of questions                                                  (minimum 10, maximum 30)",null,null,30,3,1325," 187","litres","±"," 0·2","litres","Minimum ="," 186·8 litres or 186 800ml","Maximum = "," 187·2  litres or 187 200ml"]
["Level of difficulty",null,null,null,4,1122," 18","hours","±"," 0·5","hours","Minimum ="," 17·5 hours","Maximum = "," 18·5 hours"]
["Maximum whole number in question",null,null,400,5,1156," 67","tonnes","±"," 20","%","Minimum ="," 53·6 tonnes or 53 600kg","Maximum = "," 80·4  tonnes or 80 400kg"]
["Approximate percentage of questions where both units match",null,null,75,6,120," 137","m","±"," 5","m","Minimum ="," 132 m or 13 200cm","Maximum = "," 142  m or 14 200cm"]
["Include some questions where the tolerance is expressed as a percentage",null,null,true,7,995," 95","kg","±"," 50","g","Minimum ="," 94·95 kg or 94 950g","Maximum = "," 95·05  kg or 95 050g"]
["Allow decimal value after ± sign",null,null,true,8,736," 101","m","±"," 0·9","m","Minimum ="," 100·1 m or 10 010cm","Maximum = "," 101·9  m or 10 190cm"]
["Which units to include: (once you have selected the units you want, click on \"generate new sheet\" above)",null,null,null,9,666," 17","hours","±"," 4","hours","Minimum ="," 13 hours","Maximum = "," 21 hours"]
["Length: mm/cm",true,"Weight: g/kg",true,10,671," 27","cm","±"," 10","%","Minimum ="," 24·3 cm or  243mm","Maximum = "," 29·7  cm or  297mm"]
["Length: cm/m",true,"Weight: kg/tonnes",true,11,1375," 244","cm","±"," 10","%","Minimum ="," 219·6 cm or 2 196mm","Maximum = "," 268·4  cm or 2 684mm"]
["Length: m/km",true,"Volume: ml/l",true,12,287," 124","cm","±"," 0·2","cm","Minimum ="," 123·8 cm or 1 238mm","Maximum = "," 124·2  cm or 1 242mm"]
["Length: mm/m",false,"Volume: cm³/l",true,13,365," 182","litres","±"," 0·6","litres","Minimum ="," 181·4 litres or 181 400ml","Maximum = "," 182·6  litres or 182 600ml"]
["Time: hours/min",true,"Time: min/sec",false,14,1437," 51","litres","±"," 0·8","litres","Minimum ="," 50·2 litres or 50 200ml","Maximum = "," 51·8  litres or 51 800ml"]
["Temperature: °C",false,null,null,15,1111," 92","cm","±"," 6","mm","Minimum ="," 91·4 cm or  914mm","Maximum = "," 92·6  cm or  926mm"]
[null,null,null,null,16,860," 336","tonnes","±"," 0·4","tonnes","Minimum ="," 335·6 tonnes or 335 600kg","Maximum = "," 336·4  tonnes or 336 400kg"]
[null,null,null,null,17,1422," 197","litres","±"," 5","litres","Minimum ="," 192 litres or 192 000cm³","Maximum = "," 202  litres or 202 000cm³"]
[null,null,null,null,18,511," 126","cm","±"," 0·4","cm","Minimum ="," 125·6 cm or 1 256mm","Maximum = "," 126·4  cm or 1 264mm"]
[null,null,null,null,19,137," 15","km","±"," 900","m","Minimum ="," 14·1 km or 14 100m","Maximum = "," 15·9  km or 15 900m"]
[null,null,null,null,20,953," 127","km","±"," 700","m","Minimum ="," 126·3 km or 126 300m","Maximum = "," 127·7  km or 127 700m"]
[null,null,null,null,21,461," 34","litres","±"," 7","litres","Minimum ="," 27 litres or 27 000ml","Maximum = "," 41  litres or 41 000ml"]
[null,null,null,null,22,101," 11","litres","±"," 9","litres","Minimum ="," 2 litres or 2 000ml","Maximum = "," 20  litres or 20 000ml"]
[null,null,null,null,23,370," 19","hours","±"," 2","hours","Minimum ="," 17 hours","Maximum = "," 21 hours"]
[null,null,null,null,24,574," 18","litres","±"," 20","%","Minimum ="," 14·4 litres or 14 400cm³","Maximum = "," 21·6  litres or 21 600cm³"]
[null,null,null,null,25,65," 116","km","±"," 2","km","Minimum ="," 114 km or 114 000m","Maximum = "," 118  km or 118 000m"]
[null,null,null,null,26,433," 150","km","±"," 7","km","Minimum ="," 143 km or 143 000m","Maximum = "," 157  km or 157 000m"]
[null,null,null,null,27,810," 6","hours","±"," 0·6","hours","Minimum ="," 5·4 hours","Maximum = "," 6·6 hours"]
[null,null,null,null,28,688," 67","m","±"," 0·2","m","Minimum ="," 66·8 m or 6 680cm","Maximum = "," 67·2  m or 6 720cm"]
[null,null,null,null,29,1325," 187","litres","±"," 0·2","litres","Minimum ="," 186·8 litres or 186 800ml","Maximum = "," 187·2  litres or 187 200ml"]
[null,null,null,null,30,250," 11","hours","±"," 2","min","Minimum ="," 658 min","Maximum = "," 662 min"]

{"sheet":"SYSTEM FORMULAE","index":1,"n_rows":1990,"n_cols":29,"rows_kept":1990,"cut":false,"hidden":false,"merged":[]}
[{"$f":"COUNTIF($B$1:B1,TRUE)","v":1},{"$f":"Worksheet!$B$11","v":true},{"$f":"RANDBETWEEN(5,RANDBETWEEN(5,Worksheet!$D$6))","v":147},"cm","±",{"$f":"IF(I1=1,H1*10^RANDBETWEEN(IF(Worksheet!$D$9,-1,0),0),IF(I1=2,H1,CHOOSE(RANDBETWEEN(1,3),5,10,20)))","v":7},{"$f":"IF(I1=1,D1,IF(I1=3,\"%\",\"mm\"))","v":"mm"},{"$f":"RANDBETWEEN(1,MIN(9,C1))","v":7},{"$f":"IF(AND(Worksheet!$D$8,RAND()<0.2),3,IF(RAND()<Worksheet!$D$7/100,1,2))","v":2},{"$f":"IF(I1=1,C1-F1,IF(I1=2,C1-F1/10,IF(I1=3,(1-F1/100)*C1,\"\")))","v":146.30000000000001},{"$f":"CONCATENATE(\" \",D1)","v":" cm"},{"$f":"J1*10","v":1463},"mm",{"$f":"IF(I1=1,C1+F1,IF(I1=2,C1+F1/10,IF(I1=3,(1+F1/100)*C1,\"\")))","v":147.69999999999999},{"$f":"CONCATENATE(\" \",K1)","v":"  cm"},{"$f":"N1*10","v":1477},"mm",null,{"$f":"IF(ROW()<=Worksheet!$D$4,ROW(),\"\")","v":1},{"$f":"RANDBETWEEN(1,MAX('SYSTEM FORMULAE'!$A$1:$A$1990))","v":1140},{"$f":"IF(RIGHT(TEXT(VLOOKUP(T1,'SYSTEM FORMULAE'!$A$1:$Q$1990,3),\"# ##0.###\"),1)=\".\",LEFT(TEXT(VLOOKUP(T1,'SYSTEM FORMULAE'!$A$1:$Q$1990,3),\"# ##0.###\"),LEN(TEXT(VLOOKUP(T1,'SYSTEM FORMULAE'!$A$1:$Q$1990,3),\"# ##0.###\"))-1),TEXT(VLOOKUP(T1,'SYSTEM FORMULAE'!$A$1:$Q$1990,3),\"# ##0.###\"))","v":" 146"},{"$f":"VLOOKUP(T1,'SYSTEM FORMULAE'!$A$1:$Q$1990,4)","v":"tonnes"},"±",{"$f":"IF(RIGHT(TEXT(VLOOKUP(T1,'SYSTEM FORMULAE'!$A$1:$Q$1990,6),\"# ##0.###\"),1)=\".\",LEFT(TEXT(VLOOKUP(T1,'SYSTEM FORMULAE'!$A$1:$Q$1990,6),\"# ##0.###\"),LEN(TEXT(VLOOKUP(T1,'SYSTEM FORMULAE'!$A$1:$Q$1990,6),\"# ##0.###\"))-1),TEXT(VLOOKUP(T1,'SYSTEM FORMULAE'!$A$1:$Q$1990,6),\"# ##0.###\"))","v":" 3"},{"$f":"VLOOKUP(T1,'SYSTEM FORMULAE'!$A$1:$Q$1990,7)","v":"tonnes"},"Minimum =",{"$f":"CONCATENATE(IF(VLOOKUP(T1,'SYSTEM FORMULAE'!$A$1:$Q$1990,10)<>0,CONCATENATE(IF(RIGHT(TEXT(VLOOKUP(T1,'SYSTEM FORMULAE'!$A$1:$Q$1990,10),\"# ##0.###\"),1)=\".\",LEFT(TEXT(VLOOKUP(T1,'SYSTEM FORMULAE'!$A$1:$Q$1990,10),\"# ##0.###\"),LEN(TEXT(VLOOKUP(T1,'SYSTEM FORMULAE'!$A$1:$Q$1990,10),\"# ##0.###\"))-1),TEXT(VLOOKUP(T1,'SYSTEM FORMULAE'!$A$1:$Q$1990,10),\"# ##0.###\")),IF(RIGHT(TEXT(VLOOKUP(T1,'SYSTEM FORMULAE'!$A$1:$Q$1990,11),\"# ##0.###\"),1)=\".\",LEFT(TEXT(VLOOKUP(T1,'SYSTEM FORMULAE'!$A$1:$Q$1990,11),\"# ##0.###\"),LEN(TEXT(VLOOKUP(T1,'SYSTEM FORMULAE'!$A$1:$Q$1990,11),\"# ##0.###\"))-1),TEXT(VLOOKUP(T1,'SYSTEM FORMULAE'!$A$1:$Q$1990,11),\"# ##0.###\")),\" or \"),\"\"),IF(RIGHT(TEXT(VLOOKUP(T1,'SYSTEM FORMULAE'!$A$1:$Q$1990,12),\"# ##0.###\"),1)=\".\",LEFT(TEXT(VLOOKUP(T1,'SYSTEM FORMULAE'!$A$1:$Q$1990,12),\"# ##0.###\"),LEN(TEXT(VLOOKUP(T1,'SYSTEM FORMULAE'!$A$1:$Q$1990,12),\"# ##0.###\"))-1),TEXT(VLOOKUP(T1,'SYSTEM FORMULAE'!$A$1:$Q$1990,12),\"# ##0.###\")),IF(RIGHT(TEXT(VLOOKUP(T1,'SYSTEM FORMULAE'!$A$1:$Q$1990,13),\"# ##0.###\"),1)=\".\",LEFT(TEXT(VLOOKUP(T1,'SYSTEM FORMULAE'!$A$1:$Q$1990,13),\"# ##0.###\"),LEN(TEXT(VLOOKUP(T1,'SYSTEM FORMULAE'!$A$1:$Q$1990,13),\"# ##0.###\"))-1),TEXT(VLOOKUP(T1,'SYSTEM FORMULAE'!$A$1:$Q$1990,13),\"# ##0.###\")))","v":" 143 tonnes or 143 000kg"},"Maximum = ",{"$f":"CONCATENATE(IF(VLOOKUP(T1,'SYSTEM FORMULAE'!$A$1:$Q$1990,10)<>0,CONCATENATE(IF(RIGHT(TEXT(VLOOKUP(T1,'SYSTEM FORMULAE'!$A$1:$Q$1990,14),\"# ##0.###\"),1)=\".\",LEFT(TEXT(VLOOKUP(T1,'SYSTEM FORMULAE'!$A$1:$Q$1990,14),\"# ##0.###\"),LEN(TEXT(VLOOKUP(T1,'SYSTEM FORMULAE'!$A$1:$Q$1990,14),\"# ##0.###\"))-1),TEXT(VLOOKUP(T1,'SYSTEM FORMULAE'!$A$1:$Q$1990,14),\"# ##0.###\")),IF(RIGHT(TEXT(VLOOKUP(T1,'SYSTEM FORMULAE'!$A$1:$Q$1990,15),\"# ##0.###\"),1)=\".\",LEFT(TEXT(VLOOKUP(T1,'SYSTEM FORMULAE'!$A$1:$Q$1990,15),\"# ##0.###\"),LEN(TEXT(VLOOKUP(T1,'SYSTEM FORMULAE'!$A$1:$Q$1990,15),\"# ##0.###\"))-1),TEXT(VLOOKUP(T1,'SYSTEM FORMULAE'!$A$1:$Q$1990,15),\"# ##0.###\")),\" or \"),\"\"),IF(RIGHT(TEXT(VLOOKUP(T1,'SYSTEM FORMULAE'!$A$1:$Q$1990,16),\"# ##0.###\"),1)=\".\",LEFT(TEXT(VLOOKUP(T1,'SYSTEM FORMULAE'!$A$1:$Q$1990,16),\"# ##0.###\"),LEN(TEXT(VLOOKUP(T1,'SYSTEM FORMULAE'!$A$1:$Q$1990,16),\"# ##0.###\"))-1),TEXT(VLOOKUP(T1,'SYSTEM FORMULAE'!$A$1:$Q$1990,16),\"# ##0.###\")),IF(RIGHT(TEXT(VLOOKUP(T1,'SYSTEM FORMULAE'!$A$1:$Q$1990,17),\"# ##0.###\"),1)=\".\",LEFT(TEXT(VLOOKUP(T1,'SYSTEM FORMULAE'!$A$1:$Q$1990,17),\"# ##0.###\"),LEN(TEXT(VLOOKUP(T1,'SYSTEM FORMULAE'!$A$1:$Q$1990,17),\"# ##0.###\"))-1),TEXT(VLOOKUP(T1,'SYSTEM FORMULAE'!$A$1:$Q$1990,17),\"# ##0.###\")))","v":" 149  tonnes or 149 000kg"}]
[{"$f":"IF(COUNTIF($B$1:B2,TRUE)=COUNTIF($B$1:B1,TRUE),\"\",COUNTIF($B$1:B2,TRUE))","v":2},{"$f":"Worksheet!$B$12","v":true},{"$f":"RANDBETWEEN(5,RANDBETWEEN(5,Worksheet!$D$6))","v":6},"m","±",{"$f":"IF(I2=1,H2*10^RANDBETWEEN(IF(Worksheet!$D$9,-1,0),0),IF(I2=2,H2*10^RANDBETWEEN(RANDBETWEEN(0,1),1),CHOOSE(RANDBETWEEN(1,3),5,10,20)))","v":0.2},{"$f":"IF(I2=1,D2,IF(I2=3,\"%\",\"cm\"))","v":"m"},{"$f":"RANDBETWEEN(1,MIN(9,C2))","v":2},{"$f":"IF(AND(Worksheet!$D$8,RAND()<0.2),3,IF(RAND()<Worksheet!$D$7/100,1,2))","v":1},{"$f":"IF(I2=1,C2-F2,IF(I2=2,C2-F2/100,IF(I2=3,(1-F2/100)*C2,\"\")))","v":5.8},{"$f":"CONCATENATE(\" \",D2)","v":" m"},{"$f":"J2*100","v":580},"cm",{"$f":"IF(I2=1,C2+F2,IF(I2=2,C2+F2/100,IF(I2=3,(1+F2/100)*C2,\"\")))","v":6.2},{"$f":"CONCATENATE(\" \",K2)","v":"  m"},{"$f":"N2*100","v":620},"cm",null,{"$f":"IF(ROW()<=Worksheet!$D$4,ROW(),\"\")","v":2},{"$f":"RANDBETWEEN(1,MAX('SYSTEM FORMULAE'!$A$1:$A$1990))","v":302},{"$f":"IF(RIGHT(TEXT(VLOOKUP(T2,'SYSTEM FORMULAE'!$A$1:$Q$1990,3),\"# ##0.###\"),1)=\".\",LEFT(TEXT(VLOOKUP(T2,'SYSTEM FORMULAE'!$A$1:$Q$1990,3),\"# ##0.###\"),LEN(TEXT(VLOOKUP(T2,'SYSTEM FORMULAE'!$A$1:$Q$1990,3),\"# ##0.###\"))-1),TEXT(VLOOKUP(T2,'SYSTEM FORMULAE'!$A$1:$Q$1990,3),\"# ##0.###\"))","v":" 200"},{"$f":"VLOOKUP(T2,'SYSTEM FORMULAE'!$A$1:$Q$1990,4)","v":"litres"},"±",{"$f":"IF(RIGHT(TEXT(VLOOKUP(T2,'SYSTEM FORMULAE'!$A$1:$Q$1990,6),\"# ##0.###\"),1)=\".\",LEFT(TEXT(VLOOKUP(T2,'SYSTEM FORMULAE'!$A$1:$Q$1990,6),\"# ##0.###\"),LEN(TEXT(VLOOKUP(T2,'SYSTEM FORMULAE'!$A$1:$Q$1990,6),\"# ##0.###\"))-1),TEXT(VLOOKUP(T2,'SYSTEM FORMULAE'!$A$1:$Q$1990,6),\"# ##0.###\"))","v":" 4"},{"$f":"VLOOKUP(T2,'SYSTEM FORMULAE'!$A$1:$Q$1990,7)","v":"litres"},"Minimum =",{"$f":"CONCATENATE(IF(VLOOKUP(T2,'SYSTEM FORMULAE'!$A$1:$Q$1990,10)<>0,CONCATENATE(IF(RIGHT(TEXT(VLOOKUP(T2,'SYSTEM FORMULAE'!$A$1:$Q$1990,10),\"# ##0.###\"),1)=\".\",LEFT(TEXT(VLOOKUP(T2,'SYSTEM FORMULAE'!$A$1:$Q$1990,10),\"# ##0.###\"),LEN(TEXT(VLOOKUP(T2,'SYSTEM FORMULAE'!$A$1:$Q$1990,10),\"# ##0.###\"))-1),TEXT(VLOOKUP(T2,'SYSTEM FORMULAE'!$A$1:$Q$1990,10),\"# ##0.###\")),IF(RIGHT(TEXT(VLOOKUP(T2,'SYSTEM FORMULAE'!$A$1:$Q$1990,11),\"# ##0.###\"),1)=\".\",LEFT(TEXT(VLOOKUP(T2,'SYSTEM FORMULAE'!$A$1:$Q$1990,11),\"# ##0.###\"),LEN(TEXT(VLOOKUP(T2,'SYSTEM FORMULAE'!$A$1:$Q$1990,11),\"# ##0.###\"))-1),TEXT(VLOOKUP(T2,'SYSTEM FORMULAE'!$A$1:$Q$1990,11),\"# ##0.###\")),\" or \"),\"\"),IF(RIGHT(TEXT(VLOOKUP(T2,'SYSTEM FORMULAE'!$A$1:$Q$1990,12),\"# ##0.###\"),1)=\".\",LEFT(TEXT(VLOOKUP(T2,'SYSTEM FORMULAE'!$A$1:$Q$1990,12),\"# ##0.###\"),LEN(TEXT(VLOOKUP(T2,'SYSTEM FORMULAE'!$A$1:$Q$1990,12),\"# ##0.###\"))-1),TEXT(VLOOKUP(T2,'SYSTEM FORMULAE'!$A$1:$Q$1990,12),\"# ##0.###\")),IF(RIGHT(TEXT(VLOOKUP(T2,'SYSTEM FORMULAE'!$A$1:$Q$1990,13),\"# ##0.###\"),1)=\".\",LEFT(TEXT(VLOOKUP(T2,'SYSTEM FORMULAE'!$A$1:$Q$1990,13),\"# ##0.###\"),LEN(TEXT(VLOOKUP(T2,'SYSTEM FORMULAE'!$A$1:$Q$1990,13),\"# ##0.###\"))-1),TEXT(VLOOKUP(T2,'SYSTEM FORMULAE'!$A$1:$Q$1990,13),\"# ##0.###\")))","v":" 196 litres or 196 000cm³"},"Maximum = ",{"$f":"CONCATENATE(IF(VLOOKUP(T2,'SYSTEM FORMULAE'!$A$1:$Q$1990,10)<>0,CONCATENATE(IF(RIGHT(TEXT(VLOOKUP(T2,'SYSTEM FORMULAE'!$A$1:$Q$1990,14),\"# ##0.###\"),1)=\".\",LEFT(TEXT(VLOOKUP(T2,'SYSTEM FORMULAE'!$A$1:$Q$1990,14),\"# ##0.###\"),LEN(TEXT(VLOOKUP(T2,'SYSTEM FORMULAE'!$A$1:$Q$1990,14),\"# ##0.###\"))-1),TEXT(VLOOKUP(T2,'SYSTEM FORMULAE'!$A$1:$Q$1990,14),\"# ##0.###\")),IF(RIGHT(TEXT(VLOOKUP(T2,'SYSTEM FORMULAE'!$A$1:$Q$1990,15),\"# ##0.###\"),1)=\".\",LEFT(TEXT(VLOOKUP(T2,'SYSTEM FORMULAE'!$A$1:$Q$1990,15),\"# ##0.###\"),LEN(TEXT(VLOOKUP(T2,'SYSTEM FORMULAE'!$A$1:$Q$1990,15),\"# ##0.###\"))-1),TEXT(VLOOKUP(T2,'SYSTEM FORMULAE'!$A$1:$Q$1990,15),\"# ##0.###\")),\" or \"),\"\"),IF(RIGHT(TEXT(VLOOKUP(T2,'SYSTEM FORMULAE'!$A$1:$Q$1990,16),\"# ##0.###\"),1)=\".\",LEFT(TEXT(VLOOKUP(T2,'SYSTEM FORMULAE'!$A$1:$Q$1990,16),\"# ##0.###\"),LEN(TEXT(VLOOKUP(T2,'SYSTEM FORMULAE'!$A$1:$Q$1990,16),\"# ##0.###\"))-1),TEXT(VLOOKUP(T2,'SYSTEM FORMULAE'!$A$1:$Q$1990,16),\"# ##0.###\")),IF(RIGHT(TEXT(VLOOKUP(T2,'SYSTEM FORMULAE'!$A$1:$Q$1990,17),\"# ##0.###\"),1)=\".\",LEFT(TEXT(VLOOKUP(T2,'SYSTEM FORMULAE'!$A$1:$Q$1990,17),\"# ##0.###\"),LEN(TEXT(VLOOKUP(T2,'SYSTEM FORMULAE'!$A$1:$Q$1990,17),\"# ##0.###\"))-1),TEXT(VLOOKUP(T2,'SYSTEM FORMULAE'!$A$1:$Q$1990,17),\"# ##0.###\")))","v":" 204  litres or 204 000cm³"}]
[{"$f":"IF(COUNTIF($B$1:B3,TRUE)=COUNTIF($B$1:B2,TRUE),\"\",COUNTIF($B$1:B3,TRUE))","v":3},{"$f":"Worksheet!$B$13","v":true},{"$f":"RANDBETWEEN(5,RANDBETWEEN(5,Worksheet!$D$6))","v":7},"km","±",{"$f":"IF(I3=1,H3*10^RANDBETWEEN(IF(Worksheet!$D$9,-1,0),0),IF(I3=2,H3*10^RANDBETWEEN(RANDBETWEEN(0,2),2),CHOOSE(RANDBETWEEN(1,3),5,10,20)))","v":0.2},{"$f":"IF(I3=1,D3,IF(I3=3,\"%\",\"m\"))","v":"km"},2,{"$f":"IF(AND(Worksheet!$D$8,RAND()<0.2),3,IF(RAND()<Worksheet!$D$7/100,1,2))","v":1},{"$f":"IF(I3=1,C3-F3,IF(I3=2,C3-F3/1000,IF(I3=3,(1-F3/100)*C3,\"\")))","v":6.8}," km",{"$f":"J3*1000","v":6800},"m",{"$f":"IF(I3=1,C3+F3,IF(I3=2,C3+F3/1000,IF(I3=3,(1+F3/100)*C3,\"\")))","v":7.2},"  km",{"$f":"N3*1000","v":7200},"m",null,{"$f":"IF(ROW()<=Worksheet!$D$4,ROW(),\"\")","v":3},{"$f":"RANDBETWEEN(1,MAX('SYSTEM FORMULAE'!$A$1:$A$1990))","v":966},{"$f":"IF(RIGHT(TEXT(VLOOKUP(T3,'SYSTEM FORMULAE'!$A$1:$Q$1990,3),\"# ##0.###\"),1)=\".\",LEFT(TEXT(VLOOKUP(T3,'SYSTEM FORMULAE'!$A$1:$Q$1990,3),\"# ##0.###\"),LEN(TEXT(VLOOKUP(T3,'SYSTEM FORMULAE'!$A$1:$Q$1990,3),\"# ##0.###\"))-1),TEXT(VLOOKUP(T3,'SYSTEM FORMULAE'!$A$1:$Q$1990,3),\"# ##0.###\"))","v":" 19"},{"$f":"VLOOKUP(T3,'SYSTEM FORMULAE'!$A$1:$Q$1990,4)","v":"litres"},"±",{"$f":"IF(RIGHT(TEXT(VLOOKUP(T3,'SYSTEM FORMULAE'!$A$1:$Q$1990,6),\"# ##0.###\"),1)=\".\",LEFT(TEXT(VLOOKUP(T3,'SYSTEM FORMULAE'!$A$1:$Q$1990,6),\"# ##0.###\"),LEN(TEXT(VLOOKUP(T3,'SYSTEM FORMULAE'!$A$1:$Q$1990,6),\"# ##0.###\"))-1),TEXT(VLOOKUP(T3,'SYSTEM FORMULAE'!$A$1:$Q$1990,6),\"# ##0.###\"))","v":" 10"},{"$f":"VLOOKUP(T3,'SYSTEM FORMULAE'!$A$1:$Q$1990,7)","v":"%"},"Minimum =",{"$f":"CONCATENATE(IF(VLOOKUP(T3,'SYSTEM FORMULAE'!$A$1:$Q$1990,10)<>0,CONCATENATE(IF(RIGHT(TEXT(VLOOKUP(T3,'SYSTEM FORMULAE'!$A$1:$Q$1990,10),\"# ##0.###\"),1)=\".\",LEFT(TEXT(VLOOKUP(T3,'SYSTEM FORMULAE'!$A$1:$Q$1990,10),\"# ##0.###\"),LEN(TEXT(VLOOKUP(T3,'SYSTEM FORMULAE'!$A$1:$Q$1990,10),\"# ##0.###\"))-1),TEXT(VLOOKUP(T3,'SYSTEM FORMULAE'!$A$1:$Q$1990,10),\"# ##0.###\")),IF(RIGHT(TEXT(VLOOKUP(T3,'SYSTEM FORMULAE'!$A$1:$Q$1990,11),\"# ##0.###\"),1)=\".\",LEFT(TEXT(VLOOKUP(T3,'SYSTEM FORMULAE'!$A$1:$Q$1990,11),\"# ##0.###\"),LEN(TEXT(VLOOKUP(T3,'SYSTEM FORMULAE'!$A$1:$Q$1990,11),\"# ##0.###\"))-1),TEXT(VLOOKUP(T3,'SYSTEM FORMULAE'!$A$1:$Q$1990,11),\"# ##0.###\")),\" or \"),\"\"),IF(RIGHT(TEXT(VLOOKUP(T3,'SYSTEM FORMULAE'!$A$1:$Q$1990,12),\"# ##0.###\"),1)=\".\",LEFT(TEXT(VLOOKUP(T3,'SYSTEM FORMULAE'!$A$1:$Q$1990,12),\"# ##0.###\"),LEN(TEXT(VLOOKUP(T3,'SYSTEM FORMULAE'!$A$1:$Q$1990,12),\"# ##0.###\"))-1),TEXT(VLOOKUP(T3,'SYSTEM FORMULAE'!$A$1:$Q$1990,12),\"# ##0.###\")),IF(RIGHT(TEXT(VLOOKUP(T3,'SYSTEM FORMULAE'!$A$1:$Q$1990,13),\"# ##0.###\"),1)=\".\",LEFT(TEXT(VLOOKUP(T3,'SYSTEM FORMULAE'!$A$1:$Q$1990,13),\"# ##0.###\"),LEN(TEXT(VLOOKUP(T3,'SYSTEM FORMULAE'!$A$1:$Q$1990,13),\"# ##0.###\"))-1),TEXT(VLOOKUP(T3,'SYSTEM FORMULAE'!$A$1:$Q$1990,13),\"# ##0.###\")))","v":" 17.1 litres or 17 100cm³"},"Maximum = ",{"$f":"CONCATENATE(IF(VLOOKUP(T3,'SYSTEM FORMULAE'!$A$1:$Q$1990,10)<>0,CONCATENATE(IF(RIGHT(TEXT(VLOOKUP(T3,'SYSTEM FORMULAE'!$A$1:$Q$1990,14),\"# ##0.###\"),1)=\".\",LEFT(TEXT(VLOOKUP(T3,'SYSTEM FORMULAE'!$A$1:$Q$1990,14),\"# ##0.###\"),LEN(TEXT(VLOOKUP(T3,'SYSTEM FORMULAE'!$A$1:$Q$1990,14),\"# ##0.###\"))-1),TEXT(VLOOKUP(T3,'SYSTEM FORMULAE'!$A$1:$Q$1990,14),\"# ##0.###\")),IF(RIGHT(TEXT(VLOOKUP(T3,'SYSTEM FORMULAE'!$A$1:$Q$1990,15),\"# ##0.###\"),1)=\".\",LEFT(TEXT(VLOOKUP(T3,'SYSTEM FORMULAE'!$A$1:$Q$1990,15),\"# ##0.###\"),LEN(TEXT(VLOOKUP(T3,'SYSTEM FORMULAE'!$A$1:$Q$1990,15),\"# ##0.###\"))-1),TEXT(VLOOKUP(T3,'SYSTEM FORMULAE'!$A$1:$Q$1990,15),\"# ##0.###\")),\" or \"),\"\"),IF(RIGHT(TEXT(VLOOKUP(T3,'SYSTEM FORMULAE'!$A$1:$Q$1990,16),\"# ##0.###\"),1)=\".\",LEFT(TEXT(VLOOKUP(T3,'SYSTEM FORMULAE'!$A$1:$Q$1990,16),\"# ##0.###\"),LEN(TEXT(VLOOKUP(T3,'SYSTEM FORMULAE'!$A$1:$Q$1990,16),\"# ##0.###\"))-1),TEXT(VLOOKUP(T3,'SYSTEM FORMULAE'!$A$1:$Q$1990,16),\"# ##0.###\")),IF(RIGHT(TEXT(VLOOKUP(T3,'SYSTEM FORMULAE'!$A$1:$Q$1990,17),\"# ##0.###\"),1)=\".\",LEFT(TEXT(VLOOKUP(T3,'SYSTEM FORMULAE'!$A$1:$Q$1990,17),\"# ##0.###\"),LEN(TEXT(VLOOKUP(T3,'SYSTEM FORMULAE'!$A$1:$Q$1990,17),\"# ##0.###\"))-1),TEXT(VLOOKUP(T3,'SYSTEM FORMULAE'!$A$1:$Q$1990,17),\"# ##0.###\")))","v":" 20.9  litres or 20 900cm³"}]
[{"$f":"IF(COUNTIF($B$1:B4,TRUE)=COUNTIF($B$1:B3,TRUE),\"\",COUNTIF($B$1:B4,TRUE))","v":""},{"$f":"Worksheet!$B$14","v":false},{"$f":"RANDBETWEEN(5,RANDBETWEEN(5,Worksheet!$D$6))","v":52},"m","±",{"$f":"IF(I4=1,H4*10^RANDBETWEEN(IF(Worksheet!$D$9,-1,0),0),IF(I4=2,H4*10^RANDBETWEEN(RANDBETWEEN(0,2),2),CHOOSE(RANDBETWEEN(1,3),5,10,20)))","v":1},{"$f":"IF(I4=1,D4,IF(I4=3,\"%\",\"mm\"))","v":"m"},1,{"$f":"IF(AND(Worksheet!$D$8,RAND()<0.2),3,IF(RAND()<Worksheet!$D$7/100,1,2))","v":1},{"$f":"IF(I4=1,C4-F4,IF(I4=2,C4-F4/1000,IF(I4=3,(1-F4/100)*C4,\"\")))","v":51}," m",{"$f":"J4*1000","v":51000},"mm",{"$f":"IF(I4=1,C4+F4,IF(I4=2,C4+F4/1000,IF(I4=3,(1+F4/100)*C4,\"\")))","v":53},"  m",{"$f":"N4*1000","v":53000},"mm",null,{"$f":"IF(ROW()<=Worksheet!$D$4,ROW(),\"\")","v":4},{"$f":"RANDBETWEEN(1,MAX('SYSTEM FORMULAE'!$A$1:$A$1990))","v":154},{"$f":"IF(RIGHT(TEXT(VLOOKUP(T4,'SYSTEM FORMULAE'!$A$1:$Q$1990,3),\"# ##0.###\"),1)=\".\",LEFT(TEXT(VLOOKUP(T4,'SYSTEM FORMULAE'!$A$1:$Q$1990,3),\"# ##0.###\"),LEN(TEXT(VLOOKUP(T4,'SYSTEM FORMULAE'!$A$1:$Q$1990,3),\"# ##0.###\"))-1),TEXT(VLOOKUP(T4,'SYSTEM FORMULAE'!$A$1:$Q$1990,3),\"# ##0.###\"))","v":" 10"},{"$f":"VLOOKUP(T4,'SYSTEM FORMULAE'!$A$1:$Q$1990,4)","v":"hours"},"±",{"$f":"IF(RIGHT(TEXT(VLOOKUP(T4,'SYSTEM FORMULAE'!$A$1:$Q$1990,6),\"# ##0.###\"),1)=\".\",LEFT(TEXT(VLOOKUP(T4,'SYSTEM FORMULAE'!$A$1:$Q$1990,6),\"# ##0.###\"),LEN(TEXT(VLOOKUP(T4,'SYSTEM FORMULAE'!$A$1:$Q$1990,6),\"# ##0.###\"))-1),TEXT(VLOOKUP(T4,'SYSTEM FORMULAE'!$A$1:$Q$1990,6),\"# ##0.###\"))","v":" 0.8"},{"$f":"VLOOKUP(T4,'SYSTEM FORMULAE'!$A$1:$Q$1990,7)","v":"hours"},"Minimum =",{"$f":"CONCATENATE(IF(VLOOKUP(T4,'SYSTEM FORMULAE'!$A$1:$Q$1990,10)<>0,CONCATENATE(IF(RIGHT(TEXT(VLOOKUP(T4,'SYSTEM FORMULAE'!$A$1:$Q$1990,10),\"# ##0.###\"),1)=\".\",LEFT(TEXT(VLOOKUP(T4,'SYSTEM FORMULAE'!$A$1:$Q$1990,10),\"# ##0.###\"),LEN(TEXT(VLOOKUP(T4,'SYSTEM FORMULAE'!$A$1:$Q$1990,10),\"# ##0.###\"))-1),TEXT(VLOOKUP(T4,'SYSTEM FORMULAE'!$A$1:$Q$1990,10),\"# ##0.###\")),IF(RIGHT(TEXT(VLOOKUP(T4,'SYSTEM FORMULAE'!$A$1:$Q$1990,11),\"# ##0.###\"),1)=\".\",LEFT(TEXT(VLOOKUP(T4,'SYSTEM FORMULAE'!$A$1:$Q$1990,11),\"# ##0.###\"),LEN(TEXT(VLOOKUP(T4,'SYSTEM FORMULAE'!$A$1:$Q$1990,11),\"# ##0.###\"))-1),TEXT(VLOOKUP(T4,'SYSTEM FORMULAE'!$A$1:$Q$1990,11),\"# ##0.###\")),\" or \"),\"\"),IF(RIGHT(TEXT(VLOOKUP(T4,'SYSTEM FORMULAE'!$A$1:$Q$1990,12),\"# ##0.###\"),1)=\".\",LEFT(TEXT(VLOOKUP(T4,'SYSTEM FORMULAE'!$A$1:$Q$1990,12),\"# ##0.###\"),LEN(TEXT(VLOOKUP(T4,'SYSTEM FORMULAE'!$A$1:$Q$1990,12),\"# ##0.###\"))-1),TEXT(VLOOKUP(T4,'SYSTEM FORMULAE'!$A$1:$Q$1990,12),\"# ##0.###\")),IF(RIGHT(TEXT(VLOOKUP(T4,'SYSTEM FORMULAE'!$A$1:$Q$1990,13),\"# ##0.###\"),1)=\".\",LEFT(TEXT(VLOOKUP(T4,'SYSTEM FORMULAE'!$A$1:$Q$1990,13),\"# ##0.###\"),LEN(TEXT(VLOOKUP(T4,'SYSTEM FORMULAE'!$A$1:$Q$1990,13),\"# ##0.###\"))-1),TEXT(VLOOKUP(T4,'SYSTEM FORMULAE'!$A$1:$Q$1990,13),\"# ##0.###\")))","v":" 9.2 hours"},"Maximum = ",{"$f":"CONCATENATE(IF(VLOOKUP(T4,'SYSTEM FORMULAE'!$A$1:$Q$1990,10)<>0,CONCATENATE(IF(RIGHT(TEXT(VLOOKUP(T4,'SYSTEM FORMULAE'!$A$1:$Q$1990,14),\"# ##0.###\"),1)=\".\",LEFT(TEXT(VLOOKUP(T4,'SYSTEM FORMULAE'!$A$1:$Q$1990,14),\"# ##0.###\"),LEN(TEXT(VLOOKUP(T4,'SYSTEM FORMULAE'!$A$1:$Q$1990,14),\"# ##0.###\"))-1),TEXT(VLOOKUP(T4,'SYSTEM FORMULAE'!$A$1:$Q$1990,14),\"# ##0.###\")),IF(RIGHT(TEXT(VLOOKUP(T4,'SYSTEM FORMULAE'!$A$1:$Q$1990,15),\"# ##0.###\"),1)=\".\",LEFT(TEXT(VLOOKUP(T4,'SYSTEM FORMULAE'!$A$1:$Q$1990,15),\"# ##0.###\"),LEN(TEXT(VLOOKUP(T4,'SYSTEM FORMULAE'!$A$1:$Q$1990,15),\"# ##0.###\"))-1),TEXT(VLOOKUP(T4,'SYSTEM FORMULAE'!$A$1:$Q$1990,15),\"# ##0.###\")),\" or \"),\"\"),IF(RIGHT(TEXT(VLOOKUP(T4,'SYSTEM FORMULAE'!$A$1:$Q$1990,16),\"# ##0.###\"),1)=\".\",LEFT(TEXT(VLOOKUP(T4,'SYSTEM FORMULAE'!$A$1:$Q$1990,16),\"# ##0.###\"),LEN(TEXT(VLOOKUP(T4,'SYSTEM FORMULAE'!$A$1:$Q$1990,16),\"# ##0.###\"))-1),TEXT(VLOOKUP(T4,'SYSTEM FORMULAE'!$A$1:$Q$1990,16),\"# ##0.###\")),IF(RIGHT(TEXT(VLOOKUP(T4,'SYSTEM FORMULAE'!$A$1:$Q$1990,17),\"# ##0.###\"),1)=\".\",LEFT(TEXT(VLOOKUP(T4,'SYSTEM FORMULAE'!$A$1:$Q$1990,17),\"# ##0.###\"),LEN(TEXT(VLOOKUP(T4,'SYSTEM FORMULAE'!$A$1:$Q$1990,17),\"# ##0.###\"))-1),TEXT(VLOOKUP(T4,'SYSTEM FORMULAE'!$A$1:$Q$1990,17),\"# ##0.###\")))","v":" 10.8 hours"}]
[{"$f":"IF(COUNTIF($B$1:B5,TRUE)=COUNTIF($B$1:B4,TRUE),\"\",COUNTIF($B$1:B5,TRUE))","v":4},{"$f":"Worksheet!$B$15","v":true},{"$f":"RANDBETWEEN(5,20)","v":17},"hours","±",{"$f":"IF(I5=1,H5*10^RANDBETWEEN(IF(Worksheet!$D$9,-1,0),0),IF(I5=2,H5,CHOOSE(RANDBETWEEN(1,3),5,10,20)))","v":9},{"$f":"IF(I5=1,D5,IF(I5=3,\"%\",\"min\"))","v":"hours"},9,{"$f":"IF(AND(Worksheet!$D$8,RAND()<0),3,IF(RAND()<Worksheet!$D$7/100,1,2))","v":1},null," hours",{"$f":"IF(I5=1,C5-F5,IF(I5=2,C5*60-F5,\"\"))","v":8},{"$f":"IF($I5=1,\" hours\",\" min\")","v":" hours"},null,"  hours",{"$f":"IF(I5=1,C5+F5,IF(I5=2,C5*60+F5,\"\"))","v":26},{"$f":"IF($I5=1,\" hours\",\" min\")","v":" hours"},null,{"$f":"IF(ROW()<=Worksheet!$D$4,ROW(),\"\")","v":5},{"$f":"RANDBETWEEN(1,MAX('SYSTEM FORMULAE'!$A$1:$A$1990))","v":752},{"$f":"IF(RIGHT(TEXT(VLOOKUP(T5,'SYSTEM FORMULAE'!$A$1:$Q$1990,3),\"# ##0.###\"),1)=\".\",LEFT(TEXT(VLOOKUP(T5,'SYSTEM FORMULAE'!$A$1:$Q$1990,3),\"# ##0.###\"),LEN(TEXT(VLOOKUP(T5,'SYSTEM FORMULAE'!$A$1:$Q$1990,3),\"# ##0.###\"))-1),TEXT(VLOOKUP(T5,'SYSTEM FORMULAE'!$A$1:$Q$1990,3),\"# ##0.###\"))","v":" 202"},{"$f":"VLOOKUP(T5,'SYSTEM FORMULAE'!$A$1:$Q$1990,4)","v":"m"},"±",{"$f":"IF(RIGHT(TEXT(VLOOKUP(T5,'SYSTEM FORMULAE'!$A$1:$Q$1990,6),\"# ##0.###\"),1)=\".\",LEFT(TEXT(VLOOKUP(T5,'SYSTEM FORMULAE'!$A$1:$Q$1990,6),\"# ##0.###\"),LEN(TEXT(VLOOKUP(T5,'SYSTEM FORMULAE'!$A$1:$Q$1990,6),\"# ##0.###\"))-1),TEXT(VLOOKUP(T5,'SYSTEM FORMULAE'!$A$1:$Q$1990,6),\"# ##0.###\"))","v":" 0.6"},{"$f":"VLOOKUP(T5,'SYSTEM FORMULAE'!$A$1:$Q$1990,7)","v":"m"},"Minimum =",{"$f":"CONCATENATE(IF(VLOOKUP(T5,'SYSTEM FORMULAE'!$A$1:$Q$1990,10)<>0,CONCATENATE(IF(RIGHT(TEXT(VLOOKUP(T5,'SYSTEM FORMULAE'!$A$1:$Q$1990,10),\"# ##0.###\"),1)=\".\",LEFT(TEXT(VLOOKUP(T5,'SYSTEM FORMULAE'!$A$1:$Q$1990,10),\"# ##0.###\"),LEN(TEXT(VLOOKUP(T5,'SYSTEM FORMULAE'!$A$1:$Q$1990,10),\"# ##0.###\"))-1),TEXT(VLOOKUP(T5,'SYSTEM FORMULAE'!$A$1:$Q$1990,10),\"# ##0.###\")),IF(RIGHT(TEXT(VLOOKUP(T5,'SYSTEM FORMULAE'!$A$1:$Q$1990,11),\"# ##0.###\"),1)=\".\",LEFT(TEXT(VLOOKUP(T5,'SYSTEM FORMULAE'!$A$1:$Q$1990,11),\"# ##0.###\"),LEN(TEXT(VLOOKUP(T5,'SYSTEM FORMULAE'!$A$1:$Q$1990,11),\"# ##0.###\"))-1),TEXT(VLOOKUP(T5,'SYSTEM FORMULAE'!$A$1:$Q$1990,11),\"# ##0.###\")),\" or \"),\"\"),IF(RIGHT(TEXT(VLOOKUP(T5,'SYSTEM FORMULAE'!$A$1:$Q$1990,12),\"# ##0.###\"),1)=\".\",LEFT(TEXT(VLOOKUP(T5,'SYSTEM FORMULAE'!$A$1:$Q$1990,12),\"# ##0.###\"),LEN(TEXT(VLOOKUP(T5,'SYSTEM FORMULAE'!$A$1:$Q$1990,12),\"# ##0.###\"))-1),TEXT(VLOOKUP(T5,'SYSTEM FORMULAE'!$A$1:$Q$1990,12),\"# ##0.###\")),IF(RIGHT(TEXT(VLOOKUP(T5,'SYSTEM FORMULAE'!$A$1:$Q$1990,13),\"# ##0.###\"),1)=\".\",LEFT(TEXT(VLOOKUP(T5,'SYSTEM FORMULAE'!$A$1:$Q$1990,13),\"# ##0.###\"),LEN(TEXT(VLOOKUP(T5,'SYSTEM FORMULAE'!$A$1:$Q$1990,13),\"# ##0.###\"))-1),TEXT(VLOOKUP(T5,'SYSTEM FORMULAE'!$A$1:$Q$1990,13),\"# ##0.###\")))","v":" 201.4 m or 20 140cm"},"Maximum = ",{"$f":"CONCATENATE(IF(VLOOKUP(T5,'SYSTEM FORMULAE'!$A$1:$Q$1990,10)<>0,CONCATENATE(IF(RIGHT(TEXT(VLOOKUP(T5,'SYSTEM FORMULAE'!$A$1:$Q$1990,14),\"# ##0.###\"),1)=\".\",LEFT(TEXT(VLOOKUP(T5,'SYSTEM FORMULAE'!$A$1:$Q$1990,14),\"# ##0.###\"),LEN(TEXT(VLOOKUP(T5,'SYSTEM FORMULAE'!$A$1:$Q$1990,14),\"# ##0.###\"))-1),TEXT(VLOOKUP(T5,'SYSTEM FORMULAE'!$A$1:$Q$1990,14),\"# ##0.###\")),IF(RIGHT(TEXT(VLOOKUP(T5,'SYSTEM FORMULAE'!$A$1:$Q$1990,15),\"# ##0.###\"),1)=\".\",LEFT(TEXT(VLOOKUP(T5,'SYSTEM FORMULAE'!$A$1:$Q$1990,15),\"# ##0.###\"),LEN(TEXT(VLOOKUP(T5,'SYSTEM FORMULAE'!$A$1:$Q$1990,15),\"# ##0.###\"))-1),TEXT(VLOOKUP(T5,'SYSTEM FORMULAE'!$A$1:$Q$1990,15),\"# ##0.###\")),\" or \"),\"\"),IF(RIGHT(TEXT(VLOOKUP(T5,'SYSTEM FORMULAE'!$A$1:$Q$1990,16),\"# ##0.###\"),1)=\".\",LEFT(TEXT(VLOOKUP(T5,'SYSTEM FORMULAE'!$A$1:$Q$1990,16),\"# ##0.###\"),LEN(TEXT(VLOOKUP(T5,'SYSTEM FORMULAE'!$A$1:$Q$1990,16),\"# ##0.###\"))-1),TEXT(VLOOKUP(T5,'SYSTEM FORMULAE'!$A$1:$Q$1990,16),\"# ##0.###\")),IF(RIGHT(TEXT(VLOOKUP(T5,'SYSTEM FORMULAE'!$A$1:$Q$1990,17),\"# ##0.###\"),1)=\".\",LEFT(TEXT(VLOOKUP(T5,'SYSTEM FORMULAE'!$A$1:$Q$1990,17),\"# ##0.###\"),LEN(TEXT(VLOOKUP(T5,'SYSTEM FORMULAE'!$A$1:$Q$1990,17),\"# ##0.###\"))-1),TEXT(VLOOKUP(T5,'SYSTEM FORMULAE'!$A$1:$Q$1990,17),\"# ##0.###\")))","v":" 202.6  m or 20 260cm"}]
[{"$f":"IF(COUNTIF($B$1:B6,TRUE)=COUNTIF($B$1:B5,TRUE),\"\",COUNTIF($B$1:B6,TRUE))","v":5},{"$f":"Worksheet!$D$11","v":true},{"$f":"RANDBETWEEN(5,RANDBETWEEN(5,Worksheet!$D$6))","v":122},"kg","±",{"$f":"IF(I6=1,H6*10^RANDBETWEEN(IF(Worksheet!$D$9,-1,0),0),IF(I6=2,H6*10^RANDBETWEEN(RANDBETWEEN(0,2),2),CHOOSE(RANDBETWEEN(1,3),5,10,20)))","v":9},{"$f":"IF(I6=1,D6,IF(I6=3,\"%\",\"g\"))","v":"kg"},9,{"$f":"IF(AND(Worksheet!$D$8,RAND()<0.2),3,IF(RAND()<Worksheet!$D$7/100,1,2))","v":1},{"$f":"IF(I6=1,C6-F6,IF(I6=2,C6-F6/1000,IF(I6=3,(1-F6/100)*C6,\"\")))","v":113}," kg",{"$f":"J6*1000","v":113000},"g",{"$f":"IF(I6=1,C6+F6,IF(I6=2,C6+F6/1000,IF(I6=3,(1+F6/100)*C6,\"\")))","v":131},"  kg",{"$f":"N6*1000","v":131000},"g",null,{"$f":"IF(ROW()<=Worksheet!$D$4,ROW(),\"\")","v":6},{"$f":"RANDBETWEEN(1,MAX('SYSTEM FORMULAE'!$A$1:$A$1990))","v":579},{"$f":"IF(RIGHT(TEXT(VLOOKUP(T6,'SYSTEM FORMULAE'!$A$1:$Q$1990,3),\"# ##0.###\"),1)=\".\",LEFT(TEXT(VLOOKUP(T6,'SYSTEM FORMULAE'!$A$1:$Q$1990,3),\"# ##0.###\"),LEN(TEXT(VLOOKUP(T6,'SYSTEM FORMULAE'!$A$1:$Q$1990,3),\"# ##0.###\"))-1),TEXT(VLOOKUP(T6,'SYSTEM FORMULAE'!$A$1:$Q$1990,3),\"# ##0.###\"))","v":" 147"},{"$f":"VLOOKUP(T6,'SYSTEM FORMULAE'!$A$1:$Q$1990,4)","v":"kg"},"±",{"$f":"IF(RIGHT(TEXT(VLOOKUP(T6,'SYSTEM FORMULAE'!$A$1:$Q$1990,6),\"# ##0.###\"),1)=\".\",LEFT(TEXT(VLOOKUP(T6,'SYSTEM FORMULAE'!$A$1:$Q$1990,6),\"# ##0.###\"),LEN(TEXT(VLOOKUP(T6,'SYSTEM FORMULAE'!$A$1:$Q$1990,6),\"# ##0.###\"))-1),TEXT(VLOOKUP(T6,'SYSTEM FORMULAE'!$A$1:$Q$1990,6),\"# ##0.###\"))","v":" 9"},{"$f":"VLOOKUP(T6,'SYSTEM FORMULAE'!$A$1:$Q$1990,7)","v":"kg"},"Minimum =",{"$f":"CONCATENATE(IF(VLOOKUP(T6,'SYSTEM FORMULAE'!$A$1:$Q$1990,10)<>0,CONCATENATE(IF(RIGHT(TEXT(VLOOKUP(T6,'SYSTEM FORMULAE'!$A$1:$Q$1990,10),\"# ##0.###\"),1)=\".\",LEFT(TEXT(VLOOKUP(T6,'SYSTEM FORMULAE'!$A$1:$Q$1990,10),\"# ##0.###\"),LEN(TEXT(VLOOKUP(T6,'SYSTEM FORMULAE'!$A$1:$Q$1990,10),\"# ##0.###\"))-1),TEXT(VLOOKUP(T6,'SYSTEM FORMULAE'!$A$1:$Q$1990,10),\"# ##0.###\")),IF(RIGHT(TEXT(VLOOKUP(T6,'SYSTEM FORMULAE'!$A$1:$Q$1990,11),\"# ##0.###\"),1)=\".\",LEFT(TEXT(VLOOKUP(T6,'SYSTEM FORMULAE'!$A$1:$Q$1990,11),\"# ##0.###\"),LEN(TEXT(VLOOKUP(T6,'SYSTEM FORMULAE'!$A$1:$Q$1990,11),\"# ##0.###\"))-1),TEXT(VLOOKUP(T6,'SYSTEM FORMULAE'!$A$1:$Q$1990,11),\"# ##0.###\")),\" or \"),\"\"),IF(RIGHT(TEXT(VLOOKUP(T6,'SYSTEM FORMULAE'!$A$1:$Q$1990,12),\"# ##0.###\"),1)=\".\",LEFT(TEXT(VLOOKUP(T6,'SYSTEM FORMULAE'!$A$1:$Q$1990,12),\"# ##0.###\"),LEN(TEXT(VLOOKUP(T6,'SYSTEM FORMULAE'!$A$1:$Q$1990,12),\"# ##0.###\"))-1),TEXT(VLOOKUP(T6,'SYSTEM FORMULAE'!$A$1:$Q$1990,12),\"# ##0.###\")),IF(RIGHT(TEXT(VLOOKUP(T6,'SYSTEM FORMULAE'!$A$1:$Q$1990,13),\"# ##0.###\"),1)=\".\",LEFT(TEXT(VLOOKUP(T6,'SYSTEM FORMULAE'!$A$1:$Q$1990,13),\"# ##0.###\"),LEN(TEXT(VLOOKUP(T6,'SYSTEM FORMULAE'!$A$1:$Q$1990,13),\"# ##0.###\"))-1),TEXT(VLOOKUP(T6,'SYSTEM FORMULAE'!$A$1:$Q$1990,13),\"# ##0.###\")))","v":" 138 kg or 138 000g"},"Maximum = ",{"$f":"CONCATENATE(IF(VLOOKUP(T6,'SYSTEM FORMULAE'!$A$1:$Q$1990,10)<>0,CONCATENATE(IF(RIGHT(TEXT(VLOOKUP(T6,'SYSTEM FORMULAE'!$A$1:$Q$1990,14),\"# ##0.###\"),1)=\".\",LEFT(TEXT(VLOOKUP(T6,'SYSTEM FORMULAE'!$A$1:$Q$1990,14),\"# ##0.###\"),LEN(TEXT(VLOOKUP(T6,'SYSTEM FORMULAE'!$A$1:$Q$1990,14),\"# ##0.###\"))-1),TEXT(VLOOKUP(T6,'SYSTEM FORMULAE'!$A$1:$Q$1990,14),\"# ##0.###\")),IF(RIGHT(TEXT(VLOOKUP(T6,'SYSTEM FORMULAE'!$A$1:$Q$1990,15),\"# ##0.###\"),1)=\".\",LEFT(TEXT(VLOOKUP(T6,'SYSTEM FORMULAE'!$A$1:$Q$1990,15),\"# ##0.###\"),LEN(TEXT(VLOOKUP(T6,'SYSTEM FORMULAE'!$A$1:$Q$1990,15),\"# ##0.###\"))-1),TEXT(VLOOKUP(T6,'SYSTEM FORMULAE'!$A$1:$Q$1990,15),\"# ##0.###\")),\" or \"),\"\"),IF(RIGHT(TEXT(VLOOKUP(T6,'SYSTEM FORMULAE'!$A$1:$Q$1990,16),\"# ##0.###\"),1)=\".\",LEFT(TEXT(VLOOKUP(T6,'SYSTEM FORMULAE'!$A$1:$Q$1990,16),\"# ##0.###\"),LEN(TEXT(VLOOKUP(T6,'SYSTEM FORMULAE'!$A$1:$Q$1990,16),\"# ##0.###\"))-1),TEXT(VLOOKUP(T6,'SYSTEM FORMULAE'!$A$1:$Q$1990,16),\"# ##0.###\")),IF(RIGHT(TEXT(VLOOKUP(T6,'SYSTEM FORMULAE'!$A$1:$Q$1990,17),\"# ##0.###\"),1)=\".\",LEFT(TEXT(VLOOKUP(T6,'SYSTEM FORMULAE'!$A$1:$Q$1990,17),\"# ##0.###\"),LEN(TEXT(VLOOKUP(T6,'SYSTEM FORMULAE'!$A$1:$Q$1990,17),\"# ##0.###\"))-1),TEXT(VLOOKUP(T6,'SYSTEM FORMULAE'!$A$1:$Q$1990,17),\"# ##0.###\")))","v":" 156  kg or 156 000g"}]
[{"$f":"IF(COUNTIF($B$1:B7,TRUE)=COUNTIF($B$1:B6,TRUE),\"\",COUNTIF($B$1:B7,TRUE))","v":6},{"$f":"Worksheet!$D$12","v":true},{"$f":"RANDBETWEEN(5,RANDBETWEEN(5,Worksheet!$D$6))","v":243},"tonnes","±",{"$f":"IF(I7=1,H7*10^RANDBETWEEN(IF(Worksheet!$D$9,-1,0),0),IF(I7=2,H7*10^RANDBETWEEN(RANDBETWEEN(0,2),2),CHOOSE(RANDBETWEEN(1,3),5,10,20)))","v":5},{"$f":"IF(I7=1,D7,IF(I7=3,\"%\",\"kg\"))","v":"tonnes"},5,{"$f":"IF(AND(Worksheet!$D$8,RAND()<0.2),3,IF(RAND()<Worksheet!$D$7/100,1,2))","v":1},{"$f":"IF(I7=1,C7-F7,IF(I7=2,C7-F7/1000,IF(I7=3,(1-F7/100)*C7,\"\")))","v":238}," tonnes",{"$f":"J7*1000","v":238000},"kg",{"$f":"IF(I7=1,C7+F7,IF(I7=2,C7+F7/1000,IF(I7=3,(1+F7/100)*C7,\"\")))","v":248},"  tonnes",{"$f":"N7*1000","v":248000},"kg",null,{"$f":"IF(ROW()<=Worksheet!$D$4,ROW(),\"\")","v":7},{"$f":"RANDBETWEEN(1,MAX('SYSTEM FORMULAE'!$A$1:$A$1990))","v":1282},{"$f":"IF(RIGHT(TEXT(VLOOKUP(T7,'SYSTEM FORMULAE'!$A$1:$Q$1990,3),\"# ##0.###\"),1)=\".\",LEFT(TEXT(VLOOKUP(T7,'SYSTEM FORMULAE'!$A$1:$Q$1990,3),\"# ##0.###\"),LEN(TEXT(VLOOKUP(T7,'SYSTEM FORMULAE'!$A$1:$Q$1990,3),\"# ##0.###\"))-1),TEXT(VLOOKUP(T7,'SYSTEM FORMULAE'!$A$1:$Q$1990,3),\"# ##0.###\"))","v":" 7"},{"$f":"VLOOKUP(T7,'SYSTEM FORMULAE'!$A$1:$Q$1990,4)","v":"hours"},"±",{"$f":"IF(RIGHT(TEXT(VLOOKUP(T7,'SYSTEM FORMULAE'!$A$1:$Q$1990,6),\"# ##0.###\"),1)=\".\",LEFT(TEXT(VLOOKUP(T7,'SYSTEM FORMULAE'!$A$1:$Q$1990,6),\"# ##0.###\"),LEN(TEXT(VLOOKUP(T7,'SYSTEM FORMULAE'!$A$1:$Q$1990,6),\"# ##0.###\"))-1),TEXT(VLOOKUP(T7,'SYSTEM FORMULAE'!$A$1:$Q$1990,6),\"# ##0.###\"))","v":" 0.1"},{"$f":"VLOOKUP(T7,'SYSTEM FORMULAE'!$A$1:$Q$1990,7)","v":"hours"},"Minimum =",{"$f":"CONCATENATE(IF(VLOOKUP(T7,'SYSTEM FORMULAE'!$A$1:$Q$1990,10)<>0,CONCATENATE(IF(RIGHT(TEXT(VLOOKUP(T7,'SYSTEM FORMULAE'!$A$1:$Q$1990,10),\"# ##0.###\"),1)=\".\",LEFT(TEXT(VLOOKUP(T7,'SYSTEM FORMULAE'!$A$1:$Q$1990,10),\"# ##0.###\"),LEN(TEXT(VLOOKUP(T7,'SYSTEM FORMULAE'!$A$1:$Q$1990,10),\"# ##0.###\"))-1),TEXT(VLOOKUP(T7,'SYSTEM FORMULAE'!$A$1:$Q$1990,10),\"# ##0.###\")),IF(RIGHT(TEXT(VLOOKUP(T7,'SYSTEM FORMULAE'!$A$1:$Q$1990,11),\"# ##0.###\"),1)=\".\",LEFT(TEXT(VLOOKUP(T7,'SYSTEM FORMULAE'!$A$1:$Q$1990,11),\"# ##0.###\"),LEN(TEXT(VLOOKUP(T7,'SYSTEM FORMULAE'!$A$1:$Q$1990,11),\"# ##0.###\"))-1),TEXT(VLOOKUP(T7,'SYSTEM FORMULAE'!$A$1:$Q$1990,11),\"# ##0.###\")),\" or \"),\"\"),IF(RIGHT(TEXT(VLOOKUP(T7,'SYSTEM FORMULAE'!$A$1:$Q$1990,12),\"# ##0.###\"),1)=\".\",LEFT(TEXT(VLOOKUP(T7,'SYSTEM FORMULAE'!$A$1:$Q$1990,12),\"# ##0.###\"),LEN(TEXT(VLOOKUP(T7,'SYSTEM FORMULAE'!$A$1:$Q$1990,12),\"# ##0.###\"))-1),TEXT(VLOOKUP(T7,'SYSTEM FORMULAE'!$A$1:$Q$1990,12),\"# ##0.###\")),IF(RIGHT(TEXT(VLOOKUP(T7,'SYSTEM FORMULAE'!$A$1:$Q$1990,13),\"# ##0.###\"),1)=\".\",LEFT(TEXT(VLOOKUP(T7,'SYSTEM FORMULAE'!$A$1:$Q$1990,13),\"# ##0.###\"),LEN(TEXT(VLOOKUP(T7,'SYSTEM FORMULAE'!$A$1:$Q$1990,13),\"# ##0.###\"))-1),TEXT(VLOOKUP(T7,'SYSTEM FORMULAE'!$A$1:$Q$1990,13),\"# ##0.###\")))","v":" 6.9 hours"},"Maximum = ",{"$f":"CONCATENATE(IF(VLOOKUP(T7,'SYSTEM FORMULAE'!$A$1:$Q$1990,10)<>0,CONCATENATE(IF(RIGHT(TEXT(VLOOKUP(T7,'SYSTEM FORMULAE'!$A$1:$Q$1990,14),\"# ##0.###\"),1)=\".\",LEFT(TEXT(VLOOKUP(T7,'SYSTEM FORMULAE'!$A$1:$Q$1990,14),\"# ##0.###\"),LEN(TEXT(VLOOKUP(T7,'SYSTEM FORMULAE'!$A$1:$Q$1990,14),\"# ##0.###\"))-1),TEXT(VLOOKUP(T7,'SYSTEM FORMULAE'!$A$1:$Q$1990,14),\"# ##0.###\")),IF(RIGHT(TEXT(VLOOKUP(T7,'SYSTEM FORMULAE'!$A$1:$Q$1990,15),\"# ##0.###\"),1)=\".\",LEFT(TEXT(VLOOKUP(T7,'SYSTEM FORMULAE'!$A$1:$Q$1990,15),\"# ##0.###\"),LEN(TEXT(VLOOKUP(T7,'SYSTEM FORMULAE'!$A$1:$Q$1990,15),\"# ##0.###\"))-1),TEXT(VLOOKUP(T7,'SYSTEM FORMULAE'!$A$1:$Q$1990,15),\"# ##0.###\")),\" or \"),\"\"),IF(RIGHT(TEXT(VLOOKUP(T7,'SYSTEM FORMULAE'!$A$1:$Q$1990,16),\"# ##0.###\"),1)=\".\",LEFT(TEXT(VLOOKUP(T7,'SYSTEM FORMULAE'!$A$1:$Q$1990,16),\"# ##0.###\"),LEN(TEXT(VLOOKUP(T7,'SYSTEM FORMULAE'!$A$1:$Q$1990,16),\"# ##0.###\"))-1),TEXT(VLOOKUP(T7,'SYSTEM FORMULAE'!$A$1:$Q$1990,16),\"# ##0.###\")),IF(RIGHT(TEXT(VLOOKUP(T7,'SYSTEM FORMULAE'!$A$1:$Q$1990,17),\"# ##0.###\"),1)=\".\",LEFT(TEXT(VLOOKUP(T7,'SYSTEM FORMULAE'!$A$1:$Q$1990,17),\"# ##0.###\"),LEN(TEXT(VLOOKUP(T7,'SYSTEM FORMULAE'!$A$1:$Q$1990,17),\"# ##0.###\"))-1),TEXT(VLOOKUP(T7,'SYSTEM FORMULAE'!$A$1:$Q$1990,17),\"# ##0.###\")))","v":" 7.1 hours"}]
[{"$f":"IF(COUNTIF($B$1:B8,TRUE)=COUNTIF($B$1:B7,TRUE),\"\",COUNTIF($B$1:B8,TRUE))","v":7},{"$f":"Worksheet!$D$13","v":true},{"$f":"RANDBETWEEN(5,RANDBETWEEN(5,Worksheet!$D$6))","v":135},"litres","±",{"$f":"IF(I8=1,H8*10^RANDBETWEEN(IF(Worksheet!$D$9,-1,0),0),IF(I8=2,H8*10^RANDBETWEEN(RANDBETWEEN(0,2),2),CHOOSE(RANDBETWEEN(1,3),5,10,20)))","v":5},{"$f":"IF(I8=1,D8,IF(I8=3,\"%\",\"ml\"))","v":"%"},2,{"$f":"IF(AND(Worksheet!$D$8,RAND()<0.2),3,IF(RAND()<Worksheet!$D$7/100,1,2))","v":3},{"$f":"IF(I8=1,C8-F8,IF(I8=2,C8-F8/1000,IF(I8=3,(1-F8/100)*C8,\"\")))","v":128.25}," litres",{"$f":"J8*1000","v":128250},"ml",{"$f":"IF(I8=1,C8+F8,IF(I8=2,C8+F8/1000,IF(I8=3,(1+F8/100)*C8,\"\")))","v":141.75},"  litres",{"$f":"N8*1000","v":141750},"ml",null,{"$f":"IF(ROW()<=Worksheet!$D$4,ROW(),\"\")","v":8},{"$f":"RANDBETWEEN(1,MAX('SYSTEM FORMULAE'!$A$1:$A$1990))","v":216},{"$f":"IF(RIGHT(TEXT(VLOOKUP(T8,'SYSTEM FORMULAE'!$A$1:$Q$1990,3),\"# ##0.###\"),1)=\".\",LEFT(TEXT(VLOOKUP(T8,'SYSTEM FORMULAE'!$A$1:$Q$1990,3),\"# ##0.###\"),LEN(TEXT(VLOOKUP(T8,'SYSTEM FORMULAE'!$A$1:$Q$1990,3),\"# ##0.###\"))-1),TEXT(VLOOKUP(T8,'SYSTEM FORMULAE'!$A$1:$Q$1990,3),\"# ##0.###\"))","v":" 46"},{"$f":"VLOOKUP(T8,'SYSTEM FORMULAE'!$A$1:$Q$1990,4)","v":"m"},"±",{"$f":"IF(RIGHT(TEXT(VLOOKUP(T8,'SYSTEM FORMULAE'!$A$1:$Q$1990,6),\"# ##0.###\"),1)=\".\",LEFT(TEXT(VLOOKUP(T8,'SYSTEM FORMULAE'!$A$1:$Q$1990,6),\"# ##0.###\"),LEN(TEXT(VLOOKUP(T8,'SYSTEM FORMULAE'!$A$1:$Q$1990,6),\"# ##0.###\"))-1),TEXT(VLOOKUP(T8,'SYSTEM FORMULAE'!$A$1:$Q$1990,6),\"# ##0.###\"))","v":" 60"},{"$f":"VLOOKUP(T8,'SYSTEM FORMULAE'!$A$1:$Q$1990,7)","v":"cm"},"Minimum =",{"$f":"CONCATENATE(IF(VLOOKUP(T8,'SYSTEM FORMULAE'!$A$1:$Q$1990,10)<>0,CONCATENATE(IF(RIGHT(TEXT(VLOOKUP(T8,'SYSTEM FORMULAE'!$A$1:$Q$1990,10),\"# ##0.###\"),1)=\".\",LEFT(TEXT(VLOOKUP(T8,'SYSTEM FORMULAE'!$A$1:$Q$1990,10),\"# ##0.###\"),LEN(TEXT(VLOOKUP(T8,'SYSTEM FORMULAE'!$A$1:$Q$1990,10),\"# ##0.###\"))-1),TEXT(VLOOKUP(T8,'SYSTEM FORMULAE'!$A$1:$Q$1990,10),\"# ##0.###\")),IF(RIGHT(TEXT(VLOOKUP(T8,'SYSTEM FORMULAE'!$A$1:$Q$1990,11),\"# ##0.###\"),1)=\".\",LEFT(TEXT(VLOOKUP(T8,'SYSTEM FORMULAE'!$A$1:$Q$1990,11),\"# ##0.###\"),LEN(TEXT(VLOOKUP(T8,'SYSTEM FORMULAE'!$A$1:$Q$1990,11),\"# ##0.###\"))-1),TEXT(VLOOKUP(T8,'SYSTEM FORMULAE'!$A$1:$Q$1990,11),\"# ##0.###\")),\" or \"),\"\"),IF(RIGHT(TEXT(VLOOKUP(T8,'SYSTEM FORMULAE'!$A$1:$Q$1990,12),\"# ##0.###\"),1)=\".\",LEFT(TEXT(VLOOKUP(T8,'SYSTEM FORMULAE'!$A$1:$Q$1990,12),\"# ##0.###\"),LEN(TEXT(VLOOKUP(T8,'SYSTEM FORMULAE'!$A$1:$Q$1990,12),\"# ##0.###\"))-1),TEXT(VLOOKUP(T8,'SYSTEM FORMULAE'!$A$1:$Q$1990,12),\"# ##0.###\")),IF(RIGHT(TEXT(VLOOKUP(T8,'SYSTEM FORMULAE'!$A$1:$Q$1990,13),\"# ##0.###\"),1)=\".\",LEFT(TEXT(VLOOKUP(T8,'SYSTEM FORMULAE'!$A$1:$Q$1990,13),\"# ##0.###\"),LEN(TEXT(VLOOKUP(T8,'SYSTEM FORMULAE'!$A$1:$Q$1990,13),\"# ##0.###\"))-1),TEXT(VLOOKUP(T8,'SYSTEM FORMULAE'!$A$1:$Q$1990,13),\"# ##0.###\")))","v":" 45.4 m or 4 540cm"},"Maximum = ",{"$f":"CONCATENATE(IF(VLOOKUP(T8,'SYSTEM FORMULAE'!$A$1:$Q$1990,10)<>0,CONCATENATE(IF(RIGHT(TEXT(VLOOKUP(T8,'SYSTEM FORMULAE'!$A$1:$Q$1990,14),\"# ##0.###\"),1)=\".\",LEFT(TEXT(VLOOKUP(T8,'SYSTEM FORMULAE'!$A$1:$Q$1990,14),\"# ##0.###\"),LEN(TEXT(VLOOKUP(T8,'SYSTEM FORMULAE'!$A$1:$Q$1990,14),\"# ##0.###\"))-1),TEXT(VLOOKUP(T8,'SYSTEM FORMULAE'!$A$1:$Q$1990,14),\"# ##0.###\")),IF(RIGHT(TEXT(VLOOKUP(T8,'SYSTEM FORMULAE'!$A$1:$Q$1990,15),\"# ##0.###\"),1)=\".\",LEFT(TEXT(VLOOKUP(T8,'SYSTEM FORMULAE'!$A$1:$Q$1990,15),\"# ##0.###\"),LEN(TEXT(VLOOKUP(T8,'SYSTEM FORMULAE'!$A$1:$Q$1990,15),\"# ##0.###\"))-1),TEXT(VLOOKUP(T8,'SYSTEM FORMULAE'!$A$1:$Q$1990,15),\"# ##0.###\")),\" or \"),\"\"),IF(RIGHT(TEXT(VLOOKUP(T8,'SYSTEM FORMULAE'!$A$1:$Q$1990,16),\"# ##0.###\"),1)=\".\",LEFT(TEXT(VLOOKUP(T8,'SYSTEM FORMULAE'!$A$1:$Q$1990,16),\"# ##0.###\"),LEN(TEXT(VLOOKUP(T8,'SYSTEM FORMULAE'!$A$1:$Q$1990,16),\"# ##0.###\"))-1),TEXT(VLOOKUP(T8,'SYSTEM FORMULAE'!$A$1:$Q$1990,16),\"# ##0.###\")),IF(RIGHT(TEXT(VLOOKUP(T8,'SYSTEM FORMULAE'!$A$1:$Q$1990,17),\"# ##0.###\"),1)=\".\",LEFT(TEXT(VLOOKUP(T8,'SYSTEM FORMULAE'!$A$1:$Q$1990,17),\"# ##0.###\"),LEN(TEXT(VLOOKUP(T8,'SYSTEM FORMULAE'!$A$1:$Q$1990,17),\"# ##0.###\"))-1),TEXT(VLOOKUP(T8,'SYSTEM FORMULAE'!$A$1:$Q$1990,17),\"# ##0.###\")))","v":" 46.6  m or 4 660cm"}]
[{"$f":"IF(COUNTIF($B$1:B9,TRUE)=COUNTIF($B$1:B8,TRUE),\"\",COUNTIF($B$1:B9,TRUE))","v":8},{"$f":"Worksheet!$D$14","v":true},{"$f":"RANDBETWEEN(5,RANDBETWEEN(5,Worksheet!$D$6))","v":219},"litres","±",{"$f":"IF(I9=1,H9*10^RANDBETWEEN(IF(Worksheet!$D$9,-1,0),0),IF(I9=2,H9*10^RANDBETWEEN(RANDBETWEEN(0,2),2),CHOOSE(RANDBETWEEN(1,3),5,10,20)))","v":400},{"$f":"IF(I9=1,D9,IF(I9=3,\"%\",\"cm³\"))","v":"cm³"},4,{"$f":"IF(AND(Worksheet!$D$8,RAND()<0.2),3,IF(RAND()<Worksheet!$D$7/100,1,2))","v":2},{"$f":"IF(I9=1,C9-F9,IF(I9=2,C9-F9/1000,IF(I9=3,(1-F9/100)*C9,\"\")))","v":218.6}," litres",{"$f":"J9*1000","v":218600},"cm³",{"$f":"IF(I9=1,C9+F9,IF(I9=2,C9+F9/1000,IF(I9=3,(1+F9/100)*C9,\"\")))","v":219.4},"  litres",{"$f":"N9*1000","v":219400},"cm³",null,{"$f":"IF(ROW()<=Worksheet!$D$4,ROW(),\"\")","v":9},{"$f":"RANDBETWEEN(1,MAX('SYSTEM FORMULAE'!$A$1:$A$1990))","v":607},{"$f":"IF(RIGHT(TEXT(VLOOKUP(T9,'SYSTEM FORMULAE'!$A$1:$Q$1990,3),\"# ##0.###\"),1)=\".\",LEFT(TEXT(VLOOKUP(T9,'SYSTEM FORMULAE'!$A$1:$Q$1990,3),\"# ##0.###\"),LEN(TEXT(VLOOKUP(T9,'SYSTEM FORMULAE'!$A$1:$Q$1990,3),\"# ##0.###\"))-1),TEXT(VLOOKUP(T9,'SYSTEM FORMULAE'!$A$1:$Q$1990,3),\"# ##0.###\"))","v":" 291"},{"$f":"VLOOKUP(T9,'SYSTEM FORMULAE'!$A$1:$Q$1990,4)","v":"cm"},"±",{"$f":"IF(RIGHT(TEXT(VLOOKUP(T9,'SYSTEM FORMULAE'!$A$1:$Q$1990,6),\"# ##0.###\"),1)=\".\",LEFT(TEXT(VLOOKUP(T9,'SYSTEM FORMULAE'!$A$1:$Q$1990,6),\"# ##0.###\"),LEN(TEXT(VLOOKUP(T9,'SYSTEM FORMULAE'!$A$1:$Q$1990,6),\"# ##0.###\"))-1),TEXT(VLOOKUP(T9,'SYSTEM FORMULAE'!$A$1:$Q$1990,6),\"# ##0.###\"))","v":" 20"},{"$f":"VLOOKUP(T9,'SYSTEM FORMULAE'!$A$1:$Q$1990,7)","v":"%"},"Minimum =",{"$f":"CONCATENATE(IF(VLOOKUP(T9,'SYSTEM FORMULAE'!$A$1:$Q$1990,10)<>0,CONCATENATE(IF(RIGHT(TEXT(VLOOKUP(T9,'SYSTEM FORMULAE'!$A$1:$Q$1990,10),\"# ##0.###\"),1)=\".\",LEFT(TEXT(VLOOKUP(T9,'SYSTEM FORMULAE'!$A$1:$Q$1990,10),\"# ##0.###\"),LEN(TEXT(VLOOKUP(T9,'SYSTEM FORMULAE'!$A$1:$Q$1990,10),\"# ##0.###\"))-1),TEXT(VLOOKUP(T9,'SYSTEM FORMULAE'!$A$1:$Q$1990,10),\"# ##0.###\")),IF(RIGHT(TEXT(VLOOKUP(T9,'SYSTEM FORMULAE'!$A$1:$Q$1990,11),\"# ##0.###\"),1)=\".\",LEFT(TEXT(VLOOKUP(T9,'SYSTEM FORMULAE'!$A$1:$Q$1990,11),\"# ##0.###\"),LEN(TEXT(VLOOKUP(T9,'SYSTEM FORMULAE'!$A$1:$Q$1990,11),\"# ##0.###\"))-1),TEXT(VLOOKUP(T9,'SYSTEM FORMULAE'!$A$1:$Q$1990,11),\"# ##0.###\")),\" or \"),\"\"),IF(RIGHT(TEXT(VLOOKUP(T9,'SYSTEM FORMULAE'!$A$1:$Q$1990,12),\"# ##0.###\"),1)=\".\",LEFT(TEXT(VLOOKUP(T9,'SYSTEM FORMULAE'!$A$1:$Q$1990,12),\"# ##0.###\"),LEN(TEXT(VLOOKUP(T9,'SYSTEM FORMULAE'!$A$1:$Q$1990,12),\"# ##0.###\"))-1),TEXT(VLOOKUP(T9,'SYSTEM FORMULAE'!$A$1:$Q$1990,12),\"# ##0.###\")),IF(RIGHT(TEXT(VLOOKUP(T9,'SYSTEM FORMULAE'!$A$1:$Q$1990,13),\"# ##0.###\"),1)=\".\",LEFT(TEXT(VLOOKUP(T9,'SYSTEM FORMULAE'!$A$1:$Q$1990,13),\"# ##0.###\"),LEN(TEXT(VLOOKUP(T9,'SYSTEM FORMULAE'!$A$1:$Q$1990,13),\"# ##0.###\"))-1),TEXT(VLOOKUP(T9,'SYSTEM FORMULAE'!$A$1:$Q$1990,13),\"# ##0.###\")))","v":" 232.8 cm or 2 328mm"},"Maximum = ",{"$f":"CONCATENATE(IF(VLOOKUP(T9,'SYSTEM FORMULAE'!$A$1:$Q$1990,10)<>0,CONCATENATE(IF(RIGHT(TEXT(VLOOKUP(T9,'SYSTEM FORMULAE'!$A$1:$Q$1990,14),\"# ##0.###\"),1)=\".\",LEFT(TEXT(VLOOKUP(T9,'SYSTEM FORMULAE'!$A$1:$Q$1990,14),\"# ##0.###\"),LEN(TEXT(VLOOKUP(T9,'SYSTEM FORMULAE'!$A$1:$Q$1990,14),\"# ##0.###\"))-1),TEXT(VLOOKUP(T9,'SYSTEM FORMULAE'!$A$1:$Q$1990,14),\"# ##0.###\")),IF(RIGHT(TEXT(VLOOKUP(T9,'SYSTEM FORMULAE'!$A$1:$Q$1990,15),\"# ##0.###\"),1)=\".\",LEFT(TEXT(VLOOKUP(T9,'SYSTEM FORMULAE'!$A$1:$Q$1990,15),\"# ##0.###\"),LEN(TEXT(VLOOKUP(T9,'SYSTEM FORMULAE'!$A$1:$Q$1990,15),\"# ##0.###\"))-1),TEXT(VLOOKUP(T9,'SYSTEM FORMULAE'!$A$1:$Q$1990,15),\"# ##0.###\")),\" or \"),\"\"),IF(RIGHT(TEXT(VLOOKUP(T9,'SYSTEM FORMULAE'!$A$1:$Q$1990,16),\"# ##0.###\"),1)=\".\",LEFT(TEXT(VLOOKUP(T9,'SYSTEM FORMULAE'!$A$1:$Q$1990,16),\"# ##0.###\"),LEN(TEXT(VLOOKUP(T9,'SYSTEM FORMULAE'!$A$1:$Q$1990,16),\"# ##0.###\"))-1),TEXT(VLOOKUP(T9,'SYSTEM FORMULAE'!$A$1:$Q$1990,16),\"# ##0.###\")),IF(RIGHT(TEXT(VLOOKUP(T9,'SYSTEM FORMULAE'!$A$1:$Q$1990,17),\"# ##0.###\"),1)=\".\",LEFT(TEXT(VLOOKUP(T9,'SYSTEM FORMULAE'!$A$1:$Q$1990,17),\"# ##0.###\"),LEN(TEXT(VLOOKUP(T9,'SYSTEM FORMULAE'!$A$1:$Q$1990,17),\"# ##0.###\"))-1),TEXT(VLOOKUP(T9,'SYSTEM FORMULAE'!$A$1:$Q$1990,17),\"# ##0.###\")))","v":" 349.2  cm or 3 492mm"}]
[{"$f":"IF(COUNTIF($B$1:B10,TRUE)=COUNTIF($B$1:B9,TRUE),\"\",COUNTIF($B$1:B10,TRUE))","v":""},{"$f":"Worksheet!$D$15","v":false},{"$f":"RANDBETWEEN(5,20)","v":16},"min","±",{"$f":"IF(I10=1,H10*10^RANDBETWEEN(IF(Worksheet!$D$9,-1,0),0),IF(I10=2,H10,CHOOSE(RANDBETWEEN(1,3),5,10,20)))","v":0.70000000000000007},{"$f":"IF(I10=1,D10,IF(I10=3,\"%\",\"sec\"))","v":"min"},7,{"$f":"IF(AND(Worksheet!$D$8,RAND()<0),3,IF(RAND()<Worksheet!$D$7/100,1,2))","v":1},null," min",{"$f":"IF(I10=1,C10-F10,IF(I10=2,C10*60-F10,\"\"))","v":15.3},{"$f":"IF($I10=1,\" hours\",\" min\")","v":" hours"},null,"  min",{"$f":"IF(I10=1,C10+F10,IF(I10=2,C10*60+F10,\"\"))","v":16.7},{"$f":"IF($I10=1,\" hours\",\" min\")","v":" hours"},null,{"$f":"IF(ROW()<=Worksheet!$D$4,ROW(),\"\")","v":10},{"$f":"RANDBETWEEN(1,MAX('SYSTEM FORMULAE'!$A$1:$A$1990))","v":695},{"$f":"IF(RIGHT(TEXT(VLOOKUP(T10,'SYSTEM FORMULAE'!$A$1:$Q$1990,3),\"# ##0.###\"),1)=\".\",LEFT(TEXT(VLOOKUP(T10,'SYSTEM FORMULAE'!$A$1:$Q$1990,3),\"# ##0.###\"),LEN(TEXT(VLOOKUP(T10,'SYSTEM FORMULAE'!$A$1:$Q$1990,3),\"# ##0.###\"))-1),TEXT(VLOOKUP(T10,'SYSTEM FORMULAE'!$A$1:$Q$1990,3),\"# ##0.###\"))","v":" 58"},{"$f":"VLOOKUP(T10,'SYSTEM FORMULAE'!$A$1:$Q$1990,4)","v":"cm"},"±",{"$f":"IF(RIGHT(TEXT(VLOOKUP(T10,'SYSTEM FORMULAE'!$A$1:$Q$1990,6),\"# ##0.###\"),1)=\".\",LEFT(TEXT(VLOOKUP(T10,'SYSTEM FORMULAE'!$A$1:$Q$1990,6),\"# ##0.###\"),LEN(TEXT(VLOOKUP(T10,'SYSTEM FORMULAE'!$A$1:$Q$1990,6),\"# ##0.###\"))-1),TEXT(VLOOKUP(T10,'SYSTEM FORMULAE'!$A$1:$Q$1990,6),\"# ##0.###\"))","v":" 5"},{"$f":"VLOOKUP(T10,'SYSTEM FORMULAE'!$A$1:$Q$1990,7)","v":"%"},"Minimum =",{"$f":"CONCATENATE(IF(VLOOKUP(T10,'SYSTEM FORMULAE'!$A$1:$Q$1990,10)<>0,CONCATENATE(IF(RIGHT(TEXT(VLOOKUP(T10,'SYSTEM FORMULAE'!$A$1:$Q$1990,10),\"# ##0.###\"),1)=\".\",LEFT(TEXT(VLOOKUP(T10,'SYSTEM FORMULAE'!$A$1:$Q$1990,10),\"# ##0.###\"),LEN(TEXT(VLOOKUP(T10,'SYSTEM FORMULAE'!$A$1:$Q$1990,10),\"# ##0.###\"))-1),TEXT(VLOOKUP(T10,'SYSTEM FORMULAE'!$A$1:$Q$1990,10),\"# ##0.###\")),IF(RIGHT(TEXT(VLOOKUP(T10,'SYSTEM FORMULAE'!$A$1:$Q$1990,11),\"# ##0.###\"),1)=\".\",LEFT(TEXT(VLOOKUP(T10,'SYSTEM FORMULAE'!$A$1:$Q$1990,11),\"# ##0.###\"),LEN(TEXT(VLOOKUP(T10,'SYSTEM FORMULAE'!$A$1:$Q$1990,11),\"# ##0.###\"))-1),TEXT(VLOOKUP(T10,'SYSTEM FORMULAE'!$A$1:$Q$1990,11),\"# ##0.###\")),\" or \"),\"\"),IF(RIGHT(TEXT(VLOOKUP(T10,'SYSTEM FORMULAE'!$A$1:$Q$1990,12),\"# ##0.###\"),1)=\".\",LEFT(TEXT(VLOOKUP(T10,'SYSTEM FORMULAE'!$A$1:$Q$1990,12),\"# ##0.###\"),LEN(TEXT(VLOOKUP(T10,'SYSTEM FORMULAE'!$A$1:$Q$1990,12),\"# ##0.###\"))-1),TEXT(VLOOKUP(T10,'SYSTEM FORMULAE'!$A$1:$Q$1990,12),\"# ##0.###\")),IF(RIGHT(TEXT(VLOOKUP(T10,'SYSTEM FORMULAE'!$A$1:$Q$1990,13),\"# ##0.###\"),1)=\".\",LEFT(TEXT(VLOOKUP(T10,'SYSTEM FORMULAE'!$A$1:$Q$1990,13),\"# ##0.###\"),LEN(TEXT(VLOOKUP(T10,'SYSTEM FORMULAE'!$A$1:$Q$1990,13),\"# ##0.###\"))-1),TEXT(VLOOKUP(T10,'SYSTEM FORMULAE'!$A$1:$Q$1990,13),\"# ##0.###\")))","v":" 55.1 cm or  551mm"},"Maximum = ",{"$f":"CONCATENATE(IF(VLOOKUP(T10,'SYSTEM FORMULAE'!$A$1:$Q$1990,10)<>0,CONCATENATE(IF(RIGHT(TEXT(VLOOKUP(T10,'SYSTEM FORMULAE'!$A$1:$Q$1990,14),\"# ##0.###\"),1)=\".\",LEFT(TEXT(VLOOKUP(T10,'SYSTEM FORMULAE'!$A$1:$Q$1990,14),\"# ##0.###\"),LEN(TEXT(VLOOKUP(T10,'SYSTEM FORMULAE'!$A$1:$Q$1990,14),\"# ##0.###\"))-1),TEXT(VLOOKUP(T10,'SYSTEM FORMULAE'!$A$1:$Q$1990,14),\"# ##0.###\")),IF(RIGHT(TEXT(VLOOKUP(T10,'SYSTEM FORMULAE'!$A$1:$Q$1990,15),\"# ##0.###\"),1)=\".\",LEFT(TEXT(VLOOKUP(T10,'SYSTEM FORMULAE'!$A$1:$Q$1990,15),\"# ##0.###\"),LEN(TEXT(VLOOKUP(T10,'SYSTEM FORMULAE'!$A$1:$Q$1990,15),\"# ##0.###\"))-1),TEXT(VLOOKUP(T10,'SYSTEM FORMULAE'!$A$1:$Q$1990,15),\"# ##0.###\")),\" or \"),\"\"),IF(RIGHT(TEXT(VLOOKUP(T10,'SYSTEM FORMULAE'!$A$1:$Q$1990,16),\"# ##0.###\"),1)=\".\",LEFT(TEXT(VLOOKUP(T10,'SYSTEM FORMULAE'!$A$1:$Q$1990,16),\"# ##0.###\"),LEN(TEXT(VLOOKUP(T10,'SYSTEM FORMULAE'!$A$1:$Q$1990,16),\"# ##0.###\"))-1),TEXT(VLOOKUP(T10,'SYSTEM FORMULAE'!$A$1:$Q$1990,16),\"# ##0.###\")),IF(RIGHT(TEXT(VLOOKUP(T10,'SYSTEM FORMULAE'!$A$1:$Q$1990,17),\"# ##0.###\"),1)=\".\",LEFT(TEXT(VLOOKUP(T10,'SYSTEM FORMULAE'!$A$1:$Q$1990,17),\"# ##0.###\"),LEN(TEXT(VLOOKUP(T10,'SYSTEM FORMULAE'!$A$1:$Q$1990,17),\"# ##0.###\"))-1),TEXT(VLOOKUP(T10,'SYSTEM FORMULAE'!$A$1:$Q$1990,17),\"# ##0.###\")))","v":" 60.9  cm or  609mm"}]
[{"$f":"IF(COUNTIF($B$1:B11,TRUE)=COUNTIF($B$1:B10,TRUE),\"\",COUNTIF($B$1:B11,TRUE))","v":""},{"$f":"Worksheet!$B$16","v":false},{"$f":"RANDBETWEEN(5,20)","v":6},"°C","±",{"$f":"IF(I11=1,H11*10^RANDBETWEEN(IF(Worksheet!$D$9,-1,0),0),IF(I11=2,H11,CHOOSE(RANDBETWEEN(1,3),5,10,20)))","v":0.2},"°C",{"$f":"RANDBETWEEN(1,MIN(9,C11))","v":2},{"$f":"IF(AND(Worksheet!$D$8,RAND()<0),3,IF(RAND()<Worksheet!$D$7/100,1,2))","v":1},null,{"$f":"CONCATENATE(\" \",D11)","v":" °C"},{"$f":"C11-F11","v":5.8},"°C",null,{"$f":"CONCATENATE(\" \",K11)","v":"  °C"},{"$f":"C11+F11","v":6.2},"°C",null,{"$f":"IF(ROW()<=Worksheet!$D$4,ROW(),\"\")","v":11},{"$f":"RANDBETWEEN(1,MAX('SYSTEM FORMULAE'!$A$1:$A$1990))","v":1020},{"$f":"IF(RIGHT(TEXT(VLOOKUP(T11,'SYSTEM FORMULAE'!$A$1:$Q$1990,3),\"# ##0.###\"),1)=\".\",LEFT(TEXT(VLOOKUP(T11,'SYSTEM FORMULAE'!$A$1:$Q$1990,3),\"# ##0.###\"),LEN(TEXT(VLOOKUP(T11,'SYSTEM FORMULAE'!$A$1:$Q$1990,3),\"# ##0.###\"))-1),TEXT(VLOOKUP(T11,'SYSTEM FORMULAE'!$A$1:$Q$1990,3),\"# ##0.###\"))","v":" 19"},{"$f":"VLOOKUP(T11,'SYSTEM FORMULAE'!$A$1:$Q$1990,4)","v":"tonnes"},"±",{"$f":"IF(RIGHT(TEXT(VLOOKUP(T11,'SYSTEM FORMULAE'!$A$1:$Q$1990,6),\"# ##0.###\"),1)=\".\",LEFT(TEXT(VLOOKUP(T11,'SYSTEM FORMULAE'!$A$1:$Q$1990,6),\"# ##0.###\"),LEN(TEXT(VLOOKUP(T11,'SYSTEM FORMULAE'!$A$1:$Q$1990,6),\"# ##0.###\"))-1),TEXT(VLOOKUP(T11,'SYSTEM FORMULAE'!$A$1:$Q$1990,6),\"# ##0.###\"))","v":" 0.1"},{"$f":"VLOOKUP(T11,'SYSTEM FORMULAE'!$A$1:$Q$1990,7)","v":"tonnes"},"Minimum =",{"$f":"CONCATENATE(IF(VLOOKUP(T11,'SYSTEM FORMULAE'!$A$1:$Q$1990,10)<>0,CONCATENATE(IF(RIGHT(TEXT(VLOOKUP(T11,'SYSTEM FORMULAE'!$A$1:$Q$1990,10),\"# ##0.###\"),1)=\".\",LEFT(TEXT(VLOOKUP(T11,'SYSTEM FORMULAE'!$A$1:$Q$1990,10),\"# ##0.###\"),LEN(TEXT(VLOOKUP(T11,'SYSTEM FORMULAE'!$A$1:$Q$1990,10),\"# ##0.###\"))-1),TEXT(VLOOKUP(T11,'SYSTEM FORMULAE'!$A$1:$Q$1990,10),\"# ##0.###\")),IF(RIGHT(TEXT(VLOOKUP(T11,'SYSTEM FORMULAE'!$A$1:$Q$1990,11),\"# ##0.###\"),1)=\".\",LEFT(TEXT(VLOOKUP(T11,'SYSTEM FORMULAE'!$A$1:$Q$1990,11),\"# ##0.###\"),LEN(TEXT(VLOOKUP(T11,'SYSTEM FORMULAE'!$A$1:$Q$1990,11),\"# ##0.###\"))-1),TEXT(VLOOKUP(T11,'SYSTEM FORMULAE'!$A$1:$Q$1990,11),\"# ##0.###\")),\" or \"),\"\"),IF(RIGHT(TEXT(VLOOKUP(T11,'SYSTEM FORMULAE'!$A$1:$Q$1990,12),\"# ##0.###\"),1)=\".\",LEFT(TEXT(VLOOKUP(T11,'SYSTEM FORMULAE'!$A$1:$Q$1990,12),\"# ##0.###\"),LEN(TEXT(VLOOKUP(T11,'SYSTEM FORMULAE'!$A$1:$Q$1990,12),\"# ##0.###\"))-1),TEXT(VLOOKUP(T11,'SYSTEM FORMULAE'!$A$1:$Q$1990,12),\"# ##0.###\")),IF(RIGHT(TEXT(VLOOKUP(T11,'SYSTEM FORMULAE'!$A$1:$Q$1990,13),\"# ##0.###\"),1)=\".\",LEFT(TEXT(VLOOKUP(T11,'SYSTEM FORMULAE'!$A$1:$Q$1990,13),\"# ##0.###\"),LEN(TEXT(VLOOKUP(T11,'SYSTEM FORMULAE'!$A$1:$Q$1990,13),\"# ##0.###\"))-1),TEXT(VLOOKUP(T11,'SYSTEM FORMULAE'!$A$1:$Q$1990,13),\"# ##0.###\")))","v":" 18.9 tonnes or 18 900kg"},"Maximum = ",{"$f":"CONCATENATE(IF(VLOOKUP(T11,'SYSTEM FORMULAE'!$A$1:$Q$1990,10)<>0,CONCATENATE(IF(RIGHT(TEXT(VLOOKUP(T11,'SYSTEM FORMULAE'!$A$1:$Q$1990,14),\"# ##0.###\"),1)=\".\",LEFT(TEXT(VLOOKUP(T11,'SYSTEM FORMULAE'!$A$1:$Q$1990,14),\"# ##0.###\"),LEN(TEXT(VLOOKUP(T11,'SYSTEM FORMULAE'!$A$1:$Q$1990,14),\"# ##0.###\"))-1),TEXT(VLOOKUP(T11,'SYSTEM FORMULAE'!$A$1:$Q$1990,14),\"# ##0.###\")),IF(RIGHT(TEXT(VLOOKUP(T11,'SYSTEM FORMULAE'!$A$1:$Q$1990,15),\"# ##0.###\"),1)=\".\",LEFT(TEXT(VLOOKUP(T11,'SYSTEM FORMULAE'!$A$1:$Q$1990,15),\"# ##0.###\"),LEN(TEXT(VLOOKUP(T11,'SYSTEM FORMULAE'!$A$1:$Q$1990,15),\"# ##0.###\"))-1),TEXT(VLOOKUP(T11,'SYSTEM FORMULAE'!$A$1:$Q$1990,15),\"# ##0.###\")),\" or \"),\"\"),IF(RIGHT(TEXT(VLOOKUP(T11,'SYSTEM FORMULAE'!$A$1:$Q$1990,16),\"# ##0.###\"),1)=\".\",LEFT(TEXT(VLOOKUP(T11,'SYSTEM FORMULAE'!$A$1:$Q$1990,16),\"# ##0.###\"),LEN(TEXT(VLOOKUP(T11,'SYSTEM FORMULAE'!$A$1:$Q$1990,16),\"# ##0.###\"))-1),TEXT(VLOOKUP(T11,'SYSTEM FORMULAE'!$A$1:$Q$1990,16),\"# ##0.###\")),IF(RIGHT(TEXT(VLOOKUP(T11,'SYSTEM FORMULAE'!$A$1:$Q$1990,17),\"# ##0.###\"),1)=\".\",LEFT(TEXT(VLOOKUP(T11,'SYSTEM FORMULAE'!$A$1:$Q$1990,17),\"# ##0.###\"),LEN(TEXT(VLOOKUP(T11,'SYSTEM FORMULAE'!$A$1:$Q$1990,17),\"# ##0.###\"))-1),TEXT(VLOOKUP(T11,'SYSTEM FORMULAE'!$A$1:$Q$1990,17),\"# ##0.###\")))","v":" 19.1  tonnes or 19 100kg"}]
[{"$f":"IF(COUNTIF($B$1:B12,TRUE)=COUNTIF($B$1:B11,TRUE),\"\",COUNTIF($B$1:B12,TRUE))","v":""},{"$f":"Worksheet!$B$16","v":false},{"$f":"RANDBETWEEN(5,20)","v":9},"°C","±",{"$f":"IF(I12=1,H12*10^RANDBETWEEN(IF(Worksheet!$D$9,-1,0),0),IF(I12=2,H12,CHOOSE(RANDBETWEEN(1,3),5,10,20)))","v":7},"°C",{"$f":"RANDBETWEEN(1,MIN(9,C12))","v":7},{"$f":"IF(AND(Worksheet!$D$8,RAND()<0),3,IF(RAND()<Worksheet!$D$7/100,1,2))","v":1},null,{"$f":"CONCATENATE(\" \",D12)","v":" °C"},{"$f":"C12-F12","v":2},"°C",null,{"$f":"CONCATENATE(\" \",K12)","v":"  °C"},{"$f":"C12+F12","v":16},"°C",null,{"$f":"IF(ROW()<=Worksheet!$D$4,ROW(),\"\")","v":12},{"$f":"RANDBETWEEN(1,MAX('SYSTEM FORMULAE'!$A$1:$A$1990))","v":1187},{"$f":"IF(RIGHT(TEXT(VLOOKUP(T12,'SYSTEM FORMULAE'!$A$1:$Q$1990,3),\"# ##0.###\"),1)=\".\",LEFT(TEXT(VLOOKUP(T12,'SYSTEM FORMULAE'!$A$1:$Q$1990,3),\"# ##0.###\"),LEN(TEXT(VLOOKUP(T12,'SYSTEM FORMULAE'!$A$1:$Q$1990,3),\"# ##0.###\"))-1),TEXT(VLOOKUP(T12,'SYSTEM FORMULAE'!$A$1:$Q$1990,3),\"# ##0.###\"))","v":" 79"},{"$f":"VLOOKUP(T12,'SYSTEM FORMULAE'!$A$1:$Q$1990,4)","v":"kg"},"±",{"$f":"IF(RIGHT(TEXT(VLOOKUP(T12,'SYSTEM FORMULAE'!$A$1:$Q$1990,6),\"# ##0.###\"),1)=\".\",LEFT(TEXT(VLOOKUP(T12,'SYSTEM FORMULAE'!$A$1:$Q$1990,6),\"# ##0.###\"),LEN(TEXT(VLOOKUP(T12,'SYSTEM FORMULAE'!$A$1:$Q$1990,6),\"# ##0.###\"))-1),TEXT(VLOOKUP(T12,'SYSTEM FORMULAE'!$A$1:$Q$1990,6),\"# ##0.###\"))","v":" 6"},{"$f":"VLOOKUP(T12,'SYSTEM FORMULAE'!$A$1:$Q$1990,7)","v":"kg"},"Minimum =",{"$f":"CONCATENATE(IF(VLOOKUP(T12,'SYSTEM FORMULAE'!$A$1:$Q$1990,10)<>0,CONCATENATE(IF(RIGHT(TEXT(VLOOKUP(T12,'SYSTEM FORMULAE'!$A$1:$Q$1990,10),\"# ##0.###\"),1)=\".\",LEFT(TEXT(VLOOKUP(T12,'SYSTEM FORMULAE'!$A$1:$Q$1990,10),\"# ##0.###\"),LEN(TEXT(VLOOKUP(T12,'SYSTEM FORMULAE'!$A$1:$Q$1990,10),\"# ##0.###\"))-1),TEXT(VLOOKUP(T12,'SYSTEM FORMULAE'!$A$1:$Q$1990,10),\"# ##0.###\")),IF(RIGHT(TEXT(VLOOKUP(T12,'SYSTEM FORMULAE'!$A$1:$Q$1990,11),\"# ##0.###\"),1)=\".\",LEFT(TEXT(VLOOKUP(T12,'SYSTEM FORMULAE'!$A$1:$Q$1990,11),\"# ##0.###\"),LEN(TEXT(VLOOKUP(T12,'SYSTEM FORMULAE'!$A$1:$Q$1990,11),\"# ##0.###\"))-1),TEXT(VLOOKUP(T12,'SYSTEM FORMULAE'!$A$1:$Q$1990,11),\"# ##0.###\")),\" or \"),\"\"),IF(RIGHT(TEXT(VLOOKUP(T12,'SYSTEM FORMULAE'!$A$1:$Q$1990,12),\"# ##0.###\"),1)=\".\",LEFT(TEXT(VLOOKUP(T12,'SYSTEM FORMULAE'!$A$1:$Q$1990,12),\"# ##0.###\"),LEN(TEXT(VLOOKUP(T12,'SYSTEM FORMULAE'!$A$1:$Q$1990,12),\"# ##0.###\"))-1),TEXT(VLOOKUP(T12,'SYSTEM FORMULAE'!$A$1:$Q$1990,12),\"# ##0.###\")),IF(RIGHT(TEXT(VLOOKUP(T12,'SYSTEM FORMULAE'!$A$1:$Q$1990,13),\"# ##0.###\"),1)=\".\",LEFT(TEXT(VLOOKUP(T12,'SYSTEM FORMULAE'!$A$1:$Q$1990,13),\"# ##0.###\"),LEN(TEXT(VLOOKUP(T12,'SYSTEM FORMULAE'!$A$1:$Q$1990,13),\"# ##0.###\"))-1),TEXT(VLOOKUP(T12,'SYSTEM FORMULAE'!$A$1:$Q$1990,13),\"# ##0.###\")))","v":" 73 kg or 73 000g"},"Maximum = ",{"$f":"CONCATENATE(IF(VLOOKUP(T12,'SYSTEM FORMULAE'!$A$1:$Q$1990,10)<>0,CONCATENATE(IF(RIGHT(TEXT(VLOOKUP(T12,'SYSTEM FORMULAE'!$A$1:$Q$1990,14),\"# ##0.###\"),1)=\".\",LEFT(TEXT(VLOOKUP(T12,'SYSTEM FORMULAE'!$A$1:$Q$1990,14),\"# ##0.###\"),LEN(TEXT(VLOOKUP(T12,'SYSTEM FORMULAE'!$A$1:$Q$1990,14),\"# ##0.###\"))-1),TEXT(VLOOKUP(T12,'SYSTEM FORMULAE'!$A$1:$Q$1990,14),\"# ##0.###\")),IF(RIGHT(TEXT(VLOOKUP(T12,'SYSTEM FORMULAE'!$A$1:$Q$1990,15),\"# ##0.###\"),1)=\".\",LEFT(TEXT(VLOOKUP(T12,'SYSTEM FORMULAE'!$A$1:$Q$1990,15),\"# ##0.###\"),LEN(TEXT(VLOOKUP(T12,'SYSTEM FORMULAE'!$A$1:$Q$1990,15),\"# ##0.###\"))-1),TEXT(VLOOKUP(T12,'SYSTEM FORMULAE'!$A$1:$Q$1990,15),\"# ##0.###\")),\" or \"),\"\"),IF(RIGHT(TEXT(VLOOKUP(T12,'SYSTEM FORMULAE'!$A$1:$Q$1990,16),\"# ##0.###\"),1)=\".\",LEFT(TEXT(VLOOKUP(T12,'SYSTEM FORMULAE'!$A$1:$Q$1990,16),\"# ##0.###\"),LEN(TEXT(VLOOKUP(T12,'SYSTEM FORMULAE'!$A$1:$Q$1990,16),\"# ##0.###\"))-1),TEXT(VLOOKUP(T12,'SYSTEM FORMULAE'!$A$1:$Q$1990,16),\"# ##0.###\")),IF(RIGHT(TEXT(VLOOKUP(T12,'SYSTEM FORMULAE'!$A$1:$Q$1990,17),\"# ##0.###\"),1)=\".\",LEFT(TEXT(VLOOKUP(T12,'SYSTEM FORMULAE'!$A$1:$Q$1990,17),\"# ##0.###\"),LEN(TEXT(VLOOKUP(T12,'SYSTEM FORMULAE'!$A$1:$Q$1990,17),\"# ##0.###\"))-1),TEXT(VLOOKUP(T12,'SYSTEM FORMULAE'!$A$1:$Q$1990,17),\"# ##0.###\")))","v":" 85  kg or 85 000g"}]
[{"$f":"IF(COUNTIF($B$1:B13,TRUE)=COUNTIF($B$1:B12,TRUE),\"\",COUNTIF($B$1:B13,TRUE))","v":""},{"$f":"Worksheet!$B$16","v":false},15,"°C","±",{"$f":"IF(I13=1,H13*10^RANDBETWEEN(IF(Worksheet!$D$9,-1,0),0),IF(I13=2,H13,CHOOSE(RANDBETWEEN(1,3),5,10,20)))","v":1},"°C",1,{"$f":"IF(AND(Worksheet!$D$8,RAND()<0),3,IF(RAND()<Worksheet!$D$7/100,1,2))","v":1},null," °C",14,"°C",null,"  °C",16,"°C",null,{"$f":"IF(ROW()<=Worksheet!$D$4,ROW(),\"\")","v":13},{"$f":"RANDBETWEEN(1,MAX('SYSTEM FORMULAE'!$A$1:$A$1990))","v":770},{"$f":"IF(RIGHT(TEXT(VLOOKUP(T13,'SYSTEM FORMULAE'!$A$1:$Q$1990,3),\"# ##0.###\"),1)=\".\",LEFT(TEXT(VLOOKUP(T13,'SYSTEM FORMULAE'!$A$1:$Q$1990,3),\"# ##0.###\"),LEN(TEXT(VLOOKUP(T13,'SYSTEM FORMULAE'!$A$1:$Q$1990,3),\"# ##0.###\"))-1),TEXT(VLOOKUP(T13,'SYSTEM FORMULAE'!$A$1:$Q$1990,3),\"# ##0.###\"))","v":" 12"},{"$f":"VLOOKUP(T13,'SYSTEM FORMULAE'!$A$1:$Q$1990,4)","v":"hours"},"±",{"$f":"IF(RIGHT(TEXT(VLOOKUP(T13,'SYSTEM FORMULAE'!$A$1:$Q$1990,6),\"# ##0.###\"),1)=\".\",LEFT(TEXT(VLOOKUP(T13,'SYSTEM FORMULAE'!$A$1:$Q$1990,6),\"# ##0.###\"),LEN(TEXT(VLOOKUP(T13,'SYSTEM FORMULAE'!$A$1:$Q$1990,6),\"# ##0.###\"))-1),TEXT(VLOOKUP(T13,'SYSTEM FORMULAE'!$A$1:$Q$1990,6),\"# ##0.###\"))","v":" 0.4"},{"$f":"VLOOKUP(T13,'SYSTEM FORMULAE'!$A$1:$Q$1990,7)","v":"hours"},"Minimum =",{"$f":"CONCATENATE(IF(VLOOKUP(T13,'SYSTEM FORMULAE'!$A$1:$Q$1990,10)<>0,CONCATENATE(IF(RIGHT(TEXT(VLOOKUP(T13,'SYSTEM FORMULAE'!$A$1:$Q$1990,10),\"# ##0.###\"),1)=\".\",LEFT(TEXT(VLOOKUP(T13,'SYSTEM FORMULAE'!$A$1:$Q$1990,10),\"# ##0.###\"),LEN(TEXT(VLOOKUP(T13,'SYSTEM FORMULAE'!$A$1:$Q$1990,10),\"# ##0.###\"))-1),TEXT(VLOOKUP(T13,'SYSTEM FORMULAE'!$A$1:$Q$1990,10),\"# ##0.###\")),IF(RIGHT(TEXT(VLOOKUP(T13,'SYSTEM FORMULAE'!$A$1:$Q$1990,11),\"# ##0.###\"),1)=\".\",LEFT(TEXT(VLOOKUP(T13,'SYSTEM FORMULAE'!$A$1:$Q$1990,11),\"# ##0.###\"),LEN(TEXT(VLOOKUP(T13,'SYSTEM FORMULAE'!$A$1:$Q$1990,11),\"# ##0.###\"))-1),TEXT(VLOOKUP(T13,'SYSTEM FORMULAE'!$A$1:$Q$1990,11),\"# ##0.###\")),\" or \"),\"\"),IF(RIGHT(TEXT(VLOOKUP(T13,'SYSTEM FORMULAE'!$A$1:$Q$1990,12),\"# ##0.###\"),1)=\".\",LEFT(TEXT(VLOOKUP(T13,'SYSTEM FORMULAE'!$A$1:$Q$1990,12),\"# ##0.###\"),LEN(TEXT(VLOOKUP(T13,'SYSTEM FORMULAE'!$A$1:$Q$1990,12),\"# ##0.###\"))-1),TEXT(VLOOKUP(T13,'SYSTEM FORMULAE'!$A$1:$Q$1990,12),\"# ##0.###\")),IF(RIGHT(TEXT(VLOOKUP(T13,'SYSTEM FORMULAE'!$A$1:$Q$1990,13),\"# ##0.###\"),1)=\".\",LEFT(TEXT(VLOOKUP(T13,'SYSTEM FORMULAE'!$A$1:$Q$1990,13),\"# ##0.###\"),LEN(TEXT(VLOOKUP(T13,'SYSTEM FORMULAE'!$A$1:$Q$1990,13),\"# ##0.###\"))-1),TEXT(VLOOKUP(T13,'SYSTEM FORMULAE'!$A$1:$Q$1990,13),\"# ##0.###\")))","v":" 11.6 hours"},"Maximum = ",{"$f":"CONCATENATE(IF(VLOOKUP(T13,'SYSTEM FORMULAE'!$A$1:$Q$1990,10)<>0,CONCATENATE(IF(RIGHT(TEXT(VLOOKUP(T13,'SYSTEM FORMULAE'!$A$1:$Q$1990,14),\"# ##0.###\"),1)=\".\",LEFT(TEXT(VLOOKUP(T13,'SYSTEM FORMULAE'!$A$1:$Q$1990,14),\"# ##0.###\"),LEN(TEXT(VLOOKUP(T13,'SYSTEM FORMULAE'!$A$1:$Q$1990,14),\"# ##0.###\"))-1),TEXT(VLOOKUP(T13,'SYSTEM FORMULAE'!$A$1:$Q$1990,14),\"# ##0.###\")),IF(RIGHT(TEXT(VLOOKUP(T13,'SYSTEM FORMULAE'!$A$1:$Q$1990,15),\"# ##0.###\"),1)=\".\",LEFT(TEXT(VLOOKUP(T13,'SYSTEM FORMULAE'!$A$1:$Q$1990,15),\"# ##0.###\"),LEN(TEXT(VLOOKUP(T13,'SYSTEM FORMULAE'!$A$1:$Q$1990,15),\"# ##0.###\"))-1),TEXT(VLOOKUP(T13,'SYSTEM FORMULAE'!$A$1:$Q$1990,15),\"# ##0.###\")),\" or \"),\"\"),IF(RIGHT(TEXT(VLOOKUP(T13,'SYSTEM FORMULAE'!$A$1:$Q$1990,16),\"# ##0.###\"),1)=\".\",LEFT(TEXT(VLOOKUP(T13,'SYSTEM FORMULAE'!$A$1:$Q$1990,16),\"# ##0.###\"),LEN(TEXT(VLOOKUP(T13,'SYSTEM FORMULAE'!$A$1:$Q$1990,16),\"# ##0.###\"))-1),TEXT(VLOOKUP(T13,'SYSTEM FORMULAE'!$A$1:$Q$1990,16),\"# ##0.###\")),IF(RIGHT(TEXT(VLOOKUP(T13,'SYSTEM FORMULAE'!$A$1:$Q$1990,17),\"# ##0.###\"),1)=\".\",LEFT(TEXT(VLOOKUP(T13,'SYSTEM FORMULAE'!$A$1:$Q$1990,17),\"# ##0.###\"),LEN(TEXT(VLOOKUP(T13,'SYSTEM FORMULAE'!$A$1:$Q$1990,17),\"# ##0.###\"))-1),TEXT(VLOOKUP(T13,'SYSTEM FORMULAE'!$A$1:$Q$1990,17),\"# ##0.###\")))","v":" 12.4 hours"}]
[{"$f":"IF(COUNTIF($B$1:B14,TRUE)=COUNTIF($B$1:B13,TRUE),\"\",COUNTIF($B$1:B14,TRUE))","v":""},{"$f":"Worksheet!$B$16","v":false},11,"°C","±",{"$f":"IF(I14=1,H14*10^RANDBETWEEN(IF(Worksheet!$D$9,-1,0),0),IF(I14=2,H14,CHOOSE(RANDBETWEEN(1,3),5,10,20)))","v":0.1},"°C",1,{"$f":"IF(AND(Worksheet!$D$8,RAND()<0),3,IF(RAND()<Worksheet!$D$7/100,1,2))","v":1},null," °C",10.9,"°C",null,"  °C",11.1,"°C",null,{"$f":"IF(ROW()<=Worksheet!$D$4,ROW(),\"\")","v":14},{"$f":"RANDBETWEEN(1,MAX('SYSTEM FORMULAE'!$A$1:$A$1990))","v":798},{"$f":"IF(RIGHT(TEXT(VLOOKUP(T14,'SYSTEM FORMULAE'!$A$1:$Q$1990,3),\"# ##0.###\"),1)=\".\",LEFT(TEXT(VLOOKUP(T14,'SYSTEM FORMULAE'!$A$1:$Q$1990,3),\"# ##0.###\"),LEN(TEXT(VLOOKUP(T14,'SYSTEM FORMULAE'!$A$1:$Q$1990,3),\"# ##0.###\"))-1),TEXT(VLOOKUP(T14,'SYSTEM FORMULAE'!$A$1:$Q$1990,3),\"# ##0.###\"))","v":" 15"},{"$f":"VLOOKUP(T14,'SYSTEM FORMULAE'!$A$1:$Q$1990,4)","v":"litres"},"±",{"$f":"IF(RIGHT(TEXT(VLOOKUP(T14,'SYSTEM FORMULAE'!$A$1:$Q$1990,6),\"# ##0.###\"),1)=\".\",LEFT(TEXT(VLOOKUP(T14,'SYSTEM FORMULAE'!$A$1:$Q$1990,6),\"# ##0.###\"),LEN(TEXT(VLOOKUP(T14,'SYSTEM FORMULAE'!$A$1:$Q$1990,6),\"# ##0.###\"))-1),TEXT(VLOOKUP(T14,'SYSTEM FORMULAE'!$A$1:$Q$1990,6),\"# ##0.###\"))","v":" 10"},{"$f":"VLOOKUP(T14,'SYSTEM FORMULAE'!$A$1:$Q$1990,7)","v":"%"},"Minimum =",{"$f":"CONCATENATE(IF(VLOOKUP(T14,'SYSTEM FORMULAE'!$A$1:$Q$1990,10)<>0,CONCATENATE(IF(RIGHT(TEXT(VLOOKUP(T14,'SYSTEM FORMULAE'!$A$1:$Q$1990,10),\"# ##0.###\"),1)=\".\",LEFT(TEXT(VLOOKUP(T14,'SYSTEM FORMULAE'!$A$1:$Q$1990,10),\"# ##0.###\"),LEN(TEXT(VLOOKUP(T14,'SYSTEM FORMULAE'!$A$1:$Q$1990,10),\"# ##0.###\"))-1),TEXT(VLOOKUP(T14,'SYSTEM FORMULAE'!$A$1:$Q$1990,10),\"# ##0.###\")),IF(RIGHT(TEXT(VLOOKUP(T14,'SYSTEM FORMULAE'!$A$1:$Q$1990,11),\"# ##0.###\"),1)=\".\",LEFT(TEXT(VLOOKUP(T14,'SYSTEM FORMULAE'!$A$1:$Q$1990,11),\"# ##0.###\"),LEN(TEXT(VLOOKUP(T14,'SYSTEM FORMULAE'!$A$1:$Q$1990,11),\"# ##0.###\"))-1),TEXT(VLOOKUP(T14,'SYSTEM FORMULAE'!$A$1:$Q$1990,11),\"# ##0.###\")),\" or \"),\"\"),IF(RIGHT(TEXT(VLOOKUP(T14,'SYSTEM FORMULAE'!$A$1:$Q$1990,12),\"# ##0.###\"),1)=\".\",LEFT(TEXT(VLOOKUP(T14,'SYSTEM FORMULAE'!$A$1:$Q$1990,12),\"# ##0.###\"),LEN(TEXT(VLOOKUP(T14,'SYSTEM FORMULAE'!$A$1:$Q$1990,12),\"# ##0.###\"))-1),TEXT(VLOOKUP(T14,'SYSTEM FORMULAE'!$A$1:$Q$1990,12),\"# ##0.###\")),IF(RIGHT(TEXT(VLOOKUP(T14,'SYSTEM FORMULAE'!$A$1:$Q$1990,13),\"# ##0.###\"),1)=\".\",LEFT(TEXT(VLOOKUP(T14,'SYSTEM FORMULAE'!$A$1:$Q$1990,13),\"# ##0.###\"),LEN(TEXT(VLOOKUP(T14,'SYSTEM FORMULAE'!$A$1:$Q$1990,13),\"# ##0.###\"))-1),TEXT(VLOOKUP(T14,'SYSTEM FORMULAE'!$A$1:$Q$1990,13),\"# ##0.###\")))","v":" 13.5 litres or 13 500cm³"},"Maximum = ",{"$f":"CONCATENATE(IF(VLOOKUP(T14,'SYSTEM FORMULAE'!$A$1:$Q$1990,10)<>0,CONCATENATE(IF(RIGHT(TEXT(VLOOKUP(T14,'SYSTEM FORMULAE'!$A$1:$Q$1990,14),\"# ##0.###\"),1)=\".\",LEFT(TEXT(VLOOKUP(T14,'SYSTEM FORMULAE'!$A$1:$Q$1990,14),\"# ##0.###\"),LEN(TEXT(VLOOKUP(T14,'SYSTEM FORMULAE'!$A$1:$Q$1990,14),\"# ##0.###\"))-1),TEXT(VLOOKUP(T14,'SYSTEM FORMULAE'!$A$1:$Q$1990,14),\"# ##0.###\")),IF(RIGHT(TEXT(VLOOKUP(T14,'SYSTEM FORMULAE'!$A$1:$Q$1990,15),\"# ##0.###\"),1)=\".\",LEFT(TEXT(VLOOKUP(T14,'SYSTEM FORMULAE'!$A$1:$Q$1990,15),\"# ##0.###\"),LEN(TEXT(VLOOKUP(T14,'SYSTEM FORMULAE'!$A$1:$Q$1990,15),\"# ##0.###\"))-1),TEXT(VLOOKUP(T14,'SYSTEM FORMULAE'!$A$1:$Q$1990,15),\"# ##0.###\")),\" or \"),\"\"),IF(RIGHT(TEXT(VLOOKUP(T14,'SYSTEM FORMULAE'!$A$1:$Q$1990,16),\"# ##0.###\"),1)=\".\",LEFT(TEXT(VLOOKUP(T14,'SYSTEM FORMULAE'!$A$1:$Q$1990,16),\"# ##0.###\"),LEN(TEXT(VLOOKUP(T14,'SYSTEM FORMULAE'!$A$1:$Q$1990,16),\"# ##0.###\"))-1),TEXT(VLOOKUP(T14,'SYSTEM FORMULAE'!$A$1:$Q$1990,16),\"# ##0.###\")),IF(RIGHT(TEXT(VLOOKUP(T14,'SYSTEM FORMULAE'!$A$1:$Q$1990,17),\"# ##0.###\"),1)=\".\",LEFT(TEXT(VLOOKUP(T14,'SYSTEM FORMULAE'!$A$1:$Q$1990,17),\"# ##0.###\"),LEN(TEXT(VLOOKUP(T14,'SYSTEM FORMULAE'!$A$1:$Q$1990,17),\"# ##0.###\"))-1),TEXT(VLOOKUP(T14,'SYSTEM FORMULAE'!$A$1:$Q$1990,17),\"# ##0.###\")))","v":" 16.5  litres or 16 500cm³"}]
[{"$f":"IF(COUNTIF($B$1:B15,TRUE)=COUNTIF($B$1:B14,TRUE),\"\",COUNTIF($B$1:B15,TRUE))","v":""},{"$f":"Worksheet!$B$16","v":false},13,"°C","±",{"$f":"IF(I15=1,H15*10^RANDBETWEEN(IF(Worksheet!$D$9,-1,0),0),IF(I15=2,H15,CHOOSE(RANDBETWEEN(1,3),5,10,20)))","v":0.30000000000000004},"°C",3,{"$f":"IF(AND(Worksheet!$D$8,RAND()<0),3,IF(RAND()<Worksheet!$D$7/100,1,2))","v":1},null," °C",12.7,"°C",null,"  °C",13.3,"°C",null,{"$f":"IF(ROW()<=Worksheet!$D$4,ROW(),\"\")","v":15},{"$f":"RANDBETWEEN(1,MAX('SYSTEM FORMULAE'!$A$1:$A$1990))","v":1050},{"$f":"IF(RIGHT(TEXT(VLOOKUP(T15,'SYSTEM FORMULAE'!$A$1:$Q$1990,3),\"# ##0.###\"),1)=\".\",LEFT(TEXT(VLOOKUP(T15,'SYSTEM FORMULAE'!$A$1:$Q$1990,3),\"# ##0.###\"),LEN(TEXT(VLOOKUP(T15,'SYSTEM FORMULAE'!$A$1:$Q$1990,3),\"# ##0.###\"))-1),TEXT(VLOOKUP(T15,'SYSTEM FORMULAE'!$A$1:$Q$1990,3),\"# ##0.###\"))","v":" 6"},{"$f":"VLOOKUP(T15,'SYSTEM FORMULAE'!$A$1:$Q$1990,4)","v":"hours"},"±",{"$f":"IF(RIGHT(TEXT(VLOOKUP(T15,'SYSTEM FORMULAE'!$A$1:$Q$1990,6),\"# ##0.###\"),1)=\".\",LEFT(TEXT(VLOOKUP(T15,'SYSTEM FORMULAE'!$A$1:$Q$1990,6),\"# ##0.###\"),LEN(TEXT(VLOOKUP(T15,'SYSTEM FORMULAE'!$A$1:$Q$1990,6),\"# ##0.###\"))-1),TEXT(VLOOKUP(T15,'SYSTEM FORMULAE'!$A$1:$Q$1990,6),\"# ##0.###\"))","v":" 1"},{"$f":"VLOOKUP(T15,'SYSTEM FORMULAE'!$A$1:$Q$1990,7)","v":"min"},"Minimum =",{"$f":"CONCATENATE(IF(VLOOKUP(T15,'SYSTEM FORMULAE'!$A$1:$Q$1990,10)<>0,CONCATENATE(IF(RIGHT(TEXT(VLOOKUP(T15,'SYSTEM FORMULAE'!$A$1:$Q$1990,10),\"# ##0.###\"),1)=\".\",LEFT(TEXT(VLOOKUP(T15,'SYSTEM FORMULAE'!$A$1:$Q$1990,10),\"# ##0.###\"),LEN(TEXT(VLOOKUP(T15,'SYSTEM FORMULAE'!$A$1:$Q$1990,10),\"# ##0.###\"))-1),TEXT(VLOOKUP(T15,'SYSTEM FORMULAE'!$A$1:$Q$1990,10),\"# ##0.###\")),IF(RIGHT(TEXT(VLOOKUP(T15,'SYSTEM FORMULAE'!$A$1:$Q$1990,11),\"# ##0.###\"),1)=\".\",LEFT(TEXT(VLOOKUP(T15,'SYSTEM FORMULAE'!$A$1:$Q$1990,11),\"# ##0.###\"),LEN(TEXT(VLOOKUP(T15,'SYSTEM FORMULAE'!$A$1:$Q$1990,11),\"# ##0.###\"))-1),TEXT(VLOOKUP(T15,'SYSTEM FORMULAE'!$A$1:$Q$1990,11),\"# ##0.###\")),\" or \"),\"\"),IF(RIGHT(TEXT(VLOOKUP(T15,'SYSTEM FORMULAE'!$A$1:$Q$1990,12),\"# ##0.###\"),1)=\".\",LEFT(TEXT(VLOOKUP(T15,'SYSTEM FORMULAE'!$A$1:$Q$1990,12),\"# ##0.###\"),LEN(TEXT(VLOOKUP(T15,'SYSTEM FORMULAE'!$A$1:$Q$1990,12),\"# ##0.###\"))-1),TEXT(VLOOKUP(T15,'SYSTEM FORMULAE'!$A$1:$Q$1990,12),\"# ##0.###\")),IF(RIGHT(TEXT(VLOOKUP(T15,'SYSTEM FORMULAE'!$A$1:$Q$1990,13),\"# ##0.###\"),1)=\".\",LEFT(TEXT(VLOOKUP(T15,'SYSTEM FORMULAE'!$A$1:$Q$1990,13),\"# ##0.###\"),LEN(TEXT(VLOOKUP(T15,'SYSTEM FORMULAE'!$A$1:$Q$1990,13),\"# ##0.###\"))-1),TEXT(VLOOKUP(T15,'SYSTEM FORMULAE'!$A$1:$Q$1990,13),\"# ##0.###\")))","v":" 359 min"},"Maximum = ",{"$f":"CONCATENATE(IF(VLOOKUP(T15,'SYSTEM FORMULAE'!$A$1:$Q$1990,10)<>0,CONCATENATE(IF(RIGHT(TEXT(VLOOKUP(T15,'SYSTEM FORMULAE'!$A$1:$Q$1990,14),\"# ##0.###\"),1)=\".\",LEFT(TEXT(VLOOKUP(T15,'SYSTEM FORMULAE'!$A$1:$Q$1990,14),\"# ##0.###\"),LEN(TEXT(VLOOKUP(T15,'SYSTEM FORMULAE'!$A$1:$Q$1990,14),\"# ##0.###\"))-1),TEXT(VLOOKUP(T15,'SYSTEM FORMULAE'!$A$1:$Q$1990,14),\"# ##0.###\")),IF(RIGHT(TEXT(VLOOKUP(T15,'SYSTEM FORMULAE'!$A$1:$Q$1990,15),\"# ##0.###\"),1)=\".\",LEFT(TEXT(VLOOKUP(T15,'SYSTEM FORMULAE'!$A$1:$Q$1990,15),\"# ##0.###\"),LEN(TEXT(VLOOKUP(T15,'SYSTEM FORMULAE'!$A$1:$Q$1990,15),\"# ##0.###\"))-1),TEXT(VLOOKUP(T15,'SYSTEM FORMULAE'!$A$1:$Q$1990,15),\"# ##0.###\")),\" or \"),\"\"),IF(RIGHT(TEXT(VLOOKUP(T15,'SYSTEM FORMULAE'!$A$1:$Q$1990,16),\"# ##0.###\"),1)=\".\",LEFT(TEXT(VLOOKUP(T15,'SYSTEM FORMULAE'!$A$1:$Q$1990,16),\"# ##0.###\"),LEN(TEXT(VLOOKUP(T15,'SYSTEM FORMULAE'!$A$1:$Q$1990,16),\"# ##0.###\"))-1),TEXT(VLOOKUP(T15,'SYSTEM FORMULAE'!$A$1:$Q$1990,16),\"# ##0.###\")),IF(RIGHT(TEXT(VLOOKUP(T15,'SYSTEM FORMULAE'!$A$1:$Q$1990,17),\"# ##0.###\"),1)=\".\",LEFT(TEXT(VLOOKUP(T15,'SYSTEM FORMULAE'!$A$1:$Q$1990,17),\"# ##0.###\"),LEN(TEXT(VLOOKUP(T15,'SYSTEM FORMULAE'!$A$1:$Q$1990,17),\"# ##0.###\"))-1),TEXT(VLOOKUP(T15,'SYSTEM FORMULAE'!$A$1:$Q$1990,17),\"# ##0.###\")))","v":" 361 min"}]
[{"$f":"IF(COUNTIF($B$1:B16,TRUE)=COUNTIF($B$1:B15,TRUE),\"\",COUNTIF($B$1:B16,TRUE))","v":""},{"$f":"Worksheet!$B$16","v":false},14,"°C","±",{"$f":"IF(I16=1,H16*10^RANDBETWEEN(IF(Worksheet!$D$9,-1,0),0),IF(I16=2,H16,CHOOSE(RANDBETWEEN(1,3),5,10,20)))","v":7},"°C",7,{"$f":"IF(AND(Worksheet!$D$8,RAND()<0),3,IF(RAND()<Worksheet!$D$7/100,1,2))","v":2},null," °C",7,"°C",null,"  °C",21,"°C",null,{"$f":"IF(ROW()<=Worksheet!$D$4,ROW(),\"\")","v":16},{"$f":"RANDBETWEEN(1,MAX('SYSTEM FORMULAE'!$A$1:$A$1990))","v":1376},{"$f":"IF(RIGHT(TEXT(VLOOKUP(T16,'SYSTEM FORMULAE'!$A$1:$Q$1990,3),\"# ##0.###\"),1)=\".\",LEFT(TEXT(VLOOKUP(T16,'SYSTEM FORMULAE'!$A$1:$Q$1990,3),\"# ##0.###\"),LEN(TEXT(VLOOKUP(T16,'SYSTEM FORMULAE'!$A$1:$Q$1990,3),\"# ##0.###\"))-1),TEXT(VLOOKUP(T16,'SYSTEM FORMULAE'!$A$1:$Q$1990,3),\"# ##0.###\"))","v":" 72"},{"$f":"VLOOKUP(T16,'SYSTEM FORMULAE'!$A$1:$Q$1990,4)","v":"m"},"±",{"$f":"IF(RIGHT(TEXT(VLOOKUP(T16,'SYSTEM FORMULAE'!$A$1:$Q$1990,6),\"# ##0.###\"),1)=\".\",LEFT(TEXT(VLOOKUP(T16,'SYSTEM FORMULAE'!$A$1:$Q$1990,6),\"# ##0.###\"),LEN(TEXT(VLOOKUP(T16,'SYSTEM FORMULAE'!$A$1:$Q$1990,6),\"# ##0.###\"))-1),TEXT(VLOOKUP(T16,'SYSTEM FORMULAE'!$A$1:$Q$1990,6),\"# ##0.###\"))","v":" 0.1"},{"$f":"VLOOKUP(T16,'SYSTEM FORMULAE'!$A$1:$Q$1990,7)","v":"m"},"Minimum =",{"$f":"CONCATENATE(IF(VLOOKUP(T16,'SYSTEM FORMULAE'!$A$1:$Q$1990,10)<>0,CONCATENATE(IF(RIGHT(TEXT(VLOOKUP(T16,'SYSTEM FORMULAE'!$A$1:$Q$1990,10),\"# ##0.###\"),1)=\".\",LEFT(TEXT(VLOOKUP(T16,'SYSTEM FORMULAE'!$A$1:$Q$1990,10),\"# ##0.###\"),LEN(TEXT(VLOOKUP(T16,'SYSTEM FORMULAE'!$A$1:$Q$1990,10),\"# ##0.###\"))-1),TEXT(VLOOKUP(T16,'SYSTEM FORMULAE'!$A$1:$Q$1990,10),\"# ##0.###\")),IF(RIGHT(TEXT(VLOOKUP(T16,'SYSTEM FORMULAE'!$A$1:$Q$1990,11),\"# ##0.###\"),1)=\".\",LEFT(TEXT(VLOOKUP(T16,'SYSTEM FORMULAE'!$A$1:$Q$1990,11),\"# ##0.###\"),LEN(TEXT(VLOOKUP(T16,'SYSTEM FORMULAE'!$A$1:$Q$1990,11),\"# ##0.###\"))-1),TEXT(VLOOKUP(T16,'SYSTEM FORMULAE'!$A$1:$Q$1990,11),\"# ##0.###\")),\" or \"),\"\"),IF(RIGHT(TEXT(VLOOKUP(T16,'SYSTEM FORMULAE'!$A$1:$Q$1990,12),\"# ##0.###\"),1)=\".\",LEFT(TEXT(VLOOKUP(T16,'SYSTEM FORMULAE'!$A$1:$Q$1990,12),\"# ##0.###\"),LEN(TEXT(VLOOKUP(T16,'SYSTEM FORMULAE'!$A$1:$Q$1990,12),\"# ##0.###\"))-1),TEXT(VLOOKUP(T16,'SYSTEM FORMULAE'!$A$1:$Q$1990,12),\"# ##0.###\")),IF(RIGHT(TEXT(VLOOKUP(T16,'SYSTEM FORMULAE'!$A$1:$Q$1990,13),\"# ##0.###\"),1)=\".\",LEFT(TEXT(VLOOKUP(T16,'SYSTEM FORMULAE'!$A$1:$Q$1990,13),\"# ##0.###\"),LEN(TEXT(VLOOKUP(T16,'SYSTEM FORMULAE'!$A$1:$Q$1990,13),\"# ##0.###\"))-1),TEXT(VLOOKUP(T16,'SYSTEM FORMULAE'!$A$1:$Q$1990,13),\"# ##0.###\")))","v":" 71.9 m or 7 190cm"},"Maximum = ",{"$f":"CONCATENATE(IF(VLOOKUP(T16,'SYSTEM FORMULAE'!$A$1:$Q$1990,10)<>0,CONCATENATE(IF(RIGHT(TEXT(VLOOKUP(T16,'SYSTEM FORMULAE'!$A$1:$Q$1990,14),\"# ##0.###\"),1)=\".\",LEFT(TEXT(VLOOKUP(T16,'SYSTEM FORMULAE'!$A$1:$Q$1990,14),\"# ##0.###\"),LEN(TEXT(VLOOKUP(T16,'SYSTEM FORMULAE'!$A$1:$Q$1990,14),\"# ##0.###\"))-1),TEXT(VLOOKUP(T16,'SYSTEM FORMULAE'!$A$1:$Q$1990,14),\"# ##0.###\")),IF(RIGHT(TEXT(VLOOKUP(T16,'SYSTEM FORMULAE'!$A$1:$Q$1990,15),\"# ##0.###\"),1)=\".\",LEFT(TEXT(VLOOKUP(T16,'SYSTEM FORMULAE'!$A$1:$Q$1990,15),\"# ##0.###\"),LEN(TEXT(VLOOKUP(T16,'SYSTEM FORMULAE'!$A$1:$Q$1990,15),\"# ##0.###\"))-1),TEXT(VLOOKUP(T16,'SYSTEM FORMULAE'!$A$1:$Q$1990,15),\"# ##0.###\")),\" or \"),\"\"),IF(RIGHT(TEXT(VLOOKUP(T16,'SYSTEM FORMULAE'!$A$1:$Q$1990,16),\"# ##0.###\"),1)=\".\",LEFT(TEXT(VLOOKUP(T16,'SYSTEM FORMULAE'!$A$1:$Q$1990,16),\"# ##0.###\"),LEN(TEXT(VLOOKUP(T16,'SYSTEM FORMULAE'!$A$1:$Q$1990,16),\"# ##0.###\"))-1),TEXT(VLOOKUP(T16,'SYSTEM FORMULAE'!$A$1:$Q$1990,16),\"# ##0.###\")),IF(RIGHT(TEXT(VLOOKUP(T16,'SYSTEM FORMULAE'!$A$1:$Q$1990,17),\"# ##0.###\"),1)=\".\",LEFT(TEXT(VLOOKUP(T16,'SYSTEM FORMULAE'!$A$1:$Q$1990,17),\"# ##0.###\"),LEN(TEXT(VLOOKUP(T16,'SYSTEM FORMULAE'!$A$1:$Q$1990,17),\"# ##0.###\"))-1),TEXT(VLOOKUP(T16,'SYSTEM FORMULAE'!$A$1:$Q$1990,17),\"# ##0.###\")))","v":" 72.1  m or 7 210cm"}]
[{"$f":"IF(COUNTIF($B$1:B17,TRUE)=COUNTIF($B$1:B16,TRUE),\"\",COUNTIF($B$1:B17,TRUE))","v":""},{"$f":"Worksheet!$B$16","v":false},9,"°C","±",{"$f":"IF(I17=1,H17*10^RANDBETWEEN(IF(Worksheet!$D$9,-1,0),0),IF(I17=2,H17,CHOOSE(RANDBETWEEN(1,3),5,10,20)))","v":2},"°C",2,{"$f":"IF(AND(Worksheet!$D$8,RAND()<0),3,IF(RAND()<Worksheet!$D$7/100,1,2))","v":2},null," °C",7,"°C",null,"  °C",11,"°C",null,{"$f":"IF(ROW()<=Worksheet!$D$4,ROW(),\"\")","v":17},{"$f":"RANDBETWEEN(1,MAX('SYSTEM FORMULAE'!$A$1:$A$1990))","v":664},{"$f":"IF(RIGHT(TEXT(VLOOKUP(T17,'SYSTEM FORMULAE'!$A$1:$Q$1990,3),\"# ##0.###\"),1)=\".\",LEFT(TEXT(VLOOKUP(T17,'SYSTEM FORMULAE'!$A$1:$Q$1990,3),\"# ##0.###\"),LEN(TEXT(VLOOKUP(T17,'SYSTEM FORMULAE'!$A$1:$Q$1990,3),\"# ##0.###\"))-1),TEXT(VLOOKUP(T17,'SYSTEM FORMULAE'!$A$1:$Q$1990,3),\"# ##0.###\"))","v":" 175"},{"$f":"VLOOKUP(T17,'SYSTEM FORMULAE'!$A$1:$Q$1990,4)","v":"m"},"±",{"$f":"IF(RIGHT(TEXT(VLOOKUP(T17,'SYSTEM FORMULAE'!$A$1:$Q$1990,6),\"# ##0.###\"),1)=\".\",LEFT(TEXT(VLOOKUP(T17,'SYSTEM FORMULAE'!$A$1:$Q$1990,6),\"# ##0.###\"),LEN(TEXT(VLOOKUP(T17,'SYSTEM FORMULAE'!$A$1:$Q$1990,6),\"# ##0.###\"))-1),TEXT(VLOOKUP(T17,'SYSTEM FORMULAE'!$A$1:$Q$1990,6),\"# ##0.###\"))","v":" 10"},{"$f":"VLOOKUP(T17,'SYSTEM FORMULAE'!$A$1:$Q$1990,7)","v":"%"},"Minimum =",{"$f":"CONCATENATE(IF(VLOOKUP(T17,'SYSTEM FORMULAE'!$A$1:$Q$1990,10)<>0,CONCATENATE(IF(RIGHT(TEXT(VLOOKUP(T17,'SYSTEM FORMULAE'!$A$1:$Q$1990,10),\"# ##0.###\"),1)=\".\",LEFT(TEXT(VLOOKUP(T17,'SYSTEM FORMULAE'!$A$1:$Q$1990,10),\"# ##0.###\"),LEN(TEXT(VLOOKUP(T17,'SYSTEM FORMULAE'!$A$1:$Q$1990,10),\"# ##0.###\"))-1),TEXT(VLOOKUP(T17,'SYSTEM FORMULAE'!$A$1:$Q$1990,10),\"# ##0.###\")),IF(RIGHT(TEXT(VLOOKUP(T17,'SYSTEM FORMULAE'!$A$1:$Q$1990,11),\"# ##0.###\"),1)=\".\",LEFT(TEXT(VLOOKUP(T17,'SYSTEM FORMULAE'!$A$1:$Q$1990,11),\"# ##0.###\"),LEN(TEXT(VLOOKUP(T17,'SYSTEM FORMULAE'!$A$1:$Q$1990,11),\"# ##0.###\"))-1),TEXT(VLOOKUP(T17,'SYSTEM FORMULAE'!$A$1:$Q$1990,11),\"# ##0.###\")),\" or \"),\"\"),IF(RIGHT(TEXT(VLOOKUP(T17,'SYSTEM FORMULAE'!$A$1:$Q$1990,12),\"# ##0.###\"),1)=\".\",LEFT(TEXT(VLOOKUP(T17,'SYSTEM FORMULAE'!$A$1:$Q$1990,12),\"# ##0.###\"),LEN(TEXT(VLOOKUP(T17,'SYSTEM FORMULAE'!$A$1:$Q$1990,12),\"# ##0.###\"))-1),TEXT(VLOOKUP(T17,'SYSTEM FORMULAE'!$A$1:$Q$1990,12),\"# ##0.###\")),IF(RIGHT(TEXT(VLOOKUP(T17,'SYSTEM FORMULAE'!$A$1:$Q$1990,13),\"# ##0.###\"),1)=\".\",LEFT(TEXT(VLOOKUP(T17,'SYSTEM FORMULAE'!$A$1:$Q$1990,13),\"# ##0.###\"),LEN(TEXT(VLOOKUP(T17,'SYSTEM FORMULAE'!$A$1:$Q$1990,13),\"# ##0.###\"))-1),TEXT(VLOOKUP(T17,'SYSTEM FORMULAE'!$A$1:$Q$1990,13),\"# ##0.###\")))","v":" 157.5 m or 15 750cm"},"Maximum = ",{"$f":"CONCATENATE(IF(VLOOKUP(T17,'SYSTEM FORMULAE'!$A$1:$Q$1990,10)<>0,CONCATENATE(IF(RIGHT(TEXT(VLOOKUP(T17,'SYSTEM FORMULAE'!$A$1:$Q$1990,14),\"# ##0.###\"),1)=\".\",LEFT(TEXT(VLOOKUP(T17,'SYSTEM FORMULAE'!$A$1:$Q$1990,14),\"# ##0.###\"),LEN(TEXT(VLOOKUP(T17,'SYSTEM FORMULAE'!$A$1:$Q$1990,14),\"# ##0.###\"))-1),TEXT(VLOOKUP(T17,'SYSTEM FORMULAE'!$A$1:$Q$1990,14),\"# ##0.###\")),IF(RIGHT(TEXT(VLOOKUP(T17,'SYSTEM FORMULAE'!$A$1:$Q$1990,15),\"# ##0.###\"),1)=\".\",LEFT(TEXT(VLOOKUP(T17,'SYSTEM FORMULAE'!$A$1:$Q$1990,15),\"# ##0.###\"),LEN(TEXT(VLOOKUP(T17,'SYSTEM FORMULAE'!$A$1:$Q$1990,15),\"# ##0.###\"))-1),TEXT(VLOOKUP(T17,'SYSTEM FORMULAE'!$A$1:$Q$1990,15),\"# ##0.###\")),\" or \"),\"\"),IF(RIGHT(TEXT(VLOOKUP(T17,'SYSTEM FORMULAE'!$A$1:$Q$1990,16),\"# ##0.###\"),1)=\".\",LEFT(TEXT(VLOOKUP(T17,'SYSTEM FORMULAE'!$A$1:$Q$1990,16),\"# ##0.###\"),LEN(TEXT(VLOOKUP(T17,'SYSTEM FORMULAE'!$A$1:$Q$1990,16),\"# ##0.###\"))-1),TEXT(VLOOKUP(T17,'SYSTEM FORMULAE'!$A$1:$Q$1990,16),\"# ##0.###\")),IF(RIGHT(TEXT(VLOOKUP(T17,'SYSTEM FORMULAE'!$A$1:$Q$1990,17),\"# ##0.###\"),1)=\".\",LEFT(TEXT(VLOOKUP(T17,'SYSTEM FORMULAE'!$A$1:$Q$1990,17),\"# ##0.###\"),LEN(TEXT(VLOOKUP(T17,'SYSTEM FORMULAE'!$A$1:$Q$1990,17),\"# ##0.###\"))-1),TEXT(VLOOKUP(T17,'SYSTEM FORMULAE'!$A$1:$Q$1990,17),\"# ##0.###\")))","v":" 192.5  m or 19 250cm"}]
[{"$f":"IF(COUNTIF($B$1:B18,TRUE)=COUNTIF($B$1:B17,TRUE),\"\",COUNTIF($B$1:B18,TRUE))","v":""},{"$f":"Worksheet!$B$16","v":false},17,"°C","±",{"$f":"IF(I18=1,H18*10^RANDBETWEEN(IF(Worksheet!$D$9,-1,0),0),IF(I18=2,H18,CHOOSE(RANDBETWEEN(1,3),5,10,20)))","v":0.5},"°C",{"$f":"RANDBETWEEN(1,MIN(9,C18))","v":5},{"$f":"IF(AND(Worksheet!$D$8,RAND()<0),3,IF(RAND()<Worksheet!$D$7/100,1,2))","v":1},null," °C",16.5,"°C",null,"  °C",17.5,"°C",null,{"$f":"IF(ROW()<=Worksheet!$D$4,ROW(),\"\")","v":18},{"$f":"RANDBETWEEN(1,MAX('SYSTEM FORMULAE'!$A$1:$A$1990))","v":1544},{"$f":"IF(RIGHT(TEXT(VLOOKUP(T18,'SYSTEM FORMULAE'!$A$1:$Q$1990,3),\"# ##0.###\"),1)=\".\",LEFT(TEXT(VLOOKUP(T18,'SYSTEM FORMULAE'!$A$1:$Q$1990,3),\"# ##0.###\"),LEN(TEXT(VLOOKUP(T18,'SYSTEM FORMULAE'!$A$1:$Q$1990,3),\"# ##0.###\"))-1),TEXT(VLOOKUP(T18,'SYSTEM FORMULAE'!$A$1:$Q$1990,3),\"# ##0.###\"))","v":" 40"},{"$f":"VLOOKUP(T18,'SYSTEM FORMULAE'!$A$1:$Q$1990,4)","v":"m"},"±",{"$f":"IF(RIGHT(TEXT(VLOOKUP(T18,'SYSTEM FORMULAE'!$A$1:$Q$1990,6),\"# ##0.###\"),1)=\".\",LEFT(TEXT(VLOOKUP(T18,'SYSTEM FORMULAE'!$A$1:$Q$1990,6),\"# ##0.###\"),LEN(TEXT(VLOOKUP(T18,'SYSTEM FORMULAE'!$A$1:$Q$1990,6),\"# ##0.###\"))-1),TEXT(VLOOKUP(T18,'SYSTEM FORMULAE'!$A$1:$Q$1990,6),\"# ##0.###\"))","v":" 60"},{"$f":"VLOOKUP(T18,'SYSTEM FORMULAE'!$A$1:$Q$1990,7)","v":"cm"},"Minimum =",{"$f":"CONCATENATE(IF(VLOOKUP(T18,'SYSTEM FORMULAE'!$A$1:$Q$1990,10)<>0,CONCATENATE(IF(RIGHT(TEXT(VLOOKUP(T18,'SYSTEM FORMULAE'!$A$1:$Q$1990,10),\"# ##0.###\"),1)=\".\",LEFT(TEXT(VLOOKUP(T18,'SYSTEM FORMULAE'!$A$1:$Q$1990,10),\"# ##0.###\"),LEN(TEXT(VLOOKUP(T18,'SYSTEM FORMULAE'!$A$1:$Q$1990,10),\"# ##0.###\"))-1),TEXT(VLOOKUP(T18,'SYSTEM FORMULAE'!$A$1:$Q$1990,10),\"# ##0.###\")),IF(RIGHT(TEXT(VLOOKUP(T18,'SYSTEM FORMULAE'!$A$1:$Q$1990,11),\"# ##0.###\"),1)=\".\",LEFT(TEXT(VLOOKUP(T18,'SYSTEM FORMULAE'!$A$1:$Q$1990,11),\"# ##0.###\"),LEN(TEXT(VLOOKUP(T18,'SYSTEM FORMULAE'!$A$1:$Q$1990,11),\"# ##0.###\"))-1),TEXT(VLOOKUP(T18,'SYSTEM FORMULAE'!$A$1:$Q$1990,11),\"# ##0.###\")),\" or \"),\"\"),IF(RIGHT(TEXT(VLOOKUP(T18,'SYSTEM FORMULAE'!$A$1:$Q$1990,12),\"# ##0.###\"),1)=\".\",LEFT(TEXT(VLOOKUP(T18,'SYSTEM FORMULAE'!$A$1:$Q$1990,12),\"# ##0.###\"),LEN(TEXT(VLOOKUP(T18,'SYSTEM FORMULAE'!$A$1:$Q$1990,12),\"# ##0.###\"))-1),TEXT(VLOOKUP(T18,'SYSTEM FORMULAE'!$A$1:$Q$1990,12),\"# ##0.###\")),IF(RIGHT(TEXT(VLOOKUP(T18,'SYSTEM FORMULAE'!$A$1:$Q$1990,13),\"# ##0.###\"),1)=\".\",LEFT(TEXT(VLOOKUP(T18,'SYSTEM FORMULAE'!$A$1:$Q$1990,13),\"# ##0.###\"),LEN(TEXT(VLOOKUP(T18,'SYSTEM FORMULAE'!$A$1:$Q$1990,13),\"# ##0.###\"))-1),TEXT(VLOOKUP(T18,'SYSTEM FORMULAE'!$A$1:$Q$1990,13),\"# ##0.###\")))","v":" 39.4 m or 3 940cm"},"Maximum = ",{"$f":"CONCATENATE(IF(VLOOKUP(T18,'SYSTEM FORMULAE'!$A$1:$Q$1990,10)<>0,CONCATENATE(IF(RIGHT(TEXT(VLOOKUP(T18,'SYSTEM FORMULAE'!$A$1:$Q$1990,14),\"# ##0.###\"),1)=\".\",LEFT(TEXT(VLOOKUP(T18,'SYSTEM FORMULAE'!$A$1:$Q$1990,14),\"# ##0.###\"),LEN(TEXT(VLOOKUP(T18,'SYSTEM FORMULAE'!$A$1:$Q$1990,14),\"# ##0.###\"))-1),TEXT(VLOOKUP(T18,'SYSTEM FORMULAE'!$A$1:$Q$1990,14),\"# ##0.###\")),IF(RIGHT(TEXT(VLOOKUP(T18,'SYSTEM FORMULAE'!$A$1:$Q$1990,15),\"# ##0.###\"),1)=\".\",LEFT(TEXT(VLOOKUP(T18,'SYSTEM FORMULAE'!$A$1:$Q$1990,15),\"# ##0.###\"),LEN(TEXT(VLOOKUP(T18,'SYSTEM FORMULAE'!$A$1:$Q$1990,15),\"# ##0.###\"))-1),TEXT(VLOOKUP(T18,'SYSTEM FORMULAE'!$A$1:$Q$1990,15),\"# ##0.###\")),\" or \"),\"\"),IF(RIGHT(TEXT(VLOOKUP(T18,'SYSTEM FORMULAE'!$A$1:$Q$1990,16),\"# ##0.###\"),1)=\".\",LEFT(TEXT(VLOOKUP(T18,'SYSTEM FORMULAE'!$A$1:$Q$1990,16),\"# ##0.###\"),LEN(TEXT(VLOOKUP(T18,'SYSTEM FORMULAE'!$A$1:$Q$1990,16),\"# ##0.###\"))-1),TEXT(VLOOKUP(T18,'SYSTEM FORMULAE'!$A$1:$Q$1990,16),\"# ##0.###\")),IF(RIGHT(TEXT(VLOOKUP(T18,'SYSTEM FORMULAE'!$A$1:$Q$1990,17),\"# ##0.###\"),1)=\".\",LEFT(TEXT(VLOOKUP(T18,'SYSTEM FORMULAE'!$A$1:$Q$1990,17),\"# ##0.###\"),LEN(TEXT(VLOOKUP(T18,'SYSTEM FORMULAE'!$A$1:$Q$1990,17),\"# ##0.###\"))-1),TEXT(VLOOKUP(T18,'SYSTEM FORMULAE'!$A$1:$Q$1990,17),\"# ##0.###\")))","v":" 40.6  m or 4 060cm"}]
[{"$f":"IF(COUNTIF($B$1:B19,TRUE)=COUNTIF($B$1:B18,TRUE),\"\",COUNTIF($B$1:B19,TRUE))","v":""},{"$f":"Worksheet!$B$16","v":false},20,"°C","±",{"$f":"IF(I19=1,H19*10^RANDBETWEEN(IF(Worksheet!$D$9,-1,0),0),IF(I19=2,H19,CHOOSE(RANDBETWEEN(1,3),5,10,20)))","v":1},"°C",1,{"$f":"IF(AND(Worksheet!$D$8,RAND()<0),3,IF(RAND()<Worksheet!$D$7/100,1,2))","v":2},null," °C",19,"°C",null,"  °C",21,"°C",null,{"$f":"IF(ROW()<=Worksheet!$D$4,ROW(),\"\")","v":19},{"$f":"RANDBETWEEN(1,MAX('SYSTEM FORMULAE'!$A$1:$A$1990))","v":1020},{"$f":"IF(RIGHT(TEXT(VLOOKUP(T19,'SYSTEM FORMULAE'!$A$1:$Q$1990,3),\"# ##0.###\"),1)=\".\",LEFT(TEXT(VLOOKUP(T19,'SYSTEM FORMULAE'!$A$1:$Q$1990,3),\"# ##0.###\"),LEN(TEXT(VLOOKUP(T19,'SYSTEM FORMULAE'!$A$1:$Q$1990,3),\"# ##0.###\"))-1),TEXT(VLOOKUP(T19,'SYSTEM FORMULAE'!$A$1:$Q$1990,3),\"# ##0.###\"))","v":" 19"},{"$f":"VLOOKUP(T19,'SYSTEM FORMULAE'!$A$1:$Q$1990,4)","v":"tonnes"},"±",{"$f":"IF(RIGHT(TEXT(VLOOKUP(T19,'SYSTEM FORMULAE'!$A$1:$Q$1990,6),\"# ##0.###\"),1)=\".\",LEFT(TEXT(VLOOKUP(T19,'SYSTEM FORMULAE'!$A$1:$Q$1990,6),\"# ##0.###\"),LEN(TEXT(VLOOKUP(T19,'SYSTEM FORMULAE'!$A$1:$Q$1990,6),\"# ##0.###\"))-1),TEXT(VLOOKUP(T19,'SYSTEM FORMULAE'!$A$1:$Q$1990,6),\"# ##0.###\"))","v":" 0.1"},{"$f":"VLOOKUP(T19,'SYSTEM FORMULAE'!$A$1:$Q$1990,7)","v":"tonnes"},"Minimum =",{"$f":"CONCATENATE(IF(VLOOKUP(T19,'SYSTEM FORMULAE'!$A$1:$Q$1990,10)<>0,CONCATENATE(IF(RIGHT(TEXT(VLOOKUP(T19,'SYSTEM FORMULAE'!$A$1:$Q$1990,10),\"# ##0.###\"),1)=\".\",LEFT(TEXT(VLOOKUP(T19,'SYSTEM FORMULAE'!$A$1:$Q$1990,10),\"# ##0.###\"),LEN(TEXT(VLOOKUP(T19,'SYSTEM FORMULAE'!$A$1:$Q$1990,10),\"# ##0.###\"))-1),TEXT(VLOOKUP(T19,'SYSTEM FORMULAE'!$A$1:$Q$1990,10),\"# ##0.###\")),IF(RIGHT(TEXT(VLOOKUP(T19,'SYSTEM FORMULAE'!$A$1:$Q$1990,11),\"# ##0.###\"),1)=\".\",LEFT(TEXT(VLOOKUP(T19,'SYSTEM FORMULAE'!$A$1:$Q$1990,11),\"# ##0.###\"),LEN(TEXT(VLOOKUP(T19,'SYSTEM FORMULAE'!$A$1:$Q$1990,11),\"# ##0.###\"))-1),TEXT(VLOOKUP(T19,'SYSTEM FORMULAE'!$A$1:$Q$1990,11),\"# ##0.###\")),\" or \"),\"\"),IF(RIGHT(TEXT(VLOOKUP(T19,'SYSTEM FORMULAE'!$A$1:$Q$1990,12),\"# ##0.###\"),1)=\".\",LEFT(TEXT(VLOOKUP(T19,'SYSTEM FORMULAE'!$A$1:$Q$1990,12),\"# ##0.###\"),LEN(TEXT(VLOOKUP(T19,'SYSTEM FORMULAE'!$A$1:$Q$1990,12),\"# ##0.###\"))-1),TEXT(VLOOKUP(T19,'SYSTEM FORMULAE'!$A$1:$Q$1990,12),\"# ##0.###\")),IF(RIGHT(TEXT(VLOOKUP(T19,'SYSTEM FORMULAE'!$A$1:$Q$1990,13),\"# ##0.###\"),1)=\".\",LEFT(TEXT(VLOOKUP(T19,'SYSTEM FORMULAE'!$A$1:$Q$1990,13),\"# ##0.###\"),LEN(TEXT(VLOOKUP(T19,'SYSTEM FORMULAE'!$A$1:$Q$1990,13),\"# ##0.###\"))-1),TEXT(VLOOKUP(T19,'SYSTEM FORMULAE'!$A$1:$Q$1990,13),\"# ##0.###\")))","v":" 18.9 tonnes or 18 900kg"},"Maximum = ",{"$f":"CONCATENATE(IF(VLOOKUP(T19,'SYSTEM FORMULAE'!$A$1:$Q$1990,10)<>0,CONCATENATE(IF(RIGHT(TEXT(VLOOKUP(T19,'SYSTEM FORMULAE'!$A$1:$Q$1990,14),\"# ##0.###\"),1)=\".\",LEFT(TEXT(VLOOKUP(T19,'SYSTEM FORMULAE'!$A$1:$Q$1990,14),\"# ##0.###\"),LEN(TEXT(VLOOKUP(T19,'SYSTEM FORMULAE'!$A$1:$Q$1990,14),\"# ##0.###\"))-1),TEXT(VLOOKUP(T19,'SYSTEM FORMULAE'!$A$1:$Q$1990,14),\"# ##0.###\")),IF(RIGHT(TEXT(VLOOKUP(T19,'SYSTEM FORMULAE'!$A$1:$Q$1990,15),\"# ##0.###\"),1)=\".\",LEFT(TEXT(VLOOKUP(T19,'SYSTEM FORMULAE'!$A$1:$Q$1990,15),\"# ##0.###\"),LEN(TEXT(VLOOKUP(T19,'SYSTEM FORMULAE'!$A$1:$Q$1990,15),\"# ##0.###\"))-1),TEXT(VLOOKUP(T19,'SYSTEM FORMULAE'!$A$1:$Q$1990,15),\"# ##0.###\")),\" or \"),\"\"),IF(RIGHT(TEXT(VLOOKUP(T19,'SYSTEM FORMULAE'!$A$1:$Q$1990,16),\"# ##0.###\"),1)=\".\",LEFT(TEXT(VLOOKUP(T19,'SYSTEM FORMULAE'!$A$1:$Q$1990,16),\"# ##0.###\"),LEN(TEXT(VLOOKUP(T19,'SYSTEM FORMULAE'!$A$1:$Q$1990,16),\"# ##0.###\"))-1),TEXT(VLOOKUP(T19,'SYSTEM FORMULAE'!$A$1:$Q$1990,16),\"# ##0.###\")),IF(RIGHT(TEXT(VLOOKUP(T19,'SYSTEM FORMULAE'!$A$1:$Q$1990,17),\"# ##0.###\"),1)=\".\",LEFT(TEXT(VLOOKUP(T19,'SYSTEM FORMULAE'!$A$1:$Q$1990,17),\"# ##0.###\"),LEN(TEXT(VLOOKUP(T19,'SYSTEM FORMULAE'!$A$1:$Q$1990,17),\"# ##0.###\"))-1),TEXT(VLOOKUP(T19,'SYSTEM FORMULAE'!$A$1:$Q$1990,17),\"# ##0.###\")))","v":" 19.1  tonnes or 19 100kg"}]
[{"$f":"IF(COUNTIF($B$1:B20,TRUE)=COUNTIF($B$1:B19,TRUE),\"\",COUNTIF($B$1:B20,TRUE))","v":""},{"$f":"Worksheet!$B$16","v":false},13,"°C","±",{"$f":"IF(I20=1,H20*10^RANDBETWEEN(IF(Worksheet!$D$9,-1,0),0),IF(I20=2,H20,CHOOSE(RANDBETWEEN(1,3),5,10,20)))","v":6},"°C",6,{"$f":"IF(AND(Worksheet!$D$8,RAND()<0),3,IF(RAND()<Worksheet!$D$7/100,1,2))","v":2},null," °C",7,"°C",null,"  °C",19,"°C",null,{"$f":"IF(ROW()<=Worksheet!$D$4,ROW(),\"\")","v":20},{"$f":"RANDBETWEEN(1,MAX('SYSTEM FORMULAE'!$A$1:$A$1990))","v":383},{"$f":"IF(RIGHT(TEXT(VLOOKUP(T20,'SYSTEM FORMULAE'!$A$1:$Q$1990,3),\"# ##0.###\"),1)=\".\",LEFT(TEXT(VLOOKUP(T20,'SYSTEM FORMULAE'!$A$1:$Q$1990,3),\"# ##0.###\"),LEN(TEXT(VLOOKUP(T20,'SYSTEM FORMULAE'!$A$1:$Q$1990,3),\"# ##0.###\"))-1),TEXT(VLOOKUP(T20,'SYSTEM FORMULAE'!$A$1:$Q$1990,3),\"# ##0.###\"))","v":" 89"},{"$f":"VLOOKUP(T20,'SYSTEM FORMULAE'!$A$1:$Q$1990,4)","v":"cm"},"±",{"$f":"IF(RIGHT(TEXT(VLOOKUP(T20,'SYSTEM FORMULAE'!$A$1:$Q$1990,6),\"# ##0.###\"),1)=\".\",LEFT(TEXT(VLOOKUP(T20,'SYSTEM FORMULAE'!$A$1:$Q$1990,6),\"# ##0.###\"),LEN(TEXT(VLOOKUP(T20,'SYSTEM FORMULAE'!$A$1:$Q$1990,6),\"# ##0.###\"))-1),TEXT(VLOOKUP(T20,'SYSTEM FORMULAE'!$A$1:$Q$1990,6),\"# ##0.###\"))","v":" 0.2"},{"$f":"VLOOKUP(T20,'SYSTEM FORMULAE'!$A$1:$Q$1990,7)","v":"cm"},"Minimum =",{"$f":"CONCATENATE(IF(VLOOKUP(T20,'SYSTEM FORMULAE'!$A$1:$Q$1990,10)<>0,CONCATENATE(IF(RIGHT(TEXT(VLOOKUP(T20,'SYSTEM FORMULAE'!$A$1:$Q$1990,10),\"# ##0.###\"),1)=\".\",LEFT(TEXT(VLOOKUP(T20,'SYSTEM FORMULAE'!$A$1:$Q$1990,10),\"# ##0.###\"),LEN(TEXT(VLOOKUP(T20,'SYSTEM FORMULAE'!$A$1:$Q$1990,10),\"# ##0.###\"))-1),TEXT(VLOOKUP(T20,'SYSTEM FORMULAE'!$A$1:$Q$1990,10),\"# ##0.###\")),IF(RIGHT(TEXT(VLOOKUP(T20,'SYSTEM FORMULAE'!$A$1:$Q$1990,11),\"# ##0.###\"),1)=\".\",LEFT(TEXT(VLOOKUP(T20,'SYSTEM FORMULAE'!$A$1:$Q$1990,11),\"# ##0.###\"),LEN(TEXT(VLOOKUP(T20,'SYSTEM FORMULAE'!$A$1:$Q$1990,11),\"# ##0.###\"))-1),TEXT(VLOOKUP(T20,'SYSTEM FORMULAE'!$A$1:$Q$1990,11),\"# ##0.###\")),\" or \"),\"\"),IF(RIGHT(TEXT(VLOOKUP(T20,'SYSTEM FORMULAE'!$A$1:$Q$1990,12),\"# ##0.###\"),1)=\".\",LEFT(TEXT(VLOOKUP(T20,'SYSTEM FORMULAE'!$A$1:$Q$1990,12),\"# ##0.###\"),LEN(TEXT(VLOOKUP(T20,'SYSTEM FORMULAE'!$A$1:$Q$1990,12),\"# ##0.###\"))-1),TEXT(VLOOKUP(T20,'SYSTEM FORMULAE'!$A$1:$Q$1990,12),\"# ##0.###\")),IF(RIGHT(TEXT(VLOOKUP(T20,'SYSTEM FORMULAE'!$A$1:$Q$1990,13),\"# ##0.###\"),1)=\".\",LEFT(TEXT(VLOOKUP(T20,'SYSTEM FORMULAE'!$A$1:$Q$1990,13),\"# ##0.###\"),LEN(TEXT(VLOOKUP(T20,'SYSTEM FORMULAE'!$A$1:$Q$1990,13),\"# ##0.###\"))-1),TEXT(VLOOKUP(T20,'SYSTEM FORMULAE'!$A$1:$Q$1990,13),\"# ##0.###\")))","v":" 88.8 cm or  888mm"},"Maximum = ",{"$f":"CONCATENATE(IF(VLOOKUP(T20,'SYSTEM FORMULAE'!$A$1:$Q$1990,10)<>0,CONCATENATE(IF(RIGHT(TEXT(VLOOKUP(T20,'SYSTEM FORMULAE'!$A$1:$Q$1990,14),\"# ##0.###\"),1)=\".\",LEFT(TEXT(VLOOKUP(T20,'SYSTEM FORMULAE'!$A$1:$Q$1990,14),\"# ##0.###\"),LEN(TEXT(VLOOKUP(T20,'SYSTEM FORMULAE'!$A$1:$Q$1990,14),\"# ##0.###\"))-1),TEXT(VLOOKUP(T20,'SYSTEM FORMULAE'!$A$1:$Q$1990,14),\"# ##0.###\")),IF(RIGHT(TEXT(VLOOKUP(T20,'SYSTEM FORMULAE'!$A$1:$Q$1990,15),\"# ##0.###\"),1)=\".\",LEFT(TEXT(VLOOKUP(T20,'SYSTEM FORMULAE'!$A$1:$Q$1990,15),\"# ##0.###\"),LEN(TEXT(VLOOKUP(T20,'SYSTEM FORMULAE'!$A$1:$Q$1990,15),\"# ##0.###\"))-1),TEXT(VLOOKUP(T20,'SYSTEM FORMULAE'!$A$1:$Q$1990,15),\"# ##0.###\")),\" or \"),\"\"),IF(RIGHT(TEXT(VLOOKUP(T20,'SYSTEM FORMULAE'!$A$1:$Q$1990,16),\"# ##0.###\"),1)=\".\",LEFT(TEXT(VLOOKUP(T20,'SYSTEM FORMULAE'!$A$1:$Q$1990,16),\"# ##0.###\"),LEN(TEXT(VLOOKUP(T20,'SYSTEM FORMULAE'!$A$1:$Q$1990,16),\"# ##0.###\"))-1),TEXT(VLOOKUP(T20,'SYSTEM FORMULAE'!$A$1:$Q$1990,16),\"# ##0.###\")),IF(RIGHT(TEXT(VLOOKUP(T20,'SYSTEM FORMULAE'!$A$1:$Q$1990,17),\"# ##0.###\"),1)=\".\",LEFT(TEXT(VLOOKUP(T20,'SYSTEM FORMULAE'!$A$1:$Q$1990,17),\"# ##0.###\"),LEN(TEXT(VLOOKUP(T20,'SYSTEM FORMULAE'!$A$1:$Q$1990,17),\"# ##0.###\"))-1),TEXT(VLOOKUP(T20,'SYSTEM FORMULAE'!$A$1:$Q$1990,17),\"# ##0.###\")))","v":" 89.2  cm or  892mm"}]
[{"$f":"IF(COUNTIF($B$1:B21,TRUE)=COUNTIF($B$1:B20,TRUE),\"\",COUNTIF($B$1:B21,TRUE))","v":""},{"$f":"Worksheet!$B$16","v":false},7,"°C","±",{"$f":"IF(I21=1,H21*10^RANDBETWEEN(IF(Worksheet!$D$9,-1,0),0),IF(I21=2,H21,CHOOSE(RANDBETWEEN(1,3),5,10,20)))","v":4},"°C",4,{"$f":"IF(AND(Worksheet!$D$8,RAND()<0),3,IF(RAND()<Worksheet!$D$7/100,1,2))","v":1},null," °C",3,"°C",null,"  °C",11,"°C",null,{"$f":"IF(ROW()<=Worksheet!$D$4,ROW(),\"\")","v":21},{"$f":"RANDBETWEEN(1,MAX('SYSTEM FORMULAE'!$A$1:$A$1990))","v":1132},{"$f":"IF(RIGHT(TEXT(VLOOKUP(T21,'SYSTEM FORMULAE'!$A$1:$Q$1990,3),\"# ##0.###\"),1)=\".\",LEFT(TEXT(VLOOKUP(T21,'SYSTEM FORMULAE'!$A$1:$Q$1990,3),\"# ##0.###\"),LEN(TEXT(VLOOKUP(T21,'SYSTEM FORMULAE'!$A$1:$Q$1990,3),\"# ##0.###\"))-1),TEXT(VLOOKUP(T21,'SYSTEM FORMULAE'!$A$1:$Q$1990,3),\"# ##0.###\"))","v":" 5"},{"$f":"VLOOKUP(T21,'SYSTEM FORMULAE'!$A$1:$Q$1990,4)","v":"tonnes"},"±",{"$f":"IF(RIGHT(TEXT(VLOOKUP(T21,'SYSTEM FORMULAE'!$A$1:$Q$1990,6),\"# ##0.###\"),1)=\".\",LEFT(TEXT(VLOOKUP(T21,'SYSTEM FORMULAE'!$A$1:$Q$1990,6),\"# ##0.###\"),LEN(TEXT(VLOOKUP(T21,'SYSTEM FORMULAE'!$A$1:$Q$1990,6),\"# ##0.###\"))-1),TEXT(VLOOKUP(T21,'SYSTEM FORMULAE'!$A$1:$Q$1990,6),\"# ##0.###\"))","v":" 0.2"},{"$f":"VLOOKUP(T21,'SYSTEM FORMULAE'!$A$1:$Q$1990,7)","v":"tonnes"},"Minimum =",{"$f":"CONCATENATE(IF(VLOOKUP(T21,'SYSTEM FORMULAE'!$A$1:$Q$1990,10)<>0,CONCATENATE(IF(RIGHT(TEXT(VLOOKUP(T21,'SYSTEM FORMULAE'!$A$1:$Q$1990,10),\"# ##0.###\"),1)=\".\",LEFT(TEXT(VLOOKUP(T21,'SYSTEM FORMULAE'!$A$1:$Q$1990,10),\"# ##0.###\"),LEN(TEXT(VLOOKUP(T21,'SYSTEM FORMULAE'!$A$1:$Q$1990,10),\"# ##0.###\"))-1),TEXT(VLOOKUP(T21,'SYSTEM FORMULAE'!$A$1:$Q$1990,10),\"# ##0.###\")),IF(RIGHT(TEXT(VLOOKUP(T21,'SYSTEM FORMULAE'!$A$1:$Q$1990,11),\"# ##0.###\"),1)=\".\",LEFT(TEXT(VLOOKUP(T21,'SYSTEM FORMULAE'!$A$1:$Q$1990,11),\"# ##0.###\"),LEN(TEXT(VLOOKUP(T21,'SYSTEM FORMULAE'!$A$1:$Q$1990,11),\"# ##0.###\"))-1),TEXT(VLOOKUP(T21,'SYSTEM FORMULAE'!$A$1:$Q$1990,11),\"# ##0.###\")),\" or \"),\"\"),IF(RIGHT(TEXT(VLOOKUP(T21,'SYSTEM FORMULAE'!$A$1:$Q$1990,12),\"# ##0.###\"),1)=\".\",LEFT(TEXT(VLOOKUP(T21,'SYSTEM FORMULAE'!$A$1:$Q$1990,12),\"# ##0.###\"),LEN(TEXT(VLOOKUP(T21,'SYSTEM FORMULAE'!$A$1:$Q$1990,12),\"# ##0.###\"))-1),TEXT(VLOOKUP(T21,'SYSTEM FORMULAE'!$A$1:$Q$1990,12),\"# ##0.###\")),IF(RIGHT(TEXT(VLOOKUP(T21,'SYSTEM FORMULAE'!$A$1:$Q$1990,13),\"# ##0.###\"),1)=\".\",LEFT(TEXT(VLOOKUP(T21,'SYSTEM FORMULAE'!$A$1:$Q$1990,13),\"# ##0.###\"),LEN(TEXT(VLOOKUP(T21,'SYSTEM FORMULAE'!$A$1:$Q$1990,13),\"# ##0.###\"))-1),TEXT(VLOOKUP(T21,'SYSTEM FORMULAE'!$A$1:$Q$1990,13),\"# ##0.###\")))","v":" 4.8 tonnes or 4 800kg"},"Maximum = ",{"$f":"CONCATENATE(IF(VLOOKUP(T21,'SYSTEM FORMULAE'!$A$1:$Q$1990,10)<>0,CONCATENATE(IF(RIGHT(TEXT(VLOOKUP(T21,'SYSTEM FORMULAE'!$A$1:$Q$1990,14),\"# ##0.###\"),1)=\".\",LEFT(TEXT(VLOOKUP(T21,'SYSTEM FORMULAE'!$A$1:$Q$1990,14),\"# ##0.###\"),LEN(TEXT(VLOOKUP(T21,'SYSTEM FORMULAE'!$A$1:$Q$1990,14),\"# ##0.###\"))-1),TEXT(VLOOKUP(T21,'SYSTEM FORMULAE'!$A$1:$Q$1990,14),\"# ##0.###\")),IF(RIGHT(TEXT(VLOOKUP(T21,'SYSTEM FORMULAE'!$A$1:$Q$1990,15),\"# ##0.###\"),1)=\".\",LEFT(TEXT(VLOOKUP(T21,'SYSTEM FORMULAE'!$A$1:$Q$1990,15),\"# ##0.###\"),LEN(TEXT(VLOOKUP(T21,'SYSTEM FORMULAE'!$A$1:$Q$1990,15),\"# ##0.###\"))-1),TEXT(VLOOKUP(T21,'SYSTEM FORMULAE'!$A$1:$Q$1990,15),\"# ##0.###\")),\" or \"),\"\"),IF(RIGHT(TEXT(VLOOKUP(T21,'SYSTEM FORMULAE'!$A$1:$Q$1990,16),\"# ##0.###\"),1)=\".\",LEFT(TEXT(VLOOKUP(T21,'SYSTEM FORMULAE'!$A$1:$Q$1990,16),\"# ##0.###\"),LEN(TEXT(VLOOKUP(T21,'SYSTEM FORMULAE'!$A$1:$Q$1990,16),\"# ##0.###\"))-1),TEXT(VLOOKUP(T21,'SYSTEM FORMULAE'!$A$1:$Q$1990,16),\"# ##0.###\")),IF(RIGHT(TEXT(VLOOKUP(T21,'SYSTEM FORMULAE'!$A$1:$Q$1990,17),\"# ##0.###\"),1)=\".\",LEFT(TEXT(VLOOKUP(T21,'SYSTEM FORMULAE'!$A$1:$Q$1990,17),\"# ##0.###\"),LEN(TEXT(VLOOKUP(T21,'SYSTEM FORMULAE'!$A$1:$Q$1990,17),\"# ##0.###\"))-1),TEXT(VLOOKUP(T21,'SYSTEM FORMULAE'!$A$1:$Q$1990,17),\"# ##0.###\")))","v":" 5.2  tonnes or 5 200kg"}]
[{"$f":"IF(COUNTIF($B$1:B22,TRUE)=COUNTIF($B$1:B21,TRUE),\"\",COUNTIF($B$1:B22,TRUE))","v":""},{"$f":"Worksheet!$B$16","v":false},18,"°C","±",{"$f":"IF(I22=1,H22*10^RANDBETWEEN(IF(Worksheet!$D$9,-1,0),0),IF(I22=2,H22,CHOOSE(RANDBETWEEN(1,3),5,10,20)))","v":0.1},"°C",1,{"$f":"IF(AND(Worksheet!$D$8,RAND()<0),3,IF(RAND()<Worksheet!$D$7/100,1,2))","v":1},null," °C",17.899999999999999,"°C",null,"  °C",18.100000000000001,"°C",null,{"$f":"IF(ROW()<=Worksheet!$D$4,ROW(),\"\")","v":22},{"$f":"RANDBETWEEN(1,MAX('SYSTEM FORMULAE'!$A$1:$A$1990))","v":346},{"$f":"IF(RIGHT(TEXT(VLOOKUP(T22,'SYSTEM FORMULAE'!$A$1:$Q$1990,3),\"# ##0.###\"),1)=\".\",LEFT(TEXT(VLOOKUP(T22,'SYSTEM FORMULAE'!$A$1:$Q$1990,3),\"# ##0.###\"),LEN(TEXT(VLOOKUP(T22,'SYSTEM FORMULAE'!$A$1:$Q$1990,3),\"# ##0.###\"))-1),TEXT(VLOOKUP(T22,'SYSTEM FORMULAE'!$A$1:$Q$1990,3),\"# ##0.###\"))","v":" 9"},{"$f":"VLOOKUP(T22,'SYSTEM FORMULAE'!$A$1:$Q$1990,4)","v":"hours"},"±",{"$f":"IF(RIGHT(TEXT(VLOOKUP(T22,'SYSTEM FORMULAE'!$A$1:$Q$1990,6),\"# ##0.###\"),1)=\".\",LEFT(TEXT(VLOOKUP(T22,'SYSTEM FORMULAE'!$A$1:$Q$1990,6),\"# ##0.###\"),LEN(TEXT(VLOOKUP(T22,'SYSTEM FORMULAE'!$A$1:$Q$1990,6),\"# ##0.###\"))-1),TEXT(VLOOKUP(T22,'SYSTEM FORMULAE'!$A$1:$Q$1990,6),\"# ##0.###\"))","v":" 7"},{"$f":"VLOOKUP(T22,'SYSTEM FORMULAE'!$A$1:$Q$1990,7)","v":"min"},"Minimum =",{"$f":"CONCATENATE(IF(VLOOKUP(T22,'SYSTEM FORMULAE'!$A$1:$Q$1990,10)<>0,CONCATENATE(IF(RIGHT(TEXT(VLOOKUP(T22,'SYSTEM FORMULAE'!$A$1:$Q$1990,10),\"# ##0.###\"),1)=\".\",LEFT(TEXT(VLOOKUP(T22,'SYSTEM FORMULAE'!$A$1:$Q$1990,10),\"# ##0.###\"),LEN(TEXT(VLOOKUP(T22,'SYSTEM FORMULAE'!$A$1:$Q$1990,10),\"# ##0.###\"))-1),TEXT(VLOOKUP(T22,'SYSTEM FORMULAE'!$A$1:$Q$1990,10),\"# ##0.###\")),IF(RIGHT(TEXT(VLOOKUP(T22,'SYSTEM FORMULAE'!$A$1:$Q$1990,11),\"# ##0.###\"),1)=\".\",LEFT(TEXT(VLOOKUP(T22,'SYSTEM FORMULAE'!$A$1:$Q$1990,11),\"# ##0.###\"),LEN(TEXT(VLOOKUP(T22,'SYSTEM FORMULAE'!$A$1:$Q$1990,11),\"# ##0.###\"))-1),TEXT(VLOOKUP(T22,'SYSTEM FORMULAE'!$A$1:$Q$1990,11),\"# ##0.###\")),\" or \"),\"\"),IF(RIGHT(TEXT(VLOOKUP(T22,'SYSTEM FORMULAE'!$A$1:$Q$1990,12),\"# ##0.###\"),1)=\".\",LEFT(TEXT(VLOOKUP(T22,'SYSTEM FORMULAE'!$A$1:$Q$1990,12),\"# ##0.###\"),LEN(TEXT(VLOOKUP(T22,'SYSTEM FORMULAE'!$A$1:$Q$1990,12),\"# ##0.###\"))-1),TEXT(VLOOKUP(T22,'SYSTEM FORMULAE'!$A$1:$Q$1990,12),\"# ##0.###\")),IF(RIGHT(TEXT(VLOOKUP(T22,'SYSTEM FORMULAE'!$A$1:$Q$1990,13),\"# ##0.###\"),1)=\".\",LEFT(TEXT(VLOOKUP(T22,'SYSTEM FORMULAE'!$A$1:$Q$1990,13),\"# ##0.###\"),LEN(TEXT(VLOOKUP(T22,'SYSTEM FORMULAE'!$A$1:$Q$1990,13),\"# ##0.###\"))-1),TEXT(VLOOKUP(T22,'SYSTEM FORMULAE'!$A$1:$Q$1990,13),\"# ##0.###\")))","v":" 533 min"},"Maximum = ",{"$f":"CONCATENATE(IF(VLOOKUP(T22,'SYSTEM FORMULAE'!$A$1:$Q$1990,10)<>0,CONCATENATE(IF(RIGHT(TEXT(VLOOKUP(T22,'SYSTEM FORMULAE'!$A$1:$Q$1990,14),\"# ##0.###\"),1)=\".\",LEFT(TEXT(VLOOKUP(T22,'SYSTEM FORMULAE'!$A$1:$Q$1990,14),\"# ##0.###\"),LEN(TEXT(VLOOKUP(T22,'SYSTEM FORMULAE'!$A$1:$Q$1990,14),\"# ##0.###\"))-1),TEXT(VLOOKUP(T22,'SYSTEM FORMULAE'!$A$1:$Q$1990,14),\"# ##0.###\")),IF(RIGHT(TEXT(VLOOKUP(T22,'SYSTEM FORMULAE'!$A$1:$Q$1990,15),\"# ##0.###\"),1)=\".\",LEFT(TEXT(VLOOKUP(T22,'SYSTEM FORMULAE'!$A$1:$Q$1990,15),\"# ##0.###\"),LEN(TEXT(VLOOKUP(T22,'SYSTEM FORMULAE'!$A$1:$Q$1990,15),\"# ##0.###\"))-1),TEXT(VLOOKUP(T22,'SYSTEM FORMULAE'!$A$1:$Q$1990,15),\"# ##0.###\")),\" or \"),\"\"),IF(RIGHT(TEXT(VLOOKUP(T22,'SYSTEM FORMULAE'!$A$1:$Q$1990,16),\"# ##0.###\"),1)=\".\",LEFT(TEXT(VLOOKUP(T22,'SYSTEM FORMULAE'!$A$1:$Q$1990,16),\"# ##0.###\"),LEN(TEXT(VLOOKUP(T22,'SYSTEM FORMULAE'!$A$1:$Q$1990,16),\"# ##0.###\"))-1),TEXT(VLOOKUP(T22,'SYSTEM FORMULAE'!$A$1:$Q$1990,16),\"# ##0.###\")),IF(RIGHT(TEXT(VLOOKUP(T22,'SYSTEM FORMULAE'!$A$1:$Q$1990,17),\"# ##0.###\"),1)=\".\",LEFT(TEXT(VLOOKUP(T22,'SYSTEM FORMULAE'!$A$1:$Q$1990,17),\"# ##0.###\"),LEN(TEXT(VLOOKUP(T22,'SYSTEM FORMULAE'!$A$1:$Q$1990,17),\"# ##0.###\"))-1),TEXT(VLOOKUP(T22,'SYSTEM FORMULAE'!$A$1:$Q$1990,17),\"# ##0.###\")))","v":" 547 min"}]
[{"$f":"IF(COUNTIF($B$1:B23,TRUE)=COUNTIF($B$1:B22,TRUE),\"\",COUNTIF($B$1:B23,TRUE))","v":""},{"$f":"Worksheet!$B$16","v":false},20,"°C","±",{"$f":"IF(I23=1,H23*10^RANDBETWEEN(IF(Worksheet!$D$9,-1,0),0),IF(I23=2,H23,CHOOSE(RANDBETWEEN(1,3),5,10,20)))","v":5},"°C",{"$f":"RANDBETWEEN(1,MIN(9,C23))","v":5},{"$f":"IF(AND(Worksheet!$D$8,RAND()<0),3,IF(RAND()<Worksheet!$D$7/100,1,2))","v":1},null," °C",15,"°C",null,"  °C",25,"°C",null,{"$f":"IF(ROW()<=Worksheet!$D$4,ROW(),\"\")","v":23},{"$f":"RANDBETWEEN(1,MAX('SYSTEM FORMULAE'!$A$1:$A$1990))","v":327},{"$f":"IF(RIGHT(TEXT(VLOOKUP(T23,'SYSTEM FORMULAE'!$A$1:$Q$1990,3),\"# ##0.###\"),1)=\".\",LEFT(TEXT(VLOOKUP(T23,'SYSTEM FORMULAE'!$A$1:$Q$1990,3),\"# ##0.###\"),LEN(TEXT(VLOOKUP(T23,'SYSTEM FORMULAE'!$A$1:$Q$1990,3),\"# ##0.###\"))-1),TEXT(VLOOKUP(T23,'SYSTEM FORMULAE'!$A$1:$Q$1990,3),\"# ##0.###\"))","v":" 192"},{"$f":"VLOOKUP(T23,'SYSTEM FORMULAE'!$A$1:$Q$1990,4)","v":"cm"},"±",{"$f":"IF(RIGHT(TEXT(VLOOKUP(T23,'SYSTEM FORMULAE'!$A$1:$Q$1990,6),\"# ##0.###\"),1)=\".\",LEFT(TEXT(VLOOKUP(T23,'SYSTEM FORMULAE'!$A$1:$Q$1990,6),\"# ##0.###\"),LEN(TEXT(VLOOKUP(T23,'SYSTEM FORMULAE'!$A$1:$Q$1990,6),\"# ##0.###\"))-1),TEXT(VLOOKUP(T23,'SYSTEM FORMULAE'!$A$1:$Q$1990,6),\"# ##0.###\"))","v":" 0.1"},{"$f":"VLOOKUP(T23,'SYSTEM FORMULAE'!$A$1:$Q$1990,7)","v":"cm"},"Minimum =",{"$f":"CONCATENATE(IF(VLOOKUP(T23,'SYSTEM FORMULAE'!$A$1:$Q$1990,10)<>0,CONCATENATE(IF(RIGHT(TEXT(VLOOKUP(T23,'SYSTEM FORMULAE'!$A$1:$Q$1990,10),\"# ##0.###\"),1)=\".\",LEFT(TEXT(VLOOKUP(T23,'SYSTEM FORMULAE'!$A$1:$Q$1990,10),\"# ##0.###\"),LEN(TEXT(VLOOKUP(T23,'SYSTEM FORMULAE'!$A$1:$Q$1990,10),\"# ##0.###\"))-1),TEXT(VLOOKUP(T23,'SYSTEM FORMULAE'!$A$1:$Q$1990,10),\"# ##0.###\")),IF(RIGHT(TEXT(VLOOKUP(T23,'SYSTEM FORMULAE'!$A$1:$Q$1990,11),\"# ##0.###\"),1)=\".\",LEFT(TEXT(VLOOKUP(T23,'SYSTEM FORMULAE'!$A$1:$Q$1990,11),\"# ##0.###\"),LEN(TEXT(VLOOKUP(T23,'SYSTEM FORMULAE'!$A$1:$Q$1990,11),\"# ##0.###\"))-1),TEXT(VLOOKUP(T23,'SYSTEM FORMULAE'!$A$1:$Q$1990,11),\"# ##0.###\")),\" or \"),\"\"),IF(RIGHT(TEXT(VLOOKUP(T23,'SYSTEM FORMULAE'!$A$1:$Q$1990,12),\"# ##0.###\"),1)=\".\",LEFT(TEXT(VLOOKUP(T23,'SYSTEM FORMULAE'!$A$1:$Q$1990,12),\"# ##0.###\"),LEN(TEXT(VLOOKUP(T23,'SYSTEM FORMULAE'!$A$1:$Q$1990,12),\"# ##0.###\"))-1),TEXT(VLOOKUP(T23,'SYSTEM FORMULAE'!$A$1:$Q$1990,12),\"# ##0.###\")),IF(RIGHT(TEXT(VLOOKUP(T23,'SYSTEM FORMULAE'!$A$1:$Q$1990,13),\"# ##0.###\"),1)=\".\",LEFT(TEXT(VLOOKUP(T23,'SYSTEM FORMULAE'!$A$1:$Q$1990,13),\"# ##0.###\"),LEN(TEXT(VLOOKUP(T23,'SYSTEM FORMULAE'!$A$1:$Q$1990,13),\"# ##0.###\"))-1),TEXT(VLOOKUP(T23,'SYSTEM FORMULAE'!$A$1:$Q$1990,13),\"# ##0.###\")))","v":" 191.9 cm or 1 919mm"},"Maximum = ",{"$f":"CONCATENATE(IF(VLOOKUP(T23,'SYSTEM FORMULAE'!$A$1:$Q$1990,10)<>0,CONCATENATE(IF(RIGHT(TEXT(VLOOKUP(T23,'SYSTEM FORMULAE'!$A$1:$Q$1990,14),\"# ##0.###\"),1)=\".\",LEFT(TEXT(VLOOKUP(T23,'SYSTEM FORMULAE'!$A$1:$Q$1990,14),\"# ##0.###\"),LEN(TEXT(VLOOKUP(T23,'SYSTEM FORMULAE'!$A$1:$Q$1990,14),\"# ##0.###\"))-1),TEXT(VLOOKUP(T23,'SYSTEM FORMULAE'!$A$1:$Q$1990,14),\"# ##0.###\")),IF(RIGHT(TEXT(VLOOKUP(T23,'SYSTEM FORMULAE'!$A$1:$Q$1990,15),\"# ##0.###\"),1)=\".\",LEFT(TEXT(VLOOKUP(T23,'SYSTEM FORMULAE'!$A$1:$Q$1990,15),\"# ##0.###\"),LEN(TEXT(VLOOKUP(T23,'SYSTEM FORMULAE'!$A$1:$Q$1990,15),\"# ##0.###\"))-1),TEXT(VLOOKUP(T23,'SYSTEM FORMULAE'!$A$1:$Q$1990,15),\"# ##0.###\")),\" or \"),\"\"),IF(RIGHT(TEXT(VLOOKUP(T23,'SYSTEM FORMULAE'!$A$1:$Q$1990,16),\"# ##0.###\"),1)=\".\",LEFT(TEXT(VLOOKUP(T23,'SYSTEM FORMULAE'!$A$1:$Q$1990,16),\"# ##0.###\"),LEN(TEXT(VLOOKUP(T23,'SYSTEM FORMULAE'!$A$1:$Q$1990,16),\"# ##0.###\"))-1),TEXT(VLOOKUP(T23,'SYSTEM FORMULAE'!$A$1:$Q$1990,16),\"# ##0.###\")),IF(RIGHT(TEXT(VLOOKUP(T23,'SYSTEM FORMULAE'!$A$1:$Q$1990,17),\"# ##0.###\"),1)=\".\",LEFT(TEXT(VLOOKUP(T23,'SYSTEM FORMULAE'!$A$1:$Q$1990,17),\"# ##0.###\"),LEN(TEXT(VLOOKUP(T23,'SYSTEM FORMULAE'!$A$1:$Q$1990,17),\"# ##0.###\"))-1),TEXT(VLOOKUP(T23,'SYSTEM FORMULAE'!$A$1:$Q$1990,17),\"# ##0.###\")))","v":" 192.1  cm or 1 921mm"}]
[{"$f":"IF(COUNTIF($B$1:B24,TRUE)=COUNTIF($B$1:B23,TRUE),\"\",COUNTIF($B$1:B24,TRUE))","v":""},{"$f":"Worksheet!$B$16","v":false},16,"°C","±",{"$f":"IF(I24=1,H24*10^RANDBETWEEN(IF(Worksheet!$D$9,-1,0),0),IF(I24=2,H24,CHOOSE(RANDBETWEEN(1,3),5,10,20)))","v":7},"°C",7,{"$f":"IF(AND(Worksheet!$D$8,RAND()<0),3,IF(RAND()<Worksheet!$D$7/100,1,2))","v":1},null," °C",9,"°C",null,"  °C",23,"°C",null,{"$f":"IF(ROW()<=Worksheet!$D$4,ROW(),\"\")","v":24},{"$f":"RANDBETWEEN(1,MAX('SYSTEM FORMULAE'!$A$1:$A$1990))","v":261},{"$f":"IF(RIGHT(TEXT(VLOOKUP(T24,'SYSTEM FORMULAE'!$A$1:$Q$1990,3),\"# ##0.###\"),1)=\".\",LEFT(TEXT(VLOOKUP(T24,'SYSTEM FORMULAE'!$A$1:$Q$1990,3),\"# ##0.###\"),LEN(TEXT(VLOOKUP(T24,'SYSTEM FORMULAE'!$A$1:$Q$1990,3),\"# ##0.###\"))-1),TEXT(VLOOKUP(T24,'SYSTEM FORMULAE'!$A$1:$Q$1990,3),\"# ##0.###\"))","v":" 105"},{"$f":"VLOOKUP(T24,'SYSTEM FORMULAE'!$A$1:$Q$1990,4)","v":"litres"},"±",{"$f":"IF(RIGHT(TEXT(VLOOKUP(T24,'SYSTEM FORMULAE'!$A$1:$Q$1990,6),\"# ##0.###\"),1)=\".\",LEFT(TEXT(VLOOKUP(T24,'SYSTEM FORMULAE'!$A$1:$Q$1990,6),\"# ##0.###\"),LEN(TEXT(VLOOKUP(T24,'SYSTEM FORMULAE'!$A$1:$Q$1990,6),\"# ##0.###\"))-1),TEXT(VLOOKUP(T24,'SYSTEM FORMULAE'!$A$1:$Q$1990,6),\"# ##0.###\"))","v":" 10"},{"$f":"VLOOKUP(T24,'SYSTEM FORMULAE'!$A$1:$Q$1990,7)","v":"%"},"Minimum =",{"$f":"CONCATENATE(IF(VLOOKUP(T24,'SYSTEM FORMULAE'!$A$1:$Q$1990,10)<>0,CONCATENATE(IF(RIGHT(TEXT(VLOOKUP(T24,'SYSTEM FORMULAE'!$A$1:$Q$1990,10),\"# ##0.###\"),1)=\".\",LEFT(TEXT(VLOOKUP(T24,'SYSTEM FORMULAE'!$A$1:$Q$1990,10),\"# ##0.###\"),LEN(TEXT(VLOOKUP(T24,'SYSTEM FORMULAE'!$A$1:$Q$1990,10),\"# ##0.###\"))-1),TEXT(VLOOKUP(T24,'SYSTEM FORMULAE'!$A$1:$Q$1990,10),\"# ##0.###\")),IF(RIGHT(TEXT(VLOOKUP(T24,'SYSTEM FORMULAE'!$A$1:$Q$1990,11),\"# ##0.###\"),1)=\".\",LEFT(TEXT(VLOOKUP(T24,'SYSTEM FORMULAE'!$A$1:$Q$1990,11),\"# ##0.###\"),LEN(TEXT(VLOOKUP(T24,'SYSTEM FORMULAE'!$A$1:$Q$1990,11),\"# ##0.###\"))-1),TEXT(VLOOKUP(T24,'SYSTEM FORMULAE'!$A$1:$Q$1990,11),\"# ##0.###\")),\" or \"),\"\"),IF(RIGHT(TEXT(VLOOKUP(T24,'SYSTEM FORMULAE'!$A$1:$Q$1990,12),\"# ##0.###\"),1)=\".\",LEFT(TEXT(VLOOKUP(T24,'SYSTEM FORMULAE'!$A$1:$Q$1990,12),\"# ##0.###\"),LEN(TEXT(VLOOKUP(T24,'SYSTEM FORMULAE'!$A$1:$Q$1990,12),\"# ##0.###\"))-1),TEXT(VLOOKUP(T24,'SYSTEM FORMULAE'!$A$1:$Q$1990,12),\"# ##0.###\")),IF(RIGHT(TEXT(VLOOKUP(T24,'SYSTEM FORMULAE'!$A$1:$Q$1990,13),\"# ##0.###\"),1)=\".\",LEFT(TEXT(VLOOKUP(T24,'SYSTEM FORMULAE'!$A$1:$Q$1990,13),\"# ##0.###\"),LEN(TEXT(VLOOKUP(T24,'SYSTEM FORMULAE'!$A$1:$Q$1990,13),\"# ##0.###\"))-1),TEXT(VLOOKUP(T24,'SYSTEM FORMULAE'!$A$1:$Q$1990,13),\"# ##0.###\")))","v":" 94.5 litres or 94 500ml"},"Maximum = ",{"$f":"CONCATENATE(IF(VLOOKUP(T24,'SYSTEM FORMULAE'!$A$1:$Q$1990,10)<>0,CONCATENATE(IF(RIGHT(TEXT(VLOOKUP(T24,'SYSTEM FORMULAE'!$A$1:$Q$1990,14),\"# ##0.###\"),1)=\".\",LEFT(TEXT(VLOOKUP(T24,'SYSTEM FORMULAE'!$A$1:$Q$1990,14),\"# ##0.###\"),LEN(TEXT(VLOOKUP(T24,'SYSTEM FORMULAE'!$A$1:$Q$1990,14),\"# ##0.###\"))-1),TEXT(VLOOKUP(T24,'SYSTEM FORMULAE'!$A$1:$Q$1990,14),\"# ##0.###\")),IF(RIGHT(TEXT(VLOOKUP(T24,'SYSTEM FORMULAE'!$A$1:$Q$1990,15),\"# ##0.###\"),1)=\".\",LEFT(TEXT(VLOOKUP(T24,'SYSTEM FORMULAE'!$A$1:$Q$1990,15),\"# ##0.###\"),LEN(TEXT(VLOOKUP(T24,'SYSTEM FORMULAE'!$A$1:$Q$1990,15),\"# ##0.###\"))-1),TEXT(VLOOKUP(T24,'SYSTEM FORMULAE'!$A$1:$Q$1990,15),\"# ##0.###\")),\" or \"),\"\"),IF(RIGHT(TEXT(VLOOKUP(T24,'SYSTEM FORMULAE'!$A$1:$Q$1990,16),\"# ##0.###\"),1)=\".\",LEFT(TEXT(VLOOKUP(T24,'SYSTEM FORMULAE'!$A$1:$Q$1990,16),\"# ##0.###\"),LEN(TEXT(VLOOKUP(T24,'SYSTEM FORMULAE'!$A$1:$Q$1990,16),\"# ##0.###\"))-1),TEXT(VLOOKUP(T24,'SYSTEM FORMULAE'!$A$1:$Q$1990,16),\"# ##0.###\")),IF(RIGHT(TEXT(VLOOKUP(T24,'SYSTEM FORMULAE'!$A$1:$Q$1990,17),\"# ##0.###\"),1)=\".\",LEFT(TEXT(VLOOKUP(T24,'SYSTEM FORMULAE'!$A$1:$Q$1990,17),\"# ##0.###\"),LEN(TEXT(VLOOKUP(T24,'SYSTEM FORMULAE'!$A$1:$Q$1990,17),\"# ##0.###\"))-1),TEXT(VLOOKUP(T24,'SYSTEM FORMULAE'!$A$1:$Q$1990,17),\"# ##0.###\")))","v":" 115.5  litres or 115 500ml"}]
[{"$f":"IF(COUNTIF($B$1:B25,TRUE)=COUNTIF($B$1:B24,TRUE),\"\",COUNTIF($B$1:B25,TRUE))","v":""},{"$f":"Worksheet!$B$16","v":false},13,"°C","±",{"$f":"IF(I25=1,H25*10^RANDBETWEEN(IF(Worksheet!$D$9,-1,0),0),IF(I25=2,H25,CHOOSE(RANDBETWEEN(1,3),5,10,20)))","v":9},"°C",9,{"$f":"IF(AND(Worksheet!$D$8,RAND()<0),3,IF(RAND()<Worksheet!$D$7/100,1,2))","v":1},null," °C",4,"°C",null,"  °C",22,"°C",null,{"$f":"IF(ROW()<=Worksheet!$D$4,ROW(),\"\")","v":25},{"$f":"RANDBETWEEN(1,MAX('SYSTEM FORMULAE'!$A$1:$A$1990))","v":193},{"$f":"IF(RIGHT(TEXT(VLOOKUP(T25,'SYSTEM FORMULAE'!$A$1:$Q$1990,3),\"# ##0.###\"),1)=\".\",LEFT(TEXT(VLOOKUP(T25,'SYSTEM FORMULAE'!$A$1:$Q$1990,3),\"# ##0.###\"),LEN(TEXT(VLOOKUP(T25,'SYSTEM FORMULAE'!$A$1:$Q$1990,3),\"# ##0.###\"))-1),TEXT(VLOOKUP(T25,'SYSTEM FORMULAE'!$A$1:$Q$1990,3),\"# ##0.###\"))","v":" 36"},{"$f":"VLOOKUP(T25,'SYSTEM FORMULAE'!$A$1:$Q$1990,4)","v":"km"},"±",{"$f":"IF(RIGHT(TEXT(VLOOKUP(T25,'SYSTEM FORMULAE'!$A$1:$Q$1990,6),\"# ##0.###\"),1)=\".\",LEFT(TEXT(VLOOKUP(T25,'SYSTEM FORMULAE'!$A$1:$Q$1990,6),\"# ##0.###\"),LEN(TEXT(VLOOKUP(T25,'SYSTEM FORMULAE'!$A$1:$Q$1990,6),\"# ##0.###\"))-1),TEXT(VLOOKUP(T25,'SYSTEM FORMULAE'!$A$1:$Q$1990,6),\"# ##0.###\"))","v":" 20"},{"$f":"VLOOKUP(T25,'SYSTEM FORMULAE'!$A$1:$Q$1990,7)","v":"%"},"Minimum =",{"$f":"CONCATENATE(IF(VLOOKUP(T25,'SYSTEM FORMULAE'!$A$1:$Q$1990,10)<>0,CONCATENATE(IF(RIGHT(TEXT(VLOOKUP(T25,'SYSTEM FORMULAE'!$A$1:$Q$1990,10),\"# ##0.###\"),1)=\".\",LEFT(TEXT(VLOOKUP(T25,'SYSTEM FORMULAE'!$A$1:$Q$1990,10),\"# ##0.###\"),LEN(TEXT(VLOOKUP(T25,'SYSTEM FORMULAE'!$A$1:$Q$1990,10),\"# ##0.###\"))-1),TEXT(VLOOKUP(T25,'SYSTEM FORMULAE'!$A$1:$Q$1990,10),\"# ##0.###\")),IF(RIGHT(TEXT(VLOOKUP(T25,'SYSTEM FORMULAE'!$A$1:$Q$1990,11),\"# ##0.###\"),1)=\".\",LEFT(TEXT(VLOOKUP(T25,'SYSTEM FORMULAE'!$A$1:$Q$1990,11),\"# ##0.###\"),LEN(TEXT(VLOOKUP(T25,'SYSTEM FORMULAE'!$A$1:$Q$1990,11),\"# ##0.###\"))-1),TEXT(VLOOKUP(T25,'SYSTEM FORMULAE'!$A$1:$Q$1990,11),\"# ##0.###\")),\" or \"),\"\"),IF(RIGHT(TEXT(VLOOKUP(T25,'SYSTEM FORMULAE'!$A$1:$Q$1990,12),\"# ##0.###\"),1)=\".\",LEFT(TEXT(VLOOKUP(T25,'SYSTEM FORMULAE'!$A$1:$Q$1990,12),\"# ##0.###\"),LEN(TEXT(VLOOKUP(T25,'SYSTEM FORMULAE'!$A$1:$Q$1990,12),\"# ##0.###\"))-1),TEXT(VLOOKUP(T25,'SYSTEM FORMULAE'!$A$1:$Q$1990,12),\"# ##0.###\")),IF(RIGHT(TEXT(VLOOKUP(T25,'SYSTEM FORMULAE'!$A$1:$Q$1990,13),\"# ##0.###\"),1)=\".\",LEFT(TEXT(VLOOKUP(T25,'SYSTEM FORMULAE'!$A$1:$Q$1990,13),\"# ##0.###\"),LEN(TEXT(VLOOKUP(T25,'SYSTEM FORMULAE'!$A$1:$Q$1990,13),\"# ##0.###\"))-1),TEXT(VLOOKUP(T25,'SYSTEM FORMULAE'!$A$1:$Q$1990,13),\"# ##0.###\")))","v":" 28.8 km or 28 800m"},"Maximum = ",{"$f":"CONCATENATE(IF(VLOOKUP(T25,'SYSTEM FORMULAE'!$A$1:$Q$1990,10)<>0,CONCATENATE(IF(RIGHT(TEXT(VLOOKUP(T25,'SYSTEM FORMULAE'!$A$1:$Q$1990,14),\"# ##0.###\"),1)=\".\",LEFT(TEXT(VLOOKUP(T25,'SYSTEM FORMULAE'!$A$1:$Q$1990,14),\"# ##0.###\"),LEN(TEXT(VLOOKUP(T25,'SYSTEM FORMULAE'!$A$1:$Q$1990,14),\"# ##0.###\"))-1),TEXT(VLOOKUP(T25,'SYSTEM FORMULAE'!$A$1:$Q$1990,14),\"# ##0.###\")),IF(RIGHT(TEXT(VLOOKUP(T25,'SYSTEM FORMULAE'!$A$1:$Q$1990,15),\"# ##0.###\"),1)=\".\",LEFT(TEXT(VLOOKUP(T25,'SYSTEM FORMULAE'!$A$1:$Q$1990,15),\"# ##0.###\"),LEN(TEXT(VLOOKUP(T25,'SYSTEM FORMULAE'!$A$1:$Q$1990,15),\"# ##0.###\"))-1),TEXT(VLOOKUP(T25,'SYSTEM FORMULAE'!$A$1:$Q$1990,15),\"# ##0.###\")),\" or \"),\"\"),IF(RIGHT(TEXT(VLOOKUP(T25,'SYSTEM FORMULAE'!$A$1:$Q$1990,16),\"# ##0.###\"),1)=\".\",LEFT(TEXT(VLOOKUP(T25,'SYSTEM FORMULAE'!$A$1:$Q$1990,16),\"# ##0.###\"),LEN(TEXT(VLOOKUP(T25,'SYSTEM FORMULAE'!$A$1:$Q$1990,16),\"# ##0.###\"))-1),TEXT(VLOOKUP(T25,'SYSTEM FORMULAE'!$A$1:$Q$1990,16),\"# ##0.###\")),IF(RIGHT(TEXT(VLOOKUP(T25,'SYSTEM FORMULAE'!$A$1:$Q$1990,17),\"# ##0.###\"),1)=\".\",LEFT(TEXT(VLOOKUP(T25,'SYSTEM FORMULAE'!$A$1:$Q$1990,17),\"# ##0.###\"),LEN(TEXT(VLOOKUP(T25,'SYSTEM FORMULAE'!$A$1:$Q$1990,17),\"# ##0.###\"))-1),TEXT(VLOOKUP(T25,'SYSTEM FORMULAE'!$A$1:$Q$1990,17),\"# ##0.###\")))","v":" 43.2  km or 43 200m"}]
[{"$f":"IF(COUNTIF($B$1:B26,TRUE)=COUNTIF($B$1:B25,TRUE),\"\",COUNTIF($B$1:B26,TRUE))","v":""},{"$f":"Worksheet!$B$16","v":false},15,"°C","±",{"$f":"IF(I26=1,H26*10^RANDBETWEEN(IF(Worksheet!$D$9,-1,0),0),IF(I26=2,H26,CHOOSE(RANDBETWEEN(1,3),5,10,20)))","v":0.30000000000000004},"°C",3,{"$f":"IF(AND(Worksheet!$D$8,RAND()<0),3,IF(RAND()<Worksheet!$D$7/100,1,2))","v":1},null," °C",14.7,"°C",null,"  °C",15.3,"°C",null,{"$f":"IF(ROW()<=Worksheet!$D$4,ROW(),\"\")","v":26},{"$f":"RANDBETWEEN(1,MAX('SYSTEM FORMULAE'!$A$1:$A$1990))","v":3},{"$f":"IF(RIGHT(TEXT(VLOOKUP(T26,'SYSTEM FORMULAE'!$A$1:$Q$1990,3),\"# ##0.###\"),1)=\".\",LEFT(TEXT(VLOOKUP(T26,'SYSTEM FORMULAE'!$A$1:$Q$1990,3),\"# ##0.###\"),LEN(TEXT(VLOOKUP(T26,'SYSTEM FORMULAE'!$A$1:$Q$1990,3),\"# ##0.###\"))-1),TEXT(VLOOKUP(T26,'SYSTEM FORMULAE'!$A$1:$Q$1990,3),\"# ##0.###\"))","v":" 7"},{"$f":"VLOOKUP(T26,'SYSTEM FORMULAE'!$A$1:$Q$1990,4)","v":"km"},"±",{"$f":"IF(RIGHT(TEXT(VLOOKUP(T26,'SYSTEM FORMULAE'!$A$1:$Q$1990,6),\"# ##0.###\"),1)=\".\",LEFT(TEXT(VLOOKUP(T26,'SYSTEM FORMULAE'!$A$1:$Q$1990,6),\"# ##0.###\"),LEN(TEXT(VLOOKUP(T26,'SYSTEM FORMULAE'!$A$1:$Q$1990,6),\"# ##0.###\"))-1),TEXT(VLOOKUP(T26,'SYSTEM FORMULAE'!$A$1:$Q$1990,6),\"# ##0.###\"))","v":" 0.2"},{"$f":"VLOOKUP(T26,'SYSTEM FORMULAE'!$A$1:$Q$1990,7)","v":"km"},"Minimum =",{"$f":"CONCATENATE(IF(VLOOKUP(T26,'SYSTEM FORMULAE'!$A$1:$Q$1990,10)<>0,CONCATENATE(IF(RIGHT(TEXT(VLOOKUP(T26,'SYSTEM FORMULAE'!$A$1:$Q$1990,10),\"# ##0.###\"),1)=\".\",LEFT(TEXT(VLOOKUP(T26,'SYSTEM FORMULAE'!$A$1:$Q$1990,10),\"# ##0.###\"),LEN(TEXT(VLOOKUP(T26,'SYSTEM FORMULAE'!$A$1:$Q$1990,10),\"# ##0.###\"))-1),TEXT(VLOOKUP(T26,'SYSTEM FORMULAE'!$A$1:$Q$1990,10),\"# ##0.###\")),IF(RIGHT(TEXT(VLOOKUP(T26,'SYSTEM FORMULAE'!$A$1:$Q$1990,11),\"# ##0.###\"),1)=\".\",LEFT(TEXT(VLOOKUP(T26,'SYSTEM FORMULAE'!$A$1:$Q$1990,11),\"# ##0.###\"),LEN(TEXT(VLOOKUP(T26,'SYSTEM FORMULAE'!$A$1:$Q$1990,11),\"# ##0.###\"))-1),TEXT(VLOOKUP(T26,'SYSTEM FORMULAE'!$A$1:$Q$1990,11),\"# ##0.###\")),\" or \"),\"\"),IF(RIGHT(TEXT(VLOOKUP(T26,'SYSTEM FORMULAE'!$A$1:$Q$1990,12),\"# ##0.###\"),1)=\".\",LEFT(TEXT(VLOOKUP(T26,'SYSTEM FORMULAE'!$A$1:$Q$1990,12),\"# ##0.###\"),LEN(TEXT(VLOOKUP(T26,'SYSTEM FORMULAE'!$A$1:$Q$1990,12),\"# ##0.###\"))-1),TEXT(VLOOKUP(T26,'SYSTEM FORMULAE'!$A$1:$Q$1990,12),\"# ##0.###\")),IF(RIGHT(TEXT(VLOOKUP(T26,'SYSTEM FORMULAE'!$A$1:$Q$1990,13),\"# ##0.###\"),1)=\".\",LEFT(TEXT(VLOOKUP(T26,'SYSTEM FORMULAE'!$A$1:$Q$1990,13),\"# ##0.###\"),LEN(TEXT(VLOOKUP(T26,'SYSTEM FORMULAE'!$A$1:$Q$1990,13),\"# ##0.###\"))-1),TEXT(VLOOKUP(T26,'SYSTEM FORMULAE'!$A$1:$Q$1990,13),\"# ##0.###\")))","v":" 6.8 km or 6 800m"},"Maximum = ",{"$f":"CONCATENATE(IF(VLOOKUP(T26,'SYSTEM FORMULAE'!$A$1:$Q$1990,10)<>0,CONCATENATE(IF(RIGHT(TEXT(VLOOKUP(T26,'SYSTEM FORMULAE'!$A$1:$Q$1990,14),\"# ##0.###\"),1)=\".\",LEFT(TEXT(VLOOKUP(T26,'SYSTEM FORMULAE'!$A$1:$Q$1990,14),\"# ##0.###\"),LEN(TEXT(VLOOKUP(T26,'SYSTEM FORMULAE'!$A$1:$Q$1990,14),\"# ##0.###\"))-1),TEXT(VLOOKUP(T26,'SYSTEM FORMULAE'!$A$1:$Q$1990,14),\"# ##0.###\")),IF(RIGHT(TEXT(VLOOKUP(T26,'SYSTEM FORMULAE'!$A$1:$Q$1990,15),\"# ##0.###\"),1)=\".\",LEFT(TEXT(VLOOKUP(T26,'SYSTEM FORMULAE'!$A$1:$Q$1990,15),\"# ##0.###\"),LEN(TEXT(VLOOKUP(T26,'SYSTEM FORMULAE'!$A$1:$Q$1990,15),\"# ##0.###\"))-1),TEXT(VLOOKUP(T26,'SYSTEM FORMULAE'!$A$1:$Q$1990,15),\"# ##0.###\")),\" or \"),\"\"),IF(RIGHT(TEXT(VLOOKUP(T26,'SYSTEM FORMULAE'!$A$1:$Q$1990,16),\"# ##0.###\"),1)=\".\",LEFT(TEXT(VLOOKUP(T26,'SYSTEM FORMULAE'!$A$1:$Q$1990,16),\"# ##0.###\"),LEN(TEXT(VLOOKUP(T26,'SYSTEM FORMULAE'!$A$1:$Q$1990,16),\"# ##0.###\"))-1),TEXT(VLOOKUP(T26,'SYSTEM FORMULAE'!$A$1:$Q$1990,16),\"# ##0.###\")),IF(RIGHT(TEXT(VLOOKUP(T26,'SYSTEM FORMULAE'!$A$1:$Q$1990,17),\"# ##0.###\"),1)=\".\",LEFT(TEXT(VLOOKUP(T26,'SYSTEM FORMULAE'!$A$1:$Q$1990,17),\"# ##0.###\"),LEN(TEXT(VLOOKUP(T26,'SYSTEM FORMULAE'!$A$1:$Q$1990,17),\"# ##0.###\"))-1),TEXT(VLOOKUP(T26,'SYSTEM FORMULAE'!$A$1:$Q$1990,17),\"# ##0.###\")))","v":" 7.2  km or 7 200m"}]
[{"$f":"IF(COUNTIF($B$1:B27,TRUE)=COUNTIF($B$1:B26,TRUE),\"\",COUNTIF($B$1:B27,TRUE))","v":""},{"$f":"Worksheet!$B$16","v":false},17,"°C","±",{"$f":"IF(I27=1,H27*10^RANDBETWEEN(IF(Worksheet!$D$9,-1,0),0),IF(I27=2,H27,CHOOSE(RANDBETWEEN(1,3),5,10,20)))","v":1},"°C",{"$f":"RANDBETWEEN(1,MIN(9,C27))","v":1},{"$f":"IF(AND(Worksheet!$D$8,RAND()<0),3,IF(RAND()<Worksheet!$D$7/100,1,2))","v":2},null,{"$f":"CONCATENATE(\" \",D27)","v":" °C"},{"$f":"C27-F27","v":16},"°C",null,{"$f":"CONCATENATE(\" \",K27)","v":"  °C"},{"$f":"C27+F27","v":18},"°C",null,{"$f":"IF(ROW()<=Worksheet!$D$4,ROW(),\"\")","v":27},{"$f":"RANDBETWEEN(1,MAX('SYSTEM FORMULAE'!$A$1:$A$1990))","v":1097},{"$f":"IF(RIGHT(TEXT(VLOOKUP(T27,'SYSTEM FORMULAE'!$A$1:$Q$1990,3),\"# ##0.###\"),1)=\".\",LEFT(TEXT(VLOOKUP(T27,'SYSTEM FORMULAE'!$A$1:$Q$1990,3),\"# ##0.###\"),LEN(TEXT(VLOOKUP(T27,'SYSTEM FORMULAE'!$A$1:$Q$1990,3),\"# ##0.###\"))-1),TEXT(VLOOKUP(T27,'SYSTEM FORMULAE'!$A$1:$Q$1990,3),\"# ##0.###\"))","v":" 365"},{"$f":"VLOOKUP(T27,'SYSTEM FORMULAE'!$A$1:$Q$1990,4)","v":"km"},"±",{"$f":"IF(RIGHT(TEXT(VLOOKUP(T27,'SYSTEM FORMULAE'!$A$1:$Q$1990,6),\"# ##0.###\"),1)=\".\",LEFT(TEXT(VLOOKUP(T27,'SYSTEM FORMULAE'!$A$1:$Q$1990,6),\"# ##0.###\"),LEN(TEXT(VLOOKUP(T27,'SYSTEM FORMULAE'!$A$1:$Q$1990,6),\"# ##0.###\"))-1),TEXT(VLOOKUP(T27,'SYSTEM FORMULAE'!$A$1:$Q$1990,6),\"# ##0.###\"))","v":" 0.1"},{"$f":"VLOOKUP(T27,'SYSTEM FORMULAE'!$A$1:$Q$1990,7)","v":"km"},"Minimum =",{"$f":"CONCATENATE(IF(VLOOKUP(T27,'SYSTEM FORMULAE'!$A$1:$Q$1990,10)<>0,CONCATENATE(IF(RIGHT(TEXT(VLOOKUP(T27,'SYSTEM FORMULAE'!$A$1:$Q$1990,10),\"# ##0.###\"),1)=\".\",LEFT(TEXT(VLOOKUP(T27,'SYSTEM FORMULAE'!$A$1:$Q$1990,10),\"# ##0.###\"),LEN(TEXT(VLOOKUP(T27,'SYSTEM FORMULAE'!$A$1:$Q$1990,10),\"# ##0.###\"))-1),TEXT(VLOOKUP(T27,'SYSTEM FORMULAE'!$A$1:$Q$1990,10),\"# ##0.###\")),IF(RIGHT(TEXT(VLOOKUP(T27,'SYSTEM FORMULAE'!$A$1:$Q$1990,11),\"# ##0.###\"),1)=\".\",LEFT(TEXT(VLOOKUP(T27,'SYSTEM FORMULAE'!$A$1:$Q$1990,11),\"# ##0.###\"),LEN(TEXT(VLOOKUP(T27,'SYSTEM FORMULAE'!$A$1:$Q$1990,11),\"# ##0.###\"))-1),TEXT(VLOOKUP(T27,'SYSTEM FORMULAE'!$A$1:$Q$1990,11),\"# ##0.###\")),\" or \"),\"\"),IF(RIGHT(TEXT(VLOOKUP(T27,'SYSTEM FORMULAE'!$A$1:$Q$1990,12),\"# ##0.###\"),1)=\".\",LEFT(TEXT(VLOOKUP(T27,'SYSTEM FORMULAE'!$A$1:$Q$1990,12),\"# ##0.###\"),LEN(TEXT(VLOOKUP(T27,'SYSTEM FORMULAE'!$A$1:$Q$1990,12),\"# ##0.###\"))-1),TEXT(VLOOKUP(T27,'SYSTEM FORMULAE'!$A$1:$Q$1990,12),\"# ##0.###\")),IF(RIGHT(TEXT(VLOOKUP(T27,'SYSTEM FORMULAE'!$A$1:$Q$1990,13),\"# ##0.###\"),1)=\".\",LEFT(TEXT(VLOOKUP(T27,'SYSTEM FORMULAE'!$A$1:$Q$1990,13),\"# ##0.###\"),LEN(TEXT(VLOOKUP(T27,'SYSTEM FORMULAE'!$A$1:$Q$1990,13),\"# ##0.###\"))-1),TEXT(VLOOKUP(T27,'SYSTEM FORMULAE'!$A$1:$Q$1990,13),\"# ##0.###\")))","v":" 364.9 km or 364 900m"},"Maximum = ",{"$f":"CONCATENATE(IF(VLOOKUP(T27,'SYSTEM FORMULAE'!$A$1:$Q$1990,10)<>0,CONCATENATE(IF(RIGHT(TEXT(VLOOKUP(T27,'SYSTEM FORMULAE'!$A$1:$Q$1990,14),\"# ##0.###\"),1)=\".\",LEFT(TEXT(VLOOKUP(T27,'SYSTEM FORMULAE'!$A$1:$Q$1990,14),\"# ##0.###\"),LEN(TEXT(VLOOKUP(T27,'SYSTEM FORMULAE'!$A$1:$Q$1990,14),\"# ##0.###\"))-1),TEXT(VLOOKUP(T27,'SYSTEM FORMULAE'!$A$1:$Q$1990,14),\"# ##0.###\")),IF(RIGHT(TEXT(VLOOKUP(T27,'SYSTEM FORMULAE'!$A$1:$Q$1990,15),\"# ##0.###\"),1)=\".\",LEFT(TEXT(VLOOKUP(T27,'SYSTEM FORMULAE'!$A$1:$Q$1990,15),\"# ##0.###\"),LEN(TEXT(VLOOKUP(T27,'SYSTEM FORMULAE'!$A$1:$Q$1990,15),\"# ##0.###\"))-1),TEXT(VLOOKUP(T27,'SYSTEM FORMULAE'!$A$1:$Q$1990,15),\"# ##0.###\")),\" or \"),\"\"),IF(RIGHT(TEXT(VLOOKUP(T27,'SYSTEM FORMULAE'!$A$1:$Q$1990,16),\"# ##0.###\"),1)=\".\",LEFT(TEXT(VLOOKUP(T27,'SYSTEM FORMULAE'!$A$1:$Q$1990,16),\"# ##0.###\"),LEN(TEXT(VLOOKUP(T27,'SYSTEM FORMULAE'!$A$1:$Q$1990,16),\"# ##0.###\"))-1),TEXT(VLOOKUP(T27,'SYSTEM FORMULAE'!$A$1:$Q$1990,16),\"# ##0.###\")),IF(RIGHT(TEXT(VLOOKUP(T27,'SYSTEM FORMULAE'!$A$1:$Q$1990,17),\"# ##0.###\"),1)=\".\",LEFT(TEXT(VLOOKUP(T27,'SYSTEM FORMULAE'!$A$1:$Q$1990,17),\"# ##0.###\"),LEN(TEXT(VLOOKUP(T27,'SYSTEM FORMULAE'!$A$1:$Q$1990,17),\"# ##0.###\"))-1),TEXT(VLOOKUP(T27,'SYSTEM FORMULAE'!$A$1:$Q$1990,17),\"# ##0.###\")))","v":" 365.1  km or 365 100m"}]
[{"$f":"IF(COUNTIF($B$1:B28,TRUE)=COUNTIF($B$1:B27,TRUE),\"\",COUNTIF($B$1:B28,TRUE))","v":""},{"$f":"Worksheet!$B$16","v":false},16,"°C","±",{"$f":"IF(I28=1,H28*10^RANDBETWEEN(IF(Worksheet!$D$9,-1,0),0),IF(I28=2,H28,CHOOSE(RANDBETWEEN(1,3),5,10,20)))","v":0.9},"°C",9,{"$f":"IF(AND(Worksheet!$D$8,RAND()<0),3,IF(RAND()<Worksheet!$D$7/100,1,2))","v":1},null," °C",15.1,"°C",null,"  °C",16.899999999999999,"°C",null,{"$f":"IF(ROW()<=Worksheet!$D$4,ROW(),\"\")","v":28},{"$f":"RANDBETWEEN(1,MAX('SYSTEM FORMULAE'!$A$1:$A$1990))","v":898},{"$f":"IF(RIGHT(TEXT(VLOOKUP(T28,'SYSTEM FORMULAE'!$A$1:$Q$1990,3),\"# ##0.###\"),1)=\".\",LEFT(TEXT(VLOOKUP(T28,'SYSTEM FORMULAE'!$A$1:$Q$1990,3),\"# ##0.###\"),LEN(TEXT(VLOOKUP(T28,'SYSTEM FORMULAE'!$A$1:$Q$1990,3),\"# ##0.###\"))-1),TEXT(VLOOKUP(T28,'SYSTEM FORMULAE'!$A$1:$Q$1990,3),\"# ##0.###\"))","v":" 11"},{"$f":"VLOOKUP(T28,'SYSTEM FORMULAE'!$A$1:$Q$1990,4)","v":"hours"},"±",{"$f":"IF(RIGHT(TEXT(VLOOKUP(T28,'SYSTEM FORMULAE'!$A$1:$Q$1990,6),\"# ##0.###\"),1)=\".\",LEFT(TEXT(VLOOKUP(T28,'SYSTEM FORMULAE'!$A$1:$Q$1990,6),\"# ##0.###\"),LEN(TEXT(VLOOKUP(T28,'SYSTEM FORMULAE'!$A$1:$Q$1990,6),\"# ##0.###\"))-1),TEXT(VLOOKUP(T28,'SYSTEM FORMULAE'!$A$1:$Q$1990,6),\"# ##0.###\"))","v":" 5"},{"$f":"VLOOKUP(T28,'SYSTEM FORMULAE'!$A$1:$Q$1990,7)","v":"min"},"Minimum =",{"$f":"CONCATENATE(IF(VLOOKUP(T28,'SYSTEM FORMULAE'!$A$1:$Q$1990,10)<>0,CONCATENATE(IF(RIGHT(TEXT(VLOOKUP(T28,'SYSTEM FORMULAE'!$A$1:$Q$1990,10),\"# ##0.###\"),1)=\".\",LEFT(TEXT(VLOOKUP(T28,'SYSTEM FORMULAE'!$A$1:$Q$1990,10),\"# ##0.###\"),LEN(TEXT(VLOOKUP(T28,'SYSTEM FORMULAE'!$A$1:$Q$1990,10),\"# ##0.###\"))-1),TEXT(VLOOKUP(T28,'SYSTEM FORMULAE'!$A$1:$Q$1990,10),\"# ##0.###\")),IF(RIGHT(TEXT(VLOOKUP(T28,'SYSTEM FORMULAE'!$A$1:$Q$1990,11),\"# ##0.###\"),1)=\".\",LEFT(TEXT(VLOOKUP(T28,'SYSTEM FORMULAE'!$A$1:$Q$1990,11),\"# ##0.###\"),LEN(TEXT(VLOOKUP(T28,'SYSTEM FORMULAE'!$A$1:$Q$1990,11),\"# ##0.###\"))-1),TEXT(VLOOKUP(T28,'SYSTEM FORMULAE'!$A$1:$Q$1990,11),\"# ##0.###\")),\" or \"),\"\"),IF(RIGHT(TEXT(VLOOKUP(T28,'SYSTEM FORMULAE'!$A$1:$Q$1990,12),\"# ##0.###\"),1)=\".\",LEFT(TEXT(VLOOKUP(T28,'SYSTEM FORMULAE'!$A$1:$Q$1990,12),\"# ##0.###\"),LEN(TEXT(VLOOKUP(T28,'SYSTEM FORMULAE'!$A$1:$Q$1990,12),\"# ##0.###\"))-1),TEXT(VLOOKUP(T28,'SYSTEM FORMULAE'!$A$1:$Q$1990,12),\"# ##0.###\")),IF(RIGHT(TEXT(VLOOKUP(T28,'SYSTEM FORMULAE'!$A$1:$Q$1990,13),\"# ##0.###\"),1)=\".\",LEFT(TEXT(VLOOKUP(T28,'SYSTEM FORMULAE'!$A$1:$Q$1990,13),\"# ##0.###\"),LEN(TEXT(VLOOKUP(T28,'SYSTEM FORMULAE'!$A$1:$Q$1990,13),\"# ##0.###\"))-1),TEXT(VLOOKUP(T28,'SYSTEM FORMULAE'!$A$1:$Q$1990,13),\"# ##0.###\")))","v":" 655 min"},"Maximum = ",{"$f":"CONCATENATE(IF(VLOOKUP(T28,'SYSTEM FORMULAE'!$A$1:$Q$1990,10)<>0,CONCATENATE(IF(RIGHT(TEXT(VLOOKUP(T28,'SYSTEM FORMULAE'!$A$1:$Q$1990,14),\"# ##0.###\"),1)=\".\",LEFT(TEXT(VLOOKUP(T28,'SYSTEM FORMULAE'!$A$1:$Q$1990,14),\"# ##0.###\"),LEN(TEXT(VLOOKUP(T28,'SYSTEM FORMULAE'!$A$1:$Q$1990,14),\"# ##0.###\"))-1),TEXT(VLOOKUP(T28,'SYSTEM FORMULAE'!$A$1:$Q$1990,14),\"# ##0.###\")),IF(RIGHT(TEXT(VLOOKUP(T28,'SYSTEM FORMULAE'!$A$1:$Q$1990,15),\"# ##0.###\"),1)=\".\",LEFT(TEXT(VLOOKUP(T28,'SYSTEM FORMULAE'!$A$1:$Q$1990,15),\"# ##0.###\"),LEN(TEXT(VLOOKUP(T28,'SYSTEM FORMULAE'!$A$1:$Q$1990,15),\"# ##0.###\"))-1),TEXT(VLOOKUP(T28,'SYSTEM FORMULAE'!$A$1:$Q$1990,15),\"# ##0.###\")),\" or \"),\"\"),IF(RIGHT(TEXT(VLOOKUP(T28,'SYSTEM FORMULAE'!$A$1:$Q$1990,16),\"# ##0.###\"),1)=\".\",LEFT(TEXT(VLOOKUP(T28,'SYSTEM FORMULAE'!$A$1:$Q$1990,16),\"# ##0.###\"),LEN(TEXT(VLOOKUP(T28,'SYSTEM FORMULAE'!$A$1:$Q$1990,16),\"# ##0.###\"))-1),TEXT(VLOOKUP(T28,'SYSTEM FORMULAE'!$A$1:$Q$1990,16),\"# ##0.###\")),IF(RIGHT(TEXT(VLOOKUP(T28,'SYSTEM FORMULAE'!$A$1:$Q$1990,17),\"# ##0.###\"),1)=\".\",LEFT(TEXT(VLOOKUP(T28,'SYSTEM FORMULAE'!$A$1:$Q$1990,17),\"# ##0.###\"),LEN(TEXT(VLOOKUP(T28,'SYSTEM FORMULAE'!$A$1:$Q$1990,17),\"# ##0.###\"))-1),TEXT(VLOOKUP(T28,'SYSTEM FORMULAE'!$A$1:$Q$1990,17),\"# ##0.###\")))","v":" 665 min"}]
[{"$f":"IF(COUNTIF($B$1:B29,TRUE)=COUNTIF($B$1:B28,TRUE),\"\",COUNTIF($B$1:B29,TRUE))","v":""},{"$f":"Worksheet!$B$16","v":false},15,"°C","±",{"$f":"IF(I29=1,H29*10^RANDBETWEEN(IF(Worksheet!$D$9,-1,0),0),IF(I29=2,H29,CHOOSE(RANDBETWEEN(1,3),5,10,20)))","v":0.30000000000000004},"°C",3,{"$f":"IF(AND(Worksheet!$D$8,RAND()<0),3,IF(RAND()<Worksheet!$D$7/100,1,2))","v":1},null," °C",14.7,"°C",null,"  °C",15.3,"°C",null,{"$f":"IF(ROW()<=Worksheet!$D$4,ROW(),\"\")","v":29},{"$f":"RANDBETWEEN(1,MAX('SYSTEM FORMULAE'!$A$1:$A$1990))","v":21},{"$f":"IF(RIGHT(TEXT(VLOOKUP(T29,'SYSTEM FORMULAE'!$A$1:$Q$1990,3),\"# ##0.###\"),1)=\".\",LEFT(TEXT(VLOOKUP(T29,'SYSTEM FORMULAE'!$A$1:$Q$1990,3),\"# ##0.###\"),LEN(TEXT(VLOOKUP(T29,'SYSTEM FORMULAE'!$A$1:$Q$1990,3),\"# ##0.###\"))-1),TEXT(VLOOKUP(T29,'SYSTEM FORMULAE'!$A$1:$Q$1990,3),\"# ##0.###\"))","v":" 44"},{"$f":"VLOOKUP(T29,'SYSTEM FORMULAE'!$A$1:$Q$1990,4)","v":"litres"},"±",{"$f":"IF(RIGHT(TEXT(VLOOKUP(T29,'SYSTEM FORMULAE'!$A$1:$Q$1990,6),\"# ##0.###\"),1)=\".\",LEFT(TEXT(VLOOKUP(T29,'SYSTEM FORMULAE'!$A$1:$Q$1990,6),\"# ##0.###\"),LEN(TEXT(VLOOKUP(T29,'SYSTEM FORMULAE'!$A$1:$Q$1990,6),\"# ##0.###\"))-1),TEXT(VLOOKUP(T29,'SYSTEM FORMULAE'!$A$1:$Q$1990,6),\"# ##0.###\"))","v":" 5"},{"$f":"VLOOKUP(T29,'SYSTEM FORMULAE'!$A$1:$Q$1990,7)","v":"%"},"Minimum =",{"$f":"CONCATENATE(IF(VLOOKUP(T29,'SYSTEM FORMULAE'!$A$1:$Q$1990,10)<>0,CONCATENATE(IF(RIGHT(TEXT(VLOOKUP(T29,'SYSTEM FORMULAE'!$A$1:$Q$1990,10),\"# ##0.###\"),1)=\".\",LEFT(TEXT(VLOOKUP(T29,'SYSTEM FORMULAE'!$A$1:$Q$1990,10),\"# ##0.###\"),LEN(TEXT(VLOOKUP(T29,'SYSTEM FORMULAE'!$A$1:$Q$1990,10),\"# ##0.###\"))-1),TEXT(VLOOKUP(T29,'SYSTEM FORMULAE'!$A$1:$Q$1990,10),\"# ##0.###\")),IF(RIGHT(TEXT(VLOOKUP(T29,'SYSTEM FORMULAE'!$A$1:$Q$1990,11),\"# ##0.###\"),1)=\".\",LEFT(TEXT(VLOOKUP(T29,'SYSTEM FORMULAE'!$A$1:$Q$1990,11),\"# ##0.###\"),LEN(TEXT(VLOOKUP(T29,'SYSTEM FORMULAE'!$A$1:$Q$1990,11),\"# ##0.###\"))-1),TEXT(VLOOKUP(T29,'SYSTEM FORMULAE'!$A$1:$Q$1990,11),\"# ##0.###\")),\" or \"),\"\"),IF(RIGHT(TEXT(VLOOKUP(T29,'SYSTEM FORMULAE'!$A$1:$Q$1990,12),\"# ##0.###\"),1)=\".\",LEFT(TEXT(VLOOKUP(T29,'SYSTEM FORMULAE'!$A$1:$Q$1990,12),\"# ##0.###\"),LEN(TEXT(VLOOKUP(T29,'SYSTEM FORMULAE'!$A$1:$Q$1990,12),\"# ##0.###\"))-1),TEXT(VLOOKUP(T29,'SYSTEM FORMULAE'!$A$1:$Q$1990,12),\"# ##0.###\")),IF(RIGHT(TEXT(VLOOKUP(T29,'SYSTEM FORMULAE'!$A$1:$Q$1990,13),\"# ##0.###\"),1)=\".\",LEFT(TEXT(VLOOKUP(T29,'SYSTEM FORMULAE'!$A$1:$Q$1990,13),\"# ##0.###\"),LEN(TEXT(VLOOKUP(T29,'SYSTEM FORMULAE'!$A$1:$Q$1990,13),\"# ##0.###\"))-1),TEXT(VLOOKUP(T29,'SYSTEM FORMULAE'!$A$1:$Q$1990,13),\"# ##0.###\")))","v":" 41.8 litres or 41 800ml"},"Maximum = ",{"$f":"CONCATENATE(IF(VLOOKUP(T29,'SYSTEM FORMULAE'!$A$1:$Q$1990,10)<>0,CONCATENATE(IF(RIGHT(TEXT(VLOOKUP(T29,'SYSTEM FORMULAE'!$A$1:$Q$1990,14),\"# ##0.###\"),1)=\".\",LEFT(TEXT(VLOOKUP(T29,'SYSTEM FORMULAE'!$A$1:$Q$1990,14),\"# ##0.###\"),LEN(TEXT(VLOOKUP(T29,'SYSTEM FORMULAE'!$A$1:$Q$1990,14),\"# ##0.###\"))-1),TEXT(VLOOKUP(T29,'SYSTEM FORMULAE'!$A$1:$Q$1990,14),\"# ##0.###\")),IF(RIGHT(TEXT(VLOOKUP(T29,'SYSTEM FORMULAE'!$A$1:$Q$1990,15),\"# ##0.###\"),1)=\".\",LEFT(TEXT(VLOOKUP(T29,'SYSTEM FORMULAE'!$A$1:$Q$1990,15),\"# ##0.###\"),LEN(TEXT(VLOOKUP(T29,'SYSTEM FORMULAE'!$A$1:$Q$1990,15),\"# ##0.###\"))-1),TEXT(VLOOKUP(T29,'SYSTEM FORMULAE'!$A$1:$Q$1990,15),\"# ##0.###\")),\" or \"),\"\"),IF(RIGHT(TEXT(VLOOKUP(T29,'SYSTEM FORMULAE'!$A$1:$Q$1990,16),\"# ##0.###\"),1)=\".\",LEFT(TEXT(VLOOKUP(T29,'SYSTEM FORMULAE'!$A$1:$Q$1990,16),\"# ##0.###\"),LEN(TEXT(VLOOKUP(T29,'SYSTEM FORMULAE'!$A$1:$Q$1990,16),\"# ##0.###\"))-1),TEXT(VLOOKUP(T29,'SYSTEM FORMULAE'!$A$1:$Q$1990,16),\"# ##0.###\")),IF(RIGHT(TEXT(VLOOKUP(T29,'SYSTEM FORMULAE'!$A$1:$Q$1990,17),\"# ##0.###\"),1)=\".\",LEFT(TEXT(VLOOKUP(T29,'SYSTEM FORMULAE'!$A$1:$Q$1990,17),\"# ##0.###\"),LEN(TEXT(VLOOKUP(T29,'SYSTEM FORMULAE'!$A$1:$Q$1990,17),\"# ##0.###\"))-1),TEXT(VLOOKUP(T29,'SYSTEM FORMULAE'!$A$1:$Q$1990,17),\"# ##0.###\")))","v":" 46.2  litres or 46 200ml"}]
[{"$f":"IF(COUNTIF($B$1:B30,TRUE)=COUNTIF($B$1:B29,TRUE),\"\",COUNTIF($B$1:B30,TRUE))","v":""},{"$f":"Worksheet!$B$16","v":false},11,"°C","±",{"$f":"IF(I30=1,H30*10^RANDBETWEEN(IF(Worksheet!$D$9,-1,0),0),IF(I30=2,H30,CHOOSE(RANDBETWEEN(1,3),5,10,20)))","v":0.9},"°C",9,{"$f":"IF(AND(Worksheet!$D$8,RAND()<0),3,IF(RAND()<Worksheet!$D$7/100,1,2))","v":1},null," °C",10.1,"°C",null,"  °C",11.9,"°C",null,{"$f":"IF(ROW()<=Worksheet!$D$4,ROW(),\"\")","v":30},{"$f":"RANDBETWEEN(1,MAX('SYSTEM FORMULAE'!$A$1:$A$1990))","v":163},{"$f":"IF(RIGHT(TEXT(VLOOKUP(T30,'SYSTEM FORMULAE'!$A$1:$Q$1990,3),\"# ##0.###\"),1)=\".\",LEFT(TEXT(VLOOKUP(T30,'SYSTEM FORMULAE'!$A$1:$Q$1990,3),\"# ##0.###\"),LEN(TEXT(VLOOKUP(T30,'SYSTEM FORMULAE'!$A$1:$Q$1990,3),\"# ##0.###\"))-1),TEXT(VLOOKUP(T30,'SYSTEM FORMULAE'!$A$1:$Q$1990,3),\"# ##0.###\"))","v":" 325"},{"$f":"VLOOKUP(T30,'SYSTEM FORMULAE'!$A$1:$Q$1990,4)","v":"kg"},"±",{"$f":"IF(RIGHT(TEXT(VLOOKUP(T30,'SYSTEM FORMULAE'!$A$1:$Q$1990,6),\"# ##0.###\"),1)=\".\",LEFT(TEXT(VLOOKUP(T30,'SYSTEM FORMULAE'!$A$1:$Q$1990,6),\"# ##0.###\"),LEN(TEXT(VLOOKUP(T30,'SYSTEM FORMULAE'!$A$1:$Q$1990,6),\"# ##0.###\"))-1),TEXT(VLOOKUP(T30,'SYSTEM FORMULAE'!$A$1:$Q$1990,6),\"# ##0.###\"))","v":" 40"},{"$f":"VLOOKUP(T30,'SYSTEM FORMULAE'!$A$1:$Q$1990,7)","v":"g"},"Minimum =",{"$f":"CONCATENATE(IF(VLOOKUP(T30,'SYSTEM FORMULAE'!$A$1:$Q$1990,10)<>0,CONCATENATE(IF(RIGHT(TEXT(VLOOKUP(T30,'SYSTEM FORMULAE'!$A$1:$Q$1990,10),\"# ##0.###\"),1)=\".\",LEFT(TEXT(VLOOKUP(T30,'SYSTEM FORMULAE'!$A$1:$Q$1990,10),\"# ##0.###\"),LEN(TEXT(VLOOKUP(T30,'SYSTEM FORMULAE'!$A$1:$Q$1990,10),\"# ##0.###\"))-1),TEXT(VLOOKUP(T30,'SYSTEM FORMULAE'!$A$1:$Q$1990,10),\"# ##0.###\")),IF(RIGHT(TEXT(VLOOKUP(T30,'SYSTEM FORMULAE'!$A$1:$Q$1990,11),\"# ##0.###\"),1)=\".\",LEFT(TEXT(VLOOKUP(T30,'SYSTEM FORMULAE'!$A$1:$Q$1990,11),\"# ##0.###\"),LEN(TEXT(VLOOKUP(T30,'SYSTEM FORMULAE'!$A$1:$Q$1990,11),\"# ##0.###\"))-1),TEXT(VLOOKUP(T30,'SYSTEM FORMULAE'!$A$1:$Q$1990,11),\"# ##0.###\")),\" or \"),\"\"),IF(RIGHT(TEXT(VLOOKUP(T30,'SYSTEM FORMULAE'!$A$1:$Q$1990,12),\"# ##0.###\"),1)=\".\",LEFT(TEXT(VLOOKUP(T30,'SYSTEM FORMULAE'!$A$1:$Q$1990,12),\"# ##0.###\"),LEN(TEXT(VLOOKUP(T30,'SYSTEM FORMULAE'!$A$1:$Q$1990,12),\"# ##0.###\"))-1),TEXT(VLOOKUP(T30,'SYSTEM FORMULAE'!$A$1:$Q$1990,12),\"# ##0.###\")),IF(RIGHT(TEXT(VLOOKUP(T30,'SYSTEM FORMULAE'!$A$1:$Q$1990,13),\"# ##0.###\"),1)=\".\",LEFT(TEXT(VLOOKUP(T30,'SYSTEM FORMULAE'!$A$1:$Q$1990,13),\"# ##0.###\"),LEN(TEXT(VLOOKUP(T30,'SYSTEM FORMULAE'!$A$1:$Q$1990,13),\"# ##0.###\"))-1),TEXT(VLOOKUP(T30,'SYSTEM FORMULAE'!$A$1:$Q$1990,13),\"# ##0.###\")))","v":" 324.96 kg or 324 960g"},"Maximum = ",{"$f":"CONCATENATE(IF(VLOOKUP(T30,'SYSTEM FORMULAE'!$A$1:$Q$1990,10)<>0,CONCATENATE(IF(RIGHT(TEXT(VLOOKUP(T30,'SYSTEM FORMULAE'!$A$1:$Q$1990,14),\"# ##0.###\"),1)=\".\",LEFT(TEXT(VLOOKUP(T30,'SYSTEM FORMULAE'!$A$1:$Q$1990,14),\"# ##0.###\"),LEN(TEXT(VLOOKUP(T30,'SYSTEM FORMULAE'!$A$1:$Q$1990,14),\"# ##0.###\"))-1),TEXT(VLOOKUP(T30,'SYSTEM FORMULAE'!$A$1:$Q$1990,14),\"# ##0.###\")),IF(RIGHT(TEXT(VLOOKUP(T30,'SYSTEM FORMULAE'!$A$1:$Q$1990,15),\"# ##0.###\"),1)=\".\",LEFT(TEXT(VLOOKUP(T30,'SYSTEM FORMULAE'!$A$1:$Q$1990,15),\"# ##0.###\"),LEN(TEXT(VLOOKUP(T30,'SYSTEM FORMULAE'!$A$1:$Q$1990,15),\"# ##0.###\"))-1),TEXT(VLOOKUP(T30,'SYSTEM FORMULAE'!$A$1:$Q$1990,15),\"# ##0.###\")),\" or \"),\"\"),IF(RIGHT(TEXT(VLOOKUP(T30,'SYSTEM FORMULAE'!$A$1:$Q$1990,16),\"# ##0.###\"),1)=\".\",LEFT(TEXT(VLOOKUP(T30,'SYSTEM FORMULAE'!$A$1:$Q$1990,16),\"# ##0.###\"),LEN(TEXT(VLOOKUP(T30,'SYSTEM FORMULAE'!$A$1:$Q$1990,16),\"# ##0.###\"))-1),TEXT(VLOOKUP(T30,'SYSTEM FORMULAE'!$A$1:$Q$1990,16),\"# ##0.###\")),IF(RIGHT(TEXT(VLOOKUP(T30,'SYSTEM FORMULAE'!$A$1:$Q$1990,17),\"# ##0.###\"),1)=\".\",LEFT(TEXT(VLOOKUP(T30,'SYSTEM FORMULAE'!$A$1:$Q$1990,17),\"# ##0.###\"),LEN(TEXT(VLOOKUP(T30,'SYSTEM FORMULAE'!$A$1:$Q$1990,17),\"# ##0.###\"))-1),TEXT(VLOOKUP(T30,'SYSTEM FORMULAE'!$A$1:$Q$1990,17),\"# ##0.###\")))","v":" 325.04  kg or 325 040g"}]
[{"$f":"IF(COUNTIF($B$1:B31,TRUE)=COUNTIF($B$1:B30,TRUE),\"\",COUNTIF($B$1:B31,TRUE))","v":""},{"$f":"Worksheet!$B$16","v":false},7,"°C","±",{"$f":"IF(I31=1,H31*10^RANDBETWEEN(IF(Worksheet!$D$9,-1,0),0),IF(I31=2,H31,CHOOSE(RANDBETWEEN(1,3),5,10,20)))","v":5},"°C",5,{"$f":"IF(AND(Worksheet!$D$8,RAND()<0),3,IF(RAND()<Worksheet!$D$7/100,1,2))","v":1},null," °C",2,"°C",null,"  °C",12,"°C"]
[{"$f":"IF(COUNTIF($B$1:B32,TRUE)=COUNTIF($B$1:B31,TRUE),\"\",COUNTIF($B$1:B32,TRUE))","v":""},{"$f":"Worksheet!$B$16","v":false},13,"°C","±",{"$f":"IF(I32=1,H32*10^RANDBETWEEN(IF(Worksheet!$D$9,-1,0),0),IF(I32=2,H32,CHOOSE(RANDBETWEEN(1,3),5,10,20)))","v":2},"°C",2,{"$f":"IF(AND(Worksheet!$D$8,RAND()<0),3,IF(RAND()<Worksheet!$D$7/100,1,2))","v":2},null," °C",11,"°C",null,"  °C",15,"°C"]
[{"$f":"IF(COUNTIF($B$1:B33,TRUE)=COUNTIF($B$1:B32,TRUE),\"\",COUNTIF($B$1:B33,TRUE))","v":""},{"$f":"Worksheet!$B$16","v":false},14,"°C","±",{"$f":"IF(I33=1,H33*10^RANDBETWEEN(IF(Worksheet!$D$9,-1,0),0),IF(I33=2,H33,CHOOSE(RANDBETWEEN(1,3),5,10,20)))","v":8},"°C",8,{"$f":"IF(AND(Worksheet!$D$8,RAND()<0),3,IF(RAND()<Worksheet!$D$7/100,1,2))","v":1},null," °C",6,"°C",null,"  °C",22,"°C"]
[{"$f":"IF(COUNTIF($B$1:B34,TRUE)=COUNTIF($B$1:B33,TRUE),\"\",COUNTIF($B$1:B34,TRUE))","v":""},{"$f":"Worksheet!$B$16","v":false},13,"°C","±",{"$f":"IF(I34=1,H34*10^RANDBETWEEN(IF(Worksheet!$D$9,-1,0),0),IF(I34=2,H34,CHOOSE(RANDBETWEEN(1,3),5,10,20)))","v":6},"°C",6,{"$f":"IF(AND(Worksheet!$D$8,RAND()<0),3,IF(RAND()<Worksheet!$D$7/100,1,2))","v":2},null," °C",7,"°C",null,"  °C",19,"°C"]
[{"$f":"IF(COUNTIF($B$1:B35,TRUE)=COUNTIF($B$1:B34,TRUE),\"\",COUNTIF($B$1:B35,TRUE))","v":""},{"$f":"Worksheet!$B$16","v":false},15,"°C","±",{"$f":"IF(I35=1,H35*10^RANDBETWEEN(IF(Worksheet!$D$9,-1,0),0),IF(I35=2,H35,CHOOSE(RANDBETWEEN(1,3),5,10,20)))","v":6},"°C",6,{"$f":"IF(AND(Worksheet!$D$8,RAND()<0),3,IF(RAND()<Worksheet!$D$7/100,1,2))","v":1},null," °C",9,"°C",null,"  °C",21,"°C"]
[{"$f":"IF(COUNTIF($B$1:B36,TRUE)=COUNTIF($B$1:B35,TRUE),\"\",COUNTIF($B$1:B36,TRUE))","v":""},{"$f":"Worksheet!$B$16","v":false},10,"°C","±",{"$f":"IF(I36=1,H36*10^RANDBETWEEN(IF(Worksheet!$D$9,-1,0),0),IF(I36=2,H36,CHOOSE(RANDBETWEEN(1,3),5,10,20)))","v":2},"°C",2,{"$f":"IF(AND(Worksheet!$D$8,RAND()<0),3,IF(RAND()<Worksheet!$D$7/100,1,2))","v":2},null," °C",8,"°C",null,"  °C",12,"°C"]
[{"$f":"IF(COUNTIF($B$1:B37,TRUE)=COUNTIF($B$1:B36,TRUE),\"\",COUNTIF($B$1:B37,TRUE))","v":""},{"$f":"Worksheet!$B$16","v":false},5,"°C","±",{"$f":"IF(I37=1,H37*10^RANDBETWEEN(IF(Worksheet!$D$9,-1,0),0),IF(I37=2,H37,CHOOSE(RANDBETWEEN(1,3),5,10,20)))","v":0.4},"°C",4,{"$f":"IF(AND(Worksheet!$D$8,RAND()<0),3,IF(RAND()<Worksheet!$D$7/100,1,2))","v":1},null," °C",4.5999999999999996,"°C",null,"  °C",5.4,"°C"]
[{"$f":"IF(COUNTIF($B$1:B38,TRUE)=COUNTIF($B$1:B37,TRUE),\"\",COUNTIF($B$1:B38,TRUE))","v":""},{"$f":"Worksheet!$B$16","v":false},20,"°C","±",{"$f":"IF(I38=1,H38*10^RANDBETWEEN(IF(Worksheet!$D$9,-1,0),0),IF(I38=2,H38,CHOOSE(RANDBETWEEN(1,3),5,10,20)))","v":8},"°C",8,{"$f":"IF(AND(Worksheet!$D$8,RAND()<0),3,IF(RAND()<Worksheet!$D$7/100,1,2))","v":1},null," °C",12,"°C",null,"  °C",28,"°C"]
[{"$f":"IF(COUNTIF($B$1:B39,TRUE)=COUNTIF($B$1:B38,TRUE),\"\",COUNTIF($B$1:B39,TRUE))","v":""},{"$f":"Worksheet!$B$16","v":false},19,"°C","±",{"$f":"IF(I39=1,H39*10^RANDBETWEEN(IF(Worksheet!$D$9,-1,0),0),IF(I39=2,H39,CHOOSE(RANDBETWEEN(1,3),5,10,20)))","v":2},"°C",2,{"$f":"IF(AND(Worksheet!$D$8,RAND()<0),3,IF(RAND()<Worksheet!$D$7/100,1,2))","v":2},null," °C",17,"°C",null,"  °C",21,"°C"]
[{"$f":"IF(COUNTIF($B$1:B40,TRUE)=COUNTIF($B$1:B39,TRUE),\"\",COUNTIF($B$1:B40,TRUE))","v":""},{"$f":"Worksheet!$B$16","v":false},7,"°C","±",{"$f":"IF(I40=1,H40*10^RANDBETWEEN(IF(Worksheet!$D$9,-1,0),0),IF(I40=2,H40,CHOOSE(RANDBETWEEN(1,3),5,10,20)))","v":4},"°C",4,{"$f":"IF(AND(Worksheet!$D$8,RAND()<0),3,IF(RAND()<Worksheet!$D$7/100,1,2))","v":2},null," °C",3,"°C",null,"  °C",11,"°C"]
[{"$f":"IF(COUNTIF($B$1:B41,TRUE)=COUNTIF($B$1:B40,TRUE),\"\",COUNTIF($B$1:B41,TRUE))","v":""},{"$f":"Worksheet!$B$16","v":false},8,"°C","±",{"$f":"IF(I41=1,H41*10^RANDBETWEEN(IF(Worksheet!$D$9,-1,0),0),IF(I41=2,H41,CHOOSE(RANDBETWEEN(1,3),5,10,20)))","v":7},"°C",7,{"$f":"IF(AND(Worksheet!$D$8,RAND()<0),3,IF(RAND()<Worksheet!$D$7/100,1,2))","v":1},null," °C",1,"°C",null,"  °C",15,"°C"]
[{"$f":"IF(COUNTIF($B$1:B42,TRUE)=COUNTIF($B$1:B41,TRUE),\"\",COUNTIF($B$1:B42,TRUE))","v":""},{"$f":"Worksheet!$B$16","v":false},16,"°C","±",{"$f":"IF(I42=1,H42*10^RANDBETWEEN(IF(Worksheet!$D$9,-1,0),0),IF(I42=2,H42,CHOOSE(RANDBETWEEN(1,3),5,10,20)))","v":7},"°C",7,{"$f":"IF(AND(Worksheet!$D$8,RAND()<0),3,IF(RAND()<Worksheet!$D$7/100,1,2))","v":1},null," °C",9,"°C",null,"  °C",23,"°C"]
[{"$f":"IF(COUNTIF($B$1:B43,TRUE)=COUNTIF($B$1:B42,TRUE),\"\",COUNTIF($B$1:B43,TRUE))","v":9},{"$f":"Worksheet!$B$13","v":true},{"$f":"RANDBETWEEN(5,RANDBETWEEN(5,Worksheet!$D$6))","v":82},"km","±",{"$f":"IF(I43=1,H43*10^RANDBETWEEN(IF(Worksheet!$D$9,-1,0),0),IF(I43=2,H43*10^RANDBETWEEN(RANDBETWEEN(0,2),2),CHOOSE(RANDBETWEEN(1,3),5,10,20)))","v":0.30000000000000004},{"$f":"IF(I43=1,D43,IF(I43=3,\"%\",\"m\"))","v":"km"},{"$f":"RANDBETWEEN(1,MIN(9,C43))","v":3},{"$f":"IF(AND(Worksheet!$D$8,RAND()<0.2),3,IF(RAND()<Worksheet!$D$7/100,1,2))","v":1},{"$f":"IF(I43=1,C43-F43,IF(I43=2,C43-F43/1000,IF(I43=3,(1-F43/100)*C43,\"\")))","v":81.7},{"$f":"CONCATENATE(\" \",D43)","v":" km"},{"$f":"J43*1000","v":81700},"m",{"$f":"IF(I43=1,C43+F43,IF(I43=2,C43+F43/1000,IF(I43=3,(1+F43/100)*C43,\"\")))","v":82.3},{"$f":"CONCATENATE(\" \",K43)","v":"  km"},{"$f":"N43*1000","v":82300},"m"]
[{"$f":"IF(COUNTIF($B$1:B44,TRUE)=COUNTIF($B$1:B43,TRUE),\"\",COUNTIF($B$1:B44,TRUE))","v":""},{"$f":"Worksheet!$B$14","v":false},{"$f":"RANDBETWEEN(5,RANDBETWEEN(5,Worksheet!$D$6))","v":137},"m","±",{"$f":"IF(I44=1,H44*10^RANDBETWEEN(IF(Worksheet!$D$9,-1,0),0),IF(I44=2,H44*10^RANDBETWEEN(RANDBETWEEN(0,2),2),CHOOSE(RANDBETWEEN(1,3),5,10,20)))","v":20},{"$f":"IF(I44=1,D44,IF(I44=3,\"%\",\"mm\"))","v":"%"},4,{"$f":"IF(AND(Worksheet!$D$8,RAND()<0.2),3,IF(RAND()<Worksheet!$D$7/100,1,2))","v":3},{"$f":"IF(I44=1,C44-F44,IF(I44=2,C44-F44/1000,IF(I44=3,(1-F44/100)*C44,\"\")))","v":109.60000000000001}," m",{"$f":"J44*1000","v":109600.00000000001},"mm",{"$f":"IF(I44=1,C44+F44,IF(I44=2,C44+F44/1000,IF(I44=3,(1+F44/100)*C44,\"\")))","v":164.4},"  m",{"$f":"N44*1000","v":164400},"mm"]
[{"$f":"IF(COUNTIF($B$1:B45,TRUE)=COUNTIF($B$1:B44,TRUE),\"\",COUNTIF($B$1:B45,TRUE))","v":10},{"$f":"Worksheet!$B$15","v":true},{"$f":"RANDBETWEEN(5,20)","v":15},"hours","±",{"$f":"IF(I45=1,H45*10^RANDBETWEEN(IF(Worksheet!$D$9,-1,0),0),IF(I45=2,H45,CHOOSE(RANDBETWEEN(1,3),5,10,20)))","v":6},{"$f":"IF(I45=1,D45,IF(I45=3,\"%\",\"min\"))","v":"min"},6,{"$f":"IF(AND(Worksheet!$D$8,RAND()<0),3,IF(RAND()<Worksheet!$D$7/100,1,2))","v":2},null," hours",{"$f":"IF(I45=1,C45-F45,IF(I45=2,C45*60-F45,\"\"))","v":894},{"$f":"IF($I45=1,\" hours\",\" min\")","v":" min"},null,"  hours",{"$f":"IF(I45=1,C45+F45,IF(I45=2,C45*60+F45,\"\"))","v":906},{"$f":"IF($I45=1,\" hours\",\" min\")","v":" min"}]
[{"$f":"IF(COUNTIF($B$1:B46,TRUE)=COUNTIF($B$1:B45,TRUE),\"\",COUNTIF($B$1:B46,TRUE))","v":11},{"$f":"Worksheet!$D$11","v":true},{"$f":"RANDBETWEEN(5,RANDBETWEEN(5,Worksheet!$D$6))","v":42},"kg","±",{"$f":"IF(I46=1,H46*10^RANDBETWEEN(IF(Worksheet!$D$9,-1,0),0),IF(I46=2,H46*10^RANDBETWEEN(RANDBETWEEN(0,2),2),CHOOSE(RANDBETWEEN(1,3),5,10,20)))","v":200},{"$f":"IF(I46=1,D46,IF(I46=3,\"%\",\"g\"))","v":"g"},2,{"$f":"IF(AND(Worksheet!$D$8,RAND()<0.2),3,IF(RAND()<Worksheet!$D$7/100,1,2))","v":2},{"$f":"IF(I46=1,C46-F46,IF(I46=2,C46-F46/1000,IF(I46=3,(1-F46/100)*C46,\"\")))","v":41.8}," kg",{"$f":"J46*1000","v":41800},"g",{"$f":"IF(I46=1,C46+F46,IF(I46=2,C46+F46/1000,IF(I46=3,(1+F46/100)*C46,\"\")))","v":42.2},"  kg",{"$f":"N46*1000","v":42200},"g"]
[{"$f":"IF(COUNTIF($B$1:B47,TRUE)=COUNTIF($B$1:B46,TRUE),\"\",COUNTIF($B$1:B47,TRUE))","v":12},{"$f":"Worksheet!$D$12","v":true},{"$f":"RANDBETWEEN(5,RANDBETWEEN(5,Worksheet!$D$6))","v":84},"tonnes","±",{"$f":"IF(I47=1,H47*10^RANDBETWEEN(IF(Worksheet!$D$9,-1,0),0),IF(I47=2,H47*10^RANDBETWEEN(RANDBETWEEN(0,2),2),CHOOSE(RANDBETWEEN(1,3),5,10,20)))","v":5},{"$f":"IF(I47=1,D47,IF(I47=3,\"%\",\"kg\"))","v":"%"},3,{"$f":"IF(AND(Worksheet!$D$8,RAND()<0.2),3,IF(RAND()<Worksheet!$D$7/100,1,2))","v":3},{"$f":"IF(I47=1,C47-F47,IF(I47=2,C47-F47/1000,IF(I47=3,(1-F47/100)*C47,\"\")))","v":79.8}," tonnes",{"$f":"J47*1000","v":79800},"kg",{"$f":"IF(I47=1,C47+F47,IF(I47=2,C47+F47/1000,IF(I47=3,(1+F47/100)*C47,\"\")))","v":88.2},"  tonnes",{"$f":"N47*1000","v":88200},"kg"]
[{"$f":"IF(COUNTIF($B$1:B48,TRUE)=COUNTIF($B$1:B47,TRUE),\"\",COUNTIF($B$1:B48,TRUE))","v":13},{"$f":"Worksheet!$D$13","v":true},{"$f":"RANDBETWEEN(5,RANDBETWEEN(5,Worksheet!$D$6))","v":132},"litres","±",{"$f":"IF(I48=1,H48*10^RANDBETWEEN(IF(Worksheet!$D$9,-1,0),0),IF(I48=2,H48*10^RANDBETWEEN(RANDBETWEEN(0,2),2),CHOOSE(RANDBETWEEN(1,3),5,10,20)))","v":900},{"$f":"IF(I48=1,D48,IF(I48=3,\"%\",\"ml\"))","v":"ml"},9,{"$f":"IF(AND(Worksheet!$D$8,RAND()<0.2),3,IF(RAND()<Worksheet!$D$7/100,1,2))","v":2},{"$f":"IF(I48=1,C48-F48,IF(I48=2,C48-F48/1000,IF(I48=3,(1-F48/100)*C48,\"\")))","v":131.1}," litres",{"$f":"J48*1000","v":131100},"ml",{"$f":"IF(I48=1,C48+F48,IF(I48=2,C48+F48/1000,IF(I48=3,(1+F48/100)*C48,\"\")))","v":132.9},"  litres",{"$f":"N48*1000","v":132900},"ml"]
[{"$f":"IF(COUNTIF($B$1:B49,TRUE)=COUNTIF($B$1:B48,TRUE),\"\",COUNTIF($B$1:B49,TRUE))","v":14},{"$f":"Worksheet!$D$14","v":true},{"$f":"RANDBETWEEN(5,RANDBETWEEN(5,Worksheet!$D$6))","v":20},"litres","±",{"$f":"IF(I49=1,H49*10^RANDBETWEEN(IF(Worksheet!$D$9,-1,0),0),IF(I49=2,H49*10^RANDBETWEEN(RANDBETWEEN(0,2),2),CHOOSE(RANDBETWEEN(1,3),5,10,20)))","v":0.9},{"$f":"IF(I49=1,D49,IF(I49=3,\"%\",\"cm³\"))","v":"litres"},9,{"$f":"IF(AND(Worksheet!$D$8,RAND()<0.2),3,IF(RAND()<Worksheet!$D$7/100,1,2))","v":1},{"$f":"IF(I49=1,C49-F49,IF(I49=2,C49-F49/1000,IF(I49=3,(1-F49/100)*C49,\"\")))","v":19.100000000000001}," litres",{"$f":"J49*1000","v":19100},"cm³",{"$f":"IF(I49=1,C49+F49,IF(I49=2,C49+F49/1000,IF(I49=3,(1+F49/100)*C49,\"\")))","v":20.9},"  litres",{"$f":"N49*1000","v":20900},"cm³"]
[{"$f":"IF(COUNTIF($B$1:B50,TRUE)=COUNTIF($B$1:B49,TRUE),\"\",COUNTIF($B$1:B50,TRUE))","v":""},{"$f":"Worksheet!$D$15","v":false},{"$f":"RANDBETWEEN(5,20)","v":12},"min","±",{"$f":"IF(I50=1,H50*10^RANDBETWEEN(IF(Worksheet!$D$9,-1,0),0),IF(I50=2,H50,CHOOSE(RANDBETWEEN(1,3),5,10,20)))","v":3},{"$f":"IF(I50=1,D50,IF(I50=3,\"%\",\"sec\"))","v":"sec"},3,{"$f":"IF(AND(Worksheet!$D$8,RAND()<0),3,IF(RAND()<Worksheet!$D$7/100,1,2))","v":2},null," min",{"$f":"IF(I50=1,C50-F50,IF(I50=2,C50*60-F50,\"\"))","v":717},{"$f":"IF($I50=1,\" hours\",\" min\")","v":" min"},null,"  min",{"$f":"IF(I50=1,C50+F50,IF(I50=2,C50*60+F50,\"\"))","v":723},{"$f":"IF($I50=1,\" hours\",\" min\")","v":" min"}]
[{"$f":"COUNTIF($B$1:B51,TRUE)","v":15},{"$f":"Worksheet!$B$11","v":true},{"$f":"RANDBETWEEN(5,RANDBETWEEN(5,Worksheet!$D$6))","v":10},"cm","±",{"$f":"IF(I51=1,H51*10^RANDBETWEEN(IF(Worksheet!$D$9,-1,0),0),IF(I51=2,H51,CHOOSE(RANDBETWEEN(1,3),5,10,20)))","v":6},{"$f":"IF(I51=1,D51,IF(I51=3,\"%\",\"mm\"))","v":"cm"},{"$f":"RANDBETWEEN(1,MIN(9,C51))","v":6},{"$f":"IF(AND(Worksheet!$D$8,RAND()<0.2),3,IF(RAND()<Worksheet!$D$7/100,1,2))","v":1},{"$f":"IF(I51=1,C51-F51,IF(I51=2,C51-F51/10,IF(I51=3,(1-F51/100)*C51,\"\")))","v":4},{"$f":"CONCATENATE(\" \",D51)","v":" cm"},{"$f":"J51*10","v":40},"mm",{"$f":"IF(I51=1,C51+F51,IF(I51=2,C51+F51/10,IF(I51=3,(1+F51/100)*C51,\"\")))","v":16},{"$f":"CONCATENATE(\" \",K51)","v":"  cm"},{"$f":"N51*10","v":160},"mm"]
[{"$f":"IF(COUNTIF($B$1:B52,TRUE)=COUNTIF($B$1:B51,TRUE),\"\",COUNTIF($B$1:B52,TRUE))","v":16},{"$f":"Worksheet!$B$12","v":true},{"$f":"RANDBETWEEN(5,RANDBETWEEN(5,Worksheet!$D$6))","v":59},"m","±",{"$f":"IF(I52=1,H52*10^RANDBETWEEN(IF(Worksheet!$D$9,-1,0),0),IF(I52=2,H52*10^RANDBETWEEN(RANDBETWEEN(0,1),1),CHOOSE(RANDBETWEEN(1,3),5,10,20)))","v":0.60000000000000009},{"$f":"IF(I52=1,D52,IF(I52=3,\"%\",\"cm\"))","v":"m"},{"$f":"RANDBETWEEN(1,MIN(9,C52))","v":6},{"$f":"IF(AND(Worksheet!$D$8,RAND()<0.2),3,IF(RAND()<Worksheet!$D$7/100,1,2))","v":1},{"$f":"IF(I52=1,C52-F52,IF(I52=2,C52-F52/100,IF(I52=3,(1-F52/100)*C52,\"\")))","v":58.4},{"$f":"CONCATENATE(\" \",D52)","v":" m"},{"$f":"J52*100","v":5840},"cm",{"$f":"IF(I52=1,C52+F52,IF(I52=2,C52+F52/100,IF(I52=3,(1+F52/100)*C52,\"\")))","v":59.6},{"$f":"CONCATENATE(\" \",K52)","v":"  m"},{"$f":"N52*100","v":5960},"cm"]
[{"$f":"IF(COUNTIF($B$1:B53,TRUE)=COUNTIF($B$1:B52,TRUE),\"\",COUNTIF($B$1:B53,TRUE))","v":17},{"$f":"Worksheet!$B$13","v":true},{"$f":"RANDBETWEEN(5,RANDBETWEEN(5,Worksheet!$D$6))","v":21},"km","±",{"$f":"IF(I53=1,H53*10^RANDBETWEEN(IF(Worksheet!$D$9,-1,0),0),IF(I53=2,H53*10^RANDBETWEEN(RANDBETWEEN(0,2),2),CHOOSE(RANDBETWEEN(1,3),5,10,20)))","v":1},{"$f":"IF(I53=1,D53,IF(I53=3,\"%\",\"m\"))","v":"km"},1,{"$f":"IF(AND(Worksheet!$D$8,RAND()<0.2),3,IF(RAND()<Worksheet!$D$7/100,1,2))","v":1},{"$f":"IF(I53=1,C53-F53,IF(I53=2,C53-F53/1000,IF(I53=3,(1-F53/100)*C53,\"\")))","v":20}," km",{"$f":"J53*1000","v":20000},"m",{"$f":"IF(I53=1,C53+F53,IF(I53=2,C53+F53/1000,IF(I53=3,(1+F53/100)*C53,\"\")))","v":22},"  km",{"$f":"N53*1000","v":22000},"m"]
[{"$f":"IF(COUNTIF($B$1:B54,TRUE)=COUNTIF($B$1:B53,TRUE),\"\",COUNTIF($B$1:B54,TRUE))","v":""},{"$f":"Worksheet!$B$14","v":false},{"$f":"RANDBETWEEN(5,RANDBETWEEN(5,Worksheet!$D$6))","v":23},"m","±",{"$f":"IF(I54=1,H54*10^RANDBETWEEN(IF(Worksheet!$D$9,-1,0),0),IF(I54=2,H54*10^RANDBETWEEN(RANDBETWEEN(0,2),2),CHOOSE(RANDBETWEEN(1,3),5,10,20)))","v":20},{"$f":"IF(I54=1,D54,IF(I54=3,\"%\",\"mm\"))","v":"%"},5,{"$f":"IF(AND(Worksheet!$D$8,RAND()<0.2),3,IF(RAND()<Worksheet!$D$7/100,1,2))","v":3},{"$f":"IF(I54=1,C54-F54,IF(I54=2,C54-F54/1000,IF(I54=3,(1-F54/100)*C54,\"\")))","v":18.400000000000002}," m",{"$f":"J54*1000","v":18400.000000000004},"mm",{"$f":"IF(I54=1,C54+F54,IF(I54=2,C54+F54/1000,IF(I54=3,(1+F54/100)*C54,\"\")))","v":27.599999999999998},"  m",{"$f":"N54*1000","v":27599.999999999996},"mm"]
[{"$f":"IF(COUNTIF($B$1:B55,TRUE)=COUNTIF($B$1:B54,TRUE),\"\",COUNTIF($B$1:B55,TRUE))","v":18},{"$f":"Worksheet!$B$15","v":true},{"$f":"RANDBETWEEN(5,20)","v":14},"hours","±",{"$f":"IF(I55=1,H55*10^RANDBETWEEN(IF(Worksheet!$D$9,-1,0),0),IF(I55=2,H55,CHOOSE(RANDBETWEEN(1,3),5,10,20)))","v":2},{"$f":"IF(I55=1,D55,IF(I55=3,\"%\",\"min\"))","v":"hours"},2,{"$f":"IF(AND(Worksheet!$D$8,RAND()<0),3,IF(RAND()<Worksheet!$D$7/100,1,2))","v":1},null," hours",{"$f":"IF(I55=1,C55-F55,IF(I55=2,C55*60-F55,\"\"))","v":12},{"$f":"IF($I55=1,\" hours\",\" min\")","v":" hours"},null,"  hours",{"$f":"IF(I55=1,C55+F55,IF(I55=2,C55*60+F55,\"\"))","v":16},{"$f":"IF($I55=1,\" hours\",\" min\")","v":" hours"}]
[{"$f":"IF(COUNTIF($B$1:B56,TRUE)=COUNTIF($B$1:B55,TRUE),\"\",COUNTIF($B$1:B56,TRUE))","v":19},{"$f":"Worksheet!$D$11","v":true},{"$f":"RANDBETWEEN(5,RANDBETWEEN(5,Worksheet!$D$6))","v":228},"kg","±",{"$f":"IF(I56=1,H56*10^RANDBETWEEN(IF(Worksheet!$D$9,-1,0),0),IF(I56=2,H56*10^RANDBETWEEN(RANDBETWEEN(0,2),2),CHOOSE(RANDBETWEEN(1,3),5,10,20)))","v":0.30000000000000004},{"$f":"IF(I56=1,D56,IF(I56=3,\"%\",\"g\"))","v":"kg"},3,{"$f":"IF(AND(Worksheet!$D$8,RAND()<0.2),3,IF(RAND()<Worksheet!$D$7/100,1,2))","v":1},{"$f":"IF(I56=1,C56-F56,IF(I56=2,C56-F56/1000,IF(I56=3,(1-F56/100)*C56,\"\")))","v":227.7}," kg",{"$f":"J56*1000","v":227700},"g",{"$f":"IF(I56=1,C56+F56,IF(I56=2,C56+F56/1000,IF(I56=3,(1+F56/100)*C56,\"\")))","v":228.3},"  kg",{"$f":"N56*1000","v":228300},"g"]
[{"$f":"IF(COUNTIF($B$1:B57,TRUE)=COUNTIF($B$1:B56,TRUE),\"\",COUNTIF($B$1:B57,TRUE))","v":20},{"$f":"Worksheet!$D$12","v":true},{"$f":"RANDBETWEEN(5,RANDBETWEEN(5,Worksheet!$D$6))","v":52},"tonnes","±",{"$f":"IF(I57=1,H57*10^RANDBETWEEN(IF(Worksheet!$D$9,-1,0),0),IF(I57=2,H57*10^RANDBETWEEN(RANDBETWEEN(0,2),2),CHOOSE(RANDBETWEEN(1,3),5,10,20)))","v":3},{"$f":"IF(I57=1,D57,IF(I57=3,\"%\",\"kg\"))","v":"tonnes"},3,{"$f":"IF(AND(Worksheet!$D$8,RAND()<0.2),3,IF(RAND()<Worksheet!$D$7/100,1,2))","v":1},{"$f":"IF(I57=1,C57-F57,IF(I57=2,C57-F57/1000,IF(I57=3,(1-F57/100)*C57,\"\")))","v":49}," tonnes",{"$f":"J57*1000","v":49000},"kg",{"$f":"IF(I57=1,C57+F57,IF(I57=2,C57+F57/1000,IF(I57=3,(1+F57/100)*C57,\"\")))","v":55},"  tonnes",{"$f":"N57*1000","v":55000},"kg"]
[{"$f":"IF(COUNTIF($B$1:B58,TRUE)=COUNTIF($B$1:B57,TRUE),\"\",COUNTIF($B$1:B58,TRUE))","v":21},{"$f":"Worksheet!$D$13","v":true},{"$f":"RANDBETWEEN(5,RANDBETWEEN(5,Worksheet!$D$6))","v":44},"litres","±",{"$f":"IF(I58=1,H58*10^RANDBETWEEN(IF(Worksheet!$D$9,-1,0),0),IF(I58=2,H58*10^RANDBETWEEN(RANDBETWEEN(0,2),2),CHOOSE(RANDBETWEEN(1,3),5,10,20)))","v":5},{"$f":"IF(I58=1,D58,IF(I58=3,\"%\",\"ml\"))","v":"%"},2,{"$f":"IF(AND(Worksheet!$D$8,RAND()<0.2),3,IF(RAND()<Worksheet!$D$7/100,1,2))","v":3},{"$f":"IF(I58=1,C58-F58,IF(I58=2,C58-F58/1000,IF(I58=3,(1-F58/100)*C58,\"\")))","v":41.8}," litres",{"$f":"J58*1000","v":41800},"ml",{"$f":"IF(I58=1,C58+F58,IF(I58=2,C58+F58/1000,IF(I58=3,(1+F58/100)*C58,\"\")))","v":46.2},"  litres",{"$f":"N58*1000","v":46200},"ml"]
[{"$f":"IF(COUNTIF($B$1:B59,TRUE)=COUNTIF($B$1:B58,TRUE),\"\",COUNTIF($B$1:B59,TRUE))","v":22},{"$f":"Worksheet!$D$14","v":true},{"$f":"RANDBETWEEN(5,RANDBETWEEN(5,Worksheet!$D$6))","v":90},"litres","±",{"$f":"IF(I59=1,H59*10^RANDBETWEEN(IF(Worksheet!$D$9,-1,0),0),IF(I59=2,H59*10^RANDBETWEEN(RANDBETWEEN(0,2),2),CHOOSE(RANDBETWEEN(1,3),5,10,20)))","v":7},{"$f":"IF(I59=1,D59,IF(I59=3,\"%\",\"cm³\"))","v":"litres"},7,{"$f":"IF(AND(Worksheet!$D$8,RAND()<0.2),3,IF(RAND()<Worksheet!$D$7/100,1,2))","v":1},{"$f":"IF(I59=1,C59-F59,IF(I59=2,C59-F59/1000,IF(I59=3,(1-F59/100)*C59,\"\")))","v":83}," litres",{"$f":"J59*1000","v":83000},"cm³",{"$f":"IF(I59=1,C59+F59,IF(I59=2,C59+F59/1000,IF(I59=3,(1+F59/100)*C59,\"\")))","v":97},"  litres",{"$f":"N59*1000","v":97000},"cm³"]
[{"$f":"IF(COUNTIF($B$1:B60,TRUE)=COUNTIF($B$1:B59,TRUE),\"\",COUNTIF($B$1:B60,TRUE))","v":""},{"$f":"Worksheet!$D$15","v":false},{"$f":"RANDBETWEEN(5,20)","v":17},"min","±",{"$f":"IF(I60=1,H60*10^RANDBETWEEN(IF(Worksheet!$D$9,-1,0),0),IF(I60=2,H60,CHOOSE(RANDBETWEEN(1,3),5,10,20)))","v":0.70000000000000007},{"$f":"IF(I60=1,D60,IF(I60=3,\"%\",\"sec\"))","v":"min"},7,{"$f":"IF(AND(Worksheet!$D$8,RAND()<0),3,IF(RAND()<Worksheet!$D$7/100,1,2))","v":1},null," min",{"$f":"IF(I60=1,C60-F60,IF(I60=2,C60*60-F60,\"\"))","v":16.3},{"$f":"IF($I60=1,\" hours\",\" min\")","v":" hours"},null,"  min",{"$f":"IF(I60=1,C60+F60,IF(I60=2,C60*60+F60,\"\"))","v":17.7},{"$f":"IF($I60=1,\" hours\",\" min\")","v":" hours"}]
[{"$f":"COUNTIF($B$1:B61,TRUE)","v":23},{"$f":"Worksheet!$B$11","v":true},{"$f":"RANDBETWEEN(5,RANDBETWEEN(5,Worksheet!$D$6))","v":81},"cm","±",{"$f":"IF(I61=1,H61*10^RANDBETWEEN(IF(Worksheet!$D$9,-1,0),0),IF(I61=2,H61,CHOOSE(RANDBETWEEN(1,3),5,10,20)))","v":4},{"$f":"IF(I61=1,D61,IF(I61=3,\"%\",\"mm\"))","v":"mm"},{"$f":"RANDBETWEEN(1,MIN(9,C61))","v":4},{"$f":"IF(AND(Worksheet!$D$8,RAND()<0.2),3,IF(RAND()<Worksheet!$D$7/100,1,2))","v":2},{"$f":"IF(I61=1,C61-F61,IF(I61=2,C61-F61/10,IF(I61=3,(1-F61/100)*C61,\"\")))","v":80.599999999999994},{"$f":"CONCATENATE(\" \",D61)","v":" cm"},{"$f":"J61*10","v":806},"mm",{"$f":"IF(I61=1,C61+F61,IF(I61=2,C61+F61/10,IF(I61=3,(1+F61/100)*C61,\"\")))","v":81.400000000000006},{"$f":"CONCATENATE(\" \",K61)","v":"  cm"},{"$f":"N61*10","v":814},"mm"]
[{"$f":"IF(COUNTIF($B$1:B62,TRUE)=COUNTIF($B$1:B61,TRUE),\"\",COUNTIF($B$1:B62,TRUE))","v":24},{"$f":"Worksheet!$B$12","v":true},{"$f":"RANDBETWEEN(5,RANDBETWEEN(5,Worksheet!$D$6))","v":17},"m","±",{"$f":"IF(I62=1,H62*10^RANDBETWEEN(IF(Worksheet!$D$9,-1,0),0),IF(I62=2,H62*10^RANDBETWEEN(RANDBETWEEN(0,1),1),CHOOSE(RANDBETWEEN(1,3),5,10,20)))","v":7},{"$f":"IF(I62=1,D62,IF(I62=3,\"%\",\"cm\"))","v":"m"},{"$f":"RANDBETWEEN(1,MIN(9,C62))","v":7},{"$f":"IF(AND(Worksheet!$D$8,RAND()<0.2),3,IF(RAND()<Worksheet!$D$7/100,1,2))","v":1},{"$f":"IF(I62=1,C62-F62,IF(I62=2,C62-F62/100,IF(I62=3,(1-F62/100)*C62,\"\")))","v":10},{"$f":"CONCATENATE(\" \",D62)","v":" m"},{"$f":"J62*100","v":1000},"cm",{"$f":"IF(I62=1,C62+F62,IF(I62=2,C62+F62/100,IF(I62=3,(1+F62/100)*C62,\"\")))","v":24},{"$f":"CONCATENATE(\" \",K62)","v":"  m"},{"$f":"N62*100","v":2400},"cm"]
[{"$f":"IF(COUNTIF($B$1:B63,TRUE)=COUNTIF($B$1:B62,TRUE),\"\",COUNTIF($B$1:B63,TRUE))","v":25},{"$f":"Worksheet!$B$13","v":true},{"$f":"RANDBETWEEN(5,RANDBETWEEN(5,Worksheet!$D$6))","v":82},"km","±",{"$f":"IF(I63=1,H63*10^RANDBETWEEN(IF(Worksheet!$D$9,-1,0),0),IF(I63=2,H63*10^RANDBETWEEN(RANDBETWEEN(0,2),2),CHOOSE(RANDBETWEEN(1,3),5,10,20)))","v":5},{"$f":"IF(I63=1,D63,IF(I63=3,\"%\",\"m\"))","v":"km"},5,{"$f":"IF(AND(Worksheet!$D$8,RAND()<0.2),3,IF(RAND()<Worksheet!$D$7/100,1,2))","v":1},{"$f":"IF(I63=1,C63-F63,IF(I63=2,C63-F63/1000,IF(I63=3,(1-F63/100)*C63,\"\")))","v":77}," km",{"$f":"J63*1000","v":77000},"m",{"$f":"IF(I63=1,C63+F63,IF(I63=2,C63+F63/1000,IF(I63=3,(1+F63/100)*C63,\"\")))","v":87},"  km",{"$f":"N63*1000","v":87000},"m"]
[{"$f":"IF(COUNTIF($B$1:B64,TRUE)=COUNTIF($B$1:B63,TRUE),\"\",COUNTIF($B$1:B64,TRUE))","v":""},{"$f":"Worksheet!$B$14","v":false},{"$f":"RANDBETWEEN(5,RANDBETWEEN(5,Worksheet!$D$6))","v":138},"m","±",{"$f":"IF(I64=1,H64*10^RANDBETWEEN(IF(Worksheet!$D$9,-1,0),0),IF(I64=2,H64*10^RANDBETWEEN(RANDBETWEEN(0,2),2),CHOOSE(RANDBETWEEN(1,3),5,10,20)))","v":10},{"$f":"IF(I64=1,D64,IF(I64=3,\"%\",\"mm\"))","v":"%"},1,{"$f":"IF(AND(Worksheet!$D$8,RAND()<0.2),3,IF(RAND()<Worksheet!$D$7/100,1,2))","v":3},{"$f":"IF(I64=1,C64-F64,IF(I64=2,C64-F64/1000,IF(I64=3,(1-F64/100)*C64,\"\")))","v":124.2}," m",{"$f":"J64*1000","v":124200},"mm",{"$f":"IF(I64=1,C64+F64,IF(I64=2,C64+F64/1000,IF(I64=3,(1+F64/100)*C64,\"\")))","v":151.80000000000001},"  m",{"$f":"N64*1000","v":151800},"mm"]
[{"$f":"IF(COUNTIF($B$1:B65,TRUE)=COUNTIF($B$1:B64,TRUE),\"\",COUNTIF($B$1:B65,TRUE))","v":26},{"$f":"Worksheet!$B$15","v":true},{"$f":"RANDBETWEEN(5,20)","v":8},"hours","±",{"$f":"IF(I65=1,H65*10^RANDBETWEEN(IF(Worksheet!$D$9,-1,0),0),IF(I65=2,H65,CHOOSE(RANDBETWEEN(1,3),5,10,20)))","v":3},{"$f":"IF(I65=1,D65,IF(I65=3,\"%\",\"min\"))","v":"min"},3,{"$f":"IF(AND(Worksheet!$D$8,RAND()<0),3,IF(RAND()<Worksheet!$D$7/100,1,2))","v":2},null," hours",{"$f":"IF(I65=1,C65-F65,IF(I65=2,C65*60-F65,\"\"))","v":477},{"$f":"IF($I65=1,\" hours\",\" min\")","v":" min"},null,"  hours",{"$f":"IF(I65=1,C65+F65,IF(I65=2,C65*60+F65,\"\"))","v":483},{"$f":"IF($I65=1,\" hours\",\" min\")","v":" min"}]
[{"$f":"IF(COUNTIF($B$1:B66,TRUE)=COUNTIF($B$1:B65,TRUE),\"\",COUNTIF($B$1:B66,TRUE))","v":27},{"$f":"Worksheet!$D$11","v":true},{"$f":"RANDBETWEEN(5,RANDBETWEEN(5,Worksheet!$D$6))","v":47},"kg","±",{"$f":"IF(I66=1,H66*10^RANDBETWEEN(IF(Worksheet!$D$9,-1,0),0),IF(I66=2,H66*10^RANDBETWEEN(RANDBETWEEN(0,2),2),CHOOSE(RANDBETWEEN(1,3),5,10,20)))","v":100},{"$f":"IF(I66=1,D66,IF(I66=3,\"%\",\"g\"))","v":"g"},1,{"$f":"IF(AND(Worksheet!$D$8,RAND()<0.2),3,IF(RAND()<Worksheet!$D$7/100,1,2))","v":2},{"$f":"IF(I66=1,C66-F66,IF(I66=2,C66-F66/1000,IF(I66=3,(1-F66/100)*C66,\"\")))","v":46.9}," kg",{"$f":"J66*1000","v":46900},"g",{"$f":"IF(I66=1,C66+F66,IF(I66=2,C66+F66/1000,IF(I66=3,(1+F66/100)*C66,\"\")))","v":47.1},"  kg",{"$f":"N66*1000","v":47100},"g"]
[{"$f":"IF(COUNTIF($B$1:B67,TRUE)=COUNTIF($B$1:B66,TRUE),\"\",COUNTIF($B$1:B67,TRUE))","v":28},{"$f":"Worksheet!$D$12","v":true},{"$f":"RANDBETWEEN(5,RANDBETWEEN(5,Worksheet!$D$6))","v":73},"tonnes","±",{"$f":"IF(I67=1,H67*10^RANDBETWEEN(IF(Worksheet!$D$9,-1,0),0),IF(I67=2,H67*10^RANDBETWEEN(RANDBETWEEN(0,2),2),CHOOSE(RANDBETWEEN(1,3),5,10,20)))","v":3},{"$f":"IF(I67=1,D67,IF(I67=3,\"%\",\"kg\"))","v":"tonnes"},3,{"$f":"IF(AND(Worksheet!$D$8,RAND()<0.2),3,IF(RAND()<Worksheet!$D$7/100,1,2))","v":1},{"$f":"IF(I67=1,C67-F67,IF(I67=2,C67-F67/1000,IF(I67=3,(1-F67/100)*C67,\"\")))","v":70}," tonnes",{"$f":"J67*1000","v":70000},"kg",{"$f":"IF(I67=1,C67+F67,IF(I67=2,C67+F67/1000,IF(I67=3,(1+F67/100)*C67,\"\")))","v":76},"  tonnes",{"$f":"N67*1000","v":76000},"kg"]
[{"$f":"IF(COUNTIF($B$1:B68,TRUE)=COUNTIF($B$1:B67,TRUE),\"\",COUNTIF($B$1:B68,TRUE))","v":29},{"$f":"Worksheet!$D$13","v":true},{"$f":"RANDBETWEEN(5,RANDBETWEEN(5,Worksheet!$D$6))","v":231},"litres","±",{"$f":"IF(I68=1,H68*10^RANDBETWEEN(IF(Worksheet!$D$9,-1,0),0),IF(I68=2,H68*10^RANDBETWEEN(RANDBETWEEN(0,2),2),CHOOSE(RANDBETWEEN(1,3),5,10,20)))","v":6},{"$f":"IF(I68=1,D68,IF(I68=3,\"%\",\"ml\"))","v":"litres"},6,{"$f":"IF(AND(Worksheet!$D$8,RAND()<0.2),3,IF(RAND()<Worksheet!$D$7/100,1,2))","v":1},{"$f":"IF(I68=1,C68-F68,IF(I68=2,C68-F68/1000,IF(I68=3,(1-F68/100)*C68,\"\")))","v":225}," litres",{"$f":"J68*1000","v":225000},"ml",{"$f":"IF(I68=1,C68+F68,IF(I68=2,C68+F68/1000,IF(I68=3,(1+F68/100)*C68,\"\")))","v":237},"  litres",{"$f":"N68*1000","v":237000},"ml"]
[{"$f":"IF(COUNTIF($B$1:B69,TRUE)=COUNTIF($B$1:B68,TRUE),\"\",COUNTIF($B$1:B69,TRUE))","v":30},{"$f":"Worksheet!$D$14","v":true},{"$f":"RANDBETWEEN(5,RANDBETWEEN(5,Worksheet!$D$6))","v":125},"litres","±",{"$f":"IF(I69=1,H69*10^RANDBETWEEN(IF(Worksheet!$D$9,-1,0),0),IF(I69=2,H69*10^RANDBETWEEN(RANDBETWEEN(0,2),2),CHOOSE(RANDBETWEEN(1,3),5,10,20)))","v":0.5},{"$f":"IF(I69=1,D69,IF(I69=3,\"%\",\"cm³\"))","v":"litres"},5,{"$f":"IF(AND(Worksheet!$D$8,RAND()<0.2),3,IF(RAND()<Worksheet!$D$7/100,1,2))","v":1},{"$f":"IF(I69=1,C69-F69,IF(I69=2,C69-F69/1000,IF(I69=3,(1-F69/100)*C69,\"\")))","v":124.5}," litres",{"$f":"J69*1000","v":124500},"cm³",{"$f":"IF(I69=1,C69+F69,IF(I69=2,C69+F69/1000,IF(I69=3,(1+F69/100)*C69,\"\")))","v":125.5},"  litres",{"$f":"N69*1000","v":125500},"cm³"]
[{"$f":"IF(COUNTIF($B$1:B70,TRUE)=COUNTIF($B$1:B69,TRUE),\"\",COUNTIF($B$1:B70,TRUE))","v":""},{"$f":"Worksheet!$D$15","v":false},{"$f":"RANDBETWEEN(5,20)","v":18},"min","±",{"$f":"IF(I70=1,H70*10^RANDBETWEEN(IF(Worksheet!$D$9,-1,0),0),IF(I70=2,H70,CHOOSE(RANDBETWEEN(1,3),5,10,20)))","v":0.8},{"$f":"IF(I70=1,D70,IF(I70=3,\"%\",\"sec\"))","v":"min"},8,{"$f":"IF(AND(Worksheet!$D$8,RAND()<0),3,IF(RAND()<Worksheet!$D$7/100,1,2))","v":1},null," min",{"$f":"IF(I70=1,C70-F70,IF(I70=2,C70*60-F70,\"\"))","v":17.2},{"$f":"IF($I70=1,\" hours\",\" min\")","v":" hours"},null,"  min",{"$f":"IF(I70=1,C70+F70,IF(I70=2,C70*60+F70,\"\"))","v":18.8},{"$f":"IF($I70=1,\" hours\",\" min\")","v":" hours"}]
[{"$f":"COUNTIF($B$1:B71,TRUE)","v":31},{"$f":"Worksheet!$B$11","v":true},{"$f":"RANDBETWEEN(5,RANDBETWEEN(5,Worksheet!$D$6))","v":95},"cm","±",{"$f":"IF(I71=1,H71*10^RANDBETWEEN(IF(Worksheet!$D$9,-1,0),0),IF(I71=2,H71,CHOOSE(RANDBETWEEN(1,3),5,10,20)))","v":5},{"$f":"IF(I71=1,D71,IF(I71=3,\"%\",\"mm\"))","v":"mm"},{"$f":"RANDBETWEEN(1,MIN(9,C71))","v":5},{"$f":"IF(AND(Worksheet!$D$8,RAND()<0.2),3,IF(RAND()<Worksheet!$D$7/100,1,2))","v":2},{"$f":"IF(I71=1,C71-F71,IF(I71=2,C71-F71/10,IF(I71=3,(1-F71/100)*C71,\"\")))","v":94.5},{"$f":"CONCATENATE(\" \",D71)","v":" cm"},{"$f":"J71*10","v":945},"mm",{"$f":"IF(I71=1,C71+F71,IF(I71=2,C71+F71/10,IF(I71=3,(1+F71/100)*C71,\"\")))","v":95.5},{"$f":"CONCATENATE(\" \",K71)","v":"  cm"},{"$f":"N71*10","v":955},"mm"]
[{"$f":"IF(COUNTIF($B$1:B72,TRUE)=COUNTIF($B$1:B71,TRUE),\"\",COUNTIF($B$1:B72,TRUE))","v":32},{"$f":"Worksheet!$B$12","v":true},{"$f":"RANDBETWEEN(5,RANDBETWEEN(5,Worksheet!$D$6))","v":83},"m","±",{"$f":"IF(I72=1,H72*10^RANDBETWEEN(IF(Worksheet!$D$9,-1,0),0),IF(I72=2,H72*10^RANDBETWEEN(RANDBETWEEN(0,1),1),CHOOSE(RANDBETWEEN(1,3),5,10,20)))","v":0.60000000000000009},{"$f":"IF(I72=1,D72,IF(I72=3,\"%\",\"cm\"))","v":"m"},{"$f":"RANDBETWEEN(1,MIN(9,C72))","v":6},{"$f":"IF(AND(Worksheet!$D$8,RAND()<0.2),3,IF(RAND()<Worksheet!$D$7/100,1,2))","v":1},{"$f":"IF(I72=1,C72-F72,IF(I72=2,C72-F72/100,IF(I72=3,(1-F72/100)*C72,\"\")))","v":82.4},{"$f":"CONCATENATE(\" \",D72)","v":" m"},{"$f":"J72*100","v":8240},"cm",{"$f":"IF(I72=1,C72+F72,IF(I72=2,C72+F72/100,IF(I72=3,(1+F72/100)*C72,\"\")))","v":83.6},{"$f":"CONCATENATE(\" \",K72)","v":"  m"},{"$f":"N72*100","v":8360},"cm"]
[{"$f":"IF(COUNTIF($B$1:B73,TRUE)=COUNTIF($B$1:B72,TRUE),\"\",COUNTIF($B$1:B73,TRUE))","v":33},{"$f":"Worksheet!$B$13","v":true},{"$f":"RANDBETWEEN(5,RANDBETWEEN(5,Worksheet!$D$6))","v":7},"km","±",{"$f":"IF(I73=1,H73*10^RANDBETWEEN(IF(Worksheet!$D$9,-1,0),0),IF(I73=2,H73*10^RANDBETWEEN(RANDBETWEEN(0,2),2),CHOOSE(RANDBETWEEN(1,3),5,10,20)))","v":200},{"$f":"IF(I73=1,D73,IF(I73=3,\"%\",\"m\"))","v":"m"},2,{"$f":"IF(AND(Worksheet!$D$8,RAND()<0.2),3,IF(RAND()<Worksheet!$D$7/100,1,2))","v":2},{"$f":"IF(I73=1,C73-F73,IF(I73=2,C73-F73/1000,IF(I73=3,(1-F73/100)*C73,\"\")))","v":6.8}," km",{"$f":"J73*1000","v":6800},"m",{"$f":"IF(I73=1,C73+F73,IF(I73=2,C73+F73/1000,IF(I73=3,(1+F73/100)*C73,\"\")))","v":7.2},"  km",{"$f":"N73*1000","v":7200},"m"]
[{"$f":"IF(COUNTIF($B$1:B74,TRUE)=COUNTIF($B$1:B73,TRUE),\"\",COUNTIF($B$1:B74,TRUE))","v":""},{"$f":"Worksheet!$B$14","v":false},{"$f":"RANDBETWEEN(5,RANDBETWEEN(5,Worksheet!$D$6))","v":62},"m","±",{"$f":"IF(I74=1,H74*10^RANDBETWEEN(IF(Worksheet!$D$9,-1,0),0),IF(I74=2,H74*10^RANDBETWEEN(RANDBETWEEN(0,2),2),CHOOSE(RANDBETWEEN(1,3),5,10,20)))","v":0.4},{"$f":"IF(I74=1,D74,IF(I74=3,\"%\",\"mm\"))","v":"m"},4,{"$f":"IF(AND(Worksheet!$D$8,RAND()<0.2),3,IF(RAND()<Worksheet!$D$7/100,1,2))","v":1},{"$f":"IF(I74=1,C74-F74,IF(I74=2,C74-F74/1000,IF(I74=3,(1-F74/100)*C74,\"\")))","v":61.6}," m",{"$f":"J74*1000","v":61600},"mm",{"$f":"IF(I74=1,C74+F74,IF(I74=2,C74+F74/1000,IF(I74=3,(1+F74/100)*C74,\"\")))","v":62.4},"  m",{"$f":"N74*1000","v":62400},"mm"]
[{"$f":"IF(COUNTIF($B$1:B75,TRUE)=COUNTIF($B$1:B74,TRUE),\"\",COUNTIF($B$1:B75,TRUE))","v":34},{"$f":"Worksheet!$B$15","v":true},{"$f":"RANDBETWEEN(5,20)","v":9},"hours","±",{"$f":"IF(I75=1,H75*10^RANDBETWEEN(IF(Worksheet!$D$9,-1,0),0),IF(I75=2,H75,CHOOSE(RANDBETWEEN(1,3),5,10,20)))","v":3},{"$f":"IF(I75=1,D75,IF(I75=3,\"%\",\"min\"))","v":"hours"},3,{"$f":"IF(AND(Worksheet!$D$8,RAND()<0),3,IF(RAND()<Worksheet!$D$7/100,1,2))","v":1},null," hours",{"$f":"IF(I75=1,C75-F75,IF(I75=2,C75*60-F75,\"\"))","v":6},{"$f":"IF($I75=1,\" hours\",\" min\")","v":" hours"},null,"  hours",{"$f":"IF(I75=1,C75+F75,IF(I75=2,C75*60+F75,\"\"))","v":12},{"$f":"IF($I75=1,\" hours\",\" min\")","v":" hours"}]
[{"$f":"IF(COUNTIF($B$1:B76,TRUE)=COUNTIF($B$1:B75,TRUE),\"\",COUNTIF($B$1:B76,TRUE))","v":35},{"$f":"Worksheet!$D$11","v":true},{"$f":"RANDBETWEEN(5,RANDBETWEEN(5,Worksheet!$D$6))","v":27},"kg","±",{"$f":"IF(I76=1,H76*10^RANDBETWEEN(IF(Worksheet!$D$9,-1,0),0),IF(I76=2,H76*10^RANDBETWEEN(RANDBETWEEN(0,2),2),CHOOSE(RANDBETWEEN(1,3),5,10,20)))","v":3},{"$f":"IF(I76=1,D76,IF(I76=3,\"%\",\"g\"))","v":"kg"},3,{"$f":"IF(AND(Worksheet!$D$8,RAND()<0.2),3,IF(RAND()<Worksheet!$D$7/100,1,2))","v":1},{"$f":"IF(I76=1,C76-F76,IF(I76=2,C76-F76/1000,IF(I76=3,(1-F76/100)*C76,\"\")))","v":24}," kg",{"$f":"J76*1000","v":24000},"g",{"$f":"IF(I76=1,C76+F76,IF(I76=2,C76+F76/1000,IF(I76=3,(1+F76/100)*C76,\"\")))","v":30},"  kg",{"$f":"N76*1000","v":30000},"g"]
[{"$f":"IF(COUNTIF($B$1:B77,TRUE)=COUNTIF($B$1:B76,TRUE),\"\",COUNTIF($B$1:B77,TRUE))","v":36},{"$f":"Worksheet!$D$12","v":true},{"$f":"RANDBETWEEN(5,RANDBETWEEN(5,Worksheet!$D$6))","v":20},"tonnes","±",{"$f":"IF(I77=1,H77*10^RANDBETWEEN(IF(Worksheet!$D$9,-1,0),0),IF(I77=2,H77*10^RANDBETWEEN(RANDBETWEEN(0,2),2),CHOOSE(RANDBETWEEN(1,3),5,10,20)))","v":0.1},{"$f":"IF(I77=1,D77,IF(I77=3,\"%\",\"kg\"))","v":"tonnes"},1,{"$f":"IF(AND(Worksheet!$D$8,RAND()<0.2),3,IF(RAND()<Worksheet!$D$7/100,1,2))","v":1},{"$f":"IF(I77=1,C77-F77,IF(I77=2,C77-F77/1000,IF(I77=3,(1-F77/100)*C77,\"\")))","v":19.899999999999999}," tonnes",{"$f":"J77*1000","v":19900},"kg",{"$f":"IF(I77=1,C77+F77,IF(I77=2,C77+F77/1000,IF(I77=3,(1+F77/100)*C77,\"\")))","v":20.100000000000001},"  tonnes",{"$f":"N77*1000","v":20100},"kg"]
[{"$f":"IF(COUNTIF($B$1:B78,TRUE)=COUNTIF($B$1:B77,TRUE),\"\",COUNTIF($B$1:B78,TRUE))","v":37},{"$f":"Worksheet!$D$13","v":true},{"$f":"RANDBETWEEN(5,RANDBETWEEN(5,Worksheet!$D$6))","v":176},"litres","±",{"$f":"IF(I78=1,H78*10^RANDBETWEEN(IF(Worksheet!$D$9,-1,0),0),IF(I78=2,H78*10^RANDBETWEEN(RANDBETWEEN(0,2),2),CHOOSE(RANDBETWEEN(1,3),5,10,20)))","v":9},{"$f":"IF(I78=1,D78,IF(I78=3,\"%\",\"ml\"))","v":"litres"},9,{"$f":"IF(AND(Worksheet!$D$8,RAND()<0.2),3,IF(RAND()<Worksheet!$D$7/100,1,2))","v":1},{"$f":"IF(I78=1,C78-F78,IF(I78=2,C78-F78/1000,IF(I78=3,(1-F78/100)*C78,\"\")))","v":167}," litres",{"$f":"J78*1000","v":167000},"ml",{"$f":"IF(I78=1,C78+F78,IF(I78=2,C78+F78/1000,IF(I78=3,(1+F78/100)*C78,\"\")))","v":185},"  litres",{"$f":"N78*1000","v":185000},"ml"]
[{"$f":"IF(COUNTIF($B$1:B79,TRUE)=COUNTIF($B$1:B78,TRUE),\"\",COUNTIF($B$1:B79,TRUE))","v":38},{"$f":"Worksheet!$D$14","v":true},{"$f":"RANDBETWEEN(5,RANDBETWEEN(5,Worksheet!$D$6))","v":344},"litres","±",{"$f":"IF(I79=1,H79*10^RANDBETWEEN(IF(Worksheet!$D$9,-1,0),0),IF(I79=2,H79*10^RANDBETWEEN(RANDBETWEEN(0,2),2),CHOOSE(RANDBETWEEN(1,3),5,10,20)))","v":5},{"$f":"IF(I79=1,D79,IF(I79=3,\"%\",\"cm³\"))","v":"%"},8,{"$f":"IF(AND(Worksheet!$D$8,RAND()<0.2),3,IF(RAND()<Worksheet!$D$7/100,1,2))","v":3},{"$f":"IF(I79=1,C79-F79,IF(I79=2,C79-F79/1000,IF(I79=3,(1-F79/100)*C79,\"\")))","v":326.8}," litres",{"$f":"J79*1000","v":326800},"cm³",{"$f":"IF(I79=1,C79+F79,IF(I79=2,C79+F79/1000,IF(I79=3,(1+F79/100)*C79,\"\")))","v":361.2},"  litres",{"$f":"N79*1000","v":361200},"cm³"]
[{"$f":"IF(COUNTIF($B$1:B80,TRUE)=COUNTIF($B$1:B79,TRUE),\"\",COUNTIF($B$1:B80,TRUE))","v":""},{"$f":"Worksheet!$D$15","v":false},{"$f":"RANDBETWEEN(5,20)","v":16},"min","±",{"$f":"IF(I80=1,H80*10^RANDBETWEEN(IF(Worksheet!$D$9,-1,0),0),IF(I80=2,H80,CHOOSE(RANDBETWEEN(1,3),5,10,20)))","v":5},{"$f":"IF(I80=1,D80,IF(I80=3,\"%\",\"sec\"))","v":"sec"},5,{"$f":"IF(AND(Worksheet!$D$8,RAND()<0),3,IF(RAND()<Worksheet!$D$7/100,1,2))","v":2},null," min",{"$f":"IF(I80=1,C80-F80,IF(I80=2,C80*60-F80,\"\"))","v":955},{"$f":"IF($I80=1,\" hours\",\" min\")","v":" min"},null,"  min",{"$f":"IF(I80=1,C80+F80,IF(I80=2,C80*60+F80,\"\"))","v":965},{"$f":"IF($I80=1,\" hours\",\" min\")","v":" min"}]
[{"$f":"COUNTIF($B$1:B81,TRUE)","v":39},{"$f":"Worksheet!$B$11","v":true},{"$f":"RANDBETWEEN(5,RANDBETWEEN(5,Worksheet!$D$6))","v":36},"cm","±",{"$f":"IF(I81=1,H81*10^RANDBETWEEN(IF(Worksheet!$D$9,-1,0),0),IF(I81=2,H81,CHOOSE(RANDBETWEEN(1,3),5,10,20)))","v":1},{"$f":"IF(I81=1,D81,IF(I81=3,\"%\",\"mm\"))","v":"cm"},{"$f":"RANDBETWEEN(1,MIN(9,C81))","v":1},{"$f":"IF(AND(Worksheet!$D$8,RAND()<0.2),3,IF(RAND()<Worksheet!$D$7/100,1,2))","v":1},{"$f":"IF(I81=1,C81-F81,IF(I81=2,C81-F81/10,IF(I81=3,(1-F81/100)*C81,\"\")))","v":35},{"$f":"CONCATENATE(\" \",D81)","v":" cm"},{"$f":"J81*10","v":350},"mm",{"$f":"IF(I81=1,C81+F81,IF(I81=2,C81+F81/10,IF(I81=3,(1+F81/100)*C81,\"\")))","v":37},{"$f":"CONCATENATE(\" \",K81)","v":"  cm"},{"$f":"N81*10","v":370},"mm"]
[{"$f":"IF(COUNTIF($B$1:B82,TRUE)=COUNTIF($B$1:B81,TRUE),\"\",COUNTIF($B$1:B82,TRUE))","v":40},{"$f":"Worksheet!$B$12","v":true},{"$f":"RANDBETWEEN(5,RANDBETWEEN(5,Worksheet!$D$6))","v":9},"m","±",{"$f":"IF(I82=1,H82*10^RANDBETWEEN(IF(Worksheet!$D$9,-1,0),0),IF(I82=2,H82*10^RANDBETWEEN(RANDBETWEEN(0,1),1),CHOOSE(RANDBETWEEN(1,3),5,10,20)))","v":5},{"$f":"IF(I82=1,D82,IF(I82=3,\"%\",\"cm\"))","v":"%"},{"$f":"RANDBETWEEN(1,MIN(9,C82))","v":2},{"$f":"IF(AND(Worksheet!$D$8,RAND()<0.2),3,IF(RAND()<Worksheet!$D$7/100,1,2))","v":3},{"$f":"IF(I82=1,C82-F82,IF(I82=2,C82-F82/100,IF(I82=3,(1-F82/100)*C82,\"\")))","v":8.5499999999999989},{"$f":"CONCATENATE(\" \",D82)","v":" m"},{"$f":"J82*100","v":854.99999999999989},"cm",{"$f":"IF(I82=1,C82+F82,IF(I82=2,C82+F82/100,IF(I82=3,(1+F82/100)*C82,\"\")))","v":9.4500000000000011},{"$f":"CONCATENATE(\" \",K82)","v":"  m"},{"$f":"N82*100","v":945.00000000000011},"cm"]
[{"$f":"IF(COUNTIF($B$1:B83,TRUE)=COUNTIF($B$1:B82,TRUE),\"\",COUNTIF($B$1:B83,TRUE))","v":41},{"$f":"Worksheet!$B$13","v":true},{"$f":"RANDBETWEEN(5,RANDBETWEEN(5,Worksheet!$D$6))","v":145},"km","±",{"$f":"IF(I83=1,H83*10^RANDBETWEEN(IF(Worksheet!$D$9,-1,0),0),IF(I83=2,H83*10^RANDBETWEEN(RANDBETWEEN(0,2),2),CHOOSE(RANDBETWEEN(1,3),5,10,20)))","v":0.30000000000000004},{"$f":"IF(I83=1,D83,IF(I83=3,\"%\",\"m\"))","v":"km"},3,{"$f":"IF(AND(Worksheet!$D$8,RAND()<0.2),3,IF(RAND()<Worksheet!$D$7/100,1,2))","v":1},{"$f":"IF(I83=1,C83-F83,IF(I83=2,C83-F83/1000,IF(I83=3,(1-F83/100)*C83,\"\")))","v":144.69999999999999}," km",{"$f":"J83*1000","v":144700},"m",{"$f":"IF(I83=1,C83+F83,IF(I83=2,C83+F83/1000,IF(I83=3,(1+F83/100)*C83,\"\")))","v":145.30000000000001},"  km",{"$f":"N83*1000","v":145300},"m"]
[{"$f":"IF(COUNTIF($B$1:B84,TRUE)=COUNTIF($B$1:B83,TRUE),\"\",COUNTIF($B$1:B84,TRUE))","v":""},{"$f":"Worksheet!$B$14","v":false},{"$f":"RANDBETWEEN(5,RANDBETWEEN(5,Worksheet!$D$6))","v":29},"m","±",{"$f":"IF(I84=1,H84*10^RANDBETWEEN(IF(Worksheet!$D$9,-1,0),0),IF(I84=2,H84*10^RANDBETWEEN(RANDBETWEEN(0,2),2),CHOOSE(RANDBETWEEN(1,3),5,10,20)))","v":3},{"$f":"IF(I84=1,D84,IF(I84=3,\"%\",\"mm\"))","v":"m"},3,{"$f":"IF(AND(Worksheet!$D$8,RAND()<0.2),3,IF(RAND()<Worksheet!$D$7/100,1,2))","v":1},{"$f":"IF(I84=1,C84-F84,IF(I84=2,C84-F84/1000,IF(I84=3,(1-F84/100)*C84,\"\")))","v":26}," m",{"$f":"J84*1000","v":26000},"mm",{"$f":"IF(I84=1,C84+F84,IF(I84=2,C84+F84/1000,IF(I84=3,(1+F84/100)*C84,\"\")))","v":32},"  m",{"$f":"N84*1000","v":32000},"mm"]
[{"$f":"IF(COUNTIF($B$1:B85,TRUE)=COUNTIF($B$1:B84,TRUE),\"\",COUNTIF($B$1:B85,TRUE))","v":42},{"$f":"Worksheet!$B$15","v":true},{"$f":"RANDBETWEEN(5,20)","v":10},"hours","±",{"$f":"IF(I85=1,H85*10^RANDBETWEEN(IF(Worksheet!$D$9,-1,0),0),IF(I85=2,H85,CHOOSE(RANDBETWEEN(1,3),5,10,20)))","v":8},{"$f":"IF(I85=1,D85,IF(I85=3,\"%\",\"min\"))","v":"min"},8,{"$f":"IF(AND(Worksheet!$D$8,RAND()<0),3,IF(RAND()<Worksheet!$D$7/100,1,2))","v":2},null," hours",{"$f":"IF(I85=1,C85-F85,IF(I85=2,C85*60-F85,\"\"))","v":592},{"$f":"IF($I85=1,\" hours\",\" min\")","v":" min"},null,"  hours",{"$f":"IF(I85=1,C85+F85,IF(I85=2,C85*60+F85,\"\"))","v":608},{"$f":"IF($I85=1,\" hours\",\" min\")","v":" min"}]
[{"$f":"IF(COUNTIF($B$1:B86,TRUE)=COUNTIF($B$1:B85,TRUE),\"\",COUNTIF($B$1:B86,TRUE))","v":43},{"$f":"Worksheet!$D$11","v":true},{"$f":"RANDBETWEEN(5,RANDBETWEEN(5,Worksheet!$D$6))","v":75},"kg","±",{"$f":"IF(I86=1,H86*10^RANDBETWEEN(IF(Worksheet!$D$9,-1,0),0),IF(I86=2,H86*10^RANDBETWEEN(RANDBETWEEN(0,2),2),CHOOSE(RANDBETWEEN(1,3),5,10,20)))","v":0.1},{"$f":"IF(I86=1,D86,IF(I86=3,\"%\",\"g\"))","v":"kg"},1,{"$f":"IF(AND(Worksheet!$D$8,RAND()<0.2),3,IF(RAND()<Worksheet!$D$7/100,1,2))","v":1},{"$f":"IF(I86=1,C86-F86,IF(I86=2,C86-F86/1000,IF(I86=3,(1-F86/100)*C86,\"\")))","v":74.900000000000006}," kg",{"$f":"J86*1000","v":74900},"g",{"$f":"IF(I86=1,C86+F86,IF(I86=2,C86+F86/1000,IF(I86=3,(1+F86/100)*C86,\"\")))","v":75.099999999999994},"  kg",{"$f":"N86*1000","v":75100},"g"]
[{"$f":"IF(COUNTIF($B$1:B87,TRUE)=COUNTIF($B$1:B86,TRUE),\"\",COUNTIF($B$1:B87,TRUE))","v":44},{"$f":"Worksheet!$D$12","v":true},{"$f":"RANDBETWEEN(5,RANDBETWEEN(5,Worksheet!$D$6))","v":44},"tonnes","±",{"$f":"IF(I87=1,H87*10^RANDBETWEEN(IF(Worksheet!$D$9,-1,0),0),IF(I87=2,H87*10^RANDBETWEEN(RANDBETWEEN(0,2),2),CHOOSE(RANDBETWEEN(1,3),5,10,20)))","v":600},{"$f":"IF(I87=1,D87,IF(I87=3,\"%\",\"kg\"))","v":"kg"},6,{"$f":"IF(AND(Worksheet!$D$8,RAND()<0.2),3,IF(RAND()<Worksheet!$D$7/100,1,2))","v":2},{"$f":"IF(I87=1,C87-F87,IF(I87=2,C87-F87/1000,IF(I87=3,(1-F87/100)*C87,\"\")))","v":43.4}," tonnes",{"$f":"J87*1000","v":43400},"kg",{"$f":"IF(I87=1,C87+F87,IF(I87=2,C87+F87/1000,IF(I87=3,(1+F87/100)*C87,\"\")))","v":44.6},"  tonnes",{"$f":"N87*1000","v":44600},"kg"]
[{"$f":"IF(COUNTIF($B$1:B88,TRUE)=COUNTIF($B$1:B87,TRUE),\"\",COUNTIF($B$1:B88,TRUE))","v":45},{"$f":"Worksheet!$D$13","v":true},{"$f":"RANDBETWEEN(5,RANDBETWEEN(5,Worksheet!$D$6))","v":8},"litres","±",{"$f":"IF(I88=1,H88*10^RANDBETWEEN(IF(Worksheet!$D$9,-1,0),0),IF(I88=2,H88*10^RANDBETWEEN(RANDBETWEEN(0,2),2),CHOOSE(RANDBETWEEN(1,3),5,10,20)))","v":20},{"$f":"IF(I88=1,D88,IF(I88=3,\"%\",\"ml\"))","v":"%"},5,{"$f":"IF(AND(Worksheet!$D$8,RAND()<0.2),3,IF(RAND()<Worksheet!$D$7/100,1,2))","v":3},{"$f":"IF(I88=1,C88-F88,IF(I88=2,C88-F88/1000,IF(I88=3,(1-F88/100)*C88,\"\")))","v":6.4}," litres",{"$f":"J88*1000","v":6400},"ml",{"$f":"IF(I88=1,C88+F88,IF(I88=2,C88+F88/1000,IF(I88=3,(1+F88/100)*C88,\"\")))","v":9.6},"  litres",{"$f":"N88*1000","v":9600},"ml"]
[{"$f":"IF(COUNTIF($B$1:B89,TRUE)=COUNTIF($B$1:B88,TRUE),\"\",COUNTIF($B$1:B89,TRUE))","v":46},{"$f":"Worksheet!$D$14","v":true},{"$f":"RANDBETWEEN(5,RANDBETWEEN(5,Worksheet!$D$6))","v":267},"litres","±",{"$f":"IF(I89=1,H89*10^RANDBETWEEN(IF(Worksheet!$D$9,-1,0),0),IF(I89=2,H89*10^RANDBETWEEN(RANDBETWEEN(0,2),2),CHOOSE(RANDBETWEEN(1,3),5,10,20)))","v":800},{"$f":"IF(I89=1,D89,IF(I89=3,\"%\",\"cm³\"))","v":"cm³"},8,{"$f":"IF(AND(Worksheet!$D$8,RAND()<0.2),3,IF(RAND()<Worksheet!$D$7/100,1,2))","v":2},{"$f":"IF(I89=1,C89-F89,IF(I89=2,C89-F89/1000,IF(I89=3,(1-F89/100)*C89,\"\")))","v":266.2}," litres",{"$f":"J89*1000","v":266200},"cm³",{"$f":"IF(I89=1,C89+F89,IF(I89=2,C89+F89/1000,IF(I89=3,(1+F89/100)*C89,\"\")))","v":267.8},"  litres",{"$f":"N89*1000","v":267800},"cm³"]
[{"$f":"IF(COUNTIF($B$1:B90,TRUE)=COUNTIF($B$1:B89,TRUE),\"\",COUNTIF($B$1:B90,TRUE))","v":""},{"$f":"Worksheet!$D$15","v":false},{"$f":"RANDBETWEEN(5,20)","v":8},"min","±",{"$f":"IF(I90=1,H90*10^RANDBETWEEN(IF(Worksheet!$D$9,-1,0),0),IF(I90=2,H90,CHOOSE(RANDBETWEEN(1,3),5,10,20)))","v":4},{"$f":"IF(I90=1,D90,IF(I90=3,\"%\",\"sec\"))","v":"sec"},4,{"$f":"IF(AND(Worksheet!$D$8,RAND()<0),3,IF(RAND()<Worksheet!$D$7/100,1,2))","v":2},null," min",{"$f":"IF(I90=1,C90-F90,IF(I90=2,C90*60-F90,\"\"))","v":476},{"$f":"IF($I90=1,\" hours\",\" min\")","v":" min"},null,"  min",{"$f":"IF(I90=1,C90+F90,IF(I90=2,C90*60+F90,\"\"))","v":484},{"$f":"IF($I90=1,\" hours\",\" min\")","v":" min"}]
[{"$f":"COUNTIF($B$1:B91,TRUE)","v":47},{"$f":"Worksheet!$B$11","v":true},{"$f":"RANDBETWEEN(5,RANDBETWEEN(5,Worksheet!$D$6))","v":140},"cm","±",{"$f":"IF(I91=1,H91*10^RANDBETWEEN(IF(Worksheet!$D$9,-1,0),0),IF(I91=2,H91,CHOOSE(RANDBETWEEN(1,3),5,10,20)))","v":3},{"$f":"IF(I91=1,D91,IF(I91=3,\"%\",\"mm\"))","v":"mm"},{"$f":"RANDBETWEEN(1,MIN(9,C91))","v":3},{"$f":"IF(AND(Worksheet!$D$8,RAND()<0.2),3,IF(RAND()<Worksheet!$D$7/100,1,2))","v":2},{"$f":"IF(I91=1,C91-F91,IF(I91=2,C91-F91/10,IF(I91=3,(1-F91/100)*C91,\"\")))","v":139.69999999999999},{"$f":"CONCATENATE(\" \",D91)","v":" cm"},{"$f":"J91*10","v":1397},"mm",{"$f":"IF(I91=1,C91+F91,IF(I91=2,C91+F91/10,IF(I91=3,(1+F91/100)*C91,\"\")))","v":140.30000000000001},{"$f":"CONCATENATE(\" \",K91)","v":"  cm"},{"$f":"N91*10","v":1403},"mm"]
[{"$f":"IF(COUNTIF($B$1:B92,TRUE)=COUNTIF($B$1:B91,TRUE),\"\",COUNTIF($B$1:B92,TRUE))","v":48},{"$f":"Worksheet!$B$12","v":true},{"$f":"RANDBETWEEN(5,RANDBETWEEN(5,Worksheet!$D$6))","v":89},"m","±",{"$f":"IF(I92=1,H92*10^RANDBETWEEN(IF(Worksheet!$D$9,-1,0),0),IF(I92=2,H92*10^RANDBETWEEN(RANDBETWEEN(0,1),1),CHOOSE(RANDBETWEEN(1,3),5,10,20)))","v":5},{"$f":"IF(I92=1,D92,IF(I92=3,\"%\",\"cm\"))","v":"%"},{"$f":"RANDBETWEEN(1,MIN(9,C92))","v":1},{"$f":"IF(AND(Worksheet!$D$8,RAND()<0.2),3,IF(RAND()<Worksheet!$D$7/100,1,2))","v":3},{"$f":"IF(I92=1,C92-F92,IF(I92=2,C92-F92/100,IF(I92=3,(1-F92/100)*C92,\"\")))","v":84.55},{"$f":"CONCATENATE(\" \",D92)","v":" m"},{"$f":"J92*100","v":8455},"cm",{"$f":"IF(I92=1,C92+F92,IF(I92=2,C92+F92/100,IF(I92=3,(1+F92/100)*C92,\"\")))","v":93.45},{"$f":"CONCATENATE(\" \",K92)","v":"  m"},{"$f":"N92*100","v":9345},"cm"]
[{"$f":"IF(COUNTIF($B$1:B93,TRUE)=COUNTIF($B$1:B92,TRUE),\"\",COUNTIF($B$1:B93,TRUE))","v":49},{"$f":"Worksheet!$B$13","v":true},{"$f":"RANDBETWEEN(5,RANDBETWEEN(5,Worksheet!$D$6))","v":324},"km","±",{"$f":"IF(I93=1,H93*10^RANDBETWEEN(IF(Worksheet!$D$9,-1,0),0),IF(I93=2,H93*10^RANDBETWEEN(RANDBETWEEN(0,2),2),CHOOSE(RANDBETWEEN(1,3),5,10,20)))","v":3},{"$f":"IF(I93=1,D93,IF(I93=3,\"%\",\"m\"))","v":"km"},3,{"$f":"IF(AND(Worksheet!$D$8,RAND()<0.2),3,IF(RAND()<Worksheet!$D$7/100,1,2))","v":1},{"$f":"IF(I93=1,C93-F93,IF(I93=2,C93-F93/1000,IF(I93=3,(1-F93/100)*C93,\"\")))","v":321}," km",{"$f":"J93*1000","v":321000},"m",{"$f":"IF(I93=1,C93+F93,IF(I93=2,C93+F93/1000,IF(I93=3,(1+F93/100)*C93,\"\")))","v":327},"  km",{"$f":"N93*1000","v":327000},"m"]
[{"$f":"IF(COUNTIF($B$1:B94,TRUE)=COUNTIF($B$1:B93,TRUE),\"\",COUNTIF($B$1:B94,TRUE))","v":""},{"$f":"Worksheet!$B$14","v":false},{"$f":"RANDBETWEEN(5,RANDBETWEEN(5,Worksheet!$D$6))","v":6},"m","±",{"$f":"IF(I94=1,H94*10^RANDBETWEEN(IF(Worksheet!$D$9,-1,0),0),IF(I94=2,H94*10^RANDBETWEEN(RANDBETWEEN(0,2),2),CHOOSE(RANDBETWEEN(1,3),5,10,20)))","v":400},{"$f":"IF(I94=1,D94,IF(I94=3,\"%\",\"mm\"))","v":"mm"},4,{"$f":"IF(AND(Worksheet!$D$8,RAND()<0.2),3,IF(RAND()<Worksheet!$D$7/100,1,2))","v":2},{"$f":"IF(I94=1,C94-F94,IF(I94=2,C94-F94/1000,IF(I94=3,(1-F94/100)*C94,\"\")))","v":5.6}," m",{"$f":"J94*1000","v":5600},"mm",{"$f":"IF(I94=1,C94+F94,IF(I94=2,C94+F94/1000,IF(I94=3,(1+F94/100)*C94,\"\")))","v":6.4},"  m",{"$f":"N94*1000","v":6400},"mm"]
[{"$f":"IF(COUNTIF($B$1:B95,TRUE)=COUNTIF($B$1:B94,TRUE),\"\",COUNTIF($B$1:B95,TRUE))","v":50},{"$f":"Worksheet!$B$15","v":true},{"$f":"RANDBETWEEN(5,20)","v":12},"hours","±",{"$f":"IF(I95=1,H95*10^RANDBETWEEN(IF(Worksheet!$D$9,-1,0),0),IF(I95=2,H95,CHOOSE(RANDBETWEEN(1,3),5,10,20)))","v":0.2},{"$f":"IF(I95=1,D95,IF(I95=3,\"%\",\"min\"))","v":"hours"},2,{"$f":"IF(AND(Worksheet!$D$8,RAND()<0),3,IF(RAND()<Worksheet!$D$7/100,1,2))","v":1},null," hours",{"$f":"IF(I95=1,C95-F95,IF(I95=2,C95*60-F95,\"\"))","v":11.8},{"$f":"IF($I95=1,\" hours\",\" min\")","v":" hours"},null,"  hours",{"$f":"IF(I95=1,C95+F95,IF(I95=2,C95*60+F95,\"\"))","v":12.2},{"$f":"IF($I95=1,\" hours\",\" min\")","v":" hours"}]
[{"$f":"IF(COUNTIF($B$1:B96,TRUE)=COUNTIF($B$1:B95,TRUE),\"\",COUNTIF($B$1:B96,TRUE))","v":51},{"$f":"Worksheet!$D$11","v":true},{"$f":"RANDBETWEEN(5,RANDBETWEEN(5,Worksheet!$D$6))","v":103},"kg","±",{"$f":"IF(I96=1,H96*10^RANDBETWEEN(IF(Worksheet!$D$9,-1,0),0),IF(I96=2,H96*10^RANDBETWEEN(RANDBETWEEN(0,2),2),CHOOSE(RANDBETWEEN(1,3),5,10,20)))","v":0.4},{"$f":"IF(I96=1,D96,IF(I96=3,\"%\",\"g\"))","v":"kg"},4,{"$f":"IF(AND(Worksheet!$D$8,RAND()<0.2),3,IF(RAND()<Worksheet!$D$7/100,1,2))","v":1},{"$f":"IF(I96=1,C96-F96,IF(I96=2,C96-F96/1000,IF(I96=3,(1-F96/100)*C96,\"\")))","v":102.6}," kg",{"$f":"J96*1000","v":102600},"g",{"$f":"IF(I96=1,C96+F96,IF(I96=2,C96+F96/1000,IF(I96=3,(1+F96/100)*C96,\"\")))","v":103.4},"  kg",{"$f":"N96*1000","v":103400},"g"]
[{"$f":"IF(COUNTIF($B$1:B97,TRUE)=COUNTIF($B$1:B96,TRUE),\"\",COUNTIF($B$1:B97,TRUE))","v":52},{"$f":"Worksheet!$D$12","v":true},{"$f":"RANDBETWEEN(5,RANDBETWEEN(5,Worksheet!$D$6))","v":8},"tonnes","±",{"$f":"IF(I97=1,H97*10^RANDBETWEEN(IF(Worksheet!$D$9,-1,0),0),IF(I97=2,H97*10^RANDBETWEEN(RANDBETWEEN(0,2),2),CHOOSE(RANDBETWEEN(1,3),5,10,20)))","v":1},{"$f":"IF(I97=1,D97,IF(I97=3,\"%\",\"kg\"))","v":"tonnes"},1,{"$f":"IF(AND(Worksheet!$D$8,RAND()<0.2),3,IF(RAND()<Worksheet!$D$7/100,1,2))","v":1},{"$f":"IF(I97=1,C97-F97,IF(I97=2,C97-F97/1000,IF(I97=3,(1-F97/100)*C97,\"\")))","v":7}," tonnes",{"$f":"J97*1000","v":7000},"kg",{"$f":"IF(I97=1,C97+F97,IF(I97=2,C97+F97/1000,IF(I97=3,(1+F97/100)*C97,\"\")))","v":9},"  tonnes",{"$f":"N97*1000","v":9000},"kg"]
[{"$f":"IF(COUNTIF($B$1:B98,TRUE)=COUNTIF($B$1:B97,TRUE),\"\",COUNTIF($B$1:B98,TRUE))","v":53},{"$f":"Worksheet!$D$13","v":true},{"$f":"RANDBETWEEN(5,RANDBETWEEN(5,Worksheet!$D$6))","v":273},"litres","±",{"$f":"IF(I98=1,H98*10^RANDBETWEEN(IF(Worksheet!$D$9,-1,0),0),IF(I98=2,H98*10^RANDBETWEEN(RANDBETWEEN(0,2),2),CHOOSE(RANDBETWEEN(1,3),5,10,20)))","v":10},{"$f":"IF(I98=1,D98,IF(I98=3,\"%\",\"ml\"))","v":"%"},5,{"$f":"IF(AND(Worksheet!$D$8,RAND()<0.2),3,IF(RAND()<Worksheet!$D$7/100,1,2))","v":3},{"$f":"IF(I98=1,C98-F98,IF(I98=2,C98-F98/1000,IF(I98=3,(1-F98/100)*C98,\"\")))","v":245.70000000000002}," litres",{"$f":"J98*1000","v":245700.00000000003},"ml",{"$f":"IF(I98=1,C98+F98,IF(I98=2,C98+F98/1000,IF(I98=3,(1+F98/100)*C98,\"\")))","v":300.3},"  litres",{"$f":"N98*1000","v":300300},"ml"]
[{"$f":"IF(COUNTIF($B$1:B99,TRUE)=COUNTIF($B$1:B98,TRUE),\"\",COUNTIF($B$1:B99,TRUE))","v":54},{"$f":"Worksheet!$D$14","v":true},{"$f":"RANDBETWEEN(5,RANDBETWEEN(5,Worksheet!$D$6))","v":120},"litres","±",{"$f":"IF(I99=1,H99*10^RANDBETWEEN(IF(Worksheet!$D$9,-1,0),0),IF(I99=2,H99*10^RANDBETWEEN(RANDBETWEEN(0,2),2),CHOOSE(RANDBETWEEN(1,3),5,10,20)))","v":200},{"$f":"IF(I99=1,D99,IF(I99=3,\"%\",\"cm³\"))","v":"cm³"},2,{"$f":"IF(AND(Worksheet!$D$8,RAND()<0.2),3,IF(RAND()<Worksheet!$D$7/100,1,2))","v":2},{"$f":"IF(I99=1,C99-F99,IF(I99=2,C99-F99/1000,IF(I99=3,(1-F99/100)*C99,\"\")))","v":119.8}," litres",{"$f":"J99*1000","v":119800},"cm³",{"$f":"IF(I99=1,C99+F99,IF(I99=2,C99+F99/1000,IF(I99=3,(1+F99/100)*C99,\"\")))","v":120.2},"  litres",{"$f":"N99*1000","v":120200},"cm³"]
[{"$f":"IF(COUNTIF($B$1:B100,TRUE)=COUNTIF($B$1:B99,TRUE),\"\",COUNTIF($B$1:B100,TRUE))","v":""},{"$f":"Worksheet!$D$15","v":false},{"$f":"RANDBETWEEN(5,20)","v":6},"min","±",{"$f":"IF(I100=1,H100*10^RANDBETWEEN(IF(Worksheet!$D$9,-1,0),0),IF(I100=2,H100,CHOOSE(RANDBETWEEN(1,3),5,10,20)))","v":0.5},{"$f":"IF(I100=1,D100,IF(I100=3,\"%\",\"sec\"))","v":"min"},5,{"$f":"IF(AND(Worksheet!$D$8,RAND()<0),3,IF(RAND()<Worksheet!$D$7/100,1,2))","v":1},null," min",{"$f":"IF(I100=1,C100-F100,IF(I100=2,C100*60-F100,\"\"))","v":5.5},{"$f":"IF($I100=1,\" hours\",\" min\")","v":" hours"},null,"  min",{"$f":"IF(I100=1,C100+F100,IF(I100=2,C100*60+F100,\"\"))","v":6.5},{"$f":"IF($I100=1,\" hours\",\" min\")","v":" hours"}]
[{"$f":"COUNTIF($B$1:B101,TRUE)","v":55},{"$f":"Worksheet!$B$11","v":true},{"$f":"RANDBETWEEN(5,RANDBETWEEN(5,Worksheet!$D$6))","v":23},"cm","±",{"$f":"IF(I101=1,H101*10^RANDBETWEEN(IF(Worksheet!$D$9,-1,0),0),IF(I101=2,H101,CHOOSE(RANDBETWEEN(1,3),5,10,20)))","v":1},{"$f":"IF(I101=1,D101,IF(I101=3,\"%\",\"mm\"))","v":"cm"},{"$f":"RANDBETWEEN(1,MIN(9,C101))","v":1},{"$f":"IF(AND(Worksheet!$D$8,RAND()<0.2),3,IF(RAND()<Worksheet!$D$7/100,1,2))","v":1},{"$f":"IF(I101=1,C101-F101,IF(I101=2,C101-F101/10,IF(I101=3,(1-F101/100)*C101,\"\")))","v":22},{"$f":"CONCATENATE(\" \",D101)","v":" cm"},{"$f":"J101*10","v":220},"mm",{"$f":"IF(I101=1,C101+F101,IF(I101=2,C101+F101/10,IF(I101=3,(1+F101/100)*C101,\"\")))","v":24},{"$f":"CONCATENATE(\" \",K101)","v":"  cm"},{"$f":"N101*10","v":240},"mm"]
[{"$f":"IF(COUNTIF($B$1:B102,TRUE)=COUNTIF($B$1:B101,TRUE),\"\",COUNTIF($B$1:B102,TRUE))","v":56},{"$f":"Worksheet!$B$12","v":true},{"$f":"RANDBETWEEN(5,RANDBETWEEN(5,Worksheet!$D$6))","v":150},"m","±",{"$f":"IF(I102=1,H102*10^RANDBETWEEN(IF(Worksheet!$D$9,-1,0),0),IF(I102=2,H102*10^RANDBETWEEN(RANDBETWEEN(0,1),1),CHOOSE(RANDBETWEEN(1,3),5,10,20)))","v":10},{"$f":"IF(I102=1,D102,IF(I102=3,\"%\",\"cm\"))","v":"%"},{"$f":"RANDBETWEEN(1,MIN(9,C102))","v":3},{"$f":"IF(AND(Worksheet!$D$8,RAND()<0.2),3,IF(RAND()<Worksheet!$D$7/100,1,2))","v":3},{"$f":"IF(I102=1,C102-F102,IF(I102=2,C102-F102/100,IF(I102=3,(1-F102/100)*C102,\"\")))","v":135},{"$f":"CONCATENATE(\" \",D102)","v":" m"},{"$f":"J102*100","v":13500},"cm",{"$f":"IF(I102=1,C102+F102,IF(I102=2,C102+F102/100,IF(I102=3,(1+F102/100)*C102,\"\")))","v":165},{"$f":"CONCATENATE(\" \",K102)","v":"  m"},{"$f":"N102*100","v":16500},"cm"]
[{"$f":"IF(COUNTIF($B$1:B103,TRUE)=COUNTIF($B$1:B102,TRUE),\"\",COUNTIF($B$1:B103,TRUE))","v":57},{"$f":"Worksheet!$B$13","v":true},{"$f":"RANDBETWEEN(5,RANDBETWEEN(5,Worksheet!$D$6))","v":18},"km","±",{"$f":"IF(I103=1,H103*10^RANDBETWEEN(IF(Worksheet!$D$9,-1,0),0),IF(I103=2,H103*10^RANDBETWEEN(RANDBETWEEN(0,2),2),CHOOSE(RANDBETWEEN(1,3),5,10,20)))","v":7},{"$f":"IF(I103=1,D103,IF(I103=3,\"%\",\"m\"))","v":"km"},7,{"$f":"IF(AND(Worksheet!$D$8,RAND()<0.2),3,IF(RAND()<Worksheet!$D$7/100,1,2))","v":1},{"$f":"IF(I103=1,C103-F103,IF(I103=2,C103-F103/1000,IF(I103=3,(1-F103/100)*C103,\"\")))","v":11}," km",{"$f":"J103*1000","v":11000},"m",{"$f":"IF(I103=1,C103+F103,IF(I103=2,C103+F103/1000,IF(I103=3,(1+F103/100)*C103,\"\")))","v":25},"  km",{"$f":"N103*1000","v":25000},"m"]
[{"$f":"IF(COUNTIF($B$1:B104,TRUE)=COUNTIF($B$1:B103,TRUE),\"\",COUNTIF($B$1:B104,TRUE))","v":""},{"$f":"Worksheet!$B$14","v":false},{"$f":"RANDBETWEEN(5,RANDBETWEEN(5,Worksheet!$D$6))","v":195},"m","±",{"$f":"IF(I104=1,H104*10^RANDBETWEEN(IF(Worksheet!$D$9,-1,0),0),IF(I104=2,H104*10^RANDBETWEEN(RANDBETWEEN(0,2),2),CHOOSE(RANDBETWEEN(1,3),5,10,20)))","v":0.4},{"$f":"IF(I104=1,D104,IF(I104=3,\"%\",\"mm\"))","v":"m"},4,{"$f":"IF(AND(Worksheet!$D$8,RAND()<0.2),3,IF(RAND()<Worksheet!$D$7/100,1,2))","v":1},{"$f":"IF(I104=1,C104-F104,IF(I104=2,C104-F104/1000,IF(I104=3,(1-F104/100)*C104,\"\")))","v":194.6}," m",{"$f":"J104*1000","v":194600},"mm",{"$f":"IF(I104=1,C104+F104,IF(I104=2,C104+F104/1000,IF(I104=3,(1+F104/100)*C104,\"\")))","v":195.4},"  m",{"$f":"N104*1000","v":195400},"mm"]
[{"$f":"IF(COUNTIF($B$1:B105,TRUE)=COUNTIF($B$1:B104,TRUE),\"\",COUNTIF($B$1:B105,TRUE))","v":58},{"$f":"Worksheet!$B$15","v":true},{"$f":"RANDBETWEEN(5,20)","v":18},"hours","±",{"$f":"IF(I105=1,H105*10^RANDBETWEEN(IF(Worksheet!$D$9,-1,0),0),IF(I105=2,H105,CHOOSE(RANDBETWEEN(1,3),5,10,20)))","v":2},{"$f":"IF(I105=1,D105,IF(I105=3,\"%\",\"min\"))","v":"hours"},2,{"$f":"IF(AND(Worksheet!$D$8,RAND()<0),3,IF(RAND()<Worksheet!$D$7/100,1,2))","v":1},null," hours",{"$f":"IF(I105=1,C105-F105,IF(I105=2,C105*60-F105,\"\"))","v":16},{"$f":"IF($I105=1,\" hours\",\" min\")","v":" hours"},null,"  hours",{"$f":"IF(I105=1,C105+F105,IF(I105=2,C105*60+F105,\"\"))","v":20},{"$f":"IF($I105=1,\" hours\",\" min\")","v":" hours"}]
[{"$f":"IF(COUNTIF($B$1:B106,TRUE)=COUNTIF($B$1:B105,TRUE),\"\",COUNTIF($B$1:B106,TRUE))","v":59},{"$f":"Worksheet!$D$11","v":true},{"$f":"RANDBETWEEN(5,RANDBETWEEN(5,Worksheet!$D$6))","v":33},"kg","±",{"$f":"IF(I106=1,H106*10^RANDBETWEEN(IF(Worksheet!$D$9,-1,0),0),IF(I106=2,H106*10^RANDBETWEEN(RANDBETWEEN(0,2),2),CHOOSE(RANDBETWEEN(1,3),5,10,20)))","v":0.60000000000000009},{"$f":"IF(I106=1,D106,IF(I106=3,\"%\",\"g\"))","v":"kg"},6,{"$f":"IF(AND(Worksheet!$D$8,RAND()<0.2),3,IF(RAND()<Worksheet!$D$7/100,1,2))","v":1},{"$f":"IF(I106=1,C106-F106,IF(I106=2,C106-F106/1000,IF(I106=3,(1-F106/100)*C106,\"\")))","v":32.4}," kg",{"$f":"J106*1000","v":32400},"g",{"$f":"IF(I106=1,C106+F106,IF(I106=2,C106+F106/1000,IF(I106=3,(1+F106/100)*C106,\"\")))","v":33.6},"  kg",{"$f":"N106*1000","v":33600},"g"]
[{"$f":"IF(COUNTIF($B$1:B107,TRUE)=COUNTIF($B$1:B106,TRUE),\"\",COUNTIF($B$1:B107,TRUE))","v":60},{"$f":"Worksheet!$D$12","v":true},{"$f":"RANDBETWEEN(5,RANDBETWEEN(5,Worksheet!$D$6))","v":78},"tonnes","±",{"$f":"IF(I107=1,H107*10^RANDBETWEEN(IF(Worksheet!$D$9,-1,0),0),IF(I107=2,H107*10^RANDBETWEEN(RANDBETWEEN(0,2),2),CHOOSE(RANDBETWEEN(1,3),5,10,20)))","v":4},{"$f":"IF(I107=1,D107,IF(I107=3,\"%\",\"kg\"))","v":"tonnes"},4,{"$f":"IF(AND(Worksheet!$D$8,RAND()<0.2),3,IF(RAND()<Worksheet!$D$7/100,1,2))","v":1},{"$f":"IF(I107=1,C107-F107,IF(I107=2,C107-F107/1000,IF(I107=3,(1-F107/100)*C107,\"\")))","v":74}," tonnes",{"$f":"J107*1000","v":74000},"kg",{"$f":"IF(I107=1,C107+F107,IF(I107=2,C107+F107/1000,IF(I107=3,(1+F107/100)*C107,\"\")))","v":82},"  tonnes",{"$f":"N107*1000","v":82000},"kg"]
[{"$f":"IF(COUNTIF($B$1:B108,TRUE)=COUNTIF($B$1:B107,TRUE),\"\",COUNTIF($B$1:B108,TRUE))","v":61},{"$f":"Worksheet!$D$13","v":true},{"$f":"RANDBETWEEN(5,RANDBETWEEN(5,Worksheet!$D$6))","v":29},"litres","±",{"$f":"IF(I108=1,H108*10^RANDBETWEEN(IF(Worksheet!$D$9,-1,0),0),IF(I108=2,H108*10^RANDBETWEEN(RANDBETWEEN(0,2),2),CHOOSE(RANDBETWEEN(1,3),5,10,20)))","v":0.4},{"$f":"IF(I108=1,D108,IF(I108=3,\"%\",\"ml\"))","v":"litres"},4,{"$f":"IF(AND(Worksheet!$D$8,RAND()<0.2),3,IF(RAND()<Worksheet!$D$7/100,1,2))","v":1},{"$f":"IF(I108=1,C108-F108,IF(I108=2,C108-F108/1000,IF(I108=3,(1-F108/100)*C108,\"\")))","v":28.6}," litres",{"$f":"J108*1000","v":28600},"ml",{"$f":"IF(I108=1,C108+F108,IF(I108=2,C108+F108/1000,IF(I108=3,(1+F108/100)*C108,\"\")))","v":29.4},"  litres",{"$f":"N108*1000","v":29400},"ml"]
[{"$f":"IF(COUNTIF($B$1:B109,TRUE)=COUNTIF($B$1:B108,TRUE),\"\",COUNTIF($B$1:B109,TRUE))","v":62},{"$f":"Worksheet!$D$14","v":true},{"$f":"RANDBETWEEN(5,RANDBETWEEN(5,Worksheet!$D$6))","v":73},"litres","±",{"$f":"IF(I109=1,H109*10^RANDBETWEEN(IF(Worksheet!$D$9,-1,0),0),IF(I109=2,H109*10^RANDBETWEEN(RANDBETWEEN(0,2),2),CHOOSE(RANDBETWEEN(1,3),5,10,20)))","v":0.30000000000000004},{"$f":"IF(I109=1,D109,IF(I109=3,\"%\",\"cm³\"))","v":"litres"},3,{"$f":"IF(AND(Worksheet!$D$8,RAND()<0.2),3,IF(RAND()<Worksheet!$D$7/100,1,2))","v":1},{"$f":"IF(I109=1,C109-F109,IF(I109=2,C109-F109/1000,IF(I109=3,(1-F109/100)*C109,\"\")))","v":72.7}," litres",{"$f":"J109*1000","v":72700},"cm³",{"$f":"IF(I109=1,C109+F109,IF(I109=2,C109+F109/1000,IF(I109=3,(1+F109/100)*C109,\"\")))","v":73.3},"  litres",{"$f":"N109*1000","v":73300},"cm³"]
[{"$f":"IF(COUNTIF($B$1:B110,TRUE)=COUNTIF($B$1:B109,TRUE),\"\",COUNTIF($B$1:B110,TRUE))","v":""},{"$f":"Worksheet!$D$15","v":false},{"$f":"RANDBETWEEN(5,20)","v":5},"min","±",{"$f":"IF(I110=1,H110*10^RANDBETWEEN(IF(Worksheet!$D$9,-1,0),0),IF(I110=2,H110,CHOOSE(RANDBETWEEN(1,3),5,10,20)))","v":0.5},{"$f":"IF(I110=1,D110,IF(I110=3,\"%\",\"sec\"))","v":"min"},5,{"$f":"IF(AND(Worksheet!$D$8,RAND()<0),3,IF(RAND()<Worksheet!$D$7/100,1,2))","v":1},null," min",{"$f":"IF(I110=1,C110-F110,IF(I110=2,C110*60-F110,\"\"))","v":4.5},{"$f":"IF($I110=1,\" hours\",\" min\")","v":" hours"},null,"  min",{"$f":"IF(I110=1,C110+F110,IF(I110=2,C110*60+F110,\"\"))","v":5.5},{"$f":"IF($I110=1,\" hours\",\" min\")","v":" hours"}]
[{"$f":"COUNTIF($B$1:B111,TRUE)","v":63},{"$f":"Worksheet!$B$11","v":true},{"$f":"RANDBETWEEN(5,RANDBETWEEN(5,Worksheet!$D$6))","v":69},"cm","±",{"$f":"IF(I111=1,H111*10^RANDBETWEEN(IF(Worksheet!$D$9,-1,0),0),IF(I111=2,H111,CHOOSE(RANDBETWEEN(1,3),5,10,20)))","v":6},{"$f":"IF(I111=1,D111,IF(I111=3,\"%\",\"mm\"))","v":"cm"},{"$f":"RANDBETWEEN(1,MIN(9,C111))","v":6},{"$f":"IF(AND(Worksheet!$D$8,RAND()<0.2),3,IF(RAND()<Worksheet!$D$7/100,1,2))","v":1},{"$f":"IF(I111=1,C111-F111,IF(I111=2,C111-F111/10,IF(I111=3,(1-F111/100)*C111,\"\")))","v":63},{"$f":"CONCATENATE(\" \",D111)","v":" cm"},{"$f":"J111*10","v":630},"mm",{"$f":"IF(I111=1,C111+F111,IF(I111=2,C111+F111/10,IF(I111=3,(1+F111/100)*C111,\"\")))","v":75},{"$f":"CONCATENATE(\" \",K111)","v":"  cm"},{"$f":"N111*10","v":750},"mm"]
[{"$f":"IF(COUNTIF($B$1:B112,TRUE)=COUNTIF($B$1:B111,TRUE),\"\",COUNTIF($B$1:B112,TRUE))","v":64},{"$f":"Worksheet!$B$12","v":true},{"$f":"RANDBETWEEN(5,RANDBETWEEN(5,Worksheet!$D$6))","v":183},"m","±",{"$f":"IF(I112=1,H112*10^RANDBETWEEN(IF(Worksheet!$D$9,-1,0),0),IF(I112=2,H112*10^RANDBETWEEN(RANDBETWEEN(0,1),1),CHOOSE(RANDBETWEEN(1,3),5,10,20)))","v":2},{"$f":"IF(I112=1,D112,IF(I112=3,\"%\",\"cm\"))","v":"m"},{"$f":"RANDBETWEEN(1,MIN(9,C112))","v":2},{"$f":"IF(AND(Worksheet!$D$8,RAND()<0.2),3,IF(RAND()<Worksheet!$D$7/100,1,2))","v":1},{"$f":"IF(I112=1,C112-F112,IF(I112=2,C112-F112/100,IF(I112=3,(1-F112/100)*C112,\"\")))","v":181},{"$f":"CONCATENATE(\" \",D112)","v":" m"},{"$f":"J112*100","v":18100},"cm",{"$f":"IF(I112=1,C112+F112,IF(I112=2,C112+F112/100,IF(I112=3,(1+F112/100)*C112,\"\")))","v":185},{"$f":"CONCATENATE(\" \",K112)","v":"  m"},{"$f":"N112*100","v":18500},"cm"]
[{"$f":"IF(COUNTIF($B$1:B113,TRUE)=COUNTIF($B$1:B112,TRUE),\"\",COUNTIF($B$1:B113,TRUE))","v":65},{"$f":"Worksheet!$B$13","v":true},{"$f":"RANDBETWEEN(5,RANDBETWEEN(5,Worksheet!$D$6))","v":14},"km","±",{"$f":"IF(I113=1,H113*10^RANDBETWEEN(IF(Worksheet!$D$9,-1,0),0),IF(I113=2,H113*10^RANDBETWEEN(RANDBETWEEN(0,2),2),CHOOSE(RANDBETWEEN(1,3),5,10,20)))","v":7},{"$f":"IF(I113=1,D113,IF(I113=3,\"%\",\"m\"))","v":"km"},7,{"$f":"IF(AND(Worksheet!$D$8,RAND()<0.2),3,IF(RAND()<Worksheet!$D$7/100,1,2))","v":1},{"$f":"IF(I113=1,C113-F113,IF(I113=2,C113-F113/1000,IF(I113=3,(1-F113/100)*C113,\"\")))","v":7}," km",{"$f":"J113*1000","v":7000},"m",{"$f":"IF(I113=1,C113+F113,IF(I113=2,C113+F113/1000,IF(I113=3,(1+F113/100)*C113,\"\")))","v":21},"  km",{"$f":"N113*1000","v":21000},"m"]
[{"$f":"IF(COUNTIF($B$1:B114,TRUE)=COUNTIF($B$1:B113,TRUE),\"\",COUNTIF($B$1:B114,TRUE))","v":""},{"$f":"Worksheet!$B$14","v":false},{"$f":"RANDBETWEEN(5,RANDBETWEEN(5,Worksheet!$D$6))","v":68},"m","±",{"$f":"IF(I114=1,H114*10^RANDBETWEEN(IF(Worksheet!$D$9,-1,0),0),IF(I114=2,H114*10^RANDBETWEEN(RANDBETWEEN(0,2),2),CHOOSE(RANDBETWEEN(1,3),5,10,20)))","v":1},{"$f":"IF(I114=1,D114,IF(I114=3,\"%\",\"mm\"))","v":"m"},1,{"$f":"IF(AND(Worksheet!$D$8,RAND()<0.2),3,IF(RAND()<Worksheet!$D$7/100,1,2))","v":1},{"$f":"IF(I114=1,C114-F114,IF(I114=2,C114-F114/1000,IF(I114=3,(1-F114/100)*C114,\"\")))","v":67}," m",{"$f":"J114*1000","v":67000},"mm",{"$f":"IF(I114=1,C114+F114,IF(I114=2,C114+F114/1000,IF(I114=3,(1+F114/100)*C114,\"\")))","v":69},"  m",{"$f":"N114*1000","v":69000},"mm"]
[{"$f":"IF(COUNTIF($B$1:B115,TRUE)=COUNTIF($B$1:B114,TRUE),\"\",COUNTIF($B$1:B115,TRUE))","v":66},{"$f":"Worksheet!$B$15","v":true},{"$f":"RANDBETWEEN(5,20)","v":11},"hours","±",{"$f":"IF(I115=1,H115*10^RANDBETWEEN(IF(Worksheet!$D$9,-1,0),0),IF(I115=2,H115,CHOOSE(RANDBETWEEN(1,3),5,10,20)))","v":8},{"$f":"IF(I115=1,D115,IF(I115=3,\"%\",\"min\"))","v":"hours"},8,{"$f":"IF(AND(Worksheet!$D$8,RAND()<0),3,IF(RAND()<Worksheet!$D$7/100,1,2))","v":1},null," hours",{"$f":"IF(I115=1,C115-F115,IF(I115=2,C115*60-F115,\"\"))","v":3},{"$f":"IF($I115=1,\" hours\",\" min\")","v":" hours"},null,"  hours",{"$f":"IF(I115=1,C115+F115,IF(I115=2,C115*60+F115,\"\"))","v":19},{"$f":"IF($I115=1,\" hours\",\" min\")","v":" hours"}]
[{"$f":"IF(COUNTIF($B$1:B116,TRUE)=COUNTIF($B$1:B115,TRUE),\"\",COUNTIF($B$1:B116,TRUE))","v":67},{"$f":"Worksheet!$D$11","v":true},{"$f":"RANDBETWEEN(5,RANDBETWEEN(5,Worksheet!$D$6))","v":43},"kg","±",{"$f":"IF(I116=1,H116*10^RANDBETWEEN(IF(Worksheet!$D$9,-1,0),0),IF(I116=2,H116*10^RANDBETWEEN(RANDBETWEEN(0,2),2),CHOOSE(RANDBETWEEN(1,3),5,10,20)))","v":5},{"$f":"IF(I116=1,D116,IF(I116=3,\"%\",\"g\"))","v":"%"},4,{"$f":"IF(AND(Worksheet!$D$8,RAND()<0.2),3,IF(RAND()<Worksheet!$D$7/100,1,2))","v":3},{"$f":"IF(I116=1,C116-F116,IF(I116=2,C116-F116/1000,IF(I116=3,(1-F116/100)*C116,\"\")))","v":40.85}," kg",{"$f":"J116*1000","v":40850},"g",{"$f":"IF(I116=1,C116+F116,IF(I116=2,C116+F116/1000,IF(I116=3,(1+F116/100)*C116,\"\")))","v":45.15},"  kg",{"$f":"N116*1000","v":45150},"g"]
[{"$f":"IF(COUNTIF($B$1:B117,TRUE)=COUNTIF($B$1:B116,TRUE),\"\",COUNTIF($B$1:B117,TRUE))","v":68},{"$f":"Worksheet!$D$12","v":true},{"$f":"RANDBETWEEN(5,RANDBETWEEN(5,Worksheet!$D$6))","v":100},"tonnes","±",{"$f":"IF(I117=1,H117*10^RANDBETWEEN(IF(Worksheet!$D$9,-1,0),0),IF(I117=2,H117*10^RANDBETWEEN(RANDBETWEEN(0,2),2),CHOOSE(RANDBETWEEN(1,3),5,10,20)))","v":20},{"$f":"IF(I117=1,D117,IF(I117=3,\"%\",\"kg\"))","v":"%"},5,{"$f":"IF(AND(Worksheet!$D$8,RAND()<0.2),3,IF(RAND()<Worksheet!$D$7/100,1,2))","v":3},{"$f":"IF(I117=1,C117-F117,IF(I117=2,C117-F117/1000,IF(I117=3,(1-F117/100)*C117,\"\")))","v":80}," tonnes",{"$f":"J117*1000","v":80000},"kg",{"$f":"IF(I117=1,C117+F117,IF(I117=2,C117+F117/1000,IF(I117=3,(1+F117/100)*C117,\"\")))","v":120},"  tonnes",{"$f":"N117*1000","v":120000},"kg"]
[{"$f":"IF(COUNTIF($B$1:B118,TRUE)=COUNTIF($B$1:B117,TRUE),\"\",COUNTIF($B$1:B118,TRUE))","v":69},{"$f":"Worksheet!$D$13","v":true},{"$f":"RANDBETWEEN(5,RANDBETWEEN(5,Worksheet!$D$6))","v":66},"litres","±",{"$f":"IF(I118=1,H118*10^RANDBETWEEN(IF(Worksheet!$D$9,-1,0),0),IF(I118=2,H118*10^RANDBETWEEN(RANDBETWEEN(0,2),2),CHOOSE(RANDBETWEEN(1,3),5,10,20)))","v":20},{"$f":"IF(I118=1,D118,IF(I118=3,\"%\",\"ml\"))","v":"%"},3,{"$f":"IF(AND(Worksheet!$D$8,RAND()<0.2),3,IF(RAND()<Worksheet!$D$7/100,1,2))","v":3},{"$f":"IF(I118=1,C118-F118,IF(I118=2,C118-F118/1000,IF(I118=3,(1-F118/100)*C118,\"\")))","v":52.800000000000004}," litres",{"$f":"J118*1000","v":52800.000000000007},"ml",{"$f":"IF(I118=1,C118+F118,IF(I118=2,C118+F118/1000,IF(I118=3,(1+F118/100)*C118,\"\")))","v":79.2},"  litres",{"$f":"N118*1000","v":79200},"ml"]
[{"$f":"IF(COUNTIF($B$1:B119,TRUE)=COUNTIF($B$1:B118,TRUE),\"\",COUNTIF($B$1:B119,TRUE))","v":70},{"$f":"Worksheet!$D$14","v":true},{"$f":"RANDBETWEEN(5,RANDBETWEEN(5,Worksheet!$D$6))","v":55},"litres","±",{"$f":"IF(I119=1,H119*10^RANDBETWEEN(IF(Worksheet!$D$9,-1,0),0),IF(I119=2,H119*10^RANDBETWEEN(RANDBETWEEN(0,2),2),CHOOSE(RANDBETWEEN(1,3),5,10,20)))","v":9},{"$f":"IF(I119=1,D119,IF(I119=3,\"%\",\"cm³\"))","v":"litres"},9,{"$f":"IF(AND(Worksheet!$D$8,RAND()<0.2),3,IF(RAND()<Worksheet!$D$7/100,1,2))","v":1},{"$f":"IF(I119=1,C119-F119,IF(I119=2,C119-F119/1000,IF(I119=3,(1-F119/100)*C119,\"\")))","v":46}," litres",{"$f":"J119*1000","v":46000},"cm³",{"$f":"IF(I119=1,C119+F119,IF(I119=2,C119+F119/1000,IF(I119=3,(1+F119/100)*C119,\"\")))","v":64},"  litres",{"$f":"N119*1000","v":64000},"cm³"]
[{"$f":"IF(COUNTIF($B$1:B120,TRUE)=COUNTIF($B$1:B119,TRUE),\"\",COUNTIF($B$1:B120,TRUE))","v":""},{"$f":"Worksheet!$D$15","v":false},{"$f":"RANDBETWEEN(5,20)","v":14},"min","±",{"$f":"IF(I120=1,H120*10^RANDBETWEEN(IF(Worksheet!$D$9,-1,0),0),IF(I120=2,H120,CHOOSE(RANDBETWEEN(1,3),5,10,20)))","v":0.1},{"$f":"IF(I120=1,D120,IF(I120=3,\"%\",\"sec\"))","v":"min"},1,{"$f":"IF(AND(Worksheet!$D$8,RAND()<0),3,IF(RAND()<Worksheet!$D$7/100,1,2))","v":1},null," min",{"$f":"IF(I120=1,C120-F120,IF(I120=2,C120*60-F120,\"\"))","v":13.9},{"$f":"IF($I120=1,\" hours\",\" min\")","v":" hours"},null,"  min",{"$f":"IF(I120=1,C120+F120,IF(I120=2,C120*60+F120,\"\"))","v":14.1},{"$f":"IF($I120=1,\" hours\",\" min\")","v":" hours"}]
[{"$f":"COUNTIF($B$1:B121,TRUE)","v":71},{"$f":"Worksheet!$B$11","v":true},{"$f":"RANDBETWEEN(5,RANDBETWEEN(5,Worksheet!$D$6))","v":26},"cm","±",{"$f":"IF(I121=1,H121*10^RANDBETWEEN(IF(Worksheet!$D$9,-1,0),0),IF(I121=2,H121,CHOOSE(RANDBETWEEN(1,3),5,10,20)))","v":8},{"$f":"IF(I121=1,D121,IF(I121=3,\"%\",\"mm\"))","v":"cm"},{"$f":"RANDBETWEEN(1,MIN(9,C121))","v":8},{"$f":"IF(AND(Worksheet!$D$8,RAND()<0.2),3,IF(RAND()<Worksheet!$D$7/100,1,2))","v":1},{"$f":"IF(I121=1,C121-F121,IF(I121=2,C121-F121/10,IF(I121=3,(1-F121/100)*C121,\"\")))","v":18},{"$f":"CONCATENATE(\" \",D121)","v":" cm"},{"$f":"J121*10","v":180},"mm",{"$f":"IF(I121=1,C121+F121,IF(I121=2,C121+F121/10,IF(I121=3,(1+F121/100)*C121,\"\")))","v":34},{"$f":"CONCATENATE(\" \",K121)","v":"  cm"},{"$f":"N121*10","v":340},"mm"]
[{"$f":"IF(COUNTIF($B$1:B122,TRUE)=COUNTIF($B$1:B121,TRUE),\"\",COUNTIF($B$1:B122,TRUE))","v":72},{"$f":"Worksheet!$B$12","v":true},{"$f":"RANDBETWEEN(5,RANDBETWEEN(5,Worksheet!$D$6))","v":209},"m","±",{"$f":"IF(I122=1,H122*10^RANDBETWEEN(IF(Worksheet!$D$9,-1,0),0),IF(I122=2,H122*10^RANDBETWEEN(RANDBETWEEN(0,1),1),CHOOSE(RANDBETWEEN(1,3),5,10,20)))","v":1},{"$f":"IF(I122=1,D122,IF(I122=3,\"%\",\"cm\"))","v":"m"},{"$f":"RANDBETWEEN(1,MIN(9,C122))","v":1},{"$f":"IF(AND(Worksheet!$D$8,RAND()<0.2),3,IF(RAND()<Worksheet!$D$7/100,1,2))","v":1},{"$f":"IF(I122=1,C122-F122,IF(I122=2,C122-F122/100,IF(I122=3,(1-F122/100)*C122,\"\")))","v":208},{"$f":"CONCATENATE(\" \",D122)","v":" m"},{"$f":"J122*100","v":20800},"cm",{"$f":"IF(I122=1,C122+F122,IF(I122=2,C122+F122/100,IF(I122=3,(1+F122/100)*C122,\"\")))","v":210},{"$f":"CONCATENATE(\" \",K122)","v":"  m"},{"$f":"N122*100","v":21000},"cm"]
[{"$f":"IF(COUNTIF($B$1:B123,TRUE)=COUNTIF($B$1:B122,TRUE),\"\",COUNTIF($B$1:B123,TRUE))","v":73},{"$f":"Worksheet!$B$13","v":true},{"$f":"RANDBETWEEN(5,RANDBETWEEN(5,Worksheet!$D$6))","v":99},"km","±",{"$f":"IF(I123=1,H123*10^RANDBETWEEN(IF(Worksheet!$D$9,-1,0),0),IF(I123=2,H123*10^RANDBETWEEN(RANDBETWEEN(0,2),2),CHOOSE(RANDBETWEEN(1,3),5,10,20)))","v":9},{"$f":"IF(I123=1,D123,IF(I123=3,\"%\",\"m\"))","v":"km"},9,{"$f":"IF(AND(Worksheet!$D$8,RAND()<0.2),3,IF(RAND()<Worksheet!$D$7/100,1,2))","v":1},{"$f":"IF(I123=1,C123-F123,IF(I123=2,C123-F123/1000,IF(I123=3,(1-F123/100)*C123,\"\")))","v":90}," km",{"$f":"J123*1000","v":90000},"m",{"$f":"IF(I123=1,C123+F123,IF(I123=2,C123+F123/1000,IF(I123=3,(1+F123/100)*C123,\"\")))","v":108},"  km",{"$f":"N123*1000","v":108000},"m"]
[{"$f":"IF(COUNTIF($B$1:B124,TRUE)=COUNTIF($B$1:B123,TRUE),\"\",COUNTIF($B$1:B124,TRUE))","v":""},{"$f":"Worksheet!$B$14","v":false},{"$f":"RANDBETWEEN(5,RANDBETWEEN(5,Worksheet!$D$6))","v":121},"m","±",{"$f":"IF(I124=1,H124*10^RANDBETWEEN(IF(Worksheet!$D$9,-1,0),0),IF(I124=2,H124*10^RANDBETWEEN(RANDBETWEEN(0,2),2),CHOOSE(RANDBETWEEN(1,3),5,10,20)))","v":0.30000000000000004},{"$f":"IF(I124=1,D124,IF(I124=3,\"%\",\"mm\"))","v":"m"},3,{"$f":"IF(AND(Worksheet!$D$8,RAND()<0.2),3,IF(RAND()<Worksheet!$D$7/100,1,2))","v":1},{"$f":"IF(I124=1,C124-F124,IF(I124=2,C124-F124/1000,IF(I124=3,(1-F124/100)*C124,\"\")))","v":120.7}," m",{"$f":"J124*1000","v":120700},"mm",{"$f":"IF(I124=1,C124+F124,IF(I124=2,C124+F124/1000,IF(I124=3,(1+F124/100)*C124,\"\")))","v":121.3},"  m",{"$f":"N124*1000","v":121300},"mm"]
[{"$f":"IF(COUNTIF($B$1:B125,TRUE)=COUNTIF($B$1:B124,TRUE),\"\",COUNTIF($B$1:B125,TRUE))","v":74},{"$f":"Worksheet!$B$15","v":true},{"$f":"RANDBETWEEN(5,20)","v":16},"hours","±",{"$f":"IF(I125=1,H125*10^RANDBETWEEN(IF(Worksheet!$D$9,-1,0),0),IF(I125=2,H125,CHOOSE(RANDBETWEEN(1,3),5,10,20)))","v":5},{"$f":"IF(I125=1,D125,IF(I125=3,\"%\",\"min\"))","v":"min"},5,{"$f":"IF(AND(Worksheet!$D$8,RAND()<0),3,IF(RAND()<Worksheet!$D$7/100,1,2))","v":2},null," hours",{"$f":"IF(I125=1,C125-F125,IF(I125=2,C125*60-F125,\"\"))","v":955},{"$f":"IF($I125=1,\" hours\",\" min\")","v":" min"},null,"  hours",{"$f":"IF(I125=1,C125+F125,IF(I125=2,C125*60+F125,\"\"))","v":965},{"$f":"IF($I125=1,\" hours\",\" min\")","v":" min"}]
[{"$f":"IF(COUNTIF($B$1:B126,TRUE)=COUNTIF($B$1:B125,TRUE),\"\",COUNTIF($B$1:B126,TRUE))","v":75},{"$f":"Worksheet!$D$11","v":true},{"$f":"RANDBETWEEN(5,RANDBETWEEN(5,Worksheet!$D$6))","v":26},"kg","±",{"$f":"IF(I126=1,H126*10^RANDBETWEEN(IF(Worksheet!$D$9,-1,0),0),IF(I126=2,H126*10^RANDBETWEEN(RANDBETWEEN(0,2),2),CHOOSE(RANDBETWEEN(1,3),5,10,20)))","v":0.1},{"$f":"IF(I126=1,D126,IF(I126=3,\"%\",\"g\"))","v":"kg"},1,{"$f":"IF(AND(Worksheet!$D$8,RAND()<0.2),3,IF(RAND()<Worksheet!$D$7/100,1,2))","v":1},{"$f":"IF(I126=1,C126-F126,IF(I126=2,C126-F126/1000,IF(I126=3,(1-F126/100)*C126,\"\")))","v":25.9}," kg",{"$f":"J126*1000","v":25900},"g",{"$f":"IF(I126=1,C126+F126,IF(I126=2,C126+F126/1000,IF(I126=3,(1+F126/100)*C126,\"\")))","v":26.1},"  kg",{"$f":"N126*1000","v":26100},"g"]
[{"$f":"IF(COUNTIF($B$1:B127,TRUE)=COUNTIF($B$1:B126,TRUE),\"\",COUNTIF($B$1:B127,TRUE))","v":76},{"$f":"Worksheet!$D$12","v":true},{"$f":"RANDBETWEEN(5,RANDBETWEEN(5,Worksheet!$D$6))","v":156},"tonnes","±",{"$f":"IF(I127=1,H127*10^RANDBETWEEN(IF(Worksheet!$D$9,-1,0),0),IF(I127=2,H127*10^RANDBETWEEN(RANDBETWEEN(0,2),2),CHOOSE(RANDBETWEEN(1,3),5,10,20)))","v":4},{"$f":"IF(I127=1,D127,IF(I127=3,\"%\",\"kg\"))","v":"tonnes"},4,{"$f":"IF(AND(Worksheet!$D$8,RAND()<0.2),3,IF(RAND()<Worksheet!$D$7/100,1,2))","v":1},{"$f":"IF(I127=1,C127-F127,IF(I127=2,C127-F127/1000,IF(I127=3,(1-F127/100)*C127,\"\")))","v":152}," tonnes",{"$f":"J127*1000","v":152000},"kg",{"$f":"IF(I127=1,C127+F127,IF(I127=2,C127+F127/1000,IF(I127=3,(1+F127/100)*C127,\"\")))","v":160},"  tonnes",{"$f":"N127*1000","v":160000},"kg"]
[{"$f":"IF(COUNTIF($B$1:B128,TRUE)=COUNTIF($B$1:B127,TRUE),\"\",COUNTIF($B$1:B128,TRUE))","v":77},{"$f":"Worksheet!$D$13","v":true},{"$f":"RANDBETWEEN(5,RANDBETWEEN(5,Worksheet!$D$6))","v":197},"litres","±",{"$f":"IF(I128=1,H128*10^RANDBETWEEN(IF(Worksheet!$D$9,-1,0),0),IF(I128=2,H128*10^RANDBETWEEN(RANDBETWEEN(0,2),2),CHOOSE(RANDBETWEEN(1,3),5,10,20)))","v":0.5},{"$f":"IF(I128=1,D128,IF(I128=3,\"%\",\"ml\"))","v":"litres"},5,{"$f":"IF(AND(Worksheet!$D$8,RAND()<0.2),3,IF(RAND()<Worksheet!$D$7/100,1,2))","v":1},{"$f":"IF(I128=1,C128-F128,IF(I128=2,C128-F128/1000,IF(I128=3,(1-F128/100)*C128,\"\")))","v":196.5}," litres",{"$f":"J128*1000","v":196500},"ml",{"$f":"IF(I128=1,C128+F128,IF(I128=2,C128+F128/1000,IF(I128=3,(1+F128/100)*C128,\"\")))","v":197.5},"  litres",{"$f":"N128*1000","v":197500},"ml"]
[{"$f":"IF(COUNTIF($B$1:B129,TRUE)=COUNTIF($B$1:B128,TRUE),\"\",COUNTIF($B$1:B129,TRUE))","v":78},{"$f":"Worksheet!$D$14","v":true},{"$f":"RANDBETWEEN(5,RANDBETWEEN(5,Worksheet!$D$6))","v":251},"litres","±",{"$f":"IF(I129=1,H129*10^RANDBETWEEN(IF(Worksheet!$D$9,-1,0),0),IF(I129=2,H129*10^RANDBETWEEN(RANDBETWEEN(0,2),2),CHOOSE(RANDBETWEEN(1,3),5,10,20)))","v":3},{"$f":"IF(I129=1,D129,IF(I129=3,\"%\",\"cm³\"))","v":"litres"},3,{"$f":"IF(AND(Worksheet!$D$8,RAND()<0.2),3,IF(RAND()<Worksheet!$D$7/100,1,2))","v":1},{"$f":"IF(I129=1,C129-F129,IF(I129=2,C129-F129/1000,IF(I129=3,(1-F129/100)*C129,\"\")))","v":248}," litres",{"$f":"J129*1000","v":248000},"cm³",{"$f":"IF(I129=1,C129+F129,IF(I129=2,C129+F129/1000,IF(I129=3,(1+F129/100)*C129,\"\")))","v":254},"  litres",{"$f":"N129*1000","v":254000},"cm³"]
[{"$f":"IF(COUNTIF($B$1:B130,TRUE)=COUNTIF($B$1:B129,TRUE),\"\",COUNTIF($B$1:B130,TRUE))","v":""},{"$f":"Worksheet!$D$15","v":false},{"$f":"RANDBETWEEN(5,20)","v":18},"min","±",{"$f":"IF(I130=1,H130*10^RANDBETWEEN(IF(Worksheet!$D$9,-1,0),0),IF(I130=2,H130,CHOOSE(RANDBETWEEN(1,3),5,10,20)))","v":0.8},{"$f":"IF(I130=1,D130,IF(I130=3,\"%\",\"sec\"))","v":"min"},8,{"$f":"IF(AND(Worksheet!$D$8,RAND()<0),3,IF(RAND()<Worksheet!$D$7/100,1,2))","v":1},null," min",{"$f":"IF(I130=1,C130-F130,IF(I130=2,C130*60-F130,\"\"))","v":17.2},{"$f":"IF($I130=1,\" hours\",\" min\")","v":" hours"},null,"  min",{"$f":"IF(I130=1,C130+F130,IF(I130=2,C130*60+F130,\"\"))","v":18.8},{"$f":"IF($I130=1,\" hours\",\" min\")","v":" hours"}]
[{"$f":"COUNTIF($B$1:B131,TRUE)","v":79},{"$f":"Worksheet!$B$11","v":true},{"$f":"RANDBETWEEN(5,RANDBETWEEN(5,Worksheet!$D$6))","v":171},"cm","±",{"$f":"IF(I131=1,H131*10^RANDBETWEEN(IF(Worksheet!$D$9,-1,0),0),IF(I131=2,H131,CHOOSE(RANDBETWEEN(1,3),5,10,20)))","v":5},{"$f":"IF(I131=1,D131,IF(I131=3,\"%\",\"mm\"))","v":"mm"},{"$f":"RANDBETWEEN(1,MIN(9,C131))","v":5},{"$f":"IF(AND(Worksheet!$D$8,RAND()<0.2),3,IF(RAND()<Worksheet!$D$7/100,1,2))","v":2},{"$f":"IF(I131=1,C131-F131,IF(I131=2,C131-F131/10,IF(I131=3,(1-F131/100)*C131,\"\")))","v":170.5},{"$f":"CONCATENATE(\" \",D131)","v":" cm"},{"$f":"J131*10","v":1705},"mm",{"$f":"IF(I131=1,C131+F131,IF(I131=2,C131+F131/10,IF(I131=3,(1+F131/100)*C131,\"\")))","v":171.5},{"$f":"CONCATENATE(\" \",K131)","v":"  cm"},{"$f":"N131*10","v":1715},"mm"]
[{"$f":"IF(COUNTIF($B$1:B132,TRUE)=COUNTIF($B$1:B131,TRUE),\"\",COUNTIF($B$1:B132,TRUE))","v":80},{"$f":"Worksheet!$B$12","v":true},{"$f":"RANDBETWEEN(5,RANDBETWEEN(5,Worksheet!$D$6))","v":51},"m","±",{"$f":"IF(I132=1,H132*10^RANDBETWEEN(IF(Worksheet!$D$9,-1,0),0),IF(I132=2,H132*10^RANDBETWEEN(RANDBETWEEN(0,1),1),CHOOSE(RANDBETWEEN(1,3),5,10,20)))","v":0.1},{"$f":"IF(I132=1,D132,IF(I132=3,\"%\",\"cm\"))","v":"m"},{"$f":"RANDBETWEEN(1,MIN(9,C132))","v":1},{"$f":"IF(AND(Worksheet!$D$8,RAND()<0.2),3,IF(RAND()<Worksheet!$D$7/100,1,2))","v":1},{"$f":"IF(I132=1,C132-F132,IF(I132=2,C132-F132/100,IF(I132=3,(1-F132/100)*C132,\"\")))","v":50.9},{"$f":"CONCATENATE(\" \",D132)","v":" m"},{"$f":"J132*100","v":5090},"cm",{"$f":"IF(I132=1,C132+F132,IF(I132=2,C132+F132/100,IF(I132=3,(1+F132/100)*C132,\"\")))","v":51.1},{"$f":"CONCATENATE(\" \",K132)","v":"  m"},{"$f":"N132*100","v":5110},"cm"]
[{"$f":"IF(COUNTIF($B$1:B133,TRUE)=COUNTIF($B$1:B132,TRUE),\"\",COUNTIF($B$1:B133,TRUE))","v":81},{"$f":"Worksheet!$B$13","v":true},{"$f":"RANDBETWEEN(5,RANDBETWEEN(5,Worksheet!$D$6))","v":51},"km","±",{"$f":"IF(I133=1,H133*10^RANDBETWEEN(IF(Worksheet!$D$9,-1,0),0),IF(I133=2,H133*10^RANDBETWEEN(RANDBETWEEN(0,2),2),CHOOSE(RANDBETWEEN(1,3),5,10,20)))","v":2},{"$f":"IF(I133=1,D133,IF(I133=3,\"%\",\"m\"))","v":"km"},2,{"$f":"IF(AND(Worksheet!$D$8,RAND()<0.2),3,IF(RAND()<Worksheet!$D$7/100,1,2))","v":1},{"$f":"IF(I133=1,C133-F133,IF(I133=2,C133-F133/1000,IF(I133=3,(1-F133/100)*C133,\"\")))","v":49}," km",{"$f":"J133*1000","v":49000},"m",{"$f":"IF(I133=1,C133+F133,IF(I133=2,C133+F133/1000,IF(I133=3,(1+F133/100)*C133,\"\")))","v":53},"  km",{"$f":"N133*1000","v":53000},"m"]
[{"$f":"IF(COUNTIF($B$1:B134,TRUE)=COUNTIF($B$1:B133,TRUE),\"\",COUNTIF($B$1:B134,TRUE))","v":""},{"$f":"Worksheet!$B$14","v":false},{"$f":"RANDBETWEEN(5,RANDBETWEEN(5,Worksheet!$D$6))","v":204},"m","±",{"$f":"IF(I134=1,H134*10^RANDBETWEEN(IF(Worksheet!$D$9,-1,0),0),IF(I134=2,H134*10^RANDBETWEEN(RANDBETWEEN(0,2),2),CHOOSE(RANDBETWEEN(1,3),5,10,20)))","v":2},{"$f":"IF(I134=1,D134,IF(I134=3,\"%\",\"mm\"))","v":"m"},2,{"$f":"IF(AND(Worksheet!$D$8,RAND()<0.2),3,IF(RAND()<Worksheet!$D$7/100,1,2))","v":1},{"$f":"IF(I134=1,C134-F134,IF(I134=2,C134-F134/1000,IF(I134=3,(1-F134/100)*C134,\"\")))","v":202}," m",{"$f":"J134*1000","v":202000},"mm",{"$f":"IF(I134=1,C134+F134,IF(I134=2,C134+F134/1000,IF(I134=3,(1+F134/100)*C134,\"\")))","v":206},"  m",{"$f":"N134*1000","v":206000},"mm"]
[{"$f":"IF(COUNTIF($B$1:B135,TRUE)=COUNTIF($B$1:B134,TRUE),\"\",COUNTIF($B$1:B135,TRUE))","v":82},{"$f":"Worksheet!$B$15","v":true},{"$f":"RANDBETWEEN(5,20)","v":6},"hours","±",{"$f":"IF(I135=1,H135*10^RANDBETWEEN(IF(Worksheet!$D$9,-1,0),0),IF(I135=2,H135,CHOOSE(RANDBETWEEN(1,3),5,10,20)))","v":0.2},{"$f":"IF(I135=1,D135,IF(I135=3,\"%\",\"min\"))","v":"hours"},2,{"$f":"IF(AND(Worksheet!$D$8,RAND()<0),3,IF(RAND()<Worksheet!$D$7/100,1,2))","v":1},null," hours",{"$f":"IF(I135=1,C135-F135,IF(I135=2,C135*60-F135,\"\"))","v":5.8},{"$f":"IF($I135=1,\" hours\",\" min\")","v":" hours"},null,"  hours",{"$f":"IF(I135=1,C135+F135,IF(I135=2,C135*60+F135,\"\"))","v":6.2},{"$f":"IF($I135=1,\" hours\",\" min\")","v":" hours"}]
[{"$f":"IF(COUNTIF($B$1:B136,TRUE)=COUNTIF($B$1:B135,TRUE),\"\",COUNTIF($B$1:B136,TRUE))","v":83},{"$f":"Worksheet!$D$11","v":true},{"$f":"RANDBETWEEN(5,RANDBETWEEN(5,Worksheet!$D$6))","v":20},"kg","±",{"$f":"IF(I136=1,H136*10^RANDBETWEEN(IF(Worksheet!$D$9,-1,0),0),IF(I136=2,H136*10^RANDBETWEEN(RANDBETWEEN(0,2),2),CHOOSE(RANDBETWEEN(1,3),5,10,20)))","v":7},{"$f":"IF(I136=1,D136,IF(I136=3,\"%\",\"g\"))","v":"kg"},7,{"$f":"IF(AND(Worksheet!$D$8,RAND()<0.2),3,IF(RAND()<Worksheet!$D$7/100,1,2))","v":1},{"$f":"IF(I136=1,C136-F136,IF(I136=2,C136-F136/1000,IF(I136=3,(1-F136/100)*C136,\"\")))","v":13}," kg",{"$f":"J136*1000","v":13000},"g",{"$f":"IF(I136=1,C136+F136,IF(I136=2,C136+F136/1000,IF(I136=3,(1+F136/100)*C136,\"\")))","v":27},"  kg",{"$f":"N136*1000","v":27000},"g"]
[{"$f":"IF(COUNTIF($B$1:B137,TRUE)=COUNTIF($B$1:B136,TRUE),\"\",COUNTIF($B$1:B137,TRUE))","v":84},{"$f":"Worksheet!$D$12","v":true},{"$f":"RANDBETWEEN(5,RANDBETWEEN(5,Worksheet!$D$6))","v":94},"tonnes","±",{"$f":"IF(I137=1,H137*10^RANDBETWEEN(IF(Worksheet!$D$9,-1,0),0),IF(I137=2,H137*10^RANDBETWEEN(RANDBETWEEN(0,2),2),CHOOSE(RANDBETWEEN(1,3),5,10,20)))","v":5},{"$f":"IF(I137=1,D137,IF(I137=3,\"%\",\"kg\"))","v":"%"},7,{"$f":"IF(AND(Worksheet!$D$8,RAND()<0.2),3,IF(RAND()<Worksheet!$D$7/100,1,2))","v":3},{"$f":"IF(I137=1,C137-F137,IF(I137=2,C137-F137/1000,IF(I137=3,(1-F137/100)*C137,\"\")))","v":89.3}," tonnes",{"$f":"J137*1000","v":89300},"kg",{"$f":"IF(I137=1,C137+F137,IF(I137=2,C137+F137/1000,IF(I137=3,(1+F137/100)*C137,\"\")))","v":98.7},"  tonnes",{"$f":"N137*1000","v":98700},"kg"]
[{"$f":"IF(COUNTIF($B$1:B138,TRUE)=COUNTIF($B$1:B137,TRUE),\"\",COUNTIF($B$1:B138,TRUE))","v":85},{"$f":"Worksheet!$D$13","v":true},{"$f":"RANDBETWEEN(5,RANDBETWEEN(5,Worksheet!$D$6))","v":91},"litres","±",{"$f":"IF(I138=1,H138*10^RANDBETWEEN(IF(Worksheet!$D$9,-1,0),0),IF(I138=2,H138*10^RANDBETWEEN(RANDBETWEEN(0,2),2),CHOOSE(RANDBETWEEN(1,3),5,10,20)))","v":0.8},{"$f":"IF(I138=1,D138,IF(I138=3,\"%\",\"ml\"))","v":"litres"},8,{"$f":"IF(AND(Worksheet!$D$8,RAND()<0.2),3,IF(RAND()<Worksheet!$D$7/100,1,2))","v":1},{"$f":"IF(I138=1,C138-F138,IF(I138=2,C138-F138/1000,IF(I138=3,(1-F138/100)*C138,\"\")))","v":90.2}," litres",{"$f":"J138*1000","v":90200},"ml",{"$f":"IF(I138=1,C138+F138,IF(I138=2,C138+F138/1000,IF(I138=3,(1+F138/100)*C138,\"\")))","v":91.8},"  litres",{"$f":"N138*1000","v":91800},"ml"]
[{"$f":"IF(COUNTIF($B$1:B139,TRUE)=COUNTIF($B$1:B138,TRUE),\"\",COUNTIF($B$1:B139,TRUE))","v":86},{"$f":"Worksheet!$D$14","v":true},{"$f":"RANDBETWEEN(5,RANDBETWEEN(5,Worksheet!$D$6))","v":84},"litres","±",{"$f":"IF(I139=1,H139*10^RANDBETWEEN(IF(Worksheet!$D$9,-1,0),0),IF(I139=2,H139*10^RANDBETWEEN(RANDBETWEEN(0,2),2),CHOOSE(RANDBETWEEN(1,3),5,10,20)))","v":8},{"$f":"IF(I139=1,D139,IF(I139=3,\"%\",\"cm³\"))","v":"litres"},8,{"$f":"IF(AND(Worksheet!$D$8,RAND()<0.2),3,IF(RAND()<Worksheet!$D$7/100,1,2))","v":1},{"$f":"IF(I139=1,C139-F139,IF(I139=2,C139-F139/1000,IF(I139=3,(1-F139/100)*C139,\"\")))","v":76}," litres",{"$f":"J139*1000","v":76000},"cm³",{"$f":"IF(I139=1,C139+F139,IF(I139=2,C139+F139/1000,IF(I139=3,(1+F139/100)*C139,\"\")))","v":92},"  litres",{"$f":"N139*1000","v":92000},"cm³"]
[{"$f":"IF(COUNTIF($B$1:B140,TRUE)=COUNTIF($B$1:B139,TRUE),\"\",COUNTIF($B$1:B140,TRUE))","v":""},{"$f":"Worksheet!$D$15","v":false},{"$f":"RANDBETWEEN(5,20)","v":16},"min","±",{"$f":"IF(I140=1,H140*10^RANDBETWEEN(IF(Worksheet!$D$9,-1,0),0),IF(I140=2,H140,CHOOSE(RANDBETWEEN(1,3),5,10,20)))","v":0.4},{"$f":"IF(I140=1,D140,IF(I140=3,\"%\",\"sec\"))","v":"min"},4,{"$f":"IF(AND(Worksheet!$D$8,RAND()<0),3,IF(RAND()<Worksheet!$D$7/100,1,2))","v":1},null," min",{"$f":"IF(I140=1,C140-F140,IF(I140=2,C140*60-F140,\"\"))","v":15.6},{"$f":"IF($I140=1,\" hours\",\" min\")","v":" hours"},null,"  min",{"$f":"IF(I140=1,C140+F140,IF(I140=2,C140*60+F140,\"\"))","v":16.399999999999999},{"$f":"IF($I140=1,\" hours\",\" min\")","v":" hours"}]
[{"$f":"COUNTIF($B$1:B141,TRUE)","v":87},{"$f":"Worksheet!$B$11","v":true},{"$f":"RANDBETWEEN(5,RANDBETWEEN(5,Worksheet!$D$6))","v":48},"cm","±",{"$f":"IF(I141=1,H141*10^RANDBETWEEN(IF(Worksheet!$D$9,-1,0),0),IF(I141=2,H141,CHOOSE(RANDBETWEEN(1,3),5,10,20)))","v":1},{"$f":"IF(I141=1,D141,IF(I141=3,\"%\",\"mm\"))","v":"mm"},{"$f":"RANDBETWEEN(1,MIN(9,C141))","v":1},{"$f":"IF(AND(Worksheet!$D$8,RAND()<0.2),3,IF(RAND()<Worksheet!$D$7/100,1,2))","v":2},{"$f":"IF(I141=1,C141-F141,IF(I141=2,C141-F141/10,IF(I141=3,(1-F141/100)*C141,\"\")))","v":47.9},{"$f":"CONCATENATE(\" \",D141)","v":" cm"},{"$f":"J141*10","v":479},"mm",{"$f":"IF(I141=1,C141+F141,IF(I141=2,C141+F141/10,IF(I141=3,(1+F141/100)*C141,\"\")))","v":48.1},{"$f":"CONCATENATE(\" \",K141)","v":"  cm"},{"$f":"N141*10","v":481},"mm"]
[{"$f":"IF(COUNTIF($B$1:B142,TRUE)=COUNTIF($B$1:B141,TRUE),\"\",COUNTIF($B$1:B142,TRUE))","v":88},{"$f":"Worksheet!$B$12","v":true},{"$f":"RANDBETWEEN(5,RANDBETWEEN(5,Worksheet!$D$6))","v":75},"m","±",{"$f":"IF(I142=1,H142*10^RANDBETWEEN(IF(Worksheet!$D$9,-1,0),0),IF(I142=2,H142*10^RANDBETWEEN(RANDBETWEEN(0,1),1),CHOOSE(RANDBETWEEN(1,3),5,10,20)))","v":0.70000000000000007},{"$f":"IF(I142=1,D142,IF(I142=3,\"%\",\"cm\"))","v":"m"},{"$f":"RANDBETWEEN(1,MIN(9,C142))","v":7},{"$f":"IF(AND(Worksheet!$D$8,RAND()<0.2),3,IF(RAND()<Worksheet!$D$7/100,1,2))","v":1},{"$f":"IF(I142=1,C142-F142,IF(I142=2,C142-F142/100,IF(I142=3,(1-F142/100)*C142,\"\")))","v":74.3},{"$f":"CONCATENATE(\" \",D142)","v":" m"},{"$f":"J142*100","v":7430},"cm",{"$f":"IF(I142=1,C142+F142,IF(I142=2,C142+F142/100,IF(I142=3,(1+F142/100)*C142,\"\")))","v":75.7},{"$f":"CONCATENATE(\" \",K142)","v":"  m"},{"$f":"N142*100","v":7570},"cm"]
[{"$f":"IF(COUNTIF($B$1:B143,TRUE)=COUNTIF($B$1:B142,TRUE),\"\",COUNTIF($B$1:B143,TRUE))","v":89},{"$f":"Worksheet!$B$13","v":true},{"$f":"RANDBETWEEN(5,RANDBETWEEN(5,Worksheet!$D$6))","v":78},"km","±",{"$f":"IF(I143=1,H143*10^RANDBETWEEN(IF(Worksheet!$D$9,-1,0),0),IF(I143=2,H143*10^RANDBETWEEN(RANDBETWEEN(0,2),2),CHOOSE(RANDBETWEEN(1,3),5,10,20)))","v":10},{"$f":"IF(I143=1,D143,IF(I143=3,\"%\",\"m\"))","v":"%"},6,{"$f":"IF(AND(Worksheet!$D$8,RAND()<0.2),3,IF(RAND()<Worksheet!$D$7/100,1,2))","v":3},{"$f":"IF(I143=1,C143-F143,IF(I143=2,C143-F143/1000,IF(I143=3,(1-F143/100)*C143,\"\")))","v":70.2}," km",{"$f":"J143*1000","v":70200},"m",{"$f":"IF(I143=1,C143+F143,IF(I143=2,C143+F143/1000,IF(I143=3,(1+F143/100)*C143,\"\")))","v":85.800000000000011},"  km",{"$f":"N143*1000","v":85800.000000000015},"m"]
[{"$f":"IF(COUNTIF($B$1:B144,TRUE)=COUNTIF($B$1:B143,TRUE),\"\",COUNTIF($B$1:B144,TRUE))","v":""},{"$f":"Worksheet!$B$14","v":false},{"$f":"RANDBETWEEN(5,RANDBETWEEN(5,Worksheet!$D$6))","v":14},"m","±",{"$f":"IF(I144=1,H144*10^RANDBETWEEN(IF(Worksheet!$D$9,-1,0),0),IF(I144=2,H144*10^RANDBETWEEN(RANDBETWEEN(0,2),2),CHOOSE(RANDBETWEEN(1,3),5,10,20)))","v":5},{"$f":"IF(I144=1,D144,IF(I144=3,\"%\",\"mm\"))","v":"m"},5,{"$f":"IF(AND(Worksheet!$D$8,RAND()<0.2),3,IF(RAND()<Worksheet!$D$7/100,1,2))","v":1},{"$f":"IF(I144=1,C144-F144,IF(I144=2,C144-F144/1000,IF(I144=3,(1-F144/100)*C144,\"\")))","v":9}," m",{"$f":"J144*1000","v":9000},"mm",{"$f":"IF(I144=1,C144+F144,IF(I144=2,C144+F144/1000,IF(I144=3,(1+F144/100)*C144,\"\")))","v":19},"  m",{"$f":"N144*1000","v":19000},"mm"]
[{"$f":"IF(COUNTIF($B$1:B145,TRUE)=COUNTIF($B$1:B144,TRUE),\"\",COUNTIF($B$1:B145,TRUE))","v":90},{"$f":"Worksheet!$B$15","v":true},{"$f":"RANDBETWEEN(5,20)","v":12},"hours","±",{"$f":"IF(I145=1,H145*10^RANDBETWEEN(IF(Worksheet!$D$9,-1,0),0),IF(I145=2,H145,CHOOSE(RANDBETWEEN(1,3),5,10,20)))","v":0.5},{"$f":"IF(I145=1,D145,IF(I145=3,\"%\",\"min\"))","v":"hours"},5,{"$f":"IF(AND(Worksheet!$D$8,RAND()<0),3,IF(RAND()<Worksheet!$D$7/100,1,2))","v":1},null," hours",{"$f":"IF(I145=1,C145-F145,IF(I145=2,C145*60-F145,\"\"))","v":11.5},{"$f":"IF($I145=1,\" hours\",\" min\")","v":" hours"},null,"  hours",{"$f":"IF(I145=1,C145+F145,IF(I145=2,C145*60+F145,\"\"))","v":12.5},{"$f":"IF($I145=1,\" hours\",\" min\")","v":" hours"}]
[{"$f":"IF(COUNTIF($B$1:B146,TRUE)=COUNTIF($B$1:B145,TRUE),\"\",COUNTIF($B$1:B146,TRUE))","v":91},{"$f":"Worksheet!$D$11","v":true},{"$f":"RANDBETWEEN(5,RANDBETWEEN(5,Worksheet!$D$6))","v":40},"kg","±",{"$f":"IF(I146=1,H146*10^RANDBETWEEN(IF(Worksheet!$D$9,-1,0),0),IF(I146=2,H146*10^RANDBETWEEN(RANDBETWEEN(0,2),2),CHOOSE(RANDBETWEEN(1,3),5,10,20)))","v":800},{"$f":"IF(I146=1,D146,IF(I146=3,\"%\",\"g\"))","v":"g"},8,{"$f":"IF(AND(Worksheet!$D$8,RAND()<0.2),3,IF(RAND()<Worksheet!$D$7/100,1,2))","v":2},{"$f":"IF(I146=1,C146-F146,IF(I146=2,C146-F146/1000,IF(I146=3,(1-F146/100)*C146,\"\")))","v":39.200000000000003}," kg",{"$f":"J146*1000","v":39200},"g",{"$f":"IF(I146=1,C146+F146,IF(I146=2,C146+F146/1000,IF(I146=3,(1+F146/100)*C146,\"\")))","v":40.799999999999997},"  kg",{"$f":"N146*1000","v":40800},"g"]
[{"$f":"IF(COUNTIF($B$1:B147,TRUE)=COUNTIF($B$1:B146,TRUE),\"\",COUNTIF($B$1:B147,TRUE))","v":92},{"$f":"Worksheet!$D$12","v":true},{"$f":"RANDBETWEEN(5,RANDBETWEEN(5,Worksheet!$D$6))","v":12},"tonnes","±",{"$f":"IF(I147=1,H147*10^RANDBETWEEN(IF(Worksheet!$D$9,-1,0),0),IF(I147=2,H147*10^RANDBETWEEN(RANDBETWEEN(0,2),2),CHOOSE(RANDBETWEEN(1,3),5,10,20)))","v":800},{"$f":"IF(I147=1,D147,IF(I147=3,\"%\",\"kg\"))","v":"kg"},8,{"$f":"IF(AND(Worksheet!$D$8,RAND()<0.2),3,IF(RAND()<Worksheet!$D$7/100,1,2))","v":2},{"$f":"IF(I147=1,C147-F147,IF(I147=2,C147-F147/1000,IF(I147=3,(1-F147/100)*C147,\"\")))","v":11.2}," tonnes",{"$f":"J147*1000","v":11200},"kg",{"$f":"IF(I147=1,C147+F147,IF(I147=2,C147+F147/1000,IF(I147=3,(1+F147/100)*C147,\"\")))","v":12.8},"  tonnes",{"$f":"N147*1000","v":12800},"kg"]
[{"$f":"IF(COUNTIF($B$1:B148,TRUE)=COUNTIF($B$1:B147,TRUE),\"\",COUNTIF($B$1:B148,TRUE))","v":93},{"$f":"Worksheet!$D$13","v":true},{"$f":"RANDBETWEEN(5,RANDBETWEEN(5,Worksheet!$D$6))","v":37},"litres","±",{"$f":"IF(I148=1,H148*10^RANDBETWEEN(IF(Worksheet!$D$9,-1,0),0),IF(I148=2,H148*10^RANDBETWEEN(RANDBETWEEN(0,2),2),CHOOSE(RANDBETWEEN(1,3),5,10,20)))","v":6},{"$f":"IF(I148=1,D148,IF(I148=3,\"%\",\"ml\"))","v":"litres"},6,{"$f":"IF(AND(Worksheet!$D$8,RAND()<0.2),3,IF(RAND()<Worksheet!$D$7/100,1,2))","v":1},{"$f":"IF(I148=1,C148-F148,IF(I148=2,C148-F148/1000,IF(I148=3,(1-F148/100)*C148,\"\")))","v":31}," litres",{"$f":"J148*1000","v":31000},"ml",{"$f":"IF(I148=1,C148+F148,IF(I148=2,C148+F148/1000,IF(I148=3,(1+F148/100)*C148,\"\")))","v":43},"  litres",{"$f":"N148*1000","v":43000},"ml"]
[{"$f":"IF(COUNTIF($B$1:B149,TRUE)=COUNTIF($B$1:B148,TRUE),\"\",COUNTIF($B$1:B149,TRUE))","v":94},{"$f":"Worksheet!$D$14","v":true},{"$f":"RANDBETWEEN(5,RANDBETWEEN(5,Worksheet!$D$6))","v":45},"litres","±",{"$f":"IF(I149=1,H149*10^RANDBETWEEN(IF(Worksheet!$D$9,-1,0),0),IF(I149=2,H149*10^RANDBETWEEN(RANDBETWEEN(0,2),2),CHOOSE(RANDBETWEEN(1,3),5,10,20)))","v":5},{"$f":"IF(I149=1,D149,IF(I149=3,\"%\",\"cm³\"))","v":"%"},6,{"$f":"IF(AND(Worksheet!$D$8,RAND()<0.2),3,IF(RAND()<Worksheet!$D$7/100,1,2))","v":3},{"$f":"IF(I149=1,C149-F149,IF(I149=2,C149-F149/1000,IF(I149=3,(1-F149/100)*C149,\"\")))","v":42.75}," litres",{"$f":"J149*1000","v":42750},"cm³",{"$f":"IF(I149=1,C149+F149,IF(I149=2,C149+F149/1000,IF(I149=3,(1+F149/100)*C149,\"\")))","v":47.25},"  litres",{"$f":"N149*1000","v":47250},"cm³"]
[{"$f":"IF(COUNTIF($B$1:B150,TRUE)=COUNTIF($B$1:B149,TRUE),\"\",COUNTIF($B$1:B150,TRUE))","v":""},{"$f":"Worksheet!$D$15","v":false},{"$f":"RANDBETWEEN(5,20)","v":12},"min","±",{"$f":"IF(I150=1,H150*10^RANDBETWEEN(IF(Worksheet!$D$9,-1,0),0),IF(I150=2,H150,CHOOSE(RANDBETWEEN(1,3),5,10,20)))","v":0.8},{"$f":"IF(I150=1,D150,IF(I150=3,\"%\",\"sec\"))","v":"min"},8,{"$f":"IF(AND(Worksheet!$D$8,RAND()<0),3,IF(RAND()<Worksheet!$D$7/100,1,2))","v":1},null," min",{"$f":"IF(I150=1,C150-F150,IF(I150=2,C150*60-F150,\"\"))","v":11.2},{"$f":"IF($I150=1,\" hours\",\" min\")","v":" hours"},null,"  min",{"$f":"IF(I150=1,C150+F150,IF(I150=2,C150*60+F150,\"\"))","v":12.8},{"$f":"IF($I150=1,\" hours\",\" min\")","v":" hours"}]
[{"$f":"COUNTIF($B$1:B151,TRUE)","v":95},{"$f":"Worksheet!$B$11","v":true},{"$f":"RANDBETWEEN(5,RANDBETWEEN(5,Worksheet!$D$6))","v":169},"cm","±",{"$f":"IF(I151=1,H151*10^RANDBETWEEN(IF(Worksheet!$D$9,-1,0),0),IF(I151=2,H151,CHOOSE(RANDBETWEEN(1,3),5,10,20)))","v":10},{"$f":"IF(I151=1,D151,IF(I151=3,\"%\",\"mm\"))","v":"%"},{"$f":"RANDBETWEEN(1,MIN(9,C151))","v":3},{"$f":"IF(AND(Worksheet!$D$8,RAND()<0.2),3,IF(RAND()<Worksheet!$D$7/100,1,2))","v":3},{"$f":"IF(I151=1,C151-F151,IF(I151=2,C151-F151/10,IF(I151=3,(1-F151/100)*C151,\"\")))","v":152.1},{"$f":"CONCATENATE(\" \",D151)","v":" cm"},{"$f":"J151*10","v":1521},"mm",{"$f":"IF(I151=1,C151+F151,IF(I151=2,C151+F151/10,IF(I151=3,(1+F151/100)*C151,\"\")))","v":185.9},{"$f":"CONCATENATE(\" \",K151)","v":"  cm"},{"$f":"N151*10","v":1859},"mm"]
[{"$f":"IF(COUNTIF($B$1:B152,TRUE)=COUNTIF($B$1:B151,TRUE),\"\",COUNTIF($B$1:B152,TRUE))","v":96},{"$f":"Worksheet!$B$12","v":true},{"$f":"RANDBETWEEN(5,RANDBETWEEN(5,Worksheet!$D$6))","v":11},"m","±",{"$f":"IF(I152=1,H152*10^RANDBETWEEN(IF(Worksheet!$D$9,-1,0),0),IF(I152=2,H152*10^RANDBETWEEN(RANDBETWEEN(0,1),1),CHOOSE(RANDBETWEEN(1,3),5,10,20)))","v":7},{"$f":"IF(I152=1,D152,IF(I152=3,\"%\",\"cm\"))","v":"m"},{"$f":"RANDBETWEEN(1,MIN(9,C152))","v":7},{"$f":"IF(AND(Worksheet!$D$8,RAND()<0.2),3,IF(RAND()<Worksheet!$D$7/100,1,2))","v":1},{"$f":"IF(I152=1,C152-F152,IF(I152=2,C152-F152/100,IF(I152=3,(1-F152/100)*C152,\"\")))","v":4},{"$f":"CONCATENATE(\" \",D152)","v":" m"},{"$f":"J152*100","v":400},"cm",{"$f":"IF(I152=1,C152+F152,IF(I152=2,C152+F152/100,IF(I152=3,(1+F152/100)*C152,\"\")))","v":18},{"$f":"CONCATENATE(\" \",K152)","v":"  m"},{"$f":"N152*100","v":1800},"cm"]
[{"$f":"IF(COUNTIF($B$1:B153,TRUE)=COUNTIF($B$1:B152,TRUE),\"\",COUNTIF($B$1:B153,TRUE))","v":97},{"$f":"Worksheet!$B$13","v":true},{"$f":"RANDBETWEEN(5,RANDBETWEEN(5,Worksheet!$D$6))","v":67},"km","±",{"$f":"IF(I153=1,H153*10^RANDBETWEEN(IF(Worksheet!$D$9,-1,0),0),IF(I153=2,H153*10^RANDBETWEEN(RANDBETWEEN(0,2),2),CHOOSE(RANDBETWEEN(1,3),5,10,20)))","v":100},{"$f":"IF(I153=1,D153,IF(I153=3,\"%\",\"m\"))","v":"m"},1,{"$f":"IF(AND(Worksheet!$D$8,RAND()<0.2),3,IF(RAND()<Worksheet!$D$7/100,1,2))","v":2},{"$f":"IF(I153=1,C153-F153,IF(I153=2,C153-F153/1000,IF(I153=3,(1-F153/100)*C153,\"\")))","v":66.900000000000006}," km",{"$f":"J153*1000","v":66900},"m",{"$f":"IF(I153=1,C153+F153,IF(I153=2,C153+F153/1000,IF(I153=3,(1+F153/100)*C153,\"\")))","v":67.099999999999994},"  km",{"$f":"N153*1000","v":67100},"m"]
[{"$f":"IF(COUNTIF($B$1:B154,TRUE)=COUNTIF($B$1:B153,TRUE),\"\",COUNTIF($B$1:B154,TRUE))","v":""},{"$f":"Worksheet!$B$14","v":false},{"$f":"RANDBETWEEN(5,RANDBETWEEN(5,Worksheet!$D$6))","v":261},"m","±",{"$f":"IF(I154=1,H154*10^RANDBETWEEN(IF(Worksheet!$D$9,-1,0),0),IF(I154=2,H154*10^RANDBETWEEN(RANDBETWEEN(0,2),2),CHOOSE(RANDBETWEEN(1,3),5,10,20)))","v":500},{"$f":"IF(I154=1,D154,IF(I154=3,\"%\",\"mm\"))","v":"mm"},5,{"$f":"IF(AND(Worksheet!$D$8,RAND()<0.2),3,IF(RAND()<Worksheet!$D$7/100,1,2))","v":2},{"$f":"IF(I154=1,C154-F154,IF(I154=2,C154-F154/1000,IF(I154=3,(1-F154/100)*C154,\"\")))","v":260.5}," m",{"$f":"J154*1000","v":260500},"mm",{"$f":"IF(I154=1,C154+F154,IF(I154=2,C154+F154/1000,IF(I154=3,(1+F154/100)*C154,\"\")))","v":261.5},"  m",{"$f":"N154*1000","v":261500},"mm"]
[{"$f":"IF(COUNTIF($B$1:B155,TRUE)=COUNTIF($B$1:B154,TRUE),\"\",COUNTIF($B$1:B155,TRUE))","v":98},{"$f":"Worksheet!$B$15","v":true},{"$f":"RANDBETWEEN(5,20)","v":16},"hours","±",{"$f":"IF(I155=1,H155*10^RANDBETWEEN(IF(Worksheet!$D$9,-1,0),0),IF(I155=2,H155,CHOOSE(RANDBETWEEN(1,3),5,10,20)))","v":0.2},{"$f":"IF(I155=1,D155,IF(I155=3,\"%\",\"min\"))","v":"hours"},2,{"$f":"IF(AND(Worksheet!$D$8,RAND()<0),3,IF(RAND()<Worksheet!$D$7/100,1,2))","v":1},null," hours",{"$f":"IF(I155=1,C155-F155,IF(I155=2,C155*60-F155,\"\"))","v":15.8},{"$f":"IF($I155=1,\" hours\",\" min\")","v":" hours"},null,"  hours",{"$f":"IF(I155=1,C155+F155,IF(I155=2,C155*60+F155,\"\"))","v":16.2},{"$f":"IF($I155=1,\" hours\",\" min\")","v":" hours"}]
[{"$f":"IF(COUNTIF($B$1:B156,TRUE)=COUNTIF($B$1:B155,TRUE),\"\",COUNTIF($B$1:B156,TRUE))","v":99},{"$f":"Worksheet!$D$11","v":true},{"$f":"RANDBETWEEN(5,RANDBETWEEN(5,Worksheet!$D$6))","v":107},"kg","±",{"$f":"IF(I156=1,H156*10^RANDBETWEEN(IF(Worksheet!$D$9,-1,0),0),IF(I156=2,H156*10^RANDBETWEEN(RANDBETWEEN(0,2),2),CHOOSE(RANDBETWEEN(1,3),5,10,20)))","v":2},{"$f":"IF(I156=1,D156,IF(I156=3,\"%\",\"g\"))","v":"kg"},2,{"$f":"IF(AND(Worksheet!$D$8,RAND()<0.2),3,IF(RAND()<Worksheet!$D$7/100,1,2))","v":1},{"$f":"IF(I156=1,C156-F156,IF(I156=2,C156-F156/1000,IF(I156=3,(1-F156/100)*C156,\"\")))","v":105}," kg",{"$f":"J156*1000","v":105000},"g",{"$f":"IF(I156=1,C156+F156,IF(I156=2,C156+F156/1000,IF(I156=3,(1+F156/100)*C156,\"\")))","v":109},"  kg",{"$f":"N156*1000","v":109000},"g"]
[{"$f":"IF(COUNTIF($B$1:B157,TRUE)=COUNTIF($B$1:B156,TRUE),\"\",COUNTIF($B$1:B157,TRUE))","v":100},{"$f":"Worksheet!$D$12","v":true},{"$f":"RANDBETWEEN(5,RANDBETWEEN(5,Worksheet!$D$6))","v":9},"tonnes","±",{"$f":"IF(I157=1,H157*10^RANDBETWEEN(IF(Worksheet!$D$9,-1,0),0),IF(I157=2,H157*10^RANDBETWEEN(RANDBETWEEN(0,2),2),CHOOSE(RANDBETWEEN(1,3),5,10,20)))","v":500},{"$f":"IF(I157=1,D157,IF(I157=3,\"%\",\"kg\"))","v":"kg"},5,{"$f":"IF(AND(Worksheet!$D$8,RAND()<0.2),3,IF(RAND()<Worksheet!$D$7/100,1,2))","v":2},{"$f":"IF(I157=1,C157-F157,IF(I157=2,C157-F157/1000,IF(I157=3,(1-F157/100)*C157,\"\")))","v":8.5}," tonnes",{"$f":"J157*1000","v":8500},"kg",{"$f":"IF(I157=1,C157+F157,IF(I157=2,C157+F157/1000,IF(I157=3,(1+F157/100)*C157,\"\")))","v":9.5},"  tonnes",{"$f":"N157*1000","v":9500},"kg"]
[{"$f":"IF(COUNTIF($B$1:B158,TRUE)=COUNTIF($B$1:B157,TRUE),\"\",COUNTIF($B$1:B158,TRUE))","v":101},{"$f":"Worksheet!$D$13","v":true},{"$f":"RANDBETWEEN(5,RANDBETWEEN(5,Worksheet!$D$6))","v":82},"litres","±",{"$f":"IF(I158=1,H158*10^RANDBETWEEN(IF(Worksheet!$D$9,-1,0),0),IF(I158=2,H158*10^RANDBETWEEN(RANDBETWEEN(0,2),2),CHOOSE(RANDBETWEEN(1,3),5,10,20)))","v":7},{"$f":"IF(I158=1,D158,IF(I158=3,\"%\",\"ml\"))","v":"litres"},7,{"$f":"IF(AND(Worksheet!$D$8,RAND()<0.2),3,IF(RAND()<Worksheet!$D$7/100,1,2))","v":1},{"$f":"IF(I158=1,C158-F158,IF(I158=2,C158-F158/1000,IF(I158=3,(1-F158/100)*C158,\"\")))","v":75}," litres",{"$f":"J158*1000","v":75000},"ml",{"$f":"IF(I158=1,C158+F158,IF(I158=2,C158+F158/1000,IF(I158=3,(1+F158/100)*C158,\"\")))","v":89},"  litres",{"$f":"N158*1000","v":89000},"ml"]
[{"$f":"IF(COUNTIF($B$1:B159,TRUE)=COUNTIF($B$1:B158,TRUE),\"\",COUNTIF($B$1:B159,TRUE))","v":102},{"$f":"Worksheet!$D$14","v":true},{"$f":"RANDBETWEEN(5,RANDBETWEEN(5,Worksheet!$D$6))","v":158},"litres","±",{"$f":"IF(I159=1,H159*10^RANDBETWEEN(IF(Worksheet!$D$9,-1,0),0),IF(I159=2,H159*10^RANDBETWEEN(RANDBETWEEN(0,2),2),CHOOSE(RANDBETWEEN(1,3),5,10,20)))","v":0.9},{"$f":"IF(I159=1,D159,IF(I159=3,\"%\",\"cm³\"))","v":"litres"},9,{"$f":"IF(AND(Worksheet!$D$8,RAND()<0.2),3,IF(RAND()<Worksheet!$D$7/100,1,2))","v":1},{"$f":"IF(I159=1,C159-F159,IF(I159=2,C159-F159/1000,IF(I159=3,(1-F159/100)*C159,\"\")))","v":157.1}," litres",{"$f":"J159*1000","v":157100},"cm³",{"$f":"IF(I159=1,C159+F159,IF(I159=2,C159+F159/1000,IF(I159=3,(1+F159/100)*C159,\"\")))","v":158.9},"  litres",{"$f":"N159*1000","v":158900},"cm³"]
[{"$f":"IF(COUNTIF($B$1:B160,TRUE)=COUNTIF($B$1:B159,TRUE),\"\",COUNTIF($B$1:B160,TRUE))","v":""},{"$f":"Worksheet!$D$15","v":false},{"$f":"RANDBETWEEN(5,20)","v":20},"min","±",{"$f":"IF(I160=1,H160*10^RANDBETWEEN(IF(Worksheet!$D$9,-1,0),0),IF(I160=2,H160,CHOOSE(RANDBETWEEN(1,3),5,10,20)))","v":0.8},{"$f":"IF(I160=1,D160,IF(I160=3,\"%\",\"sec\"))","v":"min"},8,{"$f":"IF(AND(Worksheet!$D$8,RAND()<0),3,IF(RAND()<Worksheet!$D$7/100,1,2))","v":1},null," min",{"$f":"IF(I160=1,C160-F160,IF(I160=2,C160*60-F160,\"\"))","v":19.2},{"$f":"IF($I160=1,\" hours\",\" min\")","v":" hours"},null,"  min",{"$f":"IF(I160=1,C160+F160,IF(I160=2,C160*60+F160,\"\"))","v":20.8},{"$f":"IF($I160=1,\" hours\",\" min\")","v":" hours"}]
[{"$f":"COUNTIF($B$1:B161,TRUE)","v":103},{"$f":"Worksheet!$B$11","v":true},{"$f":"RANDBETWEEN(5,RANDBETWEEN(5,Worksheet!$D$6))","v":22},"cm","±",{"$f":"IF(I161=1,H161*10^RANDBETWEEN(IF(Worksheet!$D$9,-1,0),0),IF(I161=2,H161,CHOOSE(RANDBETWEEN(1,3),5,10,20)))","v":9},{"$f":"IF(I161=1,D161,IF(I161=3,\"%\",\"mm\"))","v":"cm"},{"$f":"RANDBETWEEN(1,MIN(9,C161))","v":9},{"$f":"IF(AND(Worksheet!$D$8,RAND()<0.2),3,IF(RAND()<Worksheet!$D$7/100,1,2))","v":1},{"$f":"IF(I161=1,C161-F161,IF(I161=2,C161-F161/10,IF(I161=3,(1-F161/100)*C161,\"\")))","v":13},{"$f":"CONCATENATE(\" \",D161)","v":" cm"},{"$f":"J161*10","v":130},"mm",{"$f":"IF(I161=1,C161+F161,IF(I161=2,C161+F161/10,IF(I161=3,(1+F161/100)*C161,\"\")))","v":31},{"$f":"CONCATENATE(\" \",K161)","v":"  cm"},{"$f":"N161*10","v":310},"mm"]
[{"$f":"IF(COUNTIF($B$1:B162,TRUE)=COUNTIF($B$1:B161,TRUE),\"\",COUNTIF($B$1:B162,TRUE))","v":104},{"$f":"Worksheet!$B$12","v":true},{"$f":"RANDBETWEEN(5,RANDBETWEEN(5,Worksheet!$D$6))","v":28},"m","±",{"$f":"IF(I162=1,H162*10^RANDBETWEEN(IF(Worksheet!$D$9,-1,0),0),IF(I162=2,H162*10^RANDBETWEEN(RANDBETWEEN(0,1),1),CHOOSE(RANDBETWEEN(1,3),5,10,20)))","v":0.2},{"$f":"IF(I162=1,D162,IF(I162=3,\"%\",\"cm\"))","v":"m"},{"$f":"RANDBETWEEN(1,MIN(9,C162))","v":2},{"$f":"IF(AND(Worksheet!$D$8,RAND()<0.2),3,IF(RAND()<Worksheet!$D$7/100,1,2))","v":1},{"$f":"IF(I162=1,C162-F162,IF(I162=2,C162-F162/100,IF(I162=3,(1-F162/100)*C162,\"\")))","v":27.8},{"$f":"CONCATENATE(\" \",D162)","v":" m"},{"$f":"J162*100","v":2780},"cm",{"$f":"IF(I162=1,C162+F162,IF(I162=2,C162+F162/100,IF(I162=3,(1+F162/100)*C162,\"\")))","v":28.2},{"$f":"CONCATENATE(\" \",K162)","v":"  m"},{"$f":"N162*100","v":2820},"cm"]
[{"$f":"IF(COUNTIF($B$1:B163,TRUE)=COUNTIF($B$1:B162,TRUE),\"\",COUNTIF($B$1:B163,TRUE))","v":105},{"$f":"Worksheet!$B$13","v":true},{"$f":"RANDBETWEEN(5,RANDBETWEEN(5,Worksheet!$D$6))","v":104},"km","±",{"$f":"IF(I163=1,H163*10^RANDBETWEEN(IF(Worksheet!$D$9,-1,0),0),IF(I163=2,H163*10^RANDBETWEEN(RANDBETWEEN(0,2),2),CHOOSE(RANDBETWEEN(1,3),5,10,20)))","v":8},{"$f":"IF(I163=1,D163,IF(I163=3,\"%\",\"m\"))","v":"km"},8,{"$f":"IF(AND(Worksheet!$D$8,RAND()<0.2),3,IF(RAND()<Worksheet!$D$7/100,1,2))","v":1},{"$f":"IF(I163=1,C163-F163,IF(I163=2,C163-F163/1000,IF(I163=3,(1-F163/100)*C163,\"\")))","v":96}," km",{"$f":"J163*1000","v":96000},"m",{"$f":"IF(I163=1,C163+F163,IF(I163=2,C163+F163/1000,IF(I163=3,(1+F163/100)*C163,\"\")))","v":112},"  km",{"$f":"N163*1000","v":112000},"m"]
[{"$f":"IF(COUNTIF($B$1:B164,TRUE)=COUNTIF($B$1:B163,TRUE),\"\",COUNTIF($B$1:B164,TRUE))","v":""},{"$f":"Worksheet!$B$14","v":false},{"$f":"RANDBETWEEN(5,RANDBETWEEN(5,Worksheet!$D$6))","v":8},"m","±",{"$f":"IF(I164=1,H164*10^RANDBETWEEN(IF(Worksheet!$D$9,-1,0),0),IF(I164=2,H164*10^RANDBETWEEN(RANDBETWEEN(0,2),2),CHOOSE(RANDBETWEEN(1,3),5,10,20)))","v":0.1},{"$f":"IF(I164=1,D164,IF(I164=3,\"%\",\"mm\"))","v":"m"},1,{"$f":"IF(AND(Worksheet!$D$8,RAND()<0.2),3,IF(RAND()<Worksheet!$D$7/100,1,2))","v":1},{"$f":"IF(I164=1,C164-F164,IF(I164=2,C164-F164/1000,IF(I164=3,(1-F164/100)*C164,\"\")))","v":7.9}," m",{"$f":"J164*1000","v":7900},"mm",{"$f":"IF(I164=1,C164+F164,IF(I164=2,C164+F164/1000,IF(I164=3,(1+F164/100)*C164,\"\")))","v":8.1},"  m",{"$f":"N164*1000","v":8100},"mm"]
[{"$f":"IF(COUNTIF($B$1:B165,TRUE)=COUNTIF($B$1:B164,TRUE),\"\",COUNTIF($B$1:B165,TRUE))","v":106},{"$f":"Worksheet!$B$15","v":true},{"$f":"RANDBETWEEN(5,20)","v":10},"hours","±",{"$f":"IF(I165=1,H165*10^RANDBETWEEN(IF(Worksheet!$D$9,-1,0),0),IF(I165=2,H165,CHOOSE(RANDBETWEEN(1,3),5,10,20)))","v":0.4},{"$f":"IF(I165=1,D165,IF(I165=3,\"%\",\"min\"))","v":"hours"},4,{"$f":"IF(AND(Worksheet!$D$8,RAND()<0),3,IF(RAND()<Worksheet!$D$7/100,1,2))","v":1},null," hours",{"$f":"IF(I165=1,C165-F165,IF(I165=2,C165*60-F165,\"\"))","v":9.6},{"$f":"IF($I165=1,\" hours\",\" min\")","v":" hours"},null,"  hours",{"$f":"IF(I165=1,C165+F165,IF(I165=2,C165*60+F165,\"\"))","v":10.4},{"$f":"IF($I165=1,\" hours\",\" min\")","v":" hours"}]
[{"$f":"IF(COUNTIF($B$1:B166,TRUE)=COUNTIF($B$1:B165,TRUE),\"\",COUNTIF($B$1:B166,TRUE))","v":107},{"$f":"Worksheet!$D$11","v":true},{"$f":"RANDBETWEEN(5,RANDBETWEEN(5,Worksheet!$D$6))","v":42},"kg","±",{"$f":"IF(I166=1,H166*10^RANDBETWEEN(IF(Worksheet!$D$9,-1,0),0),IF(I166=2,H166*10^RANDBETWEEN(RANDBETWEEN(0,2),2),CHOOSE(RANDBETWEEN(1,3),5,10,20)))","v":0.5},{"$f":"IF(I166=1,D166,IF(I166=3,\"%\",\"g\"))","v":"kg"},5,{"$f":"IF(AND(Worksheet!$D$8,RAND()<0.2),3,IF(RAND()<Worksheet!$D$7/100,1,2))","v":1},{"$f":"IF(I166=1,C166-F166,IF(I166=2,C166-F166/1000,IF(I166=3,(1-F166/100)*C166,\"\")))","v":41.5}," kg",{"$f":"J166*1000","v":41500},"g",{"$f":"IF(I166=1,C166+F166,IF(I166=2,C166+F166/1000,IF(I166=3,(1+F166/100)*C166,\"\")))","v":42.5},"  kg",{"$f":"N166*1000","v":42500},"g"]
[{"$f":"IF(COUNTIF($B$1:B167,TRUE)=COUNTIF($B$1:B166,TRUE),\"\",COUNTIF($B$1:B167,TRUE))","v":108},{"$f":"Worksheet!$D$12","v":true},{"$f":"RANDBETWEEN(5,RANDBETWEEN(5,Worksheet!$D$6))","v":90},"tonnes","±",{"$f":"IF(I167=1,H167*10^RANDBETWEEN(IF(Worksheet!$D$9,-1,0),0),IF(I167=2,H167*10^RANDBETWEEN(RANDBETWEEN(0,2),2),CHOOSE(RANDBETWEEN(1,3),5,10,20)))","v":0.2},{"$f":"IF(I167=1,D167,IF(I167=3,\"%\",\"kg\"))","v":"tonnes"},2,{"$f":"IF(AND(Worksheet!$D$8,RAND()<0.2),3,IF(RAND()<Worksheet!$D$7/100,1,2))","v":1},{"$f":"IF(I167=1,C167-F167,IF(I167=2,C167-F167/1000,IF(I167=3,(1-F167/100)*C167,\"\")))","v":89.8}," tonnes",{"$f":"J167*1000","v":89800},"kg",{"$f":"IF(I167=1,C167+F167,IF(I167=2,C167+F167/1000,IF(I167=3,(1+F167/100)*C167,\"\")))","v":90.2},"  tonnes",{"$f":"N167*1000","v":90200},"kg"]
[{"$f":"IF(COUNTIF($B$1:B168,TRUE)=COUNTIF($B$1:B167,TRUE),\"\",COUNTIF($B$1:B168,TRUE))","v":109},{"$f":"Worksheet!$D$13","v":true},{"$f":"RANDBETWEEN(5,RANDBETWEEN(5,Worksheet!$D$6))","v":80},"litres","±",{"$f":"IF(I168=1,H168*10^RANDBETWEEN(IF(Worksheet!$D$9,-1,0),0),IF(I168=2,H168*10^RANDBETWEEN(RANDBETWEEN(0,2),2),CHOOSE(RANDBETWEEN(1,3),5,10,20)))","v":3},{"$f":"IF(I168=1,D168,IF(I168=3,\"%\",\"ml\"))","v":"litres"},3,{"$f":"IF(AND(Worksheet!$D$8,RAND()<0.2),3,IF(RAND()<Worksheet!$D$7/100,1,2))","v":1},{"$f":"IF(I168=1,C168-F168,IF(I168=2,C168-F168/1000,IF(I168=3,(1-F168/100)*C168,\"\")))","v":77}," litres",{"$f":"J168*1000","v":77000},"ml",{"$f":"IF(I168=1,C168+F168,IF(I168=2,C168+F168/1000,IF(I168=3,(1+F168/100)*C168,\"\")))","v":83},"  litres",{"$f":"N168*1000","v":83000},"ml"]
[{"$f":"IF(COUNTIF($B$1:B169,TRUE)=COUNTIF($B$1:B168,TRUE),\"\",COUNTIF($B$1:B169,TRUE))","v":110},{"$f":"Worksheet!$D$14","v":true},{"$f":"RANDBETWEEN(5,RANDBETWEEN(5,Worksheet!$D$6))","v":5},"litres","±",{"$f":"IF(I169=1,H169*10^RANDBETWEEN(IF(Worksheet!$D$9,-1,0),0),IF(I169=2,H169*10^RANDBETWEEN(RANDBETWEEN(0,2),2),CHOOSE(RANDBETWEEN(1,3),5,10,20)))","v":0.4},{"$f":"IF(I169=1,D169,IF(I169=3,\"%\",\"cm³\"))","v":"litres"},4,{"$f":"IF(AND(Worksheet!$D$8,RAND()<0.2),3,IF(RAND()<Worksheet!$D$7/100,1,2))","v":1},{"$f":"IF(I169=1,C169-F169,IF(I169=2,C169-F169/1000,IF(I169=3,(1-F169/100)*C169,\"\")))","v":4.5999999999999996}," litres",{"$f":"J169*1000","v":4600},"cm³",{"$f":"IF(I169=1,C169+F169,IF(I169=2,C169+F169/1000,IF(I169=3,(1+F169/100)*C169,\"\")))","v":5.4},"  litres",{"$f":"N169*1000","v":5400},"cm³"]
[{"$f":"IF(COUNTIF($B$1:B170,TRUE)=COUNTIF($B$1:B169,TRUE),\"\",COUNTIF($B$1:B170,TRUE))","v":""},{"$f":"Worksheet!$D$15","v":false},{"$f":"RANDBETWEEN(5,20)","v":14},"min","±",{"$f":"IF(I170=1,H170*10^RANDBETWEEN(IF(Worksheet!$D$9,-1,0),0),IF(I170=2,H170,CHOOSE(RANDBETWEEN(1,3),5,10,20)))","v":3},{"$f":"IF(I170=1,D170,IF(I170=3,\"%\",\"sec\"))","v":"sec"},3,{"$f":"IF(AND(Worksheet!$D$8,RAND()<0),3,IF(RAND()<Worksheet!$D$7/100,1,2))","v":2},null," min",{"$f":"IF(I170=1,C170-F170,IF(I170=2,C170*60-F170,\"\"))","v":837},{"$f":"IF($I170=1,\" hours\",\" min\")","v":" min"},null,"  min",{"$f":"IF(I170=1,C170+F170,IF(I170=2,C170*60+F170,\"\"))","v":843},{"$f":"IF($I170=1,\" hours\",\" min\")","v":" min"}]
[{"$f":"COUNTIF($B$1:B171,TRUE)","v":111},{"$f":"Worksheet!$B$11","v":true},{"$f":"RANDBETWEEN(5,RANDBETWEEN(5,Worksheet!$D$6))","v":13},"cm","±",{"$f":"IF(I171=1,H171*10^RANDBETWEEN(IF(Worksheet!$D$9,-1,0),0),IF(I171=2,H171,CHOOSE(RANDBETWEEN(1,3),5,10,20)))","v":3},{"$f":"IF(I171=1,D171,IF(I171=3,\"%\",\"mm\"))","v":"mm"},{"$f":"RANDBETWEEN(1,MIN(9,C171))","v":3},{"$f":"IF(AND(Worksheet!$D$8,RAND()<0.2),3,IF(RAND()<Worksheet!$D$7/100,1,2))","v":2},{"$f":"IF(I171=1,C171-F171,IF(I171=2,C171-F171/10,IF(I171=3,(1-F171/100)*C171,\"\")))","v":12.7},{"$f":"CONCATENATE(\" \",D171)","v":" cm"},{"$f":"J171*10","v":127},"mm",{"$f":"IF(I171=1,C171+F171,IF(I171=2,C171+F171/10,IF(I171=3,(1+F171/100)*C171,\"\")))","v":13.3},{"$f":"CONCATENATE(\" \",K171)","v":"  cm"},{"$f":"N171*10","v":133},"mm"]
[{"$f":"IF(COUNTIF($B$1:B172,TRUE)=COUNTIF($B$1:B171,TRUE),\"\",COUNTIF($B$1:B172,TRUE))","v":112},{"$f":"Worksheet!$B$12","v":true},{"$f":"RANDBETWEEN(5,RANDBETWEEN(5,Worksheet!$D$6))","v":59},"m","±",{"$f":"IF(I172=1,H172*10^RANDBETWEEN(IF(Worksheet!$D$9,-1,0),0),IF(I172=2,H172*10^RANDBETWEEN(RANDBETWEEN(0,1),1),CHOOSE(RANDBETWEEN(1,3),5,10,20)))","v":9},{"$f":"IF(I172=1,D172,IF(I172=3,\"%\",\"cm\"))","v":"m"},{"$f":"RANDBETWEEN(1,MIN(9,C172))","v":9},{"$f":"IF(AND(Worksheet!$D$8,RAND()<0.2),3,IF(RAND()<Worksheet!$D$7/100,1,2))","v":1},{"$f":"IF(I172=1,C172-F172,IF(I172=2,C172-F172/100,IF(I172=3,(1-F172/100)*C172,\"\")))","v":50},{"$f":"CONCATENATE(\" \",D172)","v":" m"},{"$f":"J172*100","v":5000},"cm",{"$f":"IF(I172=1,C172+F172,IF(I172=2,C172+F172/100,IF(I172=3,(1+F172/100)*C172,\"\")))","v":68},{"$f":"CONCATENATE(\" \",K172)","v":"  m"},{"$f":"N172*100","v":6800},"cm"]
[{"$f":"IF(COUNTIF($B$1:B173,TRUE)=COUNTIF($B$1:B172,TRUE),\"\",COUNTIF($B$1:B173,TRUE))","v":113},{"$f":"Worksheet!$B$13","v":true},{"$f":"RANDBETWEEN(5,RANDBETWEEN(5,Worksheet!$D$6))","v":151},"km","±",{"$f":"IF(I173=1,H173*10^RANDBETWEEN(IF(Worksheet!$D$9,-1,0),0),IF(I173=2,H173*10^RANDBETWEEN(RANDBETWEEN(0,2),2),CHOOSE(RANDBETWEEN(1,3),5,10,20)))","v":10},{"$f":"IF(I173=1,D173,IF(I173=3,\"%\",\"m\"))","v":"%"},7,{"$f":"IF(AND(Worksheet!$D$8,RAND()<0.2),3,IF(RAND()<Worksheet!$D$7/100,1,2))","v":3},{"$f":"IF(I173=1,C173-F173,IF(I173=2,C173-F173/1000,IF(I173=3,(1-F173/100)*C173,\"\")))","v":135.9}," km",{"$f":"J173*1000","v":135900},"m",{"$f":"IF(I173=1,C173+F173,IF(I173=2,C173+F173/1000,IF(I173=3,(1+F173/100)*C173,\"\")))","v":166.10000000000002},"  km",{"$f":"N173*1000","v":166100.00000000003},"m"]
[{"$f":"IF(COUNTIF($B$1:B174,TRUE)=COUNTIF($B$1:B173,TRUE),\"\",COUNTIF($B$1:B174,TRUE))","v":""},{"$f":"Worksheet!$B$14","v":false},{"$f":"RANDBETWEEN(5,RANDBETWEEN(5,Worksheet!$D$6))","v":159},"m","±",{"$f":"IF(I174=1,H174*10^RANDBETWEEN(IF(Worksheet!$D$9,-1,0),0),IF(I174=2,H174*10^RANDBETWEEN(RANDBETWEEN(0,2),2),CHOOSE(RANDBETWEEN(1,3),5,10,20)))","v":0.2},{"$f":"IF(I174=1,D174,IF(I174=3,\"%\",\"mm\"))","v":"m"},2,{"$f":"IF(AND(Worksheet!$D$8,RAND()<0.2),3,IF(RAND()<Worksheet!$D$7/100,1,2))","v":1},{"$f":"IF(I174=1,C174-F174,IF(I174=2,C174-F174/1000,IF(I174=3,(1-F174/100)*C174,\"\")))","v":158.80000000000001}," m",{"$f":"J174*1000","v":158800},"mm",{"$f":"IF(I174=1,C174+F174,IF(I174=2,C174+F174/1000,IF(I174=3,(1+F174/100)*C174,\"\")))","v":159.19999999999999},"  m",{"$f":"N174*1000","v":159200},"mm"]
[{"$f":"IF(COUNTIF($B$1:B175,TRUE)=COUNTIF($B$1:B174,TRUE),\"\",COUNTIF($B$1:B175,TRUE))","v":114},{"$f":"Worksheet!$B$15","v":true},{"$f":"RANDBETWEEN(5,20)","v":9},"hours","±",{"$f":"IF(I175=1,H175*10^RANDBETWEEN(IF(Worksheet!$D$9,-1,0),0),IF(I175=2,H175,CHOOSE(RANDBETWEEN(1,3),5,10,20)))","v":7},{"$f":"IF(I175=1,D175,IF(I175=3,\"%\",\"min\"))","v":"hours"},7,{"$f":"IF(AND(Worksheet!$D$8,RAND()<0),3,IF(RAND()<Worksheet!$D$7/100,1,2))","v":1},null," hours",{"$f":"IF(I175=1,C175-F175,IF(I175=2,C175*60-F175,\"\"))","v":2},{"$f":"IF($I175=1,\" hours\",\" min\")","v":" hours"},null,"  hours",{"$f":"IF(I175=1,C175+F175,IF(I175=2,C175*60+F175,\"\"))","v":16},{"$f":"IF($I175=1,\" hours\",\" min\")","v":" hours"}]
[{"$f":"IF(COUNTIF($B$1:B176,TRUE)=COUNTIF($B$1:B175,TRUE),\"\",COUNTIF($B$1:B176,TRUE))","v":115},{"$f":"Worksheet!$D$11","v":true},{"$f":"RANDBETWEEN(5,RANDBETWEEN(5,Worksheet!$D$6))","v":77},"kg","±",{"$f":"IF(I176=1,H176*10^RANDBETWEEN(IF(Worksheet!$D$9,-1,0),0),IF(I176=2,H176*10^RANDBETWEEN(RANDBETWEEN(0,2),2),CHOOSE(RANDBETWEEN(1,3),5,10,20)))","v":9},{"$f":"IF(I176=1,D176,IF(I176=3,\"%\",\"g\"))","v":"kg"},9,{"$f":"IF(AND(Worksheet!$D$8,RAND()<0.2),3,IF(RAND()<Worksheet!$D$7/100,1,2))","v":1},{"$f":"IF(I176=1,C176-F176,IF(I176=2,C176-F176/1000,IF(I176=3,(1-F176/100)*C176,\"\")))","v":68}," kg",{"$f":"J176*1000","v":68000},"g",{"$f":"IF(I176=1,C176+F176,IF(I176=2,C176+F176/1000,IF(I176=3,(1+F176/100)*C176,\"\")))","v":86},"  kg",{"$f":"N176*1000","v":86000},"g"]
[{"$f":"IF(COUNTIF($B$1:B177,TRUE)=COUNTIF($B$1:B176,TRUE),\"\",COUNTIF($B$1:B177,TRUE))","v":116},{"$f":"Worksheet!$D$12","v":true},{"$f":"RANDBETWEEN(5,RANDBETWEEN(5,Worksheet!$D$6))","v":194},"tonnes","±",{"$f":"IF(I177=1,H177*10^RANDBETWEEN(IF(Worksheet!$D$9,-1,0),0),IF(I177=2,H177*10^RANDBETWEEN(RANDBETWEEN(0,2),2),CHOOSE(RANDBETWEEN(1,3),5,10,20)))","v":3},{"$f":"IF(I177=1,D177,IF(I177=3,\"%\",\"kg\"))","v":"tonnes"},3,{"$f":"IF(AND(Worksheet!$D$8,RAND()<0.2),3,IF(RAND()<Worksheet!$D$7/100,1,2))","v":1},{"$f":"IF(I177=1,C177-F177,IF(I177=2,C177-F177/1000,IF(I177=3,(1-F177/100)*C177,\"\")))","v":191}," tonnes",{"$f":"J177*1000","v":191000},"kg",{"$f":"IF(I177=1,C177+F177,IF(I177=2,C177+F177/1000,IF(I177=3,(1+F177/100)*C177,\"\")))","v":197},"  tonnes",{"$f":"N177*1000","v":197000},"kg"]
[{"$f":"IF(COUNTIF($B$1:B178,TRUE)=COUNTIF($B$1:B177,TRUE),\"\",COUNTIF($B$1:B178,TRUE))","v":117},{"$f":"Worksheet!$D$13","v":true},{"$f":"RANDBETWEEN(5,RANDBETWEEN(5,Worksheet!$D$6))","v":22},"litres","±",{"$f":"IF(I178=1,H178*10^RANDBETWEEN(IF(Worksheet!$D$9,-1,0),0),IF(I178=2,H178*10^RANDBETWEEN(RANDBETWEEN(0,2),2),CHOOSE(RANDBETWEEN(1,3),5,10,20)))","v":5},{"$f":"IF(I178=1,D178,IF(I178=3,\"%\",\"ml\"))","v":"litres"},5,{"$f":"IF(AND(Worksheet!$D$8,RAND()<0.2),3,IF(RAND()<Worksheet!$D$7/100,1,2))","v":1},{"$f":"IF(I178=1,C178-F178,IF(I178=2,C178-F178/1000,IF(I178=3,(1-F178/100)*C178,\"\")))","v":17}," litres",{"$f":"J178*1000","v":17000},"ml",{"$f":"IF(I178=1,C178+F178,IF(I178=2,C178+F178/1000,IF(I178=3,(1+F178/100)*C178,\"\")))","v":27},"  litres",{"$f":"N178*1000","v":27000},"ml"]
[{"$f":"IF(COUNTIF($B$1:B179,TRUE)=COUNTIF($B$1:B178,TRUE),\"\",COUNTIF($B$1:B179,TRUE))","v":118},{"$f":"Worksheet!$D$14","v":true},{"$f":"RANDBETWEEN(5,RANDBETWEEN(5,Worksheet!$D$6))","v":26},"litres","±",{"$f":"IF(I179=1,H179*10^RANDBETWEEN(IF(Worksheet!$D$9,-1,0),0),IF(I179=2,H179*10^RANDBETWEEN(RANDBETWEEN(0,2),2),CHOOSE(RANDBETWEEN(1,3),5,10,20)))","v":0.4},{"$f":"IF(I179=1,D179,IF(I179=3,\"%\",\"cm³\"))","v":"litres"},4,{"$f":"IF(AND(Worksheet!$D$8,RAND()<0.2),3,IF(RAND()<Worksheet!$D$7/100,1,2))","v":1},{"$f":"IF(I179=1,C179-F179,IF(I179=2,C179-F179/1000,IF(I179=3,(1-F179/100)*C179,\"\")))","v":25.6}," litres",{"$f":"J179*1000","v":25600},"cm³",{"$f":"IF(I179=1,C179+F179,IF(I179=2,C179+F179/1000,IF(I179=3,(1+F179/100)*C179,\"\")))","v":26.4},"  litres",{"$f":"N179*1000","v":26400},"cm³"]
[{"$f":"IF(COUNTIF($B$1:B180,TRUE)=COUNTIF($B$1:B179,TRUE),\"\",COUNTIF($B$1:B180,TRUE))","v":""},{"$f":"Worksheet!$D$15","v":false},{"$f":"RANDBETWEEN(5,20)","v":15},"min","±",{"$f":"IF(I180=1,H180*10^RANDBETWEEN(IF(Worksheet!$D$9,-1,0),0),IF(I180=2,H180,CHOOSE(RANDBETWEEN(1,3),5,10,20)))","v":0.60000000000000009},{"$f":"IF(I180=1,D180,IF(I180=3,\"%\",\"sec\"))","v":"min"},6,{"$f":"IF(AND(Worksheet!$D$8,RAND()<0),3,IF(RAND()<Worksheet!$D$7/100,1,2))","v":1},null," min",{"$f":"IF(I180=1,C180-F180,IF(I180=2,C180*60-F180,\"\"))","v":14.4},{"$f":"IF($I180=1,\" hours\",\" min\")","v":" hours"},null,"  min",{"$f":"IF(I180=1,C180+F180,IF(I180=2,C180*60+F180,\"\"))","v":15.6},{"$f":"IF($I180=1,\" hours\",\" min\")","v":" hours"}]
[{"$f":"COUNTIF($B$1:B181,TRUE)","v":119},{"$f":"Worksheet!$B$11","v":true},{"$f":"RANDBETWEEN(5,RANDBETWEEN(5,Worksheet!$D$6))","v":47},"cm","±",{"$f":"IF(I181=1,H181*10^RANDBETWEEN(IF(Worksheet!$D$9,-1,0),0),IF(I181=2,H181,CHOOSE(RANDBETWEEN(1,3),5,10,20)))","v":0.4},{"$f":"IF(I181=1,D181,IF(I181=3,\"%\",\"mm\"))","v":"cm"},{"$f":"RANDBETWEEN(1,MIN(9,C181))","v":4},{"$f":"IF(AND(Worksheet!$D$8,RAND()<0.2),3,IF(RAND()<Worksheet!$D$7/100,1,2))","v":1},{"$f":"IF(I181=1,C181-F181,IF(I181=2,C181-F181/10,IF(I181=3,(1-F181/100)*C181,\"\")))","v":46.6},{"$f":"CONCATENATE(\" \",D181)","v":" cm"},{"$f":"J181*10","v":466},"mm",{"$f":"IF(I181=1,C181+F181,IF(I181=2,C181+F181/10,IF(I181=3,(1+F181/100)*C181,\"\")))","v":47.4},{"$f":"CONCATENATE(\" \",K181)","v":"  cm"},{"$f":"N181*10","v":474},"mm"]
[{"$f":"IF(COUNTIF($B$1:B182,TRUE)=COUNTIF($B$1:B181,TRUE),\"\",COUNTIF($B$1:B182,TRUE))","v":120},{"$f":"Worksheet!$B$12","v":true},{"$f":"RANDBETWEEN(5,RANDBETWEEN(5,Worksheet!$D$6))","v":115},"m","±",{"$f":"IF(I182=1,H182*10^RANDBETWEEN(IF(Worksheet!$D$9,-1,0),0),IF(I182=2,H182*10^RANDBETWEEN(RANDBETWEEN(0,1),1),CHOOSE(RANDBETWEEN(1,3),5,10,20)))","v":5},{"$f":"IF(I182=1,D182,IF(I182=3,\"%\",\"cm\"))","v":"%"},{"$f":"RANDBETWEEN(1,MIN(9,C182))","v":4},{"$f":"IF(AND(Worksheet!$D$8,RAND()<0.2),3,IF(RAND()<Worksheet!$D$7/100,1,2))","v":3},{"$f":"IF(I182=1,C182-F182,IF(I182=2,C182-F182/100,IF(I182=3,(1-F182/100)*C182,\"\")))","v":109.25},{"$f":"CONCATENATE(\" \",D182)","v":" m"},{"$f":"J182*100","v":10925},"cm",{"$f":"IF(I182=1,C182+F182,IF(I182=2,C182+F182/100,IF(I182=3,(1+F182/100)*C182,\"\")))","v":120.75},{"$f":"CONCATENATE(\" \",K182)","v":"  m"},{"$f":"N182*100","v":12075},"cm"]
[{"$f":"IF(COUNTIF($B$1:B183,TRUE)=COUNTIF($B$1:B182,TRUE),\"\",COUNTIF($B$1:B183,TRUE))","v":121},{"$f":"Worksheet!$B$13","v":true},{"$f":"RANDBETWEEN(5,RANDBETWEEN(5,Worksheet!$D$6))","v":15},"km","±",{"$f":"IF(I183=1,H183*10^RANDBETWEEN(IF(Worksheet!$D$9,-1,0),0),IF(I183=2,H183*10^RANDBETWEEN(RANDBETWEEN(0,2),2),CHOOSE(RANDBETWEEN(1,3),5,10,20)))","v":8},{"$f":"IF(I183=1,D183,IF(I183=3,\"%\",\"m\"))","v":"km"},8,{"$f":"IF(AND(Worksheet!$D$8,RAND()<0.2),3,IF(RAND()<Worksheet!$D$7/100,1,2))","v":1},{"$f":"IF(I183=1,C183-F183,IF(I183=2,C183-F183/1000,IF(I183=3,(1-F183/100)*C183,\"\")))","v":7}," km",{"$f":"J183*1000","v":7000},"m",{"$f":"IF(I183=1,C183+F183,IF(I183=2,C183+F183/1000,IF(I183=3,(1+F183/100)*C183,\"\")))","v":23},"  km",{"$f":"N183*1000","v":23000},"m"]
[{"$f":"IF(COUNTIF($B$1:B184,TRUE)=COUNTIF($B$1:B183,TRUE),\"\",COUNTIF($B$1:B184,TRUE))","v":""},{"$f":"Worksheet!$B$14","v":false},{"$f":"RANDBETWEEN(5,RANDBETWEEN(5,Worksheet!$D$6))","v":7},"m","±",{"$f":"IF(I184=1,H184*10^RANDBETWEEN(IF(Worksheet!$D$9,-1,0),0),IF(I184=2,H184*10^RANDBETWEEN(RANDBETWEEN(0,2),2),CHOOSE(RANDBETWEEN(1,3),5,10,20)))","v":4},{"$f":"IF(I184=1,D184,IF(I184=3,\"%\",\"mm\"))","v":"m"},4,{"$f":"IF(AND(Worksheet!$D$8,RAND()<0.2),3,IF(RAND()<Worksheet!$D$7/100,1,2))","v":1},{"$f":"IF(I184=1,C184-F184,IF(I184=2,C184-F184/1000,IF(I184=3,(1-F184/100)*C184,\"\")))","v":3}," m",{"$f":"J184*1000","v":3000},"mm",{"$f":"IF(I184=1,C184+F184,IF(I184=2,C184+F184/1000,IF(I184=3,(1+F184/100)*C184,\"\")))","v":11},"  m",{"$f":"N184*1000","v":11000},"mm"]
[{"$f":"IF(COUNTIF($B$1:B185,TRUE)=COUNTIF($B$1:B184,TRUE),\"\",COUNTIF($B$1:B185,TRUE))","v":122},{"$f":"Worksheet!$B$15","v":true},{"$f":"RANDBETWEEN(5,20)","v":8},"hours","±",{"$f":"IF(I185=1,H185*10^RANDBETWEEN(IF(Worksheet!$D$9,-1,0),0),IF(I185=2,H185,CHOOSE(RANDBETWEEN(1,3),5,10,20)))","v":8},{"$f":"IF(I185=1,D185,IF(I185=3,\"%\",\"min\"))","v":"hours"},8,{"$f":"IF(AND(Worksheet!$D$8,RAND()<0),3,IF(RAND()<Worksheet!$D$7/100,1,2))","v":1},null," hours",{"$f":"IF(I185=1,C185-F185,IF(I185=2,C185*60-F185,\"\"))","v":0},{"$f":"IF($I185=1,\" hours\",\" min\")","v":" hours"},null,"  hours",{"$f":"IF(I185=1,C185+F185,IF(I185=2,C185*60+F185,\"\"))","v":16},{"$f":"IF($I185=1,\" hours\",\" min\")","v":" hours"}]
[{"$f":"IF(COUNTIF($B$1:B186,TRUE)=COUNTIF($B$1:B185,TRUE),\"\",COUNTIF($B$1:B186,TRUE))","v":123},{"$f":"Worksheet!$D$11","v":true},{"$f":"RANDBETWEEN(5,RANDBETWEEN(5,Worksheet!$D$6))","v":42},"kg","±",{"$f":"IF(I186=1,H186*10^RANDBETWEEN(IF(Worksheet!$D$9,-1,0),0),IF(I186=2,H186*10^RANDBETWEEN(RANDBETWEEN(0,2),2),CHOOSE(RANDBETWEEN(1,3),5,10,20)))","v":3},{"$f":"IF(I186=1,D186,IF(I186=3,\"%\",\"g\"))","v":"kg"},3,{"$f":"IF(AND(Worksheet!$D$8,RAND()<0.2),3,IF(RAND()<Worksheet!$D$7/100,1,2))","v":1},{"$f":"IF(I186=1,C186-F186,IF(I186=2,C186-F186/1000,IF(I186=3,(1-F186/100)*C186,\"\")))","v":39}," kg",{"$f":"J186*1000","v":39000},"g",{"$f":"IF(I186=1,C186+F186,IF(I186=2,C186+F186/1000,IF(I186=3,(1+F186/100)*C186,\"\")))","v":45},"  kg",{"$f":"N186*1000","v":45000},"g"]
[{"$f":"IF(COUNTIF($B$1:B187,TRUE)=COUNTIF($B$1:B186,TRUE),\"\",COUNTIF($B$1:B187,TRUE))","v":124},{"$f":"Worksheet!$D$12","v":true},{"$f":"RANDBETWEEN(5,RANDBETWEEN(5,Worksheet!$D$6))","v":27},"tonnes","±",{"$f":"IF(I187=1,H187*10^RANDBETWEEN(IF(Worksheet!$D$9,-1,0),0),IF(I187=2,H187*10^RANDBETWEEN(RANDBETWEEN(0,2),2),CHOOSE(RANDBETWEEN(1,3),5,10,20)))","v":20},{"$f":"IF(I187=1,D187,IF(I187=3,\"%\",\"kg\"))","v":"%"},9,{"$f":"IF(AND(Worksheet!$D$8,RAND()<0.2),3,IF(RAND()<Worksheet!$D$7/100,1,2))","v":3},{"$f":"IF(I187=1,C187-F187,IF(I187=2,C187-F187/1000,IF(I187=3,(1-F187/100)*C187,\"\")))","v":21.6}," tonnes",{"$f":"J187*1000","v":21600},"kg",{"$f":"IF(I187=1,C187+F187,IF(I187=2,C187+F187/1000,IF(I187=3,(1+F187/100)*C187,\"\")))","v":32.4},"  tonnes",{"$f":"N187*1000","v":32400},"kg"]
[{"$f":"IF(COUNTIF($B$1:B188,TRUE)=COUNTIF($B$1:B187,TRUE),\"\",COUNTIF($B$1:B188,TRUE))","v":125},{"$f":"Worksheet!$D$13","v":true},{"$f":"RANDBETWEEN(5,RANDBETWEEN(5,Worksheet!$D$6))","v":63},"litres","±",{"$f":"IF(I188=1,H188*10^RANDBETWEEN(IF(Worksheet!$D$9,-1,0),0),IF(I188=2,H188*10^RANDBETWEEN(RANDBETWEEN(0,2),2),CHOOSE(RANDBETWEEN(1,3),5,10,20)))","v":0.5},{"$f":"IF(I188=1,D188,IF(I188=3,\"%\",\"ml\"))","v":"litres"},5,{"$f":"IF(AND(Worksheet!$D$8,RAND()<0.2),3,IF(RAND()<Worksheet!$D$7/100,1,2))","v":1},{"$f":"IF(I188=1,C188-F188,IF(I188=2,C188-F188/1000,IF(I188=3,(1-F188/100)*C188,\"\")))","v":62.5}," litres",{"$f":"J188*1000","v":62500},"ml",{"$f":"IF(I188=1,C188+F188,IF(I188=2,C188+F188/1000,IF(I188=3,(1+F188/100)*C188,\"\")))","v":63.5},"  litres",{"$f":"N188*1000","v":63500},"ml"]
[{"$f":"IF(COUNTIF($B$1:B189,TRUE)=COUNTIF($B$1:B188,TRUE),\"\",COUNTIF($B$1:B189,TRUE))","v":126},{"$f":"Worksheet!$D$14","v":true},{"$f":"RANDBETWEEN(5,RANDBETWEEN(5,Worksheet!$D$6))","v":7},"litres","±",{"$f":"IF(I189=1,H189*10^RANDBETWEEN(IF(Worksheet!$D$9,-1,0),0),IF(I189=2,H189*10^RANDBETWEEN(RANDBETWEEN(0,2),2),CHOOSE(RANDBETWEEN(1,3),5,10,20)))","v":100},{"$f":"IF(I189=1,D189,IF(I189=3,\"%\",\"cm³\"))","v":"cm³"},1,{"$f":"IF(AND(Worksheet!$D$8,RAND()<0.2),3,IF(RAND()<Worksheet!$D$7/100,1,2))","v":2},{"$f":"IF(I189=1,C189-F189,IF(I189=2,C189-F189/1000,IF(I189=3,(1-F189/100)*C189,\"\")))","v":6.9}," litres",{"$f":"J189*1000","v":6900},"cm³",{"$f":"IF(I189=1,C189+F189,IF(I189=2,C189+F189/1000,IF(I189=3,(1+F189/100)*C189,\"\")))","v":7.1},"  litres",{"$f":"N189*1000","v":7100},"cm³"]
[{"$f":"IF(COUNTIF($B$1:B190,TRUE)=COUNTIF($B$1:B189,TRUE),\"\",COUNTIF($B$1:B190,TRUE))","v":""},{"$f":"Worksheet!$D$15","v":false},{"$f":"RANDBETWEEN(5,20)","v":16},"min","±",{"$f":"IF(I190=1,H190*10^RANDBETWEEN(IF(Worksheet!$D$9,-1,0),0),IF(I190=2,H190,CHOOSE(RANDBETWEEN(1,3),5,10,20)))","v":6},{"$f":"IF(I190=1,D190,IF(I190=3,\"%\",\"sec\"))","v":"sec"},6,{"$f":"IF(AND(Worksheet!$D$8,RAND()<0),3,IF(RAND()<Worksheet!$D$7/100,1,2))","v":2},null," min",{"$f":"IF(I190=1,C190-F190,IF(I190=2,C190*60-F190,\"\"))","v":954},{"$f":"IF($I190=1,\" hours\",\" min\")","v":" min"},null,"  min",{"$f":"IF(I190=1,C190+F190,IF(I190=2,C190*60+F190,\"\"))","v":966},{"$f":"IF($I190=1,\" hours\",\" min\")","v":" min"}]
[{"$f":"COUNTIF($B$1:B191,TRUE)","v":127},{"$f":"Worksheet!$B$11","v":true},{"$f":"RANDBETWEEN(5,RANDBETWEEN(5,Worksheet!$D$6))","v":5},"cm","±",{"$f":"IF(I191=1,H191*10^RANDBETWEEN(IF(Worksheet!$D$9,-1,0),0),IF(I191=2,H191,CHOOSE(RANDBETWEEN(1,3),5,10,20)))","v":0.5},{"$f":"IF(I191=1,D191,IF(I191=3,\"%\",\"mm\"))","v":"cm"},{"$f":"RANDBETWEEN(1,MIN(9,C191))","v":5},{"$f":"IF(AND(Worksheet!$D$8,RAND()<0.2),3,IF(RAND()<Worksheet!$D$7/100,1,2))","v":1},{"$f":"IF(I191=1,C191-F191,IF(I191=2,C191-F191/10,IF(I191=3,(1-F191/100)*C191,\"\")))","v":4.5},{"$f":"CONCATENATE(\" \",D191)","v":" cm"},{"$f":"J191*10","v":45},"mm",{"$f":"IF(I191=1,C191+F191,IF(I191=2,C191+F191/10,IF(I191=3,(1+F191/100)*C191,\"\")))","v":5.5},{"$f":"CONCATENATE(\" \",K191)","v":"  cm"},{"$f":"N191*10","v":55},"mm"]
[{"$f":"IF(COUNTIF($B$1:B192,TRUE)=COUNTIF($B$1:B191,TRUE),\"\",COUNTIF($B$1:B192,TRUE))","v":128},{"$f":"Worksheet!$B$12","v":true},{"$f":"RANDBETWEEN(5,RANDBETWEEN(5,Worksheet!$D$6))","v":283},"m","±",{"$f":"IF(I192=1,H192*10^RANDBETWEEN(IF(Worksheet!$D$9,-1,0),0),IF(I192=2,H192*10^RANDBETWEEN(RANDBETWEEN(0,1),1),CHOOSE(RANDBETWEEN(1,3),5,10,20)))","v":10},{"$f":"IF(I192=1,D192,IF(I192=3,\"%\",\"cm\"))","v":"cm"},{"$f":"RANDBETWEEN(1,MIN(9,C192))","v":1},{"$f":"IF(AND(Worksheet!$D$8,RAND()<0.2),3,IF(RAND()<Worksheet!$D$7/100,1,2))","v":2},{"$f":"IF(I192=1,C192-F192,IF(I192=2,C192-F192/100,IF(I192=3,(1-F192/100)*C192,\"\")))","v":282.89999999999998},{"$f":"CONCATENATE(\" \",D192)","v":" m"},{"$f":"J192*100","v":28289.999999999996},"cm",{"$f":"IF(I192=1,C192+F192,IF(I192=2,C192+F192/100,IF(I192=3,(1+F192/100)*C192,\"\")))","v":283.10000000000002},{"$f":"CONCATENATE(\" \",K192)","v":"  m"},{"$f":"N192*100","v":28310.000000000004},"cm"]
[{"$f":"IF(COUNTIF($B$1:B193,TRUE)=COUNTIF($B$1:B192,TRUE),\"\",COUNTIF($B$1:B193,TRUE))","v":129},{"$f":"Worksheet!$B$13","v":true},{"$f":"RANDBETWEEN(5,RANDBETWEEN(5,Worksheet!$D$6))","v":15},"km","±",{"$f":"IF(I193=1,H193*10^RANDBETWEEN(IF(Worksheet!$D$9,-1,0),0),IF(I193=2,H193*10^RANDBETWEEN(RANDBETWEEN(0,2),2),CHOOSE(RANDBETWEEN(1,3),5,10,20)))","v":1},{"$f":"IF(I193=1,D193,IF(I193=3,\"%\",\"m\"))","v":"km"},1,{"$f":"IF(AND(Worksheet!$D$8,RAND()<0.2),3,IF(RAND()<Worksheet!$D$7/100,1,2))","v":1},{"$f":"IF(I193=1,C193-F193,IF(I193=2,C193-F193/1000,IF(I193=3,(1-F193/100)*C193,\"\")))","v":14}," km",{"$f":"J193*1000","v":14000},"m",{"$f":"IF(I193=1,C193+F193,IF(I193=2,C193+F193/1000,IF(I193=3,(1+F193/100)*C193,\"\")))","v":16},"  km",{"$f":"N193*1000","v":16000},"m"]
[{"$f":"IF(COUNTIF($B$1:B194,TRUE)=COUNTIF($B$1:B193,TRUE),\"\",COUNTIF($B$1:B194,TRUE))","v":""},{"$f":"Worksheet!$B$14","v":false},{"$f":"RANDBETWEEN(5,RANDBETWEEN(5,Worksheet!$D$6))","v":16},"m","±",{"$f":"IF(I194=1,H194*10^RANDBETWEEN(IF(Worksheet!$D$9,-1,0),0),IF(I194=2,H194*10^RANDBETWEEN(RANDBETWEEN(0,2),2),CHOOSE(RANDBETWEEN(1,3),5,10,20)))","v":2},{"$f":"IF(I194=1,D194,IF(I194=3,\"%\",\"mm\"))","v":"m"},2,{"$f":"IF(AND(Worksheet!$D$8,RAND()<0.2),3,IF(RAND()<Worksheet!$D$7/100,1,2))","v":1},{"$f":"IF(I194=1,C194-F194,IF(I194=2,C194-F194/1000,IF(I194=3,(1-F194/100)*C194,\"\")))","v":14}," m",{"$f":"J194*1000","v":14000},"mm",{"$f":"IF(I194=1,C194+F194,IF(I194=2,C194+F194/1000,IF(I194=3,(1+F194/100)*C194,\"\")))","v":18},"  m",{"$f":"N194*1000","v":18000},"mm"]
[{"$f":"IF(COUNTIF($B$1:B195,TRUE)=COUNTIF($B$1:B194,TRUE),\"\",COUNTIF($B$1:B195,TRUE))","v":130},{"$f":"Worksheet!$B$15","v":true},{"$f":"RANDBETWEEN(5,20)","v":15},"hours","±",{"$f":"IF(I195=1,H195*10^RANDBETWEEN(IF(Worksheet!$D$9,-1,0),0),IF(I195=2,H195,CHOOSE(RANDBETWEEN(1,3),5,10,20)))","v":2},{"$f":"IF(I195=1,D195,IF(I195=3,\"%\",\"min\"))","v":"hours"},2,{"$f":"IF(AND(Worksheet!$D$8,RAND()<0),3,IF(RAND()<Worksheet!$D$7/100,1,2))","v":1},null," hours",{"$f":"IF(I195=1,C195-F195,IF(I195=2,C195*60-F195,\"\"))","v":13},{"$f":"IF($I195=1,\" hours\",\" min\")","v":" hours"},null,"  hours",{"$f":"IF(I195=1,C195+F195,IF(I195=2,C195*60+F195,\"\"))","v":17},{"$f":"IF($I195=1,\" hours\",\" min\")","v":" hours"}]
[{"$f":"IF(COUNTIF($B$1:B196,TRUE)=COUNTIF($B$1:B195,TRUE),\"\",COUNTIF($B$1:B196,TRUE))","v":131},{"$f":"Worksheet!$D$11","v":true},{"$f":"RANDBETWEEN(5,RANDBETWEEN(5,Worksheet!$D$6))","v":194},"kg","±",{"$f":"IF(I196=1,H196*10^RANDBETWEEN(IF(Worksheet!$D$9,-1,0),0),IF(I196=2,H196*10^RANDBETWEEN(RANDBETWEEN(0,2),2),CHOOSE(RANDBETWEEN(1,3),5,10,20)))","v":40},{"$f":"IF(I196=1,D196,IF(I196=3,\"%\",\"g\"))","v":"g"},4,{"$f":"IF(AND(Worksheet!$D$8,RAND()<0.2),3,IF(RAND()<Worksheet!$D$7/100,1,2))","v":2},{"$f":"IF(I196=1,C196-F196,IF(I196=2,C196-F196/1000,IF(I196=3,(1-F196/100)*C196,\"\")))","v":193.96}," kg",{"$f":"J196*1000","v":193960},"g",{"$f":"IF(I196=1,C196+F196,IF(I196=2,C196+F196/1000,IF(I196=3,(1+F196/100)*C196,\"\")))","v":194.04},"  kg",{"$f":"N196*1000","v":194040},"g"]
[{"$f":"IF(COUNTIF($B$1:B197,TRUE)=COUNTIF($B$1:B196,TRUE),\"\",COUNTIF($B$1:B197,TRUE))","v":132},{"$f":"Worksheet!$D$12","v":true},{"$f":"RANDBETWEEN(5,RANDBETWEEN(5,Worksheet!$D$6))","v":246},"tonnes","±",{"$f":"IF(I197=1,H197*10^RANDBETWEEN(IF(Worksheet!$D$9,-1,0),0),IF(I197=2,H197*10^RANDBETWEEN(RANDBETWEEN(0,2),2),CHOOSE(RANDBETWEEN(1,3),5,10,20)))","v":0.9},{"$f":"IF(I197=1,D197,IF(I197=3,\"%\",\"kg\"))","v":"tonnes"},9,{"$f":"IF(AND(Worksheet!$D$8,RAND()<0.2),3,IF(RAND()<Worksheet!$D$7/100,1,2))","v":1},{"$f":"IF(I197=1,C197-F197,IF(I197=2,C197-F197/1000,IF(I197=3,(1-F197/100)*C197,\"\")))","v":245.1}," tonnes",{"$f":"J197*1000","v":245100},"kg",{"$f":"IF(I197=1,C197+F197,IF(I197=2,C197+F197/1000,IF(I197=3,(1+F197/100)*C197,\"\")))","v":246.9},"  tonnes",{"$f":"N197*1000","v":246900},"kg"]
[{"$f":"IF(COUNTIF($B$1:B198,TRUE)=COUNTIF($B$1:B197,TRUE),\"\",COUNTIF($B$1:B198,TRUE))","v":133},{"$f":"Worksheet!$D$13","v":true},{"$f":"RANDBETWEEN(5,RANDBETWEEN(5,Worksheet!$D$6))","v":228},"litres","±",{"$f":"IF(I198=1,H198*10^RANDBETWEEN(IF(Worksheet!$D$9,-1,0),0),IF(I198=2,H198*10^RANDBETWEEN(RANDBETWEEN(0,2),2),CHOOSE(RANDBETWEEN(1,3),5,10,20)))","v":2},{"$f":"IF(I198=1,D198,IF(I198=3,\"%\",\"ml\"))","v":"litres"},2,{"$f":"IF(AND(Worksheet!$D$8,RAND()<0.2),3,IF(RAND()<Worksheet!$D$7/100,1,2))","v":1},{"$f":"IF(I198=1,C198-F198,IF(I198=2,C198-F198/1000,IF(I198=3,(1-F198/100)*C198,\"\")))","v":226}," litres",{"$f":"J198*1000","v":226000},"ml",{"$f":"IF(I198=1,C198+F198,IF(I198=2,C198+F198/1000,IF(I198=3,(1+F198/100)*C198,\"\")))","v":230},"  litres",{"$f":"N198*1000","v":230000},"ml"]
[{"$f":"IF(COUNTIF($B$1:B199,TRUE)=COUNTIF($B$1:B198,TRUE),\"\",COUNTIF($B$1:B199,TRUE))","v":134},{"$f":"Worksheet!$D$14","v":true},{"$f":"RANDBETWEEN(5,RANDBETWEEN(5,Worksheet!$D$6))","v":6},"litres","±",{"$f":"IF(I199=1,H199*10^RANDBETWEEN(IF(Worksheet!$D$9,-1,0),0),IF(I199=2,H199*10^RANDBETWEEN(RANDBETWEEN(0,2),2),CHOOSE(RANDBETWEEN(1,3),5,10,20)))","v":0.30000000000000004},{"$f":"IF(I199=1,D199,IF(I199=3,\"%\",\"cm³\"))","v":"litres"},3,{"$f":"IF(AND(Worksheet!$D$8,RAND()<0.2),3,IF(RAND()<Worksheet!$D$7/100,1,2))","v":1},{"$f":"IF(I199=1,C199-F199,IF(I199=2,C199-F199/1000,IF(I199=3,(1-F199/100)*C199,\"\")))","v":5.7}," litres",{"$f":"J199*1000","v":5700},"cm³",{"$f":"IF(I199=1,C199+F199,IF(I199=2,C199+F199/1000,IF(I199=3,(1+F199/100)*C199,\"\")))","v":6.3},"  litres",{"$f":"N199*1000","v":6300},"cm³"]
[{"$f":"IF(COUNTIF($B$1:B200,TRUE)=COUNTIF($B$1:B199,TRUE),\"\",COUNTIF($B$1:B200,TRUE))","v":""},{"$f":"Worksheet!$D$15","v":false},{"$f":"RANDBETWEEN(5,20)","v":9},"min","±",{"$f":"IF(I200=1,H200*10^RANDBETWEEN(IF(Worksheet!$D$9,-1,0),0),IF(I200=2,H200,CHOOSE(RANDBETWEEN(1,3),5,10,20)))","v":0.5},{"$f":"IF(I200=1,D200,IF(I200=3,\"%\",\"sec\"))","v":"min"},5,{"$f":"IF(AND(Worksheet!$D$8,RAND()<0),3,IF(RAND()<Worksheet!$D$7/100,1,2))","v":1},null," min",{"$f":"IF(I200=1,C200-F200,IF(I200=2,C200*60-F200,\"\"))","v":8.5},{"$f":"IF($I200=1,\" hours\",\" min\")","v":" hours"},null,"  min",{"$f":"IF(I200=1,C200+F200,IF(I200=2,C200*60+F200,\"\"))","v":9.5},{"$f":"IF($I200=1,\" hours\",\" min\")","v":" hours"}]
[{"$f":"COUNTIF($B$1:B201,TRUE)","v":135},{"$f":"Worksheet!$B$11","v":true},{"$f":"RANDBETWEEN(5,RANDBETWEEN(5,Worksheet!$D$6))","v":100},"cm","±",{"$f":"IF(I201=1,H201*10^RANDBETWEEN(IF(Worksheet!$D$9,-1,0),0),IF(I201=2,H201,CHOOSE(RANDBETWEEN(1,3),5,10,20)))","v":10},{"$f":"IF(I201=1,D201,IF(I201=3,\"%\",\"mm\"))","v":"%"},{"$f":"RANDBETWEEN(1,MIN(9,C201))","v":1},{"$f":"IF(AND(Worksheet!$D$8,RAND()<0.2),3,IF(RAND()<Worksheet!$D$7/100,1,2))","v":3},{"$f":"IF(I201=1,C201-F201,IF(I201=2,C201-F201/10,IF(I201=3,(1-F201/100)*C201,\"\")))","v":90},{"$f":"CONCATENATE(\" \",D201)","v":" cm"},{"$f":"J201*10","v":900},"mm",{"$f":"IF(I201=1,C201+F201,IF(I201=2,C201+F201/10,IF(I201=3,(1+F201/100)*C201,\"\")))","v":110.00000000000001},{"$f":"CONCATENATE(\" \",K201)","v":"  cm"},{"$f":"N201*10","v":1100.0000000000002},"mm"]
[{"$f":"IF(COUNTIF($B$1:B202,TRUE)=COUNTIF($B$1:B201,TRUE),\"\",COUNTIF($B$1:B202,TRUE))","v":136},{"$f":"Worksheet!$B$12","v":true},{"$f":"RANDBETWEEN(5,RANDBETWEEN(5,Worksheet!$D$6))","v":172},"m","±",{"$f":"IF(I202=1,H202*10^RANDBETWEEN(IF(Worksheet!$D$9,-1,0),0),IF(I202=2,H202*10^RANDBETWEEN(RANDBETWEEN(0,1),1),CHOOSE(RANDBETWEEN(1,3),5,10,20)))","v":6},{"$f":"IF(I202=1,D202,IF(I202=3,\"%\",\"cm\"))","v":"m"},{"$f":"RANDBETWEEN(1,MIN(9,C202))","v":6},{"$f":"IF(AND(Worksheet!$D$8,RAND()<0.2),3,IF(RAND()<Worksheet!$D$7/100,1,2))","v":1},{"$f":"IF(I202=1,C202-F202,IF(I202=2,C202-F202/100,IF(I202=3,(1-F202/100)*C202,\"\")))","v":166},{"$f":"CONCATENATE(\" \",D202)","v":" m"},{"$f":"J202*100","v":16600},"cm",{"$f":"IF(I202=1,C202+F202,IF(I202=2,C202+F202/100,IF(I202=3,(1+F202/100)*C202,\"\")))","v":178},{"$f":"CONCATENATE(\" \",K202)","v":"  m"},{"$f":"N202*100","v":17800},"cm"]
[{"$f":"IF(COUNTIF($B$1:B203,TRUE)=COUNTIF($B$1:B202,TRUE),\"\",COUNTIF($B$1:B203,TRUE))","v":137},{"$f":"Worksheet!$B$13","v":true},{"$f":"RANDBETWEEN(5,RANDBETWEEN(5,Worksheet!$D$6))","v":17},"km","±",{"$f":"IF(I203=1,H203*10^RANDBETWEEN(IF(Worksheet!$D$9,-1,0),0),IF(I203=2,H203*10^RANDBETWEEN(RANDBETWEEN(0,2),2),CHOOSE(RANDBETWEEN(1,3),5,10,20)))","v":0.60000000000000009},{"$f":"IF(I203=1,D203,IF(I203=3,\"%\",\"m\"))","v":"km"},6,{"$f":"IF(AND(Worksheet!$D$8,RAND()<0.2),3,IF(RAND()<Worksheet!$D$7/100,1,2))","v":1},{"$f":"IF(I203=1,C203-F203,IF(I203=2,C203-F203/1000,IF(I203=3,(1-F203/100)*C203,\"\")))","v":16.399999999999999}," km",{"$f":"J203*1000","v":16400},"m",{"$f":"IF(I203=1,C203+F203,IF(I203=2,C203+F203/1000,IF(I203=3,(1+F203/100)*C203,\"\")))","v":17.600000000000001},"  km",{"$f":"N203*1000","v":17600},"m"]
[{"$f":"IF(COUNTIF($B$1:B204,TRUE)=COUNTIF($B$1:B203,TRUE),\"\",COUNTIF($B$1:B204,TRUE))","v":""},{"$f":"Worksheet!$B$14","v":false},{"$f":"RANDBETWEEN(5,RANDBETWEEN(5,Worksheet!$D$6))","v":83},"m","±",{"$f":"IF(I204=1,H204*10^RANDBETWEEN(IF(Worksheet!$D$9,-1,0),0),IF(I204=2,H204*10^RANDBETWEEN(RANDBETWEEN(0,2),2),CHOOSE(RANDBETWEEN(1,3),5,10,20)))","v":0.4},{"$f":"IF(I204=1,D204,IF(I204=3,\"%\",\"mm\"))","v":"m"},4,{"$f":"IF(AND(Worksheet!$D$8,RAND()<0.2),3,IF(RAND()<Worksheet!$D$7/100,1,2))","v":1},{"$f":"IF(I204=1,C204-F204,IF(I204=2,C204-F204/1000,IF(I204=3,(1-F204/100)*C204,\"\")))","v":82.6}," m",{"$f":"J204*1000","v":82600},"mm",{"$f":"IF(I204=1,C204+F204,IF(I204=2,C204+F204/1000,IF(I204=3,(1+F204/100)*C204,\"\")))","v":83.4},"  m",{"$f":"N204*1000","v":83400},"mm"]
[{"$f":"IF(COUNTIF($B$1:B205,TRUE)=COUNTIF($B$1:B204,TRUE),\"\",COUNTIF($B$1:B205,TRUE))","v":138},{"$f":"Worksheet!$B$15","v":true},{"$f":"RANDBETWEEN(5,20)","v":16},"hours","±",{"$f":"IF(I205=1,H205*10^RANDBETWEEN(IF(Worksheet!$D$9,-1,0),0),IF(I205=2,H205,CHOOSE(RANDBETWEEN(1,3),5,10,20)))","v":8},{"$f":"IF(I205=1,D205,IF(I205=3,\"%\",\"min\"))","v":"min"},8,{"$f":"IF(AND(Worksheet!$D$8,RAND()<0),3,IF(RAND()<Worksheet!$D$7/100,1,2))","v":2},null," hours",{"$f":"IF(I205=1,C205-F205,IF(I205=2,C205*60-F205,\"\"))","v":952},{"$f":"IF($I205=1,\" hours\",\" min\")","v":" min"},null,"  hours",{"$f":"IF(I205=1,C205+F205,IF(I205=2,C205*60+F205,\"\"))","v":968},{"$f":"IF($I205=1,\" hours\",\" min\")","v":" min"}]
[{"$f":"IF(COUNTIF($B$1:B206,TRUE)=COUNTIF($B$1:B205,TRUE),\"\",COUNTIF($B$1:B206,TRUE))","v":139},{"$f":"Worksheet!$D$11","v":true},{"$f":"RANDBETWEEN(5,RANDBETWEEN(5,Worksheet!$D$6))","v":17},"kg","±",{"$f":"IF(I206=1,H206*10^RANDBETWEEN(IF(Worksheet!$D$9,-1,0),0),IF(I206=2,H206*10^RANDBETWEEN(RANDBETWEEN(0,2),2),CHOOSE(RANDBETWEEN(1,3),5,10,20)))","v":10},{"$f":"IF(I206=1,D206,IF(I206=3,\"%\",\"g\"))","v":"%"},7,{"$f":"IF(AND(Worksheet!$D$8,RAND()<0.2),3,IF(RAND()<Worksheet!$D$7/100,1,2))","v":3},{"$f":"IF(I206=1,C206-F206,IF(I206=2,C206-F206/1000,IF(I206=3,(1-F206/100)*C206,\"\")))","v":15.3}," kg",{"$f":"J206*1000","v":15300},"g",{"$f":"IF(I206=1,C206+F206,IF(I206=2,C206+F206/1000,IF(I206=3,(1+F206/100)*C206,\"\")))","v":18.700000000000003},"  kg",{"$f":"N206*1000","v":18700.000000000004},"g"]
[{"$f":"IF(COUNTIF($B$1:B207,TRUE)=COUNTIF($B$1:B206,TRUE),\"\",COUNTIF($B$1:B207,TRUE))","v":140},{"$f":"Worksheet!$D$12","v":true},{"$f":"RANDBETWEEN(5,RANDBETWEEN(5,Worksheet!$D$6))","v":221},"tonnes","±",{"$f":"IF(I207=1,H207*10^RANDBETWEEN(IF(Worksheet!$D$9,-1,0),0),IF(I207=2,H207*10^RANDBETWEEN(RANDBETWEEN(0,2),2),CHOOSE(RANDBETWEEN(1,3),5,10,20)))","v":700},{"$f":"IF(I207=1,D207,IF(I207=3,\"%\",\"kg\"))","v":"kg"},7,{"$f":"IF(AND(Worksheet!$D$8,RAND()<0.2),3,IF(RAND()<Worksheet!$D$7/100,1,2))","v":2},{"$f":"IF(I207=1,C207-F207,IF(I207=2,C207-F207/1000,IF(I207=3,(1-F207/100)*C207,\"\")))","v":220.3}," tonnes",{"$f":"J207*1000","v":220300},"kg",{"$f":"IF(I207=1,C207+F207,IF(I207=2,C207+F207/1000,IF(I207=3,(1+F207/100)*C207,\"\")))","v":221.7},"  tonnes",{"$f":"N207*1000","v":221700},"kg"]
[{"$f":"IF(COUNTIF($B$1:B208,TRUE)=COUNTIF($B$1:B207,TRUE),\"\",COUNTIF($B$1:B208,TRUE))","v":141},{"$f":"Worksheet!$D$13","v":true},{"$f":"RANDBETWEEN(5,RANDBETWEEN(5,Worksheet!$D$6))","v":105},"litres","±",{"$f":"IF(I208=1,H208*10^RANDBETWEEN(IF(Worksheet!$D$9,-1,0),0),IF(I208=2,H208*10^RANDBETWEEN(RANDBETWEEN(0,2),2),CHOOSE(RANDBETWEEN(1,3),5,10,20)))","v":4},{"$f":"IF(I208=1,D208,IF(I208=3,\"%\",\"ml\"))","v":"litres"},4,{"$f":"IF(AND(Worksheet!$D$8,RAND()<0.2),3,IF(RAND()<Worksheet!$D$7/100,1,2))","v":1},{"$f":"IF(I208=1,C208-F208,IF(I208=2,C208-F208/1000,IF(I208=3,(1-F208/100)*C208,\"\")))","v":101}," litres",{"$f":"J208*1000","v":101000},"ml",{"$f":"IF(I208=1,C208+F208,IF(I208=2,C208+F208/1000,IF(I208=3,(1+F208/100)*C208,\"\")))","v":109},"  litres",{"$f":"N208*1000","v":109000},"ml"]
[{"$f":"IF(COUNTIF($B$1:B209,TRUE)=COUNTIF($B$1:B208,TRUE),\"\",COUNTIF($B$1:B209,TRUE))","v":142},{"$f":"Worksheet!$D$14","v":true},{"$f":"RANDBETWEEN(5,RANDBETWEEN(5,Worksheet!$D$6))","v":15},"litres","±",{"$f":"IF(I209=1,H209*10^RANDBETWEEN(IF(Worksheet!$D$9,-1,0),0),IF(I209=2,H209*10^RANDBETWEEN(RANDBETWEEN(0,2),2),CHOOSE(RANDBETWEEN(1,3),5,10,20)))","v":0.2},{"$f":"IF(I209=1,D209,IF(I209=3,\"%\",\"cm³\"))","v":"litres"},2,{"$f":"IF(AND(Worksheet!$D$8,RAND()<0.2),3,IF(RAND()<Worksheet!$D$7/100,1,2))","v":1},{"$f":"IF(I209=1,C209-F209,IF(I209=2,C209-F209/1000,IF(I209=3,(1-F209/100)*C209,\"\")))","v":14.8}," litres",{"$f":"J209*1000","v":14800},"cm³",{"$f":"IF(I209=1,C209+F209,IF(I209=2,C209+F209/1000,IF(I209=3,(1+F209/100)*C209,\"\")))","v":15.2},"  litres",{"$f":"N209*1000","v":15200},"cm³"]
[{"$f":"IF(COUNTIF($B$1:B210,TRUE)=COUNTIF($B$1:B209,TRUE),\"\",COUNTIF($B$1:B210,TRUE))","v":""},{"$f":"Worksheet!$D$15","v":false},{"$f":"RANDBETWEEN(5,20)","v":8},"min","±",{"$f":"IF(I210=1,H210*10^RANDBETWEEN(IF(Worksheet!$D$9,-1,0),0),IF(I210=2,H210,CHOOSE(RANDBETWEEN(1,3),5,10,20)))","v":0.1},{"$f":"IF(I210=1,D210,IF(I210=3,\"%\",\"sec\"))","v":"min"},1,{"$f":"IF(AND(Worksheet!$D$8,RAND()<0),3,IF(RAND()<Worksheet!$D$7/100,1,2))","v":1},null," min",{"$f":"IF(I210=1,C210-F210,IF(I210=2,C210*60-F210,\"\"))","v":7.9},{"$f":"IF($I210=1,\" hours\",\" min\")","v":" hours"},null,"  min",{"$f":"IF(I210=1,C210+F210,IF(I210=2,C210*60+F210,\"\"))","v":8.1},{"$f":"IF($I210=1,\" hours\",\" min\")","v":" hours"}]
[{"$f":"COUNTIF($B$1:B211,TRUE)","v":143},{"$f":"Worksheet!$B$11","v":true},{"$f":"RANDBETWEEN(5,RANDBETWEEN(5,Worksheet!$D$6))","v":293},"cm","±",{"$f":"IF(I211=1,H211*10^RANDBETWEEN(IF(Worksheet!$D$9,-1,0),0),IF(I211=2,H211,CHOOSE(RANDBETWEEN(1,3),5,10,20)))","v":20},{"$f":"IF(I211=1,D211,IF(I211=3,\"%\",\"mm\"))","v":"%"},{"$f":"RANDBETWEEN(1,MIN(9,C211))","v":5},{"$f":"IF(AND(Worksheet!$D$8,RAND()<0.2),3,IF(RAND()<Worksheet!$D$7/100,1,2))","v":3},{"$f":"IF(I211=1,C211-F211,IF(I211=2,C211-F211/10,IF(I211=3,(1-F211/100)*C211,\"\")))","v":234.4},{"$f":"CONCATENATE(\" \",D211)","v":" cm"},{"$f":"J211*10","v":2344},"mm",{"$f":"IF(I211=1,C211+F211,IF(I211=2,C211+F211/10,IF(I211=3,(1+F211/100)*C211,\"\")))","v":351.59999999999997},{"$f":"CONCATENATE(\" \",K211)","v":"  cm"},{"$f":"N211*10","v":3515.9999999999995},"mm"]
[{"$f":"IF(COUNTIF($B$1:B212,TRUE)=COUNTIF($B$1:B211,TRUE),\"\",COUNTIF($B$1:B212,TRUE))","v":144},{"$f":"Worksheet!$B$12","v":true},{"$f":"RANDBETWEEN(5,RANDBETWEEN(5,Worksheet!$D$6))","v":33},"m","±",{"$f":"IF(I212=1,H212*10^RANDBETWEEN(IF(Worksheet!$D$9,-1,0),0),IF(I212=2,H212*10^RANDBETWEEN(RANDBETWEEN(0,1),1),CHOOSE(RANDBETWEEN(1,3),5,10,20)))","v":10},{"$f":"IF(I212=1,D212,IF(I212=3,\"%\",\"cm\"))","v":"%"},{"$f":"RANDBETWEEN(1,MIN(9,C212))","v":5},{"$f":"IF(AND(Worksheet!$D$8,RAND()<0.2),3,IF(RAND()<Worksheet!$D$7/100,1,2))","v":3},{"$f":"IF(I212=1,C212-F212,IF(I212=2,C212-F212/100,IF(I212=3,(1-F212/100)*C212,\"\")))","v":29.7},{"$f":"CONCATENATE(\" \",D212)","v":" m"},{"$f":"J212*100","v":2970},"cm",{"$f":"IF(I212=1,C212+F212,IF(I212=2,C212+F212/100,IF(I212=3,(1+F212/100)*C212,\"\")))","v":36.300000000000004},{"$f":"CONCATENATE(\" \",K212)","v":"  m"},{"$f":"N212*100","v":3630.0000000000005},"cm"]
[{"$f":"IF(COUNTIF($B$1:B213,TRUE)=COUNTIF($B$1:B212,TRUE),\"\",COUNTIF($B$1:B213,TRUE))","v":145},{"$f":"Worksheet!$B$13","v":true},{"$f":"RANDBETWEEN(5,RANDBETWEEN(5,Worksheet!$D$6))","v":41},"km","±",{"$f":"IF(I213=1,H213*10^RANDBETWEEN(IF(Worksheet!$D$9,-1,0),0),IF(I213=2,H213*10^RANDBETWEEN(RANDBETWEEN(0,2),2),CHOOSE(RANDBETWEEN(1,3),5,10,20)))","v":0.70000000000000007},{"$f":"IF(I213=1,D213,IF(I213=3,\"%\",\"m\"))","v":"km"},7,{"$f":"IF(AND(Worksheet!$D$8,RAND()<0.2),3,IF(RAND()<Worksheet!$D$7/100,1,2))","v":1},{"$f":"IF(I213=1,C213-F213,IF(I213=2,C213-F213/1000,IF(I213=3,(1-F213/100)*C213,\"\")))","v":40.299999999999997}," km",{"$f":"J213*1000","v":40300},"m",{"$f":"IF(I213=1,C213+F213,IF(I213=2,C213+F213/1000,IF(I213=3,(1+F213/100)*C213,\"\")))","v":41.7},"  km",{"$f":"N213*1000","v":41700},"m"]
[{"$f":"IF(COUNTIF($B$1:B214,TRUE)=COUNTIF($B$1:B213,TRUE),\"\",COUNTIF($B$1:B214,TRUE))","v":""},{"$f":"Worksheet!$B$14","v":false},{"$f":"RANDBETWEEN(5,RANDBETWEEN(5,Worksheet!$D$6))","v":34},"m","±",{"$f":"IF(I214=1,H214*10^RANDBETWEEN(IF(Worksheet!$D$9,-1,0),0),IF(I214=2,H214*10^RANDBETWEEN(RANDBETWEEN(0,2),2),CHOOSE(RANDBETWEEN(1,3),5,10,20)))","v":1},{"$f":"IF(I214=1,D214,IF(I214=3,\"%\",\"mm\"))","v":"m"},1,{"$f":"IF(AND(Worksheet!$D$8,RAND()<0.2),3,IF(RAND()<Worksheet!$D$7/100,1,2))","v":1},{"$f":"IF(I214=1,C214-F214,IF(I214=2,C214-F214/1000,IF(I214=3,(1-F214/100)*C214,\"\")))","v":33}," m",{"$f":"J214*1000","v":33000},"mm",{"$f":"IF(I214=1,C214+F214,IF(I214=2,C214+F214/1000,IF(I214=3,(1+F214/100)*C214,\"\")))","v":35},"  m",{"$f":"N214*1000","v":35000},"mm"]
[{"$f":"IF(COUNTIF($B$1:B215,TRUE)=COUNTIF($B$1:B214,TRUE),\"\",COUNTIF($B$1:B215,TRUE))","v":146},{"$f":"Worksheet!$B$15","v":true},{"$f":"RANDBETWEEN(5,20)","v":20},"hours","±",{"$f":"IF(I215=1,H215*10^RANDBETWEEN(IF(Worksheet!$D$9,-1,0),0),IF(I215=2,H215,CHOOSE(RANDBETWEEN(1,3),5,10,20)))","v":8},{"$f":"IF(I215=1,D215,IF(I215=3,\"%\",\"min\"))","v":"hours"},8,{"$f":"IF(AND(Worksheet!$D$8,RAND()<0),3,IF(RAND()<Worksheet!$D$7/100,1,2))","v":1},null," hours",{"$f":"IF(I215=1,C215-F215,IF(I215=2,C215*60-F215,\"\"))","v":12},{"$f":"IF($I215=1,\" hours\",\" min\")","v":" hours"},null,"  hours",{"$f":"IF(I215=1,C215+F215,IF(I215=2,C215*60+F215,\"\"))","v":28},{"$f":"IF($I215=1,\" hours\",\" min\")","v":" hours"}]
[{"$f":"IF(COUNTIF($B$1:B216,TRUE)=COUNTIF($B$1:B215,TRUE),\"\",COUNTIF($B$1:B216,TRUE))","v":147},{"$f":"Worksheet!$D$11","v":true},{"$f":"RANDBETWEEN(5,RANDBETWEEN(5,Worksheet!$D$6))","v":267},"kg","±",{"$f":"IF(I216=1,H216*10^RANDBETWEEN(IF(Worksheet!$D$9,-1,0),0),IF(I216=2,H216*10^RANDBETWEEN(RANDBETWEEN(0,2),2),CHOOSE(RANDBETWEEN(1,3),5,10,20)))","v":10},{"$f":"IF(I216=1,D216,IF(I216=3,\"%\",\"g\"))","v":"%"},4,{"$f":"IF(AND(Worksheet!$D$8,RAND()<0.2),3,IF(RAND()<Worksheet!$D$7/100,1,2))","v":3},{"$f":"IF(I216=1,C216-F216,IF(I216=2,C216-F216/1000,IF(I216=3,(1-F216/100)*C216,\"\")))","v":240.3}," kg",{"$f":"J216*1000","v":240300},"g",{"$f":"IF(I216=1,C216+F216,IF(I216=2,C216+F216/1000,IF(I216=3,(1+F216/100)*C216,\"\")))","v":293.70000000000005},"  kg",{"$f":"N216*1000","v":293700.00000000006},"g"]
[{"$f":"IF(COUNTIF($B$1:B217,TRUE)=COUNTIF($B$1:B216,TRUE),\"\",COUNTIF($B$1:B217,TRUE))","v":148},{"$f":"Worksheet!$D$12","v":true},{"$f":"RANDBETWEEN(5,RANDBETWEEN(5,Worksheet!$D$6))","v":114},"tonnes","±",{"$f":"IF(I217=1,H217*10^RANDBETWEEN(IF(Worksheet!$D$9,-1,0),0),IF(I217=2,H217*10^RANDBETWEEN(RANDBETWEEN(0,2),2),CHOOSE(RANDBETWEEN(1,3),5,10,20)))","v":1},{"$f":"IF(I217=1,D217,IF(I217=3,\"%\",\"kg\"))","v":"kg"},1,{"$f":"IF(AND(Worksheet!$D$8,RAND()<0.2),3,IF(RAND()<Worksheet!$D$7/100,1,2))","v":2},{"$f":"IF(I217=1,C217-F217,IF(I217=2,C217-F217/1000,IF(I217=3,(1-F217/100)*C217,\"\")))","v":113.999}," tonnes",{"$f":"J217*1000","v":113999},"kg",{"$f":"IF(I217=1,C217+F217,IF(I217=2,C217+F217/1000,IF(I217=3,(1+F217/100)*C217,\"\")))","v":114.001},"  tonnes",{"$f":"N217*1000","v":114001},"kg"]
[{"$f":"IF(COUNTIF($B$1:B218,TRUE)=COUNTIF($B$1:B217,TRUE),\"\",COUNTIF($B$1:B218,TRUE))","v":149},{"$f":"Worksheet!$D$13","v":true},{"$f":"RANDBETWEEN(5,RANDBETWEEN(5,Worksheet!$D$6))","v":17},"litres","±",{"$f":"IF(I218=1,H218*10^RANDBETWEEN(IF(Worksheet!$D$9,-1,0),0),IF(I218=2,H218*10^RANDBETWEEN(RANDBETWEEN(0,2),2),CHOOSE(RANDBETWEEN(1,3),5,10,20)))","v":0.5},{"$f":"IF(I218=1,D218,IF(I218=3,\"%\",\"ml\"))","v":"litres"},5,{"$f":"IF(AND(Worksheet!$D$8,RAND()<0.2),3,IF(RAND()<Worksheet!$D$7/100,1,2))","v":1},{"$f":"IF(I218=1,C218-F218,IF(I218=2,C218-F218/1000,IF(I218=3,(1-F218/100)*C218,\"\")))","v":16.5}," litres",{"$f":"J218*1000","v":16500},"ml",{"$f":"IF(I218=1,C218+F218,IF(I218=2,C218+F218/1000,IF(I218=3,(1+F218/100)*C218,\"\")))","v":17.5},"  litres",{"$f":"N218*1000","v":17500},"ml"]
[{"$f":"IF(COUNTIF($B$1:B219,TRUE)=COUNTIF($B$1:B218,TRUE),\"\",COUNTIF($B$1:B219,TRUE))","v":150},{"$f":"Worksheet!$D$14","v":true},{"$f":"RANDBETWEEN(5,RANDBETWEEN(5,Worksheet!$D$6))","v":10},"litres","±",{"$f":"IF(I219=1,H219*10^RANDBETWEEN(IF(Worksheet!$D$9,-1,0),0),IF(I219=2,H219*10^RANDBETWEEN(RANDBETWEEN(0,2),2),CHOOSE(RANDBETWEEN(1,3),5,10,20)))","v":30},{"$f":"IF(I219=1,D219,IF(I219=3,\"%\",\"cm³\"))","v":"cm³"},3,{"$f":"IF(AND(Worksheet!$D$8,RAND()<0.2),3,IF(RAND()<Worksheet!$D$7/100,1,2))","v":2},{"$f":"IF(I219=1,C219-F219,IF(I219=2,C219-F219/1000,IF(I219=3,(1-F219/100)*C219,\"\")))","v":9.9700000000000006}," litres",{"$f":"J219*1000","v":9970},"cm³",{"$f":"IF(I219=1,C219+F219,IF(I219=2,C219+F219/1000,IF(I219=3,(1+F219/100)*C219,\"\")))","v":10.029999999999999},"  litres",{"$f":"N219*1000","v":10030},"cm³"]
[{"$f":"IF(COUNTIF($B$1:B220,TRUE)=COUNTIF($B$1:B219,TRUE),\"\",COUNTIF($B$1:B220,TRUE))","v":""},{"$f":"Worksheet!$D$15","v":false},{"$f":"RANDBETWEEN(5,20)","v":8},"min","±",{"$f":"IF(I220=1,H220*10^RANDBETWEEN(IF(Worksheet!$D$9,-1,0),0),IF(I220=2,H220,CHOOSE(RANDBETWEEN(1,3),5,10,20)))","v":6},{"$f":"IF(I220=1,D220,IF(I220=3,\"%\",\"sec\"))","v":"sec"},6,{"$f":"IF(AND(Worksheet!$D$8,RAND()<0),3,IF(RAND()<Worksheet!$D$7/100,1,2))","v":2},null," min",{"$f":"IF(I220=1,C220-F220,IF(I220=2,C220*60-F220,\"\"))","v":474},{"$f":"IF($I220=1,\" hours\",\" min\")","v":" min"},null,"  min",{"$f":"IF(I220=1,C220+F220,IF(I220=2,C220*60+F220,\"\"))","v":486},{"$f":"IF($I220=1,\" hours\",\" min\")","v":" min"}]
[{"$f":"COUNTIF($B$1:B221,TRUE)","v":151},{"$f":"Worksheet!$B$11","v":true},{"$f":"RANDBETWEEN(5,RANDBETWEEN(5,Worksheet!$D$6))","v":7},"cm","±",{"$f":"IF(I221=1,H221*10^RANDBETWEEN(IF(Worksheet!$D$9,-1,0),0),IF(I221=2,H221,CHOOSE(RANDBETWEEN(1,3),5,10,20)))","v":0.2},{"$f":"IF(I221=1,D221,IF(I221=3,\"%\",\"mm\"))","v":"cm"},{"$f":"RANDBETWEEN(1,MIN(9,C221))","v":2},{"$f":"IF(AND(Worksheet!$D$8,RAND()<0.2),3,IF(RAND()<Worksheet!$D$7/100,1,2))","v":1},{"$f":"IF(I221=1,C221-F221,IF(I221=2,C221-F221/10,IF(I221=3,(1-F221/100)*C221,\"\")))","v":6.8},{"$f":"CONCATENATE(\" \",D221)","v":" cm"},{"$f":"J221*10","v":68},"mm",{"$f":"IF(I221=1,C221+F221,IF(I221=2,C221+F221/10,IF(I221=3,(1+F221/100)*C221,\"\")))","v":7.2},{"$f":"CONCATENATE(\" \",K221)","v":"  cm"},{"$f":"N221*10","v":72},"mm"]
[{"$f":"IF(COUNTIF($B$1:B222,TRUE)=COUNTIF($B$1:B221,TRUE),\"\",COUNTIF($B$1:B222,TRUE))","v":152},{"$f":"Worksheet!$B$12","v":true},{"$f":"RANDBETWEEN(5,RANDBETWEEN(5,Worksheet!$D$6))","v":53},"m","±",{"$f":"IF(I222=1,H222*10^RANDBETWEEN(IF(Worksheet!$D$9,-1,0),0),IF(I222=2,H222*10^RANDBETWEEN(RANDBETWEEN(0,1),1),CHOOSE(RANDBETWEEN(1,3),5,10,20)))","v":9},{"$f":"IF(I222=1,D222,IF(I222=3,\"%\",\"cm\"))","v":"m"},{"$f":"RANDBETWEEN(1,MIN(9,C222))","v":9},{"$f":"IF(AND(Worksheet!$D$8,RAND()<0.2),3,IF(RAND()<Worksheet!$D$7/100,1,2))","v":1},{"$f":"IF(I222=1,C222-F222,IF(I222=2,C222-F222/100,IF(I222=3,(1-F222/100)*C222,\"\")))","v":44},{"$f":"CONCATENATE(\" \",D222)","v":" m"},{"$f":"J222*100","v":4400},"cm",{"$f":"IF(I222=1,C222+F222,IF(I222=2,C222+F222/100,IF(I222=3,(1+F222/100)*C222,\"\")))","v":62},{"$f":"CONCATENATE(\" \",K222)","v":"  m"},{"$f":"N222*100","v":6200},"cm"]
[{"$f":"IF(COUNTIF($B$1:B223,TRUE)=COUNTIF($B$1:B222,TRUE),\"\",COUNTIF($B$1:B223,TRUE))","v":153},{"$f":"Worksheet!$B$13","v":true},{"$f":"RANDBETWEEN(5,RANDBETWEEN(5,Worksheet!$D$6))","v":45},"km","±",{"$f":"IF(I223=1,H223*10^RANDBETWEEN(IF(Worksheet!$D$9,-1,0),0),IF(I223=2,H223*10^RANDBETWEEN(RANDBETWEEN(0,2),2),CHOOSE(RANDBETWEEN(1,3),5,10,20)))","v":5},{"$f":"IF(I223=1,D223,IF(I223=3,\"%\",\"m\"))","v":"%"},6,{"$f":"IF(AND(Worksheet!$D$8,RAND()<0.2),3,IF(RAND()<Worksheet!$D$7/100,1,2))","v":3},{"$f":"IF(I223=1,C223-F223,IF(I223=2,C223-F223/1000,IF(I223=3,(1-F223/100)*C223,\"\")))","v":42.75}," km",{"$f":"J223*1000","v":42750},"m",{"$f":"IF(I223=1,C223+F223,IF(I223=2,C223+F223/1000,IF(I223=3,(1+F223/100)*C223,\"\")))","v":47.25},"  km",{"$f":"N223*1000","v":47250},"m"]
[{"$f":"IF(COUNTIF($B$1:B224,TRUE)=COUNTIF($B$1:B223,TRUE),\"\",COUNTIF($B$1:B224,TRUE))","v":""},{"$f":"Worksheet!$B$14","v":false},{"$f":"RANDBETWEEN(5,RANDBETWEEN(5,Worksheet!$D$6))","v":67},"m","±",{"$f":"IF(I224=1,H224*10^RANDBETWEEN(IF(Worksheet!$D$9,-1,0),0),IF(I224=2,H224*10^RANDBETWEEN(RANDBETWEEN(0,2),2),CHOOSE(RANDBETWEEN(1,3),5,10,20)))","v":80},{"$f":"IF(I224=1,D224,IF(I224=3,\"%\",\"mm\"))","v":"mm"},8,{"$f":"IF(AND(Worksheet!$D$8,RAND()<0.2),3,IF(RAND()<Worksheet!$D$7/100,1,2))","v":2},{"$f":"IF(I224=1,C224-F224,IF(I224=2,C224-F224/1000,IF(I224=3,(1-F224/100)*C224,\"\")))","v":66.92}," m",{"$f":"J224*1000","v":66920},"mm",{"$f":"IF(I224=1,C224+F224,IF(I224=2,C224+F224/1000,IF(I224=3,(1+F224/100)*C224,\"\")))","v":67.08},"  m",{"$f":"N224*1000","v":67080},"mm"]
[{"$f":"IF(COUNTIF($B$1:B225,TRUE)=COUNTIF($B$1:B224,TRUE),\"\",COUNTIF($B$1:B225,TRUE))","v":154},{"$f":"Worksheet!$B$15","v":true},{"$f":"RANDBETWEEN(5,20)","v":10},"hours","±",{"$f":"IF(I225=1,H225*10^RANDBETWEEN(IF(Worksheet!$D$9,-1,0),0),IF(I225=2,H225,CHOOSE(RANDBETWEEN(1,3),5,10,20)))","v":0.8},{"$f":"IF(I225=1,D225,IF(I225=3,\"%\",\"min\"))","v":"hours"},8,{"$f":"IF(AND(Worksheet!$D$8,RAND()<0),3,IF(RAND()<Worksheet!$D$7/100,1,2))","v":1},null," hours",{"$f":"IF(I225=1,C225-F225,IF(I225=2,C225*60-F225,\"\"))","v":9.1999999999999993},{"$f":"IF($I225=1,\" hours\",\" min\")","v":" hours"},null,"  hours",{"$f":"IF(I225=1,C225+F225,IF(I225=2,C225*60+F225,\"\"))","v":10.8},{"$f":"IF($I225=1,\" hours\",\" min\")","v":" hours"}]
[{"$f":"IF(COUNTIF($B$1:B226,TRUE)=COUNTIF($B$1:B225,TRUE),\"\",COUNTIF($B$1:B226,TRUE))","v":155},{"$f":"Worksheet!$D$11","v":true},{"$f":"RANDBETWEEN(5,RANDBETWEEN(5,Worksheet!$D$6))","v":69},"kg","±",{"$f":"IF(I226=1,H226*10^RANDBETWEEN(IF(Worksheet!$D$9,-1,0),0),IF(I226=2,H226*10^RANDBETWEEN(RANDBETWEEN(0,2),2),CHOOSE(RANDBETWEEN(1,3),5,10,20)))","v":9},{"$f":"IF(I226=1,D226,IF(I226=3,\"%\",\"g\"))","v":"kg"},9,{"$f":"IF(AND(Worksheet!$D$8,RAND()<0.2),3,IF(RAND()<Worksheet!$D$7/100,1,2))","v":1},{"$f":"IF(I226=1,C226-F226,IF(I226=2,C226-F226/1000,IF(I226=3,(1-F226/100)*C226,\"\")))","v":60}," kg",{"$f":"J226*1000","v":60000},"g",{"$f":"IF(I226=1,C226+F226,IF(I226=2,C226+F226/1000,IF(I226=3,(1+F226/100)*C226,\"\")))","v":78},"  kg",{"$f":"N226*1000","v":78000},"g"]
[{"$f":"IF(COUNTIF($B$1:B227,TRUE)=COUNTIF($B$1:B226,TRUE),\"\",COUNTIF($B$1:B227,TRUE))","v":156},{"$f":"Worksheet!$D$12","v":true},{"$f":"RANDBETWEEN(5,RANDBETWEEN(5,Worksheet!$D$6))","v":303},"tonnes","±",{"$f":"IF(I227=1,H227*10^RANDBETWEEN(IF(Worksheet!$D$9,-1,0),0),IF(I227=2,H227*10^RANDBETWEEN(RANDBETWEEN(0,2),2),CHOOSE(RANDBETWEEN(1,3),5,10,20)))","v":0.5},{"$f":"IF(I227=1,D227,IF(I227=3,\"%\",\"kg\"))","v":"tonnes"},5,{"$f":"IF(AND(Worksheet!$D$8,RAND()<0.2),3,IF(RAND()<Worksheet!$D$7/100,1,2))","v":1},{"$f":"IF(I227=1,C227-F227,IF(I227=2,C227-F227/1000,IF(I227=3,(1-F227/100)*C227,\"\")))","v":302.5}," tonnes",{"$f":"J227*1000","v":302500},"kg",{"$f":"IF(I227=1,C227+F227,IF(I227=2,C227+F227/1000,IF(I227=3,(1+F227/100)*C227,\"\")))","v":303.5},"  tonnes",{"$f":"N227*1000","v":303500},"kg"]
[{"$f":"IF(COUNTIF($B$1:B228,TRUE)=COUNTIF($B$1:B227,TRUE),\"\",COUNTIF($B$1:B228,TRUE))","v":157},{"$f":"Worksheet!$D$13","v":true},{"$f":"RANDBETWEEN(5,RANDBETWEEN(5,Worksheet!$D$6))","v":103},"litres","±",{"$f":"IF(I228=1,H228*10^RANDBETWEEN(IF(Worksheet!$D$9,-1,0),0),IF(I228=2,H228*10^RANDBETWEEN(RANDBETWEEN(0,2),2),CHOOSE(RANDBETWEEN(1,3),5,10,20)))","v":0.2},{"$f":"IF(I228=1,D228,IF(I228=3,\"%\",\"ml\"))","v":"litres"},2,{"$f":"IF(AND(Worksheet!$D$8,RAND()<0.2),3,IF(RAND()<Worksheet!$D$7/100,1,2))","v":1},{"$f":"IF(I228=1,C228-F228,IF(I228=2,C228-F228/1000,IF(I228=3,(1-F228/100)*C228,\"\")))","v":102.8}," litres",{"$f":"J228*1000","v":102800},"ml",{"$f":"IF(I228=1,C228+F228,IF(I228=2,C228+F228/1000,IF(I228=3,(1+F228/100)*C228,\"\")))","v":103.2},"  litres",{"$f":"N228*1000","v":103200},"ml"]
[{"$f":"IF(COUNTIF($B$1:B229,TRUE)=COUNTIF($B$1:B228,TRUE),\"\",COUNTIF($B$1:B229,TRUE))","v":158},{"$f":"Worksheet!$D$14","v":true},{"$f":"RANDBETWEEN(5,RANDBETWEEN(5,Worksheet!$D$6))","v":143},"litres","±",{"$f":"IF(I229=1,H229*10^RANDBETWEEN(IF(Worksheet!$D$9,-1,0),0),IF(I229=2,H229*10^RANDBETWEEN(RANDBETWEEN(0,2),2),CHOOSE(RANDBETWEEN(1,3),5,10,20)))","v":5},{"$f":"IF(I229=1,D229,IF(I229=3,\"%\",\"cm³\"))","v":"%"},4,{"$f":"IF(AND(Worksheet!$D$8,RAND()<0.2),3,IF(RAND()<Worksheet!$D$7/100,1,2))","v":3},{"$f":"IF(I229=1,C229-F229,IF(I229=2,C229-F229/1000,IF(I229=3,(1-F229/100)*C229,\"\")))","v":135.85}," litres",{"$f":"J229*1000","v":135850},"cm³",{"$f":"IF(I229=1,C229+F229,IF(I229=2,C229+F229/1000,IF(I229=3,(1+F229/100)*C229,\"\")))","v":150.15},"  litres",{"$f":"N229*1000","v":150150},"cm³"]
[{"$f":"IF(COUNTIF($B$1:B230,TRUE)=COUNTIF($B$1:B229,TRUE),\"\",COUNTIF($B$1:B230,TRUE))","v":""},{"$f":"Worksheet!$D$15","v":false},{"$f":"RANDBETWEEN(5,20)","v":14},"min","±",{"$f":"IF(I230=1,H230*10^RANDBETWEEN(IF(Worksheet!$D$9,-1,0),0),IF(I230=2,H230,CHOOSE(RANDBETWEEN(1,3),5,10,20)))","v":3},{"$f":"IF(I230=1,D230,IF(I230=3,\"%\",\"sec\"))","v":"min"},3,{"$f":"IF(AND(Worksheet!$D$8,RAND()<0),3,IF(RAND()<Worksheet!$D$7/100,1,2))","v":1},null," min",{"$f":"IF(I230=1,C230-F230,IF(I230=2,C230*60-F230,\"\"))","v":11},{"$f":"IF($I230=1,\" hours\",\" min\")","v":" hours"},null,"  min",{"$f":"IF(I230=1,C230+F230,IF(I230=2,C230*60+F230,\"\"))","v":17},{"$f":"IF($I230=1,\" hours\",\" min\")","v":" hours"}]
[{"$f":"COUNTIF($B$1:B231,TRUE)","v":159},{"$f":"Worksheet!$B$11","v":true},{"$f":"RANDBETWEEN(5,RANDBETWEEN(5,Worksheet!$D$6))","v":38},"cm","±",{"$f":"IF(I231=1,H231*10^RANDBETWEEN(IF(Worksheet!$D$9,-1,0),0),IF(I231=2,H231,CHOOSE(RANDBETWEEN(1,3),5,10,20)))","v":0.70000000000000007},{"$f":"IF(I231=1,D231,IF(I231=3,\"%\",\"mm\"))","v":"cm"},{"$f":"RANDBETWEEN(1,MIN(9,C231))","v":7},{"$f":"IF(AND(Worksheet!$D$8,RAND()<0.2),3,IF(RAND()<Worksheet!$D$7/100,1,2))","v":1},{"$f":"IF(I231=1,C231-F231,IF(I231=2,C231-F231/10,IF(I231=3,(1-F231/100)*C231,\"\")))","v":37.299999999999997},{"$f":"CONCATENATE(\" \",D231)","v":" cm"},{"$f":"J231*10","v":373},"mm",{"$f":"IF(I231=1,C231+F231,IF(I231=2,C231+F231/10,IF(I231=3,(1+F231/100)*C231,\"\")))","v":38.700000000000003},{"$f":"CONCATENATE(\" \",K231)","v":"  cm"},{"$f":"N231*10","v":387},"mm"]
[{"$f":"IF(COUNTIF($B$1:B232,TRUE)=COUNTIF($B$1:B231,TRUE),\"\",COUNTIF($B$1:B232,TRUE))","v":160},{"$f":"Worksheet!$B$12","v":true},{"$f":"RANDBETWEEN(5,RANDBETWEEN(5,Worksheet!$D$6))","v":96},"m","±",{"$f":"IF(I232=1,H232*10^RANDBETWEEN(IF(Worksheet!$D$9,-1,0),0),IF(I232=2,H232*10^RANDBETWEEN(RANDBETWEEN(0,1),1),CHOOSE(RANDBETWEEN(1,3),5,10,20)))","v":5},{"$f":"IF(I232=1,D232,IF(I232=3,\"%\",\"cm\"))","v":"%"},{"$f":"RANDBETWEEN(1,MIN(9,C232))","v":2},{"$f":"IF(AND(Worksheet!$D$8,RAND()<0.2),3,IF(RAND()<Worksheet!$D$7/100,1,2))","v":3},{"$f":"IF(I232=1,C232-F232,IF(I232=2,C232-F232/100,IF(I232=3,(1-F232/100)*C232,\"\")))","v":91.199999999999989},{"$f":"CONCATENATE(\" \",D232)","v":" m"},{"$f":"J232*100","v":9119.9999999999982},"cm",{"$f":"IF(I232=1,C232+F232,IF(I232=2,C232+F232/100,IF(I232=3,(1+F232/100)*C232,\"\")))","v":100.80000000000001},{"$f":"CONCATENATE(\" \",K232)","v":"  m"},{"$f":"N232*100","v":10080.000000000002},"cm"]
[{"$f":"IF(COUNTIF($B$1:B233,TRUE)=COUNTIF($B$1:B232,TRUE),\"\",COUNTIF($B$1:B233,TRUE))","v":161},{"$f":"Worksheet!$B$13","v":true},{"$f":"RANDBETWEEN(5,RANDBETWEEN(5,Worksheet!$D$6))","v":6},"km","±",{"$f":"IF(I233=1,H233*10^RANDBETWEEN(IF(Worksheet!$D$9,-1,0),0),IF(I233=2,H233*10^RANDBETWEEN(RANDBETWEEN(0,2),2),CHOOSE(RANDBETWEEN(1,3),5,10,20)))","v":20},{"$f":"IF(I233=1,D233,IF(I233=3,\"%\",\"m\"))","v":"%"},4,{"$f":"IF(AND(Worksheet!$D$8,RAND()<0.2),3,IF(RAND()<Worksheet!$D$7/100,1,2))","v":3},{"$f":"IF(I233=1,C233-F233,IF(I233=2,C233-F233/1000,IF(I233=3,(1-F233/100)*C233,\"\")))","v":4.8000000000000007}," km",{"$f":"J233*1000","v":4800.0000000000009},"m",{"$f":"IF(I233=1,C233+F233,IF(I233=2,C233+F233/1000,IF(I233=3,(1+F233/100)*C233,\"\")))","v":7.1999999999999993},"  km",{"$f":"N233*1000","v":7199.9999999999991},"m"]
[{"$f":"IF(COUNTIF($B$1:B234,TRUE)=COUNTIF($B$1:B233,TRUE),\"\",COUNTIF($B$1:B234,TRUE))","v":""},{"$f":"Worksheet!$B$14","v":false},{"$f":"RANDBETWEEN(5,RANDBETWEEN(5,Worksheet!$D$6))","v":34},"m","±",{"$f":"IF(I234=1,H234*10^RANDBETWEEN(IF(Worksheet!$D$9,-1,0),0),IF(I234=2,H234*10^RANDBETWEEN(RANDBETWEEN(0,2),2),CHOOSE(RANDBETWEEN(1,3),5,10,20)))","v":20},{"$f":"IF(I234=1,D234,IF(I234=3,\"%\",\"mm\"))","v":"%"},6,{"$f":"IF(AND(Worksheet!$D$8,RAND()<0.2),3,IF(RAND()<Worksheet!$D$7/100,1,2))","v":3},{"$f":"IF(I234=1,C234-F234,IF(I234=2,C234-F234/1000,IF(I234=3,(1-F234/100)*C234,\"\")))","v":27.200000000000003}," m",{"$f":"J234*1000","v":27200.000000000004},"mm",{"$f":"IF(I234=1,C234+F234,IF(I234=2,C234+F234/1000,IF(I234=3,(1+F234/100)*C234,\"\")))","v":40.799999999999997},"  m",{"$f":"N234*1000","v":40800},"mm"]
[{"$f":"IF(COUNTIF($B$1:B235,TRUE)=COUNTIF($B$1:B234,TRUE),\"\",COUNTIF($B$1:B235,TRUE))","v":162},{"$f":"Worksheet!$B$15","v":true},{"$f":"RANDBETWEEN(5,20)","v":20},"hours","±",{"$f":"IF(I235=1,H235*10^RANDBETWEEN(IF(Worksheet!$D$9,-1,0),0),IF(I235=2,H235,CHOOSE(RANDBETWEEN(1,3),5,10,20)))","v":5},{"$f":"IF(I235=1,D235,IF(I235=3,\"%\",\"min\"))","v":"min"},5,{"$f":"IF(AND(Worksheet!$D$8,RAND()<0),3,IF(RAND()<Worksheet!$D$7/100,1,2))","v":2},null," hours",{"$f":"IF(I235=1,C235-F235,IF(I235=2,C235*60-F235,\"\"))","v":1195},{"$f":"IF($I235=1,\" hours\",\" min\")","v":" min"},null,"  hours",{"$f":"IF(I235=1,C235+F235,IF(I235=2,C235*60+F235,\"\"))","v":1205},{"$f":"IF($I235=1,\" hours\",\" min\")","v":" min"}]
[{"$f":"IF(COUNTIF($B$1:B236,TRUE)=COUNTIF($B$1:B235,TRUE),\"\",COUNTIF($B$1:B236,TRUE))","v":163},{"$f":"Worksheet!$D$11","v":true},{"$f":"RANDBETWEEN(5,RANDBETWEEN(5,Worksheet!$D$6))","v":325},"kg","±",{"$f":"IF(I236=1,H236*10^RANDBETWEEN(IF(Worksheet!$D$9,-1,0),0),IF(I236=2,H236*10^RANDBETWEEN(RANDBETWEEN(0,2),2),CHOOSE(RANDBETWEEN(1,3),5,10,20)))","v":40},{"$f":"IF(I236=1,D236,IF(I236=3,\"%\",\"g\"))","v":"g"},4,{"$f":"IF(AND(Worksheet!$D$8,RAND()<0.2),3,IF(RAND()<Worksheet!$D$7/100,1,2))","v":2},{"$f":"IF(I236=1,C236-F236,IF(I236=2,C236-F236/1000,IF(I236=3,(1-F236/100)*C236,\"\")))","v":324.95999999999998}," kg",{"$f":"J236*1000","v":324960},"g",{"$f":"IF(I236=1,C236+F236,IF(I236=2,C236+F236/1000,IF(I236=3,(1+F236/100)*C236,\"\")))","v":325.04000000000002},"  kg",{"$f":"N236*1000","v":325040},"g"]
[{"$f":"IF(COUNTIF($B$1:B237,TRUE)=COUNTIF($B$1:B236,TRUE),\"\",COUNTIF($B$1:B237,TRUE))","v":164},{"$f":"Worksheet!$D$12","v":true},{"$f":"RANDBETWEEN(5,RANDBETWEEN(5,Worksheet!$D$6))","v":158},"tonnes","±",{"$f":"IF(I237=1,H237*10^RANDBETWEEN(IF(Worksheet!$D$9,-1,0),0),IF(I237=2,H237*10^RANDBETWEEN(RANDBETWEEN(0,2),2),CHOOSE(RANDBETWEEN(1,3),5,10,20)))","v":3},{"$f":"IF(I237=1,D237,IF(I237=3,\"%\",\"kg\"))","v":"tonnes"},3,{"$f":"IF(AND(Worksheet!$D$8,RAND()<0.2),3,IF(RAND()<Worksheet!$D$7/100,1,2))","v":1},{"$f":"IF(I237=1,C237-F237,IF(I237=2,C237-F237/1000,IF(I237=3,(1-F237/100)*C237,\"\")))","v":155}," tonnes",{"$f":"J237*1000","v":155000},"kg",{"$f":"IF(I237=1,C237+F237,IF(I237=2,C237+F237/1000,IF(I237=3,(1+F237/100)*C237,\"\")))","v":161},"  tonnes",{"$f":"N237*1000","v":161000},"kg"]
[{"$f":"IF(COUNTIF($B$1:B238,TRUE)=COUNTIF($B$1:B237,TRUE),\"\",COUNTIF($B$1:B238,TRUE))","v":165},{"$f":"Worksheet!$D$13","v":true},{"$f":"RANDBETWEEN(5,RANDBETWEEN(5,Worksheet!$D$6))","v":168},"litres","±",{"$f":"IF(I238=1,H238*10^RANDBETWEEN(IF(Worksheet!$D$9,-1,0),0),IF(I238=2,H238*10^RANDBETWEEN(RANDBETWEEN(0,2),2),CHOOSE(RANDBETWEEN(1,3),5,10,20)))","v":5},{"$f":"IF(I238=1,D238,IF(I238=3,\"%\",\"ml\"))","v":"%"},4,{"$f":"IF(AND(Worksheet!$D$8,RAND()<0.2),3,IF(RAND()<Worksheet!$D$7/100,1,2))","v":3},{"$f":"IF(I238=1,C238-F238,IF(I238=2,C238-F238/1000,IF(I238=3,(1-F238/100)*C238,\"\")))","v":159.6}," litres",{"$f":"J238*1000","v":159600},"ml",{"$f":"IF(I238=1,C238+F238,IF(I238=2,C238+F238/1000,IF(I238=3,(1+F238/100)*C238,\"\")))","v":176.4},"  litres",{"$f":"N238*1000","v":176400},"ml"]
[{"$f":"IF(COUNTIF($B$1:B239,TRUE)=COUNTIF($B$1:B238,TRUE),\"\",COUNTIF($B$1:B239,TRUE))","v":166},{"$f":"Worksheet!$D$14","v":true},{"$f":"RANDBETWEEN(5,RANDBETWEEN(5,Worksheet!$D$6))","v":256},"litres","±",{"$f":"IF(I239=1,H239*10^RANDBETWEEN(IF(Worksheet!$D$9,-1,0),0),IF(I239=2,H239*10^RANDBETWEEN(RANDBETWEEN(0,2),2),CHOOSE(RANDBETWEEN(1,3),5,10,20)))","v":0.2},{"$f":"IF(I239=1,D239,IF(I239=3,\"%\",\"cm³\"))","v":"litres"},2,{"$f":"IF(AND(Worksheet!$D$8,RAND()<0.2),3,IF(RAND()<Worksheet!$D$7/100,1,2))","v":1},{"$f":"IF(I239=1,C239-F239,IF(I239=2,C239-F239/1000,IF(I239=3,(1-F239/100)*C239,\"\")))","v":255.8}," litres",{"$f":"J239*1000","v":255800},"cm³",{"$f":"IF(I239=1,C239+F239,IF(I239=2,C239+F239/1000,IF(I239=3,(1+F239/100)*C239,\"\")))","v":256.2},"  litres",{"$f":"N239*1000","v":256200},"cm³"]
[{"$f":"IF(COUNTIF($B$1:B240,TRUE)=COUNTIF($B$1:B239,TRUE),\"\",COUNTIF($B$1:B240,TRUE))","v":""},{"$f":"Worksheet!$D$15","v":false},{"$f":"RANDBETWEEN(5,20)","v":15},"min","±",{"$f":"IF(I240=1,H240*10^RANDBETWEEN(IF(Worksheet!$D$9,-1,0),0),IF(I240=2,H240,CHOOSE(RANDBETWEEN(1,3),5,10,20)))","v":4},{"$f":"IF(I240=1,D240,IF(I240=3,\"%\",\"sec\"))","v":"min"},4,{"$f":"IF(AND(Worksheet!$D$8,RAND()<0),3,IF(RAND()<Worksheet!$D$7/100,1,2))","v":1},null," min",{"$f":"IF(I240=1,C240-F240,IF(I240=2,C240*60-F240,\"\"))","v":11},{"$f":"IF($I240=1,\" hours\",\" min\")","v":" hours"},null,"  min",{"$f":"IF(I240=1,C240+F240,IF(I240=2,C240*60+F240,\"\"))","v":19},{"$f":"IF($I240=1,\" hours\",\" min\")","v":" hours"}]
[{"$f":"COUNTIF($B$1:B241,TRUE)","v":167},{"$f":"Worksheet!$B$11","v":true},{"$f":"RANDBETWEEN(5,RANDBETWEEN(5,Worksheet!$D$6))","v":282},"cm","±",{"$f":"IF(I241=1,H241*10^RANDBETWEEN(IF(Worksheet!$D$9,-1,0),0),IF(I241=2,H241,CHOOSE(RANDBETWEEN(1,3),5,10,20)))","v":0.60000000000000009},{"$f":"IF(I241=1,D241,IF(I241=3,\"%\",\"mm\"))","v":"cm"},{"$f":"RANDBETWEEN(1,MIN(9,C241))","v":6},{"$f":"IF(AND(Worksheet!$D$8,RAND()<0.2),3,IF(RAND()<Worksheet!$D$7/100,1,2))","v":1},{"$f":"IF(I241=1,C241-F241,IF(I241=2,C241-F241/10,IF(I241=3,(1-F241/100)*C241,\"\")))","v":281.39999999999998},{"$f":"CONCATENATE(\" \",D241)","v":" cm"},{"$f":"J241*10","v":2814},"mm",{"$f":"IF(I241=1,C241+F241,IF(I241=2,C241+F241/10,IF(I241=3,(1+F241/100)*C241,\"\")))","v":282.60000000000002},{"$f":"CONCATENATE(\" \",K241)","v":"  cm"},{"$f":"N241*10","v":2826},"mm"]
[{"$f":"IF(COUNTIF($B$1:B242,TRUE)=COUNTIF($B$1:B241,TRUE),\"\",COUNTIF($B$1:B242,TRUE))","v":168},{"$f":"Worksheet!$B$12","v":true},{"$f":"RANDBETWEEN(5,RANDBETWEEN(5,Worksheet!$D$6))","v":74},"m","±",{"$f":"IF(I242=1,H242*10^RANDBETWEEN(IF(Worksheet!$D$9,-1,0),0),IF(I242=2,H242*10^RANDBETWEEN(RANDBETWEEN(0,1),1),CHOOSE(RANDBETWEEN(1,3),5,10,20)))","v":5},{"$f":"IF(I242=1,D242,IF(I242=3,\"%\",\"cm\"))","v":"%"},{"$f":"RANDBETWEEN(1,MIN(9,C242))","v":8},{"$f":"IF(AND(Worksheet!$D$8,RAND()<0.2),3,IF(RAND()<Worksheet!$D$7/100,1,2))","v":3},{"$f":"IF(I242=1,C242-F242,IF(I242=2,C242-F242/100,IF(I242=3,(1-F242/100)*C242,\"\")))","v":70.3},{"$f":"CONCATENATE(\" \",D242)","v":" m"},{"$f":"J242*100","v":7030},"cm",{"$f":"IF(I242=1,C242+F242,IF(I242=2,C242+F242/100,IF(I242=3,(1+F242/100)*C242,\"\")))","v":77.7},{"$f":"CONCATENATE(\" \",K242)","v":"  m"},{"$f":"N242*100","v":7770},"cm"]
[{"$f":"IF(COUNTIF($B$1:B243,TRUE)=COUNTIF($B$1:B242,TRUE),\"\",COUNTIF($B$1:B243,TRUE))","v":169},{"$f":"Worksheet!$B$13","v":true},{"$f":"RANDBETWEEN(5,RANDBETWEEN(5,Worksheet!$D$6))","v":27},"km","±",{"$f":"IF(I243=1,H243*10^RANDBETWEEN(IF(Worksheet!$D$9,-1,0),0),IF(I243=2,H243*10^RANDBETWEEN(RANDBETWEEN(0,2),2),CHOOSE(RANDBETWEEN(1,3),5,10,20)))","v":3},{"$f":"IF(I243=1,D243,IF(I243=3,\"%\",\"m\"))","v":"km"},3,{"$f":"IF(AND(Worksheet!$D$8,RAND()<0.2),3,IF(RAND()<Worksheet!$D$7/100,1,2))","v":1},{"$f":"IF(I243=1,C243-F243,IF(I243=2,C243-F243/1000,IF(I243=3,(1-F243/100)*C243,\"\")))","v":24}," km",{"$f":"J243*1000","v":24000},"m",{"$f":"IF(I243=1,C243+F243,IF(I243=2,C243+F243/1000,IF(I243=3,(1+F243/100)*C243,\"\")))","v":30},"  km",{"$f":"N243*1000","v":30000},"m"]
[{"$f":"IF(COUNTIF($B$1:B244,TRUE)=COUNTIF($B$1:B243,TRUE),\"\",COUNTIF($B$1:B244,TRUE))","v":""},{"$f":"Worksheet!$B$14","v":false},{"$f":"RANDBETWEEN(5,RANDBETWEEN(5,Worksheet!$D$6))","v":21},"m","±",{"$f":"IF(I244=1,H244*10^RANDBETWEEN(IF(Worksheet!$D$9,-1,0),0),IF(I244=2,H244*10^RANDBETWEEN(RANDBETWEEN(0,2),2),CHOOSE(RANDBETWEEN(1,3),5,10,20)))","v":500},{"$f":"IF(I244=1,D244,IF(I244=3,\"%\",\"mm\"))","v":"mm"},5,{"$f":"IF(AND(Worksheet!$D$8,RAND()<0.2),3,IF(RAND()<Worksheet!$D$7/100,1,2))","v":2},{"$f":"IF(I244=1,C244-F244,IF(I244=2,C244-F244/1000,IF(I244=3,(1-F244/100)*C244,\"\")))","v":20.5}," m",{"$f":"J244*1000","v":20500},"mm",{"$f":"IF(I244=1,C244+F244,IF(I244=2,C244+F244/1000,IF(I244=3,(1+F244/100)*C244,\"\")))","v":21.5},"  m",{"$f":"N244*1000","v":21500},"mm"]
[{"$f":"IF(COUNTIF($B$1:B245,TRUE)=COUNTIF($B$1:B244,TRUE),\"\",COUNTIF($B$1:B245,TRUE))","v":170},{"$f":"Worksheet!$B$15","v":true},{"$f":"RANDBETWEEN(5,20)","v":20},"hours","±",{"$f":"IF(I245=1,H245*10^RANDBETWEEN(IF(Worksheet!$D$9,-1,0),0),IF(I245=2,H245,CHOOSE(RANDBETWEEN(1,3),5,10,20)))","v":3},{"$f":"IF(I245=1,D245,IF(I245=3,\"%\",\"min\"))","v":"hours"},3,{"$f":"IF(AND(Worksheet!$D$8,RAND()<0),3,IF(RAND()<Worksheet!$D$7/100,1,2))","v":1},null," hours",{"$f":"IF(I245=1,C245-F245,IF(I245=2,C245*60-F245,\"\"))","v":17},{"$f":"IF($I245=1,\" hours\",\" min\")","v":" hours"},null,"  hours",{"$f":"IF(I245=1,C245+F245,IF(I245=2,C245*60+F245,\"\"))","v":23},{"$f":"IF($I245=1,\" hours\",\" min\")","v":" hours"}]
[{"$f":"IF(COUNTIF($B$1:B246,TRUE)=COUNTIF($B$1:B245,TRUE),\"\",COUNTIF($B$1:B246,TRUE))","v":171},{"$f":"Worksheet!$D$11","v":true},{"$f":"RANDBETWEEN(5,RANDBETWEEN(5,Worksheet!$D$6))","v":11},"kg","±",{"$f":"IF(I246=1,H246*10^RANDBETWEEN(IF(Worksheet!$D$9,-1,0),0),IF(I246=2,H246*10^RANDBETWEEN(RANDBETWEEN(0,2),2),CHOOSE(RANDBETWEEN(1,3),5,10,20)))","v":500},{"$f":"IF(I246=1,D246,IF(I246=3,\"%\",\"g\"))","v":"g"},5,{"$f":"IF(AND(Worksheet!$D$8,RAND()<0.2),3,IF(RAND()<Worksheet!$D$7/100,1,2))","v":2},{"$f":"IF(I246=1,C246-F246,IF(I246=2,C246-F246/1000,IF(I246=3,(1-F246/100)*C246,\"\")))","v":10.5}," kg",{"$f":"J246*1000","v":10500},"g",{"$f":"IF(I246=1,C246+F246,IF(I246=2,C246+F246/1000,IF(I246=3,(1+F246/100)*C246,\"\")))","v":11.5},"  kg",{"$f":"N246*1000","v":11500},"g"]
[{"$f":"IF(COUNTIF($B$1:B247,TRUE)=COUNTIF($B$1:B246,TRUE),\"\",COUNTIF($B$1:B247,TRUE))","v":172},{"$f":"Worksheet!$D$12","v":true},{"$f":"RANDBETWEEN(5,RANDBETWEEN(5,Worksheet!$D$6))","v":53},"tonnes","±",{"$f":"IF(I247=1,H247*10^RANDBETWEEN(IF(Worksheet!$D$9,-1,0),0),IF(I247=2,H247*10^RANDBETWEEN(RANDBETWEEN(0,2),2),CHOOSE(RANDBETWEEN(1,3),5,10,20)))","v":5},{"$f":"IF(I247=1,D247,IF(I247=3,\"%\",\"kg\"))","v":"%"},1,{"$f":"IF(AND(Worksheet!$D$8,RAND()<0.2),3,IF(RAND()<Worksheet!$D$7/100,1,2))","v":3},{"$f":"IF(I247=1,C247-F247,IF(I247=2,C247-F247/1000,IF(I247=3,(1-F247/100)*C247,\"\")))","v":50.349999999999994}," tonnes",{"$f":"J247*1000","v":50349.999999999993},"kg",{"$f":"IF(I247=1,C247+F247,IF(I247=2,C247+F247/1000,IF(I247=3,(1+F247/100)*C247,\"\")))","v":55.650000000000006},"  tonnes",{"$f":"N247*1000","v":55650.000000000007},"kg"]
[{"$f":"IF(COUNTIF($B$1:B248,TRUE)=COUNTIF($B$1:B247,TRUE),\"\",COUNTIF($B$1:B248,TRUE))","v":173},{"$f":"Worksheet!$D$13","v":true},{"$f":"RANDBETWEEN(5,RANDBETWEEN(5,Worksheet!$D$6))","v":129},"litres","±",{"$f":"IF(I248=1,H248*10^RANDBETWEEN(IF(Worksheet!$D$9,-1,0),0),IF(I248=2,H248*10^RANDBETWEEN(RANDBETWEEN(0,2),2),CHOOSE(RANDBETWEEN(1,3),5,10,20)))","v":9},{"$f":"IF(I248=1,D248,IF(I248=3,\"%\",\"ml\"))","v":"litres"},9,{"$f":"IF(AND(Worksheet!$D$8,RAND()<0.2),3,IF(RAND()<Worksheet!$D$7/100,1,2))","v":1},{"$f":"IF(I248=1,C248-F248,IF(I248=2,C248-F248/1000,IF(I248=3,(1-F248/100)*C248,\"\")))","v":120}," litres",{"$f":"J248*1000","v":120000},"ml",{"$f":"IF(I248=1,C248+F248,IF(I248=2,C248+F248/1000,IF(I248=3,(1+F248/100)*C248,\"\")))","v":138},"  litres",{"$f":"N248*1000","v":138000},"ml"]
[{"$f":"IF(COUNTIF($B$1:B249,TRUE)=COUNTIF($B$1:B248,TRUE),\"\",COUNTIF($B$1:B249,TRUE))","v":174},{"$f":"Worksheet!$D$14","v":true},{"$f":"RANDBETWEEN(5,RANDBETWEEN(5,Worksheet!$D$6))","v":29},"litres","±",{"$f":"IF(I249=1,H249*10^RANDBETWEEN(IF(Worksheet!$D$9,-1,0),0),IF(I249=2,H249*10^RANDBETWEEN(RANDBETWEEN(0,2),2),CHOOSE(RANDBETWEEN(1,3),5,10,20)))","v":600},{"$f":"IF(I249=1,D249,IF(I249=3,\"%\",\"cm³\"))","v":"cm³"},6,{"$f":"IF(AND(Worksheet!$D$8,RAND()<0.2),3,IF(RAND()<Worksheet!$D$7/100,1,2))","v":2},{"$f":"IF(I249=1,C249-F249,IF(I249=2,C249-F249/1000,IF(I249=3,(1-F249/100)*C249,\"\")))","v":28.4}," litres",{"$f":"J249*1000","v":28400},"cm³",{"$f":"IF(I249=1,C249+F249,IF(I249=2,C249+F249/1000,IF(I249=3,(1+F249/100)*C249,\"\")))","v":29.6},"  litres",{"$f":"N249*1000","v":29600},"cm³"]
[{"$f":"IF(COUNTIF($B$1:B250,TRUE)=COUNTIF($B$1:B249,TRUE),\"\",COUNTIF($B$1:B250,TRUE))","v":""},{"$f":"Worksheet!$D$15","v":false},{"$f":"RANDBETWEEN(5,20)","v":13},"min","±",{"$f":"IF(I250=1,H250*10^RANDBETWEEN(IF(Worksheet!$D$9,-1,0),0),IF(I250=2,H250,CHOOSE(RANDBETWEEN(1,3),5,10,20)))","v":8},{"$f":"IF(I250=1,D250,IF(I250=3,\"%\",\"sec\"))","v":"sec"},8,{"$f":"IF(AND(Worksheet!$D$8,RAND()<0),3,IF(RAND()<Worksheet!$D$7/100,1,2))","v":2},null," min",{"$f":"IF(I250=1,C250-F250,IF(I250=2,C250*60-F250,\"\"))","v":772},{"$f":"IF($I250=1,\" hours\",\" min\")","v":" min"},null,"  min",{"$f":"IF(I250=1,C250+F250,IF(I250=2,C250*60+F250,\"\"))","v":788},{"$f":"IF($I250=1,\" hours\",\" min\")","v":" min"}]
[{"$f":"COUNTIF($B$1:B251,TRUE)","v":175},{"$f":"Worksheet!$B$11","v":true},{"$f":"RANDBETWEEN(5,RANDBETWEEN(5,Worksheet!$D$6))","v":90},"cm","±",{"$f":"IF(I251=1,H251*10^RANDBETWEEN(IF(Worksheet!$D$9,-1,0),0),IF(I251=2,H251,CHOOSE(RANDBETWEEN(1,3),5,10,20)))","v":20},{"$f":"IF(I251=1,D251,IF(I251=3,\"%\",\"mm\"))","v":"%"},{"$f":"RANDBETWEEN(1,MIN(9,C251))","v":5},{"$f":"IF(AND(Worksheet!$D$8,RAND()<0.2),3,IF(RAND()<Worksheet!$D$7/100,1,2))","v":3},{"$f":"IF(I251=1,C251-F251,IF(I251=2,C251-F251/10,IF(I251=3,(1-F251/100)*C251,\"\")))","v":72},{"$f":"CONCATENATE(\" \",D251)","v":" cm"},{"$f":"J251*10","v":720},"mm",{"$f":"IF(I251=1,C251+F251,IF(I251=2,C251+F251/10,IF(I251=3,(1+F251/100)*C251,\"\")))","v":108},{"$f":"CONCATENATE(\" \",K251)","v":"  cm"},{"$f":"N251*10","v":1080},"mm"]
[{"$f":"IF(COUNTIF($B$1:B252,TRUE)=COUNTIF($B$1:B251,TRUE),\"\",COUNTIF($B$1:B252,TRUE))","v":176},{"$f":"Worksheet!$B$12","v":true},{"$f":"RANDBETWEEN(5,RANDBETWEEN(5,Worksheet!$D$6))","v":30},"m","±",{"$f":"IF(I252=1,H252*10^RANDBETWEEN(IF(Worksheet!$D$9,-1,0),0),IF(I252=2,H252*10^RANDBETWEEN(RANDBETWEEN(0,1),1),CHOOSE(RANDBETWEEN(1,3),5,10,20)))","v":5},{"$f":"IF(I252=1,D252,IF(I252=3,\"%\",\"cm\"))","v":"%"},{"$f":"RANDBETWEEN(1,MIN(9,C252))","v":8},{"$f":"IF(AND(Worksheet!$D$8,RAND()<0.2),3,IF(RAND()<Worksheet!$D$7/100,1,2))","v":3},{"$f":"IF(I252=1,C252-F252,IF(I252=2,C252-F252/100,IF(I252=3,(1-F252/100)*C252,\"\")))","v":28.5},{"$f":"CONCATENATE(\" \",D252)","v":" m"},{"$f":"J252*100","v":2850},"cm",{"$f":"IF(I252=1,C252+F252,IF(I252=2,C252+F252/100,IF(I252=3,(1+F252/100)*C252,\"\")))","v":31.5},{"$f":"CONCATENATE(\" \",K252)","v":"  m"},{"$f":"N252*100","v":3150},"cm"]
[{"$f":"IF(COUNTIF($B$1:B253,TRUE)=COUNTIF($B$1:B252,TRUE),\"\",COUNTIF($B$1:B253,TRUE))","v":177},{"$f":"Worksheet!$B$13","v":true},{"$f":"RANDBETWEEN(5,RANDBETWEEN(5,Worksheet!$D$6))","v":83},"km","±",{"$f":"IF(I253=1,H253*10^RANDBETWEEN(IF(Worksheet!$D$9,-1,0),0),IF(I253=2,H253*10^RANDBETWEEN(RANDBETWEEN(0,2),2),CHOOSE(RANDBETWEEN(1,3),5,10,20)))","v":10},{"$f":"IF(I253=1,D253,IF(I253=3,\"%\",\"m\"))","v":"%"},7,{"$f":"IF(AND(Worksheet!$D$8,RAND()<0.2),3,IF(RAND()<Worksheet!$D$7/100,1,2))","v":3},{"$f":"IF(I253=1,C253-F253,IF(I253=2,C253-F253/1000,IF(I253=3,(1-F253/100)*C253,\"\")))","v":74.7}," km",{"$f":"J253*1000","v":74700},"m",{"$f":"IF(I253=1,C253+F253,IF(I253=2,C253+F253/1000,IF(I253=3,(1+F253/100)*C253,\"\")))","v":91.300000000000011},"  km",{"$f":"N253*1000","v":91300.000000000015},"m"]
[{"$f":"IF(COUNTIF($B$1:B254,TRUE)=COUNTIF($B$1:B253,TRUE),\"\",COUNTIF($B$1:B254,TRUE))","v":""},{"$f":"Worksheet!$B$14","v":false},{"$f":"RANDBETWEEN(5,RANDBETWEEN(5,Worksheet!$D$6))","v":55},"m","±",{"$f":"IF(I254=1,H254*10^RANDBETWEEN(IF(Worksheet!$D$9,-1,0),0),IF(I254=2,H254*10^RANDBETWEEN(RANDBETWEEN(0,2),2),CHOOSE(RANDBETWEEN(1,3),5,10,20)))","v":20},{"$f":"IF(I254=1,D254,IF(I254=3,\"%\",\"mm\"))","v":"%"},5,{"$f":"IF(AND(Worksheet!$D$8,RAND()<0.2),3,IF(RAND()<Worksheet!$D$7/100,1,2))","v":3},{"$f":"IF(I254=1,C254-F254,IF(I254=2,C254-F254/1000,IF(I254=3,(1-F254/100)*C254,\"\")))","v":44}," m",{"$f":"J254*1000","v":44000},"mm",{"$f":"IF(I254=1,C254+F254,IF(I254=2,C254+F254/1000,IF(I254=3,(1+F254/100)*C254,\"\")))","v":66},"  m",{"$f":"N254*1000","v":66000},"mm"]
[{"$f":"IF(COUNTIF($B$1:B255,TRUE)=COUNTIF($B$1:B254,TRUE),\"\",COUNTIF($B$1:B255,TRUE))","v":178},{"$f":"Worksheet!$B$15","v":true},{"$f":"RANDBETWEEN(5,20)","v":6},"hours","±",{"$f":"IF(I255=1,H255*10^RANDBETWEEN(IF(Worksheet!$D$9,-1,0),0),IF(I255=2,H255,CHOOSE(RANDBETWEEN(1,3),5,10,20)))","v":0.4},{"$f":"IF(I255=1,D255,IF(I255=3,\"%\",\"min\"))","v":"hours"},4,{"$f":"IF(AND(Worksheet!$D$8,RAND()<0),3,IF(RAND()<Worksheet!$D$7/100,1,2))","v":1},null," hours",{"$f":"IF(I255=1,C255-F255,IF(I255=2,C255*60-F255,\"\"))","v":5.6},{"$f":"IF($I255=1,\" hours\",\" min\")","v":" hours"},null,"  hours",{"$f":"IF(I255=1,C255+F255,IF(I255=2,C255*60+F255,\"\"))","v":6.4},{"$f":"IF($I255=1,\" hours\",\" min\")","v":" hours"}]
[{"$f":"IF(COUNTIF($B$1:B256,TRUE)=COUNTIF($B$1:B255,TRUE),\"\",COUNTIF($B$1:B256,TRUE))","v":179},{"$f":"Worksheet!$D$11","v":true},{"$f":"RANDBETWEEN(5,RANDBETWEEN(5,Worksheet!$D$6))","v":131},"kg","±",{"$f":"IF(I256=1,H256*10^RANDBETWEEN(IF(Worksheet!$D$9,-1,0),0),IF(I256=2,H256*10^RANDBETWEEN(RANDBETWEEN(0,2),2),CHOOSE(RANDBETWEEN(1,3),5,10,20)))","v":5},{"$f":"IF(I256=1,D256,IF(I256=3,\"%\",\"g\"))","v":"%"},8,{"$f":"IF(AND(Worksheet!$D$8,RAND()<0.2),3,IF(RAND()<Worksheet!$D$7/100,1,2))","v":3},{"$f":"IF(I256=1,C256-F256,IF(I256=2,C256-F256/1000,IF(I256=3,(1-F256/100)*C256,\"\")))","v":124.44999999999999}," kg",{"$f":"J256*1000","v":124449.99999999999},"g",{"$f":"IF(I256=1,C256+F256,IF(I256=2,C256+F256/1000,IF(I256=3,(1+F256/100)*C256,\"\")))","v":137.55000000000001},"  kg",{"$f":"N256*1000","v":137550},"g"]
[{"$f":"IF(COUNTIF($B$1:B257,TRUE)=COUNTIF($B$1:B256,TRUE),\"\",COUNTIF($B$1:B257,TRUE))","v":180},{"$f":"Worksheet!$D$12","v":true},{"$f":"RANDBETWEEN(5,RANDBETWEEN(5,Worksheet!$D$6))","v":187},"tonnes","±",{"$f":"IF(I257=1,H257*10^RANDBETWEEN(IF(Worksheet!$D$9,-1,0),0),IF(I257=2,H257*10^RANDBETWEEN(RANDBETWEEN(0,2),2),CHOOSE(RANDBETWEEN(1,3),5,10,20)))","v":0.5},{"$f":"IF(I257=1,D257,IF(I257=3,\"%\",\"kg\"))","v":"tonnes"},5,{"$f":"IF(AND(Worksheet!$D$8,RAND()<0.2),3,IF(RAND()<Worksheet!$D$7/100,1,2))","v":1},{"$f":"IF(I257=1,C257-F257,IF(I257=2,C257-F257/1000,IF(I257=3,(1-F257/100)*C257,\"\")))","v":186.5}," tonnes",{"$f":"J257*1000","v":186500},"kg",{"$f":"IF(I257=1,C257+F257,IF(I257=2,C257+F257/1000,IF(I257=3,(1+F257/100)*C257,\"\")))","v":187.5},"  tonnes",{"$f":"N257*1000","v":187500},"kg"]
[{"$f":"IF(COUNTIF($B$1:B258,TRUE)=COUNTIF($B$1:B257,TRUE),\"\",COUNTIF($B$1:B258,TRUE))","v":181},{"$f":"Worksheet!$D$13","v":true},{"$f":"RANDBETWEEN(5,RANDBETWEEN(5,Worksheet!$D$6))","v":189},"litres","±",{"$f":"IF(I258=1,H258*10^RANDBETWEEN(IF(Worksheet!$D$9,-1,0),0),IF(I258=2,H258*10^RANDBETWEEN(RANDBETWEEN(0,2),2),CHOOSE(RANDBETWEEN(1,3),5,10,20)))","v":0.2},{"$f":"IF(I258=1,D258,IF(I258=3,\"%\",\"ml\"))","v":"litres"},2,{"$f":"IF(AND(Worksheet!$D$8,RAND()<0.2),3,IF(RAND()<Worksheet!$D$7/100,1,2))","v":1},{"$f":"IF(I258=1,C258-F258,IF(I258=2,C258-F258/1000,IF(I258=3,(1-F258/100)*C258,\"\")))","v":188.8}," litres",{"$f":"J258*1000","v":188800},"ml",{"$f":"IF(I258=1,C258+F258,IF(I258=2,C258+F258/1000,IF(I258=3,(1+F258/100)*C258,\"\")))","v":189.2},"  litres",{"$f":"N258*1000","v":189200},"ml"]
[{"$f":"IF(COUNTIF($B$1:B259,TRUE)=COUNTIF($B$1:B258,TRUE),\"\",COUNTIF($B$1:B259,TRUE))","v":182},{"$f":"Worksheet!$D$14","v":true},{"$f":"RANDBETWEEN(5,RANDBETWEEN(5,Worksheet!$D$6))","v":106},"litres","±",{"$f":"IF(I259=1,H259*10^RANDBETWEEN(IF(Worksheet!$D$9,-1,0),0),IF(I259=2,H259*10^RANDBETWEEN(RANDBETWEEN(0,2),2),CHOOSE(RANDBETWEEN(1,3),5,10,20)))","v":4},{"$f":"IF(I259=1,D259,IF(I259=3,\"%\",\"cm³\"))","v":"litres"},4,{"$f":"IF(AND(Worksheet!$D$8,RAND()<0.2),3,IF(RAND()<Worksheet!$D$7/100,1,2))","v":1},{"$f":"IF(I259=1,C259-F259,IF(I259=2,C259-F259/1000,IF(I259=3,(1-F259/100)*C259,\"\")))","v":102}," litres",{"$f":"J259*1000","v":102000},"cm³",{"$f":"IF(I259=1,C259+F259,IF(I259=2,C259+F259/1000,IF(I259=3,(1+F259/100)*C259,\"\")))","v":110},"  litres",{"$f":"N259*1000","v":110000},"cm³"]
[{"$f":"IF(COUNTIF($B$1:B260,TRUE)=COUNTIF($B$1:B259,TRUE),\"\",COUNTIF($B$1:B260,TRUE))","v":""},{"$f":"Worksheet!$D$15","v":false},{"$f":"RANDBETWEEN(5,20)","v":18},"min","±",{"$f":"IF(I260=1,H260*10^RANDBETWEEN(IF(Worksheet!$D$9,-1,0),0),IF(I260=2,H260,CHOOSE(RANDBETWEEN(1,3),5,10,20)))","v":0.30000000000000004},{"$f":"IF(I260=1,D260,IF(I260=3,\"%\",\"sec\"))","v":"min"},3,{"$f":"IF(AND(Worksheet!$D$8,RAND()<0),3,IF(RAND()<Worksheet!$D$7/100,1,2))","v":1},null," min",{"$f":"IF(I260=1,C260-F260,IF(I260=2,C260*60-F260,\"\"))","v":17.7},{"$f":"IF($I260=1,\" hours\",\" min\")","v":" hours"},null,"  min",{"$f":"IF(I260=1,C260+F260,IF(I260=2,C260*60+F260,\"\"))","v":18.3},{"$f":"IF($I260=1,\" hours\",\" min\")","v":" hours"}]
[{"$f":"COUNTIF($B$1:B261,TRUE)","v":183},{"$f":"Worksheet!$B$11","v":true},{"$f":"RANDBETWEEN(5,RANDBETWEEN(5,Worksheet!$D$6))","v":241},"cm","±",{"$f":"IF(I261=1,H261*10^RANDBETWEEN(IF(Worksheet!$D$9,-1,0),0),IF(I261=2,H261,CHOOSE(RANDBETWEEN(1,3),5,10,20)))","v":20},{"$f":"IF(I261=1,D261,IF(I261=3,\"%\",\"mm\"))","v":"%"},{"$f":"RANDBETWEEN(1,MIN(9,C261))","v":3},{"$f":"IF(AND(Worksheet!$D$8,RAND()<0.2),3,IF(RAND()<Worksheet!$D$7/100,1,2))","v":3},{"$f":"IF(I261=1,C261-F261,IF(I261=2,C261-F261/10,IF(I261=3,(1-F261/100)*C261,\"\")))","v":192.8},{"$f":"CONCATENATE(\" \",D261)","v":" cm"},{"$f":"J261*10","v":1928},"mm",{"$f":"IF(I261=1,C261+F261,IF(I261=2,C261+F261/10,IF(I261=3,(1+F261/100)*C261,\"\")))","v":289.2},{"$f":"CONCATENATE(\" \",K261)","v":"  cm"},{"$f":"N261*10","v":2892},"mm"]
[{"$f":"IF(COUNTIF($B$1:B262,TRUE)=COUNTIF($B$1:B261,TRUE),\"\",COUNTIF($B$1:B262,TRUE))","v":184},{"$f":"Worksheet!$B$12","v":true},{"$f":"RANDBETWEEN(5,RANDBETWEEN(5,Worksheet!$D$6))","v":214},"m","±",{"$f":"IF(I262=1,H262*10^RANDBETWEEN(IF(Worksheet!$D$9,-1,0),0),IF(I262=2,H262*10^RANDBETWEEN(RANDBETWEEN(0,1),1),CHOOSE(RANDBETWEEN(1,3),5,10,20)))","v":2},{"$f":"IF(I262=1,D262,IF(I262=3,\"%\",\"cm\"))","v":"m"},{"$f":"RANDBETWEEN(1,MIN(9,C262))","v":2},{"$f":"IF(AND(Worksheet!$D$8,RAND()<0.2),3,IF(RAND()<Worksheet!$D$7/100,1,2))","v":1},{"$f":"IF(I262=1,C262-F262,IF(I262=2,C262-F262/100,IF(I262=3,(1-F262/100)*C262,\"\")))","v":212},{"$f":"CONCATENATE(\" \",D262)","v":" m"},{"$f":"J262*100","v":21200},"cm",{"$f":"IF(I262=1,C262+F262,IF(I262=2,C262+F262/100,IF(I262=3,(1+F262/100)*C262,\"\")))","v":216},{"$f":"CONCATENATE(\" \",K262)","v":"  m"},{"$f":"N262*100","v":21600},"cm"]
[{"$f":"IF(COUNTIF($B$1:B263,TRUE)=COUNTIF($B$1:B262,TRUE),\"\",COUNTIF($B$1:B263,TRUE))","v":185},{"$f":"Worksheet!$B$13","v":true},{"$f":"RANDBETWEEN(5,RANDBETWEEN(5,Worksheet!$D$6))","v":22},"km","±",{"$f":"IF(I263=1,H263*10^RANDBETWEEN(IF(Worksheet!$D$9,-1,0),0),IF(I263=2,H263*10^RANDBETWEEN(RANDBETWEEN(0,2),2),CHOOSE(RANDBETWEEN(1,3),5,10,20)))","v":20},{"$f":"IF(I263=1,D263,IF(I263=3,\"%\",\"m\"))","v":"%"},7,{"$f":"IF(AND(Worksheet!$D$8,RAND()<0.2),3,IF(RAND()<Worksheet!$D$7/100,1,2))","v":3},{"$f":"IF(I263=1,C263-F263,IF(I263=2,C263-F263/1000,IF(I263=3,(1-F263/100)*C263,\"\")))","v":17.600000000000001}," km",{"$f":"J263*1000","v":17600},"m",{"$f":"IF(I263=1,C263+F263,IF(I263=2,C263+F263/1000,IF(I263=3,(1+F263/100)*C263,\"\")))","v":26.4},"  km",{"$f":"N263*1000","v":26400},"m"]
[{"$f":"IF(COUNTIF($B$1:B264,TRUE)=COUNTIF($B$1:B263,TRUE),\"\",COUNTIF($B$1:B264,TRUE))","v":""},{"$f":"Worksheet!$B$14","v":false},{"$f":"RANDBETWEEN(5,RANDBETWEEN(5,Worksheet!$D$6))","v":30},"m","±",{"$f":"IF(I264=1,H264*10^RANDBETWEEN(IF(Worksheet!$D$9,-1,0),0),IF(I264=2,H264*10^RANDBETWEEN(RANDBETWEEN(0,2),2),CHOOSE(RANDBETWEEN(1,3),5,10,20)))","v":0.2},{"$f":"IF(I264=1,D264,IF(I264=3,\"%\",\"mm\"))","v":"m"},2,{"$f":"IF(AND(Worksheet!$D$8,RAND()<0.2),3,IF(RAND()<Worksheet!$D$7/100,1,2))","v":1},{"$f":"IF(I264=1,C264-F264,IF(I264=2,C264-F264/1000,IF(I264=3,(1-F264/100)*C264,\"\")))","v":29.8}," m",{"$f":"J264*1000","v":29800},"mm",{"$f":"IF(I264=1,C264+F264,IF(I264=2,C264+F264/1000,IF(I264=3,(1+F264/100)*C264,\"\")))","v":30.2},"  m",{"$f":"N264*1000","v":30200},"mm"]
[{"$f":"IF(COUNTIF($B$1:B265,TRUE)=COUNTIF($B$1:B264,TRUE),\"\",COUNTIF($B$1:B265,TRUE))","v":186},{"$f":"Worksheet!$B$15","v":true},{"$f":"RANDBETWEEN(5,20)","v":20},"hours","±",{"$f":"IF(I265=1,H265*10^RANDBETWEEN(IF(Worksheet!$D$9,-1,0),0),IF(I265=2,H265,CHOOSE(RANDBETWEEN(1,3),5,10,20)))","v":0.70000000000000007},{"$f":"IF(I265=1,D265,IF(I265=3,\"%\",\"min\"))","v":"hours"},7,{"$f":"IF(AND(Worksheet!$D$8,RAND()<0),3,IF(RAND()<Worksheet!$D$7/100,1,2))","v":1},null," hours",{"$f":"IF(I265=1,C265-F265,IF(I265=2,C265*60-F265,\"\"))","v":19.3},{"$f":"IF($I265=1,\" hours\",\" min\")","v":" hours"},null,"  hours",{"$f":"IF(I265=1,C265+F265,IF(I265=2,C265*60+F265,\"\"))","v":20.7},{"$f":"IF($I265=1,\" hours\",\" min\")","v":" hours"}]
[{"$f":"IF(COUNTIF($B$1:B266,TRUE)=COUNTIF($B$1:B265,TRUE),\"\",COUNTIF($B$1:B266,TRUE))","v":187},{"$f":"Worksheet!$D$11","v":true},{"$f":"RANDBETWEEN(5,RANDBETWEEN(5,Worksheet!$D$6))","v":123},"kg","±",{"$f":"IF(I266=1,H266*10^RANDBETWEEN(IF(Worksheet!$D$9,-1,0),0),IF(I266=2,H266*10^RANDBETWEEN(RANDBETWEEN(0,2),2),CHOOSE(RANDBETWEEN(1,3),5,10,20)))","v":0.30000000000000004},{"$f":"IF(I266=1,D266,IF(I266=3,\"%\",\"g\"))","v":"kg"},3,{"$f":"IF(AND(Worksheet!$D$8,RAND()<0.2),3,IF(RAND()<Worksheet!$D$7/100,1,2))","v":1},{"$f":"IF(I266=1,C266-F266,IF(I266=2,C266-F266/1000,IF(I266=3,(1-F266/100)*C266,\"\")))","v":122.7}," kg",{"$f":"J266*1000","v":122700},"g",{"$f":"IF(I266=1,C266+F266,IF(I266=2,C266+F266/1000,IF(I266=3,(1+F266/100)*C266,\"\")))","v":123.3},"  kg",{"$f":"N266*1000","v":123300},"g"]
[{"$f":"IF(COUNTIF($B$1:B267,TRUE)=COUNTIF($B$1:B266,TRUE),\"\",COUNTIF($B$1:B267,TRUE))","v":188},{"$f":"Worksheet!$D$12","v":true},{"$f":"RANDBETWEEN(5,RANDBETWEEN(5,Worksheet!$D$6))","v":33},"tonnes","±",{"$f":"IF(I267=1,H267*10^RANDBETWEEN(IF(Worksheet!$D$9,-1,0),0),IF(I267=2,H267*10^RANDBETWEEN(RANDBETWEEN(0,2),2),CHOOSE(RANDBETWEEN(1,3),5,10,20)))","v":600},{"$f":"IF(I267=1,D267,IF(I267=3,\"%\",\"kg\"))","v":"kg"},6,{"$f":"IF(AND(Worksheet!$D$8,RAND()<0.2),3,IF(RAND()<Worksheet!$D$7/100,1,2))","v":2},{"$f":"IF(I267=1,C267-F267,IF(I267=2,C267-F267/1000,IF(I267=3,(1-F267/100)*C267,\"\")))","v":32.4}," tonnes",{"$f":"J267*1000","v":32400},"kg",{"$f":"IF(I267=1,C267+F267,IF(I267=2,C267+F267/1000,IF(I267=3,(1+F267/100)*C267,\"\")))","v":33.6},"  tonnes",{"$f":"N267*1000","v":33600},"kg"]
[{"$f":"IF(COUNTIF($B$1:B268,TRUE)=COUNTIF($B$1:B267,TRUE),\"\",COUNTIF($B$1:B268,TRUE))","v":189},{"$f":"Worksheet!$D$13","v":true},{"$f":"RANDBETWEEN(5,RANDBETWEEN(5,Worksheet!$D$6))","v":184},"litres","±",{"$f":"IF(I268=1,H268*10^RANDBETWEEN(IF(Worksheet!$D$9,-1,0),0),IF(I268=2,H268*10^RANDBETWEEN(RANDBETWEEN(0,2),2),CHOOSE(RANDBETWEEN(1,3),5,10,20)))","v":10},{"$f":"IF(I268=1,D268,IF(I268=3,\"%\",\"ml\"))","v":"%"},8,{"$f":"IF(AND(Worksheet!$D$8,RAND()<0.2),3,IF(RAND()<Worksheet!$D$7/100,1,2))","v":3},{"$f":"IF(I268=1,C268-F268,IF(I268=2,C268-F268/1000,IF(I268=3,(1-F268/100)*C268,\"\")))","v":165.6}," litres",{"$f":"J268*1000","v":165600},"ml",{"$f":"IF(I268=1,C268+F268,IF(I268=2,C268+F268/1000,IF(I268=3,(1+F268/100)*C268,\"\")))","v":202.4},"  litres",{"$f":"N268*1000","v":202400},"ml"]
[{"$f":"IF(COUNTIF($B$1:B269,TRUE)=COUNTIF($B$1:B268,TRUE),\"\",COUNTIF($B$1:B269,TRUE))","v":190},{"$f":"Worksheet!$D$14","v":true},{"$f":"RANDBETWEEN(5,RANDBETWEEN(5,Worksheet!$D$6))","v":34},"litres","±",{"$f":"IF(I269=1,H269*10^RANDBETWEEN(IF(Worksheet!$D$9,-1,0),0),IF(I269=2,H269*10^RANDBETWEEN(RANDBETWEEN(0,2),2),CHOOSE(RANDBETWEEN(1,3),5,10,20)))","v":600},{"$f":"IF(I269=1,D269,IF(I269=3,\"%\",\"cm³\"))","v":"cm³"},6,{"$f":"IF(AND(Worksheet!$D$8,RAND()<0.2),3,IF(RAND()<Worksheet!$D$7/100,1,2))","v":2},{"$f":"IF(I269=1,C269-F269,IF(I269=2,C269-F269/1000,IF(I269=3,(1-F269/100)*C269,\"\")))","v":33.4}," litres",{"$f":"J269*1000","v":33400},"cm³",{"$f":"IF(I269=1,C269+F269,IF(I269=2,C269+F269/1000,IF(I269=3,(1+F269/100)*C269,\"\")))","v":34.6},"  litres",{"$f":"N269*1000","v":34600},"cm³"]
[{"$f":"IF(COUNTIF($B$1:B270,TRUE)=COUNTIF($B$1:B269,TRUE),\"\",COUNTIF($B$1:B270,TRUE))","v":""},{"$f":"Worksheet!$D$15","v":false},{"$f":"RANDBETWEEN(5,20)","v":15},"min","±",{"$f":"IF(I270=1,H270*10^RANDBETWEEN(IF(Worksheet!$D$9,-1,0),0),IF(I270=2,H270,CHOOSE(RANDBETWEEN(1,3),5,10,20)))","v":0.5},{"$f":"IF(I270=1,D270,IF(I270=3,\"%\",\"sec\"))","v":"min"},5,{"$f":"IF(AND(Worksheet!$D$8,RAND()<0),3,IF(RAND()<Worksheet!$D$7/100,1,2))","v":1},null," min",{"$f":"IF(I270=1,C270-F270,IF(I270=2,C270*60-F270,\"\"))","v":14.5},{"$f":"IF($I270=1,\" hours\",\" min\")","v":" hours"},null,"  min",{"$f":"IF(I270=1,C270+F270,IF(I270=2,C270*60+F270,\"\"))","v":15.5},{"$f":"IF($I270=1,\" hours\",\" min\")","v":" hours"}]
[{"$f":"COUNTIF($B$1:B271,TRUE)","v":191},{"$f":"Worksheet!$B$11","v":true},{"$f":"RANDBETWEEN(5,RANDBETWEEN(5,Worksheet!$D$6))","v":41},"cm","±",{"$f":"IF(I271=1,H271*10^RANDBETWEEN(IF(Worksheet!$D$9,-1,0),0),IF(I271=2,H271,CHOOSE(RANDBETWEEN(1,3),5,10,20)))","v":6},{"$f":"IF(I271=1,D271,IF(I271=3,\"%\",\"mm\"))","v":"mm"},{"$f":"RANDBETWEEN(1,MIN(9,C271))","v":6},{"$f":"IF(AND(Worksheet!$D$8,RAND()<0.2),3,IF(RAND()<Worksheet!$D$7/100,1,2))","v":2},{"$f":"IF(I271=1,C271-F271,IF(I271=2,C271-F271/10,IF(I271=3,(1-F271/100)*C271,\"\")))","v":40.4},{"$f":"CONCATENATE(\" \",D271)","v":" cm"},{"$f":"J271*10","v":404},"mm",{"$f":"IF(I271=1,C271+F271,IF(I271=2,C271+F271/10,IF(I271=3,(1+F271/100)*C271,\"\")))","v":41.6},{"$f":"CONCATENATE(\" \",K271)","v":"  cm"},{"$f":"N271*10","v":416},"mm"]
[{"$f":"IF(COUNTIF($B$1:B272,TRUE)=COUNTIF($B$1:B271,TRUE),\"\",COUNTIF($B$1:B272,TRUE))","v":192},{"$f":"Worksheet!$B$12","v":true},{"$f":"RANDBETWEEN(5,RANDBETWEEN(5,Worksheet!$D$6))","v":67},"m","±",{"$f":"IF(I272=1,H272*10^RANDBETWEEN(IF(Worksheet!$D$9,-1,0),0),IF(I272=2,H272*10^RANDBETWEEN(RANDBETWEEN(0,1),1),CHOOSE(RANDBETWEEN(1,3),5,10,20)))","v":5},{"$f":"IF(I272=1,D272,IF(I272=3,\"%\",\"cm\"))","v":"m"},{"$f":"RANDBETWEEN(1,MIN(9,C272))","v":5},{"$f":"IF(AND(Worksheet!$D$8,RAND()<0.2),3,IF(RAND()<Worksheet!$D$7/100,1,2))","v":1},{"$f":"IF(I272=1,C272-F272,IF(I272=2,C272-F272/100,IF(I272=3,(1-F272/100)*C272,\"\")))","v":62},{"$f":"CONCATENATE(\" \",D272)","v":" m"},{"$f":"J272*100","v":6200},"cm",{"$f":"IF(I272=1,C272+F272,IF(I272=2,C272+F272/100,IF(I272=3,(1+F272/100)*C272,\"\")))","v":72},{"$f":"CONCATENATE(\" \",K272)","v":"  m"},{"$f":"N272*100","v":7200},"cm"]
[{"$f":"IF(COUNTIF($B$1:B273,TRUE)=COUNTIF($B$1:B272,TRUE),\"\",COUNTIF($B$1:B273,TRUE))","v":193},{"$f":"Worksheet!$B$13","v":true},{"$f":"RANDBETWEEN(5,RANDBETWEEN(5,Worksheet!$D$6))","v":36},"km","±",{"$f":"IF(I273=1,H273*10^RANDBETWEEN(IF(Worksheet!$D$9,-1,0),0),IF(I273=2,H273*10^RANDBETWEEN(RANDBETWEEN(0,2),2),CHOOSE(RANDBETWEEN(1,3),5,10,20)))","v":20},{"$f":"IF(I273=1,D273,IF(I273=3,\"%\",\"m\"))","v":"%"},3,{"$f":"IF(AND(Worksheet!$D$8,RAND()<0.2),3,IF(RAND()<Worksheet!$D$7/100,1,2))","v":3},{"$f":"IF(I273=1,C273-F273,IF(I273=2,C273-F273/1000,IF(I273=3,(1-F273/100)*C273,\"\")))","v":28.8}," km",{"$f":"J273*1000","v":28800},"m",{"$f":"IF(I273=1,C273+F273,IF(I273=2,C273+F273/1000,IF(I273=3,(1+F273/100)*C273,\"\")))","v":43.199999999999996},"  km",{"$f":"N273*1000","v":43199.999999999993},"m"]
[{"$f":"IF(COUNTIF($B$1:B274,TRUE)=COUNTIF($B$1:B273,TRUE),\"\",COUNTIF($B$1:B274,TRUE))","v":""},{"$f":"Worksheet!$B$14","v":false},{"$f":"RANDBETWEEN(5,RANDBETWEEN(5,Worksheet!$D$6))","v":191},"m","±",{"$f":"IF(I274=1,H274*10^RANDBETWEEN(IF(Worksheet!$D$9,-1,0),0),IF(I274=2,H274*10^RANDBETWEEN(RANDBETWEEN(0,2),2),CHOOSE(RANDBETWEEN(1,3),5,10,20)))","v":0.4},{"$f":"IF(I274=1,D274,IF(I274=3,\"%\",\"mm\"))","v":"m"},4,{"$f":"IF(AND(Worksheet!$D$8,RAND()<0.2),3,IF(RAND()<Worksheet!$D$7/100,1,2))","v":1},{"$f":"IF(I274=1,C274-F274,IF(I274=2,C274-F274/1000,IF(I274=3,(1-F274/100)*C274,\"\")))","v":190.6}," m",{"$f":"J274*1000","v":190600},"mm",{"$f":"IF(I274=1,C274+F274,IF(I274=2,C274+F274/1000,IF(I274=3,(1+F274/100)*C274,\"\")))","v":191.4},"  m",{"$f":"N274*1000","v":191400},"mm"]
[{"$f":"IF(COUNTIF($B$1:B275,TRUE)=COUNTIF($B$1:B274,TRUE),\"\",COUNTIF($B$1:B275,TRUE))","v":194},{"$f":"Worksheet!$B$15","v":true},{"$f":"RANDBETWEEN(5,20)","v":9},"hours","±",{"$f":"IF(I275=1,H275*10^RANDBETWEEN(IF(Worksheet!$D$9,-1,0),0),IF(I275=2,H275,CHOOSE(RANDBETWEEN(1,3),5,10,20)))","v":3},{"$f":"IF(I275=1,D275,IF(I275=3,\"%\",\"min\"))","v":"min"},3,{"$f":"IF(AND(Worksheet!$D$8,RAND()<0),3,IF(RAND()<Worksheet!$D$7/100,1,2))","v":2},null," hours",{"$f":"IF(I275=1,C275-F275,IF(I275=2,C275*60-F275,\"\"))","v":537},{"$f":"IF($I275=1,\" hours\",\" min\")","v":" min"},null,"  hours",{"$f":"IF(I275=1,C275+F275,IF(I275=2,C275*60+F275,\"\"))","v":543},{"$f":"IF($I275=1,\" hours\",\" min\")","v":" min"}]
[{"$f":"IF(COUNTIF($B$1:B276,TRUE)=COUNTIF($B$1:B275,TRUE),\"\",COUNTIF($B$1:B276,TRUE))","v":195},{"$f":"Worksheet!$D$11","v":true},{"$f":"RANDBETWEEN(5,RANDBETWEEN(5,Worksheet!$D$6))","v":138},"kg","±",{"$f":"IF(I276=1,H276*10^RANDBETWEEN(IF(Worksheet!$D$9,-1,0),0),IF(I276=2,H276*10^RANDBETWEEN(RANDBETWEEN(0,2),2),CHOOSE(RANDBETWEEN(1,3),5,10,20)))","v":4},{"$f":"IF(I276=1,D276,IF(I276=3,\"%\",\"g\"))","v":"kg"},4,{"$f":"IF(AND(Worksheet!$D$8,RAND()<0.2),3,IF(RAND()<Worksheet!$D$7/100,1,2))","v":1},{"$f":"IF(I276=1,C276-F276,IF(I276=2,C276-F276/1000,IF(I276=3,(1-F276/100)*C276,\"\")))","v":134}," kg",{"$f":"J276*1000","v":134000},"g",{"$f":"IF(I276=1,C276+F276,IF(I276=2,C276+F276/1000,IF(I276=3,(1+F276/100)*C276,\"\")))","v":142},"  kg",{"$f":"N276*1000","v":142000},"g"]
[{"$f":"IF(COUNTIF($B$1:B277,TRUE)=COUNTIF($B$1:B276,TRUE),\"\",COUNTIF($B$1:B277,TRUE))","v":196},{"$f":"Worksheet!$D$12","v":true},{"$f":"RANDBETWEEN(5,RANDBETWEEN(5,Worksheet!$D$6))","v":77},"tonnes","±",{"$f":"IF(I277=1,H277*10^RANDBETWEEN(IF(Worksheet!$D$9,-1,0),0),IF(I277=2,H277*10^RANDBETWEEN(RANDBETWEEN(0,2),2),CHOOSE(RANDBETWEEN(1,3),5,10,20)))","v":5},{"$f":"IF(I277=1,D277,IF(I277=3,\"%\",\"kg\"))","v":"%"},1,{"$f":"IF(AND(Worksheet!$D$8,RAND()<0.2),3,IF(RAND()<Worksheet!$D$7/100,1,2))","v":3},{"$f":"IF(I277=1,C277-F277,IF(I277=2,C277-F277/1000,IF(I277=3,(1-F277/100)*C277,\"\")))","v":73.149999999999991}," tonnes",{"$f":"J277*1000","v":73149.999999999985},"kg",{"$f":"IF(I277=1,C277+F277,IF(I277=2,C277+F277/1000,IF(I277=3,(1+F277/100)*C277,\"\")))","v":80.850000000000009},"  tonnes",{"$f":"N277*1000","v":80850.000000000015},"kg"]
[{"$f":"IF(COUNTIF($B$1:B278,TRUE)=COUNTIF($B$1:B277,TRUE),\"\",COUNTIF($B$1:B278,TRUE))","v":197},{"$f":"Worksheet!$D$13","v":true},{"$f":"RANDBETWEEN(5,RANDBETWEEN(5,Worksheet!$D$6))","v":25},"litres","±",{"$f":"IF(I278=1,H278*10^RANDBETWEEN(IF(Worksheet!$D$9,-1,0),0),IF(I278=2,H278*10^RANDBETWEEN(RANDBETWEEN(0,2),2),CHOOSE(RANDBETWEEN(1,3),5,10,20)))","v":5},{"$f":"IF(I278=1,D278,IF(I278=3,\"%\",\"ml\"))","v":"litres"},5,{"$f":"IF(AND(Worksheet!$D$8,RAND()<0.2),3,IF(RAND()<Worksheet!$D$7/100,1,2))","v":1},{"$f":"IF(I278=1,C278-F278,IF(I278=2,C278-F278/1000,IF(I278=3,(1-F278/100)*C278,\"\")))","v":20}," litres",{"$f":"J278*1000","v":20000},"ml",{"$f":"IF(I278=1,C278+F278,IF(I278=2,C278+F278/1000,IF(I278=3,(1+F278/100)*C278,\"\")))","v":30},"  litres",{"$f":"N278*1000","v":30000},"ml"]
[{"$f":"IF(COUNTIF($B$1:B279,TRUE)=COUNTIF($B$1:B278,TRUE),\"\",COUNTIF($B$1:B279,TRUE))","v":198},{"$f":"Worksheet!$D$14","v":true},{"$f":"RANDBETWEEN(5,RANDBETWEEN(5,Worksheet!$D$6))","v":197},"litres","±",{"$f":"IF(I279=1,H279*10^RANDBETWEEN(IF(Worksheet!$D$9,-1,0),0),IF(I279=2,H279*10^RANDBETWEEN(RANDBETWEEN(0,2),2),CHOOSE(RANDBETWEEN(1,3),5,10,20)))","v":2},{"$f":"IF(I279=1,D279,IF(I279=3,\"%\",\"cm³\"))","v":"litres"},2,{"$f":"IF(AND(Worksheet!$D$8,RAND()<0.2),3,IF(RAND()<Worksheet!$D$7/100,1,2))","v":1},{"$f":"IF(I279=1,C279-F279,IF(I279=2,C279-F279/1000,IF(I279=3,(1-F279/100)*C279,\"\")))","v":195}," litres",{"$f":"J279*1000","v":195000},"cm³",{"$f":"IF(I279=1,C279+F279,IF(I279=2,C279+F279/1000,IF(I279=3,(1+F279/100)*C279,\"\")))","v":199},"  litres",{"$f":"N279*1000","v":199000},"cm³"]
[{"$f":"IF(COUNTIF($B$1:B280,TRUE)=COUNTIF($B$1:B279,TRUE),\"\",COUNTIF($B$1:B280,TRUE))","v":""},{"$f":"Worksheet!$D$15","v":false},{"$f":"RANDBETWEEN(5,20)","v":18},"min","±",{"$f":"IF(I280=1,H280*10^RANDBETWEEN(IF(Worksheet!$D$9,-1,0),0),IF(I280=2,H280,CHOOSE(RANDBETWEEN(1,3),5,10,20)))","v":9},{"$f":"IF(I280=1,D280,IF(I280=3,\"%\",\"sec\"))","v":"min"},9,{"$f":"IF(AND(Worksheet!$D$8,RAND()<0),3,IF(RAND()<Worksheet!$D$7/100,1,2))","v":1},null," min",{"$f":"IF(I280=1,C280-F280,IF(I280=2,C280*60-F280,\"\"))","v":9},{"$f":"IF($I280=1,\" hours\",\" min\")","v":" hours"},null,"  min",{"$f":"IF(I280=1,C280+F280,IF(I280=2,C280*60+F280,\"\"))","v":27},{"$f":"IF($I280=1,\" hours\",\" min\")","v":" hours"}]
[{"$f":"COUNTIF($B$1:B281,TRUE)","v":199},{"$f":"Worksheet!$B$11","v":true},{"$f":"RANDBETWEEN(5,RANDBETWEEN(5,Worksheet!$D$6))","v":129},"cm","±",{"$f":"IF(I281=1,H281*10^RANDBETWEEN(IF(Worksheet!$D$9,-1,0),0),IF(I281=2,H281,CHOOSE(RANDBETWEEN(1,3),5,10,20)))","v":5},{"$f":"IF(I281=1,D281,IF(I281=3,\"%\",\"mm\"))","v":"mm"},{"$f":"RANDBETWEEN(1,MIN(9,C281))","v":5},{"$f":"IF(AND(Worksheet!$D$8,RAND()<0.2),3,IF(RAND()<Worksheet!$D$7/100,1,2))","v":2},{"$f":"IF(I281=1,C281-F281,IF(I281=2,C281-F281/10,IF(I281=3,(1-F281/100)*C281,\"\")))","v":128.5},{"$f":"CONCATENATE(\" \",D281)","v":" cm"},{"$f":"J281*10","v":1285},"mm",{"$f":"IF(I281=1,C281+F281,IF(I281=2,C281+F281/10,IF(I281=3,(1+F281/100)*C281,\"\")))","v":129.5},{"$f":"CONCATENATE(\" \",K281)","v":"  cm"},{"$f":"N281*10","v":1295},"mm"]
[{"$f":"IF(COUNTIF($B$1:B282,TRUE)=COUNTIF($B$1:B281,TRUE),\"\",COUNTIF($B$1:B282,TRUE))","v":200},{"$f":"Worksheet!$B$12","v":true},{"$f":"RANDBETWEEN(5,RANDBETWEEN(5,Worksheet!$D$6))","v":86},"m","±",{"$f":"IF(I282=1,H282*10^RANDBETWEEN(IF(Worksheet!$D$9,-1,0),0),IF(I282=2,H282*10^RANDBETWEEN(RANDBETWEEN(0,1),1),CHOOSE(RANDBETWEEN(1,3),5,10,20)))","v":20},{"$f":"IF(I282=1,D282,IF(I282=3,\"%\",\"cm\"))","v":"%"},{"$f":"RANDBETWEEN(1,MIN(9,C282))","v":3},{"$f":"IF(AND(Worksheet!$D$8,RAND()<0.2),3,IF(RAND()<Worksheet!$D$7/100,1,2))","v":3},{"$f":"IF(I282=1,C282-F282,IF(I282=2,C282-F282/100,IF(I282=3,(1-F282/100)*C282,\"\")))","v":68.8},{"$f":"CONCATENATE(\" \",D282)","v":" m"},{"$f":"J282*100","v":6880},"cm",{"$f":"IF(I282=1,C282+F282,IF(I282=2,C282+F282/100,IF(I282=3,(1+F282/100)*C282,\"\")))","v":103.2},{"$f":"CONCATENATE(\" \",K282)","v":"  m"},{"$f":"N282*100","v":10320},"cm"]
[{"$f":"IF(COUNTIF($B$1:B283,TRUE)=COUNTIF($B$1:B282,TRUE),\"\",COUNTIF($B$1:B283,TRUE))","v":201},{"$f":"Worksheet!$B$13","v":true},{"$f":"RANDBETWEEN(5,RANDBETWEEN(5,Worksheet!$D$6))","v":283},"km","±",{"$f":"IF(I283=1,H283*10^RANDBETWEEN(IF(Worksheet!$D$9,-1,0),0),IF(I283=2,H283*10^RANDBETWEEN(RANDBETWEEN(0,2),2),CHOOSE(RANDBETWEEN(1,3),5,10,20)))","v":10},{"$f":"IF(I283=1,D283,IF(I283=3,\"%\",\"m\"))","v":"%"},1,{"$f":"IF(AND(Worksheet!$D$8,RAND()<0.2),3,IF(RAND()<Worksheet!$D$7/100,1,2))","v":3},{"$f":"IF(I283=1,C283-F283,IF(I283=2,C283-F283/1000,IF(I283=3,(1-F283/100)*C283,\"\")))","v":254.70000000000002}," km",{"$f":"J283*1000","v":254700.00000000003},"m",{"$f":"IF(I283=1,C283+F283,IF(I283=2,C283+F283/1000,IF(I283=3,(1+F283/100)*C283,\"\")))","v":311.3},"  km",{"$f":"N283*1000","v":311300},"m"]
[{"$f":"IF(COUNTIF($B$1:B284,TRUE)=COUNTIF($B$1:B283,TRUE),\"\",COUNTIF($B$1:B284,TRUE))","v":""},{"$f":"Worksheet!$B$14","v":false},{"$f":"RANDBETWEEN(5,RANDBETWEEN(5,Worksheet!$D$6))","v":135},"m","±",{"$f":"IF(I284=1,H284*10^RANDBETWEEN(IF(Worksheet!$D$9,-1,0),0),IF(I284=2,H284*10^RANDBETWEEN(RANDBETWEEN(0,2),2),CHOOSE(RANDBETWEEN(1,3),5,10,20)))","v":80},{"$f":"IF(I284=1,D284,IF(I284=3,\"%\",\"mm\"))","v":"mm"},8,{"$f":"IF(AND(Worksheet!$D$8,RAND()<0.2),3,IF(RAND()<Worksheet!$D$7/100,1,2))","v":2},{"$f":"IF(I284=1,C284-F284,IF(I284=2,C284-F284/1000,IF(I284=3,(1-F284/100)*C284,\"\")))","v":134.91999999999999}," m",{"$f":"J284*1000","v":134920},"mm",{"$f":"IF(I284=1,C284+F284,IF(I284=2,C284+F284/1000,IF(I284=3,(1+F284/100)*C284,\"\")))","v":135.08000000000001},"  m",{"$f":"N284*1000","v":135080},"mm"]
[{"$f":"IF(COUNTIF($B$1:B285,TRUE)=COUNTIF($B$1:B284,TRUE),\"\",COUNTIF($B$1:B285,TRUE))","v":202},{"$f":"Worksheet!$B$15","v":true},{"$f":"RANDBETWEEN(5,20)","v":7},"hours","±",{"$f":"IF(I285=1,H285*10^RANDBETWEEN(IF(Worksheet!$D$9,-1,0),0),IF(I285=2,H285,CHOOSE(RANDBETWEEN(1,3),5,10,20)))","v":3},{"$f":"IF(I285=1,D285,IF(I285=3,\"%\",\"min\"))","v":"hours"},3,{"$f":"IF(AND(Worksheet!$D$8,RAND()<0),3,IF(RAND()<Worksheet!$D$7/100,1,2))","v":1},null," hours",{"$f":"IF(I285=1,C285-F285,IF(I285=2,C285*60-F285,\"\"))","v":4},{"$f":"IF($I285=1,\" hours\",\" min\")","v":" hours"},null,"  hours",{"$f":"IF(I285=1,C285+F285,IF(I285=2,C285*60+F285,\"\"))","v":10},{"$f":"IF($I285=1,\" hours\",\" min\")","v":" hours"}]
[{"$f":"IF(COUNTIF($B$1:B286,TRUE)=COUNTIF($B$1:B285,TRUE),\"\",COUNTIF($B$1:B286,TRUE))","v":203},{"$f":"Worksheet!$D$11","v":true},{"$f":"RANDBETWEEN(5,RANDBETWEEN(5,Worksheet!$D$6))","v":296},"kg","±",{"$f":"IF(I286=1,H286*10^RANDBETWEEN(IF(Worksheet!$D$9,-1,0),0),IF(I286=2,H286*10^RANDBETWEEN(RANDBETWEEN(0,2),2),CHOOSE(RANDBETWEEN(1,3),5,10,20)))","v":0.5},{"$f":"IF(I286=1,D286,IF(I286=3,\"%\",\"g\"))","v":"kg"},5,{"$f":"IF(AND(Worksheet!$D$8,RAND()<0.2),3,IF(RAND()<Worksheet!$D$7/100,1,2))","v":1},{"$f":"IF(I286=1,C286-F286,IF(I286=2,C286-F286/1000,IF(I286=3,(1-F286/100)*C286,\"\")))","v":295.5}," kg",{"$f":"J286*1000","v":295500},"g",{"$f":"IF(I286=1,C286+F286,IF(I286=2,C286+F286/1000,IF(I286=3,(1+F286/100)*C286,\"\")))","v":296.5},"  kg",{"$f":"N286*1000","v":296500},"g"]
[{"$f":"IF(COUNTIF($B$1:B287,TRUE)=COUNTIF($B$1:B286,TRUE),\"\",COUNTIF($B$1:B287,TRUE))","v":204},{"$f":"Worksheet!$D$12","v":true},{"$f":"RANDBETWEEN(5,RANDBETWEEN(5,Worksheet!$D$6))","v":19},"tonnes","±",{"$f":"IF(I287=1,H287*10^RANDBETWEEN(IF(Worksheet!$D$9,-1,0),0),IF(I287=2,H287*10^RANDBETWEEN(RANDBETWEEN(0,2),2),CHOOSE(RANDBETWEEN(1,3),5,10,20)))","v":0.4},{"$f":"IF(I287=1,D287,IF(I287=3,\"%\",\"kg\"))","v":"tonnes"},4,{"$f":"IF(AND(Worksheet!$D$8,RAND()<0.2),3,IF(RAND()<Worksheet!$D$7/100,1,2))","v":1},{"$f":"IF(I287=1,C287-F287,IF(I287=2,C287-F287/1000,IF(I287=3,(1-F287/100)*C287,\"\")))","v":18.600000000000001}," tonnes",{"$f":"J287*1000","v":18600},"kg",{"$f":"IF(I287=1,C287+F287,IF(I287=2,C287+F287/1000,IF(I287=3,(1+F287/100)*C287,\"\")))","v":19.399999999999999},"  tonnes",{"$f":"N287*1000","v":19400},"kg"]
[{"$f":"IF(COUNTIF($B$1:B288,TRUE)=COUNTIF($B$1:B287,TRUE),\"\",COUNTIF($B$1:B288,TRUE))","v":205},{"$f":"Worksheet!$D$13","v":true},{"$f":"RANDBETWEEN(5,RANDBETWEEN(5,Worksheet!$D$6))","v":72},"litres","±",{"$f":"IF(I288=1,H288*10^RANDBETWEEN(IF(Worksheet!$D$9,-1,0),0),IF(I288=2,H288*10^RANDBETWEEN(RANDBETWEEN(0,2),2),CHOOSE(RANDBETWEEN(1,3),5,10,20)))","v":1},{"$f":"IF(I288=1,D288,IF(I288=3,\"%\",\"ml\"))","v":"litres"},1,{"$f":"IF(AND(Worksheet!$D$8,RAND()<0.2),3,IF(RAND()<Worksheet!$D$7/100,1,2))","v":1},{"$f":"IF(I288=1,C288-F288,IF(I288=2,C288-F288/1000,IF(I288=3,(1-F288/100)*C288,\"\")))","v":71}," litres",{"$f":"J288*1000","v":71000},"ml",{"$f":"IF(I288=1,C288+F288,IF(I288=2,C288+F288/1000,IF(I288=3,(1+F288/100)*C288,\"\")))","v":73},"  litres",{"$f":"N288*1000","v":73000},"ml"]
[{"$f":"IF(COUNTIF($B$1:B289,TRUE)=COUNTIF($B$1:B288,TRUE),\"\",COUNTIF($B$1:B289,TRUE))","v":206},{"$f":"Worksheet!$D$14","v":true},{"$f":"RANDBETWEEN(5,RANDBETWEEN(5,Worksheet!$D$6))","v":72},"litres","±",{"$f":"IF(I289=1,H289*10^RANDBETWEEN(IF(Worksheet!$D$9,-1,0),0),IF(I289=2,H289*10^RANDBETWEEN(RANDBETWEEN(0,2),2),CHOOSE(RANDBETWEEN(1,3),5,10,20)))","v":4},{"$f":"IF(I289=1,D289,IF(I289=3,\"%\",\"cm³\"))","v":"litres"},4,{"$f":"IF(AND(Worksheet!$D$8,RAND()<0.2),3,IF(RAND()<Worksheet!$D$7/100,1,2))","v":1},{"$f":"IF(I289=1,C289-F289,IF(I289=2,C289-F289/1000,IF(I289=3,(1-F289/100)*C289,\"\")))","v":68}," litres",{"$f":"J289*1000","v":68000},"cm³",{"$f":"IF(I289=1,C289+F289,IF(I289=2,C289+F289/1000,IF(I289=3,(1+F289/100)*C289,\"\")))","v":76},"  litres",{"$f":"N289*1000","v":76000},"cm³"]
[{"$f":"IF(COUNTIF($B$1:B290,TRUE)=COUNTIF($B$1:B289,TRUE),\"\",COUNTIF($B$1:B290,TRUE))","v":""},{"$f":"Worksheet!$D$15","v":false},{"$f":"RANDBETWEEN(5,20)","v":7},"min","±",{"$f":"IF(I290=1,H290*10^RANDBETWEEN(IF(Worksheet!$D$9,-1,0),0),IF(I290=2,H290,CHOOSE(RANDBETWEEN(1,3),5,10,20)))","v":7},{"$f":"IF(I290=1,D290,IF(I290=3,\"%\",\"sec\"))","v":"sec"},7,{"$f":"IF(AND(Worksheet!$D$8,RAND()<0),3,IF(RAND()<Worksheet!$D$7/100,1,2))","v":2},null," min",{"$f":"IF(I290=1,C290-F290,IF(I290=2,C290*60-F290,\"\"))","v":413},{"$f":"IF($I290=1,\" hours\",\" min\")","v":" min"},null,"  min",{"$f":"IF(I290=1,C290+F290,IF(I290=2,C290*60+F290,\"\"))","v":427},{"$f":"IF($I290=1,\" hours\",\" min\")","v":" min"}]
[{"$f":"COUNTIF($B$1:B291,TRUE)","v":207},{"$f":"Worksheet!$B$11","v":true},{"$f":"RANDBETWEEN(5,RANDBETWEEN(5,Worksheet!$D$6))","v":40},"cm","±",{"$f":"IF(I291=1,H291*10^RANDBETWEEN(IF(Worksheet!$D$9,-1,0),0),IF(I291=2,H291,CHOOSE(RANDBETWEEN(1,3),5,10,20)))","v":5},{"$f":"IF(I291=1,D291,IF(I291=3,\"%\",\"mm\"))","v":"%"},{"$f":"RANDBETWEEN(1,MIN(9,C291))","v":5},{"$f":"IF(AND(Worksheet!$D$8,RAND()<0.2),3,IF(RAND()<Worksheet!$D$7/100,1,2))","v":3},{"$f":"IF(I291=1,C291-F291,IF(I291=2,C291-F291/10,IF(I291=3,(1-F291/100)*C291,\"\")))","v":38},{"$f":"CONCATENATE(\" \",D291)","v":" cm"},{"$f":"J291*10","v":380},"mm",{"$f":"IF(I291=1,C291+F291,IF(I291=2,C291+F291/10,IF(I291=3,(1+F291/100)*C291,\"\")))","v":42},{"$f":"CONCATENATE(\" \",K291)","v":"  cm"},{"$f":"N291*10","v":420},"mm"]
[{"$f":"IF(COUNTIF($B$1:B292,TRUE)=COUNTIF($B$1:B291,TRUE),\"\",COUNTIF($B$1:B292,TRUE))","v":208},{"$f":"Worksheet!$B$12","v":true},{"$f":"RANDBETWEEN(5,RANDBETWEEN(5,Worksheet!$D$6))","v":210},"m","±",{"$f":"IF(I292=1,H292*10^RANDBETWEEN(IF(Worksheet!$D$9,-1,0),0),IF(I292=2,H292*10^RANDBETWEEN(RANDBETWEEN(0,1),1),CHOOSE(RANDBETWEEN(1,3),5,10,20)))","v":0.30000000000000004},{"$f":"IF(I292=1,D292,IF(I292=3,\"%\",\"cm\"))","v":"m"},{"$f":"RANDBETWEEN(1,MIN(9,C292))","v":3},{"$f":"IF(AND(Worksheet!$D$8,RAND()<0.2),3,IF(RAND()<Worksheet!$D$7/100,1,2))","v":1},{"$f":"IF(I292=1,C292-F292,IF(I292=2,C292-F292/100,IF(I292=3,(1-F292/100)*C292,\"\")))","v":209.7},{"$f":"CONCATENATE(\" \",D292)","v":" m"},{"$f":"J292*100","v":20970},"cm",{"$f":"IF(I292=1,C292+F292,IF(I292=2,C292+F292/100,IF(I292=3,(1+F292/100)*C292,\"\")))","v":210.3},{"$f":"CONCATENATE(\" \",K292)","v":"  m"},{"$f":"N292*100","v":21030},"cm"]
[{"$f":"IF(COUNTIF($B$1:B293,TRUE)=COUNTIF($B$1:B292,TRUE),\"\",COUNTIF($B$1:B293,TRUE))","v":209},{"$f":"Worksheet!$B$13","v":true},{"$f":"RANDBETWEEN(5,RANDBETWEEN(5,Worksheet!$D$6))","v":224},"km","±",{"$f":"IF(I293=1,H293*10^RANDBETWEEN(IF(Worksheet!$D$9,-1,0),0),IF(I293=2,H293*10^RANDBETWEEN(RANDBETWEEN(0,2),2),CHOOSE(RANDBETWEEN(1,3),5,10,20)))","v":20},{"$f":"IF(I293=1,D293,IF(I293=3,\"%\",\"m\"))","v":"%"},6,{"$f":"IF(AND(Worksheet!$D$8,RAND()<0.2),3,IF(RAND()<Worksheet!$D$7/100,1,2))","v":3},{"$f":"IF(I293=1,C293-F293,IF(I293=2,C293-F293/1000,IF(I293=3,(1-F293/100)*C293,\"\")))","v":179.20000000000002}," km",{"$f":"J293*1000","v":179200.00000000003},"m",{"$f":"IF(I293=1,C293+F293,IF(I293=2,C293+F293/1000,IF(I293=3,(1+F293/100)*C293,\"\")))","v":268.8},"  km",{"$f":"N293*1000","v":268800},"m"]
[{"$f":"IF(COUNTIF($B$1:B294,TRUE)=COUNTIF($B$1:B293,TRUE),\"\",COUNTIF($B$1:B294,TRUE))","v":""},{"$f":"Worksheet!$B$14","v":false},{"$f":"RANDBETWEEN(5,RANDBETWEEN(5,Worksheet!$D$6))","v":124},"m","±",{"$f":"IF(I294=1,H294*10^RANDBETWEEN(IF(Worksheet!$D$9,-1,0),0),IF(I294=2,H294*10^RANDBETWEEN(RANDBETWEEN(0,2),2),CHOOSE(RANDBETWEEN(1,3),5,10,20)))","v":0.1},{"$f":"IF(I294=1,D294,IF(I294=3,\"%\",\"mm\"))","v":"m"},1,{"$f":"IF(AND(Worksheet!$D$8,RAND()<0.2),3,IF(RAND()<Worksheet!$D$7/100,1,2))","v":1},{"$f":"IF(I294=1,C294-F294,IF(I294=2,C294-F294/1000,IF(I294=3,(1-F294/100)*C294,\"\")))","v":123.9}," m",{"$f":"J294*1000","v":123900},"mm",{"$f":"IF(I294=1,C294+F294,IF(I294=2,C294+F294/1000,IF(I294=3,(1+F294/100)*C294,\"\")))","v":124.1},"  m",{"$f":"N294*1000","v":124100},"mm"]
[{"$f":"IF(COUNTIF($B$1:B295,TRUE)=COUNTIF($B$1:B294,TRUE),\"\",COUNTIF($B$1:B295,TRUE))","v":210},{"$f":"Worksheet!$B$15","v":true},{"$f":"RANDBETWEEN(5,20)","v":18},"hours","±",{"$f":"IF(I295=1,H295*10^RANDBETWEEN(IF(Worksheet!$D$9,-1,0),0),IF(I295=2,H295,CHOOSE(RANDBETWEEN(1,3),5,10,20)))","v":2},{"$f":"IF(I295=1,D295,IF(I295=3,\"%\",\"min\"))","v":"hours"},2,{"$f":"IF(AND(Worksheet!$D$8,RAND()<0),3,IF(RAND()<Worksheet!$D$7/100,1,2))","v":1},null," hours",{"$f":"IF(I295=1,C295-F295,IF(I295=2,C295*60-F295,\"\"))","v":16},{"$f":"IF($I295=1,\" hours\",\" min\")","v":" hours"},null,"  hours",{"$f":"IF(I295=1,C295+F295,IF(I295=2,C295*60+F295,\"\"))","v":20},{"$f":"IF($I295=1,\" hours\",\" min\")","v":" hours"}]
[{"$f":"IF(COUNTIF($B$1:B296,TRUE)=COUNTIF($B$1:B295,TRUE),\"\",COUNTIF($B$1:B296,TRUE))","v":211},{"$f":"Worksheet!$D$11","v":true},{"$f":"RANDBETWEEN(5,RANDBETWEEN(5,Worksheet!$D$6))","v":159},"kg","±",{"$f":"IF(I296=1,H296*10^RANDBETWEEN(IF(Worksheet!$D$9,-1,0),0),IF(I296=2,H296*10^RANDBETWEEN(RANDBETWEEN(0,2),2),CHOOSE(RANDBETWEEN(1,3),5,10,20)))","v":0.8},{"$f":"IF(I296=1,D296,IF(I296=3,\"%\",\"g\"))","v":"kg"},8,{"$f":"IF(AND(Worksheet!$D$8,RAND()<0.2),3,IF(RAND()<Worksheet!$D$7/100,1,2))","v":1},{"$f":"IF(I296=1,C296-F296,IF(I296=2,C296-F296/1000,IF(I296=3,(1-F296/100)*C296,\"\")))","v":158.19999999999999}," kg",{"$f":"J296*1000","v":158200},"g",{"$f":"IF(I296=1,C296+F296,IF(I296=2,C296+F296/1000,IF(I296=3,(1+F296/100)*C296,\"\")))","v":159.80000000000001},"  kg",{"$f":"N296*1000","v":159800},"g"]
[{"$f":"IF(COUNTIF($B$1:B297,TRUE)=COUNTIF($B$1:B296,TRUE),\"\",COUNTIF($B$1:B297,TRUE))","v":212},{"$f":"Worksheet!$D$12","v":true},{"$f":"RANDBETWEEN(5,RANDBETWEEN(5,Worksheet!$D$6))","v":11},"tonnes","±",{"$f":"IF(I297=1,H297*10^RANDBETWEEN(IF(Worksheet!$D$9,-1,0),0),IF(I297=2,H297*10^RANDBETWEEN(RANDBETWEEN(0,2),2),CHOOSE(RANDBETWEEN(1,3),5,10,20)))","v":7},{"$f":"IF(I297=1,D297,IF(I297=3,\"%\",\"kg\"))","v":"tonnes"},7,{"$f":"IF(AND(Worksheet!$D$8,RAND()<0.2),3,IF(RAND()<Worksheet!$D$7/100,1,2))","v":1},{"$f":"IF(I297=1,C297-F297,IF(I297=2,C297-F297/1000,IF(I297=3,(1-F297/100)*C297,\"\")))","v":4}," tonnes",{"$f":"J297*1000","v":4000},"kg",{"$f":"IF(I297=1,C297+F297,IF(I297=2,C297+F297/1000,IF(I297=3,(1+F297/100)*C297,\"\")))","v":18},"  tonnes",{"$f":"N297*1000","v":18000},"kg"]
[{"$f":"IF(COUNTIF($B$1:B298,TRUE)=COUNTIF($B$1:B297,TRUE),\"\",COUNTIF($B$1:B298,TRUE))","v":213},{"$f":"Worksheet!$D$13","v":true},{"$f":"RANDBETWEEN(5,RANDBETWEEN(5,Worksheet!$D$6))","v":307},"litres","±",{"$f":"IF(I298=1,H298*10^RANDBETWEEN(IF(Worksheet!$D$9,-1,0),0),IF(I298=2,H298*10^RANDBETWEEN(RANDBETWEEN(0,2),2),CHOOSE(RANDBETWEEN(1,3),5,10,20)))","v":0.5},{"$f":"IF(I298=1,D298,IF(I298=3,\"%\",\"ml\"))","v":"litres"},5,{"$f":"IF(AND(Worksheet!$D$8,RAND()<0.2),3,IF(RAND()<Worksheet!$D$7/100,1,2))","v":1},{"$f":"IF(I298=1,C298-F298,IF(I298=2,C298-F298/1000,IF(I298=3,(1-F298/100)*C298,\"\")))","v":306.5}," litres",{"$f":"J298*1000","v":306500},"ml",{"$f":"IF(I298=1,C298+F298,IF(I298=2,C298+F298/1000,IF(I298=3,(1+F298/100)*C298,\"\")))","v":307.5},"  litres",{"$f":"N298*1000","v":307500},"ml"]
[{"$f":"IF(COUNTIF($B$1:B299,TRUE)=COUNTIF($B$1:B298,TRUE),\"\",COUNTIF($B$1:B299,TRUE))","v":214},{"$f":"Worksheet!$D$14","v":true},{"$f":"RANDBETWEEN(5,RANDBETWEEN(5,Worksheet!$D$6))","v":10},"litres","±",{"$f":"IF(I299=1,H299*10^RANDBETWEEN(IF(Worksheet!$D$9,-1,0),0),IF(I299=2,H299*10^RANDBETWEEN(RANDBETWEEN(0,2),2),CHOOSE(RANDBETWEEN(1,3),5,10,20)))","v":0.30000000000000004},{"$f":"IF(I299=1,D299,IF(I299=3,\"%\",\"cm³\"))","v":"litres"},3,{"$f":"IF(AND(Worksheet!$D$8,RAND()<0.2),3,IF(RAND()<Worksheet!$D$7/100,1,2))","v":1},{"$f":"IF(I299=1,C299-F299,IF(I299=2,C299-F299/1000,IF(I299=3,(1-F299/100)*C299,\"\")))","v":9.6999999999999993}," litres",{"$f":"J299*1000","v":9700},"cm³",{"$f":"IF(I299=1,C299+F299,IF(I299=2,C299+F299/1000,IF(I299=3,(1+F299/100)*C299,\"\")))","v":10.3},"  litres",{"$f":"N299*1000","v":10300},"cm³"]
[{"$f":"IF(COUNTIF($B$1:B300,TRUE)=COUNTIF($B$1:B299,TRUE),\"\",COUNTIF($B$1:B300,TRUE))","v":""},{"$f":"Worksheet!$D$15","v":false},{"$f":"RANDBETWEEN(5,20)","v":12},"min","±",{"$f":"IF(I300=1,H300*10^RANDBETWEEN(IF(Worksheet!$D$9,-1,0),0),IF(I300=2,H300,CHOOSE(RANDBETWEEN(1,3),5,10,20)))","v":2},{"$f":"IF(I300=1,D300,IF(I300=3,\"%\",\"sec\"))","v":"min"},2,{"$f":"IF(AND(Worksheet!$D$8,RAND()<0),3,IF(RAND()<Worksheet!$D$7/100,1,2))","v":1},null," min",{"$f":"IF(I300=1,C300-F300,IF(I300=2,C300*60-F300,\"\"))","v":10},{"$f":"IF($I300=1,\" hours\",\" min\")","v":" hours"},null,"  min",{"$f":"IF(I300=1,C300+F300,IF(I300=2,C300*60+F300,\"\"))","v":14},{"$f":"IF($I300=1,\" hours\",\" min\")","v":" hours"}]
[{"$f":"COUNTIF($B$1:B301,TRUE)","v":215},{"$f":"Worksheet!$B$11","v":true},{"$f":"RANDBETWEEN(5,RANDBETWEEN(5,Worksheet!$D$6))","v":191},"cm","±",{"$f":"IF(I301=1,H301*10^RANDBETWEEN(IF(Worksheet!$D$9,-1,0),0),IF(I301=2,H301,CHOOSE(RANDBETWEEN(1,3),5,10,20)))","v":5},{"$f":"IF(I301=1,D301,IF(I301=3,\"%\",\"mm\"))","v":"cm"},{"$f":"RANDBETWEEN(1,MIN(9,C301))","v":5},{"$f":"IF(AND(Worksheet!$D$8,RAND()<0.2),3,IF(RAND()<Worksheet!$D$7/100,1,2))","v":1},{"$f":"IF(I301=1,C301-F301,IF(I301=2,C301-F301/10,IF(I301=3,(1-F301/100)*C301,\"\")))","v":186},{"$f":"CONCATENATE(\" \",D301)","v":" cm"},{"$f":"J301*10","v":1860},"mm",{"$f":"IF(I301=1,C301+F301,IF(I301=2,C301+F301/10,IF(I301=3,(1+F301/100)*C301,\"\")))","v":196},{"$f":"CONCATENATE(\" \",K301)","v":"  cm"},{"$f":"N301*10","v":1960},"mm"]
[{"$f":"IF(COUNTIF($B$1:B302,TRUE)=COUNTIF($B$1:B301,TRUE),\"\",COUNTIF($B$1:B302,TRUE))","v":216},{"$f":"Worksheet!$B$12","v":true},{"$f":"RANDBETWEEN(5,RANDBETWEEN(5,Worksheet!$D$6))","v":46},"m","±",{"$f":"IF(I302=1,H302*10^RANDBETWEEN(IF(Worksheet!$D$9,-1,0),0),IF(I302=2,H302*10^RANDBETWEEN(RANDBETWEEN(0,1),1),CHOOSE(RANDBETWEEN(1,3),5,10,20)))","v":60},{"$f":"IF(I302=1,D302,IF(I302=3,\"%\",\"cm\"))","v":"cm"},{"$f":"RANDBETWEEN(1,MIN(9,C302))","v":6},{"$f":"IF(AND(Worksheet!$D$8,RAND()<0.2),3,IF(RAND()<Worksheet!$D$7/100,1,2))","v":2},{"$f":"IF(I302=1,C302-F302,IF(I302=2,C302-F302/100,IF(I302=3,(1-F302/100)*C302,\"\")))","v":45.4},{"$f":"CONCATENATE(\" \",D302)","v":" m"},{"$f":"J302*100","v":4540},"cm",{"$f":"IF(I302=1,C302+F302,IF(I302=2,C302+F302/100,IF(I302=3,(1+F302/100)*C302,\"\")))","v":46.6},{"$f":"CONCATENATE(\" \",K302)","v":"  m"},{"$f":"N302*100","v":4660},"cm"]
[{"$f":"IF(COUNTIF($B$1:B303,TRUE)=COUNTIF($B$1:B302,TRUE),\"\",COUNTIF($B$1:B303,TRUE))","v":217},{"$f":"Worksheet!$B$13","v":true},{"$f":"RANDBETWEEN(5,RANDBETWEEN(5,Worksheet!$D$6))","v":199},"km","±",{"$f":"IF(I303=1,H303*10^RANDBETWEEN(IF(Worksheet!$D$9,-1,0),0),IF(I303=2,H303*10^RANDBETWEEN(RANDBETWEEN(0,2),2),CHOOSE(RANDBETWEEN(1,3),5,10,20)))","v":10},{"$f":"IF(I303=1,D303,IF(I303=3,\"%\",\"m\"))","v":"m"},1,{"$f":"IF(AND(Worksheet!$D$8,RAND()<0.2),3,IF(RAND()<Worksheet!$D$7/100,1,2))","v":2},{"$f":"IF(I303=1,C303-F303,IF(I303=2,C303-F303/1000,IF(I303=3,(1-F303/100)*C303,\"\")))","v":198.99}," km",{"$f":"J303*1000","v":198990},"m",{"$f":"IF(I303=1,C303+F303,IF(I303=2,C303+F303/1000,IF(I303=3,(1+F303/100)*C303,\"\")))","v":199.01},"  km",{"$f":"N303*1000","v":199010},"m"]
[{"$f":"IF(COUNTIF($B$1:B304,TRUE)=COUNTIF($B$1:B303,TRUE),\"\",COUNTIF($B$1:B304,TRUE))","v":""},{"$f":"Worksheet!$B$14","v":false},{"$f":"RANDBETWEEN(5,RANDBETWEEN(5,Worksheet!$D$6))","v":164},"m","±",{"$f":"IF(I304=1,H304*10^RANDBETWEEN(IF(Worksheet!$D$9,-1,0),0),IF(I304=2,H304*10^RANDBETWEEN(RANDBETWEEN(0,2),2),CHOOSE(RANDBETWEEN(1,3),5,10,20)))","v":20},{"$f":"IF(I304=1,D304,IF(I304=3,\"%\",\"mm\"))","v":"%"},3,{"$f":"IF(AND(Worksheet!$D$8,RAND()<0.2),3,IF(RAND()<Worksheet!$D$7/100,1,2))","v":3},{"$f":"IF(I304=1,C304-F304,IF(I304=2,C304-F304/1000,IF(I304=3,(1-F304/100)*C304,\"\")))","v":131.20000000000002}," m",{"$f":"J304*1000","v":131200.00000000003},"mm",{"$f":"IF(I304=1,C304+F304,IF(I304=2,C304+F304/1000,IF(I304=3,(1+F304/100)*C304,\"\")))","v":196.79999999999998},"  m",{"$f":"N304*1000","v":196799.99999999997},"mm"]
[{"$f":"IF(COUNTIF($B$1:B305,TRUE)=COUNTIF($B$1:B304,TRUE),\"\",COUNTIF($B$1:B305,TRUE))","v":218},{"$f":"Worksheet!$B$15","v":true},{"$f":"RANDBETWEEN(5,20)","v":16},"hours","±",{"$f":"IF(I305=1,H305*10^RANDBETWEEN(IF(Worksheet!$D$9,-1,0),0),IF(I305=2,H305,CHOOSE(RANDBETWEEN(1,3),5,10,20)))","v":0.4},{"$f":"IF(I305=1,D305,IF(I305=3,\"%\",\"min\"))","v":"hours"},4,{"$f":"IF(AND(Worksheet!$D$8,RAND()<0),3,IF(RAND()<Worksheet!$D$7/100,1,2))","v":1},null," hours",{"$f":"IF(I305=1,C305-F305,IF(I305=2,C305*60-F305,\"\"))","v":15.6},{"$f":"IF($I305=1,\" hours\",\" min\")","v":" hours"},null,"  hours",{"$f":"IF(I305=1,C305+F305,IF(I305=2,C305*60+F305,\"\"))","v":16.399999999999999},{"$f":"IF($I305=1,\" hours\",\" min\")","v":" hours"}]
[{"$f":"IF(COUNTIF($B$1:B306,TRUE)=COUNTIF($B$1:B305,TRUE),\"\",COUNTIF($B$1:B306,TRUE))","v":219},{"$f":"Worksheet!$D$11","v":true},{"$f":"RANDBETWEEN(5,RANDBETWEEN(5,Worksheet!$D$6))","v":5},"kg","±",{"$f":"IF(I306=1,H306*10^RANDBETWEEN(IF(Worksheet!$D$9,-1,0),0),IF(I306=2,H306*10^RANDBETWEEN(RANDBETWEEN(0,2),2),CHOOSE(RANDBETWEEN(1,3),5,10,20)))","v":0.30000000000000004},{"$f":"IF(I306=1,D306,IF(I306=3,\"%\",\"g\"))","v":"kg"},3,{"$f":"IF(AND(Worksheet!$D$8,RAND()<0.2),3,IF(RAND()<Worksheet!$D$7/100,1,2))","v":1},{"$f":"IF(I306=1,C306-F306,IF(I306=2,C306-F306/1000,IF(I306=3,(1-F306/100)*C306,\"\")))","v":4.7}," kg",{"$f":"J306*1000","v":4700},"g",{"$f":"IF(I306=1,C306+F306,IF(I306=2,C306+F306/1000,IF(I306=3,(1+F306/100)*C306,\"\")))","v":5.3},"  kg",{"$f":"N306*1000","v":5300},"g"]
[{"$f":"IF(COUNTIF($B$1:B307,TRUE)=COUNTIF($B$1:B306,TRUE),\"\",COUNTIF($B$1:B307,TRUE))","v":220},{"$f":"Worksheet!$D$12","v":true},{"$f":"RANDBETWEEN(5,RANDBETWEEN(5,Worksheet!$D$6))","v":46},"tonnes","±",{"$f":"IF(I307=1,H307*10^RANDBETWEEN(IF(Worksheet!$D$9,-1,0),0),IF(I307=2,H307*10^RANDBETWEEN(RANDBETWEEN(0,2),2),CHOOSE(RANDBETWEEN(1,3),5,10,20)))","v":10},{"$f":"IF(I307=1,D307,IF(I307=3,\"%\",\"kg\"))","v":"kg"},1,{"$f":"IF(AND(Worksheet!$D$8,RAND()<0.2),3,IF(RAND()<Worksheet!$D$7/100,1,2))","v":2},{"$f":"IF(I307=1,C307-F307,IF(I307=2,C307-F307/1000,IF(I307=3,(1-F307/100)*C307,\"\")))","v":45.99}," tonnes",{"$f":"J307*1000","v":45990},"kg",{"$f":"IF(I307=1,C307+F307,IF(I307=2,C307+F307/1000,IF(I307=3,(1+F307/100)*C307,\"\")))","v":46.01},"  tonnes",{"$f":"N307*1000","v":46010},"kg"]
[{"$f":"IF(COUNTIF($B$1:B308,TRUE)=COUNTIF($B$1:B307,TRUE),\"\",COUNTIF($B$1:B308,TRUE))","v":221},{"$f":"Worksheet!$D$13","v":true},{"$f":"RANDBETWEEN(5,RANDBETWEEN(5,Worksheet!$D$6))","v":52},"litres","±",{"$f":"IF(I308=1,H308*10^RANDBETWEEN(IF(Worksheet!$D$9,-1,0),0),IF(I308=2,H308*10^RANDBETWEEN(RANDBETWEEN(0,2),2),CHOOSE(RANDBETWEEN(1,3),5,10,20)))","v":4},{"$f":"IF(I308=1,D308,IF(I308=3,\"%\",\"ml\"))","v":"litres"},4,{"$f":"IF(AND(Worksheet!$D$8,RAND()<0.2),3,IF(RAND()<Worksheet!$D$7/100,1,2))","v":1},{"$f":"IF(I308=1,C308-F308,IF(I308=2,C308-F308/1000,IF(I308=3,(1-F308/100)*C308,\"\")))","v":48}," litres",{"$f":"J308*1000","v":48000},"ml",{"$f":"IF(I308=1,C308+F308,IF(I308=2,C308+F308/1000,IF(I308=3,(1+F308/100)*C308,\"\")))","v":56},"  litres",{"$f":"N308*1000","v":56000},"ml"]
[{"$f":"IF(COUNTIF($B$1:B309,TRUE)=COUNTIF($B$1:B308,TRUE),\"\",COUNTIF($B$1:B309,TRUE))","v":222},{"$f":"Worksheet!$D$14","v":true},{"$f":"RANDBETWEEN(5,RANDBETWEEN(5,Worksheet!$D$6))","v":48},"litres","±",{"$f":"IF(I309=1,H309*10^RANDBETWEEN(IF(Worksheet!$D$9,-1,0),0),IF(I309=2,H309*10^RANDBETWEEN(RANDBETWEEN(0,2),2),CHOOSE(RANDBETWEEN(1,3),5,10,20)))","v":6},{"$f":"IF(I309=1,D309,IF(I309=3,\"%\",\"cm³\"))","v":"litres"},6,{"$f":"IF(AND(Worksheet!$D$8,RAND()<0.2),3,IF(RAND()<Worksheet!$D$7/100,1,2))","v":1},{"$f":"IF(I309=1,C309-F309,IF(I309=2,C309-F309/1000,IF(I309=3,(1-F309/100)*C309,\"\")))","v":42}," litres",{"$f":"J309*1000","v":42000},"cm³",{"$f":"IF(I309=1,C309+F309,IF(I309=2,C309+F309/1000,IF(I309=3,(1+F309/100)*C309,\"\")))","v":54},"  litres",{"$f":"N309*1000","v":54000},"cm³"]
[{"$f":"IF(COUNTIF($B$1:B310,TRUE)=COUNTIF($B$1:B309,TRUE),\"\",COUNTIF($B$1:B310,TRUE))","v":""},{"$f":"Worksheet!$D$15","v":false},{"$f":"RANDBETWEEN(5,20)","v":10},"min","±",{"$f":"IF(I310=1,H310*10^RANDBETWEEN(IF(Worksheet!$D$9,-1,0),0),IF(I310=2,H310,CHOOSE(RANDBETWEEN(1,3),5,10,20)))","v":1},{"$f":"IF(I310=1,D310,IF(I310=3,\"%\",\"sec\"))","v":"sec"},1,{"$f":"IF(AND(Worksheet!$D$8,RAND()<0),3,IF(RAND()<Worksheet!$D$7/100,1,2))","v":2},null," min",{"$f":"IF(I310=1,C310-F310,IF(I310=2,C310*60-F310,\"\"))","v":599},{"$f":"IF($I310=1,\" hours\",\" min\")","v":" min"},null,"  min",{"$f":"IF(I310=1,C310+F310,IF(I310=2,C310*60+F310,\"\"))","v":601},{"$f":"IF($I310=1,\" hours\",\" min\")","v":" min"}]
[{"$f":"COUNTIF($B$1:B311,TRUE)","v":223},{"$f":"Worksheet!$B$11","v":true},{"$f":"RANDBETWEEN(5,RANDBETWEEN(5,Worksheet!$D$6))","v":25},"cm","±",{"$f":"IF(I311=1,H311*10^RANDBETWEEN(IF(Worksheet!$D$9,-1,0),0),IF(I311=2,H311,CHOOSE(RANDBETWEEN(1,3),5,10,20)))","v":0.9},{"$f":"IF(I311=1,D311,IF(I311=3,\"%\",\"mm\"))","v":"cm"},{"$f":"RANDBETWEEN(1,MIN(9,C311))","v":9},{"$f":"IF(AND(Worksheet!$D$8,RAND()<0.2),3,IF(RAND()<Worksheet!$D$7/100,1,2))","v":1},{"$f":"IF(I311=1,C311-F311,IF(I311=2,C311-F311/10,IF(I311=3,(1-F311/100)*C311,\"\")))","v":24.1},{"$f":"CONCATENATE(\" \",D311)","v":" cm"},{"$f":"J311*10","v":241},"mm",{"$f":"IF(I311=1,C311+F311,IF(I311=2,C311+F311/10,IF(I311=3,(1+F311/100)*C311,\"\")))","v":25.9},{"$f":"CONCATENATE(\" \",K311)","v":"  cm"},{"$f":"N311*10","v":259},"mm"]
[{"$f":"IF(COUNTIF($B$1:B312,TRUE)=COUNTIF($B$1:B311,TRUE),\"\",COUNTIF($B$1:B312,TRUE))","v":224},{"$f":"Worksheet!$B$12","v":true},{"$f":"RANDBETWEEN(5,RANDBETWEEN(5,Worksheet!$D$6))","v":40},"m","±",{"$f":"IF(I312=1,H312*10^RANDBETWEEN(IF(Worksheet!$D$9,-1,0),0),IF(I312=2,H312*10^RANDBETWEEN(RANDBETWEEN(0,1),1),CHOOSE(RANDBETWEEN(1,3),5,10,20)))","v":7},{"$f":"IF(I312=1,D312,IF(I312=3,\"%\",\"cm\"))","v":"cm"},{"$f":"RANDBETWEEN(1,MIN(9,C312))","v":7},{"$f":"IF(AND(Worksheet!$D$8,RAND()<0.2),3,IF(RAND()<Worksheet!$D$7/100,1,2))","v":2},{"$f":"IF(I312=1,C312-F312,IF(I312=2,C312-F312/100,IF(I312=3,(1-F312/100)*C312,\"\")))","v":39.93},{"$f":"CONCATENATE(\" \",D312)","v":" m"},{"$f":"J312*100","v":3993},"cm",{"$f":"IF(I312=1,C312+F312,IF(I312=2,C312+F312/100,IF(I312=3,(1+F312/100)*C312,\"\")))","v":40.07},{"$f":"CONCATENATE(\" \",K312)","v":"  m"},{"$f":"N312*100","v":4007},"cm"]
[{"$f":"IF(COUNTIF($B$1:B313,TRUE)=COUNTIF($B$1:B312,TRUE),\"\",COUNTIF($B$1:B313,TRUE))","v":225},{"$f":"Worksheet!$B$13","v":true},{"$f":"RANDBETWEEN(5,RANDBETWEEN(5,Worksheet!$D$6))","v":127},"km","±",{"$f":"IF(I313=1,H313*10^RANDBETWEEN(IF(Worksheet!$D$9,-1,0),0),IF(I313=2,H313*10^RANDBETWEEN(RANDBETWEEN(0,2),2),CHOOSE(RANDBETWEEN(1,3),5,10,20)))","v":2},{"$f":"IF(I313=1,D313,IF(I313=3,\"%\",\"m\"))","v":"km"},2,{"$f":"IF(AND(Worksheet!$D$8,RAND()<0.2),3,IF(RAND()<Worksheet!$D$7/100,1,2))","v":1},{"$f":"IF(I313=1,C313-F313,IF(I313=2,C313-F313/1000,IF(I313=3,(1-F313/100)*C313,\"\")))","v":125}," km",{"$f":"J313*1000","v":125000},"m",{"$f":"IF(I313=1,C313+F313,IF(I313=2,C313+F313/1000,IF(I313=3,(1+F313/100)*C313,\"\")))","v":129},"  km",{"$f":"N313*1000","v":129000},"m"]
[{"$f":"IF(COUNTIF($B$1:B314,TRUE)=COUNTIF($B$1:B313,TRUE),\"\",COUNTIF($B$1:B314,TRUE))","v":""},{"$f":"Worksheet!$B$14","v":false},{"$f":"RANDBETWEEN(5,RANDBETWEEN(5,Worksheet!$D$6))","v":275},"m","±",{"$f":"IF(I314=1,H314*10^RANDBETWEEN(IF(Worksheet!$D$9,-1,0),0),IF(I314=2,H314*10^RANDBETWEEN(RANDBETWEEN(0,2),2),CHOOSE(RANDBETWEEN(1,3),5,10,20)))","v":0.8},{"$f":"IF(I314=1,D314,IF(I314=3,\"%\",\"mm\"))","v":"m"},8,{"$f":"IF(AND(Worksheet!$D$8,RAND()<0.2),3,IF(RAND()<Worksheet!$D$7/100,1,2))","v":1},{"$f":"IF(I314=1,C314-F314,IF(I314=2,C314-F314/1000,IF(I314=3,(1-F314/100)*C314,\"\")))","v":274.2}," m",{"$f":"J314*1000","v":274200},"mm",{"$f":"IF(I314=1,C314+F314,IF(I314=2,C314+F314/1000,IF(I314=3,(1+F314/100)*C314,\"\")))","v":275.8},"  m",{"$f":"N314*1000","v":275800},"mm"]
[{"$f":"IF(COUNTIF($B$1:B315,TRUE)=COUNTIF($B$1:B314,TRUE),\"\",COUNTIF($B$1:B315,TRUE))","v":226},{"$f":"Worksheet!$B$15","v":true},{"$f":"RANDBETWEEN(5,20)","v":16},"hours","±",{"$f":"IF(I315=1,H315*10^RANDBETWEEN(IF(Worksheet!$D$9,-1,0),0),IF(I315=2,H315,CHOOSE(RANDBETWEEN(1,3),5,10,20)))","v":0.5},{"$f":"IF(I315=1,D315,IF(I315=3,\"%\",\"min\"))","v":"hours"},5,{"$f":"IF(AND(Worksheet!$D$8,RAND()<0),3,IF(RAND()<Worksheet!$D$7/100,1,2))","v":1},null," hours",{"$f":"IF(I315=1,C315-F315,IF(I315=2,C315*60-F315,\"\"))","v":15.5},{"$f":"IF($I315=1,\" hours\",\" min\")","v":" hours"},null,"  hours",{"$f":"IF(I315=1,C315+F315,IF(I315=2,C315*60+F315,\"\"))","v":16.5},{"$f":"IF($I315=1,\" hours\",\" min\")","v":" hours"}]
[{"$f":"IF(COUNTIF($B$1:B316,TRUE)=COUNTIF($B$1:B315,TRUE),\"\",COUNTIF($B$1:B316,TRUE))","v":227},{"$f":"Worksheet!$D$11","v":true},{"$f":"RANDBETWEEN(5,RANDBETWEEN(5,Worksheet!$D$6))","v":75},"kg","±",{"$f":"IF(I316=1,H316*10^RANDBETWEEN(IF(Worksheet!$D$9,-1,0),0),IF(I316=2,H316*10^RANDBETWEEN(RANDBETWEEN(0,2),2),CHOOSE(RANDBETWEEN(1,3),5,10,20)))","v":0.9},{"$f":"IF(I316=1,D316,IF(I316=3,\"%\",\"g\"))","v":"kg"},9,{"$f":"IF(AND(Worksheet!$D$8,RAND()<0.2),3,IF(RAND()<Worksheet!$D$7/100,1,2))","v":1},{"$f":"IF(I316=1,C316-F316,IF(I316=2,C316-F316/1000,IF(I316=3,(1-F316/100)*C316,\"\")))","v":74.099999999999994}," kg",{"$f":"J316*1000","v":74100},"g",{"$f":"IF(I316=1,C316+F316,IF(I316=2,C316+F316/1000,IF(I316=3,(1+F316/100)*C316,\"\")))","v":75.900000000000006},"  kg",{"$f":"N316*1000","v":75900},"g"]
[{"$f":"IF(COUNTIF($B$1:B317,TRUE)=COUNTIF($B$1:B316,TRUE),\"\",COUNTIF($B$1:B317,TRUE))","v":228},{"$f":"Worksheet!$D$12","v":true},{"$f":"RANDBETWEEN(5,RANDBETWEEN(5,Worksheet!$D$6))","v":20},"tonnes","±",{"$f":"IF(I317=1,H317*10^RANDBETWEEN(IF(Worksheet!$D$9,-1,0),0),IF(I317=2,H317*10^RANDBETWEEN(RANDBETWEEN(0,2),2),CHOOSE(RANDBETWEEN(1,3),5,10,20)))","v":0.2},{"$f":"IF(I317=1,D317,IF(I317=3,\"%\",\"kg\"))","v":"tonnes"},2,{"$f":"IF(AND(Worksheet!$D$8,RAND()<0.2),3,IF(RAND()<Worksheet!$D$7/100,1,2))","v":1},{"$f":"IF(I317=1,C317-F317,IF(I317=2,C317-F317/1000,IF(I317=3,(1-F317/100)*C317,\"\")))","v":19.8}," tonnes",{"$f":"J317*1000","v":19800},"kg",{"$f":"IF(I317=1,C317+F317,IF(I317=2,C317+F317/1000,IF(I317=3,(1+F317/100)*C317,\"\")))","v":20.2},"  tonnes",{"$f":"N317*1000","v":20200},"kg"]
[{"$f":"IF(COUNTIF($B$1:B318,TRUE)=COUNTIF($B$1:B317,TRUE),\"\",COUNTIF($B$1:B318,TRUE))","v":229},{"$f":"Worksheet!$D$13","v":true},{"$f":"RANDBETWEEN(5,RANDBETWEEN(5,Worksheet!$D$6))","v":205},"litres","±",{"$f":"IF(I318=1,H318*10^RANDBETWEEN(IF(Worksheet!$D$9,-1,0),0),IF(I318=2,H318*10^RANDBETWEEN(RANDBETWEEN(0,2),2),CHOOSE(RANDBETWEEN(1,3),5,10,20)))","v":0.8},{"$f":"IF(I318=1,D318,IF(I318=3,\"%\",\"ml\"))","v":"litres"},8,{"$f":"IF(AND(Worksheet!$D$8,RAND()<0.2),3,IF(RAND()<Worksheet!$D$7/100,1,2))","v":1},{"$f":"IF(I318=1,C318-F318,IF(I318=2,C318-F318/1000,IF(I318=3,(1-F318/100)*C318,\"\")))","v":204.2}," litres",{"$f":"J318*1000","v":204200},"ml",{"$f":"IF(I318=1,C318+F318,IF(I318=2,C318+F318/1000,IF(I318=3,(1+F318/100)*C318,\"\")))","v":205.8},"  litres",{"$f":"N318*1000","v":205800},"ml"]
[{"$f":"IF(COUNTIF($B$1:B319,TRUE)=COUNTIF($B$1:B318,TRUE),\"\",COUNTIF($B$1:B319,TRUE))","v":230},{"$f":"Worksheet!$D$14","v":true},{"$f":"RANDBETWEEN(5,RANDBETWEEN(5,Worksheet!$D$6))","v":65},"litres","±",{"$f":"IF(I319=1,H319*10^RANDBETWEEN(IF(Worksheet!$D$9,-1,0),0),IF(I319=2,H319*10^RANDBETWEEN(RANDBETWEEN(0,2),2),CHOOSE(RANDBETWEEN(1,3),5,10,20)))","v":20},{"$f":"IF(I319=1,D319,IF(I319=3,\"%\",\"cm³\"))","v":"%"},6,{"$f":"IF(AND(Worksheet!$D$8,RAND()<0.2),3,IF(RAND()<Worksheet!$D$7/100,1,2))","v":3},{"$f":"IF(I319=1,C319-F319,IF(I319=2,C319-F319/1000,IF(I319=3,(1-F319/100)*C319,\"\")))","v":52}," litres",{"$f":"J319*1000","v":52000},"cm³",{"$f":"IF(I319=1,C319+F319,IF(I319=2,C319+F319/1000,IF(I319=3,(1+F319/100)*C319,\"\")))","v":78},"  litres",{"$f":"N319*1000","v":78000},"cm³"]
[{"$f":"IF(COUNTIF($B$1:B320,TRUE)=COUNTIF($B$1:B319,TRUE),\"\",COUNTIF($B$1:B320,TRUE))","v":""},{"$f":"Worksheet!$D$15","v":false},{"$f":"RANDBETWEEN(5,20)","v":6},"min","±",{"$f":"IF(I320=1,H320*10^RANDBETWEEN(IF(Worksheet!$D$9,-1,0),0),IF(I320=2,H320,CHOOSE(RANDBETWEEN(1,3),5,10,20)))","v":0.1},{"$f":"IF(I320=1,D320,IF(I320=3,\"%\",\"sec\"))","v":"min"},1,{"$f":"IF(AND(Worksheet!$D$8,RAND()<0),3,IF(RAND()<Worksheet!$D$7/100,1,2))","v":1},null," min",{"$f":"IF(I320=1,C320-F320,IF(I320=2,C320*60-F320,\"\"))","v":5.9},{"$f":"IF($I320=1,\" hours\",\" min\")","v":" hours"},null,"  min",{"$f":"IF(I320=1,C320+F320,IF(I320=2,C320*60+F320,\"\"))","v":6.1},{"$f":"IF($I320=1,\" hours\",\" min\")","v":" hours"}]
[{"$f":"COUNTIF($B$1:B321,TRUE)","v":231},{"$f":"Worksheet!$B$11","v":true},{"$f":"RANDBETWEEN(5,RANDBETWEEN(5,Worksheet!$D$6))","v":209},"cm","±",{"$f":"IF(I321=1,H321*10^RANDBETWEEN(IF(Worksheet!$D$9,-1,0),0),IF(I321=2,H321,CHOOSE(RANDBETWEEN(1,3),5,10,20)))","v":8},{"$f":"IF(I321=1,D321,IF(I321=3,\"%\",\"mm\"))","v":"cm"},{"$f":"RANDBETWEEN(1,MIN(9,C321))","v":8},{"$f":"IF(AND(Worksheet!$D$8,RAND()<0.2),3,IF(RAND()<Worksheet!$D$7/100,1,2))","v":1},{"$f":"IF(I321=1,C321-F321,IF(I321=2,C321-F321/10,IF(I321=3,(1-F321/100)*C321,\"\")))","v":201},{"$f":"CONCATENATE(\" \",D321)","v":" cm"},{"$f":"J321*10","v":2010},"mm",{"$f":"IF(I321=1,C321+F321,IF(I321=2,C321+F321/10,IF(I321=3,(1+F321/100)*C321,\"\")))","v":217},{"$f":"CONCATENATE(\" \",K321)","v":"  cm"},{"$f":"N321*10","v":2170},"mm"]
[{"$f":"IF(COUNTIF($B$1:B322,TRUE)=COUNTIF($B$1:B321,TRUE),\"\",COUNTIF($B$1:B322,TRUE))","v":232},{"$f":"Worksheet!$B$12","v":true},{"$f":"RANDBETWEEN(5,RANDBETWEEN(5,Worksheet!$D$6))","v":44},"m","±",{"$f":"IF(I322=1,H322*10^RANDBETWEEN(IF(Worksheet!$D$9,-1,0),0),IF(I322=2,H322*10^RANDBETWEEN(RANDBETWEEN(0,1),1),CHOOSE(RANDBETWEEN(1,3),5,10,20)))","v":7},{"$f":"IF(I322=1,D322,IF(I322=3,\"%\",\"cm\"))","v":"m"},{"$f":"RANDBETWEEN(1,MIN(9,C322))","v":7},{"$f":"IF(AND(Worksheet!$D$8,RAND()<0.2),3,IF(RAND()<Worksheet!$D$7/100,1,2))","v":1},{"$f":"IF(I322=1,C322-F322,IF(I322=2,C322-F322/100,IF(I322=3,(1-F322/100)*C322,\"\")))","v":37},{"$f":"CONCATENATE(\" \",D322)","v":" m"},{"$f":"J322*100","v":3700},"cm",{"$f":"IF(I322=1,C322+F322,IF(I322=2,C322+F322/100,IF(I322=3,(1+F322/100)*C322,\"\")))","v":51},{"$f":"CONCATENATE(\" \",K322)","v":"  m"},{"$f":"N322*100","v":5100},"cm"]
[{"$f":"IF(COUNTIF($B$1:B323,TRUE)=COUNTIF($B$1:B322,TRUE),\"\",COUNTIF($B$1:B323,TRUE))","v":233},{"$f":"Worksheet!$B$13","v":true},{"$f":"RANDBETWEEN(5,RANDBETWEEN(5,Worksheet!$D$6))","v":356},"km","±",{"$f":"IF(I323=1,H323*10^RANDBETWEEN(IF(Worksheet!$D$9,-1,0),0),IF(I323=2,H323*10^RANDBETWEEN(RANDBETWEEN(0,2),2),CHOOSE(RANDBETWEEN(1,3),5,10,20)))","v":10},{"$f":"IF(I323=1,D323,IF(I323=3,\"%\",\"m\"))","v":"%"},8,{"$f":"IF(AND(Worksheet!$D$8,RAND()<0.2),3,IF(RAND()<Worksheet!$D$7/100,1,2))","v":3},{"$f":"IF(I323=1,C323-F323,IF(I323=2,C323-F323/1000,IF(I323=3,(1-F323/100)*C323,\"\")))","v":320.40000000000003}," km",{"$f":"J323*1000","v":320400.00000000006},"m",{"$f":"IF(I323=1,C323+F323,IF(I323=2,C323+F323/1000,IF(I323=3,(1+F323/100)*C323,\"\")))","v":391.6},"  km",{"$f":"N323*1000","v":391600},"m"]
[{"$f":"IF(COUNTIF($B$1:B324,TRUE)=COUNTIF($B$1:B323,TRUE),\"\",COUNTIF($B$1:B324,TRUE))","v":""},{"$f":"Worksheet!$B$14","v":false},{"$f":"RANDBETWEEN(5,RANDBETWEEN(5,Worksheet!$D$6))","v":191},"m","±",{"$f":"IF(I324=1,H324*10^RANDBETWEEN(IF(Worksheet!$D$9,-1,0),0),IF(I324=2,H324*10^RANDBETWEEN(RANDBETWEEN(0,2),2),CHOOSE(RANDBETWEEN(1,3),5,10,20)))","v":600},{"$f":"IF(I324=1,D324,IF(I324=3,\"%\",\"mm\"))","v":"mm"},6,{"$f":"IF(AND(Worksheet!$D$8,RAND()<0.2),3,IF(RAND()<Worksheet!$D$7/100,1,2))","v":2},{"$f":"IF(I324=1,C324-F324,IF(I324=2,C324-F324/1000,IF(I324=3,(1-F324/100)*C324,\"\")))","v":190.4}," m",{"$f":"J324*1000","v":190400},"mm",{"$f":"IF(I324=1,C324+F324,IF(I324=2,C324+F324/1000,IF(I324=3,(1+F324/100)*C324,\"\")))","v":191.6},"  m",{"$f":"N324*1000","v":191600},"mm"]
[{"$f":"IF(COUNTIF($B$1:B325,TRUE)=COUNTIF($B$1:B324,TRUE),\"\",COUNTIF($B$1:B325,TRUE))","v":234},{"$f":"Worksheet!$B$15","v":true},{"$f":"RANDBETWEEN(5,20)","v":17},"hours","±",{"$f":"IF(I325=1,H325*10^RANDBETWEEN(IF(Worksheet!$D$9,-1,0),0),IF(I325=2,H325,CHOOSE(RANDBETWEEN(1,3),5,10,20)))","v":0.30000000000000004},{"$f":"IF(I325=1,D325,IF(I325=3,\"%\",\"min\"))","v":"hours"},3,{"$f":"IF(AND(Worksheet!$D$8,RAND()<0),3,IF(RAND()<Worksheet!$D$7/100,1,2))","v":1},null," hours",{"$f":"IF(I325=1,C325-F325,IF(I325=2,C325*60-F325,\"\"))","v":16.7},{"$f":"IF($I325=1,\" hours\",\" min\")","v":" hours"},null,"  hours",{"$f":"IF(I325=1,C325+F325,IF(I325=2,C325*60+F325,\"\"))","v":17.3},{"$f":"IF($I325=1,\" hours\",\" min\")","v":" hours"}]
[{"$f":"IF(COUNTIF($B$1:B326,TRUE)=COUNTIF($B$1:B325,TRUE),\"\",COUNTIF($B$1:B326,TRUE))","v":235},{"$f":"Worksheet!$D$11","v":true},{"$f":"RANDBETWEEN(5,RANDBETWEEN(5,Worksheet!$D$6))","v":53},"kg","±",{"$f":"IF(I326=1,H326*10^RANDBETWEEN(IF(Worksheet!$D$9,-1,0),0),IF(I326=2,H326*10^RANDBETWEEN(RANDBETWEEN(0,2),2),CHOOSE(RANDBETWEEN(1,3),5,10,20)))","v":0.1},{"$f":"IF(I326=1,D326,IF(I326=3,\"%\",\"g\"))","v":"kg"},1,{"$f":"IF(AND(Worksheet!$D$8,RAND()<0.2),3,IF(RAND()<Worksheet!$D$7/100,1,2))","v":1},{"$f":"IF(I326=1,C326-F326,IF(I326=2,C326-F326/1000,IF(I326=3,(1-F326/100)*C326,\"\")))","v":52.9}," kg",{"$f":"J326*1000","v":52900},"g",{"$f":"IF(I326=1,C326+F326,IF(I326=2,C326+F326/1000,IF(I326=3,(1+F326/100)*C326,\"\")))","v":53.1},"  kg",{"$f":"N326*1000","v":53100},"g"]
[{"$f":"IF(COUNTIF($B$1:B327,TRUE)=COUNTIF($B$1:B326,TRUE),\"\",COUNTIF($B$1:B327,TRUE))","v":236},{"$f":"Worksheet!$D$12","v":true},{"$f":"RANDBETWEEN(5,RANDBETWEEN(5,Worksheet!$D$6))","v":21},"tonnes","±",{"$f":"IF(I327=1,H327*10^RANDBETWEEN(IF(Worksheet!$D$9,-1,0),0),IF(I327=2,H327*10^RANDBETWEEN(RANDBETWEEN(0,2),2),CHOOSE(RANDBETWEEN(1,3),5,10,20)))","v":9},{"$f":"IF(I327=1,D327,IF(I327=3,\"%\",\"kg\"))","v":"tonnes"},9,{"$f":"IF(AND(Worksheet!$D$8,RAND()<0.2),3,IF(RAND()<Worksheet!$D$7/100,1,2))","v":1},{"$f":"IF(I327=1,C327-F327,IF(I327=2,C327-F327/1000,IF(I327=3,(1-F327/100)*C327,\"\")))","v":12}," tonnes",{"$f":"J327*1000","v":12000},"kg",{"$f":"IF(I327=1,C327+F327,IF(I327=2,C327+F327/1000,IF(I327=3,(1+F327/100)*C327,\"\")))","v":30},"  tonnes",{"$f":"N327*1000","v":30000},"kg"]
[{"$f":"IF(COUNTIF($B$1:B328,TRUE)=COUNTIF($B$1:B327,TRUE),\"\",COUNTIF($B$1:B328,TRUE))","v":237},{"$f":"Worksheet!$D$13","v":true},{"$f":"RANDBETWEEN(5,RANDBETWEEN(5,Worksheet!$D$6))","v":124},"litres","±",{"$f":"IF(I328=1,H328*10^RANDBETWEEN(IF(Worksheet!$D$9,-1,0),0),IF(I328=2,H328*10^RANDBETWEEN(RANDBETWEEN(0,2),2),CHOOSE(RANDBETWEEN(1,3),5,10,20)))","v":9},{"$f":"IF(I328=1,D328,IF(I328=3,\"%\",\"ml\"))","v":"litres"},9,{"$f":"IF(AND(Worksheet!$D$8,RAND()<0.2),3,IF(RAND()<Worksheet!$D$7/100,1,2))","v":1},{"$f":"IF(I328=1,C328-F328,IF(I328=2,C328-F328/1000,IF(I328=3,(1-F328/100)*C328,\"\")))","v":115}," litres",{"$f":"J328*1000","v":115000},"ml",{"$f":"IF(I328=1,C328+F328,IF(I328=2,C328+F328/1000,IF(I328=3,(1+F328/100)*C328,\"\")))","v":133},"  litres",{"$f":"N328*1000","v":133000},"ml"]
[{"$f":"IF(COUNTIF($B$1:B329,TRUE)=COUNTIF($B$1:B328,TRUE),\"\",COUNTIF($B$1:B329,TRUE))","v":238},{"$f":"Worksheet!$D$14","v":true},{"$f":"RANDBETWEEN(5,RANDBETWEEN(5,Worksheet!$D$6))","v":25},"litres","±",{"$f":"IF(I329=1,H329*10^RANDBETWEEN(IF(Worksheet!$D$9,-1,0),0),IF(I329=2,H329*10^RANDBETWEEN(RANDBETWEEN(0,2),2),CHOOSE(RANDBETWEEN(1,3),5,10,20)))","v":0.70000000000000007},{"$f":"IF(I329=1,D329,IF(I329=3,\"%\",\"cm³\"))","v":"litres"},7,{"$f":"IF(AND(Worksheet!$D$8,RAND()<0.2),3,IF(RAND()<Worksheet!$D$7/100,1,2))","v":1},{"$f":"IF(I329=1,C329-F329,IF(I329=2,C329-F329/1000,IF(I329=3,(1-F329/100)*C329,\"\")))","v":24.3}," litres",{"$f":"J329*1000","v":24300},"cm³",{"$f":"IF(I329=1,C329+F329,IF(I329=2,C329+F329/1000,IF(I329=3,(1+F329/100)*C329,\"\")))","v":25.7},"  litres",{"$f":"N329*1000","v":25700},"cm³"]
[{"$f":"IF(COUNTIF($B$1:B330,TRUE)=COUNTIF($B$1:B329,TRUE),\"\",COUNTIF($B$1:B330,TRUE))","v":""},{"$f":"Worksheet!$D$15","v":false},{"$f":"RANDBETWEEN(5,20)","v":5},"min","±",{"$f":"IF(I330=1,H330*10^RANDBETWEEN(IF(Worksheet!$D$9,-1,0),0),IF(I330=2,H330,CHOOSE(RANDBETWEEN(1,3),5,10,20)))","v":5},{"$f":"IF(I330=1,D330,IF(I330=3,\"%\",\"sec\"))","v":"min"},5,{"$f":"IF(AND(Worksheet!$D$8,RAND()<0),3,IF(RAND()<Worksheet!$D$7/100,1,2))","v":1},null," min",{"$f":"IF(I330=1,C330-F330,IF(I330=2,C330*60-F330,\"\"))","v":0},{"$f":"IF($I330=1,\" hours\",\" min\")","v":" hours"},null,"  min",{"$f":"IF(I330=1,C330+F330,IF(I330=2,C330*60+F330,\"\"))","v":10},{"$f":"IF($I330=1,\" hours\",\" min\")","v":" hours"}]
[{"$f":"COUNTIF($B$1:B331,TRUE)","v":239},{"$f":"Worksheet!$B$11","v":true},{"$f":"RANDBETWEEN(5,RANDBETWEEN(5,Worksheet!$D$6))","v":9},"cm","±",{"$f":"IF(I331=1,H331*10^RANDBETWEEN(IF(Worksheet!$D$9,-1,0),0),IF(I331=2,H331,CHOOSE(RANDBETWEEN(1,3),5,10,20)))","v":0.1},{"$f":"IF(I331=1,D331,IF(I331=3,\"%\",\"mm\"))","v":"cm"},{"$f":"RANDBETWEEN(1,MIN(9,C331))","v":1},{"$f":"IF(AND(Worksheet!$D$8,RAND()<0.2),3,IF(RAND()<Worksheet!$D$7/100,1,2))","v":1},{"$f":"IF(I331=1,C331-F331,IF(I331=2,C331-F331/10,IF(I331=3,(1-F331/100)*C331,\"\")))","v":8.9},{"$f":"CONCATENATE(\" \",D331)","v":" cm"},{"$f":"J331*10","v":89},"mm",{"$f":"IF(I331=1,C331+F331,IF(I331=2,C331+F331/10,IF(I331=3,(1+F331/100)*C331,\"\")))","v":9.1},{"$f":"CONCATENATE(\" \",K331)","v":"  cm"},{"$f":"N331*10","v":91},"mm"]
[{"$f":"IF(COUNTIF($B$1:B332,TRUE)=COUNTIF($B$1:B331,TRUE),\"\",COUNTIF($B$1:B332,TRUE))","v":240},{"$f":"Worksheet!$B$12","v":true},{"$f":"RANDBETWEEN(5,RANDBETWEEN(5,Worksheet!$D$6))","v":88},"m","±",{"$f":"IF(I332=1,H332*10^RANDBETWEEN(IF(Worksheet!$D$9,-1,0),0),IF(I332=2,H332*10^RANDBETWEEN(RANDBETWEEN(0,1),1),CHOOSE(RANDBETWEEN(1,3),5,10,20)))","v":5},{"$f":"IF(I332=1,D332,IF(I332=3,\"%\",\"cm\"))","v":"m"},{"$f":"RANDBETWEEN(1,MIN(9,C332))","v":5},{"$f":"IF(AND(Worksheet!$D$8,RAND()<0.2),3,IF(RAND()<Worksheet!$D$7/100,1,2))","v":1},{"$f":"IF(I332=1,C332-F332,IF(I332=2,C332-F332/100,IF(I332=3,(1-F332/100)*C332,\"\")))","v":83},{"$f":"CONCATENATE(\" \",D332)","v":" m"},{"$f":"J332*100","v":8300},"cm",{"$f":"IF(I332=1,C332+F332,IF(I332=2,C332+F332/100,IF(I332=3,(1+F332/100)*C332,\"\")))","v":93},{"$f":"CONCATENATE(\" \",K332)","v":"  m"},{"$f":"N332*100","v":9300},"cm"]
[{"$f":"IF(COUNTIF($B$1:B333,TRUE)=COUNTIF($B$1:B332,TRUE),\"\",COUNTIF($B$1:B333,TRUE))","v":241},{"$f":"Worksheet!$B$13","v":true},{"$f":"RANDBETWEEN(5,RANDBETWEEN(5,Worksheet!$D$6))","v":86},"km","±",{"$f":"IF(I333=1,H333*10^RANDBETWEEN(IF(Worksheet!$D$9,-1,0),0),IF(I333=2,H333*10^RANDBETWEEN(RANDBETWEEN(0,2),2),CHOOSE(RANDBETWEEN(1,3),5,10,20)))","v":2},{"$f":"IF(I333=1,D333,IF(I333=3,\"%\",\"m\"))","v":"km"},2,{"$f":"IF(AND(Worksheet!$D$8,RAND()<0.2),3,IF(RAND()<Worksheet!$D$7/100,1,2))","v":1},{"$f":"IF(I333=1,C333-F333,IF(I333=2,C333-F333/1000,IF(I333=3,(1-F333/100)*C333,\"\")))","v":84}," km",{"$f":"J333*1000","v":84000},"m",{"$f":"IF(I333=1,C333+F333,IF(I333=2,C333+F333/1000,IF(I333=3,(1+F333/100)*C333,\"\")))","v":88},"  km",{"$f":"N333*1000","v":88000},"m"]
[{"$f":"IF(COUNTIF($B$1:B334,TRUE)=COUNTIF($B$1:B333,TRUE),\"\",COUNTIF($B$1:B334,TRUE))","v":""},{"$f":"Worksheet!$B$14","v":false},{"$f":"RANDBETWEEN(5,RANDBETWEEN(5,Worksheet!$D$6))","v":137},"m","±",{"$f":"IF(I334=1,H334*10^RANDBETWEEN(IF(Worksheet!$D$9,-1,0),0),IF(I334=2,H334*10^RANDBETWEEN(RANDBETWEEN(0,2),2),CHOOSE(RANDBETWEEN(1,3),5,10,20)))","v":1},{"$f":"IF(I334=1,D334,IF(I334=3,\"%\",\"mm\"))","v":"m"},1,{"$f":"IF(AND(Worksheet!$D$8,RAND()<0.2),3,IF(RAND()<Worksheet!$D$7/100,1,2))","v":1},{"$f":"IF(I334=1,C334-F334,IF(I334=2,C334-F334/1000,IF(I334=3,(1-F334/100)*C334,\"\")))","v":136}," m",{"$f":"J334*1000","v":136000},"mm",{"$f":"IF(I334=1,C334+F334,IF(I334=2,C334+F334/1000,IF(I334=3,(1+F334/100)*C334,\"\")))","v":138},"  m",{"$f":"N334*1000","v":138000},"mm"]
[{"$f":"IF(COUNTIF($B$1:B335,TRUE)=COUNTIF($B$1:B334,TRUE),\"\",COUNTIF($B$1:B335,TRUE))","v":242},{"$f":"Worksheet!$B$15","v":true},{"$f":"RANDBETWEEN(5,20)","v":11},"hours","±",{"$f":"IF(I335=1,H335*10^RANDBETWEEN(IF(Worksheet!$D$9,-1,0),0),IF(I335=2,H335,CHOOSE(RANDBETWEEN(1,3),5,10,20)))","v":6},{"$f":"IF(I335=1,D335,IF(I335=3,\"%\",\"min\"))","v":"hours"},6,{"$f":"IF(AND(Worksheet!$D$8,RAND()<0),3,IF(RAND()<Worksheet!$D$7/100,1,2))","v":1},null," hours",{"$f":"IF(I335=1,C335-F335,IF(I335=2,C335*60-F335,\"\"))","v":5},{"$f":"IF($I335=1,\" hours\",\" min\")","v":" hours"},null,"  hours",{"$f":"IF(I335=1,C335+F335,IF(I335=2,C335*60+F335,\"\"))","v":17},{"$f":"IF($I335=1,\" hours\",\" min\")","v":" hours"}]
[{"$f":"IF(COUNTIF($B$1:B336,TRUE)=COUNTIF($B$1:B335,TRUE),\"\",COUNTIF($B$1:B336,TRUE))","v":243},{"$f":"Worksheet!$D$11","v":true},{"$f":"RANDBETWEEN(5,RANDBETWEEN(5,Worksheet!$D$6))","v":125},"kg","±",{"$f":"IF(I336=1,H336*10^RANDBETWEEN(IF(Worksheet!$D$9,-1,0),0),IF(I336=2,H336*10^RANDBETWEEN(RANDBETWEEN(0,2),2),CHOOSE(RANDBETWEEN(1,3),5,10,20)))","v":2},{"$f":"IF(I336=1,D336,IF(I336=3,\"%\",\"g\"))","v":"kg"},2,{"$f":"IF(AND(Worksheet!$D$8,RAND()<0.2),3,IF(RAND()<Worksheet!$D$7/100,1,2))","v":1},{"$f":"IF(I336=1,C336-F336,IF(I336=2,C336-F336/1000,IF(I336=3,(1-F336/100)*C336,\"\")))","v":123}," kg",{"$f":"J336*1000","v":123000},"g",{"$f":"IF(I336=1,C336+F336,IF(I336=2,C336+F336/1000,IF(I336=3,(1+F336/100)*C336,\"\")))","v":127},"  kg",{"$f":"N336*1000","v":127000},"g"]
[{"$f":"IF(COUNTIF($B$1:B337,TRUE)=COUNTIF($B$1:B336,TRUE),\"\",COUNTIF($B$1:B337,TRUE))","v":244},{"$f":"Worksheet!$D$12","v":true},{"$f":"RANDBETWEEN(5,RANDBETWEEN(5,Worksheet!$D$6))","v":47},"tonnes","±",{"$f":"IF(I337=1,H337*10^RANDBETWEEN(IF(Worksheet!$D$9,-1,0),0),IF(I337=2,H337*10^RANDBETWEEN(RANDBETWEEN(0,2),2),CHOOSE(RANDBETWEEN(1,3),5,10,20)))","v":0.2},{"$f":"IF(I337=1,D337,IF(I337=3,\"%\",\"kg\"))","v":"tonnes"},2,{"$f":"IF(AND(Worksheet!$D$8,RAND()<0.2),3,IF(RAND()<Worksheet!$D$7/100,1,2))","v":1},{"$f":"IF(I337=1,C337-F337,IF(I337=2,C337-F337/1000,IF(I337=3,(1-F337/100)*C337,\"\")))","v":46.8}," tonnes",{"$f":"J337*1000","v":46800},"kg",{"$f":"IF(I337=1,C337+F337,IF(I337=2,C337+F337/1000,IF(I337=3,(1+F337/100)*C337,\"\")))","v":47.2},"  tonnes",{"$f":"N337*1000","v":47200},"kg"]
[{"$f":"IF(COUNTIF($B$1:B338,TRUE)=COUNTIF($B$1:B337,TRUE),\"\",COUNTIF($B$1:B338,TRUE))","v":245},{"$f":"Worksheet!$D$13","v":true},{"$f":"RANDBETWEEN(5,RANDBETWEEN(5,Worksheet!$D$6))","v":137},"litres","±",{"$f":"IF(I338=1,H338*10^RANDBETWEEN(IF(Worksheet!$D$9,-1,0),0),IF(I338=2,H338*10^RANDBETWEEN(RANDBETWEEN(0,2),2),CHOOSE(RANDBETWEEN(1,3),5,10,20)))","v":700},{"$f":"IF(I338=1,D338,IF(I338=3,\"%\",\"ml\"))","v":"ml"},7,{"$f":"IF(AND(Worksheet!$D$8,RAND()<0.2),3,IF(RAND()<Worksheet!$D$7/100,1,2))","v":2},{"$f":"IF(I338=1,C338-F338,IF(I338=2,C338-F338/1000,IF(I338=3,(1-F338/100)*C338,\"\")))","v":136.30000000000001}," litres",{"$f":"J338*1000","v":136300},"ml",{"$f":"IF(I338=1,C338+F338,IF(I338=2,C338+F338/1000,IF(I338=3,(1+F338/100)*C338,\"\")))","v":137.69999999999999},"  litres",{"$f":"N338*1000","v":137700},"ml"]
[{"$f":"IF(COUNTIF($B$1:B339,TRUE)=COUNTIF($B$1:B338,TRUE),\"\",COUNTIF($B$1:B339,TRUE))","v":246},{"$f":"Worksheet!$D$14","v":true},{"$f":"RANDBETWEEN(5,RANDBETWEEN(5,Worksheet!$D$6))","v":58},"litres","±",{"$f":"IF(I339=1,H339*10^RANDBETWEEN(IF(Worksheet!$D$9,-1,0),0),IF(I339=2,H339*10^RANDBETWEEN(RANDBETWEEN(0,2),2),CHOOSE(RANDBETWEEN(1,3),5,10,20)))","v":6},{"$f":"IF(I339=1,D339,IF(I339=3,\"%\",\"cm³\"))","v":"litres"},6,{"$f":"IF(AND(Worksheet!$D$8,RAND()<0.2),3,IF(RAND()<Worksheet!$D$7/100,1,2))","v":1},{"$f":"IF(I339=1,C339-F339,IF(I339=2,C339-F339/1000,IF(I339=3,(1-F339/100)*C339,\"\")))","v":52}," litres",{"$f":"J339*1000","v":52000},"cm³",{"$f":"IF(I339=1,C339+F339,IF(I339=2,C339+F339/1000,IF(I339=3,(1+F339/100)*C339,\"\")))","v":64},"  litres",{"$f":"N339*1000","v":64000},"cm³"]
[{"$f":"IF(COUNTIF($B$1:B340,TRUE)=COUNTIF($B$1:B339,TRUE),\"\",COUNTIF($B$1:B340,TRUE))","v":""},{"$f":"Worksheet!$D$15","v":false},{"$f":"RANDBETWEEN(5,20)","v":8},"min","±",{"$f":"IF(I340=1,H340*10^RANDBETWEEN(IF(Worksheet!$D$9,-1,0),0),IF(I340=2,H340,CHOOSE(RANDBETWEEN(1,3),5,10,20)))","v":0.60000000000000009},{"$f":"IF(I340=1,D340,IF(I340=3,\"%\",\"sec\"))","v":"min"},6,{"$f":"IF(AND(Worksheet!$D$8,RAND()<0),3,IF(RAND()<Worksheet!$D$7/100,1,2))","v":1},null," min",{"$f":"IF(I340=1,C340-F340,IF(I340=2,C340*60-F340,\"\"))","v":7.4},{"$f":"IF($I340=1,\" hours\",\" min\")","v":" hours"},null,"  min",{"$f":"IF(I340=1,C340+F340,IF(I340=2,C340*60+F340,\"\"))","v":8.6},{"$f":"IF($I340=1,\" hours\",\" min\")","v":" hours"}]
[{"$f":"COUNTIF($B$1:B341,TRUE)","v":247},{"$f":"Worksheet!$B$11","v":true},{"$f":"RANDBETWEEN(5,RANDBETWEEN(5,Worksheet!$D$6))","v":143},"cm","±",{"$f":"IF(I341=1,H341*10^RANDBETWEEN(IF(Worksheet!$D$9,-1,0),0),IF(I341=2,H341,CHOOSE(RANDBETWEEN(1,3),5,10,20)))","v":0.5},{"$f":"IF(I341=1,D341,IF(I341=3,\"%\",\"mm\"))","v":"cm"},{"$f":"RANDBETWEEN(1,MIN(9,C341))","v":5},{"$f":"IF(AND(Worksheet!$D$8,RAND()<0.2),3,IF(RAND()<Worksheet!$D$7/100,1,2))","v":1},{"$f":"IF(I341=1,C341-F341,IF(I341=2,C341-F341/10,IF(I341=3,(1-F341/100)*C341,\"\")))","v":142.5},{"$f":"CONCATENATE(\" \",D341)","v":" cm"},{"$f":"J341*10","v":1425},"mm",{"$f":"IF(I341=1,C341+F341,IF(I341=2,C341+F341/10,IF(I341=3,(1+F341/100)*C341,\"\")))","v":143.5},{"$f":"CONCATENATE(\" \",K341)","v":"  cm"},{"$f":"N341*10","v":1435},"mm"]
[{"$f":"IF(COUNTIF($B$1:B342,TRUE)=COUNTIF($B$1:B341,TRUE),\"\",COUNTIF($B$1:B342,TRUE))","v":248},{"$f":"Worksheet!$B$12","v":true},{"$f":"RANDBETWEEN(5,RANDBETWEEN(5,Worksheet!$D$6))","v":9},"m","±",{"$f":"IF(I342=1,H342*10^RANDBETWEEN(IF(Worksheet!$D$9,-1,0),0),IF(I342=2,H342*10^RANDBETWEEN(RANDBETWEEN(0,1),1),CHOOSE(RANDBETWEEN(1,3),5,10,20)))","v":5},{"$f":"IF(I342=1,D342,IF(I342=3,\"%\",\"cm\"))","v":"%"},{"$f":"RANDBETWEEN(1,MIN(9,C342))","v":7},{"$f":"IF(AND(Worksheet!$D$8,RAND()<0.2),3,IF(RAND()<Worksheet!$D$7/100,1,2))","v":3},{"$f":"IF(I342=1,C342-F342,IF(I342=2,C342-F342/100,IF(I342=3,(1-F342/100)*C342,\"\")))","v":8.5499999999999989},{"$f":"CONCATENATE(\" \",D342)","v":" m"},{"$f":"J342*100","v":854.99999999999989},"cm",{"$f":"IF(I342=1,C342+F342,IF(I342=2,C342+F342/100,IF(I342=3,(1+F342/100)*C342,\"\")))","v":9.4500000000000011},{"$f":"CONCATENATE(\" \",K342)","v":"  m"},{"$f":"N342*100","v":945.00000000000011},"cm"]
[{"$f":"IF(COUNTIF($B$1:B343,TRUE)=COUNTIF($B$1:B342,TRUE),\"\",COUNTIF($B$1:B343,TRUE))","v":249},{"$f":"Worksheet!$B$13","v":true},{"$f":"RANDBETWEEN(5,RANDBETWEEN(5,Worksheet!$D$6))","v":68},"km","±",{"$f":"IF(I343=1,H343*10^RANDBETWEEN(IF(Worksheet!$D$9,-1,0),0),IF(I343=2,H343*10^RANDBETWEEN(RANDBETWEEN(0,2),2),CHOOSE(RANDBETWEEN(1,3),5,10,20)))","v":700},{"$f":"IF(I343=1,D343,IF(I343=3,\"%\",\"m\"))","v":"m"},7,{"$f":"IF(AND(Worksheet!$D$8,RAND()<0.2),3,IF(RAND()<Worksheet!$D$7/100,1,2))","v":2},{"$f":"IF(I343=1,C343-F343,IF(I343=2,C343-F343/1000,IF(I343=3,(1-F343/100)*C343,\"\")))","v":67.3}," km",{"$f":"J343*1000","v":67300},"m",{"$f":"IF(I343=1,C343+F343,IF(I343=2,C343+F343/1000,IF(I343=3,(1+F343/100)*C343,\"\")))","v":68.7},"  km",{"$f":"N343*1000","v":68700},"m"]
[{"$f":"IF(COUNTIF($B$1:B344,TRUE)=COUNTIF($B$1:B343,TRUE),\"\",COUNTIF($B$1:B344,TRUE))","v":""},{"$f":"Worksheet!$B$14","v":false},{"$f":"RANDBETWEEN(5,RANDBETWEEN(5,Worksheet!$D$6))","v":70},"m","±",{"$f":"IF(I344=1,H344*10^RANDBETWEEN(IF(Worksheet!$D$9,-1,0),0),IF(I344=2,H344*10^RANDBETWEEN(RANDBETWEEN(0,2),2),CHOOSE(RANDBETWEEN(1,3),5,10,20)))","v":1},{"$f":"IF(I344=1,D344,IF(I344=3,\"%\",\"mm\"))","v":"m"},1,{"$f":"IF(AND(Worksheet!$D$8,RAND()<0.2),3,IF(RAND()<Worksheet!$D$7/100,1,2))","v":1},{"$f":"IF(I344=1,C344-F344,IF(I344=2,C344-F344/1000,IF(I344=3,(1-F344/100)*C344,\"\")))","v":69}," m",{"$f":"J344*1000","v":69000},"mm",{"$f":"IF(I344=1,C344+F344,IF(I344=2,C344+F344/1000,IF(I344=3,(1+F344/100)*C344,\"\")))","v":71},"  m",{"$f":"N344*1000","v":71000},"mm"]
[{"$f":"IF(COUNTIF($B$1:B345,TRUE)=COUNTIF($B$1:B344,TRUE),\"\",COUNTIF($B$1:B345,TRUE))","v":250},{"$f":"Worksheet!$B$15","v":true},{"$f":"RANDBETWEEN(5,20)","v":13},"hours","±",{"$f":"IF(I345=1,H345*10^RANDBETWEEN(IF(Worksheet!$D$9,-1,0),0),IF(I345=2,H345,CHOOSE(RANDBETWEEN(1,3),5,10,20)))","v":8},{"$f":"IF(I345=1,D345,IF(I345=3,\"%\",\"min\"))","v":"min"},8,{"$f":"IF(AND(Worksheet!$D$8,RAND()<0),3,IF(RAND()<Worksheet!$D$7/100,1,2))","v":2},null," hours",{"$f":"IF(I345=1,C345-F345,IF(I345=2,C345*60-F345,\"\"))","v":772},{"$f":"IF($I345=1,\" hours\",\" min\")","v":" min"},null,"  hours",{"$f":"IF(I345=1,C345+F345,IF(I345=2,C345*60+F345,\"\"))","v":788},{"$f":"IF($I345=1,\" hours\",\" min\")","v":" min"}]
[{"$f":"IF(COUNTIF($B$1:B346,TRUE)=COUNTIF($B$1:B345,TRUE),\"\",COUNTIF($B$1:B346,TRUE))","v":251},{"$f":"Worksheet!$D$11","v":true},{"$f":"RANDBETWEEN(5,RANDBETWEEN(5,Worksheet!$D$6))","v":353},"kg","±",{"$f":"IF(I346=1,H346*10^RANDBETWEEN(IF(Worksheet!$D$9,-1,0),0),IF(I346=2,H346*10^RANDBETWEEN(RANDBETWEEN(0,2),2),CHOOSE(RANDBETWEEN(1,3),5,10,20)))","v":50},{"$f":"IF(I346=1,D346,IF(I346=3,\"%\",\"g\"))","v":"g"},5,{"$f":"IF(AND(Worksheet!$D$8,RAND()<0.2),3,IF(RAND()<Worksheet!$D$7/100,1,2))","v":2},{"$f":"IF(I346=1,C346-F346,IF(I346=2,C346-F346/1000,IF(I346=3,(1-F346/100)*C346,\"\")))","v":352.95}," kg",{"$f":"J346*1000","v":352950},"g",{"$f":"IF(I346=1,C346+F346,IF(I346=2,C346+F346/1000,IF(I346=3,(1+F346/100)*C346,\"\")))","v":353.05},"  kg",{"$f":"N346*1000","v":353050},"g"]
[{"$f":"IF(COUNTIF($B$1:B347,TRUE)=COUNTIF($B$1:B346,TRUE),\"\",COUNTIF($B$1:B347,TRUE))","v":252},{"$f":"Worksheet!$D$12","v":true},{"$f":"RANDBETWEEN(5,RANDBETWEEN(5,Worksheet!$D$6))","v":111},"tonnes","±",{"$f":"IF(I347=1,H347*10^RANDBETWEEN(IF(Worksheet!$D$9,-1,0),0),IF(I347=2,H347*10^RANDBETWEEN(RANDBETWEEN(0,2),2),CHOOSE(RANDBETWEEN(1,3),5,10,20)))","v":50},{"$f":"IF(I347=1,D347,IF(I347=3,\"%\",\"kg\"))","v":"kg"},5,{"$f":"IF(AND(Worksheet!$D$8,RAND()<0.2),3,IF(RAND()<Worksheet!$D$7/100,1,2))","v":2},{"$f":"IF(I347=1,C347-F347,IF(I347=2,C347-F347/1000,IF(I347=3,(1-F347/100)*C347,\"\")))","v":110.95}," tonnes",{"$f":"J347*1000","v":110950},"kg",{"$f":"IF(I347=1,C347+F347,IF(I347=2,C347+F347/1000,IF(I347=3,(1+F347/100)*C347,\"\")))","v":111.05},"  tonnes",{"$f":"N347*1000","v":111050},"kg"]
[{"$f":"IF(COUNTIF($B$1:B348,TRUE)=COUNTIF($B$1:B347,TRUE),\"\",COUNTIF($B$1:B348,TRUE))","v":253},{"$f":"Worksheet!$D$13","v":true},{"$f":"RANDBETWEEN(5,RANDBETWEEN(5,Worksheet!$D$6))","v":108},"litres","±",{"$f":"IF(I348=1,H348*10^RANDBETWEEN(IF(Worksheet!$D$9,-1,0),0),IF(I348=2,H348*10^RANDBETWEEN(RANDBETWEEN(0,2),2),CHOOSE(RANDBETWEEN(1,3),5,10,20)))","v":0.1},{"$f":"IF(I348=1,D348,IF(I348=3,\"%\",\"ml\"))","v":"litres"},1,{"$f":"IF(AND(Worksheet!$D$8,RAND()<0.2),3,IF(RAND()<Worksheet!$D$7/100,1,2))","v":1},{"$f":"IF(I348=1,C348-F348,IF(I348=2,C348-F348/1000,IF(I348=3,(1-F348/100)*C348,\"\")))","v":107.9}," litres",{"$f":"J348*1000","v":107900},"ml",{"$f":"IF(I348=1,C348+F348,IF(I348=2,C348+F348/1000,IF(I348=3,(1+F348/100)*C348,\"\")))","v":108.1},"  litres",{"$f":"N348*1000","v":108100},"ml"]
[{"$f":"IF(COUNTIF($B$1:B349,TRUE)=COUNTIF($B$1:B348,TRUE),\"\",COUNTIF($B$1:B349,TRUE))","v":254},{"$f":"Worksheet!$D$14","v":true},{"$f":"RANDBETWEEN(5,RANDBETWEEN(5,Worksheet!$D$6))","v":55},"litres","±",{"$f":"IF(I349=1,H349*10^RANDBETWEEN(IF(Worksheet!$D$9,-1,0),0),IF(I349=2,H349*10^RANDBETWEEN(RANDBETWEEN(0,2),2),CHOOSE(RANDBETWEEN(1,3),5,10,20)))","v":10},{"$f":"IF(I349=1,D349,IF(I349=3,\"%\",\"cm³\"))","v":"%"},4,{"$f":"IF(AND(Worksheet!$D$8,RAND()<0.2),3,IF(RAND()<Worksheet!$D$7/100,1,2))","v":3},{"$f":"IF(I349=1,C349-F349,IF(I349=2,C349-F349/1000,IF(I349=3,(1-F349/100)*C349,\"\")))","v":49.5}," litres",{"$f":"J349*1000","v":49500},"cm³",{"$f":"IF(I349=1,C349+F349,IF(I349=2,C349+F349/1000,IF(I349=3,(1+F349/100)*C349,\"\")))","v":60.500000000000007},"  litres",{"$f":"N349*1000","v":60500.000000000007},"cm³"]
[{"$f":"IF(COUNTIF($B$1:B350,TRUE)=COUNTIF($B$1:B349,TRUE),\"\",COUNTIF($B$1:B350,TRUE))","v":""},{"$f":"Worksheet!$D$15","v":false},{"$f":"RANDBETWEEN(5,20)","v":6},"min","±",{"$f":"IF(I350=1,H350*10^RANDBETWEEN(IF(Worksheet!$D$9,-1,0),0),IF(I350=2,H350,CHOOSE(RANDBETWEEN(1,3),5,10,20)))","v":6},{"$f":"IF(I350=1,D350,IF(I350=3,\"%\",\"sec\"))","v":"min"},6,{"$f":"IF(AND(Worksheet!$D$8,RAND()<0),3,IF(RAND()<Worksheet!$D$7/100,1,2))","v":1},null," min",{"$f":"IF(I350=1,C350-F350,IF(I350=2,C350*60-F350,\"\"))","v":0},{"$f":"IF($I350=1,\" hours\",\" min\")","v":" hours"},null,"  min",{"$f":"IF(I350=1,C350+F350,IF(I350=2,C350*60+F350,\"\"))","v":12},{"$f":"IF($I350=1,\" hours\",\" min\")","v":" hours"}]
[{"$f":"COUNTIF($B$1:B351,TRUE)","v":255},{"$f":"Worksheet!$B$11","v":true},{"$f":"RANDBETWEEN(5,RANDBETWEEN(5,Worksheet!$D$6))","v":34},"cm","±",{"$f":"IF(I351=1,H351*10^RANDBETWEEN(IF(Worksheet!$D$9,-1,0),0),IF(I351=2,H351,CHOOSE(RANDBETWEEN(1,3),5,10,20)))","v":0.5},{"$f":"IF(I351=1,D351,IF(I351=3,\"%\",\"mm\"))","v":"cm"},{"$f":"RANDBETWEEN(1,MIN(9,C351))","v":5},{"$f":"IF(AND(Worksheet!$D$8,RAND()<0.2),3,IF(RAND()<Worksheet!$D$7/100,1,2))","v":1},{"$f":"IF(I351=1,C351-F351,IF(I351=2,C351-F351/10,IF(I351=3,(1-F351/100)*C351,\"\")))","v":33.5},{"$f":"CONCATENATE(\" \",D351)","v":" cm"},{"$f":"J351*10","v":335},"mm",{"$f":"IF(I351=1,C351+F351,IF(I351=2,C351+F351/10,IF(I351=3,(1+F351/100)*C351,\"\")))","v":34.5},{"$f":"CONCATENATE(\" \",K351)","v":"  cm"},{"$f":"N351*10","v":345},"mm"]
[{"$f":"IF(COUNTIF($B$1:B352,TRUE)=COUNTIF($B$1:B351,TRUE),\"\",COUNTIF($B$1:B352,TRUE))","v":256},{"$f":"Worksheet!$B$12","v":true},{"$f":"RANDBETWEEN(5,RANDBETWEEN(5,Worksheet!$D$6))","v":19},"m","±",{"$f":"IF(I352=1,H352*10^RANDBETWEEN(IF(Worksheet!$D$9,-1,0),0),IF(I352=2,H352*10^RANDBETWEEN(RANDBETWEEN(0,1),1),CHOOSE(RANDBETWEEN(1,3),5,10,20)))","v":4},{"$f":"IF(I352=1,D352,IF(I352=3,\"%\",\"cm\"))","v":"m"},{"$f":"RANDBETWEEN(1,MIN(9,C352))","v":4},{"$f":"IF(AND(Worksheet!$D$8,RAND()<0.2),3,IF(RAND()<Worksheet!$D$7/100,1,2))","v":1},{"$f":"IF(I352=1,C352-F352,IF(I352=2,C352-F352/100,IF(I352=3,(1-F352/100)*C352,\"\")))","v":15},{"$f":"CONCATENATE(\" \",D352)","v":" m"},{"$f":"J352*100","v":1500},"cm",{"$f":"IF(I352=1,C352+F352,IF(I352=2,C352+F352/100,IF(I352=3,(1+F352/100)*C352,\"\")))","v":23},{"$f":"CONCATENATE(\" \",K352)","v":"  m"},{"$f":"N352*100","v":2300},"cm"]
[{"$f":"IF(COUNTIF($B$1:B353,TRUE)=COUNTIF($B$1:B352,TRUE),\"\",COUNTIF($B$1:B353,TRUE))","v":257},{"$f":"Worksheet!$B$13","v":true},{"$f":"RANDBETWEEN(5,RANDBETWEEN(5,Worksheet!$D$6))","v":233},"km","±",{"$f":"IF(I353=1,H353*10^RANDBETWEEN(IF(Worksheet!$D$9,-1,0),0),IF(I353=2,H353*10^RANDBETWEEN(RANDBETWEEN(0,2),2),CHOOSE(RANDBETWEEN(1,3),5,10,20)))","v":700},{"$f":"IF(I353=1,D353,IF(I353=3,\"%\",\"m\"))","v":"m"},7,{"$f":"IF(AND(Worksheet!$D$8,RAND()<0.2),3,IF(RAND()<Worksheet!$D$7/100,1,2))","v":2},{"$f":"IF(I353=1,C353-F353,IF(I353=2,C353-F353/1000,IF(I353=3,(1-F353/100)*C353,\"\")))","v":232.3}," km",{"$f":"J353*1000","v":232300},"m",{"$f":"IF(I353=1,C353+F353,IF(I353=2,C353+F353/1000,IF(I353=3,(1+F353/100)*C353,\"\")))","v":233.7},"  km",{"$f":"N353*1000","v":233700},"m"]
[{"$f":"IF(COUNTIF($B$1:B354,TRUE)=COUNTIF($B$1:B353,TRUE),\"\",COUNTIF($B$1:B354,TRUE))","v":""},{"$f":"Worksheet!$B$14","v":false},{"$f":"RANDBETWEEN(5,RANDBETWEEN(5,Worksheet!$D$6))","v":33},"m","±",{"$f":"IF(I354=1,H354*10^RANDBETWEEN(IF(Worksheet!$D$9,-1,0),0),IF(I354=2,H354*10^RANDBETWEEN(RANDBETWEEN(0,2),2),CHOOSE(RANDBETWEEN(1,3),5,10,20)))","v":200},{"$f":"IF(I354=1,D354,IF(I354=3,\"%\",\"mm\"))","v":"mm"},2,{"$f":"IF(AND(Worksheet!$D$8,RAND()<0.2),3,IF(RAND()<Worksheet!$D$7/100,1,2))","v":2},{"$f":"IF(I354=1,C354-F354,IF(I354=2,C354-F354/1000,IF(I354=3,(1-F354/100)*C354,\"\")))","v":32.799999999999997}," m",{"$f":"J354*1000","v":32800},"mm",{"$f":"IF(I354=1,C354+F354,IF(I354=2,C354+F354/1000,IF(I354=3,(1+F354/100)*C354,\"\")))","v":33.200000000000003},"  m",{"$f":"N354*1000","v":33200},"mm"]
[{"$f":"IF(COUNTIF($B$1:B355,TRUE)=COUNTIF($B$1:B354,TRUE),\"\",COUNTIF($B$1:B355,TRUE))","v":258},{"$f":"Worksheet!$B$15","v":true},{"$f":"RANDBETWEEN(5,20)","v":20},"hours","±",{"$f":"IF(I355=1,H355*10^RANDBETWEEN(IF(Worksheet!$D$9,-1,0),0),IF(I355=2,H355,CHOOSE(RANDBETWEEN(1,3),5,10,20)))","v":4},{"$f":"IF(I355=1,D355,IF(I355=3,\"%\",\"min\"))","v":"hours"},4,{"$f":"IF(AND(Worksheet!$D$8,RAND()<0),3,IF(RAND()<Worksheet!$D$7/100,1,2))","v":1},null," hours",{"$f":"IF(I355=1,C355-F355,IF(I355=2,C355*60-F355,\"\"))","v":16},{"$f":"IF($I355=1,\" hours\",\" min\")","v":" hours"},null,"  hours",{"$f":"IF(I355=1,C355+F355,IF(I355=2,C355*60+F355,\"\"))","v":24},{"$f":"IF($I355=1,\" hours\",\" min\")","v":" hours"}]
[{"$f":"IF(COUNTIF($B$1:B356,TRUE)=COUNTIF($B$1:B355,TRUE),\"\",COUNTIF($B$1:B356,TRUE))","v":259},{"$f":"Worksheet!$D$11","v":true},{"$f":"RANDBETWEEN(5,RANDBETWEEN(5,Worksheet!$D$6))","v":21},"kg","±",{"$f":"IF(I356=1,H356*10^RANDBETWEEN(IF(Worksheet!$D$9,-1,0),0),IF(I356=2,H356*10^RANDBETWEEN(RANDBETWEEN(0,2),2),CHOOSE(RANDBETWEEN(1,3),5,10,20)))","v":4},{"$f":"IF(I356=1,D356,IF(I356=3,\"%\",\"g\"))","v":"kg"},4,{"$f":"IF(AND(Worksheet!$D$8,RAND()<0.2),3,IF(RAND()<Worksheet!$D$7/100,1,2))","v":1},{"$f":"IF(I356=1,C356-F356,IF(I356=2,C356-F356/1000,IF(I356=3,(1-F356/100)*C356,\"\")))","v":17}," kg",{"$f":"J356*1000","v":17000},"g",{"$f":"IF(I356=1,C356+F356,IF(I356=2,C356+F356/1000,IF(I356=3,(1+F356/100)*C356,\"\")))","v":25},"  kg",{"$f":"N356*1000","v":25000},"g"]
[{"$f":"IF(COUNTIF($B$1:B357,TRUE)=COUNTIF($B$1:B356,TRUE),\"\",COUNTIF($B$1:B357,TRUE))","v":260},{"$f":"Worksheet!$D$12","v":true},{"$f":"RANDBETWEEN(5,RANDBETWEEN(5,Worksheet!$D$6))","v":188},"tonnes","±",{"$f":"IF(I357=1,H357*10^RANDBETWEEN(IF(Worksheet!$D$9,-1,0),0),IF(I357=2,H357*10^RANDBETWEEN(RANDBETWEEN(0,2),2),CHOOSE(RANDBETWEEN(1,3),5,10,20)))","v":4},{"$f":"IF(I357=1,D357,IF(I357=3,\"%\",\"kg\"))","v":"tonnes"},4,{"$f":"IF(AND(Worksheet!$D$8,RAND()<0.2),3,IF(RAND()<Worksheet!$D$7/100,1,2))","v":1},{"$f":"IF(I357=1,C357-F357,IF(I357=2,C357-F357/1000,IF(I357=3,(1-F357/100)*C357,\"\")))","v":184}," tonnes",{"$f":"J357*1000","v":184000},"kg",{"$f":"IF(I357=1,C357+F357,IF(I357=2,C357+F357/1000,IF(I357=3,(1+F357/100)*C357,\"\")))","v":192},"  tonnes",{"$f":"N357*1000","v":192000},"kg"]
[{"$f":"IF(COUNTIF($B$1:B358,TRUE)=COUNTIF($B$1:B357,TRUE),\"\",COUNTIF($B$1:B358,TRUE))","v":261},{"$f":"Worksheet!$D$13","v":true},{"$f":"RANDBETWEEN(5,RANDBETWEEN(5,Worksheet!$D$6))","v":105},"litres","±",{"$f":"IF(I358=1,H358*10^RANDBETWEEN(IF(Worksheet!$D$9,-1,0),0),IF(I358=2,H358*10^RANDBETWEEN(RANDBETWEEN(0,2),2),CHOOSE(RANDBETWEEN(1,3),5,10,20)))","v":10},{"$f":"IF(I358=1,D358,IF(I358=3,\"%\",\"ml\"))","v":"%"},7,{"$f":"IF(AND(Worksheet!$D$8,RAND()<0.2),3,IF(RAND()<Worksheet!$D$7/100,1,2))","v":3},{"$f":"IF(I358=1,C358-F358,IF(I358=2,C358-F358/1000,IF(I358=3,(1-F358/100)*C358,\"\")))","v":94.5}," litres",{"$f":"J358*1000","v":94500},"ml",{"$f":"IF(I358=1,C358+F358,IF(I358=2,C358+F358/1000,IF(I358=3,(1+F358/100)*C358,\"\")))","v":115.50000000000001},"  litres",{"$f":"N358*1000","v":115500.00000000001},"ml"]
[{"$f":"IF(COUNTIF($B$1:B359,TRUE)=COUNTIF($B$1:B358,TRUE),\"\",COUNTIF($B$1:B359,TRUE))","v":262},{"$f":"Worksheet!$D$14","v":true},{"$f":"RANDBETWEEN(5,RANDBETWEEN(5,Worksheet!$D$6))","v":149},"litres","±",{"$f":"IF(I359=1,H359*10^RANDBETWEEN(IF(Worksheet!$D$9,-1,0),0),IF(I359=2,H359*10^RANDBETWEEN(RANDBETWEEN(0,2),2),CHOOSE(RANDBETWEEN(1,3),5,10,20)))","v":200},{"$f":"IF(I359=1,D359,IF(I359=3,\"%\",\"cm³\"))","v":"cm³"},2,{"$f":"IF(AND(Worksheet!$D$8,RAND()<0.2),3,IF(RAND()<Worksheet!$D$7/100,1,2))","v":2},{"$f":"IF(I359=1,C359-F359,IF(I359=2,C359-F359/1000,IF(I359=3,(1-F359/100)*C359,\"\")))","v":148.80000000000001}," litres",{"$f":"J359*1000","v":148800},"cm³",{"$f":"IF(I359=1,C359+F359,IF(I359=2,C359+F359/1000,IF(I359=3,(1+F359/100)*C359,\"\")))","v":149.19999999999999},"  litres",{"$f":"N359*1000","v":149200},"cm³"]
[{"$f":"IF(COUNTIF($B$1:B360,TRUE)=COUNTIF($B$1:B359,TRUE),\"\",COUNTIF($B$1:B360,TRUE))","v":""},{"$f":"Worksheet!$D$15","v":false},{"$f":"RANDBETWEEN(5,20)","v":16},"min","±",{"$f":"IF(I360=1,H360*10^RANDBETWEEN(IF(Worksheet!$D$9,-1,0),0),IF(I360=2,H360,CHOOSE(RANDBETWEEN(1,3),5,10,20)))","v":9},{"$f":"IF(I360=1,D360,IF(I360=3,\"%\",\"sec\"))","v":"min"},9,{"$f":"IF(AND(Worksheet!$D$8,RAND()<0),3,IF(RAND()<Worksheet!$D$7/100,1,2))","v":1},null," min",{"$f":"IF(I360=1,C360-F360,IF(I360=2,C360*60-F360,\"\"))","v":7},{"$f":"IF($I360=1,\" hours\",\" min\")","v":" hours"},null,"  min",{"$f":"IF(I360=1,C360+F360,IF(I360=2,C360*60+F360,\"\"))","v":25},{"$f":"IF($I360=1,\" hours\",\" min\")","v":" hours"}]
[{"$f":"COUNTIF($B$1:B361,TRUE)","v":263},{"$f":"Worksheet!$B$11","v":true},{"$f":"RANDBETWEEN(5,RANDBETWEEN(5,Worksheet!$D$6))","v":17},"cm","±",{"$f":"IF(I361=1,H361*10^RANDBETWEEN(IF(Worksheet!$D$9,-1,0),0),IF(I361=2,H361,CHOOSE(RANDBETWEEN(1,3),5,10,20)))","v":5},{"$f":"IF(I361=1,D361,IF(I361=3,\"%\",\"mm\"))","v":"%"},{"$f":"RANDBETWEEN(1,MIN(9,C361))","v":7},{"$f":"IF(AND(Worksheet!$D$8,RAND()<0.2),3,IF(RAND()<Worksheet!$D$7/100,1,2))","v":3},{"$f":"IF(I361=1,C361-F361,IF(I361=2,C361-F361/10,IF(I361=3,(1-F361/100)*C361,\"\")))","v":16.149999999999999},{"$f":"CONCATENATE(\" \",D361)","v":" cm"},{"$f":"J361*10","v":161.5},"mm",{"$f":"IF(I361=1,C361+F361,IF(I361=2,C361+F361/10,IF(I361=3,(1+F361/100)*C361,\"\")))","v":17.850000000000001},{"$f":"CONCATENATE(\" \",K361)","v":"  cm"},{"$f":"N361*10","v":178.5},"mm"]
[{"$f":"IF(COUNTIF($B$1:B362,TRUE)=COUNTIF($B$1:B361,TRUE),\"\",COUNTIF($B$1:B362,TRUE))","v":264},{"$f":"Worksheet!$B$12","v":true},{"$f":"RANDBETWEEN(5,RANDBETWEEN(5,Worksheet!$D$6))","v":7},"m","±",{"$f":"IF(I362=1,H362*10^RANDBETWEEN(IF(Worksheet!$D$9,-1,0),0),IF(I362=2,H362*10^RANDBETWEEN(RANDBETWEEN(0,1),1),CHOOSE(RANDBETWEEN(1,3),5,10,20)))","v":6},{"$f":"IF(I362=1,D362,IF(I362=3,\"%\",\"cm\"))","v":"m"},{"$f":"RANDBETWEEN(1,MIN(9,C362))","v":6},{"$f":"IF(AND(Worksheet!$D$8,RAND()<0.2),3,IF(RAND()<Worksheet!$D$7/100,1,2))","v":1},{"$f":"IF(I362=1,C362-F362,IF(I362=2,C362-F362/100,IF(I362=3,(1-F362/100)*C362,\"\")))","v":1},{"$f":"CONCATENATE(\" \",D362)","v":" m"},{"$f":"J362*100","v":100},"cm",{"$f":"IF(I362=1,C362+F362,IF(I362=2,C362+F362/100,IF(I362=3,(1+F362/100)*C362,\"\")))","v":13},{"$f":"CONCATENATE(\" \",K362)","v":"  m"},{"$f":"N362*100","v":1300},"cm"]
[{"$f":"IF(COUNTIF($B$1:B363,TRUE)=COUNTIF($B$1:B362,TRUE),\"\",COUNTIF($B$1:B363,TRUE))","v":265},{"$f":"Worksheet!$B$13","v":true},{"$f":"RANDBETWEEN(5,RANDBETWEEN(5,Worksheet!$D$6))","v":166},"km","±",{"$f":"IF(I363=1,H363*10^RANDBETWEEN(IF(Worksheet!$D$9,-1,0),0),IF(I363=2,H363*10^RANDBETWEEN(RANDBETWEEN(0,2),2),CHOOSE(RANDBETWEEN(1,3),5,10,20)))","v":20},{"$f":"IF(I363=1,D363,IF(I363=3,\"%\",\"m\"))","v":"%"},3,{"$f":"IF(AND(Worksheet!$D$8,RAND()<0.2),3,IF(RAND()<Worksheet!$D$7/100,1,2))","v":3},{"$f":"IF(I363=1,C363-F363,IF(I363=2,C363-F363/1000,IF(I363=3,(1-F363/100)*C363,\"\")))","v":132.80000000000001}," km",{"$f":"J363*1000","v":132800},"m",{"$f":"IF(I363=1,C363+F363,IF(I363=2,C363+F363/1000,IF(I363=3,(1+F363/100)*C363,\"\")))","v":199.2},"  km",{"$f":"N363*1000","v":199200},"m"]
[{"$f":"IF(COUNTIF($B$1:B364,TRUE)=COUNTIF($B$1:B363,TRUE),\"\",COUNTIF($B$1:B364,TRUE))","v":""},{"$f":"Worksheet!$B$14","v":false},{"$f":"RANDBETWEEN(5,RANDBETWEEN(5,Worksheet!$D$6))","v":211},"m","±",{"$f":"IF(I364=1,H364*10^RANDBETWEEN(IF(Worksheet!$D$9,-1,0),0),IF(I364=2,H364*10^RANDBETWEEN(RANDBETWEEN(0,2),2),CHOOSE(RANDBETWEEN(1,3),5,10,20)))","v":10},{"$f":"IF(I364=1,D364,IF(I364=3,\"%\",\"mm\"))","v":"%"},1,{"$f":"IF(AND(Worksheet!$D$8,RAND()<0.2),3,IF(RAND()<Worksheet!$D$7/100,1,2))","v":3},{"$f":"IF(I364=1,C364-F364,IF(I364=2,C364-F364/1000,IF(I364=3,(1-F364/100)*C364,\"\")))","v":189.9}," m",{"$f":"J364*1000","v":189900},"mm",{"$f":"IF(I364=1,C364+F364,IF(I364=2,C364+F364/1000,IF(I364=3,(1+F364/100)*C364,\"\")))","v":232.10000000000002},"  m",{"$f":"N364*1000","v":232100.00000000003},"mm"]
[{"$f":"IF(COUNTIF($B$1:B365,TRUE)=COUNTIF($B$1:B364,TRUE),\"\",COUNTIF($B$1:B365,TRUE))","v":266},{"$f":"Worksheet!$B$15","v":true},{"$f":"RANDBETWEEN(5,20)","v":19},"hours","±",{"$f":"IF(I365=1,H365*10^RANDBETWEEN(IF(Worksheet!$D$9,-1,0),0),IF(I365=2,H365,CHOOSE(RANDBETWEEN(1,3),5,10,20)))","v":6},{"$f":"IF(I365=1,D365,IF(I365=3,\"%\",\"min\"))","v":"hours"},6,{"$f":"IF(AND(Worksheet!$D$8,RAND()<0),3,IF(RAND()<Worksheet!$D$7/100,1,2))","v":1},null," hours",{"$f":"IF(I365=1,C365-F365,IF(I365=2,C365*60-F365,\"\"))","v":13},{"$f":"IF($I365=1,\" hours\",\" min\")","v":" hours"},null,"  hours",{"$f":"IF(I365=1,C365+F365,IF(I365=2,C365*60+F365,\"\"))","v":25},{"$f":"IF($I365=1,\" hours\",\" min\")","v":" hours"}]
[{"$f":"IF(COUNTIF($B$1:B366,TRUE)=COUNTIF($B$1:B365,TRUE),\"\",COUNTIF($B$1:B366,TRUE))","v":267},{"$f":"Worksheet!$D$11","v":true},{"$f":"RANDBETWEEN(5,RANDBETWEEN(5,Worksheet!$D$6))","v":105},"kg","±",{"$f":"IF(I366=1,H366*10^RANDBETWEEN(IF(Worksheet!$D$9,-1,0),0),IF(I366=2,H366*10^RANDBETWEEN(RANDBETWEEN(0,2),2),CHOOSE(RANDBETWEEN(1,3),5,10,20)))","v":0.2},{"$f":"IF(I366=1,D366,IF(I366=3,\"%\",\"g\"))","v":"kg"},2,{"$f":"IF(AND(Worksheet!$D$8,RAND()<0.2),3,IF(RAND()<Worksheet!$D$7/100,1,2))","v":1},{"$f":"IF(I366=1,C366-F366,IF(I366=2,C366-F366/1000,IF(I366=3,(1-F366/100)*C366,\"\")))","v":104.8}," kg",{"$f":"J366*1000","v":104800},"g",{"$f":"IF(I366=1,C366+F366,IF(I366=2,C366+F366/1000,IF(I366=3,(1+F366/100)*C366,\"\")))","v":105.2},"  kg",{"$f":"N366*1000","v":105200},"g"]
[{"$f":"IF(COUNTIF($B$1:B367,TRUE)=COUNTIF($B$1:B366,TRUE),\"\",COUNTIF($B$1:B367,TRUE))","v":268},{"$f":"Worksheet!$D$12","v":true},{"$f":"RANDBETWEEN(5,RANDBETWEEN(5,Worksheet!$D$6))","v":71},"tonnes","±",{"$f":"IF(I367=1,H367*10^RANDBETWEEN(IF(Worksheet!$D$9,-1,0),0),IF(I367=2,H367*10^RANDBETWEEN(RANDBETWEEN(0,2),2),CHOOSE(RANDBETWEEN(1,3),5,10,20)))","v":0.2},{"$f":"IF(I367=1,D367,IF(I367=3,\"%\",\"kg\"))","v":"tonnes"},2,{"$f":"IF(AND(Worksheet!$D$8,RAND()<0.2),3,IF(RAND()<Worksheet!$D$7/100,1,2))","v":1},{"$f":"IF(I367=1,C367-F367,IF(I367=2,C367-F367/1000,IF(I367=3,(1-F367/100)*C367,\"\")))","v":70.8}," tonnes",{"$f":"J367*1000","v":70800},"kg",{"$f":"IF(I367=1,C367+F367,IF(I367=2,C367+F367/1000,IF(I367=3,(1+F367/100)*C367,\"\")))","v":71.2},"  tonnes",{"$f":"N367*1000","v":71200},"kg"]
[{"$f":"IF(COUNTIF($B$1:B368,TRUE)=COUNTIF($B$1:B367,TRUE),\"\",COUNTIF($B$1:B368,TRUE))","v":269},{"$f":"Worksheet!$D$13","v":true},{"$f":"RANDBETWEEN(5,RANDBETWEEN(5,Worksheet!$D$6))","v":94},"litres","±",{"$f":"IF(I368=1,H368*10^RANDBETWEEN(IF(Worksheet!$D$9,-1,0),0),IF(I368=2,H368*10^RANDBETWEEN(RANDBETWEEN(0,2),2),CHOOSE(RANDBETWEEN(1,3),5,10,20)))","v":8},{"$f":"IF(I368=1,D368,IF(I368=3,\"%\",\"ml\"))","v":"litres"},8,{"$f":"IF(AND(Worksheet!$D$8,RAND()<0.2),3,IF(RAND()<Worksheet!$D$7/100,1,2))","v":1},{"$f":"IF(I368=1,C368-F368,IF(I368=2,C368-F368/1000,IF(I368=3,(1-F368/100)*C368,\"\")))","v":86}," litres",{"$f":"J368*1000","v":86000},"ml",{"$f":"IF(I368=1,C368+F368,IF(I368=2,C368+F368/1000,IF(I368=3,(1+F368/100)*C368,\"\")))","v":102},"  litres",{"$f":"N368*1000","v":102000},"ml"]
[{"$f":"IF(COUNTIF($B$1:B369,TRUE)=COUNTIF($B$1:B368,TRUE),\"\",COUNTIF($B$1:B369,TRUE))","v":270},{"$f":"Worksheet!$D$14","v":true},{"$f":"RANDBETWEEN(5,RANDBETWEEN(5,Worksheet!$D$6))","v":74},"litres","±",{"$f":"IF(I369=1,H369*10^RANDBETWEEN(IF(Worksheet!$D$9,-1,0),0),IF(I369=2,H369*10^RANDBETWEEN(RANDBETWEEN(0,2),2),CHOOSE(RANDBETWEEN(1,3),5,10,20)))","v":0.60000000000000009},{"$f":"IF(I369=1,D369,IF(I369=3,\"%\",\"cm³\"))","v":"litres"},6,{"$f":"IF(AND(Worksheet!$D$8,RAND()<0.2),3,IF(RAND()<Worksheet!$D$7/100,1,2))","v":1},{"$f":"IF(I369=1,C369-F369,IF(I369=2,C369-F369/1000,IF(I369=3,(1-F369/100)*C369,\"\")))","v":73.400000000000006}," litres",{"$f":"J369*1000","v":73400},"cm³",{"$f":"IF(I369=1,C369+F369,IF(I369=2,C369+F369/1000,IF(I369=3,(1+F369/100)*C369,\"\")))","v":74.599999999999994},"  litres",{"$f":"N369*1000","v":74600},"cm³"]
[{"$f":"IF(COUNTIF($B$1:B370,TRUE)=COUNTIF($B$1:B369,TRUE),\"\",COUNTIF($B$1:B370,TRUE))","v":""},{"$f":"Worksheet!$D$15","v":false},{"$f":"RANDBETWEEN(5,20)","v":6},"min","±",{"$f":"IF(I370=1,H370*10^RANDBETWEEN(IF(Worksheet!$D$9,-1,0),0),IF(I370=2,H370,CHOOSE(RANDBETWEEN(1,3),5,10,20)))","v":0.4},{"$f":"IF(I370=1,D370,IF(I370=3,\"%\",\"sec\"))","v":"min"},4,{"$f":"IF(AND(Worksheet!$D$8,RAND()<0),3,IF(RAND()<Worksheet!$D$7/100,1,2))","v":1},null," min",{"$f":"IF(I370=1,C370-F370,IF(I370=2,C370*60-F370,\"\"))","v":5.6},{"$f":"IF($I370=1,\" hours\",\" min\")","v":" hours"},null,"  min",{"$f":"IF(I370=1,C370+F370,IF(I370=2,C370*60+F370,\"\"))","v":6.4},{"$f":"IF($I370=1,\" hours\",\" min\")","v":" hours"}]
[{"$f":"COUNTIF($B$1:B371,TRUE)","v":271},{"$f":"Worksheet!$B$11","v":true},{"$f":"RANDBETWEEN(5,RANDBETWEEN(5,Worksheet!$D$6))","v":314},"cm","±",{"$f":"IF(I371=1,H371*10^RANDBETWEEN(IF(Worksheet!$D$9,-1,0),0),IF(I371=2,H371,CHOOSE(RANDBETWEEN(1,3),5,10,20)))","v":8},{"$f":"IF(I371=1,D371,IF(I371=3,\"%\",\"mm\"))","v":"cm"},{"$f":"RANDBETWEEN(1,MIN(9,C371))","v":8},{"$f":"IF(AND(Worksheet!$D$8,RAND()<0.2),3,IF(RAND()<Worksheet!$D$7/100,1,2))","v":1},{"$f":"IF(I371=1,C371-F371,IF(I371=2,C371-F371/10,IF(I371=3,(1-F371/100)*C371,\"\")))","v":306},{"$f":"CONCATENATE(\" \",D371)","v":" cm"},{"$f":"J371*10","v":3060},"mm",{"$f":"IF(I371=1,C371+F371,IF(I371=2,C371+F371/10,IF(I371=3,(1+F371/100)*C371,\"\")))","v":322},{"$f":"CONCATENATE(\" \",K371)","v":"  cm"},{"$f":"N371*10","v":3220},"mm"]
[{"$f":"IF(COUNTIF($B$1:B372,TRUE)=COUNTIF($B$1:B371,TRUE),\"\",COUNTIF($B$1:B372,TRUE))","v":272},{"$f":"Worksheet!$B$12","v":true},{"$f":"RANDBETWEEN(5,RANDBETWEEN(5,Worksheet!$D$6))","v":17},"m","±",{"$f":"IF(I372=1,H372*10^RANDBETWEEN(IF(Worksheet!$D$9,-1,0),0),IF(I372=2,H372*10^RANDBETWEEN(RANDBETWEEN(0,1),1),CHOOSE(RANDBETWEEN(1,3),5,10,20)))","v":9},{"$f":"IF(I372=1,D372,IF(I372=3,\"%\",\"cm\"))","v":"m"},{"$f":"RANDBETWEEN(1,MIN(9,C372))","v":9},{"$f":"IF(AND(Worksheet!$D$8,RAND()<0.2),3,IF(RAND()<Worksheet!$D$7/100,1,2))","v":1},{"$f":"IF(I372=1,C372-F372,IF(I372=2,C372-F372/100,IF(I372=3,(1-F372/100)*C372,\"\")))","v":8},{"$f":"CONCATENATE(\" \",D372)","v":" m"},{"$f":"J372*100","v":800},"cm",{"$f":"IF(I372=1,C372+F372,IF(I372=2,C372+F372/100,IF(I372=3,(1+F372/100)*C372,\"\")))","v":26},{"$f":"CONCATENATE(\" \",K372)","v":"  m"},{"$f":"N372*100","v":2600},"cm"]
[{"$f":"IF(COUNTIF($B$1:B373,TRUE)=COUNTIF($B$1:B372,TRUE),\"\",COUNTIF($B$1:B373,TRUE))","v":273},{"$f":"Worksheet!$B$13","v":true},{"$f":"RANDBETWEEN(5,RANDBETWEEN(5,Worksheet!$D$6))","v":78},"km","±",{"$f":"IF(I373=1,H373*10^RANDBETWEEN(IF(Worksheet!$D$9,-1,0),0),IF(I373=2,H373*10^RANDBETWEEN(RANDBETWEEN(0,2),2),CHOOSE(RANDBETWEEN(1,3),5,10,20)))","v":10},{"$f":"IF(I373=1,D373,IF(I373=3,\"%\",\"m\"))","v":"%"},9,{"$f":"IF(AND(Worksheet!$D$8,RAND()<0.2),3,IF(RAND()<Worksheet!$D$7/100,1,2))","v":3},{"$f":"IF(I373=1,C373-F373,IF(I373=2,C373-F373/1000,IF(I373=3,(1-F373/100)*C373,\"\")))","v":70.2}," km",{"$f":"J373*1000","v":70200},"m",{"$f":"IF(I373=1,C373+F373,IF(I373=2,C373+F373/1000,IF(I373=3,(1+F373/100)*C373,\"\")))","v":85.800000000000011},"  km",{"$f":"N373*1000","v":85800.000000000015},"m"]
[{"$f":"IF(COUNTIF($B$1:B374,TRUE)=COUNTIF($B$1:B373,TRUE),\"\",COUNTIF($B$1:B374,TRUE))","v":""},{"$f":"Worksheet!$B$14","v":false},{"$f":"RANDBETWEEN(5,RANDBETWEEN(5,Worksheet!$D$6))","v":31},"m","±",{"$f":"IF(I374=1,H374*10^RANDBETWEEN(IF(Worksheet!$D$9,-1,0),0),IF(I374=2,H374*10^RANDBETWEEN(RANDBETWEEN(0,2),2),CHOOSE(RANDBETWEEN(1,3),5,10,20)))","v":0.1},{"$f":"IF(I374=1,D374,IF(I374=3,\"%\",\"mm\"))","v":"m"},1,{"$f":"IF(AND(Worksheet!$D$8,RAND()<0.2),3,IF(RAND()<Worksheet!$D$7/100,1,2))","v":1},{"$f":"IF(I374=1,C374-F374,IF(I374=2,C374-F374/1000,IF(I374=3,(1-F374/100)*C374,\"\")))","v":30.9}," m",{"$f":"J374*1000","v":30900},"mm",{"$f":"IF(I374=1,C374+F374,IF(I374=2,C374+F374/1000,IF(I374=3,(1+F374/100)*C374,\"\")))","v":31.1},"  m",{"$f":"N374*1000","v":31100},"mm"]
[{"$f":"IF(COUNTIF($B$1:B375,TRUE)=COUNTIF($B$1:B374,TRUE),\"\",COUNTIF($B$1:B375,TRUE))","v":274},{"$f":"Worksheet!$B$15","v":true},{"$f":"RANDBETWEEN(5,20)","v":16},"hours","±",{"$f":"IF(I375=1,H375*10^RANDBETWEEN(IF(Worksheet!$D$9,-1,0),0),IF(I375=2,H375,CHOOSE(RANDBETWEEN(1,3),5,10,20)))","v":7},{"$f":"IF(I375=1,D375,IF(I375=3,\"%\",\"min\"))","v":"hours"},7,{"$f":"IF(AND(Worksheet!$D$8,RAND()<0),3,IF(RAND()<Worksheet!$D$7/100,1,2))","v":1},null," hours",{"$f":"IF(I375=1,C375-F375,IF(I375=2,C375*60-F375,\"\"))","v":9},{"$f":"IF($I375=1,\" hours\",\" min\")","v":" hours"},null,"  hours",{"$f":"IF(I375=1,C375+F375,IF(I375=2,C375*60+F375,\"\"))","v":23},{"$f":"IF($I375=1,\" hours\",\" min\")","v":" hours"}]
[{"$f":"IF(COUNTIF($B$1:B376,TRUE)=COUNTIF($B$1:B375,TRUE),\"\",COUNTIF($B$1:B376,TRUE))","v":275},{"$f":"Worksheet!$D$11","v":true},{"$f":"RANDBETWEEN(5,RANDBETWEEN(5,Worksheet!$D$6))","v":20},"kg","±",{"$f":"IF(I376=1,H376*10^RANDBETWEEN(IF(Worksheet!$D$9,-1,0),0),IF(I376=2,H376*10^RANDBETWEEN(RANDBETWEEN(0,2),2),CHOOSE(RANDBETWEEN(1,3),5,10,20)))","v":10},{"$f":"IF(I376=1,D376,IF(I376=3,\"%\",\"g\"))","v":"%"},9,{"$f":"IF(AND(Worksheet!$D$8,RAND()<0.2),3,IF(RAND()<Worksheet!$D$7/100,1,2))","v":3},{"$f":"IF(I376=1,C376-F376,IF(I376=2,C376-F376/1000,IF(I376=3,(1-F376/100)*C376,\"\")))","v":18}," kg",{"$f":"J376*1000","v":18000},"g",{"$f":"IF(I376=1,C376+F376,IF(I376=2,C376+F376/1000,IF(I376=3,(1+F376/100)*C376,\"\")))","v":22},"  kg",{"$f":"N376*1000","v":22000},"g"]
[{"$f":"IF(COUNTIF($B$1:B377,TRUE)=COUNTIF($B$1:B376,TRUE),\"\",COUNTIF($B$1:B377,TRUE))","v":276},{"$f":"Worksheet!$D$12","v":true},{"$f":"RANDBETWEEN(5,RANDBETWEEN(5,Worksheet!$D$6))","v":144},"tonnes","±",{"$f":"IF(I377=1,H377*10^RANDBETWEEN(IF(Worksheet!$D$9,-1,0),0),IF(I377=2,H377*10^RANDBETWEEN(RANDBETWEEN(0,2),2),CHOOSE(RANDBETWEEN(1,3),5,10,20)))","v":0.2},{"$f":"IF(I377=1,D377,IF(I377=3,\"%\",\"kg\"))","v":"tonnes"},2,{"$f":"IF(AND(Worksheet!$D$8,RAND()<0.2),3,IF(RAND()<Worksheet!$D$7/100,1,2))","v":1},{"$f":"IF(I377=1,C377-F377,IF(I377=2,C377-F377/1000,IF(I377=3,(1-F377/100)*C377,\"\")))","v":143.80000000000001}," tonnes",{"$f":"J377*1000","v":143800},"kg",{"$f":"IF(I377=1,C377+F377,IF(I377=2,C377+F377/1000,IF(I377=3,(1+F377/100)*C377,\"\")))","v":144.19999999999999},"  tonnes",{"$f":"N377*1000","v":144200},"kg"]
[{"$f":"IF(COUNTIF($B$1:B378,TRUE)=COUNTIF($B$1:B377,TRUE),\"\",COUNTIF($B$1:B378,TRUE))","v":277},{"$f":"Worksheet!$D$13","v":true},{"$f":"RANDBETWEEN(5,RANDBETWEEN(5,Worksheet!$D$6))","v":24},"litres","±",{"$f":"IF(I378=1,H378*10^RANDBETWEEN(IF(Worksheet!$D$9,-1,0),0),IF(I378=2,H378*10^RANDBETWEEN(RANDBETWEEN(0,2),2),CHOOSE(RANDBETWEEN(1,3),5,10,20)))","v":60},{"$f":"IF(I378=1,D378,IF(I378=3,\"%\",\"ml\"))","v":"ml"},6,{"$f":"IF(AND(Worksheet!$D$8,RAND()<0.2),3,IF(RAND()<Worksheet!$D$7/100,1,2))","v":2},{"$f":"IF(I378=1,C378-F378,IF(I378=2,C378-F378/1000,IF(I378=3,(1-F378/100)*C378,\"\")))","v":23.94}," litres",{"$f":"J378*1000","v":23940},"ml",{"$f":"IF(I378=1,C378+F378,IF(I378=2,C378+F378/1000,IF(I378=3,(1+F378/100)*C378,\"\")))","v":24.06},"  litres",{"$f":"N378*1000","v":24060},"ml"]
[{"$f":"IF(COUNTIF($B$1:B379,TRUE)=COUNTIF($B$1:B378,TRUE),\"\",COUNTIF($B$1:B379,TRUE))","v":278},{"$f":"Worksheet!$D$14","v":true},{"$f":"RANDBETWEEN(5,RANDBETWEEN(5,Worksheet!$D$6))","v":165},"litres","±",{"$f":"IF(I379=1,H379*10^RANDBETWEEN(IF(Worksheet!$D$9,-1,0),0),IF(I379=2,H379*10^RANDBETWEEN(RANDBETWEEN(0,2),2),CHOOSE(RANDBETWEEN(1,3),5,10,20)))","v":10},{"$f":"IF(I379=1,D379,IF(I379=3,\"%\",\"cm³\"))","v":"%"},6,{"$f":"IF(AND(Worksheet!$D$8,RAND()<0.2),3,IF(RAND()<Worksheet!$D$7/100,1,2))","v":3},{"$f":"IF(I379=1,C379-F379,IF(I379=2,C379-F379/1000,IF(I379=3,(1-F379/100)*C379,\"\")))","v":148.5}," litres",{"$f":"J379*1000","v":148500},"cm³",{"$f":"IF(I379=1,C379+F379,IF(I379=2,C379+F379/1000,IF(I379=3,(1+F379/100)*C379,\"\")))","v":181.50000000000003},"  litres",{"$f":"N379*1000","v":181500.00000000003},"cm³"]
[{"$f":"IF(COUNTIF($B$1:B380,TRUE)=COUNTIF($B$1:B379,TRUE),\"\",COUNTIF($B$1:B380,TRUE))","v":""},{"$f":"Worksheet!$D$15","v":false},{"$f":"RANDBETWEEN(5,20)","v":10},"min","±",{"$f":"IF(I380=1,H380*10^RANDBETWEEN(IF(Worksheet!$D$9,-1,0),0),IF(I380=2,H380,CHOOSE(RANDBETWEEN(1,3),5,10,20)))","v":1},{"$f":"IF(I380=1,D380,IF(I380=3,\"%\",\"sec\"))","v":"min"},1,{"$f":"IF(AND(Worksheet!$D$8,RAND()<0),3,IF(RAND()<Worksheet!$D$7/100,1,2))","v":1},null," min",{"$f":"IF(I380=1,C380-F380,IF(I380=2,C380*60-F380,\"\"))","v":9},{"$f":"IF($I380=1,\" hours\",\" min\")","v":" hours"},null,"  min",{"$f":"IF(I380=1,C380+F380,IF(I380=2,C380*60+F380,\"\"))","v":11},{"$f":"IF($I380=1,\" hours\",\" min\")","v":" hours"}]
[{"$f":"COUNTIF($B$1:B381,TRUE)","v":279},{"$f":"Worksheet!$B$11","v":true},{"$f":"RANDBETWEEN(5,RANDBETWEEN(5,Worksheet!$D$6))","v":48},"cm","±",{"$f":"IF(I381=1,H381*10^RANDBETWEEN(IF(Worksheet!$D$9,-1,0),0),IF(I381=2,H381,CHOOSE(RANDBETWEEN(1,3),5,10,20)))","v":4},{"$f":"IF(I381=1,D381,IF(I381=3,\"%\",\"mm\"))","v":"cm"},{"$f":"RANDBETWEEN(1,MIN(9,C381))","v":4},{"$f":"IF(AND(Worksheet!$D$8,RAND()<0.2),3,IF(RAND()<Worksheet!$D$7/100,1,2))","v":1},{"$f":"IF(I381=1,C381-F381,IF(I381=2,C381-F381/10,IF(I381=3,(1-F381/100)*C381,\"\")))","v":44},{"$f":"CONCATENATE(\" \",D381)","v":" cm"},{"$f":"J381*10","v":440},"mm",{"$f":"IF(I381=1,C381+F381,IF(I381=2,C381+F381/10,IF(I381=3,(1+F381/100)*C381,\"\")))","v":52},{"$f":"CONCATENATE(\" \",K381)","v":"  cm"},{"$f":"N381*10","v":520},"mm"]
[{"$f":"IF(COUNTIF($B$1:B382,TRUE)=COUNTIF($B$1:B381,TRUE),\"\",COUNTIF($B$1:B382,TRUE))","v":280},{"$f":"Worksheet!$B$12","v":true},{"$f":"RANDBETWEEN(5,RANDBETWEEN(5,Worksheet!$D$6))","v":11},"m","±",{"$f":"IF(I382=1,H382*10^RANDBETWEEN(IF(Worksheet!$D$9,-1,0),0),IF(I382=2,H382*10^RANDBETWEEN(RANDBETWEEN(0,1),1),CHOOSE(RANDBETWEEN(1,3),5,10,20)))","v":20},{"$f":"IF(I382=1,D382,IF(I382=3,\"%\",\"cm\"))","v":"%"},{"$f":"RANDBETWEEN(1,MIN(9,C382))","v":9},{"$f":"IF(AND(Worksheet!$D$8,RAND()<0.2),3,IF(RAND()<Worksheet!$D$7/100,1,2))","v":3},{"$f":"IF(I382=1,C382-F382,IF(I382=2,C382-F382/100,IF(I382=3,(1-F382/100)*C382,\"\")))","v":8.8000000000000007},{"$f":"CONCATENATE(\" \",D382)","v":" m"},{"$f":"J382*100","v":880.00000000000011},"cm",{"$f":"IF(I382=1,C382+F382,IF(I382=2,C382+F382/100,IF(I382=3,(1+F382/100)*C382,\"\")))","v":13.2},{"$f":"CONCATENATE(\" \",K382)","v":"  m"},{"$f":"N382*100","v":1320},"cm"]
[{"$f":"IF(COUNTIF($B$1:B383,TRUE)=COUNTIF($B$1:B382,TRUE),\"\",COUNTIF($B$1:B383,TRUE))","v":281},{"$f":"Worksheet!$B$13","v":true},{"$f":"RANDBETWEEN(5,RANDBETWEEN(5,Worksheet!$D$6))","v":92},"km","±",{"$f":"IF(I383=1,H383*10^RANDBETWEEN(IF(Worksheet!$D$9,-1,0),0),IF(I383=2,H383*10^RANDBETWEEN(RANDBETWEEN(0,2),2),CHOOSE(RANDBETWEEN(1,3),5,10,20)))","v":3},{"$f":"IF(I383=1,D383,IF(I383=3,\"%\",\"m\"))","v":"km"},3,{"$f":"IF(AND(Worksheet!$D$8,RAND()<0.2),3,IF(RAND()<Worksheet!$D$7/100,1,2))","v":1},{"$f":"IF(I383=1,C383-F383,IF(I383=2,C383-F383/1000,IF(I383=3,(1-F383/100)*C383,\"\")))","v":89}," km",{"$f":"J383*1000","v":89000},"m",{"$f":"IF(I383=1,C383+F383,IF(I383=2,C383+F383/1000,IF(I383=3,(1+F383/100)*C383,\"\")))","v":95},"  km",{"$f":"N383*1000","v":95000},"m"]
[{"$f":"IF(COUNTIF($B$1:B384,TRUE)=COUNTIF($B$1:B383,TRUE),\"\",COUNTIF($B$1:B384,TRUE))","v":""},{"$f":"Worksheet!$B$14","v":false},{"$f":"RANDBETWEEN(5,RANDBETWEEN(5,Worksheet!$D$6))","v":73},"m","±",{"$f":"IF(I384=1,H384*10^RANDBETWEEN(IF(Worksheet!$D$9,-1,0),0),IF(I384=2,H384*10^RANDBETWEEN(RANDBETWEEN(0,2),2),CHOOSE(RANDBETWEEN(1,3),5,10,20)))","v":20},{"$f":"IF(I384=1,D384,IF(I384=3,\"%\",\"mm\"))","v":"%"},9,{"$f":"IF(AND(Worksheet!$D$8,RAND()<0.2),3,IF(RAND()<Worksheet!$D$7/100,1,2))","v":3},{"$f":"IF(I384=1,C384-F384,IF(I384=2,C384-F384/1000,IF(I384=3,(1-F384/100)*C384,\"\")))","v":58.400000000000006}," m",{"$f":"J384*1000","v":58400.000000000007},"mm",{"$f":"IF(I384=1,C384+F384,IF(I384=2,C384+F384/1000,IF(I384=3,(1+F384/100)*C384,\"\")))","v":87.6},"  m",{"$f":"N384*1000","v":87600},"mm"]
[{"$f":"IF(COUNTIF($B$1:B385,TRUE)=COUNTIF($B$1:B384,TRUE),\"\",COUNTIF($B$1:B385,TRUE))","v":282},{"$f":"Worksheet!$B$15","v":true},{"$f":"RANDBETWEEN(5,20)","v":20},"hours","±",{"$f":"IF(I385=1,H385*10^RANDBETWEEN(IF(Worksheet!$D$9,-1,0),0),IF(I385=2,H385,CHOOSE(RANDBETWEEN(1,3),5,10,20)))","v":1},{"$f":"IF(I385=1,D385,IF(I385=3,\"%\",\"min\"))","v":"hours"},1,{"$f":"IF(AND(Worksheet!$D$8,RAND()<0),3,IF(RAND()<Worksheet!$D$7/100,1,2))","v":1},null," hours",{"$f":"IF(I385=1,C385-F385,IF(I385=2,C385*60-F385,\"\"))","v":19},{"$f":"IF($I385=1,\" hours\",\" min\")","v":" hours"},null,"  hours",{"$f":"IF(I385=1,C385+F385,IF(I385=2,C385*60+F385,\"\"))","v":21},{"$f":"IF($I385=1,\" hours\",\" min\")","v":" hours"}]
[{"$f":"IF(COUNTIF($B$1:B386,TRUE)=COUNTIF($B$1:B385,TRUE),\"\",COUNTIF($B$1:B386,TRUE))","v":283},{"$f":"Worksheet!$D$11","v":true},{"$f":"RANDBETWEEN(5,RANDBETWEEN(5,Worksheet!$D$6))","v":65},"kg","±",{"$f":"IF(I386=1,H386*10^RANDBETWEEN(IF(Worksheet!$D$9,-1,0),0),IF(I386=2,H386*10^RANDBETWEEN(RANDBETWEEN(0,2),2),CHOOSE(RANDBETWEEN(1,3),5,10,20)))","v":20},{"$f":"IF(I386=1,D386,IF(I386=3,\"%\",\"g\"))","v":"%"},2,{"$f":"IF(AND(Worksheet!$D$8,RAND()<0.2),3,IF(RAND()<Worksheet!$D$7/100,1,2))","v":3},{"$f":"IF(I386=1,C386-F386,IF(I386=2,C386-F386/1000,IF(I386=3,(1-F386/100)*C386,\"\")))","v":52}," kg",{"$f":"J386*1000","v":52000},"g",{"$f":"IF(I386=1,C386+F386,IF(I386=2,C386+F386/1000,IF(I386=3,(1+F386/100)*C386,\"\")))","v":78},"  kg",{"$f":"N386*1000","v":78000},"g"]
[{"$f":"IF(COUNTIF($B$1:B387,TRUE)=COUNTIF($B$1:B386,TRUE),\"\",COUNTIF($B$1:B387,TRUE))","v":284},{"$f":"Worksheet!$D$12","v":true},{"$f":"RANDBETWEEN(5,RANDBETWEEN(5,Worksheet!$D$6))","v":22},"tonnes","±",{"$f":"IF(I387=1,H387*10^RANDBETWEEN(IF(Worksheet!$D$9,-1,0),0),IF(I387=2,H387*10^RANDBETWEEN(RANDBETWEEN(0,2),2),CHOOSE(RANDBETWEEN(1,3),5,10,20)))","v":2},{"$f":"IF(I387=1,D387,IF(I387=3,\"%\",\"kg\"))","v":"tonnes"},2,{"$f":"IF(AND(Worksheet!$D$8,RAND()<0.2),3,IF(RAND()<Worksheet!$D$7/100,1,2))","v":1},{"$f":"IF(I387=1,C387-F387,IF(I387=2,C387-F387/1000,IF(I387=3,(1-F387/100)*C387,\"\")))","v":20}," tonnes",{"$f":"J387*1000","v":20000},"kg",{"$f":"IF(I387=1,C387+F387,IF(I387=2,C387+F387/1000,IF(I387=3,(1+F387/100)*C387,\"\")))","v":24},"  tonnes",{"$f":"N387*1000","v":24000},"kg"]
[{"$f":"IF(COUNTIF($B$1:B388,TRUE)=COUNTIF($B$1:B387,TRUE),\"\",COUNTIF($B$1:B388,TRUE))","v":285},{"$f":"Worksheet!$D$13","v":true},{"$f":"RANDBETWEEN(5,RANDBETWEEN(5,Worksheet!$D$6))","v":348},"litres","±",{"$f":"IF(I388=1,H388*10^RANDBETWEEN(IF(Worksheet!$D$9,-1,0),0),IF(I388=2,H388*10^RANDBETWEEN(RANDBETWEEN(0,2),2),CHOOSE(RANDBETWEEN(1,3),5,10,20)))","v":0.5},{"$f":"IF(I388=1,D388,IF(I388=3,\"%\",\"ml\"))","v":"litres"},5,{"$f":"IF(AND(Worksheet!$D$8,RAND()<0.2),3,IF(RAND()<Worksheet!$D$7/100,1,2))","v":1},{"$f":"IF(I388=1,C388-F388,IF(I388=2,C388-F388/1000,IF(I388=3,(1-F388/100)*C388,\"\")))","v":347.5}," litres",{"$f":"J388*1000","v":347500},"ml",{"$f":"IF(I388=1,C388+F388,IF(I388=2,C388+F388/1000,IF(I388=3,(1+F388/100)*C388,\"\")))","v":348.5},"  litres",{"$f":"N388*1000","v":348500},"ml"]
[{"$f":"IF(COUNTIF($B$1:B389,TRUE)=COUNTIF($B$1:B388,TRUE),\"\",COUNTIF($B$1:B389,TRUE))","v":286},{"$f":"Worksheet!$D$14","v":true},{"$f":"RANDBETWEEN(5,RANDBETWEEN(5,Worksheet!$D$6))","v":168},"litres","±",{"$f":"IF(I389=1,H389*10^RANDBETWEEN(IF(Worksheet!$D$9,-1,0),0),IF(I389=2,H389*10^RANDBETWEEN(RANDBETWEEN(0,2),2),CHOOSE(RANDBETWEEN(1,3),5,10,20)))","v":0.60000000000000009},{"$f":"IF(I389=1,D389,IF(I389=3,\"%\",\"cm³\"))","v":"litres"},6,{"$f":"IF(AND(Worksheet!$D$8,RAND()<0.2),3,IF(RAND()<Worksheet!$D$7/100,1,2))","v":1},{"$f":"IF(I389=1,C389-F389,IF(I389=2,C389-F389/1000,IF(I389=3,(1-F389/100)*C389,\"\")))","v":167.4}," litres",{"$f":"J389*1000","v":167400},"cm³",{"$f":"IF(I389=1,C389+F389,IF(I389=2,C389+F389/1000,IF(I389=3,(1+F389/100)*C389,\"\")))","v":168.6},"  litres",{"$f":"N389*1000","v":168600},"cm³"]
[{"$f":"IF(COUNTIF($B$1:B390,TRUE)=COUNTIF($B$1:B389,TRUE),\"\",COUNTIF($B$1:B390,TRUE))","v":""},{"$f":"Worksheet!$D$15","v":false},{"$f":"RANDBETWEEN(5,20)","v":13},"min","±",{"$f":"IF(I390=1,H390*10^RANDBETWEEN(IF(Worksheet!$D$9,-1,0),0),IF(I390=2,H390,CHOOSE(RANDBETWEEN(1,3),5,10,20)))","v":4},{"$f":"IF(I390=1,D390,IF(I390=3,\"%\",\"sec\"))","v":"min"},4,{"$f":"IF(AND(Worksheet!$D$8,RAND()<0),3,IF(RAND()<Worksheet!$D$7/100,1,2))","v":1},null," min",{"$f":"IF(I390=1,C390-F390,IF(I390=2,C390*60-F390,\"\"))","v":9},{"$f":"IF($I390=1,\" hours\",\" min\")","v":" hours"},null,"  min",{"$f":"IF(I390=1,C390+F390,IF(I390=2,C390*60+F390,\"\"))","v":17},{"$f":"IF($I390=1,\" hours\",\" min\")","v":" hours"}]
[{"$f":"COUNTIF($B$1:B391,TRUE)","v":287},{"$f":"Worksheet!$B$11","v":true},{"$f":"RANDBETWEEN(5,RANDBETWEEN(5,Worksheet!$D$6))","v":12},"cm","±",{"$f":"IF(I391=1,H391*10^RANDBETWEEN(IF(Worksheet!$D$9,-1,0),0),IF(I391=2,H391,CHOOSE(RANDBETWEEN(1,3),5,10,20)))","v":0.8},{"$f":"IF(I391=1,D391,IF(I391=3,\"%\",\"mm\"))","v":"cm"},{"$f":"RANDBETWEEN(1,MIN(9,C391))","v":8},{"$f":"IF(AND(Worksheet!$D$8,RAND()<0.2),3,IF(RAND()<Worksheet!$D$7/100,1,2))","v":1},{"$f":"IF(I391=1,C391-F391,IF(I391=2,C391-F391/10,IF(I391=3,(1-F391/100)*C391,\"\")))","v":11.2},{"$f":"CONCATENATE(\" \",D391)","v":" cm"},{"$f":"J391*10","v":112},"mm",{"$f":"IF(I391=1,C391+F391,IF(I391=2,C391+F391/10,IF(I391=3,(1+F391/100)*C391,\"\")))","v":12.8},{"$f":"CONCATENATE(\" \",K391)","v":"  cm"},{"$f":"N391*10","v":128},"mm"]
[{"$f":"IF(COUNTIF($B$1:B392,TRUE)=COUNTIF($B$1:B391,TRUE),\"\",COUNTIF($B$1:B392,TRUE))","v":288},{"$f":"Worksheet!$B$12","v":true},{"$f":"RANDBETWEEN(5,RANDBETWEEN(5,Worksheet!$D$6))","v":87},"m","±",{"$f":"IF(I392=1,H392*10^RANDBETWEEN(IF(Worksheet!$D$9,-1,0),0),IF(I392=2,H392*10^RANDBETWEEN(RANDBETWEEN(0,1),1),CHOOSE(RANDBETWEEN(1,3),5,10,20)))","v":5},{"$f":"IF(I392=1,D392,IF(I392=3,\"%\",\"cm\"))","v":"%"},{"$f":"RANDBETWEEN(1,MIN(9,C392))","v":7},{"$f":"IF(AND(Worksheet!$D$8,RAND()<0.2),3,IF(RAND()<Worksheet!$D$7/100,1,2))","v":3},{"$f":"IF(I392=1,C392-F392,IF(I392=2,C392-F392/100,IF(I392=3,(1-F392/100)*C392,\"\")))","v":82.649999999999991},{"$f":"CONCATENATE(\" \",D392)","v":" m"},{"$f":"J392*100","v":8265},"cm",{"$f":"IF(I392=1,C392+F392,IF(I392=2,C392+F392/100,IF(I392=3,(1+F392/100)*C392,\"\")))","v":91.350000000000009},{"$f":"CONCATENATE(\" \",K392)","v":"  m"},{"$f":"N392*100","v":9135},"cm"]
[{"$f":"IF(COUNTIF($B$1:B393,TRUE)=COUNTIF($B$1:B392,TRUE),\"\",COUNTIF($B$1:B393,TRUE))","v":289},{"$f":"Worksheet!$B$13","v":true},{"$f":"RANDBETWEEN(5,RANDBETWEEN(5,Worksheet!$D$6))","v":44},"km","±",{"$f":"IF(I393=1,H393*10^RANDBETWEEN(IF(Worksheet!$D$9,-1,0),0),IF(I393=2,H393*10^RANDBETWEEN(RANDBETWEEN(0,2),2),CHOOSE(RANDBETWEEN(1,3),5,10,20)))","v":1},{"$f":"IF(I393=1,D393,IF(I393=3,\"%\",\"m\"))","v":"km"},1,{"$f":"IF(AND(Worksheet!$D$8,RAND()<0.2),3,IF(RAND()<Worksheet!$D$7/100,1,2))","v":1},{"$f":"IF(I393=1,C393-F393,IF(I393=2,C393-F393/1000,IF(I393=3,(1-F393/100)*C393,\"\")))","v":43}," km",{"$f":"J393*1000","v":43000},"m",{"$f":"IF(I393=1,C393+F393,IF(I393=2,C393+F393/1000,IF(I393=3,(1+F393/100)*C393,\"\")))","v":45},"  km",{"$f":"N393*1000","v":45000},"m"]
[{"$f":"IF(COUNTIF($B$1:B394,TRUE)=COUNTIF($B$1:B393,TRUE),\"\",COUNTIF($B$1:B394,TRUE))","v":""},{"$f":"Worksheet!$B$14","v":false},{"$f":"RANDBETWEEN(5,RANDBETWEEN(5,Worksheet!$D$6))","v":97},"m","±",{"$f":"IF(I394=1,H394*10^RANDBETWEEN(IF(Worksheet!$D$9,-1,0),0),IF(I394=2,H394*10^RANDBETWEEN(RANDBETWEEN(0,2),2),CHOOSE(RANDBETWEEN(1,3),5,10,20)))","v":20},{"$f":"IF(I394=1,D394,IF(I394=3,\"%\",\"mm\"))","v":"%"},2,{"$f":"IF(AND(Worksheet!$D$8,RAND()<0.2),3,IF(RAND()<Worksheet!$D$7/100,1,2))","v":3},{"$f":"IF(I394=1,C394-F394,IF(I394=2,C394-F394/1000,IF(I394=3,(1-F394/100)*C394,\"\")))","v":77.600000000000009}," m",{"$f":"J394*1000","v":77600.000000000015},"mm",{"$f":"IF(I394=1,C394+F394,IF(I394=2,C394+F394/1000,IF(I394=3,(1+F394/100)*C394,\"\")))","v":116.39999999999999},"  m",{"$f":"N394*1000","v":116399.99999999999},"mm"]
[{"$f":"IF(COUNTIF($B$1:B395,TRUE)=COUNTIF($B$1:B394,TRUE),\"\",COUNTIF($B$1:B395,TRUE))","v":290},{"$f":"Worksheet!$B$15","v":true},{"$f":"RANDBETWEEN(5,20)","v":19},"hours","±",{"$f":"IF(I395=1,H395*10^RANDBETWEEN(IF(Worksheet!$D$9,-1,0),0),IF(I395=2,H395,CHOOSE(RANDBETWEEN(1,3),5,10,20)))","v":0.9},{"$f":"IF(I395=1,D395,IF(I395=3,\"%\",\"min\"))","v":"hours"},9,{"$f":"IF(AND(Worksheet!$D$8,RAND()<0),3,IF(RAND()<Worksheet!$D$7/100,1,2))","v":1},null," hours",{"$f":"IF(I395=1,C395-F395,IF(I395=2,C395*60-F395,\"\"))","v":18.100000000000001},{"$f":"IF($I395=1,\" hours\",\" min\")","v":" hours"},null,"  hours",{"$f":"IF(I395=1,C395+F395,IF(I395=2,C395*60+F395,\"\"))","v":19.899999999999999},{"$f":"IF($I395=1,\" hours\",\" min\")","v":" hours"}]
[{"$f":"IF(COUNTIF($B$1:B396,TRUE)=COUNTIF($B$1:B395,TRUE),\"\",COUNTIF($B$1:B396,TRUE))","v":291},{"$f":"Worksheet!$D$11","v":true},{"$f":"RANDBETWEEN(5,RANDBETWEEN(5,Worksheet!$D$6))","v":46},"kg","±",{"$f":"IF(I396=1,H396*10^RANDBETWEEN(IF(Worksheet!$D$9,-1,0),0),IF(I396=2,H396*10^RANDBETWEEN(RANDBETWEEN(0,2),2),CHOOSE(RANDBETWEEN(1,3),5,10,20)))","v":0.30000000000000004},{"$f":"IF(I396=1,D396,IF(I396=3,\"%\",\"g\"))","v":"kg"},3,{"$f":"IF(AND(Worksheet!$D$8,RAND()<0.2),3,IF(RAND()<Worksheet!$D$7/100,1,2))","v":1},{"$f":"IF(I396=1,C396-F396,IF(I396=2,C396-F396/1000,IF(I396=3,(1-F396/100)*C396,\"\")))","v":45.7}," kg",{"$f":"J396*1000","v":45700},"g",{"$f":"IF(I396=1,C396+F396,IF(I396=2,C396+F396/1000,IF(I396=3,(1+F396/100)*C396,\"\")))","v":46.3},"  kg",{"$f":"N396*1000","v":46300},"g"]
[{"$f":"IF(COUNTIF($B$1:B397,TRUE)=COUNTIF($B$1:B396,TRUE),\"\",COUNTIF($B$1:B397,TRUE))","v":292},{"$f":"Worksheet!$D$12","v":true},{"$f":"RANDBETWEEN(5,RANDBETWEEN(5,Worksheet!$D$6))","v":29},"tonnes","±",{"$f":"IF(I397=1,H397*10^RANDBETWEEN(IF(Worksheet!$D$9,-1,0),0),IF(I397=2,H397*10^RANDBETWEEN(RANDBETWEEN(0,2),2),CHOOSE(RANDBETWEEN(1,3),5,10,20)))","v":10},{"$f":"IF(I397=1,D397,IF(I397=3,\"%\",\"kg\"))","v":"kg"},1,{"$f":"IF(AND(Worksheet!$D$8,RAND()<0.2),3,IF(RAND()<Worksheet!$D$7/100,1,2))","v":2},{"$f":"IF(I397=1,C397-F397,IF(I397=2,C397-F397/1000,IF(I397=3,(1-F397/100)*C397,\"\")))","v":28.99}," tonnes",{"$f":"J397*1000","v":28990},"kg",{"$f":"IF(I397=1,C397+F397,IF(I397=2,C397+F397/1000,IF(I397=3,(1+F397/100)*C397,\"\")))","v":29.01},"  tonnes",{"$f":"N397*1000","v":29010},"kg"]
[{"$f":"IF(COUNTIF($B$1:B398,TRUE)=COUNTIF($B$1:B397,TRUE),\"\",COUNTIF($B$1:B398,TRUE))","v":293},{"$f":"Worksheet!$D$13","v":true},{"$f":"RANDBETWEEN(5,RANDBETWEEN(5,Worksheet!$D$6))","v":243},"litres","±",{"$f":"IF(I398=1,H398*10^RANDBETWEEN(IF(Worksheet!$D$9,-1,0),0),IF(I398=2,H398*10^RANDBETWEEN(RANDBETWEEN(0,2),2),CHOOSE(RANDBETWEEN(1,3),5,10,20)))","v":0.60000000000000009},{"$f":"IF(I398=1,D398,IF(I398=3,\"%\",\"ml\"))","v":"litres"},6,{"$f":"IF(AND(Worksheet!$D$8,RAND()<0.2),3,IF(RAND()<Worksheet!$D$7/100,1,2))","v":1},{"$f":"IF(I398=1,C398-F398,IF(I398=2,C398-F398/1000,IF(I398=3,(1-F398/100)*C398,\"\")))","v":242.4}," litres",{"$f":"J398*1000","v":242400},"ml",{"$f":"IF(I398=1,C398+F398,IF(I398=2,C398+F398/1000,IF(I398=3,(1+F398/100)*C398,\"\")))","v":243.6},"  litres",{"$f":"N398*1000","v":243600},"ml"]
[{"$f":"IF(COUNTIF($B$1:B399,TRUE)=COUNTIF($B$1:B398,TRUE),\"\",COUNTIF($B$1:B399,TRUE))","v":294},{"$f":"Worksheet!$D$14","v":true},{"$f":"RANDBETWEEN(5,RANDBETWEEN(5,Worksheet!$D$6))","v":28},"litres","±",{"$f":"IF(I399=1,H399*10^RANDBETWEEN(IF(Worksheet!$D$9,-1,0),0),IF(I399=2,H399*10^RANDBETWEEN(RANDBETWEEN(0,2),2),CHOOSE(RANDBETWEEN(1,3),5,10,20)))","v":0.60000000000000009},{"$f":"IF(I399=1,D399,IF(I399=3,\"%\",\"cm³\"))","v":"litres"},6,{"$f":"IF(AND(Worksheet!$D$8,RAND()<0.2),3,IF(RAND()<Worksheet!$D$7/100,1,2))","v":1},{"$f":"IF(I399=1,C399-F399,IF(I399=2,C399-F399/1000,IF(I399=3,(1-F399/100)*C399,\"\")))","v":27.4}," litres",{"$f":"J399*1000","v":27400},"cm³",{"$f":"IF(I399=1,C399+F399,IF(I399=2,C399+F399/1000,IF(I399=3,(1+F399/100)*C399,\"\")))","v":28.6},"  litres",{"$f":"N399*1000","v":28600},"cm³"]
[{"$f":"IF(COUNTIF($B$1:B400,TRUE)=COUNTIF($B$1:B399,TRUE),\"\",COUNTIF($B$1:B400,TRUE))","v":""},{"$f":"Worksheet!$D$15","v":false},{"$f":"RANDBETWEEN(5,20)","v":17},"min","±",{"$f":"IF(I400=1,H400*10^RANDBETWEEN(IF(Worksheet!$D$9,-1,0),0),IF(I400=2,H400,CHOOSE(RANDBETWEEN(1,3),5,10,20)))","v":0.8},{"$f":"IF(I400=1,D400,IF(I400=3,\"%\",\"sec\"))","v":"min"},8,{"$f":"IF(AND(Worksheet!$D$8,RAND()<0),3,IF(RAND()<Worksheet!$D$7/100,1,2))","v":1},null," min",{"$f":"IF(I400=1,C400-F400,IF(I400=2,C400*60-F400,\"\"))","v":16.2},{"$f":"IF($I400=1,\" hours\",\" min\")","v":" hours"},null,"  min",{"$f":"IF(I400=1,C400+F400,IF(I400=2,C400*60+F400,\"\"))","v":17.8},{"$f":"IF($I400=1,\" hours\",\" min\")","v":" hours"}]
[{"$f":"COUNTIF($B$1:B401,TRUE)","v":295},{"$f":"Worksheet!$B$11","v":true},{"$f":"RANDBETWEEN(5,RANDBETWEEN(5,Worksheet!$D$6))","v":42},"cm","±",{"$f":"IF(I401=1,H401*10^RANDBETWEEN(IF(Worksheet!$D$9,-1,0),0),IF(I401=2,H401,CHOOSE(RANDBETWEEN(1,3),5,10,20)))","v":6},{"$f":"IF(I401=1,D401,IF(I401=3,\"%\",\"mm\"))","v":"cm"},{"$f":"RANDBETWEEN(1,MIN(9,C401))","v":6},{"$f":"IF(AND(Worksheet!$D$8,RAND()<0.2),3,IF(RAND()<Worksheet!$D$7/100,1,2))","v":1},{"$f":"IF(I401=1,C401-F401,IF(I401=2,C401-F401/10,IF(I401=3,(1-F401/100)*C401,\"\")))","v":36},{"$f":"CONCATENATE(\" \",D401)","v":" cm"},{"$f":"J401*10","v":360},"mm",{"$f":"IF(I401=1,C401+F401,IF(I401=2,C401+F401/10,IF(I401=3,(1+F401/100)*C401,\"\")))","v":48},{"$f":"CONCATENATE(\" \",K401)","v":"  cm"},{"$f":"N401*10","v":480},"mm"]
[{"$f":"IF(COUNTIF($B$1:B402,TRUE)=COUNTIF($B$1:B401,TRUE),\"\",COUNTIF($B$1:B402,TRUE))","v":296},{"$f":"Worksheet!$B$12","v":true},{"$f":"RANDBETWEEN(5,RANDBETWEEN(5,Worksheet!$D$6))","v":18},"m","±",{"$f":"IF(I402=1,H402*10^RANDBETWEEN(IF(Worksheet!$D$9,-1,0),0),IF(I402=2,H402*10^RANDBETWEEN(RANDBETWEEN(0,1),1),CHOOSE(RANDBETWEEN(1,3),5,10,20)))","v":0.2},{"$f":"IF(I402=1,D402,IF(I402=3,\"%\",\"cm\"))","v":"m"},{"$f":"RANDBETWEEN(1,MIN(9,C402))","v":2},{"$f":"IF(AND(Worksheet!$D$8,RAND()<0.2),3,IF(RAND()<Worksheet!$D$7/100,1,2))","v":1},{"$f":"IF(I402=1,C402-F402,IF(I402=2,C402-F402/100,IF(I402=3,(1-F402/100)*C402,\"\")))","v":17.8},{"$f":"CONCATENATE(\" \",D402)","v":" m"},{"$f":"J402*100","v":1780},"cm",{"$f":"IF(I402=1,C402+F402,IF(I402=2,C402+F402/100,IF(I402=3,(1+F402/100)*C402,\"\")))","v":18.2},{"$f":"CONCATENATE(\" \",K402)","v":"  m"},{"$f":"N402*100","v":1820},"cm"]
[{"$f":"IF(COUNTIF($B$1:B403,TRUE)=COUNTIF($B$1:B402,TRUE),\"\",COUNTIF($B$1:B403,TRUE))","v":297},{"$f":"Worksheet!$B$13","v":true},{"$f":"RANDBETWEEN(5,RANDBETWEEN(5,Worksheet!$D$6))","v":362},"km","±",{"$f":"IF(I403=1,H403*10^RANDBETWEEN(IF(Worksheet!$D$9,-1,0),0),IF(I403=2,H403*10^RANDBETWEEN(RANDBETWEEN(0,2),2),CHOOSE(RANDBETWEEN(1,3),5,10,20)))","v":0.60000000000000009},{"$f":"IF(I403=1,D403,IF(I403=3,\"%\",\"m\"))","v":"km"},6,{"$f":"IF(AND(Worksheet!$D$8,RAND()<0.2),3,IF(RAND()<Worksheet!$D$7/100,1,2))","v":1},{"$f":"IF(I403=1,C403-F403,IF(I403=2,C403-F403/1000,IF(I403=3,(1-F403/100)*C403,\"\")))","v":361.4}," km",{"$f":"J403*1000","v":361400},"m",{"$f":"IF(I403=1,C403+F403,IF(I403=2,C403+F403/1000,IF(I403=3,(1+F403/100)*C403,\"\")))","v":362.6},"  km",{"$f":"N403*1000","v":362600},"m"]
[{"$f":"IF(COUNTIF($B$1:B404,TRUE)=COUNTIF($B$1:B403,TRUE),\"\",COUNTIF($B$1:B404,TRUE))","v":""},{"$f":"Worksheet!$B$14","v":false},{"$f":"RANDBETWEEN(5,RANDBETWEEN(5,Worksheet!$D$6))","v":100},"m","±",{"$f":"IF(I404=1,H404*10^RANDBETWEEN(IF(Worksheet!$D$9,-1,0),0),IF(I404=2,H404*10^RANDBETWEEN(RANDBETWEEN(0,2),2),CHOOSE(RANDBETWEEN(1,3),5,10,20)))","v":9},{"$f":"IF(I404=1,D404,IF(I404=3,\"%\",\"mm\"))","v":"m"},9,{"$f":"IF(AND(Worksheet!$D$8,RAND()<0.2),3,IF(RAND()<Worksheet!$D$7/100,1,2))","v":1},{"$f":"IF(I404=1,C404-F404,IF(I404=2,C404-F404/1000,IF(I404=3,(1-F404/100)*C404,\"\")))","v":91}," m",{"$f":"J404*1000","v":91000},"mm",{"$f":"IF(I404=1,C404+F404,IF(I404=2,C404+F404/1000,IF(I404=3,(1+F404/100)*C404,\"\")))","v":109},"  m",{"$f":"N404*1000","v":109000},"mm"]
[{"$f":"IF(COUNTIF($B$1:B405,TRUE)=COUNTIF($B$1:B404,TRUE),\"\",COUNTIF($B$1:B405,TRUE))","v":298},{"$f":"Worksheet!$B$15","v":true},{"$f":"RANDBETWEEN(5,20)","v":14},"hours","±",{"$f":"IF(I405=1,H405*10^RANDBETWEEN(IF(Worksheet!$D$9,-1,0),0),IF(I405=2,H405,CHOOSE(RANDBETWEEN(1,3),5,10,20)))","v":6},{"$f":"IF(I405=1,D405,IF(I405=3,\"%\",\"min\"))","v":"min"},6,{"$f":"IF(AND(Worksheet!$D$8,RAND()<0),3,IF(RAND()<Worksheet!$D$7/100,1,2))","v":2},null," hours",{"$f":"IF(I405=1,C405-F405,IF(I405=2,C405*60-F405,\"\"))","v":834},{"$f":"IF($I405=1,\" hours\",\" min\")","v":" min"},null,"  hours",{"$f":"IF(I405=1,C405+F405,IF(I405=2,C405*60+F405,\"\"))","v":846},{"$f":"IF($I405=1,\" hours\",\" min\")","v":" min"}]
[{"$f":"IF(COUNTIF($B$1:B406,TRUE)=COUNTIF($B$1:B405,TRUE),\"\",COUNTIF($B$1:B406,TRUE))","v":299},{"$f":"Worksheet!$D$11","v":true},{"$f":"RANDBETWEEN(5,RANDBETWEEN(5,Worksheet!$D$6))","v":35},"kg","±",{"$f":"IF(I406=1,H406*10^RANDBETWEEN(IF(Worksheet!$D$9,-1,0),0),IF(I406=2,H406*10^RANDBETWEEN(RANDBETWEEN(0,2),2),CHOOSE(RANDBETWEEN(1,3),5,10,20)))","v":30},{"$f":"IF(I406=1,D406,IF(I406=3,\"%\",\"g\"))","v":"g"},3,{"$f":"IF(AND(Worksheet!$D$8,RAND()<0.2),3,IF(RAND()<Worksheet!$D$7/100,1,2))","v":2},{"$f":"IF(I406=1,C406-F406,IF(I406=2,C406-F406/1000,IF(I406=3,(1-F406/100)*C406,\"\")))","v":34.97}," kg",{"$f":"J406*1000","v":34970},"g",{"$f":"IF(I406=1,C406+F406,IF(I406=2,C406+F406/1000,IF(I406=3,(1+F406/100)*C406,\"\")))","v":35.03},"  kg",{"$f":"N406*1000","v":35030},"g"]
[{"$f":"IF(COUNTIF($B$1:B407,TRUE)=COUNTIF($B$1:B406,TRUE),\"\",COUNTIF($B$1:B407,TRUE))","v":300},{"$f":"Worksheet!$D$12","v":true},{"$f":"RANDBETWEEN(5,RANDBETWEEN(5,Worksheet!$D$6))","v":225},"tonnes","±",{"$f":"IF(I407=1,H407*10^RANDBETWEEN(IF(Worksheet!$D$9,-1,0),0),IF(I407=2,H407*10^RANDBETWEEN(RANDBETWEEN(0,2),2),CHOOSE(RANDBETWEEN(1,3),5,10,20)))","v":3},{"$f":"IF(I407=1,D407,IF(I407=3,\"%\",\"kg\"))","v":"tonnes"},3,{"$f":"IF(AND(Worksheet!$D$8,RAND()<0.2),3,IF(RAND()<Worksheet!$D$7/100,1,2))","v":1},{"$f":"IF(I407=1,C407-F407,IF(I407=2,C407-F407/1000,IF(I407=3,(1-F407/100)*C407,\"\")))","v":222}," tonnes",{"$f":"J407*1000","v":222000},"kg",{"$f":"IF(I407=1,C407+F407,IF(I407=2,C407+F407/1000,IF(I407=3,(1+F407/100)*C407,\"\")))","v":228},"  tonnes",{"$f":"N407*1000","v":228000},"kg"]
[{"$f":"IF(COUNTIF($B$1:B408,TRUE)=COUNTIF($B$1:B407,TRUE),\"\",COUNTIF($B$1:B408,TRUE))","v":301},{"$f":"Worksheet!$D$13","v":true},{"$f":"RANDBETWEEN(5,RANDBETWEEN(5,Worksheet!$D$6))","v":168},"litres","±",{"$f":"IF(I408=1,H408*10^RANDBETWEEN(IF(Worksheet!$D$9,-1,0),0),IF(I408=2,H408*10^RANDBETWEEN(RANDBETWEEN(0,2),2),CHOOSE(RANDBETWEEN(1,3),5,10,20)))","v":6},{"$f":"IF(I408=1,D408,IF(I408=3,\"%\",\"ml\"))","v":"litres"},6,{"$f":"IF(AND(Worksheet!$D$8,RAND()<0.2),3,IF(RAND()<Worksheet!$D$7/100,1,2))","v":1},{"$f":"IF(I408=1,C408-F408,IF(I408=2,C408-F408/1000,IF(I408=3,(1-F408/100)*C408,\"\")))","v":162}," litres",{"$f":"J408*1000","v":162000},"ml",{"$f":"IF(I408=1,C408+F408,IF(I408=2,C408+F408/1000,IF(I408=3,(1+F408/100)*C408,\"\")))","v":174},"  litres",{"$f":"N408*1000","v":174000},"ml"]
[{"$f":"IF(COUNTIF($B$1:B409,TRUE)=COUNTIF($B$1:B408,TRUE),\"\",COUNTIF($B$1:B409,TRUE))","v":302},{"$f":"Worksheet!$D$14","v":true},{"$f":"RANDBETWEEN(5,RANDBETWEEN(5,Worksheet!$D$6))","v":200},"litres","±",{"$f":"IF(I409=1,H409*10^RANDBETWEEN(IF(Worksheet!$D$9,-1,0),0),IF(I409=2,H409*10^RANDBETWEEN(RANDBETWEEN(0,2),2),CHOOSE(RANDBETWEEN(1,3),5,10,20)))","v":4},{"$f":"IF(I409=1,D409,IF(I409=3,\"%\",\"cm³\"))","v":"litres"},4,{"$f":"IF(AND(Worksheet!$D$8,RAND()<0.2),3,IF(RAND()<Worksheet!$D$7/100,1,2))","v":1},{"$f":"IF(I409=1,C409-F409,IF(I409=2,C409-F409/1000,IF(I409=3,(1-F409/100)*C409,\"\")))","v":196}," litres",{"$f":"J409*1000","v":196000},"cm³",{"$f":"IF(I409=1,C409+F409,IF(I409=2,C409+F409/1000,IF(I409=3,(1+F409/100)*C409,\"\")))","v":204},"  litres",{"$f":"N409*1000","v":204000},"cm³"]
[{"$f":"IF(COUNTIF($B$1:B410,TRUE)=COUNTIF($B$1:B409,TRUE),\"\",COUNTIF($B$1:B410,TRUE))","v":""},{"$f":"Worksheet!$D$15","v":false},{"$f":"RANDBETWEEN(5,20)","v":20},"min","±",{"$f":"IF(I410=1,H410*10^RANDBETWEEN(IF(Worksheet!$D$9,-1,0),0),IF(I410=2,H410,CHOOSE(RANDBETWEEN(1,3),5,10,20)))","v":3},{"$f":"IF(I410=1,D410,IF(I410=3,\"%\",\"sec\"))","v":"min"},3,{"$f":"IF(AND(Worksheet!$D$8,RAND()<0),3,IF(RAND()<Worksheet!$D$7/100,1,2))","v":1},null," min",{"$f":"IF(I410=1,C410-F410,IF(I410=2,C410*60-F410,\"\"))","v":17},{"$f":"IF($I410=1,\" hours\",\" min\")","v":" hours"},null,"  min",{"$f":"IF(I410=1,C410+F410,IF(I410=2,C410*60+F410,\"\"))","v":23},{"$f":"IF($I410=1,\" hours\",\" min\")","v":" hours"}]
[{"$f":"COUNTIF($B$1:B411,TRUE)","v":303},{"$f":"Worksheet!$B$11","v":true},{"$f":"RANDBETWEEN(5,RANDBETWEEN(5,Worksheet!$D$6))","v":172},"cm","±",{"$f":"IF(I411=1,H411*10^RANDBETWEEN(IF(Worksheet!$D$9,-1,0),0),IF(I411=2,H411,CHOOSE(RANDBETWEEN(1,3),5,10,20)))","v":9},{"$f":"IF(I411=1,D411,IF(I411=3,\"%\",\"mm\"))","v":"cm"},{"$f":"RANDBETWEEN(1,MIN(9,C411))","v":9},{"$f":"IF(AND(Worksheet!$D$8,RAND()<0.2),3,IF(RAND()<Worksheet!$D$7/100,1,2))","v":1},{"$f":"IF(I411=1,C411-F411,IF(I411=2,C411-F411/10,IF(I411=3,(1-F411/100)*C411,\"\")))","v":163},{"$f":"CONCATENATE(\" \",D411)","v":" cm"},{"$f":"J411*10","v":1630},"mm",{"$f":"IF(I411=1,C411+F411,IF(I411=2,C411+F411/10,IF(I411=3,(1+F411/100)*C411,\"\")))","v":181},{"$f":"CONCATENATE(\" \",K411)","v":"  cm"},{"$f":"N411*10","v":1810},"mm"]
[{"$f":"IF(COUNTIF($B$1:B412,TRUE)=COUNTIF($B$1:B411,TRUE),\"\",COUNTIF($B$1:B412,TRUE))","v":304},{"$f":"Worksheet!$B$12","v":true},{"$f":"RANDBETWEEN(5,RANDBETWEEN(5,Worksheet!$D$6))","v":130},"m","±",{"$f":"IF(I412=1,H412*10^RANDBETWEEN(IF(Worksheet!$D$9,-1,0),0),IF(I412=2,H412*10^RANDBETWEEN(RANDBETWEEN(0,1),1),CHOOSE(RANDBETWEEN(1,3),5,10,20)))","v":6},{"$f":"IF(I412=1,D412,IF(I412=3,\"%\",\"cm\"))","v":"m"},{"$f":"RANDBETWEEN(1,MIN(9,C412))","v":6},{"$f":"IF(AND(Worksheet!$D$8,RAND()<0.2),3,IF(RAND()<Worksheet!$D$7/100,1,2))","v":1},{"$f":"IF(I412=1,C412-F412,IF(I412=2,C412-F412/100,IF(I412=3,(1-F412/100)*C412,\"\")))","v":124},{"$f":"CONCATENATE(\" \",D412)","v":" m"},{"$f":"J412*100","v":12400},"cm",{"$f":"IF(I412=1,C412+F412,IF(I412=2,C412+F412/100,IF(I412=3,(1+F412/100)*C412,\"\")))","v":136},{"$f":"CONCATENATE(\" \",K412)","v":"  m"},{"$f":"N412*100","v":13600},"cm"]
[{"$f":"IF(COUNTIF($B$1:B413,TRUE)=COUNTIF($B$1:B412,TRUE),\"\",COUNTIF($B$1:B413,TRUE))","v":305},{"$f":"Worksheet!$B$13","v":true},{"$f":"RANDBETWEEN(5,RANDBETWEEN(5,Worksheet!$D$6))","v":16},"km","±",{"$f":"IF(I413=1,H413*10^RANDBETWEEN(IF(Worksheet!$D$9,-1,0),0),IF(I413=2,H413*10^RANDBETWEEN(RANDBETWEEN(0,2),2),CHOOSE(RANDBETWEEN(1,3),5,10,20)))","v":5},{"$f":"IF(I413=1,D413,IF(I413=3,\"%\",\"m\"))","v":"%"},5,{"$f":"IF(AND(Worksheet!$D$8,RAND()<0.2),3,IF(RAND()<Worksheet!$D$7/100,1,2))","v":3},{"$f":"IF(I413=1,C413-F413,IF(I413=2,C413-F413/1000,IF(I413=3,(1-F413/100)*C413,\"\")))","v":15.2}," km",{"$f":"J413*1000","v":15200},"m",{"$f":"IF(I413=1,C413+F413,IF(I413=2,C413+F413/1000,IF(I413=3,(1+F413/100)*C413,\"\")))","v":16.8},"  km",{"$f":"N413*1000","v":16800},"m"]
[{"$f":"IF(COUNTIF($B$1:B414,TRUE)=COUNTIF($B$1:B413,TRUE),\"\",COUNTIF($B$1:B414,TRUE))","v":""},{"$f":"Worksheet!$B$14","v":false},{"$f":"RANDBETWEEN(5,RANDBETWEEN(5,Worksheet!$D$6))","v":72},"m","±",{"$f":"IF(I414=1,H414*10^RANDBETWEEN(IF(Worksheet!$D$9,-1,0),0),IF(I414=2,H414*10^RANDBETWEEN(RANDBETWEEN(0,2),2),CHOOSE(RANDBETWEEN(1,3),5,10,20)))","v":0.5},{"$f":"IF(I414=1,D414,IF(I414=3,\"%\",\"mm\"))","v":"m"},5,{"$f":"IF(AND(Worksheet!$D$8,RAND()<0.2),3,IF(RAND()<Worksheet!$D$7/100,1,2))","v":1},{"$f":"IF(I414=1,C414-F414,IF(I414=2,C414-F414/1000,IF(I414=3,(1-F414/100)*C414,\"\")))","v":71.5}," m",{"$f":"J414*1000","v":71500},"mm",{"$f":"IF(I414=1,C414+F414,IF(I414=2,C414+F414/1000,IF(I414=3,(1+F414/100)*C414,\"\")))","v":72.5},"  m",{"$f":"N414*1000","v":72500},"mm"]
[{"$f":"IF(COUNTIF($B$1:B415,TRUE)=COUNTIF($B$1:B414,TRUE),\"\",COUNTIF($B$1:B415,TRUE))","v":306},{"$f":"Worksheet!$B$15","v":true},{"$f":"RANDBETWEEN(5,20)","v":18},"hours","±",{"$f":"IF(I415=1,H415*10^RANDBETWEEN(IF(Worksheet!$D$9,-1,0),0),IF(I415=2,H415,CHOOSE(RANDBETWEEN(1,3),5,10,20)))","v":0.4},{"$f":"IF(I415=1,D415,IF(I415=3,\"%\",\"min\"))","v":"hours"},4,{"$f":"IF(AND(Worksheet!$D$8,RAND()<0),3,IF(RAND()<Worksheet!$D$7/100,1,2))","v":1},null," hours",{"$f":"IF(I415=1,C415-F415,IF(I415=2,C415*60-F415,\"\"))","v":17.600000000000001},{"$f":"IF($I415=1,\" hours\",\" min\")","v":" hours"},null,"  hours",{"$f":"IF(I415=1,C415+F415,IF(I415=2,C415*60+F415,\"\"))","v":18.399999999999999},{"$f":"IF($I415=1,\" hours\",\" min\")","v":" hours"}]
[{"$f":"IF(COUNTIF($B$1:B416,TRUE)=COUNTIF($B$1:B415,TRUE),\"\",COUNTIF($B$1:B416,TRUE))","v":307},{"$f":"Worksheet!$D$11","v":true},{"$f":"RANDBETWEEN(5,RANDBETWEEN(5,Worksheet!$D$6))","v":132},"kg","±",{"$f":"IF(I416=1,H416*10^RANDBETWEEN(IF(Worksheet!$D$9,-1,0),0),IF(I416=2,H416*10^RANDBETWEEN(RANDBETWEEN(0,2),2),CHOOSE(RANDBETWEEN(1,3),5,10,20)))","v":7},{"$f":"IF(I416=1,D416,IF(I416=3,\"%\",\"g\"))","v":"kg"},7,{"$f":"IF(AND(Worksheet!$D$8,RAND()<0.2),3,IF(RAND()<Worksheet!$D$7/100,1,2))","v":1},{"$f":"IF(I416=1,C416-F416,IF(I416=2,C416-F416/1000,IF(I416=3,(1-F416/100)*C416,\"\")))","v":125}," kg",{"$f":"J416*1000","v":125000},"g",{"$f":"IF(I416=1,C416+F416,IF(I416=2,C416+F416/1000,IF(I416=3,(1+F416/100)*C416,\"\")))","v":139},"  kg",{"$f":"N416*1000","v":139000},"g"]
[{"$f":"IF(COUNTIF($B$1:B417,TRUE)=COUNTIF($B$1:B416,TRUE),\"\",COUNTIF($B$1:B417,TRUE))","v":308},{"$f":"Worksheet!$D$12","v":true},{"$f":"RANDBETWEEN(5,RANDBETWEEN(5,Worksheet!$D$6))","v":50},"tonnes","±",{"$f":"IF(I417=1,H417*10^RANDBETWEEN(IF(Worksheet!$D$9,-1,0),0),IF(I417=2,H417*10^RANDBETWEEN(RANDBETWEEN(0,2),2),CHOOSE(RANDBETWEEN(1,3),5,10,20)))","v":0.9},{"$f":"IF(I417=1,D417,IF(I417=3,\"%\",\"kg\"))","v":"tonnes"},9,{"$f":"IF(AND(Worksheet!$D$8,RAND()<0.2),3,IF(RAND()<Worksheet!$D$7/100,1,2))","v":1},{"$f":"IF(I417=1,C417-F417,IF(I417=2,C417-F417/1000,IF(I417=3,(1-F417/100)*C417,\"\")))","v":49.1}," tonnes",{"$f":"J417*1000","v":49100},"kg",{"$f":"IF(I417=1,C417+F417,IF(I417=2,C417+F417/1000,IF(I417=3,(1+F417/100)*C417,\"\")))","v":50.9},"  tonnes",{"$f":"N417*1000","v":50900},"kg"]
[{"$f":"IF(COUNTIF($B$1:B418,TRUE)=COUNTIF($B$1:B417,TRUE),\"\",COUNTIF($B$1:B418,TRUE))","v":309},{"$f":"Worksheet!$D$13","v":true},{"$f":"RANDBETWEEN(5,RANDBETWEEN(5,Worksheet!$D$6))","v":228},"litres","±",{"$f":"IF(I418=1,H418*10^RANDBETWEEN(IF(Worksheet!$D$9,-1,0),0),IF(I418=2,H418*10^RANDBETWEEN(RANDBETWEEN(0,2),2),CHOOSE(RANDBETWEEN(1,3),5,10,20)))","v":500},{"$f":"IF(I418=1,D418,IF(I418=3,\"%\",\"ml\"))","v":"ml"},5,{"$f":"IF(AND(Worksheet!$D$8,RAND()<0.2),3,IF(RAND()<Worksheet!$D$7/100,1,2))","v":2},{"$f":"IF(I418=1,C418-F418,IF(I418=2,C418-F418/1000,IF(I418=3,(1-F418/100)*C418,\"\")))","v":227.5}," litres",{"$f":"J418*1000","v":227500},"ml",{"$f":"IF(I418=1,C418+F418,IF(I418=2,C418+F418/1000,IF(I418=3,(1+F418/100)*C418,\"\")))","v":228.5},"  litres",{"$f":"N418*1000","v":228500},"ml"]
[{"$f":"IF(COUNTIF($B$1:B419,TRUE)=COUNTIF($B$1:B418,TRUE),\"\",COUNTIF($B$1:B419,TRUE))","v":310},{"$f":"Worksheet!$D$14","v":true},{"$f":"RANDBETWEEN(5,RANDBETWEEN(5,Worksheet!$D$6))","v":73},"litres","±",{"$f":"IF(I419=1,H419*10^RANDBETWEEN(IF(Worksheet!$D$9,-1,0),0),IF(I419=2,H419*10^RANDBETWEEN(RANDBETWEEN(0,2),2),CHOOSE(RANDBETWEEN(1,3),5,10,20)))","v":5},{"$f":"IF(I419=1,D419,IF(I419=3,\"%\",\"cm³\"))","v":"%"},9,{"$f":"IF(AND(Worksheet!$D$8,RAND()<0.2),3,IF(RAND()<Worksheet!$D$7/100,1,2))","v":3},{"$f":"IF(I419=1,C419-F419,IF(I419=2,C419-F419/1000,IF(I419=3,(1-F419/100)*C419,\"\")))","v":69.349999999999994}," litres",{"$f":"J419*1000","v":69350},"cm³",{"$f":"IF(I419=1,C419+F419,IF(I419=2,C419+F419/1000,IF(I419=3,(1+F419/100)*C419,\"\")))","v":76.650000000000006},"  litres",{"$f":"N419*1000","v":76650},"cm³"]
[{"$f":"IF(COUNTIF($B$1:B420,TRUE)=COUNTIF($B$1:B419,TRUE),\"\",COUNTIF($B$1:B420,TRUE))","v":""},{"$f":"Worksheet!$D$15","v":false},{"$f":"RANDBETWEEN(5,20)","v":17},"min","±",{"$f":"IF(I420=1,H420*10^RANDBETWEEN(IF(Worksheet!$D$9,-1,0),0),IF(I420=2,H420,CHOOSE(RANDBETWEEN(1,3),5,10,20)))","v":7},{"$f":"IF(I420=1,D420,IF(I420=3,\"%\",\"sec\"))","v":"min"},7,{"$f":"IF(AND(Worksheet!$D$8,RAND()<0),3,IF(RAND()<Worksheet!$D$7/100,1,2))","v":1},null," min",{"$f":"IF(I420=1,C420-F420,IF(I420=2,C420*60-F420,\"\"))","v":10},{"$f":"IF($I420=1,\" hours\",\" min\")","v":" hours"},null,"  min",{"$f":"IF(I420=1,C420+F420,IF(I420=2,C420*60+F420,\"\"))","v":24},{"$f":"IF($I420=1,\" hours\",\" min\")","v":" hours"}]
[{"$f":"COUNTIF($B$1:B421,TRUE)","v":311},{"$f":"Worksheet!$B$11","v":true},{"$f":"RANDBETWEEN(5,RANDBETWEEN(5,Worksheet!$D$6))","v":44},"cm","±",{"$f":"IF(I421=1,H421*10^RANDBETWEEN(IF(Worksheet!$D$9,-1,0),0),IF(I421=2,H421,CHOOSE(RANDBETWEEN(1,3),5,10,20)))","v":5},{"$f":"IF(I421=1,D421,IF(I421=3,\"%\",\"mm\"))","v":"cm"},{"$f":"RANDBETWEEN(1,MIN(9,C421))","v":5},{"$f":"IF(AND(Worksheet!$D$8,RAND()<0.2),3,IF(RAND()<Worksheet!$D$7/100,1,2))","v":1},{"$f":"IF(I421=1,C421-F421,IF(I421=2,C421-F421/10,IF(I421=3,(1-F421/100)*C421,\"\")))","v":39},{"$f":"CONCATENATE(\" \",D421)","v":" cm"},{"$f":"J421*10","v":390},"mm",{"$f":"IF(I421=1,C421+F421,IF(I421=2,C421+F421/10,IF(I421=3,(1+F421/100)*C421,\"\")))","v":49},{"$f":"CONCATENATE(\" \",K421)","v":"  cm"},{"$f":"N421*10","v":490},"mm"]
[{"$f":"IF(COUNTIF($B$1:B422,TRUE)=COUNTIF($B$1:B421,TRUE),\"\",COUNTIF($B$1:B422,TRUE))","v":312},{"$f":"Worksheet!$B$12","v":true},{"$f":"RANDBETWEEN(5,RANDBETWEEN(5,Worksheet!$D$6))","v":307},"m","±",{"$f":"IF(I422=1,H422*10^RANDBETWEEN(IF(Worksheet!$D$9,-1,0),0),IF(I422=2,H422*10^RANDBETWEEN(RANDBETWEEN(0,1),1),CHOOSE(RANDBETWEEN(1,3),5,10,20)))","v":0.60000000000000009},{"$f":"IF(I422=1,D422,IF(I422=3,\"%\",\"cm\"))","v":"m"},{"$f":"RANDBETWEEN(1,MIN(9,C422))","v":6},{"$f":"IF(AND(Worksheet!$D$8,RAND()<0.2),3,IF(RAND()<Worksheet!$D$7/100,1,2))","v":1},{"$f":"IF(I422=1,C422-F422,IF(I422=2,C422-F422/100,IF(I422=3,(1-F422/100)*C422,\"\")))","v":306.39999999999998},{"$f":"CONCATENATE(\" \",D422)","v":" m"},{"$f":"J422*100","v":30639.999999999996},"cm",{"$f":"IF(I422=1,C422+F422,IF(I422=2,C422+F422/100,IF(I422=3,(1+F422/100)*C422,\"\")))","v":307.60000000000002},{"$f":"CONCATENATE(\" \",K422)","v":"  m"},{"$f":"N422*100","v":30760.000000000004},"cm"]
[{"$f":"IF(COUNTIF($B$1:B423,TRUE)=COUNTIF($B$1:B422,TRUE),\"\",COUNTIF($B$1:B423,TRUE))","v":313},{"$f":"Worksheet!$B$13","v":true},{"$f":"RANDBETWEEN(5,RANDBETWEEN(5,Worksheet!$D$6))","v":88},"km","±",{"$f":"IF(I423=1,H423*10^RANDBETWEEN(IF(Worksheet!$D$9,-1,0),0),IF(I423=2,H423*10^RANDBETWEEN(RANDBETWEEN(0,2),2),CHOOSE(RANDBETWEEN(1,3),5,10,20)))","v":0.70000000000000007},{"$f":"IF(I423=1,D423,IF(I423=3,\"%\",\"m\"))","v":"km"},7,{"$f":"IF(AND(Worksheet!$D$8,RAND()<0.2),3,IF(RAND()<Worksheet!$D$7/100,1,2))","v":1},{"$f":"IF(I423=1,C423-F423,IF(I423=2,C423-F423/1000,IF(I423=3,(1-F423/100)*C423,\"\")))","v":87.3}," km",{"$f":"J423*1000","v":87300},"m",{"$f":"IF(I423=1,C423+F423,IF(I423=2,C423+F423/1000,IF(I423=3,(1+F423/100)*C423,\"\")))","v":88.7},"  km",{"$f":"N423*1000","v":88700},"m"]
[{"$f":"IF(COUNTIF($B$1:B424,TRUE)=COUNTIF($B$1:B423,TRUE),\"\",COUNTIF($B$1:B424,TRUE))","v":""},{"$f":"Worksheet!$B$14","v":false},{"$f":"RANDBETWEEN(5,RANDBETWEEN(5,Worksheet!$D$6))","v":312},"m","±",{"$f":"IF(I424=1,H424*10^RANDBETWEEN(IF(Worksheet!$D$9,-1,0),0),IF(I424=2,H424*10^RANDBETWEEN(RANDBETWEEN(0,2),2),CHOOSE(RANDBETWEEN(1,3),5,10,20)))","v":900},{"$f":"IF(I424=1,D424,IF(I424=3,\"%\",\"mm\"))","v":"mm"},9,{"$f":"IF(AND(Worksheet!$D$8,RAND()<0.2),3,IF(RAND()<Worksheet!$D$7/100,1,2))","v":2},{"$f":"IF(I424=1,C424-F424,IF(I424=2,C424-F424/1000,IF(I424=3,(1-F424/100)*C424,\"\")))","v":311.10000000000002}," m",{"$f":"J424*1000","v":311100},"mm",{"$f":"IF(I424=1,C424+F424,IF(I424=2,C424+F424/1000,IF(I424=3,(1+F424/100)*C424,\"\")))","v":312.89999999999998},"  m",{"$f":"N424*1000","v":312900},"mm"]
[{"$f":"IF(COUNTIF($B$1:B425,TRUE)=COUNTIF($B$1:B424,TRUE),\"\",COUNTIF($B$1:B425,TRUE))","v":314},{"$f":"Worksheet!$B$15","v":true},{"$f":"RANDBETWEEN(5,20)","v":12},"hours","±",{"$f":"IF(I425=1,H425*10^RANDBETWEEN(IF(Worksheet!$D$9,-1,0),0),IF(I425=2,H425,CHOOSE(RANDBETWEEN(1,3),5,10,20)))","v":0.1},{"$f":"IF(I425=1,D425,IF(I425=3,\"%\",\"min\"))","v":"hours"},1,{"$f":"IF(AND(Worksheet!$D$8,RAND()<0),3,IF(RAND()<Worksheet!$D$7/100,1,2))","v":1},null," hours",{"$f":"IF(I425=1,C425-F425,IF(I425=2,C425*60-F425,\"\"))","v":11.9},{"$f":"IF($I425=1,\" hours\",\" min\")","v":" hours"},null,"  hours",{"$f":"IF(I425=1,C425+F425,IF(I425=2,C425*60+F425,\"\"))","v":12.1},{"$f":"IF($I425=1,\" hours\",\" min\")","v":" hours"}]
[{"$f":"IF(COUNTIF($B$1:B426,TRUE)=COUNTIF($B$1:B425,TRUE),\"\",COUNTIF($B$1:B426,TRUE))","v":315},{"$f":"Worksheet!$D$11","v":true},{"$f":"RANDBETWEEN(5,RANDBETWEEN(5,Worksheet!$D$6))","v":389},"kg","±",{"$f":"IF(I426=1,H426*10^RANDBETWEEN(IF(Worksheet!$D$9,-1,0),0),IF(I426=2,H426*10^RANDBETWEEN(RANDBETWEEN(0,2),2),CHOOSE(RANDBETWEEN(1,3),5,10,20)))","v":1},{"$f":"IF(I426=1,D426,IF(I426=3,\"%\",\"g\"))","v":"kg"},1,{"$f":"IF(AND(Worksheet!$D$8,RAND()<0.2),3,IF(RAND()<Worksheet!$D$7/100,1,2))","v":1},{"$f":"IF(I426=1,C426-F426,IF(I426=2,C426-F426/1000,IF(I426=3,(1-F426/100)*C426,\"\")))","v":388}," kg",{"$f":"J426*1000","v":388000},"g",{"$f":"IF(I426=1,C426+F426,IF(I426=2,C426+F426/1000,IF(I426=3,(1+F426/100)*C426,\"\")))","v":390},"  kg",{"$f":"N426*1000","v":390000},"g"]
[{"$f":"IF(COUNTIF($B$1:B427,TRUE)=COUNTIF($B$1:B426,TRUE),\"\",COUNTIF($B$1:B427,TRUE))","v":316},{"$f":"Worksheet!$D$12","v":true},{"$f":"RANDBETWEEN(5,RANDBETWEEN(5,Worksheet!$D$6))","v":19},"tonnes","±",{"$f":"IF(I427=1,H427*10^RANDBETWEEN(IF(Worksheet!$D$9,-1,0),0),IF(I427=2,H427*10^RANDBETWEEN(RANDBETWEEN(0,2),2),CHOOSE(RANDBETWEEN(1,3),5,10,20)))","v":500},{"$f":"IF(I427=1,D427,IF(I427=3,\"%\",\"kg\"))","v":"kg"},5,{"$f":"IF(AND(Worksheet!$D$8,RAND()<0.2),3,IF(RAND()<Worksheet!$D$7/100,1,2))","v":2},{"$f":"IF(I427=1,C427-F427,IF(I427=2,C427-F427/1000,IF(I427=3,(1-F427/100)*C427,\"\")))","v":18.5}," tonnes",{"$f":"J427*1000","v":18500},"kg",{"$f":"IF(I427=1,C427+F427,IF(I427=2,C427+F427/1000,IF(I427=3,(1+F427/100)*C427,\"\")))","v":19.5},"  tonnes",{"$f":"N427*1000","v":19500},"kg"]
[{"$f":"IF(COUNTIF($B$1:B428,TRUE)=COUNTIF($B$1:B427,TRUE),\"\",COUNTIF($B$1:B428,TRUE))","v":317},{"$f":"Worksheet!$D$13","v":true},{"$f":"RANDBETWEEN(5,RANDBETWEEN(5,Worksheet!$D$6))","v":17},"litres","±",{"$f":"IF(I428=1,H428*10^RANDBETWEEN(IF(Worksheet!$D$9,-1,0),0),IF(I428=2,H428*10^RANDBETWEEN(RANDBETWEEN(0,2),2),CHOOSE(RANDBETWEEN(1,3),5,10,20)))","v":1},{"$f":"IF(I428=1,D428,IF(I428=3,\"%\",\"ml\"))","v":"litres"},1,{"$f":"IF(AND(Worksheet!$D$8,RAND()<0.2),3,IF(RAND()<Worksheet!$D$7/100,1,2))","v":1},{"$f":"IF(I428=1,C428-F428,IF(I428=2,C428-F428/1000,IF(I428=3,(1-F428/100)*C428,\"\")))","v":16}," litres",{"$f":"J428*1000","v":16000},"ml",{"$f":"IF(I428=1,C428+F428,IF(I428=2,C428+F428/1000,IF(I428=3,(1+F428/100)*C428,\"\")))","v":18},"  litres",{"$f":"N428*1000","v":18000},"ml"]
[{"$f":"IF(COUNTIF($B$1:B429,TRUE)=COUNTIF($B$1:B428,TRUE),\"\",COUNTIF($B$1:B429,TRUE))","v":318},{"$f":"Worksheet!$D$14","v":true},{"$f":"RANDBETWEEN(5,RANDBETWEEN(5,Worksheet!$D$6))","v":20},"litres","±",{"$f":"IF(I429=1,H429*10^RANDBETWEEN(IF(Worksheet!$D$9,-1,0),0),IF(I429=2,H429*10^RANDBETWEEN(RANDBETWEEN(0,2),2),CHOOSE(RANDBETWEEN(1,3),5,10,20)))","v":900},{"$f":"IF(I429=1,D429,IF(I429=3,\"%\",\"cm³\"))","v":"cm³"},9,{"$f":"IF(AND(Worksheet!$D$8,RAND()<0.2),3,IF(RAND()<Worksheet!$D$7/100,1,2))","v":2},{"$f":"IF(I429=1,C429-F429,IF(I429=2,C429-F429/1000,IF(I429=3,(1-F429/100)*C429,\"\")))","v":19.100000000000001}," litres",{"$f":"J429*1000","v":19100},"cm³",{"$f":"IF(I429=1,C429+F429,IF(I429=2,C429+F429/1000,IF(I429=3,(1+F429/100)*C429,\"\")))","v":20.9},"  litres",{"$f":"N429*1000","v":20900},"cm³"]
[{"$f":"IF(COUNTIF($B$1:B430,TRUE)=COUNTIF($B$1:B429,TRUE),\"\",COUNTIF($B$1:B430,TRUE))","v":""},{"$f":"Worksheet!$D$15","v":false},{"$f":"RANDBETWEEN(5,20)","v":16},"min","±",{"$f":"IF(I430=1,H430*10^RANDBETWEEN(IF(Worksheet!$D$9,-1,0),0),IF(I430=2,H430,CHOOSE(RANDBETWEEN(1,3),5,10,20)))","v":0.1},{"$f":"IF(I430=1,D430,IF(I430=3,\"%\",\"sec\"))","v":"min"},1,{"$f":"IF(AND(Worksheet!$D$8,RAND()<0),3,IF(RAND()<Worksheet!$D$7/100,1,2))","v":1},null," min",{"$f":"IF(I430=1,C430-F430,IF(I430=2,C430*60-F430,\"\"))","v":15.9},{"$f":"IF($I430=1,\" hours\",\" min\")","v":" hours"},null,"  min",{"$f":"IF(I430=1,C430+F430,IF(I430=2,C430*60+F430,\"\"))","v":16.100000000000001},{"$f":"IF($I430=1,\" hours\",\" min\")","v":" hours"}]
[{"$f":"COUNTIF($B$1:B431,TRUE)","v":319},{"$f":"Worksheet!$B$11","v":true},{"$f":"RANDBETWEEN(5,RANDBETWEEN(5,Worksheet!$D$6))","v":77},"cm","±",{"$f":"IF(I431=1,H431*10^RANDBETWEEN(IF(Worksheet!$D$9,-1,0),0),IF(I431=2,H431,CHOOSE(RANDBETWEEN(1,3),5,10,20)))","v":10},{"$f":"IF(I431=1,D431,IF(I431=3,\"%\",\"mm\"))","v":"%"},{"$f":"RANDBETWEEN(1,MIN(9,C431))","v":3},{"$f":"IF(AND(Worksheet!$D$8,RAND()<0.2),3,IF(RAND()<Worksheet!$D$7/100,1,2))","v":3},{"$f":"IF(I431=1,C431-F431,IF(I431=2,C431-F431/10,IF(I431=3,(1-F431/100)*C431,\"\")))","v":69.3},{"$f":"CONCATENATE(\" \",D431)","v":" cm"},{"$f":"J431*10","v":693},"mm",{"$f":"IF(I431=1,C431+F431,IF(I431=2,C431+F431/10,IF(I431=3,(1+F431/100)*C431,\"\")))","v":84.7},{"$f":"CONCATENATE(\" \",K431)","v":"  cm"},{"$f":"N431*10","v":847},"mm"]
[{"$f":"IF(COUNTIF($B$1:B432,TRUE)=COUNTIF($B$1:B431,TRUE),\"\",COUNTIF($B$1:B432,TRUE))","v":320},{"$f":"Worksheet!$B$12","v":true},{"$f":"RANDBETWEEN(5,RANDBETWEEN(5,Worksheet!$D$6))","v":131},"m","±",{"$f":"IF(I432=1,H432*10^RANDBETWEEN(IF(Worksheet!$D$9,-1,0),0),IF(I432=2,H432*10^RANDBETWEEN(RANDBETWEEN(0,1),1),CHOOSE(RANDBETWEEN(1,3),5,10,20)))","v":9},{"$f":"IF(I432=1,D432,IF(I432=3,\"%\",\"cm\"))","v":"m"},{"$f":"RANDBETWEEN(1,MIN(9,C432))","v":9},{"$f":"IF(AND(Worksheet!$D$8,RAND()<0.2),3,IF(RAND()<Worksheet!$D$7/100,1,2))","v":1},{"$f":"IF(I432=1,C432-F432,IF(I432=2,C432-F432/100,IF(I432=3,(1-F432/100)*C432,\"\")))","v":122},{"$f":"CONCATENATE(\" \",D432)","v":" m"},{"$f":"J432*100","v":12200},"cm",{"$f":"IF(I432=1,C432+F432,IF(I432=2,C432+F432/100,IF(I432=3,(1+F432/100)*C432,\"\")))","v":140},{"$f":"CONCATENATE(\" \",K432)","v":"  m"},{"$f":"N432*100","v":14000},"cm"]
[{"$f":"IF(COUNTIF($B$1:B433,TRUE)=COUNTIF($B$1:B432,TRUE),\"\",COUNTIF($B$1:B433,TRUE))","v":321},{"$f":"Worksheet!$B$13","v":true},{"$f":"RANDBETWEEN(5,RANDBETWEEN(5,Worksheet!$D$6))","v":191},"km","±",{"$f":"IF(I433=1,H433*10^RANDBETWEEN(IF(Worksheet!$D$9,-1,0),0),IF(I433=2,H433*10^RANDBETWEEN(RANDBETWEEN(0,2),2),CHOOSE(RANDBETWEEN(1,3),5,10,20)))","v":10},{"$f":"IF(I433=1,D433,IF(I433=3,\"%\",\"m\"))","v":"%"},4,{"$f":"IF(AND(Worksheet!$D$8,RAND()<0.2),3,IF(RAND()<Worksheet!$D$7/100,1,2))","v":3},{"$f":"IF(I433=1,C433-F433,IF(I433=2,C433-F433/1000,IF(I433=3,(1-F433/100)*C433,\"\")))","v":171.9}," km",{"$f":"J433*1000","v":171900},"m",{"$f":"IF(I433=1,C433+F433,IF(I433=2,C433+F433/1000,IF(I433=3,(1+F433/100)*C433,\"\")))","v":210.10000000000002},"  km",{"$f":"N433*1000","v":210100.00000000003},"m"]
[{"$f":"IF(COUNTIF($B$1:B434,TRUE)=COUNTIF($B$1:B433,TRUE),\"\",COUNTIF($B$1:B434,TRUE))","v":""},{"$f":"Worksheet!$B$14","v":false},{"$f":"RANDBETWEEN(5,RANDBETWEEN(5,Worksheet!$D$6))","v":60},"m","±",{"$f":"IF(I434=1,H434*10^RANDBETWEEN(IF(Worksheet!$D$9,-1,0),0),IF(I434=2,H434*10^RANDBETWEEN(RANDBETWEEN(0,2),2),CHOOSE(RANDBETWEEN(1,3),5,10,20)))","v":60},{"$f":"IF(I434=1,D434,IF(I434=3,\"%\",\"mm\"))","v":"mm"},6,{"$f":"IF(AND(Worksheet!$D$8,RAND()<0.2),3,IF(RAND()<Worksheet!$D$7/100,1,2))","v":2},{"$f":"IF(I434=1,C434-F434,IF(I434=2,C434-F434/1000,IF(I434=3,(1-F434/100)*C434,\"\")))","v":59.94}," m",{"$f":"J434*1000","v":59940},"mm",{"$f":"IF(I434=1,C434+F434,IF(I434=2,C434+F434/1000,IF(I434=3,(1+F434/100)*C434,\"\")))","v":60.06},"  m",{"$f":"N434*1000","v":60060},"mm"]
[{"$f":"IF(COUNTIF($B$1:B435,TRUE)=COUNTIF($B$1:B434,TRUE),\"\",COUNTIF($B$1:B435,TRUE))","v":322},{"$f":"Worksheet!$B$15","v":true},{"$f":"RANDBETWEEN(5,20)","v":16},"hours","±",{"$f":"IF(I435=1,H435*10^RANDBETWEEN(IF(Worksheet!$D$9,-1,0),0),IF(I435=2,H435,CHOOSE(RANDBETWEEN(1,3),5,10,20)))","v":4},{"$f":"IF(I435=1,D435,IF(I435=3,\"%\",\"min\"))","v":"min"},4,{"$f":"IF(AND(Worksheet!$D$8,RAND()<0),3,IF(RAND()<Worksheet!$D$7/100,1,2))","v":2},null," hours",{"$f":"IF(I435=1,C435-F435,IF(I435=2,C435*60-F435,\"\"))","v":956},{"$f":"IF($I435=1,\" hours\",\" min\")","v":" min"},null,"  hours",{"$f":"IF(I435=1,C435+F435,IF(I435=2,C435*60+F435,\"\"))","v":964},{"$f":"IF($I435=1,\" hours\",\" min\")","v":" min"}]
[{"$f":"IF(COUNTIF($B$1:B436,TRUE)=COUNTIF($B$1:B435,TRUE),\"\",COUNTIF($B$1:B436,TRUE))","v":323},{"$f":"Worksheet!$D$11","v":true},{"$f":"RANDBETWEEN(5,RANDBETWEEN(5,Worksheet!$D$6))","v":79},"kg","±",{"$f":"IF(I436=1,H436*10^RANDBETWEEN(IF(Worksheet!$D$9,-1,0),0),IF(I436=2,H436*10^RANDBETWEEN(RANDBETWEEN(0,2),2),CHOOSE(RANDBETWEEN(1,3),5,10,20)))","v":10},{"$f":"IF(I436=1,D436,IF(I436=3,\"%\",\"g\"))","v":"%"},7,{"$f":"IF(AND(Worksheet!$D$8,RAND()<0.2),3,IF(RAND()<Worksheet!$D$7/100,1,2))","v":3},{"$f":"IF(I436=1,C436-F436,IF(I436=2,C436-F436/1000,IF(I436=3,(1-F436/100)*C436,\"\")))","v":71.100000000000009}," kg",{"$f":"J436*1000","v":71100.000000000015},"g",{"$f":"IF(I436=1,C436+F436,IF(I436=2,C436+F436/1000,IF(I436=3,(1+F436/100)*C436,\"\")))","v":86.9},"  kg",{"$f":"N436*1000","v":86900},"g"]
[{"$f":"IF(COUNTIF($B$1:B437,TRUE)=COUNTIF($B$1:B436,TRUE),\"\",COUNTIF($B$1:B437,TRUE))","v":324},{"$f":"Worksheet!$D$12","v":true},{"$f":"RANDBETWEEN(5,RANDBETWEEN(5,Worksheet!$D$6))","v":109},"tonnes","±",{"$f":"IF(I437=1,H437*10^RANDBETWEEN(IF(Worksheet!$D$9,-1,0),0),IF(I437=2,H437*10^RANDBETWEEN(RANDBETWEEN(0,2),2),CHOOSE(RANDBETWEEN(1,3),5,10,20)))","v":0.2},{"$f":"IF(I437=1,D437,IF(I437=3,\"%\",\"kg\"))","v":"tonnes"},2,{"$f":"IF(AND(Worksheet!$D$8,RAND()<0.2),3,IF(RAND()<Worksheet!$D$7/100,1,2))","v":1},{"$f":"IF(I437=1,C437-F437,IF(I437=2,C437-F437/1000,IF(I437=3,(1-F437/100)*C437,\"\")))","v":108.8}," tonnes",{"$f":"J437*1000","v":108800},"kg",{"$f":"IF(I437=1,C437+F437,IF(I437=2,C437+F437/1000,IF(I437=3,(1+F437/100)*C437,\"\")))","v":109.2},"  tonnes",{"$f":"N437*1000","v":109200},"kg"]
[{"$f":"IF(COUNTIF($B$1:B438,TRUE)=COUNTIF($B$1:B437,TRUE),\"\",COUNTIF($B$1:B438,TRUE))","v":325},{"$f":"Worksheet!$D$13","v":true},{"$f":"RANDBETWEEN(5,RANDBETWEEN(5,Worksheet!$D$6))","v":122},"litres","±",{"$f":"IF(I438=1,H438*10^RANDBETWEEN(IF(Worksheet!$D$9,-1,0),0),IF(I438=2,H438*10^RANDBETWEEN(RANDBETWEEN(0,2),2),CHOOSE(RANDBETWEEN(1,3),5,10,20)))","v":4},{"$f":"IF(I438=1,D438,IF(I438=3,\"%\",\"ml\"))","v":"litres"},4,{"$f":"IF(AND(Worksheet!$D$8,RAND()<0.2),3,IF(RAND()<Worksheet!$D$7/100,1,2))","v":1},{"$f":"IF(I438=1,C438-F438,IF(I438=2,C438-F438/1000,IF(I438=3,(1-F438/100)*C438,\"\")))","v":118}," litres",{"$f":"J438*1000","v":118000},"ml",{"$f":"IF(I438=1,C438+F438,IF(I438=2,C438+F438/1000,IF(I438=3,(1+F438/100)*C438,\"\")))","v":126},"  litres",{"$f":"N438*1000","v":126000},"ml"]
[{"$f":"IF(COUNTIF($B$1:B439,TRUE)=COUNTIF($B$1:B438,TRUE),\"\",COUNTIF($B$1:B439,TRUE))","v":326},{"$f":"Worksheet!$D$14","v":true},{"$f":"RANDBETWEEN(5,RANDBETWEEN(5,Worksheet!$D$6))","v":129},"litres","±",{"$f":"IF(I439=1,H439*10^RANDBETWEEN(IF(Worksheet!$D$9,-1,0),0),IF(I439=2,H439*10^RANDBETWEEN(RANDBETWEEN(0,2),2),CHOOSE(RANDBETWEEN(1,3),5,10,20)))","v":20},{"$f":"IF(I439=1,D439,IF(I439=3,\"%\",\"cm³\"))","v":"%"},4,{"$f":"IF(AND(Worksheet!$D$8,RAND()<0.2),3,IF(RAND()<Worksheet!$D$7/100,1,2))","v":3},{"$f":"IF(I439=1,C439-F439,IF(I439=2,C439-F439/1000,IF(I439=3,(1-F439/100)*C439,\"\")))","v":103.2}," litres",{"$f":"J439*1000","v":103200},"cm³",{"$f":"IF(I439=1,C439+F439,IF(I439=2,C439+F439/1000,IF(I439=3,(1+F439/100)*C439,\"\")))","v":154.79999999999998},"  litres",{"$f":"N439*1000","v":154799.99999999997},"cm³"]
[{"$f":"IF(COUNTIF($B$1:B440,TRUE)=COUNTIF($B$1:B439,TRUE),\"\",COUNTIF($B$1:B440,TRUE))","v":""},{"$f":"Worksheet!$D$15","v":false},{"$f":"RANDBETWEEN(5,20)","v":8},"min","±",{"$f":"IF(I440=1,H440*10^RANDBETWEEN(IF(Worksheet!$D$9,-1,0),0),IF(I440=2,H440,CHOOSE(RANDBETWEEN(1,3),5,10,20)))","v":0.4},{"$f":"IF(I440=1,D440,IF(I440=3,\"%\",\"sec\"))","v":"min"},4,{"$f":"IF(AND(Worksheet!$D$8,RAND()<0),3,IF(RAND()<Worksheet!$D$7/100,1,2))","v":1},null," min",{"$f":"IF(I440=1,C440-F440,IF(I440=2,C440*60-F440,\"\"))","v":7.6},{"$f":"IF($I440=1,\" hours\",\" min\")","v":" hours"},null,"  min",{"$f":"IF(I440=1,C440+F440,IF(I440=2,C440*60+F440,\"\"))","v":8.4},{"$f":"IF($I440=1,\" hours\",\" min\")","v":" hours"}]
[{"$f":"COUNTIF($B$1:B441,TRUE)","v":327},{"$f":"Worksheet!$B$11","v":true},{"$f":"RANDBETWEEN(5,RANDBETWEEN(5,Worksheet!$D$6))","v":192},"cm","±",{"$f":"IF(I441=1,H441*10^RANDBETWEEN(IF(Worksheet!$D$9,-1,0),0),IF(I441=2,H441,CHOOSE(RANDBETWEEN(1,3),5,10,20)))","v":0.1},{"$f":"IF(I441=1,D441,IF(I441=3,\"%\",\"mm\"))","v":"cm"},{"$f":"RANDBETWEEN(1,MIN(9,C441))","v":1},{"$f":"IF(AND(Worksheet!$D$8,RAND()<0.2),3,IF(RAND()<Worksheet!$D$7/100,1,2))","v":1},{"$f":"IF(I441=1,C441-F441,IF(I441=2,C441-F441/10,IF(I441=3,(1-F441/100)*C441,\"\")))","v":191.9},{"$f":"CONCATENATE(\" \",D441)","v":" cm"},{"$f":"J441*10","v":1919},"mm",{"$f":"IF(I441=1,C441+F441,IF(I441=2,C441+F441/10,IF(I441=3,(1+F441/100)*C441,\"\")))","v":192.1},{"$f":"CONCATENATE(\" \",K441)","v":"  cm"},{"$f":"N441*10","v":1921},"mm"]
[{"$f":"IF(COUNTIF($B$1:B442,TRUE)=COUNTIF($B$1:B441,TRUE),\"\",COUNTIF($B$1:B442,TRUE))","v":328},{"$f":"Worksheet!$B$12","v":true},{"$f":"RANDBETWEEN(5,RANDBETWEEN(5,Worksheet!$D$6))","v":188},"m","±",{"$f":"IF(I442=1,H442*10^RANDBETWEEN(IF(Worksheet!$D$9,-1,0),0),IF(I442=2,H442*10^RANDBETWEEN(RANDBETWEEN(0,1),1),CHOOSE(RANDBETWEEN(1,3),5,10,20)))","v":0.1},{"$f":"IF(I442=1,D442,IF(I442=3,\"%\",\"cm\"))","v":"m"},{"$f":"RANDBETWEEN(1,MIN(9,C442))","v":1},{"$f":"IF(AND(Worksheet!$D$8,RAND()<0.2),3,IF(RAND()<Worksheet!$D$7/100,1,2))","v":1},{"$f":"IF(I442=1,C442-F442,IF(I442=2,C442-F442/100,IF(I442=3,(1-F442/100)*C442,\"\")))","v":187.9},{"$f":"CONCATENATE(\" \",D442)","v":" m"},{"$f":"J442*100","v":18790},"cm",{"$f":"IF(I442=1,C442+F442,IF(I442=2,C442+F442/100,IF(I442=3,(1+F442/100)*C442,\"\")))","v":188.1},{"$f":"CONCATENATE(\" \",K442)","v":"  m"},{"$f":"N442*100","v":18810},"cm"]
[{"$f":"IF(COUNTIF($B$1:B443,TRUE)=COUNTIF($B$1:B442,TRUE),\"\",COUNTIF($B$1:B443,TRUE))","v":329},{"$f":"Worksheet!$B$13","v":true},{"$f":"RANDBETWEEN(5,RANDBETWEEN(5,Worksheet!$D$6))","v":42},"km","±",{"$f":"IF(I443=1,H443*10^RANDBETWEEN(IF(Worksheet!$D$9,-1,0),0),IF(I443=2,H443*10^RANDBETWEEN(RANDBETWEEN(0,2),2),CHOOSE(RANDBETWEEN(1,3),5,10,20)))","v":200},{"$f":"IF(I443=1,D443,IF(I443=3,\"%\",\"m\"))","v":"m"},2,{"$f":"IF(AND(Worksheet!$D$8,RAND()<0.2),3,IF(RAND()<Worksheet!$D$7/100,1,2))","v":2},{"$f":"IF(I443=1,C443-F443,IF(I443=2,C443-F443/1000,IF(I443=3,(1-F443/100)*C443,\"\")))","v":41.8}," km",{"$f":"J443*1000","v":41800},"m",{"$f":"IF(I443=1,C443+F443,IF(I443=2,C443+F443/1000,IF(I443=3,(1+F443/100)*C443,\"\")))","v":42.2},"  km",{"$f":"N443*1000","v":42200},"m"]
[{"$f":"IF(COUNTIF($B$1:B444,TRUE)=COUNTIF($B$1:B443,TRUE),\"\",COUNTIF($B$1:B444,TRUE))","v":""},{"$f":"Worksheet!$B$14","v":false},{"$f":"RANDBETWEEN(5,RANDBETWEEN(5,Worksheet!$D$6))","v":111},"m","±",{"$f":"IF(I444=1,H444*10^RANDBETWEEN(IF(Worksheet!$D$9,-1,0),0),IF(I444=2,H444*10^RANDBETWEEN(RANDBETWEEN(0,2),2),CHOOSE(RANDBETWEEN(1,3),5,10,20)))","v":0.70000000000000007},{"$f":"IF(I444=1,D444,IF(I444=3,\"%\",\"mm\"))","v":"m"},7,{"$f":"IF(AND(Worksheet!$D$8,RAND()<0.2),3,IF(RAND()<Worksheet!$D$7/100,1,2))","v":1},{"$f":"IF(I444=1,C444-F444,IF(I444=2,C444-F444/1000,IF(I444=3,(1-F444/100)*C444,\"\")))","v":110.3}," m",{"$f":"J444*1000","v":110300},"mm",{"$f":"IF(I444=1,C444+F444,IF(I444=2,C444+F444/1000,IF(I444=3,(1+F444/100)*C444,\"\")))","v":111.7},"  m",{"$f":"N444*1000","v":111700},"mm"]
[{"$f":"IF(COUNTIF($B$1:B445,TRUE)=COUNTIF($B$1:B444,TRUE),\"\",COUNTIF($B$1:B445,TRUE))","v":330},{"$f":"Worksheet!$B$15","v":true},{"$f":"RANDBETWEEN(5,20)","v":14},"hours","±",{"$f":"IF(I445=1,H445*10^RANDBETWEEN(IF(Worksheet!$D$9,-1,0),0),IF(I445=2,H445,CHOOSE(RANDBETWEEN(1,3),5,10,20)))","v":0.5},{"$f":"IF(I445=1,D445,IF(I445=3,\"%\",\"min\"))","v":"hours"},5,{"$f":"IF(AND(Worksheet!$D$8,RAND()<0),3,IF(RAND()<Worksheet!$D$7/100,1,2))","v":1},null," hours",{"$f":"IF(I445=1,C445-F445,IF(I445=2,C445*60-F445,\"\"))","v":13.5},{"$f":"IF($I445=1,\" hours\",\" min\")","v":" hours"},null,"  hours",{"$f":"IF(I445=1,C445+F445,IF(I445=2,C445*60+F445,\"\"))","v":14.5},{"$f":"IF($I445=1,\" hours\",\" min\")","v":" hours"}]
[{"$f":"IF(COUNTIF($B$1:B446,TRUE)=COUNTIF($B$1:B445,TRUE),\"\",COUNTIF($B$1:B446,TRUE))","v":331},{"$f":"Worksheet!$D$11","v":true},{"$f":"RANDBETWEEN(5,RANDBETWEEN(5,Worksheet!$D$6))","v":53},"kg","±",{"$f":"IF(I446=1,H446*10^RANDBETWEEN(IF(Worksheet!$D$9,-1,0),0),IF(I446=2,H446*10^RANDBETWEEN(RANDBETWEEN(0,2),2),CHOOSE(RANDBETWEEN(1,3),5,10,20)))","v":0.2},{"$f":"IF(I446=1,D446,IF(I446=3,\"%\",\"g\"))","v":"kg"},2,{"$f":"IF(AND(Worksheet!$D$8,RAND()<0.2),3,IF(RAND()<Worksheet!$D$7/100,1,2))","v":1},{"$f":"IF(I446=1,C446-F446,IF(I446=2,C446-F446/1000,IF(I446=3,(1-F446/100)*C446,\"\")))","v":52.8}," kg",{"$f":"J446*1000","v":52800},"g",{"$f":"IF(I446=1,C446+F446,IF(I446=2,C446+F446/1000,IF(I446=3,(1+F446/100)*C446,\"\")))","v":53.2},"  kg",{"$f":"N446*1000","v":53200},"g"]
[{"$f":"IF(COUNTIF($B$1:B447,TRUE)=COUNTIF($B$1:B446,TRUE),\"\",COUNTIF($B$1:B447,TRUE))","v":332},{"$f":"Worksheet!$D$12","v":true},{"$f":"RANDBETWEEN(5,RANDBETWEEN(5,Worksheet!$D$6))","v":273},"tonnes","±",{"$f":"IF(I447=1,H447*10^RANDBETWEEN(IF(Worksheet!$D$9,-1,0),0),IF(I447=2,H447*10^RANDBETWEEN(RANDBETWEEN(0,2),2),CHOOSE(RANDBETWEEN(1,3),5,10,20)))","v":0.4},{"$f":"IF(I447=1,D447,IF(I447=3,\"%\",\"kg\"))","v":"tonnes"},4,{"$f":"IF(AND(Worksheet!$D$8,RAND()<0.2),3,IF(RAND()<Worksheet!$D$7/100,1,2))","v":1},{"$f":"IF(I447=1,C447-F447,IF(I447=2,C447-F447/1000,IF(I447=3,(1-F447/100)*C447,\"\")))","v":272.60000000000002}," tonnes",{"$f":"J447*1000","v":272600},"kg",{"$f":"IF(I447=1,C447+F447,IF(I447=2,C447+F447/1000,IF(I447=3,(1+F447/100)*C447,\"\")))","v":273.39999999999998},"  tonnes",{"$f":"N447*1000","v":273400},"kg"]
[{"$f":"IF(COUNTIF($B$1:B448,TRUE)=COUNTIF($B$1:B447,TRUE),\"\",COUNTIF($B$1:B448,TRUE))","v":333},{"$f":"Worksheet!$D$13","v":true},{"$f":"RANDBETWEEN(5,RANDBETWEEN(5,Worksheet!$D$6))","v":257},"litres","±",{"$f":"IF(I448=1,H448*10^RANDBETWEEN(IF(Worksheet!$D$9,-1,0),0),IF(I448=2,H448*10^RANDBETWEEN(RANDBETWEEN(0,2),2),CHOOSE(RANDBETWEEN(1,3),5,10,20)))","v":7},{"$f":"IF(I448=1,D448,IF(I448=3,\"%\",\"ml\"))","v":"litres"},7,{"$f":"IF(AND(Worksheet!$D$8,RAND()<0.2),3,IF(RAND()<Worksheet!$D$7/100,1,2))","v":1},{"$f":"IF(I448=1,C448-F448,IF(I448=2,C448-F448/1000,IF(I448=3,(1-F448/100)*C448,\"\")))","v":250}," litres",{"$f":"J448*1000","v":250000},"ml",{"$f":"IF(I448=1,C448+F448,IF(I448=2,C448+F448/1000,IF(I448=3,(1+F448/100)*C448,\"\")))","v":264},"  litres",{"$f":"N448*1000","v":264000},"ml"]
[{"$f":"IF(COUNTIF($B$1:B449,TRUE)=COUNTIF($B$1:B448,TRUE),\"\",COUNTIF($B$1:B449,TRUE))","v":334},{"$f":"Worksheet!$D$14","v":true},{"$f":"RANDBETWEEN(5,RANDBETWEEN(5,Worksheet!$D$6))","v":30},"litres","±",{"$f":"IF(I449=1,H449*10^RANDBETWEEN(IF(Worksheet!$D$9,-1,0),0),IF(I449=2,H449*10^RANDBETWEEN(RANDBETWEEN(0,2),2),CHOOSE(RANDBETWEEN(1,3),5,10,20)))","v":0.60000000000000009},{"$f":"IF(I449=1,D449,IF(I449=3,\"%\",\"cm³\"))","v":"litres"},6,{"$f":"IF(AND(Worksheet!$D$8,RAND()<0.2),3,IF(RAND()<Worksheet!$D$7/100,1,2))","v":1},{"$f":"IF(I449=1,C449-F449,IF(I449=2,C449-F449/1000,IF(I449=3,(1-F449/100)*C449,\"\")))","v":29.4}," litres",{"$f":"J449*1000","v":29400},"cm³",{"$f":"IF(I449=1,C449+F449,IF(I449=2,C449+F449/1000,IF(I449=3,(1+F449/100)*C449,\"\")))","v":30.6},"  litres",{"$f":"N449*1000","v":30600},"cm³"]
[{"$f":"IF(COUNTIF($B$1:B450,TRUE)=COUNTIF($B$1:B449,TRUE),\"\",COUNTIF($B$1:B450,TRUE))","v":""},{"$f":"Worksheet!$D$15","v":false},{"$f":"RANDBETWEEN(5,20)","v":14},"min","±",{"$f":"IF(I450=1,H450*10^RANDBETWEEN(IF(Worksheet!$D$9,-1,0),0),IF(I450=2,H450,CHOOSE(RANDBETWEEN(1,3),5,10,20)))","v":0.8},{"$f":"IF(I450=1,D450,IF(I450=3,\"%\",\"sec\"))","v":"min"},8,{"$f":"IF(AND(Worksheet!$D$8,RAND()<0),3,IF(RAND()<Worksheet!$D$7/100,1,2))","v":1},null," min",{"$f":"IF(I450=1,C450-F450,IF(I450=2,C450*60-F450,\"\"))","v":13.2},{"$f":"IF($I450=1,\" hours\",\" min\")","v":" hours"},null,"  min",{"$f":"IF(I450=1,C450+F450,IF(I450=2,C450*60+F450,\"\"))","v":14.8},{"$f":"IF($I450=1,\" hours\",\" min\")","v":" hours"}]
[{"$f":"COUNTIF($B$1:B451,TRUE)","v":335},{"$f":"Worksheet!$B$11","v":true},{"$f":"RANDBETWEEN(5,RANDBETWEEN(5,Worksheet!$D$6))","v":65},"cm","±",{"$f":"IF(I451=1,H451*10^RANDBETWEEN(IF(Worksheet!$D$9,-1,0),0),IF(I451=2,H451,CHOOSE(RANDBETWEEN(1,3),5,10,20)))","v":9},{"$f":"IF(I451=1,D451,IF(I451=3,\"%\",\"mm\"))","v":"mm"},{"$f":"RANDBETWEEN(1,MIN(9,C451))","v":9},{"$f":"IF(AND(Worksheet!$D$8,RAND()<0.2),3,IF(RAND()<Worksheet!$D$7/100,1,2))","v":2},{"$f":"IF(I451=1,C451-F451,IF(I451=2,C451-F451/10,IF(I451=3,(1-F451/100)*C451,\"\")))","v":64.099999999999994},{"$f":"CONCATENATE(\" \",D451)","v":" cm"},{"$f":"J451*10","v":641},"mm",{"$f":"IF(I451=1,C451+F451,IF(I451=2,C451+F451/10,IF(I451=3,(1+F451/100)*C451,\"\")))","v":65.900000000000006},{"$f":"CONCATENATE(\" \",K451)","v":"  cm"},{"$f":"N451*10","v":659},"mm"]
[{"$f":"IF(COUNTIF($B$1:B452,TRUE)=COUNTIF($B$1:B451,TRUE),\"\",COUNTIF($B$1:B452,TRUE))","v":336},{"$f":"Worksheet!$B$12","v":true},{"$f":"RANDBETWEEN(5,RANDBETWEEN(5,Worksheet!$D$6))","v":46},"m","±",{"$f":"IF(I452=1,H452*10^RANDBETWEEN(IF(Worksheet!$D$9,-1,0),0),IF(I452=2,H452*10^RANDBETWEEN(RANDBETWEEN(0,1),1),CHOOSE(RANDBETWEEN(1,3),5,10,20)))","v":20},{"$f":"IF(I452=1,D452,IF(I452=3,\"%\",\"cm\"))","v":"%"},{"$f":"RANDBETWEEN(1,MIN(9,C452))","v":2},{"$f":"IF(AND(Worksheet!$D$8,RAND()<0.2),3,IF(RAND()<Worksheet!$D$7/100,1,2))","v":3},{"$f":"IF(I452=1,C452-F452,IF(I452=2,C452-F452/100,IF(I452=3,(1-F452/100)*C452,\"\")))","v":36.800000000000004},{"$f":"CONCATENATE(\" \",D452)","v":" m"},{"$f":"J452*100","v":3680.0000000000005},"cm",{"$f":"IF(I452=1,C452+F452,IF(I452=2,C452+F452/100,IF(I452=3,(1+F452/100)*C452,\"\")))","v":55.199999999999996},{"$f":"CONCATENATE(\" \",K452)","v":"  m"},{"$f":"N452*100","v":5520},"cm"]
[{"$f":"IF(COUNTIF($B$1:B453,TRUE)=COUNTIF($B$1:B452,TRUE),\"\",COUNTIF($B$1:B453,TRUE))","v":337},{"$f":"Worksheet!$B$13","v":true},{"$f":"RANDBETWEEN(5,RANDBETWEEN(5,Worksheet!$D$6))","v":254},"km","±",{"$f":"IF(I453=1,H453*10^RANDBETWEEN(IF(Worksheet!$D$9,-1,0),0),IF(I453=2,H453*10^RANDBETWEEN(RANDBETWEEN(0,2),2),CHOOSE(RANDBETWEEN(1,3),5,10,20)))","v":5},{"$f":"IF(I453=1,D453,IF(I453=3,\"%\",\"m\"))","v":"m"},5,{"$f":"IF(AND(Worksheet!$D$8,RAND()<0.2),3,IF(RAND()<Worksheet!$D$7/100,1,2))","v":2},{"$f":"IF(I453=1,C453-F453,IF(I453=2,C453-F453/1000,IF(I453=3,(1-F453/100)*C453,\"\")))","v":253.995}," km",{"$f":"J453*1000","v":253995},"m",{"$f":"IF(I453=1,C453+F453,IF(I453=2,C453+F453/1000,IF(I453=3,(1+F453/100)*C453,\"\")))","v":254.005},"  km",{"$f":"N453*1000","v":254005},"m"]
[{"$f":"IF(COUNTIF($B$1:B454,TRUE)=COUNTIF($B$1:B453,TRUE),\"\",COUNTIF($B$1:B454,TRUE))","v":""},{"$f":"Worksheet!$B$14","v":false},{"$f":"RANDBETWEEN(5,RANDBETWEEN(5,Worksheet!$D$6))","v":91},"m","±",{"$f":"IF(I454=1,H454*10^RANDBETWEEN(IF(Worksheet!$D$9,-1,0),0),IF(I454=2,H454*10^RANDBETWEEN(RANDBETWEEN(0,2),2),CHOOSE(RANDBETWEEN(1,3),5,10,20)))","v":9},{"$f":"IF(I454=1,D454,IF(I454=3,\"%\",\"mm\"))","v":"m"},9,{"$f":"IF(AND(Worksheet!$D$8,RAND()<0.2),3,IF(RAND()<Worksheet!$D$7/100,1,2))","v":1},{"$f":"IF(I454=1,C454-F454,IF(I454=2,C454-F454/1000,IF(I454=3,(1-F454/100)*C454,\"\")))","v":82}," m",{"$f":"J454*1000","v":82000},"mm",{"$f":"IF(I454=1,C454+F454,IF(I454=2,C454+F454/1000,IF(I454=3,(1+F454/100)*C454,\"\")))","v":100},"  m",{"$f":"N454*1000","v":100000},"mm"]
[{"$f":"IF(COUNTIF($B$1:B455,TRUE)=COUNTIF($B$1:B454,TRUE),\"\",COUNTIF($B$1:B455,TRUE))","v":338},{"$f":"Worksheet!$B$15","v":true},{"$f":"RANDBETWEEN(5,20)","v":20},"hours","±",{"$f":"IF(I455=1,H455*10^RANDBETWEEN(IF(Worksheet!$D$9,-1,0),0),IF(I455=2,H455,CHOOSE(RANDBETWEEN(1,3),5,10,20)))","v":2},{"$f":"IF(I455=1,D455,IF(I455=3,\"%\",\"min\"))","v":"min"},2,{"$f":"IF(AND(Worksheet!$D$8,RAND()<0),3,IF(RAND()<Worksheet!$D$7/100,1,2))","v":2},null," hours",{"$f":"IF(I455=1,C455-F455,IF(I455=2,C455*60-F455,\"\"))","v":1198},{"$f":"IF($I455=1,\" hours\",\" min\")","v":" min"},null,"  hours",{"$f":"IF(I455=1,C455+F455,IF(I455=2,C455*60+F455,\"\"))","v":1202},{"$f":"IF($I455=1,\" hours\",\" min\")","v":" min"}]
[{"$f":"IF(COUNTIF($B$1:B456,TRUE)=COUNTIF($B$1:B455,TRUE),\"\",COUNTIF($B$1:B456,TRUE))","v":339},{"$f":"Worksheet!$D$11","v":true},{"$f":"RANDBETWEEN(5,RANDBETWEEN(5,Worksheet!$D$6))","v":214},"kg","±",{"$f":"IF(I456=1,H456*10^RANDBETWEEN(IF(Worksheet!$D$9,-1,0),0),IF(I456=2,H456*10^RANDBETWEEN(RANDBETWEEN(0,2),2),CHOOSE(RANDBETWEEN(1,3),5,10,20)))","v":0.70000000000000007},{"$f":"IF(I456=1,D456,IF(I456=3,\"%\",\"g\"))","v":"kg"},7,{"$f":"IF(AND(Worksheet!$D$8,RAND()<0.2),3,IF(RAND()<Worksheet!$D$7/100,1,2))","v":1},{"$f":"IF(I456=1,C456-F456,IF(I456=2,C456-F456/1000,IF(I456=3,(1-F456/100)*C456,\"\")))","v":213.3}," kg",{"$f":"J456*1000","v":213300},"g",{"$f":"IF(I456=1,C456+F456,IF(I456=2,C456+F456/1000,IF(I456=3,(1+F456/100)*C456,\"\")))","v":214.7},"  kg",{"$f":"N456*1000","v":214700},"g"]
[{"$f":"IF(COUNTIF($B$1:B457,TRUE)=COUNTIF($B$1:B456,TRUE),\"\",COUNTIF($B$1:B457,TRUE))","v":340},{"$f":"Worksheet!$D$12","v":true},{"$f":"RANDBETWEEN(5,RANDBETWEEN(5,Worksheet!$D$6))","v":37},"tonnes","±",{"$f":"IF(I457=1,H457*10^RANDBETWEEN(IF(Worksheet!$D$9,-1,0),0),IF(I457=2,H457*10^RANDBETWEEN(RANDBETWEEN(0,2),2),CHOOSE(RANDBETWEEN(1,3),5,10,20)))","v":10},{"$f":"IF(I457=1,D457,IF(I457=3,\"%\",\"kg\"))","v":"%"},2,{"$f":"IF(AND(Worksheet!$D$8,RAND()<0.2),3,IF(RAND()<Worksheet!$D$7/100,1,2))","v":3},{"$f":"IF(I457=1,C457-F457,IF(I457=2,C457-F457/1000,IF(I457=3,(1-F457/100)*C457,\"\")))","v":33.300000000000004}," tonnes",{"$f":"J457*1000","v":33300.000000000007},"kg",{"$f":"IF(I457=1,C457+F457,IF(I457=2,C457+F457/1000,IF(I457=3,(1+F457/100)*C457,\"\")))","v":40.700000000000003},"  tonnes",{"$f":"N457*1000","v":40700},"kg"]
[{"$f":"IF(COUNTIF($B$1:B458,TRUE)=COUNTIF($B$1:B457,TRUE),\"\",COUNTIF($B$1:B458,TRUE))","v":341},{"$f":"Worksheet!$D$13","v":true},{"$f":"RANDBETWEEN(5,RANDBETWEEN(5,Worksheet!$D$6))","v":12},"litres","±",{"$f":"IF(I458=1,H458*10^RANDBETWEEN(IF(Worksheet!$D$9,-1,0),0),IF(I458=2,H458*10^RANDBETWEEN(RANDBETWEEN(0,2),2),CHOOSE(RANDBETWEEN(1,3),5,10,20)))","v":900},{"$f":"IF(I458=1,D458,IF(I458=3,\"%\",\"ml\"))","v":"ml"},9,{"$f":"IF(AND(Worksheet!$D$8,RAND()<0.2),3,IF(RAND()<Worksheet!$D$7/100,1,2))","v":2},{"$f":"IF(I458=1,C458-F458,IF(I458=2,C458-F458/1000,IF(I458=3,(1-F458/100)*C458,\"\")))","v":11.1}," litres",{"$f":"J458*1000","v":11100},"ml",{"$f":"IF(I458=1,C458+F458,IF(I458=2,C458+F458/1000,IF(I458=3,(1+F458/100)*C458,\"\")))","v":12.9},"  litres",{"$f":"N458*1000","v":12900},"ml"]
[{"$f":"IF(COUNTIF($B$1:B459,TRUE)=COUNTIF($B$1:B458,TRUE),\"\",COUNTIF($B$1:B459,TRUE))","v":342},{"$f":"Worksheet!$D$14","v":true},{"$f":"RANDBETWEEN(5,RANDBETWEEN(5,Worksheet!$D$6))","v":96},"litres","±",{"$f":"IF(I459=1,H459*10^RANDBETWEEN(IF(Worksheet!$D$9,-1,0),0),IF(I459=2,H459*10^RANDBETWEEN(RANDBETWEEN(0,2),2),CHOOSE(RANDBETWEEN(1,3),5,10,20)))","v":20},{"$f":"IF(I459=1,D459,IF(I459=3,\"%\",\"cm³\"))","v":"%"},1,{"$f":"IF(AND(Worksheet!$D$8,RAND()<0.2),3,IF(RAND()<Worksheet!$D$7/100,1,2))","v":3},{"$f":"IF(I459=1,C459-F459,IF(I459=2,C459-F459/1000,IF(I459=3,(1-F459/100)*C459,\"\")))","v":76.800000000000011}," litres",{"$f":"J459*1000","v":76800.000000000015},"cm³",{"$f":"IF(I459=1,C459+F459,IF(I459=2,C459+F459/1000,IF(I459=3,(1+F459/100)*C459,\"\")))","v":115.19999999999999},"  litres",{"$f":"N459*1000","v":115199.99999999999},"cm³"]
[{"$f":"IF(COUNTIF($B$1:B460,TRUE)=COUNTIF($B$1:B459,TRUE),\"\",COUNTIF($B$1:B460,TRUE))","v":""},{"$f":"Worksheet!$D$15","v":false},{"$f":"RANDBETWEEN(5,20)","v":8},"min","±",{"$f":"IF(I460=1,H460*10^RANDBETWEEN(IF(Worksheet!$D$9,-1,0),0),IF(I460=2,H460,CHOOSE(RANDBETWEEN(1,3),5,10,20)))","v":1},{"$f":"IF(I460=1,D460,IF(I460=3,\"%\",\"sec\"))","v":"min"},1,{"$f":"IF(AND(Worksheet!$D$8,RAND()<0),3,IF(RAND()<Worksheet!$D$7/100,1,2))","v":1},null," min",{"$f":"IF(I460=1,C460-F460,IF(I460=2,C460*60-F460,\"\"))","v":7},{"$f":"IF($I460=1,\" hours\",\" min\")","v":" hours"},null,"  min",{"$f":"IF(I460=1,C460+F460,IF(I460=2,C460*60+F460,\"\"))","v":9},{"$f":"IF($I460=1,\" hours\",\" min\")","v":" hours"}]
[{"$f":"COUNTIF($B$1:B461,TRUE)","v":343},{"$f":"Worksheet!$B$11","v":true},{"$f":"RANDBETWEEN(5,RANDBETWEEN(5,Worksheet!$D$6))","v":148},"cm","±",{"$f":"IF(I461=1,H461*10^RANDBETWEEN(IF(Worksheet!$D$9,-1,0),0),IF(I461=2,H461,CHOOSE(RANDBETWEEN(1,3),5,10,20)))","v":20},{"$f":"IF(I461=1,D461,IF(I461=3,\"%\",\"mm\"))","v":"%"},{"$f":"RANDBETWEEN(1,MIN(9,C461))","v":5},{"$f":"IF(AND(Worksheet!$D$8,RAND()<0.2),3,IF(RAND()<Worksheet!$D$7/100,1,2))","v":3},{"$f":"IF(I461=1,C461-F461,IF(I461=2,C461-F461/10,IF(I461=3,(1-F461/100)*C461,\"\")))","v":118.4},{"$f":"CONCATENATE(\" \",D461)","v":" cm"},{"$f":"J461*10","v":1184},"mm",{"$f":"IF(I461=1,C461+F461,IF(I461=2,C461+F461/10,IF(I461=3,(1+F461/100)*C461,\"\")))","v":177.6},{"$f":"CONCATENATE(\" \",K461)","v":"  cm"},{"$f":"N461*10","v":1776},"mm"]
[{"$f":"IF(COUNTIF($B$1:B462,TRUE)=COUNTIF($B$1:B461,TRUE),\"\",COUNTIF($B$1:B462,TRUE))","v":344},{"$f":"Worksheet!$B$12","v":true},{"$f":"RANDBETWEEN(5,RANDBETWEEN(5,Worksheet!$D$6))","v":24},"m","±",{"$f":"IF(I462=1,H462*10^RANDBETWEEN(IF(Worksheet!$D$9,-1,0),0),IF(I462=2,H462*10^RANDBETWEEN(RANDBETWEEN(0,1),1),CHOOSE(RANDBETWEEN(1,3),5,10,20)))","v":4},{"$f":"IF(I462=1,D462,IF(I462=3,\"%\",\"cm\"))","v":"m"},{"$f":"RANDBETWEEN(1,MIN(9,C462))","v":4},{"$f":"IF(AND(Worksheet!$D$8,RAND()<0.2),3,IF(RAND()<Worksheet!$D$7/100,1,2))","v":1},{"$f":"IF(I462=1,C462-F462,IF(I462=2,C462-F462/100,IF(I462=3,(1-F462/100)*C462,\"\")))","v":20},{"$f":"CONCATENATE(\" \",D462)","v":" m"},{"$f":"J462*100","v":2000},"cm",{"$f":"IF(I462=1,C462+F462,IF(I462=2,C462+F462/100,IF(I462=3,(1+F462/100)*C462,\"\")))","v":28},{"$f":"CONCATENATE(\" \",K462)","v":"  m"},{"$f":"N462*100","v":2800},"cm"]
[{"$f":"IF(COUNTIF($B$1:B463,TRUE)=COUNTIF($B$1:B462,TRUE),\"\",COUNTIF($B$1:B463,TRUE))","v":345},{"$f":"Worksheet!$B$13","v":true},{"$f":"RANDBETWEEN(5,RANDBETWEEN(5,Worksheet!$D$6))","v":158},"km","±",{"$f":"IF(I463=1,H463*10^RANDBETWEEN(IF(Worksheet!$D$9,-1,0),0),IF(I463=2,H463*10^RANDBETWEEN(RANDBETWEEN(0,2),2),CHOOSE(RANDBETWEEN(1,3),5,10,20)))","v":200},{"$f":"IF(I463=1,D463,IF(I463=3,\"%\",\"m\"))","v":"m"},2,{"$f":"IF(AND(Worksheet!$D$8,RAND()<0.2),3,IF(RAND()<Worksheet!$D$7/100,1,2))","v":2},{"$f":"IF(I463=1,C463-F463,IF(I463=2,C463-F463/1000,IF(I463=3,(1-F463/100)*C463,\"\")))","v":157.80000000000001}," km",{"$f":"J463*1000","v":157800},"m",{"$f":"IF(I463=1,C463+F463,IF(I463=2,C463+F463/1000,IF(I463=3,(1+F463/100)*C463,\"\")))","v":158.19999999999999},"  km",{"$f":"N463*1000","v":158200},"m"]
[{"$f":"IF(COUNTIF($B$1:B464,TRUE)=COUNTIF($B$1:B463,TRUE),\"\",COUNTIF($B$1:B464,TRUE))","v":""},{"$f":"Worksheet!$B$14","v":false},{"$f":"RANDBETWEEN(5,RANDBETWEEN(5,Worksheet!$D$6))","v":25},"m","±",{"$f":"IF(I464=1,H464*10^RANDBETWEEN(IF(Worksheet!$D$9,-1,0),0),IF(I464=2,H464*10^RANDBETWEEN(RANDBETWEEN(0,2),2),CHOOSE(RANDBETWEEN(1,3),5,10,20)))","v":5},{"$f":"IF(I464=1,D464,IF(I464=3,\"%\",\"mm\"))","v":"m"},5,{"$f":"IF(AND(Worksheet!$D$8,RAND()<0.2),3,IF(RAND()<Worksheet!$D$7/100,1,2))","v":1},{"$f":"IF(I464=1,C464-F464,IF(I464=2,C464-F464/1000,IF(I464=3,(1-F464/100)*C464,\"\")))","v":20}," m",{"$f":"J464*1000","v":20000},"mm",{"$f":"IF(I464=1,C464+F464,IF(I464=2,C464+F464/1000,IF(I464=3,(1+F464/100)*C464,\"\")))","v":30},"  m",{"$f":"N464*1000","v":30000},"mm"]
[{"$f":"IF(COUNTIF($B$1:B465,TRUE)=COUNTIF($B$1:B464,TRUE),\"\",COUNTIF($B$1:B465,TRUE))","v":346},{"$f":"Worksheet!$B$15","v":true},{"$f":"RANDBETWEEN(5,20)","v":9},"hours","±",{"$f":"IF(I465=1,H465*10^RANDBETWEEN(IF(Worksheet!$D$9,-1,0),0),IF(I465=2,H465,CHOOSE(RANDBETWEEN(1,3),5,10,20)))","v":7},{"$f":"IF(I465=1,D465,IF(I465=3,\"%\",\"min\"))","v":"min"},7,{"$f":"IF(AND(Worksheet!$D$8,RAND()<0),3,IF(RAND()<Worksheet!$D$7/100,1,2))","v":2},null," hours",{"$f":"IF(I465=1,C465-F465,IF(I465=2,C465*60-F465,\"\"))","v":533},{"$f":"IF($I465=1,\" hours\",\" min\")","v":" min"},null,"  hours",{"$f":"IF(I465=1,C465+F465,IF(I465=2,C465*60+F465,\"\"))","v":547},{"$f":"IF($I465=1,\" hours\",\" min\")","v":" min"}]
[{"$f":"IF(COUNTIF($B$1:B466,TRUE)=COUNTIF($B$1:B465,TRUE),\"\",COUNTIF($B$1:B466,TRUE))","v":347},{"$f":"Worksheet!$D$11","v":true},{"$f":"RANDBETWEEN(5,RANDBETWEEN(5,Worksheet!$D$6))","v":218},"kg","±",{"$f":"IF(I466=1,H466*10^RANDBETWEEN(IF(Worksheet!$D$9,-1,0),0),IF(I466=2,H466*10^RANDBETWEEN(RANDBETWEEN(0,2),2),CHOOSE(RANDBETWEEN(1,3),5,10,20)))","v":0.30000000000000004},{"$f":"IF(I466=1,D466,IF(I466=3,\"%\",\"g\"))","v":"kg"},3,{"$f":"IF(AND(Worksheet!$D$8,RAND()<0.2),3,IF(RAND()<Worksheet!$D$7/100,1,2))","v":1},{"$f":"IF(I466=1,C466-F466,IF(I466=2,C466-F466/1000,IF(I466=3,(1-F466/100)*C466,\"\")))","v":217.7}," kg",{"$f":"J466*1000","v":217700},"g",{"$f":"IF(I466=1,C466+F466,IF(I466=2,C466+F466/1000,IF(I466=3,(1+F466/100)*C466,\"\")))","v":218.3},"  kg",{"$f":"N466*1000","v":218300},"g"]
[{"$f":"IF(COUNTIF($B$1:B467,TRUE)=COUNTIF($B$1:B466,TRUE),\"\",COUNTIF($B$1:B467,TRUE))","v":348},{"$f":"Worksheet!$D$12","v":true},{"$f":"RANDBETWEEN(5,RANDBETWEEN(5,Worksheet!$D$6))","v":38},"tonnes","±",{"$f":"IF(I467=1,H467*10^RANDBETWEEN(IF(Worksheet!$D$9,-1,0),0),IF(I467=2,H467*10^RANDBETWEEN(RANDBETWEEN(0,2),2),CHOOSE(RANDBETWEEN(1,3),5,10,20)))","v":0.5},{"$f":"IF(I467=1,D467,IF(I467=3,\"%\",\"kg\"))","v":"tonnes"},5,{"$f":"IF(AND(Worksheet!$D$8,RAND()<0.2),3,IF(RAND()<Worksheet!$D$7/100,1,2))","v":1},{"$f":"IF(I467=1,C467-F467,IF(I467=2,C467-F467/1000,IF(I467=3,(1-F467/100)*C467,\"\")))","v":37.5}," tonnes",{"$f":"J467*1000","v":37500},"kg",{"$f":"IF(I467=1,C467+F467,IF(I467=2,C467+F467/1000,IF(I467=3,(1+F467/100)*C467,\"\")))","v":38.5},"  tonnes",{"$f":"N467*1000","v":38500},"kg"]
[{"$f":"IF(COUNTIF($B$1:B468,TRUE)=COUNTIF($B$1:B467,TRUE),\"\",COUNTIF($B$1:B468,TRUE))","v":349},{"$f":"Worksheet!$D$13","v":true},{"$f":"RANDBETWEEN(5,RANDBETWEEN(5,Worksheet!$D$6))","v":151},"litres","±",{"$f":"IF(I468=1,H468*10^RANDBETWEEN(IF(Worksheet!$D$9,-1,0),0),IF(I468=2,H468*10^RANDBETWEEN(RANDBETWEEN(0,2),2),CHOOSE(RANDBETWEEN(1,3),5,10,20)))","v":20},{"$f":"IF(I468=1,D468,IF(I468=3,\"%\",\"ml\"))","v":"ml"},2,{"$f":"IF(AND(Worksheet!$D$8,RAND()<0.2),3,IF(RAND()<Worksheet!$D$7/100,1,2))","v":2},{"$f":"IF(I468=1,C468-F468,IF(I468=2,C468-F468/1000,IF(I468=3,(1-F468/100)*C468,\"\")))","v":150.97999999999999}," litres",{"$f":"J468*1000","v":150980},"ml",{"$f":"IF(I468=1,C468+F468,IF(I468=2,C468+F468/1000,IF(I468=3,(1+F468/100)*C468,\"\")))","v":151.02000000000001},"  litres",{"$f":"N468*1000","v":151020},"ml"]
[{"$f":"IF(COUNTIF($B$1:B469,TRUE)=COUNTIF($B$1:B468,TRUE),\"\",COUNTIF($B$1:B469,TRUE))","v":350},{"$f":"Worksheet!$D$14","v":true},{"$f":"RANDBETWEEN(5,RANDBETWEEN(5,Worksheet!$D$6))","v":51},"litres","±",{"$f":"IF(I469=1,H469*10^RANDBETWEEN(IF(Worksheet!$D$9,-1,0),0),IF(I469=2,H469*10^RANDBETWEEN(RANDBETWEEN(0,2),2),CHOOSE(RANDBETWEEN(1,3),5,10,20)))","v":0.4},{"$f":"IF(I469=1,D469,IF(I469=3,\"%\",\"cm³\"))","v":"litres"},4,{"$f":"IF(AND(Worksheet!$D$8,RAND()<0.2),3,IF(RAND()<Worksheet!$D$7/100,1,2))","v":1},{"$f":"IF(I469=1,C469-F469,IF(I469=2,C469-F469/1000,IF(I469=3,(1-F469/100)*C469,\"\")))","v":50.6}," litres",{"$f":"J469*1000","v":50600},"cm³",{"$f":"IF(I469=1,C469+F469,IF(I469=2,C469+F469/1000,IF(I469=3,(1+F469/100)*C469,\"\")))","v":51.4},"  litres",{"$f":"N469*1000","v":51400},"cm³"]
[{"$f":"IF(COUNTIF($B$1:B470,TRUE)=COUNTIF($B$1:B469,TRUE),\"\",COUNTIF($B$1:B470,TRUE))","v":""},{"$f":"Worksheet!$D$15","v":false},{"$f":"RANDBETWEEN(5,20)","v":14},"min","±",{"$f":"IF(I470=1,H470*10^RANDBETWEEN(IF(Worksheet!$D$9,-1,0),0),IF(I470=2,H470,CHOOSE(RANDBETWEEN(1,3),5,10,20)))","v":0.5},{"$f":"IF(I470=1,D470,IF(I470=3,\"%\",\"sec\"))","v":"min"},5,{"$f":"IF(AND(Worksheet!$D$8,RAND()<0),3,IF(RAND()<Worksheet!$D$7/100,1,2))","v":1},null," min",{"$f":"IF(I470=1,C470-F470,IF(I470=2,C470*60-F470,\"\"))","v":13.5},{"$f":"IF($I470=1,\" hours\",\" min\")","v":" hours"},null,"  min",{"$f":"IF(I470=1,C470+F470,IF(I470=2,C470*60+F470,\"\"))","v":14.5},{"$f":"IF($I470=1,\" hours\",\" min\")","v":" hours"}]
[{"$f":"COUNTIF($B$1:B471,TRUE)","v":351},{"$f":"Worksheet!$B$11","v":true},{"$f":"RANDBETWEEN(5,RANDBETWEEN(5,Worksheet!$D$6))","v":6},"cm","±",{"$f":"IF(I471=1,H471*10^RANDBETWEEN(IF(Worksheet!$D$9,-1,0),0),IF(I471=2,H471,CHOOSE(RANDBETWEEN(1,3),5,10,20)))","v":6},{"$f":"IF(I471=1,D471,IF(I471=3,\"%\",\"mm\"))","v":"cm"},{"$f":"RANDBETWEEN(1,MIN(9,C471))","v":6},{"$f":"IF(AND(Worksheet!$D$8,RAND()<0.2),3,IF(RAND()<Worksheet!$D$7/100,1,2))","v":1},{"$f":"IF(I471=1,C471-F471,IF(I471=2,C471-F471/10,IF(I471=3,(1-F471/100)*C471,\"\")))","v":0},{"$f":"CONCATENATE(\" \",D471)","v":" cm"},{"$f":"J471*10","v":0},"mm",{"$f":"IF(I471=1,C471+F471,IF(I471=2,C471+F471/10,IF(I471=3,(1+F471/100)*C471,\"\")))","v":12},{"$f":"CONCATENATE(\" \",K471)","v":"  cm"},{"$f":"N471*10","v":120},"mm"]
[{"$f":"IF(COUNTIF($B$1:B472,TRUE)=COUNTIF($B$1:B471,TRUE),\"\",COUNTIF($B$1:B472,TRUE))","v":352},{"$f":"Worksheet!$B$12","v":true},{"$f":"RANDBETWEEN(5,RANDBETWEEN(5,Worksheet!$D$6))","v":80},"m","±",{"$f":"IF(I472=1,H472*10^RANDBETWEEN(IF(Worksheet!$D$9,-1,0),0),IF(I472=2,H472*10^RANDBETWEEN(RANDBETWEEN(0,1),1),CHOOSE(RANDBETWEEN(1,3),5,10,20)))","v":0.70000000000000007},{"$f":"IF(I472=1,D472,IF(I472=3,\"%\",\"cm\"))","v":"m"},{"$f":"RANDBETWEEN(1,MIN(9,C472))","v":7},{"$f":"IF(AND(Worksheet!$D$8,RAND()<0.2),3,IF(RAND()<Worksheet!$D$7/100,1,2))","v":1},{"$f":"IF(I472=1,C472-F472,IF(I472=2,C472-F472/100,IF(I472=3,(1-F472/100)*C472,\"\")))","v":79.3},{"$f":"CONCATENATE(\" \",D472)","v":" m"},{"$f":"J472*100","v":7930},"cm",{"$f":"IF(I472=1,C472+F472,IF(I472=2,C472+F472/100,IF(I472=3,(1+F472/100)*C472,\"\")))","v":80.7},{"$f":"CONCATENATE(\" \",K472)","v":"  m"},{"$f":"N472*100","v":8070},"cm"]
[{"$f":"IF(COUNTIF($B$1:B473,TRUE)=COUNTIF($B$1:B472,TRUE),\"\",COUNTIF($B$1:B473,TRUE))","v":353},{"$f":"Worksheet!$B$13","v":true},{"$f":"RANDBETWEEN(5,RANDBETWEEN(5,Worksheet!$D$6))","v":6},"km","±",{"$f":"IF(I473=1,H473*10^RANDBETWEEN(IF(Worksheet!$D$9,-1,0),0),IF(I473=2,H473*10^RANDBETWEEN(RANDBETWEEN(0,2),2),CHOOSE(RANDBETWEEN(1,3),5,10,20)))","v":0.30000000000000004},{"$f":"IF(I473=1,D473,IF(I473=3,\"%\",\"m\"))","v":"km"},3,{"$f":"IF(AND(Worksheet!$D$8,RAND()<0.2),3,IF(RAND()<Worksheet!$D$7/100,1,2))","v":1},{"$f":"IF(I473=1,C473-F473,IF(I473=2,C473-F473/1000,IF(I473=3,(1-F473/100)*C473,\"\")))","v":5.7}," km",{"$f":"J473*1000","v":5700},"m",{"$f":"IF(I473=1,C473+F473,IF(I473=2,C473+F473/1000,IF(I473=3,(1+F473/100)*C473,\"\")))","v":6.3},"  km",{"$f":"N473*1000","v":6300},"m"]
[{"$f":"IF(COUNTIF($B$1:B474,TRUE)=COUNTIF($B$1:B473,TRUE),\"\",COUNTIF($B$1:B474,TRUE))","v":""},{"$f":"Worksheet!$B$14","v":false},{"$f":"RANDBETWEEN(5,RANDBETWEEN(5,Worksheet!$D$6))","v":71},"m","±",{"$f":"IF(I474=1,H474*10^RANDBETWEEN(IF(Worksheet!$D$9,-1,0),0),IF(I474=2,H474*10^RANDBETWEEN(RANDBETWEEN(0,2),2),CHOOSE(RANDBETWEEN(1,3),5,10,20)))","v":20},{"$f":"IF(I474=1,D474,IF(I474=3,\"%\",\"mm\"))","v":"%"},6,{"$f":"IF(AND(Worksheet!$D$8,RAND()<0.2),3,IF(RAND()<Worksheet!$D$7/100,1,2))","v":3},{"$f":"IF(I474=1,C474-F474,IF(I474=2,C474-F474/1000,IF(I474=3,(1-F474/100)*C474,\"\")))","v":56.800000000000004}," m",{"$f":"J474*1000","v":56800.000000000007},"mm",{"$f":"IF(I474=1,C474+F474,IF(I474=2,C474+F474/1000,IF(I474=3,(1+F474/100)*C474,\"\")))","v":85.2},"  m",{"$f":"N474*1000","v":85200},"mm"]
[{"$f":"IF(COUNTIF($B$1:B475,TRUE)=COUNTIF($B$1:B474,TRUE),\"\",COUNTIF($B$1:B475,TRUE))","v":354},{"$f":"Worksheet!$B$15","v":true},{"$f":"RANDBETWEEN(5,20)","v":15},"hours","±",{"$f":"IF(I475=1,H475*10^RANDBETWEEN(IF(Worksheet!$D$9,-1,0),0),IF(I475=2,H475,CHOOSE(RANDBETWEEN(1,3),5,10,20)))","v":0.60000000000000009},{"$f":"IF(I475=1,D475,IF(I475=3,\"%\",\"min\"))","v":"hours"},6,{"$f":"IF(AND(Worksheet!$D$8,RAND()<0),3,IF(RAND()<Worksheet!$D$7/100,1,2))","v":1},null," hours",{"$f":"IF(I475=1,C475-F475,IF(I475=2,C475*60-F475,\"\"))","v":14.4},{"$f":"IF($I475=1,\" hours\",\" min\")","v":" hours"},null,"  hours",{"$f":"IF(I475=1,C475+F475,IF(I475=2,C475*60+F475,\"\"))","v":15.6},{"$f":"IF($I475=1,\" hours\",\" min\")","v":" hours"}]
[{"$f":"IF(COUNTIF($B$1:B476,TRUE)=COUNTIF($B$1:B475,TRUE),\"\",COUNTIF($B$1:B476,TRUE))","v":355},{"$f":"Worksheet!$D$11","v":true},{"$f":"RANDBETWEEN(5,RANDBETWEEN(5,Worksheet!$D$6))","v":45},"kg","±",{"$f":"IF(I476=1,H476*10^RANDBETWEEN(IF(Worksheet!$D$9,-1,0),0),IF(I476=2,H476*10^RANDBETWEEN(RANDBETWEEN(0,2),2),CHOOSE(RANDBETWEEN(1,3),5,10,20)))","v":0.8},{"$f":"IF(I476=1,D476,IF(I476=3,\"%\",\"g\"))","v":"kg"},8,{"$f":"IF(AND(Worksheet!$D$8,RAND()<0.2),3,IF(RAND()<Worksheet!$D$7/100,1,2))","v":1},{"$f":"IF(I476=1,C476-F476,IF(I476=2,C476-F476/1000,IF(I476=3,(1-F476/100)*C476,\"\")))","v":44.2}," kg",{"$f":"J476*1000","v":44200},"g",{"$f":"IF(I476=1,C476+F476,IF(I476=2,C476+F476/1000,IF(I476=3,(1+F476/100)*C476,\"\")))","v":45.8},"  kg",{"$f":"N476*1000","v":45800},"g"]
[{"$f":"IF(COUNTIF($B$1:B477,TRUE)=COUNTIF($B$1:B476,TRUE),\"\",COUNTIF($B$1:B477,TRUE))","v":356},{"$f":"Worksheet!$D$12","v":true},{"$f":"RANDBETWEEN(5,RANDBETWEEN(5,Worksheet!$D$6))","v":12},"tonnes","±",{"$f":"IF(I477=1,H477*10^RANDBETWEEN(IF(Worksheet!$D$9,-1,0),0),IF(I477=2,H477*10^RANDBETWEEN(RANDBETWEEN(0,2),2),CHOOSE(RANDBETWEEN(1,3),5,10,20)))","v":200},{"$f":"IF(I477=1,D477,IF(I477=3,\"%\",\"kg\"))","v":"kg"},2,{"$f":"IF(AND(Worksheet!$D$8,RAND()<0.2),3,IF(RAND()<Worksheet!$D$7/100,1,2))","v":2},{"$f":"IF(I477=1,C477-F477,IF(I477=2,C477-F477/1000,IF(I477=3,(1-F477/100)*C477,\"\")))","v":11.8}," tonnes",{"$f":"J477*1000","v":11800},"kg",{"$f":"IF(I477=1,C477+F477,IF(I477=2,C477+F477/1000,IF(I477=3,(1+F477/100)*C477,\"\")))","v":12.2},"  tonnes",{"$f":"N477*1000","v":12200},"kg"]
[{"$f":"IF(COUNTIF($B$1:B478,TRUE)=COUNTIF($B$1:B477,TRUE),\"\",COUNTIF($B$1:B478,TRUE))","v":357},{"$f":"Worksheet!$D$13","v":true},{"$f":"RANDBETWEEN(5,RANDBETWEEN(5,Worksheet!$D$6))","v":94},"litres","±",{"$f":"IF(I478=1,H478*10^RANDBETWEEN(IF(Worksheet!$D$9,-1,0),0),IF(I478=2,H478*10^RANDBETWEEN(RANDBETWEEN(0,2),2),CHOOSE(RANDBETWEEN(1,3),5,10,20)))","v":5},{"$f":"IF(I478=1,D478,IF(I478=3,\"%\",\"ml\"))","v":"litres"},5,{"$f":"IF(AND(Worksheet!$D$8,RAND()<0.2),3,IF(RAND()<Worksheet!$D$7/100,1,2))","v":1},{"$f":"IF(I478=1,C478-F478,IF(I478=2,C478-F478/1000,IF(I478=3,(1-F478/100)*C478,\"\")))","v":89}," litres",{"$f":"J478*1000","v":89000},"ml",{"$f":"IF(I478=1,C478+F478,IF(I478=2,C478+F478/1000,IF(I478=3,(1+F478/100)*C478,\"\")))","v":99},"  litres",{"$f":"N478*1000","v":99000},"ml"]
[{"$f":"IF(COUNTIF($B$1:B479,TRUE)=COUNTIF($B$1:B478,TRUE),\"\",COUNTIF($B$1:B479,TRUE))","v":358},{"$f":"Worksheet!$D$14","v":true},{"$f":"RANDBETWEEN(5,RANDBETWEEN(5,Worksheet!$D$6))","v":42},"litres","±",{"$f":"IF(I479=1,H479*10^RANDBETWEEN(IF(Worksheet!$D$9,-1,0),0),IF(I479=2,H479*10^RANDBETWEEN(RANDBETWEEN(0,2),2),CHOOSE(RANDBETWEEN(1,3),5,10,20)))","v":900},{"$f":"IF(I479=1,D479,IF(I479=3,\"%\",\"cm³\"))","v":"cm³"},9,{"$f":"IF(AND(Worksheet!$D$8,RAND()<0.2),3,IF(RAND()<Worksheet!$D$7/100,1,2))","v":2},{"$f":"IF(I479=1,C479-F479,IF(I479=2,C479-F479/1000,IF(I479=3,(1-F479/100)*C479,\"\")))","v":41.1}," litres",{"$f":"J479*1000","v":41100},"cm³",{"$f":"IF(I479=1,C479+F479,IF(I479=2,C479+F479/1000,IF(I479=3,(1+F479/100)*C479,\"\")))","v":42.9},"  litres",{"$f":"N479*1000","v":42900},"cm³"]
[{"$f":"IF(COUNTIF($B$1:B480,TRUE)=COUNTIF($B$1:B479,TRUE),\"\",COUNTIF($B$1:B480,TRUE))","v":""},{"$f":"Worksheet!$D$15","v":false},{"$f":"RANDBETWEEN(5,20)","v":16},"min","±",{"$f":"IF(I480=1,H480*10^RANDBETWEEN(IF(Worksheet!$D$9,-1,0),0),IF(I480=2,H480,CHOOSE(RANDBETWEEN(1,3),5,10,20)))","v":0.4},{"$f":"IF(I480=1,D480,IF(I480=3,\"%\",\"sec\"))","v":"min"},4,{"$f":"IF(AND(Worksheet!$D$8,RAND()<0),3,IF(RAND()<Worksheet!$D$7/100,1,2))","v":1},null," min",{"$f":"IF(I480=1,C480-F480,IF(I480=2,C480*60-F480,\"\"))","v":15.6},{"$f":"IF($I480=1,\" hours\",\" min\")","v":" hours"},null,"  min",{"$f":"IF(I480=1,C480+F480,IF(I480=2,C480*60+F480,\"\"))","v":16.399999999999999},{"$f":"IF($I480=1,\" hours\",\" min\")","v":" hours"}]
[{"$f":"COUNTIF($B$1:B481,TRUE)","v":359},{"$f":"Worksheet!$B$11","v":true},{"$f":"RANDBETWEEN(5,RANDBETWEEN(5,Worksheet!$D$6))","v":86},"cm","±",{"$f":"IF(I481=1,H481*10^RANDBETWEEN(IF(Worksheet!$D$9,-1,0),0),IF(I481=2,H481,CHOOSE(RANDBETWEEN(1,3),5,10,20)))","v":5},{"$f":"IF(I481=1,D481,IF(I481=3,\"%\",\"mm\"))","v":"cm"},{"$f":"RANDBETWEEN(1,MIN(9,C481))","v":5},{"$f":"IF(AND(Worksheet!$D$8,RAND()<0.2),3,IF(RAND()<Worksheet!$D$7/100,1,2))","v":1},{"$f":"IF(I481=1,C481-F481,IF(I481=2,C481-F481/10,IF(I481=3,(1-F481/100)*C481,\"\")))","v":81},{"$f":"CONCATENATE(\" \",D481)","v":" cm"},{"$f":"J481*10","v":810},"mm",{"$f":"IF(I481=1,C481+F481,IF(I481=2,C481+F481/10,IF(I481=3,(1+F481/100)*C481,\"\")))","v":91},{"$f":"CONCATENATE(\" \",K481)","v":"  cm"},{"$f":"N481*10","v":910},"mm"]
[{"$f":"IF(COUNTIF($B$1:B482,TRUE)=COUNTIF($B$1:B481,TRUE),\"\",COUNTIF($B$1:B482,TRUE))","v":360},{"$f":"Worksheet!$B$12","v":true},{"$f":"RANDBETWEEN(5,RANDBETWEEN(5,Worksheet!$D$6))","v":14},"m","±",{"$f":"IF(I482=1,H482*10^RANDBETWEEN(IF(Worksheet!$D$9,-1,0),0),IF(I482=2,H482*10^RANDBETWEEN(RANDBETWEEN(0,1),1),CHOOSE(RANDBETWEEN(1,3),5,10,20)))","v":40},{"$f":"IF(I482=1,D482,IF(I482=3,\"%\",\"cm\"))","v":"cm"},{"$f":"RANDBETWEEN(1,MIN(9,C482))","v":4},{"$f":"IF(AND(Worksheet!$D$8,RAND()<0.2),3,IF(RAND()<Worksheet!$D$7/100,1,2))","v":2},{"$f":"IF(I482=1,C482-F482,IF(I482=2,C482-F482/100,IF(I482=3,(1-F482/100)*C482,\"\")))","v":13.6},{"$f":"CONCATENATE(\" \",D482)","v":" m"},{"$f":"J482*100","v":1360},"cm",{"$f":"IF(I482=1,C482+F482,IF(I482=2,C482+F482/100,IF(I482=3,(1+F482/100)*C482,\"\")))","v":14.4},{"$f":"CONCATENATE(\" \",K482)","v":"  m"},{"$f":"N482*100","v":1440},"cm"]
[{"$f":"IF(COUNTIF($B$1:B483,TRUE)=COUNTIF($B$1:B482,TRUE),\"\",COUNTIF($B$1:B483,TRUE))","v":361},{"$f":"Worksheet!$B$13","v":true},{"$f":"RANDBETWEEN(5,RANDBETWEEN(5,Worksheet!$D$6))","v":150},"km","±",{"$f":"IF(I483=1,H483*10^RANDBETWEEN(IF(Worksheet!$D$9,-1,0),0),IF(I483=2,H483*10^RANDBETWEEN(RANDBETWEEN(0,2),2),CHOOSE(RANDBETWEEN(1,3),5,10,20)))","v":900},{"$f":"IF(I483=1,D483,IF(I483=3,\"%\",\"m\"))","v":"m"},9,{"$f":"IF(AND(Worksheet!$D$8,RAND()<0.2),3,IF(RAND()<Worksheet!$D$7/100,1,2))","v":2},{"$f":"IF(I483=1,C483-F483,IF(I483=2,C483-F483/1000,IF(I483=3,(1-F483/100)*C483,\"\")))","v":149.1}," km",{"$f":"J483*1000","v":149100},"m",{"$f":"IF(I483=1,C483+F483,IF(I483=2,C483+F483/1000,IF(I483=3,(1+F483/100)*C483,\"\")))","v":150.9},"  km",{"$f":"N483*1000","v":150900},"m"]
[{"$f":"IF(COUNTIF($B$1:B484,TRUE)=COUNTIF($B$1:B483,TRUE),\"\",COUNTIF($B$1:B484,TRUE))","v":""},{"$f":"Worksheet!$B$14","v":false},{"$f":"RANDBETWEEN(5,RANDBETWEEN(5,Worksheet!$D$6))","v":10},"m","±",{"$f":"IF(I484=1,H484*10^RANDBETWEEN(IF(Worksheet!$D$9,-1,0),0),IF(I484=2,H484*10^RANDBETWEEN(RANDBETWEEN(0,2),2),CHOOSE(RANDBETWEEN(1,3),5,10,20)))","v":5},{"$f":"IF(I484=1,D484,IF(I484=3,\"%\",\"mm\"))","v":"%"},6,{"$f":"IF(AND(Worksheet!$D$8,RAND()<0.2),3,IF(RAND()<Worksheet!$D$7/100,1,2))","v":3},{"$f":"IF(I484=1,C484-F484,IF(I484=2,C484-F484/1000,IF(I484=3,(1-F484/100)*C484,\"\")))","v":9.5}," m",{"$f":"J484*1000","v":9500},"mm",{"$f":"IF(I484=1,C484+F484,IF(I484=2,C484+F484/1000,IF(I484=3,(1+F484/100)*C484,\"\")))","v":10.5},"  m",{"$f":"N484*1000","v":10500},"mm"]
[{"$f":"IF(COUNTIF($B$1:B485,TRUE)=COUNTIF($B$1:B484,TRUE),\"\",COUNTIF($B$1:B485,TRUE))","v":362},{"$f":"Worksheet!$B$15","v":true},{"$f":"RANDBETWEEN(5,20)","v":15},"hours","±",{"$f":"IF(I485=1,H485*10^RANDBETWEEN(IF(Worksheet!$D$9,-1,0),0),IF(I485=2,H485,CHOOSE(RANDBETWEEN(1,3),5,10,20)))","v":2},{"$f":"IF(I485=1,D485,IF(I485=3,\"%\",\"min\"))","v":"hours"},2,{"$f":"IF(AND(Worksheet!$D$8,RAND()<0),3,IF(RAND()<Worksheet!$D$7/100,1,2))","v":1},null," hours",{"$f":"IF(I485=1,C485-F485,IF(I485=2,C485*60-F485,\"\"))","v":13},{"$f":"IF($I485=1,\" hours\",\" min\")","v":" hours"},null,"  hours",{"$f":"IF(I485=1,C485+F485,IF(I485=2,C485*60+F485,\"\"))","v":17},{"$f":"IF($I485=1,\" hours\",\" min\")","v":" hours"}]
[{"$f":"IF(COUNTIF($B$1:B486,TRUE)=COUNTIF($B$1:B485,TRUE),\"\",COUNTIF($B$1:B486,TRUE))","v":363},{"$f":"Worksheet!$D$11","v":true},{"$f":"RANDBETWEEN(5,RANDBETWEEN(5,Worksheet!$D$6))","v":10},"kg","±",{"$f":"IF(I486=1,H486*10^RANDBETWEEN(IF(Worksheet!$D$9,-1,0),0),IF(I486=2,H486*10^RANDBETWEEN(RANDBETWEEN(0,2),2),CHOOSE(RANDBETWEEN(1,3),5,10,20)))","v":10},{"$f":"IF(I486=1,D486,IF(I486=3,\"%\",\"g\"))","v":"%"},1,{"$f":"IF(AND(Worksheet!$D$8,RAND()<0.2),3,IF(RAND()<Worksheet!$D$7/100,1,2))","v":3},{"$f":"IF(I486=1,C486-F486,IF(I486=2,C486-F486/1000,IF(I486=3,(1-F486/100)*C486,\"\")))","v":9}," kg",{"$f":"J486*1000","v":9000},"g",{"$f":"IF(I486=1,C486+F486,IF(I486=2,C486+F486/1000,IF(I486=3,(1+F486/100)*C486,\"\")))","v":11},"  kg",{"$f":"N486*1000","v":11000},"g"]
[{"$f":"IF(COUNTIF($B$1:B487,TRUE)=COUNTIF($B$1:B486,TRUE),\"\",COUNTIF($B$1:B487,TRUE))","v":364},{"$f":"Worksheet!$D$12","v":true},{"$f":"RANDBETWEEN(5,RANDBETWEEN(5,Worksheet!$D$6))","v":35},"tonnes","±",{"$f":"IF(I487=1,H487*10^RANDBETWEEN(IF(Worksheet!$D$9,-1,0),0),IF(I487=2,H487*10^RANDBETWEEN(RANDBETWEEN(0,2),2),CHOOSE(RANDBETWEEN(1,3),5,10,20)))","v":600},{"$f":"IF(I487=1,D487,IF(I487=3,\"%\",\"kg\"))","v":"kg"},6,{"$f":"IF(AND(Worksheet!$D$8,RAND()<0.2),3,IF(RAND()<Worksheet!$D$7/100,1,2))","v":2},{"$f":"IF(I487=1,C487-F487,IF(I487=2,C487-F487/1000,IF(I487=3,(1-F487/100)*C487,\"\")))","v":34.4}," tonnes",{"$f":"J487*1000","v":34400},"kg",{"$f":"IF(I487=1,C487+F487,IF(I487=2,C487+F487/1000,IF(I487=3,(1+F487/100)*C487,\"\")))","v":35.6},"  tonnes",{"$f":"N487*1000","v":35600},"kg"]
[{"$f":"IF(COUNTIF($B$1:B488,TRUE)=COUNTIF($B$1:B487,TRUE),\"\",COUNTIF($B$1:B488,TRUE))","v":365},{"$f":"Worksheet!$D$13","v":true},{"$f":"RANDBETWEEN(5,RANDBETWEEN(5,Worksheet!$D$6))","v":7},"litres","±",{"$f":"IF(I488=1,H488*10^RANDBETWEEN(IF(Worksheet!$D$9,-1,0),0),IF(I488=2,H488*10^RANDBETWEEN(RANDBETWEEN(0,2),2),CHOOSE(RANDBETWEEN(1,3),5,10,20)))","v":5},{"$f":"IF(I488=1,D488,IF(I488=3,\"%\",\"ml\"))","v":"%"},4,{"$f":"IF(AND(Worksheet!$D$8,RAND()<0.2),3,IF(RAND()<Worksheet!$D$7/100,1,2))","v":3},{"$f":"IF(I488=1,C488-F488,IF(I488=2,C488-F488/1000,IF(I488=3,(1-F488/100)*C488,\"\")))","v":6.6499999999999995}," litres",{"$f":"J488*1000","v":6649.9999999999991},"ml",{"$f":"IF(I488=1,C488+F488,IF(I488=2,C488+F488/1000,IF(I488=3,(1+F488/100)*C488,\"\")))","v":7.3500000000000005},"  litres",{"$f":"N488*1000","v":7350.0000000000009},"ml"]
[{"$f":"IF(COUNTIF($B$1:B489,TRUE)=COUNTIF($B$1:B488,TRUE),\"\",COUNTIF($B$1:B489,TRUE))","v":366},{"$f":"Worksheet!$D$14","v":true},{"$f":"RANDBETWEEN(5,RANDBETWEEN(5,Worksheet!$D$6))","v":255},"litres","±",{"$f":"IF(I489=1,H489*10^RANDBETWEEN(IF(Worksheet!$D$9,-1,0),0),IF(I489=2,H489*10^RANDBETWEEN(RANDBETWEEN(0,2),2),CHOOSE(RANDBETWEEN(1,3),5,10,20)))","v":5},{"$f":"IF(I489=1,D489,IF(I489=3,\"%\",\"cm³\"))","v":"%"},5,{"$f":"IF(AND(Worksheet!$D$8,RAND()<0.2),3,IF(RAND()<Worksheet!$D$7/100,1,2))","v":3},{"$f":"IF(I489=1,C489-F489,IF(I489=2,C489-F489/1000,IF(I489=3,(1-F489/100)*C489,\"\")))","v":242.25}," litres",{"$f":"J489*1000","v":242250},"cm³",{"$f":"IF(I489=1,C489+F489,IF(I489=2,C489+F489/1000,IF(I489=3,(1+F489/100)*C489,\"\")))","v":267.75},"  litres",{"$f":"N489*1000","v":267750},"cm³"]
[{"$f":"IF(COUNTIF($B$1:B490,TRUE)=COUNTIF($B$1:B489,TRUE),\"\",COUNTIF($B$1:B490,TRUE))","v":""},{"$f":"Worksheet!$D$15","v":false},{"$f":"RANDBETWEEN(5,20)","v":20},"min","±",{"$f":"IF(I490=1,H490*10^RANDBETWEEN(IF(Worksheet!$D$9,-1,0),0),IF(I490=2,H490,CHOOSE(RANDBETWEEN(1,3),5,10,20)))","v":0.60000000000000009},{"$f":"IF(I490=1,D490,IF(I490=3,\"%\",\"sec\"))","v":"min"},6,{"$f":"IF(AND(Worksheet!$D$8,RAND()<0),3,IF(RAND()<Worksheet!$D$7/100,1,2))","v":1},null," min",{"$f":"IF(I490=1,C490-F490,IF(I490=2,C490*60-F490,\"\"))","v":19.399999999999999},{"$f":"IF($I490=1,\" hours\",\" min\")","v":" hours"},null,"  min",{"$f":"IF(I490=1,C490+F490,IF(I490=2,C490*60+F490,\"\"))","v":20.6},{"$f":"IF($I490=1,\" hours\",\" min\")","v":" hours"}]
[{"$f":"COUNTIF($B$1:B491,TRUE)","v":367},{"$f":"Worksheet!$B$11","v":true},{"$f":"RANDBETWEEN(5,RANDBETWEEN(5,Worksheet!$D$6))","v":158},"cm","±",{"$f":"IF(I491=1,H491*10^RANDBETWEEN(IF(Worksheet!$D$9,-1,0),0),IF(I491=2,H491,CHOOSE(RANDBETWEEN(1,3),5,10,20)))","v":5},{"$f":"IF(I491=1,D491,IF(I491=3,\"%\",\"mm\"))","v":"mm"},{"$f":"RANDBETWEEN(1,MIN(9,C491))","v":5},{"$f":"IF(AND(Worksheet!$D$8,RAND()<0.2),3,IF(RAND()<Worksheet!$D$7/100,1,2))","v":2},{"$f":"IF(I491=1,C491-F491,IF(I491=2,C491-F491/10,IF(I491=3,(1-F491/100)*C491,\"\")))","v":157.5},{"$f":"CONCATENATE(\" \",D491)","v":" cm"},{"$f":"J491*10","v":1575},"mm",{"$f":"IF(I491=1,C491+F491,IF(I491=2,C491+F491/10,IF(I491=3,(1+F491/100)*C491,\"\")))","v":158.5},{"$f":"CONCATENATE(\" \",K491)","v":"  cm"},{"$f":"N491*10","v":1585},"mm"]
[{"$f":"IF(COUNTIF($B$1:B492,TRUE)=COUNTIF($B$1:B491,TRUE),\"\",COUNTIF($B$1:B492,TRUE))","v":368},{"$f":"Worksheet!$B$12","v":true},{"$f":"RANDBETWEEN(5,RANDBETWEEN(5,Worksheet!$D$6))","v":145},"m","±",{"$f":"IF(I492=1,H492*10^RANDBETWEEN(IF(Worksheet!$D$9,-1,0),0),IF(I492=2,H492*10^RANDBETWEEN(RANDBETWEEN(0,1),1),CHOOSE(RANDBETWEEN(1,3),5,10,20)))","v":5},{"$f":"IF(I492=1,D492,IF(I492=3,\"%\",\"cm\"))","v":"%"},{"$f":"RANDBETWEEN(1,MIN(9,C492))","v":8},{"$f":"IF(AND(Worksheet!$D$8,RAND()<0.2),3,IF(RAND()<Worksheet!$D$7/100,1,2))","v":3},{"$f":"IF(I492=1,C492-F492,IF(I492=2,C492-F492/100,IF(I492=3,(1-F492/100)*C492,\"\")))","v":137.75},{"$f":"CONCATENATE(\" \",D492)","v":" m"},{"$f":"J492*100","v":13775},"cm",{"$f":"IF(I492=1,C492+F492,IF(I492=2,C492+F492/100,IF(I492=3,(1+F492/100)*C492,\"\")))","v":152.25},{"$f":"CONCATENATE(\" \",K492)","v":"  m"},{"$f":"N492*100","v":15225},"cm"]
[{"$f":"IF(COUNTIF($B$1:B493,TRUE)=COUNTIF($B$1:B492,TRUE),\"\",COUNTIF($B$1:B493,TRUE))","v":369},{"$f":"Worksheet!$B$13","v":true},{"$f":"RANDBETWEEN(5,RANDBETWEEN(5,Worksheet!$D$6))","v":159},"km","±",{"$f":"IF(I493=1,H493*10^RANDBETWEEN(IF(Worksheet!$D$9,-1,0),0),IF(I493=2,H493*10^RANDBETWEEN(RANDBETWEEN(0,2),2),CHOOSE(RANDBETWEEN(1,3),5,10,20)))","v":200},{"$f":"IF(I493=1,D493,IF(I493=3,\"%\",\"m\"))","v":"m"},2,{"$f":"IF(AND(Worksheet!$D$8,RAND()<0.2),3,IF(RAND()<Worksheet!$D$7/100,1,2))","v":2},{"$f":"IF(I493=1,C493-F493,IF(I493=2,C493-F493/1000,IF(I493=3,(1-F493/100)*C493,\"\")))","v":158.80000000000001}," km",{"$f":"J493*1000","v":158800},"m",{"$f":"IF(I493=1,C493+F493,IF(I493=2,C493+F493/1000,IF(I493=3,(1+F493/100)*C493,\"\")))","v":159.19999999999999},"  km",{"$f":"N493*1000","v":159200},"m"]
[{"$f":"IF(COUNTIF($B$1:B494,TRUE)=COUNTIF($B$1:B493,TRUE),\"\",COUNTIF($B$1:B494,TRUE))","v":""},{"$f":"Worksheet!$B$14","v":false},{"$f":"RANDBETWEEN(5,RANDBETWEEN(5,Worksheet!$D$6))","v":207},"m","±",{"$f":"IF(I494=1,H494*10^RANDBETWEEN(IF(Worksheet!$D$9,-1,0),0),IF(I494=2,H494*10^RANDBETWEEN(RANDBETWEEN(0,2),2),CHOOSE(RANDBETWEEN(1,3),5,10,20)))","v":6},{"$f":"IF(I494=1,D494,IF(I494=3,\"%\",\"mm\"))","v":"m"},6,{"$f":"IF(AND(Worksheet!$D$8,RAND()<0.2),3,IF(RAND()<Worksheet!$D$7/100,1,2))","v":1},{"$f":"IF(I494=1,C494-F494,IF(I494=2,C494-F494/1000,IF(I494=3,(1-F494/100)*C494,\"\")))","v":201}," m",{"$f":"J494*1000","v":201000},"mm",{"$f":"IF(I494=1,C494+F494,IF(I494=2,C494+F494/1000,IF(I494=3,(1+F494/100)*C494,\"\")))","v":213},"  m",{"$f":"N494*1000","v":213000},"mm"]
[{"$f":"IF(COUNTIF($B$1:B495,TRUE)=COUNTIF($B$1:B494,TRUE),\"\",COUNTIF($B$1:B495,TRUE))","v":370},{"$f":"Worksheet!$B$15","v":true},{"$f":"RANDBETWEEN(5,20)","v":17},"hours","±",{"$f":"IF(I495=1,H495*10^RANDBETWEEN(IF(Worksheet!$D$9,-1,0),0),IF(I495=2,H495,CHOOSE(RANDBETWEEN(1,3),5,10,20)))","v":0.70000000000000007},{"$f":"IF(I495=1,D495,IF(I495=3,\"%\",\"min\"))","v":"hours"},7,{"$f":"IF(AND(Worksheet!$D$8,RAND()<0),3,IF(RAND()<Worksheet!$D$7/100,1,2))","v":1},null," hours",{"$f":"IF(I495=1,C495-F495,IF(I495=2,C495*60-F495,\"\"))","v":16.3},{"$f":"IF($I495=1,\" hours\",\" min\")","v":" hours"},null,"  hours",{"$f":"IF(I495=1,C495+F495,IF(I495=2,C495*60+F495,\"\"))","v":17.7},{"$f":"IF($I495=1,\" hours\",\" min\")","v":" hours"}]
[{"$f":"IF(COUNTIF($B$1:B496,TRUE)=COUNTIF($B$1:B495,TRUE),\"\",COUNTIF($B$1:B496,TRUE))","v":371},{"$f":"Worksheet!$D$11","v":true},{"$f":"RANDBETWEEN(5,RANDBETWEEN(5,Worksheet!$D$6))","v":82},"kg","±",{"$f":"IF(I496=1,H496*10^RANDBETWEEN(IF(Worksheet!$D$9,-1,0),0),IF(I496=2,H496*10^RANDBETWEEN(RANDBETWEEN(0,2),2),CHOOSE(RANDBETWEEN(1,3),5,10,20)))","v":8},{"$f":"IF(I496=1,D496,IF(I496=3,\"%\",\"g\"))","v":"kg"},8,{"$f":"IF(AND(Worksheet!$D$8,RAND()<0.2),3,IF(RAND()<Worksheet!$D$7/100,1,2))","v":1},{"$f":"IF(I496=1,C496-F496,IF(I496=2,C496-F496/1000,IF(I496=3,(1-F496/100)*C496,\"\")))","v":74}," kg",{"$f":"J496*1000","v":74000},"g",{"$f":"IF(I496=1,C496+F496,IF(I496=2,C496+F496/1000,IF(I496=3,(1+F496/100)*C496,\"\")))","v":90},"  kg",{"$f":"N496*1000","v":90000},"g"]
[{"$f":"IF(COUNTIF($B$1:B497,TRUE)=COUNTIF($B$1:B496,TRUE),\"\",COUNTIF($B$1:B497,TRUE))","v":372},{"$f":"Worksheet!$D$12","v":true},{"$f":"RANDBETWEEN(5,RANDBETWEEN(5,Worksheet!$D$6))","v":11},"tonnes","±",{"$f":"IF(I497=1,H497*10^RANDBETWEEN(IF(Worksheet!$D$9,-1,0),0),IF(I497=2,H497*10^RANDBETWEEN(RANDBETWEEN(0,2),2),CHOOSE(RANDBETWEEN(1,3),5,10,20)))","v":20},{"$f":"IF(I497=1,D497,IF(I497=3,\"%\",\"kg\"))","v":"%"},7,{"$f":"IF(AND(Worksheet!$D$8,RAND()<0.2),3,IF(RAND()<Worksheet!$D$7/100,1,2))","v":3},{"$f":"IF(I497=1,C497-F497,IF(I497=2,C497-F497/1000,IF(I497=3,(1-F497/100)*C497,\"\")))","v":8.8000000000000007}," tonnes",{"$f":"J497*1000","v":8800},"kg",{"$f":"IF(I497=1,C497+F497,IF(I497=2,C497+F497/1000,IF(I497=3,(1+F497/100)*C497,\"\")))","v":13.2},"  tonnes",{"$f":"N497*1000","v":13200},"kg"]
[{"$f":"IF(COUNTIF($B$1:B498,TRUE)=COUNTIF($B$1:B497,TRUE),\"\",COUNTIF($B$1:B498,TRUE))","v":373},{"$f":"Worksheet!$D$13","v":true},{"$f":"RANDBETWEEN(5,RANDBETWEEN(5,Worksheet!$D$6))","v":11},"litres","±",{"$f":"IF(I498=1,H498*10^RANDBETWEEN(IF(Worksheet!$D$9,-1,0),0),IF(I498=2,H498*10^RANDBETWEEN(RANDBETWEEN(0,2),2),CHOOSE(RANDBETWEEN(1,3),5,10,20)))","v":800},{"$f":"IF(I498=1,D498,IF(I498=3,\"%\",\"ml\"))","v":"ml"},8,{"$f":"IF(AND(Worksheet!$D$8,RAND()<0.2),3,IF(RAND()<Worksheet!$D$7/100,1,2))","v":2},{"$f":"IF(I498=1,C498-F498,IF(I498=2,C498-F498/1000,IF(I498=3,(1-F498/100)*C498,\"\")))","v":10.199999999999999}," litres",{"$f":"J498*1000","v":10200},"ml",{"$f":"IF(I498=1,C498+F498,IF(I498=2,C498+F498/1000,IF(I498=3,(1+F498/100)*C498,\"\")))","v":11.8},"  litres",{"$f":"N498*1000","v":11800},"ml"]
[{"$f":"IF(COUNTIF($B$1:B499,TRUE)=COUNTIF($B$1:B498,TRUE),\"\",COUNTIF($B$1:B499,TRUE))","v":374},{"$f":"Worksheet!$D$14","v":true},{"$f":"RANDBETWEEN(5,RANDBETWEEN(5,Worksheet!$D$6))","v":380},"litres","±",{"$f":"IF(I499=1,H499*10^RANDBETWEEN(IF(Worksheet!$D$9,-1,0),0),IF(I499=2,H499*10^RANDBETWEEN(RANDBETWEEN(0,2),2),CHOOSE(RANDBETWEEN(1,3),5,10,20)))","v":20},{"$f":"IF(I499=1,D499,IF(I499=3,\"%\",\"cm³\"))","v":"%"},5,{"$f":"IF(AND(Worksheet!$D$8,RAND()<0.2),3,IF(RAND()<Worksheet!$D$7/100,1,2))","v":3},{"$f":"IF(I499=1,C499-F499,IF(I499=2,C499-F499/1000,IF(I499=3,(1-F499/100)*C499,\"\")))","v":304}," litres",{"$f":"J499*1000","v":304000},"cm³",{"$f":"IF(I499=1,C499+F499,IF(I499=2,C499+F499/1000,IF(I499=3,(1+F499/100)*C499,\"\")))","v":456},"  litres",{"$f":"N499*1000","v":456000},"cm³"]
[{"$f":"IF(COUNTIF($B$1:B500,TRUE)=COUNTIF($B$1:B499,TRUE),\"\",COUNTIF($B$1:B500,TRUE))","v":""},{"$f":"Worksheet!$D$15","v":false},{"$f":"RANDBETWEEN(5,20)","v":9},"min","±",{"$f":"IF(I500=1,H500*10^RANDBETWEEN(IF(Worksheet!$D$9,-1,0),0),IF(I500=2,H500,CHOOSE(RANDBETWEEN(1,3),5,10,20)))","v":0.70000000000000007},{"$f":"IF(I500=1,D500,IF(I500=3,\"%\",\"sec\"))","v":"min"},7,{"$f":"IF(AND(Worksheet!$D$8,RAND()<0),3,IF(RAND()<Worksheet!$D$7/100,1,2))","v":1},null," min",{"$f":"IF(I500=1,C500-F500,IF(I500=2,C500*60-F500,\"\"))","v":8.3000000000000007},{"$f":"IF($I500=1,\" hours\",\" min\")","v":" hours"},null,"  min",{"$f":"IF(I500=1,C500+F500,IF(I500=2,C500*60+F500,\"\"))","v":9.6999999999999993},{"$f":"IF($I500=1,\" hours\",\" min\")","v":" hours"}]
[{"$f":"COUNTIF($B$1:B501,TRUE)","v":375},{"$f":"Worksheet!$B$11","v":true},{"$f":"RANDBETWEEN(5,RANDBETWEEN(5,Worksheet!$D$6))","v":68},"cm","±",{"$f":"IF(I501=1,H501*10^RANDBETWEEN(IF(Worksheet!$D$9,-1,0),0),IF(I501=2,H501,CHOOSE(RANDBETWEEN(1,3),5,10,20)))","v":5},{"$f":"IF(I501=1,D501,IF(I501=3,\"%\",\"mm\"))","v":"%"},{"$f":"RANDBETWEEN(1,MIN(9,C501))","v":2},{"$f":"IF(AND(Worksheet!$D$8,RAND()<0.2),3,IF(RAND()<Worksheet!$D$7/100,1,2))","v":3},{"$f":"IF(I501=1,C501-F501,IF(I501=2,C501-F501/10,IF(I501=3,(1-F501/100)*C501,\"\")))","v":64.599999999999994},{"$f":"CONCATENATE(\" \",D501)","v":" cm"},{"$f":"J501*10","v":646},"mm",{"$f":"IF(I501=1,C501+F501,IF(I501=2,C501+F501/10,IF(I501=3,(1+F501/100)*C501,\"\")))","v":71.400000000000006},{"$f":"CONCATENATE(\" \",K501)","v":"  cm"},{"$f":"N501*10","v":714},"mm"]
[{"$f":"IF(COUNTIF($B$1:B502,TRUE)=COUNTIF($B$1:B501,TRUE),\"\",COUNTIF($B$1:B502,TRUE))","v":376},{"$f":"Worksheet!$B$12","v":true},{"$f":"RANDBETWEEN(5,RANDBETWEEN(5,Worksheet!$D$6))","v":307},"m","±",{"$f":"IF(I502=1,H502*10^RANDBETWEEN(IF(Worksheet!$D$9,-1,0),0),IF(I502=2,H502*10^RANDBETWEEN(RANDBETWEEN(0,1),1),CHOOSE(RANDBETWEEN(1,3),5,10,20)))","v":3},{"$f":"IF(I502=1,D502,IF(I502=3,\"%\",\"cm\"))","v":"m"},{"$f":"RANDBETWEEN(1,MIN(9,C502))","v":3},{"$f":"IF(AND(Worksheet!$D$8,RAND()<0.2),3,IF(RAND()<Worksheet!$D$7/100,1,2))","v":1},{"$f":"IF(I502=1,C502-F502,IF(I502=2,C502-F502/100,IF(I502=3,(1-F502/100)*C502,\"\")))","v":304},{"$f":"CONCATENATE(\" \",D502)","v":" m"},{"$f":"J502*100","v":30400},"cm",{"$f":"IF(I502=1,C502+F502,IF(I502=2,C502+F502/100,IF(I502=3,(1+F502/100)*C502,\"\")))","v":310},{"$f":"CONCATENATE(\" \",K502)","v":"  m"},{"$f":"N502*100","v":31000},"cm"]
[{"$f":"IF(COUNTIF($B$1:B503,TRUE)=COUNTIF($B$1:B502,TRUE),\"\",COUNTIF($B$1:B503,TRUE))","v":377},{"$f":"Worksheet!$B$13","v":true},{"$f":"RANDBETWEEN(5,RANDBETWEEN(5,Worksheet!$D$6))","v":176},"km","±",{"$f":"IF(I503=1,H503*10^RANDBETWEEN(IF(Worksheet!$D$9,-1,0),0),IF(I503=2,H503*10^RANDBETWEEN(RANDBETWEEN(0,2),2),CHOOSE(RANDBETWEEN(1,3),5,10,20)))","v":20},{"$f":"IF(I503=1,D503,IF(I503=3,\"%\",\"m\"))","v":"%"},5,{"$f":"IF(AND(Worksheet!$D$8,RAND()<0.2),3,IF(RAND()<Worksheet!$D$7/100,1,2))","v":3},{"$f":"IF(I503=1,C503-F503,IF(I503=2,C503-F503/1000,IF(I503=3,(1-F503/100)*C503,\"\")))","v":140.80000000000001}," km",{"$f":"J503*1000","v":140800},"m",{"$f":"IF(I503=1,C503+F503,IF(I503=2,C503+F503/1000,IF(I503=3,(1+F503/100)*C503,\"\")))","v":211.2},"  km",{"$f":"N503*1000","v":211200},"m"]
[{"$f":"IF(COUNTIF($B$1:B504,TRUE)=COUNTIF($B$1:B503,TRUE),\"\",COUNTIF($B$1:B504,TRUE))","v":""},{"$f":"Worksheet!$B$14","v":false},{"$f":"RANDBETWEEN(5,RANDBETWEEN(5,Worksheet!$D$6))","v":12},"m","±",{"$f":"IF(I504=1,H504*10^RANDBETWEEN(IF(Worksheet!$D$9,-1,0),0),IF(I504=2,H504*10^RANDBETWEEN(RANDBETWEEN(0,2),2),CHOOSE(RANDBETWEEN(1,3),5,10,20)))","v":10},{"$f":"IF(I504=1,D504,IF(I504=3,\"%\",\"mm\"))","v":"%"},2,{"$f":"IF(AND(Worksheet!$D$8,RAND()<0.2),3,IF(RAND()<Worksheet!$D$7/100,1,2))","v":3},{"$f":"IF(I504=1,C504-F504,IF(I504=2,C504-F504/1000,IF(I504=3,(1-F504/100)*C504,\"\")))","v":10.8}," m",{"$f":"J504*1000","v":10800},"mm",{"$f":"IF(I504=1,C504+F504,IF(I504=2,C504+F504/1000,IF(I504=3,(1+F504/100)*C504,\"\")))","v":13.200000000000001},"  m",{"$f":"N504*1000","v":13200.000000000002},"mm"]
[{"$f":"IF(COUNTIF($B$1:B505,TRUE)=COUNTIF($B$1:B504,TRUE),\"\",COUNTIF($B$1:B505,TRUE))","v":378},{"$f":"Worksheet!$B$15","v":true},{"$f":"RANDBETWEEN(5,20)","v":12},"hours","±",{"$f":"IF(I505=1,H505*10^RANDBETWEEN(IF(Worksheet!$D$9,-1,0),0),IF(I505=2,H505,CHOOSE(RANDBETWEEN(1,3),5,10,20)))","v":6},{"$f":"IF(I505=1,D505,IF(I505=3,\"%\",\"min\"))","v":"hours"},6,{"$f":"IF(AND(Worksheet!$D$8,RAND()<0),3,IF(RAND()<Worksheet!$D$7/100,1,2))","v":1},null," hours",{"$f":"IF(I505=1,C505-F505,IF(I505=2,C505*60-F505,\"\"))","v":6},{"$f":"IF($I505=1,\" hours\",\" min\")","v":" hours"},null,"  hours",{"$f":"IF(I505=1,C505+F505,IF(I505=2,C505*60+F505,\"\"))","v":18},{"$f":"IF($I505=1,\" hours\",\" min\")","v":" hours"}]
[{"$f":"IF(COUNTIF($B$1:B506,TRUE)=COUNTIF($B$1:B505,TRUE),\"\",COUNTIF($B$1:B506,TRUE))","v":379},{"$f":"Worksheet!$D$11","v":true},{"$f":"RANDBETWEEN(5,RANDBETWEEN(5,Worksheet!$D$6))","v":108},"kg","±",{"$f":"IF(I506=1,H506*10^RANDBETWEEN(IF(Worksheet!$D$9,-1,0),0),IF(I506=2,H506*10^RANDBETWEEN(RANDBETWEEN(0,2),2),CHOOSE(RANDBETWEEN(1,3),5,10,20)))","v":0.5},{"$f":"IF(I506=1,D506,IF(I506=3,\"%\",\"g\"))","v":"kg"},5,{"$f":"IF(AND(Worksheet!$D$8,RAND()<0.2),3,IF(RAND()<Worksheet!$D$7/100,1,2))","v":1},{"$f":"IF(I506=1,C506-F506,IF(I506=2,C506-F506/1000,IF(I506=3,(1-F506/100)*C506,\"\")))","v":107.5}," kg",{"$f":"J506*1000","v":107500},"g",{"$f":"IF(I506=1,C506+F506,IF(I506=2,C506+F506/1000,IF(I506=3,(1+F506/100)*C506,\"\")))","v":108.5},"  kg",{"$f":"N506*1000","v":108500},"g"]
[{"$f":"IF(COUNTIF($B$1:B507,TRUE)=COUNTIF($B$1:B506,TRUE),\"\",COUNTIF($B$1:B507,TRUE))","v":380},{"$f":"Worksheet!$D$12","v":true},{"$f":"RANDBETWEEN(5,RANDBETWEEN(5,Worksheet!$D$6))","v":389},"tonnes","±",{"$f":"IF(I507=1,H507*10^RANDBETWEEN(IF(Worksheet!$D$9,-1,0),0),IF(I507=2,H507*10^RANDBETWEEN(RANDBETWEEN(0,2),2),CHOOSE(RANDBETWEEN(1,3),5,10,20)))","v":4},{"$f":"IF(I507=1,D507,IF(I507=3,\"%\",\"kg\"))","v":"tonnes"},4,{"$f":"IF(AND(Worksheet!$D$8,RAND()<0.2),3,IF(RAND()<Worksheet!$D$7/100,1,2))","v":1},{"$f":"IF(I507=1,C507-F507,IF(I507=2,C507-F507/1000,IF(I507=3,(1-F507/100)*C507,\"\")))","v":385}," tonnes",{"$f":"J507*1000","v":385000},"kg",{"$f":"IF(I507=1,C507+F507,IF(I507=2,C507+F507/1000,IF(I507=3,(1+F507/100)*C507,\"\")))","v":393},"  tonnes",{"$f":"N507*1000","v":393000},"kg"]
[{"$f":"IF(COUNTIF($B$1:B508,TRUE)=COUNTIF($B$1:B507,TRUE),\"\",COUNTIF($B$1:B508,TRUE))","v":381},{"$f":"Worksheet!$D$13","v":true},{"$f":"RANDBETWEEN(5,RANDBETWEEN(5,Worksheet!$D$6))","v":43},"litres","±",{"$f":"IF(I508=1,H508*10^RANDBETWEEN(IF(Worksheet!$D$9,-1,0),0),IF(I508=2,H508*10^RANDBETWEEN(RANDBETWEEN(0,2),2),CHOOSE(RANDBETWEEN(1,3),5,10,20)))","v":0.5},{"$f":"IF(I508=1,D508,IF(I508=3,\"%\",\"ml\"))","v":"litres"},5,{"$f":"IF(AND(Worksheet!$D$8,RAND()<0.2),3,IF(RAND()<Worksheet!$D$7/100,1,2))","v":1},{"$f":"IF(I508=1,C508-F508,IF(I508=2,C508-F508/1000,IF(I508=3,(1-F508/100)*C508,\"\")))","v":42.5}," litres",{"$f":"J508*1000","v":42500},"ml",{"$f":"IF(I508=1,C508+F508,IF(I508=2,C508+F508/1000,IF(I508=3,(1+F508/100)*C508,\"\")))","v":43.5},"  litres",{"$f":"N508*1000","v":43500},"ml"]
[{"$f":"IF(COUNTIF($B$1:B509,TRUE)=COUNTIF($B$1:B508,TRUE),\"\",COUNTIF($B$1:B509,TRUE))","v":382},{"$f":"Worksheet!$D$14","v":true},{"$f":"RANDBETWEEN(5,RANDBETWEEN(5,Worksheet!$D$6))","v":284},"litres","±",{"$f":"IF(I509=1,H509*10^RANDBETWEEN(IF(Worksheet!$D$9,-1,0),0),IF(I509=2,H509*10^RANDBETWEEN(RANDBETWEEN(0,2),2),CHOOSE(RANDBETWEEN(1,3),5,10,20)))","v":0.8},{"$f":"IF(I509=1,D509,IF(I509=3,\"%\",\"cm³\"))","v":"litres"},8,{"$f":"IF(AND(Worksheet!$D$8,RAND()<0.2),3,IF(RAND()<Worksheet!$D$7/100,1,2))","v":1},{"$f":"IF(I509=1,C509-F509,IF(I509=2,C509-F509/1000,IF(I509=3,(1-F509/100)*C509,\"\")))","v":283.2}," litres",{"$f":"J509*1000","v":283200},"cm³",{"$f":"IF(I509=1,C509+F509,IF(I509=2,C509+F509/1000,IF(I509=3,(1+F509/100)*C509,\"\")))","v":284.8},"  litres",{"$f":"N509*1000","v":284800},"cm³"]
[{"$f":"IF(COUNTIF($B$1:B510,TRUE)=COUNTIF($B$1:B509,TRUE),\"\",COUNTIF($B$1:B510,TRUE))","v":""},{"$f":"Worksheet!$D$15","v":false},{"$f":"RANDBETWEEN(5,20)","v":11},"min","±",{"$f":"IF(I510=1,H510*10^RANDBETWEEN(IF(Worksheet!$D$9,-1,0),0),IF(I510=2,H510,CHOOSE(RANDBETWEEN(1,3),5,10,20)))","v":0.30000000000000004},{"$f":"IF(I510=1,D510,IF(I510=3,\"%\",\"sec\"))","v":"min"},3,{"$f":"IF(AND(Worksheet!$D$8,RAND()<0),3,IF(RAND()<Worksheet!$D$7/100,1,2))","v":1},null," min",{"$f":"IF(I510=1,C510-F510,IF(I510=2,C510*60-F510,\"\"))","v":10.7},{"$f":"IF($I510=1,\" hours\",\" min\")","v":" hours"},null,"  min",{"$f":"IF(I510=1,C510+F510,IF(I510=2,C510*60+F510,\"\"))","v":11.3},{"$f":"IF($I510=1,\" hours\",\" min\")","v":" hours"}]
[{"$f":"COUNTIF($B$1:B511,TRUE)","v":383},{"$f":"Worksheet!$B$11","v":true},{"$f":"RANDBETWEEN(5,RANDBETWEEN(5,Worksheet!$D$6))","v":89},"cm","±",{"$f":"IF(I511=1,H511*10^RANDBETWEEN(IF(Worksheet!$D$9,-1,0),0),IF(I511=2,H511,CHOOSE(RANDBETWEEN(1,3),5,10,20)))","v":0.2},{"$f":"IF(I511=1,D511,IF(I511=3,\"%\",\"mm\"))","v":"cm"},{"$f":"RANDBETWEEN(1,MIN(9,C511))","v":2},{"$f":"IF(AND(Worksheet!$D$8,RAND()<0.2),3,IF(RAND()<Worksheet!$D$7/100,1,2))","v":1},{"$f":"IF(I511=1,C511-F511,IF(I511=2,C511-F511/10,IF(I511=3,(1-F511/100)*C511,\"\")))","v":88.8},{"$f":"CONCATENATE(\" \",D511)","v":" cm"},{"$f":"J511*10","v":888},"mm",{"$f":"IF(I511=1,C511+F511,IF(I511=2,C511+F511/10,IF(I511=3,(1+F511/100)*C511,\"\")))","v":89.2},{"$f":"CONCATENATE(\" \",K511)","v":"  cm"},{"$f":"N511*10","v":892},"mm"]
[{"$f":"IF(COUNTIF($B$1:B512,TRUE)=COUNTIF($B$1:B511,TRUE),\"\",COUNTIF($B$1:B512,TRUE))","v":384},{"$f":"Worksheet!$B$12","v":true},{"$f":"RANDBETWEEN(5,RANDBETWEEN(5,Worksheet!$D$6))","v":67},"m","±",{"$f":"IF(I512=1,H512*10^RANDBETWEEN(IF(Worksheet!$D$9,-1,0),0),IF(I512=2,H512*10^RANDBETWEEN(RANDBETWEEN(0,1),1),CHOOSE(RANDBETWEEN(1,3),5,10,20)))","v":90},{"$f":"IF(I512=1,D512,IF(I512=3,\"%\",\"cm\"))","v":"cm"},{"$f":"RANDBETWEEN(1,MIN(9,C512))","v":9},{"$f":"IF(AND(Worksheet!$D$8,RAND()<0.2),3,IF(RAND()<Worksheet!$D$7/100,1,2))","v":2},{"$f":"IF(I512=1,C512-F512,IF(I512=2,C512-F512/100,IF(I512=3,(1-F512/100)*C512,\"\")))","v":66.099999999999994},{"$f":"CONCATENATE(\" \",D512)","v":" m"},{"$f":"J512*100","v":6609.9999999999991},"cm",{"$f":"IF(I512=1,C512+F512,IF(I512=2,C512+F512/100,IF(I512=3,(1+F512/100)*C512,\"\")))","v":67.900000000000006},{"$f":"CONCATENATE(\" \",K512)","v":"  m"},{"$f":"N512*100","v":6790.0000000000009},"cm"]
[{"$f":"IF(COUNTIF($B$1:B513,TRUE)=COUNTIF($B$1:B512,TRUE),\"\",COUNTIF($B$1:B513,TRUE))","v":385},{"$f":"Worksheet!$B$13","v":true},{"$f":"RANDBETWEEN(5,RANDBETWEEN(5,Worksheet!$D$6))","v":81},"km","±",{"$f":"IF(I513=1,H513*10^RANDBETWEEN(IF(Worksheet!$D$9,-1,0),0),IF(I513=2,H513*10^RANDBETWEEN(RANDBETWEEN(0,2),2),CHOOSE(RANDBETWEEN(1,3),5,10,20)))","v":0.70000000000000007},{"$f":"IF(I513=1,D513,IF(I513=3,\"%\",\"m\"))","v":"km"},7,{"$f":"IF(AND(Worksheet!$D$8,RAND()<0.2),3,IF(RAND()<Worksheet!$D$7/100,1,2))","v":1},{"$f":"IF(I513=1,C513-F513,IF(I513=2,C513-F513/1000,IF(I513=3,(1-F513/100)*C513,\"\")))","v":80.3}," km",{"$f":"J513*1000","v":80300},"m",{"$f":"IF(I513=1,C513+F513,IF(I513=2,C513+F513/1000,IF(I513=3,(1+F513/100)*C513,\"\")))","v":81.7},"  km",{"$f":"N513*1000","v":81700},"m"]
[{"$f":"IF(COUNTIF($B$1:B514,TRUE)=COUNTIF($B$1:B513,TRUE),\"\",COUNTIF($B$1:B514,TRUE))","v":""},{"$f":"Worksheet!$B$14","v":false},{"$f":"RANDBETWEEN(5,RANDBETWEEN(5,Worksheet!$D$6))","v":23},"m","±",{"$f":"IF(I514=1,H514*10^RANDBETWEEN(IF(Worksheet!$D$9,-1,0),0),IF(I514=2,H514*10^RANDBETWEEN(RANDBETWEEN(0,2),2),CHOOSE(RANDBETWEEN(1,3),5,10,20)))","v":7},{"$f":"IF(I514=1,D514,IF(I514=3,\"%\",\"mm\"))","v":"m"},7,{"$f":"IF(AND(Worksheet!$D$8,RAND()<0.2),3,IF(RAND()<Worksheet!$D$7/100,1,2))","v":1},{"$f":"IF(I514=1,C514-F514,IF(I514=2,C514-F514/1000,IF(I514=3,(1-F514/100)*C514,\"\")))","v":16}," m",{"$f":"J514*1000","v":16000},"mm",{"$f":"IF(I514=1,C514+F514,IF(I514=2,C514+F514/1000,IF(I514=3,(1+F514/100)*C514,\"\")))","v":30},"  m",{"$f":"N514*1000","v":30000},"mm"]
[{"$f":"IF(COUNTIF($B$1:B515,TRUE)=COUNTIF($B$1:B514,TRUE),\"\",COUNTIF($B$1:B515,TRUE))","v":386},{"$f":"Worksheet!$B$15","v":true},{"$f":"RANDBETWEEN(5,20)","v":5},"hours","±",{"$f":"IF(I515=1,H515*10^RANDBETWEEN(IF(Worksheet!$D$9,-1,0),0),IF(I515=2,H515,CHOOSE(RANDBETWEEN(1,3),5,10,20)))","v":0.1},{"$f":"IF(I515=1,D515,IF(I515=3,\"%\",\"min\"))","v":"hours"},1,{"$f":"IF(AND(Worksheet!$D$8,RAND()<0),3,IF(RAND()<Worksheet!$D$7/100,1,2))","v":1},null," hours",{"$f":"IF(I515=1,C515-F515,IF(I515=2,C515*60-F515,\"\"))","v":4.9000000000000004},{"$f":"IF($I515=1,\" hours\",\" min\")","v":" hours"},null,"  hours",{"$f":"IF(I515=1,C515+F515,IF(I515=2,C515*60+F515,\"\"))","v":5.0999999999999996},{"$f":"IF($I515=1,\" hours\",\" min\")","v":" hours"}]
[{"$f":"IF(COUNTIF($B$1:B516,TRUE)=COUNTIF($B$1:B515,TRUE),\"\",COUNTIF($B$1:B516,TRUE))","v":387},{"$f":"Worksheet!$D$11","v":true},{"$f":"RANDBETWEEN(5,RANDBETWEEN(5,Worksheet!$D$6))","v":78},"kg","±",{"$f":"IF(I516=1,H516*10^RANDBETWEEN(IF(Worksheet!$D$9,-1,0),0),IF(I516=2,H516*10^RANDBETWEEN(RANDBETWEEN(0,2),2),CHOOSE(RANDBETWEEN(1,3),5,10,20)))","v":0.60000000000000009},{"$f":"IF(I516=1,D516,IF(I516=3,\"%\",\"g\"))","v":"kg"},6,{"$f":"IF(AND(Worksheet!$D$8,RAND()<0.2),3,IF(RAND()<Worksheet!$D$7/100,1,2))","v":1},{"$f":"IF(I516=1,C516-F516,IF(I516=2,C516-F516/1000,IF(I516=3,(1-F516/100)*C516,\"\")))","v":77.400000000000006}," kg",{"$f":"J516*1000","v":77400},"g",{"$f":"IF(I516=1,C516+F516,IF(I516=2,C516+F516/1000,IF(I516=3,(1+F516/100)*C516,\"\")))","v":78.599999999999994},"  kg",{"$f":"N516*1000","v":78600},"g"]
[{"$f":"IF(COUNTIF($B$1:B517,TRUE)=COUNTIF($B$1:B516,TRUE),\"\",COUNTIF($B$1:B517,TRUE))","v":388},{"$f":"Worksheet!$D$12","v":true},{"$f":"RANDBETWEEN(5,RANDBETWEEN(5,Worksheet!$D$6))","v":251},"tonnes","±",{"$f":"IF(I517=1,H517*10^RANDBETWEEN(IF(Worksheet!$D$9,-1,0),0),IF(I517=2,H517*10^RANDBETWEEN(RANDBETWEEN(0,2),2),CHOOSE(RANDBETWEEN(1,3),5,10,20)))","v":0.8},{"$f":"IF(I517=1,D517,IF(I517=3,\"%\",\"kg\"))","v":"tonnes"},8,{"$f":"IF(AND(Worksheet!$D$8,RAND()<0.2),3,IF(RAND()<Worksheet!$D$7/100,1,2))","v":1},{"$f":"IF(I517=1,C517-F517,IF(I517=2,C517-F517/1000,IF(I517=3,(1-F517/100)*C517,\"\")))","v":250.2}," tonnes",{"$f":"J517*1000","v":250200},"kg",{"$f":"IF(I517=1,C517+F517,IF(I517=2,C517+F517/1000,IF(I517=3,(1+F517/100)*C517,\"\")))","v":251.8},"  tonnes",{"$f":"N517*1000","v":251800},"kg"]
[{"$f":"IF(COUNTIF($B$1:B518,TRUE)=COUNTIF($B$1:B517,TRUE),\"\",COUNTIF($B$1:B518,TRUE))","v":389},{"$f":"Worksheet!$D$13","v":true},{"$f":"RANDBETWEEN(5,RANDBETWEEN(5,Worksheet!$D$6))","v":109},"litres","±",{"$f":"IF(I518=1,H518*10^RANDBETWEEN(IF(Worksheet!$D$9,-1,0),0),IF(I518=2,H518*10^RANDBETWEEN(RANDBETWEEN(0,2),2),CHOOSE(RANDBETWEEN(1,3),5,10,20)))","v":7},{"$f":"IF(I518=1,D518,IF(I518=3,\"%\",\"ml\"))","v":"litres"},7,{"$f":"IF(AND(Worksheet!$D$8,RAND()<0.2),3,IF(RAND()<Worksheet!$D$7/100,1,2))","v":1},{"$f":"IF(I518=1,C518-F518,IF(I518=2,C518-F518/1000,IF(I518=3,(1-F518/100)*C518,\"\")))","v":102}," litres",{"$f":"J518*1000","v":102000},"ml",{"$f":"IF(I518=1,C518+F518,IF(I518=2,C518+F518/1000,IF(I518=3,(1+F518/100)*C518,\"\")))","v":116},"  litres",{"$f":"N518*1000","v":116000},"ml"]
[{"$f":"IF(COUNTIF($B$1:B519,TRUE)=COUNTIF($B$1:B518,TRUE),\"\",COUNTIF($B$1:B519,TRUE))","v":390},{"$f":"Worksheet!$D$14","v":true},{"$f":"RANDBETWEEN(5,RANDBETWEEN(5,Worksheet!$D$6))","v":69},"litres","±",{"$f":"IF(I519=1,H519*10^RANDBETWEEN(IF(Worksheet!$D$9,-1,0),0),IF(I519=2,H519*10^RANDBETWEEN(RANDBETWEEN(0,2),2),CHOOSE(RANDBETWEEN(1,3),5,10,20)))","v":20},{"$f":"IF(I519=1,D519,IF(I519=3,\"%\",\"cm³\"))","v":"%"},8,{"$f":"IF(AND(Worksheet!$D$8,RAND()<0.2),3,IF(RAND()<Worksheet!$D$7/100,1,2))","v":3},{"$f":"IF(I519=1,C519-F519,IF(I519=2,C519-F519/1000,IF(I519=3,(1-F519/100)*C519,\"\")))","v":55.2}," litres",{"$f":"J519*1000","v":55200},"cm³",{"$f":"IF(I519=1,C519+F519,IF(I519=2,C519+F519/1000,IF(I519=3,(1+F519/100)*C519,\"\")))","v":82.8},"  litres",{"$f":"N519*1000","v":82800},"cm³"]
[{"$f":"IF(COUNTIF($B$1:B520,TRUE)=COUNTIF($B$1:B519,TRUE),\"\",COUNTIF($B$1:B520,TRUE))","v":""},{"$f":"Worksheet!$D$15","v":false},{"$f":"RANDBETWEEN(5,20)","v":9},"min","±",{"$f":"IF(I520=1,H520*10^RANDBETWEEN(IF(Worksheet!$D$9,-1,0),0),IF(I520=2,H520,CHOOSE(RANDBETWEEN(1,3),5,10,20)))","v":6},{"$f":"IF(I520=1,D520,IF(I520=3,\"%\",\"sec\"))","v":"min"},6,{"$f":"IF(AND(Worksheet!$D$8,RAND()<0),3,IF(RAND()<Worksheet!$D$7/100,1,2))","v":1},null," min",{"$f":"IF(I520=1,C520-F520,IF(I520=2,C520*60-F520,\"\"))","v":3},{"$f":"IF($I520=1,\" hours\",\" min\")","v":" hours"},null,"  min",{"$f":"IF(I520=1,C520+F520,IF(I520=2,C520*60+F520,\"\"))","v":15},{"$f":"IF($I520=1,\" hours\",\" min\")","v":" hours"}]
[{"$f":"COUNTIF($B$1:B521,TRUE)","v":391},{"$f":"Worksheet!$B$11","v":true},{"$f":"RANDBETWEEN(5,RANDBETWEEN(5,Worksheet!$D$6))","v":188},"cm","±",{"$f":"IF(I521=1,H521*10^RANDBETWEEN(IF(Worksheet!$D$9,-1,0),0),IF(I521=2,H521,CHOOSE(RANDBETWEEN(1,3),5,10,20)))","v":6},{"$f":"IF(I521=1,D521,IF(I521=3,\"%\",\"mm\"))","v":"mm"},{"$f":"RANDBETWEEN(1,MIN(9,C521))","v":6},{"$f":"IF(AND(Worksheet!$D$8,RAND()<0.2),3,IF(RAND()<Worksheet!$D$7/100,1,2))","v":2},{"$f":"IF(I521=1,C521-F521,IF(I521=2,C521-F521/10,IF(I521=3,(1-F521/100)*C521,\"\")))","v":187.4},{"$f":"CONCATENATE(\" \",D521)","v":" cm"},{"$f":"J521*10","v":1874},"mm",{"$f":"IF(I521=1,C521+F521,IF(I521=2,C521+F521/10,IF(I521=3,(1+F521/100)*C521,\"\")))","v":188.6},{"$f":"CONCATENATE(\" \",K521)","v":"  cm"},{"$f":"N521*10","v":1886},"mm"]
[{"$f":"IF(COUNTIF($B$1:B522,TRUE)=COUNTIF($B$1:B521,TRUE),\"\",COUNTIF($B$1:B522,TRUE))","v":392},{"$f":"Worksheet!$B$12","v":true},{"$f":"RANDBETWEEN(5,RANDBETWEEN(5,Worksheet!$D$6))","v":106},"m","±",{"$f":"IF(I522=1,H522*10^RANDBETWEEN(IF(Worksheet!$D$9,-1,0),0),IF(I522=2,H522*10^RANDBETWEEN(RANDBETWEEN(0,1),1),CHOOSE(RANDBETWEEN(1,3),5,10,20)))","v":2},{"$f":"IF(I522=1,D522,IF(I522=3,\"%\",\"cm\"))","v":"m"},{"$f":"RANDBETWEEN(1,MIN(9,C522))","v":2},{"$f":"IF(AND(Worksheet!$D$8,RAND()<0.2),3,IF(RAND()<Worksheet!$D$7/100,1,2))","v":1},{"$f":"IF(I522=1,C522-F522,IF(I522=2,C522-F522/100,IF(I522=3,(1-F522/100)*C522,\"\")))","v":104},{"$f":"CONCATENATE(\" \",D522)","v":" m"},{"$f":"J522*100","v":10400},"cm",{"$f":"IF(I522=1,C522+F522,IF(I522=2,C522+F522/100,IF(I522=3,(1+F522/100)*C522,\"\")))","v":108},{"$f":"CONCATENATE(\" \",K522)","v":"  m"},{"$f":"N522*100","v":10800},"cm"]
[{"$f":"IF(COUNTIF($B$1:B523,TRUE)=COUNTIF($B$1:B522,TRUE),\"\",COUNTIF($B$1:B523,TRUE))","v":393},{"$f":"Worksheet!$B$13","v":true},{"$f":"RANDBETWEEN(5,RANDBETWEEN(5,Worksheet!$D$6))","v":171},"km","±",{"$f":"IF(I523=1,H523*10^RANDBETWEEN(IF(Worksheet!$D$9,-1,0),0),IF(I523=2,H523*10^RANDBETWEEN(RANDBETWEEN(0,2),2),CHOOSE(RANDBETWEEN(1,3),5,10,20)))","v":2},{"$f":"IF(I523=1,D523,IF(I523=3,\"%\",\"m\"))","v":"km"},2,{"$f":"IF(AND(Worksheet!$D$8,RAND()<0.2),3,IF(RAND()<Worksheet!$D$7/100,1,2))","v":1},{"$f":"IF(I523=1,C523-F523,IF(I523=2,C523-F523/1000,IF(I523=3,(1-F523/100)*C523,\"\")))","v":169}," km",{"$f":"J523*1000","v":169000},"m",{"$f":"IF(I523=1,C523+F523,IF(I523=2,C523+F523/1000,IF(I523=3,(1+F523/100)*C523,\"\")))","v":173},"  km",{"$f":"N523*1000","v":173000},"m"]
[{"$f":"IF(COUNTIF($B$1:B524,TRUE)=COUNTIF($B$1:B523,TRUE),\"\",COUNTIF($B$1:B524,TRUE))","v":""},{"$f":"Worksheet!$B$14","v":false},{"$f":"RANDBETWEEN(5,RANDBETWEEN(5,Worksheet!$D$6))","v":83},"m","±",{"$f":"IF(I524=1,H524*10^RANDBETWEEN(IF(Worksheet!$D$9,-1,0),0),IF(I524=2,H524*10^RANDBETWEEN(RANDBETWEEN(0,2),2),CHOOSE(RANDBETWEEN(1,3),5,10,20)))","v":200},{"$f":"IF(I524=1,D524,IF(I524=3,\"%\",\"mm\"))","v":"mm"},2,{"$f":"IF(AND(Worksheet!$D$8,RAND()<0.2),3,IF(RAND()<Worksheet!$D$7/100,1,2))","v":2},{"$f":"IF(I524=1,C524-F524,IF(I524=2,C524-F524/1000,IF(I524=3,(1-F524/100)*C524,\"\")))","v":82.8}," m",{"$f":"J524*1000","v":82800},"mm",{"$f":"IF(I524=1,C524+F524,IF(I524=2,C524+F524/1000,IF(I524=3,(1+F524/100)*C524,\"\")))","v":83.2},"  m",{"$f":"N524*1000","v":83200},"mm"]
[{"$f":"IF(COUNTIF($B$1:B525,TRUE)=COUNTIF($B$1:B524,TRUE),\"\",COUNTIF($B$1:B525,TRUE))","v":394},{"$f":"Worksheet!$B$15","v":true},{"$f":"RANDBETWEEN(5,20)","v":13},"hours","±",{"$f":"IF(I525=1,H525*10^RANDBETWEEN(IF(Worksheet!$D$9,-1,0),0),IF(I525=2,H525,CHOOSE(RANDBETWEEN(1,3),5,10,20)))","v":8},{"$f":"IF(I525=1,D525,IF(I525=3,\"%\",\"min\"))","v":"hours"},8,{"$f":"IF(AND(Worksheet!$D$8,RAND()<0),3,IF(RAND()<Worksheet!$D$7/100,1,2))","v":1},null," hours",{"$f":"IF(I525=1,C525-F525,IF(I525=2,C525*60-F525,\"\"))","v":5},{"$f":"IF($I525=1,\" hours\",\" min\")","v":" hours"},null,"  hours",{"$f":"IF(I525=1,C525+F525,IF(I525=2,C525*60+F525,\"\"))","v":21},{"$f":"IF($I525=1,\" hours\",\" min\")","v":" hours"}]
[{"$f":"IF(COUNTIF($B$1:B526,TRUE)=COUNTIF($B$1:B525,TRUE),\"\",COUNTIF($B$1:B526,TRUE))","v":395},{"$f":"Worksheet!$D$11","v":true},{"$f":"RANDBETWEEN(5,RANDBETWEEN(5,Worksheet!$D$6))","v":96},"kg","±",{"$f":"IF(I526=1,H526*10^RANDBETWEEN(IF(Worksheet!$D$9,-1,0),0),IF(I526=2,H526*10^RANDBETWEEN(RANDBETWEEN(0,2),2),CHOOSE(RANDBETWEEN(1,3),5,10,20)))","v":80},{"$f":"IF(I526=1,D526,IF(I526=3,\"%\",\"g\"))","v":"g"},8,{"$f":"IF(AND(Worksheet!$D$8,RAND()<0.2),3,IF(RAND()<Worksheet!$D$7/100,1,2))","v":2},{"$f":"IF(I526=1,C526-F526,IF(I526=2,C526-F526/1000,IF(I526=3,(1-F526/100)*C526,\"\")))","v":95.92}," kg",{"$f":"J526*1000","v":95920},"g",{"$f":"IF(I526=1,C526+F526,IF(I526=2,C526+F526/1000,IF(I526=3,(1+F526/100)*C526,\"\")))","v":96.08},"  kg",{"$f":"N526*1000","v":96080},"g"]
[{"$f":"IF(COUNTIF($B$1:B527,TRUE)=COUNTIF($B$1:B526,TRUE),\"\",COUNTIF($B$1:B527,TRUE))","v":396},{"$f":"Worksheet!$D$12","v":true},{"$f":"RANDBETWEEN(5,RANDBETWEEN(5,Worksheet!$D$6))","v":128},"tonnes","±",{"$f":"IF(I527=1,H527*10^RANDBETWEEN(IF(Worksheet!$D$9,-1,0),0),IF(I527=2,H527*10^RANDBETWEEN(RANDBETWEEN(0,2),2),CHOOSE(RANDBETWEEN(1,3),5,10,20)))","v":20},{"$f":"IF(I527=1,D527,IF(I527=3,\"%\",\"kg\"))","v":"%"},9,{"$f":"IF(AND(Worksheet!$D$8,RAND()<0.2),3,IF(RAND()<Worksheet!$D$7/100,1,2))","v":3},{"$f":"IF(I527=1,C527-F527,IF(I527=2,C527-F527/1000,IF(I527=3,(1-F527/100)*C527,\"\")))","v":102.4}," tonnes",{"$f":"J527*1000","v":102400},"kg",{"$f":"IF(I527=1,C527+F527,IF(I527=2,C527+F527/1000,IF(I527=3,(1+F527/100)*C527,\"\")))","v":153.6},"  tonnes",{"$f":"N527*1000","v":153600},"kg"]
[{"$f":"IF(COUNTIF($B$1:B528,TRUE)=COUNTIF($B$1:B527,TRUE),\"\",COUNTIF($B$1:B528,TRUE))","v":397},{"$f":"Worksheet!$D$13","v":true},{"$f":"RANDBETWEEN(5,RANDBETWEEN(5,Worksheet!$D$6))","v":46},"litres","±",{"$f":"IF(I528=1,H528*10^RANDBETWEEN(IF(Worksheet!$D$9,-1,0),0),IF(I528=2,H528*10^RANDBETWEEN(RANDBETWEEN(0,2),2),CHOOSE(RANDBETWEEN(1,3),5,10,20)))","v":80},{"$f":"IF(I528=1,D528,IF(I528=3,\"%\",\"ml\"))","v":"ml"},8,{"$f":"IF(AND(Worksheet!$D$8,RAND()<0.2),3,IF(RAND()<Worksheet!$D$7/100,1,2))","v":2},{"$f":"IF(I528=1,C528-F528,IF(I528=2,C528-F528/1000,IF(I528=3,(1-F528/100)*C528,\"\")))","v":45.92}," litres",{"$f":"J528*1000","v":45920},"ml",{"$f":"IF(I528=1,C528+F528,IF(I528=2,C528+F528/1000,IF(I528=3,(1+F528/100)*C528,\"\")))","v":46.08},"  litres",{"$f":"N528*1000","v":46080},"ml"]
[{"$f":"IF(COUNTIF($B$1:B529,TRUE)=COUNTIF($B$1:B528,TRUE),\"\",COUNTIF($B$1:B529,TRUE))","v":398},{"$f":"Worksheet!$D$14","v":true},{"$f":"RANDBETWEEN(5,RANDBETWEEN(5,Worksheet!$D$6))","v":115},"litres","±",{"$f":"IF(I529=1,H529*10^RANDBETWEEN(IF(Worksheet!$D$9,-1,0),0),IF(I529=2,H529*10^RANDBETWEEN(RANDBETWEEN(0,2),2),CHOOSE(RANDBETWEEN(1,3),5,10,20)))","v":0.1},{"$f":"IF(I529=1,D529,IF(I529=3,\"%\",\"cm³\"))","v":"litres"},1,{"$f":"IF(AND(Worksheet!$D$8,RAND()<0.2),3,IF(RAND()<Worksheet!$D$7/100,1,2))","v":1},{"$f":"IF(I529=1,C529-F529,IF(I529=2,C529-F529/1000,IF(I529=3,(1-F529/100)*C529,\"\")))","v":114.9}," litres",{"$f":"J529*1000","v":114900},"cm³",{"$f":"IF(I529=1,C529+F529,IF(I529=2,C529+F529/1000,IF(I529=3,(1+F529/100)*C529,\"\")))","v":115.1},"  litres",{"$f":"N529*1000","v":115100},"cm³"]
[{"$f":"IF(COUNTIF($B$1:B530,TRUE)=COUNTIF($B$1:B529,TRUE),\"\",COUNTIF($B$1:B530,TRUE))","v":""},{"$f":"Worksheet!$D$15","v":false},{"$f":"RANDBETWEEN(5,20)","v":8},"min","±",{"$f":"IF(I530=1,H530*10^RANDBETWEEN(IF(Worksheet!$D$9,-1,0),0),IF(I530=2,H530,CHOOSE(RANDBETWEEN(1,3),5,10,20)))","v":0.5},{"$f":"IF(I530=1,D530,IF(I530=3,\"%\",\"sec\"))","v":"min"},5,{"$f":"IF(AND(Worksheet!$D$8,RAND()<0),3,IF(RAND()<Worksheet!$D$7/100,1,2))","v":1},null," min",{"$f":"IF(I530=1,C530-F530,IF(I530=2,C530*60-F530,\"\"))","v":7.5},{"$f":"IF($I530=1,\" hours\",\" min\")","v":" hours"},null,"  min",{"$f":"IF(I530=1,C530+F530,IF(I530=2,C530*60+F530,\"\"))","v":8.5},{"$f":"IF($I530=1,\" hours\",\" min\")","v":" hours"}]
[{"$f":"COUNTIF($B$1:B531,TRUE)","v":399},{"$f":"Worksheet!$B$11","v":true},{"$f":"RANDBETWEEN(5,RANDBETWEEN(5,Worksheet!$D$6))","v":50},"cm","±",{"$f":"IF(I531=1,H531*10^RANDBETWEEN(IF(Worksheet!$D$9,-1,0),0),IF(I531=2,H531,CHOOSE(RANDBETWEEN(1,3),5,10,20)))","v":9},{"$f":"IF(I531=1,D531,IF(I531=3,\"%\",\"mm\"))","v":"cm"},{"$f":"RANDBETWEEN(1,MIN(9,C531))","v":9},{"$f":"IF(AND(Worksheet!$D$8,RAND()<0.2),3,IF(RAND()<Worksheet!$D$7/100,1,2))","v":1},{"$f":"IF(I531=1,C531-F531,IF(I531=2,C531-F531/10,IF(I531=3,(1-F531/100)*C531,\"\")))","v":41},{"$f":"CONCATENATE(\" \",D531)","v":" cm"},{"$f":"J531*10","v":410},"mm",{"$f":"IF(I531=1,C531+F531,IF(I531=2,C531+F531/10,IF(I531=3,(1+F531/100)*C531,\"\")))","v":59},{"$f":"CONCATENATE(\" \",K531)","v":"  cm"},{"$f":"N531*10","v":590},"mm"]
[{"$f":"IF(COUNTIF($B$1:B532,TRUE)=COUNTIF($B$1:B531,TRUE),\"\",COUNTIF($B$1:B532,TRUE))","v":400},{"$f":"Worksheet!$B$12","v":true},{"$f":"RANDBETWEEN(5,RANDBETWEEN(5,Worksheet!$D$6))","v":7},"m","±",{"$f":"IF(I532=1,H532*10^RANDBETWEEN(IF(Worksheet!$D$9,-1,0),0),IF(I532=2,H532*10^RANDBETWEEN(RANDBETWEEN(0,1),1),CHOOSE(RANDBETWEEN(1,3),5,10,20)))","v":5},{"$f":"IF(I532=1,D532,IF(I532=3,\"%\",\"cm\"))","v":"cm"},{"$f":"RANDBETWEEN(1,MIN(9,C532))","v":5},{"$f":"IF(AND(Worksheet!$D$8,RAND()<0.2),3,IF(RAND()<Worksheet!$D$7/100,1,2))","v":2},{"$f":"IF(I532=1,C532-F532,IF(I532=2,C532-F532/100,IF(I532=3,(1-F532/100)*C532,\"\")))","v":6.95},{"$f":"CONCATENATE(\" \",D532)","v":" m"},{"$f":"J532*100","v":695},"cm",{"$f":"IF(I532=1,C532+F532,IF(I532=2,C532+F532/100,IF(I532=3,(1+F532/100)*C532,\"\")))","v":7.05},{"$f":"CONCATENATE(\" \",K532)","v":"  m"},{"$f":"N532*100","v":705},"cm"]
[{"$f":"IF(COUNTIF($B$1:B533,TRUE)=COUNTIF($B$1:B532,TRUE),\"\",COUNTIF($B$1:B533,TRUE))","v":401},{"$f":"Worksheet!$B$13","v":true},{"$f":"RANDBETWEEN(5,RANDBETWEEN(5,Worksheet!$D$6))","v":115},"km","±",{"$f":"IF(I533=1,H533*10^RANDBETWEEN(IF(Worksheet!$D$9,-1,0),0),IF(I533=2,H533*10^RANDBETWEEN(RANDBETWEEN(0,2),2),CHOOSE(RANDBETWEEN(1,3),5,10,20)))","v":0.5},{"$f":"IF(I533=1,D533,IF(I533=3,\"%\",\"m\"))","v":"km"},5,{"$f":"IF(AND(Worksheet!$D$8,RAND()<0.2),3,IF(RAND()<Worksheet!$D$7/100,1,2))","v":1},{"$f":"IF(I533=1,C533-F533,IF(I533=2,C533-F533/1000,IF(I533=3,(1-F533/100)*C533,\"\")))","v":114.5}," km",{"$f":"J533*1000","v":114500},"m",{"$f":"IF(I533=1,C533+F533,IF(I533=2,C533+F533/1000,IF(I533=3,(1+F533/100)*C533,\"\")))","v":115.5},"  km",{"$f":"N533*1000","v":115500},"m"]
[{"$f":"IF(COUNTIF($B$1:B534,TRUE)=COUNTIF($B$1:B533,TRUE),\"\",COUNTIF($B$1:B534,TRUE))","v":""},{"$f":"Worksheet!$B$14","v":false},{"$f":"RANDBETWEEN(5,RANDBETWEEN(5,Worksheet!$D$6))","v":14},"m","±",{"$f":"IF(I534=1,H534*10^RANDBETWEEN(IF(Worksheet!$D$9,-1,0),0),IF(I534=2,H534*10^RANDBETWEEN(RANDBETWEEN(0,2),2),CHOOSE(RANDBETWEEN(1,3),5,10,20)))","v":0.9},{"$f":"IF(I534=1,D534,IF(I534=3,\"%\",\"mm\"))","v":"m"},9,{"$f":"IF(AND(Worksheet!$D$8,RAND()<0.2),3,IF(RAND()<Worksheet!$D$7/100,1,2))","v":1},{"$f":"IF(I534=1,C534-F534,IF(I534=2,C534-F534/1000,IF(I534=3,(1-F534/100)*C534,\"\")))","v":13.1}," m",{"$f":"J534*1000","v":13100},"mm",{"$f":"IF(I534=1,C534+F534,IF(I534=2,C534+F534/1000,IF(I534=3,(1+F534/100)*C534,\"\")))","v":14.9},"  m",{"$f":"N534*1000","v":14900},"mm"]
[{"$f":"IF(COUNTIF($B$1:B535,TRUE)=COUNTIF($B$1:B534,TRUE),\"\",COUNTIF($B$1:B535,TRUE))","v":402},{"$f":"Worksheet!$B$15","v":true},{"$f":"RANDBETWEEN(5,20)","v":19},"hours","±",{"$f":"IF(I535=1,H535*10^RANDBETWEEN(IF(Worksheet!$D$9,-1,0),0),IF(I535=2,H535,CHOOSE(RANDBETWEEN(1,3),5,10,20)))","v":6},{"$f":"IF(I535=1,D535,IF(I535=3,\"%\",\"min\"))","v":"min"},6,{"$f":"IF(AND(Worksheet!$D$8,RAND()<0),3,IF(RAND()<Worksheet!$D$7/100,1,2))","v":2},null," hours",{"$f":"IF(I535=1,C535-F535,IF(I535=2,C535*60-F535,\"\"))","v":1134},{"$f":"IF($I535=1,\" hours\",\" min\")","v":" min"},null,"  hours",{"$f":"IF(I535=1,C535+F535,IF(I535=2,C535*60+F535,\"\"))","v":1146},{"$f":"IF($I535=1,\" hours\",\" min\")","v":" min"}]
[{"$f":"IF(COUNTIF($B$1:B536,TRUE)=COUNTIF($B$1:B535,TRUE),\"\",COUNTIF($B$1:B536,TRUE))","v":403},{"$f":"Worksheet!$D$11","v":true},{"$f":"RANDBETWEEN(5,RANDBETWEEN(5,Worksheet!$D$6))","v":51},"kg","±",{"$f":"IF(I536=1,H536*10^RANDBETWEEN(IF(Worksheet!$D$9,-1,0),0),IF(I536=2,H536*10^RANDBETWEEN(RANDBETWEEN(0,2),2),CHOOSE(RANDBETWEEN(1,3),5,10,20)))","v":10},{"$f":"IF(I536=1,D536,IF(I536=3,\"%\",\"g\"))","v":"%"},9,{"$f":"IF(AND(Worksheet!$D$8,RAND()<0.2),3,IF(RAND()<Worksheet!$D$7/100,1,2))","v":3},{"$f":"IF(I536=1,C536-F536,IF(I536=2,C536-F536/1000,IF(I536=3,(1-F536/100)*C536,\"\")))","v":45.9}," kg",{"$f":"J536*1000","v":45900},"g",{"$f":"IF(I536=1,C536+F536,IF(I536=2,C536+F536/1000,IF(I536=3,(1+F536/100)*C536,\"\")))","v":56.1},"  kg",{"$f":"N536*1000","v":56100},"g"]
[{"$f":"IF(COUNTIF($B$1:B537,TRUE)=COUNTIF($B$1:B536,TRUE),\"\",COUNTIF($B$1:B537,TRUE))","v":404},{"$f":"Worksheet!$D$12","v":true},{"$f":"RANDBETWEEN(5,RANDBETWEEN(5,Worksheet!$D$6))","v":194},"tonnes","±",{"$f":"IF(I537=1,H537*10^RANDBETWEEN(IF(Worksheet!$D$9,-1,0),0),IF(I537=2,H537*10^RANDBETWEEN(RANDBETWEEN(0,2),2),CHOOSE(RANDBETWEEN(1,3),5,10,20)))","v":900},{"$f":"IF(I537=1,D537,IF(I537=3,\"%\",\"kg\"))","v":"kg"},9,{"$f":"IF(AND(Worksheet!$D$8,RAND()<0.2),3,IF(RAND()<Worksheet!$D$7/100,1,2))","v":2},{"$f":"IF(I537=1,C537-F537,IF(I537=2,C537-F537/1000,IF(I537=3,(1-F537/100)*C537,\"\")))","v":193.1}," tonnes",{"$f":"J537*1000","v":193100},"kg",{"$f":"IF(I537=1,C537+F537,IF(I537=2,C537+F537/1000,IF(I537=3,(1+F537/100)*C537,\"\")))","v":194.9},"  tonnes",{"$f":"N537*1000","v":194900},"kg"]
[{"$f":"IF(COUNTIF($B$1:B538,TRUE)=COUNTIF($B$1:B537,TRUE),\"\",COUNTIF($B$1:B538,TRUE))","v":405},{"$f":"Worksheet!$D$13","v":true},{"$f":"RANDBETWEEN(5,RANDBETWEEN(5,Worksheet!$D$6))","v":90},"litres","±",{"$f":"IF(I538=1,H538*10^RANDBETWEEN(IF(Worksheet!$D$9,-1,0),0),IF(I538=2,H538*10^RANDBETWEEN(RANDBETWEEN(0,2),2),CHOOSE(RANDBETWEEN(1,3),5,10,20)))","v":0.70000000000000007},{"$f":"IF(I538=1,D538,IF(I538=3,\"%\",\"ml\"))","v":"litres"},7,{"$f":"IF(AND(Worksheet!$D$8,RAND()<0.2),3,IF(RAND()<Worksheet!$D$7/100,1,2))","v":1},{"$f":"IF(I538=1,C538-F538,IF(I538=2,C538-F538/1000,IF(I538=3,(1-F538/100)*C538,\"\")))","v":89.3}," litres",{"$f":"J538*1000","v":89300},"ml",{"$f":"IF(I538=1,C538+F538,IF(I538=2,C538+F538/1000,IF(I538=3,(1+F538/100)*C538,\"\")))","v":90.7},"  litres",{"$f":"N538*1000","v":90700},"ml"]
[{"$f":"IF(COUNTIF($B$1:B539,TRUE)=COUNTIF($B$1:B538,TRUE),\"\",COUNTIF($B$1:B539,TRUE))","v":406},{"$f":"Worksheet!$D$14","v":true},{"$f":"RANDBETWEEN(5,RANDBETWEEN(5,Worksheet!$D$6))","v":55},"litres","±",{"$f":"IF(I539=1,H539*10^RANDBETWEEN(IF(Worksheet!$D$9,-1,0),0),IF(I539=2,H539*10^RANDBETWEEN(RANDBETWEEN(0,2),2),CHOOSE(RANDBETWEEN(1,3),5,10,20)))","v":0.8},{"$f":"IF(I539=1,D539,IF(I539=3,\"%\",\"cm³\"))","v":"litres"},8,{"$f":"IF(AND(Worksheet!$D$8,RAND()<0.2),3,IF(RAND()<Worksheet!$D$7/100,1,2))","v":1},{"$f":"IF(I539=1,C539-F539,IF(I539=2,C539-F539/1000,IF(I539=3,(1-F539/100)*C539,\"\")))","v":54.2}," litres",{"$f":"J539*1000","v":54200},"cm³",{"$f":"IF(I539=1,C539+F539,IF(I539=2,C539+F539/1000,IF(I539=3,(1+F539/100)*C539,\"\")))","v":55.8},"  litres",{"$f":"N539*1000","v":55800},"cm³"]
[{"$f":"IF(COUNTIF($B$1:B540,TRUE)=COUNTIF($B$1:B539,TRUE),\"\",COUNTIF($B$1:B540,TRUE))","v":""},{"$f":"Worksheet!$D$15","v":false},{"$f":"RANDBETWEEN(5,20)","v":20},"min","±",{"$f":"IF(I540=1,H540*10^RANDBETWEEN(IF(Worksheet!$D$9,-1,0),0),IF(I540=2,H540,CHOOSE(RANDBETWEEN(1,3),5,10,20)))","v":0.1},{"$f":"IF(I540=1,D540,IF(I540=3,\"%\",\"sec\"))","v":"min"},1,{"$f":"IF(AND(Worksheet!$D$8,RAND()<0),3,IF(RAND()<Worksheet!$D$7/100,1,2))","v":1},null," min",{"$f":"IF(I540=1,C540-F540,IF(I540=2,C540*60-F540,\"\"))","v":19.899999999999999},{"$f":"IF($I540=1,\" hours\",\" min\")","v":" hours"},null,"  min",{"$f":"IF(I540=1,C540+F540,IF(I540=2,C540*60+F540,\"\"))","v":20.100000000000001},{"$f":"IF($I540=1,\" hours\",\" min\")","v":" hours"}]
[{"$f":"COUNTIF($B$1:B541,TRUE)","v":407},{"$f":"Worksheet!$B$11","v":true},{"$f":"RANDBETWEEN(5,RANDBETWEEN(5,Worksheet!$D$6))","v":10},"cm","±",{"$f":"IF(I541=1,H541*10^RANDBETWEEN(IF(Worksheet!$D$9,-1,0),0),IF(I541=2,H541,CHOOSE(RANDBETWEEN(1,3),5,10,20)))","v":4},{"$f":"IF(I541=1,D541,IF(I541=3,\"%\",\"mm\"))","v":"cm"},{"$f":"RANDBETWEEN(1,MIN(9,C541))","v":4},{"$f":"IF(AND(Worksheet!$D$8,RAND()<0.2),3,IF(RAND()<Worksheet!$D$7/100,1,2))","v":1},{"$f":"IF(I541=1,C541-F541,IF(I541=2,C541-F541/10,IF(I541=3,(1-F541/100)*C541,\"\")))","v":6},{"$f":"CONCATENATE(\" \",D541)","v":" cm"},{"$f":"J541*10","v":60},"mm",{"$f":"IF(I541=1,C541+F541,IF(I541=2,C541+F541/10,IF(I541=3,(1+F541/100)*C541,\"\")))","v":14},{"$f":"CONCATENATE(\" \",K541)","v":"  cm"},{"$f":"N541*10","v":140},"mm"]
[{"$f":"IF(COUNTIF($B$1:B542,TRUE)=COUNTIF($B$1:B541,TRUE),\"\",COUNTIF($B$1:B542,TRUE))","v":408},{"$f":"Worksheet!$B$12","v":true},{"$f":"RANDBETWEEN(5,RANDBETWEEN(5,Worksheet!$D$6))","v":25},"m","±",{"$f":"IF(I542=1,H542*10^RANDBETWEEN(IF(Worksheet!$D$9,-1,0),0),IF(I542=2,H542*10^RANDBETWEEN(RANDBETWEEN(0,1),1),CHOOSE(RANDBETWEEN(1,3),5,10,20)))","v":5},{"$f":"IF(I542=1,D542,IF(I542=3,\"%\",\"cm\"))","v":"m"},{"$f":"RANDBETWEEN(1,MIN(9,C542))","v":5},{"$f":"IF(AND(Worksheet!$D$8,RAND()<0.2),3,IF(RAND()<Worksheet!$D$7/100,1,2))","v":1},{"$f":"IF(I542=1,C542-F542,IF(I542=2,C542-F542/100,IF(I542=3,(1-F542/100)*C542,\"\")))","v":20},{"$f":"CONCATENATE(\" \",D542)","v":" m"},{"$f":"J542*100","v":2000},"cm",{"$f":"IF(I542=1,C542+F542,IF(I542=2,C542+F542/100,IF(I542=3,(1+F542/100)*C542,\"\")))","v":30},{"$f":"CONCATENATE(\" \",K542)","v":"  m"},{"$f":"N542*100","v":3000},"cm"]
[{"$f":"IF(COUNTIF($B$1:B543,TRUE)=COUNTIF($B$1:B542,TRUE),\"\",COUNTIF($B$1:B543,TRUE))","v":409},{"$f":"Worksheet!$B$13","v":true},{"$f":"RANDBETWEEN(5,RANDBETWEEN(5,Worksheet!$D$6))","v":108},"km","±",{"$f":"IF(I543=1,H543*10^RANDBETWEEN(IF(Worksheet!$D$9,-1,0),0),IF(I543=2,H543*10^RANDBETWEEN(RANDBETWEEN(0,2),2),CHOOSE(RANDBETWEEN(1,3),5,10,20)))","v":0.2},{"$f":"IF(I543=1,D543,IF(I543=3,\"%\",\"m\"))","v":"km"},2,{"$f":"IF(AND(Worksheet!$D$8,RAND()<0.2),3,IF(RAND()<Worksheet!$D$7/100,1,2))","v":1},{"$f":"IF(I543=1,C543-F543,IF(I543=2,C543-F543/1000,IF(I543=3,(1-F543/100)*C543,\"\")))","v":107.8}," km",{"$f":"J543*1000","v":107800},"m",{"$f":"IF(I543=1,C543+F543,IF(I543=2,C543+F543/1000,IF(I543=3,(1+F543/100)*C543,\"\")))","v":108.2},"  km",{"$f":"N543*1000","v":108200},"m"]
[{"$f":"IF(COUNTIF($B$1:B544,TRUE)=COUNTIF($B$1:B543,TRUE),\"\",COUNTIF($B$1:B544,TRUE))","v":""},{"$f":"Worksheet!$B$14","v":false},{"$f":"RANDBETWEEN(5,RANDBETWEEN(5,Worksheet!$D$6))","v":345},"m","±",{"$f":"IF(I544=1,H544*10^RANDBETWEEN(IF(Worksheet!$D$9,-1,0),0),IF(I544=2,H544*10^RANDBETWEEN(RANDBETWEEN(0,2),2),CHOOSE(RANDBETWEEN(1,3),5,10,20)))","v":0.4},{"$f":"IF(I544=1,D544,IF(I544=3,\"%\",\"mm\"))","v":"m"},4,{"$f":"IF(AND(Worksheet!$D$8,RAND()<0.2),3,IF(RAND()<Worksheet!$D$7/100,1,2))","v":1},{"$f":"IF(I544=1,C544-F544,IF(I544=2,C544-F544/1000,IF(I544=3,(1-F544/100)*C544,\"\")))","v":344.6}," m",{"$f":"J544*1000","v":344600},"mm",{"$f":"IF(I544=1,C544+F544,IF(I544=2,C544+F544/1000,IF(I544=3,(1+F544/100)*C544,\"\")))","v":345.4},"  m",{"$f":"N544*1000","v":345400},"mm"]
[{"$f":"IF(COUNTIF($B$1:B545,TRUE)=COUNTIF($B$1:B544,TRUE),\"\",COUNTIF($B$1:B545,TRUE))","v":410},{"$f":"Worksheet!$B$15","v":true},{"$f":"RANDBETWEEN(5,20)","v":5},"hours","±",{"$f":"IF(I545=1,H545*10^RANDBETWEEN(IF(Worksheet!$D$9,-1,0),0),IF(I545=2,H545,CHOOSE(RANDBETWEEN(1,3),5,10,20)))","v":1},{"$f":"IF(I545=1,D545,IF(I545=3,\"%\",\"min\"))","v":"hours"},1,{"$f":"IF(AND(Worksheet!$D$8,RAND()<0),3,IF(RAND()<Worksheet!$D$7/100,1,2))","v":1},null," hours",{"$f":"IF(I545=1,C545-F545,IF(I545=2,C545*60-F545,\"\"))","v":4},{"$f":"IF($I545=1,\" hours\",\" min\")","v":" hours"},null,"  hours",{"$f":"IF(I545=1,C545+F545,IF(I545=2,C545*60+F545,\"\"))","v":6},{"$f":"IF($I545=1,\" hours\",\" min\")","v":" hours"}]
[{"$f":"IF(COUNTIF($B$1:B546,TRUE)=COUNTIF($B$1:B545,TRUE),\"\",COUNTIF($B$1:B546,TRUE))","v":411},{"$f":"Worksheet!$D$11","v":true},{"$f":"RANDBETWEEN(5,RANDBETWEEN(5,Worksheet!$D$6))","v":21},"kg","±",{"$f":"IF(I546=1,H546*10^RANDBETWEEN(IF(Worksheet!$D$9,-1,0),0),IF(I546=2,H546*10^RANDBETWEEN(RANDBETWEEN(0,2),2),CHOOSE(RANDBETWEEN(1,3),5,10,20)))","v":1},{"$f":"IF(I546=1,D546,IF(I546=3,\"%\",\"g\"))","v":"g"},1,{"$f":"IF(AND(Worksheet!$D$8,RAND()<0.2),3,IF(RAND()<Worksheet!$D$7/100,1,2))","v":2},{"$f":"IF(I546=1,C546-F546,IF(I546=2,C546-F546/1000,IF(I546=3,(1-F546/100)*C546,\"\")))","v":20.998999999999999}," kg",{"$f":"J546*1000","v":20999},"g",{"$f":"IF(I546=1,C546+F546,IF(I546=2,C546+F546/1000,IF(I546=3,(1+F546/100)*C546,\"\")))","v":21.001000000000001},"  kg",{"$f":"N546*1000","v":21001},"g"]
[{"$f":"IF(COUNTIF($B$1:B547,TRUE)=COUNTIF($B$1:B546,TRUE),\"\",COUNTIF($B$1:B547,TRUE))","v":412},{"$f":"Worksheet!$D$12","v":true},{"$f":"RANDBETWEEN(5,RANDBETWEEN(5,Worksheet!$D$6))","v":94},"tonnes","±",{"$f":"IF(I547=1,H547*10^RANDBETWEEN(IF(Worksheet!$D$9,-1,0),0),IF(I547=2,H547*10^RANDBETWEEN(RANDBETWEEN(0,2),2),CHOOSE(RANDBETWEEN(1,3),5,10,20)))","v":5},{"$f":"IF(I547=1,D547,IF(I547=3,\"%\",\"kg\"))","v":"%"},5,{"$f":"IF(AND(Worksheet!$D$8,RAND()<0.2),3,IF(RAND()<Worksheet!$D$7/100,1,2))","v":3},{"$f":"IF(I547=1,C547-F547,IF(I547=2,C547-F547/1000,IF(I547=3,(1-F547/100)*C547,\"\")))","v":89.3}," tonnes",{"$f":"J547*1000","v":89300},"kg",{"$f":"IF(I547=1,C547+F547,IF(I547=2,C547+F547/1000,IF(I547=3,(1+F547/100)*C547,\"\")))","v":98.7},"  tonnes",{"$f":"N547*1000","v":98700},"kg"]
[{"$f":"IF(COUNTIF($B$1:B548,TRUE)=COUNTIF($B$1:B547,TRUE),\"\",COUNTIF($B$1:B548,TRUE))","v":413},{"$f":"Worksheet!$D$13","v":true},{"$f":"RANDBETWEEN(5,RANDBETWEEN(5,Worksheet!$D$6))","v":89},"litres","±",{"$f":"IF(I548=1,H548*10^RANDBETWEEN(IF(Worksheet!$D$9,-1,0),0),IF(I548=2,H548*10^RANDBETWEEN(RANDBETWEEN(0,2),2),CHOOSE(RANDBETWEEN(1,3),5,10,20)))","v":2},{"$f":"IF(I548=1,D548,IF(I548=3,\"%\",\"ml\"))","v":"litres"},2,{"$f":"IF(AND(Worksheet!$D$8,RAND()<0.2),3,IF(RAND()<Worksheet!$D$7/100,1,2))","v":1},{"$f":"IF(I548=1,C548-F548,IF(I548=2,C548-F548/1000,IF(I548=3,(1-F548/100)*C548,\"\")))","v":87}," litres",{"$f":"J548*1000","v":87000},"ml",{"$f":"IF(I548=1,C548+F548,IF(I548=2,C548+F548/1000,IF(I548=3,(1+F548/100)*C548,\"\")))","v":91},"  litres",{"$f":"N548*1000","v":91000},"ml"]
[{"$f":"IF(COUNTIF($B$1:B549,TRUE)=COUNTIF($B$1:B548,TRUE),\"\",COUNTIF($B$1:B549,TRUE))","v":414},{"$f":"Worksheet!$D$14","v":true},{"$f":"RANDBETWEEN(5,RANDBETWEEN(5,Worksheet!$D$6))","v":56},"litres","±",{"$f":"IF(I549=1,H549*10^RANDBETWEEN(IF(Worksheet!$D$9,-1,0),0),IF(I549=2,H549*10^RANDBETWEEN(RANDBETWEEN(0,2),2),CHOOSE(RANDBETWEEN(1,3),5,10,20)))","v":5},{"$f":"IF(I549=1,D549,IF(I549=3,\"%\",\"cm³\"))","v":"%"},2,{"$f":"IF(AND(Worksheet!$D$8,RAND()<0.2),3,IF(RAND()<Worksheet!$D$7/100,1,2))","v":3},{"$f":"IF(I549=1,C549-F549,IF(I549=2,C549-F549/1000,IF(I549=3,(1-F549/100)*C549,\"\")))","v":53.199999999999996}," litres",{"$f":"J549*1000","v":53199.999999999993},"cm³",{"$f":"IF(I549=1,C549+F549,IF(I549=2,C549+F549/1000,IF(I549=3,(1+F549/100)*C549,\"\")))","v":58.800000000000004},"  litres",{"$f":"N549*1000","v":58800.000000000007},"cm³"]
[{"$f":"IF(COUNTIF($B$1:B550,TRUE)=COUNTIF($B$1:B549,TRUE),\"\",COUNTIF($B$1:B550,TRUE))","v":""},{"$f":"Worksheet!$D$15","v":false},{"$f":"RANDBETWEEN(5,20)","v":11},"min","±",{"$f":"IF(I550=1,H550*10^RANDBETWEEN(IF(Worksheet!$D$9,-1,0),0),IF(I550=2,H550,CHOOSE(RANDBETWEEN(1,3),5,10,20)))","v":0.1},{"$f":"IF(I550=1,D550,IF(I550=3,\"%\",\"sec\"))","v":"min"},1,{"$f":"IF(AND(Worksheet!$D$8,RAND()<0),3,IF(RAND()<Worksheet!$D$7/100,1,2))","v":1},null," min",{"$f":"IF(I550=1,C550-F550,IF(I550=2,C550*60-F550,\"\"))","v":10.9},{"$f":"IF($I550=1,\" hours\",\" min\")","v":" hours"},null,"  min",{"$f":"IF(I550=1,C550+F550,IF(I550=2,C550*60+F550,\"\"))","v":11.1},{"$f":"IF($I550=1,\" hours\",\" min\")","v":" hours"}]
[{"$f":"COUNTIF($B$1:B551,TRUE)","v":415},{"$f":"Worksheet!$B$11","v":true},{"$f":"RANDBETWEEN(5,RANDBETWEEN(5,Worksheet!$D$6))","v":116},"cm","±",{"$f":"IF(I551=1,H551*10^RANDBETWEEN(IF(Worksheet!$D$9,-1,0),0),IF(I551=2,H551,CHOOSE(RANDBETWEEN(1,3),5,10,20)))","v":7},{"$f":"IF(I551=1,D551,IF(I551=3,\"%\",\"mm\"))","v":"cm"},{"$f":"RANDBETWEEN(1,MIN(9,C551))","v":7},{"$f":"IF(AND(Worksheet!$D$8,RAND()<0.2),3,IF(RAND()<Worksheet!$D$7/100,1,2))","v":1},{"$f":"IF(I551=1,C551-F551,IF(I551=2,C551-F551/10,IF(I551=3,(1-F551/100)*C551,\"\")))","v":109},{"$f":"CONCATENATE(\" \",D551)","v":" cm"},{"$f":"J551*10","v":1090},"mm",{"$f":"IF(I551=1,C551+F551,IF(I551=2,C551+F551/10,IF(I551=3,(1+F551/100)*C551,\"\")))","v":123},{"$f":"CONCATENATE(\" \",K551)","v":"  cm"},{"$f":"N551*10","v":1230},"mm"]
[{"$f":"IF(COUNTIF($B$1:B552,TRUE)=COUNTIF($B$1:B551,TRUE),\"\",COUNTIF($B$1:B552,TRUE))","v":416},{"$f":"Worksheet!$B$12","v":true},{"$f":"RANDBETWEEN(5,RANDBETWEEN(5,Worksheet!$D$6))","v":324},"m","±",{"$f":"IF(I552=1,H552*10^RANDBETWEEN(IF(Worksheet!$D$9,-1,0),0),IF(I552=2,H552*10^RANDBETWEEN(RANDBETWEEN(0,1),1),CHOOSE(RANDBETWEEN(1,3),5,10,20)))","v":2},{"$f":"IF(I552=1,D552,IF(I552=3,\"%\",\"cm\"))","v":"m"},{"$f":"RANDBETWEEN(1,MIN(9,C552))","v":2},{"$f":"IF(AND(Worksheet!$D$8,RAND()<0.2),3,IF(RAND()<Worksheet!$D$7/100,1,2))","v":1},{"$f":"IF(I552=1,C552-F552,IF(I552=2,C552-F552/100,IF(I552=3,(1-F552/100)*C552,\"\")))","v":322},{"$f":"CONCATENATE(\" \",D552)","v":" m"},{"$f":"J552*100","v":32200},"cm",{"$f":"IF(I552=1,C552+F552,IF(I552=2,C552+F552/100,IF(I552=3,(1+F552/100)*C552,\"\")))","v":326},{"$f":"CONCATENATE(\" \",K552)","v":"  m"},{"$f":"N552*100","v":32600},"cm"]
[{"$f":"IF(COUNTIF($B$1:B553,TRUE)=COUNTIF($B$1:B552,TRUE),\"\",COUNTIF($B$1:B553,TRUE))","v":417},{"$f":"Worksheet!$B$13","v":true},{"$f":"RANDBETWEEN(5,RANDBETWEEN(5,Worksheet!$D$6))","v":83},"km","±",{"$f":"IF(I553=1,H553*10^RANDBETWEEN(IF(Worksheet!$D$9,-1,0),0),IF(I553=2,H553*10^RANDBETWEEN(RANDBETWEEN(0,2),2),CHOOSE(RANDBETWEEN(1,3),5,10,20)))","v":4},{"$f":"IF(I553=1,D553,IF(I553=3,\"%\",\"m\"))","v":"km"},4,{"$f":"IF(AND(Worksheet!$D$8,RAND()<0.2),3,IF(RAND()<Worksheet!$D$7/100,1,2))","v":1},{"$f":"IF(I553=1,C553-F553,IF(I553=2,C553-F553/1000,IF(I553=3,(1-F553/100)*C553,\"\")))","v":79}," km",{"$f":"J553*1000","v":79000},"m",{"$f":"IF(I553=1,C553+F553,IF(I553=2,C553+F553/1000,IF(I553=3,(1+F553/100)*C553,\"\")))","v":87},"  km",{"$f":"N553*1000","v":87000},"m"]
[{"$f":"IF(COUNTIF($B$1:B554,TRUE)=COUNTIF($B$1:B553,TRUE),\"\",COUNTIF($B$1:B554,TRUE))","v":""},{"$f":"Worksheet!$B$14","v":false},{"$f":"RANDBETWEEN(5,RANDBETWEEN(5,Worksheet!$D$6))","v":8},"m","±",{"$f":"IF(I554=1,H554*10^RANDBETWEEN(IF(Worksheet!$D$9,-1,0),0),IF(I554=2,H554*10^RANDBETWEEN(RANDBETWEEN(0,2),2),CHOOSE(RANDBETWEEN(1,3),5,10,20)))","v":0.8},{"$f":"IF(I554=1,D554,IF(I554=3,\"%\",\"mm\"))","v":"m"},8,{"$f":"IF(AND(Worksheet!$D$8,RAND()<0.2),3,IF(RAND()<Worksheet!$D$7/100,1,2))","v":1},{"$f":"IF(I554=1,C554-F554,IF(I554=2,C554-F554/1000,IF(I554=3,(1-F554/100)*C554,\"\")))","v":7.2}," m",{"$f":"J554*1000","v":7200},"mm",{"$f":"IF(I554=1,C554+F554,IF(I554=2,C554+F554/1000,IF(I554=3,(1+F554/100)*C554,\"\")))","v":8.8000000000000007},"  m",{"$f":"N554*1000","v":8800},"mm"]
[{"$f":"IF(COUNTIF($B$1:B555,TRUE)=COUNTIF($B$1:B554,TRUE),\"\",COUNTIF($B$1:B555,TRUE))","v":418},{"$f":"Worksheet!$B$15","v":true},{"$f":"RANDBETWEEN(5,20)","v":19},"hours","±",{"$f":"IF(I555=1,H555*10^RANDBETWEEN(IF(Worksheet!$D$9,-1,0),0),IF(I555=2,H555,CHOOSE(RANDBETWEEN(1,3),5,10,20)))","v":4},{"$f":"IF(I555=1,D555,IF(I555=3,\"%\",\"min\"))","v":"hours"},4,{"$f":"IF(AND(Worksheet!$D$8,RAND()<0),3,IF(RAND()<Worksheet!$D$7/100,1,2))","v":1},null," hours",{"$f":"IF(I555=1,C555-F555,IF(I555=2,C555*60-F555,\"\"))","v":15},{"$f":"IF($I555=1,\" hours\",\" min\")","v":" hours"},null,"  hours",{"$f":"IF(I555=1,C555+F555,IF(I555=2,C555*60+F555,\"\"))","v":23},{"$f":"IF($I555=1,\" hours\",\" min\")","v":" hours"}]
[{"$f":"IF(COUNTIF($B$1:B556,TRUE)=COUNTIF($B$1:B555,TRUE),\"\",COUNTIF($B$1:B556,TRUE))","v":419},{"$f":"Worksheet!$D$11","v":true},{"$f":"RANDBETWEEN(5,RANDBETWEEN(5,Worksheet!$D$6))","v":243},"kg","±",{"$f":"IF(I556=1,H556*10^RANDBETWEEN(IF(Worksheet!$D$9,-1,0),0),IF(I556=2,H556*10^RANDBETWEEN(RANDBETWEEN(0,2),2),CHOOSE(RANDBETWEEN(1,3),5,10,20)))","v":600},{"$f":"IF(I556=1,D556,IF(I556=3,\"%\",\"g\"))","v":"g"},6,{"$f":"IF(AND(Worksheet!$D$8,RAND()<0.2),3,IF(RAND()<Worksheet!$D$7/100,1,2))","v":2},{"$f":"IF(I556=1,C556-F556,IF(I556=2,C556-F556/1000,IF(I556=3,(1-F556/100)*C556,\"\")))","v":242.4}," kg",{"$f":"J556*1000","v":242400},"g",{"$f":"IF(I556=1,C556+F556,IF(I556=2,C556+F556/1000,IF(I556=3,(1+F556/100)*C556,\"\")))","v":243.6},"  kg",{"$f":"N556*1000","v":243600},"g"]
[{"$f":"IF(COUNTIF($B$1:B557,TRUE)=COUNTIF($B$1:B556,TRUE),\"\",COUNTIF($B$1:B557,TRUE))","v":420},{"$f":"Worksheet!$D$12","v":true},{"$f":"RANDBETWEEN(5,RANDBETWEEN(5,Worksheet!$D$6))","v":52},"tonnes","±",{"$f":"IF(I557=1,H557*10^RANDBETWEEN(IF(Worksheet!$D$9,-1,0),0),IF(I557=2,H557*10^RANDBETWEEN(RANDBETWEEN(0,2),2),CHOOSE(RANDBETWEEN(1,3),5,10,20)))","v":4},{"$f":"IF(I557=1,D557,IF(I557=3,\"%\",\"kg\"))","v":"tonnes"},4,{"$f":"IF(AND(Worksheet!$D$8,RAND()<0.2),3,IF(RAND()<Worksheet!$D$7/100,1,2))","v":1},{"$f":"IF(I557=1,C557-F557,IF(I557=2,C557-F557/1000,IF(I557=3,(1-F557/100)*C557,\"\")))","v":48}," tonnes",{"$f":"J557*1000","v":48000},"kg",{"$f":"IF(I557=1,C557+F557,IF(I557=2,C557+F557/1000,IF(I557=3,(1+F557/100)*C557,\"\")))","v":56},"  tonnes",{"$f":"N557*1000","v":56000},"kg"]
[{"$f":"IF(COUNTIF($B$1:B558,TRUE)=COUNTIF($B$1:B557,TRUE),\"\",COUNTIF($B$1:B558,TRUE))","v":421},{"$f":"Worksheet!$D$13","v":true},{"$f":"RANDBETWEEN(5,RANDBETWEEN(5,Worksheet!$D$6))","v":73},"litres","±",{"$f":"IF(I558=1,H558*10^RANDBETWEEN(IF(Worksheet!$D$9,-1,0),0),IF(I558=2,H558*10^RANDBETWEEN(RANDBETWEEN(0,2),2),CHOOSE(RANDBETWEEN(1,3),5,10,20)))","v":0.2},{"$f":"IF(I558=1,D558,IF(I558=3,\"%\",\"ml\"))","v":"litres"},2,{"$f":"IF(AND(Worksheet!$D$8,RAND()<0.2),3,IF(RAND()<Worksheet!$D$7/100,1,2))","v":1},{"$f":"IF(I558=1,C558-F558,IF(I558=2,C558-F558/1000,IF(I558=3,(1-F558/100)*C558,\"\")))","v":72.8}," litres",{"$f":"J558*1000","v":72800},"ml",{"$f":"IF(I558=1,C558+F558,IF(I558=2,C558+F558/1000,IF(I558=3,(1+F558/100)*C558,\"\")))","v":73.2},"  litres",{"$f":"N558*1000","v":73200},"ml"]
[{"$f":"IF(COUNTIF($B$1:B559,TRUE)=COUNTIF($B$1:B558,TRUE),\"\",COUNTIF($B$1:B559,TRUE))","v":422},{"$f":"Worksheet!$D$14","v":true},{"$f":"RANDBETWEEN(5,RANDBETWEEN(5,Worksheet!$D$6))","v":208},"litres","±",{"$f":"IF(I559=1,H559*10^RANDBETWEEN(IF(Worksheet!$D$9,-1,0),0),IF(I559=2,H559*10^RANDBETWEEN(RANDBETWEEN(0,2),2),CHOOSE(RANDBETWEEN(1,3),5,10,20)))","v":5},{"$f":"IF(I559=1,D559,IF(I559=3,\"%\",\"cm³\"))","v":"%"},2,{"$f":"IF(AND(Worksheet!$D$8,RAND()<0.2),3,IF(RAND()<Worksheet!$D$7/100,1,2))","v":3},{"$f":"IF(I559=1,C559-F559,IF(I559=2,C559-F559/1000,IF(I559=3,(1-F559/100)*C559,\"\")))","v":197.6}," litres",{"$f":"J559*1000","v":197600},"cm³",{"$f":"IF(I559=1,C559+F559,IF(I559=2,C559+F559/1000,IF(I559=3,(1+F559/100)*C559,\"\")))","v":218.4},"  litres",{"$f":"N559*1000","v":218400},"cm³"]
[{"$f":"IF(COUNTIF($B$1:B560,TRUE)=COUNTIF($B$1:B559,TRUE),\"\",COUNTIF($B$1:B560,TRUE))","v":""},{"$f":"Worksheet!$D$15","v":false},{"$f":"RANDBETWEEN(5,20)","v":18},"min","±",{"$f":"IF(I560=1,H560*10^RANDBETWEEN(IF(Worksheet!$D$9,-1,0),0),IF(I560=2,H560,CHOOSE(RANDBETWEEN(1,3),5,10,20)))","v":0.8},{"$f":"IF(I560=1,D560,IF(I560=3,\"%\",\"sec\"))","v":"min"},8,{"$f":"IF(AND(Worksheet!$D$8,RAND()<0),3,IF(RAND()<Worksheet!$D$7/100,1,2))","v":1},null," min",{"$f":"IF(I560=1,C560-F560,IF(I560=2,C560*60-F560,\"\"))","v":17.2},{"$f":"IF($I560=1,\" hours\",\" min\")","v":" hours"},null,"  min",{"$f":"IF(I560=1,C560+F560,IF(I560=2,C560*60+F560,\"\"))","v":18.8},{"$f":"IF($I560=1,\" hours\",\" min\")","v":" hours"}]
[{"$f":"COUNTIF($B$1:B561,TRUE)","v":423},{"$f":"Worksheet!$B$11","v":true},{"$f":"RANDBETWEEN(5,RANDBETWEEN(5,Worksheet!$D$6))","v":238},"cm","±",{"$f":"IF(I561=1,H561*10^RANDBETWEEN(IF(Worksheet!$D$9,-1,0),0),IF(I561=2,H561,CHOOSE(RANDBETWEEN(1,3),5,10,20)))","v":7},{"$f":"IF(I561=1,D561,IF(I561=3,\"%\",\"mm\"))","v":"cm"},{"$f":"RANDBETWEEN(1,MIN(9,C561))","v":7},{"$f":"IF(AND(Worksheet!$D$8,RAND()<0.2),3,IF(RAND()<Worksheet!$D$7/100,1,2))","v":1},{"$f":"IF(I561=1,C561-F561,IF(I561=2,C561-F561/10,IF(I561=3,(1-F561/100)*C561,\"\")))","v":231},{"$f":"CONCATENATE(\" \",D561)","v":" cm"},{"$f":"J561*10","v":2310},"mm",{"$f":"IF(I561=1,C561+F561,IF(I561=2,C561+F561/10,IF(I561=3,(1+F561/100)*C561,\"\")))","v":245},{"$f":"CONCATENATE(\" \",K561)","v":"  cm"},{"$f":"N561*10","v":2450},"mm"]
[{"$f":"IF(COUNTIF($B$1:B562,TRUE)=COUNTIF($B$1:B561,TRUE),\"\",COUNTIF($B$1:B562,TRUE))","v":424},{"$f":"Worksheet!$B$12","v":true},{"$f":"RANDBETWEEN(5,RANDBETWEEN(5,Worksheet!$D$6))","v":237},"m","±",{"$f":"IF(I562=1,H562*10^RANDBETWEEN(IF(Worksheet!$D$9,-1,0),0),IF(I562=2,H562*10^RANDBETWEEN(RANDBETWEEN(0,1),1),CHOOSE(RANDBETWEEN(1,3),5,10,20)))","v":7},{"$f":"IF(I562=1,D562,IF(I562=3,\"%\",\"cm\"))","v":"m"},{"$f":"RANDBETWEEN(1,MIN(9,C562))","v":7},{"$f":"IF(AND(Worksheet!$D$8,RAND()<0.2),3,IF(RAND()<Worksheet!$D$7/100,1,2))","v":1},{"$f":"IF(I562=1,C562-F562,IF(I562=2,C562-F562/100,IF(I562=3,(1-F562/100)*C562,\"\")))","v":230},{"$f":"CONCATENATE(\" \",D562)","v":" m"},{"$f":"J562*100","v":23000},"cm",{"$f":"IF(I562=1,C562+F562,IF(I562=2,C562+F562/100,IF(I562=3,(1+F562/100)*C562,\"\")))","v":244},{"$f":"CONCATENATE(\" \",K562)","v":"  m"},{"$f":"N562*100","v":24400},"cm"]
[{"$f":"IF(COUNTIF($B$1:B563,TRUE)=COUNTIF($B$1:B562,TRUE),\"\",COUNTIF($B$1:B563,TRUE))","v":425},{"$f":"Worksheet!$B$13","v":true},{"$f":"RANDBETWEEN(5,RANDBETWEEN(5,Worksheet!$D$6))","v":206},"km","±",{"$f":"IF(I563=1,H563*10^RANDBETWEEN(IF(Worksheet!$D$9,-1,0),0),IF(I563=2,H563*10^RANDBETWEEN(RANDBETWEEN(0,2),2),CHOOSE(RANDBETWEEN(1,3),5,10,20)))","v":6},{"$f":"IF(I563=1,D563,IF(I563=3,\"%\",\"m\"))","v":"km"},6,{"$f":"IF(AND(Worksheet!$D$8,RAND()<0.2),3,IF(RAND()<Worksheet!$D$7/100,1,2))","v":1},{"$f":"IF(I563=1,C563-F563,IF(I563=2,C563-F563/1000,IF(I563=3,(1-F563/100)*C563,\"\")))","v":200}," km",{"$f":"J563*1000","v":200000},"m",{"$f":"IF(I563=1,C563+F563,IF(I563=2,C563+F563/1000,IF(I563=3,(1+F563/100)*C563,\"\")))","v":212},"  km",{"$f":"N563*1000","v":212000},"m"]
[{"$f":"IF(COUNTIF($B$1:B564,TRUE)=COUNTIF($B$1:B563,TRUE),\"\",COUNTIF($B$1:B564,TRUE))","v":""},{"$f":"Worksheet!$B$14","v":false},{"$f":"RANDBETWEEN(5,RANDBETWEEN(5,Worksheet!$D$6))","v":56},"m","±",{"$f":"IF(I564=1,H564*10^RANDBETWEEN(IF(Worksheet!$D$9,-1,0),0),IF(I564=2,H564*10^RANDBETWEEN(RANDBETWEEN(0,2),2),CHOOSE(RANDBETWEEN(1,3),5,10,20)))","v":0.70000000000000007},{"$f":"IF(I564=1,D564,IF(I564=3,\"%\",\"mm\"))","v":"m"},7,{"$f":"IF(AND(Worksheet!$D$8,RAND()<0.2),3,IF(RAND()<Worksheet!$D$7/100,1,2))","v":1},{"$f":"IF(I564=1,C564-F564,IF(I564=2,C564-F564/1000,IF(I564=3,(1-F564/100)*C564,\"\")))","v":55.3}," m",{"$f":"J564*1000","v":55300},"mm",{"$f":"IF(I564=1,C564+F564,IF(I564=2,C564+F564/1000,IF(I564=3,(1+F564/100)*C564,\"\")))","v":56.7},"  m",{"$f":"N564*1000","v":56700},"mm"]
[{"$f":"IF(COUNTIF($B$1:B565,TRUE)=COUNTIF($B$1:B564,TRUE),\"\",COUNTIF($B$1:B565,TRUE))","v":426},{"$f":"Worksheet!$B$15","v":true},{"$f":"RANDBETWEEN(5,20)","v":15},"hours","±",{"$f":"IF(I565=1,H565*10^RANDBETWEEN(IF(Worksheet!$D$9,-1,0),0),IF(I565=2,H565,CHOOSE(RANDBETWEEN(1,3),5,10,20)))","v":3},{"$f":"IF(I565=1,D565,IF(I565=3,\"%\",\"min\"))","v":"hours"},3,{"$f":"IF(AND(Worksheet!$D$8,RAND()<0),3,IF(RAND()<Worksheet!$D$7/100,1,2))","v":1},null," hours",{"$f":"IF(I565=1,C565-F565,IF(I565=2,C565*60-F565,\"\"))","v":12},{"$f":"IF($I565=1,\" hours\",\" min\")","v":" hours"},null,"  hours",{"$f":"IF(I565=1,C565+F565,IF(I565=2,C565*60+F565,\"\"))","v":18},{"$f":"IF($I565=1,\" hours\",\" min\")","v":" hours"}]
[{"$f":"IF(COUNTIF($B$1:B566,TRUE)=COUNTIF($B$1:B565,TRUE),\"\",COUNTIF($B$1:B566,TRUE))","v":427},{"$f":"Worksheet!$D$11","v":true},{"$f":"RANDBETWEEN(5,RANDBETWEEN(5,Worksheet!$D$6))","v":26},"kg","±",{"$f":"IF(I566=1,H566*10^RANDBETWEEN(IF(Worksheet!$D$9,-1,0),0),IF(I566=2,H566*10^RANDBETWEEN(RANDBETWEEN(0,2),2),CHOOSE(RANDBETWEEN(1,3),5,10,20)))","v":0.4},{"$f":"IF(I566=1,D566,IF(I566=3,\"%\",\"g\"))","v":"kg"},4,{"$f":"IF(AND(Worksheet!$D$8,RAND()<0.2),3,IF(RAND()<Worksheet!$D$7/100,1,2))","v":1},{"$f":"IF(I566=1,C566-F566,IF(I566=2,C566-F566/1000,IF(I566=3,(1-F566/100)*C566,\"\")))","v":25.6}," kg",{"$f":"J566*1000","v":25600},"g",{"$f":"IF(I566=1,C566+F566,IF(I566=2,C566+F566/1000,IF(I566=3,(1+F566/100)*C566,\"\")))","v":26.4},"  kg",{"$f":"N566*1000","v":26400},"g"]
[{"$f":"IF(COUNTIF($B$1:B567,TRUE)=COUNTIF($B$1:B566,TRUE),\"\",COUNTIF($B$1:B567,TRUE))","v":428},{"$f":"Worksheet!$D$12","v":true},{"$f":"RANDBETWEEN(5,RANDBETWEEN(5,Worksheet!$D$6))","v":18},"tonnes","±",{"$f":"IF(I567=1,H567*10^RANDBETWEEN(IF(Worksheet!$D$9,-1,0),0),IF(I567=2,H567*10^RANDBETWEEN(RANDBETWEEN(0,2),2),CHOOSE(RANDBETWEEN(1,3),5,10,20)))","v":0.1},{"$f":"IF(I567=1,D567,IF(I567=3,\"%\",\"kg\"))","v":"tonnes"},1,{"$f":"IF(AND(Worksheet!$D$8,RAND()<0.2),3,IF(RAND()<Worksheet!$D$7/100,1,2))","v":1},{"$f":"IF(I567=1,C567-F567,IF(I567=2,C567-F567/1000,IF(I567=3,(1-F567/100)*C567,\"\")))","v":17.899999999999999}," tonnes",{"$f":"J567*1000","v":17900},"kg",{"$f":"IF(I567=1,C567+F567,IF(I567=2,C567+F567/1000,IF(I567=3,(1+F567/100)*C567,\"\")))","v":18.100000000000001},"  tonnes",{"$f":"N567*1000","v":18100},"kg"]
[{"$f":"IF(COUNTIF($B$1:B568,TRUE)=COUNTIF($B$1:B567,TRUE),\"\",COUNTIF($B$1:B568,TRUE))","v":429},{"$f":"Worksheet!$D$13","v":true},{"$f":"RANDBETWEEN(5,RANDBETWEEN(5,Worksheet!$D$6))","v":74},"litres","±",{"$f":"IF(I568=1,H568*10^RANDBETWEEN(IF(Worksheet!$D$9,-1,0),0),IF(I568=2,H568*10^RANDBETWEEN(RANDBETWEEN(0,2),2),CHOOSE(RANDBETWEEN(1,3),5,10,20)))","v":800},{"$f":"IF(I568=1,D568,IF(I568=3,\"%\",\"ml\"))","v":"ml"},8,{"$f":"IF(AND(Worksheet!$D$8,RAND()<0.2),3,IF(RAND()<Worksheet!$D$7/100,1,2))","v":2},{"$f":"IF(I568=1,C568-F568,IF(I568=2,C568-F568/1000,IF(I568=3,(1-F568/100)*C568,\"\")))","v":73.2}," litres",{"$f":"J568*1000","v":73200},"ml",{"$f":"IF(I568=1,C568+F568,IF(I568=2,C568+F568/1000,IF(I568=3,(1+F568/100)*C568,\"\")))","v":74.8},"  litres",{"$f":"N568*1000","v":74800},"ml"]
[{"$f":"IF(COUNTIF($B$1:B569,TRUE)=COUNTIF($B$1:B568,TRUE),\"\",COUNTIF($B$1:B569,TRUE))","v":430},{"$f":"Worksheet!$D$14","v":true},{"$f":"RANDBETWEEN(5,RANDBETWEEN(5,Worksheet!$D$6))","v":164},"litres","±",{"$f":"IF(I569=1,H569*10^RANDBETWEEN(IF(Worksheet!$D$9,-1,0),0),IF(I569=2,H569*10^RANDBETWEEN(RANDBETWEEN(0,2),2),CHOOSE(RANDBETWEEN(1,3),5,10,20)))","v":0.9},{"$f":"IF(I569=1,D569,IF(I569=3,\"%\",\"cm³\"))","v":"litres"},9,{"$f":"IF(AND(Worksheet!$D$8,RAND()<0.2),3,IF(RAND()<Worksheet!$D$7/100,1,2))","v":1},{"$f":"IF(I569=1,C569-F569,IF(I569=2,C569-F569/1000,IF(I569=3,(1-F569/100)*C569,\"\")))","v":163.1}," litres",{"$f":"J569*1000","v":163100},"cm³",{"$f":"IF(I569=1,C569+F569,IF(I569=2,C569+F569/1000,IF(I569=3,(1+F569/100)*C569,\"\")))","v":164.9},"  litres",{"$f":"N569*1000","v":164900},"cm³"]
[{"$f":"IF(COUNTIF($B$1:B570,TRUE)=COUNTIF($B$1:B569,TRUE),\"\",COUNTIF($B$1:B570,TRUE))","v":""},{"$f":"Worksheet!$D$15","v":false},{"$f":"RANDBETWEEN(5,20)","v":11},"min","±",{"$f":"IF(I570=1,H570*10^RANDBETWEEN(IF(Worksheet!$D$9,-1,0),0),IF(I570=2,H570,CHOOSE(RANDBETWEEN(1,3),5,10,20)))","v":6},{"$f":"IF(I570=1,D570,IF(I570=3,\"%\",\"sec\"))","v":"min"},6,{"$f":"IF(AND(Worksheet!$D$8,RAND()<0),3,IF(RAND()<Worksheet!$D$7/100,1,2))","v":1},null," min",{"$f":"IF(I570=1,C570-F570,IF(I570=2,C570*60-F570,\"\"))","v":5},{"$f":"IF($I570=1,\" hours\",\" min\")","v":" hours"},null,"  min",{"$f":"IF(I570=1,C570+F570,IF(I570=2,C570*60+F570,\"\"))","v":17},{"$f":"IF($I570=1,\" hours\",\" min\")","v":" hours"}]
[{"$f":"COUNTIF($B$1:B571,TRUE)","v":431},{"$f":"Worksheet!$B$11","v":true},{"$f":"RANDBETWEEN(5,RANDBETWEEN(5,Worksheet!$D$6))","v":13},"cm","±",{"$f":"IF(I571=1,H571*10^RANDBETWEEN(IF(Worksheet!$D$9,-1,0),0),IF(I571=2,H571,CHOOSE(RANDBETWEEN(1,3),5,10,20)))","v":9},{"$f":"IF(I571=1,D571,IF(I571=3,\"%\",\"mm\"))","v":"cm"},{"$f":"RANDBETWEEN(1,MIN(9,C571))","v":9},{"$f":"IF(AND(Worksheet!$D$8,RAND()<0.2),3,IF(RAND()<Worksheet!$D$7/100,1,2))","v":1},{"$f":"IF(I571=1,C571-F571,IF(I571=2,C571-F571/10,IF(I571=3,(1-F571/100)*C571,\"\")))","v":4},{"$f":"CONCATENATE(\" \",D571)","v":" cm"},{"$f":"J571*10","v":40},"mm",{"$f":"IF(I571=1,C571+F571,IF(I571=2,C571+F571/10,IF(I571=3,(1+F571/100)*C571,\"\")))","v":22},{"$f":"CONCATENATE(\" \",K571)","v":"  cm"},{"$f":"N571*10","v":220},"mm"]
[{"$f":"IF(COUNTIF($B$1:B572,TRUE)=COUNTIF($B$1:B571,TRUE),\"\",COUNTIF($B$1:B572,TRUE))","v":432},{"$f":"Worksheet!$B$12","v":true},{"$f":"RANDBETWEEN(5,RANDBETWEEN(5,Worksheet!$D$6))","v":205},"m","±",{"$f":"IF(I572=1,H572*10^RANDBETWEEN(IF(Worksheet!$D$9,-1,0),0),IF(I572=2,H572*10^RANDBETWEEN(RANDBETWEEN(0,1),1),CHOOSE(RANDBETWEEN(1,3),5,10,20)))","v":2},{"$f":"IF(I572=1,D572,IF(I572=3,\"%\",\"cm\"))","v":"m"},{"$f":"RANDBETWEEN(1,MIN(9,C572))","v":2},{"$f":"IF(AND(Worksheet!$D$8,RAND()<0.2),3,IF(RAND()<Worksheet!$D$7/100,1,2))","v":1},{"$f":"IF(I572=1,C572-F572,IF(I572=2,C572-F572/100,IF(I572=3,(1-F572/100)*C572,\"\")))","v":203},{"$f":"CONCATENATE(\" \",D572)","v":" m"},{"$f":"J572*100","v":20300},"cm",{"$f":"IF(I572=1,C572+F572,IF(I572=2,C572+F572/100,IF(I572=3,(1+F572/100)*C572,\"\")))","v":207},{"$f":"CONCATENATE(\" \",K572)","v":"  m"},{"$f":"N572*100","v":20700},"cm"]
[{"$f":"IF(COUNTIF($B$1:B573,TRUE)=COUNTIF($B$1:B572,TRUE),\"\",COUNTIF($B$1:B573,TRUE))","v":433},{"$f":"Worksheet!$B$13","v":true},{"$f":"RANDBETWEEN(5,RANDBETWEEN(5,Worksheet!$D$6))","v":206},"km","±",{"$f":"IF(I573=1,H573*10^RANDBETWEEN(IF(Worksheet!$D$9,-1,0),0),IF(I573=2,H573*10^RANDBETWEEN(RANDBETWEEN(0,2),2),CHOOSE(RANDBETWEEN(1,3),5,10,20)))","v":0.4},{"$f":"IF(I573=1,D573,IF(I573=3,\"%\",\"m\"))","v":"km"},4,{"$f":"IF(AND(Worksheet!$D$8,RAND()<0.2),3,IF(RAND()<Worksheet!$D$7/100,1,2))","v":1},{"$f":"IF(I573=1,C573-F573,IF(I573=2,C573-F573/1000,IF(I573=3,(1-F573/100)*C573,\"\")))","v":205.6}," km",{"$f":"J573*1000","v":205600},"m",{"$f":"IF(I573=1,C573+F573,IF(I573=2,C573+F573/1000,IF(I573=3,(1+F573/100)*C573,\"\")))","v":206.4},"  km",{"$f":"N573*1000","v":206400},"m"]
[{"$f":"IF(COUNTIF($B$1:B574,TRUE)=COUNTIF($B$1:B573,TRUE),\"\",COUNTIF($B$1:B574,TRUE))","v":""},{"$f":"Worksheet!$B$14","v":false},{"$f":"RANDBETWEEN(5,RANDBETWEEN(5,Worksheet!$D$6))","v":20},"m","±",{"$f":"IF(I574=1,H574*10^RANDBETWEEN(IF(Worksheet!$D$9,-1,0),0),IF(I574=2,H574*10^RANDBETWEEN(RANDBETWEEN(0,2),2),CHOOSE(RANDBETWEEN(1,3),5,10,20)))","v":1},{"$f":"IF(I574=1,D574,IF(I574=3,\"%\",\"mm\"))","v":"m"},1,{"$f":"IF(AND(Worksheet!$D$8,RAND()<0.2),3,IF(RAND()<Worksheet!$D$7/100,1,2))","v":1},{"$f":"IF(I574=1,C574-F574,IF(I574=2,C574-F574/1000,IF(I574=3,(1-F574/100)*C574,\"\")))","v":19}," m",{"$f":"J574*1000","v":19000},"mm",{"$f":"IF(I574=1,C574+F574,IF(I574=2,C574+F574/1000,IF(I574=3,(1+F574/100)*C574,\"\")))","v":21},"  m",{"$f":"N574*1000","v":21000},"mm"]
[{"$f":"IF(COUNTIF($B$1:B575,TRUE)=COUNTIF($B$1:B574,TRUE),\"\",COUNTIF($B$1:B575,TRUE))","v":434},{"$f":"Worksheet!$B$15","v":true},{"$f":"RANDBETWEEN(5,20)","v":11},"hours","±",{"$f":"IF(I575=1,H575*10^RANDBETWEEN(IF(Worksheet!$D$9,-1,0),0),IF(I575=2,H575,CHOOSE(RANDBETWEEN(1,3),5,10,20)))","v":6},{"$f":"IF(I575=1,D575,IF(I575=3,\"%\",\"min\"))","v":"min"},6,{"$f":"IF(AND(Worksheet!$D$8,RAND()<0),3,IF(RAND()<Worksheet!$D$7/100,1,2))","v":2},null," hours",{"$f":"IF(I575=1,C575-F575,IF(I575=2,C575*60-F575,\"\"))","v":654},{"$f":"IF($I575=1,\" hours\",\" min\")","v":" min"},null,"  hours",{"$f":"IF(I575=1,C575+F575,IF(I575=2,C575*60+F575,\"\"))","v":666},{"$f":"IF($I575=1,\" hours\",\" min\")","v":" min"}]
[{"$f":"IF(COUNTIF($B$1:B576,TRUE)=COUNTIF($B$1:B575,TRUE),\"\",COUNTIF($B$1:B576,TRUE))","v":435},{"$f":"Worksheet!$D$11","v":true},{"$f":"RANDBETWEEN(5,RANDBETWEEN(5,Worksheet!$D$6))","v":29},"kg","±",{"$f":"IF(I576=1,H576*10^RANDBETWEEN(IF(Worksheet!$D$9,-1,0),0),IF(I576=2,H576*10^RANDBETWEEN(RANDBETWEEN(0,2),2),CHOOSE(RANDBETWEEN(1,3),5,10,20)))","v":20},{"$f":"IF(I576=1,D576,IF(I576=3,\"%\",\"g\"))","v":"%"},6,{"$f":"IF(AND(Worksheet!$D$8,RAND()<0.2),3,IF(RAND()<Worksheet!$D$7/100,1,2))","v":3},{"$f":"IF(I576=1,C576-F576,IF(I576=2,C576-F576/1000,IF(I576=3,(1-F576/100)*C576,\"\")))","v":23.200000000000003}," kg",{"$f":"J576*1000","v":23200.000000000004},"g",{"$f":"IF(I576=1,C576+F576,IF(I576=2,C576+F576/1000,IF(I576=3,(1+F576/100)*C576,\"\")))","v":34.799999999999997},"  kg",{"$f":"N576*1000","v":34800},"g"]
[{"$f":"IF(COUNTIF($B$1:B577,TRUE)=COUNTIF($B$1:B576,TRUE),\"\",COUNTIF($B$1:B577,TRUE))","v":436},{"$f":"Worksheet!$D$12","v":true},{"$f":"RANDBETWEEN(5,RANDBETWEEN(5,Worksheet!$D$6))","v":58},"tonnes","±",{"$f":"IF(I577=1,H577*10^RANDBETWEEN(IF(Worksheet!$D$9,-1,0),0),IF(I577=2,H577*10^RANDBETWEEN(RANDBETWEEN(0,2),2),CHOOSE(RANDBETWEEN(1,3),5,10,20)))","v":0.2},{"$f":"IF(I577=1,D577,IF(I577=3,\"%\",\"kg\"))","v":"tonnes"},2,{"$f":"IF(AND(Worksheet!$D$8,RAND()<0.2),3,IF(RAND()<Worksheet!$D$7/100,1,2))","v":1},{"$f":"IF(I577=1,C577-F577,IF(I577=2,C577-F577/1000,IF(I577=3,(1-F577/100)*C577,\"\")))","v":57.8}," tonnes",{"$f":"J577*1000","v":57800},"kg",{"$f":"IF(I577=1,C577+F577,IF(I577=2,C577+F577/1000,IF(I577=3,(1+F577/100)*C577,\"\")))","v":58.2},"  tonnes",{"$f":"N577*1000","v":58200},"kg"]
[{"$f":"IF(COUNTIF($B$1:B578,TRUE)=COUNTIF($B$1:B577,TRUE),\"\",COUNTIF($B$1:B578,TRUE))","v":437},{"$f":"Worksheet!$D$13","v":true},{"$f":"RANDBETWEEN(5,RANDBETWEEN(5,Worksheet!$D$6))","v":42},"litres","±",{"$f":"IF(I578=1,H578*10^RANDBETWEEN(IF(Worksheet!$D$9,-1,0),0),IF(I578=2,H578*10^RANDBETWEEN(RANDBETWEEN(0,2),2),CHOOSE(RANDBETWEEN(1,3),5,10,20)))","v":0.60000000000000009},{"$f":"IF(I578=1,D578,IF(I578=3,\"%\",\"ml\"))","v":"litres"},6,{"$f":"IF(AND(Worksheet!$D$8,RAND()<0.2),3,IF(RAND()<Worksheet!$D$7/100,1,2))","v":1},{"$f":"IF(I578=1,C578-F578,IF(I578=2,C578-F578/1000,IF(I578=3,(1-F578/100)*C578,\"\")))","v":41.4}," litres",{"$f":"J578*1000","v":41400},"ml",{"$f":"IF(I578=1,C578+F578,IF(I578=2,C578+F578/1000,IF(I578=3,(1+F578/100)*C578,\"\")))","v":42.6},"  litres",{"$f":"N578*1000","v":42600},"ml"]
[{"$f":"IF(COUNTIF($B$1:B579,TRUE)=COUNTIF($B$1:B578,TRUE),\"\",COUNTIF($B$1:B579,TRUE))","v":438},{"$f":"Worksheet!$D$14","v":true},{"$f":"RANDBETWEEN(5,RANDBETWEEN(5,Worksheet!$D$6))","v":72},"litres","±",{"$f":"IF(I579=1,H579*10^RANDBETWEEN(IF(Worksheet!$D$9,-1,0),0),IF(I579=2,H579*10^RANDBETWEEN(RANDBETWEEN(0,2),2),CHOOSE(RANDBETWEEN(1,3),5,10,20)))","v":0.1},{"$f":"IF(I579=1,D579,IF(I579=3,\"%\",\"cm³\"))","v":"litres"},1,{"$f":"IF(AND(Worksheet!$D$8,RAND()<0.2),3,IF(RAND()<Worksheet!$D$7/100,1,2))","v":1},{"$f":"IF(I579=1,C579-F579,IF(I579=2,C579-F579/1000,IF(I579=3,(1-F579/100)*C579,\"\")))","v":71.900000000000006}," litres",{"$f":"J579*1000","v":71900},"cm³",{"$f":"IF(I579=1,C579+F579,IF(I579=2,C579+F579/1000,IF(I579=3,(1+F579/100)*C579,\"\")))","v":72.099999999999994},"  litres",{"$f":"N579*1000","v":72100},"cm³"]
[{"$f":"IF(COUNTIF($B$1:B580,TRUE)=COUNTIF($B$1:B579,TRUE),\"\",COUNTIF($B$1:B580,TRUE))","v":""},{"$f":"Worksheet!$D$15","v":false},{"$f":"RANDBETWEEN(5,20)","v":20},"min","±",{"$f":"IF(I580=1,H580*10^RANDBETWEEN(IF(Worksheet!$D$9,-1,0),0),IF(I580=2,H580,CHOOSE(RANDBETWEEN(1,3),5,10,20)))","v":6},{"$f":"IF(I580=1,D580,IF(I580=3,\"%\",\"sec\"))","v":"sec"},6,{"$f":"IF(AND(Worksheet!$D$8,RAND()<0),3,IF(RAND()<Worksheet!$D$7/100,1,2))","v":2},null," min",{"$f":"IF(I580=1,C580-F580,IF(I580=2,C580*60-F580,\"\"))","v":1194},{"$f":"IF($I580=1,\" hours\",\" min\")","v":" min"},null,"  min",{"$f":"IF(I580=1,C580+F580,IF(I580=2,C580*60+F580,\"\"))","v":1206},{"$f":"IF($I580=1,\" hours\",\" min\")","v":" min"}]
[{"$f":"COUNTIF($B$1:B581,TRUE)","v":439},{"$f":"Worksheet!$B$11","v":true},{"$f":"RANDBETWEEN(5,RANDBETWEEN(5,Worksheet!$D$6))","v":173},"cm","±",{"$f":"IF(I581=1,H581*10^RANDBETWEEN(IF(Worksheet!$D$9,-1,0),0),IF(I581=2,H581,CHOOSE(RANDBETWEEN(1,3),5,10,20)))","v":8},{"$f":"IF(I581=1,D581,IF(I581=3,\"%\",\"mm\"))","v":"mm"},{"$f":"RANDBETWEEN(1,MIN(9,C581))","v":8},{"$f":"IF(AND(Worksheet!$D$8,RAND()<0.2),3,IF(RAND()<Worksheet!$D$7/100,1,2))","v":2},{"$f":"IF(I581=1,C581-F581,IF(I581=2,C581-F581/10,IF(I581=3,(1-F581/100)*C581,\"\")))","v":172.2},{"$f":"CONCATENATE(\" \",D581)","v":" cm"},{"$f":"J581*10","v":1722},"mm",{"$f":"IF(I581=1,C581+F581,IF(I581=2,C581+F581/10,IF(I581=3,(1+F581/100)*C581,\"\")))","v":173.8},{"$f":"CONCATENATE(\" \",K581)","v":"  cm"},{"$f":"N581*10","v":1738},"mm"]
[{"$f":"IF(COUNTIF($B$1:B582,TRUE)=COUNTIF($B$1:B581,TRUE),\"\",COUNTIF($B$1:B582,TRUE))","v":440},{"$f":"Worksheet!$B$12","v":true},{"$f":"RANDBETWEEN(5,RANDBETWEEN(5,Worksheet!$D$6))","v":54},"m","±",{"$f":"IF(I582=1,H582*10^RANDBETWEEN(IF(Worksheet!$D$9,-1,0),0),IF(I582=2,H582*10^RANDBETWEEN(RANDBETWEEN(0,1),1),CHOOSE(RANDBETWEEN(1,3),5,10,20)))","v":0.60000000000000009},{"$f":"IF(I582=1,D582,IF(I582=3,\"%\",\"cm\"))","v":"m"},{"$f":"RANDBETWEEN(1,MIN(9,C582))","v":6},{"$f":"IF(AND(Worksheet!$D$8,RAND()<0.2),3,IF(RAND()<Worksheet!$D$7/100,1,2))","v":1},{"$f":"IF(I582=1,C582-F582,IF(I582=2,C582-F582/100,IF(I582=3,(1-F582/100)*C582,\"\")))","v":53.4},{"$f":"CONCATENATE(\" \",D582)","v":" m"},{"$f":"J582*100","v":5340},"cm",{"$f":"IF(I582=1,C582+F582,IF(I582=2,C582+F582/100,IF(I582=3,(1+F582/100)*C582,\"\")))","v":54.6},{"$f":"CONCATENATE(\" \",K582)","v":"  m"},{"$f":"N582*100","v":5460},"cm"]
[{"$f":"IF(COUNTIF($B$1:B583,TRUE)=COUNTIF($B$1:B582,TRUE),\"\",COUNTIF($B$1:B583,TRUE))","v":441},{"$f":"Worksheet!$B$13","v":true},{"$f":"RANDBETWEEN(5,RANDBETWEEN(5,Worksheet!$D$6))","v":19},"km","±",{"$f":"IF(I583=1,H583*10^RANDBETWEEN(IF(Worksheet!$D$9,-1,0),0),IF(I583=2,H583*10^RANDBETWEEN(RANDBETWEEN(0,2),2),CHOOSE(RANDBETWEEN(1,3),5,10,20)))","v":0.4},{"$f":"IF(I583=1,D583,IF(I583=3,\"%\",\"m\"))","v":"km"},4,{"$f":"IF(AND(Worksheet!$D$8,RAND()<0.2),3,IF(RAND()<Worksheet!$D$7/100,1,2))","v":1},{"$f":"IF(I583=1,C583-F583,IF(I583=2,C583-F583/1000,IF(I583=3,(1-F583/100)*C583,\"\")))","v":18.600000000000001}," km",{"$f":"J583*1000","v":18600},"m",{"$f":"IF(I583=1,C583+F583,IF(I583=2,C583+F583/1000,IF(I583=3,(1+F583/100)*C583,\"\")))","v":19.399999999999999},"  km",{"$f":"N583*1000","v":19400},"m"]
[{"$f":"IF(COUNTIF($B$1:B584,TRUE)=COUNTIF($B$1:B583,TRUE),\"\",COUNTIF($B$1:B584,TRUE))","v":""},{"$f":"Worksheet!$B$14","v":false},{"$f":"RANDBETWEEN(5,RANDBETWEEN(5,Worksheet!$D$6))","v":116},"m","±",{"$f":"IF(I584=1,H584*10^RANDBETWEEN(IF(Worksheet!$D$9,-1,0),0),IF(I584=2,H584*10^RANDBETWEEN(RANDBETWEEN(0,2),2),CHOOSE(RANDBETWEEN(1,3),5,10,20)))","v":0.4},{"$f":"IF(I584=1,D584,IF(I584=3,\"%\",\"mm\"))","v":"m"},4,{"$f":"IF(AND(Worksheet!$D$8,RAND()<0.2),3,IF(RAND()<Worksheet!$D$7/100,1,2))","v":1},{"$f":"IF(I584=1,C584-F584,IF(I584=2,C584-F584/1000,IF(I584=3,(1-F584/100)*C584,\"\")))","v":115.6}," m",{"$f":"J584*1000","v":115600},"mm",{"$f":"IF(I584=1,C584+F584,IF(I584=2,C584+F584/1000,IF(I584=3,(1+F584/100)*C584,\"\")))","v":116.4},"  m",{"$f":"N584*1000","v":116400},"mm"]
[{"$f":"IF(COUNTIF($B$1:B585,TRUE)=COUNTIF($B$1:B584,TRUE),\"\",COUNTIF($B$1:B585,TRUE))","v":442},{"$f":"Worksheet!$B$15","v":true},{"$f":"RANDBETWEEN(5,20)","v":8},"hours","±",{"$f":"IF(I585=1,H585*10^RANDBETWEEN(IF(Worksheet!$D$9,-1,0),0),IF(I585=2,H585,CHOOSE(RANDBETWEEN(1,3),5,10,20)))","v":1},{"$f":"IF(I585=1,D585,IF(I585=3,\"%\",\"min\"))","v":"min"},1,{"$f":"IF(AND(Worksheet!$D$8,RAND()<0),3,IF(RAND()<Worksheet!$D$7/100,1,2))","v":2},null," hours",{"$f":"IF(I585=1,C585-F585,IF(I585=2,C585*60-F585,\"\"))","v":479},{"$f":"IF($I585=1,\" hours\",\" min\")","v":" min"},null,"  hours",{"$f":"IF(I585=1,C585+F585,IF(I585=2,C585*60+F585,\"\"))","v":481},{"$f":"IF($I585=1,\" hours\",\" min\")","v":" min"}]
[{"$f":"IF(COUNTIF($B$1:B586,TRUE)=COUNTIF($B$1:B585,TRUE),\"\",COUNTIF($B$1:B586,TRUE))","v":443},{"$f":"Worksheet!$D$11","v":true},{"$f":"RANDBETWEEN(5,RANDBETWEEN(5,Worksheet!$D$6))","v":89},"kg","±",{"$f":"IF(I586=1,H586*10^RANDBETWEEN(IF(Worksheet!$D$9,-1,0),0),IF(I586=2,H586*10^RANDBETWEEN(RANDBETWEEN(0,2),2),CHOOSE(RANDBETWEEN(1,3),5,10,20)))","v":8},{"$f":"IF(I586=1,D586,IF(I586=3,\"%\",\"g\"))","v":"kg"},8,{"$f":"IF(AND(Worksheet!$D$8,RAND()<0.2),3,IF(RAND()<Worksheet!$D$7/100,1,2))","v":1},{"$f":"IF(I586=1,C586-F586,IF(I586=2,C586-F586/1000,IF(I586=3,(1-F586/100)*C586,\"\")))","v":81}," kg",{"$f":"J586*1000","v":81000},"g",{"$f":"IF(I586=1,C586+F586,IF(I586=2,C586+F586/1000,IF(I586=3,(1+F586/100)*C586,\"\")))","v":97},"  kg",{"$f":"N586*1000","v":97000},"g"]
[{"$f":"IF(COUNTIF($B$1:B587,TRUE)=COUNTIF($B$1:B586,TRUE),\"\",COUNTIF($B$1:B587,TRUE))","v":444},{"$f":"Worksheet!$D$12","v":true},{"$f":"RANDBETWEEN(5,RANDBETWEEN(5,Worksheet!$D$6))","v":103},"tonnes","±",{"$f":"IF(I587=1,H587*10^RANDBETWEEN(IF(Worksheet!$D$9,-1,0),0),IF(I587=2,H587*10^RANDBETWEEN(RANDBETWEEN(0,2),2),CHOOSE(RANDBETWEEN(1,3),5,10,20)))","v":100},{"$f":"IF(I587=1,D587,IF(I587=3,\"%\",\"kg\"))","v":"kg"},1,{"$f":"IF(AND(Worksheet!$D$8,RAND()<0.2),3,IF(RAND()<Worksheet!$D$7/100,1,2))","v":2},{"$f":"IF(I587=1,C587-F587,IF(I587=2,C587-F587/1000,IF(I587=3,(1-F587/100)*C587,\"\")))","v":102.9}," tonnes",{"$f":"J587*1000","v":102900},"kg",{"$f":"IF(I587=1,C587+F587,IF(I587=2,C587+F587/1000,IF(I587=3,(1+F587/100)*C587,\"\")))","v":103.1},"  tonnes",{"$f":"N587*1000","v":103100},"kg"]
[{"$f":"IF(COUNTIF($B$1:B588,TRUE)=COUNTIF($B$1:B587,TRUE),\"\",COUNTIF($B$1:B588,TRUE))","v":445},{"$f":"Worksheet!$D$13","v":true},{"$f":"RANDBETWEEN(5,RANDBETWEEN(5,Worksheet!$D$6))","v":17},"litres","±",{"$f":"IF(I588=1,H588*10^RANDBETWEEN(IF(Worksheet!$D$9,-1,0),0),IF(I588=2,H588*10^RANDBETWEEN(RANDBETWEEN(0,2),2),CHOOSE(RANDBETWEEN(1,3),5,10,20)))","v":0.70000000000000007},{"$f":"IF(I588=1,D588,IF(I588=3,\"%\",\"ml\"))","v":"litres"},7,{"$f":"IF(AND(Worksheet!$D$8,RAND()<0.2),3,IF(RAND()<Worksheet!$D$7/100,1,2))","v":1},{"$f":"IF(I588=1,C588-F588,IF(I588=2,C588-F588/1000,IF(I588=3,(1-F588/100)*C588,\"\")))","v":16.3}," litres",{"$f":"J588*1000","v":16300},"ml",{"$f":"IF(I588=1,C588+F588,IF(I588=2,C588+F588/1000,IF(I588=3,(1+F588/100)*C588,\"\")))","v":17.7},"  litres",{"$f":"N588*1000","v":17700},"ml"]
[{"$f":"IF(COUNTIF($B$1:B589,TRUE)=COUNTIF($B$1:B588,TRUE),\"\",COUNTIF($B$1:B589,TRUE))","v":446},{"$f":"Worksheet!$D$14","v":true},{"$f":"RANDBETWEEN(5,RANDBETWEEN(5,Worksheet!$D$6))","v":54},"litres","±",{"$f":"IF(I589=1,H589*10^RANDBETWEEN(IF(Worksheet!$D$9,-1,0),0),IF(I589=2,H589*10^RANDBETWEEN(RANDBETWEEN(0,2),2),CHOOSE(RANDBETWEEN(1,3),5,10,20)))","v":0.4},{"$f":"IF(I589=1,D589,IF(I589=3,\"%\",\"cm³\"))","v":"litres"},4,{"$f":"IF(AND(Worksheet!$D$8,RAND()<0.2),3,IF(RAND()<Worksheet!$D$7/100,1,2))","v":1},{"$f":"IF(I589=1,C589-F589,IF(I589=2,C589-F589/1000,IF(I589=3,(1-F589/100)*C589,\"\")))","v":53.6}," litres",{"$f":"J589*1000","v":53600},"cm³",{"$f":"IF(I589=1,C589+F589,IF(I589=2,C589+F589/1000,IF(I589=3,(1+F589/100)*C589,\"\")))","v":54.4},"  litres",{"$f":"N589*1000","v":54400},"cm³"]
[{"$f":"IF(COUNTIF($B$1:B590,TRUE)=COUNTIF($B$1:B589,TRUE),\"\",COUNTIF($B$1:B590,TRUE))","v":""},{"$f":"Worksheet!$D$15","v":false},{"$f":"RANDBETWEEN(5,20)","v":16},"min","±",{"$f":"IF(I590=1,H590*10^RANDBETWEEN(IF(Worksheet!$D$9,-1,0),0),IF(I590=2,H590,CHOOSE(RANDBETWEEN(1,3),5,10,20)))","v":6},{"$f":"IF(I590=1,D590,IF(I590=3,\"%\",\"sec\"))","v":"min"},6,{"$f":"IF(AND(Worksheet!$D$8,RAND()<0),3,IF(RAND()<Worksheet!$D$7/100,1,2))","v":1},null," min",{"$f":"IF(I590=1,C590-F590,IF(I590=2,C590*60-F590,\"\"))","v":10},{"$f":"IF($I590=1,\" hours\",\" min\")","v":" hours"},null,"  min",{"$f":"IF(I590=1,C590+F590,IF(I590=2,C590*60+F590,\"\"))","v":22},{"$f":"IF($I590=1,\" hours\",\" min\")","v":" hours"}]
[{"$f":"COUNTIF($B$1:B591,TRUE)","v":447},{"$f":"Worksheet!$B$11","v":true},{"$f":"RANDBETWEEN(5,RANDBETWEEN(5,Worksheet!$D$6))","v":315},"cm","±",{"$f":"IF(I591=1,H591*10^RANDBETWEEN(IF(Worksheet!$D$9,-1,0),0),IF(I591=2,H591,CHOOSE(RANDBETWEEN(1,3),5,10,20)))","v":0.5},{"$f":"IF(I591=1,D591,IF(I591=3,\"%\",\"mm\"))","v":"cm"},{"$f":"RANDBETWEEN(1,MIN(9,C591))","v":5},{"$f":"IF(AND(Worksheet!$D$8,RAND()<0.2),3,IF(RAND()<Worksheet!$D$7/100,1,2))","v":1},{"$f":"IF(I591=1,C591-F591,IF(I591=2,C591-F591/10,IF(I591=3,(1-F591/100)*C591,\"\")))","v":314.5},{"$f":"CONCATENATE(\" \",D591)","v":" cm"},{"$f":"J591*10","v":3145},"mm",{"$f":"IF(I591=1,C591+F591,IF(I591=2,C591+F591/10,IF(I591=3,(1+F591/100)*C591,\"\")))","v":315.5},{"$f":"CONCATENATE(\" \",K591)","v":"  cm"},{"$f":"N591*10","v":3155},"mm"]
[{"$f":"IF(COUNTIF($B$1:B592,TRUE)=COUNTIF($B$1:B591,TRUE),\"\",COUNTIF($B$1:B592,TRUE))","v":448},{"$f":"Worksheet!$B$12","v":true},{"$f":"RANDBETWEEN(5,RANDBETWEEN(5,Worksheet!$D$6))","v":71},"m","±",{"$f":"IF(I592=1,H592*10^RANDBETWEEN(IF(Worksheet!$D$9,-1,0),0),IF(I592=2,H592*10^RANDBETWEEN(RANDBETWEEN(0,1),1),CHOOSE(RANDBETWEEN(1,3),5,10,20)))","v":10},{"$f":"IF(I592=1,D592,IF(I592=3,\"%\",\"cm\"))","v":"%"},{"$f":"RANDBETWEEN(1,MIN(9,C592))","v":4},{"$f":"IF(AND(Worksheet!$D$8,RAND()<0.2),3,IF(RAND()<Worksheet!$D$7/100,1,2))","v":3},{"$f":"IF(I592=1,C592-F592,IF(I592=2,C592-F592/100,IF(I592=3,(1-F592/100)*C592,\"\")))","v":63.9},{"$f":"CONCATENATE(\" \",D592)","v":" m"},{"$f":"J592*100","v":6390},"cm",{"$f":"IF(I592=1,C592+F592,IF(I592=2,C592+F592/100,IF(I592=3,(1+F592/100)*C592,\"\")))","v":78.100000000000009},{"$f":"CONCATENATE(\" \",K592)","v":"  m"},{"$f":"N592*100","v":7810.0000000000009},"cm"]
[{"$f":"IF(COUNTIF($B$1:B593,TRUE)=COUNTIF($B$1:B592,TRUE),\"\",COUNTIF($B$1:B593,TRUE))","v":449},{"$f":"Worksheet!$B$13","v":true},{"$f":"RANDBETWEEN(5,RANDBETWEEN(5,Worksheet!$D$6))","v":34},"km","±",{"$f":"IF(I593=1,H593*10^RANDBETWEEN(IF(Worksheet!$D$9,-1,0),0),IF(I593=2,H593*10^RANDBETWEEN(RANDBETWEEN(0,2),2),CHOOSE(RANDBETWEEN(1,3),5,10,20)))","v":6},{"$f":"IF(I593=1,D593,IF(I593=3,\"%\",\"m\"))","v":"km"},6,{"$f":"IF(AND(Worksheet!$D$8,RAND()<0.2),3,IF(RAND()<Worksheet!$D$7/100,1,2))","v":1},{"$f":"IF(I593=1,C593-F593,IF(I593=2,C593-F593/1000,IF(I593=3,(1-F593/100)*C593,\"\")))","v":28}," km",{"$f":"J593*1000","v":28000},"m",{"$f":"IF(I593=1,C593+F593,IF(I593=2,C593+F593/1000,IF(I593=3,(1+F593/100)*C593,\"\")))","v":40},"  km",{"$f":"N593*1000","v":40000},"m"]
[{"$f":"IF(COUNTIF($B$1:B594,TRUE)=COUNTIF($B$1:B593,TRUE),\"\",COUNTIF($B$1:B594,TRUE))","v":""},{"$f":"Worksheet!$B$14","v":false},{"$f":"RANDBETWEEN(5,RANDBETWEEN(5,Worksheet!$D$6))","v":104},"m","±",{"$f":"IF(I594=1,H594*10^RANDBETWEEN(IF(Worksheet!$D$9,-1,0),0),IF(I594=2,H594*10^RANDBETWEEN(RANDBETWEEN(0,2),2),CHOOSE(RANDBETWEEN(1,3),5,10,20)))","v":2},{"$f":"IF(I594=1,D594,IF(I594=3,\"%\",\"mm\"))","v":"m"},2,{"$f":"IF(AND(Worksheet!$D$8,RAND()<0.2),3,IF(RAND()<Worksheet!$D$7/100,1,2))","v":1},{"$f":"IF(I594=1,C594-F594,IF(I594=2,C594-F594/1000,IF(I594=3,(1-F594/100)*C594,\"\")))","v":102}," m",{"$f":"J594*1000","v":102000},"mm",{"$f":"IF(I594=1,C594+F594,IF(I594=2,C594+F594/1000,IF(I594=3,(1+F594/100)*C594,\"\")))","v":106},"  m",{"$f":"N594*1000","v":106000},"mm"]
[{"$f":"IF(COUNTIF($B$1:B595,TRUE)=COUNTIF($B$1:B594,TRUE),\"\",COUNTIF($B$1:B595,TRUE))","v":450},{"$f":"Worksheet!$B$15","v":true},{"$f":"RANDBETWEEN(5,20)","v":7},"hours","±",{"$f":"IF(I595=1,H595*10^RANDBETWEEN(IF(Worksheet!$D$9,-1,0),0),IF(I595=2,H595,CHOOSE(RANDBETWEEN(1,3),5,10,20)))","v":4},{"$f":"IF(I595=1,D595,IF(I595=3,\"%\",\"min\"))","v":"hours"},4,{"$f":"IF(AND(Worksheet!$D$8,RAND()<0),3,IF(RAND()<Worksheet!$D$7/100,1,2))","v":1},null," hours",{"$f":"IF(I595=1,C595-F595,IF(I595=2,C595*60-F595,\"\"))","v":3},{"$f":"IF($I595=1,\" hours\",\" min\")","v":" hours"},null,"  hours",{"$f":"IF(I595=1,C595+F595,IF(I595=2,C595*60+F595,\"\"))","v":11},{"$f":"IF($I595=1,\" hours\",\" min\")","v":" hours"}]
[{"$f":"IF(COUNTIF($B$1:B596,TRUE)=COUNTIF($B$1:B595,TRUE),\"\",COUNTIF($B$1:B596,TRUE))","v":451},{"$f":"Worksheet!$D$11","v":true},{"$f":"RANDBETWEEN(5,RANDBETWEEN(5,Worksheet!$D$6))","v":80},"kg","±",{"$f":"IF(I596=1,H596*10^RANDBETWEEN(IF(Worksheet!$D$9,-1,0),0),IF(I596=2,H596*10^RANDBETWEEN(RANDBETWEEN(0,2),2),CHOOSE(RANDBETWEEN(1,3),5,10,20)))","v":5},{"$f":"IF(I596=1,D596,IF(I596=3,\"%\",\"g\"))","v":"%"},1,{"$f":"IF(AND(Worksheet!$D$8,RAND()<0.2),3,IF(RAND()<Worksheet!$D$7/100,1,2))","v":3},{"$f":"IF(I596=1,C596-F596,IF(I596=2,C596-F596/1000,IF(I596=3,(1-F596/100)*C596,\"\")))","v":76}," kg",{"$f":"J596*1000","v":76000},"g",{"$f":"IF(I596=1,C596+F596,IF(I596=2,C596+F596/1000,IF(I596=3,(1+F596/100)*C596,\"\")))","v":84},"  kg",{"$f":"N596*1000","v":84000},"g"]
[{"$f":"IF(COUNTIF($B$1:B597,TRUE)=COUNTIF($B$1:B596,TRUE),\"\",COUNTIF($B$1:B597,TRUE))","v":452},{"$f":"Worksheet!$D$12","v":true},{"$f":"RANDBETWEEN(5,RANDBETWEEN(5,Worksheet!$D$6))","v":92},"tonnes","±",{"$f":"IF(I597=1,H597*10^RANDBETWEEN(IF(Worksheet!$D$9,-1,0),0),IF(I597=2,H597*10^RANDBETWEEN(RANDBETWEEN(0,2),2),CHOOSE(RANDBETWEEN(1,3),5,10,20)))","v":400},{"$f":"IF(I597=1,D597,IF(I597=3,\"%\",\"kg\"))","v":"kg"},4,{"$f":"IF(AND(Worksheet!$D$8,RAND()<0.2),3,IF(RAND()<Worksheet!$D$7/100,1,2))","v":2},{"$f":"IF(I597=1,C597-F597,IF(I597=2,C597-F597/1000,IF(I597=3,(1-F597/100)*C597,\"\")))","v":91.6}," tonnes",{"$f":"J597*1000","v":91600},"kg",{"$f":"IF(I597=1,C597+F597,IF(I597=2,C597+F597/1000,IF(I597=3,(1+F597/100)*C597,\"\")))","v":92.4},"  tonnes",{"$f":"N597*1000","v":92400},"kg"]
[{"$f":"IF(COUNTIF($B$1:B598,TRUE)=COUNTIF($B$1:B597,TRUE),\"\",COUNTIF($B$1:B598,TRUE))","v":453},{"$f":"Worksheet!$D$13","v":true},{"$f":"RANDBETWEEN(5,RANDBETWEEN(5,Worksheet!$D$6))","v":83},"litres","±",{"$f":"IF(I598=1,H598*10^RANDBETWEEN(IF(Worksheet!$D$9,-1,0),0),IF(I598=2,H598*10^RANDBETWEEN(RANDBETWEEN(0,2),2),CHOOSE(RANDBETWEEN(1,3),5,10,20)))","v":3},{"$f":"IF(I598=1,D598,IF(I598=3,\"%\",\"ml\"))","v":"ml"},3,{"$f":"IF(AND(Worksheet!$D$8,RAND()<0.2),3,IF(RAND()<Worksheet!$D$7/100,1,2))","v":2},{"$f":"IF(I598=1,C598-F598,IF(I598=2,C598-F598/1000,IF(I598=3,(1-F598/100)*C598,\"\")))","v":82.997}," litres",{"$f":"J598*1000","v":82997},"ml",{"$f":"IF(I598=1,C598+F598,IF(I598=2,C598+F598/1000,IF(I598=3,(1+F598/100)*C598,\"\")))","v":83.003},"  litres",{"$f":"N598*1000","v":83003},"ml"]
[{"$f":"IF(COUNTIF($B$1:B599,TRUE)=COUNTIF($B$1:B598,TRUE),\"\",COUNTIF($B$1:B599,TRUE))","v":454},{"$f":"Worksheet!$D$14","v":true},{"$f":"RANDBETWEEN(5,RANDBETWEEN(5,Worksheet!$D$6))","v":35},"litres","±",{"$f":"IF(I599=1,H599*10^RANDBETWEEN(IF(Worksheet!$D$9,-1,0),0),IF(I599=2,H599*10^RANDBETWEEN(RANDBETWEEN(0,2),2),CHOOSE(RANDBETWEEN(1,3),5,10,20)))","v":0.1},{"$f":"IF(I599=1,D599,IF(I599=3,\"%\",\"cm³\"))","v":"litres"},1,{"$f":"IF(AND(Worksheet!$D$8,RAND()<0.2),3,IF(RAND()<Worksheet!$D$7/100,1,2))","v":1},{"$f":"IF(I599=1,C599-F599,IF(I599=2,C599-F599/1000,IF(I599=3,(1-F599/100)*C599,\"\")))","v":34.9}," litres",{"$f":"J599*1000","v":34900},"cm³",{"$f":"IF(I599=1,C599+F599,IF(I599=2,C599+F599/1000,IF(I599=3,(1+F599/100)*C599,\"\")))","v":35.1},"  litres",{"$f":"N599*1000","v":35100},"cm³"]
[{"$f":"IF(COUNTIF($B$1:B600,TRUE)=COUNTIF($B$1:B599,TRUE),\"\",COUNTIF($B$1:B600,TRUE))","v":""},{"$f":"Worksheet!$D$15","v":false},{"$f":"RANDBETWEEN(5,20)","v":20},"min","±",{"$f":"IF(I600=1,H600*10^RANDBETWEEN(IF(Worksheet!$D$9,-1,0),0),IF(I600=2,H600,CHOOSE(RANDBETWEEN(1,3),5,10,20)))","v":6},{"$f":"IF(I600=1,D600,IF(I600=3,\"%\",\"sec\"))","v":"min"},6,{"$f":"IF(AND(Worksheet!$D$8,RAND()<0),3,IF(RAND()<Worksheet!$D$7/100,1,2))","v":1},null," min",{"$f":"IF(I600=1,C600-F600,IF(I600=2,C600*60-F600,\"\"))","v":14},{"$f":"IF($I600=1,\" hours\",\" min\")","v":" hours"},null,"  min",{"$f":"IF(I600=1,C600+F600,IF(I600=2,C600*60+F600,\"\"))","v":26},{"$f":"IF($I600=1,\" hours\",\" min\")","v":" hours"}]
[{"$f":"COUNTIF($B$1:B601,TRUE)","v":455},{"$f":"Worksheet!$B$11","v":true},{"$f":"RANDBETWEEN(5,RANDBETWEEN(5,Worksheet!$D$6))","v":26},"cm","±",{"$f":"IF(I601=1,H601*10^RANDBETWEEN(IF(Worksheet!$D$9,-1,0),0),IF(I601=2,H601,CHOOSE(RANDBETWEEN(1,3),5,10,20)))","v":9},{"$f":"IF(I601=1,D601,IF(I601=3,\"%\",\"mm\"))","v":"cm"},{"$f":"RANDBETWEEN(1,MIN(9,C601))","v":9},{"$f":"IF(AND(Worksheet!$D$8,RAND()<0.2),3,IF(RAND()<Worksheet!$D$7/100,1,2))","v":1},{"$f":"IF(I601=1,C601-F601,IF(I601=2,C601-F601/10,IF(I601=3,(1-F601/100)*C601,\"\")))","v":17},{"$f":"CONCATENATE(\" \",D601)","v":" cm"},{"$f":"J601*10","v":170},"mm",{"$f":"IF(I601=1,C601+F601,IF(I601=2,C601+F601/10,IF(I601=3,(1+F601/100)*C601,\"\")))","v":35},{"$f":"CONCATENATE(\" \",K601)","v":"  cm"},{"$f":"N601*10","v":350},"mm"]
[{"$f":"IF(COUNTIF($B$1:B602,TRUE)=COUNTIF($B$1:B601,TRUE),\"\",COUNTIF($B$1:B602,TRUE))","v":456},{"$f":"Worksheet!$B$12","v":true},{"$f":"RANDBETWEEN(5,RANDBETWEEN(5,Worksheet!$D$6))","v":208},"m","±",{"$f":"IF(I602=1,H602*10^RANDBETWEEN(IF(Worksheet!$D$9,-1,0),0),IF(I602=2,H602*10^RANDBETWEEN(RANDBETWEEN(0,1),1),CHOOSE(RANDBETWEEN(1,3),5,10,20)))","v":0.9},{"$f":"IF(I602=1,D602,IF(I602=3,\"%\",\"cm\"))","v":"m"},{"$f":"RANDBETWEEN(1,MIN(9,C602))","v":9},{"$f":"IF(AND(Worksheet!$D$8,RAND()<0.2),3,IF(RAND()<Worksheet!$D$7/100,1,2))","v":1},{"$f":"IF(I602=1,C602-F602,IF(I602=2,C602-F602/100,IF(I602=3,(1-F602/100)*C602,\"\")))","v":207.1},{"$f":"CONCATENATE(\" \",D602)","v":" m"},{"$f":"J602*100","v":20710},"cm",{"$f":"IF(I602=1,C602+F602,IF(I602=2,C602+F602/100,IF(I602=3,(1+F602/100)*C602,\"\")))","v":208.9},{"$f":"CONCATENATE(\" \",K602)","v":"  m"},{"$f":"N602*100","v":20890},"cm"]
[{"$f":"IF(COUNTIF($B$1:B603,TRUE)=COUNTIF($B$1:B602,TRUE),\"\",COUNTIF($B$1:B603,TRUE))","v":457},{"$f":"Worksheet!$B$13","v":true},{"$f":"RANDBETWEEN(5,RANDBETWEEN(5,Worksheet!$D$6))","v":16},"km","±",{"$f":"IF(I603=1,H603*10^RANDBETWEEN(IF(Worksheet!$D$9,-1,0),0),IF(I603=2,H603*10^RANDBETWEEN(RANDBETWEEN(0,2),2),CHOOSE(RANDBETWEEN(1,3),5,10,20)))","v":2},{"$f":"IF(I603=1,D603,IF(I603=3,\"%\",\"m\"))","v":"km"},2,{"$f":"IF(AND(Worksheet!$D$8,RAND()<0.2),3,IF(RAND()<Worksheet!$D$7/100,1,2))","v":1},{"$f":"IF(I603=1,C603-F603,IF(I603=2,C603-F603/1000,IF(I603=3,(1-F603/100)*C603,\"\")))","v":14}," km",{"$f":"J603*1000","v":14000},"m",{"$f":"IF(I603=1,C603+F603,IF(I603=2,C603+F603/1000,IF(I603=3,(1+F603/100)*C603,\"\")))","v":18},"  km",{"$f":"N603*1000","v":18000},"m"]
[{"$f":"IF(COUNTIF($B$1:B604,TRUE)=COUNTIF($B$1:B603,TRUE),\"\",COUNTIF($B$1:B604,TRUE))","v":""},{"$f":"Worksheet!$B$14","v":false},{"$f":"RANDBETWEEN(5,RANDBETWEEN(5,Worksheet!$D$6))","v":269},"m","±",{"$f":"IF(I604=1,H604*10^RANDBETWEEN(IF(Worksheet!$D$9,-1,0),0),IF(I604=2,H604*10^RANDBETWEEN(RANDBETWEEN(0,2),2),CHOOSE(RANDBETWEEN(1,3),5,10,20)))","v":8},{"$f":"IF(I604=1,D604,IF(I604=3,\"%\",\"mm\"))","v":"m"},8,{"$f":"IF(AND(Worksheet!$D$8,RAND()<0.2),3,IF(RAND()<Worksheet!$D$7/100,1,2))","v":1},{"$f":"IF(I604=1,C604-F604,IF(I604=2,C604-F604/1000,IF(I604=3,(1-F604/100)*C604,\"\")))","v":261}," m",{"$f":"J604*1000","v":261000},"mm",{"$f":"IF(I604=1,C604+F604,IF(I604=2,C604+F604/1000,IF(I604=3,(1+F604/100)*C604,\"\")))","v":277},"  m",{"$f":"N604*1000","v":277000},"mm"]
[{"$f":"IF(COUNTIF($B$1:B605,TRUE)=COUNTIF($B$1:B604,TRUE),\"\",COUNTIF($B$1:B605,TRUE))","v":458},{"$f":"Worksheet!$B$15","v":true},{"$f":"RANDBETWEEN(5,20)","v":12},"hours","±",{"$f":"IF(I605=1,H605*10^RANDBETWEEN(IF(Worksheet!$D$9,-1,0),0),IF(I605=2,H605,CHOOSE(RANDBETWEEN(1,3),5,10,20)))","v":0.8},{"$f":"IF(I605=1,D605,IF(I605=3,\"%\",\"min\"))","v":"hours"},8,{"$f":"IF(AND(Worksheet!$D$8,RAND()<0),3,IF(RAND()<Worksheet!$D$7/100,1,2))","v":1},null," hours",{"$f":"IF(I605=1,C605-F605,IF(I605=2,C605*60-F605,\"\"))","v":11.2},{"$f":"IF($I605=1,\" hours\",\" min\")","v":" hours"},null,"  hours",{"$f":"IF(I605=1,C605+F605,IF(I605=2,C605*60+F605,\"\"))","v":12.8},{"$f":"IF($I605=1,\" hours\",\" min\")","v":" hours"}]
[{"$f":"IF(COUNTIF($B$1:B606,TRUE)=COUNTIF($B$1:B605,TRUE),\"\",COUNTIF($B$1:B606,TRUE))","v":459},{"$f":"Worksheet!$D$11","v":true},{"$f":"RANDBETWEEN(5,RANDBETWEEN(5,Worksheet!$D$6))","v":231},"kg","±",{"$f":"IF(I606=1,H606*10^RANDBETWEEN(IF(Worksheet!$D$9,-1,0),0),IF(I606=2,H606*10^RANDBETWEEN(RANDBETWEEN(0,2),2),CHOOSE(RANDBETWEEN(1,3),5,10,20)))","v":0.9},{"$f":"IF(I606=1,D606,IF(I606=3,\"%\",\"g\"))","v":"kg"},9,{"$f":"IF(AND(Worksheet!$D$8,RAND()<0.2),3,IF(RAND()<Worksheet!$D$7/100,1,2))","v":1},{"$f":"IF(I606=1,C606-F606,IF(I606=2,C606-F606/1000,IF(I606=3,(1-F606/100)*C606,\"\")))","v":230.1}," kg",{"$f":"J606*1000","v":230100},"g",{"$f":"IF(I606=1,C606+F606,IF(I606=2,C606+F606/1000,IF(I606=3,(1+F606/100)*C606,\"\")))","v":231.9},"  kg",{"$f":"N606*1000","v":231900},"g"]
[{"$f":"IF(COUNTIF($B$1:B607,TRUE)=COUNTIF($B$1:B606,TRUE),\"\",COUNTIF($B$1:B607,TRUE))","v":460},{"$f":"Worksheet!$D$12","v":true},{"$f":"RANDBETWEEN(5,RANDBETWEEN(5,Worksheet!$D$6))","v":85},"tonnes","±",{"$f":"IF(I607=1,H607*10^RANDBETWEEN(IF(Worksheet!$D$9,-1,0),0),IF(I607=2,H607*10^RANDBETWEEN(RANDBETWEEN(0,2),2),CHOOSE(RANDBETWEEN(1,3),5,10,20)))","v":400},{"$f":"IF(I607=1,D607,IF(I607=3,\"%\",\"kg\"))","v":"kg"},4,{"$f":"IF(AND(Worksheet!$D$8,RAND()<0.2),3,IF(RAND()<Worksheet!$D$7/100,1,2))","v":2},{"$f":"IF(I607=1,C607-F607,IF(I607=2,C607-F607/1000,IF(I607=3,(1-F607/100)*C607,\"\")))","v":84.6}," tonnes",{"$f":"J607*1000","v":84600},"kg",{"$f":"IF(I607=1,C607+F607,IF(I607=2,C607+F607/1000,IF(I607=3,(1+F607/100)*C607,\"\")))","v":85.4},"  tonnes",{"$f":"N607*1000","v":85400},"kg"]
[{"$f":"IF(COUNTIF($B$1:B608,TRUE)=COUNTIF($B$1:B607,TRUE),\"\",COUNTIF($B$1:B608,TRUE))","v":461},{"$f":"Worksheet!$D$13","v":true},{"$f":"RANDBETWEEN(5,RANDBETWEEN(5,Worksheet!$D$6))","v":56},"litres","±",{"$f":"IF(I608=1,H608*10^RANDBETWEEN(IF(Worksheet!$D$9,-1,0),0),IF(I608=2,H608*10^RANDBETWEEN(RANDBETWEEN(0,2),2),CHOOSE(RANDBETWEEN(1,3),5,10,20)))","v":5},{"$f":"IF(I608=1,D608,IF(I608=3,\"%\",\"ml\"))","v":"%"},4,{"$f":"IF(AND(Worksheet!$D$8,RAND()<0.2),3,IF(RAND()<Worksheet!$D$7/100,1,2))","v":3},{"$f":"IF(I608=1,C608-F608,IF(I608=2,C608-F608/1000,IF(I608=3,(1-F608/100)*C608,\"\")))","v":53.199999999999996}," litres",{"$f":"J608*1000","v":53199.999999999993},"ml",{"$f":"IF(I608=1,C608+F608,IF(I608=2,C608+F608/1000,IF(I608=3,(1+F608/100)*C608,\"\")))","v":58.800000000000004},"  litres",{"$f":"N608*1000","v":58800.000000000007},"ml"]
[{"$f":"IF(COUNTIF($B$1:B609,TRUE)=COUNTIF($B$1:B608,TRUE),\"\",COUNTIF($B$1:B609,TRUE))","v":462},{"$f":"Worksheet!$D$14","v":true},{"$f":"RANDBETWEEN(5,RANDBETWEEN(5,Worksheet!$D$6))","v":187},"litres","±",{"$f":"IF(I609=1,H609*10^RANDBETWEEN(IF(Worksheet!$D$9,-1,0),0),IF(I609=2,H609*10^RANDBETWEEN(RANDBETWEEN(0,2),2),CHOOSE(RANDBETWEEN(1,3),5,10,20)))","v":6},{"$f":"IF(I609=1,D609,IF(I609=3,\"%\",\"cm³\"))","v":"litres"},6,{"$f":"IF(AND(Worksheet!$D$8,RAND()<0.2),3,IF(RAND()<Worksheet!$D$7/100,1,2))","v":1},{"$f":"IF(I609=1,C609-F609,IF(I609=2,C609-F609/1000,IF(I609=3,(1-F609/100)*C609,\"\")))","v":181}," litres",{"$f":"J609*1000","v":181000},"cm³",{"$f":"IF(I609=1,C609+F609,IF(I609=2,C609+F609/1000,IF(I609=3,(1+F609/100)*C609,\"\")))","v":193},"  litres",{"$f":"N609*1000","v":193000},"cm³"]
[{"$f":"IF(COUNTIF($B$1:B610,TRUE)=COUNTIF($B$1:B609,TRUE),\"\",COUNTIF($B$1:B610,TRUE))","v":""},{"$f":"Worksheet!$D$15","v":false},{"$f":"RANDBETWEEN(5,20)","v":7},"min","±",{"$f":"IF(I610=1,H610*10^RANDBETWEEN(IF(Worksheet!$D$9,-1,0),0),IF(I610=2,H610,CHOOSE(RANDBETWEEN(1,3),5,10,20)))","v":0.5},{"$f":"IF(I610=1,D610,IF(I610=3,\"%\",\"sec\"))","v":"min"},5,{"$f":"IF(AND(Worksheet!$D$8,RAND()<0),3,IF(RAND()<Worksheet!$D$7/100,1,2))","v":1},null," min",{"$f":"IF(I610=1,C610-F610,IF(I610=2,C610*60-F610,\"\"))","v":6.5},{"$f":"IF($I610=1,\" hours\",\" min\")","v":" hours"},null,"  min",{"$f":"IF(I610=1,C610+F610,IF(I610=2,C610*60+F610,\"\"))","v":7.5},{"$f":"IF($I610=1,\" hours\",\" min\")","v":" hours"}]
[{"$f":"COUNTIF($B$1:B611,TRUE)","v":463},{"$f":"Worksheet!$B$11","v":true},{"$f":"RANDBETWEEN(5,RANDBETWEEN(5,Worksheet!$D$6))","v":222},"cm","±",{"$f":"IF(I611=1,H611*10^RANDBETWEEN(IF(Worksheet!$D$9,-1,0),0),IF(I611=2,H611,CHOOSE(RANDBETWEEN(1,3),5,10,20)))","v":0.9},{"$f":"IF(I611=1,D611,IF(I611=3,\"%\",\"mm\"))","v":"cm"},{"$f":"RANDBETWEEN(1,MIN(9,C611))","v":9},{"$f":"IF(AND(Worksheet!$D$8,RAND()<0.2),3,IF(RAND()<Worksheet!$D$7/100,1,2))","v":1},{"$f":"IF(I611=1,C611-F611,IF(I611=2,C611-F611/10,IF(I611=3,(1-F611/100)*C611,\"\")))","v":221.1},{"$f":"CONCATENATE(\" \",D611)","v":" cm"},{"$f":"J611*10","v":2211},"mm",{"$f":"IF(I611=1,C611+F611,IF(I611=2,C611+F611/10,IF(I611=3,(1+F611/100)*C611,\"\")))","v":222.9},{"$f":"CONCATENATE(\" \",K611)","v":"  cm"},{"$f":"N611*10","v":2229},"mm"]
[{"$f":"IF(COUNTIF($B$1:B612,TRUE)=COUNTIF($B$1:B611,TRUE),\"\",COUNTIF($B$1:B612,TRUE))","v":464},{"$f":"Worksheet!$B$12","v":true},{"$f":"RANDBETWEEN(5,RANDBETWEEN(5,Worksheet!$D$6))","v":26},"m","±",{"$f":"IF(I612=1,H612*10^RANDBETWEEN(IF(Worksheet!$D$9,-1,0),0),IF(I612=2,H612*10^RANDBETWEEN(RANDBETWEEN(0,1),1),CHOOSE(RANDBETWEEN(1,3),5,10,20)))","v":4},{"$f":"IF(I612=1,D612,IF(I612=3,\"%\",\"cm\"))","v":"m"},{"$f":"RANDBETWEEN(1,MIN(9,C612))","v":4},{"$f":"IF(AND(Worksheet!$D$8,RAND()<0.2),3,IF(RAND()<Worksheet!$D$7/100,1,2))","v":1},{"$f":"IF(I612=1,C612-F612,IF(I612=2,C612-F612/100,IF(I612=3,(1-F612/100)*C612,\"\")))","v":22},{"$f":"CONCATENATE(\" \",D612)","v":" m"},{"$f":"J612*100","v":2200},"cm",{"$f":"IF(I612=1,C612+F612,IF(I612=2,C612+F612/100,IF(I612=3,(1+F612/100)*C612,\"\")))","v":30},{"$f":"CONCATENATE(\" \",K612)","v":"  m"},{"$f":"N612*100","v":3000},"cm"]
[{"$f":"IF(COUNTIF($B$1:B613,TRUE)=COUNTIF($B$1:B612,TRUE),\"\",COUNTIF($B$1:B613,TRUE))","v":465},{"$f":"Worksheet!$B$13","v":true},{"$f":"RANDBETWEEN(5,RANDBETWEEN(5,Worksheet!$D$6))","v":32},"km","±",{"$f":"IF(I613=1,H613*10^RANDBETWEEN(IF(Worksheet!$D$9,-1,0),0),IF(I613=2,H613*10^RANDBETWEEN(RANDBETWEEN(0,2),2),CHOOSE(RANDBETWEEN(1,3),5,10,20)))","v":900},{"$f":"IF(I613=1,D613,IF(I613=3,\"%\",\"m\"))","v":"m"},9,{"$f":"IF(AND(Worksheet!$D$8,RAND()<0.2),3,IF(RAND()<Worksheet!$D$7/100,1,2))","v":2},{"$f":"IF(I613=1,C613-F613,IF(I613=2,C613-F613/1000,IF(I613=3,(1-F613/100)*C613,\"\")))","v":31.1}," km",{"$f":"J613*1000","v":31100},"m",{"$f":"IF(I613=1,C613+F613,IF(I613=2,C613+F613/1000,IF(I613=3,(1+F613/100)*C613,\"\")))","v":32.9},"  km",{"$f":"N613*1000","v":32900},"m"]
[{"$f":"IF(COUNTIF($B$1:B614,TRUE)=COUNTIF($B$1:B613,TRUE),\"\",COUNTIF($B$1:B614,TRUE))","v":""},{"$f":"Worksheet!$B$14","v":false},{"$f":"RANDBETWEEN(5,RANDBETWEEN(5,Worksheet!$D$6))","v":13},"m","±",{"$f":"IF(I614=1,H614*10^RANDBETWEEN(IF(Worksheet!$D$9,-1,0),0),IF(I614=2,H614*10^RANDBETWEEN(RANDBETWEEN(0,2),2),CHOOSE(RANDBETWEEN(1,3),5,10,20)))","v":9},{"$f":"IF(I614=1,D614,IF(I614=3,\"%\",\"mm\"))","v":"mm"},9,{"$f":"IF(AND(Worksheet!$D$8,RAND()<0.2),3,IF(RAND()<Worksheet!$D$7/100,1,2))","v":2},{"$f":"IF(I614=1,C614-F614,IF(I614=2,C614-F614/1000,IF(I614=3,(1-F614/100)*C614,\"\")))","v":12.991}," m",{"$f":"J614*1000","v":12991},"mm",{"$f":"IF(I614=1,C614+F614,IF(I614=2,C614+F614/1000,IF(I614=3,(1+F614/100)*C614,\"\")))","v":13.009},"  m",{"$f":"N614*1000","v":13009},"mm"]
[{"$f":"IF(COUNTIF($B$1:B615,TRUE)=COUNTIF($B$1:B614,TRUE),\"\",COUNTIF($B$1:B615,TRUE))","v":466},{"$f":"Worksheet!$B$15","v":true},{"$f":"RANDBETWEEN(5,20)","v":16},"hours","±",{"$f":"IF(I615=1,H615*10^RANDBETWEEN(IF(Worksheet!$D$9,-1,0),0),IF(I615=2,H615,CHOOSE(RANDBETWEEN(1,3),5,10,20)))","v":1},{"$f":"IF(I615=1,D615,IF(I615=3,\"%\",\"min\"))","v":"min"},1,{"$f":"IF(AND(Worksheet!$D$8,RAND()<0),3,IF(RAND()<Worksheet!$D$7/100,1,2))","v":2},null," hours",{"$f":"IF(I615=1,C615-F615,IF(I615=2,C615*60-F615,\"\"))","v":959},{"$f":"IF($I615=1,\" hours\",\" min\")","v":" min"},null,"  hours",{"$f":"IF(I615=1,C615+F615,IF(I615=2,C615*60+F615,\"\"))","v":961},{"$f":"IF($I615=1,\" hours\",\" min\")","v":" min"}]
[{"$f":"IF(COUNTIF($B$1:B616,TRUE)=COUNTIF($B$1:B615,TRUE),\"\",COUNTIF($B$1:B616,TRUE))","v":467},{"$f":"Worksheet!$D$11","v":true},{"$f":"RANDBETWEEN(5,RANDBETWEEN(5,Worksheet!$D$6))","v":246},"kg","±",{"$f":"IF(I616=1,H616*10^RANDBETWEEN(IF(Worksheet!$D$9,-1,0),0),IF(I616=2,H616*10^RANDBETWEEN(RANDBETWEEN(0,2),2),CHOOSE(RANDBETWEEN(1,3),5,10,20)))","v":10},{"$f":"IF(I616=1,D616,IF(I616=3,\"%\",\"g\"))","v":"%"},1,{"$f":"IF(AND(Worksheet!$D$8,RAND()<0.2),3,IF(RAND()<Worksheet!$D$7/100,1,2))","v":3},{"$f":"IF(I616=1,C616-F616,IF(I616=2,C616-F616/1000,IF(I616=3,(1-F616/100)*C616,\"\")))","v":221.4}," kg",{"$f":"J616*1000","v":221400},"g",{"$f":"IF(I616=1,C616+F616,IF(I616=2,C616+F616/1000,IF(I616=3,(1+F616/100)*C616,\"\")))","v":270.60000000000002},"  kg",{"$f":"N616*1000","v":270600},"g"]
[{"$f":"IF(COUNTIF($B$1:B617,TRUE)=COUNTIF($B$1:B616,TRUE),\"\",COUNTIF($B$1:B617,TRUE))","v":468},{"$f":"Worksheet!$D$12","v":true},{"$f":"RANDBETWEEN(5,RANDBETWEEN(5,Worksheet!$D$6))","v":35},"tonnes","±",{"$f":"IF(I617=1,H617*10^RANDBETWEEN(IF(Worksheet!$D$9,-1,0),0),IF(I617=2,H617*10^RANDBETWEEN(RANDBETWEEN(0,2),2),CHOOSE(RANDBETWEEN(1,3),5,10,20)))","v":0.30000000000000004},{"$f":"IF(I617=1,D617,IF(I617=3,\"%\",\"kg\"))","v":"tonnes"},3,{"$f":"IF(AND(Worksheet!$D$8,RAND()<0.2),3,IF(RAND()<Worksheet!$D$7/100,1,2))","v":1},{"$f":"IF(I617=1,C617-F617,IF(I617=2,C617-F617/1000,IF(I617=3,(1-F617/100)*C617,\"\")))","v":34.700000000000003}," tonnes",{"$f":"J617*1000","v":34700},"kg",{"$f":"IF(I617=1,C617+F617,IF(I617=2,C617+F617/1000,IF(I617=3,(1+F617/100)*C617,\"\")))","v":35.299999999999997},"  tonnes",{"$f":"N617*1000","v":35300},"kg"]
[{"$f":"IF(COUNTIF($B$1:B618,TRUE)=COUNTIF($B$1:B617,TRUE),\"\",COUNTIF($B$1:B618,TRUE))","v":469},{"$f":"Worksheet!$D$13","v":true},{"$f":"RANDBETWEEN(5,RANDBETWEEN(5,Worksheet!$D$6))","v":132},"litres","±",{"$f":"IF(I618=1,H618*10^RANDBETWEEN(IF(Worksheet!$D$9,-1,0),0),IF(I618=2,H618*10^RANDBETWEEN(RANDBETWEEN(0,2),2),CHOOSE(RANDBETWEEN(1,3),5,10,20)))","v":6},{"$f":"IF(I618=1,D618,IF(I618=3,\"%\",\"ml\"))","v":"litres"},6,{"$f":"IF(AND(Worksheet!$D$8,RAND()<0.2),3,IF(RAND()<Worksheet!$D$7/100,1,2))","v":1},{"$f":"IF(I618=1,C618-F618,IF(I618=2,C618-F618/1000,IF(I618=3,(1-F618/100)*C618,\"\")))","v":126}," litres",{"$f":"J618*1000","v":126000},"ml",{"$f":"IF(I618=1,C618+F618,IF(I618=2,C618+F618/1000,IF(I618=3,(1+F618/100)*C618,\"\")))","v":138},"  litres",{"$f":"N618*1000","v":138000},"ml"]
[{"$f":"IF(COUNTIF($B$1:B619,TRUE)=COUNTIF($B$1:B618,TRUE),\"\",COUNTIF($B$1:B619,TRUE))","v":470},{"$f":"Worksheet!$D$14","v":true},{"$f":"RANDBETWEEN(5,RANDBETWEEN(5,Worksheet!$D$6))","v":366},"litres","±",{"$f":"IF(I619=1,H619*10^RANDBETWEEN(IF(Worksheet!$D$9,-1,0),0),IF(I619=2,H619*10^RANDBETWEEN(RANDBETWEEN(0,2),2),CHOOSE(RANDBETWEEN(1,3),5,10,20)))","v":5},{"$f":"IF(I619=1,D619,IF(I619=3,\"%\",\"cm³\"))","v":"%"},4,{"$f":"IF(AND(Worksheet!$D$8,RAND()<0.2),3,IF(RAND()<Worksheet!$D$7/100,1,2))","v":3},{"$f":"IF(I619=1,C619-F619,IF(I619=2,C619-F619/1000,IF(I619=3,(1-F619/100)*C619,\"\")))","v":347.7}," litres",{"$f":"J619*1000","v":347700},"cm³",{"$f":"IF(I619=1,C619+F619,IF(I619=2,C619+F619/1000,IF(I619=3,(1+F619/100)*C619,\"\")))","v":384.3},"  litres",{"$f":"N619*1000","v":384300},"cm³"]
[{"$f":"IF(COUNTIF($B$1:B620,TRUE)=COUNTIF($B$1:B619,TRUE),\"\",COUNTIF($B$1:B620,TRUE))","v":""},{"$f":"Worksheet!$D$15","v":false},{"$f":"RANDBETWEEN(5,20)","v":17},"min","±",{"$f":"IF(I620=1,H620*10^RANDBETWEEN(IF(Worksheet!$D$9,-1,0),0),IF(I620=2,H620,CHOOSE(RANDBETWEEN(1,3),5,10,20)))","v":0.1},{"$f":"IF(I620=1,D620,IF(I620=3,\"%\",\"sec\"))","v":"min"},1,{"$f":"IF(AND(Worksheet!$D$8,RAND()<0),3,IF(RAND()<Worksheet!$D$7/100,1,2))","v":1},null," min",{"$f":"IF(I620=1,C620-F620,IF(I620=2,C620*60-F620,\"\"))","v":16.899999999999999},{"$f":"IF($I620=1,\" hours\",\" min\")","v":" hours"},null,"  min",{"$f":"IF(I620=1,C620+F620,IF(I620=2,C620*60+F620,\"\"))","v":17.100000000000001},{"$f":"IF($I620=1,\" hours\",\" min\")","v":" hours"}]
[{"$f":"COUNTIF($B$1:B621,TRUE)","v":471},{"$f":"Worksheet!$B$11","v":true},{"$f":"RANDBETWEEN(5,RANDBETWEEN(5,Worksheet!$D$6))","v":138},"cm","±",{"$f":"IF(I621=1,H621*10^RANDBETWEEN(IF(Worksheet!$D$9,-1,0),0),IF(I621=2,H621,CHOOSE(RANDBETWEEN(1,3),5,10,20)))","v":0.70000000000000007},{"$f":"IF(I621=1,D621,IF(I621=3,\"%\",\"mm\"))","v":"cm"},{"$f":"RANDBETWEEN(1,MIN(9,C621))","v":7},{"$f":"IF(AND(Worksheet!$D$8,RAND()<0.2),3,IF(RAND()<Worksheet!$D$7/100,1,2))","v":1},{"$f":"IF(I621=1,C621-F621,IF(I621=2,C621-F621/10,IF(I621=3,(1-F621/100)*C621,\"\")))","v":137.30000000000001},{"$f":"CONCATENATE(\" \",D621)","v":" cm"},{"$f":"J621*10","v":1373},"mm",{"$f":"IF(I621=1,C621+F621,IF(I621=2,C621+F621/10,IF(I621=3,(1+F621/100)*C621,\"\")))","v":138.69999999999999},{"$f":"CONCATENATE(\" \",K621)","v":"  cm"},{"$f":"N621*10","v":1387},"mm"]
[{"$f":"IF(COUNTIF($B$1:B622,TRUE)=COUNTIF($B$1:B621,TRUE),\"\",COUNTIF($B$1:B622,TRUE))","v":472},{"$f":"Worksheet!$B$12","v":true},{"$f":"RANDBETWEEN(5,RANDBETWEEN(5,Worksheet!$D$6))","v":10},"m","±",{"$f":"IF(I622=1,H622*10^RANDBETWEEN(IF(Worksheet!$D$9,-1,0),0),IF(I622=2,H622*10^RANDBETWEEN(RANDBETWEEN(0,1),1),CHOOSE(RANDBETWEEN(1,3),5,10,20)))","v":9},{"$f":"IF(I622=1,D622,IF(I622=3,\"%\",\"cm\"))","v":"m"},{"$f":"RANDBETWEEN(1,MIN(9,C622))","v":9},{"$f":"IF(AND(Worksheet!$D$8,RAND()<0.2),3,IF(RAND()<Worksheet!$D$7/100,1,2))","v":1},{"$f":"IF(I622=1,C622-F622,IF(I622=2,C622-F622/100,IF(I622=3,(1-F622/100)*C622,\"\")))","v":1},{"$f":"CONCATENATE(\" \",D622)","v":" m"},{"$f":"J622*100","v":100},"cm",{"$f":"IF(I622=1,C622+F622,IF(I622=2,C622+F622/100,IF(I622=3,(1+F622/100)*C622,\"\")))","v":19},{"$f":"CONCATENATE(\" \",K622)","v":"  m"},{"$f":"N622*100","v":1900},"cm"]
[{"$f":"IF(COUNTIF($B$1:B623,TRUE)=COUNTIF($B$1:B622,TRUE),\"\",COUNTIF($B$1:B623,TRUE))","v":473},{"$f":"Worksheet!$B$13","v":true},{"$f":"RANDBETWEEN(5,RANDBETWEEN(5,Worksheet!$D$6))","v":185},"km","±",{"$f":"IF(I623=1,H623*10^RANDBETWEEN(IF(Worksheet!$D$9,-1,0),0),IF(I623=2,H623*10^RANDBETWEEN(RANDBETWEEN(0,2),2),CHOOSE(RANDBETWEEN(1,3),5,10,20)))","v":300},{"$f":"IF(I623=1,D623,IF(I623=3,\"%\",\"m\"))","v":"m"},3,{"$f":"IF(AND(Worksheet!$D$8,RAND()<0.2),3,IF(RAND()<Worksheet!$D$7/100,1,2))","v":2},{"$f":"IF(I623=1,C623-F623,IF(I623=2,C623-F623/1000,IF(I623=3,(1-F623/100)*C623,\"\")))","v":184.7}," km",{"$f":"J623*1000","v":184700},"m",{"$f":"IF(I623=1,C623+F623,IF(I623=2,C623+F623/1000,IF(I623=3,(1+F623/100)*C623,\"\")))","v":185.3},"  km",{"$f":"N623*1000","v":185300},"m"]
[{"$f":"IF(COUNTIF($B$1:B624,TRUE)=COUNTIF($B$1:B623,TRUE),\"\",COUNTIF($B$1:B624,TRUE))","v":""},{"$f":"Worksheet!$B$14","v":false},{"$f":"RANDBETWEEN(5,RANDBETWEEN(5,Worksheet!$D$6))","v":47},"m","±",{"$f":"IF(I624=1,H624*10^RANDBETWEEN(IF(Worksheet!$D$9,-1,0),0),IF(I624=2,H624*10^RANDBETWEEN(RANDBETWEEN(0,2),2),CHOOSE(RANDBETWEEN(1,3),5,10,20)))","v":10},{"$f":"IF(I624=1,D624,IF(I624=3,\"%\",\"mm\"))","v":"%"},4,{"$f":"IF(AND(Worksheet!$D$8,RAND()<0.2),3,IF(RAND()<Worksheet!$D$7/100,1,2))","v":3},{"$f":"IF(I624=1,C624-F624,IF(I624=2,C624-F624/1000,IF(I624=3,(1-F624/100)*C624,\"\")))","v":42.300000000000004}," m",{"$f":"J624*1000","v":42300.000000000007},"mm",{"$f":"IF(I624=1,C624+F624,IF(I624=2,C624+F624/1000,IF(I624=3,(1+F624/100)*C624,\"\")))","v":51.7},"  m",{"$f":"N624*1000","v":51700},"mm"]
[{"$f":"IF(COUNTIF($B$1:B625,TRUE)=COUNTIF($B$1:B624,TRUE),\"\",COUNTIF($B$1:B625,TRUE))","v":474},{"$f":"Worksheet!$B$15","v":true},{"$f":"RANDBETWEEN(5,20)","v":14},"hours","±",{"$f":"IF(I625=1,H625*10^RANDBETWEEN(IF(Worksheet!$D$9,-1,0),0),IF(I625=2,H625,CHOOSE(RANDBETWEEN(1,3),5,10,20)))","v":1},{"$f":"IF(I625=1,D625,IF(I625=3,\"%\",\"min\"))","v":"hours"},1,{"$f":"IF(AND(Worksheet!$D$8,RAND()<0),3,IF(RAND()<Worksheet!$D$7/100,1,2))","v":1},null," hours",{"$f":"IF(I625=1,C625-F625,IF(I625=2,C625*60-F625,\"\"))","v":13},{"$f":"IF($I625=1,\" hours\",\" min\")","v":" hours"},null,"  hours",{"$f":"IF(I625=1,C625+F625,IF(I625=2,C625*60+F625,\"\"))","v":15},{"$f":"IF($I625=1,\" hours\",\" min\")","v":" hours"}]
[{"$f":"IF(COUNTIF($B$1:B626,TRUE)=COUNTIF($B$1:B625,TRUE),\"\",COUNTIF($B$1:B626,TRUE))","v":475},{"$f":"Worksheet!$D$11","v":true},{"$f":"RANDBETWEEN(5,RANDBETWEEN(5,Worksheet!$D$6))","v":71},"kg","±",{"$f":"IF(I626=1,H626*10^RANDBETWEEN(IF(Worksheet!$D$9,-1,0),0),IF(I626=2,H626*10^RANDBETWEEN(RANDBETWEEN(0,2),2),CHOOSE(RANDBETWEEN(1,3),5,10,20)))","v":5},{"$f":"IF(I626=1,D626,IF(I626=3,\"%\",\"g\"))","v":"%"},7,{"$f":"IF(AND(Worksheet!$D$8,RAND()<0.2),3,IF(RAND()<Worksheet!$D$7/100,1,2))","v":3},{"$f":"IF(I626=1,C626-F626,IF(I626=2,C626-F626/1000,IF(I626=3,(1-F626/100)*C626,\"\")))","v":67.45}," kg",{"$f":"J626*1000","v":67450},"g",{"$f":"IF(I626=1,C626+F626,IF(I626=2,C626+F626/1000,IF(I626=3,(1+F626/100)*C626,\"\")))","v":74.55},"  kg",{"$f":"N626*1000","v":74550},"g"]
[{"$f":"IF(COUNTIF($B$1:B627,TRUE)=COUNTIF($B$1:B626,TRUE),\"\",COUNTIF($B$1:B627,TRUE))","v":476},{"$f":"Worksheet!$D$12","v":true},{"$f":"RANDBETWEEN(5,RANDBETWEEN(5,Worksheet!$D$6))","v":27},"tonnes","±",{"$f":"IF(I627=1,H627*10^RANDBETWEEN(IF(Worksheet!$D$9,-1,0),0),IF(I627=2,H627*10^RANDBETWEEN(RANDBETWEEN(0,2),2),CHOOSE(RANDBETWEEN(1,3),5,10,20)))","v":3},{"$f":"IF(I627=1,D627,IF(I627=3,\"%\",\"kg\"))","v":"tonnes"},3,{"$f":"IF(AND(Worksheet!$D$8,RAND()<0.2),3,IF(RAND()<Worksheet!$D$7/100,1,2))","v":1},{"$f":"IF(I627=1,C627-F627,IF(I627=2,C627-F627/1000,IF(I627=3,(1-F627/100)*C627,\"\")))","v":24}," tonnes",{"$f":"J627*1000","v":24000},"kg",{"$f":"IF(I627=1,C627+F627,IF(I627=2,C627+F627/1000,IF(I627=3,(1+F627/100)*C627,\"\")))","v":30},"  tonnes",{"$f":"N627*1000","v":30000},"kg"]
[{"$f":"IF(COUNTIF($B$1:B628,TRUE)=COUNTIF($B$1:B627,TRUE),\"\",COUNTIF($B$1:B628,TRUE))","v":477},{"$f":"Worksheet!$D$13","v":true},{"$f":"RANDBETWEEN(5,RANDBETWEEN(5,Worksheet!$D$6))","v":174},"litres","±",{"$f":"IF(I628=1,H628*10^RANDBETWEEN(IF(Worksheet!$D$9,-1,0),0),IF(I628=2,H628*10^RANDBETWEEN(RANDBETWEEN(0,2),2),CHOOSE(RANDBETWEEN(1,3),5,10,20)))","v":500},{"$f":"IF(I628=1,D628,IF(I628=3,\"%\",\"ml\"))","v":"ml"},5,{"$f":"IF(AND(Worksheet!$D$8,RAND()<0.2),3,IF(RAND()<Worksheet!$D$7/100,1,2))","v":2},{"$f":"IF(I628=1,C628-F628,IF(I628=2,C628-F628/1000,IF(I628=3,(1-F628/100)*C628,\"\")))","v":173.5}," litres",{"$f":"J628*1000","v":173500},"ml",{"$f":"IF(I628=1,C628+F628,IF(I628=2,C628+F628/1000,IF(I628=3,(1+F628/100)*C628,\"\")))","v":174.5},"  litres",{"$f":"N628*1000","v":174500},"ml"]
[{"$f":"IF(COUNTIF($B$1:B629,TRUE)=COUNTIF($B$1:B628,TRUE),\"\",COUNTIF($B$1:B629,TRUE))","v":478},{"$f":"Worksheet!$D$14","v":true},{"$f":"RANDBETWEEN(5,RANDBETWEEN(5,Worksheet!$D$6))","v":185},"litres","±",{"$f":"IF(I629=1,H629*10^RANDBETWEEN(IF(Worksheet!$D$9,-1,0),0),IF(I629=2,H629*10^RANDBETWEEN(RANDBETWEEN(0,2),2),CHOOSE(RANDBETWEEN(1,3),5,10,20)))","v":9},{"$f":"IF(I629=1,D629,IF(I629=3,\"%\",\"cm³\"))","v":"litres"},9,{"$f":"IF(AND(Worksheet!$D$8,RAND()<0.2),3,IF(RAND()<Worksheet!$D$7/100,1,2))","v":1},{"$f":"IF(I629=1,C629-F629,IF(I629=2,C629-F629/1000,IF(I629=3,(1-F629/100)*C629,\"\")))","v":176}," litres",{"$f":"J629*1000","v":176000},"cm³",{"$f":"IF(I629=1,C629+F629,IF(I629=2,C629+F629/1000,IF(I629=3,(1+F629/100)*C629,\"\")))","v":194},"  litres",{"$f":"N629*1000","v":194000},"cm³"]
[{"$f":"IF(COUNTIF($B$1:B630,TRUE)=COUNTIF($B$1:B629,TRUE),\"\",COUNTIF($B$1:B630,TRUE))","v":""},{"$f":"Worksheet!$D$15","v":false},{"$f":"RANDBETWEEN(5,20)","v":14},"min","±",{"$f":"IF(I630=1,H630*10^RANDBETWEEN(IF(Worksheet!$D$9,-1,0),0),IF(I630=2,H630,CHOOSE(RANDBETWEEN(1,3),5,10,20)))","v":5},{"$f":"IF(I630=1,D630,IF(I630=3,\"%\",\"sec\"))","v":"sec"},5,{"$f":"IF(AND(Worksheet!$D$8,RAND()<0),3,IF(RAND()<Worksheet!$D$7/100,1,2))","v":2},null," min",{"$f":"IF(I630=1,C630-F630,IF(I630=2,C630*60-F630,\"\"))","v":835},{"$f":"IF($I630=1,\" hours\",\" min\")","v":" min"},null,"  min",{"$f":"IF(I630=1,C630+F630,IF(I630=2,C630*60+F630,\"\"))","v":845},{"$f":"IF($I630=1,\" hours\",\" min\")","v":" min"}]
[{"$f":"COUNTIF($B$1:B631,TRUE)","v":479},{"$f":"Worksheet!$B$11","v":true},{"$f":"RANDBETWEEN(5,RANDBETWEEN(5,Worksheet!$D$6))","v":107},"cm","±",{"$f":"IF(I631=1,H631*10^RANDBETWEEN(IF(Worksheet!$D$9,-1,0),0),IF(I631=2,H631,CHOOSE(RANDBETWEEN(1,3),5,10,20)))","v":7},{"$f":"IF(I631=1,D631,IF(I631=3,\"%\",\"mm\"))","v":"cm"},{"$f":"RANDBETWEEN(1,MIN(9,C631))","v":7},{"$f":"IF(AND(Worksheet!$D$8,RAND()<0.2),3,IF(RAND()<Worksheet!$D$7/100,1,2))","v":1},{"$f":"IF(I631=1,C631-F631,IF(I631=2,C631-F631/10,IF(I631=3,(1-F631/100)*C631,\"\")))","v":100},{"$f":"CONCATENATE(\" \",D631)","v":" cm"},{"$f":"J631*10","v":1000},"mm",{"$f":"IF(I631=1,C631+F631,IF(I631=2,C631+F631/10,IF(I631=3,(1+F631/100)*C631,\"\")))","v":114},{"$f":"CONCATENATE(\" \",K631)","v":"  cm"},{"$f":"N631*10","v":1140},"mm"]
[{"$f":"IF(COUNTIF($B$1:B632,TRUE)=COUNTIF($B$1:B631,TRUE),\"\",COUNTIF($B$1:B632,TRUE))","v":480},{"$f":"Worksheet!$B$12","v":true},{"$f":"RANDBETWEEN(5,RANDBETWEEN(5,Worksheet!$D$6))","v":93},"m","±",{"$f":"IF(I632=1,H632*10^RANDBETWEEN(IF(Worksheet!$D$9,-1,0),0),IF(I632=2,H632*10^RANDBETWEEN(RANDBETWEEN(0,1),1),CHOOSE(RANDBETWEEN(1,3),5,10,20)))","v":5},{"$f":"IF(I632=1,D632,IF(I632=3,\"%\",\"cm\"))","v":"cm"},{"$f":"RANDBETWEEN(1,MIN(9,C632))","v":5},{"$f":"IF(AND(Worksheet!$D$8,RAND()<0.2),3,IF(RAND()<Worksheet!$D$7/100,1,2))","v":2},{"$f":"IF(I632=1,C632-F632,IF(I632=2,C632-F632/100,IF(I632=3,(1-F632/100)*C632,\"\")))","v":92.95},{"$f":"CONCATENATE(\" \",D632)","v":" m"},{"$f":"J632*100","v":9295},"cm",{"$f":"IF(I632=1,C632+F632,IF(I632=2,C632+F632/100,IF(I632=3,(1+F632/100)*C632,\"\")))","v":93.05},{"$f":"CONCATENATE(\" \",K632)","v":"  m"},{"$f":"N632*100","v":9305},"cm"]
[{"$f":"IF(COUNTIF($B$1:B633,TRUE)=COUNTIF($B$1:B632,TRUE),\"\",COUNTIF($B$1:B633,TRUE))","v":481},{"$f":"Worksheet!$B$13","v":true},{"$f":"RANDBETWEEN(5,RANDBETWEEN(5,Worksheet!$D$6))","v":21},"km","±",{"$f":"IF(I633=1,H633*10^RANDBETWEEN(IF(Worksheet!$D$9,-1,0),0),IF(I633=2,H633*10^RANDBETWEEN(RANDBETWEEN(0,2),2),CHOOSE(RANDBETWEEN(1,3),5,10,20)))","v":6},{"$f":"IF(I633=1,D633,IF(I633=3,\"%\",\"m\"))","v":"km"},6,{"$f":"IF(AND(Worksheet!$D$8,RAND()<0.2),3,IF(RAND()<Worksheet!$D$7/100,1,2))","v":1},{"$f":"IF(I633=1,C633-F633,IF(I633=2,C633-F633/1000,IF(I633=3,(1-F633/100)*C633,\"\")))","v":15}," km",{"$f":"J633*1000","v":15000},"m",{"$f":"IF(I633=1,C633+F633,IF(I633=2,C633+F633/1000,IF(I633=3,(1+F633/100)*C633,\"\")))","v":27},"  km",{"$f":"N633*1000","v":27000},"m"]
[{"$f":"IF(COUNTIF($B$1:B634,TRUE)=COUNTIF($B$1:B633,TRUE),\"\",COUNTIF($B$1:B634,TRUE))","v":""},{"$f":"Worksheet!$B$14","v":false},{"$f":"RANDBETWEEN(5,RANDBETWEEN(5,Worksheet!$D$6))","v":184},"m","±",{"$f":"IF(I634=1,H634*10^RANDBETWEEN(IF(Worksheet!$D$9,-1,0),0),IF(I634=2,H634*10^RANDBETWEEN(RANDBETWEEN(0,2),2),CHOOSE(RANDBETWEEN(1,3),5,10,20)))","v":2},{"$f":"IF(I634=1,D634,IF(I634=3,\"%\",\"mm\"))","v":"m"},2,{"$f":"IF(AND(Worksheet!$D$8,RAND()<0.2),3,IF(RAND()<Worksheet!$D$7/100,1,2))","v":1},{"$f":"IF(I634=1,C634-F634,IF(I634=2,C634-F634/1000,IF(I634=3,(1-F634/100)*C634,\"\")))","v":182}," m",{"$f":"J634*1000","v":182000},"mm",{"$f":"IF(I634=1,C634+F634,IF(I634=2,C634+F634/1000,IF(I634=3,(1+F634/100)*C634,\"\")))","v":186},"  m",{"$f":"N634*1000","v":186000},"mm"]
[{"$f":"IF(COUNTIF($B$1:B635,TRUE)=COUNTIF($B$1:B634,TRUE),\"\",COUNTIF($B$1:B635,TRUE))","v":482},{"$f":"Worksheet!$B$15","v":true},{"$f":"RANDBETWEEN(5,20)","v":6},"hours","±",{"$f":"IF(I635=1,H635*10^RANDBETWEEN(IF(Worksheet!$D$9,-1,0),0),IF(I635=2,H635,CHOOSE(RANDBETWEEN(1,3),5,10,20)))","v":3},{"$f":"IF(I635=1,D635,IF(I635=3,\"%\",\"min\"))","v":"min"},3,{"$f":"IF(AND(Worksheet!$D$8,RAND()<0),3,IF(RAND()<Worksheet!$D$7/100,1,2))","v":2},null," hours",{"$f":"IF(I635=1,C635-F635,IF(I635=2,C635*60-F635,\"\"))","v":357},{"$f":"IF($I635=1,\" hours\",\" min\")","v":" min"},null,"  hours",{"$f":"IF(I635=1,C635+F635,IF(I635=2,C635*60+F635,\"\"))","v":363},{"$f":"IF($I635=1,\" hours\",\" min\")","v":" min"}]
[{"$f":"IF(COUNTIF($B$1:B636,TRUE)=COUNTIF($B$1:B635,TRUE),\"\",COUNTIF($B$1:B636,TRUE))","v":483},{"$f":"Worksheet!$D$11","v":true},{"$f":"RANDBETWEEN(5,RANDBETWEEN(5,Worksheet!$D$6))","v":77},"kg","±",{"$f":"IF(I636=1,H636*10^RANDBETWEEN(IF(Worksheet!$D$9,-1,0),0),IF(I636=2,H636*10^RANDBETWEEN(RANDBETWEEN(0,2),2),CHOOSE(RANDBETWEEN(1,3),5,10,20)))","v":400},{"$f":"IF(I636=1,D636,IF(I636=3,\"%\",\"g\"))","v":"g"},4,{"$f":"IF(AND(Worksheet!$D$8,RAND()<0.2),3,IF(RAND()<Worksheet!$D$7/100,1,2))","v":2},{"$f":"IF(I636=1,C636-F636,IF(I636=2,C636-F636/1000,IF(I636=3,(1-F636/100)*C636,\"\")))","v":76.599999999999994}," kg",{"$f":"J636*1000","v":76600},"g",{"$f":"IF(I636=1,C636+F636,IF(I636=2,C636+F636/1000,IF(I636=3,(1+F636/100)*C636,\"\")))","v":77.400000000000006},"  kg",{"$f":"N636*1000","v":77400},"g"]
[{"$f":"IF(COUNTIF($B$1:B637,TRUE)=COUNTIF($B$1:B636,TRUE),\"\",COUNTIF($B$1:B637,TRUE))","v":484},{"$f":"Worksheet!$D$12","v":true},{"$f":"RANDBETWEEN(5,RANDBETWEEN(5,Worksheet!$D$6))","v":102},"tonnes","±",{"$f":"IF(I637=1,H637*10^RANDBETWEEN(IF(Worksheet!$D$9,-1,0),0),IF(I637=2,H637*10^RANDBETWEEN(RANDBETWEEN(0,2),2),CHOOSE(RANDBETWEEN(1,3),5,10,20)))","v":3},{"$f":"IF(I637=1,D637,IF(I637=3,\"%\",\"kg\"))","v":"tonnes"},3,{"$f":"IF(AND(Worksheet!$D$8,RAND()<0.2),3,IF(RAND()<Worksheet!$D$7/100,1,2))","v":1},{"$f":"IF(I637=1,C637-F637,IF(I637=2,C637-F637/1000,IF(I637=3,(1-F637/100)*C637,\"\")))","v":99}," tonnes",{"$f":"J637*1000","v":99000},"kg",{"$f":"IF(I637=1,C637+F637,IF(I637=2,C637+F637/1000,IF(I637=3,(1+F637/100)*C637,\"\")))","v":105},"  tonnes",{"$f":"N637*1000","v":105000},"kg"]
[{"$f":"IF(COUNTIF($B$1:B638,TRUE)=COUNTIF($B$1:B637,TRUE),\"\",COUNTIF($B$1:B638,TRUE))","v":485},{"$f":"Worksheet!$D$13","v":true},{"$f":"RANDBETWEEN(5,RANDBETWEEN(5,Worksheet!$D$6))","v":237},"litres","±",{"$f":"IF(I638=1,H638*10^RANDBETWEEN(IF(Worksheet!$D$9,-1,0),0),IF(I638=2,H638*10^RANDBETWEEN(RANDBETWEEN(0,2),2),CHOOSE(RANDBETWEEN(1,3),5,10,20)))","v":20},{"$f":"IF(I638=1,D638,IF(I638=3,\"%\",\"ml\"))","v":"%"},2,{"$f":"IF(AND(Worksheet!$D$8,RAND()<0.2),3,IF(RAND()<Worksheet!$D$7/100,1,2))","v":3},{"$f":"IF(I638=1,C638-F638,IF(I638=2,C638-F638/1000,IF(I638=3,(1-F638/100)*C638,\"\")))","v":189.60000000000002}," litres",{"$f":"J638*1000","v":189600.00000000003},"ml",{"$f":"IF(I638=1,C638+F638,IF(I638=2,C638+F638/1000,IF(I638=3,(1+F638/100)*C638,\"\")))","v":284.39999999999998},"  litres",{"$f":"N638*1000","v":284400},"ml"]
[{"$f":"IF(COUNTIF($B$1:B639,TRUE)=COUNTIF($B$1:B638,TRUE),\"\",COUNTIF($B$1:B639,TRUE))","v":486},{"$f":"Worksheet!$D$14","v":true},{"$f":"RANDBETWEEN(5,RANDBETWEEN(5,Worksheet!$D$6))","v":167},"litres","±",{"$f":"IF(I639=1,H639*10^RANDBETWEEN(IF(Worksheet!$D$9,-1,0),0),IF(I639=2,H639*10^RANDBETWEEN(RANDBETWEEN(0,2),2),CHOOSE(RANDBETWEEN(1,3),5,10,20)))","v":1},{"$f":"IF(I639=1,D639,IF(I639=3,\"%\",\"cm³\"))","v":"litres"},1,{"$f":"IF(AND(Worksheet!$D$8,RAND()<0.2),3,IF(RAND()<Worksheet!$D$7/100,1,2))","v":1},{"$f":"IF(I639=1,C639-F639,IF(I639=2,C639-F639/1000,IF(I639=3,(1-F639/100)*C639,\"\")))","v":166}," litres",{"$f":"J639*1000","v":166000},"cm³",{"$f":"IF(I639=1,C639+F639,IF(I639=2,C639+F639/1000,IF(I639=3,(1+F639/100)*C639,\"\")))","v":168},"  litres",{"$f":"N639*1000","v":168000},"cm³"]
[{"$f":"IF(COUNTIF($B$1:B640,TRUE)=COUNTIF($B$1:B639,TRUE),\"\",COUNTIF($B$1:B640,TRUE))","v":""},{"$f":"Worksheet!$D$15","v":false},{"$f":"RANDBETWEEN(5,20)","v":16},"min","±",{"$f":"IF(I640=1,H640*10^RANDBETWEEN(IF(Worksheet!$D$9,-1,0),0),IF(I640=2,H640,CHOOSE(RANDBETWEEN(1,3),5,10,20)))","v":0.1},{"$f":"IF(I640=1,D640,IF(I640=3,\"%\",\"sec\"))","v":"min"},1,{"$f":"IF(AND(Worksheet!$D$8,RAND()<0),3,IF(RAND()<Worksheet!$D$7/100,1,2))","v":1},null," min",{"$f":"IF(I640=1,C640-F640,IF(I640=2,C640*60-F640,\"\"))","v":15.9},{"$f":"IF($I640=1,\" hours\",\" min\")","v":" hours"},null,"  min",{"$f":"IF(I640=1,C640+F640,IF(I640=2,C640*60+F640,\"\"))","v":16.100000000000001},{"$f":"IF($I640=1,\" hours\",\" min\")","v":" hours"}]
[{"$f":"COUNTIF($B$1:B641,TRUE)","v":487},{"$f":"Worksheet!$B$11","v":true},{"$f":"RANDBETWEEN(5,RANDBETWEEN(5,Worksheet!$D$6))","v":89},"cm","±",{"$f":"IF(I641=1,H641*10^RANDBETWEEN(IF(Worksheet!$D$9,-1,0),0),IF(I641=2,H641,CHOOSE(RANDBETWEEN(1,3),5,10,20)))","v":0.2},{"$f":"IF(I641=1,D641,IF(I641=3,\"%\",\"mm\"))","v":"cm"},{"$f":"RANDBETWEEN(1,MIN(9,C641))","v":2},{"$f":"IF(AND(Worksheet!$D$8,RAND()<0.2),3,IF(RAND()<Worksheet!$D$7/100,1,2))","v":1},{"$f":"IF(I641=1,C641-F641,IF(I641=2,C641-F641/10,IF(I641=3,(1-F641/100)*C641,\"\")))","v":88.8},{"$f":"CONCATENATE(\" \",D641)","v":" cm"},{"$f":"J641*10","v":888},"mm",{"$f":"IF(I641=1,C641+F641,IF(I641=2,C641+F641/10,IF(I641=3,(1+F641/100)*C641,\"\")))","v":89.2},{"$f":"CONCATENATE(\" \",K641)","v":"  cm"},{"$f":"N641*10","v":892},"mm"]
[{"$f":"IF(COUNTIF($B$1:B642,TRUE)=COUNTIF($B$1:B641,TRUE),\"\",COUNTIF($B$1:B642,TRUE))","v":488},{"$f":"Worksheet!$B$12","v":true},{"$f":"RANDBETWEEN(5,RANDBETWEEN(5,Worksheet!$D$6))","v":282},"m","±",{"$f":"IF(I642=1,H642*10^RANDBETWEEN(IF(Worksheet!$D$9,-1,0),0),IF(I642=2,H642*10^RANDBETWEEN(RANDBETWEEN(0,1),1),CHOOSE(RANDBETWEEN(1,3),5,10,20)))","v":7},{"$f":"IF(I642=1,D642,IF(I642=3,\"%\",\"cm\"))","v":"m"},{"$f":"RANDBETWEEN(1,MIN(9,C642))","v":7},{"$f":"IF(AND(Worksheet!$D$8,RAND()<0.2),3,IF(RAND()<Worksheet!$D$7/100,1,2))","v":1},{"$f":"IF(I642=1,C642-F642,IF(I642=2,C642-F642/100,IF(I642=3,(1-F642/100)*C642,\"\")))","v":275},{"$f":"CONCATENATE(\" \",D642)","v":" m"},{"$f":"J642*100","v":27500},"cm",{"$f":"IF(I642=1,C642+F642,IF(I642=2,C642+F642/100,IF(I642=3,(1+F642/100)*C642,\"\")))","v":289},{"$f":"CONCATENATE(\" \",K642)","v":"  m"},{"$f":"N642*100","v":28900},"cm"]
[{"$f":"IF(COUNTIF($B$1:B643,TRUE)=COUNTIF($B$1:B642,TRUE),\"\",COUNTIF($B$1:B643,TRUE))","v":489},{"$f":"Worksheet!$B$13","v":true},{"$f":"RANDBETWEEN(5,RANDBETWEEN(5,Worksheet!$D$6))","v":194},"km","±",{"$f":"IF(I643=1,H643*10^RANDBETWEEN(IF(Worksheet!$D$9,-1,0),0),IF(I643=2,H643*10^RANDBETWEEN(RANDBETWEEN(0,2),2),CHOOSE(RANDBETWEEN(1,3),5,10,20)))","v":600},{"$f":"IF(I643=1,D643,IF(I643=3,\"%\",\"m\"))","v":"m"},6,{"$f":"IF(AND(Worksheet!$D$8,RAND()<0.2),3,IF(RAND()<Worksheet!$D$7/100,1,2))","v":2},{"$f":"IF(I643=1,C643-F643,IF(I643=2,C643-F643/1000,IF(I643=3,(1-F643/100)*C643,\"\")))","v":193.4}," km",{"$f":"J643*1000","v":193400},"m",{"$f":"IF(I643=1,C643+F643,IF(I643=2,C643+F643/1000,IF(I643=3,(1+F643/100)*C643,\"\")))","v":194.6},"  km",{"$f":"N643*1000","v":194600},"m"]
[{"$f":"IF(COUNTIF($B$1:B644,TRUE)=COUNTIF($B$1:B643,TRUE),\"\",COUNTIF($B$1:B644,TRUE))","v":""},{"$f":"Worksheet!$B$14","v":false},{"$f":"RANDBETWEEN(5,RANDBETWEEN(5,Worksheet!$D$6))","v":12},"m","±",{"$f":"IF(I644=1,H644*10^RANDBETWEEN(IF(Worksheet!$D$9,-1,0),0),IF(I644=2,H644*10^RANDBETWEEN(RANDBETWEEN(0,2),2),CHOOSE(RANDBETWEEN(1,3),5,10,20)))","v":0.60000000000000009},{"$f":"IF(I644=1,D644,IF(I644=3,\"%\",\"mm\"))","v":"m"},6,{"$f":"IF(AND(Worksheet!$D$8,RAND()<0.2),3,IF(RAND()<Worksheet!$D$7/100,1,2))","v":1},{"$f":"IF(I644=1,C644-F644,IF(I644=2,C644-F644/1000,IF(I644=3,(1-F644/100)*C644,\"\")))","v":11.4}," m",{"$f":"J644*1000","v":11400},"mm",{"$f":"IF(I644=1,C644+F644,IF(I644=2,C644+F644/1000,IF(I644=3,(1+F644/100)*C644,\"\")))","v":12.6},"  m",{"$f":"N644*1000","v":12600},"mm"]
[{"$f":"IF(COUNTIF($B$1:B645,TRUE)=COUNTIF($B$1:B644,TRUE),\"\",COUNTIF($B$1:B645,TRUE))","v":490},{"$f":"Worksheet!$B$15","v":true},{"$f":"RANDBETWEEN(5,20)","v":17},"hours","±",{"$f":"IF(I645=1,H645*10^RANDBETWEEN(IF(Worksheet!$D$9,-1,0),0),IF(I645=2,H645,CHOOSE(RANDBETWEEN(1,3),5,10,20)))","v":2},{"$f":"IF(I645=1,D645,IF(I645=3,\"%\",\"min\"))","v":"hours"},2,{"$f":"IF(AND(Worksheet!$D$8,RAND()<0),3,IF(RAND()<Worksheet!$D$7/100,1,2))","v":1},null," hours",{"$f":"IF(I645=1,C645-F645,IF(I645=2,C645*60-F645,\"\"))","v":15},{"$f":"IF($I645=1,\" hours\",\" min\")","v":" hours"},null,"  hours",{"$f":"IF(I645=1,C645+F645,IF(I645=2,C645*60+F645,\"\"))","v":19},{"$f":"IF($I645=1,\" hours\",\" min\")","v":" hours"}]
[{"$f":"IF(COUNTIF($B$1:B646,TRUE)=COUNTIF($B$1:B645,TRUE),\"\",COUNTIF($B$1:B646,TRUE))","v":491},{"$f":"Worksheet!$D$11","v":true},{"$f":"RANDBETWEEN(5,RANDBETWEEN(5,Worksheet!$D$6))","v":160},"kg","±",{"$f":"IF(I646=1,H646*10^RANDBETWEEN(IF(Worksheet!$D$9,-1,0),0),IF(I646=2,H646*10^RANDBETWEEN(RANDBETWEEN(0,2),2),CHOOSE(RANDBETWEEN(1,3),5,10,20)))","v":5},{"$f":"IF(I646=1,D646,IF(I646=3,\"%\",\"g\"))","v":"%"},1,{"$f":"IF(AND(Worksheet!$D$8,RAND()<0.2),3,IF(RAND()<Worksheet!$D$7/100,1,2))","v":3},{"$f":"IF(I646=1,C646-F646,IF(I646=2,C646-F646/1000,IF(I646=3,(1-F646/100)*C646,\"\")))","v":152}," kg",{"$f":"J646*1000","v":152000},"g",{"$f":"IF(I646=1,C646+F646,IF(I646=2,C646+F646/1000,IF(I646=3,(1+F646/100)*C646,\"\")))","v":168},"  kg",{"$f":"N646*1000","v":168000},"g"]
[{"$f":"IF(COUNTIF($B$1:B647,TRUE)=COUNTIF($B$1:B646,TRUE),\"\",COUNTIF($B$1:B647,TRUE))","v":492},{"$f":"Worksheet!$D$12","v":true},{"$f":"RANDBETWEEN(5,RANDBETWEEN(5,Worksheet!$D$6))","v":45},"tonnes","±",{"$f":"IF(I647=1,H647*10^RANDBETWEEN(IF(Worksheet!$D$9,-1,0),0),IF(I647=2,H647*10^RANDBETWEEN(RANDBETWEEN(0,2),2),CHOOSE(RANDBETWEEN(1,3),5,10,20)))","v":0.30000000000000004},{"$f":"IF(I647=1,D647,IF(I647=3,\"%\",\"kg\"))","v":"tonnes"},3,{"$f":"IF(AND(Worksheet!$D$8,RAND()<0.2),3,IF(RAND()<Worksheet!$D$7/100,1,2))","v":1},{"$f":"IF(I647=1,C647-F647,IF(I647=2,C647-F647/1000,IF(I647=3,(1-F647/100)*C647,\"\")))","v":44.7}," tonnes",{"$f":"J647*1000","v":44700},"kg",{"$f":"IF(I647=1,C647+F647,IF(I647=2,C647+F647/1000,IF(I647=3,(1+F647/100)*C647,\"\")))","v":45.3},"  tonnes",{"$f":"N647*1000","v":45300},"kg"]
[{"$f":"IF(COUNTIF($B$1:B648,TRUE)=COUNTIF($B$1:B647,TRUE),\"\",COUNTIF($B$1:B648,TRUE))","v":493},{"$f":"Worksheet!$D$13","v":true},{"$f":"RANDBETWEEN(5,RANDBETWEEN(5,Worksheet!$D$6))","v":16},"litres","±",{"$f":"IF(I648=1,H648*10^RANDBETWEEN(IF(Worksheet!$D$9,-1,0),0),IF(I648=2,H648*10^RANDBETWEEN(RANDBETWEEN(0,2),2),CHOOSE(RANDBETWEEN(1,3),5,10,20)))","v":0.70000000000000007},{"$f":"IF(I648=1,D648,IF(I648=3,\"%\",\"ml\"))","v":"litres"},7,{"$f":"IF(AND(Worksheet!$D$8,RAND()<0.2),3,IF(RAND()<Worksheet!$D$7/100,1,2))","v":1},{"$f":"IF(I648=1,C648-F648,IF(I648=2,C648-F648/1000,IF(I648=3,(1-F648/100)*C648,\"\")))","v":15.3}," litres",{"$f":"J648*1000","v":15300},"ml",{"$f":"IF(I648=1,C648+F648,IF(I648=2,C648+F648/1000,IF(I648=3,(1+F648/100)*C648,\"\")))","v":16.7},"  litres",{"$f":"N648*1000","v":16700},"ml"]
[{"$f":"IF(COUNTIF($B$1:B649,TRUE)=COUNTIF($B$1:B648,TRUE),\"\",COUNTIF($B$1:B649,TRUE))","v":494},{"$f":"Worksheet!$D$14","v":true},{"$f":"RANDBETWEEN(5,RANDBETWEEN(5,Worksheet!$D$6))","v":7},"litres","±",{"$f":"IF(I649=1,H649*10^RANDBETWEEN(IF(Worksheet!$D$9,-1,0),0),IF(I649=2,H649*10^RANDBETWEEN(RANDBETWEEN(0,2),2),CHOOSE(RANDBETWEEN(1,3),5,10,20)))","v":10},{"$f":"IF(I649=1,D649,IF(I649=3,\"%\",\"cm³\"))","v":"%"},5,{"$f":"IF(AND(Worksheet!$D$8,RAND()<0.2),3,IF(RAND()<Worksheet!$D$7/100,1,2))","v":3},{"$f":"IF(I649=1,C649-F649,IF(I649=2,C649-F649/1000,IF(I649=3,(1-F649/100)*C649,\"\")))","v":6.3}," litres",{"$f":"J649*1000","v":6300},"cm³",{"$f":"IF(I649=1,C649+F649,IF(I649=2,C649+F649/1000,IF(I649=3,(1+F649/100)*C649,\"\")))","v":7.7000000000000011},"  litres",{"$f":"N649*1000","v":7700.0000000000009},"cm³"]
[{"$f":"IF(COUNTIF($B$1:B650,TRUE)=COUNTIF($B$1:B649,TRUE),\"\",COUNTIF($B$1:B650,TRUE))","v":""},{"$f":"Worksheet!$D$15","v":false},{"$f":"RANDBETWEEN(5,20)","v":11},"min","±",{"$f":"IF(I650=1,H650*10^RANDBETWEEN(IF(Worksheet!$D$9,-1,0),0),IF(I650=2,H650,CHOOSE(RANDBETWEEN(1,3),5,10,20)))","v":3},{"$f":"IF(I650=1,D650,IF(I650=3,\"%\",\"sec\"))","v":"min"},3,{"$f":"IF(AND(Worksheet!$D$8,RAND()<0),3,IF(RAND()<Worksheet!$D$7/100,1,2))","v":1},null," min",{"$f":"IF(I650=1,C650-F650,IF(I650=2,C650*60-F650,\"\"))","v":8},{"$f":"IF($I650=1,\" hours\",\" min\")","v":" hours"},null,"  min",{"$f":"IF(I650=1,C650+F650,IF(I650=2,C650*60+F650,\"\"))","v":14},{"$f":"IF($I650=1,\" hours\",\" min\")","v":" hours"}]
[{"$f":"COUNTIF($B$1:B651,TRUE)","v":495},{"$f":"Worksheet!$B$11","v":true},{"$f":"RANDBETWEEN(5,RANDBETWEEN(5,Worksheet!$D$6))","v":41},"cm","±",{"$f":"IF(I651=1,H651*10^RANDBETWEEN(IF(Worksheet!$D$9,-1,0),0),IF(I651=2,H651,CHOOSE(RANDBETWEEN(1,3),5,10,20)))","v":6},{"$f":"IF(I651=1,D651,IF(I651=3,\"%\",\"mm\"))","v":"mm"},{"$f":"RANDBETWEEN(1,MIN(9,C651))","v":6},{"$f":"IF(AND(Worksheet!$D$8,RAND()<0.2),3,IF(RAND()<Worksheet!$D$7/100,1,2))","v":2},{"$f":"IF(I651=1,C651-F651,IF(I651=2,C651-F651/10,IF(I651=3,(1-F651/100)*C651,\"\")))","v":40.4},{"$f":"CONCATENATE(\" \",D651)","v":" cm"},{"$f":"J651*10","v":404},"mm",{"$f":"IF(I651=1,C651+F651,IF(I651=2,C651+F651/10,IF(I651=3,(1+F651/100)*C651,\"\")))","v":41.6},{"$f":"CONCATENATE(\" \",K651)","v":"  cm"},{"$f":"N651*10","v":416},"mm"]
[{"$f":"IF(COUNTIF($B$1:B652,TRUE)=COUNTIF($B$1:B651,TRUE),\"\",COUNTIF($B$1:B652,TRUE))","v":496},{"$f":"Worksheet!$B$12","v":true},{"$f":"RANDBETWEEN(5,RANDBETWEEN(5,Worksheet!$D$6))","v":61},"m","±",{"$f":"IF(I652=1,H652*10^RANDBETWEEN(IF(Worksheet!$D$9,-1,0),0),IF(I652=2,H652*10^RANDBETWEEN(RANDBETWEEN(0,1),1),CHOOSE(RANDBETWEEN(1,3),5,10,20)))","v":5},{"$f":"IF(I652=1,D652,IF(I652=3,\"%\",\"cm\"))","v":"%"},{"$f":"RANDBETWEEN(1,MIN(9,C652))","v":4},{"$f":"IF(AND(Worksheet!$D$8,RAND()<0.2),3,IF(RAND()<Worksheet!$D$7/100,1,2))","v":3},{"$f":"IF(I652=1,C652-F652,IF(I652=2,C652-F652/100,IF(I652=3,(1-F652/100)*C652,\"\")))","v":57.949999999999996},{"$f":"CONCATENATE(\" \",D652)","v":" m"},{"$f":"J652*100","v":5795},"cm",{"$f":"IF(I652=1,C652+F652,IF(I652=2,C652+F652/100,IF(I652=3,(1+F652/100)*C652,\"\")))","v":64.05},{"$f":"CONCATENATE(\" \",K652)","v":"  m"},{"$f":"N652*100","v":6405},"cm"]
[{"$f":"IF(COUNTIF($B$1:B653,TRUE)=COUNTIF($B$1:B652,TRUE),\"\",COUNTIF($B$1:B653,TRUE))","v":497},{"$f":"Worksheet!$B$13","v":true},{"$f":"RANDBETWEEN(5,RANDBETWEEN(5,Worksheet!$D$6))","v":229},"km","±",{"$f":"IF(I653=1,H653*10^RANDBETWEEN(IF(Worksheet!$D$9,-1,0),0),IF(I653=2,H653*10^RANDBETWEEN(RANDBETWEEN(0,2),2),CHOOSE(RANDBETWEEN(1,3),5,10,20)))","v":600},{"$f":"IF(I653=1,D653,IF(I653=3,\"%\",\"m\"))","v":"m"},6,{"$f":"IF(AND(Worksheet!$D$8,RAND()<0.2),3,IF(RAND()<Worksheet!$D$7/100,1,2))","v":2},{"$f":"IF(I653=1,C653-F653,IF(I653=2,C653-F653/1000,IF(I653=3,(1-F653/100)*C653,\"\")))","v":228.4}," km",{"$f":"J653*1000","v":228400},"m",{"$f":"IF(I653=1,C653+F653,IF(I653=2,C653+F653/1000,IF(I653=3,(1+F653/100)*C653,\"\")))","v":229.6},"  km",{"$f":"N653*1000","v":229600},"m"]
[{"$f":"IF(COUNTIF($B$1:B654,TRUE)=COUNTIF($B$1:B653,TRUE),\"\",COUNTIF($B$1:B654,TRUE))","v":""},{"$f":"Worksheet!$B$14","v":false},{"$f":"RANDBETWEEN(5,RANDBETWEEN(5,Worksheet!$D$6))","v":111},"m","±",{"$f":"IF(I654=1,H654*10^RANDBETWEEN(IF(Worksheet!$D$9,-1,0),0),IF(I654=2,H654*10^RANDBETWEEN(RANDBETWEEN(0,2),2),CHOOSE(RANDBETWEEN(1,3),5,10,20)))","v":4},{"$f":"IF(I654=1,D654,IF(I654=3,\"%\",\"mm\"))","v":"m"},4,{"$f":"IF(AND(Worksheet!$D$8,RAND()<0.2),3,IF(RAND()<Worksheet!$D$7/100,1,2))","v":1},{"$f":"IF(I654=1,C654-F654,IF(I654=2,C654-F654/1000,IF(I654=3,(1-F654/100)*C654,\"\")))","v":107}," m",{"$f":"J654*1000","v":107000},"mm",{"$f":"IF(I654=1,C654+F654,IF(I654=2,C654+F654/1000,IF(I654=3,(1+F654/100)*C654,\"\")))","v":115},"  m",{"$f":"N654*1000","v":115000},"mm"]
[{"$f":"IF(COUNTIF($B$1:B655,TRUE)=COUNTIF($B$1:B654,TRUE),\"\",COUNTIF($B$1:B655,TRUE))","v":498},{"$f":"Worksheet!$B$15","v":true},{"$f":"RANDBETWEEN(5,20)","v":15},"hours","±",{"$f":"IF(I655=1,H655*10^RANDBETWEEN(IF(Worksheet!$D$9,-1,0),0),IF(I655=2,H655,CHOOSE(RANDBETWEEN(1,3),5,10,20)))","v":0.4},{"$f":"IF(I655=1,D655,IF(I655=3,\"%\",\"min\"))","v":"hours"},4,{"$f":"IF(AND(Worksheet!$D$8,RAND()<0),3,IF(RAND()<Worksheet!$D$7/100,1,2))","v":1},null," hours",{"$f":"IF(I655=1,C655-F655,IF(I655=2,C655*60-F655,\"\"))","v":14.6},{"$f":"IF($I655=1,\" hours\",\" min\")","v":" hours"},null,"  hours",{"$f":"IF(I655=1,C655+F655,IF(I655=2,C655*60+F655,\"\"))","v":15.4},{"$f":"IF($I655=1,\" hours\",\" min\")","v":" hours"}]
[{"$f":"IF(COUNTIF($B$1:B656,TRUE)=COUNTIF($B$1:B655,TRUE),\"\",COUNTIF($B$1:B656,TRUE))","v":499},{"$f":"Worksheet!$D$11","v":true},{"$f":"RANDBETWEEN(5,RANDBETWEEN(5,Worksheet!$D$6))","v":25},"kg","±",{"$f":"IF(I656=1,H656*10^RANDBETWEEN(IF(Worksheet!$D$9,-1,0),0),IF(I656=2,H656*10^RANDBETWEEN(RANDBETWEEN(0,2),2),CHOOSE(RANDBETWEEN(1,3),5,10,20)))","v":10},{"$f":"IF(I656=1,D656,IF(I656=3,\"%\",\"g\"))","v":"%"},3,{"$f":"IF(AND(Worksheet!$D$8,RAND()<0.2),3,IF(RAND()<Worksheet!$D$7/100,1,2))","v":3},{"$f":"IF(I656=1,C656-F656,IF(I656=2,C656-F656/1000,IF(I656=3,(1-F656/100)*C656,\"\")))","v":22.5}," kg",{"$f":"J656*1000","v":22500},"g",{"$f":"IF(I656=1,C656+F656,IF(I656=2,C656+F656/1000,IF(I656=3,(1+F656/100)*C656,\"\")))","v":27.500000000000004},"  kg",{"$f":"N656*1000","v":27500.000000000004},"g"]
[{"$f":"IF(COUNTIF($B$1:B657,TRUE)=COUNTIF($B$1:B656,TRUE),\"\",COUNTIF($B$1:B657,TRUE))","v":500},{"$f":"Worksheet!$D$12","v":true},{"$f":"RANDBETWEEN(5,RANDBETWEEN(5,Worksheet!$D$6))","v":65},"tonnes","±",{"$f":"IF(I657=1,H657*10^RANDBETWEEN(IF(Worksheet!$D$9,-1,0),0),IF(I657=2,H657*10^RANDBETWEEN(RANDBETWEEN(0,2),2),CHOOSE(RANDBETWEEN(1,3),5,10,20)))","v":0.5},{"$f":"IF(I657=1,D657,IF(I657=3,\"%\",\"kg\"))","v":"tonnes"},5,{"$f":"IF(AND(Worksheet!$D$8,RAND()<0.2),3,IF(RAND()<Worksheet!$D$7/100,1,2))","v":1},{"$f":"IF(I657=1,C657-F657,IF(I657=2,C657-F657/1000,IF(I657=3,(1-F657/100)*C657,\"\")))","v":64.5}," tonnes",{"$f":"J657*1000","v":64500},"kg",{"$f":"IF(I657=1,C657+F657,IF(I657=2,C657+F657/1000,IF(I657=3,(1+F657/100)*C657,\"\")))","v":65.5},"  tonnes",{"$f":"N657*1000","v":65500},"kg"]
[{"$f":"IF(COUNTIF($B$1:B658,TRUE)=COUNTIF($B$1:B657,TRUE),\"\",COUNTIF($B$1:B658,TRUE))","v":501},{"$f":"Worksheet!$D$13","v":true},{"$f":"RANDBETWEEN(5,RANDBETWEEN(5,Worksheet!$D$6))","v":33},"litres","±",{"$f":"IF(I658=1,H658*10^RANDBETWEEN(IF(Worksheet!$D$9,-1,0),0),IF(I658=2,H658*10^RANDBETWEEN(RANDBETWEEN(0,2),2),CHOOSE(RANDBETWEEN(1,3),5,10,20)))","v":5},{"$f":"IF(I658=1,D658,IF(I658=3,\"%\",\"ml\"))","v":"%"},9,{"$f":"IF(AND(Worksheet!$D$8,RAND()<0.2),3,IF(RAND()<Worksheet!$D$7/100,1,2))","v":3},{"$f":"IF(I658=1,C658-F658,IF(I658=2,C658-F658/1000,IF(I658=3,(1-F658/100)*C658,\"\")))","v":31.349999999999998}," litres",{"$f":"J658*1000","v":31349.999999999996},"ml",{"$f":"IF(I658=1,C658+F658,IF(I658=2,C658+F658/1000,IF(I658=3,(1+F658/100)*C658,\"\")))","v":34.65},"  litres",{"$f":"N658*1000","v":34650},"ml"]
[{"$f":"IF(COUNTIF($B$1:B659,TRUE)=COUNTIF($B$1:B658,TRUE),\"\",COUNTIF($B$1:B659,TRUE))","v":502},{"$f":"Worksheet!$D$14","v":true},{"$f":"RANDBETWEEN(5,RANDBETWEEN(5,Worksheet!$D$6))","v":101},"litres","±",{"$f":"IF(I659=1,H659*10^RANDBETWEEN(IF(Worksheet!$D$9,-1,0),0),IF(I659=2,H659*10^RANDBETWEEN(RANDBETWEEN(0,2),2),CHOOSE(RANDBETWEEN(1,3),5,10,20)))","v":100},{"$f":"IF(I659=1,D659,IF(I659=3,\"%\",\"cm³\"))","v":"cm³"},1,{"$f":"IF(AND(Worksheet!$D$8,RAND()<0.2),3,IF(RAND()<Worksheet!$D$7/100,1,2))","v":2},{"$f":"IF(I659=1,C659-F659,IF(I659=2,C659-F659/1000,IF(I659=3,(1-F659/100)*C659,\"\")))","v":100.9}," litres",{"$f":"J659*1000","v":100900},"cm³",{"$f":"IF(I659=1,C659+F659,IF(I659=2,C659+F659/1000,IF(I659=3,(1+F659/100)*C659,\"\")))","v":101.1},"  litres",{"$f":"N659*1000","v":101100},"cm³"]
[{"$f":"IF(COUNTIF($B$1:B660,TRUE)=COUNTIF($B$1:B659,TRUE),\"\",COUNTIF($B$1:B660,TRUE))","v":""},{"$f":"Worksheet!$D$15","v":false},{"$f":"RANDBETWEEN(5,20)","v":12},"min","±",{"$f":"IF(I660=1,H660*10^RANDBETWEEN(IF(Worksheet!$D$9,-1,0),0),IF(I660=2,H660,CHOOSE(RANDBETWEEN(1,3),5,10,20)))","v":5},{"$f":"IF(I660=1,D660,IF(I660=3,\"%\",\"sec\"))","v":"min"},5,{"$f":"IF(AND(Worksheet!$D$8,RAND()<0),3,IF(RAND()<Worksheet!$D$7/100,1,2))","v":1},null," min",{"$f":"IF(I660=1,C660-F660,IF(I660=2,C660*60-F660,\"\"))","v":7},{"$f":"IF($I660=1,\" hours\",\" min\")","v":" hours"},null,"  min",{"$f":"IF(I660=1,C660+F660,IF(I660=2,C660*60+F660,\"\"))","v":17},{"$f":"IF($I660=1,\" hours\",\" min\")","v":" hours"}]
[{"$f":"COUNTIF($B$1:B661,TRUE)","v":503},{"$f":"Worksheet!$B$11","v":true},{"$f":"RANDBETWEEN(5,RANDBETWEEN(5,Worksheet!$D$6))","v":277},"cm","±",{"$f":"IF(I661=1,H661*10^RANDBETWEEN(IF(Worksheet!$D$9,-1,0),0),IF(I661=2,H661,CHOOSE(RANDBETWEEN(1,3),5,10,20)))","v":0.2},{"$f":"IF(I661=1,D661,IF(I661=3,\"%\",\"mm\"))","v":"cm"},{"$f":"RANDBETWEEN(1,MIN(9,C661))","v":2},{"$f":"IF(AND(Worksheet!$D$8,RAND()<0.2),3,IF(RAND()<Worksheet!$D$7/100,1,2))","v":1},{"$f":"IF(I661=1,C661-F661,IF(I661=2,C661-F661/10,IF(I661=3,(1-F661/100)*C661,\"\")))","v":276.8},{"$f":"CONCATENATE(\" \",D661)","v":" cm"},{"$f":"J661*10","v":2768},"mm",{"$f":"IF(I661=1,C661+F661,IF(I661=2,C661+F661/10,IF(I661=3,(1+F661/100)*C661,\"\")))","v":277.2},{"$f":"CONCATENATE(\" \",K661)","v":"  cm"},{"$f":"N661*10","v":2772},"mm"]
[{"$f":"IF(COUNTIF($B$1:B662,TRUE)=COUNTIF($B$1:B661,TRUE),\"\",COUNTIF($B$1:B662,TRUE))","v":504},{"$f":"Worksheet!$B$12","v":true},{"$f":"RANDBETWEEN(5,RANDBETWEEN(5,Worksheet!$D$6))","v":187},"m","±",{"$f":"IF(I662=1,H662*10^RANDBETWEEN(IF(Worksheet!$D$9,-1,0),0),IF(I662=2,H662*10^RANDBETWEEN(RANDBETWEEN(0,1),1),CHOOSE(RANDBETWEEN(1,3),5,10,20)))","v":8},{"$f":"IF(I662=1,D662,IF(I662=3,\"%\",\"cm\"))","v":"m"},{"$f":"RANDBETWEEN(1,MIN(9,C662))","v":8},{"$f":"IF(AND(Worksheet!$D$8,RAND()<0.2),3,IF(RAND()<Worksheet!$D$7/100,1,2))","v":1},{"$f":"IF(I662=1,C662-F662,IF(I662=2,C662-F662/100,IF(I662=3,(1-F662/100)*C662,\"\")))","v":179},{"$f":"CONCATENATE(\" \",D662)","v":" m"},{"$f":"J662*100","v":17900},"cm",{"$f":"IF(I662=1,C662+F662,IF(I662=2,C662+F662/100,IF(I662=3,(1+F662/100)*C662,\"\")))","v":195},{"$f":"CONCATENATE(\" \",K662)","v":"  m"},{"$f":"N662*100","v":19500},"cm"]
[{"$f":"IF(COUNTIF($B$1:B663,TRUE)=COUNTIF($B$1:B662,TRUE),\"\",COUNTIF($B$1:B663,TRUE))","v":505},{"$f":"Worksheet!$B$13","v":true},{"$f":"RANDBETWEEN(5,RANDBETWEEN(5,Worksheet!$D$6))","v":9},"km","±",{"$f":"IF(I663=1,H663*10^RANDBETWEEN(IF(Worksheet!$D$9,-1,0),0),IF(I663=2,H663*10^RANDBETWEEN(RANDBETWEEN(0,2),2),CHOOSE(RANDBETWEEN(1,3),5,10,20)))","v":3},{"$f":"IF(I663=1,D663,IF(I663=3,\"%\",\"m\"))","v":"km"},3,{"$f":"IF(AND(Worksheet!$D$8,RAND()<0.2),3,IF(RAND()<Worksheet!$D$7/100,1,2))","v":1},{"$f":"IF(I663=1,C663-F663,IF(I663=2,C663-F663/1000,IF(I663=3,(1-F663/100)*C663,\"\")))","v":6}," km",{"$f":"J663*1000","v":6000},"m",{"$f":"IF(I663=1,C663+F663,IF(I663=2,C663+F663/1000,IF(I663=3,(1+F663/100)*C663,\"\")))","v":12},"  km",{"$f":"N663*1000","v":12000},"m"]
[{"$f":"IF(COUNTIF($B$1:B664,TRUE)=COUNTIF($B$1:B663,TRUE),\"\",COUNTIF($B$1:B664,TRUE))","v":""},{"$f":"Worksheet!$B$14","v":false},{"$f":"RANDBETWEEN(5,RANDBETWEEN(5,Worksheet!$D$6))","v":37},"m","±",{"$f":"IF(I664=1,H664*10^RANDBETWEEN(IF(Worksheet!$D$9,-1,0),0),IF(I664=2,H664*10^RANDBETWEEN(RANDBETWEEN(0,2),2),CHOOSE(RANDBETWEEN(1,3),5,10,20)))","v":0.5},{"$f":"IF(I664=1,D664,IF(I664=3,\"%\",\"mm\"))","v":"m"},5,{"$f":"IF(AND(Worksheet!$D$8,RAND()<0.2),3,IF(RAND()<Worksheet!$D$7/100,1,2))","v":1},{"$f":"IF(I664=1,C664-F664,IF(I664=2,C664-F664/1000,IF(I664=3,(1-F664/100)*C664,\"\")))","v":36.5}," m",{"$f":"J664*1000","v":36500},"mm",{"$f":"IF(I664=1,C664+F664,IF(I664=2,C664+F664/1000,IF(I664=3,(1+F664/100)*C664,\"\")))","v":37.5},"  m",{"$f":"N664*1000","v":37500},"mm"]
[{"$f":"IF(COUNTIF($B$1:B665,TRUE)=COUNTIF($B$1:B664,TRUE),\"\",COUNTIF($B$1:B665,TRUE))","v":506},{"$f":"Worksheet!$B$15","v":true},{"$f":"RANDBETWEEN(5,20)","v":19},"hours","±",{"$f":"IF(I665=1,H665*10^RANDBETWEEN(IF(Worksheet!$D$9,-1,0),0),IF(I665=2,H665,CHOOSE(RANDBETWEEN(1,3),5,10,20)))","v":1},{"$f":"IF(I665=1,D665,IF(I665=3,\"%\",\"min\"))","v":"hours"},1,{"$f":"IF(AND(Worksheet!$D$8,RAND()<0),3,IF(RAND()<Worksheet!$D$7/100,1,2))","v":1},null," hours",{"$f":"IF(I665=1,C665-F665,IF(I665=2,C665*60-F665,\"\"))","v":18},{"$f":"IF($I665=1,\" hours\",\" min\")","v":" hours"},null,"  hours",{"$f":"IF(I665=1,C665+F665,IF(I665=2,C665*60+F665,\"\"))","v":20},{"$f":"IF($I665=1,\" hours\",\" min\")","v":" hours"}]
[{"$f":"IF(COUNTIF($B$1:B666,TRUE)=COUNTIF($B$1:B665,TRUE),\"\",COUNTIF($B$1:B666,TRUE))","v":507},{"$f":"Worksheet!$D$11","v":true},{"$f":"RANDBETWEEN(5,RANDBETWEEN(5,Worksheet!$D$6))","v":75},"kg","±",{"$f":"IF(I666=1,H666*10^RANDBETWEEN(IF(Worksheet!$D$9,-1,0),0),IF(I666=2,H666*10^RANDBETWEEN(RANDBETWEEN(0,2),2),CHOOSE(RANDBETWEEN(1,3),5,10,20)))","v":40},{"$f":"IF(I666=1,D666,IF(I666=3,\"%\",\"g\"))","v":"g"},4,{"$f":"IF(AND(Worksheet!$D$8,RAND()<0.2),3,IF(RAND()<Worksheet!$D$7/100,1,2))","v":2},{"$f":"IF(I666=1,C666-F666,IF(I666=2,C666-F666/1000,IF(I666=3,(1-F666/100)*C666,\"\")))","v":74.959999999999994}," kg",{"$f":"J666*1000","v":74960},"g",{"$f":"IF(I666=1,C666+F666,IF(I666=2,C666+F666/1000,IF(I666=3,(1+F666/100)*C666,\"\")))","v":75.040000000000006},"  kg",{"$f":"N666*1000","v":75040},"g"]
[{"$f":"IF(COUNTIF($B$1:B667,TRUE)=COUNTIF($B$1:B666,TRUE),\"\",COUNTIF($B$1:B667,TRUE))","v":508},{"$f":"Worksheet!$D$12","v":true},{"$f":"RANDBETWEEN(5,RANDBETWEEN(5,Worksheet!$D$6))","v":288},"tonnes","±",{"$f":"IF(I667=1,H667*10^RANDBETWEEN(IF(Worksheet!$D$9,-1,0),0),IF(I667=2,H667*10^RANDBETWEEN(RANDBETWEEN(0,2),2),CHOOSE(RANDBETWEEN(1,3),5,10,20)))","v":0.4},{"$f":"IF(I667=1,D667,IF(I667=3,\"%\",\"kg\"))","v":"tonnes"},4,{"$f":"IF(AND(Worksheet!$D$8,RAND()<0.2),3,IF(RAND()<Worksheet!$D$7/100,1,2))","v":1},{"$f":"IF(I667=1,C667-F667,IF(I667=2,C667-F667/1000,IF(I667=3,(1-F667/100)*C667,\"\")))","v":287.60000000000002}," tonnes",{"$f":"J667*1000","v":287600},"kg",{"$f":"IF(I667=1,C667+F667,IF(I667=2,C667+F667/1000,IF(I667=3,(1+F667/100)*C667,\"\")))","v":288.39999999999998},"  tonnes",{"$f":"N667*1000","v":288400},"kg"]
[{"$f":"IF(COUNTIF($B$1:B668,TRUE)=COUNTIF($B$1:B667,TRUE),\"\",COUNTIF($B$1:B668,TRUE))","v":509},{"$f":"Worksheet!$D$13","v":true},{"$f":"RANDBETWEEN(5,RANDBETWEEN(5,Worksheet!$D$6))","v":45},"litres","±",{"$f":"IF(I668=1,H668*10^RANDBETWEEN(IF(Worksheet!$D$9,-1,0),0),IF(I668=2,H668*10^RANDBETWEEN(RANDBETWEEN(0,2),2),CHOOSE(RANDBETWEEN(1,3),5,10,20)))","v":3},{"$f":"IF(I668=1,D668,IF(I668=3,\"%\",\"ml\"))","v":"litres"},3,{"$f":"IF(AND(Worksheet!$D$8,RAND()<0.2),3,IF(RAND()<Worksheet!$D$7/100,1,2))","v":1},{"$f":"IF(I668=1,C668-F668,IF(I668=2,C668-F668/1000,IF(I668=3,(1-F668/100)*C668,\"\")))","v":42}," litres",{"$f":"J668*1000","v":42000},"ml",{"$f":"IF(I668=1,C668+F668,IF(I668=2,C668+F668/1000,IF(I668=3,(1+F668/100)*C668,\"\")))","v":48},"  litres",{"$f":"N668*1000","v":48000},"ml"]
[{"$f":"IF(COUNTIF($B$1:B669,TRUE)=COUNTIF($B$1:B668,TRUE),\"\",COUNTIF($B$1:B669,TRUE))","v":510},{"$f":"Worksheet!$D$14","v":true},{"$f":"RANDBETWEEN(5,RANDBETWEEN(5,Worksheet!$D$6))","v":267},"litres","±",{"$f":"IF(I669=1,H669*10^RANDBETWEEN(IF(Worksheet!$D$9,-1,0),0),IF(I669=2,H669*10^RANDBETWEEN(RANDBETWEEN(0,2),2),CHOOSE(RANDBETWEEN(1,3),5,10,20)))","v":1},{"$f":"IF(I669=1,D669,IF(I669=3,\"%\",\"cm³\"))","v":"litres"},1,{"$f":"IF(AND(Worksheet!$D$8,RAND()<0.2),3,IF(RAND()<Worksheet!$D$7/100,1,2))","v":1},{"$f":"IF(I669=1,C669-F669,IF(I669=2,C669-F669/1000,IF(I669=3,(1-F669/100)*C669,\"\")))","v":266}," litres",{"$f":"J669*1000","v":266000},"cm³",{"$f":"IF(I669=1,C669+F669,IF(I669=2,C669+F669/1000,IF(I669=3,(1+F669/100)*C669,\"\")))","v":268},"  litres",{"$f":"N669*1000","v":268000},"cm³"]
[{"$f":"IF(COUNTIF($B$1:B670,TRUE)=COUNTIF($B$1:B669,TRUE),\"\",COUNTIF($B$1:B670,TRUE))","v":""},{"$f":"Worksheet!$D$15","v":false},{"$f":"RANDBETWEEN(5,20)","v":17},"min","±",{"$f":"IF(I670=1,H670*10^RANDBETWEEN(IF(Worksheet!$D$9,-1,0),0),IF(I670=2,H670,CHOOSE(RANDBETWEEN(1,3),5,10,20)))","v":0.9},{"$f":"IF(I670=1,D670,IF(I670=3,\"%\",\"sec\"))","v":"min"},9,{"$f":"IF(AND(Worksheet!$D$8,RAND()<0),3,IF(RAND()<Worksheet!$D$7/100,1,2))","v":1},null," min",{"$f":"IF(I670=1,C670-F670,IF(I670=2,C670*60-F670,\"\"))","v":16.100000000000001},{"$f":"IF($I670=1,\" hours\",\" min\")","v":" hours"},null,"  min",{"$f":"IF(I670=1,C670+F670,IF(I670=2,C670*60+F670,\"\"))","v":17.899999999999999},{"$f":"IF($I670=1,\" hours\",\" min\")","v":" hours"}]
[{"$f":"COUNTIF($B$1:B671,TRUE)","v":511},{"$f":"Worksheet!$B$11","v":true},{"$f":"RANDBETWEEN(5,RANDBETWEEN(5,Worksheet!$D$6))","v":80},"cm","±",{"$f":"IF(I671=1,H671*10^RANDBETWEEN(IF(Worksheet!$D$9,-1,0),0),IF(I671=2,H671,CHOOSE(RANDBETWEEN(1,3),5,10,20)))","v":2},{"$f":"IF(I671=1,D671,IF(I671=3,\"%\",\"mm\"))","v":"mm"},{"$f":"RANDBETWEEN(1,MIN(9,C671))","v":2},{"$f":"IF(AND(Worksheet!$D$8,RAND()<0.2),3,IF(RAND()<Worksheet!$D$7/100,1,2))","v":2},{"$f":"IF(I671=1,C671-F671,IF(I671=2,C671-F671/10,IF(I671=3,(1-F671/100)*C671,\"\")))","v":79.8},{"$f":"CONCATENATE(\" \",D671)","v":" cm"},{"$f":"J671*10","v":798},"mm",{"$f":"IF(I671=1,C671+F671,IF(I671=2,C671+F671/10,IF(I671=3,(1+F671/100)*C671,\"\")))","v":80.2},{"$f":"CONCATENATE(\" \",K671)","v":"  cm"},{"$f":"N671*10","v":802},"mm"]
[{"$f":"IF(COUNTIF($B$1:B672,TRUE)=COUNTIF($B$1:B671,TRUE),\"\",COUNTIF($B$1:B672,TRUE))","v":512},{"$f":"Worksheet!$B$12","v":true},{"$f":"RANDBETWEEN(5,RANDBETWEEN(5,Worksheet!$D$6))","v":12},"m","±",{"$f":"IF(I672=1,H672*10^RANDBETWEEN(IF(Worksheet!$D$9,-1,0),0),IF(I672=2,H672*10^RANDBETWEEN(RANDBETWEEN(0,1),1),CHOOSE(RANDBETWEEN(1,3),5,10,20)))","v":9},{"$f":"IF(I672=1,D672,IF(I672=3,\"%\",\"cm\"))","v":"m"},{"$f":"RANDBETWEEN(1,MIN(9,C672))","v":9},{"$f":"IF(AND(Worksheet!$D$8,RAND()<0.2),3,IF(RAND()<Worksheet!$D$7/100,1,2))","v":1},{"$f":"IF(I672=1,C672-F672,IF(I672=2,C672-F672/100,IF(I672=3,(1-F672/100)*C672,\"\")))","v":3},{"$f":"CONCATENATE(\" \",D672)","v":" m"},{"$f":"J672*100","v":300},"cm",{"$f":"IF(I672=1,C672+F672,IF(I672=2,C672+F672/100,IF(I672=3,(1+F672/100)*C672,\"\")))","v":21},{"$f":"CONCATENATE(\" \",K672)","v":"  m"},{"$f":"N672*100","v":2100},"cm"]
[{"$f":"IF(COUNTIF($B$1:B673,TRUE)=COUNTIF($B$1:B672,TRUE),\"\",COUNTIF($B$1:B673,TRUE))","v":513},{"$f":"Worksheet!$B$13","v":true},{"$f":"RANDBETWEEN(5,RANDBETWEEN(5,Worksheet!$D$6))","v":69},"km","±",{"$f":"IF(I673=1,H673*10^RANDBETWEEN(IF(Worksheet!$D$9,-1,0),0),IF(I673=2,H673*10^RANDBETWEEN(RANDBETWEEN(0,2),2),CHOOSE(RANDBETWEEN(1,3),5,10,20)))","v":800},{"$f":"IF(I673=1,D673,IF(I673=3,\"%\",\"m\"))","v":"m"},8,{"$f":"IF(AND(Worksheet!$D$8,RAND()<0.2),3,IF(RAND()<Worksheet!$D$7/100,1,2))","v":2},{"$f":"IF(I673=1,C673-F673,IF(I673=2,C673-F673/1000,IF(I673=3,(1-F673/100)*C673,\"\")))","v":68.2}," km",{"$f":"J673*1000","v":68200},"m",{"$f":"IF(I673=1,C673+F673,IF(I673=2,C673+F673/1000,IF(I673=3,(1+F673/100)*C673,\"\")))","v":69.8},"  km",{"$f":"N673*1000","v":69800},"m"]
[{"$f":"IF(COUNTIF($B$1:B674,TRUE)=COUNTIF($B$1:B673,TRUE),\"\",COUNTIF($B$1:B674,TRUE))","v":""},{"$f":"Worksheet!$B$14","v":false},{"$f":"RANDBETWEEN(5,RANDBETWEEN(5,Worksheet!$D$6))","v":80},"m","±",{"$f":"IF(I674=1,H674*10^RANDBETWEEN(IF(Worksheet!$D$9,-1,0),0),IF(I674=2,H674*10^RANDBETWEEN(RANDBETWEEN(0,2),2),CHOOSE(RANDBETWEEN(1,3),5,10,20)))","v":4},{"$f":"IF(I674=1,D674,IF(I674=3,\"%\",\"mm\"))","v":"m"},4,{"$f":"IF(AND(Worksheet!$D$8,RAND()<0.2),3,IF(RAND()<Worksheet!$D$7/100,1,2))","v":1},{"$f":"IF(I674=1,C674-F674,IF(I674=2,C674-F674/1000,IF(I674=3,(1-F674/100)*C674,\"\")))","v":76}," m",{"$f":"J674*1000","v":76000},"mm",{"$f":"IF(I674=1,C674+F674,IF(I674=2,C674+F674/1000,IF(I674=3,(1+F674/100)*C674,\"\")))","v":84},"  m",{"$f":"N674*1000","v":84000},"mm"]
[{"$f":"IF(COUNTIF($B$1:B675,TRUE)=COUNTIF($B$1:B674,TRUE),\"\",COUNTIF($B$1:B675,TRUE))","v":514},{"$f":"Worksheet!$B$15","v":true},{"$f":"RANDBETWEEN(5,20)","v":14},"hours","±",{"$f":"IF(I675=1,H675*10^RANDBETWEEN(IF(Worksheet!$D$9,-1,0),0),IF(I675=2,H675,CHOOSE(RANDBETWEEN(1,3),5,10,20)))","v":2},{"$f":"IF(I675=1,D675,IF(I675=3,\"%\",\"min\"))","v":"hours"},2,{"$f":"IF(AND(Worksheet!$D$8,RAND()<0),3,IF(RAND()<Worksheet!$D$7/100,1,2))","v":1},null," hours",{"$f":"IF(I675=1,C675-F675,IF(I675=2,C675*60-F675,\"\"))","v":12},{"$f":"IF($I675=1,\" hours\",\" min\")","v":" hours"},null,"  hours",{"$f":"IF(I675=1,C675+F675,IF(I675=2,C675*60+F675,\"\"))","v":16},{"$f":"IF($I675=1,\" hours\",\" min\")","v":" hours"}]
[{"$f":"IF(COUNTIF($B$1:B676,TRUE)=COUNTIF($B$1:B675,TRUE),\"\",COUNTIF($B$1:B676,TRUE))","v":515},{"$f":"Worksheet!$D$11","v":true},{"$f":"RANDBETWEEN(5,RANDBETWEEN(5,Worksheet!$D$6))","v":6},"kg","±",{"$f":"IF(I676=1,H676*10^RANDBETWEEN(IF(Worksheet!$D$9,-1,0),0),IF(I676=2,H676*10^RANDBETWEEN(RANDBETWEEN(0,2),2),CHOOSE(RANDBETWEEN(1,3),5,10,20)))","v":5},{"$f":"IF(I676=1,D676,IF(I676=3,\"%\",\"g\"))","v":"%"},1,{"$f":"IF(AND(Worksheet!$D$8,RAND()<0.2),3,IF(RAND()<Worksheet!$D$7/100,1,2))","v":3},{"$f":"IF(I676=1,C676-F676,IF(I676=2,C676-F676/1000,IF(I676=3,(1-F676/100)*C676,\"\")))","v":5.6999999999999993}," kg",{"$f":"J676*1000","v":5699.9999999999991},"g",{"$f":"IF(I676=1,C676+F676,IF(I676=2,C676+F676/1000,IF(I676=3,(1+F676/100)*C676,\"\")))","v":6.3000000000000007},"  kg",{"$f":"N676*1000","v":6300.0000000000009},"g"]
[{"$f":"IF(COUNTIF($B$1:B677,TRUE)=COUNTIF($B$1:B676,TRUE),\"\",COUNTIF($B$1:B677,TRUE))","v":516},{"$f":"Worksheet!$D$12","v":true},{"$f":"RANDBETWEEN(5,RANDBETWEEN(5,Worksheet!$D$6))","v":35},"tonnes","±",{"$f":"IF(I677=1,H677*10^RANDBETWEEN(IF(Worksheet!$D$9,-1,0),0),IF(I677=2,H677*10^RANDBETWEEN(RANDBETWEEN(0,2),2),CHOOSE(RANDBETWEEN(1,3),5,10,20)))","v":7},{"$f":"IF(I677=1,D677,IF(I677=3,\"%\",\"kg\"))","v":"tonnes"},7,{"$f":"IF(AND(Worksheet!$D$8,RAND()<0.2),3,IF(RAND()<Worksheet!$D$7/100,1,2))","v":1},{"$f":"IF(I677=1,C677-F677,IF(I677=2,C677-F677/1000,IF(I677=3,(1-F677/100)*C677,\"\")))","v":28}," tonnes",{"$f":"J677*1000","v":28000},"kg",{"$f":"IF(I677=1,C677+F677,IF(I677=2,C677+F677/1000,IF(I677=3,(1+F677/100)*C677,\"\")))","v":42},"  tonnes",{"$f":"N677*1000","v":42000},"kg"]
[{"$f":"IF(COUNTIF($B$1:B678,TRUE)=COUNTIF($B$1:B677,TRUE),\"\",COUNTIF($B$1:B678,TRUE))","v":517},{"$f":"Worksheet!$D$13","v":true},{"$f":"RANDBETWEEN(5,RANDBETWEEN(5,Worksheet!$D$6))","v":33},"litres","±",{"$f":"IF(I678=1,H678*10^RANDBETWEEN(IF(Worksheet!$D$9,-1,0),0),IF(I678=2,H678*10^RANDBETWEEN(RANDBETWEEN(0,2),2),CHOOSE(RANDBETWEEN(1,3),5,10,20)))","v":2},{"$f":"IF(I678=1,D678,IF(I678=3,\"%\",\"ml\"))","v":"litres"},2,{"$f":"IF(AND(Worksheet!$D$8,RAND()<0.2),3,IF(RAND()<Worksheet!$D$7/100,1,2))","v":1},{"$f":"IF(I678=1,C678-F678,IF(I678=2,C678-F678/1000,IF(I678=3,(1-F678/100)*C678,\"\")))","v":31}," litres",{"$f":"J678*1000","v":31000},"ml",{"$f":"IF(I678=1,C678+F678,IF(I678=2,C678+F678/1000,IF(I678=3,(1+F678/100)*C678,\"\")))","v":35},"  litres",{"$f":"N678*1000","v":35000},"ml"]
[{"$f":"IF(COUNTIF($B$1:B679,TRUE)=COUNTIF($B$1:B678,TRUE),\"\",COUNTIF($B$1:B679,TRUE))","v":518},{"$f":"Worksheet!$D$14","v":true},{"$f":"RANDBETWEEN(5,RANDBETWEEN(5,Worksheet!$D$6))","v":102},"litres","±",{"$f":"IF(I679=1,H679*10^RANDBETWEEN(IF(Worksheet!$D$9,-1,0),0),IF(I679=2,H679*10^RANDBETWEEN(RANDBETWEEN(0,2),2),CHOOSE(RANDBETWEEN(1,3),5,10,20)))","v":7},{"$f":"IF(I679=1,D679,IF(I679=3,\"%\",\"cm³\"))","v":"litres"},7,{"$f":"IF(AND(Worksheet!$D$8,RAND()<0.2),3,IF(RAND()<Worksheet!$D$7/100,1,2))","v":1},{"$f":"IF(I679=1,C679-F679,IF(I679=2,C679-F679/1000,IF(I679=3,(1-F679/100)*C679,\"\")))","v":95}," litres",{"$f":"J679*1000","v":95000},"cm³",{"$f":"IF(I679=1,C679+F679,IF(I679=2,C679+F679/1000,IF(I679=3,(1+F679/100)*C679,\"\")))","v":109},"  litres",{"$f":"N679*1000","v":109000},"cm³"]
[{"$f":"IF(COUNTIF($B$1:B680,TRUE)=COUNTIF($B$1:B679,TRUE),\"\",COUNTIF($B$1:B680,TRUE))","v":""},{"$f":"Worksheet!$D$15","v":false},{"$f":"RANDBETWEEN(5,20)","v":10},"min","±",{"$f":"IF(I680=1,H680*10^RANDBETWEEN(IF(Worksheet!$D$9,-1,0),0),IF(I680=2,H680,CHOOSE(RANDBETWEEN(1,3),5,10,20)))","v":0.60000000000000009},{"$f":"IF(I680=1,D680,IF(I680=3,\"%\",\"sec\"))","v":"min"},6,{"$f":"IF(AND(Worksheet!$D$8,RAND()<0),3,IF(RAND()<Worksheet!$D$7/100,1,2))","v":1},null," min",{"$f":"IF(I680=1,C680-F680,IF(I680=2,C680*60-F680,\"\"))","v":9.4},{"$f":"IF($I680=1,\" hours\",\" min\")","v":" hours"},null,"  min",{"$f":"IF(I680=1,C680+F680,IF(I680=2,C680*60+F680,\"\"))","v":10.6},{"$f":"IF($I680=1,\" hours\",\" min\")","v":" hours"}]
[{"$f":"COUNTIF($B$1:B681,TRUE)","v":519},{"$f":"Worksheet!$B$11","v":true},{"$f":"RANDBETWEEN(5,RANDBETWEEN(5,Worksheet!$D$6))","v":8},"cm","±",{"$f":"IF(I681=1,H681*10^RANDBETWEEN(IF(Worksheet!$D$9,-1,0),0),IF(I681=2,H681,CHOOSE(RANDBETWEEN(1,3),5,10,20)))","v":1},{"$f":"IF(I681=1,D681,IF(I681=3,\"%\",\"mm\"))","v":"cm"},{"$f":"RANDBETWEEN(1,MIN(9,C681))","v":1},{"$f":"IF(AND(Worksheet!$D$8,RAND()<0.2),3,IF(RAND()<Worksheet!$D$7/100,1,2))","v":1},{"$f":"IF(I681=1,C681-F681,IF(I681=2,C681-F681/10,IF(I681=3,(1-F681/100)*C681,\"\")))","v":7},{"$f":"CONCATENATE(\" \",D681)","v":" cm"},{"$f":"J681*10","v":70},"mm",{"$f":"IF(I681=1,C681+F681,IF(I681=2,C681+F681/10,IF(I681=3,(1+F681/100)*C681,\"\")))","v":9},{"$f":"CONCATENATE(\" \",K681)","v":"  cm"},{"$f":"N681*10","v":90},"mm"]
[{"$f":"IF(COUNTIF($B$1:B682,TRUE)=COUNTIF($B$1:B681,TRUE),\"\",COUNTIF($B$1:B682,TRUE))","v":520},{"$f":"Worksheet!$B$12","v":true},{"$f":"RANDBETWEEN(5,RANDBETWEEN(5,Worksheet!$D$6))","v":192},"m","±",{"$f":"IF(I682=1,H682*10^RANDBETWEEN(IF(Worksheet!$D$9,-1,0),0),IF(I682=2,H682*10^RANDBETWEEN(RANDBETWEEN(0,1),1),CHOOSE(RANDBETWEEN(1,3),5,10,20)))","v":50},{"$f":"IF(I682=1,D682,IF(I682=3,\"%\",\"cm\"))","v":"cm"},{"$f":"RANDBETWEEN(1,MIN(9,C682))","v":5},{"$f":"IF(AND(Worksheet!$D$8,RAND()<0.2),3,IF(RAND()<Worksheet!$D$7/100,1,2))","v":2},{"$f":"IF(I682=1,C682-F682,IF(I682=2,C682-F682/100,IF(I682=3,(1-F682/100)*C682,\"\")))","v":191.5},{"$f":"CONCATENATE(\" \",D682)","v":" m"},{"$f":"J682*100","v":19150},"cm",{"$f":"IF(I682=1,C682+F682,IF(I682=2,C682+F682/100,IF(I682=3,(1+F682/100)*C682,\"\")))","v":192.5},{"$f":"CONCATENATE(\" \",K682)","v":"  m"},{"$f":"N682*100","v":19250},"cm"]
[{"$f":"IF(COUNTIF($B$1:B683,TRUE)=COUNTIF($B$1:B682,TRUE),\"\",COUNTIF($B$1:B683,TRUE))","v":521},{"$f":"Worksheet!$B$13","v":true},{"$f":"RANDBETWEEN(5,RANDBETWEEN(5,Worksheet!$D$6))","v":107},"km","±",{"$f":"IF(I683=1,H683*10^RANDBETWEEN(IF(Worksheet!$D$9,-1,0),0),IF(I683=2,H683*10^RANDBETWEEN(RANDBETWEEN(0,2),2),CHOOSE(RANDBETWEEN(1,3),5,10,20)))","v":7},{"$f":"IF(I683=1,D683,IF(I683=3,\"%\",\"m\"))","v":"km"},7,{"$f":"IF(AND(Worksheet!$D$8,RAND()<0.2),3,IF(RAND()<Worksheet!$D$7/100,1,2))","v":1},{"$f":"IF(I683=1,C683-F683,IF(I683=2,C683-F683/1000,IF(I683=3,(1-F683/100)*C683,\"\")))","v":100}," km",{"$f":"J683*1000","v":100000},"m",{"$f":"IF(I683=1,C683+F683,IF(I683=2,C683+F683/1000,IF(I683=3,(1+F683/100)*C683,\"\")))","v":114},"  km",{"$f":"N683*1000","v":114000},"m"]
[{"$f":"IF(COUNTIF($B$1:B684,TRUE)=COUNTIF($B$1:B683,TRUE),\"\",COUNTIF($B$1:B684,TRUE))","v":""},{"$f":"Worksheet!$B$14","v":false},{"$f":"RANDBETWEEN(5,RANDBETWEEN(5,Worksheet!$D$6))","v":10},"m","±",{"$f":"IF(I684=1,H684*10^RANDBETWEEN(IF(Worksheet!$D$9,-1,0),0),IF(I684=2,H684*10^RANDBETWEEN(RANDBETWEEN(0,2),2),CHOOSE(RANDBETWEEN(1,3),5,10,20)))","v":800},{"$f":"IF(I684=1,D684,IF(I684=3,\"%\",\"mm\"))","v":"mm"},8,{"$f":"IF(AND(Worksheet!$D$8,RAND()<0.2),3,IF(RAND()<Worksheet!$D$7/100,1,2))","v":2},{"$f":"IF(I684=1,C684-F684,IF(I684=2,C684-F684/1000,IF(I684=3,(1-F684/100)*C684,\"\")))","v":9.1999999999999993}," m",{"$f":"J684*1000","v":9200},"mm",{"$f":"IF(I684=1,C684+F684,IF(I684=2,C684+F684/1000,IF(I684=3,(1+F684/100)*C684,\"\")))","v":10.8},"  m",{"$f":"N684*1000","v":10800},"mm"]
[{"$f":"IF(COUNTIF($B$1:B685,TRUE)=COUNTIF($B$1:B684,TRUE),\"\",COUNTIF($B$1:B685,TRUE))","v":522},{"$f":"Worksheet!$B$15","v":true},{"$f":"RANDBETWEEN(5,20)","v":13},"hours","±",{"$f":"IF(I685=1,H685*10^RANDBETWEEN(IF(Worksheet!$D$9,-1,0),0),IF(I685=2,H685,CHOOSE(RANDBETWEEN(1,3),5,10,20)))","v":8},{"$f":"IF(I685=1,D685,IF(I685=3,\"%\",\"min\"))","v":"min"},8,{"$f":"IF(AND(Worksheet!$D$8,RAND()<0),3,IF(RAND()<Worksheet!$D$7/100,1,2))","v":2},null," hours",{"$f":"IF(I685=1,C685-F685,IF(I685=2,C685*60-F685,\"\"))","v":772},{"$f":"IF($I685=1,\" hours\",\" min\")","v":" min"},null,"  hours",{"$f":"IF(I685=1,C685+F685,IF(I685=2,C685*60+F685,\"\"))","v":788},{"$f":"IF($I685=1,\" hours\",\" min\")","v":" min"}]
[{"$f":"IF(COUNTIF($B$1:B686,TRUE)=COUNTIF($B$1:B685,TRUE),\"\",COUNTIF($B$1:B686,TRUE))","v":523},{"$f":"Worksheet!$D$11","v":true},{"$f":"RANDBETWEEN(5,RANDBETWEEN(5,Worksheet!$D$6))","v":152},"kg","±",{"$f":"IF(I686=1,H686*10^RANDBETWEEN(IF(Worksheet!$D$9,-1,0),0),IF(I686=2,H686*10^RANDBETWEEN(RANDBETWEEN(0,2),2),CHOOSE(RANDBETWEEN(1,3),5,10,20)))","v":8},{"$f":"IF(I686=1,D686,IF(I686=3,\"%\",\"g\"))","v":"kg"},8,{"$f":"IF(AND(Worksheet!$D$8,RAND()<0.2),3,IF(RAND()<Worksheet!$D$7/100,1,2))","v":1},{"$f":"IF(I686=1,C686-F686,IF(I686=2,C686-F686/1000,IF(I686=3,(1-F686/100)*C686,\"\")))","v":144}," kg",{"$f":"J686*1000","v":144000},"g",{"$f":"IF(I686=1,C686+F686,IF(I686=2,C686+F686/1000,IF(I686=3,(1+F686/100)*C686,\"\")))","v":160},"  kg",{"$f":"N686*1000","v":160000},"g"]
[{"$f":"IF(COUNTIF($B$1:B687,TRUE)=COUNTIF($B$1:B686,TRUE),\"\",COUNTIF($B$1:B687,TRUE))","v":524},{"$f":"Worksheet!$D$12","v":true},{"$f":"RANDBETWEEN(5,RANDBETWEEN(5,Worksheet!$D$6))","v":194},"tonnes","±",{"$f":"IF(I687=1,H687*10^RANDBETWEEN(IF(Worksheet!$D$9,-1,0),0),IF(I687=2,H687*10^RANDBETWEEN(RANDBETWEEN(0,2),2),CHOOSE(RANDBETWEEN(1,3),5,10,20)))","v":10},{"$f":"IF(I687=1,D687,IF(I687=3,\"%\",\"kg\"))","v":"%"},5,{"$f":"IF(AND(Worksheet!$D$8,RAND()<0.2),3,IF(RAND()<Worksheet!$D$7/100,1,2))","v":3},{"$f":"IF(I687=1,C687-F687,IF(I687=2,C687-F687/1000,IF(I687=3,(1-F687/100)*C687,\"\")))","v":174.6}," tonnes",{"$f":"J687*1000","v":174600},"kg",{"$f":"IF(I687=1,C687+F687,IF(I687=2,C687+F687/1000,IF(I687=3,(1+F687/100)*C687,\"\")))","v":213.4},"  tonnes",{"$f":"N687*1000","v":213400},"kg"]
[{"$f":"IF(COUNTIF($B$1:B688,TRUE)=COUNTIF($B$1:B687,TRUE),\"\",COUNTIF($B$1:B688,TRUE))","v":525},{"$f":"Worksheet!$D$13","v":true},{"$f":"RANDBETWEEN(5,RANDBETWEEN(5,Worksheet!$D$6))","v":97},"litres","±",{"$f":"IF(I688=1,H688*10^RANDBETWEEN(IF(Worksheet!$D$9,-1,0),0),IF(I688=2,H688*10^RANDBETWEEN(RANDBETWEEN(0,2),2),CHOOSE(RANDBETWEEN(1,3),5,10,20)))","v":0.1},{"$f":"IF(I688=1,D688,IF(I688=3,\"%\",\"ml\"))","v":"litres"},1,{"$f":"IF(AND(Worksheet!$D$8,RAND()<0.2),3,IF(RAND()<Worksheet!$D$7/100,1,2))","v":1},{"$f":"IF(I688=1,C688-F688,IF(I688=2,C688-F688/1000,IF(I688=3,(1-F688/100)*C688,\"\")))","v":96.9}," litres",{"$f":"J688*1000","v":96900},"ml",{"$f":"IF(I688=1,C688+F688,IF(I688=2,C688+F688/1000,IF(I688=3,(1+F688/100)*C688,\"\")))","v":97.1},"  litres",{"$f":"N688*1000","v":97100},"ml"]
[{"$f":"IF(COUNTIF($B$1:B689,TRUE)=COUNTIF($B$1:B688,TRUE),\"\",COUNTIF($B$1:B689,TRUE))","v":526},{"$f":"Worksheet!$D$14","v":true},{"$f":"RANDBETWEEN(5,RANDBETWEEN(5,Worksheet!$D$6))","v":195},"litres","±",{"$f":"IF(I689=1,H689*10^RANDBETWEEN(IF(Worksheet!$D$9,-1,0),0),IF(I689=2,H689*10^RANDBETWEEN(RANDBETWEEN(0,2),2),CHOOSE(RANDBETWEEN(1,3),5,10,20)))","v":0.60000000000000009},{"$f":"IF(I689=1,D689,IF(I689=3,\"%\",\"cm³\"))","v":"litres"},6,{"$f":"IF(AND(Worksheet!$D$8,RAND()<0.2),3,IF(RAND()<Worksheet!$D$7/100,1,2))","v":1},{"$f":"IF(I689=1,C689-F689,IF(I689=2,C689-F689/1000,IF(I689=3,(1-F689/100)*C689,\"\")))","v":194.4}," litres",{"$f":"J689*1000","v":194400},"cm³",{"$f":"IF(I689=1,C689+F689,IF(I689=2,C689+F689/1000,IF(I689=3,(1+F689/100)*C689,\"\")))","v":195.6},"  litres",{"$f":"N689*1000","v":195600},"cm³"]
[{"$f":"IF(COUNTIF($B$1:B690,TRUE)=COUNTIF($B$1:B689,TRUE),\"\",COUNTIF($B$1:B690,TRUE))","v":""},{"$f":"Worksheet!$D$15","v":false},{"$f":"RANDBETWEEN(5,20)","v":19},"min","±",{"$f":"IF(I690=1,H690*10^RANDBETWEEN(IF(Worksheet!$D$9,-1,0),0),IF(I690=2,H690,CHOOSE(RANDBETWEEN(1,3),5,10,20)))","v":0.1},{"$f":"IF(I690=1,D690,IF(I690=3,\"%\",\"sec\"))","v":"min"},1,{"$f":"IF(AND(Worksheet!$D$8,RAND()<0),3,IF(RAND()<Worksheet!$D$7/100,1,2))","v":1},null," min",{"$f":"IF(I690=1,C690-F690,IF(I690=2,C690*60-F690,\"\"))","v":18.899999999999999},{"$f":"IF($I690=1,\" hours\",\" min\")","v":" hours"},null,"  min",{"$f":"IF(I690=1,C690+F690,IF(I690=2,C690*60+F690,\"\"))","v":19.100000000000001},{"$f":"IF($I690=1,\" hours\",\" min\")","v":" hours"}]
[{"$f":"COUNTIF($B$1:B691,TRUE)","v":527},{"$f":"Worksheet!$B$11","v":true},{"$f":"RANDBETWEEN(5,RANDBETWEEN(5,Worksheet!$D$6))","v":93},"cm","±",{"$f":"IF(I691=1,H691*10^RANDBETWEEN(IF(Worksheet!$D$9,-1,0),0),IF(I691=2,H691,CHOOSE(RANDBETWEEN(1,3),5,10,20)))","v":8},{"$f":"IF(I691=1,D691,IF(I691=3,\"%\",\"mm\"))","v":"cm"},{"$f":"RANDBETWEEN(1,MIN(9,C691))","v":8},{"$f":"IF(AND(Worksheet!$D$8,RAND()<0.2),3,IF(RAND()<Worksheet!$D$7/100,1,2))","v":1},{"$f":"IF(I691=1,C691-F691,IF(I691=2,C691-F691/10,IF(I691=3,(1-F691/100)*C691,\"\")))","v":85},{"$f":"CONCATENATE(\" \",D691)","v":" cm"},{"$f":"J691*10","v":850},"mm",{"$f":"IF(I691=1,C691+F691,IF(I691=2,C691+F691/10,IF(I691=3,(1+F691/100)*C691,\"\")))","v":101},{"$f":"CONCATENATE(\" \",K691)","v":"  cm"},{"$f":"N691*10","v":1010},"mm"]
[{"$f":"IF(COUNTIF($B$1:B692,TRUE)=COUNTIF($B$1:B691,TRUE),\"\",COUNTIF($B$1:B692,TRUE))","v":528},{"$f":"Worksheet!$B$12","v":true},{"$f":"RANDBETWEEN(5,RANDBETWEEN(5,Worksheet!$D$6))","v":199},"m","±",{"$f":"IF(I692=1,H692*10^RANDBETWEEN(IF(Worksheet!$D$9,-1,0),0),IF(I692=2,H692*10^RANDBETWEEN(RANDBETWEEN(0,1),1),CHOOSE(RANDBETWEEN(1,3),5,10,20)))","v":0.60000000000000009},{"$f":"IF(I692=1,D692,IF(I692=3,\"%\",\"cm\"))","v":"m"},{"$f":"RANDBETWEEN(1,MIN(9,C692))","v":6},{"$f":"IF(AND(Worksheet!$D$8,RAND()<0.2),3,IF(RAND()<Worksheet!$D$7/100,1,2))","v":1},{"$f":"IF(I692=1,C692-F692,IF(I692=2,C692-F692/100,IF(I692=3,(1-F692/100)*C692,\"\")))","v":198.4},{"$f":"CONCATENATE(\" \",D692)","v":" m"},{"$f":"J692*100","v":19840},"cm",{"$f":"IF(I692=1,C692+F692,IF(I692=2,C692+F692/100,IF(I692=3,(1+F692/100)*C692,\"\")))","v":199.6},{"$f":"CONCATENATE(\" \",K692)","v":"  m"},{"$f":"N692*100","v":19960},"cm"]
[{"$f":"IF(COUNTIF($B$1:B693,TRUE)=COUNTIF($B$1:B692,TRUE),\"\",COUNTIF($B$1:B693,TRUE))","v":529},{"$f":"Worksheet!$B$13","v":true},{"$f":"RANDBETWEEN(5,RANDBETWEEN(5,Worksheet!$D$6))","v":5},"km","±",{"$f":"IF(I693=1,H693*10^RANDBETWEEN(IF(Worksheet!$D$9,-1,0),0),IF(I693=2,H693*10^RANDBETWEEN(RANDBETWEEN(0,2),2),CHOOSE(RANDBETWEEN(1,3),5,10,20)))","v":0.5},{"$f":"IF(I693=1,D693,IF(I693=3,\"%\",\"m\"))","v":"km"},5,{"$f":"IF(AND(Worksheet!$D$8,RAND()<0.2),3,IF(RAND()<Worksheet!$D$7/100,1,2))","v":1},{"$f":"IF(I693=1,C693-F693,IF(I693=2,C693-F693/1000,IF(I693=3,(1-F693/100)*C693,\"\")))","v":4.5}," km",{"$f":"J693*1000","v":4500},"m",{"$f":"IF(I693=1,C693+F693,IF(I693=2,C693+F693/1000,IF(I693=3,(1+F693/100)*C693,\"\")))","v":5.5},"  km",{"$f":"N693*1000","v":5500},"m"]
[{"$f":"IF(COUNTIF($B$1:B694,TRUE)=COUNTIF($B$1:B693,TRUE),\"\",COUNTIF($B$1:B694,TRUE))","v":""},{"$f":"Worksheet!$B$14","v":false},{"$f":"RANDBETWEEN(5,RANDBETWEEN(5,Worksheet!$D$6))","v":83},"m","±",{"$f":"IF(I694=1,H694*10^RANDBETWEEN(IF(Worksheet!$D$9,-1,0),0),IF(I694=2,H694*10^RANDBETWEEN(RANDBETWEEN(0,2),2),CHOOSE(RANDBETWEEN(1,3),5,10,20)))","v":0.2},{"$f":"IF(I694=1,D694,IF(I694=3,\"%\",\"mm\"))","v":"m"},2,{"$f":"IF(AND(Worksheet!$D$8,RAND()<0.2),3,IF(RAND()<Worksheet!$D$7/100,1,2))","v":1},{"$f":"IF(I694=1,C694-F694,IF(I694=2,C694-F694/1000,IF(I694=3,(1-F694/100)*C694,\"\")))","v":82.8}," m",{"$f":"J694*1000","v":82800},"mm",{"$f":"IF(I694=1,C694+F694,IF(I694=2,C694+F694/1000,IF(I694=3,(1+F694/100)*C694,\"\")))","v":83.2},"  m",{"$f":"N694*1000","v":83200},"mm"]
[{"$f":"IF(COUNTIF($B$1:B695,TRUE)=COUNTIF($B$1:B694,TRUE),\"\",COUNTIF($B$1:B695,TRUE))","v":530},{"$f":"Worksheet!$B$15","v":true},{"$f":"RANDBETWEEN(5,20)","v":8},"hours","±",{"$f":"IF(I695=1,H695*10^RANDBETWEEN(IF(Worksheet!$D$9,-1,0),0),IF(I695=2,H695,CHOOSE(RANDBETWEEN(1,3),5,10,20)))","v":6},{"$f":"IF(I695=1,D695,IF(I695=3,\"%\",\"min\"))","v":"min"},6,{"$f":"IF(AND(Worksheet!$D$8,RAND()<0),3,IF(RAND()<Worksheet!$D$7/100,1,2))","v":2},null," hours",{"$f":"IF(I695=1,C695-F695,IF(I695=2,C695*60-F695,\"\"))","v":474},{"$f":"IF($I695=1,\" hours\",\" min\")","v":" min"},null,"  hours",{"$f":"IF(I695=1,C695+F695,IF(I695=2,C695*60+F695,\"\"))","v":486},{"$f":"IF($I695=1,\" hours\",\" min\")","v":" min"}]
[{"$f":"IF(COUNTIF($B$1:B696,TRUE)=COUNTIF($B$1:B695,TRUE),\"\",COUNTIF($B$1:B696,TRUE))","v":531},{"$f":"Worksheet!$D$11","v":true},{"$f":"RANDBETWEEN(5,RANDBETWEEN(5,Worksheet!$D$6))","v":9},"kg","±",{"$f":"IF(I696=1,H696*10^RANDBETWEEN(IF(Worksheet!$D$9,-1,0),0),IF(I696=2,H696*10^RANDBETWEEN(RANDBETWEEN(0,2),2),CHOOSE(RANDBETWEEN(1,3),5,10,20)))","v":2},{"$f":"IF(I696=1,D696,IF(I696=3,\"%\",\"g\"))","v":"kg"},2,{"$f":"IF(AND(Worksheet!$D$8,RAND()<0.2),3,IF(RAND()<Worksheet!$D$7/100,1,2))","v":1},{"$f":"IF(I696=1,C696-F696,IF(I696=2,C696-F696/1000,IF(I696=3,(1-F696/100)*C696,\"\")))","v":7}," kg",{"$f":"J696*1000","v":7000},"g",{"$f":"IF(I696=1,C696+F696,IF(I696=2,C696+F696/1000,IF(I696=3,(1+F696/100)*C696,\"\")))","v":11},"  kg",{"$f":"N696*1000","v":11000},"g"]
[{"$f":"IF(COUNTIF($B$1:B697,TRUE)=COUNTIF($B$1:B696,TRUE),\"\",COUNTIF($B$1:B697,TRUE))","v":532},{"$f":"Worksheet!$D$12","v":true},{"$f":"RANDBETWEEN(5,RANDBETWEEN(5,Worksheet!$D$6))","v":63},"tonnes","±",{"$f":"IF(I697=1,H697*10^RANDBETWEEN(IF(Worksheet!$D$9,-1,0),0),IF(I697=2,H697*10^RANDBETWEEN(RANDBETWEEN(0,2),2),CHOOSE(RANDBETWEEN(1,3),5,10,20)))","v":0.2},{"$f":"IF(I697=1,D697,IF(I697=3,\"%\",\"kg\"))","v":"tonnes"},2,{"$f":"IF(AND(Worksheet!$D$8,RAND()<0.2),3,IF(RAND()<Worksheet!$D$7/100,1,2))","v":1},{"$f":"IF(I697=1,C697-F697,IF(I697=2,C697-F697/1000,IF(I697=3,(1-F697/100)*C697,\"\")))","v":62.8}," tonnes",{"$f":"J697*1000","v":62800},"kg",{"$f":"IF(I697=1,C697+F697,IF(I697=2,C697+F697/1000,IF(I697=3,(1+F697/100)*C697,\"\")))","v":63.2},"  tonnes",{"$f":"N697*1000","v":63200},"kg"]
[{"$f":"IF(COUNTIF($B$1:B698,TRUE)=COUNTIF($B$1:B697,TRUE),\"\",COUNTIF($B$1:B698,TRUE))","v":533},{"$f":"Worksheet!$D$13","v":true},{"$f":"RANDBETWEEN(5,RANDBETWEEN(5,Worksheet!$D$6))","v":159},"litres","±",{"$f":"IF(I698=1,H698*10^RANDBETWEEN(IF(Worksheet!$D$9,-1,0),0),IF(I698=2,H698*10^RANDBETWEEN(RANDBETWEEN(0,2),2),CHOOSE(RANDBETWEEN(1,3),5,10,20)))","v":5},{"$f":"IF(I698=1,D698,IF(I698=3,\"%\",\"ml\"))","v":"%"},6,{"$f":"IF(AND(Worksheet!$D$8,RAND()<0.2),3,IF(RAND()<Worksheet!$D$7/100,1,2))","v":3},{"$f":"IF(I698=1,C698-F698,IF(I698=2,C698-F698/1000,IF(I698=3,(1-F698/100)*C698,\"\")))","v":151.04999999999998}," litres",{"$f":"J698*1000","v":151049.99999999997},"ml",{"$f":"IF(I698=1,C698+F698,IF(I698=2,C698+F698/1000,IF(I698=3,(1+F698/100)*C698,\"\")))","v":166.95000000000002},"  litres",{"$f":"N698*1000","v":166950.00000000003},"ml"]
[{"$f":"IF(COUNTIF($B$1:B699,TRUE)=COUNTIF($B$1:B698,TRUE),\"\",COUNTIF($B$1:B699,TRUE))","v":534},{"$f":"Worksheet!$D$14","v":true},{"$f":"RANDBETWEEN(5,RANDBETWEEN(5,Worksheet!$D$6))","v":379},"litres","±",{"$f":"IF(I699=1,H699*10^RANDBETWEEN(IF(Worksheet!$D$9,-1,0),0),IF(I699=2,H699*10^RANDBETWEEN(RANDBETWEEN(0,2),2),CHOOSE(RANDBETWEEN(1,3),5,10,20)))","v":600},{"$f":"IF(I699=1,D699,IF(I699=3,\"%\",\"cm³\"))","v":"cm³"},6,{"$f":"IF(AND(Worksheet!$D$8,RAND()<0.2),3,IF(RAND()<Worksheet!$D$7/100,1,2))","v":2},{"$f":"IF(I699=1,C699-F699,IF(I699=2,C699-F699/1000,IF(I699=3,(1-F699/100)*C699,\"\")))","v":378.4}," litres",{"$f":"J699*1000","v":378400},"cm³",{"$f":"IF(I699=1,C699+F699,IF(I699=2,C699+F699/1000,IF(I699=3,(1+F699/100)*C699,\"\")))","v":379.6},"  litres",{"$f":"N699*1000","v":379600},"cm³"]
[{"$f":"IF(COUNTIF($B$1:B700,TRUE)=COUNTIF($B$1:B699,TRUE),\"\",COUNTIF($B$1:B700,TRUE))","v":""},{"$f":"Worksheet!$D$15","v":false},{"$f":"RANDBETWEEN(5,20)","v":11},"min","±",{"$f":"IF(I700=1,H700*10^RANDBETWEEN(IF(Worksheet!$D$9,-1,0),0),IF(I700=2,H700,CHOOSE(RANDBETWEEN(1,3),5,10,20)))","v":9},{"$f":"IF(I700=1,D700,IF(I700=3,\"%\",\"sec\"))","v":"min"},9,{"$f":"IF(AND(Worksheet!$D$8,RAND()<0),3,IF(RAND()<Worksheet!$D$7/100,1,2))","v":1},null," min",{"$f":"IF(I700=1,C700-F700,IF(I700=2,C700*60-F700,\"\"))","v":2},{"$f":"IF($I700=1,\" hours\",\" min\")","v":" hours"},null,"  min",{"$f":"IF(I700=1,C700+F700,IF(I700=2,C700*60+F700,\"\"))","v":20},{"$f":"IF($I700=1,\" hours\",\" min\")","v":" hours"}]
[{"$f":"COUNTIF($B$1:B701,TRUE)","v":535},{"$f":"Worksheet!$B$11","v":true},{"$f":"RANDBETWEEN(5,RANDBETWEEN(5,Worksheet!$D$6))","v":248},"cm","±",{"$f":"IF(I701=1,H701*10^RANDBETWEEN(IF(Worksheet!$D$9,-1,0),0),IF(I701=2,H701,CHOOSE(RANDBETWEEN(1,3),5,10,20)))","v":0.4},{"$f":"IF(I701=1,D701,IF(I701=3,\"%\",\"mm\"))","v":"cm"},{"$f":"RANDBETWEEN(1,MIN(9,C701))","v":4},{"$f":"IF(AND(Worksheet!$D$8,RAND()<0.2),3,IF(RAND()<Worksheet!$D$7/100,1,2))","v":1},{"$f":"IF(I701=1,C701-F701,IF(I701=2,C701-F701/10,IF(I701=3,(1-F701/100)*C701,\"\")))","v":247.6},{"$f":"CONCATENATE(\" \",D701)","v":" cm"},{"$f":"J701*10","v":2476},"mm",{"$f":"IF(I701=1,C701+F701,IF(I701=2,C701+F701/10,IF(I701=3,(1+F701/100)*C701,\"\")))","v":248.4},{"$f":"CONCATENATE(\" \",K701)","v":"  cm"},{"$f":"N701*10","v":2484},"mm"]
[{"$f":"IF(COUNTIF($B$1:B702,TRUE)=COUNTIF($B$1:B701,TRUE),\"\",COUNTIF($B$1:B702,TRUE))","v":536},{"$f":"Worksheet!$B$12","v":true},{"$f":"RANDBETWEEN(5,RANDBETWEEN(5,Worksheet!$D$6))","v":187},"m","±",{"$f":"IF(I702=1,H702*10^RANDBETWEEN(IF(Worksheet!$D$9,-1,0),0),IF(I702=2,H702*10^RANDBETWEEN(RANDBETWEEN(0,1),1),CHOOSE(RANDBETWEEN(1,3),5,10,20)))","v":0.8},{"$f":"IF(I702=1,D702,IF(I702=3,\"%\",\"cm\"))","v":"m"},{"$f":"RANDBETWEEN(1,MIN(9,C702))","v":8},{"$f":"IF(AND(Worksheet!$D$8,RAND()<0.2),3,IF(RAND()<Worksheet!$D$7/100,1,2))","v":1},{"$f":"IF(I702=1,C702-F702,IF(I702=2,C702-F702/100,IF(I702=3,(1-F702/100)*C702,\"\")))","v":186.2},{"$f":"CONCATENATE(\" \",D702)","v":" m"},{"$f":"J702*100","v":18620},"cm",{"$f":"IF(I702=1,C702+F702,IF(I702=2,C702+F702/100,IF(I702=3,(1+F702/100)*C702,\"\")))","v":187.8},{"$f":"CONCATENATE(\" \",K702)","v":"  m"},{"$f":"N702*100","v":18780},"cm"]
[{"$f":"IF(COUNTIF($B$1:B703,TRUE)=COUNTIF($B$1:B702,TRUE),\"\",COUNTIF($B$1:B703,TRUE))","v":537},{"$f":"Worksheet!$B$13","v":true},{"$f":"RANDBETWEEN(5,RANDBETWEEN(5,Worksheet!$D$6))","v":138},"km","±",{"$f":"IF(I703=1,H703*10^RANDBETWEEN(IF(Worksheet!$D$9,-1,0),0),IF(I703=2,H703*10^RANDBETWEEN(RANDBETWEEN(0,2),2),CHOOSE(RANDBETWEEN(1,3),5,10,20)))","v":9},{"$f":"IF(I703=1,D703,IF(I703=3,\"%\",\"m\"))","v":"km"},9,{"$f":"IF(AND(Worksheet!$D$8,RAND()<0.2),3,IF(RAND()<Worksheet!$D$7/100,1,2))","v":1},{"$f":"IF(I703=1,C703-F703,IF(I703=2,C703-F703/1000,IF(I703=3,(1-F703/100)*C703,\"\")))","v":129}," km",{"$f":"J703*1000","v":129000},"m",{"$f":"IF(I703=1,C703+F703,IF(I703=2,C703+F703/1000,IF(I703=3,(1+F703/100)*C703,\"\")))","v":147},"  km",{"$f":"N703*1000","v":147000},"m"]
[{"$f":"IF(COUNTIF($B$1:B704,TRUE)=COUNTIF($B$1:B703,TRUE),\"\",COUNTIF($B$1:B704,TRUE))","v":""},{"$f":"Worksheet!$B$14","v":false},{"$f":"RANDBETWEEN(5,RANDBETWEEN(5,Worksheet!$D$6))","v":90},"m","±",{"$f":"IF(I704=1,H704*10^RANDBETWEEN(IF(Worksheet!$D$9,-1,0),0),IF(I704=2,H704*10^RANDBETWEEN(RANDBETWEEN(0,2),2),CHOOSE(RANDBETWEEN(1,3),5,10,20)))","v":10},{"$f":"IF(I704=1,D704,IF(I704=3,\"%\",\"mm\"))","v":"%"},7,{"$f":"IF(AND(Worksheet!$D$8,RAND()<0.2),3,IF(RAND()<Worksheet!$D$7/100,1,2))","v":3},{"$f":"IF(I704=1,C704-F704,IF(I704=2,C704-F704/1000,IF(I704=3,(1-F704/100)*C704,\"\")))","v":81}," m",{"$f":"J704*1000","v":81000},"mm",{"$f":"IF(I704=1,C704+F704,IF(I704=2,C704+F704/1000,IF(I704=3,(1+F704/100)*C704,\"\")))","v":99.000000000000014},"  m",{"$f":"N704*1000","v":99000.000000000015},"mm"]
[{"$f":"IF(COUNTIF($B$1:B705,TRUE)=COUNTIF($B$1:B704,TRUE),\"\",COUNTIF($B$1:B705,TRUE))","v":538},{"$f":"Worksheet!$B$15","v":true},{"$f":"RANDBETWEEN(5,20)","v":11},"hours","±",{"$f":"IF(I705=1,H705*10^RANDBETWEEN(IF(Worksheet!$D$9,-1,0),0),IF(I705=2,H705,CHOOSE(RANDBETWEEN(1,3),5,10,20)))","v":0.1},{"$f":"IF(I705=1,D705,IF(I705=3,\"%\",\"min\"))","v":"hours"},1,{"$f":"IF(AND(Worksheet!$D$8,RAND()<0),3,IF(RAND()<Worksheet!$D$7/100,1,2))","v":1},null," hours",{"$f":"IF(I705=1,C705-F705,IF(I705=2,C705*60-F705,\"\"))","v":10.9},{"$f":"IF($I705=1,\" hours\",\" min\")","v":" hours"},null,"  hours",{"$f":"IF(I705=1,C705+F705,IF(I705=2,C705*60+F705,\"\"))","v":11.1},{"$f":"IF($I705=1,\" hours\",\" min\")","v":" hours"}]
[{"$f":"IF(COUNTIF($B$1:B706,TRUE)=COUNTIF($B$1:B705,TRUE),\"\",COUNTIF($B$1:B706,TRUE))","v":539},{"$f":"Worksheet!$D$11","v":true},{"$f":"RANDBETWEEN(5,RANDBETWEEN(5,Worksheet!$D$6))","v":20},"kg","±",{"$f":"IF(I706=1,H706*10^RANDBETWEEN(IF(Worksheet!$D$9,-1,0),0),IF(I706=2,H706*10^RANDBETWEEN(RANDBETWEEN(0,2),2),CHOOSE(RANDBETWEEN(1,3),5,10,20)))","v":0.30000000000000004},{"$f":"IF(I706=1,D706,IF(I706=3,\"%\",\"g\"))","v":"kg"},3,{"$f":"IF(AND(Worksheet!$D$8,RAND()<0.2),3,IF(RAND()<Worksheet!$D$7/100,1,2))","v":1},{"$f":"IF(I706=1,C706-F706,IF(I706=2,C706-F706/1000,IF(I706=3,(1-F706/100)*C706,\"\")))","v":19.7}," kg",{"$f":"J706*1000","v":19700},"g",{"$f":"IF(I706=1,C706+F706,IF(I706=2,C706+F706/1000,IF(I706=3,(1+F706/100)*C706,\"\")))","v":20.3},"  kg",{"$f":"N706*1000","v":20300},"g"]
[{"$f":"IF(COUNTIF($B$1:B707,TRUE)=COUNTIF($B$1:B706,TRUE),\"\",COUNTIF($B$1:B707,TRUE))","v":540},{"$f":"Worksheet!$D$12","v":true},{"$f":"RANDBETWEEN(5,RANDBETWEEN(5,Worksheet!$D$6))","v":79},"tonnes","±",{"$f":"IF(I707=1,H707*10^RANDBETWEEN(IF(Worksheet!$D$9,-1,0),0),IF(I707=2,H707*10^RANDBETWEEN(RANDBETWEEN(0,2),2),CHOOSE(RANDBETWEEN(1,3),5,10,20)))","v":9},{"$f":"IF(I707=1,D707,IF(I707=3,\"%\",\"kg\"))","v":"tonnes"},9,{"$f":"IF(AND(Worksheet!$D$8,RAND()<0.2),3,IF(RAND()<Worksheet!$D$7/100,1,2))","v":1},{"$f":"IF(I707=1,C707-F707,IF(I707=2,C707-F707/1000,IF(I707=3,(1-F707/100)*C707,\"\")))","v":70}," tonnes",{"$f":"J707*1000","v":70000},"kg",{"$f":"IF(I707=1,C707+F707,IF(I707=2,C707+F707/1000,IF(I707=3,(1+F707/100)*C707,\"\")))","v":88},"  tonnes",{"$f":"N707*1000","v":88000},"kg"]
[{"$f":"IF(COUNTIF($B$1:B708,TRUE)=COUNTIF($B$1:B707,TRUE),\"\",COUNTIF($B$1:B708,TRUE))","v":541},{"$f":"Worksheet!$D$13","v":true},{"$f":"RANDBETWEEN(5,RANDBETWEEN(5,Worksheet!$D$6))","v":182},"litres","±",{"$f":"IF(I708=1,H708*10^RANDBETWEEN(IF(Worksheet!$D$9,-1,0),0),IF(I708=2,H708*10^RANDBETWEEN(RANDBETWEEN(0,2),2),CHOOSE(RANDBETWEEN(1,3),5,10,20)))","v":0.9},{"$f":"IF(I708=1,D708,IF(I708=3,\"%\",\"ml\"))","v":"litres"},9,{"$f":"IF(AND(Worksheet!$D$8,RAND()<0.2),3,IF(RAND()<Worksheet!$D$7/100,1,2))","v":1},{"$f":"IF(I708=1,C708-F708,IF(I708=2,C708-F708/1000,IF(I708=3,(1-F708/100)*C708,\"\")))","v":181.1}," litres",{"$f":"J708*1000","v":181100},"ml",{"$f":"IF(I708=1,C708+F708,IF(I708=2,C708+F708/1000,IF(I708=3,(1+F708/100)*C708,\"\")))","v":182.9},"  litres",{"$f":"N708*1000","v":182900},"ml"]
[{"$f":"IF(COUNTIF($B$1:B709,TRUE)=COUNTIF($B$1:B708,TRUE),\"\",COUNTIF($B$1:B709,TRUE))","v":542},{"$f":"Worksheet!$D$14","v":true},{"$f":"RANDBETWEEN(5,RANDBETWEEN(5,Worksheet!$D$6))","v":229},"litres","±",{"$f":"IF(I709=1,H709*10^RANDBETWEEN(IF(Worksheet!$D$9,-1,0),0),IF(I709=2,H709*10^RANDBETWEEN(RANDBETWEEN(0,2),2),CHOOSE(RANDBETWEEN(1,3),5,10,20)))","v":10},{"$f":"IF(I709=1,D709,IF(I709=3,\"%\",\"cm³\"))","v":"%"},4,{"$f":"IF(AND(Worksheet!$D$8,RAND()<0.2),3,IF(RAND()<Worksheet!$D$7/100,1,2))","v":3},{"$f":"IF(I709=1,C709-F709,IF(I709=2,C709-F709/1000,IF(I709=3,(1-F709/100)*C709,\"\")))","v":206.1}," litres",{"$f":"J709*1000","v":206100},"cm³",{"$f":"IF(I709=1,C709+F709,IF(I709=2,C709+F709/1000,IF(I709=3,(1+F709/100)*C709,\"\")))","v":251.90000000000003},"  litres",{"$f":"N709*1000","v":251900.00000000003},"cm³"]
[{"$f":"IF(COUNTIF($B$1:B710,TRUE)=COUNTIF($B$1:B709,TRUE),\"\",COUNTIF($B$1:B710,TRUE))","v":""},{"$f":"Worksheet!$D$15","v":false},{"$f":"RANDBETWEEN(5,20)","v":18},"min","±",{"$f":"IF(I710=1,H710*10^RANDBETWEEN(IF(Worksheet!$D$9,-1,0),0),IF(I710=2,H710,CHOOSE(RANDBETWEEN(1,3),5,10,20)))","v":8},{"$f":"IF(I710=1,D710,IF(I710=3,\"%\",\"sec\"))","v":"min"},8,{"$f":"IF(AND(Worksheet!$D$8,RAND()<0),3,IF(RAND()<Worksheet!$D$7/100,1,2))","v":1},null," min",{"$f":"IF(I710=1,C710-F710,IF(I710=2,C710*60-F710,\"\"))","v":10},{"$f":"IF($I710=1,\" hours\",\" min\")","v":" hours"},null,"  min",{"$f":"IF(I710=1,C710+F710,IF(I710=2,C710*60+F710,\"\"))","v":26},{"$f":"IF($I710=1,\" hours\",\" min\")","v":" hours"}]
[{"$f":"COUNTIF($B$1:B711,TRUE)","v":543},{"$f":"Worksheet!$B$11","v":true},{"$f":"RANDBETWEEN(5,RANDBETWEEN(5,Worksheet!$D$6))","v":17},"cm","±",{"$f":"IF(I711=1,H711*10^RANDBETWEEN(IF(Worksheet!$D$9,-1,0),0),IF(I711=2,H711,CHOOSE(RANDBETWEEN(1,3),5,10,20)))","v":3},{"$f":"IF(I711=1,D711,IF(I711=3,\"%\",\"mm\"))","v":"cm"},{"$f":"RANDBETWEEN(1,MIN(9,C711))","v":3},{"$f":"IF(AND(Worksheet!$D$8,RAND()<0.2),3,IF(RAND()<Worksheet!$D$7/100,1,2))","v":1},{"$f":"IF(I711=1,C711-F711,IF(I711=2,C711-F711/10,IF(I711=3,(1-F711/100)*C711,\"\")))","v":14},{"$f":"CONCATENATE(\" \",D711)","v":" cm"},{"$f":"J711*10","v":140},"mm",{"$f":"IF(I711=1,C711+F711,IF(I711=2,C711+F711/10,IF(I711=3,(1+F711/100)*C711,\"\")))","v":20},{"$f":"CONCATENATE(\" \",K711)","v":"  cm"},{"$f":"N711*10","v":200},"mm"]
[{"$f":"IF(COUNTIF($B$1:B712,TRUE)=COUNTIF($B$1:B711,TRUE),\"\",COUNTIF($B$1:B712,TRUE))","v":544},{"$f":"Worksheet!$B$12","v":true},{"$f":"RANDBETWEEN(5,RANDBETWEEN(5,Worksheet!$D$6))","v":27},"m","±",{"$f":"IF(I712=1,H712*10^RANDBETWEEN(IF(Worksheet!$D$9,-1,0),0),IF(I712=2,H712*10^RANDBETWEEN(RANDBETWEEN(0,1),1),CHOOSE(RANDBETWEEN(1,3),5,10,20)))","v":0.8},{"$f":"IF(I712=1,D712,IF(I712=3,\"%\",\"cm\"))","v":"m"},{"$f":"RANDBETWEEN(1,MIN(9,C712))","v":8},{"$f":"IF(AND(Worksheet!$D$8,RAND()<0.2),3,IF(RAND()<Worksheet!$D$7/100,1,2))","v":1},{"$f":"IF(I712=1,C712-F712,IF(I712=2,C712-F712/100,IF(I712=3,(1-F712/100)*C712,\"\")))","v":26.2},{"$f":"CONCATENATE(\" \",D712)","v":" m"},{"$f":"J712*100","v":2620},"cm",{"$f":"IF(I712=1,C712+F712,IF(I712=2,C712+F712/100,IF(I712=3,(1+F712/100)*C712,\"\")))","v":27.8},{"$f":"CONCATENATE(\" \",K712)","v":"  m"},{"$f":"N712*100","v":2780},"cm"]
[{"$f":"IF(COUNTIF($B$1:B713,TRUE)=COUNTIF($B$1:B712,TRUE),\"\",COUNTIF($B$1:B713,TRUE))","v":545},{"$f":"Worksheet!$B$13","v":true},{"$f":"RANDBETWEEN(5,RANDBETWEEN(5,Worksheet!$D$6))","v":21},"km","±",{"$f":"IF(I713=1,H713*10^RANDBETWEEN(IF(Worksheet!$D$9,-1,0),0),IF(I713=2,H713*10^RANDBETWEEN(RANDBETWEEN(0,2),2),CHOOSE(RANDBETWEEN(1,3),5,10,20)))","v":900},{"$f":"IF(I713=1,D713,IF(I713=3,\"%\",\"m\"))","v":"m"},9,{"$f":"IF(AND(Worksheet!$D$8,RAND()<0.2),3,IF(RAND()<Worksheet!$D$7/100,1,2))","v":2},{"$f":"IF(I713=1,C713-F713,IF(I713=2,C713-F713/1000,IF(I713=3,(1-F713/100)*C713,\"\")))","v":20.100000000000001}," km",{"$f":"J713*1000","v":20100},"m",{"$f":"IF(I713=1,C713+F713,IF(I713=2,C713+F713/1000,IF(I713=3,(1+F713/100)*C713,\"\")))","v":21.9},"  km",{"$f":"N713*1000","v":21900},"m"]
[{"$f":"IF(COUNTIF($B$1:B714,TRUE)=COUNTIF($B$1:B713,TRUE),\"\",COUNTIF($B$1:B714,TRUE))","v":""},{"$f":"Worksheet!$B$14","v":false},{"$f":"RANDBETWEEN(5,RANDBETWEEN(5,Worksheet!$D$6))","v":7},"m","±",{"$f":"IF(I714=1,H714*10^RANDBETWEEN(IF(Worksheet!$D$9,-1,0),0),IF(I714=2,H714*10^RANDBETWEEN(RANDBETWEEN(0,2),2),CHOOSE(RANDBETWEEN(1,3),5,10,20)))","v":5},{"$f":"IF(I714=1,D714,IF(I714=3,\"%\",\"mm\"))","v":"%"},4,{"$f":"IF(AND(Worksheet!$D$8,RAND()<0.2),3,IF(RAND()<Worksheet!$D$7/100,1,2))","v":3},{"$f":"IF(I714=1,C714-F714,IF(I714=2,C714-F714/1000,IF(I714=3,(1-F714/100)*C714,\"\")))","v":6.6499999999999995}," m",{"$f":"J714*1000","v":6649.9999999999991},"mm",{"$f":"IF(I714=1,C714+F714,IF(I714=2,C714+F714/1000,IF(I714=3,(1+F714/100)*C714,\"\")))","v":7.3500000000000005},"  m",{"$f":"N714*1000","v":7350.0000000000009},"mm"]
[{"$f":"IF(COUNTIF($B$1:B715,TRUE)=COUNTIF($B$1:B714,TRUE),\"\",COUNTIF($B$1:B715,TRUE))","v":546},{"$f":"Worksheet!$B$15","v":true},{"$f":"RANDBETWEEN(5,20)","v":11},"hours","±",{"$f":"IF(I715=1,H715*10^RANDBETWEEN(IF(Worksheet!$D$9,-1,0),0),IF(I715=2,H715,CHOOSE(RANDBETWEEN(1,3),5,10,20)))","v":4},{"$f":"IF(I715=1,D715,IF(I715=3,\"%\",\"min\"))","v":"hours"},4,{"$f":"IF(AND(Worksheet!$D$8,RAND()<0),3,IF(RAND()<Worksheet!$D$7/100,1,2))","v":1},null," hours",{"$f":"IF(I715=1,C715-F715,IF(I715=2,C715*60-F715,\"\"))","v":7},{"$f":"IF($I715=1,\" hours\",\" min\")","v":" hours"},null,"  hours",{"$f":"IF(I715=1,C715+F715,IF(I715=2,C715*60+F715,\"\"))","v":15},{"$f":"IF($I715=1,\" hours\",\" min\")","v":" hours"}]
[{"$f":"IF(COUNTIF($B$1:B716,TRUE)=COUNTIF($B$1:B715,TRUE),\"\",COUNTIF($B$1:B716,TRUE))","v":547},{"$f":"Worksheet!$D$11","v":true},{"$f":"RANDBETWEEN(5,RANDBETWEEN(5,Worksheet!$D$6))","v":5},"kg","±",{"$f":"IF(I716=1,H716*10^RANDBETWEEN(IF(Worksheet!$D$9,-1,0),0),IF(I716=2,H716*10^RANDBETWEEN(RANDBETWEEN(0,2),2),CHOOSE(RANDBETWEEN(1,3),5,10,20)))","v":5},{"$f":"IF(I716=1,D716,IF(I716=3,\"%\",\"g\"))","v":"%"},5,{"$f":"IF(AND(Worksheet!$D$8,RAND()<0.2),3,IF(RAND()<Worksheet!$D$7/100,1,2))","v":3},{"$f":"IF(I716=1,C716-F716,IF(I716=2,C716-F716/1000,IF(I716=3,(1-F716/100)*C716,\"\")))","v":4.75}," kg",{"$f":"J716*1000","v":4750},"g",{"$f":"IF(I716=1,C716+F716,IF(I716=2,C716+F716/1000,IF(I716=3,(1+F716/100)*C716,\"\")))","v":5.25},"  kg",{"$f":"N716*1000","v":5250},"g"]
[{"$f":"IF(COUNTIF($B$1:B717,TRUE)=COUNTIF($B$1:B716,TRUE),\"\",COUNTIF($B$1:B717,TRUE))","v":548},{"$f":"Worksheet!$D$12","v":true},{"$f":"RANDBETWEEN(5,RANDBETWEEN(5,Worksheet!$D$6))","v":26},"tonnes","±",{"$f":"IF(I717=1,H717*10^RANDBETWEEN(IF(Worksheet!$D$9,-1,0),0),IF(I717=2,H717*10^RANDBETWEEN(RANDBETWEEN(0,2),2),CHOOSE(RANDBETWEEN(1,3),5,10,20)))","v":3},{"$f":"IF(I717=1,D717,IF(I717=3,\"%\",\"kg\"))","v":"tonnes"},3,{"$f":"IF(AND(Worksheet!$D$8,RAND()<0.2),3,IF(RAND()<Worksheet!$D$7/100,1,2))","v":1},{"$f":"IF(I717=1,C717-F717,IF(I717=2,C717-F717/1000,IF(I717=3,(1-F717/100)*C717,\"\")))","v":23}," tonnes",{"$f":"J717*1000","v":23000},"kg",{"$f":"IF(I717=1,C717+F717,IF(I717=2,C717+F717/1000,IF(I717=3,(1+F717/100)*C717,\"\")))","v":29},"  tonnes",{"$f":"N717*1000","v":29000},"kg"]
[{"$f":"IF(COUNTIF($B$1:B718,TRUE)=COUNTIF($B$1:B717,TRUE),\"\",COUNTIF($B$1:B718,TRUE))","v":549},{"$f":"Worksheet!$D$13","v":true},{"$f":"RANDBETWEEN(5,RANDBETWEEN(5,Worksheet!$D$6))","v":34},"litres","±",{"$f":"IF(I718=1,H718*10^RANDBETWEEN(IF(Worksheet!$D$9,-1,0),0),IF(I718=2,H718*10^RANDBETWEEN(RANDBETWEEN(0,2),2),CHOOSE(RANDBETWEEN(1,3),5,10,20)))","v":2},{"$f":"IF(I718=1,D718,IF(I718=3,\"%\",\"ml\"))","v":"litres"},2,{"$f":"IF(AND(Worksheet!$D$8,RAND()<0.2),3,IF(RAND()<Worksheet!$D$7/100,1,2))","v":1},{"$f":"IF(I718=1,C718-F718,IF(I718=2,C718-F718/1000,IF(I718=3,(1-F718/100)*C718,\"\")))","v":32}," litres",{"$f":"J718*1000","v":32000},"ml",{"$f":"IF(I718=1,C718+F718,IF(I718=2,C718+F718/1000,IF(I718=3,(1+F718/100)*C718,\"\")))","v":36},"  litres",{"$f":"N718*1000","v":36000},"ml"]
[{"$f":"IF(COUNTIF($B$1:B719,TRUE)=COUNTIF($B$1:B718,TRUE),\"\",COUNTIF($B$1:B719,TRUE))","v":550},{"$f":"Worksheet!$D$14","v":true},{"$f":"RANDBETWEEN(5,RANDBETWEEN(5,Worksheet!$D$6))","v":191},"litres","±",{"$f":"IF(I719=1,H719*10^RANDBETWEEN(IF(Worksheet!$D$9,-1,0),0),IF(I719=2,H719*10^RANDBETWEEN(RANDBETWEEN(0,2),2),CHOOSE(RANDBETWEEN(1,3),5,10,20)))","v":5},{"$f":"IF(I719=1,D719,IF(I719=3,\"%\",\"cm³\"))","v":"%"},5,{"$f":"IF(AND(Worksheet!$D$8,RAND()<0.2),3,IF(RAND()<Worksheet!$D$7/100,1,2))","v":3},{"$f":"IF(I719=1,C719-F719,IF(I719=2,C719-F719/1000,IF(I719=3,(1-F719/100)*C719,\"\")))","v":181.45}," litres",{"$f":"J719*1000","v":181450},"cm³",{"$f":"IF(I719=1,C719+F719,IF(I719=2,C719+F719/1000,IF(I719=3,(1+F719/100)*C719,\"\")))","v":200.55},"  litres",{"$f":"N719*1000","v":200550},"cm³"]
[{"$f":"IF(COUNTIF($B$1:B720,TRUE)=COUNTIF($B$1:B719,TRUE),\"\",COUNTIF($B$1:B720,TRUE))","v":""},{"$f":"Worksheet!$D$15","v":false},{"$f":"RANDBETWEEN(5,20)","v":19},"min","±",{"$f":"IF(I720=1,H720*10^RANDBETWEEN(IF(Worksheet!$D$9,-1,0),0),IF(I720=2,H720,CHOOSE(RANDBETWEEN(1,3),5,10,20)))","v":5},{"$f":"IF(I720=1,D720,IF(I720=3,\"%\",\"sec\"))","v":"sec"},5,{"$f":"IF(AND(Worksheet!$D$8,RAND()<0),3,IF(RAND()<Worksheet!$D$7/100,1,2))","v":2},null," min",{"$f":"IF(I720=1,C720-F720,IF(I720=2,C720*60-F720,\"\"))","v":1135},{"$f":"IF($I720=1,\" hours\",\" min\")","v":" min"},null,"  min",{"$f":"IF(I720=1,C720+F720,IF(I720=2,C720*60+F720,\"\"))","v":1145},{"$f":"IF($I720=1,\" hours\",\" min\")","v":" min"}]
[{"$f":"COUNTIF($B$1:B721,TRUE)","v":551},{"$f":"Worksheet!$B$11","v":true},{"$f":"RANDBETWEEN(5,RANDBETWEEN(5,Worksheet!$D$6))","v":5},"cm","±",{"$f":"IF(I721=1,H721*10^RANDBETWEEN(IF(Worksheet!$D$9,-1,0),0),IF(I721=2,H721,CHOOSE(RANDBETWEEN(1,3),5,10,20)))","v":3},{"$f":"IF(I721=1,D721,IF(I721=3,\"%\",\"mm\"))","v":"mm"},{"$f":"RANDBETWEEN(1,MIN(9,C721))","v":3},{"$f":"IF(AND(Worksheet!$D$8,RAND()<0.2),3,IF(RAND()<Worksheet!$D$7/100,1,2))","v":2},{"$f":"IF(I721=1,C721-F721,IF(I721=2,C721-F721/10,IF(I721=3,(1-F721/100)*C721,\"\")))","v":4.7},{"$f":"CONCATENATE(\" \",D721)","v":" cm"},{"$f":"J721*10","v":47},"mm",{"$f":"IF(I721=1,C721+F721,IF(I721=2,C721+F721/10,IF(I721=3,(1+F721/100)*C721,\"\")))","v":5.3},{"$f":"CONCATENATE(\" \",K721)","v":"  cm"},{"$f":"N721*10","v":53},"mm"]
[{"$f":"IF(COUNTIF($B$1:B722,TRUE)=COUNTIF($B$1:B721,TRUE),\"\",COUNTIF($B$1:B722,TRUE))","v":552},{"$f":"Worksheet!$B$12","v":true},{"$f":"RANDBETWEEN(5,RANDBETWEEN(5,Worksheet!$D$6))","v":175},"m","±",{"$f":"IF(I722=1,H722*10^RANDBETWEEN(IF(Worksheet!$D$9,-1,0),0),IF(I722=2,H722*10^RANDBETWEEN(RANDBETWEEN(0,1),1),CHOOSE(RANDBETWEEN(1,3),5,10,20)))","v":30},{"$f":"IF(I722=1,D722,IF(I722=3,\"%\",\"cm\"))","v":"cm"},{"$f":"RANDBETWEEN(1,MIN(9,C722))","v":3},{"$f":"IF(AND(Worksheet!$D$8,RAND()<0.2),3,IF(RAND()<Worksheet!$D$7/100,1,2))","v":2},{"$f":"IF(I722=1,C722-F722,IF(I722=2,C722-F722/100,IF(I722=3,(1-F722/100)*C722,\"\")))","v":174.7},{"$f":"CONCATENATE(\" \",D722)","v":" m"},{"$f":"J722*100","v":17470},"cm",{"$f":"IF(I722=1,C722+F722,IF(I722=2,C722+F722/100,IF(I722=3,(1+F722/100)*C722,\"\")))","v":175.3},{"$f":"CONCATENATE(\" \",K722)","v":"  m"},{"$f":"N722*100","v":17530},"cm"]
[{"$f":"IF(COUNTIF($B$1:B723,TRUE)=COUNTIF($B$1:B722,TRUE),\"\",COUNTIF($B$1:B723,TRUE))","v":553},{"$f":"Worksheet!$B$13","v":true},{"$f":"RANDBETWEEN(5,RANDBETWEEN(5,Worksheet!$D$6))","v":166},"km","±",{"$f":"IF(I723=1,H723*10^RANDBETWEEN(IF(Worksheet!$D$9,-1,0),0),IF(I723=2,H723*10^RANDBETWEEN(RANDBETWEEN(0,2),2),CHOOSE(RANDBETWEEN(1,3),5,10,20)))","v":5},{"$f":"IF(I723=1,D723,IF(I723=3,\"%\",\"m\"))","v":"%"},7,{"$f":"IF(AND(Worksheet!$D$8,RAND()<0.2),3,IF(RAND()<Worksheet!$D$7/100,1,2))","v":3},{"$f":"IF(I723=1,C723-F723,IF(I723=2,C723-F723/1000,IF(I723=3,(1-F723/100)*C723,\"\")))","v":157.69999999999999}," km",{"$f":"J723*1000","v":157700},"m",{"$f":"IF(I723=1,C723+F723,IF(I723=2,C723+F723/1000,IF(I723=3,(1+F723/100)*C723,\"\")))","v":174.3},"  km",{"$f":"N723*1000","v":174300},"m"]
[{"$f":"IF(COUNTIF($B$1:B724,TRUE)=COUNTIF($B$1:B723,TRUE),\"\",COUNTIF($B$1:B724,TRUE))","v":""},{"$f":"Worksheet!$B$14","v":false},{"$f":"RANDBETWEEN(5,RANDBETWEEN(5,Worksheet!$D$6))","v":13},"m","±",{"$f":"IF(I724=1,H724*10^RANDBETWEEN(IF(Worksheet!$D$9,-1,0),0),IF(I724=2,H724*10^RANDBETWEEN(RANDBETWEEN(0,2),2),CHOOSE(RANDBETWEEN(1,3),5,10,20)))","v":100},{"$f":"IF(I724=1,D724,IF(I724=3,\"%\",\"mm\"))","v":"mm"},1,{"$f":"IF(AND(Worksheet!$D$8,RAND()<0.2),3,IF(RAND()<Worksheet!$D$7/100,1,2))","v":2},{"$f":"IF(I724=1,C724-F724,IF(I724=2,C724-F724/1000,IF(I724=3,(1-F724/100)*C724,\"\")))","v":12.9}," m",{"$f":"J724*1000","v":12900},"mm",{"$f":"IF(I724=1,C724+F724,IF(I724=2,C724+F724/1000,IF(I724=3,(1+F724/100)*C724,\"\")))","v":13.1},"  m",{"$f":"N724*1000","v":13100},"mm"]
[{"$f":"IF(COUNTIF($B$1:B725,TRUE)=COUNTIF($B$1:B724,TRUE),\"\",COUNTIF($B$1:B725,TRUE))","v":554},{"$f":"Worksheet!$B$15","v":true},{"$f":"RANDBETWEEN(5,20)","v":14},"hours","±",{"$f":"IF(I725=1,H725*10^RANDBETWEEN(IF(Worksheet!$D$9,-1,0),0),IF(I725=2,H725,CHOOSE(RANDBETWEEN(1,3),5,10,20)))","v":0.30000000000000004},{"$f":"IF(I725=1,D725,IF(I725=3,\"%\",\"min\"))","v":"hours"},3,{"$f":"IF(AND(Worksheet!$D$8,RAND()<0),3,IF(RAND()<Worksheet!$D$7/100,1,2))","v":1},null," hours",{"$f":"IF(I725=1,C725-F725,IF(I725=2,C725*60-F725,\"\"))","v":13.7},{"$f":"IF($I725=1,\" hours\",\" min\")","v":" hours"},null,"  hours",{"$f":"IF(I725=1,C725+F725,IF(I725=2,C725*60+F725,\"\"))","v":14.3},{"$f":"IF($I725=1,\" hours\",\" min\")","v":" hours"}]
[{"$f":"IF(COUNTIF($B$1:B726,TRUE)=COUNTIF($B$1:B725,TRUE),\"\",COUNTIF($B$1:B726,TRUE))","v":555},{"$f":"Worksheet!$D$11","v":true},{"$f":"RANDBETWEEN(5,RANDBETWEEN(5,Worksheet!$D$6))","v":124},"kg","±",{"$f":"IF(I726=1,H726*10^RANDBETWEEN(IF(Worksheet!$D$9,-1,0),0),IF(I726=2,H726*10^RANDBETWEEN(RANDBETWEEN(0,2),2),CHOOSE(RANDBETWEEN(1,3),5,10,20)))","v":600},{"$f":"IF(I726=1,D726,IF(I726=3,\"%\",\"g\"))","v":"g"},6,{"$f":"IF(AND(Worksheet!$D$8,RAND()<0.2),3,IF(RAND()<Worksheet!$D$7/100,1,2))","v":2},{"$f":"IF(I726=1,C726-F726,IF(I726=2,C726-F726/1000,IF(I726=3,(1-F726/100)*C726,\"\")))","v":123.4}," kg",{"$f":"J726*1000","v":123400},"g",{"$f":"IF(I726=1,C726+F726,IF(I726=2,C726+F726/1000,IF(I726=3,(1+F726/100)*C726,\"\")))","v":124.6},"  kg",{"$f":"N726*1000","v":124600},"g"]
[{"$f":"IF(COUNTIF($B$1:B727,TRUE)=COUNTIF($B$1:B726,TRUE),\"\",COUNTIF($B$1:B727,TRUE))","v":556},{"$f":"Worksheet!$D$12","v":true},{"$f":"RANDBETWEEN(5,RANDBETWEEN(5,Worksheet!$D$6))","v":133},"tonnes","±",{"$f":"IF(I727=1,H727*10^RANDBETWEEN(IF(Worksheet!$D$9,-1,0),0),IF(I727=2,H727*10^RANDBETWEEN(RANDBETWEEN(0,2),2),CHOOSE(RANDBETWEEN(1,3),5,10,20)))","v":1},{"$f":"IF(I727=1,D727,IF(I727=3,\"%\",\"kg\"))","v":"tonnes"},1,{"$f":"IF(AND(Worksheet!$D$8,RAND()<0.2),3,IF(RAND()<Worksheet!$D$7/100,1,2))","v":1},{"$f":"IF(I727=1,C727-F727,IF(I727=2,C727-F727/1000,IF(I727=3,(1-F727/100)*C727,\"\")))","v":132}," tonnes",{"$f":"J727*1000","v":132000},"kg",{"$f":"IF(I727=1,C727+F727,IF(I727=2,C727+F727/1000,IF(I727=3,(1+F727/100)*C727,\"\")))","v":134},"  tonnes",{"$f":"N727*1000","v":134000},"kg"]
[{"$f":"IF(COUNTIF($B$1:B728,TRUE)=COUNTIF($B$1:B727,TRUE),\"\",COUNTIF($B$1:B728,TRUE))","v":557},{"$f":"Worksheet!$D$13","v":true},{"$f":"RANDBETWEEN(5,RANDBETWEEN(5,Worksheet!$D$6))","v":122},"litres","±",{"$f":"IF(I728=1,H728*10^RANDBETWEEN(IF(Worksheet!$D$9,-1,0),0),IF(I728=2,H728*10^RANDBETWEEN(RANDBETWEEN(0,2),2),CHOOSE(RANDBETWEEN(1,3),5,10,20)))","v":3},{"$f":"IF(I728=1,D728,IF(I728=3,\"%\",\"ml\"))","v":"litres"},3,{"$f":"IF(AND(Worksheet!$D$8,RAND()<0.2),3,IF(RAND()<Worksheet!$D$7/100,1,2))","v":1},{"$f":"IF(I728=1,C728-F728,IF(I728=2,C728-F728/1000,IF(I728=3,(1-F728/100)*C728,\"\")))","v":119}," litres",{"$f":"J728*1000","v":119000},"ml",{"$f":"IF(I728=1,C728+F728,IF(I728=2,C728+F728/1000,IF(I728=3,(1+F728/100)*C728,\"\")))","v":125},"  litres",{"$f":"N728*1000","v":125000},"ml"]
[{"$f":"IF(COUNTIF($B$1:B729,TRUE)=COUNTIF($B$1:B728,TRUE),\"\",COUNTIF($B$1:B729,TRUE))","v":558},{"$f":"Worksheet!$D$14","v":true},{"$f":"RANDBETWEEN(5,RANDBETWEEN(5,Worksheet!$D$6))","v":35},"litres","±",{"$f":"IF(I729=1,H729*10^RANDBETWEEN(IF(Worksheet!$D$9,-1,0),0),IF(I729=2,H729*10^RANDBETWEEN(RANDBETWEEN(0,2),2),CHOOSE(RANDBETWEEN(1,3),5,10,20)))","v":20},{"$f":"IF(I729=1,D729,IF(I729=3,\"%\",\"cm³\"))","v":"%"},4,{"$f":"IF(AND(Worksheet!$D$8,RAND()<0.2),3,IF(RAND()<Worksheet!$D$7/100,1,2))","v":3},{"$f":"IF(I729=1,C729-F729,IF(I729=2,C729-F729/1000,IF(I729=3,(1-F729/100)*C729,\"\")))","v":28}," litres",{"$f":"J729*1000","v":28000},"cm³",{"$f":"IF(I729=1,C729+F729,IF(I729=2,C729+F729/1000,IF(I729=3,(1+F729/100)*C729,\"\")))","v":42},"  litres",{"$f":"N729*1000","v":42000},"cm³"]
[{"$f":"IF(COUNTIF($B$1:B730,TRUE)=COUNTIF($B$1:B729,TRUE),\"\",COUNTIF($B$1:B730,TRUE))","v":""},{"$f":"Worksheet!$D$15","v":false},{"$f":"RANDBETWEEN(5,20)","v":12},"min","±",{"$f":"IF(I730=1,H730*10^RANDBETWEEN(IF(Worksheet!$D$9,-1,0),0),IF(I730=2,H730,CHOOSE(RANDBETWEEN(1,3),5,10,20)))","v":0.2},{"$f":"IF(I730=1,D730,IF(I730=3,\"%\",\"sec\"))","v":"min"},2,{"$f":"IF(AND(Worksheet!$D$8,RAND()<0),3,IF(RAND()<Worksheet!$D$7/100,1,2))","v":1},null," min",{"$f":"IF(I730=1,C730-F730,IF(I730=2,C730*60-F730,\"\"))","v":11.8},{"$f":"IF($I730=1,\" hours\",\" min\")","v":" hours"},null,"  min",{"$f":"IF(I730=1,C730+F730,IF(I730=2,C730*60+F730,\"\"))","v":12.2},{"$f":"IF($I730=1,\" hours\",\" min\")","v":" hours"}]
[{"$f":"COUNTIF($B$1:B731,TRUE)","v":559},{"$f":"Worksheet!$B$11","v":true},{"$f":"RANDBETWEEN(5,RANDBETWEEN(5,Worksheet!$D$6))","v":44},"cm","±",{"$f":"IF(I731=1,H731*10^RANDBETWEEN(IF(Worksheet!$D$9,-1,0),0),IF(I731=2,H731,CHOOSE(RANDBETWEEN(1,3),5,10,20)))","v":20},{"$f":"IF(I731=1,D731,IF(I731=3,\"%\",\"mm\"))","v":"%"},{"$f":"RANDBETWEEN(1,MIN(9,C731))","v":9},{"$f":"IF(AND(Worksheet!$D$8,RAND()<0.2),3,IF(RAND()<Worksheet!$D$7/100,1,2))","v":3},{"$f":"IF(I731=1,C731-F731,IF(I731=2,C731-F731/10,IF(I731=3,(1-F731/100)*C731,\"\")))","v":35.200000000000003},{"$f":"CONCATENATE(\" \",D731)","v":" cm"},{"$f":"J731*10","v":352},"mm",{"$f":"IF(I731=1,C731+F731,IF(I731=2,C731+F731/10,IF(I731=3,(1+F731/100)*C731,\"\")))","v":52.8},{"$f":"CONCATENATE(\" \",K731)","v":"  cm"},{"$f":"N731*10","v":528},"mm"]
[{"$f":"IF(COUNTIF($B$1:B732,TRUE)=COUNTIF($B$1:B731,TRUE),\"\",COUNTIF($B$1:B732,TRUE))","v":560},{"$f":"Worksheet!$B$12","v":true},{"$f":"RANDBETWEEN(5,RANDBETWEEN(5,Worksheet!$D$6))","v":84},"m","±",{"$f":"IF(I732=1,H732*10^RANDBETWEEN(IF(Worksheet!$D$9,-1,0),0),IF(I732=2,H732*10^RANDBETWEEN(RANDBETWEEN(0,1),1),CHOOSE(RANDBETWEEN(1,3),5,10,20)))","v":7},{"$f":"IF(I732=1,D732,IF(I732=3,\"%\",\"cm\"))","v":"cm"},{"$f":"RANDBETWEEN(1,MIN(9,C732))","v":7},{"$f":"IF(AND(Worksheet!$D$8,RAND()<0.2),3,IF(RAND()<Worksheet!$D$7/100,1,2))","v":2},{"$f":"IF(I732=1,C732-F732,IF(I732=2,C732-F732/100,IF(I732=3,(1-F732/100)*C732,\"\")))","v":83.93},{"$f":"CONCATENATE(\" \",D732)","v":" m"},{"$f":"J732*100","v":8393},"cm",{"$f":"IF(I732=1,C732+F732,IF(I732=2,C732+F732/100,IF(I732=3,(1+F732/100)*C732,\"\")))","v":84.07},{"$f":"CONCATENATE(\" \",K732)","v":"  m"},{"$f":"N732*100","v":8407},"cm"]
[{"$f":"IF(COUNTIF($B$1:B733,TRUE)=COUNTIF($B$1:B732,TRUE),\"\",COUNTIF($B$1:B733,TRUE))","v":561},{"$f":"Worksheet!$B$13","v":true},{"$f":"RANDBETWEEN(5,RANDBETWEEN(5,Worksheet!$D$6))","v":82},"km","±",{"$f":"IF(I733=1,H733*10^RANDBETWEEN(IF(Worksheet!$D$9,-1,0),0),IF(I733=2,H733*10^RANDBETWEEN(RANDBETWEEN(0,2),2),CHOOSE(RANDBETWEEN(1,3),5,10,20)))","v":7},{"$f":"IF(I733=1,D733,IF(I733=3,\"%\",\"m\"))","v":"km"},7,{"$f":"IF(AND(Worksheet!$D$8,RAND()<0.2),3,IF(RAND()<Worksheet!$D$7/100,1,2))","v":1},{"$f":"IF(I733=1,C733-F733,IF(I733=2,C733-F733/1000,IF(I733=3,(1-F733/100)*C733,\"\")))","v":75}," km",{"$f":"J733*1000","v":75000},"m",{"$f":"IF(I733=1,C733+F733,IF(I733=2,C733+F733/1000,IF(I733=3,(1+F733/100)*C733,\"\")))","v":89},"  km",{"$f":"N733*1000","v":89000},"m"]
[{"$f":"IF(COUNTIF($B$1:B734,TRUE)=COUNTIF($B$1:B733,TRUE),\"\",COUNTIF($B$1:B734,TRUE))","v":""},{"$f":"Worksheet!$B$14","v":false},{"$f":"RANDBETWEEN(5,RANDBETWEEN(5,Worksheet!$D$6))","v":96},"m","±",{"$f":"IF(I734=1,H734*10^RANDBETWEEN(IF(Worksheet!$D$9,-1,0),0),IF(I734=2,H734*10^RANDBETWEEN(RANDBETWEEN(0,2),2),CHOOSE(RANDBETWEEN(1,3),5,10,20)))","v":20},{"$f":"IF(I734=1,D734,IF(I734=3,\"%\",\"mm\"))","v":"%"},8,{"$f":"IF(AND(Worksheet!$D$8,RAND()<0.2),3,IF(RAND()<Worksheet!$D$7/100,1,2))","v":3},{"$f":"IF(I734=1,C734-F734,IF(I734=2,C734-F734/1000,IF(I734=3,(1-F734/100)*C734,\"\")))","v":76.800000000000011}," m",{"$f":"J734*1000","v":76800.000000000015},"mm",{"$f":"IF(I734=1,C734+F734,IF(I734=2,C734+F734/1000,IF(I734=3,(1+F734/100)*C734,\"\")))","v":115.19999999999999},"  m",{"$f":"N734*1000","v":115199.99999999999},"mm"]
[{"$f":"IF(COUNTIF($B$1:B735,TRUE)=COUNTIF($B$1:B734,TRUE),\"\",COUNTIF($B$1:B735,TRUE))","v":562},{"$f":"Worksheet!$B$15","v":true},{"$f":"RANDBETWEEN(5,20)","v":8},"hours","±",{"$f":"IF(I735=1,H735*10^RANDBETWEEN(IF(Worksheet!$D$9,-1,0),0),IF(I735=2,H735,CHOOSE(RANDBETWEEN(1,3),5,10,20)))","v":8},{"$f":"IF(I735=1,D735,IF(I735=3,\"%\",\"min\"))","v":"min"},8,{"$f":"IF(AND(Worksheet!$D$8,RAND()<0),3,IF(RAND()<Worksheet!$D$7/100,1,2))","v":2},null," hours",{"$f":"IF(I735=1,C735-F735,IF(I735=2,C735*60-F735,\"\"))","v":472},{"$f":"IF($I735=1,\" hours\",\" min\")","v":" min"},null,"  hours",{"$f":"IF(I735=1,C735+F735,IF(I735=2,C735*60+F735,\"\"))","v":488},{"$f":"IF($I735=1,\" hours\",\" min\")","v":" min"}]
[{"$f":"IF(COUNTIF($B$1:B736,TRUE)=COUNTIF($B$1:B735,TRUE),\"\",COUNTIF($B$1:B736,TRUE))","v":563},{"$f":"Worksheet!$D$11","v":true},{"$f":"RANDBETWEEN(5,RANDBETWEEN(5,Worksheet!$D$6))","v":281},"kg","±",{"$f":"IF(I736=1,H736*10^RANDBETWEEN(IF(Worksheet!$D$9,-1,0),0),IF(I736=2,H736*10^RANDBETWEEN(RANDBETWEEN(0,2),2),CHOOSE(RANDBETWEEN(1,3),5,10,20)))","v":6},{"$f":"IF(I736=1,D736,IF(I736=3,\"%\",\"g\"))","v":"kg"},6,{"$f":"IF(AND(Worksheet!$D$8,RAND()<0.2),3,IF(RAND()<Worksheet!$D$7/100,1,2))","v":1},{"$f":"IF(I736=1,C736-F736,IF(I736=2,C736-F736/1000,IF(I736=3,(1-F736/100)*C736,\"\")))","v":275}," kg",{"$f":"J736*1000","v":275000},"g",{"$f":"IF(I736=1,C736+F736,IF(I736=2,C736+F736/1000,IF(I736=3,(1+F736/100)*C736,\"\")))","v":287},"  kg",{"$f":"N736*1000","v":287000},"g"]
[{"$f":"IF(COUNTIF($B$1:B737,TRUE)=COUNTIF($B$1:B736,TRUE),\"\",COUNTIF($B$1:B737,TRUE))","v":564},{"$f":"Worksheet!$D$12","v":true},{"$f":"RANDBETWEEN(5,RANDBETWEEN(5,Worksheet!$D$6))","v":52},"tonnes","±",{"$f":"IF(I737=1,H737*10^RANDBETWEEN(IF(Worksheet!$D$9,-1,0),0),IF(I737=2,H737*10^RANDBETWEEN(RANDBETWEEN(0,2),2),CHOOSE(RANDBETWEEN(1,3),5,10,20)))","v":5},{"$f":"IF(I737=1,D737,IF(I737=3,\"%\",\"kg\"))","v":"%"},7,{"$f":"IF(AND(Worksheet!$D$8,RAND()<0.2),3,IF(RAND()<Worksheet!$D$7/100,1,2))","v":3},{"$f":"IF(I737=1,C737-F737,IF(I737=2,C737-F737/1000,IF(I737=3,(1-F737/100)*C737,\"\")))","v":49.4}," tonnes",{"$f":"J737*1000","v":49400},"kg",{"$f":"IF(I737=1,C737+F737,IF(I737=2,C737+F737/1000,IF(I737=3,(1+F737/100)*C737,\"\")))","v":54.6},"  tonnes",{"$f":"N737*1000","v":54600},"kg"]
[{"$f":"IF(COUNTIF($B$1:B738,TRUE)=COUNTIF($B$1:B737,TRUE),\"\",COUNTIF($B$1:B738,TRUE))","v":565},{"$f":"Worksheet!$D$13","v":true},{"$f":"RANDBETWEEN(5,RANDBETWEEN(5,Worksheet!$D$6))","v":87},"litres","±",{"$f":"IF(I738=1,H738*10^RANDBETWEEN(IF(Worksheet!$D$9,-1,0),0),IF(I738=2,H738*10^RANDBETWEEN(RANDBETWEEN(0,2),2),CHOOSE(RANDBETWEEN(1,3),5,10,20)))","v":5},{"$f":"IF(I738=1,D738,IF(I738=3,\"%\",\"ml\"))","v":"%"},1,{"$f":"IF(AND(Worksheet!$D$8,RAND()<0.2),3,IF(RAND()<Worksheet!$D$7/100,1,2))","v":3},{"$f":"IF(I738=1,C738-F738,IF(I738=2,C738-F738/1000,IF(I738=3,(1-F738/100)*C738,\"\")))","v":82.649999999999991}," litres",{"$f":"J738*1000","v":82649.999999999985},"ml",{"$f":"IF(I738=1,C738+F738,IF(I738=2,C738+F738/1000,IF(I738=3,(1+F738/100)*C738,\"\")))","v":91.350000000000009},"  litres",{"$f":"N738*1000","v":91350.000000000015},"ml"]
[{"$f":"IF(COUNTIF($B$1:B739,TRUE)=COUNTIF($B$1:B738,TRUE),\"\",COUNTIF($B$1:B739,TRUE))","v":566},{"$f":"Worksheet!$D$14","v":true},{"$f":"RANDBETWEEN(5,RANDBETWEEN(5,Worksheet!$D$6))","v":85},"litres","±",{"$f":"IF(I739=1,H739*10^RANDBETWEEN(IF(Worksheet!$D$9,-1,0),0),IF(I739=2,H739*10^RANDBETWEEN(RANDBETWEEN(0,2),2),CHOOSE(RANDBETWEEN(1,3),5,10,20)))","v":0.9},{"$f":"IF(I739=1,D739,IF(I739=3,\"%\",\"cm³\"))","v":"litres"},9,{"$f":"IF(AND(Worksheet!$D$8,RAND()<0.2),3,IF(RAND()<Worksheet!$D$7/100,1,2))","v":1},{"$f":"IF(I739=1,C739-F739,IF(I739=2,C739-F739/1000,IF(I739=3,(1-F739/100)*C739,\"\")))","v":84.1}," litres",{"$f":"J739*1000","v":84100},"cm³",{"$f":"IF(I739=1,C739+F739,IF(I739=2,C739+F739/1000,IF(I739=3,(1+F739/100)*C739,\"\")))","v":85.9},"  litres",{"$f":"N739*1000","v":85900},"cm³"]
[{"$f":"IF(COUNTIF($B$1:B740,TRUE)=COUNTIF($B$1:B739,TRUE),\"\",COUNTIF($B$1:B740,TRUE))","v":""},{"$f":"Worksheet!$D$15","v":false},{"$f":"RANDBETWEEN(5,20)","v":9},"min","±",{"$f":"IF(I740=1,H740*10^RANDBETWEEN(IF(Worksheet!$D$9,-1,0),0),IF(I740=2,H740,CHOOSE(RANDBETWEEN(1,3),5,10,20)))","v":0.9},{"$f":"IF(I740=1,D740,IF(I740=3,\"%\",\"sec\"))","v":"min"},9,{"$f":"IF(AND(Worksheet!$D$8,RAND()<0),3,IF(RAND()<Worksheet!$D$7/100,1,2))","v":1},null," min",{"$f":"IF(I740=1,C740-F740,IF(I740=2,C740*60-F740,\"\"))","v":8.1},{"$f":"IF($I740=1,\" hours\",\" min\")","v":" hours"},null,"  min",{"$f":"IF(I740=1,C740+F740,IF(I740=2,C740*60+F740,\"\"))","v":9.9},{"$f":"IF($I740=1,\" hours\",\" min\")","v":" hours"}]
[{"$f":"COUNTIF($B$1:B741,TRUE)","v":567},{"$f":"Worksheet!$B$11","v":true},{"$f":"RANDBETWEEN(5,RANDBETWEEN(5,Worksheet!$D$6))","v":66},"cm","±",{"$f":"IF(I741=1,H741*10^RANDBETWEEN(IF(Worksheet!$D$9,-1,0),0),IF(I741=2,H741,CHOOSE(RANDBETWEEN(1,3),5,10,20)))","v":0.8},{"$f":"IF(I741=1,D741,IF(I741=3,\"%\",\"mm\"))","v":"cm"},{"$f":"RANDBETWEEN(1,MIN(9,C741))","v":8},{"$f":"IF(AND(Worksheet!$D$8,RAND()<0.2),3,IF(RAND()<Worksheet!$D$7/100,1,2))","v":1},{"$f":"IF(I741=1,C741-F741,IF(I741=2,C741-F741/10,IF(I741=3,(1-F741/100)*C741,\"\")))","v":65.2},{"$f":"CONCATENATE(\" \",D741)","v":" cm"},{"$f":"J741*10","v":652},"mm",{"$f":"IF(I741=1,C741+F741,IF(I741=2,C741+F741/10,IF(I741=3,(1+F741/100)*C741,\"\")))","v":66.8},{"$f":"CONCATENATE(\" \",K741)","v":"  cm"},{"$f":"N741*10","v":668},"mm"]
[{"$f":"IF(COUNTIF($B$1:B742,TRUE)=COUNTIF($B$1:B741,TRUE),\"\",COUNTIF($B$1:B742,TRUE))","v":568},{"$f":"Worksheet!$B$12","v":true},{"$f":"RANDBETWEEN(5,RANDBETWEEN(5,Worksheet!$D$6))","v":129},"m","±",{"$f":"IF(I742=1,H742*10^RANDBETWEEN(IF(Worksheet!$D$9,-1,0),0),IF(I742=2,H742*10^RANDBETWEEN(RANDBETWEEN(0,1),1),CHOOSE(RANDBETWEEN(1,3),5,10,20)))","v":0.2},{"$f":"IF(I742=1,D742,IF(I742=3,\"%\",\"cm\"))","v":"m"},{"$f":"RANDBETWEEN(1,MIN(9,C742))","v":2},{"$f":"IF(AND(Worksheet!$D$8,RAND()<0.2),3,IF(RAND()<Worksheet!$D$7/100,1,2))","v":1},{"$f":"IF(I742=1,C742-F742,IF(I742=2,C742-F742/100,IF(I742=3,(1-F742/100)*C742,\"\")))","v":128.80000000000001},{"$f":"CONCATENATE(\" \",D742)","v":" m"},{"$f":"J742*100","v":12880.000000000002},"cm",{"$f":"IF(I742=1,C742+F742,IF(I742=2,C742+F742/100,IF(I742=3,(1+F742/100)*C742,\"\")))","v":129.19999999999999},{"$f":"CONCATENATE(\" \",K742)","v":"  m"},{"$f":"N742*100","v":12919.999999999998},"cm"]
[{"$f":"IF(COUNTIF($B$1:B743,TRUE)=COUNTIF($B$1:B742,TRUE),\"\",COUNTIF($B$1:B743,TRUE))","v":569},{"$f":"Worksheet!$B$13","v":true},{"$f":"RANDBETWEEN(5,RANDBETWEEN(5,Worksheet!$D$6))","v":7},"km","±",{"$f":"IF(I743=1,H743*10^RANDBETWEEN(IF(Worksheet!$D$9,-1,0),0),IF(I743=2,H743*10^RANDBETWEEN(RANDBETWEEN(0,2),2),CHOOSE(RANDBETWEEN(1,3),5,10,20)))","v":10},{"$f":"IF(I743=1,D743,IF(I743=3,\"%\",\"m\"))","v":"%"},7,{"$f":"IF(AND(Worksheet!$D$8,RAND()<0.2),3,IF(RAND()<Worksheet!$D$7/100,1,2))","v":3},{"$f":"IF(I743=1,C743-F743,IF(I743=2,C743-F743/1000,IF(I743=3,(1-F743/100)*C743,\"\")))","v":6.3}," km",{"$f":"J743*1000","v":6300},"m",{"$f":"IF(I743=1,C743+F743,IF(I743=2,C743+F743/1000,IF(I743=3,(1+F743/100)*C743,\"\")))","v":7.7000000000000011},"  km",{"$f":"N743*1000","v":7700.0000000000009},"m"]
[{"$f":"IF(COUNTIF($B$1:B744,TRUE)=COUNTIF($B$1:B743,TRUE),\"\",COUNTIF($B$1:B744,TRUE))","v":""},{"$f":"Worksheet!$B$14","v":false},{"$f":"RANDBETWEEN(5,RANDBETWEEN(5,Worksheet!$D$6))","v":34},"m","±",{"$f":"IF(I744=1,H744*10^RANDBETWEEN(IF(Worksheet!$D$9,-1,0),0),IF(I744=2,H744*10^RANDBETWEEN(RANDBETWEEN(0,2),2),CHOOSE(RANDBETWEEN(1,3),5,10,20)))","v":5},{"$f":"IF(I744=1,D744,IF(I744=3,\"%\",\"mm\"))","v":"%"},8,{"$f":"IF(AND(Worksheet!$D$8,RAND()<0.2),3,IF(RAND()<Worksheet!$D$7/100,1,2))","v":3},{"$f":"IF(I744=1,C744-F744,IF(I744=2,C744-F744/1000,IF(I744=3,(1-F744/100)*C744,\"\")))","v":32.299999999999997}," m",{"$f":"J744*1000","v":32299.999999999996},"mm",{"$f":"IF(I744=1,C744+F744,IF(I744=2,C744+F744/1000,IF(I744=3,(1+F744/100)*C744,\"\")))","v":35.700000000000003},"  m",{"$f":"N744*1000","v":35700},"mm"]
[{"$f":"IF(COUNTIF($B$1:B745,TRUE)=COUNTIF($B$1:B744,TRUE),\"\",COUNTIF($B$1:B745,TRUE))","v":570},{"$f":"Worksheet!$B$15","v":true},{"$f":"RANDBETWEEN(5,20)","v":6},"hours","±",{"$f":"IF(I745=1,H745*10^RANDBETWEEN(IF(Worksheet!$D$9,-1,0),0),IF(I745=2,H745,CHOOSE(RANDBETWEEN(1,3),5,10,20)))","v":0.1},{"$f":"IF(I745=1,D745,IF(I745=3,\"%\",\"min\"))","v":"hours"},1,{"$f":"IF(AND(Worksheet!$D$8,RAND()<0),3,IF(RAND()<Worksheet!$D$7/100,1,2))","v":1},null," hours",{"$f":"IF(I745=1,C745-F745,IF(I745=2,C745*60-F745,\"\"))","v":5.9},{"$f":"IF($I745=1,\" hours\",\" min\")","v":" hours"},null,"  hours",{"$f":"IF(I745=1,C745+F745,IF(I745=2,C745*60+F745,\"\"))","v":6.1},{"$f":"IF($I745=1,\" hours\",\" min\")","v":" hours"}]
[{"$f":"IF(COUNTIF($B$1:B746,TRUE)=COUNTIF($B$1:B745,TRUE),\"\",COUNTIF($B$1:B746,TRUE))","v":571},{"$f":"Worksheet!$D$11","v":true},{"$f":"RANDBETWEEN(5,RANDBETWEEN(5,Worksheet!$D$6))","v":12},"kg","±",{"$f":"IF(I746=1,H746*10^RANDBETWEEN(IF(Worksheet!$D$9,-1,0),0),IF(I746=2,H746*10^RANDBETWEEN(RANDBETWEEN(0,2),2),CHOOSE(RANDBETWEEN(1,3),5,10,20)))","v":0.30000000000000004},{"$f":"IF(I746=1,D746,IF(I746=3,\"%\",\"g\"))","v":"kg"},3,{"$f":"IF(AND(Worksheet!$D$8,RAND()<0.2),3,IF(RAND()<Worksheet!$D$7/100,1,2))","v":1},{"$f":"IF(I746=1,C746-F746,IF(I746=2,C746-F746/1000,IF(I746=3,(1-F746/100)*C746,\"\")))","v":11.7}," kg",{"$f":"J746*1000","v":11700},"g",{"$f":"IF(I746=1,C746+F746,IF(I746=2,C746+F746/1000,IF(I746=3,(1+F746/100)*C746,\"\")))","v":12.3},"  kg",{"$f":"N746*1000","v":12300},"g"]
[{"$f":"IF(COUNTIF($B$1:B747,TRUE)=COUNTIF($B$1:B746,TRUE),\"\",COUNTIF($B$1:B747,TRUE))","v":572},{"$f":"Worksheet!$D$12","v":true},{"$f":"RANDBETWEEN(5,RANDBETWEEN(5,Worksheet!$D$6))","v":266},"tonnes","±",{"$f":"IF(I747=1,H747*10^RANDBETWEEN(IF(Worksheet!$D$9,-1,0),0),IF(I747=2,H747*10^RANDBETWEEN(RANDBETWEEN(0,2),2),CHOOSE(RANDBETWEEN(1,3),5,10,20)))","v":100},{"$f":"IF(I747=1,D747,IF(I747=3,\"%\",\"kg\"))","v":"kg"},1,{"$f":"IF(AND(Worksheet!$D$8,RAND()<0.2),3,IF(RAND()<Worksheet!$D$7/100,1,2))","v":2},{"$f":"IF(I747=1,C747-F747,IF(I747=2,C747-F747/1000,IF(I747=3,(1-F747/100)*C747,\"\")))","v":265.89999999999998}," tonnes",{"$f":"J747*1000","v":265900},"kg",{"$f":"IF(I747=1,C747+F747,IF(I747=2,C747+F747/1000,IF(I747=3,(1+F747/100)*C747,\"\")))","v":266.10000000000002},"  tonnes",{"$f":"N747*1000","v":266100},"kg"]
[{"$f":"IF(COUNTIF($B$1:B748,TRUE)=COUNTIF($B$1:B747,TRUE),\"\",COUNTIF($B$1:B748,TRUE))","v":573},{"$f":"Worksheet!$D$13","v":true},{"$f":"RANDBETWEEN(5,RANDBETWEEN(5,Worksheet!$D$6))","v":18},"litres","±",{"$f":"IF(I748=1,H748*10^RANDBETWEEN(IF(Worksheet!$D$9,-1,0),0),IF(I748=2,H748*10^RANDBETWEEN(RANDBETWEEN(0,2),2),CHOOSE(RANDBETWEEN(1,3),5,10,20)))","v":4},{"$f":"IF(I748=1,D748,IF(I748=3,\"%\",\"ml\"))","v":"litres"},4,{"$f":"IF(AND(Worksheet!$D$8,RAND()<0.2),3,IF(RAND()<Worksheet!$D$7/100,1,2))","v":1},{"$f":"IF(I748=1,C748-F748,IF(I748=2,C748-F748/1000,IF(I748=3,(1-F748/100)*C748,\"\")))","v":14}," litres",{"$f":"J748*1000","v":14000},"ml",{"$f":"IF(I748=1,C748+F748,IF(I748=2,C748+F748/1000,IF(I748=3,(1+F748/100)*C748,\"\")))","v":22},"  litres",{"$f":"N748*1000","v":22000},"ml"]
[{"$f":"IF(COUNTIF($B$1:B749,TRUE)=COUNTIF($B$1:B748,TRUE),\"\",COUNTIF($B$1:B749,TRUE))","v":574},{"$f":"Worksheet!$D$14","v":true},{"$f":"RANDBETWEEN(5,RANDBETWEEN(5,Worksheet!$D$6))","v":197},"litres","±",{"$f":"IF(I749=1,H749*10^RANDBETWEEN(IF(Worksheet!$D$9,-1,0),0),IF(I749=2,H749*10^RANDBETWEEN(RANDBETWEEN(0,2),2),CHOOSE(RANDBETWEEN(1,3),5,10,20)))","v":5},{"$f":"IF(I749=1,D749,IF(I749=3,\"%\",\"cm³\"))","v":"litres"},5,{"$f":"IF(AND(Worksheet!$D$8,RAND()<0.2),3,IF(RAND()<Worksheet!$D$7/100,1,2))","v":1},{"$f":"IF(I749=1,C749-F749,IF(I749=2,C749-F749/1000,IF(I749=3,(1-F749/100)*C749,\"\")))","v":192}," litres",{"$f":"J749*1000","v":192000},"cm³",{"$f":"IF(I749=1,C749+F749,IF(I749=2,C749+F749/1000,IF(I749=3,(1+F749/100)*C749,\"\")))","v":202},"  litres",{"$f":"N749*1000","v":202000},"cm³"]
[{"$f":"IF(COUNTIF($B$1:B750,TRUE)=COUNTIF($B$1:B749,TRUE),\"\",COUNTIF($B$1:B750,TRUE))","v":""},{"$f":"Worksheet!$D$15","v":false},{"$f":"RANDBETWEEN(5,20)","v":11},"min","±",{"$f":"IF(I750=1,H750*10^RANDBETWEEN(IF(Worksheet!$D$9,-1,0),0),IF(I750=2,H750,CHOOSE(RANDBETWEEN(1,3),5,10,20)))","v":0.8},{"$f":"IF(I750=1,D750,IF(I750=3,\"%\",\"sec\"))","v":"min"},8,{"$f":"IF(AND(Worksheet!$D$8,RAND()<0),3,IF(RAND()<Worksheet!$D$7/100,1,2))","v":1},null," min",{"$f":"IF(I750=1,C750-F750,IF(I750=2,C750*60-F750,\"\"))","v":10.199999999999999},{"$f":"IF($I750=1,\" hours\",\" min\")","v":" hours"},null,"  min",{"$f":"IF(I750=1,C750+F750,IF(I750=2,C750*60+F750,\"\"))","v":11.8},{"$f":"IF($I750=1,\" hours\",\" min\")","v":" hours"}]
[{"$f":"COUNTIF($B$1:B751,TRUE)","v":575},{"$f":"Worksheet!$B$11","v":true},{"$f":"RANDBETWEEN(5,RANDBETWEEN(5,Worksheet!$D$6))","v":101},"cm","±",{"$f":"IF(I751=1,H751*10^RANDBETWEEN(IF(Worksheet!$D$9,-1,0),0),IF(I751=2,H751,CHOOSE(RANDBETWEEN(1,3),5,10,20)))","v":7},{"$f":"IF(I751=1,D751,IF(I751=3,\"%\",\"mm\"))","v":"cm"},{"$f":"RANDBETWEEN(1,MIN(9,C751))","v":7},{"$f":"IF(AND(Worksheet!$D$8,RAND()<0.2),3,IF(RAND()<Worksheet!$D$7/100,1,2))","v":1},{"$f":"IF(I751=1,C751-F751,IF(I751=2,C751-F751/10,IF(I751=3,(1-F751/100)*C751,\"\")))","v":94},{"$f":"CONCATENATE(\" \",D751)","v":" cm"},{"$f":"J751*10","v":940},"mm",{"$f":"IF(I751=1,C751+F751,IF(I751=2,C751+F751/10,IF(I751=3,(1+F751/100)*C751,\"\")))","v":108},{"$f":"CONCATENATE(\" \",K751)","v":"  cm"},{"$f":"N751*10","v":1080},"mm"]
[{"$f":"IF(COUNTIF($B$1:B752,TRUE)=COUNTIF($B$1:B751,TRUE),\"\",COUNTIF($B$1:B752,TRUE))","v":576},{"$f":"Worksheet!$B$12","v":true},{"$f":"RANDBETWEEN(5,RANDBETWEEN(5,Worksheet!$D$6))","v":62},"m","±",{"$f":"IF(I752=1,H752*10^RANDBETWEEN(IF(Worksheet!$D$9,-1,0),0),IF(I752=2,H752*10^RANDBETWEEN(RANDBETWEEN(0,1),1),CHOOSE(RANDBETWEEN(1,3),5,10,20)))","v":6},{"$f":"IF(I752=1,D752,IF(I752=3,\"%\",\"cm\"))","v":"cm"},{"$f":"RANDBETWEEN(1,MIN(9,C752))","v":6},{"$f":"IF(AND(Worksheet!$D$8,RAND()<0.2),3,IF(RAND()<Worksheet!$D$7/100,1,2))","v":2},{"$f":"IF(I752=1,C752-F752,IF(I752=2,C752-F752/100,IF(I752=3,(1-F752/100)*C752,\"\")))","v":61.94},{"$f":"CONCATENATE(\" \",D752)","v":" m"},{"$f":"J752*100","v":6194},"cm",{"$f":"IF(I752=1,C752+F752,IF(I752=2,C752+F752/100,IF(I752=3,(1+F752/100)*C752,\"\")))","v":62.06},{"$f":"CONCATENATE(\" \",K752)","v":"  m"},{"$f":"N752*100","v":6206},"cm"]
[{"$f":"IF(COUNTIF($B$1:B753,TRUE)=COUNTIF($B$1:B752,TRUE),\"\",COUNTIF($B$1:B753,TRUE))","v":577},{"$f":"Worksheet!$B$13","v":true},{"$f":"RANDBETWEEN(5,RANDBETWEEN(5,Worksheet!$D$6))","v":43},"km","±",{"$f":"IF(I753=1,H753*10^RANDBETWEEN(IF(Worksheet!$D$9,-1,0),0),IF(I753=2,H753*10^RANDBETWEEN(RANDBETWEEN(0,2),2),CHOOSE(RANDBETWEEN(1,3),5,10,20)))","v":0.1},{"$f":"IF(I753=1,D753,IF(I753=3,\"%\",\"m\"))","v":"km"},1,{"$f":"IF(AND(Worksheet!$D$8,RAND()<0.2),3,IF(RAND()<Worksheet!$D$7/100,1,2))","v":1},{"$f":"IF(I753=1,C753-F753,IF(I753=2,C753-F753/1000,IF(I753=3,(1-F753/100)*C753,\"\")))","v":42.9}," km",{"$f":"J753*1000","v":42900},"m",{"$f":"IF(I753=1,C753+F753,IF(I753=2,C753+F753/1000,IF(I753=3,(1+F753/100)*C753,\"\")))","v":43.1},"  km",{"$f":"N753*1000","v":43100},"m"]
[{"$f":"IF(COUNTIF($B$1:B754,TRUE)=COUNTIF($B$1:B753,TRUE),\"\",COUNTIF($B$1:B754,TRUE))","v":""},{"$f":"Worksheet!$B$14","v":false},{"$f":"RANDBETWEEN(5,RANDBETWEEN(5,Worksheet!$D$6))","v":86},"m","±",{"$f":"IF(I754=1,H754*10^RANDBETWEEN(IF(Worksheet!$D$9,-1,0),0),IF(I754=2,H754*10^RANDBETWEEN(RANDBETWEEN(0,2),2),CHOOSE(RANDBETWEEN(1,3),5,10,20)))","v":20},{"$f":"IF(I754=1,D754,IF(I754=3,\"%\",\"mm\"))","v":"%"},7,{"$f":"IF(AND(Worksheet!$D$8,RAND()<0.2),3,IF(RAND()<Worksheet!$D$7/100,1,2))","v":3},{"$f":"IF(I754=1,C754-F754,IF(I754=2,C754-F754/1000,IF(I754=3,(1-F754/100)*C754,\"\")))","v":68.8}," m",{"$f":"J754*1000","v":68800},"mm",{"$f":"IF(I754=1,C754+F754,IF(I754=2,C754+F754/1000,IF(I754=3,(1+F754/100)*C754,\"\")))","v":103.2},"  m",{"$f":"N754*1000","v":103200},"mm"]
[{"$f":"IF(COUNTIF($B$1:B755,TRUE)=COUNTIF($B$1:B754,TRUE),\"\",COUNTIF($B$1:B755,TRUE))","v":578},{"$f":"Worksheet!$B$15","v":true},{"$f":"RANDBETWEEN(5,20)","v":15},"hours","±",{"$f":"IF(I755=1,H755*10^RANDBETWEEN(IF(Worksheet!$D$9,-1,0),0),IF(I755=2,H755,CHOOSE(RANDBETWEEN(1,3),5,10,20)))","v":2},{"$f":"IF(I755=1,D755,IF(I755=3,\"%\",\"min\"))","v":"hours"},2,{"$f":"IF(AND(Worksheet!$D$8,RAND()<0),3,IF(RAND()<Worksheet!$D$7/100,1,2))","v":1},null," hours",{"$f":"IF(I755=1,C755-F755,IF(I755=2,C755*60-F755,\"\"))","v":13},{"$f":"IF($I755=1,\" hours\",\" min\")","v":" hours"},null,"  hours",{"$f":"IF(I755=1,C755+F755,IF(I755=2,C755*60+F755,\"\"))","v":17},{"$f":"IF($I755=1,\" hours\",\" min\")","v":" hours"}]
[{"$f":"IF(COUNTIF($B$1:B756,TRUE)=COUNTIF($B$1:B755,TRUE),\"\",COUNTIF($B$1:B756,TRUE))","v":579},{"$f":"Worksheet!$D$11","v":true},{"$f":"RANDBETWEEN(5,RANDBETWEEN(5,Worksheet!$D$6))","v":147},"kg","±",{"$f":"IF(I756=1,H756*10^RANDBETWEEN(IF(Worksheet!$D$9,-1,0),0),IF(I756=2,H756*10^RANDBETWEEN(RANDBETWEEN(0,2),2),CHOOSE(RANDBETWEEN(1,3),5,10,20)))","v":9},{"$f":"IF(I756=1,D756,IF(I756=3,\"%\",\"g\"))","v":"kg"},9,{"$f":"IF(AND(Worksheet!$D$8,RAND()<0.2),3,IF(RAND()<Worksheet!$D$7/100,1,2))","v":1},{"$f":"IF(I756=1,C756-F756,IF(I756=2,C756-F756/1000,IF(I756=3,(1-F756/100)*C756,\"\")))","v":138}," kg",{"$f":"J756*1000","v":138000},"g",{"$f":"IF(I756=1,C756+F756,IF(I756=2,C756+F756/1000,IF(I756=3,(1+F756/100)*C756,\"\")))","v":156},"  kg",{"$f":"N756*1000","v":156000},"g"]
[{"$f":"IF(COUNTIF($B$1:B757,TRUE)=COUNTIF($B$1:B756,TRUE),\"\",COUNTIF($B$1:B757,TRUE))","v":580},{"$f":"Worksheet!$D$12","v":true},{"$f":"RANDBETWEEN(5,RANDBETWEEN(5,Worksheet!$D$6))","v":308},"tonnes","±",{"$f":"IF(I757=1,H757*10^RANDBETWEEN(IF(Worksheet!$D$9,-1,0),0),IF(I757=2,H757*10^RANDBETWEEN(RANDBETWEEN(0,2),2),CHOOSE(RANDBETWEEN(1,3),5,10,20)))","v":0.70000000000000007},{"$f":"IF(I757=1,D757,IF(I757=3,\"%\",\"kg\"))","v":"tonnes"},7,{"$f":"IF(AND(Worksheet!$D$8,RAND()<0.2),3,IF(RAND()<Worksheet!$D$7/100,1,2))","v":1},{"$f":"IF(I757=1,C757-F757,IF(I757=2,C757-F757/1000,IF(I757=3,(1-F757/100)*C757,\"\")))","v":307.3}," tonnes",{"$f":"J757*1000","v":307300},"kg",{"$f":"IF(I757=1,C757+F757,IF(I757=2,C757+F757/1000,IF(I757=3,(1+F757/100)*C757,\"\")))","v":308.7},"  tonnes",{"$f":"N757*1000","v":308700},"kg"]
[{"$f":"IF(COUNTIF($B$1:B758,TRUE)=COUNTIF($B$1:B757,TRUE),\"\",COUNTIF($B$1:B758,TRUE))","v":581},{"$f":"Worksheet!$D$13","v":true},{"$f":"RANDBETWEEN(5,RANDBETWEEN(5,Worksheet!$D$6))","v":7},"litres","±",{"$f":"IF(I758=1,H758*10^RANDBETWEEN(IF(Worksheet!$D$9,-1,0),0),IF(I758=2,H758*10^RANDBETWEEN(RANDBETWEEN(0,2),2),CHOOSE(RANDBETWEEN(1,3),5,10,20)))","v":0.1},{"$f":"IF(I758=1,D758,IF(I758=3,\"%\",\"ml\"))","v":"litres"},1,{"$f":"IF(AND(Worksheet!$D$8,RAND()<0.2),3,IF(RAND()<Worksheet!$D$7/100,1,2))","v":1},{"$f":"IF(I758=1,C758-F758,IF(I758=2,C758-F758/1000,IF(I758=3,(1-F758/100)*C758,\"\")))","v":6.9}," litres",{"$f":"J758*1000","v":6900},"ml",{"$f":"IF(I758=1,C758+F758,IF(I758=2,C758+F758/1000,IF(I758=3,(1+F758/100)*C758,\"\")))","v":7.1},"  litres",{"$f":"N758*1000","v":7100},"ml"]
[{"$f":"IF(COUNTIF($B$1:B759,TRUE)=COUNTIF($B$1:B758,TRUE),\"\",COUNTIF($B$1:B759,TRUE))","v":582},{"$f":"Worksheet!$D$14","v":true},{"$f":"RANDBETWEEN(5,RANDBETWEEN(5,Worksheet!$D$6))","v":25},"litres","±",{"$f":"IF(I759=1,H759*10^RANDBETWEEN(IF(Worksheet!$D$9,-1,0),0),IF(I759=2,H759*10^RANDBETWEEN(RANDBETWEEN(0,2),2),CHOOSE(RANDBETWEEN(1,3),5,10,20)))","v":5},{"$f":"IF(I759=1,D759,IF(I759=3,\"%\",\"cm³\"))","v":"%"},4,{"$f":"IF(AND(Worksheet!$D$8,RAND()<0.2),3,IF(RAND()<Worksheet!$D$7/100,1,2))","v":3},{"$f":"IF(I759=1,C759-F759,IF(I759=2,C759-F759/1000,IF(I759=3,(1-F759/100)*C759,\"\")))","v":23.75}," litres",{"$f":"J759*1000","v":23750},"cm³",{"$f":"IF(I759=1,C759+F759,IF(I759=2,C759+F759/1000,IF(I759=3,(1+F759/100)*C759,\"\")))","v":26.25},"  litres",{"$f":"N759*1000","v":26250},"cm³"]
[{"$f":"IF(COUNTIF($B$1:B760,TRUE)=COUNTIF($B$1:B759,TRUE),\"\",COUNTIF($B$1:B760,TRUE))","v":""},{"$f":"Worksheet!$D$15","v":false},{"$f":"RANDBETWEEN(5,20)","v":16},"min","±",{"$f":"IF(I760=1,H760*10^RANDBETWEEN(IF(Worksheet!$D$9,-1,0),0),IF(I760=2,H760,CHOOSE(RANDBETWEEN(1,3),5,10,20)))","v":7},{"$f":"IF(I760=1,D760,IF(I760=3,\"%\",\"sec\"))","v":"sec"},7,{"$f":"IF(AND(Worksheet!$D$8,RAND()<0),3,IF(RAND()<Worksheet!$D$7/100,1,2))","v":2},null," min",{"$f":"IF(I760=1,C760-F760,IF(I760=2,C760*60-F760,\"\"))","v":953},{"$f":"IF($I760=1,\" hours\",\" min\")","v":" min"},null,"  min",{"$f":"IF(I760=1,C760+F760,IF(I760=2,C760*60+F760,\"\"))","v":967},{"$f":"IF($I760=1,\" hours\",\" min\")","v":" min"}]
[{"$f":"COUNTIF($B$1:B761,TRUE)","v":583},{"$f":"Worksheet!$B$11","v":true},{"$f":"RANDBETWEEN(5,RANDBETWEEN(5,Worksheet!$D$6))","v":185},"cm","±",{"$f":"IF(I761=1,H761*10^RANDBETWEEN(IF(Worksheet!$D$9,-1,0),0),IF(I761=2,H761,CHOOSE(RANDBETWEEN(1,3),5,10,20)))","v":3},{"$f":"IF(I761=1,D761,IF(I761=3,\"%\",\"mm\"))","v":"mm"},{"$f":"RANDBETWEEN(1,MIN(9,C761))","v":3},{"$f":"IF(AND(Worksheet!$D$8,RAND()<0.2),3,IF(RAND()<Worksheet!$D$7/100,1,2))","v":2},{"$f":"IF(I761=1,C761-F761,IF(I761=2,C761-F761/10,IF(I761=3,(1-F761/100)*C761,\"\")))","v":184.7},{"$f":"CONCATENATE(\" \",D761)","v":" cm"},{"$f":"J761*10","v":1847},"mm",{"$f":"IF(I761=1,C761+F761,IF(I761=2,C761+F761/10,IF(I761=3,(1+F761/100)*C761,\"\")))","v":185.3},{"$f":"CONCATENATE(\" \",K761)","v":"  cm"},{"$f":"N761*10","v":1853},"mm"]
[{"$f":"IF(COUNTIF($B$1:B762,TRUE)=COUNTIF($B$1:B761,TRUE),\"\",COUNTIF($B$1:B762,TRUE))","v":584},{"$f":"Worksheet!$B$12","v":true},{"$f":"RANDBETWEEN(5,RANDBETWEEN(5,Worksheet!$D$6))","v":253},"m","±",{"$f":"IF(I762=1,H762*10^RANDBETWEEN(IF(Worksheet!$D$9,-1,0),0),IF(I762=2,H762*10^RANDBETWEEN(RANDBETWEEN(0,1),1),CHOOSE(RANDBETWEEN(1,3),5,10,20)))","v":3},{"$f":"IF(I762=1,D762,IF(I762=3,\"%\",\"cm\"))","v":"m"},{"$f":"RANDBETWEEN(1,MIN(9,C762))","v":3},{"$f":"IF(AND(Worksheet!$D$8,RAND()<0.2),3,IF(RAND()<Worksheet!$D$7/100,1,2))","v":1},{"$f":"IF(I762=1,C762-F762,IF(I762=2,C762-F762/100,IF(I762=3,(1-F762/100)*C762,\"\")))","v":250},{"$f":"CONCATENATE(\" \",D762)","v":" m"},{"$f":"J762*100","v":25000},"cm",{"$f":"IF(I762=1,C762+F762,IF(I762=2,C762+F762/100,IF(I762=3,(1+F762/100)*C762,\"\")))","v":256},{"$f":"CONCATENATE(\" \",K762)","v":"  m"},{"$f":"N762*100","v":25600},"cm"]
[{"$f":"IF(COUNTIF($B$1:B763,TRUE)=COUNTIF($B$1:B762,TRUE),\"\",COUNTIF($B$1:B763,TRUE))","v":585},{"$f":"Worksheet!$B$13","v":true},{"$f":"RANDBETWEEN(5,RANDBETWEEN(5,Worksheet!$D$6))","v":61},"km","±",{"$f":"IF(I763=1,H763*10^RANDBETWEEN(IF(Worksheet!$D$9,-1,0),0),IF(I763=2,H763*10^RANDBETWEEN(RANDBETWEEN(0,2),2),CHOOSE(RANDBETWEEN(1,3),5,10,20)))","v":7},{"$f":"IF(I763=1,D763,IF(I763=3,\"%\",\"m\"))","v":"km"},7,{"$f":"IF(AND(Worksheet!$D$8,RAND()<0.2),3,IF(RAND()<Worksheet!$D$7/100,1,2))","v":1},{"$f":"IF(I763=1,C763-F763,IF(I763=2,C763-F763/1000,IF(I763=3,(1-F763/100)*C763,\"\")))","v":54}," km",{"$f":"J763*1000","v":54000},"m",{"$f":"IF(I763=1,C763+F763,IF(I763=2,C763+F763/1000,IF(I763=3,(1+F763/100)*C763,\"\")))","v":68},"  km",{"$f":"N763*1000","v":68000},"m"]
[{"$f":"IF(COUNTIF($B$1:B764,TRUE)=COUNTIF($B$1:B763,TRUE),\"\",COUNTIF($B$1:B764,TRUE))","v":""},{"$f":"Worksheet!$B$14","v":false},{"$f":"RANDBETWEEN(5,RANDBETWEEN(5,Worksheet!$D$6))","v":220},"m","±",{"$f":"IF(I764=1,H764*10^RANDBETWEEN(IF(Worksheet!$D$9,-1,0),0),IF(I764=2,H764*10^RANDBETWEEN(RANDBETWEEN(0,2),2),CHOOSE(RANDBETWEEN(1,3),5,10,20)))","v":10},{"$f":"IF(I764=1,D764,IF(I764=3,\"%\",\"mm\"))","v":"%"},5,{"$f":"IF(AND(Worksheet!$D$8,RAND()<0.2),3,IF(RAND()<Worksheet!$D$7/100,1,2))","v":3},{"$f":"IF(I764=1,C764-F764,IF(I764=2,C764-F764/1000,IF(I764=3,(1-F764/100)*C764,\"\")))","v":198}," m",{"$f":"J764*1000","v":198000},"mm",{"$f":"IF(I764=1,C764+F764,IF(I764=2,C764+F764/1000,IF(I764=3,(1+F764/100)*C764,\"\")))","v":242.00000000000003},"  m",{"$f":"N764*1000","v":242000.00000000003},"mm"]
[{"$f":"IF(COUNTIF($B$1:B765,TRUE)=COUNTIF($B$1:B764,TRUE),\"\",COUNTIF($B$1:B765,TRUE))","v":586},{"$f":"Worksheet!$B$15","v":true},{"$f":"RANDBETWEEN(5,20)","v":18},"hours","±",{"$f":"IF(I765=1,H765*10^RANDBETWEEN(IF(Worksheet!$D$9,-1,0),0),IF(I765=2,H765,CHOOSE(RANDBETWEEN(1,3),5,10,20)))","v":3},{"$f":"IF(I765=1,D765,IF(I765=3,\"%\",\"min\"))","v":"hours"},3,{"$f":"IF(AND(Worksheet!$D$8,RAND()<0),3,IF(RAND()<Worksheet!$D$7/100,1,2))","v":1},null," hours",{"$f":"IF(I765=1,C765-F765,IF(I765=2,C765*60-F765,\"\"))","v":15},{"$f":"IF($I765=1,\" hours\",\" min\")","v":" hours"},null,"  hours",{"$f":"IF(I765=1,C765+F765,IF(I765=2,C765*60+F765,\"\"))","v":21},{"$f":"IF($I765=1,\" hours\",\" min\")","v":" hours"}]
[{"$f":"IF(COUNTIF($B$1:B766,TRUE)=COUNTIF($B$1:B765,TRUE),\"\",COUNTIF($B$1:B766,TRUE))","v":587},{"$f":"Worksheet!$D$11","v":true},{"$f":"RANDBETWEEN(5,RANDBETWEEN(5,Worksheet!$D$6))","v":162},"kg","±",{"$f":"IF(I766=1,H766*10^RANDBETWEEN(IF(Worksheet!$D$9,-1,0),0),IF(I766=2,H766*10^RANDBETWEEN(RANDBETWEEN(0,2),2),CHOOSE(RANDBETWEEN(1,3),5,10,20)))","v":0.60000000000000009},{"$f":"IF(I766=1,D766,IF(I766=3,\"%\",\"g\"))","v":"kg"},6,{"$f":"IF(AND(Worksheet!$D$8,RAND()<0.2),3,IF(RAND()<Worksheet!$D$7/100,1,2))","v":1},{"$f":"IF(I766=1,C766-F766,IF(I766=2,C766-F766/1000,IF(I766=3,(1-F766/100)*C766,\"\")))","v":161.4}," kg",{"$f":"J766*1000","v":161400},"g",{"$f":"IF(I766=1,C766+F766,IF(I766=2,C766+F766/1000,IF(I766=3,(1+F766/100)*C766,\"\")))","v":162.6},"  kg",{"$f":"N766*1000","v":162600},"g"]
[{"$f":"IF(COUNTIF($B$1:B767,TRUE)=COUNTIF($B$1:B766,TRUE),\"\",COUNTIF($B$1:B767,TRUE))","v":588},{"$f":"Worksheet!$D$12","v":true},{"$f":"RANDBETWEEN(5,RANDBETWEEN(5,Worksheet!$D$6))","v":50},"tonnes","±",{"$f":"IF(I767=1,H767*10^RANDBETWEEN(IF(Worksheet!$D$9,-1,0),0),IF(I767=2,H767*10^RANDBETWEEN(RANDBETWEEN(0,2),2),CHOOSE(RANDBETWEEN(1,3),5,10,20)))","v":0.70000000000000007},{"$f":"IF(I767=1,D767,IF(I767=3,\"%\",\"kg\"))","v":"tonnes"},7,{"$f":"IF(AND(Worksheet!$D$8,RAND()<0.2),3,IF(RAND()<Worksheet!$D$7/100,1,2))","v":1},{"$f":"IF(I767=1,C767-F767,IF(I767=2,C767-F767/1000,IF(I767=3,(1-F767/100)*C767,\"\")))","v":49.3}," tonnes",{"$f":"J767*1000","v":49300},"kg",{"$f":"IF(I767=1,C767+F767,IF(I767=2,C767+F767/1000,IF(I767=3,(1+F767/100)*C767,\"\")))","v":50.7},"  tonnes",{"$f":"N767*1000","v":50700},"kg"]
[{"$f":"IF(COUNTIF($B$1:B768,TRUE)=COUNTIF($B$1:B767,TRUE),\"\",COUNTIF($B$1:B768,TRUE))","v":589},{"$f":"Worksheet!$D$13","v":true},{"$f":"RANDBETWEEN(5,RANDBETWEEN(5,Worksheet!$D$6))","v":10},"litres","±",{"$f":"IF(I768=1,H768*10^RANDBETWEEN(IF(Worksheet!$D$9,-1,0),0),IF(I768=2,H768*10^RANDBETWEEN(RANDBETWEEN(0,2),2),CHOOSE(RANDBETWEEN(1,3),5,10,20)))","v":1},{"$f":"IF(I768=1,D768,IF(I768=3,\"%\",\"ml\"))","v":"litres"},1,{"$f":"IF(AND(Worksheet!$D$8,RAND()<0.2),3,IF(RAND()<Worksheet!$D$7/100,1,2))","v":1},{"$f":"IF(I768=1,C768-F768,IF(I768=2,C768-F768/1000,IF(I768=3,(1-F768/100)*C768,\"\")))","v":9}," litres",{"$f":"J768*1000","v":9000},"ml",{"$f":"IF(I768=1,C768+F768,IF(I768=2,C768+F768/1000,IF(I768=3,(1+F768/100)*C768,\"\")))","v":11},"  litres",{"$f":"N768*1000","v":11000},"ml"]
[{"$f":"IF(COUNTIF($B$1:B769,TRUE)=COUNTIF($B$1:B768,TRUE),\"\",COUNTIF($B$1:B769,TRUE))","v":590},{"$f":"Worksheet!$D$14","v":true},{"$f":"RANDBETWEEN(5,RANDBETWEEN(5,Worksheet!$D$6))","v":58},"litres","±",{"$f":"IF(I769=1,H769*10^RANDBETWEEN(IF(Worksheet!$D$9,-1,0),0),IF(I769=2,H769*10^RANDBETWEEN(RANDBETWEEN(0,2),2),CHOOSE(RANDBETWEEN(1,3),5,10,20)))","v":700},{"$f":"IF(I769=1,D769,IF(I769=3,\"%\",\"cm³\"))","v":"cm³"},7,{"$f":"IF(AND(Worksheet!$D$8,RAND()<0.2),3,IF(RAND()<Worksheet!$D$7/100,1,2))","v":2},{"$f":"IF(I769=1,C769-F769,IF(I769=2,C769-F769/1000,IF(I769=3,(1-F769/100)*C769,\"\")))","v":57.3}," litres",{"$f":"J769*1000","v":57300},"cm³",{"$f":"IF(I769=1,C769+F769,IF(I769=2,C769+F769/1000,IF(I769=3,(1+F769/100)*C769,\"\")))","v":58.7},"  litres",{"$f":"N769*1000","v":58700},"cm³"]
[{"$f":"IF(COUNTIF($B$1:B770,TRUE)=COUNTIF($B$1:B769,TRUE),\"\",COUNTIF($B$1:B770,TRUE))","v":""},{"$f":"Worksheet!$D$15","v":false},{"$f":"RANDBETWEEN(5,20)","v":5},"min","±",{"$f":"IF(I770=1,H770*10^RANDBETWEEN(IF(Worksheet!$D$9,-1,0),0),IF(I770=2,H770,CHOOSE(RANDBETWEEN(1,3),5,10,20)))","v":4},{"$f":"IF(I770=1,D770,IF(I770=3,\"%\",\"sec\"))","v":"min"},4,{"$f":"IF(AND(Worksheet!$D$8,RAND()<0),3,IF(RAND()<Worksheet!$D$7/100,1,2))","v":1},null," min",{"$f":"IF(I770=1,C770-F770,IF(I770=2,C770*60-F770,\"\"))","v":1},{"$f":"IF($I770=1,\" hours\",\" min\")","v":" hours"},null,"  min",{"$f":"IF(I770=1,C770+F770,IF(I770=2,C770*60+F770,\"\"))","v":9},{"$f":"IF($I770=1,\" hours\",\" min\")","v":" hours"}]
[{"$f":"COUNTIF($B$1:B771,TRUE)","v":591},{"$f":"Worksheet!$B$11","v":true},{"$f":"RANDBETWEEN(5,RANDBETWEEN(5,Worksheet!$D$6))","v":141},"cm","±",{"$f":"IF(I771=1,H771*10^RANDBETWEEN(IF(Worksheet!$D$9,-1,0),0),IF(I771=2,H771,CHOOSE(RANDBETWEEN(1,3),5,10,20)))","v":0.70000000000000007},{"$f":"IF(I771=1,D771,IF(I771=3,\"%\",\"mm\"))","v":"cm"},{"$f":"RANDBETWEEN(1,MIN(9,C771))","v":7},{"$f":"IF(AND(Worksheet!$D$8,RAND()<0.2),3,IF(RAND()<Worksheet!$D$7/100,1,2))","v":1},{"$f":"IF(I771=1,C771-F771,IF(I771=2,C771-F771/10,IF(I771=3,(1-F771/100)*C771,\"\")))","v":140.30000000000001},{"$f":"CONCATENATE(\" \",D771)","v":" cm"},{"$f":"J771*10","v":1403},"mm",{"$f":"IF(I771=1,C771+F771,IF(I771=2,C771+F771/10,IF(I771=3,(1+F771/100)*C771,\"\")))","v":141.69999999999999},{"$f":"CONCATENATE(\" \",K771)","v":"  cm"},{"$f":"N771*10","v":1417},"mm"]
[{"$f":"IF(COUNTIF($B$1:B772,TRUE)=COUNTIF($B$1:B771,TRUE),\"\",COUNTIF($B$1:B772,TRUE))","v":592},{"$f":"Worksheet!$B$12","v":true},{"$f":"RANDBETWEEN(5,RANDBETWEEN(5,Worksheet!$D$6))","v":161},"m","±",{"$f":"IF(I772=1,H772*10^RANDBETWEEN(IF(Worksheet!$D$9,-1,0),0),IF(I772=2,H772*10^RANDBETWEEN(RANDBETWEEN(0,1),1),CHOOSE(RANDBETWEEN(1,3),5,10,20)))","v":0.4},{"$f":"IF(I772=1,D772,IF(I772=3,\"%\",\"cm\"))","v":"m"},{"$f":"RANDBETWEEN(1,MIN(9,C772))","v":4},{"$f":"IF(AND(Worksheet!$D$8,RAND()<0.2),3,IF(RAND()<Worksheet!$D$7/100,1,2))","v":1},{"$f":"IF(I772=1,C772-F772,IF(I772=2,C772-F772/100,IF(I772=3,(1-F772/100)*C772,\"\")))","v":160.6},{"$f":"CONCATENATE(\" \",D772)","v":" m"},{"$f":"J772*100","v":16060},"cm",{"$f":"IF(I772=1,C772+F772,IF(I772=2,C772+F772/100,IF(I772=3,(1+F772/100)*C772,\"\")))","v":161.4},{"$f":"CONCATENATE(\" \",K772)","v":"  m"},{"$f":"N772*100","v":16140},"cm"]
[{"$f":"IF(COUNTIF($B$1:B773,TRUE)=COUNTIF($B$1:B772,TRUE),\"\",COUNTIF($B$1:B773,TRUE))","v":593},{"$f":"Worksheet!$B$13","v":true},{"$f":"RANDBETWEEN(5,RANDBETWEEN(5,Worksheet!$D$6))","v":77},"km","±",{"$f":"IF(I773=1,H773*10^RANDBETWEEN(IF(Worksheet!$D$9,-1,0),0),IF(I773=2,H773*10^RANDBETWEEN(RANDBETWEEN(0,2),2),CHOOSE(RANDBETWEEN(1,3),5,10,20)))","v":10},{"$f":"IF(I773=1,D773,IF(I773=3,\"%\",\"m\"))","v":"%"},2,{"$f":"IF(AND(Worksheet!$D$8,RAND()<0.2),3,IF(RAND()<Worksheet!$D$7/100,1,2))","v":3},{"$f":"IF(I773=1,C773-F773,IF(I773=2,C773-F773/1000,IF(I773=3,(1-F773/100)*C773,\"\")))","v":69.3}," km",{"$f":"J773*1000","v":69300},"m",{"$f":"IF(I773=1,C773+F773,IF(I773=2,C773+F773/1000,IF(I773=3,(1+F773/100)*C773,\"\")))","v":84.7},"  km",{"$f":"N773*1000","v":84700},"m"]
[{"$f":"IF(COUNTIF($B$1:B774,TRUE)=COUNTIF($B$1:B773,TRUE),\"\",COUNTIF($B$1:B774,TRUE))","v":""},{"$f":"Worksheet!$B$14","v":false},{"$f":"RANDBETWEEN(5,RANDBETWEEN(5,Worksheet!$D$6))","v":119},"m","±",{"$f":"IF(I774=1,H774*10^RANDBETWEEN(IF(Worksheet!$D$9,-1,0),0),IF(I774=2,H774*10^RANDBETWEEN(RANDBETWEEN(0,2),2),CHOOSE(RANDBETWEEN(1,3),5,10,20)))","v":6},{"$f":"IF(I774=1,D774,IF(I774=3,\"%\",\"mm\"))","v":"m"},6,{"$f":"IF(AND(Worksheet!$D$8,RAND()<0.2),3,IF(RAND()<Worksheet!$D$7/100,1,2))","v":1},{"$f":"IF(I774=1,C774-F774,IF(I774=2,C774-F774/1000,IF(I774=3,(1-F774/100)*C774,\"\")))","v":113}," m",{"$f":"J774*1000","v":113000},"mm",{"$f":"IF(I774=1,C774+F774,IF(I774=2,C774+F774/1000,IF(I774=3,(1+F774/100)*C774,\"\")))","v":125},"  m",{"$f":"N774*1000","v":125000},"mm"]
[{"$f":"IF(COUNTIF($B$1:B775,TRUE)=COUNTIF($B$1:B774,TRUE),\"\",COUNTIF($B$1:B775,TRUE))","v":594},{"$f":"Worksheet!$B$15","v":true},{"$f":"RANDBETWEEN(5,20)","v":15},"hours","±",{"$f":"IF(I775=1,H775*10^RANDBETWEEN(IF(Worksheet!$D$9,-1,0),0),IF(I775=2,H775,CHOOSE(RANDBETWEEN(1,3),5,10,20)))","v":0.30000000000000004},{"$f":"IF(I775=1,D775,IF(I775=3,\"%\",\"min\"))","v":"hours"},3,{"$f":"IF(AND(Worksheet!$D$8,RAND()<0),3,IF(RAND()<Worksheet!$D$7/100,1,2))","v":1},null," hours",{"$f":"IF(I775=1,C775-F775,IF(I775=2,C775*60-F775,\"\"))","v":14.7},{"$f":"IF($I775=1,\" hours\",\" min\")","v":" hours"},null,"  hours",{"$f":"IF(I775=1,C775+F775,IF(I775=2,C775*60+F775,\"\"))","v":15.3},{"$f":"IF($I775=1,\" hours\",\" min\")","v":" hours"}]
[{"$f":"IF(COUNTIF($B$1:B776,TRUE)=COUNTIF($B$1:B775,TRUE),\"\",COUNTIF($B$1:B776,TRUE))","v":595},{"$f":"Worksheet!$D$11","v":true},{"$f":"RANDBETWEEN(5,RANDBETWEEN(5,Worksheet!$D$6))","v":103},"kg","±",{"$f":"IF(I776=1,H776*10^RANDBETWEEN(IF(Worksheet!$D$9,-1,0),0),IF(I776=2,H776*10^RANDBETWEEN(RANDBETWEEN(0,2),2),CHOOSE(RANDBETWEEN(1,3),5,10,20)))","v":0.60000000000000009},{"$f":"IF(I776=1,D776,IF(I776=3,\"%\",\"g\"))","v":"kg"},6,{"$f":"IF(AND(Worksheet!$D$8,RAND()<0.2),3,IF(RAND()<Worksheet!$D$7/100,1,2))","v":1},{"$f":"IF(I776=1,C776-F776,IF(I776=2,C776-F776/1000,IF(I776=3,(1-F776/100)*C776,\"\")))","v":102.4}," kg",{"$f":"J776*1000","v":102400},"g",{"$f":"IF(I776=1,C776+F776,IF(I776=2,C776+F776/1000,IF(I776=3,(1+F776/100)*C776,\"\")))","v":103.6},"  kg",{"$f":"N776*1000","v":103600},"g"]
[{"$f":"IF(COUNTIF($B$1:B777,TRUE)=COUNTIF($B$1:B776,TRUE),\"\",COUNTIF($B$1:B777,TRUE))","v":596},{"$f":"Worksheet!$D$12","v":true},{"$f":"RANDBETWEEN(5,RANDBETWEEN(5,Worksheet!$D$6))","v":12},"tonnes","±",{"$f":"IF(I777=1,H777*10^RANDBETWEEN(IF(Worksheet!$D$9,-1,0),0),IF(I777=2,H777*10^RANDBETWEEN(RANDBETWEEN(0,2),2),CHOOSE(RANDBETWEEN(1,3),5,10,20)))","v":700},{"$f":"IF(I777=1,D777,IF(I777=3,\"%\",\"kg\"))","v":"kg"},7,{"$f":"IF(AND(Worksheet!$D$8,RAND()<0.2),3,IF(RAND()<Worksheet!$D$7/100,1,2))","v":2},{"$f":"IF(I777=1,C777-F777,IF(I777=2,C777-F777/1000,IF(I777=3,(1-F777/100)*C777,\"\")))","v":11.3}," tonnes",{"$f":"J777*1000","v":11300},"kg",{"$f":"IF(I777=1,C777+F777,IF(I777=2,C777+F777/1000,IF(I777=3,(1+F777/100)*C777,\"\")))","v":12.7},"  tonnes",{"$f":"N777*1000","v":12700},"kg"]
[{"$f":"IF(COUNTIF($B$1:B778,TRUE)=COUNTIF($B$1:B777,TRUE),\"\",COUNTIF($B$1:B778,TRUE))","v":597},{"$f":"Worksheet!$D$13","v":true},{"$f":"RANDBETWEEN(5,RANDBETWEEN(5,Worksheet!$D$6))","v":76},"litres","±",{"$f":"IF(I778=1,H778*10^RANDBETWEEN(IF(Worksheet!$D$9,-1,0),0),IF(I778=2,H778*10^RANDBETWEEN(RANDBETWEEN(0,2),2),CHOOSE(RANDBETWEEN(1,3),5,10,20)))","v":6},{"$f":"IF(I778=1,D778,IF(I778=3,\"%\",\"ml\"))","v":"litres"},6,{"$f":"IF(AND(Worksheet!$D$8,RAND()<0.2),3,IF(RAND()<Worksheet!$D$7/100,1,2))","v":1},{"$f":"IF(I778=1,C778-F778,IF(I778=2,C778-F778/1000,IF(I778=3,(1-F778/100)*C778,\"\")))","v":70}," litres",{"$f":"J778*1000","v":70000},"ml",{"$f":"IF(I778=1,C778+F778,IF(I778=2,C778+F778/1000,IF(I778=3,(1+F778/100)*C778,\"\")))","v":82},"  litres",{"$f":"N778*1000","v":82000},"ml"]
[{"$f":"IF(COUNTIF($B$1:B779,TRUE)=COUNTIF($B$1:B778,TRUE),\"\",COUNTIF($B$1:B779,TRUE))","v":598},{"$f":"Worksheet!$D$14","v":true},{"$f":"RANDBETWEEN(5,RANDBETWEEN(5,Worksheet!$D$6))","v":84},"litres","±",{"$f":"IF(I779=1,H779*10^RANDBETWEEN(IF(Worksheet!$D$9,-1,0),0),IF(I779=2,H779*10^RANDBETWEEN(RANDBETWEEN(0,2),2),CHOOSE(RANDBETWEEN(1,3),5,10,20)))","v":5},{"$f":"IF(I779=1,D779,IF(I779=3,\"%\",\"cm³\"))","v":"%"},4,{"$f":"IF(AND(Worksheet!$D$8,RAND()<0.2),3,IF(RAND()<Worksheet!$D$7/100,1,2))","v":3},{"$f":"IF(I779=1,C779-F779,IF(I779=2,C779-F779/1000,IF(I779=3,(1-F779/100)*C779,\"\")))","v":79.8}," litres",{"$f":"J779*1000","v":79800},"cm³",{"$f":"IF(I779=1,C779+F779,IF(I779=2,C779+F779/1000,IF(I779=3,(1+F779/100)*C779,\"\")))","v":88.2},"  litres",{"$f":"N779*1000","v":88200},"cm³"]
[{"$f":"IF(COUNTIF($B$1:B780,TRUE)=COUNTIF($B$1:B779,TRUE),\"\",COUNTIF($B$1:B780,TRUE))","v":""},{"$f":"Worksheet!$D$15","v":false},{"$f":"RANDBETWEEN(5,20)","v":14},"min","±",{"$f":"IF(I780=1,H780*10^RANDBETWEEN(IF(Worksheet!$D$9,-1,0),0),IF(I780=2,H780,CHOOSE(RANDBETWEEN(1,3),5,10,20)))","v":5},{"$f":"IF(I780=1,D780,IF(I780=3,\"%\",\"sec\"))","v":"min"},5,{"$f":"IF(AND(Worksheet!$D$8,RAND()<0),3,IF(RAND()<Worksheet!$D$7/100,1,2))","v":1},null," min",{"$f":"IF(I780=1,C780-F780,IF(I780=2,C780*60-F780,\"\"))","v":9},{"$f":"IF($I780=1,\" hours\",\" min\")","v":" hours"},null,"  min",{"$f":"IF(I780=1,C780+F780,IF(I780=2,C780*60+F780,\"\"))","v":19},{"$f":"IF($I780=1,\" hours\",\" min\")","v":" hours"}]
[{"$f":"COUNTIF($B$1:B781,TRUE)","v":599},{"$f":"Worksheet!$B$11","v":true},{"$f":"RANDBETWEEN(5,RANDBETWEEN(5,Worksheet!$D$6))","v":20},"cm","±",{"$f":"IF(I781=1,H781*10^RANDBETWEEN(IF(Worksheet!$D$9,-1,0),0),IF(I781=2,H781,CHOOSE(RANDBETWEEN(1,3),5,10,20)))","v":0.2},{"$f":"IF(I781=1,D781,IF(I781=3,\"%\",\"mm\"))","v":"cm"},{"$f":"RANDBETWEEN(1,MIN(9,C781))","v":2},{"$f":"IF(AND(Worksheet!$D$8,RAND()<0.2),3,IF(RAND()<Worksheet!$D$7/100,1,2))","v":1},{"$f":"IF(I781=1,C781-F781,IF(I781=2,C781-F781/10,IF(I781=3,(1-F781/100)*C781,\"\")))","v":19.8},{"$f":"CONCATENATE(\" \",D781)","v":" cm"},{"$f":"J781*10","v":198},"mm",{"$f":"IF(I781=1,C781+F781,IF(I781=2,C781+F781/10,IF(I781=3,(1+F781/100)*C781,\"\")))","v":20.2},{"$f":"CONCATENATE(\" \",K781)","v":"  cm"},{"$f":"N781*10","v":202},"mm"]
[{"$f":"IF(COUNTIF($B$1:B782,TRUE)=COUNTIF($B$1:B781,TRUE),\"\",COUNTIF($B$1:B782,TRUE))","v":600},{"$f":"Worksheet!$B$12","v":true},{"$f":"RANDBETWEEN(5,RANDBETWEEN(5,Worksheet!$D$6))","v":44},"m","±",{"$f":"IF(I782=1,H782*10^RANDBETWEEN(IF(Worksheet!$D$9,-1,0),0),IF(I782=2,H782*10^RANDBETWEEN(RANDBETWEEN(0,1),1),CHOOSE(RANDBETWEEN(1,3),5,10,20)))","v":5},{"$f":"IF(I782=1,D782,IF(I782=3,\"%\",\"cm\"))","v":"%"},{"$f":"RANDBETWEEN(1,MIN(9,C782))","v":5},{"$f":"IF(AND(Worksheet!$D$8,RAND()<0.2),3,IF(RAND()<Worksheet!$D$7/100,1,2))","v":3},{"$f":"IF(I782=1,C782-F782,IF(I782=2,C782-F782/100,IF(I782=3,(1-F782/100)*C782,\"\")))","v":41.8},{"$f":"CONCATENATE(\" \",D782)","v":" m"},{"$f":"J782*100","v":4180},"cm",{"$f":"IF(I782=1,C782+F782,IF(I782=2,C782+F782/100,IF(I782=3,(1+F782/100)*C782,\"\")))","v":46.2},{"$f":"CONCATENATE(\" \",K782)","v":"  m"},{"$f":"N782*100","v":4620},"cm"]
[{"$f":"IF(COUNTIF($B$1:B783,TRUE)=COUNTIF($B$1:B782,TRUE),\"\",COUNTIF($B$1:B783,TRUE))","v":601},{"$f":"Worksheet!$B$13","v":true},{"$f":"RANDBETWEEN(5,RANDBETWEEN(5,Worksheet!$D$6))","v":24},"km","±",{"$f":"IF(I783=1,H783*10^RANDBETWEEN(IF(Worksheet!$D$9,-1,0),0),IF(I783=2,H783*10^RANDBETWEEN(RANDBETWEEN(0,2),2),CHOOSE(RANDBETWEEN(1,3),5,10,20)))","v":0.5},{"$f":"IF(I783=1,D783,IF(I783=3,\"%\",\"m\"))","v":"km"},5,{"$f":"IF(AND(Worksheet!$D$8,RAND()<0.2),3,IF(RAND()<Worksheet!$D$7/100,1,2))","v":1},{"$f":"IF(I783=1,C783-F783,IF(I783=2,C783-F783/1000,IF(I783=3,(1-F783/100)*C783,\"\")))","v":23.5}," km",{"$f":"J783*1000","v":23500},"m",{"$f":"IF(I783=1,C783+F783,IF(I783=2,C783+F783/1000,IF(I783=3,(1+F783/100)*C783,\"\")))","v":24.5},"  km",{"$f":"N783*1000","v":24500},"m"]
[{"$f":"IF(COUNTIF($B$1:B784,TRUE)=COUNTIF($B$1:B783,TRUE),\"\",COUNTIF($B$1:B784,TRUE))","v":""},{"$f":"Worksheet!$B$14","v":false},{"$f":"RANDBETWEEN(5,RANDBETWEEN(5,Worksheet!$D$6))","v":74},"m","±",{"$f":"IF(I784=1,H784*10^RANDBETWEEN(IF(Worksheet!$D$9,-1,0),0),IF(I784=2,H784*10^RANDBETWEEN(RANDBETWEEN(0,2),2),CHOOSE(RANDBETWEEN(1,3),5,10,20)))","v":10},{"$f":"IF(I784=1,D784,IF(I784=3,\"%\",\"mm\"))","v":"%"},5,{"$f":"IF(AND(Worksheet!$D$8,RAND()<0.2),3,IF(RAND()<Worksheet!$D$7/100,1,2))","v":3},{"$f":"IF(I784=1,C784-F784,IF(I784=2,C784-F784/1000,IF(I784=3,(1-F784/100)*C784,\"\")))","v":66.600000000000009}," m",{"$f":"J784*1000","v":66600.000000000015},"mm",{"$f":"IF(I784=1,C784+F784,IF(I784=2,C784+F784/1000,IF(I784=3,(1+F784/100)*C784,\"\")))","v":81.400000000000006},"  m",{"$f":"N784*1000","v":81400},"mm"]
[{"$f":"IF(COUNTIF($B$1:B785,TRUE)=COUNTIF($B$1:B784,TRUE),\"\",COUNTIF($B$1:B785,TRUE))","v":602},{"$f":"Worksheet!$B$15","v":true},{"$f":"RANDBETWEEN(5,20)","v":7},"hours","±",{"$f":"IF(I785=1,H785*10^RANDBETWEEN(IF(Worksheet!$D$9,-1,0),0),IF(I785=2,H785,CHOOSE(RANDBETWEEN(1,3),5,10,20)))","v":1},{"$f":"IF(I785=1,D785,IF(I785=3,\"%\",\"min\"))","v":"hours"},1,{"$f":"IF(AND(Worksheet!$D$8,RAND()<0),3,IF(RAND()<Worksheet!$D$7/100,1,2))","v":1},null," hours",{"$f":"IF(I785=1,C785-F785,IF(I785=2,C785*60-F785,\"\"))","v":6},{"$f":"IF($I785=1,\" hours\",\" min\")","v":" hours"},null,"  hours",{"$f":"IF(I785=1,C785+F785,IF(I785=2,C785*60+F785,\"\"))","v":8},{"$f":"IF($I785=1,\" hours\",\" min\")","v":" hours"}]
[{"$f":"IF(COUNTIF($B$1:B786,TRUE)=COUNTIF($B$1:B785,TRUE),\"\",COUNTIF($B$1:B786,TRUE))","v":603},{"$f":"Worksheet!$D$11","v":true},{"$f":"RANDBETWEEN(5,RANDBETWEEN(5,Worksheet!$D$6))","v":10},"kg","±",{"$f":"IF(I786=1,H786*10^RANDBETWEEN(IF(Worksheet!$D$9,-1,0),0),IF(I786=2,H786*10^RANDBETWEEN(RANDBETWEEN(0,2),2),CHOOSE(RANDBETWEEN(1,3),5,10,20)))","v":0.9},{"$f":"IF(I786=1,D786,IF(I786=3,\"%\",\"g\"))","v":"kg"},9,{"$f":"IF(AND(Worksheet!$D$8,RAND()<0.2),3,IF(RAND()<Worksheet!$D$7/100,1,2))","v":1},{"$f":"IF(I786=1,C786-F786,IF(I786=2,C786-F786/1000,IF(I786=3,(1-F786/100)*C786,\"\")))","v":9.1}," kg",{"$f":"J786*1000","v":9100},"g",{"$f":"IF(I786=1,C786+F786,IF(I786=2,C786+F786/1000,IF(I786=3,(1+F786/100)*C786,\"\")))","v":10.9},"  kg",{"$f":"N786*1000","v":10900},"g"]
[{"$f":"IF(COUNTIF($B$1:B787,TRUE)=COUNTIF($B$1:B786,TRUE),\"\",COUNTIF($B$1:B787,TRUE))","v":604},{"$f":"Worksheet!$D$12","v":true},{"$f":"RANDBETWEEN(5,RANDBETWEEN(5,Worksheet!$D$6))","v":194},"tonnes","±",{"$f":"IF(I787=1,H787*10^RANDBETWEEN(IF(Worksheet!$D$9,-1,0),0),IF(I787=2,H787*10^RANDBETWEEN(RANDBETWEEN(0,2),2),CHOOSE(RANDBETWEEN(1,3),5,10,20)))","v":5},{"$f":"IF(I787=1,D787,IF(I787=3,\"%\",\"kg\"))","v":"%"},7,{"$f":"IF(AND(Worksheet!$D$8,RAND()<0.2),3,IF(RAND()<Worksheet!$D$7/100,1,2))","v":3},{"$f":"IF(I787=1,C787-F787,IF(I787=2,C787-F787/1000,IF(I787=3,(1-F787/100)*C787,\"\")))","v":184.29999999999998}," tonnes",{"$f":"J787*1000","v":184299.99999999997},"kg",{"$f":"IF(I787=1,C787+F787,IF(I787=2,C787+F787/1000,IF(I787=3,(1+F787/100)*C787,\"\")))","v":203.70000000000002},"  tonnes",{"$f":"N787*1000","v":203700.00000000003},"kg"]
[{"$f":"IF(COUNTIF($B$1:B788,TRUE)=COUNTIF($B$1:B787,TRUE),\"\",COUNTIF($B$1:B788,TRUE))","v":605},{"$f":"Worksheet!$D$13","v":true},{"$f":"RANDBETWEEN(5,RANDBETWEEN(5,Worksheet!$D$6))","v":64},"litres","±",{"$f":"IF(I788=1,H788*10^RANDBETWEEN(IF(Worksheet!$D$9,-1,0),0),IF(I788=2,H788*10^RANDBETWEEN(RANDBETWEEN(0,2),2),CHOOSE(RANDBETWEEN(1,3),5,10,20)))","v":600},{"$f":"IF(I788=1,D788,IF(I788=3,\"%\",\"ml\"))","v":"ml"},6,{"$f":"IF(AND(Worksheet!$D$8,RAND()<0.2),3,IF(RAND()<Worksheet!$D$7/100,1,2))","v":2},{"$f":"IF(I788=1,C788-F788,IF(I788=2,C788-F788/1000,IF(I788=3,(1-F788/100)*C788,\"\")))","v":63.4}," litres",{"$f":"J788*1000","v":63400},"ml",{"$f":"IF(I788=1,C788+F788,IF(I788=2,C788+F788/1000,IF(I788=3,(1+F788/100)*C788,\"\")))","v":64.599999999999994},"  litres",{"$f":"N788*1000","v":64599.999999999993},"ml"]
[{"$f":"IF(COUNTIF($B$1:B789,TRUE)=COUNTIF($B$1:B788,TRUE),\"\",COUNTIF($B$1:B789,TRUE))","v":606},{"$f":"Worksheet!$D$14","v":true},{"$f":"RANDBETWEEN(5,RANDBETWEEN(5,Worksheet!$D$6))","v":226},"litres","±",{"$f":"IF(I789=1,H789*10^RANDBETWEEN(IF(Worksheet!$D$9,-1,0),0),IF(I789=2,H789*10^RANDBETWEEN(RANDBETWEEN(0,2),2),CHOOSE(RANDBETWEEN(1,3),5,10,20)))","v":100},{"$f":"IF(I789=1,D789,IF(I789=3,\"%\",\"cm³\"))","v":"cm³"},1,{"$f":"IF(AND(Worksheet!$D$8,RAND()<0.2),3,IF(RAND()<Worksheet!$D$7/100,1,2))","v":2},{"$f":"IF(I789=1,C789-F789,IF(I789=2,C789-F789/1000,IF(I789=3,(1-F789/100)*C789,\"\")))","v":225.9}," litres",{"$f":"J789*1000","v":225900},"cm³",{"$f":"IF(I789=1,C789+F789,IF(I789=2,C789+F789/1000,IF(I789=3,(1+F789/100)*C789,\"\")))","v":226.1},"  litres",{"$f":"N789*1000","v":226100},"cm³"]
[{"$f":"IF(COUNTIF($B$1:B790,TRUE)=COUNTIF($B$1:B789,TRUE),\"\",COUNTIF($B$1:B790,TRUE))","v":""},{"$f":"Worksheet!$D$15","v":false},{"$f":"RANDBETWEEN(5,20)","v":15},"min","±",{"$f":"IF(I790=1,H790*10^RANDBETWEEN(IF(Worksheet!$D$9,-1,0),0),IF(I790=2,H790,CHOOSE(RANDBETWEEN(1,3),5,10,20)))","v":8},{"$f":"IF(I790=1,D790,IF(I790=3,\"%\",\"sec\"))","v":"sec"},8,{"$f":"IF(AND(Worksheet!$D$8,RAND()<0),3,IF(RAND()<Worksheet!$D$7/100,1,2))","v":2},null," min",{"$f":"IF(I790=1,C790-F790,IF(I790=2,C790*60-F790,\"\"))","v":892},{"$f":"IF($I790=1,\" hours\",\" min\")","v":" min"},null,"  min",{"$f":"IF(I790=1,C790+F790,IF(I790=2,C790*60+F790,\"\"))","v":908},{"$f":"IF($I790=1,\" hours\",\" min\")","v":" min"}]
[{"$f":"COUNTIF($B$1:B791,TRUE)","v":607},{"$f":"Worksheet!$B$11","v":true},{"$f":"RANDBETWEEN(5,RANDBETWEEN(5,Worksheet!$D$6))","v":291},"cm","±",{"$f":"IF(I791=1,H791*10^RANDBETWEEN(IF(Worksheet!$D$9,-1,0),0),IF(I791=2,H791,CHOOSE(RANDBETWEEN(1,3),5,10,20)))","v":20},{"$f":"IF(I791=1,D791,IF(I791=3,\"%\",\"mm\"))","v":"%"},{"$f":"RANDBETWEEN(1,MIN(9,C791))","v":8},{"$f":"IF(AND(Worksheet!$D$8,RAND()<0.2),3,IF(RAND()<Worksheet!$D$7/100,1,2))","v":3},{"$f":"IF(I791=1,C791-F791,IF(I791=2,C791-F791/10,IF(I791=3,(1-F791/100)*C791,\"\")))","v":232.8},{"$f":"CONCATENATE(\" \",D791)","v":" cm"},{"$f":"J791*10","v":2328},"mm",{"$f":"IF(I791=1,C791+F791,IF(I791=2,C791+F791/10,IF(I791=3,(1+F791/100)*C791,\"\")))","v":349.2},{"$f":"CONCATENATE(\" \",K791)","v":"  cm"},{"$f":"N791*10","v":3492},"mm"]
[{"$f":"IF(COUNTIF($B$1:B792,TRUE)=COUNTIF($B$1:B791,TRUE),\"\",COUNTIF($B$1:B792,TRUE))","v":608},{"$f":"Worksheet!$B$12","v":true},{"$f":"RANDBETWEEN(5,RANDBETWEEN(5,Worksheet!$D$6))","v":80},"m","±",{"$f":"IF(I792=1,H792*10^RANDBETWEEN(IF(Worksheet!$D$9,-1,0),0),IF(I792=2,H792*10^RANDBETWEEN(RANDBETWEEN(0,1),1),CHOOSE(RANDBETWEEN(1,3),5,10,20)))","v":8},{"$f":"IF(I792=1,D792,IF(I792=3,\"%\",\"cm\"))","v":"cm"},{"$f":"RANDBETWEEN(1,MIN(9,C792))","v":8},{"$f":"IF(AND(Worksheet!$D$8,RAND()<0.2),3,IF(RAND()<Worksheet!$D$7/100,1,2))","v":2},{"$f":"IF(I792=1,C792-F792,IF(I792=2,C792-F792/100,IF(I792=3,(1-F792/100)*C792,\"\")))","v":79.92},{"$f":"CONCATENATE(\" \",D792)","v":" m"},{"$f":"J792*100","v":7992},"cm",{"$f":"IF(I792=1,C792+F792,IF(I792=2,C792+F792/100,IF(I792=3,(1+F792/100)*C792,\"\")))","v":80.08},{"$f":"CONCATENATE(\" \",K792)","v":"  m"},{"$f":"N792*100","v":8008},"cm"]
[{"$f":"IF(COUNTIF($B$1:B793,TRUE)=COUNTIF($B$1:B792,TRUE),\"\",COUNTIF($B$1:B793,TRUE))","v":609},{"$f":"Worksheet!$B$13","v":true},{"$f":"RANDBETWEEN(5,RANDBETWEEN(5,Worksheet!$D$6))","v":42},"km","±",{"$f":"IF(I793=1,H793*10^RANDBETWEEN(IF(Worksheet!$D$9,-1,0),0),IF(I793=2,H793*10^RANDBETWEEN(RANDBETWEEN(0,2),2),CHOOSE(RANDBETWEEN(1,3),5,10,20)))","v":10},{"$f":"IF(I793=1,D793,IF(I793=3,\"%\",\"m\"))","v":"%"},6,{"$f":"IF(AND(Worksheet!$D$8,RAND()<0.2),3,IF(RAND()<Worksheet!$D$7/100,1,2))","v":3},{"$f":"IF(I793=1,C793-F793,IF(I793=2,C793-F793/1000,IF(I793=3,(1-F793/100)*C793,\"\")))","v":37.800000000000004}," km",{"$f":"J793*1000","v":37800.000000000007},"m",{"$f":"IF(I793=1,C793+F793,IF(I793=2,C793+F793/1000,IF(I793=3,(1+F793/100)*C793,\"\")))","v":46.2},"  km",{"$f":"N793*1000","v":46200},"m"]
[{"$f":"IF(COUNTIF($B$1:B794,TRUE)=COUNTIF($B$1:B793,TRUE),\"\",COUNTIF($B$1:B794,TRUE))","v":""},{"$f":"Worksheet!$B$14","v":false},{"$f":"RANDBETWEEN(5,RANDBETWEEN(5,Worksheet!$D$6))","v":201},"m","±",{"$f":"IF(I794=1,H794*10^RANDBETWEEN(IF(Worksheet!$D$9,-1,0),0),IF(I794=2,H794*10^RANDBETWEEN(RANDBETWEEN(0,2),2),CHOOSE(RANDBETWEEN(1,3),5,10,20)))","v":0.2},{"$f":"IF(I794=1,D794,IF(I794=3,\"%\",\"mm\"))","v":"m"},2,{"$f":"IF(AND(Worksheet!$D$8,RAND()<0.2),3,IF(RAND()<Worksheet!$D$7/100,1,2))","v":1},{"$f":"IF(I794=1,C794-F794,IF(I794=2,C794-F794/1000,IF(I794=3,(1-F794/100)*C794,\"\")))","v":200.8}," m",{"$f":"J794*1000","v":200800},"mm",{"$f":"IF(I794=1,C794+F794,IF(I794=2,C794+F794/1000,IF(I794=3,(1+F794/100)*C794,\"\")))","v":201.2},"  m",{"$f":"N794*1000","v":201200},"mm"]
[{"$f":"IF(COUNTIF($B$1:B795,TRUE)=COUNTIF($B$1:B794,TRUE),\"\",COUNTIF($B$1:B795,TRUE))","v":610},{"$f":"Worksheet!$B$15","v":true},{"$f":"RANDBETWEEN(5,20)","v":15},"hours","±",{"$f":"IF(I795=1,H795*10^RANDBETWEEN(IF(Worksheet!$D$9,-1,0),0),IF(I795=2,H795,CHOOSE(RANDBETWEEN(1,3),5,10,20)))","v":0.60000000000000009},{"$f":"IF(I795=1,D795,IF(I795=3,\"%\",\"min\"))","v":"hours"},6,{"$f":"IF(AND(Worksheet!$D$8,RAND()<0),3,IF(RAND()<Worksheet!$D$7/100,1,2))","v":1},null," hours",{"$f":"IF(I795=1,C795-F795,IF(I795=2,C795*60-F795,\"\"))","v":14.4},{"$f":"IF($I795=1,\" hours\",\" min\")","v":" hours"},null,"  hours",{"$f":"IF(I795=1,C795+F795,IF(I795=2,C795*60+F795,\"\"))","v":15.6},{"$f":"IF($I795=1,\" hours\",\" min\")","v":" hours"}]
[{"$f":"IF(COUNTIF($B$1:B796,TRUE)=COUNTIF($B$1:B795,TRUE),\"\",COUNTIF($B$1:B796,TRUE))","v":611},{"$f":"Worksheet!$D$11","v":true},{"$f":"RANDBETWEEN(5,RANDBETWEEN(5,Worksheet!$D$6))","v":6},"kg","±",{"$f":"IF(I796=1,H796*10^RANDBETWEEN(IF(Worksheet!$D$9,-1,0),0),IF(I796=2,H796*10^RANDBETWEEN(RANDBETWEEN(0,2),2),CHOOSE(RANDBETWEEN(1,3),5,10,20)))","v":2},{"$f":"IF(I796=1,D796,IF(I796=3,\"%\",\"g\"))","v":"kg"},2,{"$f":"IF(AND(Worksheet!$D$8,RAND()<0.2),3,IF(RAND()<Worksheet!$D$7/100,1,2))","v":1},{"$f":"IF(I796=1,C796-F796,IF(I796=2,C796-F796/1000,IF(I796=3,(1-F796/100)*C796,\"\")))","v":4}," kg",{"$f":"J796*1000","v":4000},"g",{"$f":"IF(I796=1,C796+F796,IF(I796=2,C796+F796/1000,IF(I796=3,(1+F796/100)*C796,\"\")))","v":8},"  kg",{"$f":"N796*1000","v":8000},"g"]
[{"$f":"IF(COUNTIF($B$1:B797,TRUE)=COUNTIF($B$1:B796,TRUE),\"\",COUNTIF($B$1:B797,TRUE))","v":612},{"$f":"Worksheet!$D$12","v":true},{"$f":"RANDBETWEEN(5,RANDBETWEEN(5,Worksheet!$D$6))","v":26},"tonnes","±",{"$f":"IF(I797=1,H797*10^RANDBETWEEN(IF(Worksheet!$D$9,-1,0),0),IF(I797=2,H797*10^RANDBETWEEN(RANDBETWEEN(0,2),2),CHOOSE(RANDBETWEEN(1,3),5,10,20)))","v":0.2},{"$f":"IF(I797=1,D797,IF(I797=3,\"%\",\"kg\"))","v":"tonnes"},2,{"$f":"IF(AND(Worksheet!$D$8,RAND()<0.2),3,IF(RAND()<Worksheet!$D$7/100,1,2))","v":1},{"$f":"IF(I797=1,C797-F797,IF(I797=2,C797-F797/1000,IF(I797=3,(1-F797/100)*C797,\"\")))","v":25.8}," tonnes",{"$f":"J797*1000","v":25800},"kg",{"$f":"IF(I797=1,C797+F797,IF(I797=2,C797+F797/1000,IF(I797=3,(1+F797/100)*C797,\"\")))","v":26.2},"  tonnes",{"$f":"N797*1000","v":26200},"kg"]
[{"$f":"IF(COUNTIF($B$1:B798,TRUE)=COUNTIF($B$1:B797,TRUE),\"\",COUNTIF($B$1:B798,TRUE))","v":613},{"$f":"Worksheet!$D$13","v":true},{"$f":"RANDBETWEEN(5,RANDBETWEEN(5,Worksheet!$D$6))","v":18},"litres","±",{"$f":"IF(I798=1,H798*10^RANDBETWEEN(IF(Worksheet!$D$9,-1,0),0),IF(I798=2,H798*10^RANDBETWEEN(RANDBETWEEN(0,2),2),CHOOSE(RANDBETWEEN(1,3),5,10,20)))","v":0.8},{"$f":"IF(I798=1,D798,IF(I798=3,\"%\",\"ml\"))","v":"litres"},8,{"$f":"IF(AND(Worksheet!$D$8,RAND()<0.2),3,IF(RAND()<Worksheet!$D$7/100,1,2))","v":1},{"$f":"IF(I798=1,C798-F798,IF(I798=2,C798-F798/1000,IF(I798=3,(1-F798/100)*C798,\"\")))","v":17.2}," litres",{"$f":"J798*1000","v":17200},"ml",{"$f":"IF(I798=1,C798+F798,IF(I798=2,C798+F798/1000,IF(I798=3,(1+F798/100)*C798,\"\")))","v":18.8},"  litres",{"$f":"N798*1000","v":18800},"ml"]
[{"$f":"IF(COUNTIF($B$1:B799,TRUE)=COUNTIF($B$1:B798,TRUE),\"\",COUNTIF($B$1:B799,TRUE))","v":614},{"$f":"Worksheet!$D$14","v":true},{"$f":"RANDBETWEEN(5,RANDBETWEEN(5,Worksheet!$D$6))","v":133},"litres","±",{"$f":"IF(I799=1,H799*10^RANDBETWEEN(IF(Worksheet!$D$9,-1,0),0),IF(I799=2,H799*10^RANDBETWEEN(RANDBETWEEN(0,2),2),CHOOSE(RANDBETWEEN(1,3),5,10,20)))","v":0.60000000000000009},{"$f":"IF(I799=1,D799,IF(I799=3,\"%\",\"cm³\"))","v":"litres"},6,{"$f":"IF(AND(Worksheet!$D$8,RAND()<0.2),3,IF(RAND()<Worksheet!$D$7/100,1,2))","v":1},{"$f":"IF(I799=1,C799-F799,IF(I799=2,C799-F799/1000,IF(I799=3,(1-F799/100)*C799,\"\")))","v":132.4}," litres",{"$f":"J799*1000","v":132400},"cm³",{"$f":"IF(I799=1,C799+F799,IF(I799=2,C799+F799/1000,IF(I799=3,(1+F799/100)*C799,\"\")))","v":133.6},"  litres",{"$f":"N799*1000","v":133600},"cm³"]
[{"$f":"IF(COUNTIF($B$1:B800,TRUE)=COUNTIF($B$1:B799,TRUE),\"\",COUNTIF($B$1:B800,TRUE))","v":""},{"$f":"Worksheet!$D$15","v":false},{"$f":"RANDBETWEEN(5,20)","v":10},"min","±",{"$f":"IF(I800=1,H800*10^RANDBETWEEN(IF(Worksheet!$D$9,-1,0),0),IF(I800=2,H800,CHOOSE(RANDBETWEEN(1,3),5,10,20)))","v":8},{"$f":"IF(I800=1,D800,IF(I800=3,\"%\",\"sec\"))","v":"min"},8,{"$f":"IF(AND(Worksheet!$D$8,RAND()<0),3,IF(RAND()<Worksheet!$D$7/100,1,2))","v":1},null," min",{"$f":"IF(I800=1,C800-F800,IF(I800=2,C800*60-F800,\"\"))","v":2},{"$f":"IF($I800=1,\" hours\",\" min\")","v":" hours"},null,"  min",{"$f":"IF(I800=1,C800+F800,IF(I800=2,C800*60+F800,\"\"))","v":18},{"$f":"IF($I800=1,\" hours\",\" min\")","v":" hours"}]
[{"$f":"COUNTIF($B$1:B801,TRUE)","v":615},{"$f":"Worksheet!$B$11","v":true},{"$f":"RANDBETWEEN(5,RANDBETWEEN(5,Worksheet!$D$6))","v":43},"cm","±",{"$f":"IF(I801=1,H801*10^RANDBETWEEN(IF(Worksheet!$D$9,-1,0),0),IF(I801=2,H801,CHOOSE(RANDBETWEEN(1,3),5,10,20)))","v":9},{"$f":"IF(I801=1,D801,IF(I801=3,\"%\",\"mm\"))","v":"mm"},{"$f":"RANDBETWEEN(1,MIN(9,C801))","v":9},{"$f":"IF(AND(Worksheet!$D$8,RAND()<0.2),3,IF(RAND()<Worksheet!$D$7/100,1,2))","v":2},{"$f":"IF(I801=1,C801-F801,IF(I801=2,C801-F801/10,IF(I801=3,(1-F801/100)*C801,\"\")))","v":42.1},{"$f":"CONCATENATE(\" \",D801)","v":" cm"},{"$f":"J801*10","v":421},"mm",{"$f":"IF(I801=1,C801+F801,IF(I801=2,C801+F801/10,IF(I801=3,(1+F801/100)*C801,\"\")))","v":43.9},{"$f":"CONCATENATE(\" \",K801)","v":"  cm"},{"$f":"N801*10","v":439},"mm"]
[{"$f":"IF(COUNTIF($B$1:B802,TRUE)=COUNTIF($B$1:B801,TRUE),\"\",COUNTIF($B$1:B802,TRUE))","v":616},{"$f":"Worksheet!$B$12","v":true},{"$f":"RANDBETWEEN(5,RANDBETWEEN(5,Worksheet!$D$6))","v":44},"m","±",{"$f":"IF(I802=1,H802*10^RANDBETWEEN(IF(Worksheet!$D$9,-1,0),0),IF(I802=2,H802*10^RANDBETWEEN(RANDBETWEEN(0,1),1),CHOOSE(RANDBETWEEN(1,3),5,10,20)))","v":10},{"$f":"IF(I802=1,D802,IF(I802=3,\"%\",\"cm\"))","v":"%"},{"$f":"RANDBETWEEN(1,MIN(9,C802))","v":3},{"$f":"IF(AND(Worksheet!$D$8,RAND()<0.2),3,IF(RAND()<Worksheet!$D$7/100,1,2))","v":3},{"$f":"IF(I802=1,C802-F802,IF(I802=2,C802-F802/100,IF(I802=3,(1-F802/100)*C802,\"\")))","v":39.6},{"$f":"CONCATENATE(\" \",D802)","v":" m"},{"$f":"J802*100","v":3960},"cm",{"$f":"IF(I802=1,C802+F802,IF(I802=2,C802+F802/100,IF(I802=3,(1+F802/100)*C802,\"\")))","v":48.400000000000006},{"$f":"CONCATENATE(\" \",K802)","v":"  m"},{"$f":"N802*100","v":4840.0000000000009},"cm"]
[{"$f":"IF(COUNTIF($B$1:B803,TRUE)=COUNTIF($B$1:B802,TRUE),\"\",COUNTIF($B$1:B803,TRUE))","v":617},{"$f":"Worksheet!$B$13","v":true},{"$f":"RANDBETWEEN(5,RANDBETWEEN(5,Worksheet!$D$6))","v":45},"km","±",{"$f":"IF(I803=1,H803*10^RANDBETWEEN(IF(Worksheet!$D$9,-1,0),0),IF(I803=2,H803*10^RANDBETWEEN(RANDBETWEEN(0,2),2),CHOOSE(RANDBETWEEN(1,3),5,10,20)))","v":4},{"$f":"IF(I803=1,D803,IF(I803=3,\"%\",\"m\"))","v":"km"},4,{"$f":"IF(AND(Worksheet!$D$8,RAND()<0.2),3,IF(RAND()<Worksheet!$D$7/100,1,2))","v":1},{"$f":"IF(I803=1,C803-F803,IF(I803=2,C803-F803/1000,IF(I803=3,(1-F803/100)*C803,\"\")))","v":41}," km",{"$f":"J803*1000","v":41000},"m",{"$f":"IF(I803=1,C803+F803,IF(I803=2,C803+F803/1000,IF(I803=3,(1+F803/100)*C803,\"\")))","v":49},"  km",{"$f":"N803*1000","v":49000},"m"]
[{"$f":"IF(COUNTIF($B$1:B804,TRUE)=COUNTIF($B$1:B803,TRUE),\"\",COUNTIF($B$1:B804,TRUE))","v":""},{"$f":"Worksheet!$B$14","v":false},{"$f":"RANDBETWEEN(5,RANDBETWEEN(5,Worksheet!$D$6))","v":304},"m","±",{"$f":"IF(I804=1,H804*10^RANDBETWEEN(IF(Worksheet!$D$9,-1,0),0),IF(I804=2,H804*10^RANDBETWEEN(RANDBETWEEN(0,2),2),CHOOSE(RANDBETWEEN(1,3),5,10,20)))","v":2},{"$f":"IF(I804=1,D804,IF(I804=3,\"%\",\"mm\"))","v":"m"},2,{"$f":"IF(AND(Worksheet!$D$8,RAND()<0.2),3,IF(RAND()<Worksheet!$D$7/100,1,2))","v":1},{"$f":"IF(I804=1,C804-F804,IF(I804=2,C804-F804/1000,IF(I804=3,(1-F804/100)*C804,\"\")))","v":302}," m",{"$f":"J804*1000","v":302000},"mm",{"$f":"IF(I804=1,C804+F804,IF(I804=2,C804+F804/1000,IF(I804=3,(1+F804/100)*C804,\"\")))","v":306},"  m",{"$f":"N804*1000","v":306000},"mm"]
[{"$f":"IF(COUNTIF($B$1:B805,TRUE)=COUNTIF($B$1:B804,TRUE),\"\",COUNTIF($B$1:B805,TRUE))","v":618},{"$f":"Worksheet!$B$15","v":true},{"$f":"RANDBETWEEN(5,20)","v":10},"hours","±",{"$f":"IF(I805=1,H805*10^RANDBETWEEN(IF(Worksheet!$D$9,-1,0),0),IF(I805=2,H805,CHOOSE(RANDBETWEEN(1,3),5,10,20)))","v":6},{"$f":"IF(I805=1,D805,IF(I805=3,\"%\",\"min\"))","v":"hours"},6,{"$f":"IF(AND(Worksheet!$D$8,RAND()<0),3,IF(RAND()<Worksheet!$D$7/100,1,2))","v":1},null," hours",{"$f":"IF(I805=1,C805-F805,IF(I805=2,C805*60-F805,\"\"))","v":4},{"$f":"IF($I805=1,\" hours\",\" min\")","v":" hours"},null,"  hours",{"$f":"IF(I805=1,C805+F805,IF(I805=2,C805*60+F805,\"\"))","v":16},{"$f":"IF($I805=1,\" hours\",\" min\")","v":" hours"}]
[{"$f":"IF(COUNTIF($B$1:B806,TRUE)=COUNTIF($B$1:B805,TRUE),\"\",COUNTIF($B$1:B806,TRUE))","v":619},{"$f":"Worksheet!$D$11","v":true},{"$f":"RANDBETWEEN(5,RANDBETWEEN(5,Worksheet!$D$6))","v":126},"kg","±",{"$f":"IF(I806=1,H806*10^RANDBETWEEN(IF(Worksheet!$D$9,-1,0),0),IF(I806=2,H806*10^RANDBETWEEN(RANDBETWEEN(0,2),2),CHOOSE(RANDBETWEEN(1,3),5,10,20)))","v":700},{"$f":"IF(I806=1,D806,IF(I806=3,\"%\",\"g\"))","v":"g"},7,{"$f":"IF(AND(Worksheet!$D$8,RAND()<0.2),3,IF(RAND()<Worksheet!$D$7/100,1,2))","v":2},{"$f":"IF(I806=1,C806-F806,IF(I806=2,C806-F806/1000,IF(I806=3,(1-F806/100)*C806,\"\")))","v":125.3}," kg",{"$f":"J806*1000","v":125300},"g",{"$f":"IF(I806=1,C806+F806,IF(I806=2,C806+F806/1000,IF(I806=3,(1+F806/100)*C806,\"\")))","v":126.7},"  kg",{"$f":"N806*1000","v":126700},"g"]
[{"$f":"IF(COUNTIF($B$1:B807,TRUE)=COUNTIF($B$1:B806,TRUE),\"\",COUNTIF($B$1:B807,TRUE))","v":620},{"$f":"Worksheet!$D$12","v":true},{"$f":"RANDBETWEEN(5,RANDBETWEEN(5,Worksheet!$D$6))","v":24},"tonnes","±",{"$f":"IF(I807=1,H807*10^RANDBETWEEN(IF(Worksheet!$D$9,-1,0),0),IF(I807=2,H807*10^RANDBETWEEN(RANDBETWEEN(0,2),2),CHOOSE(RANDBETWEEN(1,3),5,10,20)))","v":0.70000000000000007},{"$f":"IF(I807=1,D807,IF(I807=3,\"%\",\"kg\"))","v":"tonnes"},7,{"$f":"IF(AND(Worksheet!$D$8,RAND()<0.2),3,IF(RAND()<Worksheet!$D$7/100,1,2))","v":1},{"$f":"IF(I807=1,C807-F807,IF(I807=2,C807-F807/1000,IF(I807=3,(1-F807/100)*C807,\"\")))","v":23.3}," tonnes",{"$f":"J807*1000","v":23300},"kg",{"$f":"IF(I807=1,C807+F807,IF(I807=2,C807+F807/1000,IF(I807=3,(1+F807/100)*C807,\"\")))","v":24.7},"  tonnes",{"$f":"N807*1000","v":24700},"kg"]
[{"$f":"IF(COUNTIF($B$1:B808,TRUE)=COUNTIF($B$1:B807,TRUE),\"\",COUNTIF($B$1:B808,TRUE))","v":621},{"$f":"Worksheet!$D$13","v":true},{"$f":"RANDBETWEEN(5,RANDBETWEEN(5,Worksheet!$D$6))","v":239},"litres","±",{"$f":"IF(I808=1,H808*10^RANDBETWEEN(IF(Worksheet!$D$9,-1,0),0),IF(I808=2,H808*10^RANDBETWEEN(RANDBETWEEN(0,2),2),CHOOSE(RANDBETWEEN(1,3),5,10,20)))","v":50},{"$f":"IF(I808=1,D808,IF(I808=3,\"%\",\"ml\"))","v":"ml"},5,{"$f":"IF(AND(Worksheet!$D$8,RAND()<0.2),3,IF(RAND()<Worksheet!$D$7/100,1,2))","v":2},{"$f":"IF(I808=1,C808-F808,IF(I808=2,C808-F808/1000,IF(I808=3,(1-F808/100)*C808,\"\")))","v":238.95}," litres",{"$f":"J808*1000","v":238950},"ml",{"$f":"IF(I808=1,C808+F808,IF(I808=2,C808+F808/1000,IF(I808=3,(1+F808/100)*C808,\"\")))","v":239.05},"  litres",{"$f":"N808*1000","v":239050},"ml"]
[{"$f":"IF(COUNTIF($B$1:B809,TRUE)=COUNTIF($B$1:B808,TRUE),\"\",COUNTIF($B$1:B809,TRUE))","v":622},{"$f":"Worksheet!$D$14","v":true},{"$f":"RANDBETWEEN(5,RANDBETWEEN(5,Worksheet!$D$6))","v":26},"litres","±",{"$f":"IF(I809=1,H809*10^RANDBETWEEN(IF(Worksheet!$D$9,-1,0),0),IF(I809=2,H809*10^RANDBETWEEN(RANDBETWEEN(0,2),2),CHOOSE(RANDBETWEEN(1,3),5,10,20)))","v":10},{"$f":"IF(I809=1,D809,IF(I809=3,\"%\",\"cm³\"))","v":"%"},9,{"$f":"IF(AND(Worksheet!$D$8,RAND()<0.2),3,IF(RAND()<Worksheet!$D$7/100,1,2))","v":3},{"$f":"IF(I809=1,C809-F809,IF(I809=2,C809-F809/1000,IF(I809=3,(1-F809/100)*C809,\"\")))","v":23.400000000000002}," litres",{"$f":"J809*1000","v":23400.000000000004},"cm³",{"$f":"IF(I809=1,C809+F809,IF(I809=2,C809+F809/1000,IF(I809=3,(1+F809/100)*C809,\"\")))","v":28.6},"  litres",{"$f":"N809*1000","v":28600},"cm³"]
[{"$f":"IF(COUNTIF($B$1:B810,TRUE)=COUNTIF($B$1:B809,TRUE),\"\",COUNTIF($B$1:B810,TRUE))","v":""},{"$f":"Worksheet!$D$15","v":false},{"$f":"RANDBETWEEN(5,20)","v":13},"min","±",{"$f":"IF(I810=1,H810*10^RANDBETWEEN(IF(Worksheet!$D$9,-1,0),0),IF(I810=2,H810,CHOOSE(RANDBETWEEN(1,3),5,10,20)))","v":1},{"$f":"IF(I810=1,D810,IF(I810=3,\"%\",\"sec\"))","v":"sec"},1,{"$f":"IF(AND(Worksheet!$D$8,RAND()<0),3,IF(RAND()<Worksheet!$D$7/100,1,2))","v":2},null," min",{"$f":"IF(I810=1,C810-F810,IF(I810=2,C810*60-F810,\"\"))","v":779},{"$f":"IF($I810=1,\" hours\",\" min\")","v":" min"},null,"  min",{"$f":"IF(I810=1,C810+F810,IF(I810=2,C810*60+F810,\"\"))","v":781},{"$f":"IF($I810=1,\" hours\",\" min\")","v":" min"}]
[{"$f":"COUNTIF($B$1:B811,TRUE)","v":623},{"$f":"Worksheet!$B$11","v":true},{"$f":"RANDBETWEEN(5,RANDBETWEEN(5,Worksheet!$D$6))","v":389},"cm","±",{"$f":"IF(I811=1,H811*10^RANDBETWEEN(IF(Worksheet!$D$9,-1,0),0),IF(I811=2,H811,CHOOSE(RANDBETWEEN(1,3),5,10,20)))","v":5},{"$f":"IF(I811=1,D811,IF(I811=3,\"%\",\"mm\"))","v":"mm"},{"$f":"RANDBETWEEN(1,MIN(9,C811))","v":5},{"$f":"IF(AND(Worksheet!$D$8,RAND()<0.2),3,IF(RAND()<Worksheet!$D$7/100,1,2))","v":2},{"$f":"IF(I811=1,C811-F811,IF(I811=2,C811-F811/10,IF(I811=3,(1-F811/100)*C811,\"\")))","v":388.5},{"$f":"CONCATENATE(\" \",D811)","v":" cm"},{"$f":"J811*10","v":3885},"mm",{"$f":"IF(I811=1,C811+F811,IF(I811=2,C811+F811/10,IF(I811=3,(1+F811/100)*C811,\"\")))","v":389.5},{"$f":"CONCATENATE(\" \",K811)","v":"  cm"},{"$f":"N811*10","v":3895},"mm"]
[{"$f":"IF(COUNTIF($B$1:B812,TRUE)=COUNTIF($B$1:B811,TRUE),\"\",COUNTIF($B$1:B812,TRUE))","v":624},{"$f":"Worksheet!$B$12","v":true},{"$f":"RANDBETWEEN(5,RANDBETWEEN(5,Worksheet!$D$6))","v":129},"m","±",{"$f":"IF(I812=1,H812*10^RANDBETWEEN(IF(Worksheet!$D$9,-1,0),0),IF(I812=2,H812*10^RANDBETWEEN(RANDBETWEEN(0,1),1),CHOOSE(RANDBETWEEN(1,3),5,10,20)))","v":1},{"$f":"IF(I812=1,D812,IF(I812=3,\"%\",\"cm\"))","v":"m"},{"$f":"RANDBETWEEN(1,MIN(9,C812))","v":1},{"$f":"IF(AND(Worksheet!$D$8,RAND()<0.2),3,IF(RAND()<Worksheet!$D$7/100,1,2))","v":1},{"$f":"IF(I812=1,C812-F812,IF(I812=2,C812-F812/100,IF(I812=3,(1-F812/100)*C812,\"\")))","v":128},{"$f":"CONCATENATE(\" \",D812)","v":" m"},{"$f":"J812*100","v":12800},"cm",{"$f":"IF(I812=1,C812+F812,IF(I812=2,C812+F812/100,IF(I812=3,(1+F812/100)*C812,\"\")))","v":130},{"$f":"CONCATENATE(\" \",K812)","v":"  m"},{"$f":"N812*100","v":13000},"cm"]
[{"$f":"IF(COUNTIF($B$1:B813,TRUE)=COUNTIF($B$1:B812,TRUE),\"\",COUNTIF($B$1:B813,TRUE))","v":625},{"$f":"Worksheet!$B$13","v":true},{"$f":"RANDBETWEEN(5,RANDBETWEEN(5,Worksheet!$D$6))","v":18},"km","±",{"$f":"IF(I813=1,H813*10^RANDBETWEEN(IF(Worksheet!$D$9,-1,0),0),IF(I813=2,H813*10^RANDBETWEEN(RANDBETWEEN(0,2),2),CHOOSE(RANDBETWEEN(1,3),5,10,20)))","v":50},{"$f":"IF(I813=1,D813,IF(I813=3,\"%\",\"m\"))","v":"m"},5,{"$f":"IF(AND(Worksheet!$D$8,RAND()<0.2),3,IF(RAND()<Worksheet!$D$7/100,1,2))","v":2},{"$f":"IF(I813=1,C813-F813,IF(I813=2,C813-F813/1000,IF(I813=3,(1-F813/100)*C813,\"\")))","v":17.95}," km",{"$f":"J813*1000","v":17950},"m",{"$f":"IF(I813=1,C813+F813,IF(I813=2,C813+F813/1000,IF(I813=3,(1+F813/100)*C813,\"\")))","v":18.05},"  km",{"$f":"N813*1000","v":18050},"m"]
[{"$f":"IF(COUNTIF($B$1:B814,TRUE)=COUNTIF($B$1:B813,TRUE),\"\",COUNTIF($B$1:B814,TRUE))","v":""},{"$f":"Worksheet!$B$14","v":false},{"$f":"RANDBETWEEN(5,RANDBETWEEN(5,Worksheet!$D$6))","v":13},"m","±",{"$f":"IF(I814=1,H814*10^RANDBETWEEN(IF(Worksheet!$D$9,-1,0),0),IF(I814=2,H814*10^RANDBETWEEN(RANDBETWEEN(0,2),2),CHOOSE(RANDBETWEEN(1,3),5,10,20)))","v":20},{"$f":"IF(I814=1,D814,IF(I814=3,\"%\",\"mm\"))","v":"mm"},2,{"$f":"IF(AND(Worksheet!$D$8,RAND()<0.2),3,IF(RAND()<Worksheet!$D$7/100,1,2))","v":2},{"$f":"IF(I814=1,C814-F814,IF(I814=2,C814-F814/1000,IF(I814=3,(1-F814/100)*C814,\"\")))","v":12.98}," m",{"$f":"J814*1000","v":12980},"mm",{"$f":"IF(I814=1,C814+F814,IF(I814=2,C814+F814/1000,IF(I814=3,(1+F814/100)*C814,\"\")))","v":13.02},"  m",{"$f":"N814*1000","v":13020},"mm"]
[{"$f":"IF(COUNTIF($B$1:B815,TRUE)=COUNTIF($B$1:B814,TRUE),\"\",COUNTIF($B$1:B815,TRUE))","v":626},{"$f":"Worksheet!$B$15","v":true},{"$f":"RANDBETWEEN(5,20)","v":15},"hours","±",{"$f":"IF(I815=1,H815*10^RANDBETWEEN(IF(Worksheet!$D$9,-1,0),0),IF(I815=2,H815,CHOOSE(RANDBETWEEN(1,3),5,10,20)))","v":8},{"$f":"IF(I815=1,D815,IF(I815=3,\"%\",\"min\"))","v":"min"},8,{"$f":"IF(AND(Worksheet!$D$8,RAND()<0),3,IF(RAND()<Worksheet!$D$7/100,1,2))","v":2},null," hours",{"$f":"IF(I815=1,C815-F815,IF(I815=2,C815*60-F815,\"\"))","v":892},{"$f":"IF($I815=1,\" hours\",\" min\")","v":" min"},null,"  hours",{"$f":"IF(I815=1,C815+F815,IF(I815=2,C815*60+F815,\"\"))","v":908},{"$f":"IF($I815=1,\" hours\",\" min\")","v":" min"}]
[{"$f":"IF(COUNTIF($B$1:B816,TRUE)=COUNTIF($B$1:B815,TRUE),\"\",COUNTIF($B$1:B816,TRUE))","v":627},{"$f":"Worksheet!$D$11","v":true},{"$f":"RANDBETWEEN(5,RANDBETWEEN(5,Worksheet!$D$6))","v":219},"kg","±",{"$f":"IF(I816=1,H816*10^RANDBETWEEN(IF(Worksheet!$D$9,-1,0),0),IF(I816=2,H816*10^RANDBETWEEN(RANDBETWEEN(0,2),2),CHOOSE(RANDBETWEEN(1,3),5,10,20)))","v":0.9},{"$f":"IF(I816=1,D816,IF(I816=3,\"%\",\"g\"))","v":"kg"},9,{"$f":"IF(AND(Worksheet!$D$8,RAND()<0.2),3,IF(RAND()<Worksheet!$D$7/100,1,2))","v":1},{"$f":"IF(I816=1,C816-F816,IF(I816=2,C816-F816/1000,IF(I816=3,(1-F816/100)*C816,\"\")))","v":218.1}," kg",{"$f":"J816*1000","v":218100},"g",{"$f":"IF(I816=1,C816+F816,IF(I816=2,C816+F816/1000,IF(I816=3,(1+F816/100)*C816,\"\")))","v":219.9},"  kg",{"$f":"N816*1000","v":219900},"g"]
[{"$f":"IF(COUNTIF($B$1:B817,TRUE)=COUNTIF($B$1:B816,TRUE),\"\",COUNTIF($B$1:B817,TRUE))","v":628},{"$f":"Worksheet!$D$12","v":true},{"$f":"RANDBETWEEN(5,RANDBETWEEN(5,Worksheet!$D$6))","v":175},"tonnes","±",{"$f":"IF(I817=1,H817*10^RANDBETWEEN(IF(Worksheet!$D$9,-1,0),0),IF(I817=2,H817*10^RANDBETWEEN(RANDBETWEEN(0,2),2),CHOOSE(RANDBETWEEN(1,3),5,10,20)))","v":400},{"$f":"IF(I817=1,D817,IF(I817=3,\"%\",\"kg\"))","v":"kg"},4,{"$f":"IF(AND(Worksheet!$D$8,RAND()<0.2),3,IF(RAND()<Worksheet!$D$7/100,1,2))","v":2},{"$f":"IF(I817=1,C817-F817,IF(I817=2,C817-F817/1000,IF(I817=3,(1-F817/100)*C817,\"\")))","v":174.6}," tonnes",{"$f":"J817*1000","v":174600},"kg",{"$f":"IF(I817=1,C817+F817,IF(I817=2,C817+F817/1000,IF(I817=3,(1+F817/100)*C817,\"\")))","v":175.4},"  tonnes",{"$f":"N817*1000","v":175400},"kg"]
[{"$f":"IF(COUNTIF($B$1:B818,TRUE)=COUNTIF($B$1:B817,TRUE),\"\",COUNTIF($B$1:B818,TRUE))","v":629},{"$f":"Worksheet!$D$13","v":true},{"$f":"RANDBETWEEN(5,RANDBETWEEN(5,Worksheet!$D$6))","v":145},"litres","±",{"$f":"IF(I818=1,H818*10^RANDBETWEEN(IF(Worksheet!$D$9,-1,0),0),IF(I818=2,H818*10^RANDBETWEEN(RANDBETWEEN(0,2),2),CHOOSE(RANDBETWEEN(1,3),5,10,20)))","v":8},{"$f":"IF(I818=1,D818,IF(I818=3,\"%\",\"ml\"))","v":"litres"},8,{"$f":"IF(AND(Worksheet!$D$8,RAND()<0.2),3,IF(RAND()<Worksheet!$D$7/100,1,2))","v":1},{"$f":"IF(I818=1,C818-F818,IF(I818=2,C818-F818/1000,IF(I818=3,(1-F818/100)*C818,\"\")))","v":137}," litres",{"$f":"J818*1000","v":137000},"ml",{"$f":"IF(I818=1,C818+F818,IF(I818=2,C818+F818/1000,IF(I818=3,(1+F818/100)*C818,\"\")))","v":153},"  litres",{"$f":"N818*1000","v":153000},"ml"]
[{"$f":"IF(COUNTIF($B$1:B819,TRUE)=COUNTIF($B$1:B818,TRUE),\"\",COUNTIF($B$1:B819,TRUE))","v":630},{"$f":"Worksheet!$D$14","v":true},{"$f":"RANDBETWEEN(5,RANDBETWEEN(5,Worksheet!$D$6))","v":13},"litres","±",{"$f":"IF(I819=1,H819*10^RANDBETWEEN(IF(Worksheet!$D$9,-1,0),0),IF(I819=2,H819*10^RANDBETWEEN(RANDBETWEEN(0,2),2),CHOOSE(RANDBETWEEN(1,3),5,10,20)))","v":20},{"$f":"IF(I819=1,D819,IF(I819=3,\"%\",\"cm³\"))","v":"%"},3,{"$f":"IF(AND(Worksheet!$D$8,RAND()<0.2),3,IF(RAND()<Worksheet!$D$7/100,1,2))","v":3},{"$f":"IF(I819=1,C819-F819,IF(I819=2,C819-F819/1000,IF(I819=3,(1-F819/100)*C819,\"\")))","v":10.4}," litres",{"$f":"J819*1000","v":10400},"cm³",{"$f":"IF(I819=1,C819+F819,IF(I819=2,C819+F819/1000,IF(I819=3,(1+F819/100)*C819,\"\")))","v":15.6},"  litres",{"$f":"N819*1000","v":15600},"cm³"]
[{"$f":"IF(COUNTIF($B$1:B820,TRUE)=COUNTIF($B$1:B819,TRUE),\"\",COUNTIF($B$1:B820,TRUE))","v":""},{"$f":"Worksheet!$D$15","v":false},{"$f":"RANDBETWEEN(5,20)","v":18},"min","±",{"$f":"IF(I820=1,H820*10^RANDBETWEEN(IF(Worksheet!$D$9,-1,0),0),IF(I820=2,H820,CHOOSE(RANDBETWEEN(1,3),5,10,20)))","v":8},{"$f":"IF(I820=1,D820,IF(I820=3,\"%\",\"sec\"))","v":"sec"},8,{"$f":"IF(AND(Worksheet!$D$8,RAND()<0),3,IF(RAND()<Worksheet!$D$7/100,1,2))","v":2},null," min",{"$f":"IF(I820=1,C820-F820,IF(I820=2,C820*60-F820,\"\"))","v":1072},{"$f":"IF($I820=1,\" hours\",\" min\")","v":" min"},null,"  min",{"$f":"IF(I820=1,C820+F820,IF(I820=2,C820*60+F820,\"\"))","v":1088},{"$f":"IF($I820=1,\" hours\",\" min\")","v":" min"}]
[{"$f":"COUNTIF($B$1:B821,TRUE)","v":631},{"$f":"Worksheet!$B$11","v":true},{"$f":"RANDBETWEEN(5,RANDBETWEEN(5,Worksheet!$D$6))","v":20},"cm","±",{"$f":"IF(I821=1,H821*10^RANDBETWEEN(IF(Worksheet!$D$9,-1,0),0),IF(I821=2,H821,CHOOSE(RANDBETWEEN(1,3),5,10,20)))","v":20},{"$f":"IF(I821=1,D821,IF(I821=3,\"%\",\"mm\"))","v":"%"},{"$f":"RANDBETWEEN(1,MIN(9,C821))","v":1},{"$f":"IF(AND(Worksheet!$D$8,RAND()<0.2),3,IF(RAND()<Worksheet!$D$7/100,1,2))","v":3},{"$f":"IF(I821=1,C821-F821,IF(I821=2,C821-F821/10,IF(I821=3,(1-F821/100)*C821,\"\")))","v":16},{"$f":"CONCATENATE(\" \",D821)","v":" cm"},{"$f":"J821*10","v":160},"mm",{"$f":"IF(I821=1,C821+F821,IF(I821=2,C821+F821/10,IF(I821=3,(1+F821/100)*C821,\"\")))","v":24},{"$f":"CONCATENATE(\" \",K821)","v":"  cm"},{"$f":"N821*10","v":240},"mm"]
[{"$f":"IF(COUNTIF($B$1:B822,TRUE)=COUNTIF($B$1:B821,TRUE),\"\",COUNTIF($B$1:B822,TRUE))","v":632},{"$f":"Worksheet!$B$12","v":true},{"$f":"RANDBETWEEN(5,RANDBETWEEN(5,Worksheet!$D$6))","v":9},"m","±",{"$f":"IF(I822=1,H822*10^RANDBETWEEN(IF(Worksheet!$D$9,-1,0),0),IF(I822=2,H822*10^RANDBETWEEN(RANDBETWEEN(0,1),1),CHOOSE(RANDBETWEEN(1,3),5,10,20)))","v":60},{"$f":"IF(I822=1,D822,IF(I822=3,\"%\",\"cm\"))","v":"cm"},{"$f":"RANDBETWEEN(1,MIN(9,C822))","v":6},{"$f":"IF(AND(Worksheet!$D$8,RAND()<0.2),3,IF(RAND()<Worksheet!$D$7/100,1,2))","v":2},{"$f":"IF(I822=1,C822-F822,IF(I822=2,C822-F822/100,IF(I822=3,(1-F822/100)*C822,\"\")))","v":8.4},{"$f":"CONCATENATE(\" \",D822)","v":" m"},{"$f":"J822*100","v":840},"cm",{"$f":"IF(I822=1,C822+F822,IF(I822=2,C822+F822/100,IF(I822=3,(1+F822/100)*C822,\"\")))","v":9.6},{"$f":"CONCATENATE(\" \",K822)","v":"  m"},{"$f":"N822*100","v":960},"cm"]
[{"$f":"IF(COUNTIF($B$1:B823,TRUE)=COUNTIF($B$1:B822,TRUE),\"\",COUNTIF($B$1:B823,TRUE))","v":633},{"$f":"Worksheet!$B$13","v":true},{"$f":"RANDBETWEEN(5,RANDBETWEEN(5,Worksheet!$D$6))","v":66},"km","±",{"$f":"IF(I823=1,H823*10^RANDBETWEEN(IF(Worksheet!$D$9,-1,0),0),IF(I823=2,H823*10^RANDBETWEEN(RANDBETWEEN(0,2),2),CHOOSE(RANDBETWEEN(1,3),5,10,20)))","v":0.8},{"$f":"IF(I823=1,D823,IF(I823=3,\"%\",\"m\"))","v":"km"},8,{"$f":"IF(AND(Worksheet!$D$8,RAND()<0.2),3,IF(RAND()<Worksheet!$D$7/100,1,2))","v":1},{"$f":"IF(I823=1,C823-F823,IF(I823=2,C823-F823/1000,IF(I823=3,(1-F823/100)*C823,\"\")))","v":65.2}," km",{"$f":"J823*1000","v":65200},"m",{"$f":"IF(I823=1,C823+F823,IF(I823=2,C823+F823/1000,IF(I823=3,(1+F823/100)*C823,\"\")))","v":66.8},"  km",{"$f":"N823*1000","v":66800},"m"]
[{"$f":"IF(COUNTIF($B$1:B824,TRUE)=COUNTIF($B$1:B823,TRUE),\"\",COUNTIF($B$1:B824,TRUE))","v":""},{"$f":"Worksheet!$B$14","v":false},{"$f":"RANDBETWEEN(5,RANDBETWEEN(5,Worksheet!$D$6))","v":41},"m","±",{"$f":"IF(I824=1,H824*10^RANDBETWEEN(IF(Worksheet!$D$9,-1,0),0),IF(I824=2,H824*10^RANDBETWEEN(RANDBETWEEN(0,2),2),CHOOSE(RANDBETWEEN(1,3),5,10,20)))","v":0.1},{"$f":"IF(I824=1,D824,IF(I824=3,\"%\",\"mm\"))","v":"m"},1,{"$f":"IF(AND(Worksheet!$D$8,RAND()<0.2),3,IF(RAND()<Worksheet!$D$7/100,1,2))","v":1},{"$f":"IF(I824=1,C824-F824,IF(I824=2,C824-F824/1000,IF(I824=3,(1-F824/100)*C824,\"\")))","v":40.9}," m",{"$f":"J824*1000","v":40900},"mm",{"$f":"IF(I824=1,C824+F824,IF(I824=2,C824+F824/1000,IF(I824=3,(1+F824/100)*C824,\"\")))","v":41.1},"  m",{"$f":"N824*1000","v":41100},"mm"]
[{"$f":"IF(COUNTIF($B$1:B825,TRUE)=COUNTIF($B$1:B824,TRUE),\"\",COUNTIF($B$1:B825,TRUE))","v":634},{"$f":"Worksheet!$B$15","v":true},{"$f":"RANDBETWEEN(5,20)","v":15},"hours","±",{"$f":"IF(I825=1,H825*10^RANDBETWEEN(IF(Worksheet!$D$9,-1,0),0),IF(I825=2,H825,CHOOSE(RANDBETWEEN(1,3),5,10,20)))","v":3},{"$f":"IF(I825=1,D825,IF(I825=3,\"%\",\"min\"))","v":"hours"},3,{"$f":"IF(AND(Worksheet!$D$8,RAND()<0),3,IF(RAND()<Worksheet!$D$7/100,1,2))","v":1},null," hours",{"$f":"IF(I825=1,C825-F825,IF(I825=2,C825*60-F825,\"\"))","v":12},{"$f":"IF($I825=1,\" hours\",\" min\")","v":" hours"},null,"  hours",{"$f":"IF(I825=1,C825+F825,IF(I825=2,C825*60+F825,\"\"))","v":18},{"$f":"IF($I825=1,\" hours\",\" min\")","v":" hours"}]
[{"$f":"IF(COUNTIF($B$1:B826,TRUE)=COUNTIF($B$1:B825,TRUE),\"\",COUNTIF($B$1:B826,TRUE))","v":635},{"$f":"Worksheet!$D$11","v":true},{"$f":"RANDBETWEEN(5,RANDBETWEEN(5,Worksheet!$D$6))","v":48},"kg","±",{"$f":"IF(I826=1,H826*10^RANDBETWEEN(IF(Worksheet!$D$9,-1,0),0),IF(I826=2,H826*10^RANDBETWEEN(RANDBETWEEN(0,2),2),CHOOSE(RANDBETWEEN(1,3),5,10,20)))","v":0.30000000000000004},{"$f":"IF(I826=1,D826,IF(I826=3,\"%\",\"g\"))","v":"kg"},3,{"$f":"IF(AND(Worksheet!$D$8,RAND()<0.2),3,IF(RAND()<Worksheet!$D$7/100,1,2))","v":1},{"$f":"IF(I826=1,C826-F826,IF(I826=2,C826-F826/1000,IF(I826=3,(1-F826/100)*C826,\"\")))","v":47.7}," kg",{"$f":"J826*1000","v":47700},"g",{"$f":"IF(I826=1,C826+F826,IF(I826=2,C826+F826/1000,IF(I826=3,(1+F826/100)*C826,\"\")))","v":48.3},"  kg",{"$f":"N826*1000","v":48300},"g"]
[{"$f":"IF(COUNTIF($B$1:B827,TRUE)=COUNTIF($B$1:B826,TRUE),\"\",COUNTIF($B$1:B827,TRUE))","v":636},{"$f":"Worksheet!$D$12","v":true},{"$f":"RANDBETWEEN(5,RANDBETWEEN(5,Worksheet!$D$6))","v":75},"tonnes","±",{"$f":"IF(I827=1,H827*10^RANDBETWEEN(IF(Worksheet!$D$9,-1,0),0),IF(I827=2,H827*10^RANDBETWEEN(RANDBETWEEN(0,2),2),CHOOSE(RANDBETWEEN(1,3),5,10,20)))","v":3},{"$f":"IF(I827=1,D827,IF(I827=3,\"%\",\"kg\"))","v":"tonnes"},3,{"$f":"IF(AND(Worksheet!$D$8,RAND()<0.2),3,IF(RAND()<Worksheet!$D$7/100,1,2))","v":1},{"$f":"IF(I827=1,C827-F827,IF(I827=2,C827-F827/1000,IF(I827=3,(1-F827/100)*C827,\"\")))","v":72}," tonnes",{"$f":"J827*1000","v":72000},"kg",{"$f":"IF(I827=1,C827+F827,IF(I827=2,C827+F827/1000,IF(I827=3,(1+F827/100)*C827,\"\")))","v":78},"  tonnes",{"$f":"N827*1000","v":78000},"kg"]
[{"$f":"IF(COUNTIF($B$1:B828,TRUE)=COUNTIF($B$1:B827,TRUE),\"\",COUNTIF($B$1:B828,TRUE))","v":637},{"$f":"Worksheet!$D$13","v":true},{"$f":"RANDBETWEEN(5,RANDBETWEEN(5,Worksheet!$D$6))","v":14},"litres","±",{"$f":"IF(I828=1,H828*10^RANDBETWEEN(IF(Worksheet!$D$9,-1,0),0),IF(I828=2,H828*10^RANDBETWEEN(RANDBETWEEN(0,2),2),CHOOSE(RANDBETWEEN(1,3),5,10,20)))","v":20},{"$f":"IF(I828=1,D828,IF(I828=3,\"%\",\"ml\"))","v":"%"},3,{"$f":"IF(AND(Worksheet!$D$8,RAND()<0.2),3,IF(RAND()<Worksheet!$D$7/100,1,2))","v":3},{"$f":"IF(I828=1,C828-F828,IF(I828=2,C828-F828/1000,IF(I828=3,(1-F828/100)*C828,\"\")))","v":11.200000000000001}," litres",{"$f":"J828*1000","v":11200.000000000002},"ml",{"$f":"IF(I828=1,C828+F828,IF(I828=2,C828+F828/1000,IF(I828=3,(1+F828/100)*C828,\"\")))","v":16.8},"  litres",{"$f":"N828*1000","v":16800},"ml"]
[{"$f":"IF(COUNTIF($B$1:B829,TRUE)=COUNTIF($B$1:B828,TRUE),\"\",COUNTIF($B$1:B829,TRUE))","v":638},{"$f":"Worksheet!$D$14","v":true},{"$f":"RANDBETWEEN(5,RANDBETWEEN(5,Worksheet!$D$6))","v":49},"litres","±",{"$f":"IF(I829=1,H829*10^RANDBETWEEN(IF(Worksheet!$D$9,-1,0),0),IF(I829=2,H829*10^RANDBETWEEN(RANDBETWEEN(0,2),2),CHOOSE(RANDBETWEEN(1,3),5,10,20)))","v":3},{"$f":"IF(I829=1,D829,IF(I829=3,\"%\",\"cm³\"))","v":"litres"},3,{"$f":"IF(AND(Worksheet!$D$8,RAND()<0.2),3,IF(RAND()<Worksheet!$D$7/100,1,2))","v":1},{"$f":"IF(I829=1,C829-F829,IF(I829=2,C829-F829/1000,IF(I829=3,(1-F829/100)*C829,\"\")))","v":46}," litres",{"$f":"J829*1000","v":46000},"cm³",{"$f":"IF(I829=1,C829+F829,IF(I829=2,C829+F829/1000,IF(I829=3,(1+F829/100)*C829,\"\")))","v":52},"  litres",{"$f":"N829*1000","v":52000},"cm³"]
[{"$f":"IF(COUNTIF($B$1:B830,TRUE)=COUNTIF($B$1:B829,TRUE),\"\",COUNTIF($B$1:B830,TRUE))","v":""},{"$f":"Worksheet!$D$15","v":false},{"$f":"RANDBETWEEN(5,20)","v":11},"min","±",{"$f":"IF(I830=1,H830*10^RANDBETWEEN(IF(Worksheet!$D$9,-1,0),0),IF(I830=2,H830,CHOOSE(RANDBETWEEN(1,3),5,10,20)))","v":0.8},{"$f":"IF(I830=1,D830,IF(I830=3,\"%\",\"sec\"))","v":"min"},8,{"$f":"IF(AND(Worksheet!$D$8,RAND()<0),3,IF(RAND()<Worksheet!$D$7/100,1,2))","v":1},null," min",{"$f":"IF(I830=1,C830-F830,IF(I830=2,C830*60-F830,\"\"))","v":10.199999999999999},{"$f":"IF($I830=1,\" hours\",\" min\")","v":" hours"},null,"  min",{"$f":"IF(I830=1,C830+F830,IF(I830=2,C830*60+F830,\"\"))","v":11.8},{"$f":"IF($I830=1,\" hours\",\" min\")","v":" hours"}]
[{"$f":"COUNTIF($B$1:B831,TRUE)","v":639},{"$f":"Worksheet!$B$11","v":true},{"$f":"RANDBETWEEN(5,RANDBETWEEN(5,Worksheet!$D$6))","v":280},"cm","±",{"$f":"IF(I831=1,H831*10^RANDBETWEEN(IF(Worksheet!$D$9,-1,0),0),IF(I831=2,H831,CHOOSE(RANDBETWEEN(1,3),5,10,20)))","v":0.1},{"$f":"IF(I831=1,D831,IF(I831=3,\"%\",\"mm\"))","v":"cm"},{"$f":"RANDBETWEEN(1,MIN(9,C831))","v":1},{"$f":"IF(AND(Worksheet!$D$8,RAND()<0.2),3,IF(RAND()<Worksheet!$D$7/100,1,2))","v":1},{"$f":"IF(I831=1,C831-F831,IF(I831=2,C831-F831/10,IF(I831=3,(1-F831/100)*C831,\"\")))","v":279.89999999999998},{"$f":"CONCATENATE(\" \",D831)","v":" cm"},{"$f":"J831*10","v":2799},"mm",{"$f":"IF(I831=1,C831+F831,IF(I831=2,C831+F831/10,IF(I831=3,(1+F831/100)*C831,\"\")))","v":280.10000000000002},{"$f":"CONCATENATE(\" \",K831)","v":"  cm"},{"$f":"N831*10","v":2801},"mm"]
[{"$f":"IF(COUNTIF($B$1:B832,TRUE)=COUNTIF($B$1:B831,TRUE),\"\",COUNTIF($B$1:B832,TRUE))","v":640},{"$f":"Worksheet!$B$12","v":true},{"$f":"RANDBETWEEN(5,RANDBETWEEN(5,Worksheet!$D$6))","v":206},"m","±",{"$f":"IF(I832=1,H832*10^RANDBETWEEN(IF(Worksheet!$D$9,-1,0),0),IF(I832=2,H832*10^RANDBETWEEN(RANDBETWEEN(0,1),1),CHOOSE(RANDBETWEEN(1,3),5,10,20)))","v":2},{"$f":"IF(I832=1,D832,IF(I832=3,\"%\",\"cm\"))","v":"m"},{"$f":"RANDBETWEEN(1,MIN(9,C832))","v":2},{"$f":"IF(AND(Worksheet!$D$8,RAND()<0.2),3,IF(RAND()<Worksheet!$D$7/100,1,2))","v":1},{"$f":"IF(I832=1,C832-F832,IF(I832=2,C832-F832/100,IF(I832=3,(1-F832/100)*C832,\"\")))","v":204},{"$f":"CONCATENATE(\" \",D832)","v":" m"},{"$f":"J832*100","v":20400},"cm",{"$f":"IF(I832=1,C832+F832,IF(I832=2,C832+F832/100,IF(I832=3,(1+F832/100)*C832,\"\")))","v":208},{"$f":"CONCATENATE(\" \",K832)","v":"  m"},{"$f":"N832*100","v":20800},"cm"]
[{"$f":"IF(COUNTIF($B$1:B833,TRUE)=COUNTIF($B$1:B832,TRUE),\"\",COUNTIF($B$1:B833,TRUE))","v":641},{"$f":"Worksheet!$B$13","v":true},{"$f":"RANDBETWEEN(5,RANDBETWEEN(5,Worksheet!$D$6))","v":262},"km","±",{"$f":"IF(I833=1,H833*10^RANDBETWEEN(IF(Worksheet!$D$9,-1,0),0),IF(I833=2,H833*10^RANDBETWEEN(RANDBETWEEN(0,2),2),CHOOSE(RANDBETWEEN(1,3),5,10,20)))","v":7},{"$f":"IF(I833=1,D833,IF(I833=3,\"%\",\"m\"))","v":"km"},7,{"$f":"IF(AND(Worksheet!$D$8,RAND()<0.2),3,IF(RAND()<Worksheet!$D$7/100,1,2))","v":1},{"$f":"IF(I833=1,C833-F833,IF(I833=2,C833-F833/1000,IF(I833=3,(1-F833/100)*C833,\"\")))","v":255}," km",{"$f":"J833*1000","v":255000},"m",{"$f":"IF(I833=1,C833+F833,IF(I833=2,C833+F833/1000,IF(I833=3,(1+F833/100)*C833,\"\")))","v":269},"  km",{"$f":"N833*1000","v":269000},"m"]
[{"$f":"IF(COUNTIF($B$1:B834,TRUE)=COUNTIF($B$1:B833,TRUE),\"\",COUNTIF($B$1:B834,TRUE))","v":""},{"$f":"Worksheet!$B$14","v":false},{"$f":"RANDBETWEEN(5,RANDBETWEEN(5,Worksheet!$D$6))","v":74},"m","±",{"$f":"IF(I834=1,H834*10^RANDBETWEEN(IF(Worksheet!$D$9,-1,0),0),IF(I834=2,H834*10^RANDBETWEEN(RANDBETWEEN(0,2),2),CHOOSE(RANDBETWEEN(1,3),5,10,20)))","v":0.1},{"$f":"IF(I834=1,D834,IF(I834=3,\"%\",\"mm\"))","v":"m"},1,{"$f":"IF(AND(Worksheet!$D$8,RAND()<0.2),3,IF(RAND()<Worksheet!$D$7/100,1,2))","v":1},{"$f":"IF(I834=1,C834-F834,IF(I834=2,C834-F834/1000,IF(I834=3,(1-F834/100)*C834,\"\")))","v":73.900000000000006}," m",{"$f":"J834*1000","v":73900},"mm",{"$f":"IF(I834=1,C834+F834,IF(I834=2,C834+F834/1000,IF(I834=3,(1+F834/100)*C834,\"\")))","v":74.099999999999994},"  m",{"$f":"N834*1000","v":74100},"mm"]
[{"$f":"IF(COUNTIF($B$1:B835,TRUE)=COUNTIF($B$1:B834,TRUE),\"\",COUNTIF($B$1:B835,TRUE))","v":642},{"$f":"Worksheet!$B$15","v":true},{"$f":"RANDBETWEEN(5,20)","v":17},"hours","±",{"$f":"IF(I835=1,H835*10^RANDBETWEEN(IF(Worksheet!$D$9,-1,0),0),IF(I835=2,H835,CHOOSE(RANDBETWEEN(1,3),5,10,20)))","v":0.2},{"$f":"IF(I835=1,D835,IF(I835=3,\"%\",\"min\"))","v":"hours"},2,{"$f":"IF(AND(Worksheet!$D$8,RAND()<0),3,IF(RAND()<Worksheet!$D$7/100,1,2))","v":1},null," hours",{"$f":"IF(I835=1,C835-F835,IF(I835=2,C835*60-F835,\"\"))","v":16.8},{"$f":"IF($I835=1,\" hours\",\" min\")","v":" hours"},null,"  hours",{"$f":"IF(I835=1,C835+F835,IF(I835=2,C835*60+F835,\"\"))","v":17.2},{"$f":"IF($I835=1,\" hours\",\" min\")","v":" hours"}]
[{"$f":"IF(COUNTIF($B$1:B836,TRUE)=COUNTIF($B$1:B835,TRUE),\"\",COUNTIF($B$1:B836,TRUE))","v":643},{"$f":"Worksheet!$D$11","v":true},{"$f":"RANDBETWEEN(5,RANDBETWEEN(5,Worksheet!$D$6))","v":213},"kg","±",{"$f":"IF(I836=1,H836*10^RANDBETWEEN(IF(Worksheet!$D$9,-1,0),0),IF(I836=2,H836*10^RANDBETWEEN(RANDBETWEEN(0,2),2),CHOOSE(RANDBETWEEN(1,3),5,10,20)))","v":20},{"$f":"IF(I836=1,D836,IF(I836=3,\"%\",\"g\"))","v":"%"},8,{"$f":"IF(AND(Worksheet!$D$8,RAND()<0.2),3,IF(RAND()<Worksheet!$D$7/100,1,2))","v":3},{"$f":"IF(I836=1,C836-F836,IF(I836=2,C836-F836/1000,IF(I836=3,(1-F836/100)*C836,\"\")))","v":170.4}," kg",{"$f":"J836*1000","v":170400},"g",{"$f":"IF(I836=1,C836+F836,IF(I836=2,C836+F836/1000,IF(I836=3,(1+F836/100)*C836,\"\")))","v":255.6},"  kg",{"$f":"N836*1000","v":255600},"g"]
[{"$f":"IF(COUNTIF($B$1:B837,TRUE)=COUNTIF($B$1:B836,TRUE),\"\",COUNTIF($B$1:B837,TRUE))","v":644},{"$f":"Worksheet!$D$12","v":true},{"$f":"RANDBETWEEN(5,RANDBETWEEN(5,Worksheet!$D$6))","v":176},"tonnes","±",{"$f":"IF(I837=1,H837*10^RANDBETWEEN(IF(Worksheet!$D$9,-1,0),0),IF(I837=2,H837*10^RANDBETWEEN(RANDBETWEEN(0,2),2),CHOOSE(RANDBETWEEN(1,3),5,10,20)))","v":5},{"$f":"IF(I837=1,D837,IF(I837=3,\"%\",\"kg\"))","v":"tonnes"},5,{"$f":"IF(AND(Worksheet!$D$8,RAND()<0.2),3,IF(RAND()<Worksheet!$D$7/100,1,2))","v":1},{"$f":"IF(I837=1,C837-F837,IF(I837=2,C837-F837/1000,IF(I837=3,(1-F837/100)*C837,\"\")))","v":171}," tonnes",{"$f":"J837*1000","v":171000},"kg",{"$f":"IF(I837=1,C837+F837,IF(I837=2,C837+F837/1000,IF(I837=3,(1+F837/100)*C837,\"\")))","v":181},"  tonnes",{"$f":"N837*1000","v":181000},"kg"]
[{"$f":"IF(COUNTIF($B$1:B838,TRUE)=COUNTIF($B$1:B837,TRUE),\"\",COUNTIF($B$1:B838,TRUE))","v":645},{"$f":"Worksheet!$D$13","v":true},{"$f":"RANDBETWEEN(5,RANDBETWEEN(5,Worksheet!$D$6))","v":174},"litres","±",{"$f":"IF(I838=1,H838*10^RANDBETWEEN(IF(Worksheet!$D$9,-1,0),0),IF(I838=2,H838*10^RANDBETWEEN(RANDBETWEEN(0,2),2),CHOOSE(RANDBETWEEN(1,3),5,10,20)))","v":10},{"$f":"IF(I838=1,D838,IF(I838=3,\"%\",\"ml\"))","v":"%"},8,{"$f":"IF(AND(Worksheet!$D$8,RAND()<0.2),3,IF(RAND()<Worksheet!$D$7/100,1,2))","v":3},{"$f":"IF(I838=1,C838-F838,IF(I838=2,C838-F838/1000,IF(I838=3,(1-F838/100)*C838,\"\")))","v":156.6}," litres",{"$f":"J838*1000","v":156600},"ml",{"$f":"IF(I838=1,C838+F838,IF(I838=2,C838+F838/1000,IF(I838=3,(1+F838/100)*C838,\"\")))","v":191.4},"  litres",{"$f":"N838*1000","v":191400},"ml"]
[{"$f":"IF(COUNTIF($B$1:B839,TRUE)=COUNTIF($B$1:B838,TRUE),\"\",COUNTIF($B$1:B839,TRUE))","v":646},{"$f":"Worksheet!$D$14","v":true},{"$f":"RANDBETWEEN(5,RANDBETWEEN(5,Worksheet!$D$6))","v":264},"litres","±",{"$f":"IF(I839=1,H839*10^RANDBETWEEN(IF(Worksheet!$D$9,-1,0),0),IF(I839=2,H839*10^RANDBETWEEN(RANDBETWEEN(0,2),2),CHOOSE(RANDBETWEEN(1,3),5,10,20)))","v":10},{"$f":"IF(I839=1,D839,IF(I839=3,\"%\",\"cm³\"))","v":"%"},3,{"$f":"IF(AND(Worksheet!$D$8,RAND()<0.2),3,IF(RAND()<Worksheet!$D$7/100,1,2))","v":3},{"$f":"IF(I839=1,C839-F839,IF(I839=2,C839-F839/1000,IF(I839=3,(1-F839/100)*C839,\"\")))","v":237.6}," litres",{"$f":"J839*1000","v":237600},"cm³",{"$f":"IF(I839=1,C839+F839,IF(I839=2,C839+F839/1000,IF(I839=3,(1+F839/100)*C839,\"\")))","v":290.40000000000003},"  litres",{"$f":"N839*1000","v":290400.00000000006},"cm³"]
[{"$f":"IF(COUNTIF($B$1:B840,TRUE)=COUNTIF($B$1:B839,TRUE),\"\",COUNTIF($B$1:B840,TRUE))","v":""},{"$f":"Worksheet!$D$15","v":false},{"$f":"RANDBETWEEN(5,20)","v":11},"min","±",{"$f":"IF(I840=1,H840*10^RANDBETWEEN(IF(Worksheet!$D$9,-1,0),0),IF(I840=2,H840,CHOOSE(RANDBETWEEN(1,3),5,10,20)))","v":8},{"$f":"IF(I840=1,D840,IF(I840=3,\"%\",\"sec\"))","v":"min"},8,{"$f":"IF(AND(Worksheet!$D$8,RAND()<0),3,IF(RAND()<Worksheet!$D$7/100,1,2))","v":1},null," min",{"$f":"IF(I840=1,C840-F840,IF(I840=2,C840*60-F840,\"\"))","v":3},{"$f":"IF($I840=1,\" hours\",\" min\")","v":" hours"},null,"  min",{"$f":"IF(I840=1,C840+F840,IF(I840=2,C840*60+F840,\"\"))","v":19},{"$f":"IF($I840=1,\" hours\",\" min\")","v":" hours"}]
[{"$f":"COUNTIF($B$1:B841,TRUE)","v":647},{"$f":"Worksheet!$B$11","v":true},{"$f":"RANDBETWEEN(5,RANDBETWEEN(5,Worksheet!$D$6))","v":34},"cm","±",{"$f":"IF(I841=1,H841*10^RANDBETWEEN(IF(Worksheet!$D$9,-1,0),0),IF(I841=2,H841,CHOOSE(RANDBETWEEN(1,3),5,10,20)))","v":0.5},{"$f":"IF(I841=1,D841,IF(I841=3,\"%\",\"mm\"))","v":"cm"},{"$f":"RANDBETWEEN(1,MIN(9,C841))","v":5},{"$f":"IF(AND(Worksheet!$D$8,RAND()<0.2),3,IF(RAND()<Worksheet!$D$7/100,1,2))","v":1},{"$f":"IF(I841=1,C841-F841,IF(I841=2,C841-F841/10,IF(I841=3,(1-F841/100)*C841,\"\")))","v":33.5},{"$f":"CONCATENATE(\" \",D841)","v":" cm"},{"$f":"J841*10","v":335},"mm",{"$f":"IF(I841=1,C841+F841,IF(I841=2,C841+F841/10,IF(I841=3,(1+F841/100)*C841,\"\")))","v":34.5},{"$f":"CONCATENATE(\" \",K841)","v":"  cm"},{"$f":"N841*10","v":345},"mm"]
[{"$f":"IF(COUNTIF($B$1:B842,TRUE)=COUNTIF($B$1:B841,TRUE),\"\",COUNTIF($B$1:B842,TRUE))","v":648},{"$f":"Worksheet!$B$12","v":true},{"$f":"RANDBETWEEN(5,RANDBETWEEN(5,Worksheet!$D$6))","v":148},"m","±",{"$f":"IF(I842=1,H842*10^RANDBETWEEN(IF(Worksheet!$D$9,-1,0),0),IF(I842=2,H842*10^RANDBETWEEN(RANDBETWEEN(0,1),1),CHOOSE(RANDBETWEEN(1,3),5,10,20)))","v":0.30000000000000004},{"$f":"IF(I842=1,D842,IF(I842=3,\"%\",\"cm\"))","v":"m"},{"$f":"RANDBETWEEN(1,MIN(9,C842))","v":3},{"$f":"IF(AND(Worksheet!$D$8,RAND()<0.2),3,IF(RAND()<Worksheet!$D$7/100,1,2))","v":1},{"$f":"IF(I842=1,C842-F842,IF(I842=2,C842-F842/100,IF(I842=3,(1-F842/100)*C842,\"\")))","v":147.69999999999999},{"$f":"CONCATENATE(\" \",D842)","v":" m"},{"$f":"J842*100","v":14769.999999999998},"cm",{"$f":"IF(I842=1,C842+F842,IF(I842=2,C842+F842/100,IF(I842=3,(1+F842/100)*C842,\"\")))","v":148.30000000000001},{"$f":"CONCATENATE(\" \",K842)","v":"  m"},{"$f":"N842*100","v":14830.000000000002},"cm"]
[{"$f":"IF(COUNTIF($B$1:B843,TRUE)=COUNTIF($B$1:B842,TRUE),\"\",COUNTIF($B$1:B843,TRUE))","v":649},{"$f":"Worksheet!$B$13","v":true},{"$f":"RANDBETWEEN(5,RANDBETWEEN(5,Worksheet!$D$6))","v":182},"km","±",{"$f":"IF(I843=1,H843*10^RANDBETWEEN(IF(Worksheet!$D$9,-1,0),0),IF(I843=2,H843*10^RANDBETWEEN(RANDBETWEEN(0,2),2),CHOOSE(RANDBETWEEN(1,3),5,10,20)))","v":5},{"$f":"IF(I843=1,D843,IF(I843=3,\"%\",\"m\"))","v":"%"},5,{"$f":"IF(AND(Worksheet!$D$8,RAND()<0.2),3,IF(RAND()<Worksheet!$D$7/100,1,2))","v":3},{"$f":"IF(I843=1,C843-F843,IF(I843=2,C843-F843/1000,IF(I843=3,(1-F843/100)*C843,\"\")))","v":172.9}," km",{"$f":"J843*1000","v":172900},"m",{"$f":"IF(I843=1,C843+F843,IF(I843=2,C843+F843/1000,IF(I843=3,(1+F843/100)*C843,\"\")))","v":191.1},"  km",{"$f":"N843*1000","v":191100},"m"]
[{"$f":"IF(COUNTIF($B$1:B844,TRUE)=COUNTIF($B$1:B843,TRUE),\"\",COUNTIF($B$1:B844,TRUE))","v":""},{"$f":"Worksheet!$B$14","v":false},{"$f":"RANDBETWEEN(5,RANDBETWEEN(5,Worksheet!$D$6))","v":5},"m","±",{"$f":"IF(I844=1,H844*10^RANDBETWEEN(IF(Worksheet!$D$9,-1,0),0),IF(I844=2,H844*10^RANDBETWEEN(RANDBETWEEN(0,2),2),CHOOSE(RANDBETWEEN(1,3),5,10,20)))","v":0.4},{"$f":"IF(I844=1,D844,IF(I844=3,\"%\",\"mm\"))","v":"m"},4,{"$f":"IF(AND(Worksheet!$D$8,RAND()<0.2),3,IF(RAND()<Worksheet!$D$7/100,1,2))","v":1},{"$f":"IF(I844=1,C844-F844,IF(I844=2,C844-F844/1000,IF(I844=3,(1-F844/100)*C844,\"\")))","v":4.5999999999999996}," m",{"$f":"J844*1000","v":4600},"mm",{"$f":"IF(I844=1,C844+F844,IF(I844=2,C844+F844/1000,IF(I844=3,(1+F844/100)*C844,\"\")))","v":5.4},"  m",{"$f":"N844*1000","v":5400},"mm"]
[{"$f":"IF(COUNTIF($B$1:B845,TRUE)=COUNTIF($B$1:B844,TRUE),\"\",COUNTIF($B$1:B845,TRUE))","v":650},{"$f":"Worksheet!$B$15","v":true},{"$f":"RANDBETWEEN(5,20)","v":20},"hours","±",{"$f":"IF(I845=1,H845*10^RANDBETWEEN(IF(Worksheet!$D$9,-1,0),0),IF(I845=2,H845,CHOOSE(RANDBETWEEN(1,3),5,10,20)))","v":7},{"$f":"IF(I845=1,D845,IF(I845=3,\"%\",\"min\"))","v":"min"},7,{"$f":"IF(AND(Worksheet!$D$8,RAND()<0),3,IF(RAND()<Worksheet!$D$7/100,1,2))","v":2},null," hours",{"$f":"IF(I845=1,C845-F845,IF(I845=2,C845*60-F845,\"\"))","v":1193},{"$f":"IF($I845=1,\" hours\",\" min\")","v":" min"},null,"  hours",{"$f":"IF(I845=1,C845+F845,IF(I845=2,C845*60+F845,\"\"))","v":1207},{"$f":"IF($I845=1,\" hours\",\" min\")","v":" min"}]
[{"$f":"IF(COUNTIF($B$1:B846,TRUE)=COUNTIF($B$1:B845,TRUE),\"\",COUNTIF($B$1:B846,TRUE))","v":651},{"$f":"Worksheet!$D$11","v":true},{"$f":"RANDBETWEEN(5,RANDBETWEEN(5,Worksheet!$D$6))","v":69},"kg","±",{"$f":"IF(I846=1,H846*10^RANDBETWEEN(IF(Worksheet!$D$9,-1,0),0),IF(I846=2,H846*10^RANDBETWEEN(RANDBETWEEN(0,2),2),CHOOSE(RANDBETWEEN(1,3),5,10,20)))","v":400},{"$f":"IF(I846=1,D846,IF(I846=3,\"%\",\"g\"))","v":"g"},4,{"$f":"IF(AND(Worksheet!$D$8,RAND()<0.2),3,IF(RAND()<Worksheet!$D$7/100,1,2))","v":2},{"$f":"IF(I846=1,C846-F846,IF(I846=2,C846-F846/1000,IF(I846=3,(1-F846/100)*C846,\"\")))","v":68.599999999999994}," kg",{"$f":"J846*1000","v":68600},"g",{"$f":"IF(I846=1,C846+F846,IF(I846=2,C846+F846/1000,IF(I846=3,(1+F846/100)*C846,\"\")))","v":69.400000000000006},"  kg",{"$f":"N846*1000","v":69400},"g"]
[{"$f":"IF(COUNTIF($B$1:B847,TRUE)=COUNTIF($B$1:B846,TRUE),\"\",COUNTIF($B$1:B847,TRUE))","v":652},{"$f":"Worksheet!$D$12","v":true},{"$f":"RANDBETWEEN(5,RANDBETWEEN(5,Worksheet!$D$6))","v":8},"tonnes","±",{"$f":"IF(I847=1,H847*10^RANDBETWEEN(IF(Worksheet!$D$9,-1,0),0),IF(I847=2,H847*10^RANDBETWEEN(RANDBETWEEN(0,2),2),CHOOSE(RANDBETWEEN(1,3),5,10,20)))","v":4},{"$f":"IF(I847=1,D847,IF(I847=3,\"%\",\"kg\"))","v":"tonnes"},4,{"$f":"IF(AND(Worksheet!$D$8,RAND()<0.2),3,IF(RAND()<Worksheet!$D$7/100,1,2))","v":1},{"$f":"IF(I847=1,C847-F847,IF(I847=2,C847-F847/1000,IF(I847=3,(1-F847/100)*C847,\"\")))","v":4}," tonnes",{"$f":"J847*1000","v":4000},"kg",{"$f":"IF(I847=1,C847+F847,IF(I847=2,C847+F847/1000,IF(I847=3,(1+F847/100)*C847,\"\")))","v":12},"  tonnes",{"$f":"N847*1000","v":12000},"kg"]
[{"$f":"IF(COUNTIF($B$1:B848,TRUE)=COUNTIF($B$1:B847,TRUE),\"\",COUNTIF($B$1:B848,TRUE))","v":653},{"$f":"Worksheet!$D$13","v":true},{"$f":"RANDBETWEEN(5,RANDBETWEEN(5,Worksheet!$D$6))","v":241},"litres","±",{"$f":"IF(I848=1,H848*10^RANDBETWEEN(IF(Worksheet!$D$9,-1,0),0),IF(I848=2,H848*10^RANDBETWEEN(RANDBETWEEN(0,2),2),CHOOSE(RANDBETWEEN(1,3),5,10,20)))","v":200},{"$f":"IF(I848=1,D848,IF(I848=3,\"%\",\"ml\"))","v":"ml"},2,{"$f":"IF(AND(Worksheet!$D$8,RAND()<0.2),3,IF(RAND()<Worksheet!$D$7/100,1,2))","v":2},{"$f":"IF(I848=1,C848-F848,IF(I848=2,C848-F848/1000,IF(I848=3,(1-F848/100)*C848,\"\")))","v":240.8}," litres",{"$f":"J848*1000","v":240800},"ml",{"$f":"IF(I848=1,C848+F848,IF(I848=2,C848+F848/1000,IF(I848=3,(1+F848/100)*C848,\"\")))","v":241.2},"  litres",{"$f":"N848*1000","v":241200},"ml"]
[{"$f":"IF(COUNTIF($B$1:B849,TRUE)=COUNTIF($B$1:B848,TRUE),\"\",COUNTIF($B$1:B849,TRUE))","v":654},{"$f":"Worksheet!$D$14","v":true},{"$f":"RANDBETWEEN(5,RANDBETWEEN(5,Worksheet!$D$6))","v":113},"litres","±",{"$f":"IF(I849=1,H849*10^RANDBETWEEN(IF(Worksheet!$D$9,-1,0),0),IF(I849=2,H849*10^RANDBETWEEN(RANDBETWEEN(0,2),2),CHOOSE(RANDBETWEEN(1,3),5,10,20)))","v":800},{"$f":"IF(I849=1,D849,IF(I849=3,\"%\",\"cm³\"))","v":"cm³"},8,{"$f":"IF(AND(Worksheet!$D$8,RAND()<0.2),3,IF(RAND()<Worksheet!$D$7/100,1,2))","v":2},{"$f":"IF(I849=1,C849-F849,IF(I849=2,C849-F849/1000,IF(I849=3,(1-F849/100)*C849,\"\")))","v":112.2}," litres",{"$f":"J849*1000","v":112200},"cm³",{"$f":"IF(I849=1,C849+F849,IF(I849=2,C849+F849/1000,IF(I849=3,(1+F849/100)*C849,\"\")))","v":113.8},"  litres",{"$f":"N849*1000","v":113800},"cm³"]
[{"$f":"IF(COUNTIF($B$1:B850,TRUE)=COUNTIF($B$1:B849,TRUE),\"\",COUNTIF($B$1:B850,TRUE))","v":""},{"$f":"Worksheet!$D$15","v":false},{"$f":"RANDBETWEEN(5,20)","v":16},"min","±",{"$f":"IF(I850=1,H850*10^RANDBETWEEN(IF(Worksheet!$D$9,-1,0),0),IF(I850=2,H850,CHOOSE(RANDBETWEEN(1,3),5,10,20)))","v":0.30000000000000004},{"$f":"IF(I850=1,D850,IF(I850=3,\"%\",\"sec\"))","v":"min"},3,{"$f":"IF(AND(Worksheet!$D$8,RAND()<0),3,IF(RAND()<Worksheet!$D$7/100,1,2))","v":1},null," min",{"$f":"IF(I850=1,C850-F850,IF(I850=2,C850*60-F850,\"\"))","v":15.7},{"$f":"IF($I850=1,\" hours\",\" min\")","v":" hours"},null,"  min",{"$f":"IF(I850=1,C850+F850,IF(I850=2,C850*60+F850,\"\"))","v":16.3},{"$f":"IF($I850=1,\" hours\",\" min\")","v":" hours"}]
[{"$f":"COUNTIF($B$1:B851,TRUE)","v":655},{"$f":"Worksheet!$B$11","v":true},{"$f":"RANDBETWEEN(5,RANDBETWEEN(5,Worksheet!$D$6))","v":29},"cm","±",{"$f":"IF(I851=1,H851*10^RANDBETWEEN(IF(Worksheet!$D$9,-1,0),0),IF(I851=2,H851,CHOOSE(RANDBETWEEN(1,3),5,10,20)))","v":0.8},{"$f":"IF(I851=1,D851,IF(I851=3,\"%\",\"mm\"))","v":"cm"},{"$f":"RANDBETWEEN(1,MIN(9,C851))","v":8},{"$f":"IF(AND(Worksheet!$D$8,RAND()<0.2),3,IF(RAND()<Worksheet!$D$7/100,1,2))","v":1},{"$f":"IF(I851=1,C851-F851,IF(I851=2,C851-F851/10,IF(I851=3,(1-F851/100)*C851,\"\")))","v":28.2},{"$f":"CONCATENATE(\" \",D851)","v":" cm"},{"$f":"J851*10","v":282},"mm",{"$f":"IF(I851=1,C851+F851,IF(I851=2,C851+F851/10,IF(I851=3,(1+F851/100)*C851,\"\")))","v":29.8},{"$f":"CONCATENATE(\" \",K851)","v":"  cm"},{"$f":"N851*10","v":298},"mm"]
[{"$f":"IF(COUNTIF($B$1:B852,TRUE)=COUNTIF($B$1:B851,TRUE),\"\",COUNTIF($B$1:B852,TRUE))","v":656},{"$f":"Worksheet!$B$12","v":true},{"$f":"RANDBETWEEN(5,RANDBETWEEN(5,Worksheet!$D$6))","v":27},"m","±",{"$f":"IF(I852=1,H852*10^RANDBETWEEN(IF(Worksheet!$D$9,-1,0),0),IF(I852=2,H852*10^RANDBETWEEN(RANDBETWEEN(0,1),1),CHOOSE(RANDBETWEEN(1,3),5,10,20)))","v":8},{"$f":"IF(I852=1,D852,IF(I852=3,\"%\",\"cm\"))","v":"m"},{"$f":"RANDBETWEEN(1,MIN(9,C852))","v":8},{"$f":"IF(AND(Worksheet!$D$8,RAND()<0.2),3,IF(RAND()<Worksheet!$D$7/100,1,2))","v":1},{"$f":"IF(I852=1,C852-F852,IF(I852=2,C852-F852/100,IF(I852=3,(1-F852/100)*C852,\"\")))","v":19},{"$f":"CONCATENATE(\" \",D852)","v":" m"},{"$f":"J852*100","v":1900},"cm",{"$f":"IF(I852=1,C852+F852,IF(I852=2,C852+F852/100,IF(I852=3,(1+F852/100)*C852,\"\")))","v":35},{"$f":"CONCATENATE(\" \",K852)","v":"  m"},{"$f":"N852*100","v":3500},"cm"]
[{"$f":"IF(COUNTIF($B$1:B853,TRUE)=COUNTIF($B$1:B852,TRUE),\"\",COUNTIF($B$1:B853,TRUE))","v":657},{"$f":"Worksheet!$B$13","v":true},{"$f":"RANDBETWEEN(5,RANDBETWEEN(5,Worksheet!$D$6))","v":109},"km","±",{"$f":"IF(I853=1,H853*10^RANDBETWEEN(IF(Worksheet!$D$9,-1,0),0),IF(I853=2,H853*10^RANDBETWEEN(RANDBETWEEN(0,2),2),CHOOSE(RANDBETWEEN(1,3),5,10,20)))","v":20},{"$f":"IF(I853=1,D853,IF(I853=3,\"%\",\"m\"))","v":"%"},4,{"$f":"IF(AND(Worksheet!$D$8,RAND()<0.2),3,IF(RAND()<Worksheet!$D$7/100,1,2))","v":3},{"$f":"IF(I853=1,C853-F853,IF(I853=2,C853-F853/1000,IF(I853=3,(1-F853/100)*C853,\"\")))","v":87.2}," km",{"$f":"J853*1000","v":87200},"m",{"$f":"IF(I853=1,C853+F853,IF(I853=2,C853+F853/1000,IF(I853=3,(1+F853/100)*C853,\"\")))","v":130.79999999999998},"  km",{"$f":"N853*1000","v":130799.99999999999},"m"]
[{"$f":"IF(COUNTIF($B$1:B854,TRUE)=COUNTIF($B$1:B853,TRUE),\"\",COUNTIF($B$1:B854,TRUE))","v":""},{"$f":"Worksheet!$B$14","v":false},{"$f":"RANDBETWEEN(5,RANDBETWEEN(5,Worksheet!$D$6))","v":7},"m","±",{"$f":"IF(I854=1,H854*10^RANDBETWEEN(IF(Worksheet!$D$9,-1,0),0),IF(I854=2,H854*10^RANDBETWEEN(RANDBETWEEN(0,2),2),CHOOSE(RANDBETWEEN(1,3),5,10,20)))","v":4},{"$f":"IF(I854=1,D854,IF(I854=3,\"%\",\"mm\"))","v":"m"},4,{"$f":"IF(AND(Worksheet!$D$8,RAND()<0.2),3,IF(RAND()<Worksheet!$D$7/100,1,2))","v":1},{"$f":"IF(I854=1,C854-F854,IF(I854=2,C854-F854/1000,IF(I854=3,(1-F854/100)*C854,\"\")))","v":3}," m",{"$f":"J854*1000","v":3000},"mm",{"$f":"IF(I854=1,C854+F854,IF(I854=2,C854+F854/1000,IF(I854=3,(1+F854/100)*C854,\"\")))","v":11},"  m",{"$f":"N854*1000","v":11000},"mm"]
[{"$f":"IF(COUNTIF($B$1:B855,TRUE)=COUNTIF($B$1:B854,TRUE),\"\",COUNTIF($B$1:B855,TRUE))","v":658},{"$f":"Worksheet!$B$15","v":true},{"$f":"RANDBETWEEN(5,20)","v":12},"hours","±",{"$f":"IF(I855=1,H855*10^RANDBETWEEN(IF(Worksheet!$D$9,-1,0),0),IF(I855=2,H855,CHOOSE(RANDBETWEEN(1,3),5,10,20)))","v":1},{"$f":"IF(I855=1,D855,IF(I855=3,\"%\",\"min\"))","v":"min"},1,{"$f":"IF(AND(Worksheet!$D$8,RAND()<0),3,IF(RAND()<Worksheet!$D$7/100,1,2))","v":2},null," hours",{"$f":"IF(I855=1,C855-F855,IF(I855=2,C855*60-F855,\"\"))","v":719},{"$f":"IF($I855=1,\" hours\",\" min\")","v":" min"},null,"  hours",{"$f":"IF(I855=1,C855+F855,IF(I855=2,C855*60+F855,\"\"))","v":721},{"$f":"IF($I855=1,\" hours\",\" min\")","v":" min"}]
[{"$f":"IF(COUNTIF($B$1:B856,TRUE)=COUNTIF($B$1:B855,TRUE),\"\",COUNTIF($B$1:B856,TRUE))","v":659},{"$f":"Worksheet!$D$11","v":true},{"$f":"RANDBETWEEN(5,RANDBETWEEN(5,Worksheet!$D$6))","v":106},"kg","±",{"$f":"IF(I856=1,H856*10^RANDBETWEEN(IF(Worksheet!$D$9,-1,0),0),IF(I856=2,H856*10^RANDBETWEEN(RANDBETWEEN(0,2),2),CHOOSE(RANDBETWEEN(1,3),5,10,20)))","v":7},{"$f":"IF(I856=1,D856,IF(I856=3,\"%\",\"g\"))","v":"kg"},7,{"$f":"IF(AND(Worksheet!$D$8,RAND()<0.2),3,IF(RAND()<Worksheet!$D$7/100,1,2))","v":1},{"$f":"IF(I856=1,C856-F856,IF(I856=2,C856-F856/1000,IF(I856=3,(1-F856/100)*C856,\"\")))","v":99}," kg",{"$f":"J856*1000","v":99000},"g",{"$f":"IF(I856=1,C856+F856,IF(I856=2,C856+F856/1000,IF(I856=3,(1+F856/100)*C856,\"\")))","v":113},"  kg",{"$f":"N856*1000","v":113000},"g"]
[{"$f":"IF(COUNTIF($B$1:B857,TRUE)=COUNTIF($B$1:B856,TRUE),\"\",COUNTIF($B$1:B857,TRUE))","v":660},{"$f":"Worksheet!$D$12","v":true},{"$f":"RANDBETWEEN(5,RANDBETWEEN(5,Worksheet!$D$6))","v":339},"tonnes","±",{"$f":"IF(I857=1,H857*10^RANDBETWEEN(IF(Worksheet!$D$9,-1,0),0),IF(I857=2,H857*10^RANDBETWEEN(RANDBETWEEN(0,2),2),CHOOSE(RANDBETWEEN(1,3),5,10,20)))","v":5},{"$f":"IF(I857=1,D857,IF(I857=3,\"%\",\"kg\"))","v":"tonnes"},5,{"$f":"IF(AND(Worksheet!$D$8,RAND()<0.2),3,IF(RAND()<Worksheet!$D$7/100,1,2))","v":1},{"$f":"IF(I857=1,C857-F857,IF(I857=2,C857-F857/1000,IF(I857=3,(1-F857/100)*C857,\"\")))","v":334}," tonnes",{"$f":"J857*1000","v":334000},"kg",{"$f":"IF(I857=1,C857+F857,IF(I857=2,C857+F857/1000,IF(I857=3,(1+F857/100)*C857,\"\")))","v":344},"  tonnes",{"$f":"N857*1000","v":344000},"kg"]
[{"$f":"IF(COUNTIF($B$1:B858,TRUE)=COUNTIF($B$1:B857,TRUE),\"\",COUNTIF($B$1:B858,TRUE))","v":661},{"$f":"Worksheet!$D$13","v":true},{"$f":"RANDBETWEEN(5,RANDBETWEEN(5,Worksheet!$D$6))","v":188},"litres","±",{"$f":"IF(I858=1,H858*10^RANDBETWEEN(IF(Worksheet!$D$9,-1,0),0),IF(I858=2,H858*10^RANDBETWEEN(RANDBETWEEN(0,2),2),CHOOSE(RANDBETWEEN(1,3),5,10,20)))","v":7},{"$f":"IF(I858=1,D858,IF(I858=3,\"%\",\"ml\"))","v":"litres"},7,{"$f":"IF(AND(Worksheet!$D$8,RAND()<0.2),3,IF(RAND()<Worksheet!$D$7/100,1,2))","v":1},{"$f":"IF(I858=1,C858-F858,IF(I858=2,C858-F858/1000,IF(I858=3,(1-F858/100)*C858,\"\")))","v":181}," litres",{"$f":"J858*1000","v":181000},"ml",{"$f":"IF(I858=1,C858+F858,IF(I858=2,C858+F858/1000,IF(I858=3,(1+F858/100)*C858,\"\")))","v":195},"  litres",{"$f":"N858*1000","v":195000},"ml"]
[{"$f":"IF(COUNTIF($B$1:B859,TRUE)=COUNTIF($B$1:B858,TRUE),\"\",COUNTIF($B$1:B859,TRUE))","v":662},{"$f":"Worksheet!$D$14","v":true},{"$f":"RANDBETWEEN(5,RANDBETWEEN(5,Worksheet!$D$6))","v":27},"litres","±",{"$f":"IF(I859=1,H859*10^RANDBETWEEN(IF(Worksheet!$D$9,-1,0),0),IF(I859=2,H859*10^RANDBETWEEN(RANDBETWEEN(0,2),2),CHOOSE(RANDBETWEEN(1,3),5,10,20)))","v":0.30000000000000004},{"$f":"IF(I859=1,D859,IF(I859=3,\"%\",\"cm³\"))","v":"litres"},3,{"$f":"IF(AND(Worksheet!$D$8,RAND()<0.2),3,IF(RAND()<Worksheet!$D$7/100,1,2))","v":1},{"$f":"IF(I859=1,C859-F859,IF(I859=2,C859-F859/1000,IF(I859=3,(1-F859/100)*C859,\"\")))","v":26.7}," litres",{"$f":"J859*1000","v":26700},"cm³",{"$f":"IF(I859=1,C859+F859,IF(I859=2,C859+F859/1000,IF(I859=3,(1+F859/100)*C859,\"\")))","v":27.3},"  litres",{"$f":"N859*1000","v":27300},"cm³"]
[{"$f":"IF(COUNTIF($B$1:B860,TRUE)=COUNTIF($B$1:B859,TRUE),\"\",COUNTIF($B$1:B860,TRUE))","v":""},{"$f":"Worksheet!$D$15","v":false},{"$f":"RANDBETWEEN(5,20)","v":12},"min","±",{"$f":"IF(I860=1,H860*10^RANDBETWEEN(IF(Worksheet!$D$9,-1,0),0),IF(I860=2,H860,CHOOSE(RANDBETWEEN(1,3),5,10,20)))","v":1},{"$f":"IF(I860=1,D860,IF(I860=3,\"%\",\"sec\"))","v":"min"},1,{"$f":"IF(AND(Worksheet!$D$8,RAND()<0),3,IF(RAND()<Worksheet!$D$7/100,1,2))","v":1},null," min",{"$f":"IF(I860=1,C860-F860,IF(I860=2,C860*60-F860,\"\"))","v":11},{"$f":"IF($I860=1,\" hours\",\" min\")","v":" hours"},null,"  min",{"$f":"IF(I860=1,C860+F860,IF(I860=2,C860*60+F860,\"\"))","v":13},{"$f":"IF($I860=1,\" hours\",\" min\")","v":" hours"}]
[{"$f":"COUNTIF($B$1:B861,TRUE)","v":663},{"$f":"Worksheet!$B$11","v":true},{"$f":"RANDBETWEEN(5,RANDBETWEEN(5,Worksheet!$D$6))","v":83},"cm","±",{"$f":"IF(I861=1,H861*10^RANDBETWEEN(IF(Worksheet!$D$9,-1,0),0),IF(I861=2,H861,CHOOSE(RANDBETWEEN(1,3),5,10,20)))","v":1},{"$f":"IF(I861=1,D861,IF(I861=3,\"%\",\"mm\"))","v":"cm"},{"$f":"RANDBETWEEN(1,MIN(9,C861))","v":1},{"$f":"IF(AND(Worksheet!$D$8,RAND()<0.2),3,IF(RAND()<Worksheet!$D$7/100,1,2))","v":1},{"$f":"IF(I861=1,C861-F861,IF(I861=2,C861-F861/10,IF(I861=3,(1-F861/100)*C861,\"\")))","v":82},{"$f":"CONCATENATE(\" \",D861)","v":" cm"},{"$f":"J861*10","v":820},"mm",{"$f":"IF(I861=1,C861+F861,IF(I861=2,C861+F861/10,IF(I861=3,(1+F861/100)*C861,\"\")))","v":84},{"$f":"CONCATENATE(\" \",K861)","v":"  cm"},{"$f":"N861*10","v":840},"mm"]
[{"$f":"IF(COUNTIF($B$1:B862,TRUE)=COUNTIF($B$1:B861,TRUE),\"\",COUNTIF($B$1:B862,TRUE))","v":664},{"$f":"Worksheet!$B$12","v":true},{"$f":"RANDBETWEEN(5,RANDBETWEEN(5,Worksheet!$D$6))","v":175},"m","±",{"$f":"IF(I862=1,H862*10^RANDBETWEEN(IF(Worksheet!$D$9,-1,0),0),IF(I862=2,H862*10^RANDBETWEEN(RANDBETWEEN(0,1),1),CHOOSE(RANDBETWEEN(1,3),5,10,20)))","v":10},{"$f":"IF(I862=1,D862,IF(I862=3,\"%\",\"cm\"))","v":"%"},{"$f":"RANDBETWEEN(1,MIN(9,C862))","v":5},{"$f":"IF(AND(Worksheet!$D$8,RAND()<0.2),3,IF(RAND()<Worksheet!$D$7/100,1,2))","v":3},{"$f":"IF(I862=1,C862-F862,IF(I862=2,C862-F862/100,IF(I862=3,(1-F862/100)*C862,\"\")))","v":157.5},{"$f":"CONCATENATE(\" \",D862)","v":" m"},{"$f":"J862*100","v":15750},"cm",{"$f":"IF(I862=1,C862+F862,IF(I862=2,C862+F862/100,IF(I862=3,(1+F862/100)*C862,\"\")))","v":192.50000000000003},{"$f":"CONCATENATE(\" \",K862)","v":"  m"},{"$f":"N862*100","v":19250.000000000004},"cm"]
[{"$f":"IF(COUNTIF($B$1:B863,TRUE)=COUNTIF($B$1:B862,TRUE),\"\",COUNTIF($B$1:B863,TRUE))","v":665},{"$f":"Worksheet!$B$13","v":true},{"$f":"RANDBETWEEN(5,RANDBETWEEN(5,Worksheet!$D$6))","v":336},"km","±",{"$f":"IF(I863=1,H863*10^RANDBETWEEN(IF(Worksheet!$D$9,-1,0),0),IF(I863=2,H863*10^RANDBETWEEN(RANDBETWEEN(0,2),2),CHOOSE(RANDBETWEEN(1,3),5,10,20)))","v":8},{"$f":"IF(I863=1,D863,IF(I863=3,\"%\",\"m\"))","v":"m"},8,{"$f":"IF(AND(Worksheet!$D$8,RAND()<0.2),3,IF(RAND()<Worksheet!$D$7/100,1,2))","v":2},{"$f":"IF(I863=1,C863-F863,IF(I863=2,C863-F863/1000,IF(I863=3,(1-F863/100)*C863,\"\")))","v":335.99200000000002}," km",{"$f":"J863*1000","v":335992},"m",{"$f":"IF(I863=1,C863+F863,IF(I863=2,C863+F863/1000,IF(I863=3,(1+F863/100)*C863,\"\")))","v":336.00799999999998},"  km",{"$f":"N863*1000","v":336008},"m"]
[{"$f":"IF(COUNTIF($B$1:B864,TRUE)=COUNTIF($B$1:B863,TRUE),\"\",COUNTIF($B$1:B864,TRUE))","v":""},{"$f":"Worksheet!$B$14","v":false},{"$f":"RANDBETWEEN(5,RANDBETWEEN(5,Worksheet!$D$6))","v":16},"m","±",{"$f":"IF(I864=1,H864*10^RANDBETWEEN(IF(Worksheet!$D$9,-1,0),0),IF(I864=2,H864*10^RANDBETWEEN(RANDBETWEEN(0,2),2),CHOOSE(RANDBETWEEN(1,3),5,10,20)))","v":0.30000000000000004},{"$f":"IF(I864=1,D864,IF(I864=3,\"%\",\"mm\"))","v":"m"},3,{"$f":"IF(AND(Worksheet!$D$8,RAND()<0.2),3,IF(RAND()<Worksheet!$D$7/100,1,2))","v":1},{"$f":"IF(I864=1,C864-F864,IF(I864=2,C864-F864/1000,IF(I864=3,(1-F864/100)*C864,\"\")))","v":15.7}," m",{"$f":"J864*1000","v":15700},"mm",{"$f":"IF(I864=1,C864+F864,IF(I864=2,C864+F864/1000,IF(I864=3,(1+F864/100)*C864,\"\")))","v":16.3},"  m",{"$f":"N864*1000","v":16300},"mm"]
[{"$f":"IF(COUNTIF($B$1:B865,TRUE)=COUNTIF($B$1:B864,TRUE),\"\",COUNTIF($B$1:B865,TRUE))","v":666},{"$f":"Worksheet!$B$15","v":true},{"$f":"RANDBETWEEN(5,20)","v":9},"hours","±",{"$f":"IF(I865=1,H865*10^RANDBETWEEN(IF(Worksheet!$D$9,-1,0),0),IF(I865=2,H865,CHOOSE(RANDBETWEEN(1,3),5,10,20)))","v":0.2},{"$f":"IF(I865=1,D865,IF(I865=3,\"%\",\"min\"))","v":"hours"},2,{"$f":"IF(AND(Worksheet!$D$8,RAND()<0),3,IF(RAND()<Worksheet!$D$7/100,1,2))","v":1},null," hours",{"$f":"IF(I865=1,C865-F865,IF(I865=2,C865*60-F865,\"\"))","v":8.8000000000000007},{"$f":"IF($I865=1,\" hours\",\" min\")","v":" hours"},null,"  hours",{"$f":"IF(I865=1,C865+F865,IF(I865=2,C865*60+F865,\"\"))","v":9.1999999999999993},{"$f":"IF($I865=1,\" hours\",\" min\")","v":" hours"}]
[{"$f":"IF(COUNTIF($B$1:B866,TRUE)=COUNTIF($B$1:B865,TRUE),\"\",COUNTIF($B$1:B866,TRUE))","v":667},{"$f":"Worksheet!$D$11","v":true},{"$f":"RANDBETWEEN(5,RANDBETWEEN(5,Worksheet!$D$6))","v":325},"kg","±",{"$f":"IF(I866=1,H866*10^RANDBETWEEN(IF(Worksheet!$D$9,-1,0),0),IF(I866=2,H866*10^RANDBETWEEN(RANDBETWEEN(0,2),2),CHOOSE(RANDBETWEEN(1,3),5,10,20)))","v":5},{"$f":"IF(I866=1,D866,IF(I866=3,\"%\",\"g\"))","v":"kg"},5,{"$f":"IF(AND(Worksheet!$D$8,RAND()<0.2),3,IF(RAND()<Worksheet!$D$7/100,1,2))","v":1},{"$f":"IF(I866=1,C866-F866,IF(I866=2,C866-F866/1000,IF(I866=3,(1-F866/100)*C866,\"\")))","v":320}," kg",{"$f":"J866*1000","v":320000},"g",{"$f":"IF(I866=1,C866+F866,IF(I866=2,C866+F866/1000,IF(I866=3,(1+F866/100)*C866,\"\")))","v":330},"  kg",{"$f":"N866*1000","v":330000},"g"]
[{"$f":"IF(COUNTIF($B$1:B867,TRUE)=COUNTIF($B$1:B866,TRUE),\"\",COUNTIF($B$1:B867,TRUE))","v":668},{"$f":"Worksheet!$D$12","v":true},{"$f":"RANDBETWEEN(5,RANDBETWEEN(5,Worksheet!$D$6))","v":82},"tonnes","±",{"$f":"IF(I867=1,H867*10^RANDBETWEEN(IF(Worksheet!$D$9,-1,0),0),IF(I867=2,H867*10^RANDBETWEEN(RANDBETWEEN(0,2),2),CHOOSE(RANDBETWEEN(1,3),5,10,20)))","v":10},{"$f":"IF(I867=1,D867,IF(I867=3,\"%\",\"kg\"))","v":"%"},5,{"$f":"IF(AND(Worksheet!$D$8,RAND()<0.2),3,IF(RAND()<Worksheet!$D$7/100,1,2))","v":3},{"$f":"IF(I867=1,C867-F867,IF(I867=2,C867-F867/1000,IF(I867=3,(1-F867/100)*C867,\"\")))","v":73.8}," tonnes",{"$f":"J867*1000","v":73800},"kg",{"$f":"IF(I867=1,C867+F867,IF(I867=2,C867+F867/1000,IF(I867=3,(1+F867/100)*C867,\"\")))","v":90.2},"  tonnes",{"$f":"N867*1000","v":90200},"kg"]
[{"$f":"IF(COUNTIF($B$1:B868,TRUE)=COUNTIF($B$1:B867,TRUE),\"\",COUNTIF($B$1:B868,TRUE))","v":669},{"$f":"Worksheet!$D$13","v":true},{"$f":"RANDBETWEEN(5,RANDBETWEEN(5,Worksheet!$D$6))","v":261},"litres","±",{"$f":"IF(I868=1,H868*10^RANDBETWEEN(IF(Worksheet!$D$9,-1,0),0),IF(I868=2,H868*10^RANDBETWEEN(RANDBETWEEN(0,2),2),CHOOSE(RANDBETWEEN(1,3),5,10,20)))","v":0.2},{"$f":"IF(I868=1,D868,IF(I868=3,\"%\",\"ml\"))","v":"litres"},2,{"$f":"IF(AND(Worksheet!$D$8,RAND()<0.2),3,IF(RAND()<Worksheet!$D$7/100,1,2))","v":1},{"$f":"IF(I868=1,C868-F868,IF(I868=2,C868-F868/1000,IF(I868=3,(1-F868/100)*C868,\"\")))","v":260.8}," litres",{"$f":"J868*1000","v":260800},"ml",{"$f":"IF(I868=1,C868+F868,IF(I868=2,C868+F868/1000,IF(I868=3,(1+F868/100)*C868,\"\")))","v":261.2},"  litres",{"$f":"N868*1000","v":261200},"ml"]
[{"$f":"IF(COUNTIF($B$1:B869,TRUE)=COUNTIF($B$1:B868,TRUE),\"\",COUNTIF($B$1:B869,TRUE))","v":670},{"$f":"Worksheet!$D$14","v":true},{"$f":"RANDBETWEEN(5,RANDBETWEEN(5,Worksheet!$D$6))","v":283},"litres","±",{"$f":"IF(I869=1,H869*10^RANDBETWEEN(IF(Worksheet!$D$9,-1,0),0),IF(I869=2,H869*10^RANDBETWEEN(RANDBETWEEN(0,2),2),CHOOSE(RANDBETWEEN(1,3),5,10,20)))","v":0.8},{"$f":"IF(I869=1,D869,IF(I869=3,\"%\",\"cm³\"))","v":"litres"},8,{"$f":"IF(AND(Worksheet!$D$8,RAND()<0.2),3,IF(RAND()<Worksheet!$D$7/100,1,2))","v":1},{"$f":"IF(I869=1,C869-F869,IF(I869=2,C869-F869/1000,IF(I869=3,(1-F869/100)*C869,\"\")))","v":282.2}," litres",{"$f":"J869*1000","v":282200},"cm³",{"$f":"IF(I869=1,C869+F869,IF(I869=2,C869+F869/1000,IF(I869=3,(1+F869/100)*C869,\"\")))","v":283.8},"  litres",{"$f":"N869*1000","v":283800},"cm³"]
[{"$f":"IF(COUNTIF($B$1:B870,TRUE)=COUNTIF($B$1:B869,TRUE),\"\",COUNTIF($B$1:B870,TRUE))","v":""},{"$f":"Worksheet!$D$15","v":false},{"$f":"RANDBETWEEN(5,20)","v":15},"min","±",{"$f":"IF(I870=1,H870*10^RANDBETWEEN(IF(Worksheet!$D$9,-1,0),0),IF(I870=2,H870,CHOOSE(RANDBETWEEN(1,3),5,10,20)))","v":2},{"$f":"IF(I870=1,D870,IF(I870=3,\"%\",\"sec\"))","v":"min"},2,{"$f":"IF(AND(Worksheet!$D$8,RAND()<0),3,IF(RAND()<Worksheet!$D$7/100,1,2))","v":1},null," min",{"$f":"IF(I870=1,C870-F870,IF(I870=2,C870*60-F870,\"\"))","v":13},{"$f":"IF($I870=1,\" hours\",\" min\")","v":" hours"},null,"  min",{"$f":"IF(I870=1,C870+F870,IF(I870=2,C870*60+F870,\"\"))","v":17},{"$f":"IF($I870=1,\" hours\",\" min\")","v":" hours"}]
[{"$f":"COUNTIF($B$1:B871,TRUE)","v":671},{"$f":"Worksheet!$B$11","v":true},{"$f":"RANDBETWEEN(5,RANDBETWEEN(5,Worksheet!$D$6))","v":132},"cm","±",{"$f":"IF(I871=1,H871*10^RANDBETWEEN(IF(Worksheet!$D$9,-1,0),0),IF(I871=2,H871,CHOOSE(RANDBETWEEN(1,3),5,10,20)))","v":1},{"$f":"IF(I871=1,D871,IF(I871=3,\"%\",\"mm\"))","v":"cm"},{"$f":"RANDBETWEEN(1,MIN(9,C871))","v":1},{"$f":"IF(AND(Worksheet!$D$8,RAND()<0.2),3,IF(RAND()<Worksheet!$D$7/100,1,2))","v":1},{"$f":"IF(I871=1,C871-F871,IF(I871=2,C871-F871/10,IF(I871=3,(1-F871/100)*C871,\"\")))","v":131},{"$f":"CONCATENATE(\" \",D871)","v":" cm"},{"$f":"J871*10","v":1310},"mm",{"$f":"IF(I871=1,C871+F871,IF(I871=2,C871+F871/10,IF(I871=3,(1+F871/100)*C871,\"\")))","v":133},{"$f":"CONCATENATE(\" \",K871)","v":"  cm"},{"$f":"N871*10","v":1330},"mm"]
[{"$f":"IF(COUNTIF($B$1:B872,TRUE)=COUNTIF($B$1:B871,TRUE),\"\",COUNTIF($B$1:B872,TRUE))","v":672},{"$f":"Worksheet!$B$12","v":true},{"$f":"RANDBETWEEN(5,RANDBETWEEN(5,Worksheet!$D$6))","v":54},"m","±",{"$f":"IF(I872=1,H872*10^RANDBETWEEN(IF(Worksheet!$D$9,-1,0),0),IF(I872=2,H872*10^RANDBETWEEN(RANDBETWEEN(0,1),1),CHOOSE(RANDBETWEEN(1,3),5,10,20)))","v":2},{"$f":"IF(I872=1,D872,IF(I872=3,\"%\",\"cm\"))","v":"m"},{"$f":"RANDBETWEEN(1,MIN(9,C872))","v":2},{"$f":"IF(AND(Worksheet!$D$8,RAND()<0.2),3,IF(RAND()<Worksheet!$D$7/100,1,2))","v":1},{"$f":"IF(I872=1,C872-F872,IF(I872=2,C872-F872/100,IF(I872=3,(1-F872/100)*C872,\"\")))","v":52},{"$f":"CONCATENATE(\" \",D872)","v":" m"},{"$f":"J872*100","v":5200},"cm",{"$f":"IF(I872=1,C872+F872,IF(I872=2,C872+F872/100,IF(I872=3,(1+F872/100)*C872,\"\")))","v":56},{"$f":"CONCATENATE(\" \",K872)","v":"  m"},{"$f":"N872*100","v":5600},"cm"]
[{"$f":"IF(COUNTIF($B$1:B873,TRUE)=COUNTIF($B$1:B872,TRUE),\"\",COUNTIF($B$1:B873,TRUE))","v":673},{"$f":"Worksheet!$B$13","v":true},{"$f":"RANDBETWEEN(5,RANDBETWEEN(5,Worksheet!$D$6))","v":44},"km","±",{"$f":"IF(I873=1,H873*10^RANDBETWEEN(IF(Worksheet!$D$9,-1,0),0),IF(I873=2,H873*10^RANDBETWEEN(RANDBETWEEN(0,2),2),CHOOSE(RANDBETWEEN(1,3),5,10,20)))","v":70},{"$f":"IF(I873=1,D873,IF(I873=3,\"%\",\"m\"))","v":"m"},7,{"$f":"IF(AND(Worksheet!$D$8,RAND()<0.2),3,IF(RAND()<Worksheet!$D$7/100,1,2))","v":2},{"$f":"IF(I873=1,C873-F873,IF(I873=2,C873-F873/1000,IF(I873=3,(1-F873/100)*C873,\"\")))","v":43.93}," km",{"$f":"J873*1000","v":43930},"m",{"$f":"IF(I873=1,C873+F873,IF(I873=2,C873+F873/1000,IF(I873=3,(1+F873/100)*C873,\"\")))","v":44.07},"  km",{"$f":"N873*1000","v":44070},"m"]
[{"$f":"IF(COUNTIF($B$1:B874,TRUE)=COUNTIF($B$1:B873,TRUE),\"\",COUNTIF($B$1:B874,TRUE))","v":""},{"$f":"Worksheet!$B$14","v":false},{"$f":"RANDBETWEEN(5,RANDBETWEEN(5,Worksheet!$D$6))","v":91},"m","±",{"$f":"IF(I874=1,H874*10^RANDBETWEEN(IF(Worksheet!$D$9,-1,0),0),IF(I874=2,H874*10^RANDBETWEEN(RANDBETWEEN(0,2),2),CHOOSE(RANDBETWEEN(1,3),5,10,20)))","v":100},{"$f":"IF(I874=1,D874,IF(I874=3,\"%\",\"mm\"))","v":"mm"},1,{"$f":"IF(AND(Worksheet!$D$8,RAND()<0.2),3,IF(RAND()<Worksheet!$D$7/100,1,2))","v":2},{"$f":"IF(I874=1,C874-F874,IF(I874=2,C874-F874/1000,IF(I874=3,(1-F874/100)*C874,\"\")))","v":90.9}," m",{"$f":"J874*1000","v":90900},"mm",{"$f":"IF(I874=1,C874+F874,IF(I874=2,C874+F874/1000,IF(I874=3,(1+F874/100)*C874,\"\")))","v":91.1},"  m",{"$f":"N874*1000","v":91100},"mm"]
[{"$f":"IF(COUNTIF($B$1:B875,TRUE)=COUNTIF($B$1:B874,TRUE),\"\",COUNTIF($B$1:B875,TRUE))","v":674},{"$f":"Worksheet!$B$15","v":true},{"$f":"RANDBETWEEN(5,20)","v":17},"hours","±",{"$f":"IF(I875=1,H875*10^RANDBETWEEN(IF(Worksheet!$D$9,-1,0),0),IF(I875=2,H875,CHOOSE(RANDBETWEEN(1,3),5,10,20)))","v":6},{"$f":"IF(I875=1,D875,IF(I875=3,\"%\",\"min\"))","v":"hours"},6,{"$f":"IF(AND(Worksheet!$D$8,RAND()<0),3,IF(RAND()<Worksheet!$D$7/100,1,2))","v":1},null," hours",{"$f":"IF(I875=1,C875-F875,IF(I875=2,C875*60-F875,\"\"))","v":11},{"$f":"IF($I875=1,\" hours\",\" min\")","v":" hours"},null,"  hours",{"$f":"IF(I875=1,C875+F875,IF(I875=2,C875*60+F875,\"\"))","v":23},{"$f":"IF($I875=1,\" hours\",\" min\")","v":" hours"}]
[{"$f":"IF(COUNTIF($B$1:B876,TRUE)=COUNTIF($B$1:B875,TRUE),\"\",COUNTIF($B$1:B876,TRUE))","v":675},{"$f":"Worksheet!$D$11","v":true},{"$f":"RANDBETWEEN(5,RANDBETWEEN(5,Worksheet!$D$6))","v":261},"kg","±",{"$f":"IF(I876=1,H876*10^RANDBETWEEN(IF(Worksheet!$D$9,-1,0),0),IF(I876=2,H876*10^RANDBETWEEN(RANDBETWEEN(0,2),2),CHOOSE(RANDBETWEEN(1,3),5,10,20)))","v":1},{"$f":"IF(I876=1,D876,IF(I876=3,\"%\",\"g\"))","v":"kg"},1,{"$f":"IF(AND(Worksheet!$D$8,RAND()<0.2),3,IF(RAND()<Worksheet!$D$7/100,1,2))","v":1},{"$f":"IF(I876=1,C876-F876,IF(I876=2,C876-F876/1000,IF(I876=3,(1-F876/100)*C876,\"\")))","v":260}," kg",{"$f":"J876*1000","v":260000},"g",{"$f":"IF(I876=1,C876+F876,IF(I876=2,C876+F876/1000,IF(I876=3,(1+F876/100)*C876,\"\")))","v":262},"  kg",{"$f":"N876*1000","v":262000},"g"]
[{"$f":"IF(COUNTIF($B$1:B877,TRUE)=COUNTIF($B$1:B876,TRUE),\"\",COUNTIF($B$1:B877,TRUE))","v":676},{"$f":"Worksheet!$D$12","v":true},{"$f":"RANDBETWEEN(5,RANDBETWEEN(5,Worksheet!$D$6))","v":178},"tonnes","±",{"$f":"IF(I877=1,H877*10^RANDBETWEEN(IF(Worksheet!$D$9,-1,0),0),IF(I877=2,H877*10^RANDBETWEEN(RANDBETWEEN(0,2),2),CHOOSE(RANDBETWEEN(1,3),5,10,20)))","v":0.70000000000000007},{"$f":"IF(I877=1,D877,IF(I877=3,\"%\",\"kg\"))","v":"tonnes"},7,{"$f":"IF(AND(Worksheet!$D$8,RAND()<0.2),3,IF(RAND()<Worksheet!$D$7/100,1,2))","v":1},{"$f":"IF(I877=1,C877-F877,IF(I877=2,C877-F877/1000,IF(I877=3,(1-F877/100)*C877,\"\")))","v":177.3}," tonnes",{"$f":"J877*1000","v":177300},"kg",{"$f":"IF(I877=1,C877+F877,IF(I877=2,C877+F877/1000,IF(I877=3,(1+F877/100)*C877,\"\")))","v":178.7},"  tonnes",{"$f":"N877*1000","v":178700},"kg"]
[{"$f":"IF(COUNTIF($B$1:B878,TRUE)=COUNTIF($B$1:B877,TRUE),\"\",COUNTIF($B$1:B878,TRUE))","v":677},{"$f":"Worksheet!$D$13","v":true},{"$f":"RANDBETWEEN(5,RANDBETWEEN(5,Worksheet!$D$6))","v":11},"litres","±",{"$f":"IF(I878=1,H878*10^RANDBETWEEN(IF(Worksheet!$D$9,-1,0),0),IF(I878=2,H878*10^RANDBETWEEN(RANDBETWEEN(0,2),2),CHOOSE(RANDBETWEEN(1,3),5,10,20)))","v":0.8},{"$f":"IF(I878=1,D878,IF(I878=3,\"%\",\"ml\"))","v":"litres"},8,{"$f":"IF(AND(Worksheet!$D$8,RAND()<0.2),3,IF(RAND()<Worksheet!$D$7/100,1,2))","v":1},{"$f":"IF(I878=1,C878-F878,IF(I878=2,C878-F878/1000,IF(I878=3,(1-F878/100)*C878,\"\")))","v":10.199999999999999}," litres",{"$f":"J878*1000","v":10200},"ml",{"$f":"IF(I878=1,C878+F878,IF(I878=2,C878+F878/1000,IF(I878=3,(1+F878/100)*C878,\"\")))","v":11.8},"  litres",{"$f":"N878*1000","v":11800},"ml"]
[{"$f":"IF(COUNTIF($B$1:B879,TRUE)=COUNTIF($B$1:B878,TRUE),\"\",COUNTIF($B$1:B879,TRUE))","v":678},{"$f":"Worksheet!$D$14","v":true},{"$f":"RANDBETWEEN(5,RANDBETWEEN(5,Worksheet!$D$6))","v":13},"litres","±",{"$f":"IF(I879=1,H879*10^RANDBETWEEN(IF(Worksheet!$D$9,-1,0),0),IF(I879=2,H879*10^RANDBETWEEN(RANDBETWEEN(0,2),2),CHOOSE(RANDBETWEEN(1,3),5,10,20)))","v":1},{"$f":"IF(I879=1,D879,IF(I879=3,\"%\",\"cm³\"))","v":"litres"},1,{"$f":"IF(AND(Worksheet!$D$8,RAND()<0.2),3,IF(RAND()<Worksheet!$D$7/100,1,2))","v":1},{"$f":"IF(I879=1,C879-F879,IF(I879=2,C879-F879/1000,IF(I879=3,(1-F879/100)*C879,\"\")))","v":12}," litres",{"$f":"J879*1000","v":12000},"cm³",{"$f":"IF(I879=1,C879+F879,IF(I879=2,C879+F879/1000,IF(I879=3,(1+F879/100)*C879,\"\")))","v":14},"  litres",{"$f":"N879*1000","v":14000},"cm³"]
[{"$f":"IF(COUNTIF($B$1:B880,TRUE)=COUNTIF($B$1:B879,TRUE),\"\",COUNTIF($B$1:B880,TRUE))","v":""},{"$f":"Worksheet!$D$15","v":false},{"$f":"RANDBETWEEN(5,20)","v":8},"min","±",{"$f":"IF(I880=1,H880*10^RANDBETWEEN(IF(Worksheet!$D$9,-1,0),0),IF(I880=2,H880,CHOOSE(RANDBETWEEN(1,3),5,10,20)))","v":7},{"$f":"IF(I880=1,D880,IF(I880=3,\"%\",\"sec\"))","v":"sec"},7,{"$f":"IF(AND(Worksheet!$D$8,RAND()<0),3,IF(RAND()<Worksheet!$D$7/100,1,2))","v":2},null," min",{"$f":"IF(I880=1,C880-F880,IF(I880=2,C880*60-F880,\"\"))","v":473},{"$f":"IF($I880=1,\" hours\",\" min\")","v":" min"},null,"  min",{"$f":"IF(I880=1,C880+F880,IF(I880=2,C880*60+F880,\"\"))","v":487},{"$f":"IF($I880=1,\" hours\",\" min\")","v":" min"}]
[{"$f":"COUNTIF($B$1:B881,TRUE)","v":679},{"$f":"Worksheet!$B$11","v":true},{"$f":"RANDBETWEEN(5,RANDBETWEEN(5,Worksheet!$D$6))","v":208},"cm","±",{"$f":"IF(I881=1,H881*10^RANDBETWEEN(IF(Worksheet!$D$9,-1,0),0),IF(I881=2,H881,CHOOSE(RANDBETWEEN(1,3),5,10,20)))","v":9},{"$f":"IF(I881=1,D881,IF(I881=3,\"%\",\"mm\"))","v":"cm"},{"$f":"RANDBETWEEN(1,MIN(9,C881))","v":9},{"$f":"IF(AND(Worksheet!$D$8,RAND()<0.2),3,IF(RAND()<Worksheet!$D$7/100,1,2))","v":1},{"$f":"IF(I881=1,C881-F881,IF(I881=2,C881-F881/10,IF(I881=3,(1-F881/100)*C881,\"\")))","v":199},{"$f":"CONCATENATE(\" \",D881)","v":" cm"},{"$f":"J881*10","v":1990},"mm",{"$f":"IF(I881=1,C881+F881,IF(I881=2,C881+F881/10,IF(I881=3,(1+F881/100)*C881,\"\")))","v":217},{"$f":"CONCATENATE(\" \",K881)","v":"  cm"},{"$f":"N881*10","v":2170},"mm"]
[{"$f":"IF(COUNTIF($B$1:B882,TRUE)=COUNTIF($B$1:B881,TRUE),\"\",COUNTIF($B$1:B882,TRUE))","v":680},{"$f":"Worksheet!$B$12","v":true},{"$f":"RANDBETWEEN(5,RANDBETWEEN(5,Worksheet!$D$6))","v":10},"m","±",{"$f":"IF(I882=1,H882*10^RANDBETWEEN(IF(Worksheet!$D$9,-1,0),0),IF(I882=2,H882*10^RANDBETWEEN(RANDBETWEEN(0,1),1),CHOOSE(RANDBETWEEN(1,3),5,10,20)))","v":1},{"$f":"IF(I882=1,D882,IF(I882=3,\"%\",\"cm\"))","v":"m"},{"$f":"RANDBETWEEN(1,MIN(9,C882))","v":1},{"$f":"IF(AND(Worksheet!$D$8,RAND()<0.2),3,IF(RAND()<Worksheet!$D$7/100,1,2))","v":1},{"$f":"IF(I882=1,C882-F882,IF(I882=2,C882-F882/100,IF(I882=3,(1-F882/100)*C882,\"\")))","v":9},{"$f":"CONCATENATE(\" \",D882)","v":" m"},{"$f":"J882*100","v":900},"cm",{"$f":"IF(I882=1,C882+F882,IF(I882=2,C882+F882/100,IF(I882=3,(1+F882/100)*C882,\"\")))","v":11},{"$f":"CONCATENATE(\" \",K882)","v":"  m"},{"$f":"N882*100","v":1100},"cm"]
[{"$f":"IF(COUNTIF($B$1:B883,TRUE)=COUNTIF($B$1:B882,TRUE),\"\",COUNTIF($B$1:B883,TRUE))","v":681},{"$f":"Worksheet!$B$13","v":true},{"$f":"RANDBETWEEN(5,RANDBETWEEN(5,Worksheet!$D$6))","v":230},"km","±",{"$f":"IF(I883=1,H883*10^RANDBETWEEN(IF(Worksheet!$D$9,-1,0),0),IF(I883=2,H883*10^RANDBETWEEN(RANDBETWEEN(0,2),2),CHOOSE(RANDBETWEEN(1,3),5,10,20)))","v":0.8},{"$f":"IF(I883=1,D883,IF(I883=3,\"%\",\"m\"))","v":"km"},8,{"$f":"IF(AND(Worksheet!$D$8,RAND()<0.2),3,IF(RAND()<Worksheet!$D$7/100,1,2))","v":1},{"$f":"IF(I883=1,C883-F883,IF(I883=2,C883-F883/1000,IF(I883=3,(1-F883/100)*C883,\"\")))","v":229.2}," km",{"$f":"J883*1000","v":229200},"m",{"$f":"IF(I883=1,C883+F883,IF(I883=2,C883+F883/1000,IF(I883=3,(1+F883/100)*C883,\"\")))","v":230.8},"  km",{"$f":"N883*1000","v":230800},"m"]
[{"$f":"IF(COUNTIF($B$1:B884,TRUE)=COUNTIF($B$1:B883,TRUE),\"\",COUNTIF($B$1:B884,TRUE))","v":""},{"$f":"Worksheet!$B$14","v":false},{"$f":"RANDBETWEEN(5,RANDBETWEEN(5,Worksheet!$D$6))","v":50},"m","±",{"$f":"IF(I884=1,H884*10^RANDBETWEEN(IF(Worksheet!$D$9,-1,0),0),IF(I884=2,H884*10^RANDBETWEEN(RANDBETWEEN(0,2),2),CHOOSE(RANDBETWEEN(1,3),5,10,20)))","v":20},{"$f":"IF(I884=1,D884,IF(I884=3,\"%\",\"mm\"))","v":"%"},9,{"$f":"IF(AND(Worksheet!$D$8,RAND()<0.2),3,IF(RAND()<Worksheet!$D$7/100,1,2))","v":3},{"$f":"IF(I884=1,C884-F884,IF(I884=2,C884-F884/1000,IF(I884=3,(1-F884/100)*C884,\"\")))","v":40}," m",{"$f":"J884*1000","v":40000},"mm",{"$f":"IF(I884=1,C884+F884,IF(I884=2,C884+F884/1000,IF(I884=3,(1+F884/100)*C884,\"\")))","v":60},"  m",{"$f":"N884*1000","v":60000},"mm"]
[{"$f":"IF(COUNTIF($B$1:B885,TRUE)=COUNTIF($B$1:B884,TRUE),\"\",COUNTIF($B$1:B885,TRUE))","v":682},{"$f":"Worksheet!$B$15","v":true},{"$f":"RANDBETWEEN(5,20)","v":9},"hours","±",{"$f":"IF(I885=1,H885*10^RANDBETWEEN(IF(Worksheet!$D$9,-1,0),0),IF(I885=2,H885,CHOOSE(RANDBETWEEN(1,3),5,10,20)))","v":0.2},{"$f":"IF(I885=1,D885,IF(I885=3,\"%\",\"min\"))","v":"hours"},2,{"$f":"IF(AND(Worksheet!$D$8,RAND()<0),3,IF(RAND()<Worksheet!$D$7/100,1,2))","v":1},null," hours",{"$f":"IF(I885=1,C885-F885,IF(I885=2,C885*60-F885,\"\"))","v":8.8000000000000007},{"$f":"IF($I885=1,\" hours\",\" min\")","v":" hours"},null,"  hours",{"$f":"IF(I885=1,C885+F885,IF(I885=2,C885*60+F885,\"\"))","v":9.1999999999999993},{"$f":"IF($I885=1,\" hours\",\" min\")","v":" hours"}]
[{"$f":"IF(COUNTIF($B$1:B886,TRUE)=COUNTIF($B$1:B885,TRUE),\"\",COUNTIF($B$1:B886,TRUE))","v":683},{"$f":"Worksheet!$D$11","v":true},{"$f":"RANDBETWEEN(5,RANDBETWEEN(5,Worksheet!$D$6))","v":82},"kg","±",{"$f":"IF(I886=1,H886*10^RANDBETWEEN(IF(Worksheet!$D$9,-1,0),0),IF(I886=2,H886*10^RANDBETWEEN(RANDBETWEEN(0,2),2),CHOOSE(RANDBETWEEN(1,3),5,10,20)))","v":20},{"$f":"IF(I886=1,D886,IF(I886=3,\"%\",\"g\"))","v":"%"},2,{"$f":"IF(AND(Worksheet!$D$8,RAND()<0.2),3,IF(RAND()<Worksheet!$D$7/100,1,2))","v":3},{"$f":"IF(I886=1,C886-F886,IF(I886=2,C886-F886/1000,IF(I886=3,(1-F886/100)*C886,\"\")))","v":65.600000000000009}," kg",{"$f":"J886*1000","v":65600.000000000015},"g",{"$f":"IF(I886=1,C886+F886,IF(I886=2,C886+F886/1000,IF(I886=3,(1+F886/100)*C886,\"\")))","v":98.399999999999991},"  kg",{"$f":"N886*1000","v":98399.999999999985},"g"]
[{"$f":"IF(COUNTIF($B$1:B887,TRUE)=COUNTIF($B$1:B886,TRUE),\"\",COUNTIF($B$1:B887,TRUE))","v":684},{"$f":"Worksheet!$D$12","v":true},{"$f":"RANDBETWEEN(5,RANDBETWEEN(5,Worksheet!$D$6))","v":100},"tonnes","±",{"$f":"IF(I887=1,H887*10^RANDBETWEEN(IF(Worksheet!$D$9,-1,0),0),IF(I887=2,H887*10^RANDBETWEEN(RANDBETWEEN(0,2),2),CHOOSE(RANDBETWEEN(1,3),5,10,20)))","v":0.9},{"$f":"IF(I887=1,D887,IF(I887=3,\"%\",\"kg\"))","v":"tonnes"},9,{"$f":"IF(AND(Worksheet!$D$8,RAND()<0.2),3,IF(RAND()<Worksheet!$D$7/100,1,2))","v":1},{"$f":"IF(I887=1,C887-F887,IF(I887=2,C887-F887/1000,IF(I887=3,(1-F887/100)*C887,\"\")))","v":99.1}," tonnes",{"$f":"J887*1000","v":99100},"kg",{"$f":"IF(I887=1,C887+F887,IF(I887=2,C887+F887/1000,IF(I887=3,(1+F887/100)*C887,\"\")))","v":100.9},"  tonnes",{"$f":"N887*1000","v":100900},"kg"]
[{"$f":"IF(COUNTIF($B$1:B888,TRUE)=COUNTIF($B$1:B887,TRUE),\"\",COUNTIF($B$1:B888,TRUE))","v":685},{"$f":"Worksheet!$D$13","v":true},{"$f":"RANDBETWEEN(5,RANDBETWEEN(5,Worksheet!$D$6))","v":43},"litres","±",{"$f":"IF(I888=1,H888*10^RANDBETWEEN(IF(Worksheet!$D$9,-1,0),0),IF(I888=2,H888*10^RANDBETWEEN(RANDBETWEEN(0,2),2),CHOOSE(RANDBETWEEN(1,3),5,10,20)))","v":0.70000000000000007},{"$f":"IF(I888=1,D888,IF(I888=3,\"%\",\"ml\"))","v":"litres"},7,{"$f":"IF(AND(Worksheet!$D$8,RAND()<0.2),3,IF(RAND()<Worksheet!$D$7/100,1,2))","v":1},{"$f":"IF(I888=1,C888-F888,IF(I888=2,C888-F888/1000,IF(I888=3,(1-F888/100)*C888,\"\")))","v":42.3}," litres",{"$f":"J888*1000","v":42300},"ml",{"$f":"IF(I888=1,C888+F888,IF(I888=2,C888+F888/1000,IF(I888=3,(1+F888/100)*C888,\"\")))","v":43.7},"  litres",{"$f":"N888*1000","v":43700},"ml"]
[{"$f":"IF(COUNTIF($B$1:B889,TRUE)=COUNTIF($B$1:B888,TRUE),\"\",COUNTIF($B$1:B889,TRUE))","v":686},{"$f":"Worksheet!$D$14","v":true},{"$f":"RANDBETWEEN(5,RANDBETWEEN(5,Worksheet!$D$6))","v":21},"litres","±",{"$f":"IF(I889=1,H889*10^RANDBETWEEN(IF(Worksheet!$D$9,-1,0),0),IF(I889=2,H889*10^RANDBETWEEN(RANDBETWEEN(0,2),2),CHOOSE(RANDBETWEEN(1,3),5,10,20)))","v":10},{"$f":"IF(I889=1,D889,IF(I889=3,\"%\",\"cm³\"))","v":"%"},4,{"$f":"IF(AND(Worksheet!$D$8,RAND()<0.2),3,IF(RAND()<Worksheet!$D$7/100,1,2))","v":3},{"$f":"IF(I889=1,C889-F889,IF(I889=2,C889-F889/1000,IF(I889=3,(1-F889/100)*C889,\"\")))","v":18.900000000000002}," litres",{"$f":"J889*1000","v":18900.000000000004},"cm³",{"$f":"IF(I889=1,C889+F889,IF(I889=2,C889+F889/1000,IF(I889=3,(1+F889/100)*C889,\"\")))","v":23.1},"  litres",{"$f":"N889*1000","v":23100},"cm³"]
[{"$f":"IF(COUNTIF($B$1:B890,TRUE)=COUNTIF($B$1:B889,TRUE),\"\",COUNTIF($B$1:B890,TRUE))","v":""},{"$f":"Worksheet!$D$15","v":false},{"$f":"RANDBETWEEN(5,20)","v":19},"min","±",{"$f":"IF(I890=1,H890*10^RANDBETWEEN(IF(Worksheet!$D$9,-1,0),0),IF(I890=2,H890,CHOOSE(RANDBETWEEN(1,3),5,10,20)))","v":7},{"$f":"IF(I890=1,D890,IF(I890=3,\"%\",\"sec\"))","v":"min"},7,{"$f":"IF(AND(Worksheet!$D$8,RAND()<0),3,IF(RAND()<Worksheet!$D$7/100,1,2))","v":1},null," min",{"$f":"IF(I890=1,C890-F890,IF(I890=2,C890*60-F890,\"\"))","v":12},{"$f":"IF($I890=1,\" hours\",\" min\")","v":" hours"},null,"  min",{"$f":"IF(I890=1,C890+F890,IF(I890=2,C890*60+F890,\"\"))","v":26},{"$f":"IF($I890=1,\" hours\",\" min\")","v":" hours"}]
[{"$f":"COUNTIF($B$1:B891,TRUE)","v":687},{"$f":"Worksheet!$B$11","v":true},{"$f":"RANDBETWEEN(5,RANDBETWEEN(5,Worksheet!$D$6))","v":27},"cm","±",{"$f":"IF(I891=1,H891*10^RANDBETWEEN(IF(Worksheet!$D$9,-1,0),0),IF(I891=2,H891,CHOOSE(RANDBETWEEN(1,3),5,10,20)))","v":5},{"$f":"IF(I891=1,D891,IF(I891=3,\"%\",\"mm\"))","v":"cm"},{"$f":"RANDBETWEEN(1,MIN(9,C891))","v":5},{"$f":"IF(AND(Worksheet!$D$8,RAND()<0.2),3,IF(RAND()<Worksheet!$D$7/100,1,2))","v":1},{"$f":"IF(I891=1,C891-F891,IF(I891=2,C891-F891/10,IF(I891=3,(1-F891/100)*C891,\"\")))","v":22},{"$f":"CONCATENATE(\" \",D891)","v":" cm"},{"$f":"J891*10","v":220},"mm",{"$f":"IF(I891=1,C891+F891,IF(I891=2,C891+F891/10,IF(I891=3,(1+F891/100)*C891,\"\")))","v":32},{"$f":"CONCATENATE(\" \",K891)","v":"  cm"},{"$f":"N891*10","v":320},"mm"]
[{"$f":"IF(COUNTIF($B$1:B892,TRUE)=COUNTIF($B$1:B891,TRUE),\"\",COUNTIF($B$1:B892,TRUE))","v":688},{"$f":"Worksheet!$B$12","v":true},{"$f":"RANDBETWEEN(5,RANDBETWEEN(5,Worksheet!$D$6))","v":11},"m","±",{"$f":"IF(I892=1,H892*10^RANDBETWEEN(IF(Worksheet!$D$9,-1,0),0),IF(I892=2,H892*10^RANDBETWEEN(RANDBETWEEN(0,1),1),CHOOSE(RANDBETWEEN(1,3),5,10,20)))","v":7},{"$f":"IF(I892=1,D892,IF(I892=3,\"%\",\"cm\"))","v":"cm"},{"$f":"RANDBETWEEN(1,MIN(9,C892))","v":7},{"$f":"IF(AND(Worksheet!$D$8,RAND()<0.2),3,IF(RAND()<Worksheet!$D$7/100,1,2))","v":2},{"$f":"IF(I892=1,C892-F892,IF(I892=2,C892-F892/100,IF(I892=3,(1-F892/100)*C892,\"\")))","v":10.93},{"$f":"CONCATENATE(\" \",D892)","v":" m"},{"$f":"J892*100","v":1093},"cm",{"$f":"IF(I892=1,C892+F892,IF(I892=2,C892+F892/100,IF(I892=3,(1+F892/100)*C892,\"\")))","v":11.07},{"$f":"CONCATENATE(\" \",K892)","v":"  m"},{"$f":"N892*100","v":1107},"cm"]
[{"$f":"IF(COUNTIF($B$1:B893,TRUE)=COUNTIF($B$1:B892,TRUE),\"\",COUNTIF($B$1:B893,TRUE))","v":689},{"$f":"Worksheet!$B$13","v":true},{"$f":"RANDBETWEEN(5,RANDBETWEEN(5,Worksheet!$D$6))","v":5},"km","±",{"$f":"IF(I893=1,H893*10^RANDBETWEEN(IF(Worksheet!$D$9,-1,0),0),IF(I893=2,H893*10^RANDBETWEEN(RANDBETWEEN(0,2),2),CHOOSE(RANDBETWEEN(1,3),5,10,20)))","v":3},{"$f":"IF(I893=1,D893,IF(I893=3,\"%\",\"m\"))","v":"km"},3,{"$f":"IF(AND(Worksheet!$D$8,RAND()<0.2),3,IF(RAND()<Worksheet!$D$7/100,1,2))","v":1},{"$f":"IF(I893=1,C893-F893,IF(I893=2,C893-F893/1000,IF(I893=3,(1-F893/100)*C893,\"\")))","v":2}," km",{"$f":"J893*1000","v":2000},"m",{"$f":"IF(I893=1,C893+F893,IF(I893=2,C893+F893/1000,IF(I893=3,(1+F893/100)*C893,\"\")))","v":8},"  km",{"$f":"N893*1000","v":8000},"m"]
[{"$f":"IF(COUNTIF($B$1:B894,TRUE)=COUNTIF($B$1:B893,TRUE),\"\",COUNTIF($B$1:B894,TRUE))","v":""},{"$f":"Worksheet!$B$14","v":false},{"$f":"RANDBETWEEN(5,RANDBETWEEN(5,Worksheet!$D$6))","v":60},"m","±",{"$f":"IF(I894=1,H894*10^RANDBETWEEN(IF(Worksheet!$D$9,-1,0),0),IF(I894=2,H894*10^RANDBETWEEN(RANDBETWEEN(0,2),2),CHOOSE(RANDBETWEEN(1,3),5,10,20)))","v":7},{"$f":"IF(I894=1,D894,IF(I894=3,\"%\",\"mm\"))","v":"m"},7,{"$f":"IF(AND(Worksheet!$D$8,RAND()<0.2),3,IF(RAND()<Worksheet!$D$7/100,1,2))","v":1},{"$f":"IF(I894=1,C894-F894,IF(I894=2,C894-F894/1000,IF(I894=3,(1-F894/100)*C894,\"\")))","v":53}," m",{"$f":"J894*1000","v":53000},"mm",{"$f":"IF(I894=1,C894+F894,IF(I894=2,C894+F894/1000,IF(I894=3,(1+F894/100)*C894,\"\")))","v":67},"  m",{"$f":"N894*1000","v":67000},"mm"]
[{"$f":"IF(COUNTIF($B$1:B895,TRUE)=COUNTIF($B$1:B894,TRUE),\"\",COUNTIF($B$1:B895,TRUE))","v":690},{"$f":"Worksheet!$B$15","v":true},{"$f":"RANDBETWEEN(5,20)","v":6},"hours","±",{"$f":"IF(I895=1,H895*10^RANDBETWEEN(IF(Worksheet!$D$9,-1,0),0),IF(I895=2,H895,CHOOSE(RANDBETWEEN(1,3),5,10,20)))","v":6},{"$f":"IF(I895=1,D895,IF(I895=3,\"%\",\"min\"))","v":"hours"},6,{"$f":"IF(AND(Worksheet!$D$8,RAND()<0),3,IF(RAND()<Worksheet!$D$7/100,1,2))","v":1},null," hours",{"$f":"IF(I895=1,C895-F895,IF(I895=2,C895*60-F895,\"\"))","v":0},{"$f":"IF($I895=1,\" hours\",\" min\")","v":" hours"},null,"  hours",{"$f":"IF(I895=1,C895+F895,IF(I895=2,C895*60+F895,\"\"))","v":12},{"$f":"IF($I895=1,\" hours\",\" min\")","v":" hours"}]
[{"$f":"IF(COUNTIF($B$1:B896,TRUE)=COUNTIF($B$1:B895,TRUE),\"\",COUNTIF($B$1:B896,TRUE))","v":691},{"$f":"Worksheet!$D$11","v":true},{"$f":"RANDBETWEEN(5,RANDBETWEEN(5,Worksheet!$D$6))","v":260},"kg","±",{"$f":"IF(I896=1,H896*10^RANDBETWEEN(IF(Worksheet!$D$9,-1,0),0),IF(I896=2,H896*10^RANDBETWEEN(RANDBETWEEN(0,2),2),CHOOSE(RANDBETWEEN(1,3),5,10,20)))","v":10},{"$f":"IF(I896=1,D896,IF(I896=3,\"%\",\"g\"))","v":"%"},9,{"$f":"IF(AND(Worksheet!$D$8,RAND()<0.2),3,IF(RAND()<Worksheet!$D$7/100,1,2))","v":3},{"$f":"IF(I896=1,C896-F896,IF(I896=2,C896-F896/1000,IF(I896=3,(1-F896/100)*C896,\"\")))","v":234}," kg",{"$f":"J896*1000","v":234000},"g",{"$f":"IF(I896=1,C896+F896,IF(I896=2,C896+F896/1000,IF(I896=3,(1+F896/100)*C896,\"\")))","v":286},"  kg",{"$f":"N896*1000","v":286000},"g"]
[{"$f":"IF(COUNTIF($B$1:B897,TRUE)=COUNTIF($B$1:B896,TRUE),\"\",COUNTIF($B$1:B897,TRUE))","v":692},{"$f":"Worksheet!$D$12","v":true},{"$f":"RANDBETWEEN(5,RANDBETWEEN(5,Worksheet!$D$6))","v":264},"tonnes","±",{"$f":"IF(I897=1,H897*10^RANDBETWEEN(IF(Worksheet!$D$9,-1,0),0),IF(I897=2,H897*10^RANDBETWEEN(RANDBETWEEN(0,2),2),CHOOSE(RANDBETWEEN(1,3),5,10,20)))","v":1},{"$f":"IF(I897=1,D897,IF(I897=3,\"%\",\"kg\"))","v":"tonnes"},1,{"$f":"IF(AND(Worksheet!$D$8,RAND()<0.2),3,IF(RAND()<Worksheet!$D$7/100,1,2))","v":1},{"$f":"IF(I897=1,C897-F897,IF(I897=2,C897-F897/1000,IF(I897=3,(1-F897/100)*C897,\"\")))","v":263}," tonnes",{"$f":"J897*1000","v":263000},"kg",{"$f":"IF(I897=1,C897+F897,IF(I897=2,C897+F897/1000,IF(I897=3,(1+F897/100)*C897,\"\")))","v":265},"  tonnes",{"$f":"N897*1000","v":265000},"kg"]
[{"$f":"IF(COUNTIF($B$1:B898,TRUE)=COUNTIF($B$1:B897,TRUE),\"\",COUNTIF($B$1:B898,TRUE))","v":693},{"$f":"Worksheet!$D$13","v":true},{"$f":"RANDBETWEEN(5,RANDBETWEEN(5,Worksheet!$D$6))","v":7},"litres","±",{"$f":"IF(I898=1,H898*10^RANDBETWEEN(IF(Worksheet!$D$9,-1,0),0),IF(I898=2,H898*10^RANDBETWEEN(RANDBETWEEN(0,2),2),CHOOSE(RANDBETWEEN(1,3),5,10,20)))","v":5},{"$f":"IF(I898=1,D898,IF(I898=3,\"%\",\"ml\"))","v":"%"},6,{"$f":"IF(AND(Worksheet!$D$8,RAND()<0.2),3,IF(RAND()<Worksheet!$D$7/100,1,2))","v":3},{"$f":"IF(I898=1,C898-F898,IF(I898=2,C898-F898/1000,IF(I898=3,(1-F898/100)*C898,\"\")))","v":6.6499999999999995}," litres",{"$f":"J898*1000","v":6649.9999999999991},"ml",{"$f":"IF(I898=1,C898+F898,IF(I898=2,C898+F898/1000,IF(I898=3,(1+F898/100)*C898,\"\")))","v":7.3500000000000005},"  litres",{"$f":"N898*1000","v":7350.0000000000009},"ml"]
[{"$f":"IF(COUNTIF($B$1:B899,TRUE)=COUNTIF($B$1:B898,TRUE),\"\",COUNTIF($B$1:B899,TRUE))","v":694},{"$f":"Worksheet!$D$14","v":true},{"$f":"RANDBETWEEN(5,RANDBETWEEN(5,Worksheet!$D$6))","v":213},"litres","±",{"$f":"IF(I899=1,H899*10^RANDBETWEEN(IF(Worksheet!$D$9,-1,0),0),IF(I899=2,H899*10^RANDBETWEEN(RANDBETWEEN(0,2),2),CHOOSE(RANDBETWEEN(1,3),5,10,20)))","v":30},{"$f":"IF(I899=1,D899,IF(I899=3,\"%\",\"cm³\"))","v":"cm³"},3,{"$f":"IF(AND(Worksheet!$D$8,RAND()<0.2),3,IF(RAND()<Worksheet!$D$7/100,1,2))","v":2},{"$f":"IF(I899=1,C899-F899,IF(I899=2,C899-F899/1000,IF(I899=3,(1-F899/100)*C899,\"\")))","v":212.97}," litres",{"$f":"J899*1000","v":212970},"cm³",{"$f":"IF(I899=1,C899+F899,IF(I899=2,C899+F899/1000,IF(I899=3,(1+F899/100)*C899,\"\")))","v":213.03},"  litres",{"$f":"N899*1000","v":213030},"cm³"]
[{"$f":"IF(COUNTIF($B$1:B900,TRUE)=COUNTIF($B$1:B899,TRUE),\"\",COUNTIF($B$1:B900,TRUE))","v":""},{"$f":"Worksheet!$D$15","v":false},{"$f":"RANDBETWEEN(5,20)","v":19},"min","±",{"$f":"IF(I900=1,H900*10^RANDBETWEEN(IF(Worksheet!$D$9,-1,0),0),IF(I900=2,H900,CHOOSE(RANDBETWEEN(1,3),5,10,20)))","v":0.60000000000000009},{"$f":"IF(I900=1,D900,IF(I900=3,\"%\",\"sec\"))","v":"min"},6,{"$f":"IF(AND(Worksheet!$D$8,RAND()<0),3,IF(RAND()<Worksheet!$D$7/100,1,2))","v":1},null," min",{"$f":"IF(I900=1,C900-F900,IF(I900=2,C900*60-F900,\"\"))","v":18.399999999999999},{"$f":"IF($I900=1,\" hours\",\" min\")","v":" hours"},null,"  min",{"$f":"IF(I900=1,C900+F900,IF(I900=2,C900*60+F900,\"\"))","v":19.600000000000001},{"$f":"IF($I900=1,\" hours\",\" min\")","v":" hours"}]
[{"$f":"COUNTIF($B$1:B901,TRUE)","v":695},{"$f":"Worksheet!$B$11","v":true},{"$f":"RANDBETWEEN(5,RANDBETWEEN(5,Worksheet!$D$6))","v":58},"cm","±",{"$f":"IF(I901=1,H901*10^RANDBETWEEN(IF(Worksheet!$D$9,-1,0),0),IF(I901=2,H901,CHOOSE(RANDBETWEEN(1,3),5,10,20)))","v":5},{"$f":"IF(I901=1,D901,IF(I901=3,\"%\",\"mm\"))","v":"%"},{"$f":"RANDBETWEEN(1,MIN(9,C901))","v":7},{"$f":"IF(AND(Worksheet!$D$8,RAND()<0.2),3,IF(RAND()<Worksheet!$D$7/100,1,2))","v":3},{"$f":"IF(I901=1,C901-F901,IF(I901=2,C901-F901/10,IF(I901=3,(1-F901/100)*C901,\"\")))","v":55.099999999999994},{"$f":"CONCATENATE(\" \",D901)","v":" cm"},{"$f":"J901*10","v":551},"mm",{"$f":"IF(I901=1,C901+F901,IF(I901=2,C901+F901/10,IF(I901=3,(1+F901/100)*C901,\"\")))","v":60.900000000000006},{"$f":"CONCATENATE(\" \",K901)","v":"  cm"},{"$f":"N901*10","v":609},"mm"]
[{"$f":"IF(COUNTIF($B$1:B902,TRUE)=COUNTIF($B$1:B901,TRUE),\"\",COUNTIF($B$1:B902,TRUE))","v":696},{"$f":"Worksheet!$B$12","v":true},{"$f":"RANDBETWEEN(5,RANDBETWEEN(5,Worksheet!$D$6))","v":101},"m","±",{"$f":"IF(I902=1,H902*10^RANDBETWEEN(IF(Worksheet!$D$9,-1,0),0),IF(I902=2,H902*10^RANDBETWEEN(RANDBETWEEN(0,1),1),CHOOSE(RANDBETWEEN(1,3),5,10,20)))","v":0.2},{"$f":"IF(I902=1,D902,IF(I902=3,\"%\",\"cm\"))","v":"m"},{"$f":"RANDBETWEEN(1,MIN(9,C902))","v":2},{"$f":"IF(AND(Worksheet!$D$8,RAND()<0.2),3,IF(RAND()<Worksheet!$D$7/100,1,2))","v":1},{"$f":"IF(I902=1,C902-F902,IF(I902=2,C902-F902/100,IF(I902=3,(1-F902/100)*C902,\"\")))","v":100.8},{"$f":"CONCATENATE(\" \",D902)","v":" m"},{"$f":"J902*100","v":10080},"cm",{"$f":"IF(I902=1,C902+F902,IF(I902=2,C902+F902/100,IF(I902=3,(1+F902/100)*C902,\"\")))","v":101.2},{"$f":"CONCATENATE(\" \",K902)","v":"  m"},{"$f":"N902*100","v":10120},"cm"]
[{"$f":"IF(COUNTIF($B$1:B903,TRUE)=COUNTIF($B$1:B902,TRUE),\"\",COUNTIF($B$1:B903,TRUE))","v":697},{"$f":"Worksheet!$B$13","v":true},{"$f":"RANDBETWEEN(5,RANDBETWEEN(5,Worksheet!$D$6))","v":53},"km","±",{"$f":"IF(I903=1,H903*10^RANDBETWEEN(IF(Worksheet!$D$9,-1,0),0),IF(I903=2,H903*10^RANDBETWEEN(RANDBETWEEN(0,2),2),CHOOSE(RANDBETWEEN(1,3),5,10,20)))","v":6},{"$f":"IF(I903=1,D903,IF(I903=3,\"%\",\"m\"))","v":"km"},6,{"$f":"IF(AND(Worksheet!$D$8,RAND()<0.2),3,IF(RAND()<Worksheet!$D$7/100,1,2))","v":1},{"$f":"IF(I903=1,C903-F903,IF(I903=2,C903-F903/1000,IF(I903=3,(1-F903/100)*C903,\"\")))","v":47}," km",{"$f":"J903*1000","v":47000},"m",{"$f":"IF(I903=1,C903+F903,IF(I903=2,C903+F903/1000,IF(I903=3,(1+F903/100)*C903,\"\")))","v":59},"  km",{"$f":"N903*1000","v":59000},"m"]
[{"$f":"IF(COUNTIF($B$1:B904,TRUE)=COUNTIF($B$1:B903,TRUE),\"\",COUNTIF($B$1:B904,TRUE))","v":""},{"$f":"Worksheet!$B$14","v":false},{"$f":"RANDBETWEEN(5,RANDBETWEEN(5,Worksheet!$D$6))","v":28},"m","±",{"$f":"IF(I904=1,H904*10^RANDBETWEEN(IF(Worksheet!$D$9,-1,0),0),IF(I904=2,H904*10^RANDBETWEEN(RANDBETWEEN(0,2),2),CHOOSE(RANDBETWEEN(1,3),5,10,20)))","v":20},{"$f":"IF(I904=1,D904,IF(I904=3,\"%\",\"mm\"))","v":"%"},1,{"$f":"IF(AND(Worksheet!$D$8,RAND()<0.2),3,IF(RAND()<Worksheet!$D$7/100,1,2))","v":3},{"$f":"IF(I904=1,C904-F904,IF(I904=2,C904-F904/1000,IF(I904=3,(1-F904/100)*C904,\"\")))","v":22.400000000000002}," m",{"$f":"J904*1000","v":22400.000000000004},"mm",{"$f":"IF(I904=1,C904+F904,IF(I904=2,C904+F904/1000,IF(I904=3,(1+F904/100)*C904,\"\")))","v":33.6},"  m",{"$f":"N904*1000","v":33600},"mm"]
[{"$f":"IF(COUNTIF($B$1:B905,TRUE)=COUNTIF($B$1:B904,TRUE),\"\",COUNTIF($B$1:B905,TRUE))","v":698},{"$f":"Worksheet!$B$15","v":true},{"$f":"RANDBETWEEN(5,20)","v":17},"hours","±",{"$f":"IF(I905=1,H905*10^RANDBETWEEN(IF(Worksheet!$D$9,-1,0),0),IF(I905=2,H905,CHOOSE(RANDBETWEEN(1,3),5,10,20)))","v":6},{"$f":"IF(I905=1,D905,IF(I905=3,\"%\",\"min\"))","v":"hours"},6,{"$f":"IF(AND(Worksheet!$D$8,RAND()<0),3,IF(RAND()<Worksheet!$D$7/100,1,2))","v":1},null," hours",{"$f":"IF(I905=1,C905-F905,IF(I905=2,C905*60-F905,\"\"))","v":11},{"$f":"IF($I905=1,\" hours\",\" min\")","v":" hours"},null,"  hours",{"$f":"IF(I905=1,C905+F905,IF(I905=2,C905*60+F905,\"\"))","v":23},{"$f":"IF($I905=1,\" hours\",\" min\")","v":" hours"}]
[{"$f":"IF(COUNTIF($B$1:B906,TRUE)=COUNTIF($B$1:B905,TRUE),\"\",COUNTIF($B$1:B906,TRUE))","v":699},{"$f":"Worksheet!$D$11","v":true},{"$f":"RANDBETWEEN(5,RANDBETWEEN(5,Worksheet!$D$6))","v":7},"kg","±",{"$f":"IF(I906=1,H906*10^RANDBETWEEN(IF(Worksheet!$D$9,-1,0),0),IF(I906=2,H906*10^RANDBETWEEN(RANDBETWEEN(0,2),2),CHOOSE(RANDBETWEEN(1,3),5,10,20)))","v":7},{"$f":"IF(I906=1,D906,IF(I906=3,\"%\",\"g\"))","v":"kg"},7,{"$f":"IF(AND(Worksheet!$D$8,RAND()<0.2),3,IF(RAND()<Worksheet!$D$7/100,1,2))","v":1},{"$f":"IF(I906=1,C906-F906,IF(I906=2,C906-F906/1000,IF(I906=3,(1-F906/100)*C906,\"\")))","v":0}," kg",{"$f":"J906*1000","v":0},"g",{"$f":"IF(I906=1,C906+F906,IF(I906=2,C906+F906/1000,IF(I906=3,(1+F906/100)*C906,\"\")))","v":14},"  kg",{"$f":"N906*1000","v":14000},"g"]
[{"$f":"IF(COUNTIF($B$1:B907,TRUE)=COUNTIF($B$1:B906,TRUE),\"\",COUNTIF($B$1:B907,TRUE))","v":700},{"$f":"Worksheet!$D$12","v":true},{"$f":"RANDBETWEEN(5,RANDBETWEEN(5,Worksheet!$D$6))","v":7},"tonnes","±",{"$f":"IF(I907=1,H907*10^RANDBETWEEN(IF(Worksheet!$D$9,-1,0),0),IF(I907=2,H907*10^RANDBETWEEN(RANDBETWEEN(0,2),2),CHOOSE(RANDBETWEEN(1,3),5,10,20)))","v":0.70000000000000007},{"$f":"IF(I907=1,D907,IF(I907=3,\"%\",\"kg\"))","v":"tonnes"},7,{"$f":"IF(AND(Worksheet!$D$8,RAND()<0.2),3,IF(RAND()<Worksheet!$D$7/100,1,2))","v":1},{"$f":"IF(I907=1,C907-F907,IF(I907=2,C907-F907/1000,IF(I907=3,(1-F907/100)*C907,\"\")))","v":6.3}," tonnes",{"$f":"J907*1000","v":6300},"kg",{"$f":"IF(I907=1,C907+F907,IF(I907=2,C907+F907/1000,IF(I907=3,(1+F907/100)*C907,\"\")))","v":7.7},"  tonnes",{"$f":"N907*1000","v":7700},"kg"]
[{"$f":"IF(COUNTIF($B$1:B908,TRUE)=COUNTIF($B$1:B907,TRUE),\"\",COUNTIF($B$1:B908,TRUE))","v":701},{"$f":"Worksheet!$D$13","v":true},{"$f":"RANDBETWEEN(5,RANDBETWEEN(5,Worksheet!$D$6))","v":29},"litres","±",{"$f":"IF(I908=1,H908*10^RANDBETWEEN(IF(Worksheet!$D$9,-1,0),0),IF(I908=2,H908*10^RANDBETWEEN(RANDBETWEEN(0,2),2),CHOOSE(RANDBETWEEN(1,3),5,10,20)))","v":20},{"$f":"IF(I908=1,D908,IF(I908=3,\"%\",\"ml\"))","v":"%"},9,{"$f":"IF(AND(Worksheet!$D$8,RAND()<0.2),3,IF(RAND()<Worksheet!$D$7/100,1,2))","v":3},{"$f":"IF(I908=1,C908-F908,IF(I908=2,C908-F908/1000,IF(I908=3,(1-F908/100)*C908,\"\")))","v":23.200000000000003}," litres",{"$f":"J908*1000","v":23200.000000000004},"ml",{"$f":"IF(I908=1,C908+F908,IF(I908=2,C908+F908/1000,IF(I908=3,(1+F908/100)*C908,\"\")))","v":34.799999999999997},"  litres",{"$f":"N908*1000","v":34800},"ml"]
[{"$f":"IF(COUNTIF($B$1:B909,TRUE)=COUNTIF($B$1:B908,TRUE),\"\",COUNTIF($B$1:B909,TRUE))","v":702},{"$f":"Worksheet!$D$14","v":true},{"$f":"RANDBETWEEN(5,RANDBETWEEN(5,Worksheet!$D$6))","v":10},"litres","±",{"$f":"IF(I909=1,H909*10^RANDBETWEEN(IF(Worksheet!$D$9,-1,0),0),IF(I909=2,H909*10^RANDBETWEEN(RANDBETWEEN(0,2),2),CHOOSE(RANDBETWEEN(1,3),5,10,20)))","v":2},{"$f":"IF(I909=1,D909,IF(I909=3,\"%\",\"cm³\"))","v":"litres"},2,{"$f":"IF(AND(Worksheet!$D$8,RAND()<0.2),3,IF(RAND()<Worksheet!$D$7/100,1,2))","v":1},{"$f":"IF(I909=1,C909-F909,IF(I909=2,C909-F909/1000,IF(I909=3,(1-F909/100)*C909,\"\")))","v":8}," litres",{"$f":"J909*1000","v":8000},"cm³",{"$f":"IF(I909=1,C909+F909,IF(I909=2,C909+F909/1000,IF(I909=3,(1+F909/100)*C909,\"\")))","v":12},"  litres",{"$f":"N909*1000","v":12000},"cm³"]
[{"$f":"IF(COUNTIF($B$1:B910,TRUE)=COUNTIF($B$1:B909,TRUE),\"\",COUNTIF($B$1:B910,TRUE))","v":""},{"$f":"Worksheet!$D$15","v":false},{"$f":"RANDBETWEEN(5,20)","v":10},"min","±",{"$f":"IF(I910=1,H910*10^RANDBETWEEN(IF(Worksheet!$D$9,-1,0),0),IF(I910=2,H910,CHOOSE(RANDBETWEEN(1,3),5,10,20)))","v":0.5},{"$f":"IF(I910=1,D910,IF(I910=3,\"%\",\"sec\"))","v":"min"},5,{"$f":"IF(AND(Worksheet!$D$8,RAND()<0),3,IF(RAND()<Worksheet!$D$7/100,1,2))","v":1},null," min",{"$f":"IF(I910=1,C910-F910,IF(I910=2,C910*60-F910,\"\"))","v":9.5},{"$f":"IF($I910=1,\" hours\",\" min\")","v":" hours"},null,"  min",{"$f":"IF(I910=1,C910+F910,IF(I910=2,C910*60+F910,\"\"))","v":10.5},{"$f":"IF($I910=1,\" hours\",\" min\")","v":" hours"}]
[{"$f":"COUNTIF($B$1:B911,TRUE)","v":703},{"$f":"Worksheet!$B$11","v":true},{"$f":"RANDBETWEEN(5,RANDBETWEEN(5,Worksheet!$D$6))","v":70},"cm","±",{"$f":"IF(I911=1,H911*10^RANDBETWEEN(IF(Worksheet!$D$9,-1,0),0),IF(I911=2,H911,CHOOSE(RANDBETWEEN(1,3),5,10,20)))","v":6},{"$f":"IF(I911=1,D911,IF(I911=3,\"%\",\"mm\"))","v":"mm"},{"$f":"RANDBETWEEN(1,MIN(9,C911))","v":6},{"$f":"IF(AND(Worksheet!$D$8,RAND()<0.2),3,IF(RAND()<Worksheet!$D$7/100,1,2))","v":2},{"$f":"IF(I911=1,C911-F911,IF(I911=2,C911-F911/10,IF(I911=3,(1-F911/100)*C911,\"\")))","v":69.400000000000006},{"$f":"CONCATENATE(\" \",D911)","v":" cm"},{"$f":"J911*10","v":694},"mm",{"$f":"IF(I911=1,C911+F911,IF(I911=2,C911+F911/10,IF(I911=3,(1+F911/100)*C911,\"\")))","v":70.599999999999994},{"$f":"CONCATENATE(\" \",K911)","v":"  cm"},{"$f":"N911*10","v":706},"mm"]
[{"$f":"IF(COUNTIF($B$1:B912,TRUE)=COUNTIF($B$1:B911,TRUE),\"\",COUNTIF($B$1:B912,TRUE))","v":704},{"$f":"Worksheet!$B$12","v":true},{"$f":"RANDBETWEEN(5,RANDBETWEEN(5,Worksheet!$D$6))","v":43},"m","±",{"$f":"IF(I912=1,H912*10^RANDBETWEEN(IF(Worksheet!$D$9,-1,0),0),IF(I912=2,H912*10^RANDBETWEEN(RANDBETWEEN(0,1),1),CHOOSE(RANDBETWEEN(1,3),5,10,20)))","v":60},{"$f":"IF(I912=1,D912,IF(I912=3,\"%\",\"cm\"))","v":"cm"},{"$f":"RANDBETWEEN(1,MIN(9,C912))","v":6},{"$f":"IF(AND(Worksheet!$D$8,RAND()<0.2),3,IF(RAND()<Worksheet!$D$7/100,1,2))","v":2},{"$f":"IF(I912=1,C912-F912,IF(I912=2,C912-F912/100,IF(I912=3,(1-F912/100)*C912,\"\")))","v":42.4},{"$f":"CONCATENATE(\" \",D912)","v":" m"},{"$f":"J912*100","v":4240},"cm",{"$f":"IF(I912=1,C912+F912,IF(I912=2,C912+F912/100,IF(I912=3,(1+F912/100)*C912,\"\")))","v":43.6},{"$f":"CONCATENATE(\" \",K912)","v":"  m"},{"$f":"N912*100","v":4360},"cm"]
[{"$f":"IF(COUNTIF($B$1:B913,TRUE)=COUNTIF($B$1:B912,TRUE),\"\",COUNTIF($B$1:B913,TRUE))","v":705},{"$f":"Worksheet!$B$13","v":true},{"$f":"RANDBETWEEN(5,RANDBETWEEN(5,Worksheet!$D$6))","v":94},"km","±",{"$f":"IF(I913=1,H913*10^RANDBETWEEN(IF(Worksheet!$D$9,-1,0),0),IF(I913=2,H913*10^RANDBETWEEN(RANDBETWEEN(0,2),2),CHOOSE(RANDBETWEEN(1,3),5,10,20)))","v":700},{"$f":"IF(I913=1,D913,IF(I913=3,\"%\",\"m\"))","v":"m"},7,{"$f":"IF(AND(Worksheet!$D$8,RAND()<0.2),3,IF(RAND()<Worksheet!$D$7/100,1,2))","v":2},{"$f":"IF(I913=1,C913-F913,IF(I913=2,C913-F913/1000,IF(I913=3,(1-F913/100)*C913,\"\")))","v":93.3}," km",{"$f":"J913*1000","v":93300},"m",{"$f":"IF(I913=1,C913+F913,IF(I913=2,C913+F913/1000,IF(I913=3,(1+F913/100)*C913,\"\")))","v":94.7},"  km",{"$f":"N913*1000","v":94700},"m"]
[{"$f":"IF(COUNTIF($B$1:B914,TRUE)=COUNTIF($B$1:B913,TRUE),\"\",COUNTIF($B$1:B914,TRUE))","v":""},{"$f":"Worksheet!$B$14","v":false},{"$f":"RANDBETWEEN(5,RANDBETWEEN(5,Worksheet!$D$6))","v":194},"m","±",{"$f":"IF(I914=1,H914*10^RANDBETWEEN(IF(Worksheet!$D$9,-1,0),0),IF(I914=2,H914*10^RANDBETWEEN(RANDBETWEEN(0,2),2),CHOOSE(RANDBETWEEN(1,3),5,10,20)))","v":10},{"$f":"IF(I914=1,D914,IF(I914=3,\"%\",\"mm\"))","v":"%"},6,{"$f":"IF(AND(Worksheet!$D$8,RAND()<0.2),3,IF(RAND()<Worksheet!$D$7/100,1,2))","v":3},{"$f":"IF(I914=1,C914-F914,IF(I914=2,C914-F914/1000,IF(I914=3,(1-F914/100)*C914,\"\")))","v":174.6}," m",{"$f":"J914*1000","v":174600},"mm",{"$f":"IF(I914=1,C914+F914,IF(I914=2,C914+F914/1000,IF(I914=3,(1+F914/100)*C914,\"\")))","v":213.4},"  m",{"$f":"N914*1000","v":213400},"mm"]
[{"$f":"IF(COUNTIF($B$1:B915,TRUE)=COUNTIF($B$1:B914,TRUE),\"\",COUNTIF($B$1:B915,TRUE))","v":706},{"$f":"Worksheet!$B$15","v":true},{"$f":"RANDBETWEEN(5,20)","v":14},"hours","±",{"$f":"IF(I915=1,H915*10^RANDBETWEEN(IF(Worksheet!$D$9,-1,0),0),IF(I915=2,H915,CHOOSE(RANDBETWEEN(1,3),5,10,20)))","v":0.30000000000000004},{"$f":"IF(I915=1,D915,IF(I915=3,\"%\",\"min\"))","v":"hours"},3,{"$f":"IF(AND(Worksheet!$D$8,RAND()<0),3,IF(RAND()<Worksheet!$D$7/100,1,2))","v":1},null," hours",{"$f":"IF(I915=1,C915-F915,IF(I915=2,C915*60-F915,\"\"))","v":13.7},{"$f":"IF($I915=1,\" hours\",\" min\")","v":" hours"},null,"  hours",{"$f":"IF(I915=1,C915+F915,IF(I915=2,C915*60+F915,\"\"))","v":14.3},{"$f":"IF($I915=1,\" hours\",\" min\")","v":" hours"}]
[{"$f":"IF(COUNTIF($B$1:B916,TRUE)=COUNTIF($B$1:B915,TRUE),\"\",COUNTIF($B$1:B916,TRUE))","v":707},{"$f":"Worksheet!$D$11","v":true},{"$f":"RANDBETWEEN(5,RANDBETWEEN(5,Worksheet!$D$6))","v":278},"kg","±",{"$f":"IF(I916=1,H916*10^RANDBETWEEN(IF(Worksheet!$D$9,-1,0),0),IF(I916=2,H916*10^RANDBETWEEN(RANDBETWEEN(0,2),2),CHOOSE(RANDBETWEEN(1,3),5,10,20)))","v":20},{"$f":"IF(I916=1,D916,IF(I916=3,\"%\",\"g\"))","v":"%"},5,{"$f":"IF(AND(Worksheet!$D$8,RAND()<0.2),3,IF(RAND()<Worksheet!$D$7/100,1,2))","v":3},{"$f":"IF(I916=1,C916-F916,IF(I916=2,C916-F916/1000,IF(I916=3,(1-F916/100)*C916,\"\")))","v":222.4}," kg",{"$f":"J916*1000","v":222400},"g",{"$f":"IF(I916=1,C916+F916,IF(I916=2,C916+F916/1000,IF(I916=3,(1+F916/100)*C916,\"\")))","v":333.59999999999997},"  kg",{"$f":"N916*1000","v":333599.99999999994},"g"]
[{"$f":"IF(COUNTIF($B$1:B917,TRUE)=COUNTIF($B$1:B916,TRUE),\"\",COUNTIF($B$1:B917,TRUE))","v":708},{"$f":"Worksheet!$D$12","v":true},{"$f":"RANDBETWEEN(5,RANDBETWEEN(5,Worksheet!$D$6))","v":160},"tonnes","±",{"$f":"IF(I917=1,H917*10^RANDBETWEEN(IF(Worksheet!$D$9,-1,0),0),IF(I917=2,H917*10^RANDBETWEEN(RANDBETWEEN(0,2),2),CHOOSE(RANDBETWEEN(1,3),5,10,20)))","v":20},{"$f":"IF(I917=1,D917,IF(I917=3,\"%\",\"kg\"))","v":"%"},1,{"$f":"IF(AND(Worksheet!$D$8,RAND()<0.2),3,IF(RAND()<Worksheet!$D$7/100,1,2))","v":3},{"$f":"IF(I917=1,C917-F917,IF(I917=2,C917-F917/1000,IF(I917=3,(1-F917/100)*C917,\"\")))","v":128}," tonnes",{"$f":"J917*1000","v":128000},"kg",{"$f":"IF(I917=1,C917+F917,IF(I917=2,C917+F917/1000,IF(I917=3,(1+F917/100)*C917,\"\")))","v":192},"  tonnes",{"$f":"N917*1000","v":192000},"kg"]
[{"$f":"IF(COUNTIF($B$1:B918,TRUE)=COUNTIF($B$1:B917,TRUE),\"\",COUNTIF($B$1:B918,TRUE))","v":709},{"$f":"Worksheet!$D$13","v":true},{"$f":"RANDBETWEEN(5,RANDBETWEEN(5,Worksheet!$D$6))","v":93},"litres","±",{"$f":"IF(I918=1,H918*10^RANDBETWEEN(IF(Worksheet!$D$9,-1,0),0),IF(I918=2,H918*10^RANDBETWEEN(RANDBETWEEN(0,2),2),CHOOSE(RANDBETWEEN(1,3),5,10,20)))","v":0.60000000000000009},{"$f":"IF(I918=1,D918,IF(I918=3,\"%\",\"ml\"))","v":"litres"},6,{"$f":"IF(AND(Worksheet!$D$8,RAND()<0.2),3,IF(RAND()<Worksheet!$D$7/100,1,2))","v":1},{"$f":"IF(I918=1,C918-F918,IF(I918=2,C918-F918/1000,IF(I918=3,(1-F918/100)*C918,\"\")))","v":92.4}," litres",{"$f":"J918*1000","v":92400},"ml",{"$f":"IF(I918=1,C918+F918,IF(I918=2,C918+F918/1000,IF(I918=3,(1+F918/100)*C918,\"\")))","v":93.6},"  litres",{"$f":"N918*1000","v":93600},"ml"]
[{"$f":"IF(COUNTIF($B$1:B919,TRUE)=COUNTIF($B$1:B918,TRUE),\"\",COUNTIF($B$1:B919,TRUE))","v":710},{"$f":"Worksheet!$D$14","v":true},{"$f":"RANDBETWEEN(5,RANDBETWEEN(5,Worksheet!$D$6))","v":46},"litres","±",{"$f":"IF(I919=1,H919*10^RANDBETWEEN(IF(Worksheet!$D$9,-1,0),0),IF(I919=2,H919*10^RANDBETWEEN(RANDBETWEEN(0,2),2),CHOOSE(RANDBETWEEN(1,3),5,10,20)))","v":0.70000000000000007},{"$f":"IF(I919=1,D919,IF(I919=3,\"%\",\"cm³\"))","v":"litres"},7,{"$f":"IF(AND(Worksheet!$D$8,RAND()<0.2),3,IF(RAND()<Worksheet!$D$7/100,1,2))","v":1},{"$f":"IF(I919=1,C919-F919,IF(I919=2,C919-F919/1000,IF(I919=3,(1-F919/100)*C919,\"\")))","v":45.3}," litres",{"$f":"J919*1000","v":45300},"cm³",{"$f":"IF(I919=1,C919+F919,IF(I919=2,C919+F919/1000,IF(I919=3,(1+F919/100)*C919,\"\")))","v":46.7},"  litres",{"$f":"N919*1000","v":46700},"cm³"]
[{"$f":"IF(COUNTIF($B$1:B920,TRUE)=COUNTIF($B$1:B919,TRUE),\"\",COUNTIF($B$1:B920,TRUE))","v":""},{"$f":"Worksheet!$D$15","v":false},{"$f":"RANDBETWEEN(5,20)","v":6},"min","±",{"$f":"IF(I920=1,H920*10^RANDBETWEEN(IF(Worksheet!$D$9,-1,0),0),IF(I920=2,H920,CHOOSE(RANDBETWEEN(1,3),5,10,20)))","v":0.30000000000000004},{"$f":"IF(I920=1,D920,IF(I920=3,\"%\",\"sec\"))","v":"min"},3,{"$f":"IF(AND(Worksheet!$D$8,RAND()<0),3,IF(RAND()<Worksheet!$D$7/100,1,2))","v":1},null," min",{"$f":"IF(I920=1,C920-F920,IF(I920=2,C920*60-F920,\"\"))","v":5.7},{"$f":"IF($I920=1,\" hours\",\" min\")","v":" hours"},null,"  min",{"$f":"IF(I920=1,C920+F920,IF(I920=2,C920*60+F920,\"\"))","v":6.3},{"$f":"IF($I920=1,\" hours\",\" min\")","v":" hours"}]
[{"$f":"COUNTIF($B$1:B921,TRUE)","v":711},{"$f":"Worksheet!$B$11","v":true},{"$f":"RANDBETWEEN(5,RANDBETWEEN(5,Worksheet!$D$6))","v":21},"cm","±",{"$f":"IF(I921=1,H921*10^RANDBETWEEN(IF(Worksheet!$D$9,-1,0),0),IF(I921=2,H921,CHOOSE(RANDBETWEEN(1,3),5,10,20)))","v":10},{"$f":"IF(I921=1,D921,IF(I921=3,\"%\",\"mm\"))","v":"%"},{"$f":"RANDBETWEEN(1,MIN(9,C921))","v":2},{"$f":"IF(AND(Worksheet!$D$8,RAND()<0.2),3,IF(RAND()<Worksheet!$D$7/100,1,2))","v":3},{"$f":"IF(I921=1,C921-F921,IF(I921=2,C921-F921/10,IF(I921=3,(1-F921/100)*C921,\"\")))","v":18.900000000000002},{"$f":"CONCATENATE(\" \",D921)","v":" cm"},{"$f":"J921*10","v":189.00000000000003},"mm",{"$f":"IF(I921=1,C921+F921,IF(I921=2,C921+F921/10,IF(I921=3,(1+F921/100)*C921,\"\")))","v":23.1},{"$f":"CONCATENATE(\" \",K921)","v":"  cm"},{"$f":"N921*10","v":231},"mm"]
[{"$f":"IF(COUNTIF($B$1:B922,TRUE)=COUNTIF($B$1:B921,TRUE),\"\",COUNTIF($B$1:B922,TRUE))","v":712},{"$f":"Worksheet!$B$12","v":true},{"$f":"RANDBETWEEN(5,RANDBETWEEN(5,Worksheet!$D$6))","v":15},"m","±",{"$f":"IF(I922=1,H922*10^RANDBETWEEN(IF(Worksheet!$D$9,-1,0),0),IF(I922=2,H922*10^RANDBETWEEN(RANDBETWEEN(0,1),1),CHOOSE(RANDBETWEEN(1,3),5,10,20)))","v":3},{"$f":"IF(I922=1,D922,IF(I922=3,\"%\",\"cm\"))","v":"cm"},{"$f":"RANDBETWEEN(1,MIN(9,C922))","v":3},{"$f":"IF(AND(Worksheet!$D$8,RAND()<0.2),3,IF(RAND()<Worksheet!$D$7/100,1,2))","v":2},{"$f":"IF(I922=1,C922-F922,IF(I922=2,C922-F922/100,IF(I922=3,(1-F922/100)*C922,\"\")))","v":14.97},{"$f":"CONCATENATE(\" \",D922)","v":" m"},{"$f":"J922*100","v":1497},"cm",{"$f":"IF(I922=1,C922+F922,IF(I922=2,C922+F922/100,IF(I922=3,(1+F922/100)*C922,\"\")))","v":15.03},{"$f":"CONCATENATE(\" \",K922)","v":"  m"},{"$f":"N922*100","v":1503},"cm"]
[{"$f":"IF(COUNTIF($B$1:B923,TRUE)=COUNTIF($B$1:B922,TRUE),\"\",COUNTIF($B$1:B923,TRUE))","v":713},{"$f":"Worksheet!$B$13","v":true},{"$f":"RANDBETWEEN(5,RANDBETWEEN(5,Worksheet!$D$6))","v":227},"km","±",{"$f":"IF(I923=1,H923*10^RANDBETWEEN(IF(Worksheet!$D$9,-1,0),0),IF(I923=2,H923*10^RANDBETWEEN(RANDBETWEEN(0,2),2),CHOOSE(RANDBETWEEN(1,3),5,10,20)))","v":90},{"$f":"IF(I923=1,D923,IF(I923=3,\"%\",\"m\"))","v":"m"},9,{"$f":"IF(AND(Worksheet!$D$8,RAND()<0.2),3,IF(RAND()<Worksheet!$D$7/100,1,2))","v":2},{"$f":"IF(I923=1,C923-F923,IF(I923=2,C923-F923/1000,IF(I923=3,(1-F923/100)*C923,\"\")))","v":226.91}," km",{"$f":"J923*1000","v":226910},"m",{"$f":"IF(I923=1,C923+F923,IF(I923=2,C923+F923/1000,IF(I923=3,(1+F923/100)*C923,\"\")))","v":227.09},"  km",{"$f":"N923*1000","v":227090},"m"]
[{"$f":"IF(COUNTIF($B$1:B924,TRUE)=COUNTIF($B$1:B923,TRUE),\"\",COUNTIF($B$1:B924,TRUE))","v":""},{"$f":"Worksheet!$B$14","v":false},{"$f":"RANDBETWEEN(5,RANDBETWEEN(5,Worksheet!$D$6))","v":47},"m","±",{"$f":"IF(I924=1,H924*10^RANDBETWEEN(IF(Worksheet!$D$9,-1,0),0),IF(I924=2,H924*10^RANDBETWEEN(RANDBETWEEN(0,2),2),CHOOSE(RANDBETWEEN(1,3),5,10,20)))","v":0.60000000000000009},{"$f":"IF(I924=1,D924,IF(I924=3,\"%\",\"mm\"))","v":"m"},6,{"$f":"IF(AND(Worksheet!$D$8,RAND()<0.2),3,IF(RAND()<Worksheet!$D$7/100,1,2))","v":1},{"$f":"IF(I924=1,C924-F924,IF(I924=2,C924-F924/1000,IF(I924=3,(1-F924/100)*C924,\"\")))","v":46.4}," m",{"$f":"J924*1000","v":46400},"mm",{"$f":"IF(I924=1,C924+F924,IF(I924=2,C924+F924/1000,IF(I924=3,(1+F924/100)*C924,\"\")))","v":47.6},"  m",{"$f":"N924*1000","v":47600},"mm"]
[{"$f":"IF(COUNTIF($B$1:B925,TRUE)=COUNTIF($B$1:B924,TRUE),\"\",COUNTIF($B$1:B925,TRUE))","v":714},{"$f":"Worksheet!$B$15","v":true},{"$f":"RANDBETWEEN(5,20)","v":16},"hours","±",{"$f":"IF(I925=1,H925*10^RANDBETWEEN(IF(Worksheet!$D$9,-1,0),0),IF(I925=2,H925,CHOOSE(RANDBETWEEN(1,3),5,10,20)))","v":2},{"$f":"IF(I925=1,D925,IF(I925=3,\"%\",\"min\"))","v":"hours"},2,{"$f":"IF(AND(Worksheet!$D$8,RAND()<0),3,IF(RAND()<Worksheet!$D$7/100,1,2))","v":1},null," hours",{"$f":"IF(I925=1,C925-F925,IF(I925=2,C925*60-F925,\"\"))","v":14},{"$f":"IF($I925=1,\" hours\",\" min\")","v":" hours"},null,"  hours",{"$f":"IF(I925=1,C925+F925,IF(I925=2,C925*60+F925,\"\"))","v":18},{"$f":"IF($I925=1,\" hours\",\" min\")","v":" hours"}]
[{"$f":"IF(COUNTIF($B$1:B926,TRUE)=COUNTIF($B$1:B925,TRUE),\"\",COUNTIF($B$1:B926,TRUE))","v":715},{"$f":"Worksheet!$D$11","v":true},{"$f":"RANDBETWEEN(5,RANDBETWEEN(5,Worksheet!$D$6))","v":61},"kg","±",{"$f":"IF(I926=1,H926*10^RANDBETWEEN(IF(Worksheet!$D$9,-1,0),0),IF(I926=2,H926*10^RANDBETWEEN(RANDBETWEEN(0,2),2),CHOOSE(RANDBETWEEN(1,3),5,10,20)))","v":1},{"$f":"IF(I926=1,D926,IF(I926=3,\"%\",\"g\"))","v":"kg"},1,{"$f":"IF(AND(Worksheet!$D$8,RAND()<0.2),3,IF(RAND()<Worksheet!$D$7/100,1,2))","v":1},{"$f":"IF(I926=1,C926-F926,IF(I926=2,C926-F926/1000,IF(I926=3,(1-F926/100)*C926,\"\")))","v":60}," kg",{"$f":"J926*1000","v":60000},"g",{"$f":"IF(I926=1,C926+F926,IF(I926=2,C926+F926/1000,IF(I926=3,(1+F926/100)*C926,\"\")))","v":62},"  kg",{"$f":"N926*1000","v":62000},"g"]
[{"$f":"IF(COUNTIF($B$1:B927,TRUE)=COUNTIF($B$1:B926,TRUE),\"\",COUNTIF($B$1:B927,TRUE))","v":716},{"$f":"Worksheet!$D$12","v":true},{"$f":"RANDBETWEEN(5,RANDBETWEEN(5,Worksheet!$D$6))","v":51},"tonnes","±",{"$f":"IF(I927=1,H927*10^RANDBETWEEN(IF(Worksheet!$D$9,-1,0),0),IF(I927=2,H927*10^RANDBETWEEN(RANDBETWEEN(0,2),2),CHOOSE(RANDBETWEEN(1,3),5,10,20)))","v":0.9},{"$f":"IF(I927=1,D927,IF(I927=3,\"%\",\"kg\"))","v":"tonnes"},9,{"$f":"IF(AND(Worksheet!$D$8,RAND()<0.2),3,IF(RAND()<Worksheet!$D$7/100,1,2))","v":1},{"$f":"IF(I927=1,C927-F927,IF(I927=2,C927-F927/1000,IF(I927=3,(1-F927/100)*C927,\"\")))","v":50.1}," tonnes",{"$f":"J927*1000","v":50100},"kg",{"$f":"IF(I927=1,C927+F927,IF(I927=2,C927+F927/1000,IF(I927=3,(1+F927/100)*C927,\"\")))","v":51.9},"  tonnes",{"$f":"N927*1000","v":51900},"kg"]
[{"$f":"IF(COUNTIF($B$1:B928,TRUE)=COUNTIF($B$1:B927,TRUE),\"\",COUNTIF($B$1:B928,TRUE))","v":717},{"$f":"Worksheet!$D$13","v":true},{"$f":"RANDBETWEEN(5,RANDBETWEEN(5,Worksheet!$D$6))","v":197},"litres","±",{"$f":"IF(I928=1,H928*10^RANDBETWEEN(IF(Worksheet!$D$9,-1,0),0),IF(I928=2,H928*10^RANDBETWEEN(RANDBETWEEN(0,2),2),CHOOSE(RANDBETWEEN(1,3),5,10,20)))","v":20},{"$f":"IF(I928=1,D928,IF(I928=3,\"%\",\"ml\"))","v":"%"},5,{"$f":"IF(AND(Worksheet!$D$8,RAND()<0.2),3,IF(RAND()<Worksheet!$D$7/100,1,2))","v":3},{"$f":"IF(I928=1,C928-F928,IF(I928=2,C928-F928/1000,IF(I928=3,(1-F928/100)*C928,\"\")))","v":157.60000000000002}," litres",{"$f":"J928*1000","v":157600.00000000003},"ml",{"$f":"IF(I928=1,C928+F928,IF(I928=2,C928+F928/1000,IF(I928=3,(1+F928/100)*C928,\"\")))","v":236.39999999999998},"  litres",{"$f":"N928*1000","v":236399.99999999997},"ml"]
[{"$f":"IF(COUNTIF($B$1:B929,TRUE)=COUNTIF($B$1:B928,TRUE),\"\",COUNTIF($B$1:B929,TRUE))","v":718},{"$f":"Worksheet!$D$14","v":true},{"$f":"RANDBETWEEN(5,RANDBETWEEN(5,Worksheet!$D$6))","v":164},"litres","±",{"$f":"IF(I929=1,H929*10^RANDBETWEEN(IF(Worksheet!$D$9,-1,0),0),IF(I929=2,H929*10^RANDBETWEEN(RANDBETWEEN(0,2),2),CHOOSE(RANDBETWEEN(1,3),5,10,20)))","v":5},{"$f":"IF(I929=1,D929,IF(I929=3,\"%\",\"cm³\"))","v":"litres"},5,{"$f":"IF(AND(Worksheet!$D$8,RAND()<0.2),3,IF(RAND()<Worksheet!$D$7/100,1,2))","v":1},{"$f":"IF(I929=1,C929-F929,IF(I929=2,C929-F929/1000,IF(I929=3,(1-F929/100)*C929,\"\")))","v":159}," litres",{"$f":"J929*1000","v":159000},"cm³",{"$f":"IF(I929=1,C929+F929,IF(I929=2,C929+F929/1000,IF(I929=3,(1+F929/100)*C929,\"\")))","v":169},"  litres",{"$f":"N929*1000","v":169000},"cm³"]
[{"$f":"IF(COUNTIF($B$1:B930,TRUE)=COUNTIF($B$1:B929,TRUE),\"\",COUNTIF($B$1:B930,TRUE))","v":""},{"$f":"Worksheet!$D$15","v":false},{"$f":"RANDBETWEEN(5,20)","v":7},"min","±",{"$f":"IF(I930=1,H930*10^RANDBETWEEN(IF(Worksheet!$D$9,-1,0),0),IF(I930=2,H930,CHOOSE(RANDBETWEEN(1,3),5,10,20)))","v":0.70000000000000007},{"$f":"IF(I930=1,D930,IF(I930=3,\"%\",\"sec\"))","v":"min"},7,{"$f":"IF(AND(Worksheet!$D$8,RAND()<0),3,IF(RAND()<Worksheet!$D$7/100,1,2))","v":1},null," min",{"$f":"IF(I930=1,C930-F930,IF(I930=2,C930*60-F930,\"\"))","v":6.3},{"$f":"IF($I930=1,\" hours\",\" min\")","v":" hours"},null,"  min",{"$f":"IF(I930=1,C930+F930,IF(I930=2,C930*60+F930,\"\"))","v":7.7},{"$f":"IF($I930=1,\" hours\",\" min\")","v":" hours"}]
[{"$f":"COUNTIF($B$1:B931,TRUE)","v":719},{"$f":"Worksheet!$B$11","v":true},{"$f":"RANDBETWEEN(5,RANDBETWEEN(5,Worksheet!$D$6))","v":60},"cm","±",{"$f":"IF(I931=1,H931*10^RANDBETWEEN(IF(Worksheet!$D$9,-1,0),0),IF(I931=2,H931,CHOOSE(RANDBETWEEN(1,3),5,10,20)))","v":1},{"$f":"IF(I931=1,D931,IF(I931=3,\"%\",\"mm\"))","v":"cm"},{"$f":"RANDBETWEEN(1,MIN(9,C931))","v":1},{"$f":"IF(AND(Worksheet!$D$8,RAND()<0.2),3,IF(RAND()<Worksheet!$D$7/100,1,2))","v":1},{"$f":"IF(I931=1,C931-F931,IF(I931=2,C931-F931/10,IF(I931=3,(1-F931/100)*C931,\"\")))","v":59},{"$f":"CONCATENATE(\" \",D931)","v":" cm"},{"$f":"J931*10","v":590},"mm",{"$f":"IF(I931=1,C931+F931,IF(I931=2,C931+F931/10,IF(I931=3,(1+F931/100)*C931,\"\")))","v":61},{"$f":"CONCATENATE(\" \",K931)","v":"  cm"},{"$f":"N931*10","v":610},"mm"]
[{"$f":"IF(COUNTIF($B$1:B932,TRUE)=COUNTIF($B$1:B931,TRUE),\"\",COUNTIF($B$1:B932,TRUE))","v":720},{"$f":"Worksheet!$B$12","v":true},{"$f":"RANDBETWEEN(5,RANDBETWEEN(5,Worksheet!$D$6))","v":344},"m","±",{"$f":"IF(I932=1,H932*10^RANDBETWEEN(IF(Worksheet!$D$9,-1,0),0),IF(I932=2,H932*10^RANDBETWEEN(RANDBETWEEN(0,1),1),CHOOSE(RANDBETWEEN(1,3),5,10,20)))","v":40},{"$f":"IF(I932=1,D932,IF(I932=3,\"%\",\"cm\"))","v":"cm"},{"$f":"RANDBETWEEN(1,MIN(9,C932))","v":4},{"$f":"IF(AND(Worksheet!$D$8,RAND()<0.2),3,IF(RAND()<Worksheet!$D$7/100,1,2))","v":2},{"$f":"IF(I932=1,C932-F932,IF(I932=2,C932-F932/100,IF(I932=3,(1-F932/100)*C932,\"\")))","v":343.6},{"$f":"CONCATENATE(\" \",D932)","v":" m"},{"$f":"J932*100","v":34360},"cm",{"$f":"IF(I932=1,C932+F932,IF(I932=2,C932+F932/100,IF(I932=3,(1+F932/100)*C932,\"\")))","v":344.4},{"$f":"CONCATENATE(\" \",K932)","v":"  m"},{"$f":"N932*100","v":34440},"cm"]
[{"$f":"IF(COUNTIF($B$1:B933,TRUE)=COUNTIF($B$1:B932,TRUE),\"\",COUNTIF($B$1:B933,TRUE))","v":721},{"$f":"Worksheet!$B$13","v":true},{"$f":"RANDBETWEEN(5,RANDBETWEEN(5,Worksheet!$D$6))","v":93},"km","±",{"$f":"IF(I933=1,H933*10^RANDBETWEEN(IF(Worksheet!$D$9,-1,0),0),IF(I933=2,H933*10^RANDBETWEEN(RANDBETWEEN(0,2),2),CHOOSE(RANDBETWEEN(1,3),5,10,20)))","v":3},{"$f":"IF(I933=1,D933,IF(I933=3,\"%\",\"m\"))","v":"km"},3,{"$f":"IF(AND(Worksheet!$D$8,RAND()<0.2),3,IF(RAND()<Worksheet!$D$7/100,1,2))","v":1},{"$f":"IF(I933=1,C933-F933,IF(I933=2,C933-F933/1000,IF(I933=3,(1-F933/100)*C933,\"\")))","v":90}," km",{"$f":"J933*1000","v":90000},"m",{"$f":"IF(I933=1,C933+F933,IF(I933=2,C933+F933/1000,IF(I933=3,(1+F933/100)*C933,\"\")))","v":96},"  km",{"$f":"N933*1000","v":96000},"m"]
[{"$f":"IF(COUNTIF($B$1:B934,TRUE)=COUNTIF($B$1:B933,TRUE),\"\",COUNTIF($B$1:B934,TRUE))","v":""},{"$f":"Worksheet!$B$14","v":false},{"$f":"RANDBETWEEN(5,RANDBETWEEN(5,Worksheet!$D$6))","v":47},"m","±",{"$f":"IF(I934=1,H934*10^RANDBETWEEN(IF(Worksheet!$D$9,-1,0),0),IF(I934=2,H934*10^RANDBETWEEN(RANDBETWEEN(0,2),2),CHOOSE(RANDBETWEEN(1,3),5,10,20)))","v":20},{"$f":"IF(I934=1,D934,IF(I934=3,\"%\",\"mm\"))","v":"%"},9,{"$f":"IF(AND(Worksheet!$D$8,RAND()<0.2),3,IF(RAND()<Worksheet!$D$7/100,1,2))","v":3},{"$f":"IF(I934=1,C934-F934,IF(I934=2,C934-F934/1000,IF(I934=3,(1-F934/100)*C934,\"\")))","v":37.6}," m",{"$f":"J934*1000","v":37600},"mm",{"$f":"IF(I934=1,C934+F934,IF(I934=2,C934+F934/1000,IF(I934=3,(1+F934/100)*C934,\"\")))","v":56.4},"  m",{"$f":"N934*1000","v":56400},"mm"]
[{"$f":"IF(COUNTIF($B$1:B935,TRUE)=COUNTIF($B$1:B934,TRUE),\"\",COUNTIF($B$1:B935,TRUE))","v":722},{"$f":"Worksheet!$B$15","v":true},{"$f":"RANDBETWEEN(5,20)","v":7},"hours","±",{"$f":"IF(I935=1,H935*10^RANDBETWEEN(IF(Worksheet!$D$9,-1,0),0),IF(I935=2,H935,CHOOSE(RANDBETWEEN(1,3),5,10,20)))","v":7},{"$f":"IF(I935=1,D935,IF(I935=3,\"%\",\"min\"))","v":"min"},7,{"$f":"IF(AND(Worksheet!$D$8,RAND()<0),3,IF(RAND()<Worksheet!$D$7/100,1,2))","v":2},null," hours",{"$f":"IF(I935=1,C935-F935,IF(I935=2,C935*60-F935,\"\"))","v":413},{"$f":"IF($I935=1,\" hours\",\" min\")","v":" min"},null,"  hours",{"$f":"IF(I935=1,C935+F935,IF(I935=2,C935*60+F935,\"\"))","v":427},{"$f":"IF($I935=1,\" hours\",\" min\")","v":" min"}]
[{"$f":"IF(COUNTIF($B$1:B936,TRUE)=COUNTIF($B$1:B935,TRUE),\"\",COUNTIF($B$1:B936,TRUE))","v":723},{"$f":"Worksheet!$D$11","v":true},{"$f":"RANDBETWEEN(5,RANDBETWEEN(5,Worksheet!$D$6))","v":113},"kg","±",{"$f":"IF(I936=1,H936*10^RANDBETWEEN(IF(Worksheet!$D$9,-1,0),0),IF(I936=2,H936*10^RANDBETWEEN(RANDBETWEEN(0,2),2),CHOOSE(RANDBETWEEN(1,3),5,10,20)))","v":20},{"$f":"IF(I936=1,D936,IF(I936=3,\"%\",\"g\"))","v":"%"},9,{"$f":"IF(AND(Worksheet!$D$8,RAND()<0.2),3,IF(RAND()<Worksheet!$D$7/100,1,2))","v":3},{"$f":"IF(I936=1,C936-F936,IF(I936=2,C936-F936/1000,IF(I936=3,(1-F936/100)*C936,\"\")))","v":90.4}," kg",{"$f":"J936*1000","v":90400},"g",{"$f":"IF(I936=1,C936+F936,IF(I936=2,C936+F936/1000,IF(I936=3,(1+F936/100)*C936,\"\")))","v":135.6},"  kg",{"$f":"N936*1000","v":135600},"g"]
[{"$f":"IF(COUNTIF($B$1:B937,TRUE)=COUNTIF($B$1:B936,TRUE),\"\",COUNTIF($B$1:B937,TRUE))","v":724},{"$f":"Worksheet!$D$12","v":true},{"$f":"RANDBETWEEN(5,RANDBETWEEN(5,Worksheet!$D$6))","v":196},"tonnes","±",{"$f":"IF(I937=1,H937*10^RANDBETWEEN(IF(Worksheet!$D$9,-1,0),0),IF(I937=2,H937*10^RANDBETWEEN(RANDBETWEEN(0,2),2),CHOOSE(RANDBETWEEN(1,3),5,10,20)))","v":5},{"$f":"IF(I937=1,D937,IF(I937=3,\"%\",\"kg\"))","v":"%"},4,{"$f":"IF(AND(Worksheet!$D$8,RAND()<0.2),3,IF(RAND()<Worksheet!$D$7/100,1,2))","v":3},{"$f":"IF(I937=1,C937-F937,IF(I937=2,C937-F937/1000,IF(I937=3,(1-F937/100)*C937,\"\")))","v":186.2}," tonnes",{"$f":"J937*1000","v":186200},"kg",{"$f":"IF(I937=1,C937+F937,IF(I937=2,C937+F937/1000,IF(I937=3,(1+F937/100)*C937,\"\")))","v":205.8},"  tonnes",{"$f":"N937*1000","v":205800},"kg"]
[{"$f":"IF(COUNTIF($B$1:B938,TRUE)=COUNTIF($B$1:B937,TRUE),\"\",COUNTIF($B$1:B938,TRUE))","v":725},{"$f":"Worksheet!$D$13","v":true},{"$f":"RANDBETWEEN(5,RANDBETWEEN(5,Worksheet!$D$6))","v":20},"litres","±",{"$f":"IF(I938=1,H938*10^RANDBETWEEN(IF(Worksheet!$D$9,-1,0),0),IF(I938=2,H938*10^RANDBETWEEN(RANDBETWEEN(0,2),2),CHOOSE(RANDBETWEEN(1,3),5,10,20)))","v":20},{"$f":"IF(I938=1,D938,IF(I938=3,\"%\",\"ml\"))","v":"%"},4,{"$f":"IF(AND(Worksheet!$D$8,RAND()<0.2),3,IF(RAND()<Worksheet!$D$7/100,1,2))","v":3},{"$f":"IF(I938=1,C938-F938,IF(I938=2,C938-F938/1000,IF(I938=3,(1-F938/100)*C938,\"\")))","v":16}," litres",{"$f":"J938*1000","v":16000},"ml",{"$f":"IF(I938=1,C938+F938,IF(I938=2,C938+F938/1000,IF(I938=3,(1+F938/100)*C938,\"\")))","v":24},"  litres",{"$f":"N938*1000","v":24000},"ml"]
[{"$f":"IF(COUNTIF($B$1:B939,TRUE)=COUNTIF($B$1:B938,TRUE),\"\",COUNTIF($B$1:B939,TRUE))","v":726},{"$f":"Worksheet!$D$14","v":true},{"$f":"RANDBETWEEN(5,RANDBETWEEN(5,Worksheet!$D$6))","v":169},"litres","±",{"$f":"IF(I939=1,H939*10^RANDBETWEEN(IF(Worksheet!$D$9,-1,0),0),IF(I939=2,H939*10^RANDBETWEEN(RANDBETWEEN(0,2),2),CHOOSE(RANDBETWEEN(1,3),5,10,20)))","v":0.4},{"$f":"IF(I939=1,D939,IF(I939=3,\"%\",\"cm³\"))","v":"litres"},4,{"$f":"IF(AND(Worksheet!$D$8,RAND()<0.2),3,IF(RAND()<Worksheet!$D$7/100,1,2))","v":1},{"$f":"IF(I939=1,C939-F939,IF(I939=2,C939-F939/1000,IF(I939=3,(1-F939/100)*C939,\"\")))","v":168.6}," litres",{"$f":"J939*1000","v":168600},"cm³",{"$f":"IF(I939=1,C939+F939,IF(I939=2,C939+F939/1000,IF(I939=3,(1+F939/100)*C939,\"\")))","v":169.4},"  litres",{"$f":"N939*1000","v":169400},"cm³"]
[{"$f":"IF(COUNTIF($B$1:B940,TRUE)=COUNTIF($B$1:B939,TRUE),\"\",COUNTIF($B$1:B940,TRUE))","v":""},{"$f":"Worksheet!$D$15","v":false},{"$f":"RANDBETWEEN(5,20)","v":9},"min","±",{"$f":"IF(I940=1,H940*10^RANDBETWEEN(IF(Worksheet!$D$9,-1,0),0),IF(I940=2,H940,CHOOSE(RANDBETWEEN(1,3),5,10,20)))","v":2},{"$f":"IF(I940=1,D940,IF(I940=3,\"%\",\"sec\"))","v":"sec"},2,{"$f":"IF(AND(Worksheet!$D$8,RAND()<0),3,IF(RAND()<Worksheet!$D$7/100,1,2))","v":2},null," min",{"$f":"IF(I940=1,C940-F940,IF(I940=2,C940*60-F940,\"\"))","v":538},{"$f":"IF($I940=1,\" hours\",\" min\")","v":" min"},null,"  min",{"$f":"IF(I940=1,C940+F940,IF(I940=2,C940*60+F940,\"\"))","v":542},{"$f":"IF($I940=1,\" hours\",\" min\")","v":" min"}]
[{"$f":"COUNTIF($B$1:B941,TRUE)","v":727},{"$f":"Worksheet!$B$11","v":true},{"$f":"RANDBETWEEN(5,RANDBETWEEN(5,Worksheet!$D$6))","v":347},"cm","±",{"$f":"IF(I941=1,H941*10^RANDBETWEEN(IF(Worksheet!$D$9,-1,0),0),IF(I941=2,H941,CHOOSE(RANDBETWEEN(1,3),5,10,20)))","v":0.8},{"$f":"IF(I941=1,D941,IF(I941=3,\"%\",\"mm\"))","v":"cm"},{"$f":"RANDBETWEEN(1,MIN(9,C941))","v":8},{"$f":"IF(AND(Worksheet!$D$8,RAND()<0.2),3,IF(RAND()<Worksheet!$D$7/100,1,2))","v":1},{"$f":"IF(I941=1,C941-F941,IF(I941=2,C941-F941/10,IF(I941=3,(1-F941/100)*C941,\"\")))","v":346.2},{"$f":"CONCATENATE(\" \",D941)","v":" cm"},{"$f":"J941*10","v":3462},"mm",{"$f":"IF(I941=1,C941+F941,IF(I941=2,C941+F941/10,IF(I941=3,(1+F941/100)*C941,\"\")))","v":347.8},{"$f":"CONCATENATE(\" \",K941)","v":"  cm"},{"$f":"N941*10","v":3478},"mm"]
[{"$f":"IF(COUNTIF($B$1:B942,TRUE)=COUNTIF($B$1:B941,TRUE),\"\",COUNTIF($B$1:B942,TRUE))","v":728},{"$f":"Worksheet!$B$12","v":true},{"$f":"RANDBETWEEN(5,RANDBETWEEN(5,Worksheet!$D$6))","v":80},"m","±",{"$f":"IF(I942=1,H942*10^RANDBETWEEN(IF(Worksheet!$D$9,-1,0),0),IF(I942=2,H942*10^RANDBETWEEN(RANDBETWEEN(0,1),1),CHOOSE(RANDBETWEEN(1,3),5,10,20)))","v":4},{"$f":"IF(I942=1,D942,IF(I942=3,\"%\",\"cm\"))","v":"m"},{"$f":"RANDBETWEEN(1,MIN(9,C942))","v":4},{"$f":"IF(AND(Worksheet!$D$8,RAND()<0.2),3,IF(RAND()<Worksheet!$D$7/100,1,2))","v":1},{"$f":"IF(I942=1,C942-F942,IF(I942=2,C942-F942/100,IF(I942=3,(1-F942/100)*C942,\"\")))","v":76},{"$f":"CONCATENATE(\" \",D942)","v":" m"},{"$f":"J942*100","v":7600},"cm",{"$f":"IF(I942=1,C942+F942,IF(I942=2,C942+F942/100,IF(I942=3,(1+F942/100)*C942,\"\")))","v":84},{"$f":"CONCATENATE(\" \",K942)","v":"  m"},{"$f":"N942*100","v":8400},"cm"]
[{"$f":"IF(COUNTIF($B$1:B943,TRUE)=COUNTIF($B$1:B942,TRUE),\"\",COUNTIF($B$1:B943,TRUE))","v":729},{"$f":"Worksheet!$B$13","v":true},{"$f":"RANDBETWEEN(5,RANDBETWEEN(5,Worksheet!$D$6))","v":68},"km","±",{"$f":"IF(I943=1,H943*10^RANDBETWEEN(IF(Worksheet!$D$9,-1,0),0),IF(I943=2,H943*10^RANDBETWEEN(RANDBETWEEN(0,2),2),CHOOSE(RANDBETWEEN(1,3),5,10,20)))","v":0.60000000000000009},{"$f":"IF(I943=1,D943,IF(I943=3,\"%\",\"m\"))","v":"km"},6,{"$f":"IF(AND(Worksheet!$D$8,RAND()<0.2),3,IF(RAND()<Worksheet!$D$7/100,1,2))","v":1},{"$f":"IF(I943=1,C943-F943,IF(I943=2,C943-F943/1000,IF(I943=3,(1-F943/100)*C943,\"\")))","v":67.400000000000006}," km",{"$f":"J943*1000","v":67400},"m",{"$f":"IF(I943=1,C943+F943,IF(I943=2,C943+F943/1000,IF(I943=3,(1+F943/100)*C943,\"\")))","v":68.599999999999994},"  km",{"$f":"N943*1000","v":68600},"m"]
[{"$f":"IF(COUNTIF($B$1:B944,TRUE)=COUNTIF($B$1:B943,TRUE),\"\",COUNTIF($B$1:B944,TRUE))","v":""},{"$f":"Worksheet!$B$14","v":false},{"$f":"RANDBETWEEN(5,RANDBETWEEN(5,Worksheet!$D$6))","v":161},"m","±",{"$f":"IF(I944=1,H944*10^RANDBETWEEN(IF(Worksheet!$D$9,-1,0),0),IF(I944=2,H944*10^RANDBETWEEN(RANDBETWEEN(0,2),2),CHOOSE(RANDBETWEEN(1,3),5,10,20)))","v":6},{"$f":"IF(I944=1,D944,IF(I944=3,\"%\",\"mm\"))","v":"mm"},6,{"$f":"IF(AND(Worksheet!$D$8,RAND()<0.2),3,IF(RAND()<Worksheet!$D$7/100,1,2))","v":2},{"$f":"IF(I944=1,C944-F944,IF(I944=2,C944-F944/1000,IF(I944=3,(1-F944/100)*C944,\"\")))","v":160.994}," m",{"$f":"J944*1000","v":160994},"mm",{"$f":"IF(I944=1,C944+F944,IF(I944=2,C944+F944/1000,IF(I944=3,(1+F944/100)*C944,\"\")))","v":161.006},"  m",{"$f":"N944*1000","v":161006},"mm"]
[{"$f":"IF(COUNTIF($B$1:B945,TRUE)=COUNTIF($B$1:B944,TRUE),\"\",COUNTIF($B$1:B945,TRUE))","v":730},{"$f":"Worksheet!$B$15","v":true},{"$f":"RANDBETWEEN(5,20)","v":7},"hours","±",{"$f":"IF(I945=1,H945*10^RANDBETWEEN(IF(Worksheet!$D$9,-1,0),0),IF(I945=2,H945,CHOOSE(RANDBETWEEN(1,3),5,10,20)))","v":0.60000000000000009},{"$f":"IF(I945=1,D945,IF(I945=3,\"%\",\"min\"))","v":"hours"},6,{"$f":"IF(AND(Worksheet!$D$8,RAND()<0),3,IF(RAND()<Worksheet!$D$7/100,1,2))","v":1},null," hours",{"$f":"IF(I945=1,C945-F945,IF(I945=2,C945*60-F945,\"\"))","v":6.4},{"$f":"IF($I945=1,\" hours\",\" min\")","v":" hours"},null,"  hours",{"$f":"IF(I945=1,C945+F945,IF(I945=2,C945*60+F945,\"\"))","v":7.6},{"$f":"IF($I945=1,\" hours\",\" min\")","v":" hours"}]
[{"$f":"IF(COUNTIF($B$1:B946,TRUE)=COUNTIF($B$1:B945,TRUE),\"\",COUNTIF($B$1:B946,TRUE))","v":731},{"$f":"Worksheet!$D$11","v":true},{"$f":"RANDBETWEEN(5,RANDBETWEEN(5,Worksheet!$D$6))","v":103},"kg","±",{"$f":"IF(I946=1,H946*10^RANDBETWEEN(IF(Worksheet!$D$9,-1,0),0),IF(I946=2,H946*10^RANDBETWEEN(RANDBETWEEN(0,2),2),CHOOSE(RANDBETWEEN(1,3),5,10,20)))","v":0.2},{"$f":"IF(I946=1,D946,IF(I946=3,\"%\",\"g\"))","v":"kg"},2,{"$f":"IF(AND(Worksheet!$D$8,RAND()<0.2),3,IF(RAND()<Worksheet!$D$7/100,1,2))","v":1},{"$f":"IF(I946=1,C946-F946,IF(I946=2,C946-F946/1000,IF(I946=3,(1-F946/100)*C946,\"\")))","v":102.8}," kg",{"$f":"J946*1000","v":102800},"g",{"$f":"IF(I946=1,C946+F946,IF(I946=2,C946+F946/1000,IF(I946=3,(1+F946/100)*C946,\"\")))","v":103.2},"  kg",{"$f":"N946*1000","v":103200},"g"]
[{"$f":"IF(COUNTIF($B$1:B947,TRUE)=COUNTIF($B$1:B946,TRUE),\"\",COUNTIF($B$1:B947,TRUE))","v":732},{"$f":"Worksheet!$D$12","v":true},{"$f":"RANDBETWEEN(5,RANDBETWEEN(5,Worksheet!$D$6))","v":95},"tonnes","±",{"$f":"IF(I947=1,H947*10^RANDBETWEEN(IF(Worksheet!$D$9,-1,0),0),IF(I947=2,H947*10^RANDBETWEEN(RANDBETWEEN(0,2),2),CHOOSE(RANDBETWEEN(1,3),5,10,20)))","v":0.70000000000000007},{"$f":"IF(I947=1,D947,IF(I947=3,\"%\",\"kg\"))","v":"tonnes"},7,{"$f":"IF(AND(Worksheet!$D$8,RAND()<0.2),3,IF(RAND()<Worksheet!$D$7/100,1,2))","v":1},{"$f":"IF(I947=1,C947-F947,IF(I947=2,C947-F947/1000,IF(I947=3,(1-F947/100)*C947,\"\")))","v":94.3}," tonnes",{"$f":"J947*1000","v":94300},"kg",{"$f":"IF(I947=1,C947+F947,IF(I947=2,C947+F947/1000,IF(I947=3,(1+F947/100)*C947,\"\")))","v":95.7},"  tonnes",{"$f":"N947*1000","v":95700},"kg"]
[{"$f":"IF(COUNTIF($B$1:B948,TRUE)=COUNTIF($B$1:B947,TRUE),\"\",COUNTIF($B$1:B948,TRUE))","v":733},{"$f":"Worksheet!$D$13","v":true},{"$f":"RANDBETWEEN(5,RANDBETWEEN(5,Worksheet!$D$6))","v":21},"litres","±",{"$f":"IF(I948=1,H948*10^RANDBETWEEN(IF(Worksheet!$D$9,-1,0),0),IF(I948=2,H948*10^RANDBETWEEN(RANDBETWEEN(0,2),2),CHOOSE(RANDBETWEEN(1,3),5,10,20)))","v":0.8},{"$f":"IF(I948=1,D948,IF(I948=3,\"%\",\"ml\"))","v":"litres"},8,{"$f":"IF(AND(Worksheet!$D$8,RAND()<0.2),3,IF(RAND()<Worksheet!$D$7/100,1,2))","v":1},{"$f":"IF(I948=1,C948-F948,IF(I948=2,C948-F948/1000,IF(I948=3,(1-F948/100)*C948,\"\")))","v":20.2}," litres",{"$f":"J948*1000","v":20200},"ml",{"$f":"IF(I948=1,C948+F948,IF(I948=2,C948+F948/1000,IF(I948=3,(1+F948/100)*C948,\"\")))","v":21.8},"  litres",{"$f":"N948*1000","v":21800},"ml"]
[{"$f":"IF(COUNTIF($B$1:B949,TRUE)=COUNTIF($B$1:B948,TRUE),\"\",COUNTIF($B$1:B949,TRUE))","v":734},{"$f":"Worksheet!$D$14","v":true},{"$f":"RANDBETWEEN(5,RANDBETWEEN(5,Worksheet!$D$6))","v":11},"litres","±",{"$f":"IF(I949=1,H949*10^RANDBETWEEN(IF(Worksheet!$D$9,-1,0),0),IF(I949=2,H949*10^RANDBETWEEN(RANDBETWEEN(0,2),2),CHOOSE(RANDBETWEEN(1,3),5,10,20)))","v":0.5},{"$f":"IF(I949=1,D949,IF(I949=3,\"%\",\"cm³\"))","v":"litres"},5,{"$f":"IF(AND(Worksheet!$D$8,RAND()<0.2),3,IF(RAND()<Worksheet!$D$7/100,1,2))","v":1},{"$f":"IF(I949=1,C949-F949,IF(I949=2,C949-F949/1000,IF(I949=3,(1-F949/100)*C949,\"\")))","v":10.5}," litres",{"$f":"J949*1000","v":10500},"cm³",{"$f":"IF(I949=1,C949+F949,IF(I949=2,C949+F949/1000,IF(I949=3,(1+F949/100)*C949,\"\")))","v":11.5},"  litres",{"$f":"N949*1000","v":11500},"cm³"]
[{"$f":"IF(COUNTIF($B$1:B950,TRUE)=COUNTIF($B$1:B949,TRUE),\"\",COUNTIF($B$1:B950,TRUE))","v":""},{"$f":"Worksheet!$D$15","v":false},{"$f":"RANDBETWEEN(5,20)","v":5},"min","±",{"$f":"IF(I950=1,H950*10^RANDBETWEEN(IF(Worksheet!$D$9,-1,0),0),IF(I950=2,H950,CHOOSE(RANDBETWEEN(1,3),5,10,20)))","v":0.4},{"$f":"IF(I950=1,D950,IF(I950=3,\"%\",\"sec\"))","v":"min"},4,{"$f":"IF(AND(Worksheet!$D$8,RAND()<0),3,IF(RAND()<Worksheet!$D$7/100,1,2))","v":1},null," min",{"$f":"IF(I950=1,C950-F950,IF(I950=2,C950*60-F950,\"\"))","v":4.5999999999999996},{"$f":"IF($I950=1,\" hours\",\" min\")","v":" hours"},null,"  min",{"$f":"IF(I950=1,C950+F950,IF(I950=2,C950*60+F950,\"\"))","v":5.4},{"$f":"IF($I950=1,\" hours\",\" min\")","v":" hours"}]
[{"$f":"COUNTIF($B$1:B951,TRUE)","v":735},{"$f":"Worksheet!$B$11","v":true},{"$f":"RANDBETWEEN(5,RANDBETWEEN(5,Worksheet!$D$6))","v":15},"cm","±",{"$f":"IF(I951=1,H951*10^RANDBETWEEN(IF(Worksheet!$D$9,-1,0),0),IF(I951=2,H951,CHOOSE(RANDBETWEEN(1,3),5,10,20)))","v":1},{"$f":"IF(I951=1,D951,IF(I951=3,\"%\",\"mm\"))","v":"cm"},{"$f":"RANDBETWEEN(1,MIN(9,C951))","v":1},{"$f":"IF(AND(Worksheet!$D$8,RAND()<0.2),3,IF(RAND()<Worksheet!$D$7/100,1,2))","v":1},{"$f":"IF(I951=1,C951-F951,IF(I951=2,C951-F951/10,IF(I951=3,(1-F951/100)*C951,\"\")))","v":14},{"$f":"CONCATENATE(\" \",D951)","v":" cm"},{"$f":"J951*10","v":140},"mm",{"$f":"IF(I951=1,C951+F951,IF(I951=2,C951+F951/10,IF(I951=3,(1+F951/100)*C951,\"\")))","v":16},{"$f":"CONCATENATE(\" \",K951)","v":"  cm"},{"$f":"N951*10","v":160},"mm"]
[{"$f":"IF(COUNTIF($B$1:B952,TRUE)=COUNTIF($B$1:B951,TRUE),\"\",COUNTIF($B$1:B952,TRUE))","v":736},{"$f":"Worksheet!$B$12","v":true},{"$f":"RANDBETWEEN(5,RANDBETWEEN(5,Worksheet!$D$6))","v":13},"m","±",{"$f":"IF(I952=1,H952*10^RANDBETWEEN(IF(Worksheet!$D$9,-1,0),0),IF(I952=2,H952*10^RANDBETWEEN(RANDBETWEEN(0,1),1),CHOOSE(RANDBETWEEN(1,3),5,10,20)))","v":10},{"$f":"IF(I952=1,D952,IF(I952=3,\"%\",\"cm\"))","v":"%"},{"$f":"RANDBETWEEN(1,MIN(9,C952))","v":5},{"$f":"IF(AND(Worksheet!$D$8,RAND()<0.2),3,IF(RAND()<Worksheet!$D$7/100,1,2))","v":3},{"$f":"IF(I952=1,C952-F952,IF(I952=2,C952-F952/100,IF(I952=3,(1-F952/100)*C952,\"\")))","v":11.700000000000001},{"$f":"CONCATENATE(\" \",D952)","v":" m"},{"$f":"J952*100","v":1170},"cm",{"$f":"IF(I952=1,C952+F952,IF(I952=2,C952+F952/100,IF(I952=3,(1+F952/100)*C952,\"\")))","v":14.3},{"$f":"CONCATENATE(\" \",K952)","v":"  m"},{"$f":"N952*100","v":1430},"cm"]
[{"$f":"IF(COUNTIF($B$1:B953,TRUE)=COUNTIF($B$1:B952,TRUE),\"\",COUNTIF($B$1:B953,TRUE))","v":737},{"$f":"Worksheet!$B$13","v":true},{"$f":"RANDBETWEEN(5,RANDBETWEEN(5,Worksheet!$D$6))","v":74},"km","±",{"$f":"IF(I953=1,H953*10^RANDBETWEEN(IF(Worksheet!$D$9,-1,0),0),IF(I953=2,H953*10^RANDBETWEEN(RANDBETWEEN(0,2),2),CHOOSE(RANDBETWEEN(1,3),5,10,20)))","v":10},{"$f":"IF(I953=1,D953,IF(I953=3,\"%\",\"m\"))","v":"%"},9,{"$f":"IF(AND(Worksheet!$D$8,RAND()<0.2),3,IF(RAND()<Worksheet!$D$7/100,1,2))","v":3},{"$f":"IF(I953=1,C953-F953,IF(I953=2,C953-F953/1000,IF(I953=3,(1-F953/100)*C953,\"\")))","v":66.600000000000009}," km",{"$f":"J953*1000","v":66600.000000000015},"m",{"$f":"IF(I953=1,C953+F953,IF(I953=2,C953+F953/1000,IF(I953=3,(1+F953/100)*C953,\"\")))","v":81.400000000000006},"  km",{"$f":"N953*1000","v":81400},"m"]
[{"$f":"IF(COUNTIF($B$1:B954,TRUE)=COUNTIF($B$1:B953,TRUE),\"\",COUNTIF($B$1:B954,TRUE))","v":""},{"$f":"Worksheet!$B$14","v":false},{"$f":"RANDBETWEEN(5,RANDBETWEEN(5,Worksheet!$D$6))","v":39},"m","±",{"$f":"IF(I954=1,H954*10^RANDBETWEEN(IF(Worksheet!$D$9,-1,0),0),IF(I954=2,H954*10^RANDBETWEEN(RANDBETWEEN(0,2),2),CHOOSE(RANDBETWEEN(1,3),5,10,20)))","v":1},{"$f":"IF(I954=1,D954,IF(I954=3,\"%\",\"mm\"))","v":"m"},1,{"$f":"IF(AND(Worksheet!$D$8,RAND()<0.2),3,IF(RAND()<Worksheet!$D$7/100,1,2))","v":1},{"$f":"IF(I954=1,C954-F954,IF(I954=2,C954-F954/1000,IF(I954=3,(1-F954/100)*C954,\"\")))","v":38}," m",{"$f":"J954*1000","v":38000},"mm",{"$f":"IF(I954=1,C954+F954,IF(I954=2,C954+F954/1000,IF(I954=3,(1+F954/100)*C954,\"\")))","v":40},"  m",{"$f":"N954*1000","v":40000},"mm"]
[{"$f":"IF(COUNTIF($B$1:B955,TRUE)=COUNTIF($B$1:B954,TRUE),\"\",COUNTIF($B$1:B955,TRUE))","v":738},{"$f":"Worksheet!$B$15","v":true},{"$f":"RANDBETWEEN(5,20)","v":5},"hours","±",{"$f":"IF(I955=1,H955*10^RANDBETWEEN(IF(Worksheet!$D$9,-1,0),0),IF(I955=2,H955,CHOOSE(RANDBETWEEN(1,3),5,10,20)))","v":5},{"$f":"IF(I955=1,D955,IF(I955=3,\"%\",\"min\"))","v":"hours"},5,{"$f":"IF(AND(Worksheet!$D$8,RAND()<0),3,IF(RAND()<Worksheet!$D$7/100,1,2))","v":1},null," hours",{"$f":"IF(I955=1,C955-F955,IF(I955=2,C955*60-F955,\"\"))","v":0},{"$f":"IF($I955=1,\" hours\",\" min\")","v":" hours"},null,"  hours",{"$f":"IF(I955=1,C955+F955,IF(I955=2,C955*60+F955,\"\"))","v":10},{"$f":"IF($I955=1,\" hours\",\" min\")","v":" hours"}]
[{"$f":"IF(COUNTIF($B$1:B956,TRUE)=COUNTIF($B$1:B955,TRUE),\"\",COUNTIF($B$1:B956,TRUE))","v":739},{"$f":"Worksheet!$D$11","v":true},{"$f":"RANDBETWEEN(5,RANDBETWEEN(5,Worksheet!$D$6))","v":60},"kg","±",{"$f":"IF(I956=1,H956*10^RANDBETWEEN(IF(Worksheet!$D$9,-1,0),0),IF(I956=2,H956*10^RANDBETWEEN(RANDBETWEEN(0,2),2),CHOOSE(RANDBETWEEN(1,3),5,10,20)))","v":2},{"$f":"IF(I956=1,D956,IF(I956=3,\"%\",\"g\"))","v":"kg"},2,{"$f":"IF(AND(Worksheet!$D$8,RAND()<0.2),3,IF(RAND()<Worksheet!$D$7/100,1,2))","v":1},{"$f":"IF(I956=1,C956-F956,IF(I956=2,C956-F956/1000,IF(I956=3,(1-F956/100)*C956,\"\")))","v":58}," kg",{"$f":"J956*1000","v":58000},"g",{"$f":"IF(I956=1,C956+F956,IF(I956=2,C956+F956/1000,IF(I956=3,(1+F956/100)*C956,\"\")))","v":62},"  kg",{"$f":"N956*1000","v":62000},"g"]
[{"$f":"IF(COUNTIF($B$1:B957,TRUE)=COUNTIF($B$1:B956,TRUE),\"\",COUNTIF($B$1:B957,TRUE))","v":740},{"$f":"Worksheet!$D$12","v":true},{"$f":"RANDBETWEEN(5,RANDBETWEEN(5,Worksheet!$D$6))","v":86},"tonnes","±",{"$f":"IF(I957=1,H957*10^RANDBETWEEN(IF(Worksheet!$D$9,-1,0),0),IF(I957=2,H957*10^RANDBETWEEN(RANDBETWEEN(0,2),2),CHOOSE(RANDBETWEEN(1,3),5,10,20)))","v":0.30000000000000004},{"$f":"IF(I957=1,D957,IF(I957=3,\"%\",\"kg\"))","v":"tonnes"},3,{"$f":"IF(AND(Worksheet!$D$8,RAND()<0.2),3,IF(RAND()<Worksheet!$D$7/100,1,2))","v":1},{"$f":"IF(I957=1,C957-F957,IF(I957=2,C957-F957/1000,IF(I957=3,(1-F957/100)*C957,\"\")))","v":85.7}," tonnes",{"$f":"J957*1000","v":85700},"kg",{"$f":"IF(I957=1,C957+F957,IF(I957=2,C957+F957/1000,IF(I957=3,(1+F957/100)*C957,\"\")))","v":86.3},"  tonnes",{"$f":"N957*1000","v":86300},"kg"]
[{"$f":"IF(COUNTIF($B$1:B958,TRUE)=COUNTIF($B$1:B957,TRUE),\"\",COUNTIF($B$1:B958,TRUE))","v":741},{"$f":"Worksheet!$D$13","v":true},{"$f":"RANDBETWEEN(5,RANDBETWEEN(5,Worksheet!$D$6))","v":151},"litres","±",{"$f":"IF(I958=1,H958*10^RANDBETWEEN(IF(Worksheet!$D$9,-1,0),0),IF(I958=2,H958*10^RANDBETWEEN(RANDBETWEEN(0,2),2),CHOOSE(RANDBETWEEN(1,3),5,10,20)))","v":60},{"$f":"IF(I958=1,D958,IF(I958=3,\"%\",\"ml\"))","v":"ml"},6,{"$f":"IF(AND(Worksheet!$D$8,RAND()<0.2),3,IF(RAND()<Worksheet!$D$7/100,1,2))","v":2},{"$f":"IF(I958=1,C958-F958,IF(I958=2,C958-F958/1000,IF(I958=3,(1-F958/100)*C958,\"\")))","v":150.94}," litres",{"$f":"J958*1000","v":150940},"ml",{"$f":"IF(I958=1,C958+F958,IF(I958=2,C958+F958/1000,IF(I958=3,(1+F958/100)*C958,\"\")))","v":151.06},"  litres",{"$f":"N958*1000","v":151060},"ml"]
[{"$f":"IF(COUNTIF($B$1:B959,TRUE)=COUNTIF($B$1:B958,TRUE),\"\",COUNTIF($B$1:B959,TRUE))","v":742},{"$f":"Worksheet!$D$14","v":true},{"$f":"RANDBETWEEN(5,RANDBETWEEN(5,Worksheet!$D$6))","v":12},"litres","±",{"$f":"IF(I959=1,H959*10^RANDBETWEEN(IF(Worksheet!$D$9,-1,0),0),IF(I959=2,H959*10^RANDBETWEEN(RANDBETWEEN(0,2),2),CHOOSE(RANDBETWEEN(1,3),5,10,20)))","v":0.70000000000000007},{"$f":"IF(I959=1,D959,IF(I959=3,\"%\",\"cm³\"))","v":"litres"},7,{"$f":"IF(AND(Worksheet!$D$8,RAND()<0.2),3,IF(RAND()<Worksheet!$D$7/100,1,2))","v":1},{"$f":"IF(I959=1,C959-F959,IF(I959=2,C959-F959/1000,IF(I959=3,(1-F959/100)*C959,\"\")))","v":11.3}," litres",{"$f":"J959*1000","v":11300},"cm³",{"$f":"IF(I959=1,C959+F959,IF(I959=2,C959+F959/1000,IF(I959=3,(1+F959/100)*C959,\"\")))","v":12.7},"  litres",{"$f":"N959*1000","v":12700},"cm³"]
[{"$f":"IF(COUNTIF($B$1:B960,TRUE)=COUNTIF($B$1:B959,TRUE),\"\",COUNTIF($B$1:B960,TRUE))","v":""},{"$f":"Worksheet!$D$15","v":false},{"$f":"RANDBETWEEN(5,20)","v":15},"min","±",{"$f":"IF(I960=1,H960*10^RANDBETWEEN(IF(Worksheet!$D$9,-1,0),0),IF(I960=2,H960,CHOOSE(RANDBETWEEN(1,3),5,10,20)))","v":3},{"$f":"IF(I960=1,D960,IF(I960=3,\"%\",\"sec\"))","v":"sec"},3,{"$f":"IF(AND(Worksheet!$D$8,RAND()<0),3,IF(RAND()<Worksheet!$D$7/100,1,2))","v":2},null," min",{"$f":"IF(I960=1,C960-F960,IF(I960=2,C960*60-F960,\"\"))","v":897},{"$f":"IF($I960=1,\" hours\",\" min\")","v":" min"},null,"  min",{"$f":"IF(I960=1,C960+F960,IF(I960=2,C960*60+F960,\"\"))","v":903},{"$f":"IF($I960=1,\" hours\",\" min\")","v":" min"}]
[{"$f":"COUNTIF($B$1:B961,TRUE)","v":743},{"$f":"Worksheet!$B$11","v":true},{"$f":"RANDBETWEEN(5,RANDBETWEEN(5,Worksheet!$D$6))","v":88},"cm","±",{"$f":"IF(I961=1,H961*10^RANDBETWEEN(IF(Worksheet!$D$9,-1,0),0),IF(I961=2,H961,CHOOSE(RANDBETWEEN(1,3),5,10,20)))","v":1},{"$f":"IF(I961=1,D961,IF(I961=3,\"%\",\"mm\"))","v":"mm"},{"$f":"RANDBETWEEN(1,MIN(9,C961))","v":1},{"$f":"IF(AND(Worksheet!$D$8,RAND()<0.2),3,IF(RAND()<Worksheet!$D$7/100,1,2))","v":2},{"$f":"IF(I961=1,C961-F961,IF(I961=2,C961-F961/10,IF(I961=3,(1-F961/100)*C961,\"\")))","v":87.9},{"$f":"CONCATENATE(\" \",D961)","v":" cm"},{"$f":"J961*10","v":879},"mm",{"$f":"IF(I961=1,C961+F961,IF(I961=2,C961+F961/10,IF(I961=3,(1+F961/100)*C961,\"\")))","v":88.1},{"$f":"CONCATENATE(\" \",K961)","v":"  cm"},{"$f":"N961*10","v":881},"mm"]
[{"$f":"IF(COUNTIF($B$1:B962,TRUE)=COUNTIF($B$1:B961,TRUE),\"\",COUNTIF($B$1:B962,TRUE))","v":744},{"$f":"Worksheet!$B$12","v":true},{"$f":"RANDBETWEEN(5,RANDBETWEEN(5,Worksheet!$D$6))","v":75},"m","±",{"$f":"IF(I962=1,H962*10^RANDBETWEEN(IF(Worksheet!$D$9,-1,0),0),IF(I962=2,H962*10^RANDBETWEEN(RANDBETWEEN(0,1),1),CHOOSE(RANDBETWEEN(1,3),5,10,20)))","v":0.2},{"$f":"IF(I962=1,D962,IF(I962=3,\"%\",\"cm\"))","v":"m"},{"$f":"RANDBETWEEN(1,MIN(9,C962))","v":2},{"$f":"IF(AND(Worksheet!$D$8,RAND()<0.2),3,IF(RAND()<Worksheet!$D$7/100,1,2))","v":1},{"$f":"IF(I962=1,C962-F962,IF(I962=2,C962-F962/100,IF(I962=3,(1-F962/100)*C962,\"\")))","v":74.8},{"$f":"CONCATENATE(\" \",D962)","v":" m"},{"$f":"J962*100","v":7480},"cm",{"$f":"IF(I962=1,C962+F962,IF(I962=2,C962+F962/100,IF(I962=3,(1+F962/100)*C962,\"\")))","v":75.2},{"$f":"CONCATENATE(\" \",K962)","v":"  m"},{"$f":"N962*100","v":7520},"cm"]
[{"$f":"IF(COUNTIF($B$1:B963,TRUE)=COUNTIF($B$1:B962,TRUE),\"\",COUNTIF($B$1:B963,TRUE))","v":745},{"$f":"Worksheet!$B$13","v":true},{"$f":"RANDBETWEEN(5,RANDBETWEEN(5,Worksheet!$D$6))","v":67},"km","±",{"$f":"IF(I963=1,H963*10^RANDBETWEEN(IF(Worksheet!$D$9,-1,0),0),IF(I963=2,H963*10^RANDBETWEEN(RANDBETWEEN(0,2),2),CHOOSE(RANDBETWEEN(1,3),5,10,20)))","v":0.30000000000000004},{"$f":"IF(I963=1,D963,IF(I963=3,\"%\",\"m\"))","v":"km"},3,{"$f":"IF(AND(Worksheet!$D$8,RAND()<0.2),3,IF(RAND()<Worksheet!$D$7/100,1,2))","v":1},{"$f":"IF(I963=1,C963-F963,IF(I963=2,C963-F963/1000,IF(I963=3,(1-F963/100)*C963,\"\")))","v":66.7}," km",{"$f":"J963*1000","v":66700},"m",{"$f":"IF(I963=1,C963+F963,IF(I963=2,C963+F963/1000,IF(I963=3,(1+F963/100)*C963,\"\")))","v":67.3},"  km",{"$f":"N963*1000","v":67300},"m"]
[{"$f":"IF(COUNTIF($B$1:B964,TRUE)=COUNTIF($B$1:B963,TRUE),\"\",COUNTIF($B$1:B964,TRUE))","v":""},{"$f":"Worksheet!$B$14","v":false},{"$f":"RANDBETWEEN(5,RANDBETWEEN(5,Worksheet!$D$6))","v":43},"m","±",{"$f":"IF(I964=1,H964*10^RANDBETWEEN(IF(Worksheet!$D$9,-1,0),0),IF(I964=2,H964*10^RANDBETWEEN(RANDBETWEEN(0,2),2),CHOOSE(RANDBETWEEN(1,3),5,10,20)))","v":0.70000000000000007},{"$f":"IF(I964=1,D964,IF(I964=3,\"%\",\"mm\"))","v":"m"},7,{"$f":"IF(AND(Worksheet!$D$8,RAND()<0.2),3,IF(RAND()<Worksheet!$D$7/100,1,2))","v":1},{"$f":"IF(I964=1,C964-F964,IF(I964=2,C964-F964/1000,IF(I964=3,(1-F964/100)*C964,\"\")))","v":42.3}," m",{"$f":"J964*1000","v":42300},"mm",{"$f":"IF(I964=1,C964+F964,IF(I964=2,C964+F964/1000,IF(I964=3,(1+F964/100)*C964,\"\")))","v":43.7},"  m",{"$f":"N964*1000","v":43700},"mm"]
[{"$f":"IF(COUNTIF($B$1:B965,TRUE)=COUNTIF($B$1:B964,TRUE),\"\",COUNTIF($B$1:B965,TRUE))","v":746},{"$f":"Worksheet!$B$15","v":true},{"$f":"RANDBETWEEN(5,20)","v":6},"hours","±",{"$f":"IF(I965=1,H965*10^RANDBETWEEN(IF(Worksheet!$D$9,-1,0),0),IF(I965=2,H965,CHOOSE(RANDBETWEEN(1,3),5,10,20)))","v":5},{"$f":"IF(I965=1,D965,IF(I965=3,\"%\",\"min\"))","v":"min"},5,{"$f":"IF(AND(Worksheet!$D$8,RAND()<0),3,IF(RAND()<Worksheet!$D$7/100,1,2))","v":2},null," hours",{"$f":"IF(I965=1,C965-F965,IF(I965=2,C965*60-F965,\"\"))","v":355},{"$f":"IF($I965=1,\" hours\",\" min\")","v":" min"},null,"  hours",{"$f":"IF(I965=1,C965+F965,IF(I965=2,C965*60+F965,\"\"))","v":365},{"$f":"IF($I965=1,\" hours\",\" min\")","v":" min"}]
[{"$f":"IF(COUNTIF($B$1:B966,TRUE)=COUNTIF($B$1:B965,TRUE),\"\",COUNTIF($B$1:B966,TRUE))","v":747},{"$f":"Worksheet!$D$11","v":true},{"$f":"RANDBETWEEN(5,RANDBETWEEN(5,Worksheet!$D$6))","v":241},"kg","±",{"$f":"IF(I966=1,H966*10^RANDBETWEEN(IF(Worksheet!$D$9,-1,0),0),IF(I966=2,H966*10^RANDBETWEEN(RANDBETWEEN(0,2),2),CHOOSE(RANDBETWEEN(1,3),5,10,20)))","v":0.70000000000000007},{"$f":"IF(I966=1,D966,IF(I966=3,\"%\",\"g\"))","v":"kg"},7,{"$f":"IF(AND(Worksheet!$D$8,RAND()<0.2),3,IF(RAND()<Worksheet!$D$7/100,1,2))","v":1},{"$f":"IF(I966=1,C966-F966,IF(I966=2,C966-F966/1000,IF(I966=3,(1-F966/100)*C966,\"\")))","v":240.3}," kg",{"$f":"J966*1000","v":240300},"g",{"$f":"IF(I966=1,C966+F966,IF(I966=2,C966+F966/1000,IF(I966=3,(1+F966/100)*C966,\"\")))","v":241.7},"  kg",{"$f":"N966*1000","v":241700},"g"]
[{"$f":"IF(COUNTIF($B$1:B967,TRUE)=COUNTIF($B$1:B966,TRUE),\"\",COUNTIF($B$1:B967,TRUE))","v":748},{"$f":"Worksheet!$D$12","v":true},{"$f":"RANDBETWEEN(5,RANDBETWEEN(5,Worksheet!$D$6))","v":246},"tonnes","±",{"$f":"IF(I967=1,H967*10^RANDBETWEEN(IF(Worksheet!$D$9,-1,0),0),IF(I967=2,H967*10^RANDBETWEEN(RANDBETWEEN(0,2),2),CHOOSE(RANDBETWEEN(1,3),5,10,20)))","v":10},{"$f":"IF(I967=1,D967,IF(I967=3,\"%\",\"kg\"))","v":"%"},8,{"$f":"IF(AND(Worksheet!$D$8,RAND()<0.2),3,IF(RAND()<Worksheet!$D$7/100,1,2))","v":3},{"$f":"IF(I967=1,C967-F967,IF(I967=2,C967-F967/1000,IF(I967=3,(1-F967/100)*C967,\"\")))","v":221.4}," tonnes",{"$f":"J967*1000","v":221400},"kg",{"$f":"IF(I967=1,C967+F967,IF(I967=2,C967+F967/1000,IF(I967=3,(1+F967/100)*C967,\"\")))","v":270.60000000000002},"  tonnes",{"$f":"N967*1000","v":270600},"kg"]
[{"$f":"IF(COUNTIF($B$1:B968,TRUE)=COUNTIF($B$1:B967,TRUE),\"\",COUNTIF($B$1:B968,TRUE))","v":749},{"$f":"Worksheet!$D$13","v":true},{"$f":"RANDBETWEEN(5,RANDBETWEEN(5,Worksheet!$D$6))","v":30},"litres","±",{"$f":"IF(I968=1,H968*10^RANDBETWEEN(IF(Worksheet!$D$9,-1,0),0),IF(I968=2,H968*10^RANDBETWEEN(RANDBETWEEN(0,2),2),CHOOSE(RANDBETWEEN(1,3),5,10,20)))","v":10},{"$f":"IF(I968=1,D968,IF(I968=3,\"%\",\"ml\"))","v":"%"},7,{"$f":"IF(AND(Worksheet!$D$8,RAND()<0.2),3,IF(RAND()<Worksheet!$D$7/100,1,2))","v":3},{"$f":"IF(I968=1,C968-F968,IF(I968=2,C968-F968/1000,IF(I968=3,(1-F968/100)*C968,\"\")))","v":27}," litres",{"$f":"J968*1000","v":27000},"ml",{"$f":"IF(I968=1,C968+F968,IF(I968=2,C968+F968/1000,IF(I968=3,(1+F968/100)*C968,\"\")))","v":33},"  litres",{"$f":"N968*1000","v":33000},"ml"]
[{"$f":"IF(COUNTIF($B$1:B969,TRUE)=COUNTIF($B$1:B968,TRUE),\"\",COUNTIF($B$1:B969,TRUE))","v":750},{"$f":"Worksheet!$D$14","v":true},{"$f":"RANDBETWEEN(5,RANDBETWEEN(5,Worksheet!$D$6))","v":101},"litres","±",{"$f":"IF(I969=1,H969*10^RANDBETWEEN(IF(Worksheet!$D$9,-1,0),0),IF(I969=2,H969*10^RANDBETWEEN(RANDBETWEEN(0,2),2),CHOOSE(RANDBETWEEN(1,3),5,10,20)))","v":10},{"$f":"IF(I969=1,D969,IF(I969=3,\"%\",\"cm³\"))","v":"%"},2,{"$f":"IF(AND(Worksheet!$D$8,RAND()<0.2),3,IF(RAND()<Worksheet!$D$7/100,1,2))","v":3},{"$f":"IF(I969=1,C969-F969,IF(I969=2,C969-F969/1000,IF(I969=3,(1-F969/100)*C969,\"\")))","v":90.9}," litres",{"$f":"J969*1000","v":90900},"cm³",{"$f":"IF(I969=1,C969+F969,IF(I969=2,C969+F969/1000,IF(I969=3,(1+F969/100)*C969,\"\")))","v":111.10000000000001},"  litres",{"$f":"N969*1000","v":111100.00000000001},"cm³"]
[{"$f":"IF(COUNTIF($B$1:B970,TRUE)=COUNTIF($B$1:B969,TRUE),\"\",COUNTIF($B$1:B970,TRUE))","v":""},{"$f":"Worksheet!$D$15","v":false},{"$f":"RANDBETWEEN(5,20)","v":11},"min","±",{"$f":"IF(I970=1,H970*10^RANDBETWEEN(IF(Worksheet!$D$9,-1,0),0),IF(I970=2,H970,CHOOSE(RANDBETWEEN(1,3),5,10,20)))","v":0.30000000000000004},{"$f":"IF(I970=1,D970,IF(I970=3,\"%\",\"sec\"))","v":"min"},3,{"$f":"IF(AND(Worksheet!$D$8,RAND()<0),3,IF(RAND()<Worksheet!$D$7/100,1,2))","v":1},null," min",{"$f":"IF(I970=1,C970-F970,IF(I970=2,C970*60-F970,\"\"))","v":10.7},{"$f":"IF($I970=1,\" hours\",\" min\")","v":" hours"},null,"  min",{"$f":"IF(I970=1,C970+F970,IF(I970=2,C970*60+F970,\"\"))","v":11.3},{"$f":"IF($I970=1,\" hours\",\" min\")","v":" hours"}]
[{"$f":"COUNTIF($B$1:B971,TRUE)","v":751},{"$f":"Worksheet!$B$11","v":true},{"$f":"RANDBETWEEN(5,RANDBETWEEN(5,Worksheet!$D$6))","v":246},"cm","±",{"$f":"IF(I971=1,H971*10^RANDBETWEEN(IF(Worksheet!$D$9,-1,0),0),IF(I971=2,H971,CHOOSE(RANDBETWEEN(1,3),5,10,20)))","v":0.5},{"$f":"IF(I971=1,D971,IF(I971=3,\"%\",\"mm\"))","v":"cm"},{"$f":"RANDBETWEEN(1,MIN(9,C971))","v":5},{"$f":"IF(AND(Worksheet!$D$8,RAND()<0.2),3,IF(RAND()<Worksheet!$D$7/100,1,2))","v":1},{"$f":"IF(I971=1,C971-F971,IF(I971=2,C971-F971/10,IF(I971=3,(1-F971/100)*C971,\"\")))","v":245.5},{"$f":"CONCATENATE(\" \",D971)","v":" cm"},{"$f":"J971*10","v":2455},"mm",{"$f":"IF(I971=1,C971+F971,IF(I971=2,C971+F971/10,IF(I971=3,(1+F971/100)*C971,\"\")))","v":246.5},{"$f":"CONCATENATE(\" \",K971)","v":"  cm"},{"$f":"N971*10","v":2465},"mm"]
[{"$f":"IF(COUNTIF($B$1:B972,TRUE)=COUNTIF($B$1:B971,TRUE),\"\",COUNTIF($B$1:B972,TRUE))","v":752},{"$f":"Worksheet!$B$12","v":true},{"$f":"RANDBETWEEN(5,RANDBETWEEN(5,Worksheet!$D$6))","v":202},"m","±",{"$f":"IF(I972=1,H972*10^RANDBETWEEN(IF(Worksheet!$D$9,-1,0),0),IF(I972=2,H972*10^RANDBETWEEN(RANDBETWEEN(0,1),1),CHOOSE(RANDBETWEEN(1,3),5,10,20)))","v":0.60000000000000009},{"$f":"IF(I972=1,D972,IF(I972=3,\"%\",\"cm\"))","v":"m"},{"$f":"RANDBETWEEN(1,MIN(9,C972))","v":6},{"$f":"IF(AND(Worksheet!$D$8,RAND()<0.2),3,IF(RAND()<Worksheet!$D$7/100,1,2))","v":1},{"$f":"IF(I972=1,C972-F972,IF(I972=2,C972-F972/100,IF(I972=3,(1-F972/100)*C972,\"\")))","v":201.4},{"$f":"CONCATENATE(\" \",D972)","v":" m"},{"$f":"J972*100","v":20140},"cm",{"$f":"IF(I972=1,C972+F972,IF(I972=2,C972+F972/100,IF(I972=3,(1+F972/100)*C972,\"\")))","v":202.6},{"$f":"CONCATENATE(\" \",K972)","v":"  m"},{"$f":"N972*100","v":20260},"cm"]
[{"$f":"IF(COUNTIF($B$1:B973,TRUE)=COUNTIF($B$1:B972,TRUE),\"\",COUNTIF($B$1:B973,TRUE))","v":753},{"$f":"Worksheet!$B$13","v":true},{"$f":"RANDBETWEEN(5,RANDBETWEEN(5,Worksheet!$D$6))","v":114},"km","±",{"$f":"IF(I973=1,H973*10^RANDBETWEEN(IF(Worksheet!$D$9,-1,0),0),IF(I973=2,H973*10^RANDBETWEEN(RANDBETWEEN(0,2),2),CHOOSE(RANDBETWEEN(1,3),5,10,20)))","v":40},{"$f":"IF(I973=1,D973,IF(I973=3,\"%\",\"m\"))","v":"m"},4,{"$f":"IF(AND(Worksheet!$D$8,RAND()<0.2),3,IF(RAND()<Worksheet!$D$7/100,1,2))","v":2},{"$f":"IF(I973=1,C973-F973,IF(I973=2,C973-F973/1000,IF(I973=3,(1-F973/100)*C973,\"\")))","v":113.96}," km",{"$f":"J973*1000","v":113960},"m",{"$f":"IF(I973=1,C973+F973,IF(I973=2,C973+F973/1000,IF(I973=3,(1+F973/100)*C973,\"\")))","v":114.04},"  km",{"$f":"N973*1000","v":114040},"m"]
[{"$f":"IF(COUNTIF($B$1:B974,TRUE)=COUNTIF($B$1:B973,TRUE),\"\",COUNTIF($B$1:B974,TRUE))","v":""},{"$f":"Worksheet!$B$14","v":false},{"$f":"RANDBETWEEN(5,RANDBETWEEN(5,Worksheet!$D$6))","v":175},"m","±",{"$f":"IF(I974=1,H974*10^RANDBETWEEN(IF(Worksheet!$D$9,-1,0),0),IF(I974=2,H974*10^RANDBETWEEN(RANDBETWEEN(0,2),2),CHOOSE(RANDBETWEEN(1,3),5,10,20)))","v":0.70000000000000007},{"$f":"IF(I974=1,D974,IF(I974=3,\"%\",\"mm\"))","v":"m"},7,{"$f":"IF(AND(Worksheet!$D$8,RAND()<0.2),3,IF(RAND()<Worksheet!$D$7/100,1,2))","v":1},{"$f":"IF(I974=1,C974-F974,IF(I974=2,C974-F974/1000,IF(I974=3,(1-F974/100)*C974,\"\")))","v":174.3}," m",{"$f":"J974*1000","v":174300},"mm",{"$f":"IF(I974=1,C974+F974,IF(I974=2,C974+F974/1000,IF(I974=3,(1+F974/100)*C974,\"\")))","v":175.7},"  m",{"$f":"N974*1000","v":175700},"mm"]
[{"$f":"IF(COUNTIF($B$1:B975,TRUE)=COUNTIF($B$1:B974,TRUE),\"\",COUNTIF($B$1:B975,TRUE))","v":754},{"$f":"Worksheet!$B$15","v":true},{"$f":"RANDBETWEEN(5,20)","v":13},"hours","±",{"$f":"IF(I975=1,H975*10^RANDBETWEEN(IF(Worksheet!$D$9,-1,0),0),IF(I975=2,H975,CHOOSE(RANDBETWEEN(1,3),5,10,20)))","v":0.60000000000000009},{"$f":"IF(I975=1,D975,IF(I975=3,\"%\",\"min\"))","v":"hours"},6,{"$f":"IF(AND(Worksheet!$D$8,RAND()<0),3,IF(RAND()<Worksheet!$D$7/100,1,2))","v":1},null," hours",{"$f":"IF(I975=1,C975-F975,IF(I975=2,C975*60-F975,\"\"))","v":12.4},{"$f":"IF($I975=1,\" hours\",\" min\")","v":" hours"},null,"  hours",{"$f":"IF(I975=1,C975+F975,IF(I975=2,C975*60+F975,\"\"))","v":13.6},{"$f":"IF($I975=1,\" hours\",\" min\")","v":" hours"}]
[{"$f":"IF(COUNTIF($B$1:B976,TRUE)=COUNTIF($B$1:B975,TRUE),\"\",COUNTIF($B$1:B976,TRUE))","v":755},{"$f":"Worksheet!$D$11","v":true},{"$f":"RANDBETWEEN(5,RANDBETWEEN(5,Worksheet!$D$6))","v":67},"kg","±",{"$f":"IF(I976=1,H976*10^RANDBETWEEN(IF(Worksheet!$D$9,-1,0),0),IF(I976=2,H976*10^RANDBETWEEN(RANDBETWEEN(0,2),2),CHOOSE(RANDBETWEEN(1,3),5,10,20)))","v":9},{"$f":"IF(I976=1,D976,IF(I976=3,\"%\",\"g\"))","v":"kg"},9,{"$f":"IF(AND(Worksheet!$D$8,RAND()<0.2),3,IF(RAND()<Worksheet!$D$7/100,1,2))","v":1},{"$f":"IF(I976=1,C976-F976,IF(I976=2,C976-F976/1000,IF(I976=3,(1-F976/100)*C976,\"\")))","v":58}," kg",{"$f":"J976*1000","v":58000},"g",{"$f":"IF(I976=1,C976+F976,IF(I976=2,C976+F976/1000,IF(I976=3,(1+F976/100)*C976,\"\")))","v":76},"  kg",{"$f":"N976*1000","v":76000},"g"]
[{"$f":"IF(COUNTIF($B$1:B977,TRUE)=COUNTIF($B$1:B976,TRUE),\"\",COUNTIF($B$1:B977,TRUE))","v":756},{"$f":"Worksheet!$D$12","v":true},{"$f":"RANDBETWEEN(5,RANDBETWEEN(5,Worksheet!$D$6))","v":47},"tonnes","±",{"$f":"IF(I977=1,H977*10^RANDBETWEEN(IF(Worksheet!$D$9,-1,0),0),IF(I977=2,H977*10^RANDBETWEEN(RANDBETWEEN(0,2),2),CHOOSE(RANDBETWEEN(1,3),5,10,20)))","v":0.5},{"$f":"IF(I977=1,D977,IF(I977=3,\"%\",\"kg\"))","v":"tonnes"},5,{"$f":"IF(AND(Worksheet!$D$8,RAND()<0.2),3,IF(RAND()<Worksheet!$D$7/100,1,2))","v":1},{"$f":"IF(I977=1,C977-F977,IF(I977=2,C977-F977/1000,IF(I977=3,(1-F977/100)*C977,\"\")))","v":46.5}," tonnes",{"$f":"J977*1000","v":46500},"kg",{"$f":"IF(I977=1,C977+F977,IF(I977=2,C977+F977/1000,IF(I977=3,(1+F977/100)*C977,\"\")))","v":47.5},"  tonnes",{"$f":"N977*1000","v":47500},"kg"]
[{"$f":"IF(COUNTIF($B$1:B978,TRUE)=COUNTIF($B$1:B977,TRUE),\"\",COUNTIF($B$1:B978,TRUE))","v":757},{"$f":"Worksheet!$D$13","v":true},{"$f":"RANDBETWEEN(5,RANDBETWEEN(5,Worksheet!$D$6))","v":149},"litres","±",{"$f":"IF(I978=1,H978*10^RANDBETWEEN(IF(Worksheet!$D$9,-1,0),0),IF(I978=2,H978*10^RANDBETWEEN(RANDBETWEEN(0,2),2),CHOOSE(RANDBETWEEN(1,3),5,10,20)))","v":5},{"$f":"IF(I978=1,D978,IF(I978=3,\"%\",\"ml\"))","v":"%"},9,{"$f":"IF(AND(Worksheet!$D$8,RAND()<0.2),3,IF(RAND()<Worksheet!$D$7/100,1,2))","v":3},{"$f":"IF(I978=1,C978-F978,IF(I978=2,C978-F978/1000,IF(I978=3,(1-F978/100)*C978,\"\")))","v":141.54999999999998}," litres",{"$f":"J978*1000","v":141549.99999999997},"ml",{"$f":"IF(I978=1,C978+F978,IF(I978=2,C978+F978/1000,IF(I978=3,(1+F978/100)*C978,\"\")))","v":156.45000000000002},"  litres",{"$f":"N978*1000","v":156450.00000000003},"ml"]
[{"$f":"IF(COUNTIF($B$1:B979,TRUE)=COUNTIF($B$1:B978,TRUE),\"\",COUNTIF($B$1:B979,TRUE))","v":758},{"$f":"Worksheet!$D$14","v":true},{"$f":"RANDBETWEEN(5,RANDBETWEEN(5,Worksheet!$D$6))","v":326},"litres","±",{"$f":"IF(I979=1,H979*10^RANDBETWEEN(IF(Worksheet!$D$9,-1,0),0),IF(I979=2,H979*10^RANDBETWEEN(RANDBETWEEN(0,2),2),CHOOSE(RANDBETWEEN(1,3),5,10,20)))","v":800},{"$f":"IF(I979=1,D979,IF(I979=3,\"%\",\"cm³\"))","v":"cm³"},8,{"$f":"IF(AND(Worksheet!$D$8,RAND()<0.2),3,IF(RAND()<Worksheet!$D$7/100,1,2))","v":2},{"$f":"IF(I979=1,C979-F979,IF(I979=2,C979-F979/1000,IF(I979=3,(1-F979/100)*C979,\"\")))","v":325.2}," litres",{"$f":"J979*1000","v":325200},"cm³",{"$f":"IF(I979=1,C979+F979,IF(I979=2,C979+F979/1000,IF(I979=3,(1+F979/100)*C979,\"\")))","v":326.8},"  litres",{"$f":"N979*1000","v":326800},"cm³"]
[{"$f":"IF(COUNTIF($B$1:B980,TRUE)=COUNTIF($B$1:B979,TRUE),\"\",COUNTIF($B$1:B980,TRUE))","v":""},{"$f":"Worksheet!$D$15","v":false},{"$f":"RANDBETWEEN(5,20)","v":20},"min","±",{"$f":"IF(I980=1,H980*10^RANDBETWEEN(IF(Worksheet!$D$9,-1,0),0),IF(I980=2,H980,CHOOSE(RANDBETWEEN(1,3),5,10,20)))","v":1},{"$f":"IF(I980=1,D980,IF(I980=3,\"%\",\"sec\"))","v":"min"},1,{"$f":"IF(AND(Worksheet!$D$8,RAND()<0),3,IF(RAND()<Worksheet!$D$7/100,1,2))","v":1},null," min",{"$f":"IF(I980=1,C980-F980,IF(I980=2,C980*60-F980,\"\"))","v":19},{"$f":"IF($I980=1,\" hours\",\" min\")","v":" hours"},null,"  min",{"$f":"IF(I980=1,C980+F980,IF(I980=2,C980*60+F980,\"\"))","v":21},{"$f":"IF($I980=1,\" hours\",\" min\")","v":" hours"}]
[{"$f":"COUNTIF($B$1:B981,TRUE)","v":759},{"$f":"Worksheet!$B$11","v":true},{"$f":"RANDBETWEEN(5,RANDBETWEEN(5,Worksheet!$D$6))","v":8},"cm","±",{"$f":"IF(I981=1,H981*10^RANDBETWEEN(IF(Worksheet!$D$9,-1,0),0),IF(I981=2,H981,CHOOSE(RANDBETWEEN(1,3),5,10,20)))","v":0.2},{"$f":"IF(I981=1,D981,IF(I981=3,\"%\",\"mm\"))","v":"cm"},{"$f":"RANDBETWEEN(1,MIN(9,C981))","v":2},{"$f":"IF(AND(Worksheet!$D$8,RAND()<0.2),3,IF(RAND()<Worksheet!$D$7/100,1,2))","v":1},{"$f":"IF(I981=1,C981-F981,IF(I981=2,C981-F981/10,IF(I981=3,(1-F981/100)*C981,\"\")))","v":7.8},{"$f":"CONCATENATE(\" \",D981)","v":" cm"},{"$f":"J981*10","v":78},"mm",{"$f":"IF(I981=1,C981+F981,IF(I981=2,C981+F981/10,IF(I981=3,(1+F981/100)*C981,\"\")))","v":8.1999999999999993},{"$f":"CONCATENATE(\" \",K981)","v":"  cm"},{"$f":"N981*10","v":82},"mm"]
[{"$f":"IF(COUNTIF($B$1:B982,TRUE)=COUNTIF($B$1:B981,TRUE),\"\",COUNTIF($B$1:B982,TRUE))","v":760},{"$f":"Worksheet!$B$12","v":true},{"$f":"RANDBETWEEN(5,RANDBETWEEN(5,Worksheet!$D$6))","v":208},"m","±",{"$f":"IF(I982=1,H982*10^RANDBETWEEN(IF(Worksheet!$D$9,-1,0),0),IF(I982=2,H982*10^RANDBETWEEN(RANDBETWEEN(0,1),1),CHOOSE(RANDBETWEEN(1,3),5,10,20)))","v":0.70000000000000007},{"$f":"IF(I982=1,D982,IF(I982=3,\"%\",\"cm\"))","v":"m"},{"$f":"RANDBETWEEN(1,MIN(9,C982))","v":7},{"$f":"IF(AND(Worksheet!$D$8,RAND()<0.2),3,IF(RAND()<Worksheet!$D$7/100,1,2))","v":1},{"$f":"IF(I982=1,C982-F982,IF(I982=2,C982-F982/100,IF(I982=3,(1-F982/100)*C982,\"\")))","v":207.3},{"$f":"CONCATENATE(\" \",D982)","v":" m"},{"$f":"J982*100","v":20730},"cm",{"$f":"IF(I982=1,C982+F982,IF(I982=2,C982+F982/100,IF(I982=3,(1+F982/100)*C982,\"\")))","v":208.7},{"$f":"CONCATENATE(\" \",K982)","v":"  m"},{"$f":"N982*100","v":20870},"cm"]
[{"$f":"IF(COUNTIF($B$1:B983,TRUE)=COUNTIF($B$1:B982,TRUE),\"\",COUNTIF($B$1:B983,TRUE))","v":761},{"$f":"Worksheet!$B$13","v":true},{"$f":"RANDBETWEEN(5,RANDBETWEEN(5,Worksheet!$D$6))","v":100},"km","±",{"$f":"IF(I983=1,H983*10^RANDBETWEEN(IF(Worksheet!$D$9,-1,0),0),IF(I983=2,H983*10^RANDBETWEEN(RANDBETWEEN(0,2),2),CHOOSE(RANDBETWEEN(1,3),5,10,20)))","v":0.4},{"$f":"IF(I983=1,D983,IF(I983=3,\"%\",\"m\"))","v":"km"},4,{"$f":"IF(AND(Worksheet!$D$8,RAND()<0.2),3,IF(RAND()<Worksheet!$D$7/100,1,2))","v":1},{"$f":"IF(I983=1,C983-F983,IF(I983=2,C983-F983/1000,IF(I983=3,(1-F983/100)*C983,\"\")))","v":99.6}," km",{"$f":"J983*1000","v":99600},"m",{"$f":"IF(I983=1,C983+F983,IF(I983=2,C983+F983/1000,IF(I983=3,(1+F983/100)*C983,\"\")))","v":100.4},"  km",{"$f":"N983*1000","v":100400},"m"]
[{"$f":"IF(COUNTIF($B$1:B984,TRUE)=COUNTIF($B$1:B983,TRUE),\"\",COUNTIF($B$1:B984,TRUE))","v":""},{"$f":"Worksheet!$B$14","v":false},{"$f":"RANDBETWEEN(5,RANDBETWEEN(5,Worksheet!$D$6))","v":126},"m","±",{"$f":"IF(I984=1,H984*10^RANDBETWEEN(IF(Worksheet!$D$9,-1,0),0),IF(I984=2,H984*10^RANDBETWEEN(RANDBETWEEN(0,2),2),CHOOSE(RANDBETWEEN(1,3),5,10,20)))","v":7},{"$f":"IF(I984=1,D984,IF(I984=3,\"%\",\"mm\"))","v":"m"},7,{"$f":"IF(AND(Worksheet!$D$8,RAND()<0.2),3,IF(RAND()<Worksheet!$D$7/100,1,2))","v":1},{"$f":"IF(I984=1,C984-F984,IF(I984=2,C984-F984/1000,IF(I984=3,(1-F984/100)*C984,\"\")))","v":119}," m",{"$f":"J984*1000","v":119000},"mm",{"$f":"IF(I984=1,C984+F984,IF(I984=2,C984+F984/1000,IF(I984=3,(1+F984/100)*C984,\"\")))","v":133},"  m",{"$f":"N984*1000","v":133000},"mm"]
[{"$f":"IF(COUNTIF($B$1:B985,TRUE)=COUNTIF($B$1:B984,TRUE),\"\",COUNTIF($B$1:B985,TRUE))","v":762},{"$f":"Worksheet!$B$15","v":true},{"$f":"RANDBETWEEN(5,20)","v":15},"hours","±",{"$f":"IF(I985=1,H985*10^RANDBETWEEN(IF(Worksheet!$D$9,-1,0),0),IF(I985=2,H985,CHOOSE(RANDBETWEEN(1,3),5,10,20)))","v":0.5},{"$f":"IF(I985=1,D985,IF(I985=3,\"%\",\"min\"))","v":"hours"},5,{"$f":"IF(AND(Worksheet!$D$8,RAND()<0),3,IF(RAND()<Worksheet!$D$7/100,1,2))","v":1},null," hours",{"$f":"IF(I985=1,C985-F985,IF(I985=2,C985*60-F985,\"\"))","v":14.5},{"$f":"IF($I985=1,\" hours\",\" min\")","v":" hours"},null,"  hours",{"$f":"IF(I985=1,C985+F985,IF(I985=2,C985*60+F985,\"\"))","v":15.5},{"$f":"IF($I985=1,\" hours\",\" min\")","v":" hours"}]
[{"$f":"IF(COUNTIF($B$1:B986,TRUE)=COUNTIF($B$1:B985,TRUE),\"\",COUNTIF($B$1:B986,TRUE))","v":763},{"$f":"Worksheet!$D$11","v":true},{"$f":"RANDBETWEEN(5,RANDBETWEEN(5,Worksheet!$D$6))","v":103},"kg","±",{"$f":"IF(I986=1,H986*10^RANDBETWEEN(IF(Worksheet!$D$9,-1,0),0),IF(I986=2,H986*10^RANDBETWEEN(RANDBETWEEN(0,2),2),CHOOSE(RANDBETWEEN(1,3),5,10,20)))","v":20},{"$f":"IF(I986=1,D986,IF(I986=3,\"%\",\"g\"))","v":"%"},4,{"$f":"IF(AND(Worksheet!$D$8,RAND()<0.2),3,IF(RAND()<Worksheet!$D$7/100,1,2))","v":3},{"$f":"IF(I986=1,C986-F986,IF(I986=2,C986-F986/1000,IF(I986=3,(1-F986/100)*C986,\"\")))","v":82.4}," kg",{"$f":"J986*1000","v":82400},"g",{"$f":"IF(I986=1,C986+F986,IF(I986=2,C986+F986/1000,IF(I986=3,(1+F986/100)*C986,\"\")))","v":123.6},"  kg",{"$f":"N986*1000","v":123600},"g"]
[{"$f":"IF(COUNTIF($B$1:B987,TRUE)=COUNTIF($B$1:B986,TRUE),\"\",COUNTIF($B$1:B987,TRUE))","v":764},{"$f":"Worksheet!$D$12","v":true},{"$f":"RANDBETWEEN(5,RANDBETWEEN(5,Worksheet!$D$6))","v":117},"tonnes","±",{"$f":"IF(I987=1,H987*10^RANDBETWEEN(IF(Worksheet!$D$9,-1,0),0),IF(I987=2,H987*10^RANDBETWEEN(RANDBETWEEN(0,2),2),CHOOSE(RANDBETWEEN(1,3),5,10,20)))","v":0.60000000000000009},{"$f":"IF(I987=1,D987,IF(I987=3,\"%\",\"kg\"))","v":"tonnes"},6,{"$f":"IF(AND(Worksheet!$D$8,RAND()<0.2),3,IF(RAND()<Worksheet!$D$7/100,1,2))","v":1},{"$f":"IF(I987=1,C987-F987,IF(I987=2,C987-F987/1000,IF(I987=3,(1-F987/100)*C987,\"\")))","v":116.4}," tonnes",{"$f":"J987*1000","v":116400},"kg",{"$f":"IF(I987=1,C987+F987,IF(I987=2,C987+F987/1000,IF(I987=3,(1+F987/100)*C987,\"\")))","v":117.6},"  tonnes",{"$f":"N987*1000","v":117600},"kg"]
[{"$f":"IF(COUNTIF($B$1:B988,TRUE)=COUNTIF($B$1:B987,TRUE),\"\",COUNTIF($B$1:B988,TRUE))","v":765},{"$f":"Worksheet!$D$13","v":true},{"$f":"RANDBETWEEN(5,RANDBETWEEN(5,Worksheet!$D$6))","v":203},"litres","±",{"$f":"IF(I988=1,H988*10^RANDBETWEEN(IF(Worksheet!$D$9,-1,0),0),IF(I988=2,H988*10^RANDBETWEEN(RANDBETWEEN(0,2),2),CHOOSE(RANDBETWEEN(1,3),5,10,20)))","v":7},{"$f":"IF(I988=1,D988,IF(I988=3,\"%\",\"ml\"))","v":"litres"},7,{"$f":"IF(AND(Worksheet!$D$8,RAND()<0.2),3,IF(RAND()<Worksheet!$D$7/100,1,2))","v":1},{"$f":"IF(I988=1,C988-F988,IF(I988=2,C988-F988/1000,IF(I988=3,(1-F988/100)*C988,\"\")))","v":196}," litres",{"$f":"J988*1000","v":196000},"ml",{"$f":"IF(I988=1,C988+F988,IF(I988=2,C988+F988/1000,IF(I988=3,(1+F988/100)*C988,\"\")))","v":210},"  litres",{"$f":"N988*1000","v":210000},"ml"]
[{"$f":"IF(COUNTIF($B$1:B989,TRUE)=COUNTIF($B$1:B988,TRUE),\"\",COUNTIF($B$1:B989,TRUE))","v":766},{"$f":"Worksheet!$D$14","v":true},{"$f":"RANDBETWEEN(5,RANDBETWEEN(5,Worksheet!$D$6))","v":114},"litres","±",{"$f":"IF(I989=1,H989*10^RANDBETWEEN(IF(Worksheet!$D$9,-1,0),0),IF(I989=2,H989*10^RANDBETWEEN(RANDBETWEEN(0,2),2),CHOOSE(RANDBETWEEN(1,3),5,10,20)))","v":20},{"$f":"IF(I989=1,D989,IF(I989=3,\"%\",\"cm³\"))","v":"%"},5,{"$f":"IF(AND(Worksheet!$D$8,RAND()<0.2),3,IF(RAND()<Worksheet!$D$7/100,1,2))","v":3},{"$f":"IF(I989=1,C989-F989,IF(I989=2,C989-F989/1000,IF(I989=3,(1-F989/100)*C989,\"\")))","v":91.2}," litres",{"$f":"J989*1000","v":91200},"cm³",{"$f":"IF(I989=1,C989+F989,IF(I989=2,C989+F989/1000,IF(I989=3,(1+F989/100)*C989,\"\")))","v":136.79999999999998},"  litres",{"$f":"N989*1000","v":136799.99999999997},"cm³"]
[{"$f":"IF(COUNTIF($B$1:B990,TRUE)=COUNTIF($B$1:B989,TRUE),\"\",COUNTIF($B$1:B990,TRUE))","v":""},{"$f":"Worksheet!$D$15","v":false},{"$f":"RANDBETWEEN(5,20)","v":6},"min","±",{"$f":"IF(I990=1,H990*10^RANDBETWEEN(IF(Worksheet!$D$9,-1,0),0),IF(I990=2,H990,CHOOSE(RANDBETWEEN(1,3),5,10,20)))","v":0.4},{"$f":"IF(I990=1,D990,IF(I990=3,\"%\",\"sec\"))","v":"min"},4,{"$f":"IF(AND(Worksheet!$D$8,RAND()<0),3,IF(RAND()<Worksheet!$D$7/100,1,2))","v":1},null," min",{"$f":"IF(I990=1,C990-F990,IF(I990=2,C990*60-F990,\"\"))","v":5.6},{"$f":"IF($I990=1,\" hours\",\" min\")","v":" hours"},null,"  min",{"$f":"IF(I990=1,C990+F990,IF(I990=2,C990*60+F990,\"\"))","v":6.4},{"$f":"IF($I990=1,\" hours\",\" min\")","v":" hours"}]
[{"$f":"COUNTIF($B$1:B991,TRUE)","v":767},{"$f":"Worksheet!$B$11","v":true},{"$f":"RANDBETWEEN(5,RANDBETWEEN(5,Worksheet!$D$6))","v":30},"cm","±",{"$f":"IF(I991=1,H991*10^RANDBETWEEN(IF(Worksheet!$D$9,-1,0),0),IF(I991=2,H991,CHOOSE(RANDBETWEEN(1,3),5,10,20)))","v":0.30000000000000004},{"$f":"IF(I991=1,D991,IF(I991=3,\"%\",\"mm\"))","v":"cm"},{"$f":"RANDBETWEEN(1,MIN(9,C991))","v":3},{"$f":"IF(AND(Worksheet!$D$8,RAND()<0.2),3,IF(RAND()<Worksheet!$D$7/100,1,2))","v":1},{"$f":"IF(I991=1,C991-F991,IF(I991=2,C991-F991/10,IF(I991=3,(1-F991/100)*C991,\"\")))","v":29.7},{"$f":"CONCATENATE(\" \",D991)","v":" cm"},{"$f":"J991*10","v":297},"mm",{"$f":"IF(I991=1,C991+F991,IF(I991=2,C991+F991/10,IF(I991=3,(1+F991/100)*C991,\"\")))","v":30.3},{"$f":"CONCATENATE(\" \",K991)","v":"  cm"},{"$f":"N991*10","v":303},"mm"]
[{"$f":"IF(COUNTIF($B$1:B992,TRUE)=COUNTIF($B$1:B991,TRUE),\"\",COUNTIF($B$1:B992,TRUE))","v":768},{"$f":"Worksheet!$B$12","v":true},{"$f":"RANDBETWEEN(5,RANDBETWEEN(5,Worksheet!$D$6))","v":131},"m","±",{"$f":"IF(I992=1,H992*10^RANDBETWEEN(IF(Worksheet!$D$9,-1,0),0),IF(I992=2,H992*10^RANDBETWEEN(RANDBETWEEN(0,1),1),CHOOSE(RANDBETWEEN(1,3),5,10,20)))","v":80},{"$f":"IF(I992=1,D992,IF(I992=3,\"%\",\"cm\"))","v":"cm"},{"$f":"RANDBETWEEN(1,MIN(9,C992))","v":8},{"$f":"IF(AND(Worksheet!$D$8,RAND()<0.2),3,IF(RAND()<Worksheet!$D$7/100,1,2))","v":2},{"$f":"IF(I992=1,C992-F992,IF(I992=2,C992-F992/100,IF(I992=3,(1-F992/100)*C992,\"\")))","v":130.19999999999999},{"$f":"CONCATENATE(\" \",D992)","v":" m"},{"$f":"J992*100","v":13019.999999999998},"cm",{"$f":"IF(I992=1,C992+F992,IF(I992=2,C992+F992/100,IF(I992=3,(1+F992/100)*C992,\"\")))","v":131.80000000000001},{"$f":"CONCATENATE(\" \",K992)","v":"  m"},{"$f":"N992*100","v":13180.000000000002},"cm"]
[{"$f":"IF(COUNTIF($B$1:B993,TRUE)=COUNTIF($B$1:B992,TRUE),\"\",COUNTIF($B$1:B993,TRUE))","v":769},{"$f":"Worksheet!$B$13","v":true},{"$f":"RANDBETWEEN(5,RANDBETWEEN(5,Worksheet!$D$6))","v":297},"km","±",{"$f":"IF(I993=1,H993*10^RANDBETWEEN(IF(Worksheet!$D$9,-1,0),0),IF(I993=2,H993*10^RANDBETWEEN(RANDBETWEEN(0,2),2),CHOOSE(RANDBETWEEN(1,3),5,10,20)))","v":3},{"$f":"IF(I993=1,D993,IF(I993=3,\"%\",\"m\"))","v":"km"},3,{"$f":"IF(AND(Worksheet!$D$8,RAND()<0.2),3,IF(RAND()<Worksheet!$D$7/100,1,2))","v":1},{"$f":"IF(I993=1,C993-F993,IF(I993=2,C993-F993/1000,IF(I993=3,(1-F993/100)*C993,\"\")))","v":294}," km",{"$f":"J993*1000","v":294000},"m",{"$f":"IF(I993=1,C993+F993,IF(I993=2,C993+F993/1000,IF(I993=3,(1+F993/100)*C993,\"\")))","v":300},"  km",{"$f":"N993*1000","v":300000},"m"]
[{"$f":"IF(COUNTIF($B$1:B994,TRUE)=COUNTIF($B$1:B993,TRUE),\"\",COUNTIF($B$1:B994,TRUE))","v":""},{"$f":"Worksheet!$B$14","v":false},{"$f":"RANDBETWEEN(5,RANDBETWEEN(5,Worksheet!$D$6))","v":301},"m","±",{"$f":"IF(I994=1,H994*10^RANDBETWEEN(IF(Worksheet!$D$9,-1,0),0),IF(I994=2,H994*10^RANDBETWEEN(RANDBETWEEN(0,2),2),CHOOSE(RANDBETWEEN(1,3),5,10,20)))","v":10},{"$f":"IF(I994=1,D994,IF(I994=3,\"%\",\"mm\"))","v":"%"},2,{"$f":"IF(AND(Worksheet!$D$8,RAND()<0.2),3,IF(RAND()<Worksheet!$D$7/100,1,2))","v":3},{"$f":"IF(I994=1,C994-F994,IF(I994=2,C994-F994/1000,IF(I994=3,(1-F994/100)*C994,\"\")))","v":270.90000000000003}," m",{"$f":"J994*1000","v":270900.00000000006},"mm",{"$f":"IF(I994=1,C994+F994,IF(I994=2,C994+F994/1000,IF(I994=3,(1+F994/100)*C994,\"\")))","v":331.1},"  m",{"$f":"N994*1000","v":331100},"mm"]
[{"$f":"IF(COUNTIF($B$1:B995,TRUE)=COUNTIF($B$1:B994,TRUE),\"\",COUNTIF($B$1:B995,TRUE))","v":770},{"$f":"Worksheet!$B$15","v":true},{"$f":"RANDBETWEEN(5,20)","v":12},"hours","±",{"$f":"IF(I995=1,H995*10^RANDBETWEEN(IF(Worksheet!$D$9,-1,0),0),IF(I995=2,H995,CHOOSE(RANDBETWEEN(1,3),5,10,20)))","v":0.4},{"$f":"IF(I995=1,D995,IF(I995=3,\"%\",\"min\"))","v":"hours"},4,{"$f":"IF(AND(Worksheet!$D$8,RAND()<0),3,IF(RAND()<Worksheet!$D$7/100,1,2))","v":1},null," hours",{"$f":"IF(I995=1,C995-F995,IF(I995=2,C995*60-F995,\"\"))","v":11.6},{"$f":"IF($I995=1,\" hours\",\" min\")","v":" hours"},null,"  hours",{"$f":"IF(I995=1,C995+F995,IF(I995=2,C995*60+F995,\"\"))","v":12.4},{"$f":"IF($I995=1,\" hours\",\" min\")","v":" hours"}]
[{"$f":"IF(COUNTIF($B$1:B996,TRUE)=COUNTIF($B$1:B995,TRUE),\"\",COUNTIF($B$1:B996,TRUE))","v":771},{"$f":"Worksheet!$D$11","v":true},{"$f":"RANDBETWEEN(5,RANDBETWEEN(5,Worksheet!$D$6))","v":16},"kg","±",{"$f":"IF(I996=1,H996*10^RANDBETWEEN(IF(Worksheet!$D$9,-1,0),0),IF(I996=2,H996*10^RANDBETWEEN(RANDBETWEEN(0,2),2),CHOOSE(RANDBETWEEN(1,3),5,10,20)))","v":10},{"$f":"IF(I996=1,D996,IF(I996=3,\"%\",\"g\"))","v":"%"},1,{"$f":"IF(AND(Worksheet!$D$8,RAND()<0.2),3,IF(RAND()<Worksheet!$D$7/100,1,2))","v":3},{"$f":"IF(I996=1,C996-F996,IF(I996=2,C996-F996/1000,IF(I996=3,(1-F996/100)*C996,\"\")))","v":14.4}," kg",{"$f":"J996*1000","v":14400},"g",{"$f":"IF(I996=1,C996+F996,IF(I996=2,C996+F996/1000,IF(I996=3,(1+F996/100)*C996,\"\")))","v":17.600000000000001},"  kg",{"$f":"N996*1000","v":17600},"g"]
[{"$f":"IF(COUNTIF($B$1:B997,TRUE)=COUNTIF($B$1:B996,TRUE),\"\",COUNTIF($B$1:B997,TRUE))","v":772},{"$f":"Worksheet!$D$12","v":true},{"$f":"RANDBETWEEN(5,RANDBETWEEN(5,Worksheet!$D$6))","v":115},"tonnes","±",{"$f":"IF(I997=1,H997*10^RANDBETWEEN(IF(Worksheet!$D$9,-1,0),0),IF(I997=2,H997*10^RANDBETWEEN(RANDBETWEEN(0,2),2),CHOOSE(RANDBETWEEN(1,3),5,10,20)))","v":20},{"$f":"IF(I997=1,D997,IF(I997=3,\"%\",\"kg\"))","v":"%"},2,{"$f":"IF(AND(Worksheet!$D$8,RAND()<0.2),3,IF(RAND()<Worksheet!$D$7/100,1,2))","v":3},{"$f":"IF(I997=1,C997-F997,IF(I997=2,C997-F997/1000,IF(I997=3,(1-F997/100)*C997,\"\")))","v":92}," tonnes",{"$f":"J997*1000","v":92000},"kg",{"$f":"IF(I997=1,C997+F997,IF(I997=2,C997+F997/1000,IF(I997=3,(1+F997/100)*C997,\"\")))","v":138},"  tonnes",{"$f":"N997*1000","v":138000},"kg"]
[{"$f":"IF(COUNTIF($B$1:B998,TRUE)=COUNTIF($B$1:B997,TRUE),\"\",COUNTIF($B$1:B998,TRUE))","v":773},{"$f":"Worksheet!$D$13","v":true},{"$f":"RANDBETWEEN(5,RANDBETWEEN(5,Worksheet!$D$6))","v":204},"litres","±",{"$f":"IF(I998=1,H998*10^RANDBETWEEN(IF(Worksheet!$D$9,-1,0),0),IF(I998=2,H998*10^RANDBETWEEN(RANDBETWEEN(0,2),2),CHOOSE(RANDBETWEEN(1,3),5,10,20)))","v":0.9},{"$f":"IF(I998=1,D998,IF(I998=3,\"%\",\"ml\"))","v":"litres"},9,{"$f":"IF(AND(Worksheet!$D$8,RAND()<0.2),3,IF(RAND()<Worksheet!$D$7/100,1,2))","v":1},{"$f":"IF(I998=1,C998-F998,IF(I998=2,C998-F998/1000,IF(I998=3,(1-F998/100)*C998,\"\")))","v":203.1}," litres",{"$f":"J998*1000","v":203100},"ml",{"$f":"IF(I998=1,C998+F998,IF(I998=2,C998+F998/1000,IF(I998=3,(1+F998/100)*C998,\"\")))","v":204.9},"  litres",{"$f":"N998*1000","v":204900},"ml"]
[{"$f":"IF(COUNTIF($B$1:B999,TRUE)=COUNTIF($B$1:B998,TRUE),\"\",COUNTIF($B$1:B999,TRUE))","v":774},{"$f":"Worksheet!$D$14","v":true},{"$f":"RANDBETWEEN(5,RANDBETWEEN(5,Worksheet!$D$6))","v":17},"litres","±",{"$f":"IF(I999=1,H999*10^RANDBETWEEN(IF(Worksheet!$D$9,-1,0),0),IF(I999=2,H999*10^RANDBETWEEN(RANDBETWEEN(0,2),2),CHOOSE(RANDBETWEEN(1,3),5,10,20)))","v":6},{"$f":"IF(I999=1,D999,IF(I999=3,\"%\",\"cm³\"))","v":"litres"},6,{"$f":"IF(AND(Worksheet!$D$8,RAND()<0.2),3,IF(RAND()<Worksheet!$D$7/100,1,2))","v":1},{"$f":"IF(I999=1,C999-F999,IF(I999=2,C999-F999/1000,IF(I999=3,(1-F999/100)*C999,\"\")))","v":11}," litres",{"$f":"J999*1000","v":11000},"cm³",{"$f":"IF(I999=1,C999+F999,IF(I999=2,C999+F999/1000,IF(I999=3,(1+F999/100)*C999,\"\")))","v":23},"  litres",{"$f":"N999*1000","v":23000},"cm³"]
[{"$f":"IF(COUNTIF($B$1:B1000,TRUE)=COUNTIF($B$1:B999,TRUE),\"\",COUNTIF($B$1:B1000,TRUE))","v":""},{"$f":"Worksheet!$D$15","v":false},{"$f":"RANDBETWEEN(5,20)","v":5},"min","±",{"$f":"IF(I1000=1,H1000*10^RANDBETWEEN(IF(Worksheet!$D$9,-1,0),0),IF(I1000=2,H1000,CHOOSE(RANDBETWEEN(1,3),5,10,20)))","v":2},{"$f":"IF(I1000=1,D1000,IF(I1000=3,\"%\",\"sec\"))","v":"min"},2,{"$f":"IF(AND(Worksheet!$D$8,RAND()<0),3,IF(RAND()<Worksheet!$D$7/100,1,2))","v":1},null," min",{"$f":"IF(I1000=1,C1000-F1000,IF(I1000=2,C1000*60-F1000,\"\"))","v":3},{"$f":"IF($I1000=1,\" hours\",\" min\")","v":" hours"},null,"  min",{"$f":"IF(I1000=1,C1000+F1000,IF(I1000=2,C1000*60+F1000,\"\"))","v":7},{"$f":"IF($I1000=1,\" hours\",\" min\")","v":" hours"}]
[{"$f":"COUNTIF($B$1:B1001,TRUE)","v":775},{"$f":"Worksheet!$B$11","v":true},{"$f":"RANDBETWEEN(5,RANDBETWEEN(5,Worksheet!$D$6))","v":22},"cm","±",{"$f":"IF(I1001=1,H1001*10^RANDBETWEEN(IF(Worksheet!$D$9,-1,0),0),IF(I1001=2,H1001,CHOOSE(RANDBETWEEN(1,3),5,10,20)))","v":10},{"$f":"IF(I1001=1,D1001,IF(I1001=3,\"%\",\"mm\"))","v":"%"},{"$f":"RANDBETWEEN(1,MIN(9,C1001))","v":7},{"$f":"IF(AND(Worksheet!$D$8,RAND()<0.2),3,IF(RAND()<Worksheet!$D$7/100,1,2))","v":3},{"$f":"IF(I1001=1,C1001-F1001,IF(I1001=2,C1001-F1001/10,IF(I1001=3,(1-F1001/100)*C1001,\"\")))","v":19.8},{"$f":"CONCATENATE(\" \",D1001)","v":" cm"},{"$f":"J1001*10","v":198},"mm",{"$f":"IF(I1001=1,C1001+F1001,IF(I1001=2,C1001+F1001/10,IF(I1001=3,(1+F1001/100)*C1001,\"\")))","v":24.200000000000003},{"$f":"CONCATENATE(\" \",K1001)","v":"  cm"},{"$f":"N1001*10","v":242.00000000000003},"mm"]
[{"$f":"IF(COUNTIF($B$1:B1002,TRUE)=COUNTIF($B$1:B1001,TRUE),\"\",COUNTIF($B$1:B1002,TRUE))","v":776},{"$f":"Worksheet!$B$12","v":true},{"$f":"RANDBETWEEN(5,RANDBETWEEN(5,Worksheet!$D$6))","v":27},"m","±",{"$f":"IF(I1002=1,H1002*10^RANDBETWEEN(IF(Worksheet!$D$9,-1,0),0),IF(I1002=2,H1002*10^RANDBETWEEN(RANDBETWEEN(0,1),1),CHOOSE(RANDBETWEEN(1,3),5,10,20)))","v":10},{"$f":"IF(I1002=1,D1002,IF(I1002=3,\"%\",\"cm\"))","v":"cm"},{"$f":"RANDBETWEEN(1,MIN(9,C1002))","v":1},{"$f":"IF(AND(Worksheet!$D$8,RAND()<0.2),3,IF(RAND()<Worksheet!$D$7/100,1,2))","v":2},{"$f":"IF(I1002=1,C1002-F1002,IF(I1002=2,C1002-F1002/100,IF(I1002=3,(1-F1002/100)*C1002,\"\")))","v":26.9},{"$f":"CONCATENATE(\" \",D1002)","v":" m"},{"$f":"J1002*100","v":2690},"cm",{"$f":"IF(I1002=1,C1002+F1002,IF(I1002=2,C1002+F1002/100,IF(I1002=3,(1+F1002/100)*C1002,\"\")))","v":27.1},{"$f":"CONCATENATE(\" \",K1002)","v":"  m"},{"$f":"N1002*100","v":2710},"cm"]
[{"$f":"IF(COUNTIF($B$1:B1003,TRUE)=COUNTIF($B$1:B1002,TRUE),\"\",COUNTIF($B$1:B1003,TRUE))","v":777},{"$f":"Worksheet!$B$13","v":true},{"$f":"RANDBETWEEN(5,RANDBETWEEN(5,Worksheet!$D$6))","v":74},"km","±",{"$f":"IF(I1003=1,H1003*10^RANDBETWEEN(IF(Worksheet!$D$9,-1,0),0),IF(I1003=2,H1003*10^RANDBETWEEN(RANDBETWEEN(0,2),2),CHOOSE(RANDBETWEEN(1,3),5,10,20)))","v":9},{"$f":"IF(I1003=1,D1003,IF(I1003=3,\"%\",\"m\"))","v":"km"},9,{"$f":"IF(AND(Worksheet!$D$8,RAND()<0.2),3,IF(RAND()<Worksheet!$D$7/100,1,2))","v":1},{"$f":"IF(I1003=1,C1003-F1003,IF(I1003=2,C1003-F1003/1000,IF(I1003=3,(1-F1003/100)*C1003,\"\")))","v":65}," km",{"$f":"J1003*1000","v":65000},"m",{"$f":"IF(I1003=1,C1003+F1003,IF(I1003=2,C1003+F1003/1000,IF(I1003=3,(1+F1003/100)*C1003,\"\")))","v":83},"  km",{"$f":"N1003*1000","v":83000},"m"]
[{"$f":"IF(COUNTIF($B$1:B1004,TRUE)=COUNTIF($B$1:B1003,TRUE),\"\",COUNTIF($B$1:B1004,TRUE))","v":""},{"$f":"Worksheet!$B$14","v":false},{"$f":"RANDBETWEEN(5,RANDBETWEEN(5,Worksheet!$D$6))","v":6},"m","±",{"$f":"IF(I1004=1,H1004*10^RANDBETWEEN(IF(Worksheet!$D$9,-1,0),0),IF(I1004=2,H1004*10^RANDBETWEEN(RANDBETWEEN(0,2),2),CHOOSE(RANDBETWEEN(1,3),5,10,20)))","v":5},{"$f":"IF(I1004=1,D1004,IF(I1004=3,\"%\",\"mm\"))","v":"m"},5,{"$f":"IF(AND(Worksheet!$D$8,RAND()<0.2),3,IF(RAND()<Worksheet!$D$7/100,1,2))","v":1},{"$f":"IF(I1004=1,C1004-F1004,IF(I1004=2,C1004-F1004/1000,IF(I1004=3,(1-F1004/100)*C1004,\"\")))","v":1}," m",{"$f":"J1004*1000","v":1000},"mm",{"$f":"IF(I1004=1,C1004+F1004,IF(I1004=2,C1004+F1004/1000,IF(I1004=3,(1+F1004/100)*C1004,\"\")))","v":11},"  m",{"$f":"N1004*1000","v":11000},"mm"]
[{"$f":"IF(COUNTIF($B$1:B1005,TRUE)=COUNTIF($B$1:B1004,TRUE),\"\",COUNTIF($B$1:B1005,TRUE))","v":778},{"$f":"Worksheet!$B$15","v":true},{"$f":"RANDBETWEEN(5,20)","v":8},"hours","±",{"$f":"IF(I1005=1,H1005*10^RANDBETWEEN(IF(Worksheet!$D$9,-1,0),0),IF(I1005=2,H1005,CHOOSE(RANDBETWEEN(1,3),5,10,20)))","v":5},{"$f":"IF(I1005=1,D1005,IF(I1005=3,\"%\",\"min\"))","v":"min"},5,{"$f":"IF(AND(Worksheet!$D$8,RAND()<0),3,IF(RAND()<Worksheet!$D$7/100,1,2))","v":2},null," hours",{"$f":"IF(I1005=1,C1005-F1005,IF(I1005=2,C1005*60-F1005,\"\"))","v":475},{"$f":"IF($I1005=1,\" hours\",\" min\")","v":" min"},null,"  hours",{"$f":"IF(I1005=1,C1005+F1005,IF(I1005=2,C1005*60+F1005,\"\"))","v":485},{"$f":"IF($I1005=1,\" hours\",\" min\")","v":" min"}]
[{"$f":"IF(COUNTIF($B$1:B1006,TRUE)=COUNTIF($B$1:B1005,TRUE),\"\",COUNTIF($B$1:B1006,TRUE))","v":779},{"$f":"Worksheet!$D$11","v":true},{"$f":"RANDBETWEEN(5,RANDBETWEEN(5,Worksheet!$D$6))","v":234},"kg","±",{"$f":"IF(I1006=1,H1006*10^RANDBETWEEN(IF(Worksheet!$D$9,-1,0),0),IF(I1006=2,H1006*10^RANDBETWEEN(RANDBETWEEN(0,2),2),CHOOSE(RANDBETWEEN(1,3),5,10,20)))","v":5},{"$f":"IF(I1006=1,D1006,IF(I1006=3,\"%\",\"g\"))","v":"g"},5,{"$f":"IF(AND(Worksheet!$D$8,RAND()<0.2),3,IF(RAND()<Worksheet!$D$7/100,1,2))","v":2},{"$f":"IF(I1006=1,C1006-F1006,IF(I1006=2,C1006-F1006/1000,IF(I1006=3,(1-F1006/100)*C1006,\"\")))","v":233.995}," kg",{"$f":"J1006*1000","v":233995},"g",{"$f":"IF(I1006=1,C1006+F1006,IF(I1006=2,C1006+F1006/1000,IF(I1006=3,(1+F1006/100)*C1006,\"\")))","v":234.005},"  kg",{"$f":"N1006*1000","v":234005},"g"]
[{"$f":"IF(COUNTIF($B$1:B1007,TRUE)=COUNTIF($B$1:B1006,TRUE),\"\",COUNTIF($B$1:B1007,TRUE))","v":780},{"$f":"Worksheet!$D$12","v":true},{"$f":"RANDBETWEEN(5,RANDBETWEEN(5,Worksheet!$D$6))","v":35},"tonnes","±",{"$f":"IF(I1007=1,H1007*10^RANDBETWEEN(IF(Worksheet!$D$9,-1,0),0),IF(I1007=2,H1007*10^RANDBETWEEN(RANDBETWEEN(0,2),2),CHOOSE(RANDBETWEEN(1,3),5,10,20)))","v":4},{"$f":"IF(I1007=1,D1007,IF(I1007=3,\"%\",\"kg\"))","v":"tonnes"},4,{"$f":"IF(AND(Worksheet!$D$8,RAND()<0.2),3,IF(RAND()<Worksheet!$D$7/100,1,2))","v":1},{"$f":"IF(I1007=1,C1007-F1007,IF(I1007=2,C1007-F1007/1000,IF(I1007=3,(1-F1007/100)*C1007,\"\")))","v":31}," tonnes",{"$f":"J1007*1000","v":31000},"kg",{"$f":"IF(I1007=1,C1007+F1007,IF(I1007=2,C1007+F1007/1000,IF(I1007=3,(1+F1007/100)*C1007,\"\")))","v":39},"  tonnes",{"$f":"N1007*1000","v":39000},"kg"]
[{"$f":"IF(COUNTIF($B$1:B1008,TRUE)=COUNTIF($B$1:B1007,TRUE),\"\",COUNTIF($B$1:B1008,TRUE))","v":781},{"$f":"Worksheet!$D$13","v":true},{"$f":"RANDBETWEEN(5,RANDBETWEEN(5,Worksheet!$D$6))","v":158},"litres","±",{"$f":"IF(I1008=1,H1008*10^RANDBETWEEN(IF(Worksheet!$D$9,-1,0),0),IF(I1008=2,H1008*10^RANDBETWEEN(RANDBETWEEN(0,2),2),CHOOSE(RANDBETWEEN(1,3),5,10,20)))","v":10},{"$f":"IF(I1008=1,D1008,IF(I1008=3,\"%\",\"ml\"))","v":"%"},8,{"$f":"IF(AND(Worksheet!$D$8,RAND()<0.2),3,IF(RAND()<Worksheet!$D$7/100,1,2))","v":3},{"$f":"IF(I1008=1,C1008-F1008,IF(I1008=2,C1008-F1008/1000,IF(I1008=3,(1-F1008/100)*C1008,\"\")))","v":142.20000000000002}," litres",{"$f":"J1008*1000","v":142200.00000000003},"ml",{"$f":"IF(I1008=1,C1008+F1008,IF(I1008=2,C1008+F1008/1000,IF(I1008=3,(1+F1008/100)*C1008,\"\")))","v":173.8},"  litres",{"$f":"N1008*1000","v":173800},"ml"]
[{"$f":"IF(COUNTIF($B$1:B1009,TRUE)=COUNTIF($B$1:B1008,TRUE),\"\",COUNTIF($B$1:B1009,TRUE))","v":782},{"$f":"Worksheet!$D$14","v":true},{"$f":"RANDBETWEEN(5,RANDBETWEEN(5,Worksheet!$D$6))","v":61},"litres","±",{"$f":"IF(I1009=1,H1009*10^RANDBETWEEN(IF(Worksheet!$D$9,-1,0),0),IF(I1009=2,H1009*10^RANDBETWEEN(RANDBETWEEN(0,2),2),CHOOSE(RANDBETWEEN(1,3),5,10,20)))","v":5},{"$f":"IF(I1009=1,D1009,IF(I1009=3,\"%\",\"cm³\"))","v":"litres"},5,{"$f":"IF(AND(Worksheet!$D$8,RAND()<0.2),3,IF(RAND()<Worksheet!$D$7/100,1,2))","v":1},{"$f":"IF(I1009=1,C1009-F1009,IF(I1009=2,C1009-F1009/1000,IF(I1009=3,(1-F1009/100)*C1009,\"\")))","v":56}," litres",{"$f":"J1009*1000","v":56000},"cm³",{"$f":"IF(I1009=1,C1009+F1009,IF(I1009=2,C1009+F1009/1000,IF(I1009=3,(1+F1009/100)*C1009,\"\")))","v":66},"  litres",{"$f":"N1009*1000","v":66000},"cm³"]
[{"$f":"IF(COUNTIF($B$1:B1010,TRUE)=COUNTIF($B$1:B1009,TRUE),\"\",COUNTIF($B$1:B1010,TRUE))","v":""},{"$f":"Worksheet!$D$15","v":false},{"$f":"RANDBETWEEN(5,20)","v":8},"min","±",{"$f":"IF(I1010=1,H1010*10^RANDBETWEEN(IF(Worksheet!$D$9,-1,0),0),IF(I1010=2,H1010,CHOOSE(RANDBETWEEN(1,3),5,10,20)))","v":0.70000000000000007},{"$f":"IF(I1010=1,D1010,IF(I1010=3,\"%\",\"sec\"))","v":"min"},7,{"$f":"IF(AND(Worksheet!$D$8,RAND()<0),3,IF(RAND()<Worksheet!$D$7/100,1,2))","v":1},null," min",{"$f":"IF(I1010=1,C1010-F1010,IF(I1010=2,C1010*60-F1010,\"\"))","v":7.3},{"$f":"IF($I1010=1,\" hours\",\" min\")","v":" hours"},null,"  min",{"$f":"IF(I1010=1,C1010+F1010,IF(I1010=2,C1010*60+F1010,\"\"))","v":8.6999999999999993},{"$f":"IF($I1010=1,\" hours\",\" min\")","v":" hours"}]
[{"$f":"COUNTIF($B$1:B1011,TRUE)","v":783},{"$f":"Worksheet!$B$11","v":true},{"$f":"RANDBETWEEN(5,RANDBETWEEN(5,Worksheet!$D$6))","v":200},"cm","±",{"$f":"IF(I1011=1,H1011*10^RANDBETWEEN(IF(Worksheet!$D$9,-1,0),0),IF(I1011=2,H1011,CHOOSE(RANDBETWEEN(1,3),5,10,20)))","v":6},{"$f":"IF(I1011=1,D1011,IF(I1011=3,\"%\",\"mm\"))","v":"cm"},{"$f":"RANDBETWEEN(1,MIN(9,C1011))","v":6},{"$f":"IF(AND(Worksheet!$D$8,RAND()<0.2),3,IF(RAND()<Worksheet!$D$7/100,1,2))","v":1},{"$f":"IF(I1011=1,C1011-F1011,IF(I1011=2,C1011-F1011/10,IF(I1011=3,(1-F1011/100)*C1011,\"\")))","v":194},{"$f":"CONCATENATE(\" \",D1011)","v":" cm"},{"$f":"J1011*10","v":1940},"mm",{"$f":"IF(I1011=1,C1011+F1011,IF(I1011=2,C1011+F1011/10,IF(I1011=3,(1+F1011/100)*C1011,\"\")))","v":206},{"$f":"CONCATENATE(\" \",K1011)","v":"  cm"},{"$f":"N1011*10","v":2060},"mm"]
[{"$f":"IF(COUNTIF($B$1:B1012,TRUE)=COUNTIF($B$1:B1011,TRUE),\"\",COUNTIF($B$1:B1012,TRUE))","v":784},{"$f":"Worksheet!$B$12","v":true},{"$f":"RANDBETWEEN(5,RANDBETWEEN(5,Worksheet!$D$6))","v":178},"m","±",{"$f":"IF(I1012=1,H1012*10^RANDBETWEEN(IF(Worksheet!$D$9,-1,0),0),IF(I1012=2,H1012*10^RANDBETWEEN(RANDBETWEEN(0,1),1),CHOOSE(RANDBETWEEN(1,3),5,10,20)))","v":4},{"$f":"IF(I1012=1,D1012,IF(I1012=3,\"%\",\"cm\"))","v":"m"},{"$f":"RANDBETWEEN(1,MIN(9,C1012))","v":4},{"$f":"IF(AND(Worksheet!$D$8,RAND()<0.2),3,IF(RAND()<Worksheet!$D$7/100,1,2))","v":1},{"$f":"IF(I1012=1,C1012-F1012,IF(I1012=2,C1012-F1012/100,IF(I1012=3,(1-F1012/100)*C1012,\"\")))","v":174},{"$f":"CONCATENATE(\" \",D1012)","v":" m"},{"$f":"J1012*100","v":17400},"cm",{"$f":"IF(I1012=1,C1012+F1012,IF(I1012=2,C1012+F1012/100,IF(I1012=3,(1+F1012/100)*C1012,\"\")))","v":182},{"$f":"CONCATENATE(\" \",K1012)","v":"  m"},{"$f":"N1012*100","v":18200},"cm"]
[{"$f":"IF(COUNTIF($B$1:B1013,TRUE)=COUNTIF($B$1:B1012,TRUE),\"\",COUNTIF($B$1:B1013,TRUE))","v":785},{"$f":"Worksheet!$B$13","v":true},{"$f":"RANDBETWEEN(5,RANDBETWEEN(5,Worksheet!$D$6))","v":96},"km","±",{"$f":"IF(I1013=1,H1013*10^RANDBETWEEN(IF(Worksheet!$D$9,-1,0),0),IF(I1013=2,H1013*10^RANDBETWEEN(RANDBETWEEN(0,2),2),CHOOSE(RANDBETWEEN(1,3),5,10,20)))","v":1},{"$f":"IF(I1013=1,D1013,IF(I1013=3,\"%\",\"m\"))","v":"km"},1,{"$f":"IF(AND(Worksheet!$D$8,RAND()<0.2),3,IF(RAND()<Worksheet!$D$7/100,1,2))","v":1},{"$f":"IF(I1013=1,C1013-F1013,IF(I1013=2,C1013-F1013/1000,IF(I1013=3,(1-F1013/100)*C1013,\"\")))","v":95}," km",{"$f":"J1013*1000","v":95000},"m",{"$f":"IF(I1013=1,C1013+F1013,IF(I1013=2,C1013+F1013/1000,IF(I1013=3,(1+F1013/100)*C1013,\"\")))","v":97},"  km",{"$f":"N1013*1000","v":97000},"m"]
[{"$f":"IF(COUNTIF($B$1:B1014,TRUE)=COUNTIF($B$1:B1013,TRUE),\"\",COUNTIF($B$1:B1014,TRUE))","v":""},{"$f":"Worksheet!$B$14","v":false},{"$f":"RANDBETWEEN(5,RANDBETWEEN(5,Worksheet!$D$6))","v":7},"m","±",{"$f":"IF(I1014=1,H1014*10^RANDBETWEEN(IF(Worksheet!$D$9,-1,0),0),IF(I1014=2,H1014*10^RANDBETWEEN(RANDBETWEEN(0,2),2),CHOOSE(RANDBETWEEN(1,3),5,10,20)))","v":5},{"$f":"IF(I1014=1,D1014,IF(I1014=3,\"%\",\"mm\"))","v":"m"},5,{"$f":"IF(AND(Worksheet!$D$8,RAND()<0.2),3,IF(RAND()<Worksheet!$D$7/100,1,2))","v":1},{"$f":"IF(I1014=1,C1014-F1014,IF(I1014=2,C1014-F1014/1000,IF(I1014=3,(1-F1014/100)*C1014,\"\")))","v":2}," m",{"$f":"J1014*1000","v":2000},"mm",{"$f":"IF(I1014=1,C1014+F1014,IF(I1014=2,C1014+F1014/1000,IF(I1014=3,(1+F1014/100)*C1014,\"\")))","v":12},"  m",{"$f":"N1014*1000","v":12000},"mm"]
[{"$f":"IF(COUNTIF($B$1:B1015,TRUE)=COUNTIF($B$1:B1014,TRUE),\"\",COUNTIF($B$1:B1015,TRUE))","v":786},{"$f":"Worksheet!$B$15","v":true},{"$f":"RANDBETWEEN(5,20)","v":10},"hours","±",{"$f":"IF(I1015=1,H1015*10^RANDBETWEEN(IF(Worksheet!$D$9,-1,0),0),IF(I1015=2,H1015,CHOOSE(RANDBETWEEN(1,3),5,10,20)))","v":0.60000000000000009},{"$f":"IF(I1015=1,D1015,IF(I1015=3,\"%\",\"min\"))","v":"hours"},6,{"$f":"IF(AND(Worksheet!$D$8,RAND()<0),3,IF(RAND()<Worksheet!$D$7/100,1,2))","v":1},null," hours",{"$f":"IF(I1015=1,C1015-F1015,IF(I1015=2,C1015*60-F1015,\"\"))","v":9.4},{"$f":"IF($I1015=1,\" hours\",\" min\")","v":" hours"},null,"  hours",{"$f":"IF(I1015=1,C1015+F1015,IF(I1015=2,C1015*60+F1015,\"\"))","v":10.6},{"$f":"IF($I1015=1,\" hours\",\" min\")","v":" hours"}]
[{"$f":"IF(COUNTIF($B$1:B1016,TRUE)=COUNTIF($B$1:B1015,TRUE),\"\",COUNTIF($B$1:B1016,TRUE))","v":787},{"$f":"Worksheet!$D$11","v":true},{"$f":"RANDBETWEEN(5,RANDBETWEEN(5,Worksheet!$D$6))","v":47},"kg","±",{"$f":"IF(I1016=1,H1016*10^RANDBETWEEN(IF(Worksheet!$D$9,-1,0),0),IF(I1016=2,H1016*10^RANDBETWEEN(RANDBETWEEN(0,2),2),CHOOSE(RANDBETWEEN(1,3),5,10,20)))","v":0.9},{"$f":"IF(I1016=1,D1016,IF(I1016=3,\"%\",\"g\"))","v":"kg"},9,{"$f":"IF(AND(Worksheet!$D$8,RAND()<0.2),3,IF(RAND()<Worksheet!$D$7/100,1,2))","v":1},{"$f":"IF(I1016=1,C1016-F1016,IF(I1016=2,C1016-F1016/1000,IF(I1016=3,(1-F1016/100)*C1016,\"\")))","v":46.1}," kg",{"$f":"J1016*1000","v":46100},"g",{"$f":"IF(I1016=1,C1016+F1016,IF(I1016=2,C1016+F1016/1000,IF(I1016=3,(1+F1016/100)*C1016,\"\")))","v":47.9},"  kg",{"$f":"N1016*1000","v":47900},"g"]
[{"$f":"IF(COUNTIF($B$1:B1017,TRUE)=COUNTIF($B$1:B1016,TRUE),\"\",COUNTIF($B$1:B1017,TRUE))","v":788},{"$f":"Worksheet!$D$12","v":true},{"$f":"RANDBETWEEN(5,RANDBETWEEN(5,Worksheet!$D$6))","v":88},"tonnes","±",{"$f":"IF(I1017=1,H1017*10^RANDBETWEEN(IF(Worksheet!$D$9,-1,0),0),IF(I1017=2,H1017*10^RANDBETWEEN(RANDBETWEEN(0,2),2),CHOOSE(RANDBETWEEN(1,3),5,10,20)))","v":0.4},{"$f":"IF(I1017=1,D1017,IF(I1017=3,\"%\",\"kg\"))","v":"tonnes"},4,{"$f":"IF(AND(Worksheet!$D$8,RAND()<0.2),3,IF(RAND()<Worksheet!$D$7/100,1,2))","v":1},{"$f":"IF(I1017=1,C1017-F1017,IF(I1017=2,C1017-F1017/1000,IF(I1017=3,(1-F1017/100)*C1017,\"\")))","v":87.6}," tonnes",{"$f":"J1017*1000","v":87600},"kg",{"$f":"IF(I1017=1,C1017+F1017,IF(I1017=2,C1017+F1017/1000,IF(I1017=3,(1+F1017/100)*C1017,\"\")))","v":88.4},"  tonnes",{"$f":"N1017*1000","v":88400},"kg"]
[{"$f":"IF(COUNTIF($B$1:B1018,TRUE)=COUNTIF($B$1:B1017,TRUE),\"\",COUNTIF($B$1:B1018,TRUE))","v":789},{"$f":"Worksheet!$D$13","v":true},{"$f":"RANDBETWEEN(5,RANDBETWEEN(5,Worksheet!$D$6))","v":27},"litres","±",{"$f":"IF(I1018=1,H1018*10^RANDBETWEEN(IF(Worksheet!$D$9,-1,0),0),IF(I1018=2,H1018*10^RANDBETWEEN(RANDBETWEEN(0,2),2),CHOOSE(RANDBETWEEN(1,3),5,10,20)))","v":3},{"$f":"IF(I1018=1,D1018,IF(I1018=3,\"%\",\"ml\"))","v":"litres"},3,{"$f":"IF(AND(Worksheet!$D$8,RAND()<0.2),3,IF(RAND()<Worksheet!$D$7/100,1,2))","v":1},{"$f":"IF(I1018=1,C1018-F1018,IF(I1018=2,C1018-F1018/1000,IF(I1018=3,(1-F1018/100)*C1018,\"\")))","v":24}," litres",{"$f":"J1018*1000","v":24000},"ml",{"$f":"IF(I1018=1,C1018+F1018,IF(I1018=2,C1018+F1018/1000,IF(I1018=3,(1+F1018/100)*C1018,\"\")))","v":30},"  litres",{"$f":"N1018*1000","v":30000},"ml"]
[{"$f":"IF(COUNTIF($B$1:B1019,TRUE)=COUNTIF($B$1:B1018,TRUE),\"\",COUNTIF($B$1:B1019,TRUE))","v":790},{"$f":"Worksheet!$D$14","v":true},{"$f":"RANDBETWEEN(5,RANDBETWEEN(5,Worksheet!$D$6))","v":11},"litres","±",{"$f":"IF(I1019=1,H1019*10^RANDBETWEEN(IF(Worksheet!$D$9,-1,0),0),IF(I1019=2,H1019*10^RANDBETWEEN(RANDBETWEEN(0,2),2),CHOOSE(RANDBETWEEN(1,3),5,10,20)))","v":2},{"$f":"IF(I1019=1,D1019,IF(I1019=3,\"%\",\"cm³\"))","v":"litres"},2,{"$f":"IF(AND(Worksheet!$D$8,RAND()<0.2),3,IF(RAND()<Worksheet!$D$7/100,1,2))","v":1},{"$f":"IF(I1019=1,C1019-F1019,IF(I1019=2,C1019-F1019/1000,IF(I1019=3,(1-F1019/100)*C1019,\"\")))","v":9}," litres",{"$f":"J1019*1000","v":9000},"cm³",{"$f":"IF(I1019=1,C1019+F1019,IF(I1019=2,C1019+F1019/1000,IF(I1019=3,(1+F1019/100)*C1019,\"\")))","v":13},"  litres",{"$f":"N1019*1000","v":13000},"cm³"]
[{"$f":"IF(COUNTIF($B$1:B1020,TRUE)=COUNTIF($B$1:B1019,TRUE),\"\",COUNTIF($B$1:B1020,TRUE))","v":""},{"$f":"Worksheet!$D$15","v":false},{"$f":"RANDBETWEEN(5,20)","v":11},"min","±",{"$f":"IF(I1020=1,H1020*10^RANDBETWEEN(IF(Worksheet!$D$9,-1,0),0),IF(I1020=2,H1020,CHOOSE(RANDBETWEEN(1,3),5,10,20)))","v":0.30000000000000004},{"$f":"IF(I1020=1,D1020,IF(I1020=3,\"%\",\"sec\"))","v":"min"},3,{"$f":"IF(AND(Worksheet!$D$8,RAND()<0),3,IF(RAND()<Worksheet!$D$7/100,1,2))","v":1},null," min",{"$f":"IF(I1020=1,C1020-F1020,IF(I1020=2,C1020*60-F1020,\"\"))","v":10.7},{"$f":"IF($I1020=1,\" hours\",\" min\")","v":" hours"},null,"  min",{"$f":"IF(I1020=1,C1020+F1020,IF(I1020=2,C1020*60+F1020,\"\"))","v":11.3},{"$f":"IF($I1020=1,\" hours\",\" min\")","v":" hours"}]
[{"$f":"COUNTIF($B$1:B1021,TRUE)","v":791},{"$f":"Worksheet!$B$11","v":true},{"$f":"RANDBETWEEN(5,RANDBETWEEN(5,Worksheet!$D$6))","v":20},"cm","±",{"$f":"IF(I1021=1,H1021*10^RANDBETWEEN(IF(Worksheet!$D$9,-1,0),0),IF(I1021=2,H1021,CHOOSE(RANDBETWEEN(1,3),5,10,20)))","v":0.2},{"$f":"IF(I1021=1,D1021,IF(I1021=3,\"%\",\"mm\"))","v":"cm"},{"$f":"RANDBETWEEN(1,MIN(9,C1021))","v":2},{"$f":"IF(AND(Worksheet!$D$8,RAND()<0.2),3,IF(RAND()<Worksheet!$D$7/100,1,2))","v":1},{"$f":"IF(I1021=1,C1021-F1021,IF(I1021=2,C1021-F1021/10,IF(I1021=3,(1-F1021/100)*C1021,\"\")))","v":19.8},{"$f":"CONCATENATE(\" \",D1021)","v":" cm"},{"$f":"J1021*10","v":198},"mm",{"$f":"IF(I1021=1,C1021+F1021,IF(I1021=2,C1021+F1021/10,IF(I1021=3,(1+F1021/100)*C1021,\"\")))","v":20.2},{"$f":"CONCATENATE(\" \",K1021)","v":"  cm"},{"$f":"N1021*10","v":202},"mm"]
[{"$f":"IF(COUNTIF($B$1:B1022,TRUE)=COUNTIF($B$1:B1021,TRUE),\"\",COUNTIF($B$1:B1022,TRUE))","v":792},{"$f":"Worksheet!$B$12","v":true},{"$f":"RANDBETWEEN(5,RANDBETWEEN(5,Worksheet!$D$6))","v":21},"m","±",{"$f":"IF(I1022=1,H1022*10^RANDBETWEEN(IF(Worksheet!$D$9,-1,0),0),IF(I1022=2,H1022*10^RANDBETWEEN(RANDBETWEEN(0,1),1),CHOOSE(RANDBETWEEN(1,3),5,10,20)))","v":6},{"$f":"IF(I1022=1,D1022,IF(I1022=3,\"%\",\"cm\"))","v":"cm"},{"$f":"RANDBETWEEN(1,MIN(9,C1022))","v":6},{"$f":"IF(AND(Worksheet!$D$8,RAND()<0.2),3,IF(RAND()<Worksheet!$D$7/100,1,2))","v":2},{"$f":"IF(I1022=1,C1022-F1022,IF(I1022=2,C1022-F1022/100,IF(I1022=3,(1-F1022/100)*C1022,\"\")))","v":20.94},{"$f":"CONCATENATE(\" \",D1022)","v":" m"},{"$f":"J1022*100","v":2094},"cm",{"$f":"IF(I1022=1,C1022+F1022,IF(I1022=2,C1022+F1022/100,IF(I1022=3,(1+F1022/100)*C1022,\"\")))","v":21.06},{"$f":"CONCATENATE(\" \",K1022)","v":"  m"},{"$f":"N1022*100","v":2106},"cm"]
[{"$f":"IF(COUNTIF($B$1:B1023,TRUE)=COUNTIF($B$1:B1022,TRUE),\"\",COUNTIF($B$1:B1023,TRUE))","v":793},{"$f":"Worksheet!$B$13","v":true},{"$f":"RANDBETWEEN(5,RANDBETWEEN(5,Worksheet!$D$6))","v":7},"km","±",{"$f":"IF(I1023=1,H1023*10^RANDBETWEEN(IF(Worksheet!$D$9,-1,0),0),IF(I1023=2,H1023*10^RANDBETWEEN(RANDBETWEEN(0,2),2),CHOOSE(RANDBETWEEN(1,3),5,10,20)))","v":5},{"$f":"IF(I1023=1,D1023,IF(I1023=3,\"%\",\"m\"))","v":"%"},6,{"$f":"IF(AND(Worksheet!$D$8,RAND()<0.2),3,IF(RAND()<Worksheet!$D$7/100,1,2))","v":3},{"$f":"IF(I1023=1,C1023-F1023,IF(I1023=2,C1023-F1023/1000,IF(I1023=3,(1-F1023/100)*C1023,\"\")))","v":6.6499999999999995}," km",{"$f":"J1023*1000","v":6649.9999999999991},"m",{"$f":"IF(I1023=1,C1023+F1023,IF(I1023=2,C1023+F1023/1000,IF(I1023=3,(1+F1023/100)*C1023,\"\")))","v":7.3500000000000005},"  km",{"$f":"N1023*1000","v":7350.0000000000009},"m"]
[{"$f":"IF(COUNTIF($B$1:B1024,TRUE)=COUNTIF($B$1:B1023,TRUE),\"\",COUNTIF($B$1:B1024,TRUE))","v":""},{"$f":"Worksheet!$B$14","v":false},{"$f":"RANDBETWEEN(5,RANDBETWEEN(5,Worksheet!$D$6))","v":180},"m","±",{"$f":"IF(I1024=1,H1024*10^RANDBETWEEN(IF(Worksheet!$D$9,-1,0),0),IF(I1024=2,H1024*10^RANDBETWEEN(RANDBETWEEN(0,2),2),CHOOSE(RANDBETWEEN(1,3),5,10,20)))","v":10},{"$f":"IF(I1024=1,D1024,IF(I1024=3,\"%\",\"mm\"))","v":"mm"},1,{"$f":"IF(AND(Worksheet!$D$8,RAND()<0.2),3,IF(RAND()<Worksheet!$D$7/100,1,2))","v":2},{"$f":"IF(I1024=1,C1024-F1024,IF(I1024=2,C1024-F1024/1000,IF(I1024=3,(1-F1024/100)*C1024,\"\")))","v":179.99}," m",{"$f":"J1024*1000","v":179990},"mm",{"$f":"IF(I1024=1,C1024+F1024,IF(I1024=2,C1024+F1024/1000,IF(I1024=3,(1+F1024/100)*C1024,\"\")))","v":180.01},"  m",{"$f":"N1024*1000","v":180010},"mm"]
[{"$f":"IF(COUNTIF($B$1:B1025,TRUE)=COUNTIF($B$1:B1024,TRUE),\"\",COUNTIF($B$1:B1025,TRUE))","v":794},{"$f":"Worksheet!$B$15","v":true},{"$f":"RANDBETWEEN(5,20)","v":10},"hours","±",{"$f":"IF(I1025=1,H1025*10^RANDBETWEEN(IF(Worksheet!$D$9,-1,0),0),IF(I1025=2,H1025,CHOOSE(RANDBETWEEN(1,3),5,10,20)))","v":7},{"$f":"IF(I1025=1,D1025,IF(I1025=3,\"%\",\"min\"))","v":"hours"},7,{"$f":"IF(AND(Worksheet!$D$8,RAND()<0),3,IF(RAND()<Worksheet!$D$7/100,1,2))","v":1},null," hours",{"$f":"IF(I1025=1,C1025-F1025,IF(I1025=2,C1025*60-F1025,\"\"))","v":3},{"$f":"IF($I1025=1,\" hours\",\" min\")","v":" hours"},null,"  hours",{"$f":"IF(I1025=1,C1025+F1025,IF(I1025=2,C1025*60+F1025,\"\"))","v":17},{"$f":"IF($I1025=1,\" hours\",\" min\")","v":" hours"}]
[{"$f":"IF(COUNTIF($B$1:B1026,TRUE)=COUNTIF($B$1:B1025,TRUE),\"\",COUNTIF($B$1:B1026,TRUE))","v":795},{"$f":"Worksheet!$D$11","v":true},{"$f":"RANDBETWEEN(5,RANDBETWEEN(5,Worksheet!$D$6))","v":221},"kg","±",{"$f":"IF(I1026=1,H1026*10^RANDBETWEEN(IF(Worksheet!$D$9,-1,0),0),IF(I1026=2,H1026*10^RANDBETWEEN(RANDBETWEEN(0,2),2),CHOOSE(RANDBETWEEN(1,3),5,10,20)))","v":7},{"$f":"IF(I1026=1,D1026,IF(I1026=3,\"%\",\"g\"))","v":"kg"},7,{"$f":"IF(AND(Worksheet!$D$8,RAND()<0.2),3,IF(RAND()<Worksheet!$D$7/100,1,2))","v":1},{"$f":"IF(I1026=1,C1026-F1026,IF(I1026=2,C1026-F1026/1000,IF(I1026=3,(1-F1026/100)*C1026,\"\")))","v":214}," kg",{"$f":"J1026*1000","v":214000},"g",{"$f":"IF(I1026=1,C1026+F1026,IF(I1026=2,C1026+F1026/1000,IF(I1026=3,(1+F1026/100)*C1026,\"\")))","v":228},"  kg",{"$f":"N1026*1000","v":228000},"g"]
[{"$f":"IF(COUNTIF($B$1:B1027,TRUE)=COUNTIF($B$1:B1026,TRUE),\"\",COUNTIF($B$1:B1027,TRUE))","v":796},{"$f":"Worksheet!$D$12","v":true},{"$f":"RANDBETWEEN(5,RANDBETWEEN(5,Worksheet!$D$6))","v":104},"tonnes","±",{"$f":"IF(I1027=1,H1027*10^RANDBETWEEN(IF(Worksheet!$D$9,-1,0),0),IF(I1027=2,H1027*10^RANDBETWEEN(RANDBETWEEN(0,2),2),CHOOSE(RANDBETWEEN(1,3),5,10,20)))","v":1},{"$f":"IF(I1027=1,D1027,IF(I1027=3,\"%\",\"kg\"))","v":"tonnes"},1,{"$f":"IF(AND(Worksheet!$D$8,RAND()<0.2),3,IF(RAND()<Worksheet!$D$7/100,1,2))","v":1},{"$f":"IF(I1027=1,C1027-F1027,IF(I1027=2,C1027-F1027/1000,IF(I1027=3,(1-F1027/100)*C1027,\"\")))","v":103}," tonnes",{"$f":"J1027*1000","v":103000},"kg",{"$f":"IF(I1027=1,C1027+F1027,IF(I1027=2,C1027+F1027/1000,IF(I1027=3,(1+F1027/100)*C1027,\"\")))","v":105},"  tonnes",{"$f":"N1027*1000","v":105000},"kg"]
[{"$f":"IF(COUNTIF($B$1:B1028,TRUE)=COUNTIF($B$1:B1027,TRUE),\"\",COUNTIF($B$1:B1028,TRUE))","v":797},{"$f":"Worksheet!$D$13","v":true},{"$f":"RANDBETWEEN(5,RANDBETWEEN(5,Worksheet!$D$6))","v":200},"litres","±",{"$f":"IF(I1028=1,H1028*10^RANDBETWEEN(IF(Worksheet!$D$9,-1,0),0),IF(I1028=2,H1028*10^RANDBETWEEN(RANDBETWEEN(0,2),2),CHOOSE(RANDBETWEEN(1,3),5,10,20)))","v":9},{"$f":"IF(I1028=1,D1028,IF(I1028=3,\"%\",\"ml\"))","v":"litres"},9,{"$f":"IF(AND(Worksheet!$D$8,RAND()<0.2),3,IF(RAND()<Worksheet!$D$7/100,1,2))","v":1},{"$f":"IF(I1028=1,C1028-F1028,IF(I1028=2,C1028-F1028/1000,IF(I1028=3,(1-F1028/100)*C1028,\"\")))","v":191}," litres",{"$f":"J1028*1000","v":191000},"ml",{"$f":"IF(I1028=1,C1028+F1028,IF(I1028=2,C1028+F1028/1000,IF(I1028=3,(1+F1028/100)*C1028,\"\")))","v":209},"  litres",{"$f":"N1028*1000","v":209000},"ml"]
[{"$f":"IF(COUNTIF($B$1:B1029,TRUE)=COUNTIF($B$1:B1028,TRUE),\"\",COUNTIF($B$1:B1029,TRUE))","v":798},{"$f":"Worksheet!$D$14","v":true},{"$f":"RANDBETWEEN(5,RANDBETWEEN(5,Worksheet!$D$6))","v":15},"litres","±",{"$f":"IF(I1029=1,H1029*10^RANDBETWEEN(IF(Worksheet!$D$9,-1,0),0),IF(I1029=2,H1029*10^RANDBETWEEN(RANDBETWEEN(0,2),2),CHOOSE(RANDBETWEEN(1,3),5,10,20)))","v":10},{"$f":"IF(I1029=1,D1029,IF(I1029=3,\"%\",\"cm³\"))","v":"%"},8,{"$f":"IF(AND(Worksheet!$D$8,RAND()<0.2),3,IF(RAND()<Worksheet!$D$7/100,1,2))","v":3},{"$f":"IF(I1029=1,C1029-F1029,IF(I1029=2,C1029-F1029/1000,IF(I1029=3,(1-F1029/100)*C1029,\"\")))","v":13.5}," litres",{"$f":"J1029*1000","v":13500},"cm³",{"$f":"IF(I1029=1,C1029+F1029,IF(I1029=2,C1029+F1029/1000,IF(I1029=3,(1+F1029/100)*C1029,\"\")))","v":16.5},"  litres",{"$f":"N1029*1000","v":16500},"cm³"]
[{"$f":"IF(COUNTIF($B$1:B1030,TRUE)=COUNTIF($B$1:B1029,TRUE),\"\",COUNTIF($B$1:B1030,TRUE))","v":""},{"$f":"Worksheet!$D$15","v":false},{"$f":"RANDBETWEEN(5,20)","v":17},"min","±",{"$f":"IF(I1030=1,H1030*10^RANDBETWEEN(IF(Worksheet!$D$9,-1,0),0),IF(I1030=2,H1030,CHOOSE(RANDBETWEEN(1,3),5,10,20)))","v":6},{"$f":"IF(I1030=1,D1030,IF(I1030=3,\"%\",\"sec\"))","v":"min"},6,{"$f":"IF(AND(Worksheet!$D$8,RAND()<0),3,IF(RAND()<Worksheet!$D$7/100,1,2))","v":1},null," min",{"$f":"IF(I1030=1,C1030-F1030,IF(I1030=2,C1030*60-F1030,\"\"))","v":11},{"$f":"IF($I1030=1,\" hours\",\" min\")","v":" hours"},null,"  min",{"$f":"IF(I1030=1,C1030+F1030,IF(I1030=2,C1030*60+F1030,\"\"))","v":23},{"$f":"IF($I1030=1,\" hours\",\" min\")","v":" hours"}]
[{"$f":"COUNTIF($B$1:B1031,TRUE)","v":799},{"$f":"Worksheet!$B$11","v":true},{"$f":"RANDBETWEEN(5,RANDBETWEEN(5,Worksheet!$D$6))","v":157},"cm","±",{"$f":"IF(I1031=1,H1031*10^RANDBETWEEN(IF(Worksheet!$D$9,-1,0),0),IF(I1031=2,H1031,CHOOSE(RANDBETWEEN(1,3),5,10,20)))","v":10},{"$f":"IF(I1031=1,D1031,IF(I1031=3,\"%\",\"mm\"))","v":"%"},{"$f":"RANDBETWEEN(1,MIN(9,C1031))","v":9},{"$f":"IF(AND(Worksheet!$D$8,RAND()<0.2),3,IF(RAND()<Worksheet!$D$7/100,1,2))","v":3},{"$f":"IF(I1031=1,C1031-F1031,IF(I1031=2,C1031-F1031/10,IF(I1031=3,(1-F1031/100)*C1031,\"\")))","v":141.30000000000001},{"$f":"CONCATENATE(\" \",D1031)","v":" cm"},{"$f":"J1031*10","v":1413},"mm",{"$f":"IF(I1031=1,C1031+F1031,IF(I1031=2,C1031+F1031/10,IF(I1031=3,(1+F1031/100)*C1031,\"\")))","v":172.70000000000002},{"$f":"CONCATENATE(\" \",K1031)","v":"  cm"},{"$f":"N1031*10","v":1727.0000000000002},"mm"]
[{"$f":"IF(COUNTIF($B$1:B1032,TRUE)=COUNTIF($B$1:B1031,TRUE),\"\",COUNTIF($B$1:B1032,TRUE))","v":800},{"$f":"Worksheet!$B$12","v":true},{"$f":"RANDBETWEEN(5,RANDBETWEEN(5,Worksheet!$D$6))","v":32},"m","±",{"$f":"IF(I1032=1,H1032*10^RANDBETWEEN(IF(Worksheet!$D$9,-1,0),0),IF(I1032=2,H1032*10^RANDBETWEEN(RANDBETWEEN(0,1),1),CHOOSE(RANDBETWEEN(1,3),5,10,20)))","v":20},{"$f":"IF(I1032=1,D1032,IF(I1032=3,\"%\",\"cm\"))","v":"%"},{"$f":"RANDBETWEEN(1,MIN(9,C1032))","v":1},{"$f":"IF(AND(Worksheet!$D$8,RAND()<0.2),3,IF(RAND()<Worksheet!$D$7/100,1,2))","v":3},{"$f":"IF(I1032=1,C1032-F1032,IF(I1032=2,C1032-F1032/100,IF(I1032=3,(1-F1032/100)*C1032,\"\")))","v":25.6},{"$f":"CONCATENATE(\" \",D1032)","v":" m"},{"$f":"J1032*100","v":2560},"cm",{"$f":"IF(I1032=1,C1032+F1032,IF(I1032=2,C1032+F1032/100,IF(I1032=3,(1+F1032/100)*C1032,\"\")))","v":38.4},{"$f":"CONCATENATE(\" \",K1032)","v":"  m"},{"$f":"N1032*100","v":3840},"cm"]
[{"$f":"IF(COUNTIF($B$1:B1033,TRUE)=COUNTIF($B$1:B1032,TRUE),\"\",COUNTIF($B$1:B1033,TRUE))","v":801},{"$f":"Worksheet!$B$13","v":true},{"$f":"RANDBETWEEN(5,RANDBETWEEN(5,Worksheet!$D$6))","v":98},"km","±",{"$f":"IF(I1033=1,H1033*10^RANDBETWEEN(IF(Worksheet!$D$9,-1,0),0),IF(I1033=2,H1033*10^RANDBETWEEN(RANDBETWEEN(0,2),2),CHOOSE(RANDBETWEEN(1,3),5,10,20)))","v":1},{"$f":"IF(I1033=1,D1033,IF(I1033=3,\"%\",\"m\"))","v":"km"},1,{"$f":"IF(AND(Worksheet!$D$8,RAND()<0.2),3,IF(RAND()<Worksheet!$D$7/100,1,2))","v":1},{"$f":"IF(I1033=1,C1033-F1033,IF(I1033=2,C1033-F1033/1000,IF(I1033=3,(1-F1033/100)*C1033,\"\")))","v":97}," km",{"$f":"J1033*1000","v":97000},"m",{"$f":"IF(I1033=1,C1033+F1033,IF(I1033=2,C1033+F1033/1000,IF(I1033=3,(1+F1033/100)*C1033,\"\")))","v":99},"  km",{"$f":"N1033*1000","v":99000},"m"]
[{"$f":"IF(COUNTIF($B$1:B1034,TRUE)=COUNTIF($B$1:B1033,TRUE),\"\",COUNTIF($B$1:B1034,TRUE))","v":""},{"$f":"Worksheet!$B$14","v":false},{"$f":"RANDBETWEEN(5,RANDBETWEEN(5,Worksheet!$D$6))","v":8},"m","±",{"$f":"IF(I1034=1,H1034*10^RANDBETWEEN(IF(Worksheet!$D$9,-1,0),0),IF(I1034=2,H1034*10^RANDBETWEEN(RANDBETWEEN(0,2),2),CHOOSE(RANDBETWEEN(1,3),5,10,20)))","v":3},{"$f":"IF(I1034=1,D1034,IF(I1034=3,\"%\",\"mm\"))","v":"m"},3,{"$f":"IF(AND(Worksheet!$D$8,RAND()<0.2),3,IF(RAND()<Worksheet!$D$7/100,1,2))","v":1},{"$f":"IF(I1034=1,C1034-F1034,IF(I1034=2,C1034-F1034/1000,IF(I1034=3,(1-F1034/100)*C1034,\"\")))","v":5}," m",{"$f":"J1034*1000","v":5000},"mm",{"$f":"IF(I1034=1,C1034+F1034,IF(I1034=2,C1034+F1034/1000,IF(I1034=3,(1+F1034/100)*C1034,\"\")))","v":11},"  m",{"$f":"N1034*1000","v":11000},"mm"]
[{"$f":"IF(COUNTIF($B$1:B1035,TRUE)=COUNTIF($B$1:B1034,TRUE),\"\",COUNTIF($B$1:B1035,TRUE))","v":802},{"$f":"Worksheet!$B$15","v":true},{"$f":"RANDBETWEEN(5,20)","v":13},"hours","±",{"$f":"IF(I1035=1,H1035*10^RANDBETWEEN(IF(Worksheet!$D$9,-1,0),0),IF(I1035=2,H1035,CHOOSE(RANDBETWEEN(1,3),5,10,20)))","v":7},{"$f":"IF(I1035=1,D1035,IF(I1035=3,\"%\",\"min\"))","v":"min"},7,{"$f":"IF(AND(Worksheet!$D$8,RAND()<0),3,IF(RAND()<Worksheet!$D$7/100,1,2))","v":2},null," hours",{"$f":"IF(I1035=1,C1035-F1035,IF(I1035=2,C1035*60-F1035,\"\"))","v":773},{"$f":"IF($I1035=1,\" hours\",\" min\")","v":" min"},null,"  hours",{"$f":"IF(I1035=1,C1035+F1035,IF(I1035=2,C1035*60+F1035,\"\"))","v":787},{"$f":"IF($I1035=1,\" hours\",\" min\")","v":" min"}]
[{"$f":"IF(COUNTIF($B$1:B1036,TRUE)=COUNTIF($B$1:B1035,TRUE),\"\",COUNTIF($B$1:B1036,TRUE))","v":803},{"$f":"Worksheet!$D$11","v":true},{"$f":"RANDBETWEEN(5,RANDBETWEEN(5,Worksheet!$D$6))","v":26},"kg","±",{"$f":"IF(I1036=1,H1036*10^RANDBETWEEN(IF(Worksheet!$D$9,-1,0),0),IF(I1036=2,H1036*10^RANDBETWEEN(RANDBETWEEN(0,2),2),CHOOSE(RANDBETWEEN(1,3),5,10,20)))","v":0.1},{"$f":"IF(I1036=1,D1036,IF(I1036=3,\"%\",\"g\"))","v":"kg"},1,{"$f":"IF(AND(Worksheet!$D$8,RAND()<0.2),3,IF(RAND()<Worksheet!$D$7/100,1,2))","v":1},{"$f":"IF(I1036=1,C1036-F1036,IF(I1036=2,C1036-F1036/1000,IF(I1036=3,(1-F1036/100)*C1036,\"\")))","v":25.9}," kg",{"$f":"J1036*1000","v":25900},"g",{"$f":"IF(I1036=1,C1036+F1036,IF(I1036=2,C1036+F1036/1000,IF(I1036=3,(1+F1036/100)*C1036,\"\")))","v":26.1},"  kg",{"$f":"N1036*1000","v":26100},"g"]
[{"$f":"IF(COUNTIF($B$1:B1037,TRUE)=COUNTIF($B$1:B1036,TRUE),\"\",COUNTIF($B$1:B1037,TRUE))","v":804},{"$f":"Worksheet!$D$12","v":true},{"$f":"RANDBETWEEN(5,RANDBETWEEN(5,Worksheet!$D$6))","v":128},"tonnes","±",{"$f":"IF(I1037=1,H1037*10^RANDBETWEEN(IF(Worksheet!$D$9,-1,0),0),IF(I1037=2,H1037*10^RANDBETWEEN(RANDBETWEEN(0,2),2),CHOOSE(RANDBETWEEN(1,3),5,10,20)))","v":3},{"$f":"IF(I1037=1,D1037,IF(I1037=3,\"%\",\"kg\"))","v":"tonnes"},3,{"$f":"IF(AND(Worksheet!$D$8,RAND()<0.2),3,IF(RAND()<Worksheet!$D$7/100,1,2))","v":1},{"$f":"IF(I1037=1,C1037-F1037,IF(I1037=2,C1037-F1037/1000,IF(I1037=3,(1-F1037/100)*C1037,\"\")))","v":125}," tonnes",{"$f":"J1037*1000","v":125000},"kg",{"$f":"IF(I1037=1,C1037+F1037,IF(I1037=2,C1037+F1037/1000,IF(I1037=3,(1+F1037/100)*C1037,\"\")))","v":131},"  tonnes",{"$f":"N1037*1000","v":131000},"kg"]
[{"$f":"IF(COUNTIF($B$1:B1038,TRUE)=COUNTIF($B$1:B1037,TRUE),\"\",COUNTIF($B$1:B1038,TRUE))","v":805},{"$f":"Worksheet!$D$13","v":true},{"$f":"RANDBETWEEN(5,RANDBETWEEN(5,Worksheet!$D$6))","v":83},"litres","±",{"$f":"IF(I1038=1,H1038*10^RANDBETWEEN(IF(Worksheet!$D$9,-1,0),0),IF(I1038=2,H1038*10^RANDBETWEEN(RANDBETWEEN(0,2),2),CHOOSE(RANDBETWEEN(1,3),5,10,20)))","v":1},{"$f":"IF(I1038=1,D1038,IF(I1038=3,\"%\",\"ml\"))","v":"litres"},1,{"$f":"IF(AND(Worksheet!$D$8,RAND()<0.2),3,IF(RAND()<Worksheet!$D$7/100,1,2))","v":1},{"$f":"IF(I1038=1,C1038-F1038,IF(I1038=2,C1038-F1038/1000,IF(I1038=3,(1-F1038/100)*C1038,\"\")))","v":82}," litres",{"$f":"J1038*1000","v":82000},"ml",{"$f":"IF(I1038=1,C1038+F1038,IF(I1038=2,C1038+F1038/1000,IF(I1038=3,(1+F1038/100)*C1038,\"\")))","v":84},"  litres",{"$f":"N1038*1000","v":84000},"ml"]
[{"$f":"IF(COUNTIF($B$1:B1039,TRUE)=COUNTIF($B$1:B1038,TRUE),\"\",COUNTIF($B$1:B1039,TRUE))","v":806},{"$f":"Worksheet!$D$14","v":true},{"$f":"RANDBETWEEN(5,RANDBETWEEN(5,Worksheet!$D$6))","v":49},"litres","±",{"$f":"IF(I1039=1,H1039*10^RANDBETWEEN(IF(Worksheet!$D$9,-1,0),0),IF(I1039=2,H1039*10^RANDBETWEEN(RANDBETWEEN(0,2),2),CHOOSE(RANDBETWEEN(1,3),5,10,20)))","v":9},{"$f":"IF(I1039=1,D1039,IF(I1039=3,\"%\",\"cm³\"))","v":"litres"},9,{"$f":"IF(AND(Worksheet!$D$8,RAND()<0.2),3,IF(RAND()<Worksheet!$D$7/100,1,2))","v":1},{"$f":"IF(I1039=1,C1039-F1039,IF(I1039=2,C1039-F1039/1000,IF(I1039=3,(1-F1039/100)*C1039,\"\")))","v":40}," litres",{"$f":"J1039*1000","v":40000},"cm³",{"$f":"IF(I1039=1,C1039+F1039,IF(I1039=2,C1039+F1039/1000,IF(I1039=3,(1+F1039/100)*C1039,\"\")))","v":58},"  litres",{"$f":"N1039*1000","v":58000},"cm³"]
[{"$f":"IF(COUNTIF($B$1:B1040,TRUE)=COUNTIF($B$1:B1039,TRUE),\"\",COUNTIF($B$1:B1040,TRUE))","v":""},{"$f":"Worksheet!$D$15","v":false},{"$f":"RANDBETWEEN(5,20)","v":9},"min","±",{"$f":"IF(I1040=1,H1040*10^RANDBETWEEN(IF(Worksheet!$D$9,-1,0),0),IF(I1040=2,H1040,CHOOSE(RANDBETWEEN(1,3),5,10,20)))","v":0.30000000000000004},{"$f":"IF(I1040=1,D1040,IF(I1040=3,\"%\",\"sec\"))","v":"min"},3,{"$f":"IF(AND(Worksheet!$D$8,RAND()<0),3,IF(RAND()<Worksheet!$D$7/100,1,2))","v":1},null," min",{"$f":"IF(I1040=1,C1040-F1040,IF(I1040=2,C1040*60-F1040,\"\"))","v":8.6999999999999993},{"$f":"IF($I1040=1,\" hours\",\" min\")","v":" hours"},null,"  min",{"$f":"IF(I1040=1,C1040+F1040,IF(I1040=2,C1040*60+F1040,\"\"))","v":9.3000000000000007},{"$f":"IF($I1040=1,\" hours\",\" min\")","v":" hours"}]
[{"$f":"COUNTIF($B$1:B1041,TRUE)","v":807},{"$f":"Worksheet!$B$11","v":true},{"$f":"RANDBETWEEN(5,RANDBETWEEN(5,Worksheet!$D$6))","v":28},"cm","±",{"$f":"IF(I1041=1,H1041*10^RANDBETWEEN(IF(Worksheet!$D$9,-1,0),0),IF(I1041=2,H1041,CHOOSE(RANDBETWEEN(1,3),5,10,20)))","v":4},{"$f":"IF(I1041=1,D1041,IF(I1041=3,\"%\",\"mm\"))","v":"mm"},{"$f":"RANDBETWEEN(1,MIN(9,C1041))","v":4},{"$f":"IF(AND(Worksheet!$D$8,RAND()<0.2),3,IF(RAND()<Worksheet!$D$7/100,1,2))","v":2},{"$f":"IF(I1041=1,C1041-F1041,IF(I1041=2,C1041-F1041/10,IF(I1041=3,(1-F1041/100)*C1041,\"\")))","v":27.6},{"$f":"CONCATENATE(\" \",D1041)","v":" cm"},{"$f":"J1041*10","v":276},"mm",{"$f":"IF(I1041=1,C1041+F1041,IF(I1041=2,C1041+F1041/10,IF(I1041=3,(1+F1041/100)*C1041,\"\")))","v":28.4},{"$f":"CONCATENATE(\" \",K1041)","v":"  cm"},{"$f":"N1041*10","v":284},"mm"]
[{"$f":"IF(COUNTIF($B$1:B1042,TRUE)=COUNTIF($B$1:B1041,TRUE),\"\",COUNTIF($B$1:B1042,TRUE))","v":808},{"$f":"Worksheet!$B$12","v":true},{"$f":"RANDBETWEEN(5,RANDBETWEEN(5,Worksheet!$D$6))","v":5},"m","±",{"$f":"IF(I1042=1,H1042*10^RANDBETWEEN(IF(Worksheet!$D$9,-1,0),0),IF(I1042=2,H1042*10^RANDBETWEEN(RANDBETWEEN(0,1),1),CHOOSE(RANDBETWEEN(1,3),5,10,20)))","v":3},{"$f":"IF(I1042=1,D1042,IF(I1042=3,\"%\",\"cm\"))","v":"m"},{"$f":"RANDBETWEEN(1,MIN(9,C1042))","v":3},{"$f":"IF(AND(Worksheet!$D$8,RAND()<0.2),3,IF(RAND()<Worksheet!$D$7/100,1,2))","v":1},{"$f":"IF(I1042=1,C1042-F1042,IF(I1042=2,C1042-F1042/100,IF(I1042=3,(1-F1042/100)*C1042,\"\")))","v":2},{"$f":"CONCATENATE(\" \",D1042)","v":" m"},{"$f":"J1042*100","v":200},"cm",{"$f":"IF(I1042=1,C1042+F1042,IF(I1042=2,C1042+F1042/100,IF(I1042=3,(1+F1042/100)*C1042,\"\")))","v":8},{"$f":"CONCATENATE(\" \",K1042)","v":"  m"},{"$f":"N1042*100","v":800},"cm"]
[{"$f":"IF(COUNTIF($B$1:B1043,TRUE)=COUNTIF($B$1:B1042,TRUE),\"\",COUNTIF($B$1:B1043,TRUE))","v":809},{"$f":"Worksheet!$B$13","v":true},{"$f":"RANDBETWEEN(5,RANDBETWEEN(5,Worksheet!$D$6))","v":155},"km","±",{"$f":"IF(I1043=1,H1043*10^RANDBETWEEN(IF(Worksheet!$D$9,-1,0),0),IF(I1043=2,H1043*10^RANDBETWEEN(RANDBETWEEN(0,2),2),CHOOSE(RANDBETWEEN(1,3),5,10,20)))","v":0.60000000000000009},{"$f":"IF(I1043=1,D1043,IF(I1043=3,\"%\",\"m\"))","v":"km"},6,{"$f":"IF(AND(Worksheet!$D$8,RAND()<0.2),3,IF(RAND()<Worksheet!$D$7/100,1,2))","v":1},{"$f":"IF(I1043=1,C1043-F1043,IF(I1043=2,C1043-F1043/1000,IF(I1043=3,(1-F1043/100)*C1043,\"\")))","v":154.4}," km",{"$f":"J1043*1000","v":154400},"m",{"$f":"IF(I1043=1,C1043+F1043,IF(I1043=2,C1043+F1043/1000,IF(I1043=3,(1+F1043/100)*C1043,\"\")))","v":155.6},"  km",{"$f":"N1043*1000","v":155600},"m"]
[{"$f":"IF(COUNTIF($B$1:B1044,TRUE)=COUNTIF($B$1:B1043,TRUE),\"\",COUNTIF($B$1:B1044,TRUE))","v":""},{"$f":"Worksheet!$B$14","v":false},{"$f":"RANDBETWEEN(5,RANDBETWEEN(5,Worksheet!$D$6))","v":112},"m","±",{"$f":"IF(I1044=1,H1044*10^RANDBETWEEN(IF(Worksheet!$D$9,-1,0),0),IF(I1044=2,H1044*10^RANDBETWEEN(RANDBETWEEN(0,2),2),CHOOSE(RANDBETWEEN(1,3),5,10,20)))","v":30},{"$f":"IF(I1044=1,D1044,IF(I1044=3,\"%\",\"mm\"))","v":"mm"},3,{"$f":"IF(AND(Worksheet!$D$8,RAND()<0.2),3,IF(RAND()<Worksheet!$D$7/100,1,2))","v":2},{"$f":"IF(I1044=1,C1044-F1044,IF(I1044=2,C1044-F1044/1000,IF(I1044=3,(1-F1044/100)*C1044,\"\")))","v":111.97}," m",{"$f":"J1044*1000","v":111970},"mm",{"$f":"IF(I1044=1,C1044+F1044,IF(I1044=2,C1044+F1044/1000,IF(I1044=3,(1+F1044/100)*C1044,\"\")))","v":112.03},"  m",{"$f":"N1044*1000","v":112030},"mm"]
[{"$f":"IF(COUNTIF($B$1:B1045,TRUE)=COUNTIF($B$1:B1044,TRUE),\"\",COUNTIF($B$1:B1045,TRUE))","v":810},{"$f":"Worksheet!$B$15","v":true},{"$f":"RANDBETWEEN(5,20)","v":7},"hours","±",{"$f":"IF(I1045=1,H1045*10^RANDBETWEEN(IF(Worksheet!$D$9,-1,0),0),IF(I1045=2,H1045,CHOOSE(RANDBETWEEN(1,3),5,10,20)))","v":0.5},{"$f":"IF(I1045=1,D1045,IF(I1045=3,\"%\",\"min\"))","v":"hours"},5,{"$f":"IF(AND(Worksheet!$D$8,RAND()<0),3,IF(RAND()<Worksheet!$D$7/100,1,2))","v":1},null," hours",{"$f":"IF(I1045=1,C1045-F1045,IF(I1045=2,C1045*60-F1045,\"\"))","v":6.5},{"$f":"IF($I1045=1,\" hours\",\" min\")","v":" hours"},null,"  hours",{"$f":"IF(I1045=1,C1045+F1045,IF(I1045=2,C1045*60+F1045,\"\"))","v":7.5},{"$f":"IF($I1045=1,\" hours\",\" min\")","v":" hours"}]
[{"$f":"IF(COUNTIF($B$1:B1046,TRUE)=COUNTIF($B$1:B1045,TRUE),\"\",COUNTIF($B$1:B1046,TRUE))","v":811},{"$f":"Worksheet!$D$11","v":true},{"$f":"RANDBETWEEN(5,RANDBETWEEN(5,Worksheet!$D$6))","v":8},"kg","±",{"$f":"IF(I1046=1,H1046*10^RANDBETWEEN(IF(Worksheet!$D$9,-1,0),0),IF(I1046=2,H1046*10^RANDBETWEEN(RANDBETWEEN(0,2),2),CHOOSE(RANDBETWEEN(1,3),5,10,20)))","v":20},{"$f":"IF(I1046=1,D1046,IF(I1046=3,\"%\",\"g\"))","v":"%"},7,{"$f":"IF(AND(Worksheet!$D$8,RAND()<0.2),3,IF(RAND()<Worksheet!$D$7/100,1,2))","v":3},{"$f":"IF(I1046=1,C1046-F1046,IF(I1046=2,C1046-F1046/1000,IF(I1046=3,(1-F1046/100)*C1046,\"\")))","v":6.4}," kg",{"$f":"J1046*1000","v":6400},"g",{"$f":"IF(I1046=1,C1046+F1046,IF(I1046=2,C1046+F1046/1000,IF(I1046=3,(1+F1046/100)*C1046,\"\")))","v":9.6},"  kg",{"$f":"N1046*1000","v":9600},"g"]
[{"$f":"IF(COUNTIF($B$1:B1047,TRUE)=COUNTIF($B$1:B1046,TRUE),\"\",COUNTIF($B$1:B1047,TRUE))","v":812},{"$f":"Worksheet!$D$12","v":true},{"$f":"RANDBETWEEN(5,RANDBETWEEN(5,Worksheet!$D$6))","v":159},"tonnes","±",{"$f":"IF(I1047=1,H1047*10^RANDBETWEEN(IF(Worksheet!$D$9,-1,0),0),IF(I1047=2,H1047*10^RANDBETWEEN(RANDBETWEEN(0,2),2),CHOOSE(RANDBETWEEN(1,3),5,10,20)))","v":4},{"$f":"IF(I1047=1,D1047,IF(I1047=3,\"%\",\"kg\"))","v":"tonnes"},4,{"$f":"IF(AND(Worksheet!$D$8,RAND()<0.2),3,IF(RAND()<Worksheet!$D$7/100,1,2))","v":1},{"$f":"IF(I1047=1,C1047-F1047,IF(I1047=2,C1047-F1047/1000,IF(I1047=3,(1-F1047/100)*C1047,\"\")))","v":155}," tonnes",{"$f":"J1047*1000","v":155000},"kg",{"$f":"IF(I1047=1,C1047+F1047,IF(I1047=2,C1047+F1047/1000,IF(I1047=3,(1+F1047/100)*C1047,\"\")))","v":163},"  tonnes",{"$f":"N1047*1000","v":163000},"kg"]
[{"$f":"IF(COUNTIF($B$1:B1048,TRUE)=COUNTIF($B$1:B1047,TRUE),\"\",COUNTIF($B$1:B1048,TRUE))","v":813},{"$f":"Worksheet!$D$13","v":true},{"$f":"RANDBETWEEN(5,RANDBETWEEN(5,Worksheet!$D$6))","v":141},"litres","±",{"$f":"IF(I1048=1,H1048*10^RANDBETWEEN(IF(Worksheet!$D$9,-1,0),0),IF(I1048=2,H1048*10^RANDBETWEEN(RANDBETWEEN(0,2),2),CHOOSE(RANDBETWEEN(1,3),5,10,20)))","v":1},{"$f":"IF(I1048=1,D1048,IF(I1048=3,\"%\",\"ml\"))","v":"litres"},1,{"$f":"IF(AND(Worksheet!$D$8,RAND()<0.2),3,IF(RAND()<Worksheet!$D$7/100,1,2))","v":1},{"$f":"IF(I1048=1,C1048-F1048,IF(I1048=2,C1048-F1048/1000,IF(I1048=3,(1-F1048/100)*C1048,\"\")))","v":140}," litres",{"$f":"J1048*1000","v":140000},"ml",{"$f":"IF(I1048=1,C1048+F1048,IF(I1048=2,C1048+F1048/1000,IF(I1048=3,(1+F1048/100)*C1048,\"\")))","v":142},"  litres",{"$f":"N1048*1000","v":142000},"ml"]
[{"$f":"IF(COUNTIF($B$1:B1049,TRUE)=COUNTIF($B$1:B1048,TRUE),\"\",COUNTIF($B$1:B1049,TRUE))","v":814},{"$f":"Worksheet!$D$14","v":true},{"$f":"RANDBETWEEN(5,RANDBETWEEN(5,Worksheet!$D$6))","v":158},"litres","±",{"$f":"IF(I1049=1,H1049*10^RANDBETWEEN(IF(Worksheet!$D$9,-1,0),0),IF(I1049=2,H1049*10^RANDBETWEEN(RANDBETWEEN(0,2),2),CHOOSE(RANDBETWEEN(1,3),5,10,20)))","v":7},{"$f":"IF(I1049=1,D1049,IF(I1049=3,\"%\",\"cm³\"))","v":"litres"},7,{"$f":"IF(AND(Worksheet!$D$8,RAND()<0.2),3,IF(RAND()<Worksheet!$D$7/100,1,2))","v":1},{"$f":"IF(I1049=1,C1049-F1049,IF(I1049=2,C1049-F1049/1000,IF(I1049=3,(1-F1049/100)*C1049,\"\")))","v":151}," litres",{"$f":"J1049*1000","v":151000},"cm³",{"$f":"IF(I1049=1,C1049+F1049,IF(I1049=2,C1049+F1049/1000,IF(I1049=3,(1+F1049/100)*C1049,\"\")))","v":165},"  litres",{"$f":"N1049*1000","v":165000},"cm³"]
[{"$f":"IF(COUNTIF($B$1:B1050,TRUE)=COUNTIF($B$1:B1049,TRUE),\"\",COUNTIF($B$1:B1050,TRUE))","v":""},{"$f":"Worksheet!$D$15","v":false},{"$f":"RANDBETWEEN(5,20)","v":9},"min","±",{"$f":"IF(I1050=1,H1050*10^RANDBETWEEN(IF(Worksheet!$D$9,-1,0),0),IF(I1050=2,H1050,CHOOSE(RANDBETWEEN(1,3),5,10,20)))","v":0.2},{"$f":"IF(I1050=1,D1050,IF(I1050=3,\"%\",\"sec\"))","v":"min"},2,{"$f":"IF(AND(Worksheet!$D$8,RAND()<0),3,IF(RAND()<Worksheet!$D$7/100,1,2))","v":1},null," min",{"$f":"IF(I1050=1,C1050-F1050,IF(I1050=2,C1050*60-F1050,\"\"))","v":8.8000000000000007},{"$f":"IF($I1050=1,\" hours\",\" min\")","v":" hours"},null,"  min",{"$f":"IF(I1050=1,C1050+F1050,IF(I1050=2,C1050*60+F1050,\"\"))","v":9.1999999999999993},{"$f":"IF($I1050=1,\" hours\",\" min\")","v":" hours"}]
[{"$f":"COUNTIF($B$1:B1051,TRUE)","v":815},{"$f":"Worksheet!$B$11","v":true},{"$f":"RANDBETWEEN(5,RANDBETWEEN(5,Worksheet!$D$6))","v":24},"cm","±",{"$f":"IF(I1051=1,H1051*10^RANDBETWEEN(IF(Worksheet!$D$9,-1,0),0),IF(I1051=2,H1051,CHOOSE(RANDBETWEEN(1,3),5,10,20)))","v":0.8},{"$f":"IF(I1051=1,D1051,IF(I1051=3,\"%\",\"mm\"))","v":"cm"},{"$f":"RANDBETWEEN(1,MIN(9,C1051))","v":8},{"$f":"IF(AND(Worksheet!$D$8,RAND()<0.2),3,IF(RAND()<Worksheet!$D$7/100,1,2))","v":1},{"$f":"IF(I1051=1,C1051-F1051,IF(I1051=2,C1051-F1051/10,IF(I1051=3,(1-F1051/100)*C1051,\"\")))","v":23.2},{"$f":"CONCATENATE(\" \",D1051)","v":" cm"},{"$f":"J1051*10","v":232},"mm",{"$f":"IF(I1051=1,C1051+F1051,IF(I1051=2,C1051+F1051/10,IF(I1051=3,(1+F1051/100)*C1051,\"\")))","v":24.8},{"$f":"CONCATENATE(\" \",K1051)","v":"  cm"},{"$f":"N1051*10","v":248},"mm"]
[{"$f":"IF(COUNTIF($B$1:B1052,TRUE)=COUNTIF($B$1:B1051,TRUE),\"\",COUNTIF($B$1:B1052,TRUE))","v":816},{"$f":"Worksheet!$B$12","v":true},{"$f":"RANDBETWEEN(5,RANDBETWEEN(5,Worksheet!$D$6))","v":30},"m","±",{"$f":"IF(I1052=1,H1052*10^RANDBETWEEN(IF(Worksheet!$D$9,-1,0),0),IF(I1052=2,H1052*10^RANDBETWEEN(RANDBETWEEN(0,1),1),CHOOSE(RANDBETWEEN(1,3),5,10,20)))","v":0.1},{"$f":"IF(I1052=1,D1052,IF(I1052=3,\"%\",\"cm\"))","v":"m"},{"$f":"RANDBETWEEN(1,MIN(9,C1052))","v":1},{"$f":"IF(AND(Worksheet!$D$8,RAND()<0.2),3,IF(RAND()<Worksheet!$D$7/100,1,2))","v":1},{"$f":"IF(I1052=1,C1052-F1052,IF(I1052=2,C1052-F1052/100,IF(I1052=3,(1-F1052/100)*C1052,\"\")))","v":29.9},{"$f":"CONCATENATE(\" \",D1052)","v":" m"},{"$f":"J1052*100","v":2990},"cm",{"$f":"IF(I1052=1,C1052+F1052,IF(I1052=2,C1052+F1052/100,IF(I1052=3,(1+F1052/100)*C1052,\"\")))","v":30.1},{"$f":"CONCATENATE(\" \",K1052)","v":"  m"},{"$f":"N1052*100","v":3010},"cm"]
[{"$f":"IF(COUNTIF($B$1:B1053,TRUE)=COUNTIF($B$1:B1052,TRUE),\"\",COUNTIF($B$1:B1053,TRUE))","v":817},{"$f":"Worksheet!$B$13","v":true},{"$f":"RANDBETWEEN(5,RANDBETWEEN(5,Worksheet!$D$6))","v":350},"km","±",{"$f":"IF(I1053=1,H1053*10^RANDBETWEEN(IF(Worksheet!$D$9,-1,0),0),IF(I1053=2,H1053*10^RANDBETWEEN(RANDBETWEEN(0,2),2),CHOOSE(RANDBETWEEN(1,3),5,10,20)))","v":50},{"$f":"IF(I1053=1,D1053,IF(I1053=3,\"%\",\"m\"))","v":"m"},5,{"$f":"IF(AND(Worksheet!$D$8,RAND()<0.2),3,IF(RAND()<Worksheet!$D$7/100,1,2))","v":2},{"$f":"IF(I1053=1,C1053-F1053,IF(I1053=2,C1053-F1053/1000,IF(I1053=3,(1-F1053/100)*C1053,\"\")))","v":349.95}," km",{"$f":"J1053*1000","v":349950},"m",{"$f":"IF(I1053=1,C1053+F1053,IF(I1053=2,C1053+F1053/1000,IF(I1053=3,(1+F1053/100)*C1053,\"\")))","v":350.05},"  km",{"$f":"N1053*1000","v":350050},"m"]
[{"$f":"IF(COUNTIF($B$1:B1054,TRUE)=COUNTIF($B$1:B1053,TRUE),\"\",COUNTIF($B$1:B1054,TRUE))","v":""},{"$f":"Worksheet!$B$14","v":false},{"$f":"RANDBETWEEN(5,RANDBETWEEN(5,Worksheet!$D$6))","v":56},"m","±",{"$f":"IF(I1054=1,H1054*10^RANDBETWEEN(IF(Worksheet!$D$9,-1,0),0),IF(I1054=2,H1054*10^RANDBETWEEN(RANDBETWEEN(0,2),2),CHOOSE(RANDBETWEEN(1,3),5,10,20)))","v":10},{"$f":"IF(I1054=1,D1054,IF(I1054=3,\"%\",\"mm\"))","v":"%"},6,{"$f":"IF(AND(Worksheet!$D$8,RAND()<0.2),3,IF(RAND()<Worksheet!$D$7/100,1,2))","v":3},{"$f":"IF(I1054=1,C1054-F1054,IF(I1054=2,C1054-F1054/1000,IF(I1054=3,(1-F1054/100)*C1054,\"\")))","v":50.4}," m",{"$f":"J1054*1000","v":50400},"mm",{"$f":"IF(I1054=1,C1054+F1054,IF(I1054=2,C1054+F1054/1000,IF(I1054=3,(1+F1054/100)*C1054,\"\")))","v":61.600000000000009},"  m",{"$f":"N1054*1000","v":61600.000000000007},"mm"]
[{"$f":"IF(COUNTIF($B$1:B1055,TRUE)=COUNTIF($B$1:B1054,TRUE),\"\",COUNTIF($B$1:B1055,TRUE))","v":818},{"$f":"Worksheet!$B$15","v":true},{"$f":"RANDBETWEEN(5,20)","v":17},"hours","±",{"$f":"IF(I1055=1,H1055*10^RANDBETWEEN(IF(Worksheet!$D$9,-1,0),0),IF(I1055=2,H1055,CHOOSE(RANDBETWEEN(1,3),5,10,20)))","v":0.4},{"$f":"IF(I1055=1,D1055,IF(I1055=3,\"%\",\"min\"))","v":"hours"},4,{"$f":"IF(AND(Worksheet!$D$8,RAND()<0),3,IF(RAND()<Worksheet!$D$7/100,1,2))","v":1},null," hours",{"$f":"IF(I1055=1,C1055-F1055,IF(I1055=2,C1055*60-F1055,\"\"))","v":16.600000000000001},{"$f":"IF($I1055=1,\" hours\",\" min\")","v":" hours"},null,"  hours",{"$f":"IF(I1055=1,C1055+F1055,IF(I1055=2,C1055*60+F1055,\"\"))","v":17.399999999999999},{"$f":"IF($I1055=1,\" hours\",\" min\")","v":" hours"}]
[{"$f":"IF(COUNTIF($B$1:B1056,TRUE)=COUNTIF($B$1:B1055,TRUE),\"\",COUNTIF($B$1:B1056,TRUE))","v":819},{"$f":"Worksheet!$D$11","v":true},{"$f":"RANDBETWEEN(5,RANDBETWEEN(5,Worksheet!$D$6))","v":9},"kg","±",{"$f":"IF(I1056=1,H1056*10^RANDBETWEEN(IF(Worksheet!$D$9,-1,0),0),IF(I1056=2,H1056*10^RANDBETWEEN(RANDBETWEEN(0,2),2),CHOOSE(RANDBETWEEN(1,3),5,10,20)))","v":5},{"$f":"IF(I1056=1,D1056,IF(I1056=3,\"%\",\"g\"))","v":"kg"},5,{"$f":"IF(AND(Worksheet!$D$8,RAND()<0.2),3,IF(RAND()<Worksheet!$D$7/100,1,2))","v":1},{"$f":"IF(I1056=1,C1056-F1056,IF(I1056=2,C1056-F1056/1000,IF(I1056=3,(1-F1056/100)*C1056,\"\")))","v":4}," kg",{"$f":"J1056*1000","v":4000},"g",{"$f":"IF(I1056=1,C1056+F1056,IF(I1056=2,C1056+F1056/1000,IF(I1056=3,(1+F1056/100)*C1056,\"\")))","v":14},"  kg",{"$f":"N1056*1000","v":14000},"g"]
[{"$f":"IF(COUNTIF($B$1:B1057,TRUE)=COUNTIF($B$1:B1056,TRUE),\"\",COUNTIF($B$1:B1057,TRUE))","v":820},{"$f":"Worksheet!$D$12","v":true},{"$f":"RANDBETWEEN(5,RANDBETWEEN(5,Worksheet!$D$6))","v":279},"tonnes","±",{"$f":"IF(I1057=1,H1057*10^RANDBETWEEN(IF(Worksheet!$D$9,-1,0),0),IF(I1057=2,H1057*10^RANDBETWEEN(RANDBETWEEN(0,2),2),CHOOSE(RANDBETWEEN(1,3),5,10,20)))","v":4},{"$f":"IF(I1057=1,D1057,IF(I1057=3,\"%\",\"kg\"))","v":"tonnes"},4,{"$f":"IF(AND(Worksheet!$D$8,RAND()<0.2),3,IF(RAND()<Worksheet!$D$7/100,1,2))","v":1},{"$f":"IF(I1057=1,C1057-F1057,IF(I1057=2,C1057-F1057/1000,IF(I1057=3,(1-F1057/100)*C1057,\"\")))","v":275}," tonnes",{"$f":"J1057*1000","v":275000},"kg",{"$f":"IF(I1057=1,C1057+F1057,IF(I1057=2,C1057+F1057/1000,IF(I1057=3,(1+F1057/100)*C1057,\"\")))","v":283},"  tonnes",{"$f":"N1057*1000","v":283000},"kg"]
[{"$f":"IF(COUNTIF($B$1:B1058,TRUE)=COUNTIF($B$1:B1057,TRUE),\"\",COUNTIF($B$1:B1058,TRUE))","v":821},{"$f":"Worksheet!$D$13","v":true},{"$f":"RANDBETWEEN(5,RANDBETWEEN(5,Worksheet!$D$6))","v":90},"litres","±",{"$f":"IF(I1058=1,H1058*10^RANDBETWEEN(IF(Worksheet!$D$9,-1,0),0),IF(I1058=2,H1058*10^RANDBETWEEN(RANDBETWEEN(0,2),2),CHOOSE(RANDBETWEEN(1,3),5,10,20)))","v":0.2},{"$f":"IF(I1058=1,D1058,IF(I1058=3,\"%\",\"ml\"))","v":"litres"},2,{"$f":"IF(AND(Worksheet!$D$8,RAND()<0.2),3,IF(RAND()<Worksheet!$D$7/100,1,2))","v":1},{"$f":"IF(I1058=1,C1058-F1058,IF(I1058=2,C1058-F1058/1000,IF(I1058=3,(1-F1058/100)*C1058,\"\")))","v":89.8}," litres",{"$f":"J1058*1000","v":89800},"ml",{"$f":"IF(I1058=1,C1058+F1058,IF(I1058=2,C1058+F1058/1000,IF(I1058=3,(1+F1058/100)*C1058,\"\")))","v":90.2},"  litres",{"$f":"N1058*1000","v":90200},"ml"]
[{"$f":"IF(COUNTIF($B$1:B1059,TRUE)=COUNTIF($B$1:B1058,TRUE),\"\",COUNTIF($B$1:B1059,TRUE))","v":822},{"$f":"Worksheet!$D$14","v":true},{"$f":"RANDBETWEEN(5,RANDBETWEEN(5,Worksheet!$D$6))","v":315},"litres","±",{"$f":"IF(I1059=1,H1059*10^RANDBETWEEN(IF(Worksheet!$D$9,-1,0),0),IF(I1059=2,H1059*10^RANDBETWEEN(RANDBETWEEN(0,2),2),CHOOSE(RANDBETWEEN(1,3),5,10,20)))","v":70},{"$f":"IF(I1059=1,D1059,IF(I1059=3,\"%\",\"cm³\"))","v":"cm³"},7,{"$f":"IF(AND(Worksheet!$D$8,RAND()<0.2),3,IF(RAND()<Worksheet!$D$7/100,1,2))","v":2},{"$f":"IF(I1059=1,C1059-F1059,IF(I1059=2,C1059-F1059/1000,IF(I1059=3,(1-F1059/100)*C1059,\"\")))","v":314.93}," litres",{"$f":"J1059*1000","v":314930},"cm³",{"$f":"IF(I1059=1,C1059+F1059,IF(I1059=2,C1059+F1059/1000,IF(I1059=3,(1+F1059/100)*C1059,\"\")))","v":315.07},"  litres",{"$f":"N1059*1000","v":315070},"cm³"]
[{"$f":"IF(COUNTIF($B$1:B1060,TRUE)=COUNTIF($B$1:B1059,TRUE),\"\",COUNTIF($B$1:B1060,TRUE))","v":""},{"$f":"Worksheet!$D$15","v":false},{"$f":"RANDBETWEEN(5,20)","v":6},"min","±",{"$f":"IF(I1060=1,H1060*10^RANDBETWEEN(IF(Worksheet!$D$9,-1,0),0),IF(I1060=2,H1060,CHOOSE(RANDBETWEEN(1,3),5,10,20)))","v":3},{"$f":"IF(I1060=1,D1060,IF(I1060=3,\"%\",\"sec\"))","v":"min"},3,{"$f":"IF(AND(Worksheet!$D$8,RAND()<0),3,IF(RAND()<Worksheet!$D$7/100,1,2))","v":1},null," min",{"$f":"IF(I1060=1,C1060-F1060,IF(I1060=2,C1060*60-F1060,\"\"))","v":3},{"$f":"IF($I1060=1,\" hours\",\" min\")","v":" hours"},null,"  min",{"$f":"IF(I1060=1,C1060+F1060,IF(I1060=2,C1060*60+F1060,\"\"))","v":9},{"$f":"IF($I1060=1,\" hours\",\" min\")","v":" hours"}]
[{"$f":"COUNTIF($B$1:B1061,TRUE)","v":823},{"$f":"Worksheet!$B$11","v":true},{"$f":"RANDBETWEEN(5,RANDBETWEEN(5,Worksheet!$D$6))","v":62},"cm","±",{"$f":"IF(I1061=1,H1061*10^RANDBETWEEN(IF(Worksheet!$D$9,-1,0),0),IF(I1061=2,H1061,CHOOSE(RANDBETWEEN(1,3),5,10,20)))","v":0.1},{"$f":"IF(I1061=1,D1061,IF(I1061=3,\"%\",\"mm\"))","v":"cm"},{"$f":"RANDBETWEEN(1,MIN(9,C1061))","v":1},{"$f":"IF(AND(Worksheet!$D$8,RAND()<0.2),3,IF(RAND()<Worksheet!$D$7/100,1,2))","v":1},{"$f":"IF(I1061=1,C1061-F1061,IF(I1061=2,C1061-F1061/10,IF(I1061=3,(1-F1061/100)*C1061,\"\")))","v":61.9},{"$f":"CONCATENATE(\" \",D1061)","v":" cm"},{"$f":"J1061*10","v":619},"mm",{"$f":"IF(I1061=1,C1061+F1061,IF(I1061=2,C1061+F1061/10,IF(I1061=3,(1+F1061/100)*C1061,\"\")))","v":62.1},{"$f":"CONCATENATE(\" \",K1061)","v":"  cm"},{"$f":"N1061*10","v":621},"mm"]
[{"$f":"IF(COUNTIF($B$1:B1062,TRUE)=COUNTIF($B$1:B1061,TRUE),\"\",COUNTIF($B$1:B1062,TRUE))","v":824},{"$f":"Worksheet!$B$12","v":true},{"$f":"RANDBETWEEN(5,RANDBETWEEN(5,Worksheet!$D$6))","v":35},"m","±",{"$f":"IF(I1062=1,H1062*10^RANDBETWEEN(IF(Worksheet!$D$9,-1,0),0),IF(I1062=2,H1062*10^RANDBETWEEN(RANDBETWEEN(0,1),1),CHOOSE(RANDBETWEEN(1,3),5,10,20)))","v":10},{"$f":"IF(I1062=1,D1062,IF(I1062=3,\"%\",\"cm\"))","v":"%"},{"$f":"RANDBETWEEN(1,MIN(9,C1062))","v":3},{"$f":"IF(AND(Worksheet!$D$8,RAND()<0.2),3,IF(RAND()<Worksheet!$D$7/100,1,2))","v":3},{"$f":"IF(I1062=1,C1062-F1062,IF(I1062=2,C1062-F1062/100,IF(I1062=3,(1-F1062/100)*C1062,\"\")))","v":31.5},{"$f":"CONCATENATE(\" \",D1062)","v":" m"},{"$f":"J1062*100","v":3150},"cm",{"$f":"IF(I1062=1,C1062+F1062,IF(I1062=2,C1062+F1062/100,IF(I1062=3,(1+F1062/100)*C1062,\"\")))","v":38.5},{"$f":"CONCATENATE(\" \",K1062)","v":"  m"},{"$f":"N1062*100","v":3850},"cm"]
[{"$f":"IF(COUNTIF($B$1:B1063,TRUE)=COUNTIF($B$1:B1062,TRUE),\"\",COUNTIF($B$1:B1063,TRUE))","v":825},{"$f":"Worksheet!$B$13","v":true},{"$f":"RANDBETWEEN(5,RANDBETWEEN(5,Worksheet!$D$6))","v":35},"km","±",{"$f":"IF(I1063=1,H1063*10^RANDBETWEEN(IF(Worksheet!$D$9,-1,0),0),IF(I1063=2,H1063*10^RANDBETWEEN(RANDBETWEEN(0,2),2),CHOOSE(RANDBETWEEN(1,3),5,10,20)))","v":0.4},{"$f":"IF(I1063=1,D1063,IF(I1063=3,\"%\",\"m\"))","v":"km"},4,{"$f":"IF(AND(Worksheet!$D$8,RAND()<0.2),3,IF(RAND()<Worksheet!$D$7/100,1,2))","v":1},{"$f":"IF(I1063=1,C1063-F1063,IF(I1063=2,C1063-F1063/1000,IF(I1063=3,(1-F1063/100)*C1063,\"\")))","v":34.6}," km",{"$f":"J1063*1000","v":34600},"m",{"$f":"IF(I1063=1,C1063+F1063,IF(I1063=2,C1063+F1063/1000,IF(I1063=3,(1+F1063/100)*C1063,\"\")))","v":35.4},"  km",{"$f":"N1063*1000","v":35400},"m"]
[{"$f":"IF(COUNTIF($B$1:B1064,TRUE)=COUNTIF($B$1:B1063,TRUE),\"\",COUNTIF($B$1:B1064,TRUE))","v":""},{"$f":"Worksheet!$B$14","v":false},{"$f":"RANDBETWEEN(5,RANDBETWEEN(5,Worksheet!$D$6))","v":248},"m","±",{"$f":"IF(I1064=1,H1064*10^RANDBETWEEN(IF(Worksheet!$D$9,-1,0),0),IF(I1064=2,H1064*10^RANDBETWEEN(RANDBETWEEN(0,2),2),CHOOSE(RANDBETWEEN(1,3),5,10,20)))","v":10},{"$f":"IF(I1064=1,D1064,IF(I1064=3,\"%\",\"mm\"))","v":"%"},4,{"$f":"IF(AND(Worksheet!$D$8,RAND()<0.2),3,IF(RAND()<Worksheet!$D$7/100,1,2))","v":3},{"$f":"IF(I1064=1,C1064-F1064,IF(I1064=2,C1064-F1064/1000,IF(I1064=3,(1-F1064/100)*C1064,\"\")))","v":223.20000000000002}," m",{"$f":"J1064*1000","v":223200.00000000003},"mm",{"$f":"IF(I1064=1,C1064+F1064,IF(I1064=2,C1064+F1064/1000,IF(I1064=3,(1+F1064/100)*C1064,\"\")))","v":272.8},"  m",{"$f":"N1064*1000","v":272800},"mm"]
[{"$f":"IF(COUNTIF($B$1:B1065,TRUE)=COUNTIF($B$1:B1064,TRUE),\"\",COUNTIF($B$1:B1065,TRUE))","v":826},{"$f":"Worksheet!$B$15","v":true},{"$f":"RANDBETWEEN(5,20)","v":15},"hours","±",{"$f":"IF(I1065=1,H1065*10^RANDBETWEEN(IF(Worksheet!$D$9,-1,0),0),IF(I1065=2,H1065,CHOOSE(RANDBETWEEN(1,3),5,10,20)))","v":0.9},{"$f":"IF(I1065=1,D1065,IF(I1065=3,\"%\",\"min\"))","v":"hours"},9,{"$f":"IF(AND(Worksheet!$D$8,RAND()<0),3,IF(RAND()<Worksheet!$D$7/100,1,2))","v":1},null," hours",{"$f":"IF(I1065=1,C1065-F1065,IF(I1065=2,C1065*60-F1065,\"\"))","v":14.1},{"$f":"IF($I1065=1,\" hours\",\" min\")","v":" hours"},null,"  hours",{"$f":"IF(I1065=1,C1065+F1065,IF(I1065=2,C1065*60+F1065,\"\"))","v":15.9},{"$f":"IF($I1065=1,\" hours\",\" min\")","v":" hours"}]
[{"$f":"IF(COUNTIF($B$1:B1066,TRUE)=COUNTIF($B$1:B1065,TRUE),\"\",COUNTIF($B$1:B1066,TRUE))","v":827},{"$f":"Worksheet!$D$11","v":true},{"$f":"RANDBETWEEN(5,RANDBETWEEN(5,Worksheet!$D$6))","v":64},"kg","±",{"$f":"IF(I1066=1,H1066*10^RANDBETWEEN(IF(Worksheet!$D$9,-1,0),0),IF(I1066=2,H1066*10^RANDBETWEEN(RANDBETWEEN(0,2),2),CHOOSE(RANDBETWEEN(1,3),5,10,20)))","v":0.1},{"$f":"IF(I1066=1,D1066,IF(I1066=3,\"%\",\"g\"))","v":"kg"},1,{"$f":"IF(AND(Worksheet!$D$8,RAND()<0.2),3,IF(RAND()<Worksheet!$D$7/100,1,2))","v":1},{"$f":"IF(I1066=1,C1066-F1066,IF(I1066=2,C1066-F1066/1000,IF(I1066=3,(1-F1066/100)*C1066,\"\")))","v":63.9}," kg",{"$f":"J1066*1000","v":63900},"g",{"$f":"IF(I1066=1,C1066+F1066,IF(I1066=2,C1066+F1066/1000,IF(I1066=3,(1+F1066/100)*C1066,\"\")))","v":64.099999999999994},"  kg",{"$f":"N1066*1000","v":64099.999999999993},"g"]
[{"$f":"IF(COUNTIF($B$1:B1067,TRUE)=COUNTIF($B$1:B1066,TRUE),\"\",COUNTIF($B$1:B1067,TRUE))","v":828},{"$f":"Worksheet!$D$12","v":true},{"$f":"RANDBETWEEN(5,RANDBETWEEN(5,Worksheet!$D$6))","v":114},"tonnes","±",{"$f":"IF(I1067=1,H1067*10^RANDBETWEEN(IF(Worksheet!$D$9,-1,0),0),IF(I1067=2,H1067*10^RANDBETWEEN(RANDBETWEEN(0,2),2),CHOOSE(RANDBETWEEN(1,3),5,10,20)))","v":0.5},{"$f":"IF(I1067=1,D1067,IF(I1067=3,\"%\",\"kg\"))","v":"tonnes"},5,{"$f":"IF(AND(Worksheet!$D$8,RAND()<0.2),3,IF(RAND()<Worksheet!$D$7/100,1,2))","v":1},{"$f":"IF(I1067=1,C1067-F1067,IF(I1067=2,C1067-F1067/1000,IF(I1067=3,(1-F1067/100)*C1067,\"\")))","v":113.5}," tonnes",{"$f":"J1067*1000","v":113500},"kg",{"$f":"IF(I1067=1,C1067+F1067,IF(I1067=2,C1067+F1067/1000,IF(I1067=3,(1+F1067/100)*C1067,\"\")))","v":114.5},"  tonnes",{"$f":"N1067*1000","v":114500},"kg"]
[{"$f":"IF(COUNTIF($B$1:B1068,TRUE)=COUNTIF($B$1:B1067,TRUE),\"\",COUNTIF($B$1:B1068,TRUE))","v":829},{"$f":"Worksheet!$D$13","v":true},{"$f":"RANDBETWEEN(5,RANDBETWEEN(5,Worksheet!$D$6))","v":16},"litres","±",{"$f":"IF(I1068=1,H1068*10^RANDBETWEEN(IF(Worksheet!$D$9,-1,0),0),IF(I1068=2,H1068*10^RANDBETWEEN(RANDBETWEEN(0,2),2),CHOOSE(RANDBETWEEN(1,3),5,10,20)))","v":200},{"$f":"IF(I1068=1,D1068,IF(I1068=3,\"%\",\"ml\"))","v":"ml"},2,{"$f":"IF(AND(Worksheet!$D$8,RAND()<0.2),3,IF(RAND()<Worksheet!$D$7/100,1,2))","v":2},{"$f":"IF(I1068=1,C1068-F1068,IF(I1068=2,C1068-F1068/1000,IF(I1068=3,(1-F1068/100)*C1068,\"\")))","v":15.8}," litres",{"$f":"J1068*1000","v":15800},"ml",{"$f":"IF(I1068=1,C1068+F1068,IF(I1068=2,C1068+F1068/1000,IF(I1068=3,(1+F1068/100)*C1068,\"\")))","v":16.2},"  litres",{"$f":"N1068*1000","v":16200},"ml"]
[{"$f":"IF(COUNTIF($B$1:B1069,TRUE)=COUNTIF($B$1:B1068,TRUE),\"\",COUNTIF($B$1:B1069,TRUE))","v":830},{"$f":"Worksheet!$D$14","v":true},{"$f":"RANDBETWEEN(5,RANDBETWEEN(5,Worksheet!$D$6))","v":32},"litres","±",{"$f":"IF(I1069=1,H1069*10^RANDBETWEEN(IF(Worksheet!$D$9,-1,0),0),IF(I1069=2,H1069*10^RANDBETWEEN(RANDBETWEEN(0,2),2),CHOOSE(RANDBETWEEN(1,3),5,10,20)))","v":10},{"$f":"IF(I1069=1,D1069,IF(I1069=3,\"%\",\"cm³\"))","v":"%"},4,{"$f":"IF(AND(Worksheet!$D$8,RAND()<0.2),3,IF(RAND()<Worksheet!$D$7/100,1,2))","v":3},{"$f":"IF(I1069=1,C1069-F1069,IF(I1069=2,C1069-F1069/1000,IF(I1069=3,(1-F1069/100)*C1069,\"\")))","v":28.8}," litres",{"$f":"J1069*1000","v":28800},"cm³",{"$f":"IF(I1069=1,C1069+F1069,IF(I1069=2,C1069+F1069/1000,IF(I1069=3,(1+F1069/100)*C1069,\"\")))","v":35.200000000000003},"  litres",{"$f":"N1069*1000","v":35200},"cm³"]
[{"$f":"IF(COUNTIF($B$1:B1070,TRUE)=COUNTIF($B$1:B1069,TRUE),\"\",COUNTIF($B$1:B1070,TRUE))","v":""},{"$f":"Worksheet!$D$15","v":false},{"$f":"RANDBETWEEN(5,20)","v":8},"min","±",{"$f":"IF(I1070=1,H1070*10^RANDBETWEEN(IF(Worksheet!$D$9,-1,0),0),IF(I1070=2,H1070,CHOOSE(RANDBETWEEN(1,3),5,10,20)))","v":1},{"$f":"IF(I1070=1,D1070,IF(I1070=3,\"%\",\"sec\"))","v":"min"},1,{"$f":"IF(AND(Worksheet!$D$8,RAND()<0),3,IF(RAND()<Worksheet!$D$7/100,1,2))","v":1},null," min",{"$f":"IF(I1070=1,C1070-F1070,IF(I1070=2,C1070*60-F1070,\"\"))","v":7},{"$f":"IF($I1070=1,\" hours\",\" min\")","v":" hours"},null,"  min",{"$f":"IF(I1070=1,C1070+F1070,IF(I1070=2,C1070*60+F1070,\"\"))","v":9},{"$f":"IF($I1070=1,\" hours\",\" min\")","v":" hours"}]
[{"$f":"COUNTIF($B$1:B1071,TRUE)","v":831},{"$f":"Worksheet!$B$11","v":true},{"$f":"RANDBETWEEN(5,RANDBETWEEN(5,Worksheet!$D$6))","v":184},"cm","±",{"$f":"IF(I1071=1,H1071*10^RANDBETWEEN(IF(Worksheet!$D$9,-1,0),0),IF(I1071=2,H1071,CHOOSE(RANDBETWEEN(1,3),5,10,20)))","v":8},{"$f":"IF(I1071=1,D1071,IF(I1071=3,\"%\",\"mm\"))","v":"cm"},{"$f":"RANDBETWEEN(1,MIN(9,C1071))","v":8},{"$f":"IF(AND(Worksheet!$D$8,RAND()<0.2),3,IF(RAND()<Worksheet!$D$7/100,1,2))","v":1},{"$f":"IF(I1071=1,C1071-F1071,IF(I1071=2,C1071-F1071/10,IF(I1071=3,(1-F1071/100)*C1071,\"\")))","v":176},{"$f":"CONCATENATE(\" \",D1071)","v":" cm"},{"$f":"J1071*10","v":1760},"mm",{"$f":"IF(I1071=1,C1071+F1071,IF(I1071=2,C1071+F1071/10,IF(I1071=3,(1+F1071/100)*C1071,\"\")))","v":192},{"$f":"CONCATENATE(\" \",K1071)","v":"  cm"},{"$f":"N1071*10","v":1920},"mm"]
[{"$f":"IF(COUNTIF($B$1:B1072,TRUE)=COUNTIF($B$1:B1071,TRUE),\"\",COUNTIF($B$1:B1072,TRUE))","v":832},{"$f":"Worksheet!$B$12","v":true},{"$f":"RANDBETWEEN(5,RANDBETWEEN(5,Worksheet!$D$6))","v":23},"m","±",{"$f":"IF(I1072=1,H1072*10^RANDBETWEEN(IF(Worksheet!$D$9,-1,0),0),IF(I1072=2,H1072*10^RANDBETWEEN(RANDBETWEEN(0,1),1),CHOOSE(RANDBETWEEN(1,3),5,10,20)))","v":0.9},{"$f":"IF(I1072=1,D1072,IF(I1072=3,\"%\",\"cm\"))","v":"m"},{"$f":"RANDBETWEEN(1,MIN(9,C1072))","v":9},{"$f":"IF(AND(Worksheet!$D$8,RAND()<0.2),3,IF(RAND()<Worksheet!$D$7/100,1,2))","v":1},{"$f":"IF(I1072=1,C1072-F1072,IF(I1072=2,C1072-F1072/100,IF(I1072=3,(1-F1072/100)*C1072,\"\")))","v":22.1},{"$f":"CONCATENATE(\" \",D1072)","v":" m"},{"$f":"J1072*100","v":2210},"cm",{"$f":"IF(I1072=1,C1072+F1072,IF(I1072=2,C1072+F1072/100,IF(I1072=3,(1+F1072/100)*C1072,\"\")))","v":23.9},{"$f":"CONCATENATE(\" \",K1072)","v":"  m"},{"$f":"N1072*100","v":2390},"cm"]
[{"$f":"IF(COUNTIF($B$1:B1073,TRUE)=COUNTIF($B$1:B1072,TRUE),\"\",COUNTIF($B$1:B1073,TRUE))","v":833},{"$f":"Worksheet!$B$13","v":true},{"$f":"RANDBETWEEN(5,RANDBETWEEN(5,Worksheet!$D$6))","v":8},"km","±",{"$f":"IF(I1073=1,H1073*10^RANDBETWEEN(IF(Worksheet!$D$9,-1,0),0),IF(I1073=2,H1073*10^RANDBETWEEN(RANDBETWEEN(0,2),2),CHOOSE(RANDBETWEEN(1,3),5,10,20)))","v":20},{"$f":"IF(I1073=1,D1073,IF(I1073=3,\"%\",\"m\"))","v":"%"},6,{"$f":"IF(AND(Worksheet!$D$8,RAND()<0.2),3,IF(RAND()<Worksheet!$D$7/100,1,2))","v":3},{"$f":"IF(I1073=1,C1073-F1073,IF(I1073=2,C1073-F1073/1000,IF(I1073=3,(1-F1073/100)*C1073,\"\")))","v":6.4}," km",{"$f":"J1073*1000","v":6400},"m",{"$f":"IF(I1073=1,C1073+F1073,IF(I1073=2,C1073+F1073/1000,IF(I1073=3,(1+F1073/100)*C1073,\"\")))","v":9.6},"  km",{"$f":"N1073*1000","v":9600},"m"]
[{"$f":"IF(COUNTIF($B$1:B1074,TRUE)=COUNTIF($B$1:B1073,TRUE),\"\",COUNTIF($B$1:B1074,TRUE))","v":""},{"$f":"Worksheet!$B$14","v":false},{"$f":"RANDBETWEEN(5,RANDBETWEEN(5,Worksheet!$D$6))","v":69},"m","±",{"$f":"IF(I1074=1,H1074*10^RANDBETWEEN(IF(Worksheet!$D$9,-1,0),0),IF(I1074=2,H1074*10^RANDBETWEEN(RANDBETWEEN(0,2),2),CHOOSE(RANDBETWEEN(1,3),5,10,20)))","v":5},{"$f":"IF(I1074=1,D1074,IF(I1074=3,\"%\",\"mm\"))","v":"%"},3,{"$f":"IF(AND(Worksheet!$D$8,RAND()<0.2),3,IF(RAND()<Worksheet!$D$7/100,1,2))","v":3},{"$f":"IF(I1074=1,C1074-F1074,IF(I1074=2,C1074-F1074/1000,IF(I1074=3,(1-F1074/100)*C1074,\"\")))","v":65.55}," m",{"$f":"J1074*1000","v":65550},"mm",{"$f":"IF(I1074=1,C1074+F1074,IF(I1074=2,C1074+F1074/1000,IF(I1074=3,(1+F1074/100)*C1074,\"\")))","v":72.45},"  m",{"$f":"N1074*1000","v":72450},"mm"]
[{"$f":"IF(COUNTIF($B$1:B1075,TRUE)=COUNTIF($B$1:B1074,TRUE),\"\",COUNTIF($B$1:B1075,TRUE))","v":834},{"$f":"Worksheet!$B$15","v":true},{"$f":"RANDBETWEEN(5,20)","v":6},"hours","±",{"$f":"IF(I1075=1,H1075*10^RANDBETWEEN(IF(Worksheet!$D$9,-1,0),0),IF(I1075=2,H1075,CHOOSE(RANDBETWEEN(1,3),5,10,20)))","v":1},{"$f":"IF(I1075=1,D1075,IF(I1075=3,\"%\",\"min\"))","v":"min"},1,{"$f":"IF(AND(Worksheet!$D$8,RAND()<0),3,IF(RAND()<Worksheet!$D$7/100,1,2))","v":2},null," hours",{"$f":"IF(I1075=1,C1075-F1075,IF(I1075=2,C1075*60-F1075,\"\"))","v":359},{"$f":"IF($I1075=1,\" hours\",\" min\")","v":" min"},null,"  hours",{"$f":"IF(I1075=1,C1075+F1075,IF(I1075=2,C1075*60+F1075,\"\"))","v":361},{"$f":"IF($I1075=1,\" hours\",\" min\")","v":" min"}]
[{"$f":"IF(COUNTIF($B$1:B1076,TRUE)=COUNTIF($B$1:B1075,TRUE),\"\",COUNTIF($B$1:B1076,TRUE))","v":835},{"$f":"Worksheet!$D$11","v":true},{"$f":"RANDBETWEEN(5,RANDBETWEEN(5,Worksheet!$D$6))","v":117},"kg","±",{"$f":"IF(I1076=1,H1076*10^RANDBETWEEN(IF(Worksheet!$D$9,-1,0),0),IF(I1076=2,H1076*10^RANDBETWEEN(RANDBETWEEN(0,2),2),CHOOSE(RANDBETWEEN(1,3),5,10,20)))","v":10},{"$f":"IF(I1076=1,D1076,IF(I1076=3,\"%\",\"g\"))","v":"%"},2,{"$f":"IF(AND(Worksheet!$D$8,RAND()<0.2),3,IF(RAND()<Worksheet!$D$7/100,1,2))","v":3},{"$f":"IF(I1076=1,C1076-F1076,IF(I1076=2,C1076-F1076/1000,IF(I1076=3,(1-F1076/100)*C1076,\"\")))","v":105.3}," kg",{"$f":"J1076*1000","v":105300},"g",{"$f":"IF(I1076=1,C1076+F1076,IF(I1076=2,C1076+F1076/1000,IF(I1076=3,(1+F1076/100)*C1076,\"\")))","v":128.70000000000002},"  kg",{"$f":"N1076*1000","v":128700.00000000001},"g"]
[{"$f":"IF(COUNTIF($B$1:B1077,TRUE)=COUNTIF($B$1:B1076,TRUE),\"\",COUNTIF($B$1:B1077,TRUE))","v":836},{"$f":"Worksheet!$D$12","v":true},{"$f":"RANDBETWEEN(5,RANDBETWEEN(5,Worksheet!$D$6))","v":206},"tonnes","±",{"$f":"IF(I1077=1,H1077*10^RANDBETWEEN(IF(Worksheet!$D$9,-1,0),0),IF(I1077=2,H1077*10^RANDBETWEEN(RANDBETWEEN(0,2),2),CHOOSE(RANDBETWEEN(1,3),5,10,20)))","v":4},{"$f":"IF(I1077=1,D1077,IF(I1077=3,\"%\",\"kg\"))","v":"tonnes"},4,{"$f":"IF(AND(Worksheet!$D$8,RAND()<0.2),3,IF(RAND()<Worksheet!$D$7/100,1,2))","v":1},{"$f":"IF(I1077=1,C1077-F1077,IF(I1077=2,C1077-F1077/1000,IF(I1077=3,(1-F1077/100)*C1077,\"\")))","v":202}," tonnes",{"$f":"J1077*1000","v":202000},"kg",{"$f":"IF(I1077=1,C1077+F1077,IF(I1077=2,C1077+F1077/1000,IF(I1077=3,(1+F1077/100)*C1077,\"\")))","v":210},"  tonnes",{"$f":"N1077*1000","v":210000},"kg"]
[{"$f":"IF(COUNTIF($B$1:B1078,TRUE)=COUNTIF($B$1:B1077,TRUE),\"\",COUNTIF($B$1:B1078,TRUE))","v":837},{"$f":"Worksheet!$D$13","v":true},{"$f":"RANDBETWEEN(5,RANDBETWEEN(5,Worksheet!$D$6))","v":49},"litres","±",{"$f":"IF(I1078=1,H1078*10^RANDBETWEEN(IF(Worksheet!$D$9,-1,0),0),IF(I1078=2,H1078*10^RANDBETWEEN(RANDBETWEEN(0,2),2),CHOOSE(RANDBETWEEN(1,3),5,10,20)))","v":9},{"$f":"IF(I1078=1,D1078,IF(I1078=3,\"%\",\"ml\"))","v":"litres"},9,{"$f":"IF(AND(Worksheet!$D$8,RAND()<0.2),3,IF(RAND()<Worksheet!$D$7/100,1,2))","v":1},{"$f":"IF(I1078=1,C1078-F1078,IF(I1078=2,C1078-F1078/1000,IF(I1078=3,(1-F1078/100)*C1078,\"\")))","v":40}," litres",{"$f":"J1078*1000","v":40000},"ml",{"$f":"IF(I1078=1,C1078+F1078,IF(I1078=2,C1078+F1078/1000,IF(I1078=3,(1+F1078/100)*C1078,\"\")))","v":58},"  litres",{"$f":"N1078*1000","v":58000},"ml"]
[{"$f":"IF(COUNTIF($B$1:B1079,TRUE)=COUNTIF($B$1:B1078,TRUE),\"\",COUNTIF($B$1:B1079,TRUE))","v":838},{"$f":"Worksheet!$D$14","v":true},{"$f":"RANDBETWEEN(5,RANDBETWEEN(5,Worksheet!$D$6))","v":8},"litres","±",{"$f":"IF(I1079=1,H1079*10^RANDBETWEEN(IF(Worksheet!$D$9,-1,0),0),IF(I1079=2,H1079*10^RANDBETWEEN(RANDBETWEEN(0,2),2),CHOOSE(RANDBETWEEN(1,3),5,10,20)))","v":3},{"$f":"IF(I1079=1,D1079,IF(I1079=3,\"%\",\"cm³\"))","v":"litres"},3,{"$f":"IF(AND(Worksheet!$D$8,RAND()<0.2),3,IF(RAND()<Worksheet!$D$7/100,1,2))","v":1},{"$f":"IF(I1079=1,C1079-F1079,IF(I1079=2,C1079-F1079/1000,IF(I1079=3,(1-F1079/100)*C1079,\"\")))","v":5}," litres",{"$f":"J1079*1000","v":5000},"cm³",{"$f":"IF(I1079=1,C1079+F1079,IF(I1079=2,C1079+F1079/1000,IF(I1079=3,(1+F1079/100)*C1079,\"\")))","v":11},"  litres",{"$f":"N1079*1000","v":11000},"cm³"]
[{"$f":"IF(COUNTIF($B$1:B1080,TRUE)=COUNTIF($B$1:B1079,TRUE),\"\",COUNTIF($B$1:B1080,TRUE))","v":""},{"$f":"Worksheet!$D$15","v":false},{"$f":"RANDBETWEEN(5,20)","v":13},"min","±",{"$f":"IF(I1080=1,H1080*10^RANDBETWEEN(IF(Worksheet!$D$9,-1,0),0),IF(I1080=2,H1080,CHOOSE(RANDBETWEEN(1,3),5,10,20)))","v":0.60000000000000009},{"$f":"IF(I1080=1,D1080,IF(I1080=3,\"%\",\"sec\"))","v":"min"},6,{"$f":"IF(AND(Worksheet!$D$8,RAND()<0),3,IF(RAND()<Worksheet!$D$7/100,1,2))","v":1},null," min",{"$f":"IF(I1080=1,C1080-F1080,IF(I1080=2,C1080*60-F1080,\"\"))","v":12.4},{"$f":"IF($I1080=1,\" hours\",\" min\")","v":" hours"},null,"  min",{"$f":"IF(I1080=1,C1080+F1080,IF(I1080=2,C1080*60+F1080,\"\"))","v":13.6},{"$f":"IF($I1080=1,\" hours\",\" min\")","v":" hours"}]
[{"$f":"COUNTIF($B$1:B1081,TRUE)","v":839},{"$f":"Worksheet!$B$11","v":true},{"$f":"RANDBETWEEN(5,RANDBETWEEN(5,Worksheet!$D$6))","v":26},"cm","±",{"$f":"IF(I1081=1,H1081*10^RANDBETWEEN(IF(Worksheet!$D$9,-1,0),0),IF(I1081=2,H1081,CHOOSE(RANDBETWEEN(1,3),5,10,20)))","v":10},{"$f":"IF(I1081=1,D1081,IF(I1081=3,\"%\",\"mm\"))","v":"%"},{"$f":"RANDBETWEEN(1,MIN(9,C1081))","v":1},{"$f":"IF(AND(Worksheet!$D$8,RAND()<0.2),3,IF(RAND()<Worksheet!$D$7/100,1,2))","v":3},{"$f":"IF(I1081=1,C1081-F1081,IF(I1081=2,C1081-F1081/10,IF(I1081=3,(1-F1081/100)*C1081,\"\")))","v":23.400000000000002},{"$f":"CONCATENATE(\" \",D1081)","v":" cm"},{"$f":"J1081*10","v":234.00000000000003},"mm",{"$f":"IF(I1081=1,C1081+F1081,IF(I1081=2,C1081+F1081/10,IF(I1081=3,(1+F1081/100)*C1081,\"\")))","v":28.6},{"$f":"CONCATENATE(\" \",K1081)","v":"  cm"},{"$f":"N1081*10","v":286},"mm"]
[{"$f":"IF(COUNTIF($B$1:B1082,TRUE)=COUNTIF($B$1:B1081,TRUE),\"\",COUNTIF($B$1:B1082,TRUE))","v":840},{"$f":"Worksheet!$B$12","v":true},{"$f":"RANDBETWEEN(5,RANDBETWEEN(5,Worksheet!$D$6))","v":222},"m","±",{"$f":"IF(I1082=1,H1082*10^RANDBETWEEN(IF(Worksheet!$D$9,-1,0),0),IF(I1082=2,H1082*10^RANDBETWEEN(RANDBETWEEN(0,1),1),CHOOSE(RANDBETWEEN(1,3),5,10,20)))","v":9},{"$f":"IF(I1082=1,D1082,IF(I1082=3,\"%\",\"cm\"))","v":"m"},{"$f":"RANDBETWEEN(1,MIN(9,C1082))","v":9},{"$f":"IF(AND(Worksheet!$D$8,RAND()<0.2),3,IF(RAND()<Worksheet!$D$7/100,1,2))","v":1},{"$f":"IF(I1082=1,C1082-F1082,IF(I1082=2,C1082-F1082/100,IF(I1082=3,(1-F1082/100)*C1082,\"\")))","v":213},{"$f":"CONCATENATE(\" \",D1082)","v":" m"},{"$f":"J1082*100","v":21300},"cm",{"$f":"IF(I1082=1,C1082+F1082,IF(I1082=2,C1082+F1082/100,IF(I1082=3,(1+F1082/100)*C1082,\"\")))","v":231},{"$f":"CONCATENATE(\" \",K1082)","v":"  m"},{"$f":"N1082*100","v":23100},"cm"]
[{"$f":"IF(COUNTIF($B$1:B1083,TRUE)=COUNTIF($B$1:B1082,TRUE),\"\",COUNTIF($B$1:B1083,TRUE))","v":841},{"$f":"Worksheet!$B$13","v":true},{"$f":"RANDBETWEEN(5,RANDBETWEEN(5,Worksheet!$D$6))","v":23},"km","±",{"$f":"IF(I1083=1,H1083*10^RANDBETWEEN(IF(Worksheet!$D$9,-1,0),0),IF(I1083=2,H1083*10^RANDBETWEEN(RANDBETWEEN(0,2),2),CHOOSE(RANDBETWEEN(1,3),5,10,20)))","v":300},{"$f":"IF(I1083=1,D1083,IF(I1083=3,\"%\",\"m\"))","v":"m"},3,{"$f":"IF(AND(Worksheet!$D$8,RAND()<0.2),3,IF(RAND()<Worksheet!$D$7/100,1,2))","v":2},{"$f":"IF(I1083=1,C1083-F1083,IF(I1083=2,C1083-F1083/1000,IF(I1083=3,(1-F1083/100)*C1083,\"\")))","v":22.7}," km",{"$f":"J1083*1000","v":22700},"m",{"$f":"IF(I1083=1,C1083+F1083,IF(I1083=2,C1083+F1083/1000,IF(I1083=3,(1+F1083/100)*C1083,\"\")))","v":23.3},"  km",{"$f":"N1083*1000","v":23300},"m"]
[{"$f":"IF(COUNTIF($B$1:B1084,TRUE)=COUNTIF($B$1:B1083,TRUE),\"\",COUNTIF($B$1:B1084,TRUE))","v":""},{"$f":"Worksheet!$B$14","v":false},{"$f":"RANDBETWEEN(5,RANDBETWEEN(5,Worksheet!$D$6))","v":15},"m","±",{"$f":"IF(I1084=1,H1084*10^RANDBETWEEN(IF(Worksheet!$D$9,-1,0),0),IF(I1084=2,H1084*10^RANDBETWEEN(RANDBETWEEN(0,2),2),CHOOSE(RANDBETWEEN(1,3),5,10,20)))","v":4},{"$f":"IF(I1084=1,D1084,IF(I1084=3,\"%\",\"mm\"))","v":"m"},4,{"$f":"IF(AND(Worksheet!$D$8,RAND()<0.2),3,IF(RAND()<Worksheet!$D$7/100,1,2))","v":1},{"$f":"IF(I1084=1,C1084-F1084,IF(I1084=2,C1084-F1084/1000,IF(I1084=3,(1-F1084/100)*C1084,\"\")))","v":11}," m",{"$f":"J1084*1000","v":11000},"mm",{"$f":"IF(I1084=1,C1084+F1084,IF(I1084=2,C1084+F1084/1000,IF(I1084=3,(1+F1084/100)*C1084,\"\")))","v":19},"  m",{"$f":"N1084*1000","v":19000},"mm"]
[{"$f":"IF(COUNTIF($B$1:B1085,TRUE)=COUNTIF($B$1:B1084,TRUE),\"\",COUNTIF($B$1:B1085,TRUE))","v":842},{"$f":"Worksheet!$B$15","v":true},{"$f":"RANDBETWEEN(5,20)","v":12},"hours","±",{"$f":"IF(I1085=1,H1085*10^RANDBETWEEN(IF(Worksheet!$D$9,-1,0),0),IF(I1085=2,H1085,CHOOSE(RANDBETWEEN(1,3),5,10,20)))","v":0.60000000000000009},{"$f":"IF(I1085=1,D1085,IF(I1085=3,\"%\",\"min\"))","v":"hours"},6,{"$f":"IF(AND(Worksheet!$D$8,RAND()<0),3,IF(RAND()<Worksheet!$D$7/100,1,2))","v":1},null," hours",{"$f":"IF(I1085=1,C1085-F1085,IF(I1085=2,C1085*60-F1085,\"\"))","v":11.4},{"$f":"IF($I1085=1,\" hours\",\" min\")","v":" hours"},null,"  hours",{"$f":"IF(I1085=1,C1085+F1085,IF(I1085=2,C1085*60+F1085,\"\"))","v":12.6},{"$f":"IF($I1085=1,\" hours\",\" min\")","v":" hours"}]
[{"$f":"IF(COUNTIF($B$1:B1086,TRUE)=COUNTIF($B$1:B1085,TRUE),\"\",COUNTIF($B$1:B1086,TRUE))","v":843},{"$f":"Worksheet!$D$11","v":true},{"$f":"RANDBETWEEN(5,RANDBETWEEN(5,Worksheet!$D$6))","v":14},"kg","±",{"$f":"IF(I1086=1,H1086*10^RANDBETWEEN(IF(Worksheet!$D$9,-1,0),0),IF(I1086=2,H1086*10^RANDBETWEEN(RANDBETWEEN(0,2),2),CHOOSE(RANDBETWEEN(1,3),5,10,20)))","v":0.1},{"$f":"IF(I1086=1,D1086,IF(I1086=3,\"%\",\"g\"))","v":"kg"},1,{"$f":"IF(AND(Worksheet!$D$8,RAND()<0.2),3,IF(RAND()<Worksheet!$D$7/100,1,2))","v":1},{"$f":"IF(I1086=1,C1086-F1086,IF(I1086=2,C1086-F1086/1000,IF(I1086=3,(1-F1086/100)*C1086,\"\")))","v":13.9}," kg",{"$f":"J1086*1000","v":13900},"g",{"$f":"IF(I1086=1,C1086+F1086,IF(I1086=2,C1086+F1086/1000,IF(I1086=3,(1+F1086/100)*C1086,\"\")))","v":14.1},"  kg",{"$f":"N1086*1000","v":14100},"g"]
[{"$f":"IF(COUNTIF($B$1:B1087,TRUE)=COUNTIF($B$1:B1086,TRUE),\"\",COUNTIF($B$1:B1087,TRUE))","v":844},{"$f":"Worksheet!$D$12","v":true},{"$f":"RANDBETWEEN(5,RANDBETWEEN(5,Worksheet!$D$6))","v":13},"tonnes","±",{"$f":"IF(I1087=1,H1087*10^RANDBETWEEN(IF(Worksheet!$D$9,-1,0),0),IF(I1087=2,H1087*10^RANDBETWEEN(RANDBETWEEN(0,2),2),CHOOSE(RANDBETWEEN(1,3),5,10,20)))","v":2},{"$f":"IF(I1087=1,D1087,IF(I1087=3,\"%\",\"kg\"))","v":"tonnes"},2,{"$f":"IF(AND(Worksheet!$D$8,RAND()<0.2),3,IF(RAND()<Worksheet!$D$7/100,1,2))","v":1},{"$f":"IF(I1087=1,C1087-F1087,IF(I1087=2,C1087-F1087/1000,IF(I1087=3,(1-F1087/100)*C1087,\"\")))","v":11}," tonnes",{"$f":"J1087*1000","v":11000},"kg",{"$f":"IF(I1087=1,C1087+F1087,IF(I1087=2,C1087+F1087/1000,IF(I1087=3,(1+F1087/100)*C1087,\"\")))","v":15},"  tonnes",{"$f":"N1087*1000","v":15000},"kg"]
[{"$f":"IF(COUNTIF($B$1:B1088,TRUE)=COUNTIF($B$1:B1087,TRUE),\"\",COUNTIF($B$1:B1088,TRUE))","v":845},{"$f":"Worksheet!$D$13","v":true},{"$f":"RANDBETWEEN(5,RANDBETWEEN(5,Worksheet!$D$6))","v":57},"litres","±",{"$f":"IF(I1088=1,H1088*10^RANDBETWEEN(IF(Worksheet!$D$9,-1,0),0),IF(I1088=2,H1088*10^RANDBETWEEN(RANDBETWEEN(0,2),2),CHOOSE(RANDBETWEEN(1,3),5,10,20)))","v":700},{"$f":"IF(I1088=1,D1088,IF(I1088=3,\"%\",\"ml\"))","v":"ml"},7,{"$f":"IF(AND(Worksheet!$D$8,RAND()<0.2),3,IF(RAND()<Worksheet!$D$7/100,1,2))","v":2},{"$f":"IF(I1088=1,C1088-F1088,IF(I1088=2,C1088-F1088/1000,IF(I1088=3,(1-F1088/100)*C1088,\"\")))","v":56.3}," litres",{"$f":"J1088*1000","v":56300},"ml",{"$f":"IF(I1088=1,C1088+F1088,IF(I1088=2,C1088+F1088/1000,IF(I1088=3,(1+F1088/100)*C1088,\"\")))","v":57.7},"  litres",{"$f":"N1088*1000","v":57700},"ml"]
[{"$f":"IF(COUNTIF($B$1:B1089,TRUE)=COUNTIF($B$1:B1088,TRUE),\"\",COUNTIF($B$1:B1089,TRUE))","v":846},{"$f":"Worksheet!$D$14","v":true},{"$f":"RANDBETWEEN(5,RANDBETWEEN(5,Worksheet!$D$6))","v":7},"litres","±",{"$f":"IF(I1089=1,H1089*10^RANDBETWEEN(IF(Worksheet!$D$9,-1,0),0),IF(I1089=2,H1089*10^RANDBETWEEN(RANDBETWEEN(0,2),2),CHOOSE(RANDBETWEEN(1,3),5,10,20)))","v":5},{"$f":"IF(I1089=1,D1089,IF(I1089=3,\"%\",\"cm³\"))","v":"litres"},5,{"$f":"IF(AND(Worksheet!$D$8,RAND()<0.2),3,IF(RAND()<Worksheet!$D$7/100,1,2))","v":1},{"$f":"IF(I1089=1,C1089-F1089,IF(I1089=2,C1089-F1089/1000,IF(I1089=3,(1-F1089/100)*C1089,\"\")))","v":2}," litres",{"$f":"J1089*1000","v":2000},"cm³",{"$f":"IF(I1089=1,C1089+F1089,IF(I1089=2,C1089+F1089/1000,IF(I1089=3,(1+F1089/100)*C1089,\"\")))","v":12},"  litres",{"$f":"N1089*1000","v":12000},"cm³"]
[{"$f":"IF(COUNTIF($B$1:B1090,TRUE)=COUNTIF($B$1:B1089,TRUE),\"\",COUNTIF($B$1:B1090,TRUE))","v":""},{"$f":"Worksheet!$D$15","v":false},{"$f":"RANDBETWEEN(5,20)","v":13},"min","±",{"$f":"IF(I1090=1,H1090*10^RANDBETWEEN(IF(Worksheet!$D$9,-1,0),0),IF(I1090=2,H1090,CHOOSE(RANDBETWEEN(1,3),5,10,20)))","v":0.30000000000000004},{"$f":"IF(I1090=1,D1090,IF(I1090=3,\"%\",\"sec\"))","v":"min"},3,{"$f":"IF(AND(Worksheet!$D$8,RAND()<0),3,IF(RAND()<Worksheet!$D$7/100,1,2))","v":1},null," min",{"$f":"IF(I1090=1,C1090-F1090,IF(I1090=2,C1090*60-F1090,\"\"))","v":12.7},{"$f":"IF($I1090=1,\" hours\",\" min\")","v":" hours"},null,"  min",{"$f":"IF(I1090=1,C1090+F1090,IF(I1090=2,C1090*60+F1090,\"\"))","v":13.3},{"$f":"IF($I1090=1,\" hours\",\" min\")","v":" hours"}]
[{"$f":"COUNTIF($B$1:B1091,TRUE)","v":847},{"$f":"Worksheet!$B$11","v":true},{"$f":"RANDBETWEEN(5,RANDBETWEEN(5,Worksheet!$D$6))","v":17},"cm","±",{"$f":"IF(I1091=1,H1091*10^RANDBETWEEN(IF(Worksheet!$D$9,-1,0),0),IF(I1091=2,H1091,CHOOSE(RANDBETWEEN(1,3),5,10,20)))","v":8},{"$f":"IF(I1091=1,D1091,IF(I1091=3,\"%\",\"mm\"))","v":"mm"},{"$f":"RANDBETWEEN(1,MIN(9,C1091))","v":8},{"$f":"IF(AND(Worksheet!$D$8,RAND()<0.2),3,IF(RAND()<Worksheet!$D$7/100,1,2))","v":2},{"$f":"IF(I1091=1,C1091-F1091,IF(I1091=2,C1091-F1091/10,IF(I1091=3,(1-F1091/100)*C1091,\"\")))","v":16.2},{"$f":"CONCATENATE(\" \",D1091)","v":" cm"},{"$f":"J1091*10","v":162},"mm",{"$f":"IF(I1091=1,C1091+F1091,IF(I1091=2,C1091+F1091/10,IF(I1091=3,(1+F1091/100)*C1091,\"\")))","v":17.8},{"$f":"CONCATENATE(\" \",K1091)","v":"  cm"},{"$f":"N1091*10","v":178},"mm"]
[{"$f":"IF(COUNTIF($B$1:B1092,TRUE)=COUNTIF($B$1:B1091,TRUE),\"\",COUNTIF($B$1:B1092,TRUE))","v":848},{"$f":"Worksheet!$B$12","v":true},{"$f":"RANDBETWEEN(5,RANDBETWEEN(5,Worksheet!$D$6))","v":117},"m","±",{"$f":"IF(I1092=1,H1092*10^RANDBETWEEN(IF(Worksheet!$D$9,-1,0),0),IF(I1092=2,H1092*10^RANDBETWEEN(RANDBETWEEN(0,1),1),CHOOSE(RANDBETWEEN(1,3),5,10,20)))","v":90},{"$f":"IF(I1092=1,D1092,IF(I1092=3,\"%\",\"cm\"))","v":"cm"},{"$f":"RANDBETWEEN(1,MIN(9,C1092))","v":9},{"$f":"IF(AND(Worksheet!$D$8,RAND()<0.2),3,IF(RAND()<Worksheet!$D$7/100,1,2))","v":2},{"$f":"IF(I1092=1,C1092-F1092,IF(I1092=2,C1092-F1092/100,IF(I1092=3,(1-F1092/100)*C1092,\"\")))","v":116.1},{"$f":"CONCATENATE(\" \",D1092)","v":" m"},{"$f":"J1092*100","v":11610},"cm",{"$f":"IF(I1092=1,C1092+F1092,IF(I1092=2,C1092+F1092/100,IF(I1092=3,(1+F1092/100)*C1092,\"\")))","v":117.9},{"$f":"CONCATENATE(\" \",K1092)","v":"  m"},{"$f":"N1092*100","v":11790},"cm"]
[{"$f":"IF(COUNTIF($B$1:B1093,TRUE)=COUNTIF($B$1:B1092,TRUE),\"\",COUNTIF($B$1:B1093,TRUE))","v":849},{"$f":"Worksheet!$B$13","v":true},{"$f":"RANDBETWEEN(5,RANDBETWEEN(5,Worksheet!$D$6))","v":77},"km","±",{"$f":"IF(I1093=1,H1093*10^RANDBETWEEN(IF(Worksheet!$D$9,-1,0),0),IF(I1093=2,H1093*10^RANDBETWEEN(RANDBETWEEN(0,2),2),CHOOSE(RANDBETWEEN(1,3),5,10,20)))","v":7},{"$f":"IF(I1093=1,D1093,IF(I1093=3,\"%\",\"m\"))","v":"km"},7,{"$f":"IF(AND(Worksheet!$D$8,RAND()<0.2),3,IF(RAND()<Worksheet!$D$7/100,1,2))","v":1},{"$f":"IF(I1093=1,C1093-F1093,IF(I1093=2,C1093-F1093/1000,IF(I1093=3,(1-F1093/100)*C1093,\"\")))","v":70}," km",{"$f":"J1093*1000","v":70000},"m",{"$f":"IF(I1093=1,C1093+F1093,IF(I1093=2,C1093+F1093/1000,IF(I1093=3,(1+F1093/100)*C1093,\"\")))","v":84},"  km",{"$f":"N1093*1000","v":84000},"m"]
[{"$f":"IF(COUNTIF($B$1:B1094,TRUE)=COUNTIF($B$1:B1093,TRUE),\"\",COUNTIF($B$1:B1094,TRUE))","v":""},{"$f":"Worksheet!$B$14","v":false},{"$f":"RANDBETWEEN(5,RANDBETWEEN(5,Worksheet!$D$6))","v":167},"m","±",{"$f":"IF(I1094=1,H1094*10^RANDBETWEEN(IF(Worksheet!$D$9,-1,0),0),IF(I1094=2,H1094*10^RANDBETWEEN(RANDBETWEEN(0,2),2),CHOOSE(RANDBETWEEN(1,3),5,10,20)))","v":0.60000000000000009},{"$f":"IF(I1094=1,D1094,IF(I1094=3,\"%\",\"mm\"))","v":"m"},6,{"$f":"IF(AND(Worksheet!$D$8,RAND()<0.2),3,IF(RAND()<Worksheet!$D$7/100,1,2))","v":1},{"$f":"IF(I1094=1,C1094-F1094,IF(I1094=2,C1094-F1094/1000,IF(I1094=3,(1-F1094/100)*C1094,\"\")))","v":166.4}," m",{"$f":"J1094*1000","v":166400},"mm",{"$f":"IF(I1094=1,C1094+F1094,IF(I1094=2,C1094+F1094/1000,IF(I1094=3,(1+F1094/100)*C1094,\"\")))","v":167.6},"  m",{"$f":"N1094*1000","v":167600},"mm"]
[{"$f":"IF(COUNTIF($B$1:B1095,TRUE)=COUNTIF($B$1:B1094,TRUE),\"\",COUNTIF($B$1:B1095,TRUE))","v":850},{"$f":"Worksheet!$B$15","v":true},{"$f":"RANDBETWEEN(5,20)","v":6},"hours","±",{"$f":"IF(I1095=1,H1095*10^RANDBETWEEN(IF(Worksheet!$D$9,-1,0),0),IF(I1095=2,H1095,CHOOSE(RANDBETWEEN(1,3),5,10,20)))","v":3},{"$f":"IF(I1095=1,D1095,IF(I1095=3,\"%\",\"min\"))","v":"min"},3,{"$f":"IF(AND(Worksheet!$D$8,RAND()<0),3,IF(RAND()<Worksheet!$D$7/100,1,2))","v":2},null," hours",{"$f":"IF(I1095=1,C1095-F1095,IF(I1095=2,C1095*60-F1095,\"\"))","v":357},{"$f":"IF($I1095=1,\" hours\",\" min\")","v":" min"},null,"  hours",{"$f":"IF(I1095=1,C1095+F1095,IF(I1095=2,C1095*60+F1095,\"\"))","v":363},{"$f":"IF($I1095=1,\" hours\",\" min\")","v":" min"}]
[{"$f":"IF(COUNTIF($B$1:B1096,TRUE)=COUNTIF($B$1:B1095,TRUE),\"\",COUNTIF($B$1:B1096,TRUE))","v":851},{"$f":"Worksheet!$D$11","v":true},{"$f":"RANDBETWEEN(5,RANDBETWEEN(5,Worksheet!$D$6))","v":63},"kg","±",{"$f":"IF(I1096=1,H1096*10^RANDBETWEEN(IF(Worksheet!$D$9,-1,0),0),IF(I1096=2,H1096*10^RANDBETWEEN(RANDBETWEEN(0,2),2),CHOOSE(RANDBETWEEN(1,3),5,10,20)))","v":40},{"$f":"IF(I1096=1,D1096,IF(I1096=3,\"%\",\"g\"))","v":"g"},4,{"$f":"IF(AND(Worksheet!$D$8,RAND()<0.2),3,IF(RAND()<Worksheet!$D$7/100,1,2))","v":2},{"$f":"IF(I1096=1,C1096-F1096,IF(I1096=2,C1096-F1096/1000,IF(I1096=3,(1-F1096/100)*C1096,\"\")))","v":62.96}," kg",{"$f":"J1096*1000","v":62960},"g",{"$f":"IF(I1096=1,C1096+F1096,IF(I1096=2,C1096+F1096/1000,IF(I1096=3,(1+F1096/100)*C1096,\"\")))","v":63.04},"  kg",{"$f":"N1096*1000","v":63040},"g"]
[{"$f":"IF(COUNTIF($B$1:B1097,TRUE)=COUNTIF($B$1:B1096,TRUE),\"\",COUNTIF($B$1:B1097,TRUE))","v":852},{"$f":"Worksheet!$D$12","v":true},{"$f":"RANDBETWEEN(5,RANDBETWEEN(5,Worksheet!$D$6))","v":150},"tonnes","±",{"$f":"IF(I1097=1,H1097*10^RANDBETWEEN(IF(Worksheet!$D$9,-1,0),0),IF(I1097=2,H1097*10^RANDBETWEEN(RANDBETWEEN(0,2),2),CHOOSE(RANDBETWEEN(1,3),5,10,20)))","v":0.70000000000000007},{"$f":"IF(I1097=1,D1097,IF(I1097=3,\"%\",\"kg\"))","v":"tonnes"},7,{"$f":"IF(AND(Worksheet!$D$8,RAND()<0.2),3,IF(RAND()<Worksheet!$D$7/100,1,2))","v":1},{"$f":"IF(I1097=1,C1097-F1097,IF(I1097=2,C1097-F1097/1000,IF(I1097=3,(1-F1097/100)*C1097,\"\")))","v":149.30000000000001}," tonnes",{"$f":"J1097*1000","v":149300},"kg",{"$f":"IF(I1097=1,C1097+F1097,IF(I1097=2,C1097+F1097/1000,IF(I1097=3,(1+F1097/100)*C1097,\"\")))","v":150.69999999999999},"  tonnes",{"$f":"N1097*1000","v":150700},"kg"]
[{"$f":"IF(COUNTIF($B$1:B1098,TRUE)=COUNTIF($B$1:B1097,TRUE),\"\",COUNTIF($B$1:B1098,TRUE))","v":853},{"$f":"Worksheet!$D$13","v":true},{"$f":"RANDBETWEEN(5,RANDBETWEEN(5,Worksheet!$D$6))","v":156},"litres","±",{"$f":"IF(I1098=1,H1098*10^RANDBETWEEN(IF(Worksheet!$D$9,-1,0),0),IF(I1098=2,H1098*10^RANDBETWEEN(RANDBETWEEN(0,2),2),CHOOSE(RANDBETWEEN(1,3),5,10,20)))","v":0.60000000000000009},{"$f":"IF(I1098=1,D1098,IF(I1098=3,\"%\",\"ml\"))","v":"litres"},6,{"$f":"IF(AND(Worksheet!$D$8,RAND()<0.2),3,IF(RAND()<Worksheet!$D$7/100,1,2))","v":1},{"$f":"IF(I1098=1,C1098-F1098,IF(I1098=2,C1098-F1098/1000,IF(I1098=3,(1-F1098/100)*C1098,\"\")))","v":155.4}," litres",{"$f":"J1098*1000","v":155400},"ml",{"$f":"IF(I1098=1,C1098+F1098,IF(I1098=2,C1098+F1098/1000,IF(I1098=3,(1+F1098/100)*C1098,\"\")))","v":156.6},"  litres",{"$f":"N1098*1000","v":156600},"ml"]
[{"$f":"IF(COUNTIF($B$1:B1099,TRUE)=COUNTIF($B$1:B1098,TRUE),\"\",COUNTIF($B$1:B1099,TRUE))","v":854},{"$f":"Worksheet!$D$14","v":true},{"$f":"RANDBETWEEN(5,RANDBETWEEN(5,Worksheet!$D$6))","v":10},"litres","±",{"$f":"IF(I1099=1,H1099*10^RANDBETWEEN(IF(Worksheet!$D$9,-1,0),0),IF(I1099=2,H1099*10^RANDBETWEEN(RANDBETWEEN(0,2),2),CHOOSE(RANDBETWEEN(1,3),5,10,20)))","v":5},{"$f":"IF(I1099=1,D1099,IF(I1099=3,\"%\",\"cm³\"))","v":"%"},9,{"$f":"IF(AND(Worksheet!$D$8,RAND()<0.2),3,IF(RAND()<Worksheet!$D$7/100,1,2))","v":3},{"$f":"IF(I1099=1,C1099-F1099,IF(I1099=2,C1099-F1099/1000,IF(I1099=3,(1-F1099/100)*C1099,\"\")))","v":9.5}," litres",{"$f":"J1099*1000","v":9500},"cm³",{"$f":"IF(I1099=1,C1099+F1099,IF(I1099=2,C1099+F1099/1000,IF(I1099=3,(1+F1099/100)*C1099,\"\")))","v":10.5},"  litres",{"$f":"N1099*1000","v":10500},"cm³"]
[{"$f":"IF(COUNTIF($B$1:B1100,TRUE)=COUNTIF($B$1:B1099,TRUE),\"\",COUNTIF($B$1:B1100,TRUE))","v":""},{"$f":"Worksheet!$D$15","v":false},{"$f":"RANDBETWEEN(5,20)","v":9},"min","±",{"$f":"IF(I1100=1,H1100*10^RANDBETWEEN(IF(Worksheet!$D$9,-1,0),0),IF(I1100=2,H1100,CHOOSE(RANDBETWEEN(1,3),5,10,20)))","v":7},{"$f":"IF(I1100=1,D1100,IF(I1100=3,\"%\",\"sec\"))","v":"min"},7,{"$f":"IF(AND(Worksheet!$D$8,RAND()<0),3,IF(RAND()<Worksheet!$D$7/100,1,2))","v":1},null," min",{"$f":"IF(I1100=1,C1100-F1100,IF(I1100=2,C1100*60-F1100,\"\"))","v":2},{"$f":"IF($I1100=1,\" hours\",\" min\")","v":" hours"},null,"  min",{"$f":"IF(I1100=1,C1100+F1100,IF(I1100=2,C1100*60+F1100,\"\"))","v":16},{"$f":"IF($I1100=1,\" hours\",\" min\")","v":" hours"}]
[{"$f":"COUNTIF($B$1:B1101,TRUE)","v":855},{"$f":"Worksheet!$B$11","v":true},{"$f":"RANDBETWEEN(5,RANDBETWEEN(5,Worksheet!$D$6))","v":54},"cm","±",{"$f":"IF(I1101=1,H1101*10^RANDBETWEEN(IF(Worksheet!$D$9,-1,0),0),IF(I1101=2,H1101,CHOOSE(RANDBETWEEN(1,3),5,10,20)))","v":0.1},{"$f":"IF(I1101=1,D1101,IF(I1101=3,\"%\",\"mm\"))","v":"cm"},{"$f":"RANDBETWEEN(1,MIN(9,C1101))","v":1},{"$f":"IF(AND(Worksheet!$D$8,RAND()<0.2),3,IF(RAND()<Worksheet!$D$7/100,1,2))","v":1},{"$f":"IF(I1101=1,C1101-F1101,IF(I1101=2,C1101-F1101/10,IF(I1101=3,(1-F1101/100)*C1101,\"\")))","v":53.9},{"$f":"CONCATENATE(\" \",D1101)","v":" cm"},{"$f":"J1101*10","v":539},"mm",{"$f":"IF(I1101=1,C1101+F1101,IF(I1101=2,C1101+F1101/10,IF(I1101=3,(1+F1101/100)*C1101,\"\")))","v":54.1},{"$f":"CONCATENATE(\" \",K1101)","v":"  cm"},{"$f":"N1101*10","v":541},"mm"]
[{"$f":"IF(COUNTIF($B$1:B1102,TRUE)=COUNTIF($B$1:B1101,TRUE),\"\",COUNTIF($B$1:B1102,TRUE))","v":856},{"$f":"Worksheet!$B$12","v":true},{"$f":"RANDBETWEEN(5,RANDBETWEEN(5,Worksheet!$D$6))","v":133},"m","±",{"$f":"IF(I1102=1,H1102*10^RANDBETWEEN(IF(Worksheet!$D$9,-1,0),0),IF(I1102=2,H1102*10^RANDBETWEEN(RANDBETWEEN(0,1),1),CHOOSE(RANDBETWEEN(1,3),5,10,20)))","v":8},{"$f":"IF(I1102=1,D1102,IF(I1102=3,\"%\",\"cm\"))","v":"m"},{"$f":"RANDBETWEEN(1,MIN(9,C1102))","v":8},{"$f":"IF(AND(Worksheet!$D$8,RAND()<0.2),3,IF(RAND()<Worksheet!$D$7/100,1,2))","v":1},{"$f":"IF(I1102=1,C1102-F1102,IF(I1102=2,C1102-F1102/100,IF(I1102=3,(1-F1102/100)*C1102,\"\")))","v":125},{"$f":"CONCATENATE(\" \",D1102)","v":" m"},{"$f":"J1102*100","v":12500},"cm",{"$f":"IF(I1102=1,C1102+F1102,IF(I1102=2,C1102+F1102/100,IF(I1102=3,(1+F1102/100)*C1102,\"\")))","v":141},{"$f":"CONCATENATE(\" \",K1102)","v":"  m"},{"$f":"N1102*100","v":14100},"cm"]
[{"$f":"IF(COUNTIF($B$1:B1103,TRUE)=COUNTIF($B$1:B1102,TRUE),\"\",COUNTIF($B$1:B1103,TRUE))","v":857},{"$f":"Worksheet!$B$13","v":true},{"$f":"RANDBETWEEN(5,RANDBETWEEN(5,Worksheet!$D$6))","v":51},"km","±",{"$f":"IF(I1103=1,H1103*10^RANDBETWEEN(IF(Worksheet!$D$9,-1,0),0),IF(I1103=2,H1103*10^RANDBETWEEN(RANDBETWEEN(0,2),2),CHOOSE(RANDBETWEEN(1,3),5,10,20)))","v":20},{"$f":"IF(I1103=1,D1103,IF(I1103=3,\"%\",\"m\"))","v":"%"},8,{"$f":"IF(AND(Worksheet!$D$8,RAND()<0.2),3,IF(RAND()<Worksheet!$D$7/100,1,2))","v":3},{"$f":"IF(I1103=1,C1103-F1103,IF(I1103=2,C1103-F1103/1000,IF(I1103=3,(1-F1103/100)*C1103,\"\")))","v":40.800000000000004}," km",{"$f":"J1103*1000","v":40800.000000000007},"m",{"$f":"IF(I1103=1,C1103+F1103,IF(I1103=2,C1103+F1103/1000,IF(I1103=3,(1+F1103/100)*C1103,\"\")))","v":61.199999999999996},"  km",{"$f":"N1103*1000","v":61199.999999999993},"m"]
[{"$f":"IF(COUNTIF($B$1:B1104,TRUE)=COUNTIF($B$1:B1103,TRUE),\"\",COUNTIF($B$1:B1104,TRUE))","v":""},{"$f":"Worksheet!$B$14","v":false},{"$f":"RANDBETWEEN(5,RANDBETWEEN(5,Worksheet!$D$6))","v":96},"m","±",{"$f":"IF(I1104=1,H1104*10^RANDBETWEEN(IF(Worksheet!$D$9,-1,0),0),IF(I1104=2,H1104*10^RANDBETWEEN(RANDBETWEEN(0,2),2),CHOOSE(RANDBETWEEN(1,3),5,10,20)))","v":700},{"$f":"IF(I1104=1,D1104,IF(I1104=3,\"%\",\"mm\"))","v":"mm"},7,{"$f":"IF(AND(Worksheet!$D$8,RAND()<0.2),3,IF(RAND()<Worksheet!$D$7/100,1,2))","v":2},{"$f":"IF(I1104=1,C1104-F1104,IF(I1104=2,C1104-F1104/1000,IF(I1104=3,(1-F1104/100)*C1104,\"\")))","v":95.3}," m",{"$f":"J1104*1000","v":95300},"mm",{"$f":"IF(I1104=1,C1104+F1104,IF(I1104=2,C1104+F1104/1000,IF(I1104=3,(1+F1104/100)*C1104,\"\")))","v":96.7},"  m",{"$f":"N1104*1000","v":96700},"mm"]
[{"$f":"IF(COUNTIF($B$1:B1105,TRUE)=COUNTIF($B$1:B1104,TRUE),\"\",COUNTIF($B$1:B1105,TRUE))","v":858},{"$f":"Worksheet!$B$15","v":true},{"$f":"RANDBETWEEN(5,20)","v":11},"hours","±",{"$f":"IF(I1105=1,H1105*10^RANDBETWEEN(IF(Worksheet!$D$9,-1,0),0),IF(I1105=2,H1105,CHOOSE(RANDBETWEEN(1,3),5,10,20)))","v":0.4},{"$f":"IF(I1105=1,D1105,IF(I1105=3,\"%\",\"min\"))","v":"hours"},4,{"$f":"IF(AND(Worksheet!$D$8,RAND()<0),3,IF(RAND()<Worksheet!$D$7/100,1,2))","v":1},null," hours",{"$f":"IF(I1105=1,C1105-F1105,IF(I1105=2,C1105*60-F1105,\"\"))","v":10.6},{"$f":"IF($I1105=1,\" hours\",\" min\")","v":" hours"},null,"  hours",{"$f":"IF(I1105=1,C1105+F1105,IF(I1105=2,C1105*60+F1105,\"\"))","v":11.4},{"$f":"IF($I1105=1,\" hours\",\" min\")","v":" hours"}]
[{"$f":"IF(COUNTIF($B$1:B1106,TRUE)=COUNTIF($B$1:B1105,TRUE),\"\",COUNTIF($B$1:B1106,TRUE))","v":859},{"$f":"Worksheet!$D$11","v":true},{"$f":"RANDBETWEEN(5,RANDBETWEEN(5,Worksheet!$D$6))","v":43},"kg","±",{"$f":"IF(I1106=1,H1106*10^RANDBETWEEN(IF(Worksheet!$D$9,-1,0),0),IF(I1106=2,H1106*10^RANDBETWEEN(RANDBETWEEN(0,2),2),CHOOSE(RANDBETWEEN(1,3),5,10,20)))","v":0.30000000000000004},{"$f":"IF(I1106=1,D1106,IF(I1106=3,\"%\",\"g\"))","v":"kg"},3,{"$f":"IF(AND(Worksheet!$D$8,RAND()<0.2),3,IF(RAND()<Worksheet!$D$7/100,1,2))","v":1},{"$f":"IF(I1106=1,C1106-F1106,IF(I1106=2,C1106-F1106/1000,IF(I1106=3,(1-F1106/100)*C1106,\"\")))","v":42.7}," kg",{"$f":"J1106*1000","v":42700},"g",{"$f":"IF(I1106=1,C1106+F1106,IF(I1106=2,C1106+F1106/1000,IF(I1106=3,(1+F1106/100)*C1106,\"\")))","v":43.3},"  kg",{"$f":"N1106*1000","v":43300},"g"]
[{"$f":"IF(COUNTIF($B$1:B1107,TRUE)=COUNTIF($B$1:B1106,TRUE),\"\",COUNTIF($B$1:B1107,TRUE))","v":860},{"$f":"Worksheet!$D$12","v":true},{"$f":"RANDBETWEEN(5,RANDBETWEEN(5,Worksheet!$D$6))","v":7},"tonnes","±",{"$f":"IF(I1107=1,H1107*10^RANDBETWEEN(IF(Worksheet!$D$9,-1,0),0),IF(I1107=2,H1107*10^RANDBETWEEN(RANDBETWEEN(0,2),2),CHOOSE(RANDBETWEEN(1,3),5,10,20)))","v":2},{"$f":"IF(I1107=1,D1107,IF(I1107=3,\"%\",\"kg\"))","v":"kg"},2,{"$f":"IF(AND(Worksheet!$D$8,RAND()<0.2),3,IF(RAND()<Worksheet!$D$7/100,1,2))","v":2},{"$f":"IF(I1107=1,C1107-F1107,IF(I1107=2,C1107-F1107/1000,IF(I1107=3,(1-F1107/100)*C1107,\"\")))","v":6.9980000000000002}," tonnes",{"$f":"J1107*1000","v":6998},"kg",{"$f":"IF(I1107=1,C1107+F1107,IF(I1107=2,C1107+F1107/1000,IF(I1107=3,(1+F1107/100)*C1107,\"\")))","v":7.0019999999999998},"  tonnes",{"$f":"N1107*1000","v":7002},"kg"]
[{"$f":"IF(COUNTIF($B$1:B1108,TRUE)=COUNTIF($B$1:B1107,TRUE),\"\",COUNTIF($B$1:B1108,TRUE))","v":861},{"$f":"Worksheet!$D$13","v":true},{"$f":"RANDBETWEEN(5,RANDBETWEEN(5,Worksheet!$D$6))","v":102},"litres","±",{"$f":"IF(I1108=1,H1108*10^RANDBETWEEN(IF(Worksheet!$D$9,-1,0),0),IF(I1108=2,H1108*10^RANDBETWEEN(RANDBETWEEN(0,2),2),CHOOSE(RANDBETWEEN(1,3),5,10,20)))","v":70},{"$f":"IF(I1108=1,D1108,IF(I1108=3,\"%\",\"ml\"))","v":"ml"},7,{"$f":"IF(AND(Worksheet!$D$8,RAND()<0.2),3,IF(RAND()<Worksheet!$D$7/100,1,2))","v":2},{"$f":"IF(I1108=1,C1108-F1108,IF(I1108=2,C1108-F1108/1000,IF(I1108=3,(1-F1108/100)*C1108,\"\")))","v":101.93}," litres",{"$f":"J1108*1000","v":101930},"ml",{"$f":"IF(I1108=1,C1108+F1108,IF(I1108=2,C1108+F1108/1000,IF(I1108=3,(1+F1108/100)*C1108,\"\")))","v":102.07},"  litres",{"$f":"N1108*1000","v":102070},"ml"]
[{"$f":"IF(COUNTIF($B$1:B1109,TRUE)=COUNTIF($B$1:B1108,TRUE),\"\",COUNTIF($B$1:B1109,TRUE))","v":862},{"$f":"Worksheet!$D$14","v":true},{"$f":"RANDBETWEEN(5,RANDBETWEEN(5,Worksheet!$D$6))","v":12},"litres","±",{"$f":"IF(I1109=1,H1109*10^RANDBETWEEN(IF(Worksheet!$D$9,-1,0),0),IF(I1109=2,H1109*10^RANDBETWEEN(RANDBETWEEN(0,2),2),CHOOSE(RANDBETWEEN(1,3),5,10,20)))","v":0.2},{"$f":"IF(I1109=1,D1109,IF(I1109=3,\"%\",\"cm³\"))","v":"litres"},2,{"$f":"IF(AND(Worksheet!$D$8,RAND()<0.2),3,IF(RAND()<Worksheet!$D$7/100,1,2))","v":1},{"$f":"IF(I1109=1,C1109-F1109,IF(I1109=2,C1109-F1109/1000,IF(I1109=3,(1-F1109/100)*C1109,\"\")))","v":11.8}," litres",{"$f":"J1109*1000","v":11800},"cm³",{"$f":"IF(I1109=1,C1109+F1109,IF(I1109=2,C1109+F1109/1000,IF(I1109=3,(1+F1109/100)*C1109,\"\")))","v":12.2},"  litres",{"$f":"N1109*1000","v":12200},"cm³"]
[{"$f":"IF(COUNTIF($B$1:B1110,TRUE)=COUNTIF($B$1:B1109,TRUE),\"\",COUNTIF($B$1:B1110,TRUE))","v":""},{"$f":"Worksheet!$D$15","v":false},{"$f":"RANDBETWEEN(5,20)","v":19},"min","±",{"$f":"IF(I1110=1,H1110*10^RANDBETWEEN(IF(Worksheet!$D$9,-1,0),0),IF(I1110=2,H1110,CHOOSE(RANDBETWEEN(1,3),5,10,20)))","v":6},{"$f":"IF(I1110=1,D1110,IF(I1110=3,\"%\",\"sec\"))","v":"min"},6,{"$f":"IF(AND(Worksheet!$D$8,RAND()<0),3,IF(RAND()<Worksheet!$D$7/100,1,2))","v":1},null," min",{"$f":"IF(I1110=1,C1110-F1110,IF(I1110=2,C1110*60-F1110,\"\"))","v":13},{"$f":"IF($I1110=1,\" hours\",\" min\")","v":" hours"},null,"  min",{"$f":"IF(I1110=1,C1110+F1110,IF(I1110=2,C1110*60+F1110,\"\"))","v":25},{"$f":"IF($I1110=1,\" hours\",\" min\")","v":" hours"}]
[{"$f":"COUNTIF($B$1:B1111,TRUE)","v":863},{"$f":"Worksheet!$B$11","v":true},{"$f":"RANDBETWEEN(5,RANDBETWEEN(5,Worksheet!$D$6))","v":146},"cm","±",{"$f":"IF(I1111=1,H1111*10^RANDBETWEEN(IF(Worksheet!$D$9,-1,0),0),IF(I1111=2,H1111,CHOOSE(RANDBETWEEN(1,3),5,10,20)))","v":10},{"$f":"IF(I1111=1,D1111,IF(I1111=3,\"%\",\"mm\"))","v":"%"},{"$f":"RANDBETWEEN(1,MIN(9,C1111))","v":5},{"$f":"IF(AND(Worksheet!$D$8,RAND()<0.2),3,IF(RAND()<Worksheet!$D$7/100,1,2))","v":3},{"$f":"IF(I1111=1,C1111-F1111,IF(I1111=2,C1111-F1111/10,IF(I1111=3,(1-F1111/100)*C1111,\"\")))","v":131.4},{"$f":"CONCATENATE(\" \",D1111)","v":" cm"},{"$f":"J1111*10","v":1314},"mm",{"$f":"IF(I1111=1,C1111+F1111,IF(I1111=2,C1111+F1111/10,IF(I1111=3,(1+F1111/100)*C1111,\"\")))","v":160.60000000000002},{"$f":"CONCATENATE(\" \",K1111)","v":"  cm"},{"$f":"N1111*10","v":1606.0000000000002},"mm"]
[{"$f":"IF(COUNTIF($B$1:B1112,TRUE)=COUNTIF($B$1:B1111,TRUE),\"\",COUNTIF($B$1:B1112,TRUE))","v":864},{"$f":"Worksheet!$B$12","v":true},{"$f":"RANDBETWEEN(5,RANDBETWEEN(5,Worksheet!$D$6))","v":100},"m","±",{"$f":"IF(I1112=1,H1112*10^RANDBETWEEN(IF(Worksheet!$D$9,-1,0),0),IF(I1112=2,H1112*10^RANDBETWEEN(RANDBETWEEN(0,1),1),CHOOSE(RANDBETWEEN(1,3),5,10,20)))","v":0.60000000000000009},{"$f":"IF(I1112=1,D1112,IF(I1112=3,\"%\",\"cm\"))","v":"m"},{"$f":"RANDBETWEEN(1,MIN(9,C1112))","v":6},{"$f":"IF(AND(Worksheet!$D$8,RAND()<0.2),3,IF(RAND()<Worksheet!$D$7/100,1,2))","v":1},{"$f":"IF(I1112=1,C1112-F1112,IF(I1112=2,C1112-F1112/100,IF(I1112=3,(1-F1112/100)*C1112,\"\")))","v":99.4},{"$f":"CONCATENATE(\" \",D1112)","v":" m"},{"$f":"J1112*100","v":9940},"cm",{"$f":"IF(I1112=1,C1112+F1112,IF(I1112=2,C1112+F1112/100,IF(I1112=3,(1+F1112/100)*C1112,\"\")))","v":100.6},{"$f":"CONCATENATE(\" \",K1112)","v":"  m"},{"$f":"N1112*100","v":10060},"cm"]
[{"$f":"IF(COUNTIF($B$1:B1113,TRUE)=COUNTIF($B$1:B1112,TRUE),\"\",COUNTIF($B$1:B1113,TRUE))","v":865},{"$f":"Worksheet!$B$13","v":true},{"$f":"RANDBETWEEN(5,RANDBETWEEN(5,Worksheet!$D$6))","v":23},"km","±",{"$f":"IF(I1113=1,H1113*10^RANDBETWEEN(IF(Worksheet!$D$9,-1,0),0),IF(I1113=2,H1113*10^RANDBETWEEN(RANDBETWEEN(0,2),2),CHOOSE(RANDBETWEEN(1,3),5,10,20)))","v":30},{"$f":"IF(I1113=1,D1113,IF(I1113=3,\"%\",\"m\"))","v":"m"},3,{"$f":"IF(AND(Worksheet!$D$8,RAND()<0.2),3,IF(RAND()<Worksheet!$D$7/100,1,2))","v":2},{"$f":"IF(I1113=1,C1113-F1113,IF(I1113=2,C1113-F1113/1000,IF(I1113=3,(1-F1113/100)*C1113,\"\")))","v":22.97}," km",{"$f":"J1113*1000","v":22970},"m",{"$f":"IF(I1113=1,C1113+F1113,IF(I1113=2,C1113+F1113/1000,IF(I1113=3,(1+F1113/100)*C1113,\"\")))","v":23.03},"  km",{"$f":"N1113*1000","v":23030},"m"]
[{"$f":"IF(COUNTIF($B$1:B1114,TRUE)=COUNTIF($B$1:B1113,TRUE),\"\",COUNTIF($B$1:B1114,TRUE))","v":""},{"$f":"Worksheet!$B$14","v":false},{"$f":"RANDBETWEEN(5,RANDBETWEEN(5,Worksheet!$D$6))","v":129},"m","±",{"$f":"IF(I1114=1,H1114*10^RANDBETWEEN(IF(Worksheet!$D$9,-1,0),0),IF(I1114=2,H1114*10^RANDBETWEEN(RANDBETWEEN(0,2),2),CHOOSE(RANDBETWEEN(1,3),5,10,20)))","v":0.70000000000000007},{"$f":"IF(I1114=1,D1114,IF(I1114=3,\"%\",\"mm\"))","v":"m"},7,{"$f":"IF(AND(Worksheet!$D$8,RAND()<0.2),3,IF(RAND()<Worksheet!$D$7/100,1,2))","v":1},{"$f":"IF(I1114=1,C1114-F1114,IF(I1114=2,C1114-F1114/1000,IF(I1114=3,(1-F1114/100)*C1114,\"\")))","v":128.30000000000001}," m",{"$f":"J1114*1000","v":128300.00000000001},"mm",{"$f":"IF(I1114=1,C1114+F1114,IF(I1114=2,C1114+F1114/1000,IF(I1114=3,(1+F1114/100)*C1114,\"\")))","v":129.69999999999999},"  m",{"$f":"N1114*1000","v":129699.99999999999},"mm"]
[{"$f":"IF(COUNTIF($B$1:B1115,TRUE)=COUNTIF($B$1:B1114,TRUE),\"\",COUNTIF($B$1:B1115,TRUE))","v":866},{"$f":"Worksheet!$B$15","v":true},{"$f":"RANDBETWEEN(5,20)","v":6},"hours","±",{"$f":"IF(I1115=1,H1115*10^RANDBETWEEN(IF(Worksheet!$D$9,-1,0),0),IF(I1115=2,H1115,CHOOSE(RANDBETWEEN(1,3),5,10,20)))","v":2},{"$f":"IF(I1115=1,D1115,IF(I1115=3,\"%\",\"min\"))","v":"min"},2,{"$f":"IF(AND(Worksheet!$D$8,RAND()<0),3,IF(RAND()<Worksheet!$D$7/100,1,2))","v":2},null," hours",{"$f":"IF(I1115=1,C1115-F1115,IF(I1115=2,C1115*60-F1115,\"\"))","v":358},{"$f":"IF($I1115=1,\" hours\",\" min\")","v":" min"},null,"  hours",{"$f":"IF(I1115=1,C1115+F1115,IF(I1115=2,C1115*60+F1115,\"\"))","v":362},{"$f":"IF($I1115=1,\" hours\",\" min\")","v":" min"}]
[{"$f":"IF(COUNTIF($B$1:B1116,TRUE)=COUNTIF($B$1:B1115,TRUE),\"\",COUNTIF($B$1:B1116,TRUE))","v":867},{"$f":"Worksheet!$D$11","v":true},{"$f":"RANDBETWEEN(5,RANDBETWEEN(5,Worksheet!$D$6))","v":70},"kg","±",{"$f":"IF(I1116=1,H1116*10^RANDBETWEEN(IF(Worksheet!$D$9,-1,0),0),IF(I1116=2,H1116*10^RANDBETWEEN(RANDBETWEEN(0,2),2),CHOOSE(RANDBETWEEN(1,3),5,10,20)))","v":300},{"$f":"IF(I1116=1,D1116,IF(I1116=3,\"%\",\"g\"))","v":"g"},3,{"$f":"IF(AND(Worksheet!$D$8,RAND()<0.2),3,IF(RAND()<Worksheet!$D$7/100,1,2))","v":2},{"$f":"IF(I1116=1,C1116-F1116,IF(I1116=2,C1116-F1116/1000,IF(I1116=3,(1-F1116/100)*C1116,\"\")))","v":69.7}," kg",{"$f":"J1116*1000","v":69700},"g",{"$f":"IF(I1116=1,C1116+F1116,IF(I1116=2,C1116+F1116/1000,IF(I1116=3,(1+F1116/100)*C1116,\"\")))","v":70.3},"  kg",{"$f":"N1116*1000","v":70300},"g"]
[{"$f":"IF(COUNTIF($B$1:B1117,TRUE)=COUNTIF($B$1:B1116,TRUE),\"\",COUNTIF($B$1:B1117,TRUE))","v":868},{"$f":"Worksheet!$D$12","v":true},{"$f":"RANDBETWEEN(5,RANDBETWEEN(5,Worksheet!$D$6))","v":103},"tonnes","±",{"$f":"IF(I1117=1,H1117*10^RANDBETWEEN(IF(Worksheet!$D$9,-1,0),0),IF(I1117=2,H1117*10^RANDBETWEEN(RANDBETWEEN(0,2),2),CHOOSE(RANDBETWEEN(1,3),5,10,20)))","v":300},{"$f":"IF(I1117=1,D1117,IF(I1117=3,\"%\",\"kg\"))","v":"kg"},3,{"$f":"IF(AND(Worksheet!$D$8,RAND()<0.2),3,IF(RAND()<Worksheet!$D$7/100,1,2))","v":2},{"$f":"IF(I1117=1,C1117-F1117,IF(I1117=2,C1117-F1117/1000,IF(I1117=3,(1-F1117/100)*C1117,\"\")))","v":102.7}," tonnes",{"$f":"J1117*1000","v":102700},"kg",{"$f":"IF(I1117=1,C1117+F1117,IF(I1117=2,C1117+F1117/1000,IF(I1117=3,(1+F1117/100)*C1117,\"\")))","v":103.3},"  tonnes",{"$f":"N1117*1000","v":103300},"kg"]
[{"$f":"IF(COUNTIF($B$1:B1118,TRUE)=COUNTIF($B$1:B1117,TRUE),\"\",COUNTIF($B$1:B1118,TRUE))","v":869},{"$f":"Worksheet!$D$13","v":true},{"$f":"RANDBETWEEN(5,RANDBETWEEN(5,Worksheet!$D$6))","v":16},"litres","±",{"$f":"IF(I1118=1,H1118*10^RANDBETWEEN(IF(Worksheet!$D$9,-1,0),0),IF(I1118=2,H1118*10^RANDBETWEEN(RANDBETWEEN(0,2),2),CHOOSE(RANDBETWEEN(1,3),5,10,20)))","v":0.70000000000000007},{"$f":"IF(I1118=1,D1118,IF(I1118=3,\"%\",\"ml\"))","v":"litres"},7,{"$f":"IF(AND(Worksheet!$D$8,RAND()<0.2),3,IF(RAND()<Worksheet!$D$7/100,1,2))","v":1},{"$f":"IF(I1118=1,C1118-F1118,IF(I1118=2,C1118-F1118/1000,IF(I1118=3,(1-F1118/100)*C1118,\"\")))","v":15.3}," litres",{"$f":"J1118*1000","v":15300},"ml",{"$f":"IF(I1118=1,C1118+F1118,IF(I1118=2,C1118+F1118/1000,IF(I1118=3,(1+F1118/100)*C1118,\"\")))","v":16.7},"  litres",{"$f":"N1118*1000","v":16700},"ml"]
[{"$f":"IF(COUNTIF($B$1:B1119,TRUE)=COUNTIF($B$1:B1118,TRUE),\"\",COUNTIF($B$1:B1119,TRUE))","v":870},{"$f":"Worksheet!$D$14","v":true},{"$f":"RANDBETWEEN(5,RANDBETWEEN(5,Worksheet!$D$6))","v":40},"litres","±",{"$f":"IF(I1119=1,H1119*10^RANDBETWEEN(IF(Worksheet!$D$9,-1,0),0),IF(I1119=2,H1119*10^RANDBETWEEN(RANDBETWEEN(0,2),2),CHOOSE(RANDBETWEEN(1,3),5,10,20)))","v":10},{"$f":"IF(I1119=1,D1119,IF(I1119=3,\"%\",\"cm³\"))","v":"%"},5,{"$f":"IF(AND(Worksheet!$D$8,RAND()<0.2),3,IF(RAND()<Worksheet!$D$7/100,1,2))","v":3},{"$f":"IF(I1119=1,C1119-F1119,IF(I1119=2,C1119-F1119/1000,IF(I1119=3,(1-F1119/100)*C1119,\"\")))","v":36}," litres",{"$f":"J1119*1000","v":36000},"cm³",{"$f":"IF(I1119=1,C1119+F1119,IF(I1119=2,C1119+F1119/1000,IF(I1119=3,(1+F1119/100)*C1119,\"\")))","v":44},"  litres",{"$f":"N1119*1000","v":44000},"cm³"]
[{"$f":"IF(COUNTIF($B$1:B1120,TRUE)=COUNTIF($B$1:B1119,TRUE),\"\",COUNTIF($B$1:B1120,TRUE))","v":""},{"$f":"Worksheet!$D$15","v":false},{"$f":"RANDBETWEEN(5,20)","v":18},"min","±",{"$f":"IF(I1120=1,H1120*10^RANDBETWEEN(IF(Worksheet!$D$9,-1,0),0),IF(I1120=2,H1120,CHOOSE(RANDBETWEEN(1,3),5,10,20)))","v":2},{"$f":"IF(I1120=1,D1120,IF(I1120=3,\"%\",\"sec\"))","v":"min"},2,{"$f":"IF(AND(Worksheet!$D$8,RAND()<0),3,IF(RAND()<Worksheet!$D$7/100,1,2))","v":1},null," min",{"$f":"IF(I1120=1,C1120-F1120,IF(I1120=2,C1120*60-F1120,\"\"))","v":16},{"$f":"IF($I1120=1,\" hours\",\" min\")","v":" hours"},null,"  min",{"$f":"IF(I1120=1,C1120+F1120,IF(I1120=2,C1120*60+F1120,\"\"))","v":20},{"$f":"IF($I1120=1,\" hours\",\" min\")","v":" hours"}]
[{"$f":"COUNTIF($B$1:B1121,TRUE)","v":871},{"$f":"Worksheet!$B$11","v":true},{"$f":"RANDBETWEEN(5,RANDBETWEEN(5,Worksheet!$D$6))","v":352},"cm","±",{"$f":"IF(I1121=1,H1121*10^RANDBETWEEN(IF(Worksheet!$D$9,-1,0),0),IF(I1121=2,H1121,CHOOSE(RANDBETWEEN(1,3),5,10,20)))","v":0.2},{"$f":"IF(I1121=1,D1121,IF(I1121=3,\"%\",\"mm\"))","v":"cm"},{"$f":"RANDBETWEEN(1,MIN(9,C1121))","v":2},{"$f":"IF(AND(Worksheet!$D$8,RAND()<0.2),3,IF(RAND()<Worksheet!$D$7/100,1,2))","v":1},{"$f":"IF(I1121=1,C1121-F1121,IF(I1121=2,C1121-F1121/10,IF(I1121=3,(1-F1121/100)*C1121,\"\")))","v":351.8},{"$f":"CONCATENATE(\" \",D1121)","v":" cm"},{"$f":"J1121*10","v":3518},"mm",{"$f":"IF(I1121=1,C1121+F1121,IF(I1121=2,C1121+F1121/10,IF(I1121=3,(1+F1121/100)*C1121,\"\")))","v":352.2},{"$f":"CONCATENATE(\" \",K1121)","v":"  cm"},{"$f":"N1121*10","v":3522},"mm"]
[{"$f":"IF(COUNTIF($B$1:B1122,TRUE)=COUNTIF($B$1:B1121,TRUE),\"\",COUNTIF($B$1:B1122,TRUE))","v":872},{"$f":"Worksheet!$B$12","v":true},{"$f":"RANDBETWEEN(5,RANDBETWEEN(5,Worksheet!$D$6))","v":28},"m","±",{"$f":"IF(I1122=1,H1122*10^RANDBETWEEN(IF(Worksheet!$D$9,-1,0),0),IF(I1122=2,H1122*10^RANDBETWEEN(RANDBETWEEN(0,1),1),CHOOSE(RANDBETWEEN(1,3),5,10,20)))","v":0.70000000000000007},{"$f":"IF(I1122=1,D1122,IF(I1122=3,\"%\",\"cm\"))","v":"m"},{"$f":"RANDBETWEEN(1,MIN(9,C1122))","v":7},{"$f":"IF(AND(Worksheet!$D$8,RAND()<0.2),3,IF(RAND()<Worksheet!$D$7/100,1,2))","v":1},{"$f":"IF(I1122=1,C1122-F1122,IF(I1122=2,C1122-F1122/100,IF(I1122=3,(1-F1122/100)*C1122,\"\")))","v":27.3},{"$f":"CONCATENATE(\" \",D1122)","v":" m"},{"$f":"J1122*100","v":2730},"cm",{"$f":"IF(I1122=1,C1122+F1122,IF(I1122=2,C1122+F1122/100,IF(I1122=3,(1+F1122/100)*C1122,\"\")))","v":28.7},{"$f":"CONCATENATE(\" \",K1122)","v":"  m"},{"$f":"N1122*100","v":2870},"cm"]
[{"$f":"IF(COUNTIF($B$1:B1123,TRUE)=COUNTIF($B$1:B1122,TRUE),\"\",COUNTIF($B$1:B1123,TRUE))","v":873},{"$f":"Worksheet!$B$13","v":true},{"$f":"RANDBETWEEN(5,RANDBETWEEN(5,Worksheet!$D$6))","v":160},"km","±",{"$f":"IF(I1123=1,H1123*10^RANDBETWEEN(IF(Worksheet!$D$9,-1,0),0),IF(I1123=2,H1123*10^RANDBETWEEN(RANDBETWEEN(0,2),2),CHOOSE(RANDBETWEEN(1,3),5,10,20)))","v":900},{"$f":"IF(I1123=1,D1123,IF(I1123=3,\"%\",\"m\"))","v":"m"},9,{"$f":"IF(AND(Worksheet!$D$8,RAND()<0.2),3,IF(RAND()<Worksheet!$D$7/100,1,2))","v":2},{"$f":"IF(I1123=1,C1123-F1123,IF(I1123=2,C1123-F1123/1000,IF(I1123=3,(1-F1123/100)*C1123,\"\")))","v":159.1}," km",{"$f":"J1123*1000","v":159100},"m",{"$f":"IF(I1123=1,C1123+F1123,IF(I1123=2,C1123+F1123/1000,IF(I1123=3,(1+F1123/100)*C1123,\"\")))","v":160.9},"  km",{"$f":"N1123*1000","v":160900},"m"]
[{"$f":"IF(COUNTIF($B$1:B1124,TRUE)=COUNTIF($B$1:B1123,TRUE),\"\",COUNTIF($B$1:B1124,TRUE))","v":""},{"$f":"Worksheet!$B$14","v":false},{"$f":"RANDBETWEEN(5,RANDBETWEEN(5,Worksheet!$D$6))","v":189},"m","±",{"$f":"IF(I1124=1,H1124*10^RANDBETWEEN(IF(Worksheet!$D$9,-1,0),0),IF(I1124=2,H1124*10^RANDBETWEEN(RANDBETWEEN(0,2),2),CHOOSE(RANDBETWEEN(1,3),5,10,20)))","v":0.60000000000000009},{"$f":"IF(I1124=1,D1124,IF(I1124=3,\"%\",\"mm\"))","v":"m"},6,{"$f":"IF(AND(Worksheet!$D$8,RAND()<0.2),3,IF(RAND()<Worksheet!$D$7/100,1,2))","v":1},{"$f":"IF(I1124=1,C1124-F1124,IF(I1124=2,C1124-F1124/1000,IF(I1124=3,(1-F1124/100)*C1124,\"\")))","v":188.4}," m",{"$f":"J1124*1000","v":188400},"mm",{"$f":"IF(I1124=1,C1124+F1124,IF(I1124=2,C1124+F1124/1000,IF(I1124=3,(1+F1124/100)*C1124,\"\")))","v":189.6},"  m",{"$f":"N1124*1000","v":189600},"mm"]
[{"$f":"IF(COUNTIF($B$1:B1125,TRUE)=COUNTIF($B$1:B1124,TRUE),\"\",COUNTIF($B$1:B1125,TRUE))","v":874},{"$f":"Worksheet!$B$15","v":true},{"$f":"RANDBETWEEN(5,20)","v":7},"hours","±",{"$f":"IF(I1125=1,H1125*10^RANDBETWEEN(IF(Worksheet!$D$9,-1,0),0),IF(I1125=2,H1125,CHOOSE(RANDBETWEEN(1,3),5,10,20)))","v":0.1},{"$f":"IF(I1125=1,D1125,IF(I1125=3,\"%\",\"min\"))","v":"hours"},1,{"$f":"IF(AND(Worksheet!$D$8,RAND()<0),3,IF(RAND()<Worksheet!$D$7/100,1,2))","v":1},null," hours",{"$f":"IF(I1125=1,C1125-F1125,IF(I1125=2,C1125*60-F1125,\"\"))","v":6.9},{"$f":"IF($I1125=1,\" hours\",\" min\")","v":" hours"},null,"  hours",{"$f":"IF(I1125=1,C1125+F1125,IF(I1125=2,C1125*60+F1125,\"\"))","v":7.1},{"$f":"IF($I1125=1,\" hours\",\" min\")","v":" hours"}]
[{"$f":"IF(COUNTIF($B$1:B1126,TRUE)=COUNTIF($B$1:B1125,TRUE),\"\",COUNTIF($B$1:B1126,TRUE))","v":875},{"$f":"Worksheet!$D$11","v":true},{"$f":"RANDBETWEEN(5,RANDBETWEEN(5,Worksheet!$D$6))","v":49},"kg","±",{"$f":"IF(I1126=1,H1126*10^RANDBETWEEN(IF(Worksheet!$D$9,-1,0),0),IF(I1126=2,H1126*10^RANDBETWEEN(RANDBETWEEN(0,2),2),CHOOSE(RANDBETWEEN(1,3),5,10,20)))","v":1},{"$f":"IF(I1126=1,D1126,IF(I1126=3,\"%\",\"g\"))","v":"kg"},1,{"$f":"IF(AND(Worksheet!$D$8,RAND()<0.2),3,IF(RAND()<Worksheet!$D$7/100,1,2))","v":1},{"$f":"IF(I1126=1,C1126-F1126,IF(I1126=2,C1126-F1126/1000,IF(I1126=3,(1-F1126/100)*C1126,\"\")))","v":48}," kg",{"$f":"J1126*1000","v":48000},"g",{"$f":"IF(I1126=1,C1126+F1126,IF(I1126=2,C1126+F1126/1000,IF(I1126=3,(1+F1126/100)*C1126,\"\")))","v":50},"  kg",{"$f":"N1126*1000","v":50000},"g"]
[{"$f":"IF(COUNTIF($B$1:B1127,TRUE)=COUNTIF($B$1:B1126,TRUE),\"\",COUNTIF($B$1:B1127,TRUE))","v":876},{"$f":"Worksheet!$D$12","v":true},{"$f":"RANDBETWEEN(5,RANDBETWEEN(5,Worksheet!$D$6))","v":275},"tonnes","±",{"$f":"IF(I1127=1,H1127*10^RANDBETWEEN(IF(Worksheet!$D$9,-1,0),0),IF(I1127=2,H1127*10^RANDBETWEEN(RANDBETWEEN(0,2),2),CHOOSE(RANDBETWEEN(1,3),5,10,20)))","v":500},{"$f":"IF(I1127=1,D1127,IF(I1127=3,\"%\",\"kg\"))","v":"kg"},5,{"$f":"IF(AND(Worksheet!$D$8,RAND()<0.2),3,IF(RAND()<Worksheet!$D$7/100,1,2))","v":2},{"$f":"IF(I1127=1,C1127-F1127,IF(I1127=2,C1127-F1127/1000,IF(I1127=3,(1-F1127/100)*C1127,\"\")))","v":274.5}," tonnes",{"$f":"J1127*1000","v":274500},"kg",{"$f":"IF(I1127=1,C1127+F1127,IF(I1127=2,C1127+F1127/1000,IF(I1127=3,(1+F1127/100)*C1127,\"\")))","v":275.5},"  tonnes",{"$f":"N1127*1000","v":275500},"kg"]
[{"$f":"IF(COUNTIF($B$1:B1128,TRUE)=COUNTIF($B$1:B1127,TRUE),\"\",COUNTIF($B$1:B1128,TRUE))","v":877},{"$f":"Worksheet!$D$13","v":true},{"$f":"RANDBETWEEN(5,RANDBETWEEN(5,Worksheet!$D$6))","v":171},"litres","±",{"$f":"IF(I1128=1,H1128*10^RANDBETWEEN(IF(Worksheet!$D$9,-1,0),0),IF(I1128=2,H1128*10^RANDBETWEEN(RANDBETWEEN(0,2),2),CHOOSE(RANDBETWEEN(1,3),5,10,20)))","v":5},{"$f":"IF(I1128=1,D1128,IF(I1128=3,\"%\",\"ml\"))","v":"litres"},5,{"$f":"IF(AND(Worksheet!$D$8,RAND()<0.2),3,IF(RAND()<Worksheet!$D$7/100,1,2))","v":1},{"$f":"IF(I1128=1,C1128-F1128,IF(I1128=2,C1128-F1128/1000,IF(I1128=3,(1-F1128/100)*C1128,\"\")))","v":166}," litres",{"$f":"J1128*1000","v":166000},"ml",{"$f":"IF(I1128=1,C1128+F1128,IF(I1128=2,C1128+F1128/1000,IF(I1128=3,(1+F1128/100)*C1128,\"\")))","v":176},"  litres",{"$f":"N1128*1000","v":176000},"ml"]
[{"$f":"IF(COUNTIF($B$1:B1129,TRUE)=COUNTIF($B$1:B1128,TRUE),\"\",COUNTIF($B$1:B1129,TRUE))","v":878},{"$f":"Worksheet!$D$14","v":true},{"$f":"RANDBETWEEN(5,RANDBETWEEN(5,Worksheet!$D$6))","v":119},"litres","±",{"$f":"IF(I1129=1,H1129*10^RANDBETWEEN(IF(Worksheet!$D$9,-1,0),0),IF(I1129=2,H1129*10^RANDBETWEEN(RANDBETWEEN(0,2),2),CHOOSE(RANDBETWEEN(1,3),5,10,20)))","v":60},{"$f":"IF(I1129=1,D1129,IF(I1129=3,\"%\",\"cm³\"))","v":"cm³"},6,{"$f":"IF(AND(Worksheet!$D$8,RAND()<0.2),3,IF(RAND()<Worksheet!$D$7/100,1,2))","v":2},{"$f":"IF(I1129=1,C1129-F1129,IF(I1129=2,C1129-F1129/1000,IF(I1129=3,(1-F1129/100)*C1129,\"\")))","v":118.94}," litres",{"$f":"J1129*1000","v":118940},"cm³",{"$f":"IF(I1129=1,C1129+F1129,IF(I1129=2,C1129+F1129/1000,IF(I1129=3,(1+F1129/100)*C1129,\"\")))","v":119.06},"  litres",{"$f":"N1129*1000","v":119060},"cm³"]
[{"$f":"IF(COUNTIF($B$1:B1130,TRUE)=COUNTIF($B$1:B1129,TRUE),\"\",COUNTIF($B$1:B1130,TRUE))","v":""},{"$f":"Worksheet!$D$15","v":false},{"$f":"RANDBETWEEN(5,20)","v":8},"min","±",{"$f":"IF(I1130=1,H1130*10^RANDBETWEEN(IF(Worksheet!$D$9,-1,0),0),IF(I1130=2,H1130,CHOOSE(RANDBETWEEN(1,3),5,10,20)))","v":1},{"$f":"IF(I1130=1,D1130,IF(I1130=3,\"%\",\"sec\"))","v":"min"},1,{"$f":"IF(AND(Worksheet!$D$8,RAND()<0),3,IF(RAND()<Worksheet!$D$7/100,1,2))","v":1},null," min",{"$f":"IF(I1130=1,C1130-F1130,IF(I1130=2,C1130*60-F1130,\"\"))","v":7},{"$f":"IF($I1130=1,\" hours\",\" min\")","v":" hours"},null,"  min",{"$f":"IF(I1130=1,C1130+F1130,IF(I1130=2,C1130*60+F1130,\"\"))","v":9},{"$f":"IF($I1130=1,\" hours\",\" min\")","v":" hours"}]
[{"$f":"COUNTIF($B$1:B1131,TRUE)","v":879},{"$f":"Worksheet!$B$11","v":true},{"$f":"RANDBETWEEN(5,RANDBETWEEN(5,Worksheet!$D$6))","v":160},"cm","±",{"$f":"IF(I1131=1,H1131*10^RANDBETWEEN(IF(Worksheet!$D$9,-1,0),0),IF(I1131=2,H1131,CHOOSE(RANDBETWEEN(1,3),5,10,20)))","v":4},{"$f":"IF(I1131=1,D1131,IF(I1131=3,\"%\",\"mm\"))","v":"cm"},{"$f":"RANDBETWEEN(1,MIN(9,C1131))","v":4},{"$f":"IF(AND(Worksheet!$D$8,RAND()<0.2),3,IF(RAND()<Worksheet!$D$7/100,1,2))","v":1},{"$f":"IF(I1131=1,C1131-F1131,IF(I1131=2,C1131-F1131/10,IF(I1131=3,(1-F1131/100)*C1131,\"\")))","v":156},{"$f":"CONCATENATE(\" \",D1131)","v":" cm"},{"$f":"J1131*10","v":1560},"mm",{"$f":"IF(I1131=1,C1131+F1131,IF(I1131=2,C1131+F1131/10,IF(I1131=3,(1+F1131/100)*C1131,\"\")))","v":164},{"$f":"CONCATENATE(\" \",K1131)","v":"  cm"},{"$f":"N1131*10","v":1640},"mm"]
[{"$f":"IF(COUNTIF($B$1:B1132,TRUE)=COUNTIF($B$1:B1131,TRUE),\"\",COUNTIF($B$1:B1132,TRUE))","v":880},{"$f":"Worksheet!$B$12","v":true},{"$f":"RANDBETWEEN(5,RANDBETWEEN(5,Worksheet!$D$6))","v":88},"m","±",{"$f":"IF(I1132=1,H1132*10^RANDBETWEEN(IF(Worksheet!$D$9,-1,0),0),IF(I1132=2,H1132*10^RANDBETWEEN(RANDBETWEEN(0,1),1),CHOOSE(RANDBETWEEN(1,3),5,10,20)))","v":7},{"$f":"IF(I1132=1,D1132,IF(I1132=3,\"%\",\"cm\"))","v":"m"},{"$f":"RANDBETWEEN(1,MIN(9,C1132))","v":7},{"$f":"IF(AND(Worksheet!$D$8,RAND()<0.2),3,IF(RAND()<Worksheet!$D$7/100,1,2))","v":1},{"$f":"IF(I1132=1,C1132-F1132,IF(I1132=2,C1132-F1132/100,IF(I1132=3,(1-F1132/100)*C1132,\"\")))","v":81},{"$f":"CONCATENATE(\" \",D1132)","v":" m"},{"$f":"J1132*100","v":8100},"cm",{"$f":"IF(I1132=1,C1132+F1132,IF(I1132=2,C1132+F1132/100,IF(I1132=3,(1+F1132/100)*C1132,\"\")))","v":95},{"$f":"CONCATENATE(\" \",K1132)","v":"  m"},{"$f":"N1132*100","v":9500},"cm"]
[{"$f":"IF(COUNTIF($B$1:B1133,TRUE)=COUNTIF($B$1:B1132,TRUE),\"\",COUNTIF($B$1:B1133,TRUE))","v":881},{"$f":"Worksheet!$B$13","v":true},{"$f":"RANDBETWEEN(5,RANDBETWEEN(5,Worksheet!$D$6))","v":187},"km","±",{"$f":"IF(I1133=1,H1133*10^RANDBETWEEN(IF(Worksheet!$D$9,-1,0),0),IF(I1133=2,H1133*10^RANDBETWEEN(RANDBETWEEN(0,2),2),CHOOSE(RANDBETWEEN(1,3),5,10,20)))","v":10},{"$f":"IF(I1133=1,D1133,IF(I1133=3,\"%\",\"m\"))","v":"%"},6,{"$f":"IF(AND(Worksheet!$D$8,RAND()<0.2),3,IF(RAND()<Worksheet!$D$7/100,1,2))","v":3},{"$f":"IF(I1133=1,C1133-F1133,IF(I1133=2,C1133-F1133/1000,IF(I1133=3,(1-F1133/100)*C1133,\"\")))","v":168.3}," km",{"$f":"J1133*1000","v":168300},"m",{"$f":"IF(I1133=1,C1133+F1133,IF(I1133=2,C1133+F1133/1000,IF(I1133=3,(1+F1133/100)*C1133,\"\")))","v":205.70000000000002},"  km",{"$f":"N1133*1000","v":205700.00000000003},"m"]
[{"$f":"IF(COUNTIF($B$1:B1134,TRUE)=COUNTIF($B$1:B1133,TRUE),\"\",COUNTIF($B$1:B1134,TRUE))","v":""},{"$f":"Worksheet!$B$14","v":false},{"$f":"RANDBETWEEN(5,RANDBETWEEN(5,Worksheet!$D$6))","v":6},"m","±",{"$f":"IF(I1134=1,H1134*10^RANDBETWEEN(IF(Worksheet!$D$9,-1,0),0),IF(I1134=2,H1134*10^RANDBETWEEN(RANDBETWEEN(0,2),2),CHOOSE(RANDBETWEEN(1,3),5,10,20)))","v":0.5},{"$f":"IF(I1134=1,D1134,IF(I1134=3,\"%\",\"mm\"))","v":"m"},5,{"$f":"IF(AND(Worksheet!$D$8,RAND()<0.2),3,IF(RAND()<Worksheet!$D$7/100,1,2))","v":1},{"$f":"IF(I1134=1,C1134-F1134,IF(I1134=2,C1134-F1134/1000,IF(I1134=3,(1-F1134/100)*C1134,\"\")))","v":5.5}," m",{"$f":"J1134*1000","v":5500},"mm",{"$f":"IF(I1134=1,C1134+F1134,IF(I1134=2,C1134+F1134/1000,IF(I1134=3,(1+F1134/100)*C1134,\"\")))","v":6.5},"  m",{"$f":"N1134*1000","v":6500},"mm"]
[{"$f":"IF(COUNTIF($B$1:B1135,TRUE)=COUNTIF($B$1:B1134,TRUE),\"\",COUNTIF($B$1:B1135,TRUE))","v":882},{"$f":"Worksheet!$B$15","v":true},{"$f":"RANDBETWEEN(5,20)","v":12},"hours","±",{"$f":"IF(I1135=1,H1135*10^RANDBETWEEN(IF(Worksheet!$D$9,-1,0),0),IF(I1135=2,H1135,CHOOSE(RANDBETWEEN(1,3),5,10,20)))","v":7},{"$f":"IF(I1135=1,D1135,IF(I1135=3,\"%\",\"min\"))","v":"min"},7,{"$f":"IF(AND(Worksheet!$D$8,RAND()<0),3,IF(RAND()<Worksheet!$D$7/100,1,2))","v":2},null," hours",{"$f":"IF(I1135=1,C1135-F1135,IF(I1135=2,C1135*60-F1135,\"\"))","v":713},{"$f":"IF($I1135=1,\" hours\",\" min\")","v":" min"},null,"  hours",{"$f":"IF(I1135=1,C1135+F1135,IF(I1135=2,C1135*60+F1135,\"\"))","v":727},{"$f":"IF($I1135=1,\" hours\",\" min\")","v":" min"}]
[{"$f":"IF(COUNTIF($B$1:B1136,TRUE)=COUNTIF($B$1:B1135,TRUE),\"\",COUNTIF($B$1:B1136,TRUE))","v":883},{"$f":"Worksheet!$D$11","v":true},{"$f":"RANDBETWEEN(5,RANDBETWEEN(5,Worksheet!$D$6))","v":47},"kg","±",{"$f":"IF(I1136=1,H1136*10^RANDBETWEEN(IF(Worksheet!$D$9,-1,0),0),IF(I1136=2,H1136*10^RANDBETWEEN(RANDBETWEEN(0,2),2),CHOOSE(RANDBETWEEN(1,3),5,10,20)))","v":5},{"$f":"IF(I1136=1,D1136,IF(I1136=3,\"%\",\"g\"))","v":"kg"},5,{"$f":"IF(AND(Worksheet!$D$8,RAND()<0.2),3,IF(RAND()<Worksheet!$D$7/100,1,2))","v":1},{"$f":"IF(I1136=1,C1136-F1136,IF(I1136=2,C1136-F1136/1000,IF(I1136=3,(1-F1136/100)*C1136,\"\")))","v":42}," kg",{"$f":"J1136*1000","v":42000},"g",{"$f":"IF(I1136=1,C1136+F1136,IF(I1136=2,C1136+F1136/1000,IF(I1136=3,(1+F1136/100)*C1136,\"\")))","v":52},"  kg",{"$f":"N1136*1000","v":52000},"g"]
[{"$f":"IF(COUNTIF($B$1:B1137,TRUE)=COUNTIF($B$1:B1136,TRUE),\"\",COUNTIF($B$1:B1137,TRUE))","v":884},{"$f":"Worksheet!$D$12","v":true},{"$f":"RANDBETWEEN(5,RANDBETWEEN(5,Worksheet!$D$6))","v":95},"tonnes","±",{"$f":"IF(I1137=1,H1137*10^RANDBETWEEN(IF(Worksheet!$D$9,-1,0),0),IF(I1137=2,H1137*10^RANDBETWEEN(RANDBETWEEN(0,2),2),CHOOSE(RANDBETWEEN(1,3),5,10,20)))","v":900},{"$f":"IF(I1137=1,D1137,IF(I1137=3,\"%\",\"kg\"))","v":"kg"},9,{"$f":"IF(AND(Worksheet!$D$8,RAND()<0.2),3,IF(RAND()<Worksheet!$D$7/100,1,2))","v":2},{"$f":"IF(I1137=1,C1137-F1137,IF(I1137=2,C1137-F1137/1000,IF(I1137=3,(1-F1137/100)*C1137,\"\")))","v":94.1}," tonnes",{"$f":"J1137*1000","v":94100},"kg",{"$f":"IF(I1137=1,C1137+F1137,IF(I1137=2,C1137+F1137/1000,IF(I1137=3,(1+F1137/100)*C1137,\"\")))","v":95.9},"  tonnes",{"$f":"N1137*1000","v":95900},"kg"]
[{"$f":"IF(COUNTIF($B$1:B1138,TRUE)=COUNTIF($B$1:B1137,TRUE),\"\",COUNTIF($B$1:B1138,TRUE))","v":885},{"$f":"Worksheet!$D$13","v":true},{"$f":"RANDBETWEEN(5,RANDBETWEEN(5,Worksheet!$D$6))","v":16},"litres","±",{"$f":"IF(I1138=1,H1138*10^RANDBETWEEN(IF(Worksheet!$D$9,-1,0),0),IF(I1138=2,H1138*10^RANDBETWEEN(RANDBETWEEN(0,2),2),CHOOSE(RANDBETWEEN(1,3),5,10,20)))","v":9},{"$f":"IF(I1138=1,D1138,IF(I1138=3,\"%\",\"ml\"))","v":"litres"},9,{"$f":"IF(AND(Worksheet!$D$8,RAND()<0.2),3,IF(RAND()<Worksheet!$D$7/100,1,2))","v":1},{"$f":"IF(I1138=1,C1138-F1138,IF(I1138=2,C1138-F1138/1000,IF(I1138=3,(1-F1138/100)*C1138,\"\")))","v":7}," litres",{"$f":"J1138*1000","v":7000},"ml",{"$f":"IF(I1138=1,C1138+F1138,IF(I1138=2,C1138+F1138/1000,IF(I1138=3,(1+F1138/100)*C1138,\"\")))","v":25},"  litres",{"$f":"N1138*1000","v":25000},"ml"]
[{"$f":"IF(COUNTIF($B$1:B1139,TRUE)=COUNTIF($B$1:B1138,TRUE),\"\",COUNTIF($B$1:B1139,TRUE))","v":886},{"$f":"Worksheet!$D$14","v":true},{"$f":"RANDBETWEEN(5,RANDBETWEEN(5,Worksheet!$D$6))","v":75},"litres","±",{"$f":"IF(I1139=1,H1139*10^RANDBETWEEN(IF(Worksheet!$D$9,-1,0),0),IF(I1139=2,H1139*10^RANDBETWEEN(RANDBETWEEN(0,2),2),CHOOSE(RANDBETWEEN(1,3),5,10,20)))","v":10},{"$f":"IF(I1139=1,D1139,IF(I1139=3,\"%\",\"cm³\"))","v":"%"},1,{"$f":"IF(AND(Worksheet!$D$8,RAND()<0.2),3,IF(RAND()<Worksheet!$D$7/100,1,2))","v":3},{"$f":"IF(I1139=1,C1139-F1139,IF(I1139=2,C1139-F1139/1000,IF(I1139=3,(1-F1139/100)*C1139,\"\")))","v":67.5}," litres",{"$f":"J1139*1000","v":67500},"cm³",{"$f":"IF(I1139=1,C1139+F1139,IF(I1139=2,C1139+F1139/1000,IF(I1139=3,(1+F1139/100)*C1139,\"\")))","v":82.5},"  litres",{"$f":"N1139*1000","v":82500},"cm³"]
[{"$f":"IF(COUNTIF($B$1:B1140,TRUE)=COUNTIF($B$1:B1139,TRUE),\"\",COUNTIF($B$1:B1140,TRUE))","v":""},{"$f":"Worksheet!$D$15","v":false},{"$f":"RANDBETWEEN(5,20)","v":7},"min","±",{"$f":"IF(I1140=1,H1140*10^RANDBETWEEN(IF(Worksheet!$D$9,-1,0),0),IF(I1140=2,H1140,CHOOSE(RANDBETWEEN(1,3),5,10,20)))","v":5},{"$f":"IF(I1140=1,D1140,IF(I1140=3,\"%\",\"sec\"))","v":"sec"},5,{"$f":"IF(AND(Worksheet!$D$8,RAND()<0),3,IF(RAND()<Worksheet!$D$7/100,1,2))","v":2},null," min",{"$f":"IF(I1140=1,C1140-F1140,IF(I1140=2,C1140*60-F1140,\"\"))","v":415},{"$f":"IF($I1140=1,\" hours\",\" min\")","v":" min"},null,"  min",{"$f":"IF(I1140=1,C1140+F1140,IF(I1140=2,C1140*60+F1140,\"\"))","v":425},{"$f":"IF($I1140=1,\" hours\",\" min\")","v":" min"}]
[{"$f":"COUNTIF($B$1:B1141,TRUE)","v":887},{"$f":"Worksheet!$B$11","v":true},{"$f":"RANDBETWEEN(5,RANDBETWEEN(5,Worksheet!$D$6))","v":212},"cm","±",{"$f":"IF(I1141=1,H1141*10^RANDBETWEEN(IF(Worksheet!$D$9,-1,0),0),IF(I1141=2,H1141,CHOOSE(RANDBETWEEN(1,3),5,10,20)))","v":7},{"$f":"IF(I1141=1,D1141,IF(I1141=3,\"%\",\"mm\"))","v":"cm"},{"$f":"RANDBETWEEN(1,MIN(9,C1141))","v":7},{"$f":"IF(AND(Worksheet!$D$8,RAND()<0.2),3,IF(RAND()<Worksheet!$D$7/100,1,2))","v":1},{"$f":"IF(I1141=1,C1141-F1141,IF(I1141=2,C1141-F1141/10,IF(I1141=3,(1-F1141/100)*C1141,\"\")))","v":205},{"$f":"CONCATENATE(\" \",D1141)","v":" cm"},{"$f":"J1141*10","v":2050},"mm",{"$f":"IF(I1141=1,C1141+F1141,IF(I1141=2,C1141+F1141/10,IF(I1141=3,(1+F1141/100)*C1141,\"\")))","v":219},{"$f":"CONCATENATE(\" \",K1141)","v":"  cm"},{"$f":"N1141*10","v":2190},"mm"]
[{"$f":"IF(COUNTIF($B$1:B1142,TRUE)=COUNTIF($B$1:B1141,TRUE),\"\",COUNTIF($B$1:B1142,TRUE))","v":888},{"$f":"Worksheet!$B$12","v":true},{"$f":"RANDBETWEEN(5,RANDBETWEEN(5,Worksheet!$D$6))","v":8},"m","±",{"$f":"IF(I1142=1,H1142*10^RANDBETWEEN(IF(Worksheet!$D$9,-1,0),0),IF(I1142=2,H1142*10^RANDBETWEEN(RANDBETWEEN(0,1),1),CHOOSE(RANDBETWEEN(1,3),5,10,20)))","v":10},{"$f":"IF(I1142=1,D1142,IF(I1142=3,\"%\",\"cm\"))","v":"%"},{"$f":"RANDBETWEEN(1,MIN(9,C1142))","v":7},{"$f":"IF(AND(Worksheet!$D$8,RAND()<0.2),3,IF(RAND()<Worksheet!$D$7/100,1,2))","v":3},{"$f":"IF(I1142=1,C1142-F1142,IF(I1142=2,C1142-F1142/100,IF(I1142=3,(1-F1142/100)*C1142,\"\")))","v":7.2},{"$f":"CONCATENATE(\" \",D1142)","v":" m"},{"$f":"J1142*100","v":720},"cm",{"$f":"IF(I1142=1,C1142+F1142,IF(I1142=2,C1142+F1142/100,IF(I1142=3,(1+F1142/100)*C1142,\"\")))","v":8.8000000000000007},{"$f":"CONCATENATE(\" \",K1142)","v":"  m"},{"$f":"N1142*100","v":880.00000000000011},"cm"]
[{"$f":"IF(COUNTIF($B$1:B1143,TRUE)=COUNTIF($B$1:B1142,TRUE),\"\",COUNTIF($B$1:B1143,TRUE))","v":889},{"$f":"Worksheet!$B$13","v":true},{"$f":"RANDBETWEEN(5,RANDBETWEEN(5,Worksheet!$D$6))","v":96},"km","±",{"$f":"IF(I1143=1,H1143*10^RANDBETWEEN(IF(Worksheet!$D$9,-1,0),0),IF(I1143=2,H1143*10^RANDBETWEEN(RANDBETWEEN(0,2),2),CHOOSE(RANDBETWEEN(1,3),5,10,20)))","v":5},{"$f":"IF(I1143=1,D1143,IF(I1143=3,\"%\",\"m\"))","v":"km"},5,{"$f":"IF(AND(Worksheet!$D$8,RAND()<0.2),3,IF(RAND()<Worksheet!$D$7/100,1,2))","v":1},{"$f":"IF(I1143=1,C1143-F1143,IF(I1143=2,C1143-F1143/1000,IF(I1143=3,(1-F1143/100)*C1143,\"\")))","v":91}," km",{"$f":"J1143*1000","v":91000},"m",{"$f":"IF(I1143=1,C1143+F1143,IF(I1143=2,C1143+F1143/1000,IF(I1143=3,(1+F1143/100)*C1143,\"\")))","v":101},"  km",{"$f":"N1143*1000","v":101000},"m"]
[{"$f":"IF(COUNTIF($B$1:B1144,TRUE)=COUNTIF($B$1:B1143,TRUE),\"\",COUNTIF($B$1:B1144,TRUE))","v":""},{"$f":"Worksheet!$B$14","v":false},{"$f":"RANDBETWEEN(5,RANDBETWEEN(5,Worksheet!$D$6))","v":49},"m","±",{"$f":"IF(I1144=1,H1144*10^RANDBETWEEN(IF(Worksheet!$D$9,-1,0),0),IF(I1144=2,H1144*10^RANDBETWEEN(RANDBETWEEN(0,2),2),CHOOSE(RANDBETWEEN(1,3),5,10,20)))","v":2},{"$f":"IF(I1144=1,D1144,IF(I1144=3,\"%\",\"mm\"))","v":"m"},2,{"$f":"IF(AND(Worksheet!$D$8,RAND()<0.2),3,IF(RAND()<Worksheet!$D$7/100,1,2))","v":1},{"$f":"IF(I1144=1,C1144-F1144,IF(I1144=2,C1144-F1144/1000,IF(I1144=3,(1-F1144/100)*C1144,\"\")))","v":47}," m",{"$f":"J1144*1000","v":47000},"mm",{"$f":"IF(I1144=1,C1144+F1144,IF(I1144=2,C1144+F1144/1000,IF(I1144=3,(1+F1144/100)*C1144,\"\")))","v":51},"  m",{"$f":"N1144*1000","v":51000},"mm"]
[{"$f":"IF(COUNTIF($B$1:B1145,TRUE)=COUNTIF($B$1:B1144,TRUE),\"\",COUNTIF($B$1:B1145,TRUE))","v":890},{"$f":"Worksheet!$B$15","v":true},{"$f":"RANDBETWEEN(5,20)","v":12},"hours","±",{"$f":"IF(I1145=1,H1145*10^RANDBETWEEN(IF(Worksheet!$D$9,-1,0),0),IF(I1145=2,H1145,CHOOSE(RANDBETWEEN(1,3),5,10,20)))","v":3},{"$f":"IF(I1145=1,D1145,IF(I1145=3,\"%\",\"min\"))","v":"min"},3,{"$f":"IF(AND(Worksheet!$D$8,RAND()<0),3,IF(RAND()<Worksheet!$D$7/100,1,2))","v":2},null," hours",{"$f":"IF(I1145=1,C1145-F1145,IF(I1145=2,C1145*60-F1145,\"\"))","v":717},{"$f":"IF($I1145=1,\" hours\",\" min\")","v":" min"},null,"  hours",{"$f":"IF(I1145=1,C1145+F1145,IF(I1145=2,C1145*60+F1145,\"\"))","v":723},{"$f":"IF($I1145=1,\" hours\",\" min\")","v":" min"}]
[{"$f":"IF(COUNTIF($B$1:B1146,TRUE)=COUNTIF($B$1:B1145,TRUE),\"\",COUNTIF($B$1:B1146,TRUE))","v":891},{"$f":"Worksheet!$D$11","v":true},{"$f":"RANDBETWEEN(5,RANDBETWEEN(5,Worksheet!$D$6))","v":201},"kg","±",{"$f":"IF(I1146=1,H1146*10^RANDBETWEEN(IF(Worksheet!$D$9,-1,0),0),IF(I1146=2,H1146*10^RANDBETWEEN(RANDBETWEEN(0,2),2),CHOOSE(RANDBETWEEN(1,3),5,10,20)))","v":90},{"$f":"IF(I1146=1,D1146,IF(I1146=3,\"%\",\"g\"))","v":"g"},9,{"$f":"IF(AND(Worksheet!$D$8,RAND()<0.2),3,IF(RAND()<Worksheet!$D$7/100,1,2))","v":2},{"$f":"IF(I1146=1,C1146-F1146,IF(I1146=2,C1146-F1146/1000,IF(I1146=3,(1-F1146/100)*C1146,\"\")))","v":200.91}," kg",{"$f":"J1146*1000","v":200910},"g",{"$f":"IF(I1146=1,C1146+F1146,IF(I1146=2,C1146+F1146/1000,IF(I1146=3,(1+F1146/100)*C1146,\"\")))","v":201.09},"  kg",{"$f":"N1146*1000","v":201090},"g"]
[{"$f":"IF(COUNTIF($B$1:B1147,TRUE)=COUNTIF($B$1:B1146,TRUE),\"\",COUNTIF($B$1:B1147,TRUE))","v":892},{"$f":"Worksheet!$D$12","v":true},{"$f":"RANDBETWEEN(5,RANDBETWEEN(5,Worksheet!$D$6))","v":11},"tonnes","±",{"$f":"IF(I1147=1,H1147*10^RANDBETWEEN(IF(Worksheet!$D$9,-1,0),0),IF(I1147=2,H1147*10^RANDBETWEEN(RANDBETWEEN(0,2),2),CHOOSE(RANDBETWEEN(1,3),5,10,20)))","v":5},{"$f":"IF(I1147=1,D1147,IF(I1147=3,\"%\",\"kg\"))","v":"%"},8,{"$f":"IF(AND(Worksheet!$D$8,RAND()<0.2),3,IF(RAND()<Worksheet!$D$7/100,1,2))","v":3},{"$f":"IF(I1147=1,C1147-F1147,IF(I1147=2,C1147-F1147/1000,IF(I1147=3,(1-F1147/100)*C1147,\"\")))","v":10.45}," tonnes",{"$f":"J1147*1000","v":10450},"kg",{"$f":"IF(I1147=1,C1147+F1147,IF(I1147=2,C1147+F1147/1000,IF(I1147=3,(1+F1147/100)*C1147,\"\")))","v":11.55},"  tonnes",{"$f":"N1147*1000","v":11550},"kg"]
[{"$f":"IF(COUNTIF($B$1:B1148,TRUE)=COUNTIF($B$1:B1147,TRUE),\"\",COUNTIF($B$1:B1148,TRUE))","v":893},{"$f":"Worksheet!$D$13","v":true},{"$f":"RANDBETWEEN(5,RANDBETWEEN(5,Worksheet!$D$6))","v":10},"litres","±",{"$f":"IF(I1148=1,H1148*10^RANDBETWEEN(IF(Worksheet!$D$9,-1,0),0),IF(I1148=2,H1148*10^RANDBETWEEN(RANDBETWEEN(0,2),2),CHOOSE(RANDBETWEEN(1,3),5,10,20)))","v":60},{"$f":"IF(I1148=1,D1148,IF(I1148=3,\"%\",\"ml\"))","v":"ml"},6,{"$f":"IF(AND(Worksheet!$D$8,RAND()<0.2),3,IF(RAND()<Worksheet!$D$7/100,1,2))","v":2},{"$f":"IF(I1148=1,C1148-F1148,IF(I1148=2,C1148-F1148/1000,IF(I1148=3,(1-F1148/100)*C1148,\"\")))","v":9.94}," litres",{"$f":"J1148*1000","v":9940},"ml",{"$f":"IF(I1148=1,C1148+F1148,IF(I1148=2,C1148+F1148/1000,IF(I1148=3,(1+F1148/100)*C1148,\"\")))","v":10.06},"  litres",{"$f":"N1148*1000","v":10060},"ml"]
[{"$f":"IF(COUNTIF($B$1:B1149,TRUE)=COUNTIF($B$1:B1148,TRUE),\"\",COUNTIF($B$1:B1149,TRUE))","v":894},{"$f":"Worksheet!$D$14","v":true},{"$f":"RANDBETWEEN(5,RANDBETWEEN(5,Worksheet!$D$6))","v":208},"litres","±",{"$f":"IF(I1149=1,H1149*10^RANDBETWEEN(IF(Worksheet!$D$9,-1,0),0),IF(I1149=2,H1149*10^RANDBETWEEN(RANDBETWEEN(0,2),2),CHOOSE(RANDBETWEEN(1,3),5,10,20)))","v":3},{"$f":"IF(I1149=1,D1149,IF(I1149=3,\"%\",\"cm³\"))","v":"litres"},3,{"$f":"IF(AND(Worksheet!$D$8,RAND()<0.2),3,IF(RAND()<Worksheet!$D$7/100,1,2))","v":1},{"$f":"IF(I1149=1,C1149-F1149,IF(I1149=2,C1149-F1149/1000,IF(I1149=3,(1-F1149/100)*C1149,\"\")))","v":205}," litres",{"$f":"J1149*1000","v":205000},"cm³",{"$f":"IF(I1149=1,C1149+F1149,IF(I1149=2,C1149+F1149/1000,IF(I1149=3,(1+F1149/100)*C1149,\"\")))","v":211},"  litres",{"$f":"N1149*1000","v":211000},"cm³"]
[{"$f":"IF(COUNTIF($B$1:B1150,TRUE)=COUNTIF($B$1:B1149,TRUE),\"\",COUNTIF($B$1:B1150,TRUE))","v":""},{"$f":"Worksheet!$D$15","v":false},{"$f":"RANDBETWEEN(5,20)","v":14},"min","±",{"$f":"IF(I1150=1,H1150*10^RANDBETWEEN(IF(Worksheet!$D$9,-1,0),0),IF(I1150=2,H1150,CHOOSE(RANDBETWEEN(1,3),5,10,20)))","v":3},{"$f":"IF(I1150=1,D1150,IF(I1150=3,\"%\",\"sec\"))","v":"sec"},3,{"$f":"IF(AND(Worksheet!$D$8,RAND()<0),3,IF(RAND()<Worksheet!$D$7/100,1,2))","v":2},null," min",{"$f":"IF(I1150=1,C1150-F1150,IF(I1150=2,C1150*60-F1150,\"\"))","v":837},{"$f":"IF($I1150=1,\" hours\",\" min\")","v":" min"},null,"  min",{"$f":"IF(I1150=1,C1150+F1150,IF(I1150=2,C1150*60+F1150,\"\"))","v":843},{"$f":"IF($I1150=1,\" hours\",\" min\")","v":" min"}]
[{"$f":"COUNTIF($B$1:B1151,TRUE)","v":895},{"$f":"Worksheet!$B$11","v":true},{"$f":"RANDBETWEEN(5,RANDBETWEEN(5,Worksheet!$D$6))","v":52},"cm","±",{"$f":"IF(I1151=1,H1151*10^RANDBETWEEN(IF(Worksheet!$D$9,-1,0),0),IF(I1151=2,H1151,CHOOSE(RANDBETWEEN(1,3),5,10,20)))","v":0.4},{"$f":"IF(I1151=1,D1151,IF(I1151=3,\"%\",\"mm\"))","v":"cm"},{"$f":"RANDBETWEEN(1,MIN(9,C1151))","v":4},{"$f":"IF(AND(Worksheet!$D$8,RAND()<0.2),3,IF(RAND()<Worksheet!$D$7/100,1,2))","v":1},{"$f":"IF(I1151=1,C1151-F1151,IF(I1151=2,C1151-F1151/10,IF(I1151=3,(1-F1151/100)*C1151,\"\")))","v":51.6},{"$f":"CONCATENATE(\" \",D1151)","v":" cm"},{"$f":"J1151*10","v":516},"mm",{"$f":"IF(I1151=1,C1151+F1151,IF(I1151=2,C1151+F1151/10,IF(I1151=3,(1+F1151/100)*C1151,\"\")))","v":52.4},{"$f":"CONCATENATE(\" \",K1151)","v":"  cm"},{"$f":"N1151*10","v":524},"mm"]
[{"$f":"IF(COUNTIF($B$1:B1152,TRUE)=COUNTIF($B$1:B1151,TRUE),\"\",COUNTIF($B$1:B1152,TRUE))","v":896},{"$f":"Worksheet!$B$12","v":true},{"$f":"RANDBETWEEN(5,RANDBETWEEN(5,Worksheet!$D$6))","v":16},"m","±",{"$f":"IF(I1152=1,H1152*10^RANDBETWEEN(IF(Worksheet!$D$9,-1,0),0),IF(I1152=2,H1152*10^RANDBETWEEN(RANDBETWEEN(0,1),1),CHOOSE(RANDBETWEEN(1,3),5,10,20)))","v":60},{"$f":"IF(I1152=1,D1152,IF(I1152=3,\"%\",\"cm\"))","v":"cm"},{"$f":"RANDBETWEEN(1,MIN(9,C1152))","v":6},{"$f":"IF(AND(Worksheet!$D$8,RAND()<0.2),3,IF(RAND()<Worksheet!$D$7/100,1,2))","v":2},{"$f":"IF(I1152=1,C1152-F1152,IF(I1152=2,C1152-F1152/100,IF(I1152=3,(1-F1152/100)*C1152,\"\")))","v":15.4},{"$f":"CONCATENATE(\" \",D1152)","v":" m"},{"$f":"J1152*100","v":1540},"cm",{"$f":"IF(I1152=1,C1152+F1152,IF(I1152=2,C1152+F1152/100,IF(I1152=3,(1+F1152/100)*C1152,\"\")))","v":16.600000000000001},{"$f":"CONCATENATE(\" \",K1152)","v":"  m"},{"$f":"N1152*100","v":1660.0000000000002},"cm"]
[{"$f":"IF(COUNTIF($B$1:B1153,TRUE)=COUNTIF($B$1:B1152,TRUE),\"\",COUNTIF($B$1:B1153,TRUE))","v":897},{"$f":"Worksheet!$B$13","v":true},{"$f":"RANDBETWEEN(5,RANDBETWEEN(5,Worksheet!$D$6))","v":10},"km","±",{"$f":"IF(I1153=1,H1153*10^RANDBETWEEN(IF(Worksheet!$D$9,-1,0),0),IF(I1153=2,H1153*10^RANDBETWEEN(RANDBETWEEN(0,2),2),CHOOSE(RANDBETWEEN(1,3),5,10,20)))","v":6},{"$f":"IF(I1153=1,D1153,IF(I1153=3,\"%\",\"m\"))","v":"km"},6,{"$f":"IF(AND(Worksheet!$D$8,RAND()<0.2),3,IF(RAND()<Worksheet!$D$7/100,1,2))","v":1},{"$f":"IF(I1153=1,C1153-F1153,IF(I1153=2,C1153-F1153/1000,IF(I1153=3,(1-F1153/100)*C1153,\"\")))","v":4}," km",{"$f":"J1153*1000","v":4000},"m",{"$f":"IF(I1153=1,C1153+F1153,IF(I1153=2,C1153+F1153/1000,IF(I1153=3,(1+F1153/100)*C1153,\"\")))","v":16},"  km",{"$f":"N1153*1000","v":16000},"m"]
[{"$f":"IF(COUNTIF($B$1:B1154,TRUE)=COUNTIF($B$1:B1153,TRUE),\"\",COUNTIF($B$1:B1154,TRUE))","v":""},{"$f":"Worksheet!$B$14","v":false},{"$f":"RANDBETWEEN(5,RANDBETWEEN(5,Worksheet!$D$6))","v":251},"m","±",{"$f":"IF(I1154=1,H1154*10^RANDBETWEEN(IF(Worksheet!$D$9,-1,0),0),IF(I1154=2,H1154*10^RANDBETWEEN(RANDBETWEEN(0,2),2),CHOOSE(RANDBETWEEN(1,3),5,10,20)))","v":5},{"$f":"IF(I1154=1,D1154,IF(I1154=3,\"%\",\"mm\"))","v":"m"},5,{"$f":"IF(AND(Worksheet!$D$8,RAND()<0.2),3,IF(RAND()<Worksheet!$D$7/100,1,2))","v":1},{"$f":"IF(I1154=1,C1154-F1154,IF(I1154=2,C1154-F1154/1000,IF(I1154=3,(1-F1154/100)*C1154,\"\")))","v":246}," m",{"$f":"J1154*1000","v":246000},"mm",{"$f":"IF(I1154=1,C1154+F1154,IF(I1154=2,C1154+F1154/1000,IF(I1154=3,(1+F1154/100)*C1154,\"\")))","v":256},"  m",{"$f":"N1154*1000","v":256000},"mm"]
[{"$f":"IF(COUNTIF($B$1:B1155,TRUE)=COUNTIF($B$1:B1154,TRUE),\"\",COUNTIF($B$1:B1155,TRUE))","v":898},{"$f":"Worksheet!$B$15","v":true},{"$f":"RANDBETWEEN(5,20)","v":11},"hours","±",{"$f":"IF(I1155=1,H1155*10^RANDBETWEEN(IF(Worksheet!$D$9,-1,0),0),IF(I1155=2,H1155,CHOOSE(RANDBETWEEN(1,3),5,10,20)))","v":5},{"$f":"IF(I1155=1,D1155,IF(I1155=3,\"%\",\"min\"))","v":"min"},5,{"$f":"IF(AND(Worksheet!$D$8,RAND()<0),3,IF(RAND()<Worksheet!$D$7/100,1,2))","v":2},null," hours",{"$f":"IF(I1155=1,C1155-F1155,IF(I1155=2,C1155*60-F1155,\"\"))","v":655},{"$f":"IF($I1155=1,\" hours\",\" min\")","v":" min"},null,"  hours",{"$f":"IF(I1155=1,C1155+F1155,IF(I1155=2,C1155*60+F1155,\"\"))","v":665},{"$f":"IF($I1155=1,\" hours\",\" min\")","v":" min"}]
[{"$f":"IF(COUNTIF($B$1:B1156,TRUE)=COUNTIF($B$1:B1155,TRUE),\"\",COUNTIF($B$1:B1156,TRUE))","v":899},{"$f":"Worksheet!$D$11","v":true},{"$f":"RANDBETWEEN(5,RANDBETWEEN(5,Worksheet!$D$6))","v":17},"kg","±",{"$f":"IF(I1156=1,H1156*10^RANDBETWEEN(IF(Worksheet!$D$9,-1,0),0),IF(I1156=2,H1156*10^RANDBETWEEN(RANDBETWEEN(0,2),2),CHOOSE(RANDBETWEEN(1,3),5,10,20)))","v":0.5},{"$f":"IF(I1156=1,D1156,IF(I1156=3,\"%\",\"g\"))","v":"kg"},5,{"$f":"IF(AND(Worksheet!$D$8,RAND()<0.2),3,IF(RAND()<Worksheet!$D$7/100,1,2))","v":1},{"$f":"IF(I1156=1,C1156-F1156,IF(I1156=2,C1156-F1156/1000,IF(I1156=3,(1-F1156/100)*C1156,\"\")))","v":16.5}," kg",{"$f":"J1156*1000","v":16500},"g",{"$f":"IF(I1156=1,C1156+F1156,IF(I1156=2,C1156+F1156/1000,IF(I1156=3,(1+F1156/100)*C1156,\"\")))","v":17.5},"  kg",{"$f":"N1156*1000","v":17500},"g"]
[{"$f":"IF(COUNTIF($B$1:B1157,TRUE)=COUNTIF($B$1:B1156,TRUE),\"\",COUNTIF($B$1:B1157,TRUE))","v":900},{"$f":"Worksheet!$D$12","v":true},{"$f":"RANDBETWEEN(5,RANDBETWEEN(5,Worksheet!$D$6))","v":109},"tonnes","±",{"$f":"IF(I1157=1,H1157*10^RANDBETWEEN(IF(Worksheet!$D$9,-1,0),0),IF(I1157=2,H1157*10^RANDBETWEEN(RANDBETWEEN(0,2),2),CHOOSE(RANDBETWEEN(1,3),5,10,20)))","v":0.1},{"$f":"IF(I1157=1,D1157,IF(I1157=3,\"%\",\"kg\"))","v":"tonnes"},1,{"$f":"IF(AND(Worksheet!$D$8,RAND()<0.2),3,IF(RAND()<Worksheet!$D$7/100,1,2))","v":1},{"$f":"IF(I1157=1,C1157-F1157,IF(I1157=2,C1157-F1157/1000,IF(I1157=3,(1-F1157/100)*C1157,\"\")))","v":108.9}," tonnes",{"$f":"J1157*1000","v":108900},"kg",{"$f":"IF(I1157=1,C1157+F1157,IF(I1157=2,C1157+F1157/1000,IF(I1157=3,(1+F1157/100)*C1157,\"\")))","v":109.1},"  tonnes",{"$f":"N1157*1000","v":109100},"kg"]
[{"$f":"IF(COUNTIF($B$1:B1158,TRUE)=COUNTIF($B$1:B1157,TRUE),\"\",COUNTIF($B$1:B1158,TRUE))","v":901},{"$f":"Worksheet!$D$13","v":true},{"$f":"RANDBETWEEN(5,RANDBETWEEN(5,Worksheet!$D$6))","v":55},"litres","±",{"$f":"IF(I1158=1,H1158*10^RANDBETWEEN(IF(Worksheet!$D$9,-1,0),0),IF(I1158=2,H1158*10^RANDBETWEEN(RANDBETWEEN(0,2),2),CHOOSE(RANDBETWEEN(1,3),5,10,20)))","v":0.4},{"$f":"IF(I1158=1,D1158,IF(I1158=3,\"%\",\"ml\"))","v":"litres"},4,{"$f":"IF(AND(Worksheet!$D$8,RAND()<0.2),3,IF(RAND()<Worksheet!$D$7/100,1,2))","v":1},{"$f":"IF(I1158=1,C1158-F1158,IF(I1158=2,C1158-F1158/1000,IF(I1158=3,(1-F1158/100)*C1158,\"\")))","v":54.6}," litres",{"$f":"J1158*1000","v":54600},"ml",{"$f":"IF(I1158=1,C1158+F1158,IF(I1158=2,C1158+F1158/1000,IF(I1158=3,(1+F1158/100)*C1158,\"\")))","v":55.4},"  litres",{"$f":"N1158*1000","v":55400},"ml"]
[{"$f":"IF(COUNTIF($B$1:B1159,TRUE)=COUNTIF($B$1:B1158,TRUE),\"\",COUNTIF($B$1:B1159,TRUE))","v":902},{"$f":"Worksheet!$D$14","v":true},{"$f":"RANDBETWEEN(5,RANDBETWEEN(5,Worksheet!$D$6))","v":34},"litres","±",{"$f":"IF(I1159=1,H1159*10^RANDBETWEEN(IF(Worksheet!$D$9,-1,0),0),IF(I1159=2,H1159*10^RANDBETWEEN(RANDBETWEEN(0,2),2),CHOOSE(RANDBETWEEN(1,3),5,10,20)))","v":10},{"$f":"IF(I1159=1,D1159,IF(I1159=3,\"%\",\"cm³\"))","v":"%"},4,{"$f":"IF(AND(Worksheet!$D$8,RAND()<0.2),3,IF(RAND()<Worksheet!$D$7/100,1,2))","v":3},{"$f":"IF(I1159=1,C1159-F1159,IF(I1159=2,C1159-F1159/1000,IF(I1159=3,(1-F1159/100)*C1159,\"\")))","v":30.6}," litres",{"$f":"J1159*1000","v":30600},"cm³",{"$f":"IF(I1159=1,C1159+F1159,IF(I1159=2,C1159+F1159/1000,IF(I1159=3,(1+F1159/100)*C1159,\"\")))","v":37.400000000000006},"  litres",{"$f":"N1159*1000","v":37400.000000000007},"cm³"]
[{"$f":"IF(COUNTIF($B$1:B1160,TRUE)=COUNTIF($B$1:B1159,TRUE),\"\",COUNTIF($B$1:B1160,TRUE))","v":""},{"$f":"Worksheet!$D$15","v":false},{"$f":"RANDBETWEEN(5,20)","v":15},"min","±",{"$f":"IF(I1160=1,H1160*10^RANDBETWEEN(IF(Worksheet!$D$9,-1,0),0),IF(I1160=2,H1160,CHOOSE(RANDBETWEEN(1,3),5,10,20)))","v":9},{"$f":"IF(I1160=1,D1160,IF(I1160=3,\"%\",\"sec\"))","v":"sec"},9,{"$f":"IF(AND(Worksheet!$D$8,RAND()<0),3,IF(RAND()<Worksheet!$D$7/100,1,2))","v":2},null," min",{"$f":"IF(I1160=1,C1160-F1160,IF(I1160=2,C1160*60-F1160,\"\"))","v":891},{"$f":"IF($I1160=1,\" hours\",\" min\")","v":" min"},null,"  min",{"$f":"IF(I1160=1,C1160+F1160,IF(I1160=2,C1160*60+F1160,\"\"))","v":909},{"$f":"IF($I1160=1,\" hours\",\" min\")","v":" min"}]
[{"$f":"COUNTIF($B$1:B1161,TRUE)","v":903},{"$f":"Worksheet!$B$11","v":true},{"$f":"RANDBETWEEN(5,RANDBETWEEN(5,Worksheet!$D$6))","v":38},"cm","±",{"$f":"IF(I1161=1,H1161*10^RANDBETWEEN(IF(Worksheet!$D$9,-1,0),0),IF(I1161=2,H1161,CHOOSE(RANDBETWEEN(1,3),5,10,20)))","v":9},{"$f":"IF(I1161=1,D1161,IF(I1161=3,\"%\",\"mm\"))","v":"cm"},{"$f":"RANDBETWEEN(1,MIN(9,C1161))","v":9},{"$f":"IF(AND(Worksheet!$D$8,RAND()<0.2),3,IF(RAND()<Worksheet!$D$7/100,1,2))","v":1},{"$f":"IF(I1161=1,C1161-F1161,IF(I1161=2,C1161-F1161/10,IF(I1161=3,(1-F1161/100)*C1161,\"\")))","v":29},{"$f":"CONCATENATE(\" \",D1161)","v":" cm"},{"$f":"J1161*10","v":290},"mm",{"$f":"IF(I1161=1,C1161+F1161,IF(I1161=2,C1161+F1161/10,IF(I1161=3,(1+F1161/100)*C1161,\"\")))","v":47},{"$f":"CONCATENATE(\" \",K1161)","v":"  cm"},{"$f":"N1161*10","v":470},"mm"]
[{"$f":"IF(COUNTIF($B$1:B1162,TRUE)=COUNTIF($B$1:B1161,TRUE),\"\",COUNTIF($B$1:B1162,TRUE))","v":904},{"$f":"Worksheet!$B$12","v":true},{"$f":"RANDBETWEEN(5,RANDBETWEEN(5,Worksheet!$D$6))","v":66},"m","±",{"$f":"IF(I1162=1,H1162*10^RANDBETWEEN(IF(Worksheet!$D$9,-1,0),0),IF(I1162=2,H1162*10^RANDBETWEEN(RANDBETWEEN(0,1),1),CHOOSE(RANDBETWEEN(1,3),5,10,20)))","v":0.4},{"$f":"IF(I1162=1,D1162,IF(I1162=3,\"%\",\"cm\"))","v":"m"},{"$f":"RANDBETWEEN(1,MIN(9,C1162))","v":4},{"$f":"IF(AND(Worksheet!$D$8,RAND()<0.2),3,IF(RAND()<Worksheet!$D$7/100,1,2))","v":1},{"$f":"IF(I1162=1,C1162-F1162,IF(I1162=2,C1162-F1162/100,IF(I1162=3,(1-F1162/100)*C1162,\"\")))","v":65.599999999999994},{"$f":"CONCATENATE(\" \",D1162)","v":" m"},{"$f":"J1162*100","v":6559.9999999999991},"cm",{"$f":"IF(I1162=1,C1162+F1162,IF(I1162=2,C1162+F1162/100,IF(I1162=3,(1+F1162/100)*C1162,\"\")))","v":66.400000000000006},{"$f":"CONCATENATE(\" \",K1162)","v":"  m"},{"$f":"N1162*100","v":6640.0000000000009},"cm"]
[{"$f":"IF(COUNTIF($B$1:B1163,TRUE)=COUNTIF($B$1:B1162,TRUE),\"\",COUNTIF($B$1:B1163,TRUE))","v":905},{"$f":"Worksheet!$B$13","v":true},{"$f":"RANDBETWEEN(5,RANDBETWEEN(5,Worksheet!$D$6))","v":68},"km","±",{"$f":"IF(I1163=1,H1163*10^RANDBETWEEN(IF(Worksheet!$D$9,-1,0),0),IF(I1163=2,H1163*10^RANDBETWEEN(RANDBETWEEN(0,2),2),CHOOSE(RANDBETWEEN(1,3),5,10,20)))","v":0.70000000000000007},{"$f":"IF(I1163=1,D1163,IF(I1163=3,\"%\",\"m\"))","v":"km"},7,{"$f":"IF(AND(Worksheet!$D$8,RAND()<0.2),3,IF(RAND()<Worksheet!$D$7/100,1,2))","v":1},{"$f":"IF(I1163=1,C1163-F1163,IF(I1163=2,C1163-F1163/1000,IF(I1163=3,(1-F1163/100)*C1163,\"\")))","v":67.3}," km",{"$f":"J1163*1000","v":67300},"m",{"$f":"IF(I1163=1,C1163+F1163,IF(I1163=2,C1163+F1163/1000,IF(I1163=3,(1+F1163/100)*C1163,\"\")))","v":68.7},"  km",{"$f":"N1163*1000","v":68700},"m"]
[{"$f":"IF(COUNTIF($B$1:B1164,TRUE)=COUNTIF($B$1:B1163,TRUE),\"\",COUNTIF($B$1:B1164,TRUE))","v":""},{"$f":"Worksheet!$B$14","v":false},{"$f":"RANDBETWEEN(5,RANDBETWEEN(5,Worksheet!$D$6))","v":360},"m","±",{"$f":"IF(I1164=1,H1164*10^RANDBETWEEN(IF(Worksheet!$D$9,-1,0),0),IF(I1164=2,H1164*10^RANDBETWEEN(RANDBETWEEN(0,2),2),CHOOSE(RANDBETWEEN(1,3),5,10,20)))","v":50},{"$f":"IF(I1164=1,D1164,IF(I1164=3,\"%\",\"mm\"))","v":"mm"},5,{"$f":"IF(AND(Worksheet!$D$8,RAND()<0.2),3,IF(RAND()<Worksheet!$D$7/100,1,2))","v":2},{"$f":"IF(I1164=1,C1164-F1164,IF(I1164=2,C1164-F1164/1000,IF(I1164=3,(1-F1164/100)*C1164,\"\")))","v":359.95}," m",{"$f":"J1164*1000","v":359950},"mm",{"$f":"IF(I1164=1,C1164+F1164,IF(I1164=2,C1164+F1164/1000,IF(I1164=3,(1+F1164/100)*C1164,\"\")))","v":360.05},"  m",{"$f":"N1164*1000","v":360050},"mm"]
[{"$f":"IF(COUNTIF($B$1:B1165,TRUE)=COUNTIF($B$1:B1164,TRUE),\"\",COUNTIF($B$1:B1165,TRUE))","v":906},{"$f":"Worksheet!$B$15","v":true},{"$f":"RANDBETWEEN(5,20)","v":7},"hours","±",{"$f":"IF(I1165=1,H1165*10^RANDBETWEEN(IF(Worksheet!$D$9,-1,0),0),IF(I1165=2,H1165,CHOOSE(RANDBETWEEN(1,3),5,10,20)))","v":3},{"$f":"IF(I1165=1,D1165,IF(I1165=3,\"%\",\"min\"))","v":"min"},3,{"$f":"IF(AND(Worksheet!$D$8,RAND()<0),3,IF(RAND()<Worksheet!$D$7/100,1,2))","v":2},null," hours",{"$f":"IF(I1165=1,C1165-F1165,IF(I1165=2,C1165*60-F1165,\"\"))","v":417},{"$f":"IF($I1165=1,\" hours\",\" min\")","v":" min"},null,"  hours",{"$f":"IF(I1165=1,C1165+F1165,IF(I1165=2,C1165*60+F1165,\"\"))","v":423},{"$f":"IF($I1165=1,\" hours\",\" min\")","v":" min"}]
[{"$f":"IF(COUNTIF($B$1:B1166,TRUE)=COUNTIF($B$1:B1165,TRUE),\"\",COUNTIF($B$1:B1166,TRUE))","v":907},{"$f":"Worksheet!$D$11","v":true},{"$f":"RANDBETWEEN(5,RANDBETWEEN(5,Worksheet!$D$6))","v":32},"kg","±",{"$f":"IF(I1166=1,H1166*10^RANDBETWEEN(IF(Worksheet!$D$9,-1,0),0),IF(I1166=2,H1166*10^RANDBETWEEN(RANDBETWEEN(0,2),2),CHOOSE(RANDBETWEEN(1,3),5,10,20)))","v":1},{"$f":"IF(I1166=1,D1166,IF(I1166=3,\"%\",\"g\"))","v":"kg"},1,{"$f":"IF(AND(Worksheet!$D$8,RAND()<0.2),3,IF(RAND()<Worksheet!$D$7/100,1,2))","v":1},{"$f":"IF(I1166=1,C1166-F1166,IF(I1166=2,C1166-F1166/1000,IF(I1166=3,(1-F1166/100)*C1166,\"\")))","v":31}," kg",{"$f":"J1166*1000","v":31000},"g",{"$f":"IF(I1166=1,C1166+F1166,IF(I1166=2,C1166+F1166/1000,IF(I1166=3,(1+F1166/100)*C1166,\"\")))","v":33},"  kg",{"$f":"N1166*1000","v":33000},"g"]
[{"$f":"IF(COUNTIF($B$1:B1167,TRUE)=COUNTIF($B$1:B1166,TRUE),\"\",COUNTIF($B$1:B1167,TRUE))","v":908},{"$f":"Worksheet!$D$12","v":true},{"$f":"RANDBETWEEN(5,RANDBETWEEN(5,Worksheet!$D$6))","v":163},"tonnes","±",{"$f":"IF(I1167=1,H1167*10^RANDBETWEEN(IF(Worksheet!$D$9,-1,0),0),IF(I1167=2,H1167*10^RANDBETWEEN(RANDBETWEEN(0,2),2),CHOOSE(RANDBETWEEN(1,3),5,10,20)))","v":0.60000000000000009},{"$f":"IF(I1167=1,D1167,IF(I1167=3,\"%\",\"kg\"))","v":"tonnes"},6,{"$f":"IF(AND(Worksheet!$D$8,RAND()<0.2),3,IF(RAND()<Worksheet!$D$7/100,1,2))","v":1},{"$f":"IF(I1167=1,C1167-F1167,IF(I1167=2,C1167-F1167/1000,IF(I1167=3,(1-F1167/100)*C1167,\"\")))","v":162.4}," tonnes",{"$f":"J1167*1000","v":162400},"kg",{"$f":"IF(I1167=1,C1167+F1167,IF(I1167=2,C1167+F1167/1000,IF(I1167=3,(1+F1167/100)*C1167,\"\")))","v":163.6},"  tonnes",{"$f":"N1167*1000","v":163600},"kg"]
[{"$f":"IF(COUNTIF($B$1:B1168,TRUE)=COUNTIF($B$1:B1167,TRUE),\"\",COUNTIF($B$1:B1168,TRUE))","v":909},{"$f":"Worksheet!$D$13","v":true},{"$f":"RANDBETWEEN(5,RANDBETWEEN(5,Worksheet!$D$6))","v":48},"litres","±",{"$f":"IF(I1168=1,H1168*10^RANDBETWEEN(IF(Worksheet!$D$9,-1,0),0),IF(I1168=2,H1168*10^RANDBETWEEN(RANDBETWEEN(0,2),2),CHOOSE(RANDBETWEEN(1,3),5,10,20)))","v":0.2},{"$f":"IF(I1168=1,D1168,IF(I1168=3,\"%\",\"ml\"))","v":"litres"},2,{"$f":"IF(AND(Worksheet!$D$8,RAND()<0.2),3,IF(RAND()<Worksheet!$D$7/100,1,2))","v":1},{"$f":"IF(I1168=1,C1168-F1168,IF(I1168=2,C1168-F1168/1000,IF(I1168=3,(1-F1168/100)*C1168,\"\")))","v":47.8}," litres",{"$f":"J1168*1000","v":47800},"ml",{"$f":"IF(I1168=1,C1168+F1168,IF(I1168=2,C1168+F1168/1000,IF(I1168=3,(1+F1168/100)*C1168,\"\")))","v":48.2},"  litres",{"$f":"N1168*1000","v":48200},"ml"]
[{"$f":"IF(COUNTIF($B$1:B1169,TRUE)=COUNTIF($B$1:B1168,TRUE),\"\",COUNTIF($B$1:B1169,TRUE))","v":910},{"$f":"Worksheet!$D$14","v":true},{"$f":"RANDBETWEEN(5,RANDBETWEEN(5,Worksheet!$D$6))","v":10},"litres","±",{"$f":"IF(I1169=1,H1169*10^RANDBETWEEN(IF(Worksheet!$D$9,-1,0),0),IF(I1169=2,H1169*10^RANDBETWEEN(RANDBETWEEN(0,2),2),CHOOSE(RANDBETWEEN(1,3),5,10,20)))","v":7},{"$f":"IF(I1169=1,D1169,IF(I1169=3,\"%\",\"cm³\"))","v":"litres"},7,{"$f":"IF(AND(Worksheet!$D$8,RAND()<0.2),3,IF(RAND()<Worksheet!$D$7/100,1,2))","v":1},{"$f":"IF(I1169=1,C1169-F1169,IF(I1169=2,C1169-F1169/1000,IF(I1169=3,(1-F1169/100)*C1169,\"\")))","v":3}," litres",{"$f":"J1169*1000","v":3000},"cm³",{"$f":"IF(I1169=1,C1169+F1169,IF(I1169=2,C1169+F1169/1000,IF(I1169=3,(1+F1169/100)*C1169,\"\")))","v":17},"  litres",{"$f":"N1169*1000","v":17000},"cm³"]
[{"$f":"IF(COUNTIF($B$1:B1170,TRUE)=COUNTIF($B$1:B1169,TRUE),\"\",COUNTIF($B$1:B1170,TRUE))","v":""},{"$f":"Worksheet!$D$15","v":false},{"$f":"RANDBETWEEN(5,20)","v":10},"min","±",{"$f":"IF(I1170=1,H1170*10^RANDBETWEEN(IF(Worksheet!$D$9,-1,0),0),IF(I1170=2,H1170,CHOOSE(RANDBETWEEN(1,3),5,10,20)))","v":0.4},{"$f":"IF(I1170=1,D1170,IF(I1170=3,\"%\",\"sec\"))","v":"min"},4,{"$f":"IF(AND(Worksheet!$D$8,RAND()<0),3,IF(RAND()<Worksheet!$D$7/100,1,2))","v":1},null," min",{"$f":"IF(I1170=1,C1170-F1170,IF(I1170=2,C1170*60-F1170,\"\"))","v":9.6},{"$f":"IF($I1170=1,\" hours\",\" min\")","v":" hours"},null,"  min",{"$f":"IF(I1170=1,C1170+F1170,IF(I1170=2,C1170*60+F1170,\"\"))","v":10.4},{"$f":"IF($I1170=1,\" hours\",\" min\")","v":" hours"}]
[{"$f":"COUNTIF($B$1:B1171,TRUE)","v":911},{"$f":"Worksheet!$B$11","v":true},{"$f":"RANDBETWEEN(5,RANDBETWEEN(5,Worksheet!$D$6))","v":57},"cm","±",{"$f":"IF(I1171=1,H1171*10^RANDBETWEEN(IF(Worksheet!$D$9,-1,0),0),IF(I1171=2,H1171,CHOOSE(RANDBETWEEN(1,3),5,10,20)))","v":6},{"$f":"IF(I1171=1,D1171,IF(I1171=3,\"%\",\"mm\"))","v":"cm"},{"$f":"RANDBETWEEN(1,MIN(9,C1171))","v":6},{"$f":"IF(AND(Worksheet!$D$8,RAND()<0.2),3,IF(RAND()<Worksheet!$D$7/100,1,2))","v":1},{"$f":"IF(I1171=1,C1171-F1171,IF(I1171=2,C1171-F1171/10,IF(I1171=3,(1-F1171/100)*C1171,\"\")))","v":51},{"$f":"CONCATENATE(\" \",D1171)","v":" cm"},{"$f":"J1171*10","v":510},"mm",{"$f":"IF(I1171=1,C1171+F1171,IF(I1171=2,C1171+F1171/10,IF(I1171=3,(1+F1171/100)*C1171,\"\")))","v":63},{"$f":"CONCATENATE(\" \",K1171)","v":"  cm"},{"$f":"N1171*10","v":630},"mm"]
[{"$f":"IF(COUNTIF($B$1:B1172,TRUE)=COUNTIF($B$1:B1171,TRUE),\"\",COUNTIF($B$1:B1172,TRUE))","v":912},{"$f":"Worksheet!$B$12","v":true},{"$f":"RANDBETWEEN(5,RANDBETWEEN(5,Worksheet!$D$6))","v":105},"m","±",{"$f":"IF(I1172=1,H1172*10^RANDBETWEEN(IF(Worksheet!$D$9,-1,0),0),IF(I1172=2,H1172*10^RANDBETWEEN(RANDBETWEEN(0,1),1),CHOOSE(RANDBETWEEN(1,3),5,10,20)))","v":0.1},{"$f":"IF(I1172=1,D1172,IF(I1172=3,\"%\",\"cm\"))","v":"m"},{"$f":"RANDBETWEEN(1,MIN(9,C1172))","v":1},{"$f":"IF(AND(Worksheet!$D$8,RAND()<0.2),3,IF(RAND()<Worksheet!$D$7/100,1,2))","v":1},{"$f":"IF(I1172=1,C1172-F1172,IF(I1172=2,C1172-F1172/100,IF(I1172=3,(1-F1172/100)*C1172,\"\")))","v":104.9},{"$f":"CONCATENATE(\" \",D1172)","v":" m"},{"$f":"J1172*100","v":10490},"cm",{"$f":"IF(I1172=1,C1172+F1172,IF(I1172=2,C1172+F1172/100,IF(I1172=3,(1+F1172/100)*C1172,\"\")))","v":105.1},{"$f":"CONCATENATE(\" \",K1172)","v":"  m"},{"$f":"N1172*100","v":10510},"cm"]
[{"$f":"IF(COUNTIF($B$1:B1173,TRUE)=COUNTIF($B$1:B1172,TRUE),\"\",COUNTIF($B$1:B1173,TRUE))","v":913},{"$f":"Worksheet!$B$13","v":true},{"$f":"RANDBETWEEN(5,RANDBETWEEN(5,Worksheet!$D$6))","v":7},"km","±",{"$f":"IF(I1173=1,H1173*10^RANDBETWEEN(IF(Worksheet!$D$9,-1,0),0),IF(I1173=2,H1173*10^RANDBETWEEN(RANDBETWEEN(0,2),2),CHOOSE(RANDBETWEEN(1,3),5,10,20)))","v":0.4},{"$f":"IF(I1173=1,D1173,IF(I1173=3,\"%\",\"m\"))","v":"km"},4,{"$f":"IF(AND(Worksheet!$D$8,RAND()<0.2),3,IF(RAND()<Worksheet!$D$7/100,1,2))","v":1},{"$f":"IF(I1173=1,C1173-F1173,IF(I1173=2,C1173-F1173/1000,IF(I1173=3,(1-F1173/100)*C1173,\"\")))","v":6.6}," km",{"$f":"J1173*1000","v":6600},"m",{"$f":"IF(I1173=1,C1173+F1173,IF(I1173=2,C1173+F1173/1000,IF(I1173=3,(1+F1173/100)*C1173,\"\")))","v":7.4},"  km",{"$f":"N1173*1000","v":7400},"m"]
[{"$f":"IF(COUNTIF($B$1:B1174,TRUE)=COUNTIF($B$1:B1173,TRUE),\"\",COUNTIF($B$1:B1174,TRUE))","v":""},{"$f":"Worksheet!$B$14","v":false},{"$f":"RANDBETWEEN(5,RANDBETWEEN(5,Worksheet!$D$6))","v":202},"m","±",{"$f":"IF(I1174=1,H1174*10^RANDBETWEEN(IF(Worksheet!$D$9,-1,0),0),IF(I1174=2,H1174*10^RANDBETWEEN(RANDBETWEEN(0,2),2),CHOOSE(RANDBETWEEN(1,3),5,10,20)))","v":7},{"$f":"IF(I1174=1,D1174,IF(I1174=3,\"%\",\"mm\"))","v":"mm"},7,{"$f":"IF(AND(Worksheet!$D$8,RAND()<0.2),3,IF(RAND()<Worksheet!$D$7/100,1,2))","v":2},{"$f":"IF(I1174=1,C1174-F1174,IF(I1174=2,C1174-F1174/1000,IF(I1174=3,(1-F1174/100)*C1174,\"\")))","v":201.99299999999999}," m",{"$f":"J1174*1000","v":201993},"mm",{"$f":"IF(I1174=1,C1174+F1174,IF(I1174=2,C1174+F1174/1000,IF(I1174=3,(1+F1174/100)*C1174,\"\")))","v":202.00700000000001},"  m",{"$f":"N1174*1000","v":202007},"mm"]
[{"$f":"IF(COUNTIF($B$1:B1175,TRUE)=COUNTIF($B$1:B1174,TRUE),\"\",COUNTIF($B$1:B1175,TRUE))","v":914},{"$f":"Worksheet!$B$15","v":true},{"$f":"RANDBETWEEN(5,20)","v":16},"hours","±",{"$f":"IF(I1175=1,H1175*10^RANDBETWEEN(IF(Worksheet!$D$9,-1,0),0),IF(I1175=2,H1175,CHOOSE(RANDBETWEEN(1,3),5,10,20)))","v":0.8},{"$f":"IF(I1175=1,D1175,IF(I1175=3,\"%\",\"min\"))","v":"hours"},8,{"$f":"IF(AND(Worksheet!$D$8,RAND()<0),3,IF(RAND()<Worksheet!$D$7/100,1,2))","v":1},null," hours",{"$f":"IF(I1175=1,C1175-F1175,IF(I1175=2,C1175*60-F1175,\"\"))","v":15.2},{"$f":"IF($I1175=1,\" hours\",\" min\")","v":" hours"},null,"  hours",{"$f":"IF(I1175=1,C1175+F1175,IF(I1175=2,C1175*60+F1175,\"\"))","v":16.8},{"$f":"IF($I1175=1,\" hours\",\" min\")","v":" hours"}]
[{"$f":"IF(COUNTIF($B$1:B1176,TRUE)=COUNTIF($B$1:B1175,TRUE),\"\",COUNTIF($B$1:B1176,TRUE))","v":915},{"$f":"Worksheet!$D$11","v":true},{"$f":"RANDBETWEEN(5,RANDBETWEEN(5,Worksheet!$D$6))","v":31},"kg","±",{"$f":"IF(I1176=1,H1176*10^RANDBETWEEN(IF(Worksheet!$D$9,-1,0),0),IF(I1176=2,H1176*10^RANDBETWEEN(RANDBETWEEN(0,2),2),CHOOSE(RANDBETWEEN(1,3),5,10,20)))","v":0.30000000000000004},{"$f":"IF(I1176=1,D1176,IF(I1176=3,\"%\",\"g\"))","v":"kg"},3,{"$f":"IF(AND(Worksheet!$D$8,RAND()<0.2),3,IF(RAND()<Worksheet!$D$7/100,1,2))","v":1},{"$f":"IF(I1176=1,C1176-F1176,IF(I1176=2,C1176-F1176/1000,IF(I1176=3,(1-F1176/100)*C1176,\"\")))","v":30.7}," kg",{"$f":"J1176*1000","v":30700},"g",{"$f":"IF(I1176=1,C1176+F1176,IF(I1176=2,C1176+F1176/1000,IF(I1176=3,(1+F1176/100)*C1176,\"\")))","v":31.3},"  kg",{"$f":"N1176*1000","v":31300},"g"]
[{"$f":"IF(COUNTIF($B$1:B1177,TRUE)=COUNTIF($B$1:B1176,TRUE),\"\",COUNTIF($B$1:B1177,TRUE))","v":916},{"$f":"Worksheet!$D$12","v":true},{"$f":"RANDBETWEEN(5,RANDBETWEEN(5,Worksheet!$D$6))","v":179},"tonnes","±",{"$f":"IF(I1177=1,H1177*10^RANDBETWEEN(IF(Worksheet!$D$9,-1,0),0),IF(I1177=2,H1177*10^RANDBETWEEN(RANDBETWEEN(0,2),2),CHOOSE(RANDBETWEEN(1,3),5,10,20)))","v":0.8},{"$f":"IF(I1177=1,D1177,IF(I1177=3,\"%\",\"kg\"))","v":"tonnes"},8,{"$f":"IF(AND(Worksheet!$D$8,RAND()<0.2),3,IF(RAND()<Worksheet!$D$7/100,1,2))","v":1},{"$f":"IF(I1177=1,C1177-F1177,IF(I1177=2,C1177-F1177/1000,IF(I1177=3,(1-F1177/100)*C1177,\"\")))","v":178.2}," tonnes",{"$f":"J1177*1000","v":178200},"kg",{"$f":"IF(I1177=1,C1177+F1177,IF(I1177=2,C1177+F1177/1000,IF(I1177=3,(1+F1177/100)*C1177,\"\")))","v":179.8},"  tonnes",{"$f":"N1177*1000","v":179800},"kg"]
[{"$f":"IF(COUNTIF($B$1:B1178,TRUE)=COUNTIF($B$1:B1177,TRUE),\"\",COUNTIF($B$1:B1178,TRUE))","v":917},{"$f":"Worksheet!$D$13","v":true},{"$f":"RANDBETWEEN(5,RANDBETWEEN(5,Worksheet!$D$6))","v":26},"litres","±",{"$f":"IF(I1178=1,H1178*10^RANDBETWEEN(IF(Worksheet!$D$9,-1,0),0),IF(I1178=2,H1178*10^RANDBETWEEN(RANDBETWEEN(0,2),2),CHOOSE(RANDBETWEEN(1,3),5,10,20)))","v":300},{"$f":"IF(I1178=1,D1178,IF(I1178=3,\"%\",\"ml\"))","v":"ml"},3,{"$f":"IF(AND(Worksheet!$D$8,RAND()<0.2),3,IF(RAND()<Worksheet!$D$7/100,1,2))","v":2},{"$f":"IF(I1178=1,C1178-F1178,IF(I1178=2,C1178-F1178/1000,IF(I1178=3,(1-F1178/100)*C1178,\"\")))","v":25.7}," litres",{"$f":"J1178*1000","v":25700},"ml",{"$f":"IF(I1178=1,C1178+F1178,IF(I1178=2,C1178+F1178/1000,IF(I1178=3,(1+F1178/100)*C1178,\"\")))","v":26.3},"  litres",{"$f":"N1178*1000","v":26300},"ml"]
[{"$f":"IF(COUNTIF($B$1:B1179,TRUE)=COUNTIF($B$1:B1178,TRUE),\"\",COUNTIF($B$1:B1179,TRUE))","v":918},{"$f":"Worksheet!$D$14","v":true},{"$f":"RANDBETWEEN(5,RANDBETWEEN(5,Worksheet!$D$6))","v":27},"litres","±",{"$f":"IF(I1179=1,H1179*10^RANDBETWEEN(IF(Worksheet!$D$9,-1,0),0),IF(I1179=2,H1179*10^RANDBETWEEN(RANDBETWEEN(0,2),2),CHOOSE(RANDBETWEEN(1,3),5,10,20)))","v":0.1},{"$f":"IF(I1179=1,D1179,IF(I1179=3,\"%\",\"cm³\"))","v":"litres"},1,{"$f":"IF(AND(Worksheet!$D$8,RAND()<0.2),3,IF(RAND()<Worksheet!$D$7/100,1,2))","v":1},{"$f":"IF(I1179=1,C1179-F1179,IF(I1179=2,C1179-F1179/1000,IF(I1179=3,(1-F1179/100)*C1179,\"\")))","v":26.9}," litres",{"$f":"J1179*1000","v":26900},"cm³",{"$f":"IF(I1179=1,C1179+F1179,IF(I1179=2,C1179+F1179/1000,IF(I1179=3,(1+F1179/100)*C1179,\"\")))","v":27.1},"  litres",{"$f":"N1179*1000","v":27100},"cm³"]
[{"$f":"IF(COUNTIF($B$1:B1180,TRUE)=COUNTIF($B$1:B1179,TRUE),\"\",COUNTIF($B$1:B1180,TRUE))","v":""},{"$f":"Worksheet!$D$15","v":false},{"$f":"RANDBETWEEN(5,20)","v":10},"min","±",{"$f":"IF(I1180=1,H1180*10^RANDBETWEEN(IF(Worksheet!$D$9,-1,0),0),IF(I1180=2,H1180,CHOOSE(RANDBETWEEN(1,3),5,10,20)))","v":3},{"$f":"IF(I1180=1,D1180,IF(I1180=3,\"%\",\"sec\"))","v":"sec"},3,{"$f":"IF(AND(Worksheet!$D$8,RAND()<0),3,IF(RAND()<Worksheet!$D$7/100,1,2))","v":2},null," min",{"$f":"IF(I1180=1,C1180-F1180,IF(I1180=2,C1180*60-F1180,\"\"))","v":597},{"$f":"IF($I1180=1,\" hours\",\" min\")","v":" min"},null,"  min",{"$f":"IF(I1180=1,C1180+F1180,IF(I1180=2,C1180*60+F1180,\"\"))","v":603},{"$f":"IF($I1180=1,\" hours\",\" min\")","v":" min"}]
[{"$f":"COUNTIF($B$1:B1181,TRUE)","v":919},{"$f":"Worksheet!$B$11","v":true},{"$f":"RANDBETWEEN(5,RANDBETWEEN(5,Worksheet!$D$6))","v":187},"cm","±",{"$f":"IF(I1181=1,H1181*10^RANDBETWEEN(IF(Worksheet!$D$9,-1,0),0),IF(I1181=2,H1181,CHOOSE(RANDBETWEEN(1,3),5,10,20)))","v":6},{"$f":"IF(I1181=1,D1181,IF(I1181=3,\"%\",\"mm\"))","v":"cm"},{"$f":"RANDBETWEEN(1,MIN(9,C1181))","v":6},{"$f":"IF(AND(Worksheet!$D$8,RAND()<0.2),3,IF(RAND()<Worksheet!$D$7/100,1,2))","v":1},{"$f":"IF(I1181=1,C1181-F1181,IF(I1181=2,C1181-F1181/10,IF(I1181=3,(1-F1181/100)*C1181,\"\")))","v":181},{"$f":"CONCATENATE(\" \",D1181)","v":" cm"},{"$f":"J1181*10","v":1810},"mm",{"$f":"IF(I1181=1,C1181+F1181,IF(I1181=2,C1181+F1181/10,IF(I1181=3,(1+F1181/100)*C1181,\"\")))","v":193},{"$f":"CONCATENATE(\" \",K1181)","v":"  cm"},{"$f":"N1181*10","v":1930},"mm"]
[{"$f":"IF(COUNTIF($B$1:B1182,TRUE)=COUNTIF($B$1:B1181,TRUE),\"\",COUNTIF($B$1:B1182,TRUE))","v":920},{"$f":"Worksheet!$B$12","v":true},{"$f":"RANDBETWEEN(5,RANDBETWEEN(5,Worksheet!$D$6))","v":135},"m","±",{"$f":"IF(I1182=1,H1182*10^RANDBETWEEN(IF(Worksheet!$D$9,-1,0),0),IF(I1182=2,H1182*10^RANDBETWEEN(RANDBETWEEN(0,1),1),CHOOSE(RANDBETWEEN(1,3),5,10,20)))","v":20},{"$f":"IF(I1182=1,D1182,IF(I1182=3,\"%\",\"cm\"))","v":"%"},{"$f":"RANDBETWEEN(1,MIN(9,C1182))","v":2},{"$f":"IF(AND(Worksheet!$D$8,RAND()<0.2),3,IF(RAND()<Worksheet!$D$7/100,1,2))","v":3},{"$f":"IF(I1182=1,C1182-F1182,IF(I1182=2,C1182-F1182/100,IF(I1182=3,(1-F1182/100)*C1182,\"\")))","v":108},{"$f":"CONCATENATE(\" \",D1182)","v":" m"},{"$f":"J1182*100","v":10800},"cm",{"$f":"IF(I1182=1,C1182+F1182,IF(I1182=2,C1182+F1182/100,IF(I1182=3,(1+F1182/100)*C1182,\"\")))","v":162},{"$f":"CONCATENATE(\" \",K1182)","v":"  m"},{"$f":"N1182*100","v":16200},"cm"]
[{"$f":"IF(COUNTIF($B$1:B1183,TRUE)=COUNTIF($B$1:B1182,TRUE),\"\",COUNTIF($B$1:B1183,TRUE))","v":921},{"$f":"Worksheet!$B$13","v":true},{"$f":"RANDBETWEEN(5,RANDBETWEEN(5,Worksheet!$D$6))","v":11},"km","±",{"$f":"IF(I1183=1,H1183*10^RANDBETWEEN(IF(Worksheet!$D$9,-1,0),0),IF(I1183=2,H1183*10^RANDBETWEEN(RANDBETWEEN(0,2),2),CHOOSE(RANDBETWEEN(1,3),5,10,20)))","v":20},{"$f":"IF(I1183=1,D1183,IF(I1183=3,\"%\",\"m\"))","v":"%"},8,{"$f":"IF(AND(Worksheet!$D$8,RAND()<0.2),3,IF(RAND()<Worksheet!$D$7/100,1,2))","v":3},{"$f":"IF(I1183=1,C1183-F1183,IF(I1183=2,C1183-F1183/1000,IF(I1183=3,(1-F1183/100)*C1183,\"\")))","v":8.8000000000000007}," km",{"$f":"J1183*1000","v":8800},"m",{"$f":"IF(I1183=1,C1183+F1183,IF(I1183=2,C1183+F1183/1000,IF(I1183=3,(1+F1183/100)*C1183,\"\")))","v":13.2},"  km",{"$f":"N1183*1000","v":13200},"m"]
[{"$f":"IF(COUNTIF($B$1:B1184,TRUE)=COUNTIF($B$1:B1183,TRUE),\"\",COUNTIF($B$1:B1184,TRUE))","v":""},{"$f":"Worksheet!$B$14","v":false},{"$f":"RANDBETWEEN(5,RANDBETWEEN(5,Worksheet!$D$6))","v":18},"m","±",{"$f":"IF(I1184=1,H1184*10^RANDBETWEEN(IF(Worksheet!$D$9,-1,0),0),IF(I1184=2,H1184*10^RANDBETWEEN(RANDBETWEEN(0,2),2),CHOOSE(RANDBETWEEN(1,3),5,10,20)))","v":0.9},{"$f":"IF(I1184=1,D1184,IF(I1184=3,\"%\",\"mm\"))","v":"m"},9,{"$f":"IF(AND(Worksheet!$D$8,RAND()<0.2),3,IF(RAND()<Worksheet!$D$7/100,1,2))","v":1},{"$f":"IF(I1184=1,C1184-F1184,IF(I1184=2,C1184-F1184/1000,IF(I1184=3,(1-F1184/100)*C1184,\"\")))","v":17.100000000000001}," m",{"$f":"J1184*1000","v":17100},"mm",{"$f":"IF(I1184=1,C1184+F1184,IF(I1184=2,C1184+F1184/1000,IF(I1184=3,(1+F1184/100)*C1184,\"\")))","v":18.899999999999999},"  m",{"$f":"N1184*1000","v":18900},"mm"]
[{"$f":"IF(COUNTIF($B$1:B1185,TRUE)=COUNTIF($B$1:B1184,TRUE),\"\",COUNTIF($B$1:B1185,TRUE))","v":922},{"$f":"Worksheet!$B$15","v":true},{"$f":"RANDBETWEEN(5,20)","v":9},"hours","±",{"$f":"IF(I1185=1,H1185*10^RANDBETWEEN(IF(Worksheet!$D$9,-1,0),0),IF(I1185=2,H1185,CHOOSE(RANDBETWEEN(1,3),5,10,20)))","v":7},{"$f":"IF(I1185=1,D1185,IF(I1185=3,\"%\",\"min\"))","v":"min"},7,{"$f":"IF(AND(Worksheet!$D$8,RAND()<0),3,IF(RAND()<Worksheet!$D$7/100,1,2))","v":2},null," hours",{"$f":"IF(I1185=1,C1185-F1185,IF(I1185=2,C1185*60-F1185,\"\"))","v":533},{"$f":"IF($I1185=1,\" hours\",\" min\")","v":" min"},null,"  hours",{"$f":"IF(I1185=1,C1185+F1185,IF(I1185=2,C1185*60+F1185,\"\"))","v":547},{"$f":"IF($I1185=1,\" hours\",\" min\")","v":" min"}]
[{"$f":"IF(COUNTIF($B$1:B1186,TRUE)=COUNTIF($B$1:B1185,TRUE),\"\",COUNTIF($B$1:B1186,TRUE))","v":923},{"$f":"Worksheet!$D$11","v":true},{"$f":"RANDBETWEEN(5,RANDBETWEEN(5,Worksheet!$D$6))","v":13},"kg","±",{"$f":"IF(I1186=1,H1186*10^RANDBETWEEN(IF(Worksheet!$D$9,-1,0),0),IF(I1186=2,H1186*10^RANDBETWEEN(RANDBETWEEN(0,2),2),CHOOSE(RANDBETWEEN(1,3),5,10,20)))","v":10},{"$f":"IF(I1186=1,D1186,IF(I1186=3,\"%\",\"g\"))","v":"g"},1,{"$f":"IF(AND(Worksheet!$D$8,RAND()<0.2),3,IF(RAND()<Worksheet!$D$7/100,1,2))","v":2},{"$f":"IF(I1186=1,C1186-F1186,IF(I1186=2,C1186-F1186/1000,IF(I1186=3,(1-F1186/100)*C1186,\"\")))","v":12.99}," kg",{"$f":"J1186*1000","v":12990},"g",{"$f":"IF(I1186=1,C1186+F1186,IF(I1186=2,C1186+F1186/1000,IF(I1186=3,(1+F1186/100)*C1186,\"\")))","v":13.01},"  kg",{"$f":"N1186*1000","v":13010},"g"]
[{"$f":"IF(COUNTIF($B$1:B1187,TRUE)=COUNTIF($B$1:B1186,TRUE),\"\",COUNTIF($B$1:B1187,TRUE))","v":924},{"$f":"Worksheet!$D$12","v":true},{"$f":"RANDBETWEEN(5,RANDBETWEEN(5,Worksheet!$D$6))","v":13},"tonnes","±",{"$f":"IF(I1187=1,H1187*10^RANDBETWEEN(IF(Worksheet!$D$9,-1,0),0),IF(I1187=2,H1187*10^RANDBETWEEN(RANDBETWEEN(0,2),2),CHOOSE(RANDBETWEEN(1,3),5,10,20)))","v":0.30000000000000004},{"$f":"IF(I1187=1,D1187,IF(I1187=3,\"%\",\"kg\"))","v":"tonnes"},3,{"$f":"IF(AND(Worksheet!$D$8,RAND()<0.2),3,IF(RAND()<Worksheet!$D$7/100,1,2))","v":1},{"$f":"IF(I1187=1,C1187-F1187,IF(I1187=2,C1187-F1187/1000,IF(I1187=3,(1-F1187/100)*C1187,\"\")))","v":12.7}," tonnes",{"$f":"J1187*1000","v":12700},"kg",{"$f":"IF(I1187=1,C1187+F1187,IF(I1187=2,C1187+F1187/1000,IF(I1187=3,(1+F1187/100)*C1187,\"\")))","v":13.3},"  tonnes",{"$f":"N1187*1000","v":13300},"kg"]
[{"$f":"IF(COUNTIF($B$1:B1188,TRUE)=COUNTIF($B$1:B1187,TRUE),\"\",COUNTIF($B$1:B1188,TRUE))","v":925},{"$f":"Worksheet!$D$13","v":true},{"$f":"RANDBETWEEN(5,RANDBETWEEN(5,Worksheet!$D$6))","v":100},"litres","±",{"$f":"IF(I1188=1,H1188*10^RANDBETWEEN(IF(Worksheet!$D$9,-1,0),0),IF(I1188=2,H1188*10^RANDBETWEEN(RANDBETWEEN(0,2),2),CHOOSE(RANDBETWEEN(1,3),5,10,20)))","v":10},{"$f":"IF(I1188=1,D1188,IF(I1188=3,\"%\",\"ml\"))","v":"%"},2,{"$f":"IF(AND(Worksheet!$D$8,RAND()<0.2),3,IF(RAND()<Worksheet!$D$7/100,1,2))","v":3},{"$f":"IF(I1188=1,C1188-F1188,IF(I1188=2,C1188-F1188/1000,IF(I1188=3,(1-F1188/100)*C1188,\"\")))","v":90}," litres",{"$f":"J1188*1000","v":90000},"ml",{"$f":"IF(I1188=1,C1188+F1188,IF(I1188=2,C1188+F1188/1000,IF(I1188=3,(1+F1188/100)*C1188,\"\")))","v":110.00000000000001},"  litres",{"$f":"N1188*1000","v":110000.00000000001},"ml"]
[{"$f":"IF(COUNTIF($B$1:B1189,TRUE)=COUNTIF($B$1:B1188,TRUE),\"\",COUNTIF($B$1:B1189,TRUE))","v":926},{"$f":"Worksheet!$D$14","v":true},{"$f":"RANDBETWEEN(5,RANDBETWEEN(5,Worksheet!$D$6))","v":138},"litres","±",{"$f":"IF(I1189=1,H1189*10^RANDBETWEEN(IF(Worksheet!$D$9,-1,0),0),IF(I1189=2,H1189*10^RANDBETWEEN(RANDBETWEEN(0,2),2),CHOOSE(RANDBETWEEN(1,3),5,10,20)))","v":2},{"$f":"IF(I1189=1,D1189,IF(I1189=3,\"%\",\"cm³\"))","v":"litres"},2,{"$f":"IF(AND(Worksheet!$D$8,RAND()<0.2),3,IF(RAND()<Worksheet!$D$7/100,1,2))","v":1},{"$f":"IF(I1189=1,C1189-F1189,IF(I1189=2,C1189-F1189/1000,IF(I1189=3,(1-F1189/100)*C1189,\"\")))","v":136}," litres",{"$f":"J1189*1000","v":136000},"cm³",{"$f":"IF(I1189=1,C1189+F1189,IF(I1189=2,C1189+F1189/1000,IF(I1189=3,(1+F1189/100)*C1189,\"\")))","v":140},"  litres",{"$f":"N1189*1000","v":140000},"cm³"]
[{"$f":"IF(COUNTIF($B$1:B1190,TRUE)=COUNTIF($B$1:B1189,TRUE),\"\",COUNTIF($B$1:B1190,TRUE))","v":""},{"$f":"Worksheet!$D$15","v":false},{"$f":"RANDBETWEEN(5,20)","v":8},"min","±",{"$f":"IF(I1190=1,H1190*10^RANDBETWEEN(IF(Worksheet!$D$9,-1,0),0),IF(I1190=2,H1190,CHOOSE(RANDBETWEEN(1,3),5,10,20)))","v":6},{"$f":"IF(I1190=1,D1190,IF(I1190=3,\"%\",\"sec\"))","v":"sec"},6,{"$f":"IF(AND(Worksheet!$D$8,RAND()<0),3,IF(RAND()<Worksheet!$D$7/100,1,2))","v":2},null," min",{"$f":"IF(I1190=1,C1190-F1190,IF(I1190=2,C1190*60-F1190,\"\"))","v":474},{"$f":"IF($I1190=1,\" hours\",\" min\")","v":" min"},null,"  min",{"$f":"IF(I1190=1,C1190+F1190,IF(I1190=2,C1190*60+F1190,\"\"))","v":486},{"$f":"IF($I1190=1,\" hours\",\" min\")","v":" min"}]
[{"$f":"COUNTIF($B$1:B1191,TRUE)","v":927},{"$f":"Worksheet!$B$11","v":true},{"$f":"RANDBETWEEN(5,RANDBETWEEN(5,Worksheet!$D$6))","v":9},"cm","±",{"$f":"IF(I1191=1,H1191*10^RANDBETWEEN(IF(Worksheet!$D$9,-1,0),0),IF(I1191=2,H1191,CHOOSE(RANDBETWEEN(1,3),5,10,20)))","v":1},{"$f":"IF(I1191=1,D1191,IF(I1191=3,\"%\",\"mm\"))","v":"mm"},{"$f":"RANDBETWEEN(1,MIN(9,C1191))","v":1},{"$f":"IF(AND(Worksheet!$D$8,RAND()<0.2),3,IF(RAND()<Worksheet!$D$7/100,1,2))","v":2},{"$f":"IF(I1191=1,C1191-F1191,IF(I1191=2,C1191-F1191/10,IF(I1191=3,(1-F1191/100)*C1191,\"\")))","v":8.9},{"$f":"CONCATENATE(\" \",D1191)","v":" cm"},{"$f":"J1191*10","v":89},"mm",{"$f":"IF(I1191=1,C1191+F1191,IF(I1191=2,C1191+F1191/10,IF(I1191=3,(1+F1191/100)*C1191,\"\")))","v":9.1},{"$f":"CONCATENATE(\" \",K1191)","v":"  cm"},{"$f":"N1191*10","v":91},"mm"]
[{"$f":"IF(COUNTIF($B$1:B1192,TRUE)=COUNTIF($B$1:B1191,TRUE),\"\",COUNTIF($B$1:B1192,TRUE))","v":928},{"$f":"Worksheet!$B$12","v":true},{"$f":"RANDBETWEEN(5,RANDBETWEEN(5,Worksheet!$D$6))","v":29},"m","±",{"$f":"IF(I1192=1,H1192*10^RANDBETWEEN(IF(Worksheet!$D$9,-1,0),0),IF(I1192=2,H1192*10^RANDBETWEEN(RANDBETWEEN(0,1),1),CHOOSE(RANDBETWEEN(1,3),5,10,20)))","v":0.1},{"$f":"IF(I1192=1,D1192,IF(I1192=3,\"%\",\"cm\"))","v":"m"},{"$f":"RANDBETWEEN(1,MIN(9,C1192))","v":1},{"$f":"IF(AND(Worksheet!$D$8,RAND()<0.2),3,IF(RAND()<Worksheet!$D$7/100,1,2))","v":1},{"$f":"IF(I1192=1,C1192-F1192,IF(I1192=2,C1192-F1192/100,IF(I1192=3,(1-F1192/100)*C1192,\"\")))","v":28.9},{"$f":"CONCATENATE(\" \",D1192)","v":" m"},{"$f":"J1192*100","v":2890},"cm",{"$f":"IF(I1192=1,C1192+F1192,IF(I1192=2,C1192+F1192/100,IF(I1192=3,(1+F1192/100)*C1192,\"\")))","v":29.1},{"$f":"CONCATENATE(\" \",K1192)","v":"  m"},{"$f":"N1192*100","v":2910},"cm"]
[{"$f":"IF(COUNTIF($B$1:B1193,TRUE)=COUNTIF($B$1:B1192,TRUE),\"\",COUNTIF($B$1:B1193,TRUE))","v":929},{"$f":"Worksheet!$B$13","v":true},{"$f":"RANDBETWEEN(5,RANDBETWEEN(5,Worksheet!$D$6))","v":96},"km","±",{"$f":"IF(I1193=1,H1193*10^RANDBETWEEN(IF(Worksheet!$D$9,-1,0),0),IF(I1193=2,H1193*10^RANDBETWEEN(RANDBETWEEN(0,2),2),CHOOSE(RANDBETWEEN(1,3),5,10,20)))","v":0.60000000000000009},{"$f":"IF(I1193=1,D1193,IF(I1193=3,\"%\",\"m\"))","v":"km"},6,{"$f":"IF(AND(Worksheet!$D$8,RAND()<0.2),3,IF(RAND()<Worksheet!$D$7/100,1,2))","v":1},{"$f":"IF(I1193=1,C1193-F1193,IF(I1193=2,C1193-F1193/1000,IF(I1193=3,(1-F1193/100)*C1193,\"\")))","v":95.4}," km",{"$f":"J1193*1000","v":95400},"m",{"$f":"IF(I1193=1,C1193+F1193,IF(I1193=2,C1193+F1193/1000,IF(I1193=3,(1+F1193/100)*C1193,\"\")))","v":96.6},"  km",{"$f":"N1193*1000","v":96600},"m"]
[{"$f":"IF(COUNTIF($B$1:B1194,TRUE)=COUNTIF($B$1:B1193,TRUE),\"\",COUNTIF($B$1:B1194,TRUE))","v":""},{"$f":"Worksheet!$B$14","v":false},{"$f":"RANDBETWEEN(5,RANDBETWEEN(5,Worksheet!$D$6))","v":234},"m","±",{"$f":"IF(I1194=1,H1194*10^RANDBETWEEN(IF(Worksheet!$D$9,-1,0),0),IF(I1194=2,H1194*10^RANDBETWEEN(RANDBETWEEN(0,2),2),CHOOSE(RANDBETWEEN(1,3),5,10,20)))","v":7},{"$f":"IF(I1194=1,D1194,IF(I1194=3,\"%\",\"mm\"))","v":"mm"},7,{"$f":"IF(AND(Worksheet!$D$8,RAND()<0.2),3,IF(RAND()<Worksheet!$D$7/100,1,2))","v":2},{"$f":"IF(I1194=1,C1194-F1194,IF(I1194=2,C1194-F1194/1000,IF(I1194=3,(1-F1194/100)*C1194,\"\")))","v":233.99299999999999}," m",{"$f":"J1194*1000","v":233993},"mm",{"$f":"IF(I1194=1,C1194+F1194,IF(I1194=2,C1194+F1194/1000,IF(I1194=3,(1+F1194/100)*C1194,\"\")))","v":234.00700000000001},"  m",{"$f":"N1194*1000","v":234007},"mm"]
[{"$f":"IF(COUNTIF($B$1:B1195,TRUE)=COUNTIF($B$1:B1194,TRUE),\"\",COUNTIF($B$1:B1195,TRUE))","v":930},{"$f":"Worksheet!$B$15","v":true},{"$f":"RANDBETWEEN(5,20)","v":17},"hours","±",{"$f":"IF(I1195=1,H1195*10^RANDBETWEEN(IF(Worksheet!$D$9,-1,0),0),IF(I1195=2,H1195,CHOOSE(RANDBETWEEN(1,3),5,10,20)))","v":8},{"$f":"IF(I1195=1,D1195,IF(I1195=3,\"%\",\"min\"))","v":"hours"},8,{"$f":"IF(AND(Worksheet!$D$8,RAND()<0),3,IF(RAND()<Worksheet!$D$7/100,1,2))","v":1},null," hours",{"$f":"IF(I1195=1,C1195-F1195,IF(I1195=2,C1195*60-F1195,\"\"))","v":9},{"$f":"IF($I1195=1,\" hours\",\" min\")","v":" hours"},null,"  hours",{"$f":"IF(I1195=1,C1195+F1195,IF(I1195=2,C1195*60+F1195,\"\"))","v":25},{"$f":"IF($I1195=1,\" hours\",\" min\")","v":" hours"}]
[{"$f":"IF(COUNTIF($B$1:B1196,TRUE)=COUNTIF($B$1:B1195,TRUE),\"\",COUNTIF($B$1:B1196,TRUE))","v":931},{"$f":"Worksheet!$D$11","v":true},{"$f":"RANDBETWEEN(5,RANDBETWEEN(5,Worksheet!$D$6))","v":110},"kg","±",{"$f":"IF(I1196=1,H1196*10^RANDBETWEEN(IF(Worksheet!$D$9,-1,0),0),IF(I1196=2,H1196*10^RANDBETWEEN(RANDBETWEEN(0,2),2),CHOOSE(RANDBETWEEN(1,3),5,10,20)))","v":20},{"$f":"IF(I1196=1,D1196,IF(I1196=3,\"%\",\"g\"))","v":"%"},9,{"$f":"IF(AND(Worksheet!$D$8,RAND()<0.2),3,IF(RAND()<Worksheet!$D$7/100,1,2))","v":3},{"$f":"IF(I1196=1,C1196-F1196,IF(I1196=2,C1196-F1196/1000,IF(I1196=3,(1-F1196/100)*C1196,\"\")))","v":88}," kg",{"$f":"J1196*1000","v":88000},"g",{"$f":"IF(I1196=1,C1196+F1196,IF(I1196=2,C1196+F1196/1000,IF(I1196=3,(1+F1196/100)*C1196,\"\")))","v":132},"  kg",{"$f":"N1196*1000","v":132000},"g"]
[{"$f":"IF(COUNTIF($B$1:B1197,TRUE)=COUNTIF($B$1:B1196,TRUE),\"\",COUNTIF($B$1:B1197,TRUE))","v":932},{"$f":"Worksheet!$D$12","v":true},{"$f":"RANDBETWEEN(5,RANDBETWEEN(5,Worksheet!$D$6))","v":233},"tonnes","±",{"$f":"IF(I1197=1,H1197*10^RANDBETWEEN(IF(Worksheet!$D$9,-1,0),0),IF(I1197=2,H1197*10^RANDBETWEEN(RANDBETWEEN(0,2),2),CHOOSE(RANDBETWEEN(1,3),5,10,20)))","v":0.5},{"$f":"IF(I1197=1,D1197,IF(I1197=3,\"%\",\"kg\"))","v":"tonnes"},5,{"$f":"IF(AND(Worksheet!$D$8,RAND()<0.2),3,IF(RAND()<Worksheet!$D$7/100,1,2))","v":1},{"$f":"IF(I1197=1,C1197-F1197,IF(I1197=2,C1197-F1197/1000,IF(I1197=3,(1-F1197/100)*C1197,\"\")))","v":232.5}," tonnes",{"$f":"J1197*1000","v":232500},"kg",{"$f":"IF(I1197=1,C1197+F1197,IF(I1197=2,C1197+F1197/1000,IF(I1197=3,(1+F1197/100)*C1197,\"\")))","v":233.5},"  tonnes",{"$f":"N1197*1000","v":233500},"kg"]
[{"$f":"IF(COUNTIF($B$1:B1198,TRUE)=COUNTIF($B$1:B1197,TRUE),\"\",COUNTIF($B$1:B1198,TRUE))","v":933},{"$f":"Worksheet!$D$13","v":true},{"$f":"RANDBETWEEN(5,RANDBETWEEN(5,Worksheet!$D$6))","v":291},"litres","±",{"$f":"IF(I1198=1,H1198*10^RANDBETWEEN(IF(Worksheet!$D$9,-1,0),0),IF(I1198=2,H1198*10^RANDBETWEEN(RANDBETWEEN(0,2),2),CHOOSE(RANDBETWEEN(1,3),5,10,20)))","v":100},{"$f":"IF(I1198=1,D1198,IF(I1198=3,\"%\",\"ml\"))","v":"ml"},1,{"$f":"IF(AND(Worksheet!$D$8,RAND()<0.2),3,IF(RAND()<Worksheet!$D$7/100,1,2))","v":2},{"$f":"IF(I1198=1,C1198-F1198,IF(I1198=2,C1198-F1198/1000,IF(I1198=3,(1-F1198/100)*C1198,\"\")))","v":290.89999999999998}," litres",{"$f":"J1198*1000","v":290900},"ml",{"$f":"IF(I1198=1,C1198+F1198,IF(I1198=2,C1198+F1198/1000,IF(I1198=3,(1+F1198/100)*C1198,\"\")))","v":291.10000000000002},"  litres",{"$f":"N1198*1000","v":291100},"ml"]
[{"$f":"IF(COUNTIF($B$1:B1199,TRUE)=COUNTIF($B$1:B1198,TRUE),\"\",COUNTIF($B$1:B1199,TRUE))","v":934},{"$f":"Worksheet!$D$14","v":true},{"$f":"RANDBETWEEN(5,RANDBETWEEN(5,Worksheet!$D$6))","v":77},"litres","±",{"$f":"IF(I1199=1,H1199*10^RANDBETWEEN(IF(Worksheet!$D$9,-1,0),0),IF(I1199=2,H1199*10^RANDBETWEEN(RANDBETWEEN(0,2),2),CHOOSE(RANDBETWEEN(1,3),5,10,20)))","v":0.1},{"$f":"IF(I1199=1,D1199,IF(I1199=3,\"%\",\"cm³\"))","v":"litres"},1,{"$f":"IF(AND(Worksheet!$D$8,RAND()<0.2),3,IF(RAND()<Worksheet!$D$7/100,1,2))","v":1},{"$f":"IF(I1199=1,C1199-F1199,IF(I1199=2,C1199-F1199/1000,IF(I1199=3,(1-F1199/100)*C1199,\"\")))","v":76.900000000000006}," litres",{"$f":"J1199*1000","v":76900},"cm³",{"$f":"IF(I1199=1,C1199+F1199,IF(I1199=2,C1199+F1199/1000,IF(I1199=3,(1+F1199/100)*C1199,\"\")))","v":77.099999999999994},"  litres",{"$f":"N1199*1000","v":77100},"cm³"]
[{"$f":"IF(COUNTIF($B$1:B1200,TRUE)=COUNTIF($B$1:B1199,TRUE),\"\",COUNTIF($B$1:B1200,TRUE))","v":""},{"$f":"Worksheet!$D$15","v":false},{"$f":"RANDBETWEEN(5,20)","v":7},"min","±",{"$f":"IF(I1200=1,H1200*10^RANDBETWEEN(IF(Worksheet!$D$9,-1,0),0),IF(I1200=2,H1200,CHOOSE(RANDBETWEEN(1,3),5,10,20)))","v":4},{"$f":"IF(I1200=1,D1200,IF(I1200=3,\"%\",\"sec\"))","v":"sec"},4,{"$f":"IF(AND(Worksheet!$D$8,RAND()<0),3,IF(RAND()<Worksheet!$D$7/100,1,2))","v":2},null," min",{"$f":"IF(I1200=1,C1200-F1200,IF(I1200=2,C1200*60-F1200,\"\"))","v":416},{"$f":"IF($I1200=1,\" hours\",\" min\")","v":" min"},null,"  min",{"$f":"IF(I1200=1,C1200+F1200,IF(I1200=2,C1200*60+F1200,\"\"))","v":424},{"$f":"IF($I1200=1,\" hours\",\" min\")","v":" min"}]
[{"$f":"COUNTIF($B$1:B1201,TRUE)","v":935},{"$f":"Worksheet!$B$11","v":true},{"$f":"RANDBETWEEN(5,RANDBETWEEN(5,Worksheet!$D$6))","v":153},"cm","±",{"$f":"IF(I1201=1,H1201*10^RANDBETWEEN(IF(Worksheet!$D$9,-1,0),0),IF(I1201=2,H1201,CHOOSE(RANDBETWEEN(1,3),5,10,20)))","v":1},{"$f":"IF(I1201=1,D1201,IF(I1201=3,\"%\",\"mm\"))","v":"mm"},{"$f":"RANDBETWEEN(1,MIN(9,C1201))","v":1},{"$f":"IF(AND(Worksheet!$D$8,RAND()<0.2),3,IF(RAND()<Worksheet!$D$7/100,1,2))","v":2},{"$f":"IF(I1201=1,C1201-F1201,IF(I1201=2,C1201-F1201/10,IF(I1201=3,(1-F1201/100)*C1201,\"\")))","v":152.9},{"$f":"CONCATENATE(\" \",D1201)","v":" cm"},{"$f":"J1201*10","v":1529},"mm",{"$f":"IF(I1201=1,C1201+F1201,IF(I1201=2,C1201+F1201/10,IF(I1201=3,(1+F1201/100)*C1201,\"\")))","v":153.1},{"$f":"CONCATENATE(\" \",K1201)","v":"  cm"},{"$f":"N1201*10","v":1531},"mm"]
[{"$f":"IF(COUNTIF($B$1:B1202,TRUE)=COUNTIF($B$1:B1201,TRUE),\"\",COUNTIF($B$1:B1202,TRUE))","v":936},{"$f":"Worksheet!$B$12","v":true},{"$f":"RANDBETWEEN(5,RANDBETWEEN(5,Worksheet!$D$6))","v":19},"m","±",{"$f":"IF(I1202=1,H1202*10^RANDBETWEEN(IF(Worksheet!$D$9,-1,0),0),IF(I1202=2,H1202*10^RANDBETWEEN(RANDBETWEEN(0,1),1),CHOOSE(RANDBETWEEN(1,3),5,10,20)))","v":0.70000000000000007},{"$f":"IF(I1202=1,D1202,IF(I1202=3,\"%\",\"cm\"))","v":"m"},{"$f":"RANDBETWEEN(1,MIN(9,C1202))","v":7},{"$f":"IF(AND(Worksheet!$D$8,RAND()<0.2),3,IF(RAND()<Worksheet!$D$7/100,1,2))","v":1},{"$f":"IF(I1202=1,C1202-F1202,IF(I1202=2,C1202-F1202/100,IF(I1202=3,(1-F1202/100)*C1202,\"\")))","v":18.3},{"$f":"CONCATENATE(\" \",D1202)","v":" m"},{"$f":"J1202*100","v":1830},"cm",{"$f":"IF(I1202=1,C1202+F1202,IF(I1202=2,C1202+F1202/100,IF(I1202=3,(1+F1202/100)*C1202,\"\")))","v":19.7},{"$f":"CONCATENATE(\" \",K1202)","v":"  m"},{"$f":"N1202*100","v":1970},"cm"]
[{"$f":"IF(COUNTIF($B$1:B1203,TRUE)=COUNTIF($B$1:B1202,TRUE),\"\",COUNTIF($B$1:B1203,TRUE))","v":937},{"$f":"Worksheet!$B$13","v":true},{"$f":"RANDBETWEEN(5,RANDBETWEEN(5,Worksheet!$D$6))","v":40},"km","±",{"$f":"IF(I1203=1,H1203*10^RANDBETWEEN(IF(Worksheet!$D$9,-1,0),0),IF(I1203=2,H1203*10^RANDBETWEEN(RANDBETWEEN(0,2),2),CHOOSE(RANDBETWEEN(1,3),5,10,20)))","v":0.5},{"$f":"IF(I1203=1,D1203,IF(I1203=3,\"%\",\"m\"))","v":"km"},5,{"$f":"IF(AND(Worksheet!$D$8,RAND()<0.2),3,IF(RAND()<Worksheet!$D$7/100,1,2))","v":1},{"$f":"IF(I1203=1,C1203-F1203,IF(I1203=2,C1203-F1203/1000,IF(I1203=3,(1-F1203/100)*C1203,\"\")))","v":39.5}," km",{"$f":"J1203*1000","v":39500},"m",{"$f":"IF(I1203=1,C1203+F1203,IF(I1203=2,C1203+F1203/1000,IF(I1203=3,(1+F1203/100)*C1203,\"\")))","v":40.5},"  km",{"$f":"N1203*1000","v":40500},"m"]
[{"$f":"IF(COUNTIF($B$1:B1204,TRUE)=COUNTIF($B$1:B1203,TRUE),\"\",COUNTIF($B$1:B1204,TRUE))","v":""},{"$f":"Worksheet!$B$14","v":false},{"$f":"RANDBETWEEN(5,RANDBETWEEN(5,Worksheet!$D$6))","v":46},"m","±",{"$f":"IF(I1204=1,H1204*10^RANDBETWEEN(IF(Worksheet!$D$9,-1,0),0),IF(I1204=2,H1204*10^RANDBETWEEN(RANDBETWEEN(0,2),2),CHOOSE(RANDBETWEEN(1,3),5,10,20)))","v":0.4},{"$f":"IF(I1204=1,D1204,IF(I1204=3,\"%\",\"mm\"))","v":"m"},4,{"$f":"IF(AND(Worksheet!$D$8,RAND()<0.2),3,IF(RAND()<Worksheet!$D$7/100,1,2))","v":1},{"$f":"IF(I1204=1,C1204-F1204,IF(I1204=2,C1204-F1204/1000,IF(I1204=3,(1-F1204/100)*C1204,\"\")))","v":45.6}," m",{"$f":"J1204*1000","v":45600},"mm",{"$f":"IF(I1204=1,C1204+F1204,IF(I1204=2,C1204+F1204/1000,IF(I1204=3,(1+F1204/100)*C1204,\"\")))","v":46.4},"  m",{"$f":"N1204*1000","v":46400},"mm"]
[{"$f":"IF(COUNTIF($B$1:B1205,TRUE)=COUNTIF($B$1:B1204,TRUE),\"\",COUNTIF($B$1:B1205,TRUE))","v":938},{"$f":"Worksheet!$B$15","v":true},{"$f":"RANDBETWEEN(5,20)","v":10},"hours","±",{"$f":"IF(I1205=1,H1205*10^RANDBETWEEN(IF(Worksheet!$D$9,-1,0),0),IF(I1205=2,H1205,CHOOSE(RANDBETWEEN(1,3),5,10,20)))","v":0.5},{"$f":"IF(I1205=1,D1205,IF(I1205=3,\"%\",\"min\"))","v":"hours"},5,{"$f":"IF(AND(Worksheet!$D$8,RAND()<0),3,IF(RAND()<Worksheet!$D$7/100,1,2))","v":1},null," hours",{"$f":"IF(I1205=1,C1205-F1205,IF(I1205=2,C1205*60-F1205,\"\"))","v":9.5},{"$f":"IF($I1205=1,\" hours\",\" min\")","v":" hours"},null,"  hours",{"$f":"IF(I1205=1,C1205+F1205,IF(I1205=2,C1205*60+F1205,\"\"))","v":10.5},{"$f":"IF($I1205=1,\" hours\",\" min\")","v":" hours"}]
[{"$f":"IF(COUNTIF($B$1:B1206,TRUE)=COUNTIF($B$1:B1205,TRUE),\"\",COUNTIF($B$1:B1206,TRUE))","v":939},{"$f":"Worksheet!$D$11","v":true},{"$f":"RANDBETWEEN(5,RANDBETWEEN(5,Worksheet!$D$6))","v":223},"kg","±",{"$f":"IF(I1206=1,H1206*10^RANDBETWEEN(IF(Worksheet!$D$9,-1,0),0),IF(I1206=2,H1206*10^RANDBETWEEN(RANDBETWEEN(0,2),2),CHOOSE(RANDBETWEEN(1,3),5,10,20)))","v":5},{"$f":"IF(I1206=1,D1206,IF(I1206=3,\"%\",\"g\"))","v":"kg"},5,{"$f":"IF(AND(Worksheet!$D$8,RAND()<0.2),3,IF(RAND()<Worksheet!$D$7/100,1,2))","v":1},{"$f":"IF(I1206=1,C1206-F1206,IF(I1206=2,C1206-F1206/1000,IF(I1206=3,(1-F1206/100)*C1206,\"\")))","v":218}," kg",{"$f":"J1206*1000","v":218000},"g",{"$f":"IF(I1206=1,C1206+F1206,IF(I1206=2,C1206+F1206/1000,IF(I1206=3,(1+F1206/100)*C1206,\"\")))","v":228},"  kg",{"$f":"N1206*1000","v":228000},"g"]
[{"$f":"IF(COUNTIF($B$1:B1207,TRUE)=COUNTIF($B$1:B1206,TRUE),\"\",COUNTIF($B$1:B1207,TRUE))","v":940},{"$f":"Worksheet!$D$12","v":true},{"$f":"RANDBETWEEN(5,RANDBETWEEN(5,Worksheet!$D$6))","v":33},"tonnes","±",{"$f":"IF(I1207=1,H1207*10^RANDBETWEEN(IF(Worksheet!$D$9,-1,0),0),IF(I1207=2,H1207*10^RANDBETWEEN(RANDBETWEEN(0,2),2),CHOOSE(RANDBETWEEN(1,3),5,10,20)))","v":8},{"$f":"IF(I1207=1,D1207,IF(I1207=3,\"%\",\"kg\"))","v":"tonnes"},8,{"$f":"IF(AND(Worksheet!$D$8,RAND()<0.2),3,IF(RAND()<Worksheet!$D$7/100,1,2))","v":1},{"$f":"IF(I1207=1,C1207-F1207,IF(I1207=2,C1207-F1207/1000,IF(I1207=3,(1-F1207/100)*C1207,\"\")))","v":25}," tonnes",{"$f":"J1207*1000","v":25000},"kg",{"$f":"IF(I1207=1,C1207+F1207,IF(I1207=2,C1207+F1207/1000,IF(I1207=3,(1+F1207/100)*C1207,\"\")))","v":41},"  tonnes",{"$f":"N1207*1000","v":41000},"kg"]
[{"$f":"IF(COUNTIF($B$1:B1208,TRUE)=COUNTIF($B$1:B1207,TRUE),\"\",COUNTIF($B$1:B1208,TRUE))","v":941},{"$f":"Worksheet!$D$13","v":true},{"$f":"RANDBETWEEN(5,RANDBETWEEN(5,Worksheet!$D$6))","v":78},"litres","±",{"$f":"IF(I1208=1,H1208*10^RANDBETWEEN(IF(Worksheet!$D$9,-1,0),0),IF(I1208=2,H1208*10^RANDBETWEEN(RANDBETWEEN(0,2),2),CHOOSE(RANDBETWEEN(1,3),5,10,20)))","v":4},{"$f":"IF(I1208=1,D1208,IF(I1208=3,\"%\",\"ml\"))","v":"litres"},4,{"$f":"IF(AND(Worksheet!$D$8,RAND()<0.2),3,IF(RAND()<Worksheet!$D$7/100,1,2))","v":1},{"$f":"IF(I1208=1,C1208-F1208,IF(I1208=2,C1208-F1208/1000,IF(I1208=3,(1-F1208/100)*C1208,\"\")))","v":74}," litres",{"$f":"J1208*1000","v":74000},"ml",{"$f":"IF(I1208=1,C1208+F1208,IF(I1208=2,C1208+F1208/1000,IF(I1208=3,(1+F1208/100)*C1208,\"\")))","v":82},"  litres",{"$f":"N1208*1000","v":82000},"ml"]
[{"$f":"IF(COUNTIF($B$1:B1209,TRUE)=COUNTIF($B$1:B1208,TRUE),\"\",COUNTIF($B$1:B1209,TRUE))","v":942},{"$f":"Worksheet!$D$14","v":true},{"$f":"RANDBETWEEN(5,RANDBETWEEN(5,Worksheet!$D$6))","v":82},"litres","±",{"$f":"IF(I1209=1,H1209*10^RANDBETWEEN(IF(Worksheet!$D$9,-1,0),0),IF(I1209=2,H1209*10^RANDBETWEEN(RANDBETWEEN(0,2),2),CHOOSE(RANDBETWEEN(1,3),5,10,20)))","v":0.1},{"$f":"IF(I1209=1,D1209,IF(I1209=3,\"%\",\"cm³\"))","v":"litres"},1,{"$f":"IF(AND(Worksheet!$D$8,RAND()<0.2),3,IF(RAND()<Worksheet!$D$7/100,1,2))","v":1},{"$f":"IF(I1209=1,C1209-F1209,IF(I1209=2,C1209-F1209/1000,IF(I1209=3,(1-F1209/100)*C1209,\"\")))","v":81.900000000000006}," litres",{"$f":"J1209*1000","v":81900},"cm³",{"$f":"IF(I1209=1,C1209+F1209,IF(I1209=2,C1209+F1209/1000,IF(I1209=3,(1+F1209/100)*C1209,\"\")))","v":82.1},"  litres",{"$f":"N1209*1000","v":82100},"cm³"]
[{"$f":"IF(COUNTIF($B$1:B1210,TRUE)=COUNTIF($B$1:B1209,TRUE),\"\",COUNTIF($B$1:B1210,TRUE))","v":""},{"$f":"Worksheet!$D$15","v":false},{"$f":"RANDBETWEEN(5,20)","v":18},"min","±",{"$f":"IF(I1210=1,H1210*10^RANDBETWEEN(IF(Worksheet!$D$9,-1,0),0),IF(I1210=2,H1210,CHOOSE(RANDBETWEEN(1,3),5,10,20)))","v":5},{"$f":"IF(I1210=1,D1210,IF(I1210=3,\"%\",\"sec\"))","v":"min"},5,{"$f":"IF(AND(Worksheet!$D$8,RAND()<0),3,IF(RAND()<Worksheet!$D$7/100,1,2))","v":1},null," min",{"$f":"IF(I1210=1,C1210-F1210,IF(I1210=2,C1210*60-F1210,\"\"))","v":13},{"$f":"IF($I1210=1,\" hours\",\" min\")","v":" hours"},null,"  min",{"$f":"IF(I1210=1,C1210+F1210,IF(I1210=2,C1210*60+F1210,\"\"))","v":23},{"$f":"IF($I1210=1,\" hours\",\" min\")","v":" hours"}]
[{"$f":"COUNTIF($B$1:B1211,TRUE)","v":943},{"$f":"Worksheet!$B$11","v":true},{"$f":"RANDBETWEEN(5,RANDBETWEEN(5,Worksheet!$D$6))","v":64},"cm","±",{"$f":"IF(I1211=1,H1211*10^RANDBETWEEN(IF(Worksheet!$D$9,-1,0),0),IF(I1211=2,H1211,CHOOSE(RANDBETWEEN(1,3),5,10,20)))","v":0.30000000000000004},{"$f":"IF(I1211=1,D1211,IF(I1211=3,\"%\",\"mm\"))","v":"cm"},{"$f":"RANDBETWEEN(1,MIN(9,C1211))","v":3},{"$f":"IF(AND(Worksheet!$D$8,RAND()<0.2),3,IF(RAND()<Worksheet!$D$7/100,1,2))","v":1},{"$f":"IF(I1211=1,C1211-F1211,IF(I1211=2,C1211-F1211/10,IF(I1211=3,(1-F1211/100)*C1211,\"\")))","v":63.7},{"$f":"CONCATENATE(\" \",D1211)","v":" cm"},{"$f":"J1211*10","v":637},"mm",{"$f":"IF(I1211=1,C1211+F1211,IF(I1211=2,C1211+F1211/10,IF(I1211=3,(1+F1211/100)*C1211,\"\")))","v":64.3},{"$f":"CONCATENATE(\" \",K1211)","v":"  cm"},{"$f":"N1211*10","v":643},"mm"]
[{"$f":"IF(COUNTIF($B$1:B1212,TRUE)=COUNTIF($B$1:B1211,TRUE),\"\",COUNTIF($B$1:B1212,TRUE))","v":944},{"$f":"Worksheet!$B$12","v":true},{"$f":"RANDBETWEEN(5,RANDBETWEEN(5,Worksheet!$D$6))","v":199},"m","±",{"$f":"IF(I1212=1,H1212*10^RANDBETWEEN(IF(Worksheet!$D$9,-1,0),0),IF(I1212=2,H1212*10^RANDBETWEEN(RANDBETWEEN(0,1),1),CHOOSE(RANDBETWEEN(1,3),5,10,20)))","v":6},{"$f":"IF(I1212=1,D1212,IF(I1212=3,\"%\",\"cm\"))","v":"m"},{"$f":"RANDBETWEEN(1,MIN(9,C1212))","v":6},{"$f":"IF(AND(Worksheet!$D$8,RAND()<0.2),3,IF(RAND()<Worksheet!$D$7/100,1,2))","v":1},{"$f":"IF(I1212=1,C1212-F1212,IF(I1212=2,C1212-F1212/100,IF(I1212=3,(1-F1212/100)*C1212,\"\")))","v":193},{"$f":"CONCATENATE(\" \",D1212)","v":" m"},{"$f":"J1212*100","v":19300},"cm",{"$f":"IF(I1212=1,C1212+F1212,IF(I1212=2,C1212+F1212/100,IF(I1212=3,(1+F1212/100)*C1212,\"\")))","v":205},{"$f":"CONCATENATE(\" \",K1212)","v":"  m"},{"$f":"N1212*100","v":20500},"cm"]
[{"$f":"IF(COUNTIF($B$1:B1213,TRUE)=COUNTIF($B$1:B1212,TRUE),\"\",COUNTIF($B$1:B1213,TRUE))","v":945},{"$f":"Worksheet!$B$13","v":true},{"$f":"RANDBETWEEN(5,RANDBETWEEN(5,Worksheet!$D$6))","v":10},"km","±",{"$f":"IF(I1213=1,H1213*10^RANDBETWEEN(IF(Worksheet!$D$9,-1,0),0),IF(I1213=2,H1213*10^RANDBETWEEN(RANDBETWEEN(0,2),2),CHOOSE(RANDBETWEEN(1,3),5,10,20)))","v":2},{"$f":"IF(I1213=1,D1213,IF(I1213=3,\"%\",\"m\"))","v":"km"},2,{"$f":"IF(AND(Worksheet!$D$8,RAND()<0.2),3,IF(RAND()<Worksheet!$D$7/100,1,2))","v":1},{"$f":"IF(I1213=1,C1213-F1213,IF(I1213=2,C1213-F1213/1000,IF(I1213=3,(1-F1213/100)*C1213,\"\")))","v":8}," km",{"$f":"J1213*1000","v":8000},"m",{"$f":"IF(I1213=1,C1213+F1213,IF(I1213=2,C1213+F1213/1000,IF(I1213=3,(1+F1213/100)*C1213,\"\")))","v":12},"  km",{"$f":"N1213*1000","v":12000},"m"]
[{"$f":"IF(COUNTIF($B$1:B1214,TRUE)=COUNTIF($B$1:B1213,TRUE),\"\",COUNTIF($B$1:B1214,TRUE))","v":""},{"$f":"Worksheet!$B$14","v":false},{"$f":"RANDBETWEEN(5,RANDBETWEEN(5,Worksheet!$D$6))","v":75},"m","±",{"$f":"IF(I1214=1,H1214*10^RANDBETWEEN(IF(Worksheet!$D$9,-1,0),0),IF(I1214=2,H1214*10^RANDBETWEEN(RANDBETWEEN(0,2),2),CHOOSE(RANDBETWEEN(1,3),5,10,20)))","v":10},{"$f":"IF(I1214=1,D1214,IF(I1214=3,\"%\",\"mm\"))","v":"%"},7,{"$f":"IF(AND(Worksheet!$D$8,RAND()<0.2),3,IF(RAND()<Worksheet!$D$7/100,1,2))","v":3},{"$f":"IF(I1214=1,C1214-F1214,IF(I1214=2,C1214-F1214/1000,IF(I1214=3,(1-F1214/100)*C1214,\"\")))","v":67.5}," m",{"$f":"J1214*1000","v":67500},"mm",{"$f":"IF(I1214=1,C1214+F1214,IF(I1214=2,C1214+F1214/1000,IF(I1214=3,(1+F1214/100)*C1214,\"\")))","v":82.5},"  m",{"$f":"N1214*1000","v":82500},"mm"]
[{"$f":"IF(COUNTIF($B$1:B1215,TRUE)=COUNTIF($B$1:B1214,TRUE),\"\",COUNTIF($B$1:B1215,TRUE))","v":946},{"$f":"Worksheet!$B$15","v":true},{"$f":"RANDBETWEEN(5,20)","v":7},"hours","±",{"$f":"IF(I1215=1,H1215*10^RANDBETWEEN(IF(Worksheet!$D$9,-1,0),0),IF(I1215=2,H1215,CHOOSE(RANDBETWEEN(1,3),5,10,20)))","v":5},{"$f":"IF(I1215=1,D1215,IF(I1215=3,\"%\",\"min\"))","v":"min"},5,{"$f":"IF(AND(Worksheet!$D$8,RAND()<0),3,IF(RAND()<Worksheet!$D$7/100,1,2))","v":2},null," hours",{"$f":"IF(I1215=1,C1215-F1215,IF(I1215=2,C1215*60-F1215,\"\"))","v":415},{"$f":"IF($I1215=1,\" hours\",\" min\")","v":" min"},null,"  hours",{"$f":"IF(I1215=1,C1215+F1215,IF(I1215=2,C1215*60+F1215,\"\"))","v":425},{"$f":"IF($I1215=1,\" hours\",\" min\")","v":" min"}]
[{"$f":"IF(COUNTIF($B$1:B1216,TRUE)=COUNTIF($B$1:B1215,TRUE),\"\",COUNTIF($B$1:B1216,TRUE))","v":947},{"$f":"Worksheet!$D$11","v":true},{"$f":"RANDBETWEEN(5,RANDBETWEEN(5,Worksheet!$D$6))","v":318},"kg","±",{"$f":"IF(I1216=1,H1216*10^RANDBETWEEN(IF(Worksheet!$D$9,-1,0),0),IF(I1216=2,H1216*10^RANDBETWEEN(RANDBETWEEN(0,2),2),CHOOSE(RANDBETWEEN(1,3),5,10,20)))","v":20},{"$f":"IF(I1216=1,D1216,IF(I1216=3,\"%\",\"g\"))","v":"%"},3,{"$f":"IF(AND(Worksheet!$D$8,RAND()<0.2),3,IF(RAND()<Worksheet!$D$7/100,1,2))","v":3},{"$f":"IF(I1216=1,C1216-F1216,IF(I1216=2,C1216-F1216/1000,IF(I1216=3,(1-F1216/100)*C1216,\"\")))","v":254.4}," kg",{"$f":"J1216*1000","v":254400},"g",{"$f":"IF(I1216=1,C1216+F1216,IF(I1216=2,C1216+F1216/1000,IF(I1216=3,(1+F1216/100)*C1216,\"\")))","v":381.59999999999997},"  kg",{"$f":"N1216*1000","v":381599.99999999994},"g"]
[{"$f":"IF(COUNTIF($B$1:B1217,TRUE)=COUNTIF($B$1:B1216,TRUE),\"\",COUNTIF($B$1:B1217,TRUE))","v":948},{"$f":"Worksheet!$D$12","v":true},{"$f":"RANDBETWEEN(5,RANDBETWEEN(5,Worksheet!$D$6))","v":20},"tonnes","±",{"$f":"IF(I1217=1,H1217*10^RANDBETWEEN(IF(Worksheet!$D$9,-1,0),0),IF(I1217=2,H1217*10^RANDBETWEEN(RANDBETWEEN(0,2),2),CHOOSE(RANDBETWEEN(1,3),5,10,20)))","v":0.60000000000000009},{"$f":"IF(I1217=1,D1217,IF(I1217=3,\"%\",\"kg\"))","v":"tonnes"},6,{"$f":"IF(AND(Worksheet!$D$8,RAND()<0.2),3,IF(RAND()<Worksheet!$D$7/100,1,2))","v":1},{"$f":"IF(I1217=1,C1217-F1217,IF(I1217=2,C1217-F1217/1000,IF(I1217=3,(1-F1217/100)*C1217,\"\")))","v":19.399999999999999}," tonnes",{"$f":"J1217*1000","v":19400},"kg",{"$f":"IF(I1217=1,C1217+F1217,IF(I1217=2,C1217+F1217/1000,IF(I1217=3,(1+F1217/100)*C1217,\"\")))","v":20.6},"  tonnes",{"$f":"N1217*1000","v":20600},"kg"]
[{"$f":"IF(COUNTIF($B$1:B1218,TRUE)=COUNTIF($B$1:B1217,TRUE),\"\",COUNTIF($B$1:B1218,TRUE))","v":949},{"$f":"Worksheet!$D$13","v":true},{"$f":"RANDBETWEEN(5,RANDBETWEEN(5,Worksheet!$D$6))","v":5},"litres","±",{"$f":"IF(I1218=1,H1218*10^RANDBETWEEN(IF(Worksheet!$D$9,-1,0),0),IF(I1218=2,H1218*10^RANDBETWEEN(RANDBETWEEN(0,2),2),CHOOSE(RANDBETWEEN(1,3),5,10,20)))","v":10},{"$f":"IF(I1218=1,D1218,IF(I1218=3,\"%\",\"ml\"))","v":"%"},5,{"$f":"IF(AND(Worksheet!$D$8,RAND()<0.2),3,IF(RAND()<Worksheet!$D$7/100,1,2))","v":3},{"$f":"IF(I1218=1,C1218-F1218,IF(I1218=2,C1218-F1218/1000,IF(I1218=3,(1-F1218/100)*C1218,\"\")))","v":4.5}," litres",{"$f":"J1218*1000","v":4500},"ml",{"$f":"IF(I1218=1,C1218+F1218,IF(I1218=2,C1218+F1218/1000,IF(I1218=3,(1+F1218/100)*C1218,\"\")))","v":5.5},"  litres",{"$f":"N1218*1000","v":5500},"ml"]
[{"$f":"IF(COUNTIF($B$1:B1219,TRUE)=COUNTIF($B$1:B1218,TRUE),\"\",COUNTIF($B$1:B1219,TRUE))","v":950},{"$f":"Worksheet!$D$14","v":true},{"$f":"RANDBETWEEN(5,RANDBETWEEN(5,Worksheet!$D$6))","v":205},"litres","±",{"$f":"IF(I1219=1,H1219*10^RANDBETWEEN(IF(Worksheet!$D$9,-1,0),0),IF(I1219=2,H1219*10^RANDBETWEEN(RANDBETWEEN(0,2),2),CHOOSE(RANDBETWEEN(1,3),5,10,20)))","v":0.8},{"$f":"IF(I1219=1,D1219,IF(I1219=3,\"%\",\"cm³\"))","v":"litres"},8,{"$f":"IF(AND(Worksheet!$D$8,RAND()<0.2),3,IF(RAND()<Worksheet!$D$7/100,1,2))","v":1},{"$f":"IF(I1219=1,C1219-F1219,IF(I1219=2,C1219-F1219/1000,IF(I1219=3,(1-F1219/100)*C1219,\"\")))","v":204.2}," litres",{"$f":"J1219*1000","v":204200},"cm³",{"$f":"IF(I1219=1,C1219+F1219,IF(I1219=2,C1219+F1219/1000,IF(I1219=3,(1+F1219/100)*C1219,\"\")))","v":205.8},"  litres",{"$f":"N1219*1000","v":205800},"cm³"]
[{"$f":"IF(COUNTIF($B$1:B1220,TRUE)=COUNTIF($B$1:B1219,TRUE),\"\",COUNTIF($B$1:B1220,TRUE))","v":""},{"$f":"Worksheet!$D$15","v":false},{"$f":"RANDBETWEEN(5,20)","v":16},"min","±",{"$f":"IF(I1220=1,H1220*10^RANDBETWEEN(IF(Worksheet!$D$9,-1,0),0),IF(I1220=2,H1220,CHOOSE(RANDBETWEEN(1,3),5,10,20)))","v":7},{"$f":"IF(I1220=1,D1220,IF(I1220=3,\"%\",\"sec\"))","v":"min"},7,{"$f":"IF(AND(Worksheet!$D$8,RAND()<0),3,IF(RAND()<Worksheet!$D$7/100,1,2))","v":1},null," min",{"$f":"IF(I1220=1,C1220-F1220,IF(I1220=2,C1220*60-F1220,\"\"))","v":9},{"$f":"IF($I1220=1,\" hours\",\" min\")","v":" hours"},null,"  min",{"$f":"IF(I1220=1,C1220+F1220,IF(I1220=2,C1220*60+F1220,\"\"))","v":23},{"$f":"IF($I1220=1,\" hours\",\" min\")","v":" hours"}]
[{"$f":"COUNTIF($B$1:B1221,TRUE)","v":951},{"$f":"Worksheet!$B$11","v":true},{"$f":"RANDBETWEEN(5,RANDBETWEEN(5,Worksheet!$D$6))","v":91},"cm","±",{"$f":"IF(I1221=1,H1221*10^RANDBETWEEN(IF(Worksheet!$D$9,-1,0),0),IF(I1221=2,H1221,CHOOSE(RANDBETWEEN(1,3),5,10,20)))","v":0.2},{"$f":"IF(I1221=1,D1221,IF(I1221=3,\"%\",\"mm\"))","v":"cm"},{"$f":"RANDBETWEEN(1,MIN(9,C1221))","v":2},{"$f":"IF(AND(Worksheet!$D$8,RAND()<0.2),3,IF(RAND()<Worksheet!$D$7/100,1,2))","v":1},{"$f":"IF(I1221=1,C1221-F1221,IF(I1221=2,C1221-F1221/10,IF(I1221=3,(1-F1221/100)*C1221,\"\")))","v":90.8},{"$f":"CONCATENATE(\" \",D1221)","v":" cm"},{"$f":"J1221*10","v":908},"mm",{"$f":"IF(I1221=1,C1221+F1221,IF(I1221=2,C1221+F1221/10,IF(I1221=3,(1+F1221/100)*C1221,\"\")))","v":91.2},{"$f":"CONCATENATE(\" \",K1221)","v":"  cm"},{"$f":"N1221*10","v":912},"mm"]
[{"$f":"IF(COUNTIF($B$1:B1222,TRUE)=COUNTIF($B$1:B1221,TRUE),\"\",COUNTIF($B$1:B1222,TRUE))","v":952},{"$f":"Worksheet!$B$12","v":true},{"$f":"RANDBETWEEN(5,RANDBETWEEN(5,Worksheet!$D$6))","v":205},"m","±",{"$f":"IF(I1222=1,H1222*10^RANDBETWEEN(IF(Worksheet!$D$9,-1,0),0),IF(I1222=2,H1222*10^RANDBETWEEN(RANDBETWEEN(0,1),1),CHOOSE(RANDBETWEEN(1,3),5,10,20)))","v":6},{"$f":"IF(I1222=1,D1222,IF(I1222=3,\"%\",\"cm\"))","v":"cm"},{"$f":"RANDBETWEEN(1,MIN(9,C1222))","v":6},{"$f":"IF(AND(Worksheet!$D$8,RAND()<0.2),3,IF(RAND()<Worksheet!$D$7/100,1,2))","v":2},{"$f":"IF(I1222=1,C1222-F1222,IF(I1222=2,C1222-F1222/100,IF(I1222=3,(1-F1222/100)*C1222,\"\")))","v":204.94},{"$f":"CONCATENATE(\" \",D1222)","v":" m"},{"$f":"J1222*100","v":20494},"cm",{"$f":"IF(I1222=1,C1222+F1222,IF(I1222=2,C1222+F1222/100,IF(I1222=3,(1+F1222/100)*C1222,\"\")))","v":205.06},{"$f":"CONCATENATE(\" \",K1222)","v":"  m"},{"$f":"N1222*100","v":20506},"cm"]
[{"$f":"IF(COUNTIF($B$1:B1223,TRUE)=COUNTIF($B$1:B1222,TRUE),\"\",COUNTIF($B$1:B1223,TRUE))","v":953},{"$f":"Worksheet!$B$13","v":true},{"$f":"RANDBETWEEN(5,RANDBETWEEN(5,Worksheet!$D$6))","v":7},"km","±",{"$f":"IF(I1223=1,H1223*10^RANDBETWEEN(IF(Worksheet!$D$9,-1,0),0),IF(I1223=2,H1223*10^RANDBETWEEN(RANDBETWEEN(0,2),2),CHOOSE(RANDBETWEEN(1,3),5,10,20)))","v":10},{"$f":"IF(I1223=1,D1223,IF(I1223=3,\"%\",\"m\"))","v":"%"},6,{"$f":"IF(AND(Worksheet!$D$8,RAND()<0.2),3,IF(RAND()<Worksheet!$D$7/100,1,2))","v":3},{"$f":"IF(I1223=1,C1223-F1223,IF(I1223=2,C1223-F1223/1000,IF(I1223=3,(1-F1223/100)*C1223,\"\")))","v":6.3}," km",{"$f":"J1223*1000","v":6300},"m",{"$f":"IF(I1223=1,C1223+F1223,IF(I1223=2,C1223+F1223/1000,IF(I1223=3,(1+F1223/100)*C1223,\"\")))","v":7.7000000000000011},"  km",{"$f":"N1223*1000","v":7700.0000000000009},"m"]
[{"$f":"IF(COUNTIF($B$1:B1224,TRUE)=COUNTIF($B$1:B1223,TRUE),\"\",COUNTIF($B$1:B1224,TRUE))","v":""},{"$f":"Worksheet!$B$14","v":false},{"$f":"RANDBETWEEN(5,RANDBETWEEN(5,Worksheet!$D$6))","v":93},"m","±",{"$f":"IF(I1224=1,H1224*10^RANDBETWEEN(IF(Worksheet!$D$9,-1,0),0),IF(I1224=2,H1224*10^RANDBETWEEN(RANDBETWEEN(0,2),2),CHOOSE(RANDBETWEEN(1,3),5,10,20)))","v":5},{"$f":"IF(I1224=1,D1224,IF(I1224=3,\"%\",\"mm\"))","v":"%"},7,{"$f":"IF(AND(Worksheet!$D$8,RAND()<0.2),3,IF(RAND()<Worksheet!$D$7/100,1,2))","v":3},{"$f":"IF(I1224=1,C1224-F1224,IF(I1224=2,C1224-F1224/1000,IF(I1224=3,(1-F1224/100)*C1224,\"\")))","v":88.35}," m",{"$f":"J1224*1000","v":88350},"mm",{"$f":"IF(I1224=1,C1224+F1224,IF(I1224=2,C1224+F1224/1000,IF(I1224=3,(1+F1224/100)*C1224,\"\")))","v":97.65},"  m",{"$f":"N1224*1000","v":97650},"mm"]
[{"$f":"IF(COUNTIF($B$1:B1225,TRUE)=COUNTIF($B$1:B1224,TRUE),\"\",COUNTIF($B$1:B1225,TRUE))","v":954},{"$f":"Worksheet!$B$15","v":true},{"$f":"RANDBETWEEN(5,20)","v":19},"hours","±",{"$f":"IF(I1225=1,H1225*10^RANDBETWEEN(IF(Worksheet!$D$9,-1,0),0),IF(I1225=2,H1225,CHOOSE(RANDBETWEEN(1,3),5,10,20)))","v":0.9},{"$f":"IF(I1225=1,D1225,IF(I1225=3,\"%\",\"min\"))","v":"hours"},9,{"$f":"IF(AND(Worksheet!$D$8,RAND()<0),3,IF(RAND()<Worksheet!$D$7/100,1,2))","v":1},null," hours",{"$f":"IF(I1225=1,C1225-F1225,IF(I1225=2,C1225*60-F1225,\"\"))","v":18.100000000000001},{"$f":"IF($I1225=1,\" hours\",\" min\")","v":" hours"},null,"  hours",{"$f":"IF(I1225=1,C1225+F1225,IF(I1225=2,C1225*60+F1225,\"\"))","v":19.899999999999999},{"$f":"IF($I1225=1,\" hours\",\" min\")","v":" hours"}]
[{"$f":"IF(COUNTIF($B$1:B1226,TRUE)=COUNTIF($B$1:B1225,TRUE),\"\",COUNTIF($B$1:B1226,TRUE))","v":955},{"$f":"Worksheet!$D$11","v":true},{"$f":"RANDBETWEEN(5,RANDBETWEEN(5,Worksheet!$D$6))","v":211},"kg","±",{"$f":"IF(I1226=1,H1226*10^RANDBETWEEN(IF(Worksheet!$D$9,-1,0),0),IF(I1226=2,H1226*10^RANDBETWEEN(RANDBETWEEN(0,2),2),CHOOSE(RANDBETWEEN(1,3),5,10,20)))","v":400},{"$f":"IF(I1226=1,D1226,IF(I1226=3,\"%\",\"g\"))","v":"g"},4,{"$f":"IF(AND(Worksheet!$D$8,RAND()<0.2),3,IF(RAND()<Worksheet!$D$7/100,1,2))","v":2},{"$f":"IF(I1226=1,C1226-F1226,IF(I1226=2,C1226-F1226/1000,IF(I1226=3,(1-F1226/100)*C1226,\"\")))","v":210.6}," kg",{"$f":"J1226*1000","v":210600},"g",{"$f":"IF(I1226=1,C1226+F1226,IF(I1226=2,C1226+F1226/1000,IF(I1226=3,(1+F1226/100)*C1226,\"\")))","v":211.4},"  kg",{"$f":"N1226*1000","v":211400},"g"]
[{"$f":"IF(COUNTIF($B$1:B1227,TRUE)=COUNTIF($B$1:B1226,TRUE),\"\",COUNTIF($B$1:B1227,TRUE))","v":956},{"$f":"Worksheet!$D$12","v":true},{"$f":"RANDBETWEEN(5,RANDBETWEEN(5,Worksheet!$D$6))","v":46},"tonnes","±",{"$f":"IF(I1227=1,H1227*10^RANDBETWEEN(IF(Worksheet!$D$9,-1,0),0),IF(I1227=2,H1227*10^RANDBETWEEN(RANDBETWEEN(0,2),2),CHOOSE(RANDBETWEEN(1,3),5,10,20)))","v":8},{"$f":"IF(I1227=1,D1227,IF(I1227=3,\"%\",\"kg\"))","v":"tonnes"},8,{"$f":"IF(AND(Worksheet!$D$8,RAND()<0.2),3,IF(RAND()<Worksheet!$D$7/100,1,2))","v":1},{"$f":"IF(I1227=1,C1227-F1227,IF(I1227=2,C1227-F1227/1000,IF(I1227=3,(1-F1227/100)*C1227,\"\")))","v":38}," tonnes",{"$f":"J1227*1000","v":38000},"kg",{"$f":"IF(I1227=1,C1227+F1227,IF(I1227=2,C1227+F1227/1000,IF(I1227=3,(1+F1227/100)*C1227,\"\")))","v":54},"  tonnes",{"$f":"N1227*1000","v":54000},"kg"]
[{"$f":"IF(COUNTIF($B$1:B1228,TRUE)=COUNTIF($B$1:B1227,TRUE),\"\",COUNTIF($B$1:B1228,TRUE))","v":957},{"$f":"Worksheet!$D$13","v":true},{"$f":"RANDBETWEEN(5,RANDBETWEEN(5,Worksheet!$D$6))","v":137},"litres","±",{"$f":"IF(I1228=1,H1228*10^RANDBETWEEN(IF(Worksheet!$D$9,-1,0),0),IF(I1228=2,H1228*10^RANDBETWEEN(RANDBETWEEN(0,2),2),CHOOSE(RANDBETWEEN(1,3),5,10,20)))","v":0.9},{"$f":"IF(I1228=1,D1228,IF(I1228=3,\"%\",\"ml\"))","v":"litres"},9,{"$f":"IF(AND(Worksheet!$D$8,RAND()<0.2),3,IF(RAND()<Worksheet!$D$7/100,1,2))","v":1},{"$f":"IF(I1228=1,C1228-F1228,IF(I1228=2,C1228-F1228/1000,IF(I1228=3,(1-F1228/100)*C1228,\"\")))","v":136.1}," litres",{"$f":"J1228*1000","v":136100},"ml",{"$f":"IF(I1228=1,C1228+F1228,IF(I1228=2,C1228+F1228/1000,IF(I1228=3,(1+F1228/100)*C1228,\"\")))","v":137.9},"  litres",{"$f":"N1228*1000","v":137900},"ml"]
[{"$f":"IF(COUNTIF($B$1:B1229,TRUE)=COUNTIF($B$1:B1228,TRUE),\"\",COUNTIF($B$1:B1229,TRUE))","v":958},{"$f":"Worksheet!$D$14","v":true},{"$f":"RANDBETWEEN(5,RANDBETWEEN(5,Worksheet!$D$6))","v":41},"litres","±",{"$f":"IF(I1229=1,H1229*10^RANDBETWEEN(IF(Worksheet!$D$9,-1,0),0),IF(I1229=2,H1229*10^RANDBETWEEN(RANDBETWEEN(0,2),2),CHOOSE(RANDBETWEEN(1,3),5,10,20)))","v":5},{"$f":"IF(I1229=1,D1229,IF(I1229=3,\"%\",\"cm³\"))","v":"%"},6,{"$f":"IF(AND(Worksheet!$D$8,RAND()<0.2),3,IF(RAND()<Worksheet!$D$7/100,1,2))","v":3},{"$f":"IF(I1229=1,C1229-F1229,IF(I1229=2,C1229-F1229/1000,IF(I1229=3,(1-F1229/100)*C1229,\"\")))","v":38.949999999999996}," litres",{"$f":"J1229*1000","v":38949.999999999993},"cm³",{"$f":"IF(I1229=1,C1229+F1229,IF(I1229=2,C1229+F1229/1000,IF(I1229=3,(1+F1229/100)*C1229,\"\")))","v":43.050000000000004},"  litres",{"$f":"N1229*1000","v":43050.000000000007},"cm³"]
[{"$f":"IF(COUNTIF($B$1:B1230,TRUE)=COUNTIF($B$1:B1229,TRUE),\"\",COUNTIF($B$1:B1230,TRUE))","v":""},{"$f":"Worksheet!$D$15","v":false},{"$f":"RANDBETWEEN(5,20)","v":17},"min","±",{"$f":"IF(I1230=1,H1230*10^RANDBETWEEN(IF(Worksheet!$D$9,-1,0),0),IF(I1230=2,H1230,CHOOSE(RANDBETWEEN(1,3),5,10,20)))","v":0.5},{"$f":"IF(I1230=1,D1230,IF(I1230=3,\"%\",\"sec\"))","v":"min"},5,{"$f":"IF(AND(Worksheet!$D$8,RAND()<0),3,IF(RAND()<Worksheet!$D$7/100,1,2))","v":1},null," min",{"$f":"IF(I1230=1,C1230-F1230,IF(I1230=2,C1230*60-F1230,\"\"))","v":16.5},{"$f":"IF($I1230=1,\" hours\",\" min\")","v":" hours"},null,"  min",{"$f":"IF(I1230=1,C1230+F1230,IF(I1230=2,C1230*60+F1230,\"\"))","v":17.5},{"$f":"IF($I1230=1,\" hours\",\" min\")","v":" hours"}]
[{"$f":"COUNTIF($B$1:B1231,TRUE)","v":959},{"$f":"Worksheet!$B$11","v":true},{"$f":"RANDBETWEEN(5,RANDBETWEEN(5,Worksheet!$D$6))","v":201},"cm","±",{"$f":"IF(I1231=1,H1231*10^RANDBETWEEN(IF(Worksheet!$D$9,-1,0),0),IF(I1231=2,H1231,CHOOSE(RANDBETWEEN(1,3),5,10,20)))","v":0.60000000000000009},{"$f":"IF(I1231=1,D1231,IF(I1231=3,\"%\",\"mm\"))","v":"cm"},{"$f":"RANDBETWEEN(1,MIN(9,C1231))","v":6},{"$f":"IF(AND(Worksheet!$D$8,RAND()<0.2),3,IF(RAND()<Worksheet!$D$7/100,1,2))","v":1},{"$f":"IF(I1231=1,C1231-F1231,IF(I1231=2,C1231-F1231/10,IF(I1231=3,(1-F1231/100)*C1231,\"\")))","v":200.4},{"$f":"CONCATENATE(\" \",D1231)","v":" cm"},{"$f":"J1231*10","v":2004},"mm",{"$f":"IF(I1231=1,C1231+F1231,IF(I1231=2,C1231+F1231/10,IF(I1231=3,(1+F1231/100)*C1231,\"\")))","v":201.6},{"$f":"CONCATENATE(\" \",K1231)","v":"  cm"},{"$f":"N1231*10","v":2016},"mm"]
[{"$f":"IF(COUNTIF($B$1:B1232,TRUE)=COUNTIF($B$1:B1231,TRUE),\"\",COUNTIF($B$1:B1232,TRUE))","v":960},{"$f":"Worksheet!$B$12","v":true},{"$f":"RANDBETWEEN(5,RANDBETWEEN(5,Worksheet!$D$6))","v":48},"m","±",{"$f":"IF(I1232=1,H1232*10^RANDBETWEEN(IF(Worksheet!$D$9,-1,0),0),IF(I1232=2,H1232*10^RANDBETWEEN(RANDBETWEEN(0,1),1),CHOOSE(RANDBETWEEN(1,3),5,10,20)))","v":0.9},{"$f":"IF(I1232=1,D1232,IF(I1232=3,\"%\",\"cm\"))","v":"m"},{"$f":"RANDBETWEEN(1,MIN(9,C1232))","v":9},{"$f":"IF(AND(Worksheet!$D$8,RAND()<0.2),3,IF(RAND()<Worksheet!$D$7/100,1,2))","v":1},{"$f":"IF(I1232=1,C1232-F1232,IF(I1232=2,C1232-F1232/100,IF(I1232=3,(1-F1232/100)*C1232,\"\")))","v":47.1},{"$f":"CONCATENATE(\" \",D1232)","v":" m"},{"$f":"J1232*100","v":4710},"cm",{"$f":"IF(I1232=1,C1232+F1232,IF(I1232=2,C1232+F1232/100,IF(I1232=3,(1+F1232/100)*C1232,\"\")))","v":48.9},{"$f":"CONCATENATE(\" \",K1232)","v":"  m"},{"$f":"N1232*100","v":4890},"cm"]
[{"$f":"IF(COUNTIF($B$1:B1233,TRUE)=COUNTIF($B$1:B1232,TRUE),\"\",COUNTIF($B$1:B1233,TRUE))","v":961},{"$f":"Worksheet!$B$13","v":true},{"$f":"RANDBETWEEN(5,RANDBETWEEN(5,Worksheet!$D$6))","v":95},"km","±",{"$f":"IF(I1233=1,H1233*10^RANDBETWEEN(IF(Worksheet!$D$9,-1,0),0),IF(I1233=2,H1233*10^RANDBETWEEN(RANDBETWEEN(0,2),2),CHOOSE(RANDBETWEEN(1,3),5,10,20)))","v":1},{"$f":"IF(I1233=1,D1233,IF(I1233=3,\"%\",\"m\"))","v":"km"},1,{"$f":"IF(AND(Worksheet!$D$8,RAND()<0.2),3,IF(RAND()<Worksheet!$D$7/100,1,2))","v":1},{"$f":"IF(I1233=1,C1233-F1233,IF(I1233=2,C1233-F1233/1000,IF(I1233=3,(1-F1233/100)*C1233,\"\")))","v":94}," km",{"$f":"J1233*1000","v":94000},"m",{"$f":"IF(I1233=1,C1233+F1233,IF(I1233=2,C1233+F1233/1000,IF(I1233=3,(1+F1233/100)*C1233,\"\")))","v":96},"  km",{"$f":"N1233*1000","v":96000},"m"]
[{"$f":"IF(COUNTIF($B$1:B1234,TRUE)=COUNTIF($B$1:B1233,TRUE),\"\",COUNTIF($B$1:B1234,TRUE))","v":""},{"$f":"Worksheet!$B$14","v":false},{"$f":"RANDBETWEEN(5,RANDBETWEEN(5,Worksheet!$D$6))","v":268},"m","±",{"$f":"IF(I1234=1,H1234*10^RANDBETWEEN(IF(Worksheet!$D$9,-1,0),0),IF(I1234=2,H1234*10^RANDBETWEEN(RANDBETWEEN(0,2),2),CHOOSE(RANDBETWEEN(1,3),5,10,20)))","v":10},{"$f":"IF(I1234=1,D1234,IF(I1234=3,\"%\",\"mm\"))","v":"%"},4,{"$f":"IF(AND(Worksheet!$D$8,RAND()<0.2),3,IF(RAND()<Worksheet!$D$7/100,1,2))","v":3},{"$f":"IF(I1234=1,C1234-F1234,IF(I1234=2,C1234-F1234/1000,IF(I1234=3,(1-F1234/100)*C1234,\"\")))","v":241.20000000000002}," m",{"$f":"J1234*1000","v":241200.00000000003},"mm",{"$f":"IF(I1234=1,C1234+F1234,IF(I1234=2,C1234+F1234/1000,IF(I1234=3,(1+F1234/100)*C1234,\"\")))","v":294.8},"  m",{"$f":"N1234*1000","v":294800},"mm"]
[{"$f":"IF(COUNTIF($B$1:B1235,TRUE)=COUNTIF($B$1:B1234,TRUE),\"\",COUNTIF($B$1:B1235,TRUE))","v":962},{"$f":"Worksheet!$B$15","v":true},{"$f":"RANDBETWEEN(5,20)","v":13},"hours","±",{"$f":"IF(I1235=1,H1235*10^RANDBETWEEN(IF(Worksheet!$D$9,-1,0),0),IF(I1235=2,H1235,CHOOSE(RANDBETWEEN(1,3),5,10,20)))","v":6},{"$f":"IF(I1235=1,D1235,IF(I1235=3,\"%\",\"min\"))","v":"hours"},6,{"$f":"IF(AND(Worksheet!$D$8,RAND()<0),3,IF(RAND()<Worksheet!$D$7/100,1,2))","v":1},null," hours",{"$f":"IF(I1235=1,C1235-F1235,IF(I1235=2,C1235*60-F1235,\"\"))","v":7},{"$f":"IF($I1235=1,\" hours\",\" min\")","v":" hours"},null,"  hours",{"$f":"IF(I1235=1,C1235+F1235,IF(I1235=2,C1235*60+F1235,\"\"))","v":19},{"$f":"IF($I1235=1,\" hours\",\" min\")","v":" hours"}]
[{"$f":"IF(COUNTIF($B$1:B1236,TRUE)=COUNTIF($B$1:B1235,TRUE),\"\",COUNTIF($B$1:B1236,TRUE))","v":963},{"$f":"Worksheet!$D$11","v":true},{"$f":"RANDBETWEEN(5,RANDBETWEEN(5,Worksheet!$D$6))","v":16},"kg","±",{"$f":"IF(I1236=1,H1236*10^RANDBETWEEN(IF(Worksheet!$D$9,-1,0),0),IF(I1236=2,H1236*10^RANDBETWEEN(RANDBETWEEN(0,2),2),CHOOSE(RANDBETWEEN(1,3),5,10,20)))","v":10},{"$f":"IF(I1236=1,D1236,IF(I1236=3,\"%\",\"g\"))","v":"%"},1,{"$f":"IF(AND(Worksheet!$D$8,RAND()<0.2),3,IF(RAND()<Worksheet!$D$7/100,1,2))","v":3},{"$f":"IF(I1236=1,C1236-F1236,IF(I1236=2,C1236-F1236/1000,IF(I1236=3,(1-F1236/100)*C1236,\"\")))","v":14.4}," kg",{"$f":"J1236*1000","v":14400},"g",{"$f":"IF(I1236=1,C1236+F1236,IF(I1236=2,C1236+F1236/1000,IF(I1236=3,(1+F1236/100)*C1236,\"\")))","v":17.600000000000001},"  kg",{"$f":"N1236*1000","v":17600},"g"]
[{"$f":"IF(COUNTIF($B$1:B1237,TRUE)=COUNTIF($B$1:B1236,TRUE),\"\",COUNTIF($B$1:B1237,TRUE))","v":964},{"$f":"Worksheet!$D$12","v":true},{"$f":"RANDBETWEEN(5,RANDBETWEEN(5,Worksheet!$D$6))","v":8},"tonnes","±",{"$f":"IF(I1237=1,H1237*10^RANDBETWEEN(IF(Worksheet!$D$9,-1,0),0),IF(I1237=2,H1237*10^RANDBETWEEN(RANDBETWEEN(0,2),2),CHOOSE(RANDBETWEEN(1,3),5,10,20)))","v":500},{"$f":"IF(I1237=1,D1237,IF(I1237=3,\"%\",\"kg\"))","v":"kg"},5,{"$f":"IF(AND(Worksheet!$D$8,RAND()<0.2),3,IF(RAND()<Worksheet!$D$7/100,1,2))","v":2},{"$f":"IF(I1237=1,C1237-F1237,IF(I1237=2,C1237-F1237/1000,IF(I1237=3,(1-F1237/100)*C1237,\"\")))","v":7.5}," tonnes",{"$f":"J1237*1000","v":7500},"kg",{"$f":"IF(I1237=1,C1237+F1237,IF(I1237=2,C1237+F1237/1000,IF(I1237=3,(1+F1237/100)*C1237,\"\")))","v":8.5},"  tonnes",{"$f":"N1237*1000","v":8500},"kg"]
[{"$f":"IF(COUNTIF($B$1:B1238,TRUE)=COUNTIF($B$1:B1237,TRUE),\"\",COUNTIF($B$1:B1238,TRUE))","v":965},{"$f":"Worksheet!$D$13","v":true},{"$f":"RANDBETWEEN(5,RANDBETWEEN(5,Worksheet!$D$6))","v":121},"litres","±",{"$f":"IF(I1238=1,H1238*10^RANDBETWEEN(IF(Worksheet!$D$9,-1,0),0),IF(I1238=2,H1238*10^RANDBETWEEN(RANDBETWEEN(0,2),2),CHOOSE(RANDBETWEEN(1,3),5,10,20)))","v":4},{"$f":"IF(I1238=1,D1238,IF(I1238=3,\"%\",\"ml\"))","v":"litres"},4,{"$f":"IF(AND(Worksheet!$D$8,RAND()<0.2),3,IF(RAND()<Worksheet!$D$7/100,1,2))","v":1},{"$f":"IF(I1238=1,C1238-F1238,IF(I1238=2,C1238-F1238/1000,IF(I1238=3,(1-F1238/100)*C1238,\"\")))","v":117}," litres",{"$f":"J1238*1000","v":117000},"ml",{"$f":"IF(I1238=1,C1238+F1238,IF(I1238=2,C1238+F1238/1000,IF(I1238=3,(1+F1238/100)*C1238,\"\")))","v":125},"  litres",{"$f":"N1238*1000","v":125000},"ml"]
[{"$f":"IF(COUNTIF($B$1:B1239,TRUE)=COUNTIF($B$1:B1238,TRUE),\"\",COUNTIF($B$1:B1239,TRUE))","v":966},{"$f":"Worksheet!$D$14","v":true},{"$f":"RANDBETWEEN(5,RANDBETWEEN(5,Worksheet!$D$6))","v":19},"litres","±",{"$f":"IF(I1239=1,H1239*10^RANDBETWEEN(IF(Worksheet!$D$9,-1,0),0),IF(I1239=2,H1239*10^RANDBETWEEN(RANDBETWEEN(0,2),2),CHOOSE(RANDBETWEEN(1,3),5,10,20)))","v":10},{"$f":"IF(I1239=1,D1239,IF(I1239=3,\"%\",\"cm³\"))","v":"%"},9,{"$f":"IF(AND(Worksheet!$D$8,RAND()<0.2),3,IF(RAND()<Worksheet!$D$7/100,1,2))","v":3},{"$f":"IF(I1239=1,C1239-F1239,IF(I1239=2,C1239-F1239/1000,IF(I1239=3,(1-F1239/100)*C1239,\"\")))","v":17.100000000000001}," litres",{"$f":"J1239*1000","v":17100},"cm³",{"$f":"IF(I1239=1,C1239+F1239,IF(I1239=2,C1239+F1239/1000,IF(I1239=3,(1+F1239/100)*C1239,\"\")))","v":20.900000000000002},"  litres",{"$f":"N1239*1000","v":20900.000000000004},"cm³"]
[{"$f":"IF(COUNTIF($B$1:B1240,TRUE)=COUNTIF($B$1:B1239,TRUE),\"\",COUNTIF($B$1:B1240,TRUE))","v":""},{"$f":"Worksheet!$D$15","v":false},{"$f":"RANDBETWEEN(5,20)","v":7},"min","±",{"$f":"IF(I1240=1,H1240*10^RANDBETWEEN(IF(Worksheet!$D$9,-1,0),0),IF(I1240=2,H1240,CHOOSE(RANDBETWEEN(1,3),5,10,20)))","v":1},{"$f":"IF(I1240=1,D1240,IF(I1240=3,\"%\",\"sec\"))","v":"sec"},1,{"$f":"IF(AND(Worksheet!$D$8,RAND()<0),3,IF(RAND()<Worksheet!$D$7/100,1,2))","v":2},null," min",{"$f":"IF(I1240=1,C1240-F1240,IF(I1240=2,C1240*60-F1240,\"\"))","v":419},{"$f":"IF($I1240=1,\" hours\",\" min\")","v":" min"},null,"  min",{"$f":"IF(I1240=1,C1240+F1240,IF(I1240=2,C1240*60+F1240,\"\"))","v":421},{"$f":"IF($I1240=1,\" hours\",\" min\")","v":" min"}]
[{"$f":"COUNTIF($B$1:B1241,TRUE)","v":967},{"$f":"Worksheet!$B$11","v":true},{"$f":"RANDBETWEEN(5,RANDBETWEEN(5,Worksheet!$D$6))","v":10},"cm","±",{"$f":"IF(I1241=1,H1241*10^RANDBETWEEN(IF(Worksheet!$D$9,-1,0),0),IF(I1241=2,H1241,CHOOSE(RANDBETWEEN(1,3),5,10,20)))","v":8},{"$f":"IF(I1241=1,D1241,IF(I1241=3,\"%\",\"mm\"))","v":"cm"},{"$f":"RANDBETWEEN(1,MIN(9,C1241))","v":8},{"$f":"IF(AND(Worksheet!$D$8,RAND()<0.2),3,IF(RAND()<Worksheet!$D$7/100,1,2))","v":1},{"$f":"IF(I1241=1,C1241-F1241,IF(I1241=2,C1241-F1241/10,IF(I1241=3,(1-F1241/100)*C1241,\"\")))","v":2},{"$f":"CONCATENATE(\" \",D1241)","v":" cm"},{"$f":"J1241*10","v":20},"mm",{"$f":"IF(I1241=1,C1241+F1241,IF(I1241=2,C1241+F1241/10,IF(I1241=3,(1+F1241/100)*C1241,\"\")))","v":18},{"$f":"CONCATENATE(\" \",K1241)","v":"  cm"},{"$f":"N1241*10","v":180},"mm"]
[{"$f":"IF(COUNTIF($B$1:B1242,TRUE)=COUNTIF($B$1:B1241,TRUE),\"\",COUNTIF($B$1:B1242,TRUE))","v":968},{"$f":"Worksheet!$B$12","v":true},{"$f":"RANDBETWEEN(5,RANDBETWEEN(5,Worksheet!$D$6))","v":55},"m","±",{"$f":"IF(I1242=1,H1242*10^RANDBETWEEN(IF(Worksheet!$D$9,-1,0),0),IF(I1242=2,H1242*10^RANDBETWEEN(RANDBETWEEN(0,1),1),CHOOSE(RANDBETWEEN(1,3),5,10,20)))","v":5},{"$f":"IF(I1242=1,D1242,IF(I1242=3,\"%\",\"cm\"))","v":"%"},{"$f":"RANDBETWEEN(1,MIN(9,C1242))","v":2},{"$f":"IF(AND(Worksheet!$D$8,RAND()<0.2),3,IF(RAND()<Worksheet!$D$7/100,1,2))","v":3},{"$f":"IF(I1242=1,C1242-F1242,IF(I1242=2,C1242-F1242/100,IF(I1242=3,(1-F1242/100)*C1242,\"\")))","v":52.25},{"$f":"CONCATENATE(\" \",D1242)","v":" m"},{"$f":"J1242*100","v":5225},"cm",{"$f":"IF(I1242=1,C1242+F1242,IF(I1242=2,C1242+F1242/100,IF(I1242=3,(1+F1242/100)*C1242,\"\")))","v":57.75},{"$f":"CONCATENATE(\" \",K1242)","v":"  m"},{"$f":"N1242*100","v":5775},"cm"]
[{"$f":"IF(COUNTIF($B$1:B1243,TRUE)=COUNTIF($B$1:B1242,TRUE),\"\",COUNTIF($B$1:B1243,TRUE))","v":969},{"$f":"Worksheet!$B$13","v":true},{"$f":"RANDBETWEEN(5,RANDBETWEEN(5,Worksheet!$D$6))","v":109},"km","±",{"$f":"IF(I1243=1,H1243*10^RANDBETWEEN(IF(Worksheet!$D$9,-1,0),0),IF(I1243=2,H1243*10^RANDBETWEEN(RANDBETWEEN(0,2),2),CHOOSE(RANDBETWEEN(1,3),5,10,20)))","v":0.30000000000000004},{"$f":"IF(I1243=1,D1243,IF(I1243=3,\"%\",\"m\"))","v":"km"},3,{"$f":"IF(AND(Worksheet!$D$8,RAND()<0.2),3,IF(RAND()<Worksheet!$D$7/100,1,2))","v":1},{"$f":"IF(I1243=1,C1243-F1243,IF(I1243=2,C1243-F1243/1000,IF(I1243=3,(1-F1243/100)*C1243,\"\")))","v":108.7}," km",{"$f":"J1243*1000","v":108700},"m",{"$f":"IF(I1243=1,C1243+F1243,IF(I1243=2,C1243+F1243/1000,IF(I1243=3,(1+F1243/100)*C1243,\"\")))","v":109.3},"  km",{"$f":"N1243*1000","v":109300},"m"]
[{"$f":"IF(COUNTIF($B$1:B1244,TRUE)=COUNTIF($B$1:B1243,TRUE),\"\",COUNTIF($B$1:B1244,TRUE))","v":""},{"$f":"Worksheet!$B$14","v":false},{"$f":"RANDBETWEEN(5,RANDBETWEEN(5,Worksheet!$D$6))","v":16},"m","±",{"$f":"IF(I1244=1,H1244*10^RANDBETWEEN(IF(Worksheet!$D$9,-1,0),0),IF(I1244=2,H1244*10^RANDBETWEEN(RANDBETWEEN(0,2),2),CHOOSE(RANDBETWEEN(1,3),5,10,20)))","v":900},{"$f":"IF(I1244=1,D1244,IF(I1244=3,\"%\",\"mm\"))","v":"mm"},9,{"$f":"IF(AND(Worksheet!$D$8,RAND()<0.2),3,IF(RAND()<Worksheet!$D$7/100,1,2))","v":2},{"$f":"IF(I1244=1,C1244-F1244,IF(I1244=2,C1244-F1244/1000,IF(I1244=3,(1-F1244/100)*C1244,\"\")))","v":15.1}," m",{"$f":"J1244*1000","v":15100},"mm",{"$f":"IF(I1244=1,C1244+F1244,IF(I1244=2,C1244+F1244/1000,IF(I1244=3,(1+F1244/100)*C1244,\"\")))","v":16.899999999999999},"  m",{"$f":"N1244*1000","v":16900},"mm"]
[{"$f":"IF(COUNTIF($B$1:B1245,TRUE)=COUNTIF($B$1:B1244,TRUE),\"\",COUNTIF($B$1:B1245,TRUE))","v":970},{"$f":"Worksheet!$B$15","v":true},{"$f":"RANDBETWEEN(5,20)","v":6},"hours","±",{"$f":"IF(I1245=1,H1245*10^RANDBETWEEN(IF(Worksheet!$D$9,-1,0),0),IF(I1245=2,H1245,CHOOSE(RANDBETWEEN(1,3),5,10,20)))","v":0.4},{"$f":"IF(I1245=1,D1245,IF(I1245=3,\"%\",\"min\"))","v":"hours"},4,{"$f":"IF(AND(Worksheet!$D$8,RAND()<0),3,IF(RAND()<Worksheet!$D$7/100,1,2))","v":1},null," hours",{"$f":"IF(I1245=1,C1245-F1245,IF(I1245=2,C1245*60-F1245,\"\"))","v":5.6},{"$f":"IF($I1245=1,\" hours\",\" min\")","v":" hours"},null,"  hours",{"$f":"IF(I1245=1,C1245+F1245,IF(I1245=2,C1245*60+F1245,\"\"))","v":6.4},{"$f":"IF($I1245=1,\" hours\",\" min\")","v":" hours"}]
[{"$f":"IF(COUNTIF($B$1:B1246,TRUE)=COUNTIF($B$1:B1245,TRUE),\"\",COUNTIF($B$1:B1246,TRUE))","v":971},{"$f":"Worksheet!$D$11","v":true},{"$f":"RANDBETWEEN(5,RANDBETWEEN(5,Worksheet!$D$6))","v":58},"kg","±",{"$f":"IF(I1246=1,H1246*10^RANDBETWEEN(IF(Worksheet!$D$9,-1,0),0),IF(I1246=2,H1246*10^RANDBETWEEN(RANDBETWEEN(0,2),2),CHOOSE(RANDBETWEEN(1,3),5,10,20)))","v":6},{"$f":"IF(I1246=1,D1246,IF(I1246=3,\"%\",\"g\"))","v":"g"},6,{"$f":"IF(AND(Worksheet!$D$8,RAND()<0.2),3,IF(RAND()<Worksheet!$D$7/100,1,2))","v":2},{"$f":"IF(I1246=1,C1246-F1246,IF(I1246=2,C1246-F1246/1000,IF(I1246=3,(1-F1246/100)*C1246,\"\")))","v":57.994}," kg",{"$f":"J1246*1000","v":57994},"g",{"$f":"IF(I1246=1,C1246+F1246,IF(I1246=2,C1246+F1246/1000,IF(I1246=3,(1+F1246/100)*C1246,\"\")))","v":58.006},"  kg",{"$f":"N1246*1000","v":58006},"g"]
[{"$f":"IF(COUNTIF($B$1:B1247,TRUE)=COUNTIF($B$1:B1246,TRUE),\"\",COUNTIF($B$1:B1247,TRUE))","v":972},{"$f":"Worksheet!$D$12","v":true},{"$f":"RANDBETWEEN(5,RANDBETWEEN(5,Worksheet!$D$6))","v":78},"tonnes","±",{"$f":"IF(I1247=1,H1247*10^RANDBETWEEN(IF(Worksheet!$D$9,-1,0),0),IF(I1247=2,H1247*10^RANDBETWEEN(RANDBETWEEN(0,2),2),CHOOSE(RANDBETWEEN(1,3),5,10,20)))","v":7},{"$f":"IF(I1247=1,D1247,IF(I1247=3,\"%\",\"kg\"))","v":"tonnes"},7,{"$f":"IF(AND(Worksheet!$D$8,RAND()<0.2),3,IF(RAND()<Worksheet!$D$7/100,1,2))","v":1},{"$f":"IF(I1247=1,C1247-F1247,IF(I1247=2,C1247-F1247/1000,IF(I1247=3,(1-F1247/100)*C1247,\"\")))","v":71}," tonnes",{"$f":"J1247*1000","v":71000},"kg",{"$f":"IF(I1247=1,C1247+F1247,IF(I1247=2,C1247+F1247/1000,IF(I1247=3,(1+F1247/100)*C1247,\"\")))","v":85},"  tonnes",{"$f":"N1247*1000","v":85000},"kg"]
[{"$f":"IF(COUNTIF($B$1:B1248,TRUE)=COUNTIF($B$1:B1247,TRUE),\"\",COUNTIF($B$1:B1248,TRUE))","v":973},{"$f":"Worksheet!$D$13","v":true},{"$f":"RANDBETWEEN(5,RANDBETWEEN(5,Worksheet!$D$6))","v":21},"litres","±",{"$f":"IF(I1248=1,H1248*10^RANDBETWEEN(IF(Worksheet!$D$9,-1,0),0),IF(I1248=2,H1248*10^RANDBETWEEN(RANDBETWEEN(0,2),2),CHOOSE(RANDBETWEEN(1,3),5,10,20)))","v":10},{"$f":"IF(I1248=1,D1248,IF(I1248=3,\"%\",\"ml\"))","v":"%"},1,{"$f":"IF(AND(Worksheet!$D$8,RAND()<0.2),3,IF(RAND()<Worksheet!$D$7/100,1,2))","v":3},{"$f":"IF(I1248=1,C1248-F1248,IF(I1248=2,C1248-F1248/1000,IF(I1248=3,(1-F1248/100)*C1248,\"\")))","v":18.900000000000002}," litres",{"$f":"J1248*1000","v":18900.000000000004},"ml",{"$f":"IF(I1248=1,C1248+F1248,IF(I1248=2,C1248+F1248/1000,IF(I1248=3,(1+F1248/100)*C1248,\"\")))","v":23.1},"  litres",{"$f":"N1248*1000","v":23100},"ml"]
[{"$f":"IF(COUNTIF($B$1:B1249,TRUE)=COUNTIF($B$1:B1248,TRUE),\"\",COUNTIF($B$1:B1249,TRUE))","v":974},{"$f":"Worksheet!$D$14","v":true},{"$f":"RANDBETWEEN(5,RANDBETWEEN(5,Worksheet!$D$6))","v":247},"litres","±",{"$f":"IF(I1249=1,H1249*10^RANDBETWEEN(IF(Worksheet!$D$9,-1,0),0),IF(I1249=2,H1249*10^RANDBETWEEN(RANDBETWEEN(0,2),2),CHOOSE(RANDBETWEEN(1,3),5,10,20)))","v":0.9},{"$f":"IF(I1249=1,D1249,IF(I1249=3,\"%\",\"cm³\"))","v":"litres"},9,{"$f":"IF(AND(Worksheet!$D$8,RAND()<0.2),3,IF(RAND()<Worksheet!$D$7/100,1,2))","v":1},{"$f":"IF(I1249=1,C1249-F1249,IF(I1249=2,C1249-F1249/1000,IF(I1249=3,(1-F1249/100)*C1249,\"\")))","v":246.1}," litres",{"$f":"J1249*1000","v":246100},"cm³",{"$f":"IF(I1249=1,C1249+F1249,IF(I1249=2,C1249+F1249/1000,IF(I1249=3,(1+F1249/100)*C1249,\"\")))","v":247.9},"  litres",{"$f":"N1249*1000","v":247900},"cm³"]
[{"$f":"IF(COUNTIF($B$1:B1250,TRUE)=COUNTIF($B$1:B1249,TRUE),\"\",COUNTIF($B$1:B1250,TRUE))","v":""},{"$f":"Worksheet!$D$15","v":false},{"$f":"RANDBETWEEN(5,20)","v":18},"min","±",{"$f":"IF(I1250=1,H1250*10^RANDBETWEEN(IF(Worksheet!$D$9,-1,0),0),IF(I1250=2,H1250,CHOOSE(RANDBETWEEN(1,3),5,10,20)))","v":0.5},{"$f":"IF(I1250=1,D1250,IF(I1250=3,\"%\",\"sec\"))","v":"min"},5,{"$f":"IF(AND(Worksheet!$D$8,RAND()<0),3,IF(RAND()<Worksheet!$D$7/100,1,2))","v":1},null," min",{"$f":"IF(I1250=1,C1250-F1250,IF(I1250=2,C1250*60-F1250,\"\"))","v":17.5},{"$f":"IF($I1250=1,\" hours\",\" min\")","v":" hours"},null,"  min",{"$f":"IF(I1250=1,C1250+F1250,IF(I1250=2,C1250*60+F1250,\"\"))","v":18.5},{"$f":"IF($I1250=1,\" hours\",\" min\")","v":" hours"}]
[{"$f":"COUNTIF($B$1:B1251,TRUE)","v":975},{"$f":"Worksheet!$B$11","v":true},{"$f":"RANDBETWEEN(5,RANDBETWEEN(5,Worksheet!$D$6))","v":11},"cm","±",{"$f":"IF(I1251=1,H1251*10^RANDBETWEEN(IF(Worksheet!$D$9,-1,0),0),IF(I1251=2,H1251,CHOOSE(RANDBETWEEN(1,3),5,10,20)))","v":4},{"$f":"IF(I1251=1,D1251,IF(I1251=3,\"%\",\"mm\"))","v":"mm"},{"$f":"RANDBETWEEN(1,MIN(9,C1251))","v":4},{"$f":"IF(AND(Worksheet!$D$8,RAND()<0.2),3,IF(RAND()<Worksheet!$D$7/100,1,2))","v":2},{"$f":"IF(I1251=1,C1251-F1251,IF(I1251=2,C1251-F1251/10,IF(I1251=3,(1-F1251/100)*C1251,\"\")))","v":10.6},{"$f":"CONCATENATE(\" \",D1251)","v":" cm"},{"$f":"J1251*10","v":106},"mm",{"$f":"IF(I1251=1,C1251+F1251,IF(I1251=2,C1251+F1251/10,IF(I1251=3,(1+F1251/100)*C1251,\"\")))","v":11.4},{"$f":"CONCATENATE(\" \",K1251)","v":"  cm"},{"$f":"N1251*10","v":114},"mm"]
[{"$f":"IF(COUNTIF($B$1:B1252,TRUE)=COUNTIF($B$1:B1251,TRUE),\"\",COUNTIF($B$1:B1252,TRUE))","v":976},{"$f":"Worksheet!$B$12","v":true},{"$f":"RANDBETWEEN(5,RANDBETWEEN(5,Worksheet!$D$6))","v":267},"m","±",{"$f":"IF(I1252=1,H1252*10^RANDBETWEEN(IF(Worksheet!$D$9,-1,0),0),IF(I1252=2,H1252*10^RANDBETWEEN(RANDBETWEEN(0,1),1),CHOOSE(RANDBETWEEN(1,3),5,10,20)))","v":5},{"$f":"IF(I1252=1,D1252,IF(I1252=3,\"%\",\"cm\"))","v":"%"},{"$f":"RANDBETWEEN(1,MIN(9,C1252))","v":9},{"$f":"IF(AND(Worksheet!$D$8,RAND()<0.2),3,IF(RAND()<Worksheet!$D$7/100,1,2))","v":3},{"$f":"IF(I1252=1,C1252-F1252,IF(I1252=2,C1252-F1252/100,IF(I1252=3,(1-F1252/100)*C1252,\"\")))","v":253.64999999999998},{"$f":"CONCATENATE(\" \",D1252)","v":" m"},{"$f":"J1252*100","v":25364.999999999996},"cm",{"$f":"IF(I1252=1,C1252+F1252,IF(I1252=2,C1252+F1252/100,IF(I1252=3,(1+F1252/100)*C1252,\"\")))","v":280.35000000000002},{"$f":"CONCATENATE(\" \",K1252)","v":"  m"},{"$f":"N1252*100","v":28035.000000000004},"cm"]
[{"$f":"IF(COUNTIF($B$1:B1253,TRUE)=COUNTIF($B$1:B1252,TRUE),\"\",COUNTIF($B$1:B1253,TRUE))","v":977},{"$f":"Worksheet!$B$13","v":true},{"$f":"RANDBETWEEN(5,RANDBETWEEN(5,Worksheet!$D$6))","v":102},"km","±",{"$f":"IF(I1253=1,H1253*10^RANDBETWEEN(IF(Worksheet!$D$9,-1,0),0),IF(I1253=2,H1253*10^RANDBETWEEN(RANDBETWEEN(0,2),2),CHOOSE(RANDBETWEEN(1,3),5,10,20)))","v":100},{"$f":"IF(I1253=1,D1253,IF(I1253=3,\"%\",\"m\"))","v":"m"},1,{"$f":"IF(AND(Worksheet!$D$8,RAND()<0.2),3,IF(RAND()<Worksheet!$D$7/100,1,2))","v":2},{"$f":"IF(I1253=1,C1253-F1253,IF(I1253=2,C1253-F1253/1000,IF(I1253=3,(1-F1253/100)*C1253,\"\")))","v":101.9}," km",{"$f":"J1253*1000","v":101900},"m",{"$f":"IF(I1253=1,C1253+F1253,IF(I1253=2,C1253+F1253/1000,IF(I1253=3,(1+F1253/100)*C1253,\"\")))","v":102.1},"  km",{"$f":"N1253*1000","v":102100},"m"]
[{"$f":"IF(COUNTIF($B$1:B1254,TRUE)=COUNTIF($B$1:B1253,TRUE),\"\",COUNTIF($B$1:B1254,TRUE))","v":""},{"$f":"Worksheet!$B$14","v":false},{"$f":"RANDBETWEEN(5,RANDBETWEEN(5,Worksheet!$D$6))","v":314},"m","±",{"$f":"IF(I1254=1,H1254*10^RANDBETWEEN(IF(Worksheet!$D$9,-1,0),0),IF(I1254=2,H1254*10^RANDBETWEEN(RANDBETWEEN(0,2),2),CHOOSE(RANDBETWEEN(1,3),5,10,20)))","v":5},{"$f":"IF(I1254=1,D1254,IF(I1254=3,\"%\",\"mm\"))","v":"%"},8,{"$f":"IF(AND(Worksheet!$D$8,RAND()<0.2),3,IF(RAND()<Worksheet!$D$7/100,1,2))","v":3},{"$f":"IF(I1254=1,C1254-F1254,IF(I1254=2,C1254-F1254/1000,IF(I1254=3,(1-F1254/100)*C1254,\"\")))","v":298.3}," m",{"$f":"J1254*1000","v":298300},"mm",{"$f":"IF(I1254=1,C1254+F1254,IF(I1254=2,C1254+F1254/1000,IF(I1254=3,(1+F1254/100)*C1254,\"\")))","v":329.7},"  m",{"$f":"N1254*1000","v":329700},"mm"]
[{"$f":"IF(COUNTIF($B$1:B1255,TRUE)=COUNTIF($B$1:B1254,TRUE),\"\",COUNTIF($B$1:B1255,TRUE))","v":978},{"$f":"Worksheet!$B$15","v":true},{"$f":"RANDBETWEEN(5,20)","v":6},"hours","±",{"$f":"IF(I1255=1,H1255*10^RANDBETWEEN(IF(Worksheet!$D$9,-1,0),0),IF(I1255=2,H1255,CHOOSE(RANDBETWEEN(1,3),5,10,20)))","v":6},{"$f":"IF(I1255=1,D1255,IF(I1255=3,\"%\",\"min\"))","v":"min"},6,{"$f":"IF(AND(Worksheet!$D$8,RAND()<0),3,IF(RAND()<Worksheet!$D$7/100,1,2))","v":2},null," hours",{"$f":"IF(I1255=1,C1255-F1255,IF(I1255=2,C1255*60-F1255,\"\"))","v":354},{"$f":"IF($I1255=1,\" hours\",\" min\")","v":" min"},null,"  hours",{"$f":"IF(I1255=1,C1255+F1255,IF(I1255=2,C1255*60+F1255,\"\"))","v":366},{"$f":"IF($I1255=1,\" hours\",\" min\")","v":" min"}]
[{"$f":"IF(COUNTIF($B$1:B1256,TRUE)=COUNTIF($B$1:B1255,TRUE),\"\",COUNTIF($B$1:B1256,TRUE))","v":979},{"$f":"Worksheet!$D$11","v":true},{"$f":"RANDBETWEEN(5,RANDBETWEEN(5,Worksheet!$D$6))","v":13},"kg","±",{"$f":"IF(I1256=1,H1256*10^RANDBETWEEN(IF(Worksheet!$D$9,-1,0),0),IF(I1256=2,H1256*10^RANDBETWEEN(RANDBETWEEN(0,2),2),CHOOSE(RANDBETWEEN(1,3),5,10,20)))","v":10},{"$f":"IF(I1256=1,D1256,IF(I1256=3,\"%\",\"g\"))","v":"%"},7,{"$f":"IF(AND(Worksheet!$D$8,RAND()<0.2),3,IF(RAND()<Worksheet!$D$7/100,1,2))","v":3},{"$f":"IF(I1256=1,C1256-F1256,IF(I1256=2,C1256-F1256/1000,IF(I1256=3,(1-F1256/100)*C1256,\"\")))","v":11.700000000000001}," kg",{"$f":"J1256*1000","v":11700.000000000002},"g",{"$f":"IF(I1256=1,C1256+F1256,IF(I1256=2,C1256+F1256/1000,IF(I1256=3,(1+F1256/100)*C1256,\"\")))","v":14.3},"  kg",{"$f":"N1256*1000","v":14300},"g"]
[{"$f":"IF(COUNTIF($B$1:B1257,TRUE)=COUNTIF($B$1:B1256,TRUE),\"\",COUNTIF($B$1:B1257,TRUE))","v":980},{"$f":"Worksheet!$D$12","v":true},{"$f":"RANDBETWEEN(5,RANDBETWEEN(5,Worksheet!$D$6))","v":63},"tonnes","±",{"$f":"IF(I1257=1,H1257*10^RANDBETWEEN(IF(Worksheet!$D$9,-1,0),0),IF(I1257=2,H1257*10^RANDBETWEEN(RANDBETWEEN(0,2),2),CHOOSE(RANDBETWEEN(1,3),5,10,20)))","v":6},{"$f":"IF(I1257=1,D1257,IF(I1257=3,\"%\",\"kg\"))","v":"tonnes"},6,{"$f":"IF(AND(Worksheet!$D$8,RAND()<0.2),3,IF(RAND()<Worksheet!$D$7/100,1,2))","v":1},{"$f":"IF(I1257=1,C1257-F1257,IF(I1257=2,C1257-F1257/1000,IF(I1257=3,(1-F1257/100)*C1257,\"\")))","v":57}," tonnes",{"$f":"J1257*1000","v":57000},"kg",{"$f":"IF(I1257=1,C1257+F1257,IF(I1257=2,C1257+F1257/1000,IF(I1257=3,(1+F1257/100)*C1257,\"\")))","v":69},"  tonnes",{"$f":"N1257*1000","v":69000},"kg"]
[{"$f":"IF(COUNTIF($B$1:B1258,TRUE)=COUNTIF($B$1:B1257,TRUE),\"\",COUNTIF($B$1:B1258,TRUE))","v":981},{"$f":"Worksheet!$D$13","v":true},{"$f":"RANDBETWEEN(5,RANDBETWEEN(5,Worksheet!$D$6))","v":126},"litres","±",{"$f":"IF(I1258=1,H1258*10^RANDBETWEEN(IF(Worksheet!$D$9,-1,0),0),IF(I1258=2,H1258*10^RANDBETWEEN(RANDBETWEEN(0,2),2),CHOOSE(RANDBETWEEN(1,3),5,10,20)))","v":10},{"$f":"IF(I1258=1,D1258,IF(I1258=3,\"%\",\"ml\"))","v":"%"},4,{"$f":"IF(AND(Worksheet!$D$8,RAND()<0.2),3,IF(RAND()<Worksheet!$D$7/100,1,2))","v":3},{"$f":"IF(I1258=1,C1258-F1258,IF(I1258=2,C1258-F1258/1000,IF(I1258=3,(1-F1258/100)*C1258,\"\")))","v":113.4}," litres",{"$f":"J1258*1000","v":113400},"ml",{"$f":"IF(I1258=1,C1258+F1258,IF(I1258=2,C1258+F1258/1000,IF(I1258=3,(1+F1258/100)*C1258,\"\")))","v":138.60000000000002},"  litres",{"$f":"N1258*1000","v":138600.00000000003},"ml"]
[{"$f":"IF(COUNTIF($B$1:B1259,TRUE)=COUNTIF($B$1:B1258,TRUE),\"\",COUNTIF($B$1:B1259,TRUE))","v":982},{"$f":"Worksheet!$D$14","v":true},{"$f":"RANDBETWEEN(5,RANDBETWEEN(5,Worksheet!$D$6))","v":181},"litres","±",{"$f":"IF(I1259=1,H1259*10^RANDBETWEEN(IF(Worksheet!$D$9,-1,0),0),IF(I1259=2,H1259*10^RANDBETWEEN(RANDBETWEEN(0,2),2),CHOOSE(RANDBETWEEN(1,3),5,10,20)))","v":0.60000000000000009},{"$f":"IF(I1259=1,D1259,IF(I1259=3,\"%\",\"cm³\"))","v":"litres"},6,{"$f":"IF(AND(Worksheet!$D$8,RAND()<0.2),3,IF(RAND()<Worksheet!$D$7/100,1,2))","v":1},{"$f":"IF(I1259=1,C1259-F1259,IF(I1259=2,C1259-F1259/1000,IF(I1259=3,(1-F1259/100)*C1259,\"\")))","v":180.4}," litres",{"$f":"J1259*1000","v":180400},"cm³",{"$f":"IF(I1259=1,C1259+F1259,IF(I1259=2,C1259+F1259/1000,IF(I1259=3,(1+F1259/100)*C1259,\"\")))","v":181.6},"  litres",{"$f":"N1259*1000","v":181600},"cm³"]
[{"$f":"IF(COUNTIF($B$1:B1260,TRUE)=COUNTIF($B$1:B1259,TRUE),\"\",COUNTIF($B$1:B1260,TRUE))","v":""},{"$f":"Worksheet!$D$15","v":false},{"$f":"RANDBETWEEN(5,20)","v":16},"min","±",{"$f":"IF(I1260=1,H1260*10^RANDBETWEEN(IF(Worksheet!$D$9,-1,0),0),IF(I1260=2,H1260,CHOOSE(RANDBETWEEN(1,3),5,10,20)))","v":1},{"$f":"IF(I1260=1,D1260,IF(I1260=3,\"%\",\"sec\"))","v":"min"},1,{"$f":"IF(AND(Worksheet!$D$8,RAND()<0),3,IF(RAND()<Worksheet!$D$7/100,1,2))","v":1},null," min",{"$f":"IF(I1260=1,C1260-F1260,IF(I1260=2,C1260*60-F1260,\"\"))","v":15},{"$f":"IF($I1260=1,\" hours\",\" min\")","v":" hours"},null,"  min",{"$f":"IF(I1260=1,C1260+F1260,IF(I1260=2,C1260*60+F1260,\"\"))","v":17},{"$f":"IF($I1260=1,\" hours\",\" min\")","v":" hours"}]
[{"$f":"COUNTIF($B$1:B1261,TRUE)","v":983},{"$f":"Worksheet!$B$11","v":true},{"$f":"RANDBETWEEN(5,RANDBETWEEN(5,Worksheet!$D$6))","v":318},"cm","±",{"$f":"IF(I1261=1,H1261*10^RANDBETWEEN(IF(Worksheet!$D$9,-1,0),0),IF(I1261=2,H1261,CHOOSE(RANDBETWEEN(1,3),5,10,20)))","v":20},{"$f":"IF(I1261=1,D1261,IF(I1261=3,\"%\",\"mm\"))","v":"%"},{"$f":"RANDBETWEEN(1,MIN(9,C1261))","v":1},{"$f":"IF(AND(Worksheet!$D$8,RAND()<0.2),3,IF(RAND()<Worksheet!$D$7/100,1,2))","v":3},{"$f":"IF(I1261=1,C1261-F1261,IF(I1261=2,C1261-F1261/10,IF(I1261=3,(1-F1261/100)*C1261,\"\")))","v":254.4},{"$f":"CONCATENATE(\" \",D1261)","v":" cm"},{"$f":"J1261*10","v":2544},"mm",{"$f":"IF(I1261=1,C1261+F1261,IF(I1261=2,C1261+F1261/10,IF(I1261=3,(1+F1261/100)*C1261,\"\")))","v":381.59999999999997},{"$f":"CONCATENATE(\" \",K1261)","v":"  cm"},{"$f":"N1261*10","v":3815.9999999999995},"mm"]
[{"$f":"IF(COUNTIF($B$1:B1262,TRUE)=COUNTIF($B$1:B1261,TRUE),\"\",COUNTIF($B$1:B1262,TRUE))","v":984},{"$f":"Worksheet!$B$12","v":true},{"$f":"RANDBETWEEN(5,RANDBETWEEN(5,Worksheet!$D$6))","v":23},"m","±",{"$f":"IF(I1262=1,H1262*10^RANDBETWEEN(IF(Worksheet!$D$9,-1,0),0),IF(I1262=2,H1262*10^RANDBETWEEN(RANDBETWEEN(0,1),1),CHOOSE(RANDBETWEEN(1,3),5,10,20)))","v":3},{"$f":"IF(I1262=1,D1262,IF(I1262=3,\"%\",\"cm\"))","v":"m"},{"$f":"RANDBETWEEN(1,MIN(9,C1262))","v":3},{"$f":"IF(AND(Worksheet!$D$8,RAND()<0.2),3,IF(RAND()<Worksheet!$D$7/100,1,2))","v":1},{"$f":"IF(I1262=1,C1262-F1262,IF(I1262=2,C1262-F1262/100,IF(I1262=3,(1-F1262/100)*C1262,\"\")))","v":20},{"$f":"CONCATENATE(\" \",D1262)","v":" m"},{"$f":"J1262*100","v":2000},"cm",{"$f":"IF(I1262=1,C1262+F1262,IF(I1262=2,C1262+F1262/100,IF(I1262=3,(1+F1262/100)*C1262,\"\")))","v":26},{"$f":"CONCATENATE(\" \",K1262)","v":"  m"},{"$f":"N1262*100","v":2600},"cm"]
[{"$f":"IF(COUNTIF($B$1:B1263,TRUE)=COUNTIF($B$1:B1262,TRUE),\"\",COUNTIF($B$1:B1263,TRUE))","v":985},{"$f":"Worksheet!$B$13","v":true},{"$f":"RANDBETWEEN(5,RANDBETWEEN(5,Worksheet!$D$6))","v":26},"km","±",{"$f":"IF(I1263=1,H1263*10^RANDBETWEEN(IF(Worksheet!$D$9,-1,0),0),IF(I1263=2,H1263*10^RANDBETWEEN(RANDBETWEEN(0,2),2),CHOOSE(RANDBETWEEN(1,3),5,10,20)))","v":0.2},{"$f":"IF(I1263=1,D1263,IF(I1263=3,\"%\",\"m\"))","v":"km"},2,{"$f":"IF(AND(Worksheet!$D$8,RAND()<0.2),3,IF(RAND()<Worksheet!$D$7/100,1,2))","v":1},{"$f":"IF(I1263=1,C1263-F1263,IF(I1263=2,C1263-F1263/1000,IF(I1263=3,(1-F1263/100)*C1263,\"\")))","v":25.8}," km",{"$f":"J1263*1000","v":25800},"m",{"$f":"IF(I1263=1,C1263+F1263,IF(I1263=2,C1263+F1263/1000,IF(I1263=3,(1+F1263/100)*C1263,\"\")))","v":26.2},"  km",{"$f":"N1263*1000","v":26200},"m"]
[{"$f":"IF(COUNTIF($B$1:B1264,TRUE)=COUNTIF($B$1:B1263,TRUE),\"\",COUNTIF($B$1:B1264,TRUE))","v":""},{"$f":"Worksheet!$B$14","v":false},{"$f":"RANDBETWEEN(5,RANDBETWEEN(5,Worksheet!$D$6))","v":77},"m","±",{"$f":"IF(I1264=1,H1264*10^RANDBETWEEN(IF(Worksheet!$D$9,-1,0),0),IF(I1264=2,H1264*10^RANDBETWEEN(RANDBETWEEN(0,2),2),CHOOSE(RANDBETWEEN(1,3),5,10,20)))","v":1},{"$f":"IF(I1264=1,D1264,IF(I1264=3,\"%\",\"mm\"))","v":"m"},1,{"$f":"IF(AND(Worksheet!$D$8,RAND()<0.2),3,IF(RAND()<Worksheet!$D$7/100,1,2))","v":1},{"$f":"IF(I1264=1,C1264-F1264,IF(I1264=2,C1264-F1264/1000,IF(I1264=3,(1-F1264/100)*C1264,\"\")))","v":76}," m",{"$f":"J1264*1000","v":76000},"mm",{"$f":"IF(I1264=1,C1264+F1264,IF(I1264=2,C1264+F1264/1000,IF(I1264=3,(1+F1264/100)*C1264,\"\")))","v":78},"  m",{"$f":"N1264*1000","v":78000},"mm"]
[{"$f":"IF(COUNTIF($B$1:B1265,TRUE)=COUNTIF($B$1:B1264,TRUE),\"\",COUNTIF($B$1:B1265,TRUE))","v":986},{"$f":"Worksheet!$B$15","v":true},{"$f":"RANDBETWEEN(5,20)","v":13},"hours","±",{"$f":"IF(I1265=1,H1265*10^RANDBETWEEN(IF(Worksheet!$D$9,-1,0),0),IF(I1265=2,H1265,CHOOSE(RANDBETWEEN(1,3),5,10,20)))","v":0.70000000000000007},{"$f":"IF(I1265=1,D1265,IF(I1265=3,\"%\",\"min\"))","v":"hours"},7,{"$f":"IF(AND(Worksheet!$D$8,RAND()<0),3,IF(RAND()<Worksheet!$D$7/100,1,2))","v":1},null," hours",{"$f":"IF(I1265=1,C1265-F1265,IF(I1265=2,C1265*60-F1265,\"\"))","v":12.3},{"$f":"IF($I1265=1,\" hours\",\" min\")","v":" hours"},null,"  hours",{"$f":"IF(I1265=1,C1265+F1265,IF(I1265=2,C1265*60+F1265,\"\"))","v":13.7},{"$f":"IF($I1265=1,\" hours\",\" min\")","v":" hours"}]
[{"$f":"IF(COUNTIF($B$1:B1266,TRUE)=COUNTIF($B$1:B1265,TRUE),\"\",COUNTIF($B$1:B1266,TRUE))","v":987},{"$f":"Worksheet!$D$11","v":true},{"$f":"RANDBETWEEN(5,RANDBETWEEN(5,Worksheet!$D$6))","v":16},"kg","±",{"$f":"IF(I1266=1,H1266*10^RANDBETWEEN(IF(Worksheet!$D$9,-1,0),0),IF(I1266=2,H1266*10^RANDBETWEEN(RANDBETWEEN(0,2),2),CHOOSE(RANDBETWEEN(1,3),5,10,20)))","v":6},{"$f":"IF(I1266=1,D1266,IF(I1266=3,\"%\",\"g\"))","v":"kg"},6,{"$f":"IF(AND(Worksheet!$D$8,RAND()<0.2),3,IF(RAND()<Worksheet!$D$7/100,1,2))","v":1},{"$f":"IF(I1266=1,C1266-F1266,IF(I1266=2,C1266-F1266/1000,IF(I1266=3,(1-F1266/100)*C1266,\"\")))","v":10}," kg",{"$f":"J1266*1000","v":10000},"g",{"$f":"IF(I1266=1,C1266+F1266,IF(I1266=2,C1266+F1266/1000,IF(I1266=3,(1+F1266/100)*C1266,\"\")))","v":22},"  kg",{"$f":"N1266*1000","v":22000},"g"]
[{"$f":"IF(COUNTIF($B$1:B1267,TRUE)=COUNTIF($B$1:B1266,TRUE),\"\",COUNTIF($B$1:B1267,TRUE))","v":988},{"$f":"Worksheet!$D$12","v":true},{"$f":"RANDBETWEEN(5,RANDBETWEEN(5,Worksheet!$D$6))","v":15},"tonnes","±",{"$f":"IF(I1267=1,H1267*10^RANDBETWEEN(IF(Worksheet!$D$9,-1,0),0),IF(I1267=2,H1267*10^RANDBETWEEN(RANDBETWEEN(0,2),2),CHOOSE(RANDBETWEEN(1,3),5,10,20)))","v":8},{"$f":"IF(I1267=1,D1267,IF(I1267=3,\"%\",\"kg\"))","v":"tonnes"},8,{"$f":"IF(AND(Worksheet!$D$8,RAND()<0.2),3,IF(RAND()<Worksheet!$D$7/100,1,2))","v":1},{"$f":"IF(I1267=1,C1267-F1267,IF(I1267=2,C1267-F1267/1000,IF(I1267=3,(1-F1267/100)*C1267,\"\")))","v":7}," tonnes",{"$f":"J1267*1000","v":7000},"kg",{"$f":"IF(I1267=1,C1267+F1267,IF(I1267=2,C1267+F1267/1000,IF(I1267=3,(1+F1267/100)*C1267,\"\")))","v":23},"  tonnes",{"$f":"N1267*1000","v":23000},"kg"]
[{"$f":"IF(COUNTIF($B$1:B1268,TRUE)=COUNTIF($B$1:B1267,TRUE),\"\",COUNTIF($B$1:B1268,TRUE))","v":989},{"$f":"Worksheet!$D$13","v":true},{"$f":"RANDBETWEEN(5,RANDBETWEEN(5,Worksheet!$D$6))","v":139},"litres","±",{"$f":"IF(I1268=1,H1268*10^RANDBETWEEN(IF(Worksheet!$D$9,-1,0),0),IF(I1268=2,H1268*10^RANDBETWEEN(RANDBETWEEN(0,2),2),CHOOSE(RANDBETWEEN(1,3),5,10,20)))","v":5},{"$f":"IF(I1268=1,D1268,IF(I1268=3,\"%\",\"ml\"))","v":"%"},9,{"$f":"IF(AND(Worksheet!$D$8,RAND()<0.2),3,IF(RAND()<Worksheet!$D$7/100,1,2))","v":3},{"$f":"IF(I1268=1,C1268-F1268,IF(I1268=2,C1268-F1268/1000,IF(I1268=3,(1-F1268/100)*C1268,\"\")))","v":132.04999999999998}," litres",{"$f":"J1268*1000","v":132049.99999999997},"ml",{"$f":"IF(I1268=1,C1268+F1268,IF(I1268=2,C1268+F1268/1000,IF(I1268=3,(1+F1268/100)*C1268,\"\")))","v":145.95000000000002},"  litres",{"$f":"N1268*1000","v":145950.00000000003},"ml"]
[{"$f":"IF(COUNTIF($B$1:B1269,TRUE)=COUNTIF($B$1:B1268,TRUE),\"\",COUNTIF($B$1:B1269,TRUE))","v":990},{"$f":"Worksheet!$D$14","v":true},{"$f":"RANDBETWEEN(5,RANDBETWEEN(5,Worksheet!$D$6))","v":111},"litres","±",{"$f":"IF(I1269=1,H1269*10^RANDBETWEEN(IF(Worksheet!$D$9,-1,0),0),IF(I1269=2,H1269*10^RANDBETWEEN(RANDBETWEEN(0,2),2),CHOOSE(RANDBETWEEN(1,3),5,10,20)))","v":0.1},{"$f":"IF(I1269=1,D1269,IF(I1269=3,\"%\",\"cm³\"))","v":"litres"},1,{"$f":"IF(AND(Worksheet!$D$8,RAND()<0.2),3,IF(RAND()<Worksheet!$D$7/100,1,2))","v":1},{"$f":"IF(I1269=1,C1269-F1269,IF(I1269=2,C1269-F1269/1000,IF(I1269=3,(1-F1269/100)*C1269,\"\")))","v":110.9}," litres",{"$f":"J1269*1000","v":110900},"cm³",{"$f":"IF(I1269=1,C1269+F1269,IF(I1269=2,C1269+F1269/1000,IF(I1269=3,(1+F1269/100)*C1269,\"\")))","v":111.1},"  litres",{"$f":"N1269*1000","v":111100},"cm³"]
[{"$f":"IF(COUNTIF($B$1:B1270,TRUE)=COUNTIF($B$1:B1269,TRUE),\"\",COUNTIF($B$1:B1270,TRUE))","v":""},{"$f":"Worksheet!$D$15","v":false},{"$f":"RANDBETWEEN(5,20)","v":19},"min","±",{"$f":"IF(I1270=1,H1270*10^RANDBETWEEN(IF(Worksheet!$D$9,-1,0),0),IF(I1270=2,H1270,CHOOSE(RANDBETWEEN(1,3),5,10,20)))","v":2},{"$f":"IF(I1270=1,D1270,IF(I1270=3,\"%\",\"sec\"))","v":"sec"},2,{"$f":"IF(AND(Worksheet!$D$8,RAND()<0),3,IF(RAND()<Worksheet!$D$7/100,1,2))","v":2},null," min",{"$f":"IF(I1270=1,C1270-F1270,IF(I1270=2,C1270*60-F1270,\"\"))","v":1138},{"$f":"IF($I1270=1,\" hours\",\" min\")","v":" min"},null,"  min",{"$f":"IF(I1270=1,C1270+F1270,IF(I1270=2,C1270*60+F1270,\"\"))","v":1142},{"$f":"IF($I1270=1,\" hours\",\" min\")","v":" min"}]
[{"$f":"COUNTIF($B$1:B1271,TRUE)","v":991},{"$f":"Worksheet!$B$11","v":true},{"$f":"RANDBETWEEN(5,RANDBETWEEN(5,Worksheet!$D$6))","v":28},"cm","±",{"$f":"IF(I1271=1,H1271*10^RANDBETWEEN(IF(Worksheet!$D$9,-1,0),0),IF(I1271=2,H1271,CHOOSE(RANDBETWEEN(1,3),5,10,20)))","v":0.1},{"$f":"IF(I1271=1,D1271,IF(I1271=3,\"%\",\"mm\"))","v":"cm"},{"$f":"RANDBETWEEN(1,MIN(9,C1271))","v":1},{"$f":"IF(AND(Worksheet!$D$8,RAND()<0.2),3,IF(RAND()<Worksheet!$D$7/100,1,2))","v":1},{"$f":"IF(I1271=1,C1271-F1271,IF(I1271=2,C1271-F1271/10,IF(I1271=3,(1-F1271/100)*C1271,\"\")))","v":27.9},{"$f":"CONCATENATE(\" \",D1271)","v":" cm"},{"$f":"J1271*10","v":279},"mm",{"$f":"IF(I1271=1,C1271+F1271,IF(I1271=2,C1271+F1271/10,IF(I1271=3,(1+F1271/100)*C1271,\"\")))","v":28.1},{"$f":"CONCATENATE(\" \",K1271)","v":"  cm"},{"$f":"N1271*10","v":281},"mm"]
[{"$f":"IF(COUNTIF($B$1:B1272,TRUE)=COUNTIF($B$1:B1271,TRUE),\"\",COUNTIF($B$1:B1272,TRUE))","v":992},{"$f":"Worksheet!$B$12","v":true},{"$f":"RANDBETWEEN(5,RANDBETWEEN(5,Worksheet!$D$6))","v":147},"m","±",{"$f":"IF(I1272=1,H1272*10^RANDBETWEEN(IF(Worksheet!$D$9,-1,0),0),IF(I1272=2,H1272*10^RANDBETWEEN(RANDBETWEEN(0,1),1),CHOOSE(RANDBETWEEN(1,3),5,10,20)))","v":70},{"$f":"IF(I1272=1,D1272,IF(I1272=3,\"%\",\"cm\"))","v":"cm"},{"$f":"RANDBETWEEN(1,MIN(9,C1272))","v":7},{"$f":"IF(AND(Worksheet!$D$8,RAND()<0.2),3,IF(RAND()<Worksheet!$D$7/100,1,2))","v":2},{"$f":"IF(I1272=1,C1272-F1272,IF(I1272=2,C1272-F1272/100,IF(I1272=3,(1-F1272/100)*C1272,\"\")))","v":146.30000000000001},{"$f":"CONCATENATE(\" \",D1272)","v":" m"},{"$f":"J1272*100","v":14630.000000000002},"cm",{"$f":"IF(I1272=1,C1272+F1272,IF(I1272=2,C1272+F1272/100,IF(I1272=3,(1+F1272/100)*C1272,\"\")))","v":147.69999999999999},{"$f":"CONCATENATE(\" \",K1272)","v":"  m"},{"$f":"N1272*100","v":14769.999999999998},"cm"]
[{"$f":"IF(COUNTIF($B$1:B1273,TRUE)=COUNTIF($B$1:B1272,TRUE),\"\",COUNTIF($B$1:B1273,TRUE))","v":993},{"$f":"Worksheet!$B$13","v":true},{"$f":"RANDBETWEEN(5,RANDBETWEEN(5,Worksheet!$D$6))","v":33},"km","±",{"$f":"IF(I1273=1,H1273*10^RANDBETWEEN(IF(Worksheet!$D$9,-1,0),0),IF(I1273=2,H1273*10^RANDBETWEEN(RANDBETWEEN(0,2),2),CHOOSE(RANDBETWEEN(1,3),5,10,20)))","v":5},{"$f":"IF(I1273=1,D1273,IF(I1273=3,\"%\",\"m\"))","v":"%"},3,{"$f":"IF(AND(Worksheet!$D$8,RAND()<0.2),3,IF(RAND()<Worksheet!$D$7/100,1,2))","v":3},{"$f":"IF(I1273=1,C1273-F1273,IF(I1273=2,C1273-F1273/1000,IF(I1273=3,(1-F1273/100)*C1273,\"\")))","v":31.349999999999998}," km",{"$f":"J1273*1000","v":31349.999999999996},"m",{"$f":"IF(I1273=1,C1273+F1273,IF(I1273=2,C1273+F1273/1000,IF(I1273=3,(1+F1273/100)*C1273,\"\")))","v":34.65},"  km",{"$f":"N1273*1000","v":34650},"m"]
[{"$f":"IF(COUNTIF($B$1:B1274,TRUE)=COUNTIF($B$1:B1273,TRUE),\"\",COUNTIF($B$1:B1274,TRUE))","v":""},{"$f":"Worksheet!$B$14","v":false},{"$f":"RANDBETWEEN(5,RANDBETWEEN(5,Worksheet!$D$6))","v":82},"m","±",{"$f":"IF(I1274=1,H1274*10^RANDBETWEEN(IF(Worksheet!$D$9,-1,0),0),IF(I1274=2,H1274*10^RANDBETWEEN(RANDBETWEEN(0,2),2),CHOOSE(RANDBETWEEN(1,3),5,10,20)))","v":0.70000000000000007},{"$f":"IF(I1274=1,D1274,IF(I1274=3,\"%\",\"mm\"))","v":"m"},7,{"$f":"IF(AND(Worksheet!$D$8,RAND()<0.2),3,IF(RAND()<Worksheet!$D$7/100,1,2))","v":1},{"$f":"IF(I1274=1,C1274-F1274,IF(I1274=2,C1274-F1274/1000,IF(I1274=3,(1-F1274/100)*C1274,\"\")))","v":81.3}," m",{"$f":"J1274*1000","v":81300},"mm",{"$f":"IF(I1274=1,C1274+F1274,IF(I1274=2,C1274+F1274/1000,IF(I1274=3,(1+F1274/100)*C1274,\"\")))","v":82.7},"  m",{"$f":"N1274*1000","v":82700},"mm"]
[{"$f":"IF(COUNTIF($B$1:B1275,TRUE)=COUNTIF($B$1:B1274,TRUE),\"\",COUNTIF($B$1:B1275,TRUE))","v":994},{"$f":"Worksheet!$B$15","v":true},{"$f":"RANDBETWEEN(5,20)","v":19},"hours","±",{"$f":"IF(I1275=1,H1275*10^RANDBETWEEN(IF(Worksheet!$D$9,-1,0),0),IF(I1275=2,H1275,CHOOSE(RANDBETWEEN(1,3),5,10,20)))","v":0.30000000000000004},{"$f":"IF(I1275=1,D1275,IF(I1275=3,\"%\",\"min\"))","v":"hours"},3,{"$f":"IF(AND(Worksheet!$D$8,RAND()<0),3,IF(RAND()<Worksheet!$D$7/100,1,2))","v":1},null," hours",{"$f":"IF(I1275=1,C1275-F1275,IF(I1275=2,C1275*60-F1275,\"\"))","v":18.7},{"$f":"IF($I1275=1,\" hours\",\" min\")","v":" hours"},null,"  hours",{"$f":"IF(I1275=1,C1275+F1275,IF(I1275=2,C1275*60+F1275,\"\"))","v":19.3},{"$f":"IF($I1275=1,\" hours\",\" min\")","v":" hours"}]
[{"$f":"IF(COUNTIF($B$1:B1276,TRUE)=COUNTIF($B$1:B1275,TRUE),\"\",COUNTIF($B$1:B1276,TRUE))","v":995},{"$f":"Worksheet!$D$11","v":true},{"$f":"RANDBETWEEN(5,RANDBETWEEN(5,Worksheet!$D$6))","v":6},"kg","±",{"$f":"IF(I1276=1,H1276*10^RANDBETWEEN(IF(Worksheet!$D$9,-1,0),0),IF(I1276=2,H1276*10^RANDBETWEEN(RANDBETWEEN(0,2),2),CHOOSE(RANDBETWEEN(1,3),5,10,20)))","v":4},{"$f":"IF(I1276=1,D1276,IF(I1276=3,\"%\",\"g\"))","v":"kg"},4,{"$f":"IF(AND(Worksheet!$D$8,RAND()<0.2),3,IF(RAND()<Worksheet!$D$7/100,1,2))","v":1},{"$f":"IF(I1276=1,C1276-F1276,IF(I1276=2,C1276-F1276/1000,IF(I1276=3,(1-F1276/100)*C1276,\"\")))","v":2}," kg",{"$f":"J1276*1000","v":2000},"g",{"$f":"IF(I1276=1,C1276+F1276,IF(I1276=2,C1276+F1276/1000,IF(I1276=3,(1+F1276/100)*C1276,\"\")))","v":10},"  kg",{"$f":"N1276*1000","v":10000},"g"]
[{"$f":"IF(COUNTIF($B$1:B1277,TRUE)=COUNTIF($B$1:B1276,TRUE),\"\",COUNTIF($B$1:B1277,TRUE))","v":996},{"$f":"Worksheet!$D$12","v":true},{"$f":"RANDBETWEEN(5,RANDBETWEEN(5,Worksheet!$D$6))","v":22},"tonnes","±",{"$f":"IF(I1277=1,H1277*10^RANDBETWEEN(IF(Worksheet!$D$9,-1,0),0),IF(I1277=2,H1277*10^RANDBETWEEN(RANDBETWEEN(0,2),2),CHOOSE(RANDBETWEEN(1,3),5,10,20)))","v":3},{"$f":"IF(I1277=1,D1277,IF(I1277=3,\"%\",\"kg\"))","v":"tonnes"},3,{"$f":"IF(AND(Worksheet!$D$8,RAND()<0.2),3,IF(RAND()<Worksheet!$D$7/100,1,2))","v":1},{"$f":"IF(I1277=1,C1277-F1277,IF(I1277=2,C1277-F1277/1000,IF(I1277=3,(1-F1277/100)*C1277,\"\")))","v":19}," tonnes",{"$f":"J1277*1000","v":19000},"kg",{"$f":"IF(I1277=1,C1277+F1277,IF(I1277=2,C1277+F1277/1000,IF(I1277=3,(1+F1277/100)*C1277,\"\")))","v":25},"  tonnes",{"$f":"N1277*1000","v":25000},"kg"]
[{"$f":"IF(COUNTIF($B$1:B1278,TRUE)=COUNTIF($B$1:B1277,TRUE),\"\",COUNTIF($B$1:B1278,TRUE))","v":997},{"$f":"Worksheet!$D$13","v":true},{"$f":"RANDBETWEEN(5,RANDBETWEEN(5,Worksheet!$D$6))","v":21},"litres","±",{"$f":"IF(I1278=1,H1278*10^RANDBETWEEN(IF(Worksheet!$D$9,-1,0),0),IF(I1278=2,H1278*10^RANDBETWEEN(RANDBETWEEN(0,2),2),CHOOSE(RANDBETWEEN(1,3),5,10,20)))","v":20},{"$f":"IF(I1278=1,D1278,IF(I1278=3,\"%\",\"ml\"))","v":"%"},4,{"$f":"IF(AND(Worksheet!$D$8,RAND()<0.2),3,IF(RAND()<Worksheet!$D$7/100,1,2))","v":3},{"$f":"IF(I1278=1,C1278-F1278,IF(I1278=2,C1278-F1278/1000,IF(I1278=3,(1-F1278/100)*C1278,\"\")))","v":16.8}," litres",{"$f":"J1278*1000","v":16800},"ml",{"$f":"IF(I1278=1,C1278+F1278,IF(I1278=2,C1278+F1278/1000,IF(I1278=3,(1+F1278/100)*C1278,\"\")))","v":25.2},"  litres",{"$f":"N1278*1000","v":25200},"ml"]
[{"$f":"IF(COUNTIF($B$1:B1279,TRUE)=COUNTIF($B$1:B1278,TRUE),\"\",COUNTIF($B$1:B1279,TRUE))","v":998},{"$f":"Worksheet!$D$14","v":true},{"$f":"RANDBETWEEN(5,RANDBETWEEN(5,Worksheet!$D$6))","v":136},"litres","±",{"$f":"IF(I1279=1,H1279*10^RANDBETWEEN(IF(Worksheet!$D$9,-1,0),0),IF(I1279=2,H1279*10^RANDBETWEEN(RANDBETWEEN(0,2),2),CHOOSE(RANDBETWEEN(1,3),5,10,20)))","v":8},{"$f":"IF(I1279=1,D1279,IF(I1279=3,\"%\",\"cm³\"))","v":"litres"},8,{"$f":"IF(AND(Worksheet!$D$8,RAND()<0.2),3,IF(RAND()<Worksheet!$D$7/100,1,2))","v":1},{"$f":"IF(I1279=1,C1279-F1279,IF(I1279=2,C1279-F1279/1000,IF(I1279=3,(1-F1279/100)*C1279,\"\")))","v":128}," litres",{"$f":"J1279*1000","v":128000},"cm³",{"$f":"IF(I1279=1,C1279+F1279,IF(I1279=2,C1279+F1279/1000,IF(I1279=3,(1+F1279/100)*C1279,\"\")))","v":144},"  litres",{"$f":"N1279*1000","v":144000},"cm³"]
[{"$f":"IF(COUNTIF($B$1:B1280,TRUE)=COUNTIF($B$1:B1279,TRUE),\"\",COUNTIF($B$1:B1280,TRUE))","v":""},{"$f":"Worksheet!$D$15","v":false},{"$f":"RANDBETWEEN(5,20)","v":9},"min","±",{"$f":"IF(I1280=1,H1280*10^RANDBETWEEN(IF(Worksheet!$D$9,-1,0),0),IF(I1280=2,H1280,CHOOSE(RANDBETWEEN(1,3),5,10,20)))","v":0.70000000000000007},{"$f":"IF(I1280=1,D1280,IF(I1280=3,\"%\",\"sec\"))","v":"min"},7,{"$f":"IF(AND(Worksheet!$D$8,RAND()<0),3,IF(RAND()<Worksheet!$D$7/100,1,2))","v":1},null," min",{"$f":"IF(I1280=1,C1280-F1280,IF(I1280=2,C1280*60-F1280,\"\"))","v":8.3000000000000007},{"$f":"IF($I1280=1,\" hours\",\" min\")","v":" hours"},null,"  min",{"$f":"IF(I1280=1,C1280+F1280,IF(I1280=2,C1280*60+F1280,\"\"))","v":9.6999999999999993},{"$f":"IF($I1280=1,\" hours\",\" min\")","v":" hours"}]
[{"$f":"COUNTIF($B$1:B1281,TRUE)","v":999},{"$f":"Worksheet!$B$11","v":true},{"$f":"RANDBETWEEN(5,RANDBETWEEN(5,Worksheet!$D$6))","v":29},"cm","±",{"$f":"IF(I1281=1,H1281*10^RANDBETWEEN(IF(Worksheet!$D$9,-1,0),0),IF(I1281=2,H1281,CHOOSE(RANDBETWEEN(1,3),5,10,20)))","v":4},{"$f":"IF(I1281=1,D1281,IF(I1281=3,\"%\",\"mm\"))","v":"cm"},{"$f":"RANDBETWEEN(1,MIN(9,C1281))","v":4},{"$f":"IF(AND(Worksheet!$D$8,RAND()<0.2),3,IF(RAND()<Worksheet!$D$7/100,1,2))","v":1},{"$f":"IF(I1281=1,C1281-F1281,IF(I1281=2,C1281-F1281/10,IF(I1281=3,(1-F1281/100)*C1281,\"\")))","v":25},{"$f":"CONCATENATE(\" \",D1281)","v":" cm"},{"$f":"J1281*10","v":250},"mm",{"$f":"IF(I1281=1,C1281+F1281,IF(I1281=2,C1281+F1281/10,IF(I1281=3,(1+F1281/100)*C1281,\"\")))","v":33},{"$f":"CONCATENATE(\" \",K1281)","v":"  cm"},{"$f":"N1281*10","v":330},"mm"]
[{"$f":"IF(COUNTIF($B$1:B1282,TRUE)=COUNTIF($B$1:B1281,TRUE),\"\",COUNTIF($B$1:B1282,TRUE))","v":1000},{"$f":"Worksheet!$B$12","v":true},{"$f":"RANDBETWEEN(5,RANDBETWEEN(5,Worksheet!$D$6))","v":124},"m","±",{"$f":"IF(I1282=1,H1282*10^RANDBETWEEN(IF(Worksheet!$D$9,-1,0),0),IF(I1282=2,H1282*10^RANDBETWEEN(RANDBETWEEN(0,1),1),CHOOSE(RANDBETWEEN(1,3),5,10,20)))","v":0.5},{"$f":"IF(I1282=1,D1282,IF(I1282=3,\"%\",\"cm\"))","v":"m"},{"$f":"RANDBETWEEN(1,MIN(9,C1282))","v":5},{"$f":"IF(AND(Worksheet!$D$8,RAND()<0.2),3,IF(RAND()<Worksheet!$D$7/100,1,2))","v":1},{"$f":"IF(I1282=1,C1282-F1282,IF(I1282=2,C1282-F1282/100,IF(I1282=3,(1-F1282/100)*C1282,\"\")))","v":123.5},{"$f":"CONCATENATE(\" \",D1282)","v":" m"},{"$f":"J1282*100","v":12350},"cm",{"$f":"IF(I1282=1,C1282+F1282,IF(I1282=2,C1282+F1282/100,IF(I1282=3,(1+F1282/100)*C1282,\"\")))","v":124.5},{"$f":"CONCATENATE(\" \",K1282)","v":"  m"},{"$f":"N1282*100","v":12450},"cm"]
[{"$f":"IF(COUNTIF($B$1:B1283,TRUE)=COUNTIF($B$1:B1282,TRUE),\"\",COUNTIF($B$1:B1283,TRUE))","v":1001},{"$f":"Worksheet!$B$13","v":true},{"$f":"RANDBETWEEN(5,RANDBETWEEN(5,Worksheet!$D$6))","v":9},"km","±",{"$f":"IF(I1283=1,H1283*10^RANDBETWEEN(IF(Worksheet!$D$9,-1,0),0),IF(I1283=2,H1283*10^RANDBETWEEN(RANDBETWEEN(0,2),2),CHOOSE(RANDBETWEEN(1,3),5,10,20)))","v":7},{"$f":"IF(I1283=1,D1283,IF(I1283=3,\"%\",\"m\"))","v":"km"},7,{"$f":"IF(AND(Worksheet!$D$8,RAND()<0.2),3,IF(RAND()<Worksheet!$D$7/100,1,2))","v":1},{"$f":"IF(I1283=1,C1283-F1283,IF(I1283=2,C1283-F1283/1000,IF(I1283=3,(1-F1283/100)*C1283,\"\")))","v":2}," km",{"$f":"J1283*1000","v":2000},"m",{"$f":"IF(I1283=1,C1283+F1283,IF(I1283=2,C1283+F1283/1000,IF(I1283=3,(1+F1283/100)*C1283,\"\")))","v":16},"  km",{"$f":"N1283*1000","v":16000},"m"]
[{"$f":"IF(COUNTIF($B$1:B1284,TRUE)=COUNTIF($B$1:B1283,TRUE),\"\",COUNTIF($B$1:B1284,TRUE))","v":""},{"$f":"Worksheet!$B$14","v":false},{"$f":"RANDBETWEEN(5,RANDBETWEEN(5,Worksheet!$D$6))","v":320},"m","±",{"$f":"IF(I1284=1,H1284*10^RANDBETWEEN(IF(Worksheet!$D$9,-1,0),0),IF(I1284=2,H1284*10^RANDBETWEEN(RANDBETWEEN(0,2),2),CHOOSE(RANDBETWEEN(1,3),5,10,20)))","v":0.9},{"$f":"IF(I1284=1,D1284,IF(I1284=3,\"%\",\"mm\"))","v":"m"},9,{"$f":"IF(AND(Worksheet!$D$8,RAND()<0.2),3,IF(RAND()<Worksheet!$D$7/100,1,2))","v":1},{"$f":"IF(I1284=1,C1284-F1284,IF(I1284=2,C1284-F1284/1000,IF(I1284=3,(1-F1284/100)*C1284,\"\")))","v":319.10000000000002}," m",{"$f":"J1284*1000","v":319100},"mm",{"$f":"IF(I1284=1,C1284+F1284,IF(I1284=2,C1284+F1284/1000,IF(I1284=3,(1+F1284/100)*C1284,\"\")))","v":320.89999999999998},"  m",{"$f":"N1284*1000","v":320900},"mm"]
[{"$f":"IF(COUNTIF($B$1:B1285,TRUE)=COUNTIF($B$1:B1284,TRUE),\"\",COUNTIF($B$1:B1285,TRUE))","v":1002},{"$f":"Worksheet!$B$15","v":true},{"$f":"RANDBETWEEN(5,20)","v":13},"hours","±",{"$f":"IF(I1285=1,H1285*10^RANDBETWEEN(IF(Worksheet!$D$9,-1,0),0),IF(I1285=2,H1285,CHOOSE(RANDBETWEEN(1,3),5,10,20)))","v":0.9},{"$f":"IF(I1285=1,D1285,IF(I1285=3,\"%\",\"min\"))","v":"hours"},9,{"$f":"IF(AND(Worksheet!$D$8,RAND()<0),3,IF(RAND()<Worksheet!$D$7/100,1,2))","v":1},null," hours",{"$f":"IF(I1285=1,C1285-F1285,IF(I1285=2,C1285*60-F1285,\"\"))","v":12.1},{"$f":"IF($I1285=1,\" hours\",\" min\")","v":" hours"},null,"  hours",{"$f":"IF(I1285=1,C1285+F1285,IF(I1285=2,C1285*60+F1285,\"\"))","v":13.9},{"$f":"IF($I1285=1,\" hours\",\" min\")","v":" hours"}]
[{"$f":"IF(COUNTIF($B$1:B1286,TRUE)=COUNTIF($B$1:B1285,TRUE),\"\",COUNTIF($B$1:B1286,TRUE))","v":1003},{"$f":"Worksheet!$D$11","v":true},{"$f":"RANDBETWEEN(5,RANDBETWEEN(5,Worksheet!$D$6))","v":8},"kg","±",{"$f":"IF(I1286=1,H1286*10^RANDBETWEEN(IF(Worksheet!$D$9,-1,0),0),IF(I1286=2,H1286*10^RANDBETWEEN(RANDBETWEEN(0,2),2),CHOOSE(RANDBETWEEN(1,3),5,10,20)))","v":10},{"$f":"IF(I1286=1,D1286,IF(I1286=3,\"%\",\"g\"))","v":"%"},5,{"$f":"IF(AND(Worksheet!$D$8,RAND()<0.2),3,IF(RAND()<Worksheet!$D$7/100,1,2))","v":3},{"$f":"IF(I1286=1,C1286-F1286,IF(I1286=2,C1286-F1286/1000,IF(I1286=3,(1-F1286/100)*C1286,\"\")))","v":7.2}," kg",{"$f":"J1286*1000","v":7200},"g",{"$f":"IF(I1286=1,C1286+F1286,IF(I1286=2,C1286+F1286/1000,IF(I1286=3,(1+F1286/100)*C1286,\"\")))","v":8.8000000000000007},"  kg",{"$f":"N1286*1000","v":8800},"g"]
[{"$f":"IF(COUNTIF($B$1:B1287,TRUE)=COUNTIF($B$1:B1286,TRUE),\"\",COUNTIF($B$1:B1287,TRUE))","v":1004},{"$f":"Worksheet!$D$12","v":true},{"$f":"RANDBETWEEN(5,RANDBETWEEN(5,Worksheet!$D$6))","v":34},"tonnes","±",{"$f":"IF(I1287=1,H1287*10^RANDBETWEEN(IF(Worksheet!$D$9,-1,0),0),IF(I1287=2,H1287*10^RANDBETWEEN(RANDBETWEEN(0,2),2),CHOOSE(RANDBETWEEN(1,3),5,10,20)))","v":10},{"$f":"IF(I1287=1,D1287,IF(I1287=3,\"%\",\"kg\"))","v":"%"},4,{"$f":"IF(AND(Worksheet!$D$8,RAND()<0.2),3,IF(RAND()<Worksheet!$D$7/100,1,2))","v":3},{"$f":"IF(I1287=1,C1287-F1287,IF(I1287=2,C1287-F1287/1000,IF(I1287=3,(1-F1287/100)*C1287,\"\")))","v":30.6}," tonnes",{"$f":"J1287*1000","v":30600},"kg",{"$f":"IF(I1287=1,C1287+F1287,IF(I1287=2,C1287+F1287/1000,IF(I1287=3,(1+F1287/100)*C1287,\"\")))","v":37.400000000000006},"  tonnes",{"$f":"N1287*1000","v":37400.000000000007},"kg"]
[{"$f":"IF(COUNTIF($B$1:B1288,TRUE)=COUNTIF($B$1:B1287,TRUE),\"\",COUNTIF($B$1:B1288,TRUE))","v":1005},{"$f":"Worksheet!$D$13","v":true},{"$f":"RANDBETWEEN(5,RANDBETWEEN(5,Worksheet!$D$6))","v":84},"litres","±",{"$f":"IF(I1288=1,H1288*10^RANDBETWEEN(IF(Worksheet!$D$9,-1,0),0),IF(I1288=2,H1288*10^RANDBETWEEN(RANDBETWEEN(0,2),2),CHOOSE(RANDBETWEEN(1,3),5,10,20)))","v":5},{"$f":"IF(I1288=1,D1288,IF(I1288=3,\"%\",\"ml\"))","v":"%"},3,{"$f":"IF(AND(Worksheet!$D$8,RAND()<0.2),3,IF(RAND()<Worksheet!$D$7/100,1,2))","v":3},{"$f":"IF(I1288=1,C1288-F1288,IF(I1288=2,C1288-F1288/1000,IF(I1288=3,(1-F1288/100)*C1288,\"\")))","v":79.8}," litres",{"$f":"J1288*1000","v":79800},"ml",{"$f":"IF(I1288=1,C1288+F1288,IF(I1288=2,C1288+F1288/1000,IF(I1288=3,(1+F1288/100)*C1288,\"\")))","v":88.2},"  litres",{"$f":"N1288*1000","v":88200},"ml"]
[{"$f":"IF(COUNTIF($B$1:B1289,TRUE)=COUNTIF($B$1:B1288,TRUE),\"\",COUNTIF($B$1:B1289,TRUE))","v":1006},{"$f":"Worksheet!$D$14","v":true},{"$f":"RANDBETWEEN(5,RANDBETWEEN(5,Worksheet!$D$6))","v":53},"litres","±",{"$f":"IF(I1289=1,H1289*10^RANDBETWEEN(IF(Worksheet!$D$9,-1,0),0),IF(I1289=2,H1289*10^RANDBETWEEN(RANDBETWEEN(0,2),2),CHOOSE(RANDBETWEEN(1,3),5,10,20)))","v":80},{"$f":"IF(I1289=1,D1289,IF(I1289=3,\"%\",\"cm³\"))","v":"cm³"},8,{"$f":"IF(AND(Worksheet!$D$8,RAND()<0.2),3,IF(RAND()<Worksheet!$D$7/100,1,2))","v":2},{"$f":"IF(I1289=1,C1289-F1289,IF(I1289=2,C1289-F1289/1000,IF(I1289=3,(1-F1289/100)*C1289,\"\")))","v":52.92}," litres",{"$f":"J1289*1000","v":52920},"cm³",{"$f":"IF(I1289=1,C1289+F1289,IF(I1289=2,C1289+F1289/1000,IF(I1289=3,(1+F1289/100)*C1289,\"\")))","v":53.08},"  litres",{"$f":"N1289*1000","v":53080},"cm³"]
[{"$f":"IF(COUNTIF($B$1:B1290,TRUE)=COUNTIF($B$1:B1289,TRUE),\"\",COUNTIF($B$1:B1290,TRUE))","v":""},{"$f":"Worksheet!$D$15","v":false},{"$f":"RANDBETWEEN(5,20)","v":14},"min","±",{"$f":"IF(I1290=1,H1290*10^RANDBETWEEN(IF(Worksheet!$D$9,-1,0),0),IF(I1290=2,H1290,CHOOSE(RANDBETWEEN(1,3),5,10,20)))","v":0.4},{"$f":"IF(I1290=1,D1290,IF(I1290=3,\"%\",\"sec\"))","v":"min"},4,{"$f":"IF(AND(Worksheet!$D$8,RAND()<0),3,IF(RAND()<Worksheet!$D$7/100,1,2))","v":1},null," min",{"$f":"IF(I1290=1,C1290-F1290,IF(I1290=2,C1290*60-F1290,\"\"))","v":13.6},{"$f":"IF($I1290=1,\" hours\",\" min\")","v":" hours"},null,"  min",{"$f":"IF(I1290=1,C1290+F1290,IF(I1290=2,C1290*60+F1290,\"\"))","v":14.4},{"$f":"IF($I1290=1,\" hours\",\" min\")","v":" hours"}]
[{"$f":"COUNTIF($B$1:B1291,TRUE)","v":1007},{"$f":"Worksheet!$B$11","v":true},{"$f":"RANDBETWEEN(5,RANDBETWEEN(5,Worksheet!$D$6))","v":234},"cm","±",{"$f":"IF(I1291=1,H1291*10^RANDBETWEEN(IF(Worksheet!$D$9,-1,0),0),IF(I1291=2,H1291,CHOOSE(RANDBETWEEN(1,3),5,10,20)))","v":0.30000000000000004},{"$f":"IF(I1291=1,D1291,IF(I1291=3,\"%\",\"mm\"))","v":"cm"},{"$f":"RANDBETWEEN(1,MIN(9,C1291))","v":3},{"$f":"IF(AND(Worksheet!$D$8,RAND()<0.2),3,IF(RAND()<Worksheet!$D$7/100,1,2))","v":1},{"$f":"IF(I1291=1,C1291-F1291,IF(I1291=2,C1291-F1291/10,IF(I1291=3,(1-F1291/100)*C1291,\"\")))","v":233.7},{"$f":"CONCATENATE(\" \",D1291)","v":" cm"},{"$f":"J1291*10","v":2337},"mm",{"$f":"IF(I1291=1,C1291+F1291,IF(I1291=2,C1291+F1291/10,IF(I1291=3,(1+F1291/100)*C1291,\"\")))","v":234.3},{"$f":"CONCATENATE(\" \",K1291)","v":"  cm"},{"$f":"N1291*10","v":2343},"mm"]
[{"$f":"IF(COUNTIF($B$1:B1292,TRUE)=COUNTIF($B$1:B1291,TRUE),\"\",COUNTIF($B$1:B1292,TRUE))","v":1008},{"$f":"Worksheet!$B$12","v":true},{"$f":"RANDBETWEEN(5,RANDBETWEEN(5,Worksheet!$D$6))","v":91},"m","±",{"$f":"IF(I1292=1,H1292*10^RANDBETWEEN(IF(Worksheet!$D$9,-1,0),0),IF(I1292=2,H1292*10^RANDBETWEEN(RANDBETWEEN(0,1),1),CHOOSE(RANDBETWEEN(1,3),5,10,20)))","v":0.9},{"$f":"IF(I1292=1,D1292,IF(I1292=3,\"%\",\"cm\"))","v":"m"},{"$f":"RANDBETWEEN(1,MIN(9,C1292))","v":9},{"$f":"IF(AND(Worksheet!$D$8,RAND()<0.2),3,IF(RAND()<Worksheet!$D$7/100,1,2))","v":1},{"$f":"IF(I1292=1,C1292-F1292,IF(I1292=2,C1292-F1292/100,IF(I1292=3,(1-F1292/100)*C1292,\"\")))","v":90.1},{"$f":"CONCATENATE(\" \",D1292)","v":" m"},{"$f":"J1292*100","v":9010},"cm",{"$f":"IF(I1292=1,C1292+F1292,IF(I1292=2,C1292+F1292/100,IF(I1292=3,(1+F1292/100)*C1292,\"\")))","v":91.9},{"$f":"CONCATENATE(\" \",K1292)","v":"  m"},{"$f":"N1292*100","v":9190},"cm"]
[{"$f":"IF(COUNTIF($B$1:B1293,TRUE)=COUNTIF($B$1:B1292,TRUE),\"\",COUNTIF($B$1:B1293,TRUE))","v":1009},{"$f":"Worksheet!$B$13","v":true},{"$f":"RANDBETWEEN(5,RANDBETWEEN(5,Worksheet!$D$6))","v":17},"km","±",{"$f":"IF(I1293=1,H1293*10^RANDBETWEEN(IF(Worksheet!$D$9,-1,0),0),IF(I1293=2,H1293*10^RANDBETWEEN(RANDBETWEEN(0,2),2),CHOOSE(RANDBETWEEN(1,3),5,10,20)))","v":3},{"$f":"IF(I1293=1,D1293,IF(I1293=3,\"%\",\"m\"))","v":"km"},3,{"$f":"IF(AND(Worksheet!$D$8,RAND()<0.2),3,IF(RAND()<Worksheet!$D$7/100,1,2))","v":1},{"$f":"IF(I1293=1,C1293-F1293,IF(I1293=2,C1293-F1293/1000,IF(I1293=3,(1-F1293/100)*C1293,\"\")))","v":14}," km",{"$f":"J1293*1000","v":14000},"m",{"$f":"IF(I1293=1,C1293+F1293,IF(I1293=2,C1293+F1293/1000,IF(I1293=3,(1+F1293/100)*C1293,\"\")))","v":20},"  km",{"$f":"N1293*1000","v":20000},"m"]
[{"$f":"IF(COUNTIF($B$1:B1294,TRUE)=COUNTIF($B$1:B1293,TRUE),\"\",COUNTIF($B$1:B1294,TRUE))","v":""},{"$f":"Worksheet!$B$14","v":false},{"$f":"RANDBETWEEN(5,RANDBETWEEN(5,Worksheet!$D$6))","v":19},"m","±",{"$f":"IF(I1294=1,H1294*10^RANDBETWEEN(IF(Worksheet!$D$9,-1,0),0),IF(I1294=2,H1294*10^RANDBETWEEN(RANDBETWEEN(0,2),2),CHOOSE(RANDBETWEEN(1,3),5,10,20)))","v":900},{"$f":"IF(I1294=1,D1294,IF(I1294=3,\"%\",\"mm\"))","v":"mm"},9,{"$f":"IF(AND(Worksheet!$D$8,RAND()<0.2),3,IF(RAND()<Worksheet!$D$7/100,1,2))","v":2},{"$f":"IF(I1294=1,C1294-F1294,IF(I1294=2,C1294-F1294/1000,IF(I1294=3,(1-F1294/100)*C1294,\"\")))","v":18.100000000000001}," m",{"$f":"J1294*1000","v":18100},"mm",{"$f":"IF(I1294=1,C1294+F1294,IF(I1294=2,C1294+F1294/1000,IF(I1294=3,(1+F1294/100)*C1294,\"\")))","v":19.899999999999999},"  m",{"$f":"N1294*1000","v":19900},"mm"]
[{"$f":"IF(COUNTIF($B$1:B1295,TRUE)=COUNTIF($B$1:B1294,TRUE),\"\",COUNTIF($B$1:B1295,TRUE))","v":1010},{"$f":"Worksheet!$B$15","v":true},{"$f":"RANDBETWEEN(5,20)","v":15},"hours","±",{"$f":"IF(I1295=1,H1295*10^RANDBETWEEN(IF(Worksheet!$D$9,-1,0),0),IF(I1295=2,H1295,CHOOSE(RANDBETWEEN(1,3),5,10,20)))","v":4},{"$f":"IF(I1295=1,D1295,IF(I1295=3,\"%\",\"min\"))","v":"min"},4,{"$f":"IF(AND(Worksheet!$D$8,RAND()<0),3,IF(RAND()<Worksheet!$D$7/100,1,2))","v":2},null," hours",{"$f":"IF(I1295=1,C1295-F1295,IF(I1295=2,C1295*60-F1295,\"\"))","v":896},{"$f":"IF($I1295=1,\" hours\",\" min\")","v":" min"},null,"  hours",{"$f":"IF(I1295=1,C1295+F1295,IF(I1295=2,C1295*60+F1295,\"\"))","v":904},{"$f":"IF($I1295=1,\" hours\",\" min\")","v":" min"}]
[{"$f":"IF(COUNTIF($B$1:B1296,TRUE)=COUNTIF($B$1:B1295,TRUE),\"\",COUNTIF($B$1:B1296,TRUE))","v":1011},{"$f":"Worksheet!$D$11","v":true},{"$f":"RANDBETWEEN(5,RANDBETWEEN(5,Worksheet!$D$6))","v":28},"kg","±",{"$f":"IF(I1296=1,H1296*10^RANDBETWEEN(IF(Worksheet!$D$9,-1,0),0),IF(I1296=2,H1296*10^RANDBETWEEN(RANDBETWEEN(0,2),2),CHOOSE(RANDBETWEEN(1,3),5,10,20)))","v":0.2},{"$f":"IF(I1296=1,D1296,IF(I1296=3,\"%\",\"g\"))","v":"kg"},2,{"$f":"IF(AND(Worksheet!$D$8,RAND()<0.2),3,IF(RAND()<Worksheet!$D$7/100,1,2))","v":1},{"$f":"IF(I1296=1,C1296-F1296,IF(I1296=2,C1296-F1296/1000,IF(I1296=3,(1-F1296/100)*C1296,\"\")))","v":27.8}," kg",{"$f":"J1296*1000","v":27800},"g",{"$f":"IF(I1296=1,C1296+F1296,IF(I1296=2,C1296+F1296/1000,IF(I1296=3,(1+F1296/100)*C1296,\"\")))","v":28.2},"  kg",{"$f":"N1296*1000","v":28200},"g"]
[{"$f":"IF(COUNTIF($B$1:B1297,TRUE)=COUNTIF($B$1:B1296,TRUE),\"\",COUNTIF($B$1:B1297,TRUE))","v":1012},{"$f":"Worksheet!$D$12","v":true},{"$f":"RANDBETWEEN(5,RANDBETWEEN(5,Worksheet!$D$6))","v":100},"tonnes","±",{"$f":"IF(I1297=1,H1297*10^RANDBETWEEN(IF(Worksheet!$D$9,-1,0),0),IF(I1297=2,H1297*10^RANDBETWEEN(RANDBETWEEN(0,2),2),CHOOSE(RANDBETWEEN(1,3),5,10,20)))","v":4},{"$f":"IF(I1297=1,D1297,IF(I1297=3,\"%\",\"kg\"))","v":"tonnes"},4,{"$f":"IF(AND(Worksheet!$D$8,RAND()<0.2),3,IF(RAND()<Worksheet!$D$7/100,1,2))","v":1},{"$f":"IF(I1297=1,C1297-F1297,IF(I1297=2,C1297-F1297/1000,IF(I1297=3,(1-F1297/100)*C1297,\"\")))","v":96}," tonnes",{"$f":"J1297*1000","v":96000},"kg",{"$f":"IF(I1297=1,C1297+F1297,IF(I1297=2,C1297+F1297/1000,IF(I1297=3,(1+F1297/100)*C1297,\"\")))","v":104},"  tonnes",{"$f":"N1297*1000","v":104000},"kg"]
[{"$f":"IF(COUNTIF($B$1:B1298,TRUE)=COUNTIF($B$1:B1297,TRUE),\"\",COUNTIF($B$1:B1298,TRUE))","v":1013},{"$f":"Worksheet!$D$13","v":true},{"$f":"RANDBETWEEN(5,RANDBETWEEN(5,Worksheet!$D$6))","v":108},"litres","±",{"$f":"IF(I1298=1,H1298*10^RANDBETWEEN(IF(Worksheet!$D$9,-1,0),0),IF(I1298=2,H1298*10^RANDBETWEEN(RANDBETWEEN(0,2),2),CHOOSE(RANDBETWEEN(1,3),5,10,20)))","v":0.60000000000000009},{"$f":"IF(I1298=1,D1298,IF(I1298=3,\"%\",\"ml\"))","v":"litres"},6,{"$f":"IF(AND(Worksheet!$D$8,RAND()<0.2),3,IF(RAND()<Worksheet!$D$7/100,1,2))","v":1},{"$f":"IF(I1298=1,C1298-F1298,IF(I1298=2,C1298-F1298/1000,IF(I1298=3,(1-F1298/100)*C1298,\"\")))","v":107.4}," litres",{"$f":"J1298*1000","v":107400},"ml",{"$f":"IF(I1298=1,C1298+F1298,IF(I1298=2,C1298+F1298/1000,IF(I1298=3,(1+F1298/100)*C1298,\"\")))","v":108.6},"  litres",{"$f":"N1298*1000","v":108600},"ml"]
[{"$f":"IF(COUNTIF($B$1:B1299,TRUE)=COUNTIF($B$1:B1298,TRUE),\"\",COUNTIF($B$1:B1299,TRUE))","v":1014},{"$f":"Worksheet!$D$14","v":true},{"$f":"RANDBETWEEN(5,RANDBETWEEN(5,Worksheet!$D$6))","v":23},"litres","±",{"$f":"IF(I1299=1,H1299*10^RANDBETWEEN(IF(Worksheet!$D$9,-1,0),0),IF(I1299=2,H1299*10^RANDBETWEEN(RANDBETWEEN(0,2),2),CHOOSE(RANDBETWEEN(1,3),5,10,20)))","v":20},{"$f":"IF(I1299=1,D1299,IF(I1299=3,\"%\",\"cm³\"))","v":"%"},4,{"$f":"IF(AND(Worksheet!$D$8,RAND()<0.2),3,IF(RAND()<Worksheet!$D$7/100,1,2))","v":3},{"$f":"IF(I1299=1,C1299-F1299,IF(I1299=2,C1299-F1299/1000,IF(I1299=3,(1-F1299/100)*C1299,\"\")))","v":18.400000000000002}," litres",{"$f":"J1299*1000","v":18400.000000000004},"cm³",{"$f":"IF(I1299=1,C1299+F1299,IF(I1299=2,C1299+F1299/1000,IF(I1299=3,(1+F1299/100)*C1299,\"\")))","v":27.599999999999998},"  litres",{"$f":"N1299*1000","v":27599.999999999996},"cm³"]
[{"$f":"IF(COUNTIF($B$1:B1300,TRUE)=COUNTIF($B$1:B1299,TRUE),\"\",COUNTIF($B$1:B1300,TRUE))","v":""},{"$f":"Worksheet!$D$15","v":false},{"$f":"RANDBETWEEN(5,20)","v":9},"min","±",{"$f":"IF(I1300=1,H1300*10^RANDBETWEEN(IF(Worksheet!$D$9,-1,0),0),IF(I1300=2,H1300,CHOOSE(RANDBETWEEN(1,3),5,10,20)))","v":7},{"$f":"IF(I1300=1,D1300,IF(I1300=3,\"%\",\"sec\"))","v":"min"},7,{"$f":"IF(AND(Worksheet!$D$8,RAND()<0),3,IF(RAND()<Worksheet!$D$7/100,1,2))","v":1},null," min",{"$f":"IF(I1300=1,C1300-F1300,IF(I1300=2,C1300*60-F1300,\"\"))","v":2},{"$f":"IF($I1300=1,\" hours\",\" min\")","v":" hours"},null,"  min",{"$f":"IF(I1300=1,C1300+F1300,IF(I1300=2,C1300*60+F1300,\"\"))","v":16},{"$f":"IF($I1300=1,\" hours\",\" min\")","v":" hours"}]
[{"$f":"COUNTIF($B$1:B1301,TRUE)","v":1015},{"$f":"Worksheet!$B$11","v":true},{"$f":"RANDBETWEEN(5,RANDBETWEEN(5,Worksheet!$D$6))","v":162},"cm","±",{"$f":"IF(I1301=1,H1301*10^RANDBETWEEN(IF(Worksheet!$D$9,-1,0),0),IF(I1301=2,H1301,CHOOSE(RANDBETWEEN(1,3),5,10,20)))","v":0.30000000000000004},{"$f":"IF(I1301=1,D1301,IF(I1301=3,\"%\",\"mm\"))","v":"cm"},{"$f":"RANDBETWEEN(1,MIN(9,C1301))","v":3},{"$f":"IF(AND(Worksheet!$D$8,RAND()<0.2),3,IF(RAND()<Worksheet!$D$7/100,1,2))","v":1},{"$f":"IF(I1301=1,C1301-F1301,IF(I1301=2,C1301-F1301/10,IF(I1301=3,(1-F1301/100)*C1301,\"\")))","v":161.69999999999999},{"$f":"CONCATENATE(\" \",D1301)","v":" cm"},{"$f":"J1301*10","v":1617},"mm",{"$f":"IF(I1301=1,C1301+F1301,IF(I1301=2,C1301+F1301/10,IF(I1301=3,(1+F1301/100)*C1301,\"\")))","v":162.30000000000001},{"$f":"CONCATENATE(\" \",K1301)","v":"  cm"},{"$f":"N1301*10","v":1623},"mm"]
[{"$f":"IF(COUNTIF($B$1:B1302,TRUE)=COUNTIF($B$1:B1301,TRUE),\"\",COUNTIF($B$1:B1302,TRUE))","v":1016},{"$f":"Worksheet!$B$12","v":true},{"$f":"RANDBETWEEN(5,RANDBETWEEN(5,Worksheet!$D$6))","v":290},"m","±",{"$f":"IF(I1302=1,H1302*10^RANDBETWEEN(IF(Worksheet!$D$9,-1,0),0),IF(I1302=2,H1302*10^RANDBETWEEN(RANDBETWEEN(0,1),1),CHOOSE(RANDBETWEEN(1,3),5,10,20)))","v":10},{"$f":"IF(I1302=1,D1302,IF(I1302=3,\"%\",\"cm\"))","v":"%"},{"$f":"RANDBETWEEN(1,MIN(9,C1302))","v":4},{"$f":"IF(AND(Worksheet!$D$8,RAND()<0.2),3,IF(RAND()<Worksheet!$D$7/100,1,2))","v":3},{"$f":"IF(I1302=1,C1302-F1302,IF(I1302=2,C1302-F1302/100,IF(I1302=3,(1-F1302/100)*C1302,\"\")))","v":261},{"$f":"CONCATENATE(\" \",D1302)","v":" m"},{"$f":"J1302*100","v":26100},"cm",{"$f":"IF(I1302=1,C1302+F1302,IF(I1302=2,C1302+F1302/100,IF(I1302=3,(1+F1302/100)*C1302,\"\")))","v":319},{"$f":"CONCATENATE(\" \",K1302)","v":"  m"},{"$f":"N1302*100","v":31900},"cm"]
[{"$f":"IF(COUNTIF($B$1:B1303,TRUE)=COUNTIF($B$1:B1302,TRUE),\"\",COUNTIF($B$1:B1303,TRUE))","v":1017},{"$f":"Worksheet!$B$13","v":true},{"$f":"RANDBETWEEN(5,RANDBETWEEN(5,Worksheet!$D$6))","v":32},"km","±",{"$f":"IF(I1303=1,H1303*10^RANDBETWEEN(IF(Worksheet!$D$9,-1,0),0),IF(I1303=2,H1303*10^RANDBETWEEN(RANDBETWEEN(0,2),2),CHOOSE(RANDBETWEEN(1,3),5,10,20)))","v":7},{"$f":"IF(I1303=1,D1303,IF(I1303=3,\"%\",\"m\"))","v":"km"},7,{"$f":"IF(AND(Worksheet!$D$8,RAND()<0.2),3,IF(RAND()<Worksheet!$D$7/100,1,2))","v":1},{"$f":"IF(I1303=1,C1303-F1303,IF(I1303=2,C1303-F1303/1000,IF(I1303=3,(1-F1303/100)*C1303,\"\")))","v":25}," km",{"$f":"J1303*1000","v":25000},"m",{"$f":"IF(I1303=1,C1303+F1303,IF(I1303=2,C1303+F1303/1000,IF(I1303=3,(1+F1303/100)*C1303,\"\")))","v":39},"  km",{"$f":"N1303*1000","v":39000},"m"]
[{"$f":"IF(COUNTIF($B$1:B1304,TRUE)=COUNTIF($B$1:B1303,TRUE),\"\",COUNTIF($B$1:B1304,TRUE))","v":""},{"$f":"Worksheet!$B$14","v":false},{"$f":"RANDBETWEEN(5,RANDBETWEEN(5,Worksheet!$D$6))","v":94},"m","±",{"$f":"IF(I1304=1,H1304*10^RANDBETWEEN(IF(Worksheet!$D$9,-1,0),0),IF(I1304=2,H1304*10^RANDBETWEEN(RANDBETWEEN(0,2),2),CHOOSE(RANDBETWEEN(1,3),5,10,20)))","v":80},{"$f":"IF(I1304=1,D1304,IF(I1304=3,\"%\",\"mm\"))","v":"mm"},8,{"$f":"IF(AND(Worksheet!$D$8,RAND()<0.2),3,IF(RAND()<Worksheet!$D$7/100,1,2))","v":2},{"$f":"IF(I1304=1,C1304-F1304,IF(I1304=2,C1304-F1304/1000,IF(I1304=3,(1-F1304/100)*C1304,\"\")))","v":93.92}," m",{"$f":"J1304*1000","v":93920},"mm",{"$f":"IF(I1304=1,C1304+F1304,IF(I1304=2,C1304+F1304/1000,IF(I1304=3,(1+F1304/100)*C1304,\"\")))","v":94.08},"  m",{"$f":"N1304*1000","v":94080},"mm"]
[{"$f":"IF(COUNTIF($B$1:B1305,TRUE)=COUNTIF($B$1:B1304,TRUE),\"\",COUNTIF($B$1:B1305,TRUE))","v":1018},{"$f":"Worksheet!$B$15","v":true},{"$f":"RANDBETWEEN(5,20)","v":20},"hours","±",{"$f":"IF(I1305=1,H1305*10^RANDBETWEEN(IF(Worksheet!$D$9,-1,0),0),IF(I1305=2,H1305,CHOOSE(RANDBETWEEN(1,3),5,10,20)))","v":2},{"$f":"IF(I1305=1,D1305,IF(I1305=3,\"%\",\"min\"))","v":"min"},2,{"$f":"IF(AND(Worksheet!$D$8,RAND()<0),3,IF(RAND()<Worksheet!$D$7/100,1,2))","v":2},null," hours",{"$f":"IF(I1305=1,C1305-F1305,IF(I1305=2,C1305*60-F1305,\"\"))","v":1198},{"$f":"IF($I1305=1,\" hours\",\" min\")","v":" min"},null,"  hours",{"$f":"IF(I1305=1,C1305+F1305,IF(I1305=2,C1305*60+F1305,\"\"))","v":1202},{"$f":"IF($I1305=1,\" hours\",\" min\")","v":" min"}]
[{"$f":"IF(COUNTIF($B$1:B1306,TRUE)=COUNTIF($B$1:B1305,TRUE),\"\",COUNTIF($B$1:B1306,TRUE))","v":1019},{"$f":"Worksheet!$D$11","v":true},{"$f":"RANDBETWEEN(5,RANDBETWEEN(5,Worksheet!$D$6))","v":110},"kg","±",{"$f":"IF(I1306=1,H1306*10^RANDBETWEEN(IF(Worksheet!$D$9,-1,0),0),IF(I1306=2,H1306*10^RANDBETWEEN(RANDBETWEEN(0,2),2),CHOOSE(RANDBETWEEN(1,3),5,10,20)))","v":20},{"$f":"IF(I1306=1,D1306,IF(I1306=3,\"%\",\"g\"))","v":"%"},4,{"$f":"IF(AND(Worksheet!$D$8,RAND()<0.2),3,IF(RAND()<Worksheet!$D$7/100,1,2))","v":3},{"$f":"IF(I1306=1,C1306-F1306,IF(I1306=2,C1306-F1306/1000,IF(I1306=3,(1-F1306/100)*C1306,\"\")))","v":88}," kg",{"$f":"J1306*1000","v":88000},"g",{"$f":"IF(I1306=1,C1306+F1306,IF(I1306=2,C1306+F1306/1000,IF(I1306=3,(1+F1306/100)*C1306,\"\")))","v":132},"  kg",{"$f":"N1306*1000","v":132000},"g"]
[{"$f":"IF(COUNTIF($B$1:B1307,TRUE)=COUNTIF($B$1:B1306,TRUE),\"\",COUNTIF($B$1:B1307,TRUE))","v":1020},{"$f":"Worksheet!$D$12","v":true},{"$f":"RANDBETWEEN(5,RANDBETWEEN(5,Worksheet!$D$6))","v":19},"tonnes","±",{"$f":"IF(I1307=1,H1307*10^RANDBETWEEN(IF(Worksheet!$D$9,-1,0),0),IF(I1307=2,H1307*10^RANDBETWEEN(RANDBETWEEN(0,2),2),CHOOSE(RANDBETWEEN(1,3),5,10,20)))","v":0.1},{"$f":"IF(I1307=1,D1307,IF(I1307=3,\"%\",\"kg\"))","v":"tonnes"},1,{"$f":"IF(AND(Worksheet!$D$8,RAND()<0.2),3,IF(RAND()<Worksheet!$D$7/100,1,2))","v":1},{"$f":"IF(I1307=1,C1307-F1307,IF(I1307=2,C1307-F1307/1000,IF(I1307=3,(1-F1307/100)*C1307,\"\")))","v":18.899999999999999}," tonnes",{"$f":"J1307*1000","v":18900},"kg",{"$f":"IF(I1307=1,C1307+F1307,IF(I1307=2,C1307+F1307/1000,IF(I1307=3,(1+F1307/100)*C1307,\"\")))","v":19.100000000000001},"  tonnes",{"$f":"N1307*1000","v":19100},"kg"]
[{"$f":"IF(COUNTIF($B$1:B1308,TRUE)=COUNTIF($B$1:B1307,TRUE),\"\",COUNTIF($B$1:B1308,TRUE))","v":1021},{"$f":"Worksheet!$D$13","v":true},{"$f":"RANDBETWEEN(5,RANDBETWEEN(5,Worksheet!$D$6))","v":7},"litres","±",{"$f":"IF(I1308=1,H1308*10^RANDBETWEEN(IF(Worksheet!$D$9,-1,0),0),IF(I1308=2,H1308*10^RANDBETWEEN(RANDBETWEEN(0,2),2),CHOOSE(RANDBETWEEN(1,3),5,10,20)))","v":0.1},{"$f":"IF(I1308=1,D1308,IF(I1308=3,\"%\",\"ml\"))","v":"litres"},1,{"$f":"IF(AND(Worksheet!$D$8,RAND()<0.2),3,IF(RAND()<Worksheet!$D$7/100,1,2))","v":1},{"$f":"IF(I1308=1,C1308-F1308,IF(I1308=2,C1308-F1308/1000,IF(I1308=3,(1-F1308/100)*C1308,\"\")))","v":6.9}," litres",{"$f":"J1308*1000","v":6900},"ml",{"$f":"IF(I1308=1,C1308+F1308,IF(I1308=2,C1308+F1308/1000,IF(I1308=3,(1+F1308/100)*C1308,\"\")))","v":7.1},"  litres",{"$f":"N1308*1000","v":7100},"ml"]
[{"$f":"IF(COUNTIF($B$1:B1309,TRUE)=COUNTIF($B$1:B1308,TRUE),\"\",COUNTIF($B$1:B1309,TRUE))","v":1022},{"$f":"Worksheet!$D$14","v":true},{"$f":"RANDBETWEEN(5,RANDBETWEEN(5,Worksheet!$D$6))","v":139},"litres","±",{"$f":"IF(I1309=1,H1309*10^RANDBETWEEN(IF(Worksheet!$D$9,-1,0),0),IF(I1309=2,H1309*10^RANDBETWEEN(RANDBETWEEN(0,2),2),CHOOSE(RANDBETWEEN(1,3),5,10,20)))","v":0.2},{"$f":"IF(I1309=1,D1309,IF(I1309=3,\"%\",\"cm³\"))","v":"litres"},2,{"$f":"IF(AND(Worksheet!$D$8,RAND()<0.2),3,IF(RAND()<Worksheet!$D$7/100,1,2))","v":1},{"$f":"IF(I1309=1,C1309-F1309,IF(I1309=2,C1309-F1309/1000,IF(I1309=3,(1-F1309/100)*C1309,\"\")))","v":138.80000000000001}," litres",{"$f":"J1309*1000","v":138800},"cm³",{"$f":"IF(I1309=1,C1309+F1309,IF(I1309=2,C1309+F1309/1000,IF(I1309=3,(1+F1309/100)*C1309,\"\")))","v":139.19999999999999},"  litres",{"$f":"N1309*1000","v":139200},"cm³"]
[{"$f":"IF(COUNTIF($B$1:B1310,TRUE)=COUNTIF($B$1:B1309,TRUE),\"\",COUNTIF($B$1:B1310,TRUE))","v":""},{"$f":"Worksheet!$D$15","v":false},{"$f":"RANDBETWEEN(5,20)","v":16},"min","±",{"$f":"IF(I1310=1,H1310*10^RANDBETWEEN(IF(Worksheet!$D$9,-1,0),0),IF(I1310=2,H1310,CHOOSE(RANDBETWEEN(1,3),5,10,20)))","v":5},{"$f":"IF(I1310=1,D1310,IF(I1310=3,\"%\",\"sec\"))","v":"min"},5,{"$f":"IF(AND(Worksheet!$D$8,RAND()<0),3,IF(RAND()<Worksheet!$D$7/100,1,2))","v":1},null," min",{"$f":"IF(I1310=1,C1310-F1310,IF(I1310=2,C1310*60-F1310,\"\"))","v":11},{"$f":"IF($I1310=1,\" hours\",\" min\")","v":" hours"},null,"  min",{"$f":"IF(I1310=1,C1310+F1310,IF(I1310=2,C1310*60+F1310,\"\"))","v":21},{"$f":"IF($I1310=1,\" hours\",\" min\")","v":" hours"}]
[{"$f":"COUNTIF($B$1:B1311,TRUE)","v":1023},{"$f":"Worksheet!$B$11","v":true},{"$f":"RANDBETWEEN(5,RANDBETWEEN(5,Worksheet!$D$6))","v":215},"cm","±",{"$f":"IF(I1311=1,H1311*10^RANDBETWEEN(IF(Worksheet!$D$9,-1,0),0),IF(I1311=2,H1311,CHOOSE(RANDBETWEEN(1,3),5,10,20)))","v":5},{"$f":"IF(I1311=1,D1311,IF(I1311=3,\"%\",\"mm\"))","v":"%"},{"$f":"RANDBETWEEN(1,MIN(9,C1311))","v":3},{"$f":"IF(AND(Worksheet!$D$8,RAND()<0.2),3,IF(RAND()<Worksheet!$D$7/100,1,2))","v":3},{"$f":"IF(I1311=1,C1311-F1311,IF(I1311=2,C1311-F1311/10,IF(I1311=3,(1-F1311/100)*C1311,\"\")))","v":204.25},{"$f":"CONCATENATE(\" \",D1311)","v":" cm"},{"$f":"J1311*10","v":2042.5},"mm",{"$f":"IF(I1311=1,C1311+F1311,IF(I1311=2,C1311+F1311/10,IF(I1311=3,(1+F1311/100)*C1311,\"\")))","v":225.75},{"$f":"CONCATENATE(\" \",K1311)","v":"  cm"},{"$f":"N1311*10","v":2257.5},"mm"]
[{"$f":"IF(COUNTIF($B$1:B1312,TRUE)=COUNTIF($B$1:B1311,TRUE),\"\",COUNTIF($B$1:B1312,TRUE))","v":1024},{"$f":"Worksheet!$B$12","v":true},{"$f":"RANDBETWEEN(5,RANDBETWEEN(5,Worksheet!$D$6))","v":157},"m","±",{"$f":"IF(I1312=1,H1312*10^RANDBETWEEN(IF(Worksheet!$D$9,-1,0),0),IF(I1312=2,H1312*10^RANDBETWEEN(RANDBETWEEN(0,1),1),CHOOSE(RANDBETWEEN(1,3),5,10,20)))","v":20},{"$f":"IF(I1312=1,D1312,IF(I1312=3,\"%\",\"cm\"))","v":"%"},{"$f":"RANDBETWEEN(1,MIN(9,C1312))","v":6},{"$f":"IF(AND(Worksheet!$D$8,RAND()<0.2),3,IF(RAND()<Worksheet!$D$7/100,1,2))","v":3},{"$f":"IF(I1312=1,C1312-F1312,IF(I1312=2,C1312-F1312/100,IF(I1312=3,(1-F1312/100)*C1312,\"\")))","v":125.60000000000001},{"$f":"CONCATENATE(\" \",D1312)","v":" m"},{"$f":"J1312*100","v":12560},"cm",{"$f":"IF(I1312=1,C1312+F1312,IF(I1312=2,C1312+F1312/100,IF(I1312=3,(1+F1312/100)*C1312,\"\")))","v":188.4},{"$f":"CONCATENATE(\" \",K1312)","v":"  m"},{"$f":"N1312*100","v":18840},"cm"]
[{"$f":"IF(COUNTIF($B$1:B1313,TRUE)=COUNTIF($B$1:B1312,TRUE),\"\",COUNTIF($B$1:B1313,TRUE))","v":1025},{"$f":"Worksheet!$B$13","v":true},{"$f":"RANDBETWEEN(5,RANDBETWEEN(5,Worksheet!$D$6))","v":130},"km","±",{"$f":"IF(I1313=1,H1313*10^RANDBETWEEN(IF(Worksheet!$D$9,-1,0),0),IF(I1313=2,H1313*10^RANDBETWEEN(RANDBETWEEN(0,2),2),CHOOSE(RANDBETWEEN(1,3),5,10,20)))","v":9},{"$f":"IF(I1313=1,D1313,IF(I1313=3,\"%\",\"m\"))","v":"km"},9,{"$f":"IF(AND(Worksheet!$D$8,RAND()<0.2),3,IF(RAND()<Worksheet!$D$7/100,1,2))","v":1},{"$f":"IF(I1313=1,C1313-F1313,IF(I1313=2,C1313-F1313/1000,IF(I1313=3,(1-F1313/100)*C1313,\"\")))","v":121}," km",{"$f":"J1313*1000","v":121000},"m",{"$f":"IF(I1313=1,C1313+F1313,IF(I1313=2,C1313+F1313/1000,IF(I1313=3,(1+F1313/100)*C1313,\"\")))","v":139},"  km",{"$f":"N1313*1000","v":139000},"m"]
[{"$f":"IF(COUNTIF($B$1:B1314,TRUE)=COUNTIF($B$1:B1313,TRUE),\"\",COUNTIF($B$1:B1314,TRUE))","v":""},{"$f":"Worksheet!$B$14","v":false},{"$f":"RANDBETWEEN(5,RANDBETWEEN(5,Worksheet!$D$6))","v":47},"m","±",{"$f":"IF(I1314=1,H1314*10^RANDBETWEEN(IF(Worksheet!$D$9,-1,0),0),IF(I1314=2,H1314*10^RANDBETWEEN(RANDBETWEEN(0,2),2),CHOOSE(RANDBETWEEN(1,3),5,10,20)))","v":8},{"$f":"IF(I1314=1,D1314,IF(I1314=3,\"%\",\"mm\"))","v":"m"},8,{"$f":"IF(AND(Worksheet!$D$8,RAND()<0.2),3,IF(RAND()<Worksheet!$D$7/100,1,2))","v":1},{"$f":"IF(I1314=1,C1314-F1314,IF(I1314=2,C1314-F1314/1000,IF(I1314=3,(1-F1314/100)*C1314,\"\")))","v":39}," m",{"$f":"J1314*1000","v":39000},"mm",{"$f":"IF(I1314=1,C1314+F1314,IF(I1314=2,C1314+F1314/1000,IF(I1314=3,(1+F1314/100)*C1314,\"\")))","v":55},"  m",{"$f":"N1314*1000","v":55000},"mm"]
[{"$f":"IF(COUNTIF($B$1:B1315,TRUE)=COUNTIF($B$1:B1314,TRUE),\"\",COUNTIF($B$1:B1315,TRUE))","v":1026},{"$f":"Worksheet!$B$15","v":true},{"$f":"RANDBETWEEN(5,20)","v":6},"hours","±",{"$f":"IF(I1315=1,H1315*10^RANDBETWEEN(IF(Worksheet!$D$9,-1,0),0),IF(I1315=2,H1315,CHOOSE(RANDBETWEEN(1,3),5,10,20)))","v":4},{"$f":"IF(I1315=1,D1315,IF(I1315=3,\"%\",\"min\"))","v":"hours"},4,{"$f":"IF(AND(Worksheet!$D$8,RAND()<0),3,IF(RAND()<Worksheet!$D$7/100,1,2))","v":1},null," hours",{"$f":"IF(I1315=1,C1315-F1315,IF(I1315=2,C1315*60-F1315,\"\"))","v":2},{"$f":"IF($I1315=1,\" hours\",\" min\")","v":" hours"},null,"  hours",{"$f":"IF(I1315=1,C1315+F1315,IF(I1315=2,C1315*60+F1315,\"\"))","v":10},{"$f":"IF($I1315=1,\" hours\",\" min\")","v":" hours"}]
[{"$f":"IF(COUNTIF($B$1:B1316,TRUE)=COUNTIF($B$1:B1315,TRUE),\"\",COUNTIF($B$1:B1316,TRUE))","v":1027},{"$f":"Worksheet!$D$11","v":true},{"$f":"RANDBETWEEN(5,RANDBETWEEN(5,Worksheet!$D$6))","v":342},"kg","±",{"$f":"IF(I1316=1,H1316*10^RANDBETWEEN(IF(Worksheet!$D$9,-1,0),0),IF(I1316=2,H1316*10^RANDBETWEEN(RANDBETWEEN(0,2),2),CHOOSE(RANDBETWEEN(1,3),5,10,20)))","v":9},{"$f":"IF(I1316=1,D1316,IF(I1316=3,\"%\",\"g\"))","v":"kg"},9,{"$f":"IF(AND(Worksheet!$D$8,RAND()<0.2),3,IF(RAND()<Worksheet!$D$7/100,1,2))","v":1},{"$f":"IF(I1316=1,C1316-F1316,IF(I1316=2,C1316-F1316/1000,IF(I1316=3,(1-F1316/100)*C1316,\"\")))","v":333}," kg",{"$f":"J1316*1000","v":333000},"g",{"$f":"IF(I1316=1,C1316+F1316,IF(I1316=2,C1316+F1316/1000,IF(I1316=3,(1+F1316/100)*C1316,\"\")))","v":351},"  kg",{"$f":"N1316*1000","v":351000},"g"]
[{"$f":"IF(COUNTIF($B$1:B1317,TRUE)=COUNTIF($B$1:B1316,TRUE),\"\",COUNTIF($B$1:B1317,TRUE))","v":1028},{"$f":"Worksheet!$D$12","v":true},{"$f":"RANDBETWEEN(5,RANDBETWEEN(5,Worksheet!$D$6))","v":16},"tonnes","±",{"$f":"IF(I1317=1,H1317*10^RANDBETWEEN(IF(Worksheet!$D$9,-1,0),0),IF(I1317=2,H1317*10^RANDBETWEEN(RANDBETWEEN(0,2),2),CHOOSE(RANDBETWEEN(1,3),5,10,20)))","v":200},{"$f":"IF(I1317=1,D1317,IF(I1317=3,\"%\",\"kg\"))","v":"kg"},2,{"$f":"IF(AND(Worksheet!$D$8,RAND()<0.2),3,IF(RAND()<Worksheet!$D$7/100,1,2))","v":2},{"$f":"IF(I1317=1,C1317-F1317,IF(I1317=2,C1317-F1317/1000,IF(I1317=3,(1-F1317/100)*C1317,\"\")))","v":15.8}," tonnes",{"$f":"J1317*1000","v":15800},"kg",{"$f":"IF(I1317=1,C1317+F1317,IF(I1317=2,C1317+F1317/1000,IF(I1317=3,(1+F1317/100)*C1317,\"\")))","v":16.2},"  tonnes",{"$f":"N1317*1000","v":16200},"kg"]
[{"$f":"IF(COUNTIF($B$1:B1318,TRUE)=COUNTIF($B$1:B1317,TRUE),\"\",COUNTIF($B$1:B1318,TRUE))","v":1029},{"$f":"Worksheet!$D$13","v":true},{"$f":"RANDBETWEEN(5,RANDBETWEEN(5,Worksheet!$D$6))","v":20},"litres","±",{"$f":"IF(I1318=1,H1318*10^RANDBETWEEN(IF(Worksheet!$D$9,-1,0),0),IF(I1318=2,H1318*10^RANDBETWEEN(RANDBETWEEN(0,2),2),CHOOSE(RANDBETWEEN(1,3),5,10,20)))","v":2},{"$f":"IF(I1318=1,D1318,IF(I1318=3,\"%\",\"ml\"))","v":"litres"},2,{"$f":"IF(AND(Worksheet!$D$8,RAND()<0.2),3,IF(RAND()<Worksheet!$D$7/100,1,2))","v":1},{"$f":"IF(I1318=1,C1318-F1318,IF(I1318=2,C1318-F1318/1000,IF(I1318=3,(1-F1318/100)*C1318,\"\")))","v":18}," litres",{"$f":"J1318*1000","v":18000},"ml",{"$f":"IF(I1318=1,C1318+F1318,IF(I1318=2,C1318+F1318/1000,IF(I1318=3,(1+F1318/100)*C1318,\"\")))","v":22},"  litres",{"$f":"N1318*1000","v":22000},"ml"]
[{"$f":"IF(COUNTIF($B$1:B1319,TRUE)=COUNTIF($B$1:B1318,TRUE),\"\",COUNTIF($B$1:B1319,TRUE))","v":1030},{"$f":"Worksheet!$D$14","v":true},{"$f":"RANDBETWEEN(5,RANDBETWEEN(5,Worksheet!$D$6))","v":33},"litres","±",{"$f":"IF(I1319=1,H1319*10^RANDBETWEEN(IF(Worksheet!$D$9,-1,0),0),IF(I1319=2,H1319*10^RANDBETWEEN(RANDBETWEEN(0,2),2),CHOOSE(RANDBETWEEN(1,3),5,10,20)))","v":6},{"$f":"IF(I1319=1,D1319,IF(I1319=3,\"%\",\"cm³\"))","v":"litres"},6,{"$f":"IF(AND(Worksheet!$D$8,RAND()<0.2),3,IF(RAND()<Worksheet!$D$7/100,1,2))","v":1},{"$f":"IF(I1319=1,C1319-F1319,IF(I1319=2,C1319-F1319/1000,IF(I1319=3,(1-F1319/100)*C1319,\"\")))","v":27}," litres",{"$f":"J1319*1000","v":27000},"cm³",{"$f":"IF(I1319=1,C1319+F1319,IF(I1319=2,C1319+F1319/1000,IF(I1319=3,(1+F1319/100)*C1319,\"\")))","v":39},"  litres",{"$f":"N1319*1000","v":39000},"cm³"]
[{"$f":"IF(COUNTIF($B$1:B1320,TRUE)=COUNTIF($B$1:B1319,TRUE),\"\",COUNTIF($B$1:B1320,TRUE))","v":""},{"$f":"Worksheet!$D$15","v":false},{"$f":"RANDBETWEEN(5,20)","v":9},"min","±",{"$f":"IF(I1320=1,H1320*10^RANDBETWEEN(IF(Worksheet!$D$9,-1,0),0),IF(I1320=2,H1320,CHOOSE(RANDBETWEEN(1,3),5,10,20)))","v":0.5},{"$f":"IF(I1320=1,D1320,IF(I1320=3,\"%\",\"sec\"))","v":"min"},5,{"$f":"IF(AND(Worksheet!$D$8,RAND()<0),3,IF(RAND()<Worksheet!$D$7/100,1,2))","v":1},null," min",{"$f":"IF(I1320=1,C1320-F1320,IF(I1320=2,C1320*60-F1320,\"\"))","v":8.5},{"$f":"IF($I1320=1,\" hours\",\" min\")","v":" hours"},null,"  min",{"$f":"IF(I1320=1,C1320+F1320,IF(I1320=2,C1320*60+F1320,\"\"))","v":9.5},{"$f":"IF($I1320=1,\" hours\",\" min\")","v":" hours"}]
[{"$f":"COUNTIF($B$1:B1321,TRUE)","v":1031},{"$f":"Worksheet!$B$11","v":true},{"$f":"RANDBETWEEN(5,RANDBETWEEN(5,Worksheet!$D$6))","v":29},"cm","±",{"$f":"IF(I1321=1,H1321*10^RANDBETWEEN(IF(Worksheet!$D$9,-1,0),0),IF(I1321=2,H1321,CHOOSE(RANDBETWEEN(1,3),5,10,20)))","v":0.30000000000000004},{"$f":"IF(I1321=1,D1321,IF(I1321=3,\"%\",\"mm\"))","v":"cm"},{"$f":"RANDBETWEEN(1,MIN(9,C1321))","v":3},{"$f":"IF(AND(Worksheet!$D$8,RAND()<0.2),3,IF(RAND()<Worksheet!$D$7/100,1,2))","v":1},{"$f":"IF(I1321=1,C1321-F1321,IF(I1321=2,C1321-F1321/10,IF(I1321=3,(1-F1321/100)*C1321,\"\")))","v":28.7},{"$f":"CONCATENATE(\" \",D1321)","v":" cm"},{"$f":"J1321*10","v":287},"mm",{"$f":"IF(I1321=1,C1321+F1321,IF(I1321=2,C1321+F1321/10,IF(I1321=3,(1+F1321/100)*C1321,\"\")))","v":29.3},{"$f":"CONCATENATE(\" \",K1321)","v":"  cm"},{"$f":"N1321*10","v":293},"mm"]
[{"$f":"IF(COUNTIF($B$1:B1322,TRUE)=COUNTIF($B$1:B1321,TRUE),\"\",COUNTIF($B$1:B1322,TRUE))","v":1032},{"$f":"Worksheet!$B$12","v":true},{"$f":"RANDBETWEEN(5,RANDBETWEEN(5,Worksheet!$D$6))","v":52},"m","±",{"$f":"IF(I1322=1,H1322*10^RANDBETWEEN(IF(Worksheet!$D$9,-1,0),0),IF(I1322=2,H1322*10^RANDBETWEEN(RANDBETWEEN(0,1),1),CHOOSE(RANDBETWEEN(1,3),5,10,20)))","v":70},{"$f":"IF(I1322=1,D1322,IF(I1322=3,\"%\",\"cm\"))","v":"cm"},{"$f":"RANDBETWEEN(1,MIN(9,C1322))","v":7},{"$f":"IF(AND(Worksheet!$D$8,RAND()<0.2),3,IF(RAND()<Worksheet!$D$7/100,1,2))","v":2},{"$f":"IF(I1322=1,C1322-F1322,IF(I1322=2,C1322-F1322/100,IF(I1322=3,(1-F1322/100)*C1322,\"\")))","v":51.3},{"$f":"CONCATENATE(\" \",D1322)","v":" m"},{"$f":"J1322*100","v":5130},"cm",{"$f":"IF(I1322=1,C1322+F1322,IF(I1322=2,C1322+F1322/100,IF(I1322=3,(1+F1322/100)*C1322,\"\")))","v":52.7},{"$f":"CONCATENATE(\" \",K1322)","v":"  m"},{"$f":"N1322*100","v":5270},"cm"]
[{"$f":"IF(COUNTIF($B$1:B1323,TRUE)=COUNTIF($B$1:B1322,TRUE),\"\",COUNTIF($B$1:B1323,TRUE))","v":1033},{"$f":"Worksheet!$B$13","v":true},{"$f":"RANDBETWEEN(5,RANDBETWEEN(5,Worksheet!$D$6))","v":5},"km","±",{"$f":"IF(I1323=1,H1323*10^RANDBETWEEN(IF(Worksheet!$D$9,-1,0),0),IF(I1323=2,H1323*10^RANDBETWEEN(RANDBETWEEN(0,2),2),CHOOSE(RANDBETWEEN(1,3),5,10,20)))","v":4},{"$f":"IF(I1323=1,D1323,IF(I1323=3,\"%\",\"m\"))","v":"m"},4,{"$f":"IF(AND(Worksheet!$D$8,RAND()<0.2),3,IF(RAND()<Worksheet!$D$7/100,1,2))","v":2},{"$f":"IF(I1323=1,C1323-F1323,IF(I1323=2,C1323-F1323/1000,IF(I1323=3,(1-F1323/100)*C1323,\"\")))","v":4.9960000000000004}," km",{"$f":"J1323*1000","v":4996},"m",{"$f":"IF(I1323=1,C1323+F1323,IF(I1323=2,C1323+F1323/1000,IF(I1323=3,(1+F1323/100)*C1323,\"\")))","v":5.0039999999999996},"  km",{"$f":"N1323*1000","v":5004},"m"]
[{"$f":"IF(COUNTIF($B$1:B1324,TRUE)=COUNTIF($B$1:B1323,TRUE),\"\",COUNTIF($B$1:B1324,TRUE))","v":""},{"$f":"Worksheet!$B$14","v":false},{"$f":"RANDBETWEEN(5,RANDBETWEEN(5,Worksheet!$D$6))","v":334},"m","±",{"$f":"IF(I1324=1,H1324*10^RANDBETWEEN(IF(Worksheet!$D$9,-1,0),0),IF(I1324=2,H1324*10^RANDBETWEEN(RANDBETWEEN(0,2),2),CHOOSE(RANDBETWEEN(1,3),5,10,20)))","v":10},{"$f":"IF(I1324=1,D1324,IF(I1324=3,\"%\",\"mm\"))","v":"mm"},1,{"$f":"IF(AND(Worksheet!$D$8,RAND()<0.2),3,IF(RAND()<Worksheet!$D$7/100,1,2))","v":2},{"$f":"IF(I1324=1,C1324-F1324,IF(I1324=2,C1324-F1324/1000,IF(I1324=3,(1-F1324/100)*C1324,\"\")))","v":333.99}," m",{"$f":"J1324*1000","v":333990},"mm",{"$f":"IF(I1324=1,C1324+F1324,IF(I1324=2,C1324+F1324/1000,IF(I1324=3,(1+F1324/100)*C1324,\"\")))","v":334.01},"  m",{"$f":"N1324*1000","v":334010},"mm"]
[{"$f":"IF(COUNTIF($B$1:B1325,TRUE)=COUNTIF($B$1:B1324,TRUE),\"\",COUNTIF($B$1:B1325,TRUE))","v":1034},{"$f":"Worksheet!$B$15","v":true},{"$f":"RANDBETWEEN(5,20)","v":18},"hours","±",{"$f":"IF(I1325=1,H1325*10^RANDBETWEEN(IF(Worksheet!$D$9,-1,0),0),IF(I1325=2,H1325,CHOOSE(RANDBETWEEN(1,3),5,10,20)))","v":4},{"$f":"IF(I1325=1,D1325,IF(I1325=3,\"%\",\"min\"))","v":"min"},4,{"$f":"IF(AND(Worksheet!$D$8,RAND()<0),3,IF(RAND()<Worksheet!$D$7/100,1,2))","v":2},null," hours",{"$f":"IF(I1325=1,C1325-F1325,IF(I1325=2,C1325*60-F1325,\"\"))","v":1076},{"$f":"IF($I1325=1,\" hours\",\" min\")","v":" min"},null,"  hours",{"$f":"IF(I1325=1,C1325+F1325,IF(I1325=2,C1325*60+F1325,\"\"))","v":1084},{"$f":"IF($I1325=1,\" hours\",\" min\")","v":" min"}]
[{"$f":"IF(COUNTIF($B$1:B1326,TRUE)=COUNTIF($B$1:B1325,TRUE),\"\",COUNTIF($B$1:B1326,TRUE))","v":1035},{"$f":"Worksheet!$D$11","v":true},{"$f":"RANDBETWEEN(5,RANDBETWEEN(5,Worksheet!$D$6))","v":98},"kg","±",{"$f":"IF(I1326=1,H1326*10^RANDBETWEEN(IF(Worksheet!$D$9,-1,0),0),IF(I1326=2,H1326*10^RANDBETWEEN(RANDBETWEEN(0,2),2),CHOOSE(RANDBETWEEN(1,3),5,10,20)))","v":4},{"$f":"IF(I1326=1,D1326,IF(I1326=3,\"%\",\"g\"))","v":"kg"},4,{"$f":"IF(AND(Worksheet!$D$8,RAND()<0.2),3,IF(RAND()<Worksheet!$D$7/100,1,2))","v":1},{"$f":"IF(I1326=1,C1326-F1326,IF(I1326=2,C1326-F1326/1000,IF(I1326=3,(1-F1326/100)*C1326,\"\")))","v":94}," kg",{"$f":"J1326*1000","v":94000},"g",{"$f":"IF(I1326=1,C1326+F1326,IF(I1326=2,C1326+F1326/1000,IF(I1326=3,(1+F1326/100)*C1326,\"\")))","v":102},"  kg",{"$f":"N1326*1000","v":102000},"g"]
[{"$f":"IF(COUNTIF($B$1:B1327,TRUE)=COUNTIF($B$1:B1326,TRUE),\"\",COUNTIF($B$1:B1327,TRUE))","v":1036},{"$f":"Worksheet!$D$12","v":true},{"$f":"RANDBETWEEN(5,RANDBETWEEN(5,Worksheet!$D$6))","v":174},"tonnes","±",{"$f":"IF(I1327=1,H1327*10^RANDBETWEEN(IF(Worksheet!$D$9,-1,0),0),IF(I1327=2,H1327*10^RANDBETWEEN(RANDBETWEEN(0,2),2),CHOOSE(RANDBETWEEN(1,3),5,10,20)))","v":0.9},{"$f":"IF(I1327=1,D1327,IF(I1327=3,\"%\",\"kg\"))","v":"tonnes"},9,{"$f":"IF(AND(Worksheet!$D$8,RAND()<0.2),3,IF(RAND()<Worksheet!$D$7/100,1,2))","v":1},{"$f":"IF(I1327=1,C1327-F1327,IF(I1327=2,C1327-F1327/1000,IF(I1327=3,(1-F1327/100)*C1327,\"\")))","v":173.1}," tonnes",{"$f":"J1327*1000","v":173100},"kg",{"$f":"IF(I1327=1,C1327+F1327,IF(I1327=2,C1327+F1327/1000,IF(I1327=3,(1+F1327/100)*C1327,\"\")))","v":174.9},"  tonnes",{"$f":"N1327*1000","v":174900},"kg"]
[{"$f":"IF(COUNTIF($B$1:B1328,TRUE)=COUNTIF($B$1:B1327,TRUE),\"\",COUNTIF($B$1:B1328,TRUE))","v":1037},{"$f":"Worksheet!$D$13","v":true},{"$f":"RANDBETWEEN(5,RANDBETWEEN(5,Worksheet!$D$6))","v":28},"litres","±",{"$f":"IF(I1328=1,H1328*10^RANDBETWEEN(IF(Worksheet!$D$9,-1,0),0),IF(I1328=2,H1328*10^RANDBETWEEN(RANDBETWEEN(0,2),2),CHOOSE(RANDBETWEEN(1,3),5,10,20)))","v":8},{"$f":"IF(I1328=1,D1328,IF(I1328=3,\"%\",\"ml\"))","v":"litres"},8,{"$f":"IF(AND(Worksheet!$D$8,RAND()<0.2),3,IF(RAND()<Worksheet!$D$7/100,1,2))","v":1},{"$f":"IF(I1328=1,C1328-F1328,IF(I1328=2,C1328-F1328/1000,IF(I1328=3,(1-F1328/100)*C1328,\"\")))","v":20}," litres",{"$f":"J1328*1000","v":20000},"ml",{"$f":"IF(I1328=1,C1328+F1328,IF(I1328=2,C1328+F1328/1000,IF(I1328=3,(1+F1328/100)*C1328,\"\")))","v":36},"  litres",{"$f":"N1328*1000","v":36000},"ml"]
[{"$f":"IF(COUNTIF($B$1:B1329,TRUE)=COUNTIF($B$1:B1328,TRUE),\"\",COUNTIF($B$1:B1329,TRUE))","v":1038},{"$f":"Worksheet!$D$14","v":true},{"$f":"RANDBETWEEN(5,RANDBETWEEN(5,Worksheet!$D$6))","v":8},"litres","±",{"$f":"IF(I1329=1,H1329*10^RANDBETWEEN(IF(Worksheet!$D$9,-1,0),0),IF(I1329=2,H1329*10^RANDBETWEEN(RANDBETWEEN(0,2),2),CHOOSE(RANDBETWEEN(1,3),5,10,20)))","v":60},{"$f":"IF(I1329=1,D1329,IF(I1329=3,\"%\",\"cm³\"))","v":"cm³"},6,{"$f":"IF(AND(Worksheet!$D$8,RAND()<0.2),3,IF(RAND()<Worksheet!$D$7/100,1,2))","v":2},{"$f":"IF(I1329=1,C1329-F1329,IF(I1329=2,C1329-F1329/1000,IF(I1329=3,(1-F1329/100)*C1329,\"\")))","v":7.94}," litres",{"$f":"J1329*1000","v":7940},"cm³",{"$f":"IF(I1329=1,C1329+F1329,IF(I1329=2,C1329+F1329/1000,IF(I1329=3,(1+F1329/100)*C1329,\"\")))","v":8.06},"  litres",{"$f":"N1329*1000","v":8060.0000000000009},"cm³"]
[{"$f":"IF(COUNTIF($B$1:B1330,TRUE)=COUNTIF($B$1:B1329,TRUE),\"\",COUNTIF($B$1:B1330,TRUE))","v":""},{"$f":"Worksheet!$D$15","v":false},{"$f":"RANDBETWEEN(5,20)","v":14},"min","±",{"$f":"IF(I1330=1,H1330*10^RANDBETWEEN(IF(Worksheet!$D$9,-1,0),0),IF(I1330=2,H1330,CHOOSE(RANDBETWEEN(1,3),5,10,20)))","v":8},{"$f":"IF(I1330=1,D1330,IF(I1330=3,\"%\",\"sec\"))","v":"min"},8,{"$f":"IF(AND(Worksheet!$D$8,RAND()<0),3,IF(RAND()<Worksheet!$D$7/100,1,2))","v":1},null," min",{"$f":"IF(I1330=1,C1330-F1330,IF(I1330=2,C1330*60-F1330,\"\"))","v":6},{"$f":"IF($I1330=1,\" hours\",\" min\")","v":" hours"},null,"  min",{"$f":"IF(I1330=1,C1330+F1330,IF(I1330=2,C1330*60+F1330,\"\"))","v":22},{"$f":"IF($I1330=1,\" hours\",\" min\")","v":" hours"}]
[{"$f":"COUNTIF($B$1:B1331,TRUE)","v":1039},{"$f":"Worksheet!$B$11","v":true},{"$f":"RANDBETWEEN(5,RANDBETWEEN(5,Worksheet!$D$6))","v":266},"cm","±",{"$f":"IF(I1331=1,H1331*10^RANDBETWEEN(IF(Worksheet!$D$9,-1,0),0),IF(I1331=2,H1331,CHOOSE(RANDBETWEEN(1,3),5,10,20)))","v":8},{"$f":"IF(I1331=1,D1331,IF(I1331=3,\"%\",\"mm\"))","v":"cm"},{"$f":"RANDBETWEEN(1,MIN(9,C1331))","v":8},{"$f":"IF(AND(Worksheet!$D$8,RAND()<0.2),3,IF(RAND()<Worksheet!$D$7/100,1,2))","v":1},{"$f":"IF(I1331=1,C1331-F1331,IF(I1331=2,C1331-F1331/10,IF(I1331=3,(1-F1331/100)*C1331,\"\")))","v":258},{"$f":"CONCATENATE(\" \",D1331)","v":" cm"},{"$f":"J1331*10","v":2580},"mm",{"$f":"IF(I1331=1,C1331+F1331,IF(I1331=2,C1331+F1331/10,IF(I1331=3,(1+F1331/100)*C1331,\"\")))","v":274},{"$f":"CONCATENATE(\" \",K1331)","v":"  cm"},{"$f":"N1331*10","v":2740},"mm"]
[{"$f":"IF(COUNTIF($B$1:B1332,TRUE)=COUNTIF($B$1:B1331,TRUE),\"\",COUNTIF($B$1:B1332,TRUE))","v":1040},{"$f":"Worksheet!$B$12","v":true},{"$f":"RANDBETWEEN(5,RANDBETWEEN(5,Worksheet!$D$6))","v":35},"m","±",{"$f":"IF(I1332=1,H1332*10^RANDBETWEEN(IF(Worksheet!$D$9,-1,0),0),IF(I1332=2,H1332*10^RANDBETWEEN(RANDBETWEEN(0,1),1),CHOOSE(RANDBETWEEN(1,3),5,10,20)))","v":20},{"$f":"IF(I1332=1,D1332,IF(I1332=3,\"%\",\"cm\"))","v":"%"},{"$f":"RANDBETWEEN(1,MIN(9,C1332))","v":6},{"$f":"IF(AND(Worksheet!$D$8,RAND()<0.2),3,IF(RAND()<Worksheet!$D$7/100,1,2))","v":3},{"$f":"IF(I1332=1,C1332-F1332,IF(I1332=2,C1332-F1332/100,IF(I1332=3,(1-F1332/100)*C1332,\"\")))","v":28},{"$f":"CONCATENATE(\" \",D1332)","v":" m"},{"$f":"J1332*100","v":2800},"cm",{"$f":"IF(I1332=1,C1332+F1332,IF(I1332=2,C1332+F1332/100,IF(I1332=3,(1+F1332/100)*C1332,\"\")))","v":42},{"$f":"CONCATENATE(\" \",K1332)","v":"  m"},{"$f":"N1332*100","v":4200},"cm"]
[{"$f":"IF(COUNTIF($B$1:B1333,TRUE)=COUNTIF($B$1:B1332,TRUE),\"\",COUNTIF($B$1:B1333,TRUE))","v":1041},{"$f":"Worksheet!$B$13","v":true},{"$f":"RANDBETWEEN(5,RANDBETWEEN(5,Worksheet!$D$6))","v":121},"km","±",{"$f":"IF(I1333=1,H1333*10^RANDBETWEEN(IF(Worksheet!$D$9,-1,0),0),IF(I1333=2,H1333*10^RANDBETWEEN(RANDBETWEEN(0,2),2),CHOOSE(RANDBETWEEN(1,3),5,10,20)))","v":3},{"$f":"IF(I1333=1,D1333,IF(I1333=3,\"%\",\"m\"))","v":"km"},3,{"$f":"IF(AND(Worksheet!$D$8,RAND()<0.2),3,IF(RAND()<Worksheet!$D$7/100,1,2))","v":1},{"$f":"IF(I1333=1,C1333-F1333,IF(I1333=2,C1333-F1333/1000,IF(I1333=3,(1-F1333/100)*C1333,\"\")))","v":118}," km",{"$f":"J1333*1000","v":118000},"m",{"$f":"IF(I1333=1,C1333+F1333,IF(I1333=2,C1333+F1333/1000,IF(I1333=3,(1+F1333/100)*C1333,\"\")))","v":124},"  km",{"$f":"N1333*1000","v":124000},"m"]
[{"$f":"IF(COUNTIF($B$1:B1334,TRUE)=COUNTIF($B$1:B1333,TRUE),\"\",COUNTIF($B$1:B1334,TRUE))","v":""},{"$f":"Worksheet!$B$14","v":false},{"$f":"RANDBETWEEN(5,RANDBETWEEN(5,Worksheet!$D$6))","v":257},"m","±",{"$f":"IF(I1334=1,H1334*10^RANDBETWEEN(IF(Worksheet!$D$9,-1,0),0),IF(I1334=2,H1334*10^RANDBETWEEN(RANDBETWEEN(0,2),2),CHOOSE(RANDBETWEEN(1,3),5,10,20)))","v":2},{"$f":"IF(I1334=1,D1334,IF(I1334=3,\"%\",\"mm\"))","v":"m"},2,{"$f":"IF(AND(Worksheet!$D$8,RAND()<0.2),3,IF(RAND()<Worksheet!$D$7/100,1,2))","v":1},{"$f":"IF(I1334=1,C1334-F1334,IF(I1334=2,C1334-F1334/1000,IF(I1334=3,(1-F1334/100)*C1334,\"\")))","v":255}," m",{"$f":"J1334*1000","v":255000},"mm",{"$f":"IF(I1334=1,C1334+F1334,IF(I1334=2,C1334+F1334/1000,IF(I1334=3,(1+F1334/100)*C1334,\"\")))","v":259},"  m",{"$f":"N1334*1000","v":259000},"mm"]
[{"$f":"IF(COUNTIF($B$1:B1335,TRUE)=COUNTIF($B$1:B1334,TRUE),\"\",COUNTIF($B$1:B1335,TRUE))","v":1042},{"$f":"Worksheet!$B$15","v":true},{"$f":"RANDBETWEEN(5,20)","v":12},"hours","±",{"$f":"IF(I1335=1,H1335*10^RANDBETWEEN(IF(Worksheet!$D$9,-1,0),0),IF(I1335=2,H1335,CHOOSE(RANDBETWEEN(1,3),5,10,20)))","v":5},{"$f":"IF(I1335=1,D1335,IF(I1335=3,\"%\",\"min\"))","v":"hours"},5,{"$f":"IF(AND(Worksheet!$D$8,RAND()<0),3,IF(RAND()<Worksheet!$D$7/100,1,2))","v":1},null," hours",{"$f":"IF(I1335=1,C1335-F1335,IF(I1335=2,C1335*60-F1335,\"\"))","v":7},{"$f":"IF($I1335=1,\" hours\",\" min\")","v":" hours"},null,"  hours",{"$f":"IF(I1335=1,C1335+F1335,IF(I1335=2,C1335*60+F1335,\"\"))","v":17},{"$f":"IF($I1335=1,\" hours\",\" min\")","v":" hours"}]
[{"$f":"IF(COUNTIF($B$1:B1336,TRUE)=COUNTIF($B$1:B1335,TRUE),\"\",COUNTIF($B$1:B1336,TRUE))","v":1043},{"$f":"Worksheet!$D$11","v":true},{"$f":"RANDBETWEEN(5,RANDBETWEEN(5,Worksheet!$D$6))","v":10},"kg","±",{"$f":"IF(I1336=1,H1336*10^RANDBETWEEN(IF(Worksheet!$D$9,-1,0),0),IF(I1336=2,H1336*10^RANDBETWEEN(RANDBETWEEN(0,2),2),CHOOSE(RANDBETWEEN(1,3),5,10,20)))","v":10},{"$f":"IF(I1336=1,D1336,IF(I1336=3,\"%\",\"g\"))","v":"%"},1,{"$f":"IF(AND(Worksheet!$D$8,RAND()<0.2),3,IF(RAND()<Worksheet!$D$7/100,1,2))","v":3},{"$f":"IF(I1336=1,C1336-F1336,IF(I1336=2,C1336-F1336/1000,IF(I1336=3,(1-F1336/100)*C1336,\"\")))","v":9}," kg",{"$f":"J1336*1000","v":9000},"g",{"$f":"IF(I1336=1,C1336+F1336,IF(I1336=2,C1336+F1336/1000,IF(I1336=3,(1+F1336/100)*C1336,\"\")))","v":11},"  kg",{"$f":"N1336*1000","v":11000},"g"]
[{"$f":"IF(COUNTIF($B$1:B1337,TRUE)=COUNTIF($B$1:B1336,TRUE),\"\",COUNTIF($B$1:B1337,TRUE))","v":1044},{"$f":"Worksheet!$D$12","v":true},{"$f":"RANDBETWEEN(5,RANDBETWEEN(5,Worksheet!$D$6))","v":126},"tonnes","±",{"$f":"IF(I1337=1,H1337*10^RANDBETWEEN(IF(Worksheet!$D$9,-1,0),0),IF(I1337=2,H1337*10^RANDBETWEEN(RANDBETWEEN(0,2),2),CHOOSE(RANDBETWEEN(1,3),5,10,20)))","v":0.8},{"$f":"IF(I1337=1,D1337,IF(I1337=3,\"%\",\"kg\"))","v":"tonnes"},8,{"$f":"IF(AND(Worksheet!$D$8,RAND()<0.2),3,IF(RAND()<Worksheet!$D$7/100,1,2))","v":1},{"$f":"IF(I1337=1,C1337-F1337,IF(I1337=2,C1337-F1337/1000,IF(I1337=3,(1-F1337/100)*C1337,\"\")))","v":125.2}," tonnes",{"$f":"J1337*1000","v":125200},"kg",{"$f":"IF(I1337=1,C1337+F1337,IF(I1337=2,C1337+F1337/1000,IF(I1337=3,(1+F1337/100)*C1337,\"\")))","v":126.8},"  tonnes",{"$f":"N1337*1000","v":126800},"kg"]
[{"$f":"IF(COUNTIF($B$1:B1338,TRUE)=COUNTIF($B$1:B1337,TRUE),\"\",COUNTIF($B$1:B1338,TRUE))","v":1045},{"$f":"Worksheet!$D$13","v":true},{"$f":"RANDBETWEEN(5,RANDBETWEEN(5,Worksheet!$D$6))","v":106},"litres","±",{"$f":"IF(I1338=1,H1338*10^RANDBETWEEN(IF(Worksheet!$D$9,-1,0),0),IF(I1338=2,H1338*10^RANDBETWEEN(RANDBETWEEN(0,2),2),CHOOSE(RANDBETWEEN(1,3),5,10,20)))","v":0.5},{"$f":"IF(I1338=1,D1338,IF(I1338=3,\"%\",\"ml\"))","v":"litres"},5,{"$f":"IF(AND(Worksheet!$D$8,RAND()<0.2),3,IF(RAND()<Worksheet!$D$7/100,1,2))","v":1},{"$f":"IF(I1338=1,C1338-F1338,IF(I1338=2,C1338-F1338/1000,IF(I1338=3,(1-F1338/100)*C1338,\"\")))","v":105.5}," litres",{"$f":"J1338*1000","v":105500},"ml",{"$f":"IF(I1338=1,C1338+F1338,IF(I1338=2,C1338+F1338/1000,IF(I1338=3,(1+F1338/100)*C1338,\"\")))","v":106.5},"  litres",{"$f":"N1338*1000","v":106500},"ml"]
[{"$f":"IF(COUNTIF($B$1:B1339,TRUE)=COUNTIF($B$1:B1338,TRUE),\"\",COUNTIF($B$1:B1339,TRUE))","v":1046},{"$f":"Worksheet!$D$14","v":true},{"$f":"RANDBETWEEN(5,RANDBETWEEN(5,Worksheet!$D$6))","v":32},"litres","±",{"$f":"IF(I1339=1,H1339*10^RANDBETWEEN(IF(Worksheet!$D$9,-1,0),0),IF(I1339=2,H1339*10^RANDBETWEEN(RANDBETWEEN(0,2),2),CHOOSE(RANDBETWEEN(1,3),5,10,20)))","v":20},{"$f":"IF(I1339=1,D1339,IF(I1339=3,\"%\",\"cm³\"))","v":"%"},7,{"$f":"IF(AND(Worksheet!$D$8,RAND()<0.2),3,IF(RAND()<Worksheet!$D$7/100,1,2))","v":3},{"$f":"IF(I1339=1,C1339-F1339,IF(I1339=2,C1339-F1339/1000,IF(I1339=3,(1-F1339/100)*C1339,\"\")))","v":25.6}," litres",{"$f":"J1339*1000","v":25600},"cm³",{"$f":"IF(I1339=1,C1339+F1339,IF(I1339=2,C1339+F1339/1000,IF(I1339=3,(1+F1339/100)*C1339,\"\")))","v":38.4},"  litres",{"$f":"N1339*1000","v":38400},"cm³"]
[{"$f":"IF(COUNTIF($B$1:B1340,TRUE)=COUNTIF($B$1:B1339,TRUE),\"\",COUNTIF($B$1:B1340,TRUE))","v":""},{"$f":"Worksheet!$D$15","v":false},{"$f":"RANDBETWEEN(5,20)","v":15},"min","±",{"$f":"IF(I1340=1,H1340*10^RANDBETWEEN(IF(Worksheet!$D$9,-1,0),0),IF(I1340=2,H1340,CHOOSE(RANDBETWEEN(1,3),5,10,20)))","v":8},{"$f":"IF(I1340=1,D1340,IF(I1340=3,\"%\",\"sec\"))","v":"min"},8,{"$f":"IF(AND(Worksheet!$D$8,RAND()<0),3,IF(RAND()<Worksheet!$D$7/100,1,2))","v":1},null," min",{"$f":"IF(I1340=1,C1340-F1340,IF(I1340=2,C1340*60-F1340,\"\"))","v":7},{"$f":"IF($I1340=1,\" hours\",\" min\")","v":" hours"},null,"  min",{"$f":"IF(I1340=1,C1340+F1340,IF(I1340=2,C1340*60+F1340,\"\"))","v":23},{"$f":"IF($I1340=1,\" hours\",\" min\")","v":" hours"}]
[{"$f":"COUNTIF($B$1:B1341,TRUE)","v":1047},{"$f":"Worksheet!$B$11","v":true},{"$f":"RANDBETWEEN(5,RANDBETWEEN(5,Worksheet!$D$6))","v":10},"cm","±",{"$f":"IF(I1341=1,H1341*10^RANDBETWEEN(IF(Worksheet!$D$9,-1,0),0),IF(I1341=2,H1341,CHOOSE(RANDBETWEEN(1,3),5,10,20)))","v":4},{"$f":"IF(I1341=1,D1341,IF(I1341=3,\"%\",\"mm\"))","v":"cm"},{"$f":"RANDBETWEEN(1,MIN(9,C1341))","v":4},{"$f":"IF(AND(Worksheet!$D$8,RAND()<0.2),3,IF(RAND()<Worksheet!$D$7/100,1,2))","v":1},{"$f":"IF(I1341=1,C1341-F1341,IF(I1341=2,C1341-F1341/10,IF(I1341=3,(1-F1341/100)*C1341,\"\")))","v":6},{"$f":"CONCATENATE(\" \",D1341)","v":" cm"},{"$f":"J1341*10","v":60},"mm",{"$f":"IF(I1341=1,C1341+F1341,IF(I1341=2,C1341+F1341/10,IF(I1341=3,(1+F1341/100)*C1341,\"\")))","v":14},{"$f":"CONCATENATE(\" \",K1341)","v":"  cm"},{"$f":"N1341*10","v":140},"mm"]
[{"$f":"IF(COUNTIF($B$1:B1342,TRUE)=COUNTIF($B$1:B1341,TRUE),\"\",COUNTIF($B$1:B1342,TRUE))","v":1048},{"$f":"Worksheet!$B$12","v":true},{"$f":"RANDBETWEEN(5,RANDBETWEEN(5,Worksheet!$D$6))","v":18},"m","±",{"$f":"IF(I1342=1,H1342*10^RANDBETWEEN(IF(Worksheet!$D$9,-1,0),0),IF(I1342=2,H1342*10^RANDBETWEEN(RANDBETWEEN(0,1),1),CHOOSE(RANDBETWEEN(1,3),5,10,20)))","v":8},{"$f":"IF(I1342=1,D1342,IF(I1342=3,\"%\",\"cm\"))","v":"m"},{"$f":"RANDBETWEEN(1,MIN(9,C1342))","v":8},{"$f":"IF(AND(Worksheet!$D$8,RAND()<0.2),3,IF(RAND()<Worksheet!$D$7/100,1,2))","v":1},{"$f":"IF(I1342=1,C1342-F1342,IF(I1342=2,C1342-F1342/100,IF(I1342=3,(1-F1342/100)*C1342,\"\")))","v":10},{"$f":"CONCATENATE(\" \",D1342)","v":" m"},{"$f":"J1342*100","v":1000},"cm",{"$f":"IF(I1342=1,C1342+F1342,IF(I1342=2,C1342+F1342/100,IF(I1342=3,(1+F1342/100)*C1342,\"\")))","v":26},{"$f":"CONCATENATE(\" \",K1342)","v":"  m"},{"$f":"N1342*100","v":2600},"cm"]
[{"$f":"IF(COUNTIF($B$1:B1343,TRUE)=COUNTIF($B$1:B1342,TRUE),\"\",COUNTIF($B$1:B1343,TRUE))","v":1049},{"$f":"Worksheet!$B$13","v":true},{"$f":"RANDBETWEEN(5,RANDBETWEEN(5,Worksheet!$D$6))","v":81},"km","±",{"$f":"IF(I1343=1,H1343*10^RANDBETWEEN(IF(Worksheet!$D$9,-1,0),0),IF(I1343=2,H1343*10^RANDBETWEEN(RANDBETWEEN(0,2),2),CHOOSE(RANDBETWEEN(1,3),5,10,20)))","v":5},{"$f":"IF(I1343=1,D1343,IF(I1343=3,\"%\",\"m\"))","v":"km"},5,{"$f":"IF(AND(Worksheet!$D$8,RAND()<0.2),3,IF(RAND()<Worksheet!$D$7/100,1,2))","v":1},{"$f":"IF(I1343=1,C1343-F1343,IF(I1343=2,C1343-F1343/1000,IF(I1343=3,(1-F1343/100)*C1343,\"\")))","v":76}," km",{"$f":"J1343*1000","v":76000},"m",{"$f":"IF(I1343=1,C1343+F1343,IF(I1343=2,C1343+F1343/1000,IF(I1343=3,(1+F1343/100)*C1343,\"\")))","v":86},"  km",{"$f":"N1343*1000","v":86000},"m"]
[{"$f":"IF(COUNTIF($B$1:B1344,TRUE)=COUNTIF($B$1:B1343,TRUE),\"\",COUNTIF($B$1:B1344,TRUE))","v":""},{"$f":"Worksheet!$B$14","v":false},{"$f":"RANDBETWEEN(5,RANDBETWEEN(5,Worksheet!$D$6))","v":174},"m","±",{"$f":"IF(I1344=1,H1344*10^RANDBETWEEN(IF(Worksheet!$D$9,-1,0),0),IF(I1344=2,H1344*10^RANDBETWEEN(RANDBETWEEN(0,2),2),CHOOSE(RANDBETWEEN(1,3),5,10,20)))","v":0.60000000000000009},{"$f":"IF(I1344=1,D1344,IF(I1344=3,\"%\",\"mm\"))","v":"m"},6,{"$f":"IF(AND(Worksheet!$D$8,RAND()<0.2),3,IF(RAND()<Worksheet!$D$7/100,1,2))","v":1},{"$f":"IF(I1344=1,C1344-F1344,IF(I1344=2,C1344-F1344/1000,IF(I1344=3,(1-F1344/100)*C1344,\"\")))","v":173.4}," m",{"$f":"J1344*1000","v":173400},"mm",{"$f":"IF(I1344=1,C1344+F1344,IF(I1344=2,C1344+F1344/1000,IF(I1344=3,(1+F1344/100)*C1344,\"\")))","v":174.6},"  m",{"$f":"N1344*1000","v":174600},"mm"]
[{"$f":"IF(COUNTIF($B$1:B1345,TRUE)=COUNTIF($B$1:B1344,TRUE),\"\",COUNTIF($B$1:B1345,TRUE))","v":1050},{"$f":"Worksheet!$B$15","v":true},{"$f":"RANDBETWEEN(5,20)","v":6},"hours","±",{"$f":"IF(I1345=1,H1345*10^RANDBETWEEN(IF(Worksheet!$D$9,-1,0),0),IF(I1345=2,H1345,CHOOSE(RANDBETWEEN(1,3),5,10,20)))","v":1},{"$f":"IF(I1345=1,D1345,IF(I1345=3,\"%\",\"min\"))","v":"min"},1,{"$f":"IF(AND(Worksheet!$D$8,RAND()<0),3,IF(RAND()<Worksheet!$D$7/100,1,2))","v":2},null," hours",{"$f":"IF(I1345=1,C1345-F1345,IF(I1345=2,C1345*60-F1345,\"\"))","v":359},{"$f":"IF($I1345=1,\" hours\",\" min\")","v":" min"},null,"  hours",{"$f":"IF(I1345=1,C1345+F1345,IF(I1345=2,C1345*60+F1345,\"\"))","v":361},{"$f":"IF($I1345=1,\" hours\",\" min\")","v":" min"}]
[{"$f":"IF(COUNTIF($B$1:B1346,TRUE)=COUNTIF($B$1:B1345,TRUE),\"\",COUNTIF($B$1:B1346,TRUE))","v":1051},{"$f":"Worksheet!$D$11","v":true},{"$f":"RANDBETWEEN(5,RANDBETWEEN(5,Worksheet!$D$6))","v":194},"kg","±",{"$f":"IF(I1346=1,H1346*10^RANDBETWEEN(IF(Worksheet!$D$9,-1,0),0),IF(I1346=2,H1346*10^RANDBETWEEN(RANDBETWEEN(0,2),2),CHOOSE(RANDBETWEEN(1,3),5,10,20)))","v":10},{"$f":"IF(I1346=1,D1346,IF(I1346=3,\"%\",\"g\"))","v":"%"},6,{"$f":"IF(AND(Worksheet!$D$8,RAND()<0.2),3,IF(RAND()<Worksheet!$D$7/100,1,2))","v":3},{"$f":"IF(I1346=1,C1346-F1346,IF(I1346=2,C1346-F1346/1000,IF(I1346=3,(1-F1346/100)*C1346,\"\")))","v":174.6}," kg",{"$f":"J1346*1000","v":174600},"g",{"$f":"IF(I1346=1,C1346+F1346,IF(I1346=2,C1346+F1346/1000,IF(I1346=3,(1+F1346/100)*C1346,\"\")))","v":213.4},"  kg",{"$f":"N1346*1000","v":213400},"g"]
[{"$f":"IF(COUNTIF($B$1:B1347,TRUE)=COUNTIF($B$1:B1346,TRUE),\"\",COUNTIF($B$1:B1347,TRUE))","v":1052},{"$f":"Worksheet!$D$12","v":true},{"$f":"RANDBETWEEN(5,RANDBETWEEN(5,Worksheet!$D$6))","v":348},"tonnes","±",{"$f":"IF(I1347=1,H1347*10^RANDBETWEEN(IF(Worksheet!$D$9,-1,0),0),IF(I1347=2,H1347*10^RANDBETWEEN(RANDBETWEEN(0,2),2),CHOOSE(RANDBETWEEN(1,3),5,10,20)))","v":0.9},{"$f":"IF(I1347=1,D1347,IF(I1347=3,\"%\",\"kg\"))","v":"tonnes"},9,{"$f":"IF(AND(Worksheet!$D$8,RAND()<0.2),3,IF(RAND()<Worksheet!$D$7/100,1,2))","v":1},{"$f":"IF(I1347=1,C1347-F1347,IF(I1347=2,C1347-F1347/1000,IF(I1347=3,(1-F1347/100)*C1347,\"\")))","v":347.1}," tonnes",{"$f":"J1347*1000","v":347100},"kg",{"$f":"IF(I1347=1,C1347+F1347,IF(I1347=2,C1347+F1347/1000,IF(I1347=3,(1+F1347/100)*C1347,\"\")))","v":348.9},"  tonnes",{"$f":"N1347*1000","v":348900},"kg"]
[{"$f":"IF(COUNTIF($B$1:B1348,TRUE)=COUNTIF($B$1:B1347,TRUE),\"\",COUNTIF($B$1:B1348,TRUE))","v":1053},{"$f":"Worksheet!$D$13","v":true},{"$f":"RANDBETWEEN(5,RANDBETWEEN(5,Worksheet!$D$6))","v":68},"litres","±",{"$f":"IF(I1348=1,H1348*10^RANDBETWEEN(IF(Worksheet!$D$9,-1,0),0),IF(I1348=2,H1348*10^RANDBETWEEN(RANDBETWEEN(0,2),2),CHOOSE(RANDBETWEEN(1,3),5,10,20)))","v":9},{"$f":"IF(I1348=1,D1348,IF(I1348=3,\"%\",\"ml\"))","v":"litres"},9,{"$f":"IF(AND(Worksheet!$D$8,RAND()<0.2),3,IF(RAND()<Worksheet!$D$7/100,1,2))","v":1},{"$f":"IF(I1348=1,C1348-F1348,IF(I1348=2,C1348-F1348/1000,IF(I1348=3,(1-F1348/100)*C1348,\"\")))","v":59}," litres",{"$f":"J1348*1000","v":59000},"ml",{"$f":"IF(I1348=1,C1348+F1348,IF(I1348=2,C1348+F1348/1000,IF(I1348=3,(1+F1348/100)*C1348,\"\")))","v":77},"  litres",{"$f":"N1348*1000","v":77000},"ml"]
[{"$f":"IF(COUNTIF($B$1:B1349,TRUE)=COUNTIF($B$1:B1348,TRUE),\"\",COUNTIF($B$1:B1349,TRUE))","v":1054},{"$f":"Worksheet!$D$14","v":true},{"$f":"RANDBETWEEN(5,RANDBETWEEN(5,Worksheet!$D$6))","v":116},"litres","±",{"$f":"IF(I1349=1,H1349*10^RANDBETWEEN(IF(Worksheet!$D$9,-1,0),0),IF(I1349=2,H1349*10^RANDBETWEEN(RANDBETWEEN(0,2),2),CHOOSE(RANDBETWEEN(1,3),5,10,20)))","v":0.60000000000000009},{"$f":"IF(I1349=1,D1349,IF(I1349=3,\"%\",\"cm³\"))","v":"litres"},6,{"$f":"IF(AND(Worksheet!$D$8,RAND()<0.2),3,IF(RAND()<Worksheet!$D$7/100,1,2))","v":1},{"$f":"IF(I1349=1,C1349-F1349,IF(I1349=2,C1349-F1349/1000,IF(I1349=3,(1-F1349/100)*C1349,\"\")))","v":115.4}," litres",{"$f":"J1349*1000","v":115400},"cm³",{"$f":"IF(I1349=1,C1349+F1349,IF(I1349=2,C1349+F1349/1000,IF(I1349=3,(1+F1349/100)*C1349,\"\")))","v":116.6},"  litres",{"$f":"N1349*1000","v":116600},"cm³"]
[{"$f":"IF(COUNTIF($B$1:B1350,TRUE)=COUNTIF($B$1:B1349,TRUE),\"\",COUNTIF($B$1:B1350,TRUE))","v":""},{"$f":"Worksheet!$D$15","v":false},{"$f":"RANDBETWEEN(5,20)","v":16},"min","±",{"$f":"IF(I1350=1,H1350*10^RANDBETWEEN(IF(Worksheet!$D$9,-1,0),0),IF(I1350=2,H1350,CHOOSE(RANDBETWEEN(1,3),5,10,20)))","v":1},{"$f":"IF(I1350=1,D1350,IF(I1350=3,\"%\",\"sec\"))","v":"sec"},1,{"$f":"IF(AND(Worksheet!$D$8,RAND()<0),3,IF(RAND()<Worksheet!$D$7/100,1,2))","v":2},null," min",{"$f":"IF(I1350=1,C1350-F1350,IF(I1350=2,C1350*60-F1350,\"\"))","v":959},{"$f":"IF($I1350=1,\" hours\",\" min\")","v":" min"},null,"  min",{"$f":"IF(I1350=1,C1350+F1350,IF(I1350=2,C1350*60+F1350,\"\"))","v":961},{"$f":"IF($I1350=1,\" hours\",\" min\")","v":" min"}]
[{"$f":"COUNTIF($B$1:B1351,TRUE)","v":1055},{"$f":"Worksheet!$B$11","v":true},{"$f":"RANDBETWEEN(5,RANDBETWEEN(5,Worksheet!$D$6))","v":252},"cm","±",{"$f":"IF(I1351=1,H1351*10^RANDBETWEEN(IF(Worksheet!$D$9,-1,0),0),IF(I1351=2,H1351,CHOOSE(RANDBETWEEN(1,3),5,10,20)))","v":0.2},{"$f":"IF(I1351=1,D1351,IF(I1351=3,\"%\",\"mm\"))","v":"cm"},{"$f":"RANDBETWEEN(1,MIN(9,C1351))","v":2},{"$f":"IF(AND(Worksheet!$D$8,RAND()<0.2),3,IF(RAND()<Worksheet!$D$7/100,1,2))","v":1},{"$f":"IF(I1351=1,C1351-F1351,IF(I1351=2,C1351-F1351/10,IF(I1351=3,(1-F1351/100)*C1351,\"\")))","v":251.8},{"$f":"CONCATENATE(\" \",D1351)","v":" cm"},{"$f":"J1351*10","v":2518},"mm",{"$f":"IF(I1351=1,C1351+F1351,IF(I1351=2,C1351+F1351/10,IF(I1351=3,(1+F1351/100)*C1351,\"\")))","v":252.2},{"$f":"CONCATENATE(\" \",K1351)","v":"  cm"},{"$f":"N1351*10","v":2522},"mm"]
[{"$f":"IF(COUNTIF($B$1:B1352,TRUE)=COUNTIF($B$1:B1351,TRUE),\"\",COUNTIF($B$1:B1352,TRUE))","v":1056},{"$f":"Worksheet!$B$12","v":true},{"$f":"RANDBETWEEN(5,RANDBETWEEN(5,Worksheet!$D$6))","v":7},"m","±",{"$f":"IF(I1352=1,H1352*10^RANDBETWEEN(IF(Worksheet!$D$9,-1,0),0),IF(I1352=2,H1352*10^RANDBETWEEN(RANDBETWEEN(0,1),1),CHOOSE(RANDBETWEEN(1,3),5,10,20)))","v":30},{"$f":"IF(I1352=1,D1352,IF(I1352=3,\"%\",\"cm\"))","v":"cm"},{"$f":"RANDBETWEEN(1,MIN(9,C1352))","v":3},{"$f":"IF(AND(Worksheet!$D$8,RAND()<0.2),3,IF(RAND()<Worksheet!$D$7/100,1,2))","v":2},{"$f":"IF(I1352=1,C1352-F1352,IF(I1352=2,C1352-F1352/100,IF(I1352=3,(1-F1352/100)*C1352,\"\")))","v":6.7},{"$f":"CONCATENATE(\" \",D1352)","v":" m"},{"$f":"J1352*100","v":670},"cm",{"$f":"IF(I1352=1,C1352+F1352,IF(I1352=2,C1352+F1352/100,IF(I1352=3,(1+F1352/100)*C1352,\"\")))","v":7.3},{"$f":"CONCATENATE(\" \",K1352)","v":"  m"},{"$f":"N1352*100","v":730},"cm"]
[{"$f":"IF(COUNTIF($B$1:B1353,TRUE)=COUNTIF($B$1:B1352,TRUE),\"\",COUNTIF($B$1:B1353,TRUE))","v":1057},{"$f":"Worksheet!$B$13","v":true},{"$f":"RANDBETWEEN(5,RANDBETWEEN(5,Worksheet!$D$6))","v":75},"km","±",{"$f":"IF(I1353=1,H1353*10^RANDBETWEEN(IF(Worksheet!$D$9,-1,0),0),IF(I1353=2,H1353*10^RANDBETWEEN(RANDBETWEEN(0,2),2),CHOOSE(RANDBETWEEN(1,3),5,10,20)))","v":6},{"$f":"IF(I1353=1,D1353,IF(I1353=3,\"%\",\"m\"))","v":"km"},6,{"$f":"IF(AND(Worksheet!$D$8,RAND()<0.2),3,IF(RAND()<Worksheet!$D$7/100,1,2))","v":1},{"$f":"IF(I1353=1,C1353-F1353,IF(I1353=2,C1353-F1353/1000,IF(I1353=3,(1-F1353/100)*C1353,\"\")))","v":69}," km",{"$f":"J1353*1000","v":69000},"m",{"$f":"IF(I1353=1,C1353+F1353,IF(I1353=2,C1353+F1353/1000,IF(I1353=3,(1+F1353/100)*C1353,\"\")))","v":81},"  km",{"$f":"N1353*1000","v":81000},"m"]
[{"$f":"IF(COUNTIF($B$1:B1354,TRUE)=COUNTIF($B$1:B1353,TRUE),\"\",COUNTIF($B$1:B1354,TRUE))","v":""},{"$f":"Worksheet!$B$14","v":false},{"$f":"RANDBETWEEN(5,RANDBETWEEN(5,Worksheet!$D$6))","v":86},"m","±",{"$f":"IF(I1354=1,H1354*10^RANDBETWEEN(IF(Worksheet!$D$9,-1,0),0),IF(I1354=2,H1354*10^RANDBETWEEN(RANDBETWEEN(0,2),2),CHOOSE(RANDBETWEEN(1,3),5,10,20)))","v":0.4},{"$f":"IF(I1354=1,D1354,IF(I1354=3,\"%\",\"mm\"))","v":"m"},4,{"$f":"IF(AND(Worksheet!$D$8,RAND()<0.2),3,IF(RAND()<Worksheet!$D$7/100,1,2))","v":1},{"$f":"IF(I1354=1,C1354-F1354,IF(I1354=2,C1354-F1354/1000,IF(I1354=3,(1-F1354/100)*C1354,\"\")))","v":85.6}," m",{"$f":"J1354*1000","v":85600},"mm",{"$f":"IF(I1354=1,C1354+F1354,IF(I1354=2,C1354+F1354/1000,IF(I1354=3,(1+F1354/100)*C1354,\"\")))","v":86.4},"  m",{"$f":"N1354*1000","v":86400},"mm"]
[{"$f":"IF(COUNTIF($B$1:B1355,TRUE)=COUNTIF($B$1:B1354,TRUE),\"\",COUNTIF($B$1:B1355,TRUE))","v":1058},{"$f":"Worksheet!$B$15","v":true},{"$f":"RANDBETWEEN(5,20)","v":14},"hours","±",{"$f":"IF(I1355=1,H1355*10^RANDBETWEEN(IF(Worksheet!$D$9,-1,0),0),IF(I1355=2,H1355,CHOOSE(RANDBETWEEN(1,3),5,10,20)))","v":0.5},{"$f":"IF(I1355=1,D1355,IF(I1355=3,\"%\",\"min\"))","v":"hours"},5,{"$f":"IF(AND(Worksheet!$D$8,RAND()<0),3,IF(RAND()<Worksheet!$D$7/100,1,2))","v":1},null," hours",{"$f":"IF(I1355=1,C1355-F1355,IF(I1355=2,C1355*60-F1355,\"\"))","v":13.5},{"$f":"IF($I1355=1,\" hours\",\" min\")","v":" hours"},null,"  hours",{"$f":"IF(I1355=1,C1355+F1355,IF(I1355=2,C1355*60+F1355,\"\"))","v":14.5},{"$f":"IF($I1355=1,\" hours\",\" min\")","v":" hours"}]
[{"$f":"IF(COUNTIF($B$1:B1356,TRUE)=COUNTIF($B$1:B1355,TRUE),\"\",COUNTIF($B$1:B1356,TRUE))","v":1059},{"$f":"Worksheet!$D$11","v":true},{"$f":"RANDBETWEEN(5,RANDBETWEEN(5,Worksheet!$D$6))","v":96},"kg","±",{"$f":"IF(I1356=1,H1356*10^RANDBETWEEN(IF(Worksheet!$D$9,-1,0),0),IF(I1356=2,H1356*10^RANDBETWEEN(RANDBETWEEN(0,2),2),CHOOSE(RANDBETWEEN(1,3),5,10,20)))","v":8},{"$f":"IF(I1356=1,D1356,IF(I1356=3,\"%\",\"g\"))","v":"kg"},8,{"$f":"IF(AND(Worksheet!$D$8,RAND()<0.2),3,IF(RAND()<Worksheet!$D$7/100,1,2))","v":1},{"$f":"IF(I1356=1,C1356-F1356,IF(I1356=2,C1356-F1356/1000,IF(I1356=3,(1-F1356/100)*C1356,\"\")))","v":88}," kg",{"$f":"J1356*1000","v":88000},"g",{"$f":"IF(I1356=1,C1356+F1356,IF(I1356=2,C1356+F1356/1000,IF(I1356=3,(1+F1356/100)*C1356,\"\")))","v":104},"  kg",{"$f":"N1356*1000","v":104000},"g"]
[{"$f":"IF(COUNTIF($B$1:B1357,TRUE)=COUNTIF($B$1:B1356,TRUE),\"\",COUNTIF($B$1:B1357,TRUE))","v":1060},{"$f":"Worksheet!$D$12","v":true},{"$f":"RANDBETWEEN(5,RANDBETWEEN(5,Worksheet!$D$6))","v":33},"tonnes","±",{"$f":"IF(I1357=1,H1357*10^RANDBETWEEN(IF(Worksheet!$D$9,-1,0),0),IF(I1357=2,H1357*10^RANDBETWEEN(RANDBETWEEN(0,2),2),CHOOSE(RANDBETWEEN(1,3),5,10,20)))","v":9},{"$f":"IF(I1357=1,D1357,IF(I1357=3,\"%\",\"kg\"))","v":"tonnes"},9,{"$f":"IF(AND(Worksheet!$D$8,RAND()<0.2),3,IF(RAND()<Worksheet!$D$7/100,1,2))","v":1},{"$f":"IF(I1357=1,C1357-F1357,IF(I1357=2,C1357-F1357/1000,IF(I1357=3,(1-F1357/100)*C1357,\"\")))","v":24}," tonnes",{"$f":"J1357*1000","v":24000},"kg",{"$f":"IF(I1357=1,C1357+F1357,IF(I1357=2,C1357+F1357/1000,IF(I1357=3,(1+F1357/100)*C1357,\"\")))","v":42},"  tonnes",{"$f":"N1357*1000","v":42000},"kg"]
[{"$f":"IF(COUNTIF($B$1:B1358,TRUE)=COUNTIF($B$1:B1357,TRUE),\"\",COUNTIF($B$1:B1358,TRUE))","v":1061},{"$f":"Worksheet!$D$13","v":true},{"$f":"RANDBETWEEN(5,RANDBETWEEN(5,Worksheet!$D$6))","v":187},"litres","±",{"$f":"IF(I1358=1,H1358*10^RANDBETWEEN(IF(Worksheet!$D$9,-1,0),0),IF(I1358=2,H1358*10^RANDBETWEEN(RANDBETWEEN(0,2),2),CHOOSE(RANDBETWEEN(1,3),5,10,20)))","v":80},{"$f":"IF(I1358=1,D1358,IF(I1358=3,\"%\",\"ml\"))","v":"ml"},8,{"$f":"IF(AND(Worksheet!$D$8,RAND()<0.2),3,IF(RAND()<Worksheet!$D$7/100,1,2))","v":2},{"$f":"IF(I1358=1,C1358-F1358,IF(I1358=2,C1358-F1358/1000,IF(I1358=3,(1-F1358/100)*C1358,\"\")))","v":186.92}," litres",{"$f":"J1358*1000","v":186920},"ml",{"$f":"IF(I1358=1,C1358+F1358,IF(I1358=2,C1358+F1358/1000,IF(I1358=3,(1+F1358/100)*C1358,\"\")))","v":187.08},"  litres",{"$f":"N1358*1000","v":187080},"ml"]
[{"$f":"IF(COUNTIF($B$1:B1359,TRUE)=COUNTIF($B$1:B1358,TRUE),\"\",COUNTIF($B$1:B1359,TRUE))","v":1062},{"$f":"Worksheet!$D$14","v":true},{"$f":"RANDBETWEEN(5,RANDBETWEEN(5,Worksheet!$D$6))","v":21},"litres","±",{"$f":"IF(I1359=1,H1359*10^RANDBETWEEN(IF(Worksheet!$D$9,-1,0),0),IF(I1359=2,H1359*10^RANDBETWEEN(RANDBETWEEN(0,2),2),CHOOSE(RANDBETWEEN(1,3),5,10,20)))","v":5},{"$f":"IF(I1359=1,D1359,IF(I1359=3,\"%\",\"cm³\"))","v":"litres"},5,{"$f":"IF(AND(Worksheet!$D$8,RAND()<0.2),3,IF(RAND()<Worksheet!$D$7/100,1,2))","v":1},{"$f":"IF(I1359=1,C1359-F1359,IF(I1359=2,C1359-F1359/1000,IF(I1359=3,(1-F1359/100)*C1359,\"\")))","v":16}," litres",{"$f":"J1359*1000","v":16000},"cm³",{"$f":"IF(I1359=1,C1359+F1359,IF(I1359=2,C1359+F1359/1000,IF(I1359=3,(1+F1359/100)*C1359,\"\")))","v":26},"  litres",{"$f":"N1359*1000","v":26000},"cm³"]
[{"$f":"IF(COUNTIF($B$1:B1360,TRUE)=COUNTIF($B$1:B1359,TRUE),\"\",COUNTIF($B$1:B1360,TRUE))","v":""},{"$f":"Worksheet!$D$15","v":false},{"$f":"RANDBETWEEN(5,20)","v":6},"min","±",{"$f":"IF(I1360=1,H1360*10^RANDBETWEEN(IF(Worksheet!$D$9,-1,0),0),IF(I1360=2,H1360,CHOOSE(RANDBETWEEN(1,3),5,10,20)))","v":0.2},{"$f":"IF(I1360=1,D1360,IF(I1360=3,\"%\",\"sec\"))","v":"min"},2,{"$f":"IF(AND(Worksheet!$D$8,RAND()<0),3,IF(RAND()<Worksheet!$D$7/100,1,2))","v":1},null," min",{"$f":"IF(I1360=1,C1360-F1360,IF(I1360=2,C1360*60-F1360,\"\"))","v":5.8},{"$f":"IF($I1360=1,\" hours\",\" min\")","v":" hours"},null,"  min",{"$f":"IF(I1360=1,C1360+F1360,IF(I1360=2,C1360*60+F1360,\"\"))","v":6.2},{"$f":"IF($I1360=1,\" hours\",\" min\")","v":" hours"}]
[{"$f":"COUNTIF($B$1:B1361,TRUE)","v":1063},{"$f":"Worksheet!$B$11","v":true},{"$f":"RANDBETWEEN(5,RANDBETWEEN(5,Worksheet!$D$6))","v":141},"cm","±",{"$f":"IF(I1361=1,H1361*10^RANDBETWEEN(IF(Worksheet!$D$9,-1,0),0),IF(I1361=2,H1361,CHOOSE(RANDBETWEEN(1,3),5,10,20)))","v":20},{"$f":"IF(I1361=1,D1361,IF(I1361=3,\"%\",\"mm\"))","v":"%"},{"$f":"RANDBETWEEN(1,MIN(9,C1361))","v":2},{"$f":"IF(AND(Worksheet!$D$8,RAND()<0.2),3,IF(RAND()<Worksheet!$D$7/100,1,2))","v":3},{"$f":"IF(I1361=1,C1361-F1361,IF(I1361=2,C1361-F1361/10,IF(I1361=3,(1-F1361/100)*C1361,\"\")))","v":112.80000000000001},{"$f":"CONCATENATE(\" \",D1361)","v":" cm"},{"$f":"J1361*10","v":1128},"mm",{"$f":"IF(I1361=1,C1361+F1361,IF(I1361=2,C1361+F1361/10,IF(I1361=3,(1+F1361/100)*C1361,\"\")))","v":169.2},{"$f":"CONCATENATE(\" \",K1361)","v":"  cm"},{"$f":"N1361*10","v":1692},"mm"]
[{"$f":"IF(COUNTIF($B$1:B1362,TRUE)=COUNTIF($B$1:B1361,TRUE),\"\",COUNTIF($B$1:B1362,TRUE))","v":1064},{"$f":"Worksheet!$B$12","v":true},{"$f":"RANDBETWEEN(5,RANDBETWEEN(5,Worksheet!$D$6))","v":142},"m","±",{"$f":"IF(I1362=1,H1362*10^RANDBETWEEN(IF(Worksheet!$D$9,-1,0),0),IF(I1362=2,H1362*10^RANDBETWEEN(RANDBETWEEN(0,1),1),CHOOSE(RANDBETWEEN(1,3),5,10,20)))","v":10},{"$f":"IF(I1362=1,D1362,IF(I1362=3,\"%\",\"cm\"))","v":"%"},{"$f":"RANDBETWEEN(1,MIN(9,C1362))","v":3},{"$f":"IF(AND(Worksheet!$D$8,RAND()<0.2),3,IF(RAND()<Worksheet!$D$7/100,1,2))","v":3},{"$f":"IF(I1362=1,C1362-F1362,IF(I1362=2,C1362-F1362/100,IF(I1362=3,(1-F1362/100)*C1362,\"\")))","v":127.8},{"$f":"CONCATENATE(\" \",D1362)","v":" m"},{"$f":"J1362*100","v":12780},"cm",{"$f":"IF(I1362=1,C1362+F1362,IF(I1362=2,C1362+F1362/100,IF(I1362=3,(1+F1362/100)*C1362,\"\")))","v":156.20000000000002},{"$f":"CONCATENATE(\" \",K1362)","v":"  m"},{"$f":"N1362*100","v":15620.000000000002},"cm"]
[{"$f":"IF(COUNTIF($B$1:B1363,TRUE)=COUNTIF($B$1:B1362,TRUE),\"\",COUNTIF($B$1:B1363,TRUE))","v":1065},{"$f":"Worksheet!$B$13","v":true},{"$f":"RANDBETWEEN(5,RANDBETWEEN(5,Worksheet!$D$6))","v":93},"km","±",{"$f":"IF(I1363=1,H1363*10^RANDBETWEEN(IF(Worksheet!$D$9,-1,0),0),IF(I1363=2,H1363*10^RANDBETWEEN(RANDBETWEEN(0,2),2),CHOOSE(RANDBETWEEN(1,3),5,10,20)))","v":2},{"$f":"IF(I1363=1,D1363,IF(I1363=3,\"%\",\"m\"))","v":"km"},2,{"$f":"IF(AND(Worksheet!$D$8,RAND()<0.2),3,IF(RAND()<Worksheet!$D$7/100,1,2))","v":1},{"$f":"IF(I1363=1,C1363-F1363,IF(I1363=2,C1363-F1363/1000,IF(I1363=3,(1-F1363/100)*C1363,\"\")))","v":91}," km",{"$f":"J1363*1000","v":91000},"m",{"$f":"IF(I1363=1,C1363+F1363,IF(I1363=2,C1363+F1363/1000,IF(I1363=3,(1+F1363/100)*C1363,\"\")))","v":95},"  km",{"$f":"N1363*1000","v":95000},"m"]
[{"$f":"IF(COUNTIF($B$1:B1364,TRUE)=COUNTIF($B$1:B1363,TRUE),\"\",COUNTIF($B$1:B1364,TRUE))","v":""},{"$f":"Worksheet!$B$14","v":false},{"$f":"RANDBETWEEN(5,RANDBETWEEN(5,Worksheet!$D$6))","v":52},"m","±",{"$f":"IF(I1364=1,H1364*10^RANDBETWEEN(IF(Worksheet!$D$9,-1,0),0),IF(I1364=2,H1364*10^RANDBETWEEN(RANDBETWEEN(0,2),2),CHOOSE(RANDBETWEEN(1,3),5,10,20)))","v":0.60000000000000009},{"$f":"IF(I1364=1,D1364,IF(I1364=3,\"%\",\"mm\"))","v":"m"},6,{"$f":"IF(AND(Worksheet!$D$8,RAND()<0.2),3,IF(RAND()<Worksheet!$D$7/100,1,2))","v":1},{"$f":"IF(I1364=1,C1364-F1364,IF(I1364=2,C1364-F1364/1000,IF(I1364=3,(1-F1364/100)*C1364,\"\")))","v":51.4}," m",{"$f":"J1364*1000","v":51400},"mm",{"$f":"IF(I1364=1,C1364+F1364,IF(I1364=2,C1364+F1364/1000,IF(I1364=3,(1+F1364/100)*C1364,\"\")))","v":52.6},"  m",{"$f":"N1364*1000","v":52600},"mm"]
[{"$f":"IF(COUNTIF($B$1:B1365,TRUE)=COUNTIF($B$1:B1364,TRUE),\"\",COUNTIF($B$1:B1365,TRUE))","v":1066},{"$f":"Worksheet!$B$15","v":true},{"$f":"RANDBETWEEN(5,20)","v":6},"hours","±",{"$f":"IF(I1365=1,H1365*10^RANDBETWEEN(IF(Worksheet!$D$9,-1,0),0),IF(I1365=2,H1365,CHOOSE(RANDBETWEEN(1,3),5,10,20)))","v":4},{"$f":"IF(I1365=1,D1365,IF(I1365=3,\"%\",\"min\"))","v":"min"},4,{"$f":"IF(AND(Worksheet!$D$8,RAND()<0),3,IF(RAND()<Worksheet!$D$7/100,1,2))","v":2},null," hours",{"$f":"IF(I1365=1,C1365-F1365,IF(I1365=2,C1365*60-F1365,\"\"))","v":356},{"$f":"IF($I1365=1,\" hours\",\" min\")","v":" min"},null,"  hours",{"$f":"IF(I1365=1,C1365+F1365,IF(I1365=2,C1365*60+F1365,\"\"))","v":364},{"$f":"IF($I1365=1,\" hours\",\" min\")","v":" min"}]
[{"$f":"IF(COUNTIF($B$1:B1366,TRUE)=COUNTIF($B$1:B1365,TRUE),\"\",COUNTIF($B$1:B1366,TRUE))","v":1067},{"$f":"Worksheet!$D$11","v":true},{"$f":"RANDBETWEEN(5,RANDBETWEEN(5,Worksheet!$D$6))","v":83},"kg","±",{"$f":"IF(I1366=1,H1366*10^RANDBETWEEN(IF(Worksheet!$D$9,-1,0),0),IF(I1366=2,H1366*10^RANDBETWEEN(RANDBETWEEN(0,2),2),CHOOSE(RANDBETWEEN(1,3),5,10,20)))","v":20},{"$f":"IF(I1366=1,D1366,IF(I1366=3,\"%\",\"g\"))","v":"%"},7,{"$f":"IF(AND(Worksheet!$D$8,RAND()<0.2),3,IF(RAND()<Worksheet!$D$7/100,1,2))","v":3},{"$f":"IF(I1366=1,C1366-F1366,IF(I1366=2,C1366-F1366/1000,IF(I1366=3,(1-F1366/100)*C1366,\"\")))","v":66.400000000000006}," kg",{"$f":"J1366*1000","v":66400},"g",{"$f":"IF(I1366=1,C1366+F1366,IF(I1366=2,C1366+F1366/1000,IF(I1366=3,(1+F1366/100)*C1366,\"\")))","v":99.6},"  kg",{"$f":"N1366*1000","v":99600},"g"]
[{"$f":"IF(COUNTIF($B$1:B1367,TRUE)=COUNTIF($B$1:B1366,TRUE),\"\",COUNTIF($B$1:B1367,TRUE))","v":1068},{"$f":"Worksheet!$D$12","v":true},{"$f":"RANDBETWEEN(5,RANDBETWEEN(5,Worksheet!$D$6))","v":20},"tonnes","±",{"$f":"IF(I1367=1,H1367*10^RANDBETWEEN(IF(Worksheet!$D$9,-1,0),0),IF(I1367=2,H1367*10^RANDBETWEEN(RANDBETWEEN(0,2),2),CHOOSE(RANDBETWEEN(1,3),5,10,20)))","v":0.60000000000000009},{"$f":"IF(I1367=1,D1367,IF(I1367=3,\"%\",\"kg\"))","v":"tonnes"},6,{"$f":"IF(AND(Worksheet!$D$8,RAND()<0.2),3,IF(RAND()<Worksheet!$D$7/100,1,2))","v":1},{"$f":"IF(I1367=1,C1367-F1367,IF(I1367=2,C1367-F1367/1000,IF(I1367=3,(1-F1367/100)*C1367,\"\")))","v":19.399999999999999}," tonnes",{"$f":"J1367*1000","v":19400},"kg",{"$f":"IF(I1367=1,C1367+F1367,IF(I1367=2,C1367+F1367/1000,IF(I1367=3,(1+F1367/100)*C1367,\"\")))","v":20.6},"  tonnes",{"$f":"N1367*1000","v":20600},"kg"]
[{"$f":"IF(COUNTIF($B$1:B1368,TRUE)=COUNTIF($B$1:B1367,TRUE),\"\",COUNTIF($B$1:B1368,TRUE))","v":1069},{"$f":"Worksheet!$D$13","v":true},{"$f":"RANDBETWEEN(5,RANDBETWEEN(5,Worksheet!$D$6))","v":7},"litres","±",{"$f":"IF(I1368=1,H1368*10^RANDBETWEEN(IF(Worksheet!$D$9,-1,0),0),IF(I1368=2,H1368*10^RANDBETWEEN(RANDBETWEEN(0,2),2),CHOOSE(RANDBETWEEN(1,3),5,10,20)))","v":20},{"$f":"IF(I1368=1,D1368,IF(I1368=3,\"%\",\"ml\"))","v":"ml"},2,{"$f":"IF(AND(Worksheet!$D$8,RAND()<0.2),3,IF(RAND()<Worksheet!$D$7/100,1,2))","v":2},{"$f":"IF(I1368=1,C1368-F1368,IF(I1368=2,C1368-F1368/1000,IF(I1368=3,(1-F1368/100)*C1368,\"\")))","v":6.98}," litres",{"$f":"J1368*1000","v":6980},"ml",{"$f":"IF(I1368=1,C1368+F1368,IF(I1368=2,C1368+F1368/1000,IF(I1368=3,(1+F1368/100)*C1368,\"\")))","v":7.02},"  litres",{"$f":"N1368*1000","v":7020},"ml"]
[{"$f":"IF(COUNTIF($B$1:B1369,TRUE)=COUNTIF($B$1:B1368,TRUE),\"\",COUNTIF($B$1:B1369,TRUE))","v":1070},{"$f":"Worksheet!$D$14","v":true},{"$f":"RANDBETWEEN(5,RANDBETWEEN(5,Worksheet!$D$6))","v":28},"litres","±",{"$f":"IF(I1369=1,H1369*10^RANDBETWEEN(IF(Worksheet!$D$9,-1,0),0),IF(I1369=2,H1369*10^RANDBETWEEN(RANDBETWEEN(0,2),2),CHOOSE(RANDBETWEEN(1,3),5,10,20)))","v":900},{"$f":"IF(I1369=1,D1369,IF(I1369=3,\"%\",\"cm³\"))","v":"cm³"},9,{"$f":"IF(AND(Worksheet!$D$8,RAND()<0.2),3,IF(RAND()<Worksheet!$D$7/100,1,2))","v":2},{"$f":"IF(I1369=1,C1369-F1369,IF(I1369=2,C1369-F1369/1000,IF(I1369=3,(1-F1369/100)*C1369,\"\")))","v":27.1}," litres",{"$f":"J1369*1000","v":27100},"cm³",{"$f":"IF(I1369=1,C1369+F1369,IF(I1369=2,C1369+F1369/1000,IF(I1369=3,(1+F1369/100)*C1369,\"\")))","v":28.9},"  litres",{"$f":"N1369*1000","v":28900},"cm³"]
[{"$f":"IF(COUNTIF($B$1:B1370,TRUE)=COUNTIF($B$1:B1369,TRUE),\"\",COUNTIF($B$1:B1370,TRUE))","v":""},{"$f":"Worksheet!$D$15","v":false},{"$f":"RANDBETWEEN(5,20)","v":19},"min","±",{"$f":"IF(I1370=1,H1370*10^RANDBETWEEN(IF(Worksheet!$D$9,-1,0),0),IF(I1370=2,H1370,CHOOSE(RANDBETWEEN(1,3),5,10,20)))","v":3},{"$f":"IF(I1370=1,D1370,IF(I1370=3,\"%\",\"sec\"))","v":"min"},3,{"$f":"IF(AND(Worksheet!$D$8,RAND()<0),3,IF(RAND()<Worksheet!$D$7/100,1,2))","v":1},null," min",{"$f":"IF(I1370=1,C1370-F1370,IF(I1370=2,C1370*60-F1370,\"\"))","v":16},{"$f":"IF($I1370=1,\" hours\",\" min\")","v":" hours"},null,"  min",{"$f":"IF(I1370=1,C1370+F1370,IF(I1370=2,C1370*60+F1370,\"\"))","v":22},{"$f":"IF($I1370=1,\" hours\",\" min\")","v":" hours"}]
[{"$f":"COUNTIF($B$1:B1371,TRUE)","v":1071},{"$f":"Worksheet!$B$11","v":true},{"$f":"RANDBETWEEN(5,RANDBETWEEN(5,Worksheet!$D$6))","v":97},"cm","±",{"$f":"IF(I1371=1,H1371*10^RANDBETWEEN(IF(Worksheet!$D$9,-1,0),0),IF(I1371=2,H1371,CHOOSE(RANDBETWEEN(1,3),5,10,20)))","v":8},{"$f":"IF(I1371=1,D1371,IF(I1371=3,\"%\",\"mm\"))","v":"cm"},{"$f":"RANDBETWEEN(1,MIN(9,C1371))","v":8},{"$f":"IF(AND(Worksheet!$D$8,RAND()<0.2),3,IF(RAND()<Worksheet!$D$7/100,1,2))","v":1},{"$f":"IF(I1371=1,C1371-F1371,IF(I1371=2,C1371-F1371/10,IF(I1371=3,(1-F1371/100)*C1371,\"\")))","v":89},{"$f":"CONCATENATE(\" \",D1371)","v":" cm"},{"$f":"J1371*10","v":890},"mm",{"$f":"IF(I1371=1,C1371+F1371,IF(I1371=2,C1371+F1371/10,IF(I1371=3,(1+F1371/100)*C1371,\"\")))","v":105},{"$f":"CONCATENATE(\" \",K1371)","v":"  cm"},{"$f":"N1371*10","v":1050},"mm"]
[{"$f":"IF(COUNTIF($B$1:B1372,TRUE)=COUNTIF($B$1:B1371,TRUE),\"\",COUNTIF($B$1:B1372,TRUE))","v":1072},{"$f":"Worksheet!$B$12","v":true},{"$f":"RANDBETWEEN(5,RANDBETWEEN(5,Worksheet!$D$6))","v":5},"m","±",{"$f":"IF(I1372=1,H1372*10^RANDBETWEEN(IF(Worksheet!$D$9,-1,0),0),IF(I1372=2,H1372*10^RANDBETWEEN(RANDBETWEEN(0,1),1),CHOOSE(RANDBETWEEN(1,3),5,10,20)))","v":4},{"$f":"IF(I1372=1,D1372,IF(I1372=3,\"%\",\"cm\"))","v":"m"},{"$f":"RANDBETWEEN(1,MIN(9,C1372))","v":4},{"$f":"IF(AND(Worksheet!$D$8,RAND()<0.2),3,IF(RAND()<Worksheet!$D$7/100,1,2))","v":1},{"$f":"IF(I1372=1,C1372-F1372,IF(I1372=2,C1372-F1372/100,IF(I1372=3,(1-F1372/100)*C1372,\"\")))","v":1},{"$f":"CONCATENATE(\" \",D1372)","v":" m"},{"$f":"J1372*100","v":100},"cm",{"$f":"IF(I1372=1,C1372+F1372,IF(I1372=2,C1372+F1372/100,IF(I1372=3,(1+F1372/100)*C1372,\"\")))","v":9},{"$f":"CONCATENATE(\" \",K1372)","v":"  m"},{"$f":"N1372*100","v":900},"cm"]
[{"$f":"IF(COUNTIF($B$1:B1373,TRUE)=COUNTIF($B$1:B1372,TRUE),\"\",COUNTIF($B$1:B1373,TRUE))","v":1073},{"$f":"Worksheet!$B$13","v":true},{"$f":"RANDBETWEEN(5,RANDBETWEEN(5,Worksheet!$D$6))","v":65},"km","±",{"$f":"IF(I1373=1,H1373*10^RANDBETWEEN(IF(Worksheet!$D$9,-1,0),0),IF(I1373=2,H1373*10^RANDBETWEEN(RANDBETWEEN(0,2),2),CHOOSE(RANDBETWEEN(1,3),5,10,20)))","v":0.60000000000000009},{"$f":"IF(I1373=1,D1373,IF(I1373=3,\"%\",\"m\"))","v":"km"},6,{"$f":"IF(AND(Worksheet!$D$8,RAND()<0.2),3,IF(RAND()<Worksheet!$D$7/100,1,2))","v":1},{"$f":"IF(I1373=1,C1373-F1373,IF(I1373=2,C1373-F1373/1000,IF(I1373=3,(1-F1373/100)*C1373,\"\")))","v":64.400000000000006}," km",{"$f":"J1373*1000","v":64400.000000000007},"m",{"$f":"IF(I1373=1,C1373+F1373,IF(I1373=2,C1373+F1373/1000,IF(I1373=3,(1+F1373/100)*C1373,\"\")))","v":65.599999999999994},"  km",{"$f":"N1373*1000","v":65600},"m"]
[{"$f":"IF(COUNTIF($B$1:B1374,TRUE)=COUNTIF($B$1:B1373,TRUE),\"\",COUNTIF($B$1:B1374,TRUE))","v":""},{"$f":"Worksheet!$B$14","v":false},{"$f":"RANDBETWEEN(5,RANDBETWEEN(5,Worksheet!$D$6))","v":197},"m","±",{"$f":"IF(I1374=1,H1374*10^RANDBETWEEN(IF(Worksheet!$D$9,-1,0),0),IF(I1374=2,H1374*10^RANDBETWEEN(RANDBETWEEN(0,2),2),CHOOSE(RANDBETWEEN(1,3),5,10,20)))","v":8},{"$f":"IF(I1374=1,D1374,IF(I1374=3,\"%\",\"mm\"))","v":"m"},8,{"$f":"IF(AND(Worksheet!$D$8,RAND()<0.2),3,IF(RAND()<Worksheet!$D$7/100,1,2))","v":1},{"$f":"IF(I1374=1,C1374-F1374,IF(I1374=2,C1374-F1374/1000,IF(I1374=3,(1-F1374/100)*C1374,\"\")))","v":189}," m",{"$f":"J1374*1000","v":189000},"mm",{"$f":"IF(I1374=1,C1374+F1374,IF(I1374=2,C1374+F1374/1000,IF(I1374=3,(1+F1374/100)*C1374,\"\")))","v":205},"  m",{"$f":"N1374*1000","v":205000},"mm"]
[{"$f":"IF(COUNTIF($B$1:B1375,TRUE)=COUNTIF($B$1:B1374,TRUE),\"\",COUNTIF($B$1:B1375,TRUE))","v":1074},{"$f":"Worksheet!$B$15","v":true},{"$f":"RANDBETWEEN(5,20)","v":13},"hours","±",{"$f":"IF(I1375=1,H1375*10^RANDBETWEEN(IF(Worksheet!$D$9,-1,0),0),IF(I1375=2,H1375,CHOOSE(RANDBETWEEN(1,3),5,10,20)))","v":8},{"$f":"IF(I1375=1,D1375,IF(I1375=3,\"%\",\"min\"))","v":"hours"},8,{"$f":"IF(AND(Worksheet!$D$8,RAND()<0),3,IF(RAND()<Worksheet!$D$7/100,1,2))","v":1},null," hours",{"$f":"IF(I1375=1,C1375-F1375,IF(I1375=2,C1375*60-F1375,\"\"))","v":5},{"$f":"IF($I1375=1,\" hours\",\" min\")","v":" hours"},null,"  hours",{"$f":"IF(I1375=1,C1375+F1375,IF(I1375=2,C1375*60+F1375,\"\"))","v":21},{"$f":"IF($I1375=1,\" hours\",\" min\")","v":" hours"}]
[{"$f":"IF(COUNTIF($B$1:B1376,TRUE)=COUNTIF($B$1:B1375,TRUE),\"\",COUNTIF($B$1:B1376,TRUE))","v":1075},{"$f":"Worksheet!$D$11","v":true},{"$f":"RANDBETWEEN(5,RANDBETWEEN(5,Worksheet!$D$6))","v":30},"kg","±",{"$f":"IF(I1376=1,H1376*10^RANDBETWEEN(IF(Worksheet!$D$9,-1,0),0),IF(I1376=2,H1376*10^RANDBETWEEN(RANDBETWEEN(0,2),2),CHOOSE(RANDBETWEEN(1,3),5,10,20)))","v":8},{"$f":"IF(I1376=1,D1376,IF(I1376=3,\"%\",\"g\"))","v":"kg"},8,{"$f":"IF(AND(Worksheet!$D$8,RAND()<0.2),3,IF(RAND()<Worksheet!$D$7/100,1,2))","v":1},{"$f":"IF(I1376=1,C1376-F1376,IF(I1376=2,C1376-F1376/1000,IF(I1376=3,(1-F1376/100)*C1376,\"\")))","v":22}," kg",{"$f":"J1376*1000","v":22000},"g",{"$f":"IF(I1376=1,C1376+F1376,IF(I1376=2,C1376+F1376/1000,IF(I1376=3,(1+F1376/100)*C1376,\"\")))","v":38},"  kg",{"$f":"N1376*1000","v":38000},"g"]
[{"$f":"IF(COUNTIF($B$1:B1377,TRUE)=COUNTIF($B$1:B1376,TRUE),\"\",COUNTIF($B$1:B1377,TRUE))","v":1076},{"$f":"Worksheet!$D$12","v":true},{"$f":"RANDBETWEEN(5,RANDBETWEEN(5,Worksheet!$D$6))","v":323},"tonnes","±",{"$f":"IF(I1377=1,H1377*10^RANDBETWEEN(IF(Worksheet!$D$9,-1,0),0),IF(I1377=2,H1377*10^RANDBETWEEN(RANDBETWEEN(0,2),2),CHOOSE(RANDBETWEEN(1,3),5,10,20)))","v":9},{"$f":"IF(I1377=1,D1377,IF(I1377=3,\"%\",\"kg\"))","v":"tonnes"},9,{"$f":"IF(AND(Worksheet!$D$8,RAND()<0.2),3,IF(RAND()<Worksheet!$D$7/100,1,2))","v":1},{"$f":"IF(I1377=1,C1377-F1377,IF(I1377=2,C1377-F1377/1000,IF(I1377=3,(1-F1377/100)*C1377,\"\")))","v":314}," tonnes",{"$f":"J1377*1000","v":314000},"kg",{"$f":"IF(I1377=1,C1377+F1377,IF(I1377=2,C1377+F1377/1000,IF(I1377=3,(1+F1377/100)*C1377,\"\")))","v":332},"  tonnes",{"$f":"N1377*1000","v":332000},"kg"]
[{"$f":"IF(COUNTIF($B$1:B1378,TRUE)=COUNTIF($B$1:B1377,TRUE),\"\",COUNTIF($B$1:B1378,TRUE))","v":1077},{"$f":"Worksheet!$D$13","v":true},{"$f":"RANDBETWEEN(5,RANDBETWEEN(5,Worksheet!$D$6))","v":93},"litres","±",{"$f":"IF(I1378=1,H1378*10^RANDBETWEEN(IF(Worksheet!$D$9,-1,0),0),IF(I1378=2,H1378*10^RANDBETWEEN(RANDBETWEEN(0,2),2),CHOOSE(RANDBETWEEN(1,3),5,10,20)))","v":100},{"$f":"IF(I1378=1,D1378,IF(I1378=3,\"%\",\"ml\"))","v":"ml"},1,{"$f":"IF(AND(Worksheet!$D$8,RAND()<0.2),3,IF(RAND()<Worksheet!$D$7/100,1,2))","v":2},{"$f":"IF(I1378=1,C1378-F1378,IF(I1378=2,C1378-F1378/1000,IF(I1378=3,(1-F1378/100)*C1378,\"\")))","v":92.9}," litres",{"$f":"J1378*1000","v":92900},"ml",{"$f":"IF(I1378=1,C1378+F1378,IF(I1378=2,C1378+F1378/1000,IF(I1378=3,(1+F1378/100)*C1378,\"\")))","v":93.1},"  litres",{"$f":"N1378*1000","v":93100},"ml"]
[{"$f":"IF(COUNTIF($B$1:B1379,TRUE)=COUNTIF($B$1:B1378,TRUE),\"\",COUNTIF($B$1:B1379,TRUE))","v":1078},{"$f":"Worksheet!$D$14","v":true},{"$f":"RANDBETWEEN(5,RANDBETWEEN(5,Worksheet!$D$6))","v":160},"litres","±",{"$f":"IF(I1379=1,H1379*10^RANDBETWEEN(IF(Worksheet!$D$9,-1,0),0),IF(I1379=2,H1379*10^RANDBETWEEN(RANDBETWEEN(0,2),2),CHOOSE(RANDBETWEEN(1,3),5,10,20)))","v":800},{"$f":"IF(I1379=1,D1379,IF(I1379=3,\"%\",\"cm³\"))","v":"cm³"},8,{"$f":"IF(AND(Worksheet!$D$8,RAND()<0.2),3,IF(RAND()<Worksheet!$D$7/100,1,2))","v":2},{"$f":"IF(I1379=1,C1379-F1379,IF(I1379=2,C1379-F1379/1000,IF(I1379=3,(1-F1379/100)*C1379,\"\")))","v":159.19999999999999}," litres",{"$f":"J1379*1000","v":159200},"cm³",{"$f":"IF(I1379=1,C1379+F1379,IF(I1379=2,C1379+F1379/1000,IF(I1379=3,(1+F1379/100)*C1379,\"\")))","v":160.80000000000001},"  litres",{"$f":"N1379*1000","v":160800},"cm³"]
[{"$f":"IF(COUNTIF($B$1:B1380,TRUE)=COUNTIF($B$1:B1379,TRUE),\"\",COUNTIF($B$1:B1380,TRUE))","v":""},{"$f":"Worksheet!$D$15","v":false},{"$f":"RANDBETWEEN(5,20)","v":8},"min","±",{"$f":"IF(I1380=1,H1380*10^RANDBETWEEN(IF(Worksheet!$D$9,-1,0),0),IF(I1380=2,H1380,CHOOSE(RANDBETWEEN(1,3),5,10,20)))","v":8},{"$f":"IF(I1380=1,D1380,IF(I1380=3,\"%\",\"sec\"))","v":"min"},8,{"$f":"IF(AND(Worksheet!$D$8,RAND()<0),3,IF(RAND()<Worksheet!$D$7/100,1,2))","v":1},null," min",{"$f":"IF(I1380=1,C1380-F1380,IF(I1380=2,C1380*60-F1380,\"\"))","v":0},{"$f":"IF($I1380=1,\" hours\",\" min\")","v":" hours"},null,"  min",{"$f":"IF(I1380=1,C1380+F1380,IF(I1380=2,C1380*60+F1380,\"\"))","v":16},{"$f":"IF($I1380=1,\" hours\",\" min\")","v":" hours"}]
[{"$f":"COUNTIF($B$1:B1381,TRUE)","v":1079},{"$f":"Worksheet!$B$11","v":true},{"$f":"RANDBETWEEN(5,RANDBETWEEN(5,Worksheet!$D$6))","v":5},"cm","±",{"$f":"IF(I1381=1,H1381*10^RANDBETWEEN(IF(Worksheet!$D$9,-1,0),0),IF(I1381=2,H1381,CHOOSE(RANDBETWEEN(1,3),5,10,20)))","v":2},{"$f":"IF(I1381=1,D1381,IF(I1381=3,\"%\",\"mm\"))","v":"cm"},{"$f":"RANDBETWEEN(1,MIN(9,C1381))","v":2},{"$f":"IF(AND(Worksheet!$D$8,RAND()<0.2),3,IF(RAND()<Worksheet!$D$7/100,1,2))","v":1},{"$f":"IF(I1381=1,C1381-F1381,IF(I1381=2,C1381-F1381/10,IF(I1381=3,(1-F1381/100)*C1381,\"\")))","v":3},{"$f":"CONCATENATE(\" \",D1381)","v":" cm"},{"$f":"J1381*10","v":30},"mm",{"$f":"IF(I1381=1,C1381+F1381,IF(I1381=2,C1381+F1381/10,IF(I1381=3,(1+F1381/100)*C1381,\"\")))","v":7},{"$f":"CONCATENATE(\" \",K1381)","v":"  cm"},{"$f":"N1381*10","v":70},"mm"]
[{"$f":"IF(COUNTIF($B$1:B1382,TRUE)=COUNTIF($B$1:B1381,TRUE),\"\",COUNTIF($B$1:B1382,TRUE))","v":1080},{"$f":"Worksheet!$B$12","v":true},{"$f":"RANDBETWEEN(5,RANDBETWEEN(5,Worksheet!$D$6))","v":288},"m","±",{"$f":"IF(I1382=1,H1382*10^RANDBETWEEN(IF(Worksheet!$D$9,-1,0),0),IF(I1382=2,H1382*10^RANDBETWEEN(RANDBETWEEN(0,1),1),CHOOSE(RANDBETWEEN(1,3),5,10,20)))","v":0.4},{"$f":"IF(I1382=1,D1382,IF(I1382=3,\"%\",\"cm\"))","v":"m"},{"$f":"RANDBETWEEN(1,MIN(9,C1382))","v":4},{"$f":"IF(AND(Worksheet!$D$8,RAND()<0.2),3,IF(RAND()<Worksheet!$D$7/100,1,2))","v":1},{"$f":"IF(I1382=1,C1382-F1382,IF(I1382=2,C1382-F1382/100,IF(I1382=3,(1-F1382/100)*C1382,\"\")))","v":287.60000000000002},{"$f":"CONCATENATE(\" \",D1382)","v":" m"},{"$f":"J1382*100","v":28760.000000000004},"cm",{"$f":"IF(I1382=1,C1382+F1382,IF(I1382=2,C1382+F1382/100,IF(I1382=3,(1+F1382/100)*C1382,\"\")))","v":288.39999999999998},{"$f":"CONCATENATE(\" \",K1382)","v":"  m"},{"$f":"N1382*100","v":28839.999999999996},"cm"]
[{"$f":"IF(COUNTIF($B$1:B1383,TRUE)=COUNTIF($B$1:B1382,TRUE),\"\",COUNTIF($B$1:B1383,TRUE))","v":1081},{"$f":"Worksheet!$B$13","v":true},{"$f":"RANDBETWEEN(5,RANDBETWEEN(5,Worksheet!$D$6))","v":68},"km","±",{"$f":"IF(I1383=1,H1383*10^RANDBETWEEN(IF(Worksheet!$D$9,-1,0),0),IF(I1383=2,H1383*10^RANDBETWEEN(RANDBETWEEN(0,2),2),CHOOSE(RANDBETWEEN(1,3),5,10,20)))","v":8},{"$f":"IF(I1383=1,D1383,IF(I1383=3,\"%\",\"m\"))","v":"km"},8,{"$f":"IF(AND(Worksheet!$D$8,RAND()<0.2),3,IF(RAND()<Worksheet!$D$7/100,1,2))","v":1},{"$f":"IF(I1383=1,C1383-F1383,IF(I1383=2,C1383-F1383/1000,IF(I1383=3,(1-F1383/100)*C1383,\"\")))","v":60}," km",{"$f":"J1383*1000","v":60000},"m",{"$f":"IF(I1383=1,C1383+F1383,IF(I1383=2,C1383+F1383/1000,IF(I1383=3,(1+F1383/100)*C1383,\"\")))","v":76},"  km",{"$f":"N1383*1000","v":76000},"m"]
[{"$f":"IF(COUNTIF($B$1:B1384,TRUE)=COUNTIF($B$1:B1383,TRUE),\"\",COUNTIF($B$1:B1384,TRUE))","v":""},{"$f":"Worksheet!$B$14","v":false},{"$f":"RANDBETWEEN(5,RANDBETWEEN(5,Worksheet!$D$6))","v":159},"m","±",{"$f":"IF(I1384=1,H1384*10^RANDBETWEEN(IF(Worksheet!$D$9,-1,0),0),IF(I1384=2,H1384*10^RANDBETWEEN(RANDBETWEEN(0,2),2),CHOOSE(RANDBETWEEN(1,3),5,10,20)))","v":7},{"$f":"IF(I1384=1,D1384,IF(I1384=3,\"%\",\"mm\"))","v":"m"},7,{"$f":"IF(AND(Worksheet!$D$8,RAND()<0.2),3,IF(RAND()<Worksheet!$D$7/100,1,2))","v":1},{"$f":"IF(I1384=1,C1384-F1384,IF(I1384=2,C1384-F1384/1000,IF(I1384=3,(1-F1384/100)*C1384,\"\")))","v":152}," m",{"$f":"J1384*1000","v":152000},"mm",{"$f":"IF(I1384=1,C1384+F1384,IF(I1384=2,C1384+F1384/1000,IF(I1384=3,(1+F1384/100)*C1384,\"\")))","v":166},"  m",{"$f":"N1384*1000","v":166000},"mm"]
[{"$f":"IF(COUNTIF($B$1:B1385,TRUE)=COUNTIF($B$1:B1384,TRUE),\"\",COUNTIF($B$1:B1385,TRUE))","v":1082},{"$f":"Worksheet!$B$15","v":true},{"$f":"RANDBETWEEN(5,20)","v":12},"hours","±",{"$f":"IF(I1385=1,H1385*10^RANDBETWEEN(IF(Worksheet!$D$9,-1,0),0),IF(I1385=2,H1385,CHOOSE(RANDBETWEEN(1,3),5,10,20)))","v":6},{"$f":"IF(I1385=1,D1385,IF(I1385=3,\"%\",\"min\"))","v":"min"},6,{"$f":"IF(AND(Worksheet!$D$8,RAND()<0),3,IF(RAND()<Worksheet!$D$7/100,1,2))","v":2},null," hours",{"$f":"IF(I1385=1,C1385-F1385,IF(I1385=2,C1385*60-F1385,\"\"))","v":714},{"$f":"IF($I1385=1,\" hours\",\" min\")","v":" min"},null,"  hours",{"$f":"IF(I1385=1,C1385+F1385,IF(I1385=2,C1385*60+F1385,\"\"))","v":726},{"$f":"IF($I1385=1,\" hours\",\" min\")","v":" min"}]
[{"$f":"IF(COUNTIF($B$1:B1386,TRUE)=COUNTIF($B$1:B1385,TRUE),\"\",COUNTIF($B$1:B1386,TRUE))","v":1083},{"$f":"Worksheet!$D$11","v":true},{"$f":"RANDBETWEEN(5,RANDBETWEEN(5,Worksheet!$D$6))","v":148},"kg","±",{"$f":"IF(I1386=1,H1386*10^RANDBETWEEN(IF(Worksheet!$D$9,-1,0),0),IF(I1386=2,H1386*10^RANDBETWEEN(RANDBETWEEN(0,2),2),CHOOSE(RANDBETWEEN(1,3),5,10,20)))","v":5},{"$f":"IF(I1386=1,D1386,IF(I1386=3,\"%\",\"g\"))","v":"kg"},5,{"$f":"IF(AND(Worksheet!$D$8,RAND()<0.2),3,IF(RAND()<Worksheet!$D$7/100,1,2))","v":1},{"$f":"IF(I1386=1,C1386-F1386,IF(I1386=2,C1386-F1386/1000,IF(I1386=3,(1-F1386/100)*C1386,\"\")))","v":143}," kg",{"$f":"J1386*1000","v":143000},"g",{"$f":"IF(I1386=1,C1386+F1386,IF(I1386=2,C1386+F1386/1000,IF(I1386=3,(1+F1386/100)*C1386,\"\")))","v":153},"  kg",{"$f":"N1386*1000","v":153000},"g"]
[{"$f":"IF(COUNTIF($B$1:B1387,TRUE)=COUNTIF($B$1:B1386,TRUE),\"\",COUNTIF($B$1:B1387,TRUE))","v":1084},{"$f":"Worksheet!$D$12","v":true},{"$f":"RANDBETWEEN(5,RANDBETWEEN(5,Worksheet!$D$6))","v":172},"tonnes","±",{"$f":"IF(I1387=1,H1387*10^RANDBETWEEN(IF(Worksheet!$D$9,-1,0),0),IF(I1387=2,H1387*10^RANDBETWEEN(RANDBETWEEN(0,2),2),CHOOSE(RANDBETWEEN(1,3),5,10,20)))","v":7},{"$f":"IF(I1387=1,D1387,IF(I1387=3,\"%\",\"kg\"))","v":"tonnes"},7,{"$f":"IF(AND(Worksheet!$D$8,RAND()<0.2),3,IF(RAND()<Worksheet!$D$7/100,1,2))","v":1},{"$f":"IF(I1387=1,C1387-F1387,IF(I1387=2,C1387-F1387/1000,IF(I1387=3,(1-F1387/100)*C1387,\"\")))","v":165}," tonnes",{"$f":"J1387*1000","v":165000},"kg",{"$f":"IF(I1387=1,C1387+F1387,IF(I1387=2,C1387+F1387/1000,IF(I1387=3,(1+F1387/100)*C1387,\"\")))","v":179},"  tonnes",{"$f":"N1387*1000","v":179000},"kg"]
[{"$f":"IF(COUNTIF($B$1:B1388,TRUE)=COUNTIF($B$1:B1387,TRUE),\"\",COUNTIF($B$1:B1388,TRUE))","v":1085},{"$f":"Worksheet!$D$13","v":true},{"$f":"RANDBETWEEN(5,RANDBETWEEN(5,Worksheet!$D$6))","v":250},"litres","±",{"$f":"IF(I1388=1,H1388*10^RANDBETWEEN(IF(Worksheet!$D$9,-1,0),0),IF(I1388=2,H1388*10^RANDBETWEEN(RANDBETWEEN(0,2),2),CHOOSE(RANDBETWEEN(1,3),5,10,20)))","v":8},{"$f":"IF(I1388=1,D1388,IF(I1388=3,\"%\",\"ml\"))","v":"litres"},8,{"$f":"IF(AND(Worksheet!$D$8,RAND()<0.2),3,IF(RAND()<Worksheet!$D$7/100,1,2))","v":1},{"$f":"IF(I1388=1,C1388-F1388,IF(I1388=2,C1388-F1388/1000,IF(I1388=3,(1-F1388/100)*C1388,\"\")))","v":242}," litres",{"$f":"J1388*1000","v":242000},"ml",{"$f":"IF(I1388=1,C1388+F1388,IF(I1388=2,C1388+F1388/1000,IF(I1388=3,(1+F1388/100)*C1388,\"\")))","v":258},"  litres",{"$f":"N1388*1000","v":258000},"ml"]
[{"$f":"IF(COUNTIF($B$1:B1389,TRUE)=COUNTIF($B$1:B1388,TRUE),\"\",COUNTIF($B$1:B1389,TRUE))","v":1086},{"$f":"Worksheet!$D$14","v":true},{"$f":"RANDBETWEEN(5,RANDBETWEEN(5,Worksheet!$D$6))","v":213},"litres","±",{"$f":"IF(I1389=1,H1389*10^RANDBETWEEN(IF(Worksheet!$D$9,-1,0),0),IF(I1389=2,H1389*10^RANDBETWEEN(RANDBETWEEN(0,2),2),CHOOSE(RANDBETWEEN(1,3),5,10,20)))","v":0.9},{"$f":"IF(I1389=1,D1389,IF(I1389=3,\"%\",\"cm³\"))","v":"litres"},9,{"$f":"IF(AND(Worksheet!$D$8,RAND()<0.2),3,IF(RAND()<Worksheet!$D$7/100,1,2))","v":1},{"$f":"IF(I1389=1,C1389-F1389,IF(I1389=2,C1389-F1389/1000,IF(I1389=3,(1-F1389/100)*C1389,\"\")))","v":212.1}," litres",{"$f":"J1389*1000","v":212100},"cm³",{"$f":"IF(I1389=1,C1389+F1389,IF(I1389=2,C1389+F1389/1000,IF(I1389=3,(1+F1389/100)*C1389,\"\")))","v":213.9},"  litres",{"$f":"N1389*1000","v":213900},"cm³"]
[{"$f":"IF(COUNTIF($B$1:B1390,TRUE)=COUNTIF($B$1:B1389,TRUE),\"\",COUNTIF($B$1:B1390,TRUE))","v":""},{"$f":"Worksheet!$D$15","v":false},{"$f":"RANDBETWEEN(5,20)","v":8},"min","±",{"$f":"IF(I1390=1,H1390*10^RANDBETWEEN(IF(Worksheet!$D$9,-1,0),0),IF(I1390=2,H1390,CHOOSE(RANDBETWEEN(1,3),5,10,20)))","v":7},{"$f":"IF(I1390=1,D1390,IF(I1390=3,\"%\",\"sec\"))","v":"min"},7,{"$f":"IF(AND(Worksheet!$D$8,RAND()<0),3,IF(RAND()<Worksheet!$D$7/100,1,2))","v":1},null," min",{"$f":"IF(I1390=1,C1390-F1390,IF(I1390=2,C1390*60-F1390,\"\"))","v":1},{"$f":"IF($I1390=1,\" hours\",\" min\")","v":" hours"},null,"  min",{"$f":"IF(I1390=1,C1390+F1390,IF(I1390=2,C1390*60+F1390,\"\"))","v":15},{"$f":"IF($I1390=1,\" hours\",\" min\")","v":" hours"}]
[{"$f":"COUNTIF($B$1:B1391,TRUE)","v":1087},{"$f":"Worksheet!$B$11","v":true},{"$f":"RANDBETWEEN(5,RANDBETWEEN(5,Worksheet!$D$6))","v":75},"cm","±",{"$f":"IF(I1391=1,H1391*10^RANDBETWEEN(IF(Worksheet!$D$9,-1,0),0),IF(I1391=2,H1391,CHOOSE(RANDBETWEEN(1,3),5,10,20)))","v":0.2},{"$f":"IF(I1391=1,D1391,IF(I1391=3,\"%\",\"mm\"))","v":"cm"},{"$f":"RANDBETWEEN(1,MIN(9,C1391))","v":2},{"$f":"IF(AND(Worksheet!$D$8,RAND()<0.2),3,IF(RAND()<Worksheet!$D$7/100,1,2))","v":1},{"$f":"IF(I1391=1,C1391-F1391,IF(I1391=2,C1391-F1391/10,IF(I1391=3,(1-F1391/100)*C1391,\"\")))","v":74.8},{"$f":"CONCATENATE(\" \",D1391)","v":" cm"},{"$f":"J1391*10","v":748},"mm",{"$f":"IF(I1391=1,C1391+F1391,IF(I1391=2,C1391+F1391/10,IF(I1391=3,(1+F1391/100)*C1391,\"\")))","v":75.2},{"$f":"CONCATENATE(\" \",K1391)","v":"  cm"},{"$f":"N1391*10","v":752},"mm"]
[{"$f":"IF(COUNTIF($B$1:B1392,TRUE)=COUNTIF($B$1:B1391,TRUE),\"\",COUNTIF($B$1:B1392,TRUE))","v":1088},{"$f":"Worksheet!$B$12","v":true},{"$f":"RANDBETWEEN(5,RANDBETWEEN(5,Worksheet!$D$6))","v":333},"m","±",{"$f":"IF(I1392=1,H1392*10^RANDBETWEEN(IF(Worksheet!$D$9,-1,0),0),IF(I1392=2,H1392*10^RANDBETWEEN(RANDBETWEEN(0,1),1),CHOOSE(RANDBETWEEN(1,3),5,10,20)))","v":0.60000000000000009},{"$f":"IF(I1392=1,D1392,IF(I1392=3,\"%\",\"cm\"))","v":"m"},{"$f":"RANDBETWEEN(1,MIN(9,C1392))","v":6},{"$f":"IF(AND(Worksheet!$D$8,RAND()<0.2),3,IF(RAND()<Worksheet!$D$7/100,1,2))","v":1},{"$f":"IF(I1392=1,C1392-F1392,IF(I1392=2,C1392-F1392/100,IF(I1392=3,(1-F1392/100)*C1392,\"\")))","v":332.4},{"$f":"CONCATENATE(\" \",D1392)","v":" m"},{"$f":"J1392*100","v":33240},"cm",{"$f":"IF(I1392=1,C1392+F1392,IF(I1392=2,C1392+F1392/100,IF(I1392=3,(1+F1392/100)*C1392,\"\")))","v":333.6},{"$f":"CONCATENATE(\" \",K1392)","v":"  m"},{"$f":"N1392*100","v":33360},"cm"]
[{"$f":"IF(COUNTIF($B$1:B1393,TRUE)=COUNTIF($B$1:B1392,TRUE),\"\",COUNTIF($B$1:B1393,TRUE))","v":1089},{"$f":"Worksheet!$B$13","v":true},{"$f":"RANDBETWEEN(5,RANDBETWEEN(5,Worksheet!$D$6))","v":148},"km","±",{"$f":"IF(I1393=1,H1393*10^RANDBETWEEN(IF(Worksheet!$D$9,-1,0),0),IF(I1393=2,H1393*10^RANDBETWEEN(RANDBETWEEN(0,2),2),CHOOSE(RANDBETWEEN(1,3),5,10,20)))","v":900},{"$f":"IF(I1393=1,D1393,IF(I1393=3,\"%\",\"m\"))","v":"m"},9,{"$f":"IF(AND(Worksheet!$D$8,RAND()<0.2),3,IF(RAND()<Worksheet!$D$7/100,1,2))","v":2},{"$f":"IF(I1393=1,C1393-F1393,IF(I1393=2,C1393-F1393/1000,IF(I1393=3,(1-F1393/100)*C1393,\"\")))","v":147.1}," km",{"$f":"J1393*1000","v":147100},"m",{"$f":"IF(I1393=1,C1393+F1393,IF(I1393=2,C1393+F1393/1000,IF(I1393=3,(1+F1393/100)*C1393,\"\")))","v":148.9},"  km",{"$f":"N1393*1000","v":148900},"m"]
[{"$f":"IF(COUNTIF($B$1:B1394,TRUE)=COUNTIF($B$1:B1393,TRUE),\"\",COUNTIF($B$1:B1394,TRUE))","v":""},{"$f":"Worksheet!$B$14","v":false},{"$f":"RANDBETWEEN(5,RANDBETWEEN(5,Worksheet!$D$6))","v":34},"m","±",{"$f":"IF(I1394=1,H1394*10^RANDBETWEEN(IF(Worksheet!$D$9,-1,0),0),IF(I1394=2,H1394*10^RANDBETWEEN(RANDBETWEEN(0,2),2),CHOOSE(RANDBETWEEN(1,3),5,10,20)))","v":0.1},{"$f":"IF(I1394=1,D1394,IF(I1394=3,\"%\",\"mm\"))","v":"m"},1,{"$f":"IF(AND(Worksheet!$D$8,RAND()<0.2),3,IF(RAND()<Worksheet!$D$7/100,1,2))","v":1},{"$f":"IF(I1394=1,C1394-F1394,IF(I1394=2,C1394-F1394/1000,IF(I1394=3,(1-F1394/100)*C1394,\"\")))","v":33.9}," m",{"$f":"J1394*1000","v":33900},"mm",{"$f":"IF(I1394=1,C1394+F1394,IF(I1394=2,C1394+F1394/1000,IF(I1394=3,(1+F1394/100)*C1394,\"\")))","v":34.1},"  m",{"$f":"N1394*1000","v":34100},"mm"]
[{"$f":"IF(COUNTIF($B$1:B1395,TRUE)=COUNTIF($B$1:B1394,TRUE),\"\",COUNTIF($B$1:B1395,TRUE))","v":1090},{"$f":"Worksheet!$B$15","v":true},{"$f":"RANDBETWEEN(5,20)","v":5},"hours","±",{"$f":"IF(I1395=1,H1395*10^RANDBETWEEN(IF(Worksheet!$D$9,-1,0),0),IF(I1395=2,H1395,CHOOSE(RANDBETWEEN(1,3),5,10,20)))","v":0.2},{"$f":"IF(I1395=1,D1395,IF(I1395=3,\"%\",\"min\"))","v":"hours"},2,{"$f":"IF(AND(Worksheet!$D$8,RAND()<0),3,IF(RAND()<Worksheet!$D$7/100,1,2))","v":1},null," hours",{"$f":"IF(I1395=1,C1395-F1395,IF(I1395=2,C1395*60-F1395,\"\"))","v":4.8},{"$f":"IF($I1395=1,\" hours\",\" min\")","v":" hours"},null,"  hours",{"$f":"IF(I1395=1,C1395+F1395,IF(I1395=2,C1395*60+F1395,\"\"))","v":5.2},{"$f":"IF($I1395=1,\" hours\",\" min\")","v":" hours"}]
[{"$f":"IF(COUNTIF($B$1:B1396,TRUE)=COUNTIF($B$1:B1395,TRUE),\"\",COUNTIF($B$1:B1396,TRUE))","v":1091},{"$f":"Worksheet!$D$11","v":true},{"$f":"RANDBETWEEN(5,RANDBETWEEN(5,Worksheet!$D$6))","v":210},"kg","±",{"$f":"IF(I1396=1,H1396*10^RANDBETWEEN(IF(Worksheet!$D$9,-1,0),0),IF(I1396=2,H1396*10^RANDBETWEEN(RANDBETWEEN(0,2),2),CHOOSE(RANDBETWEEN(1,3),5,10,20)))","v":10},{"$f":"IF(I1396=1,D1396,IF(I1396=3,\"%\",\"g\"))","v":"%"},9,{"$f":"IF(AND(Worksheet!$D$8,RAND()<0.2),3,IF(RAND()<Worksheet!$D$7/100,1,2))","v":3},{"$f":"IF(I1396=1,C1396-F1396,IF(I1396=2,C1396-F1396/1000,IF(I1396=3,(1-F1396/100)*C1396,\"\")))","v":189}," kg",{"$f":"J1396*1000","v":189000},"g",{"$f":"IF(I1396=1,C1396+F1396,IF(I1396=2,C1396+F1396/1000,IF(I1396=3,(1+F1396/100)*C1396,\"\")))","v":231.00000000000003},"  kg",{"$f":"N1396*1000","v":231000.00000000003},"g"]
[{"$f":"IF(COUNTIF($B$1:B1397,TRUE)=COUNTIF($B$1:B1396,TRUE),\"\",COUNTIF($B$1:B1397,TRUE))","v":1092},{"$f":"Worksheet!$D$12","v":true},{"$f":"RANDBETWEEN(5,RANDBETWEEN(5,Worksheet!$D$6))","v":19},"tonnes","±",{"$f":"IF(I1397=1,H1397*10^RANDBETWEEN(IF(Worksheet!$D$9,-1,0),0),IF(I1397=2,H1397*10^RANDBETWEEN(RANDBETWEEN(0,2),2),CHOOSE(RANDBETWEEN(1,3),5,10,20)))","v":0.8},{"$f":"IF(I1397=1,D1397,IF(I1397=3,\"%\",\"kg\"))","v":"tonnes"},8,{"$f":"IF(AND(Worksheet!$D$8,RAND()<0.2),3,IF(RAND()<Worksheet!$D$7/100,1,2))","v":1},{"$f":"IF(I1397=1,C1397-F1397,IF(I1397=2,C1397-F1397/1000,IF(I1397=3,(1-F1397/100)*C1397,\"\")))","v":18.2}," tonnes",{"$f":"J1397*1000","v":18200},"kg",{"$f":"IF(I1397=1,C1397+F1397,IF(I1397=2,C1397+F1397/1000,IF(I1397=3,(1+F1397/100)*C1397,\"\")))","v":19.8},"  tonnes",{"$f":"N1397*1000","v":19800},"kg"]
[{"$f":"IF(COUNTIF($B$1:B1398,TRUE)=COUNTIF($B$1:B1397,TRUE),\"\",COUNTIF($B$1:B1398,TRUE))","v":1093},{"$f":"Worksheet!$D$13","v":true},{"$f":"RANDBETWEEN(5,RANDBETWEEN(5,Worksheet!$D$6))","v":68},"litres","±",{"$f":"IF(I1398=1,H1398*10^RANDBETWEEN(IF(Worksheet!$D$9,-1,0),0),IF(I1398=2,H1398*10^RANDBETWEEN(RANDBETWEEN(0,2),2),CHOOSE(RANDBETWEEN(1,3),5,10,20)))","v":0.1},{"$f":"IF(I1398=1,D1398,IF(I1398=3,\"%\",\"ml\"))","v":"litres"},1,{"$f":"IF(AND(Worksheet!$D$8,RAND()<0.2),3,IF(RAND()<Worksheet!$D$7/100,1,2))","v":1},{"$f":"IF(I1398=1,C1398-F1398,IF(I1398=2,C1398-F1398/1000,IF(I1398=3,(1-F1398/100)*C1398,\"\")))","v":67.900000000000006}," litres",{"$f":"J1398*1000","v":67900},"ml",{"$f":"IF(I1398=1,C1398+F1398,IF(I1398=2,C1398+F1398/1000,IF(I1398=3,(1+F1398/100)*C1398,\"\")))","v":68.099999999999994},"  litres",{"$f":"N1398*1000","v":68100},"ml"]
[{"$f":"IF(COUNTIF($B$1:B1399,TRUE)=COUNTIF($B$1:B1398,TRUE),\"\",COUNTIF($B$1:B1399,TRUE))","v":1094},{"$f":"Worksheet!$D$14","v":true},{"$f":"RANDBETWEEN(5,RANDBETWEEN(5,Worksheet!$D$6))","v":182},"litres","±",{"$f":"IF(I1399=1,H1399*10^RANDBETWEEN(IF(Worksheet!$D$9,-1,0),0),IF(I1399=2,H1399*10^RANDBETWEEN(RANDBETWEEN(0,2),2),CHOOSE(RANDBETWEEN(1,3),5,10,20)))","v":600},{"$f":"IF(I1399=1,D1399,IF(I1399=3,\"%\",\"cm³\"))","v":"cm³"},6,{"$f":"IF(AND(Worksheet!$D$8,RAND()<0.2),3,IF(RAND()<Worksheet!$D$7/100,1,2))","v":2},{"$f":"IF(I1399=1,C1399-F1399,IF(I1399=2,C1399-F1399/1000,IF(I1399=3,(1-F1399/100)*C1399,\"\")))","v":181.4}," litres",{"$f":"J1399*1000","v":181400},"cm³",{"$f":"IF(I1399=1,C1399+F1399,IF(I1399=2,C1399+F1399/1000,IF(I1399=3,(1+F1399/100)*C1399,\"\")))","v":182.6},"  litres",{"$f":"N1399*1000","v":182600},"cm³"]
[{"$f":"IF(COUNTIF($B$1:B1400,TRUE)=COUNTIF($B$1:B1399,TRUE),\"\",COUNTIF($B$1:B1400,TRUE))","v":""},{"$f":"Worksheet!$D$15","v":false},{"$f":"RANDBETWEEN(5,20)","v":9},"min","±",{"$f":"IF(I1400=1,H1400*10^RANDBETWEEN(IF(Worksheet!$D$9,-1,0),0),IF(I1400=2,H1400,CHOOSE(RANDBETWEEN(1,3),5,10,20)))","v":7},{"$f":"IF(I1400=1,D1400,IF(I1400=3,\"%\",\"sec\"))","v":"min"},7,{"$f":"IF(AND(Worksheet!$D$8,RAND()<0),3,IF(RAND()<Worksheet!$D$7/100,1,2))","v":1},null," min",{"$f":"IF(I1400=1,C1400-F1400,IF(I1400=2,C1400*60-F1400,\"\"))","v":2},{"$f":"IF($I1400=1,\" hours\",\" min\")","v":" hours"},null,"  min",{"$f":"IF(I1400=1,C1400+F1400,IF(I1400=2,C1400*60+F1400,\"\"))","v":16},{"$f":"IF($I1400=1,\" hours\",\" min\")","v":" hours"}]
[{"$f":"COUNTIF($B$1:B1401,TRUE)","v":1095},{"$f":"Worksheet!$B$11","v":true},{"$f":"RANDBETWEEN(5,RANDBETWEEN(5,Worksheet!$D$6))","v":126},"cm","±",{"$f":"IF(I1401=1,H1401*10^RANDBETWEEN(IF(Worksheet!$D$9,-1,0),0),IF(I1401=2,H1401,CHOOSE(RANDBETWEEN(1,3),5,10,20)))","v":1},{"$f":"IF(I1401=1,D1401,IF(I1401=3,\"%\",\"mm\"))","v":"cm"},{"$f":"RANDBETWEEN(1,MIN(9,C1401))","v":1},{"$f":"IF(AND(Worksheet!$D$8,RAND()<0.2),3,IF(RAND()<Worksheet!$D$7/100,1,2))","v":1},{"$f":"IF(I1401=1,C1401-F1401,IF(I1401=2,C1401-F1401/10,IF(I1401=3,(1-F1401/100)*C1401,\"\")))","v":125},{"$f":"CONCATENATE(\" \",D1401)","v":" cm"},{"$f":"J1401*10","v":1250},"mm",{"$f":"IF(I1401=1,C1401+F1401,IF(I1401=2,C1401+F1401/10,IF(I1401=3,(1+F1401/100)*C1401,\"\")))","v":127},{"$f":"CONCATENATE(\" \",K1401)","v":"  cm"},{"$f":"N1401*10","v":1270},"mm"]
[{"$f":"IF(COUNTIF($B$1:B1402,TRUE)=COUNTIF($B$1:B1401,TRUE),\"\",COUNTIF($B$1:B1402,TRUE))","v":1096},{"$f":"Worksheet!$B$12","v":true},{"$f":"RANDBETWEEN(5,RANDBETWEEN(5,Worksheet!$D$6))","v":220},"m","±",{"$f":"IF(I1402=1,H1402*10^RANDBETWEEN(IF(Worksheet!$D$9,-1,0),0),IF(I1402=2,H1402*10^RANDBETWEEN(RANDBETWEEN(0,1),1),CHOOSE(RANDBETWEEN(1,3),5,10,20)))","v":9},{"$f":"IF(I1402=1,D1402,IF(I1402=3,\"%\",\"cm\"))","v":"m"},{"$f":"RANDBETWEEN(1,MIN(9,C1402))","v":9},{"$f":"IF(AND(Worksheet!$D$8,RAND()<0.2),3,IF(RAND()<Worksheet!$D$7/100,1,2))","v":1},{"$f":"IF(I1402=1,C1402-F1402,IF(I1402=2,C1402-F1402/100,IF(I1402=3,(1-F1402/100)*C1402,\"\")))","v":211},{"$f":"CONCATENATE(\" \",D1402)","v":" m"},{"$f":"J1402*100","v":21100},"cm",{"$f":"IF(I1402=1,C1402+F1402,IF(I1402=2,C1402+F1402/100,IF(I1402=3,(1+F1402/100)*C1402,\"\")))","v":229},{"$f":"CONCATENATE(\" \",K1402)","v":"  m"},{"$f":"N1402*100","v":22900},"cm"]
[{"$f":"IF(COUNTIF($B$1:B1403,TRUE)=COUNTIF($B$1:B1402,TRUE),\"\",COUNTIF($B$1:B1403,TRUE))","v":1097},{"$f":"Worksheet!$B$13","v":true},{"$f":"RANDBETWEEN(5,RANDBETWEEN(5,Worksheet!$D$6))","v":365},"km","±",{"$f":"IF(I1403=1,H1403*10^RANDBETWEEN(IF(Worksheet!$D$9,-1,0),0),IF(I1403=2,H1403*10^RANDBETWEEN(RANDBETWEEN(0,2),2),CHOOSE(RANDBETWEEN(1,3),5,10,20)))","v":0.1},{"$f":"IF(I1403=1,D1403,IF(I1403=3,\"%\",\"m\"))","v":"km"},1,{"$f":"IF(AND(Worksheet!$D$8,RAND()<0.2),3,IF(RAND()<Worksheet!$D$7/100,1,2))","v":1},{"$f":"IF(I1403=1,C1403-F1403,IF(I1403=2,C1403-F1403/1000,IF(I1403=3,(1-F1403/100)*C1403,\"\")))","v":364.9}," km",{"$f":"J1403*1000","v":364900},"m",{"$f":"IF(I1403=1,C1403+F1403,IF(I1403=2,C1403+F1403/1000,IF(I1403=3,(1+F1403/100)*C1403,\"\")))","v":365.1},"  km",{"$f":"N1403*1000","v":365100},"m"]
[{"$f":"IF(COUNTIF($B$1:B1404,TRUE)=COUNTIF($B$1:B1403,TRUE),\"\",COUNTIF($B$1:B1404,TRUE))","v":""},{"$f":"Worksheet!$B$14","v":false},{"$f":"RANDBETWEEN(5,RANDBETWEEN(5,Worksheet!$D$6))","v":211},"m","±",{"$f":"IF(I1404=1,H1404*10^RANDBETWEEN(IF(Worksheet!$D$9,-1,0),0),IF(I1404=2,H1404*10^RANDBETWEEN(RANDBETWEEN(0,2),2),CHOOSE(RANDBETWEEN(1,3),5,10,20)))","v":8},{"$f":"IF(I1404=1,D1404,IF(I1404=3,\"%\",\"mm\"))","v":"m"},8,{"$f":"IF(AND(Worksheet!$D$8,RAND()<0.2),3,IF(RAND()<Worksheet!$D$7/100,1,2))","v":1},{"$f":"IF(I1404=1,C1404-F1404,IF(I1404=2,C1404-F1404/1000,IF(I1404=3,(1-F1404/100)*C1404,\"\")))","v":203}," m",{"$f":"J1404*1000","v":203000},"mm",{"$f":"IF(I1404=1,C1404+F1404,IF(I1404=2,C1404+F1404/1000,IF(I1404=3,(1+F1404/100)*C1404,\"\")))","v":219},"  m",{"$f":"N1404*1000","v":219000},"mm"]
[{"$f":"IF(COUNTIF($B$1:B1405,TRUE)=COUNTIF($B$1:B1404,TRUE),\"\",COUNTIF($B$1:B1405,TRUE))","v":1098},{"$f":"Worksheet!$B$15","v":true},{"$f":"RANDBETWEEN(5,20)","v":16},"hours","±",{"$f":"IF(I1405=1,H1405*10^RANDBETWEEN(IF(Worksheet!$D$9,-1,0),0),IF(I1405=2,H1405,CHOOSE(RANDBETWEEN(1,3),5,10,20)))","v":4},{"$f":"IF(I1405=1,D1405,IF(I1405=3,\"%\",\"min\"))","v":"hours"},4,{"$f":"IF(AND(Worksheet!$D$8,RAND()<0),3,IF(RAND()<Worksheet!$D$7/100,1,2))","v":1},null," hours",{"$f":"IF(I1405=1,C1405-F1405,IF(I1405=2,C1405*60-F1405,\"\"))","v":12},{"$f":"IF($I1405=1,\" hours\",\" min\")","v":" hours"},null,"  hours",{"$f":"IF(I1405=1,C1405+F1405,IF(I1405=2,C1405*60+F1405,\"\"))","v":20},{"$f":"IF($I1405=1,\" hours\",\" min\")","v":" hours"}]
[{"$f":"IF(COUNTIF($B$1:B1406,TRUE)=COUNTIF($B$1:B1405,TRUE),\"\",COUNTIF($B$1:B1406,TRUE))","v":1099},{"$f":"Worksheet!$D$11","v":true},{"$f":"RANDBETWEEN(5,RANDBETWEEN(5,Worksheet!$D$6))","v":86},"kg","±",{"$f":"IF(I1406=1,H1406*10^RANDBETWEEN(IF(Worksheet!$D$9,-1,0),0),IF(I1406=2,H1406*10^RANDBETWEEN(RANDBETWEEN(0,2),2),CHOOSE(RANDBETWEEN(1,3),5,10,20)))","v":20},{"$f":"IF(I1406=1,D1406,IF(I1406=3,\"%\",\"g\"))","v":"%"},8,{"$f":"IF(AND(Worksheet!$D$8,RAND()<0.2),3,IF(RAND()<Worksheet!$D$7/100,1,2))","v":3},{"$f":"IF(I1406=1,C1406-F1406,IF(I1406=2,C1406-F1406/1000,IF(I1406=3,(1-F1406/100)*C1406,\"\")))","v":68.8}," kg",{"$f":"J1406*1000","v":68800},"g",{"$f":"IF(I1406=1,C1406+F1406,IF(I1406=2,C1406+F1406/1000,IF(I1406=3,(1+F1406/100)*C1406,\"\")))","v":103.2},"  kg",{"$f":"N1406*1000","v":103200},"g"]
[{"$f":"IF(COUNTIF($B$1:B1407,TRUE)=COUNTIF($B$1:B1406,TRUE),\"\",COUNTIF($B$1:B1407,TRUE))","v":1100},{"$f":"Worksheet!$D$12","v":true},{"$f":"RANDBETWEEN(5,RANDBETWEEN(5,Worksheet!$D$6))","v":5},"tonnes","±",{"$f":"IF(I1407=1,H1407*10^RANDBETWEEN(IF(Worksheet!$D$9,-1,0),0),IF(I1407=2,H1407*10^RANDBETWEEN(RANDBETWEEN(0,2),2),CHOOSE(RANDBETWEEN(1,3),5,10,20)))","v":5},{"$f":"IF(I1407=1,D1407,IF(I1407=3,\"%\",\"kg\"))","v":"%"},2,{"$f":"IF(AND(Worksheet!$D$8,RAND()<0.2),3,IF(RAND()<Worksheet!$D$7/100,1,2))","v":3},{"$f":"IF(I1407=1,C1407-F1407,IF(I1407=2,C1407-F1407/1000,IF(I1407=3,(1-F1407/100)*C1407,\"\")))","v":4.75}," tonnes",{"$f":"J1407*1000","v":4750},"kg",{"$f":"IF(I1407=1,C1407+F1407,IF(I1407=2,C1407+F1407/1000,IF(I1407=3,(1+F1407/100)*C1407,\"\")))","v":5.25},"  tonnes",{"$f":"N1407*1000","v":5250},"kg"]
[{"$f":"IF(COUNTIF($B$1:B1408,TRUE)=COUNTIF($B$1:B1407,TRUE),\"\",COUNTIF($B$1:B1408,TRUE))","v":1101},{"$f":"Worksheet!$D$13","v":true},{"$f":"RANDBETWEEN(5,RANDBETWEEN(5,Worksheet!$D$6))","v":79},"litres","±",{"$f":"IF(I1408=1,H1408*10^RANDBETWEEN(IF(Worksheet!$D$9,-1,0),0),IF(I1408=2,H1408*10^RANDBETWEEN(RANDBETWEEN(0,2),2),CHOOSE(RANDBETWEEN(1,3),5,10,20)))","v":2},{"$f":"IF(I1408=1,D1408,IF(I1408=3,\"%\",\"ml\"))","v":"litres"},2,{"$f":"IF(AND(Worksheet!$D$8,RAND()<0.2),3,IF(RAND()<Worksheet!$D$7/100,1,2))","v":1},{"$f":"IF(I1408=1,C1408-F1408,IF(I1408=2,C1408-F1408/1000,IF(I1408=3,(1-F1408/100)*C1408,\"\")))","v":77}," litres",{"$f":"J1408*1000","v":77000},"ml",{"$f":"IF(I1408=1,C1408+F1408,IF(I1408=2,C1408+F1408/1000,IF(I1408=3,(1+F1408/100)*C1408,\"\")))","v":81},"  litres",{"$f":"N1408*1000","v":81000},"ml"]
[{"$f":"IF(COUNTIF($B$1:B1409,TRUE)=COUNTIF($B$1:B1408,TRUE),\"\",COUNTIF($B$1:B1409,TRUE))","v":1102},{"$f":"Worksheet!$D$14","v":true},{"$f":"RANDBETWEEN(5,RANDBETWEEN(5,Worksheet!$D$6))","v":29},"litres","±",{"$f":"IF(I1409=1,H1409*10^RANDBETWEEN(IF(Worksheet!$D$9,-1,0),0),IF(I1409=2,H1409*10^RANDBETWEEN(RANDBETWEEN(0,2),2),CHOOSE(RANDBETWEEN(1,3),5,10,20)))","v":6},{"$f":"IF(I1409=1,D1409,IF(I1409=3,\"%\",\"cm³\"))","v":"litres"},6,{"$f":"IF(AND(Worksheet!$D$8,RAND()<0.2),3,IF(RAND()<Worksheet!$D$7/100,1,2))","v":1},{"$f":"IF(I1409=1,C1409-F1409,IF(I1409=2,C1409-F1409/1000,IF(I1409=3,(1-F1409/100)*C1409,\"\")))","v":23}," litres",{"$f":"J1409*1000","v":23000},"cm³",{"$f":"IF(I1409=1,C1409+F1409,IF(I1409=2,C1409+F1409/1000,IF(I1409=3,(1+F1409/100)*C1409,\"\")))","v":35},"  litres",{"$f":"N1409*1000","v":35000},"cm³"]
[{"$f":"IF(COUNTIF($B$1:B1410,TRUE)=COUNTIF($B$1:B1409,TRUE),\"\",COUNTIF($B$1:B1410,TRUE))","v":""},{"$f":"Worksheet!$D$15","v":false},{"$f":"RANDBETWEEN(5,20)","v":20},"min","±",{"$f":"IF(I1410=1,H1410*10^RANDBETWEEN(IF(Worksheet!$D$9,-1,0),0),IF(I1410=2,H1410,CHOOSE(RANDBETWEEN(1,3),5,10,20)))","v":5},{"$f":"IF(I1410=1,D1410,IF(I1410=3,\"%\",\"sec\"))","v":"sec"},5,{"$f":"IF(AND(Worksheet!$D$8,RAND()<0),3,IF(RAND()<Worksheet!$D$7/100,1,2))","v":2},null," min",{"$f":"IF(I1410=1,C1410-F1410,IF(I1410=2,C1410*60-F1410,\"\"))","v":1195},{"$f":"IF($I1410=1,\" hours\",\" min\")","v":" min"},null,"  min",{"$f":"IF(I1410=1,C1410+F1410,IF(I1410=2,C1410*60+F1410,\"\"))","v":1205},{"$f":"IF($I1410=1,\" hours\",\" min\")","v":" min"}]
[{"$f":"COUNTIF($B$1:B1411,TRUE)","v":1103},{"$f":"Worksheet!$B$11","v":true},{"$f":"RANDBETWEEN(5,RANDBETWEEN(5,Worksheet!$D$6))","v":115},"cm","±",{"$f":"IF(I1411=1,H1411*10^RANDBETWEEN(IF(Worksheet!$D$9,-1,0),0),IF(I1411=2,H1411,CHOOSE(RANDBETWEEN(1,3),5,10,20)))","v":9},{"$f":"IF(I1411=1,D1411,IF(I1411=3,\"%\",\"mm\"))","v":"mm"},{"$f":"RANDBETWEEN(1,MIN(9,C1411))","v":9},{"$f":"IF(AND(Worksheet!$D$8,RAND()<0.2),3,IF(RAND()<Worksheet!$D$7/100,1,2))","v":2},{"$f":"IF(I1411=1,C1411-F1411,IF(I1411=2,C1411-F1411/10,IF(I1411=3,(1-F1411/100)*C1411,\"\")))","v":114.1},{"$f":"CONCATENATE(\" \",D1411)","v":" cm"},{"$f":"J1411*10","v":1141},"mm",{"$f":"IF(I1411=1,C1411+F1411,IF(I1411=2,C1411+F1411/10,IF(I1411=3,(1+F1411/100)*C1411,\"\")))","v":115.9},{"$f":"CONCATENATE(\" \",K1411)","v":"  cm"},{"$f":"N1411*10","v":1159},"mm"]
[{"$f":"IF(COUNTIF($B$1:B1412,TRUE)=COUNTIF($B$1:B1411,TRUE),\"\",COUNTIF($B$1:B1412,TRUE))","v":1104},{"$f":"Worksheet!$B$12","v":true},{"$f":"RANDBETWEEN(5,RANDBETWEEN(5,Worksheet!$D$6))","v":9},"m","±",{"$f":"IF(I1412=1,H1412*10^RANDBETWEEN(IF(Worksheet!$D$9,-1,0),0),IF(I1412=2,H1412*10^RANDBETWEEN(RANDBETWEEN(0,1),1),CHOOSE(RANDBETWEEN(1,3),5,10,20)))","v":7},{"$f":"IF(I1412=1,D1412,IF(I1412=3,\"%\",\"cm\"))","v":"m"},{"$f":"RANDBETWEEN(1,MIN(9,C1412))","v":7},{"$f":"IF(AND(Worksheet!$D$8,RAND()<0.2),3,IF(RAND()<Worksheet!$D$7/100,1,2))","v":1},{"$f":"IF(I1412=1,C1412-F1412,IF(I1412=2,C1412-F1412/100,IF(I1412=3,(1-F1412/100)*C1412,\"\")))","v":2},{"$f":"CONCATENATE(\" \",D1412)","v":" m"},{"$f":"J1412*100","v":200},"cm",{"$f":"IF(I1412=1,C1412+F1412,IF(I1412=2,C1412+F1412/100,IF(I1412=3,(1+F1412/100)*C1412,\"\")))","v":16},{"$f":"CONCATENATE(\" \",K1412)","v":"  m"},{"$f":"N1412*100","v":1600},"cm"]
[{"$f":"IF(COUNTIF($B$1:B1413,TRUE)=COUNTIF($B$1:B1412,TRUE),\"\",COUNTIF($B$1:B1413,TRUE))","v":1105},{"$f":"Worksheet!$B$13","v":true},{"$f":"RANDBETWEEN(5,RANDBETWEEN(5,Worksheet!$D$6))","v":36},"km","±",{"$f":"IF(I1413=1,H1413*10^RANDBETWEEN(IF(Worksheet!$D$9,-1,0),0),IF(I1413=2,H1413*10^RANDBETWEEN(RANDBETWEEN(0,2),2),CHOOSE(RANDBETWEEN(1,3),5,10,20)))","v":100},{"$f":"IF(I1413=1,D1413,IF(I1413=3,\"%\",\"m\"))","v":"m"},1,{"$f":"IF(AND(Worksheet!$D$8,RAND()<0.2),3,IF(RAND()<Worksheet!$D$7/100,1,2))","v":2},{"$f":"IF(I1413=1,C1413-F1413,IF(I1413=2,C1413-F1413/1000,IF(I1413=3,(1-F1413/100)*C1413,\"\")))","v":35.9}," km",{"$f":"J1413*1000","v":35900},"m",{"$f":"IF(I1413=1,C1413+F1413,IF(I1413=2,C1413+F1413/1000,IF(I1413=3,(1+F1413/100)*C1413,\"\")))","v":36.1},"  km",{"$f":"N1413*1000","v":36100},"m"]
[{"$f":"IF(COUNTIF($B$1:B1414,TRUE)=COUNTIF($B$1:B1413,TRUE),\"\",COUNTIF($B$1:B1414,TRUE))","v":""},{"$f":"Worksheet!$B$14","v":false},{"$f":"RANDBETWEEN(5,RANDBETWEEN(5,Worksheet!$D$6))","v":35},"m","±",{"$f":"IF(I1414=1,H1414*10^RANDBETWEEN(IF(Worksheet!$D$9,-1,0),0),IF(I1414=2,H1414*10^RANDBETWEEN(RANDBETWEEN(0,2),2),CHOOSE(RANDBETWEEN(1,3),5,10,20)))","v":0.8},{"$f":"IF(I1414=1,D1414,IF(I1414=3,\"%\",\"mm\"))","v":"m"},8,{"$f":"IF(AND(Worksheet!$D$8,RAND()<0.2),3,IF(RAND()<Worksheet!$D$7/100,1,2))","v":1},{"$f":"IF(I1414=1,C1414-F1414,IF(I1414=2,C1414-F1414/1000,IF(I1414=3,(1-F1414/100)*C1414,\"\")))","v":34.200000000000003}," m",{"$f":"J1414*1000","v":34200},"mm",{"$f":"IF(I1414=1,C1414+F1414,IF(I1414=2,C1414+F1414/1000,IF(I1414=3,(1+F1414/100)*C1414,\"\")))","v":35.799999999999997},"  m",{"$f":"N1414*1000","v":35800},"mm"]
[{"$f":"IF(COUNTIF($B$1:B1415,TRUE)=COUNTIF($B$1:B1414,TRUE),\"\",COUNTIF($B$1:B1415,TRUE))","v":1106},{"$f":"Worksheet!$B$15","v":true},{"$f":"RANDBETWEEN(5,20)","v":5},"hours","±",{"$f":"IF(I1415=1,H1415*10^RANDBETWEEN(IF(Worksheet!$D$9,-1,0),0),IF(I1415=2,H1415,CHOOSE(RANDBETWEEN(1,3),5,10,20)))","v":2},{"$f":"IF(I1415=1,D1415,IF(I1415=3,\"%\",\"min\"))","v":"min"},2,{"$f":"IF(AND(Worksheet!$D$8,RAND()<0),3,IF(RAND()<Worksheet!$D$7/100,1,2))","v":2},null," hours",{"$f":"IF(I1415=1,C1415-F1415,IF(I1415=2,C1415*60-F1415,\"\"))","v":298},{"$f":"IF($I1415=1,\" hours\",\" min\")","v":" min"},null,"  hours",{"$f":"IF(I1415=1,C1415+F1415,IF(I1415=2,C1415*60+F1415,\"\"))","v":302},{"$f":"IF($I1415=1,\" hours\",\" min\")","v":" min"}]
[{"$f":"IF(COUNTIF($B$1:B1416,TRUE)=COUNTIF($B$1:B1415,TRUE),\"\",COUNTIF($B$1:B1416,TRUE))","v":1107},{"$f":"Worksheet!$D$11","v":true},{"$f":"RANDBETWEEN(5,RANDBETWEEN(5,Worksheet!$D$6))","v":19},"kg","±",{"$f":"IF(I1416=1,H1416*10^RANDBETWEEN(IF(Worksheet!$D$9,-1,0),0),IF(I1416=2,H1416*10^RANDBETWEEN(RANDBETWEEN(0,2),2),CHOOSE(RANDBETWEEN(1,3),5,10,20)))","v":5},{"$f":"IF(I1416=1,D1416,IF(I1416=3,\"%\",\"g\"))","v":"%"},2,{"$f":"IF(AND(Worksheet!$D$8,RAND()<0.2),3,IF(RAND()<Worksheet!$D$7/100,1,2))","v":3},{"$f":"IF(I1416=1,C1416-F1416,IF(I1416=2,C1416-F1416/1000,IF(I1416=3,(1-F1416/100)*C1416,\"\")))","v":18.05}," kg",{"$f":"J1416*1000","v":18050},"g",{"$f":"IF(I1416=1,C1416+F1416,IF(I1416=2,C1416+F1416/1000,IF(I1416=3,(1+F1416/100)*C1416,\"\")))","v":19.95},"  kg",{"$f":"N1416*1000","v":19950},"g"]
[{"$f":"IF(COUNTIF($B$1:B1417,TRUE)=COUNTIF($B$1:B1416,TRUE),\"\",COUNTIF($B$1:B1417,TRUE))","v":1108},{"$f":"Worksheet!$D$12","v":true},{"$f":"RANDBETWEEN(5,RANDBETWEEN(5,Worksheet!$D$6))","v":239},"tonnes","±",{"$f":"IF(I1417=1,H1417*10^RANDBETWEEN(IF(Worksheet!$D$9,-1,0),0),IF(I1417=2,H1417*10^RANDBETWEEN(RANDBETWEEN(0,2),2),CHOOSE(RANDBETWEEN(1,3),5,10,20)))","v":0.9},{"$f":"IF(I1417=1,D1417,IF(I1417=3,\"%\",\"kg\"))","v":"tonnes"},9,{"$f":"IF(AND(Worksheet!$D$8,RAND()<0.2),3,IF(RAND()<Worksheet!$D$7/100,1,2))","v":1},{"$f":"IF(I1417=1,C1417-F1417,IF(I1417=2,C1417-F1417/1000,IF(I1417=3,(1-F1417/100)*C1417,\"\")))","v":238.1}," tonnes",{"$f":"J1417*1000","v":238100},"kg",{"$f":"IF(I1417=1,C1417+F1417,IF(I1417=2,C1417+F1417/1000,IF(I1417=3,(1+F1417/100)*C1417,\"\")))","v":239.9},"  tonnes",{"$f":"N1417*1000","v":239900},"kg"]
[{"$f":"IF(COUNTIF($B$1:B1418,TRUE)=COUNTIF($B$1:B1417,TRUE),\"\",COUNTIF($B$1:B1418,TRUE))","v":1109},{"$f":"Worksheet!$D$13","v":true},{"$f":"RANDBETWEEN(5,RANDBETWEEN(5,Worksheet!$D$6))","v":51},"litres","±",{"$f":"IF(I1418=1,H1418*10^RANDBETWEEN(IF(Worksheet!$D$9,-1,0),0),IF(I1418=2,H1418*10^RANDBETWEEN(RANDBETWEEN(0,2),2),CHOOSE(RANDBETWEEN(1,3),5,10,20)))","v":10},{"$f":"IF(I1418=1,D1418,IF(I1418=3,\"%\",\"ml\"))","v":"%"},6,{"$f":"IF(AND(Worksheet!$D$8,RAND()<0.2),3,IF(RAND()<Worksheet!$D$7/100,1,2))","v":3},{"$f":"IF(I1418=1,C1418-F1418,IF(I1418=2,C1418-F1418/1000,IF(I1418=3,(1-F1418/100)*C1418,\"\")))","v":45.9}," litres",{"$f":"J1418*1000","v":45900},"ml",{"$f":"IF(I1418=1,C1418+F1418,IF(I1418=2,C1418+F1418/1000,IF(I1418=3,(1+F1418/100)*C1418,\"\")))","v":56.1},"  litres",{"$f":"N1418*1000","v":56100},"ml"]
[{"$f":"IF(COUNTIF($B$1:B1419,TRUE)=COUNTIF($B$1:B1418,TRUE),\"\",COUNTIF($B$1:B1419,TRUE))","v":1110},{"$f":"Worksheet!$D$14","v":true},{"$f":"RANDBETWEEN(5,RANDBETWEEN(5,Worksheet!$D$6))","v":13},"litres","±",{"$f":"IF(I1419=1,H1419*10^RANDBETWEEN(IF(Worksheet!$D$9,-1,0),0),IF(I1419=2,H1419*10^RANDBETWEEN(RANDBETWEEN(0,2),2),CHOOSE(RANDBETWEEN(1,3),5,10,20)))","v":0.1},{"$f":"IF(I1419=1,D1419,IF(I1419=3,\"%\",\"cm³\"))","v":"litres"},1,{"$f":"IF(AND(Worksheet!$D$8,RAND()<0.2),3,IF(RAND()<Worksheet!$D$7/100,1,2))","v":1},{"$f":"IF(I1419=1,C1419-F1419,IF(I1419=2,C1419-F1419/1000,IF(I1419=3,(1-F1419/100)*C1419,\"\")))","v":12.9}," litres",{"$f":"J1419*1000","v":12900},"cm³",{"$f":"IF(I1419=1,C1419+F1419,IF(I1419=2,C1419+F1419/1000,IF(I1419=3,(1+F1419/100)*C1419,\"\")))","v":13.1},"  litres",{"$f":"N1419*1000","v":13100},"cm³"]
[{"$f":"IF(COUNTIF($B$1:B1420,TRUE)=COUNTIF($B$1:B1419,TRUE),\"\",COUNTIF($B$1:B1420,TRUE))","v":""},{"$f":"Worksheet!$D$15","v":false},{"$f":"RANDBETWEEN(5,20)","v":6},"min","±",{"$f":"IF(I1420=1,H1420*10^RANDBETWEEN(IF(Worksheet!$D$9,-1,0),0),IF(I1420=2,H1420,CHOOSE(RANDBETWEEN(1,3),5,10,20)))","v":5},{"$f":"IF(I1420=1,D1420,IF(I1420=3,\"%\",\"sec\"))","v":"min"},5,{"$f":"IF(AND(Worksheet!$D$8,RAND()<0),3,IF(RAND()<Worksheet!$D$7/100,1,2))","v":1},null," min",{"$f":"IF(I1420=1,C1420-F1420,IF(I1420=2,C1420*60-F1420,\"\"))","v":1},{"$f":"IF($I1420=1,\" hours\",\" min\")","v":" hours"},null,"  min",{"$f":"IF(I1420=1,C1420+F1420,IF(I1420=2,C1420*60+F1420,\"\"))","v":11},{"$f":"IF($I1420=1,\" hours\",\" min\")","v":" hours"}]
[{"$f":"COUNTIF($B$1:B1421,TRUE)","v":1111},{"$f":"Worksheet!$B$11","v":true},{"$f":"RANDBETWEEN(5,RANDBETWEEN(5,Worksheet!$D$6))","v":280},"cm","±",{"$f":"IF(I1421=1,H1421*10^RANDBETWEEN(IF(Worksheet!$D$9,-1,0),0),IF(I1421=2,H1421,CHOOSE(RANDBETWEEN(1,3),5,10,20)))","v":0.8},{"$f":"IF(I1421=1,D1421,IF(I1421=3,\"%\",\"mm\"))","v":"cm"},{"$f":"RANDBETWEEN(1,MIN(9,C1421))","v":8},{"$f":"IF(AND(Worksheet!$D$8,RAND()<0.2),3,IF(RAND()<Worksheet!$D$7/100,1,2))","v":1},{"$f":"IF(I1421=1,C1421-F1421,IF(I1421=2,C1421-F1421/10,IF(I1421=3,(1-F1421/100)*C1421,\"\")))","v":279.2},{"$f":"CONCATENATE(\" \",D1421)","v":" cm"},{"$f":"J1421*10","v":2792},"mm",{"$f":"IF(I1421=1,C1421+F1421,IF(I1421=2,C1421+F1421/10,IF(I1421=3,(1+F1421/100)*C1421,\"\")))","v":280.8},{"$f":"CONCATENATE(\" \",K1421)","v":"  cm"},{"$f":"N1421*10","v":2808},"mm"]
[{"$f":"IF(COUNTIF($B$1:B1422,TRUE)=COUNTIF($B$1:B1421,TRUE),\"\",COUNTIF($B$1:B1422,TRUE))","v":1112},{"$f":"Worksheet!$B$12","v":true},{"$f":"RANDBETWEEN(5,RANDBETWEEN(5,Worksheet!$D$6))","v":182},"m","±",{"$f":"IF(I1422=1,H1422*10^RANDBETWEEN(IF(Worksheet!$D$9,-1,0),0),IF(I1422=2,H1422*10^RANDBETWEEN(RANDBETWEEN(0,1),1),CHOOSE(RANDBETWEEN(1,3),5,10,20)))","v":8},{"$f":"IF(I1422=1,D1422,IF(I1422=3,\"%\",\"cm\"))","v":"m"},{"$f":"RANDBETWEEN(1,MIN(9,C1422))","v":8},{"$f":"IF(AND(Worksheet!$D$8,RAND()<0.2),3,IF(RAND()<Worksheet!$D$7/100,1,2))","v":1},{"$f":"IF(I1422=1,C1422-F1422,IF(I1422=2,C1422-F1422/100,IF(I1422=3,(1-F1422/100)*C1422,\"\")))","v":174},{"$f":"CONCATENATE(\" \",D1422)","v":" m"},{"$f":"J1422*100","v":17400},"cm",{"$f":"IF(I1422=1,C1422+F1422,IF(I1422=2,C1422+F1422/100,IF(I1422=3,(1+F1422/100)*C1422,\"\")))","v":190},{"$f":"CONCATENATE(\" \",K1422)","v":"  m"},{"$f":"N1422*100","v":19000},"cm"]
[{"$f":"IF(COUNTIF($B$1:B1423,TRUE)=COUNTIF($B$1:B1422,TRUE),\"\",COUNTIF($B$1:B1423,TRUE))","v":1113},{"$f":"Worksheet!$B$13","v":true},{"$f":"RANDBETWEEN(5,RANDBETWEEN(5,Worksheet!$D$6))","v":197},"km","±",{"$f":"IF(I1423=1,H1423*10^RANDBETWEEN(IF(Worksheet!$D$9,-1,0),0),IF(I1423=2,H1423*10^RANDBETWEEN(RANDBETWEEN(0,2),2),CHOOSE(RANDBETWEEN(1,3),5,10,20)))","v":800},{"$f":"IF(I1423=1,D1423,IF(I1423=3,\"%\",\"m\"))","v":"m"},8,{"$f":"IF(AND(Worksheet!$D$8,RAND()<0.2),3,IF(RAND()<Worksheet!$D$7/100,1,2))","v":2},{"$f":"IF(I1423=1,C1423-F1423,IF(I1423=2,C1423-F1423/1000,IF(I1423=3,(1-F1423/100)*C1423,\"\")))","v":196.2}," km",{"$f":"J1423*1000","v":196200},"m",{"$f":"IF(I1423=1,C1423+F1423,IF(I1423=2,C1423+F1423/1000,IF(I1423=3,(1+F1423/100)*C1423,\"\")))","v":197.8},"  km",{"$f":"N1423*1000","v":197800},"m"]
[{"$f":"IF(COUNTIF($B$1:B1424,TRUE)=COUNTIF($B$1:B1423,TRUE),\"\",COUNTIF($B$1:B1424,TRUE))","v":""},{"$f":"Worksheet!$B$14","v":false},{"$f":"RANDBETWEEN(5,RANDBETWEEN(5,Worksheet!$D$6))","v":114},"m","±",{"$f":"IF(I1424=1,H1424*10^RANDBETWEEN(IF(Worksheet!$D$9,-1,0),0),IF(I1424=2,H1424*10^RANDBETWEEN(RANDBETWEEN(0,2),2),CHOOSE(RANDBETWEEN(1,3),5,10,20)))","v":0.70000000000000007},{"$f":"IF(I1424=1,D1424,IF(I1424=3,\"%\",\"mm\"))","v":"m"},7,{"$f":"IF(AND(Worksheet!$D$8,RAND()<0.2),3,IF(RAND()<Worksheet!$D$7/100,1,2))","v":1},{"$f":"IF(I1424=1,C1424-F1424,IF(I1424=2,C1424-F1424/1000,IF(I1424=3,(1-F1424/100)*C1424,\"\")))","v":113.3}," m",{"$f":"J1424*1000","v":113300},"mm",{"$f":"IF(I1424=1,C1424+F1424,IF(I1424=2,C1424+F1424/1000,IF(I1424=3,(1+F1424/100)*C1424,\"\")))","v":114.7},"  m",{"$f":"N1424*1000","v":114700},"mm"]
[{"$f":"IF(COUNTIF($B$1:B1425,TRUE)=COUNTIF($B$1:B1424,TRUE),\"\",COUNTIF($B$1:B1425,TRUE))","v":1114},{"$f":"Worksheet!$B$15","v":true},{"$f":"RANDBETWEEN(5,20)","v":8},"hours","±",{"$f":"IF(I1425=1,H1425*10^RANDBETWEEN(IF(Worksheet!$D$9,-1,0),0),IF(I1425=2,H1425,CHOOSE(RANDBETWEEN(1,3),5,10,20)))","v":5},{"$f":"IF(I1425=1,D1425,IF(I1425=3,\"%\",\"min\"))","v":"min"},5,{"$f":"IF(AND(Worksheet!$D$8,RAND()<0),3,IF(RAND()<Worksheet!$D$7/100,1,2))","v":2},null," hours",{"$f":"IF(I1425=1,C1425-F1425,IF(I1425=2,C1425*60-F1425,\"\"))","v":475},{"$f":"IF($I1425=1,\" hours\",\" min\")","v":" min"},null,"  hours",{"$f":"IF(I1425=1,C1425+F1425,IF(I1425=2,C1425*60+F1425,\"\"))","v":485},{"$f":"IF($I1425=1,\" hours\",\" min\")","v":" min"}]
[{"$f":"IF(COUNTIF($B$1:B1426,TRUE)=COUNTIF($B$1:B1425,TRUE),\"\",COUNTIF($B$1:B1426,TRUE))","v":1115},{"$f":"Worksheet!$D$11","v":true},{"$f":"RANDBETWEEN(5,RANDBETWEEN(5,Worksheet!$D$6))","v":16},"kg","±",{"$f":"IF(I1426=1,H1426*10^RANDBETWEEN(IF(Worksheet!$D$9,-1,0),0),IF(I1426=2,H1426*10^RANDBETWEEN(RANDBETWEEN(0,2),2),CHOOSE(RANDBETWEEN(1,3),5,10,20)))","v":1},{"$f":"IF(I1426=1,D1426,IF(I1426=3,\"%\",\"g\"))","v":"kg"},1,{"$f":"IF(AND(Worksheet!$D$8,RAND()<0.2),3,IF(RAND()<Worksheet!$D$7/100,1,2))","v":1},{"$f":"IF(I1426=1,C1426-F1426,IF(I1426=2,C1426-F1426/1000,IF(I1426=3,(1-F1426/100)*C1426,\"\")))","v":15}," kg",{"$f":"J1426*1000","v":15000},"g",{"$f":"IF(I1426=1,C1426+F1426,IF(I1426=2,C1426+F1426/1000,IF(I1426=3,(1+F1426/100)*C1426,\"\")))","v":17},"  kg",{"$f":"N1426*1000","v":17000},"g"]
[{"$f":"IF(COUNTIF($B$1:B1427,TRUE)=COUNTIF($B$1:B1426,TRUE),\"\",COUNTIF($B$1:B1427,TRUE))","v":1116},{"$f":"Worksheet!$D$12","v":true},{"$f":"RANDBETWEEN(5,RANDBETWEEN(5,Worksheet!$D$6))","v":17},"tonnes","±",{"$f":"IF(I1427=1,H1427*10^RANDBETWEEN(IF(Worksheet!$D$9,-1,0),0),IF(I1427=2,H1427*10^RANDBETWEEN(RANDBETWEEN(0,2),2),CHOOSE(RANDBETWEEN(1,3),5,10,20)))","v":600},{"$f":"IF(I1427=1,D1427,IF(I1427=3,\"%\",\"kg\"))","v":"kg"},6,{"$f":"IF(AND(Worksheet!$D$8,RAND()<0.2),3,IF(RAND()<Worksheet!$D$7/100,1,2))","v":2},{"$f":"IF(I1427=1,C1427-F1427,IF(I1427=2,C1427-F1427/1000,IF(I1427=3,(1-F1427/100)*C1427,\"\")))","v":16.399999999999999}," tonnes",{"$f":"J1427*1000","v":16400},"kg",{"$f":"IF(I1427=1,C1427+F1427,IF(I1427=2,C1427+F1427/1000,IF(I1427=3,(1+F1427/100)*C1427,\"\")))","v":17.600000000000001},"  tonnes",{"$f":"N1427*1000","v":17600},"kg"]
[{"$f":"IF(COUNTIF($B$1:B1428,TRUE)=COUNTIF($B$1:B1427,TRUE),\"\",COUNTIF($B$1:B1428,TRUE))","v":1117},{"$f":"Worksheet!$D$13","v":true},{"$f":"RANDBETWEEN(5,RANDBETWEEN(5,Worksheet!$D$6))","v":106},"litres","±",{"$f":"IF(I1428=1,H1428*10^RANDBETWEEN(IF(Worksheet!$D$9,-1,0),0),IF(I1428=2,H1428*10^RANDBETWEEN(RANDBETWEEN(0,2),2),CHOOSE(RANDBETWEEN(1,3),5,10,20)))","v":0.1},{"$f":"IF(I1428=1,D1428,IF(I1428=3,\"%\",\"ml\"))","v":"litres"},1,{"$f":"IF(AND(Worksheet!$D$8,RAND()<0.2),3,IF(RAND()<Worksheet!$D$7/100,1,2))","v":1},{"$f":"IF(I1428=1,C1428-F1428,IF(I1428=2,C1428-F1428/1000,IF(I1428=3,(1-F1428/100)*C1428,\"\")))","v":105.9}," litres",{"$f":"J1428*1000","v":105900},"ml",{"$f":"IF(I1428=1,C1428+F1428,IF(I1428=2,C1428+F1428/1000,IF(I1428=3,(1+F1428/100)*C1428,\"\")))","v":106.1},"  litres",{"$f":"N1428*1000","v":106100},"ml"]
[{"$f":"IF(COUNTIF($B$1:B1429,TRUE)=COUNTIF($B$1:B1428,TRUE),\"\",COUNTIF($B$1:B1429,TRUE))","v":1118},{"$f":"Worksheet!$D$14","v":true},{"$f":"RANDBETWEEN(5,RANDBETWEEN(5,Worksheet!$D$6))","v":9},"litres","±",{"$f":"IF(I1429=1,H1429*10^RANDBETWEEN(IF(Worksheet!$D$9,-1,0),0),IF(I1429=2,H1429*10^RANDBETWEEN(RANDBETWEEN(0,2),2),CHOOSE(RANDBETWEEN(1,3),5,10,20)))","v":0.2},{"$f":"IF(I1429=1,D1429,IF(I1429=3,\"%\",\"cm³\"))","v":"litres"},2,{"$f":"IF(AND(Worksheet!$D$8,RAND()<0.2),3,IF(RAND()<Worksheet!$D$7/100,1,2))","v":1},{"$f":"IF(I1429=1,C1429-F1429,IF(I1429=2,C1429-F1429/1000,IF(I1429=3,(1-F1429/100)*C1429,\"\")))","v":8.8000000000000007}," litres",{"$f":"J1429*1000","v":8800},"cm³",{"$f":"IF(I1429=1,C1429+F1429,IF(I1429=2,C1429+F1429/1000,IF(I1429=3,(1+F1429/100)*C1429,\"\")))","v":9.1999999999999993},"  litres",{"$f":"N1429*1000","v":9200},"cm³"]
[{"$f":"IF(COUNTIF($B$1:B1430,TRUE)=COUNTIF($B$1:B1429,TRUE),\"\",COUNTIF($B$1:B1430,TRUE))","v":""},{"$f":"Worksheet!$D$15","v":false},{"$f":"RANDBETWEEN(5,20)","v":7},"min","±",{"$f":"IF(I1430=1,H1430*10^RANDBETWEEN(IF(Worksheet!$D$9,-1,0),0),IF(I1430=2,H1430,CHOOSE(RANDBETWEEN(1,3),5,10,20)))","v":5},{"$f":"IF(I1430=1,D1430,IF(I1430=3,\"%\",\"sec\"))","v":"min"},5,{"$f":"IF(AND(Worksheet!$D$8,RAND()<0),3,IF(RAND()<Worksheet!$D$7/100,1,2))","v":1},null," min",{"$f":"IF(I1430=1,C1430-F1430,IF(I1430=2,C1430*60-F1430,\"\"))","v":2},{"$f":"IF($I1430=1,\" hours\",\" min\")","v":" hours"},null,"  min",{"$f":"IF(I1430=1,C1430+F1430,IF(I1430=2,C1430*60+F1430,\"\"))","v":12},{"$f":"IF($I1430=1,\" hours\",\" min\")","v":" hours"}]
[{"$f":"COUNTIF($B$1:B1431,TRUE)","v":1119},{"$f":"Worksheet!$B$11","v":true},{"$f":"RANDBETWEEN(5,RANDBETWEEN(5,Worksheet!$D$6))","v":337},"cm","±",{"$f":"IF(I1431=1,H1431*10^RANDBETWEEN(IF(Worksheet!$D$9,-1,0),0),IF(I1431=2,H1431,CHOOSE(RANDBETWEEN(1,3),5,10,20)))","v":2},{"$f":"IF(I1431=1,D1431,IF(I1431=3,\"%\",\"mm\"))","v":"mm"},{"$f":"RANDBETWEEN(1,MIN(9,C1431))","v":2},{"$f":"IF(AND(Worksheet!$D$8,RAND()<0.2),3,IF(RAND()<Worksheet!$D$7/100,1,2))","v":2},{"$f":"IF(I1431=1,C1431-F1431,IF(I1431=2,C1431-F1431/10,IF(I1431=3,(1-F1431/100)*C1431,\"\")))","v":336.8},{"$f":"CONCATENATE(\" \",D1431)","v":" cm"},{"$f":"J1431*10","v":3368},"mm",{"$f":"IF(I1431=1,C1431+F1431,IF(I1431=2,C1431+F1431/10,IF(I1431=3,(1+F1431/100)*C1431,\"\")))","v":337.2},{"$f":"CONCATENATE(\" \",K1431)","v":"  cm"},{"$f":"N1431*10","v":3372},"mm"]
[{"$f":"IF(COUNTIF($B$1:B1432,TRUE)=COUNTIF($B$1:B1431,TRUE),\"\",COUNTIF($B$1:B1432,TRUE))","v":1120},{"$f":"Worksheet!$B$12","v":true},{"$f":"RANDBETWEEN(5,RANDBETWEEN(5,Worksheet!$D$6))","v":39},"m","±",{"$f":"IF(I1432=1,H1432*10^RANDBETWEEN(IF(Worksheet!$D$9,-1,0),0),IF(I1432=2,H1432*10^RANDBETWEEN(RANDBETWEEN(0,1),1),CHOOSE(RANDBETWEEN(1,3),5,10,20)))","v":8},{"$f":"IF(I1432=1,D1432,IF(I1432=3,\"%\",\"cm\"))","v":"m"},{"$f":"RANDBETWEEN(1,MIN(9,C1432))","v":8},{"$f":"IF(AND(Worksheet!$D$8,RAND()<0.2),3,IF(RAND()<Worksheet!$D$7/100,1,2))","v":1},{"$f":"IF(I1432=1,C1432-F1432,IF(I1432=2,C1432-F1432/100,IF(I1432=3,(1-F1432/100)*C1432,\"\")))","v":31},{"$f":"CONCATENATE(\" \",D1432)","v":" m"},{"$f":"J1432*100","v":3100},"cm",{"$f":"IF(I1432=1,C1432+F1432,IF(I1432=2,C1432+F1432/100,IF(I1432=3,(1+F1432/100)*C1432,\"\")))","v":47},{"$f":"CONCATENATE(\" \",K1432)","v":"  m"},{"$f":"N1432*100","v":4700},"cm"]
[{"$f":"IF(COUNTIF($B$1:B1433,TRUE)=COUNTIF($B$1:B1432,TRUE),\"\",COUNTIF($B$1:B1433,TRUE))","v":1121},{"$f":"Worksheet!$B$13","v":true},{"$f":"RANDBETWEEN(5,RANDBETWEEN(5,Worksheet!$D$6))","v":196},"km","±",{"$f":"IF(I1433=1,H1433*10^RANDBETWEEN(IF(Worksheet!$D$9,-1,0),0),IF(I1433=2,H1433*10^RANDBETWEEN(RANDBETWEEN(0,2),2),CHOOSE(RANDBETWEEN(1,3),5,10,20)))","v":0.5},{"$f":"IF(I1433=1,D1433,IF(I1433=3,\"%\",\"m\"))","v":"km"},5,{"$f":"IF(AND(Worksheet!$D$8,RAND()<0.2),3,IF(RAND()<Worksheet!$D$7/100,1,2))","v":1},{"$f":"IF(I1433=1,C1433-F1433,IF(I1433=2,C1433-F1433/1000,IF(I1433=3,(1-F1433/100)*C1433,\"\")))","v":195.5}," km",{"$f":"J1433*1000","v":195500},"m",{"$f":"IF(I1433=1,C1433+F1433,IF(I1433=2,C1433+F1433/1000,IF(I1433=3,(1+F1433/100)*C1433,\"\")))","v":196.5},"  km",{"$f":"N1433*1000","v":196500},"m"]
[{"$f":"IF(COUNTIF($B$1:B1434,TRUE)=COUNTIF($B$1:B1433,TRUE),\"\",COUNTIF($B$1:B1434,TRUE))","v":""},{"$f":"Worksheet!$B$14","v":false},{"$f":"RANDBETWEEN(5,RANDBETWEEN(5,Worksheet!$D$6))","v":78},"m","±",{"$f":"IF(I1434=1,H1434*10^RANDBETWEEN(IF(Worksheet!$D$9,-1,0),0),IF(I1434=2,H1434*10^RANDBETWEEN(RANDBETWEEN(0,2),2),CHOOSE(RANDBETWEEN(1,3),5,10,20)))","v":400},{"$f":"IF(I1434=1,D1434,IF(I1434=3,\"%\",\"mm\"))","v":"mm"},4,{"$f":"IF(AND(Worksheet!$D$8,RAND()<0.2),3,IF(RAND()<Worksheet!$D$7/100,1,2))","v":2},{"$f":"IF(I1434=1,C1434-F1434,IF(I1434=2,C1434-F1434/1000,IF(I1434=3,(1-F1434/100)*C1434,\"\")))","v":77.599999999999994}," m",{"$f":"J1434*1000","v":77600},"mm",{"$f":"IF(I1434=1,C1434+F1434,IF(I1434=2,C1434+F1434/1000,IF(I1434=3,(1+F1434/100)*C1434,\"\")))","v":78.400000000000006},"  m",{"$f":"N1434*1000","v":78400},"mm"]
[{"$f":"IF(COUNTIF($B$1:B1435,TRUE)=COUNTIF($B$1:B1434,TRUE),\"\",COUNTIF($B$1:B1435,TRUE))","v":1122},{"$f":"Worksheet!$B$15","v":true},{"$f":"RANDBETWEEN(5,20)","v":6},"hours","±",{"$f":"IF(I1435=1,H1435*10^RANDBETWEEN(IF(Worksheet!$D$9,-1,0),0),IF(I1435=2,H1435,CHOOSE(RANDBETWEEN(1,3),5,10,20)))","v":0.1},{"$f":"IF(I1435=1,D1435,IF(I1435=3,\"%\",\"min\"))","v":"hours"},1,{"$f":"IF(AND(Worksheet!$D$8,RAND()<0),3,IF(RAND()<Worksheet!$D$7/100,1,2))","v":1},null," hours",{"$f":"IF(I1435=1,C1435-F1435,IF(I1435=2,C1435*60-F1435,\"\"))","v":5.9},{"$f":"IF($I1435=1,\" hours\",\" min\")","v":" hours"},null,"  hours",{"$f":"IF(I1435=1,C1435+F1435,IF(I1435=2,C1435*60+F1435,\"\"))","v":6.1},{"$f":"IF($I1435=1,\" hours\",\" min\")","v":" hours"}]
[{"$f":"IF(COUNTIF($B$1:B1436,TRUE)=COUNTIF($B$1:B1435,TRUE),\"\",COUNTIF($B$1:B1436,TRUE))","v":1123},{"$f":"Worksheet!$D$11","v":true},{"$f":"RANDBETWEEN(5,RANDBETWEEN(5,Worksheet!$D$6))","v":98},"kg","±",{"$f":"IF(I1436=1,H1436*10^RANDBETWEEN(IF(Worksheet!$D$9,-1,0),0),IF(I1436=2,H1436*10^RANDBETWEEN(RANDBETWEEN(0,2),2),CHOOSE(RANDBETWEEN(1,3),5,10,20)))","v":20},{"$f":"IF(I1436=1,D1436,IF(I1436=3,\"%\",\"g\"))","v":"%"},2,{"$f":"IF(AND(Worksheet!$D$8,RAND()<0.2),3,IF(RAND()<Worksheet!$D$7/100,1,2))","v":3},{"$f":"IF(I1436=1,C1436-F1436,IF(I1436=2,C1436-F1436/1000,IF(I1436=3,(1-F1436/100)*C1436,\"\")))","v":78.400000000000006}," kg",{"$f":"J1436*1000","v":78400},"g",{"$f":"IF(I1436=1,C1436+F1436,IF(I1436=2,C1436+F1436/1000,IF(I1436=3,(1+F1436/100)*C1436,\"\")))","v":117.6},"  kg",{"$f":"N1436*1000","v":117600},"g"]
[{"$f":"IF(COUNTIF($B$1:B1437,TRUE)=COUNTIF($B$1:B1436,TRUE),\"\",COUNTIF($B$1:B1437,TRUE))","v":1124},{"$f":"Worksheet!$D$12","v":true},{"$f":"RANDBETWEEN(5,RANDBETWEEN(5,Worksheet!$D$6))","v":40},"tonnes","±",{"$f":"IF(I1437=1,H1437*10^RANDBETWEEN(IF(Worksheet!$D$9,-1,0),0),IF(I1437=2,H1437*10^RANDBETWEEN(RANDBETWEEN(0,2),2),CHOOSE(RANDBETWEEN(1,3),5,10,20)))","v":200},{"$f":"IF(I1437=1,D1437,IF(I1437=3,\"%\",\"kg\"))","v":"kg"},2,{"$f":"IF(AND(Worksheet!$D$8,RAND()<0.2),3,IF(RAND()<Worksheet!$D$7/100,1,2))","v":2},{"$f":"IF(I1437=1,C1437-F1437,IF(I1437=2,C1437-F1437/1000,IF(I1437=3,(1-F1437/100)*C1437,\"\")))","v":39.799999999999997}," tonnes",{"$f":"J1437*1000","v":39800},"kg",{"$f":"IF(I1437=1,C1437+F1437,IF(I1437=2,C1437+F1437/1000,IF(I1437=3,(1+F1437/100)*C1437,\"\")))","v":40.200000000000003},"  tonnes",{"$f":"N1437*1000","v":40200},"kg"]
[{"$f":"IF(COUNTIF($B$1:B1438,TRUE)=COUNTIF($B$1:B1437,TRUE),\"\",COUNTIF($B$1:B1438,TRUE))","v":1125},{"$f":"Worksheet!$D$13","v":true},{"$f":"RANDBETWEEN(5,RANDBETWEEN(5,Worksheet!$D$6))","v":75},"litres","±",{"$f":"IF(I1438=1,H1438*10^RANDBETWEEN(IF(Worksheet!$D$9,-1,0),0),IF(I1438=2,H1438*10^RANDBETWEEN(RANDBETWEEN(0,2),2),CHOOSE(RANDBETWEEN(1,3),5,10,20)))","v":5},{"$f":"IF(I1438=1,D1438,IF(I1438=3,\"%\",\"ml\"))","v":"%"},4,{"$f":"IF(AND(Worksheet!$D$8,RAND()<0.2),3,IF(RAND()<Worksheet!$D$7/100,1,2))","v":3},{"$f":"IF(I1438=1,C1438-F1438,IF(I1438=2,C1438-F1438/1000,IF(I1438=3,(1-F1438/100)*C1438,\"\")))","v":71.25}," litres",{"$f":"J1438*1000","v":71250},"ml",{"$f":"IF(I1438=1,C1438+F1438,IF(I1438=2,C1438+F1438/1000,IF(I1438=3,(1+F1438/100)*C1438,\"\")))","v":78.75},"  litres",{"$f":"N1438*1000","v":78750},"ml"]
[{"$f":"IF(COUNTIF($B$1:B1439,TRUE)=COUNTIF($B$1:B1438,TRUE),\"\",COUNTIF($B$1:B1439,TRUE))","v":1126},{"$f":"Worksheet!$D$14","v":true},{"$f":"RANDBETWEEN(5,RANDBETWEEN(5,Worksheet!$D$6))","v":169},"litres","±",{"$f":"IF(I1439=1,H1439*10^RANDBETWEEN(IF(Worksheet!$D$9,-1,0),0),IF(I1439=2,H1439*10^RANDBETWEEN(RANDBETWEEN(0,2),2),CHOOSE(RANDBETWEEN(1,3),5,10,20)))","v":7},{"$f":"IF(I1439=1,D1439,IF(I1439=3,\"%\",\"cm³\"))","v":"litres"},7,{"$f":"IF(AND(Worksheet!$D$8,RAND()<0.2),3,IF(RAND()<Worksheet!$D$7/100,1,2))","v":1},{"$f":"IF(I1439=1,C1439-F1439,IF(I1439=2,C1439-F1439/1000,IF(I1439=3,(1-F1439/100)*C1439,\"\")))","v":162}," litres",{"$f":"J1439*1000","v":162000},"cm³",{"$f":"IF(I1439=1,C1439+F1439,IF(I1439=2,C1439+F1439/1000,IF(I1439=3,(1+F1439/100)*C1439,\"\")))","v":176},"  litres",{"$f":"N1439*1000","v":176000},"cm³"]
[{"$f":"IF(COUNTIF($B$1:B1440,TRUE)=COUNTIF($B$1:B1439,TRUE),\"\",COUNTIF($B$1:B1440,TRUE))","v":""},{"$f":"Worksheet!$D$15","v":false},{"$f":"RANDBETWEEN(5,20)","v":16},"min","±",{"$f":"IF(I1440=1,H1440*10^RANDBETWEEN(IF(Worksheet!$D$9,-1,0),0),IF(I1440=2,H1440,CHOOSE(RANDBETWEEN(1,3),5,10,20)))","v":0.1},{"$f":"IF(I1440=1,D1440,IF(I1440=3,\"%\",\"sec\"))","v":"min"},1,{"$f":"IF(AND(Worksheet!$D$8,RAND()<0),3,IF(RAND()<Worksheet!$D$7/100,1,2))","v":1},null," min",{"$f":"IF(I1440=1,C1440-F1440,IF(I1440=2,C1440*60-F1440,\"\"))","v":15.9},{"$f":"IF($I1440=1,\" hours\",\" min\")","v":" hours"},null,"  min",{"$f":"IF(I1440=1,C1440+F1440,IF(I1440=2,C1440*60+F1440,\"\"))","v":16.100000000000001},{"$f":"IF($I1440=1,\" hours\",\" min\")","v":" hours"}]
[{"$f":"COUNTIF($B$1:B1441,TRUE)","v":1127},{"$f":"Worksheet!$B$11","v":true},{"$f":"RANDBETWEEN(5,RANDBETWEEN(5,Worksheet!$D$6))","v":11},"cm","±",{"$f":"IF(I1441=1,H1441*10^RANDBETWEEN(IF(Worksheet!$D$9,-1,0),0),IF(I1441=2,H1441,CHOOSE(RANDBETWEEN(1,3),5,10,20)))","v":4},{"$f":"IF(I1441=1,D1441,IF(I1441=3,\"%\",\"mm\"))","v":"cm"},{"$f":"RANDBETWEEN(1,MIN(9,C1441))","v":4},{"$f":"IF(AND(Worksheet!$D$8,RAND()<0.2),3,IF(RAND()<Worksheet!$D$7/100,1,2))","v":1},{"$f":"IF(I1441=1,C1441-F1441,IF(I1441=2,C1441-F1441/10,IF(I1441=3,(1-F1441/100)*C1441,\"\")))","v":7},{"$f":"CONCATENATE(\" \",D1441)","v":" cm"},{"$f":"J1441*10","v":70},"mm",{"$f":"IF(I1441=1,C1441+F1441,IF(I1441=2,C1441+F1441/10,IF(I1441=3,(1+F1441/100)*C1441,\"\")))","v":15},{"$f":"CONCATENATE(\" \",K1441)","v":"  cm"},{"$f":"N1441*10","v":150},"mm"]
[{"$f":"IF(COUNTIF($B$1:B1442,TRUE)=COUNTIF($B$1:B1441,TRUE),\"\",COUNTIF($B$1:B1442,TRUE))","v":1128},{"$f":"Worksheet!$B$12","v":true},{"$f":"RANDBETWEEN(5,RANDBETWEEN(5,Worksheet!$D$6))","v":16},"m","±",{"$f":"IF(I1442=1,H1442*10^RANDBETWEEN(IF(Worksheet!$D$9,-1,0),0),IF(I1442=2,H1442*10^RANDBETWEEN(RANDBETWEEN(0,1),1),CHOOSE(RANDBETWEEN(1,3),5,10,20)))","v":20},{"$f":"IF(I1442=1,D1442,IF(I1442=3,\"%\",\"cm\"))","v":"%"},{"$f":"RANDBETWEEN(1,MIN(9,C1442))","v":1},{"$f":"IF(AND(Worksheet!$D$8,RAND()<0.2),3,IF(RAND()<Worksheet!$D$7/100,1,2))","v":3},{"$f":"IF(I1442=1,C1442-F1442,IF(I1442=2,C1442-F1442/100,IF(I1442=3,(1-F1442/100)*C1442,\"\")))","v":12.8},{"$f":"CONCATENATE(\" \",D1442)","v":" m"},{"$f":"J1442*100","v":1280},"cm",{"$f":"IF(I1442=1,C1442+F1442,IF(I1442=2,C1442+F1442/100,IF(I1442=3,(1+F1442/100)*C1442,\"\")))","v":19.2},{"$f":"CONCATENATE(\" \",K1442)","v":"  m"},{"$f":"N1442*100","v":1920},"cm"]
[{"$f":"IF(COUNTIF($B$1:B1443,TRUE)=COUNTIF($B$1:B1442,TRUE),\"\",COUNTIF($B$1:B1443,TRUE))","v":1129},{"$f":"Worksheet!$B$13","v":true},{"$f":"RANDBETWEEN(5,RANDBETWEEN(5,Worksheet!$D$6))","v":40},"km","±",{"$f":"IF(I1443=1,H1443*10^RANDBETWEEN(IF(Worksheet!$D$9,-1,0),0),IF(I1443=2,H1443*10^RANDBETWEEN(RANDBETWEEN(0,2),2),CHOOSE(RANDBETWEEN(1,3),5,10,20)))","v":0.4},{"$f":"IF(I1443=1,D1443,IF(I1443=3,\"%\",\"m\"))","v":"km"},4,{"$f":"IF(AND(Worksheet!$D$8,RAND()<0.2),3,IF(RAND()<Worksheet!$D$7/100,1,2))","v":1},{"$f":"IF(I1443=1,C1443-F1443,IF(I1443=2,C1443-F1443/1000,IF(I1443=3,(1-F1443/100)*C1443,\"\")))","v":39.6}," km",{"$f":"J1443*1000","v":39600},"m",{"$f":"IF(I1443=1,C1443+F1443,IF(I1443=2,C1443+F1443/1000,IF(I1443=3,(1+F1443/100)*C1443,\"\")))","v":40.4},"  km",{"$f":"N1443*1000","v":40400},"m"]
[{"$f":"IF(COUNTIF($B$1:B1444,TRUE)=COUNTIF($B$1:B1443,TRUE),\"\",COUNTIF($B$1:B1444,TRUE))","v":""},{"$f":"Worksheet!$B$14","v":false},{"$f":"RANDBETWEEN(5,RANDBETWEEN(5,Worksheet!$D$6))","v":15},"m","±",{"$f":"IF(I1444=1,H1444*10^RANDBETWEEN(IF(Worksheet!$D$9,-1,0),0),IF(I1444=2,H1444*10^RANDBETWEEN(RANDBETWEEN(0,2),2),CHOOSE(RANDBETWEEN(1,3),5,10,20)))","v":4},{"$f":"IF(I1444=1,D1444,IF(I1444=3,\"%\",\"mm\"))","v":"m"},4,{"$f":"IF(AND(Worksheet!$D$8,RAND()<0.2),3,IF(RAND()<Worksheet!$D$7/100,1,2))","v":1},{"$f":"IF(I1444=1,C1444-F1444,IF(I1444=2,C1444-F1444/1000,IF(I1444=3,(1-F1444/100)*C1444,\"\")))","v":11}," m",{"$f":"J1444*1000","v":11000},"mm",{"$f":"IF(I1444=1,C1444+F1444,IF(I1444=2,C1444+F1444/1000,IF(I1444=3,(1+F1444/100)*C1444,\"\")))","v":19},"  m",{"$f":"N1444*1000","v":19000},"mm"]
[{"$f":"IF(COUNTIF($B$1:B1445,TRUE)=COUNTIF($B$1:B1444,TRUE),\"\",COUNTIF($B$1:B1445,TRUE))","v":1130},{"$f":"Worksheet!$B$15","v":true},{"$f":"RANDBETWEEN(5,20)","v":10},"hours","±",{"$f":"IF(I1445=1,H1445*10^RANDBETWEEN(IF(Worksheet!$D$9,-1,0),0),IF(I1445=2,H1445,CHOOSE(RANDBETWEEN(1,3),5,10,20)))","v":0.9},{"$f":"IF(I1445=1,D1445,IF(I1445=3,\"%\",\"min\"))","v":"hours"},9,{"$f":"IF(AND(Worksheet!$D$8,RAND()<0),3,IF(RAND()<Worksheet!$D$7/100,1,2))","v":1},null," hours",{"$f":"IF(I1445=1,C1445-F1445,IF(I1445=2,C1445*60-F1445,\"\"))","v":9.1},{"$f":"IF($I1445=1,\" hours\",\" min\")","v":" hours"},null,"  hours",{"$f":"IF(I1445=1,C1445+F1445,IF(I1445=2,C1445*60+F1445,\"\"))","v":10.9},{"$f":"IF($I1445=1,\" hours\",\" min\")","v":" hours"}]
[{"$f":"IF(COUNTIF($B$1:B1446,TRUE)=COUNTIF($B$1:B1445,TRUE),\"\",COUNTIF($B$1:B1446,TRUE))","v":1131},{"$f":"Worksheet!$D$11","v":true},{"$f":"RANDBETWEEN(5,RANDBETWEEN(5,Worksheet!$D$6))","v":249},"kg","±",{"$f":"IF(I1446=1,H1446*10^RANDBETWEEN(IF(Worksheet!$D$9,-1,0),0),IF(I1446=2,H1446*10^RANDBETWEEN(RANDBETWEEN(0,2),2),CHOOSE(RANDBETWEEN(1,3),5,10,20)))","v":0.9},{"$f":"IF(I1446=1,D1446,IF(I1446=3,\"%\",\"g\"))","v":"kg"},9,{"$f":"IF(AND(Worksheet!$D$8,RAND()<0.2),3,IF(RAND()<Worksheet!$D$7/100,1,2))","v":1},{"$f":"IF(I1446=1,C1446-F1446,IF(I1446=2,C1446-F1446/1000,IF(I1446=3,(1-F1446/100)*C1446,\"\")))","v":248.1}," kg",{"$f":"J1446*1000","v":248100},"g",{"$f":"IF(I1446=1,C1446+F1446,IF(I1446=2,C1446+F1446/1000,IF(I1446=3,(1+F1446/100)*C1446,\"\")))","v":249.9},"  kg",{"$f":"N1446*1000","v":249900},"g"]
[{"$f":"IF(COUNTIF($B$1:B1447,TRUE)=COUNTIF($B$1:B1446,TRUE),\"\",COUNTIF($B$1:B1447,TRUE))","v":1132},{"$f":"Worksheet!$D$12","v":true},{"$f":"RANDBETWEEN(5,RANDBETWEEN(5,Worksheet!$D$6))","v":5},"tonnes","±",{"$f":"IF(I1447=1,H1447*10^RANDBETWEEN(IF(Worksheet!$D$9,-1,0),0),IF(I1447=2,H1447*10^RANDBETWEEN(RANDBETWEEN(0,2),2),CHOOSE(RANDBETWEEN(1,3),5,10,20)))","v":0.2},{"$f":"IF(I1447=1,D1447,IF(I1447=3,\"%\",\"kg\"))","v":"tonnes"},2,{"$f":"IF(AND(Worksheet!$D$8,RAND()<0.2),3,IF(RAND()<Worksheet!$D$7/100,1,2))","v":1},{"$f":"IF(I1447=1,C1447-F1447,IF(I1447=2,C1447-F1447/1000,IF(I1447=3,(1-F1447/100)*C1447,\"\")))","v":4.8}," tonnes",{"$f":"J1447*1000","v":4800},"kg",{"$f":"IF(I1447=1,C1447+F1447,IF(I1447=2,C1447+F1447/1000,IF(I1447=3,(1+F1447/100)*C1447,\"\")))","v":5.2},"  tonnes",{"$f":"N1447*1000","v":5200},"kg"]
[{"$f":"IF(COUNTIF($B$1:B1448,TRUE)=COUNTIF($B$1:B1447,TRUE),\"\",COUNTIF($B$1:B1448,TRUE))","v":1133},{"$f":"Worksheet!$D$13","v":true},{"$f":"RANDBETWEEN(5,RANDBETWEEN(5,Worksheet!$D$6))","v":268},"litres","±",{"$f":"IF(I1448=1,H1448*10^RANDBETWEEN(IF(Worksheet!$D$9,-1,0),0),IF(I1448=2,H1448*10^RANDBETWEEN(RANDBETWEEN(0,2),2),CHOOSE(RANDBETWEEN(1,3),5,10,20)))","v":0.2},{"$f":"IF(I1448=1,D1448,IF(I1448=3,\"%\",\"ml\"))","v":"litres"},2,{"$f":"IF(AND(Worksheet!$D$8,RAND()<0.2),3,IF(RAND()<Worksheet!$D$7/100,1,2))","v":1},{"$f":"IF(I1448=1,C1448-F1448,IF(I1448=2,C1448-F1448/1000,IF(I1448=3,(1-F1448/100)*C1448,\"\")))","v":267.8}," litres",{"$f":"J1448*1000","v":267800},"ml",{"$f":"IF(I1448=1,C1448+F1448,IF(I1448=2,C1448+F1448/1000,IF(I1448=3,(1+F1448/100)*C1448,\"\")))","v":268.2},"  litres",{"$f":"N1448*1000","v":268200},"ml"]
[{"$f":"IF(COUNTIF($B$1:B1449,TRUE)=COUNTIF($B$1:B1448,TRUE),\"\",COUNTIF($B$1:B1449,TRUE))","v":1134},{"$f":"Worksheet!$D$14","v":true},{"$f":"RANDBETWEEN(5,RANDBETWEEN(5,Worksheet!$D$6))","v":110},"litres","±",{"$f":"IF(I1449=1,H1449*10^RANDBETWEEN(IF(Worksheet!$D$9,-1,0),0),IF(I1449=2,H1449*10^RANDBETWEEN(RANDBETWEEN(0,2),2),CHOOSE(RANDBETWEEN(1,3),5,10,20)))","v":8},{"$f":"IF(I1449=1,D1449,IF(I1449=3,\"%\",\"cm³\"))","v":"litres"},8,{"$f":"IF(AND(Worksheet!$D$8,RAND()<0.2),3,IF(RAND()<Worksheet!$D$7/100,1,2))","v":1},{"$f":"IF(I1449=1,C1449-F1449,IF(I1449=2,C1449-F1449/1000,IF(I1449=3,(1-F1449/100)*C1449,\"\")))","v":102}," litres",{"$f":"J1449*1000","v":102000},"cm³",{"$f":"IF(I1449=1,C1449+F1449,IF(I1449=2,C1449+F1449/1000,IF(I1449=3,(1+F1449/100)*C1449,\"\")))","v":118},"  litres",{"$f":"N1449*1000","v":118000},"cm³"]
[{"$f":"IF(COUNTIF($B$1:B1450,TRUE)=COUNTIF($B$1:B1449,TRUE),\"\",COUNTIF($B$1:B1450,TRUE))","v":""},{"$f":"Worksheet!$D$15","v":false},{"$f":"RANDBETWEEN(5,20)","v":13},"min","±",{"$f":"IF(I1450=1,H1450*10^RANDBETWEEN(IF(Worksheet!$D$9,-1,0),0),IF(I1450=2,H1450,CHOOSE(RANDBETWEEN(1,3),5,10,20)))","v":0.60000000000000009},{"$f":"IF(I1450=1,D1450,IF(I1450=3,\"%\",\"sec\"))","v":"min"},6,{"$f":"IF(AND(Worksheet!$D$8,RAND()<0),3,IF(RAND()<Worksheet!$D$7/100,1,2))","v":1},null," min",{"$f":"IF(I1450=1,C1450-F1450,IF(I1450=2,C1450*60-F1450,\"\"))","v":12.4},{"$f":"IF($I1450=1,\" hours\",\" min\")","v":" hours"},null,"  min",{"$f":"IF(I1450=1,C1450+F1450,IF(I1450=2,C1450*60+F1450,\"\"))","v":13.6},{"$f":"IF($I1450=1,\" hours\",\" min\")","v":" hours"}]
[{"$f":"COUNTIF($B$1:B1451,TRUE)","v":1135},{"$f":"Worksheet!$B$11","v":true},{"$f":"RANDBETWEEN(5,RANDBETWEEN(5,Worksheet!$D$6))","v":94},"cm","±",{"$f":"IF(I1451=1,H1451*10^RANDBETWEEN(IF(Worksheet!$D$9,-1,0),0),IF(I1451=2,H1451,CHOOSE(RANDBETWEEN(1,3),5,10,20)))","v":7},{"$f":"IF(I1451=1,D1451,IF(I1451=3,\"%\",\"mm\"))","v":"cm"},{"$f":"RANDBETWEEN(1,MIN(9,C1451))","v":7},{"$f":"IF(AND(Worksheet!$D$8,RAND()<0.2),3,IF(RAND()<Worksheet!$D$7/100,1,2))","v":1},{"$f":"IF(I1451=1,C1451-F1451,IF(I1451=2,C1451-F1451/10,IF(I1451=3,(1-F1451/100)*C1451,\"\")))","v":87},{"$f":"CONCATENATE(\" \",D1451)","v":" cm"},{"$f":"J1451*10","v":870},"mm",{"$f":"IF(I1451=1,C1451+F1451,IF(I1451=2,C1451+F1451/10,IF(I1451=3,(1+F1451/100)*C1451,\"\")))","v":101},{"$f":"CONCATENATE(\" \",K1451)","v":"  cm"},{"$f":"N1451*10","v":1010},"mm"]
[{"$f":"IF(COUNTIF($B$1:B1452,TRUE)=COUNTIF($B$1:B1451,TRUE),\"\",COUNTIF($B$1:B1452,TRUE))","v":1136},{"$f":"Worksheet!$B$12","v":true},{"$f":"RANDBETWEEN(5,RANDBETWEEN(5,Worksheet!$D$6))","v":232},"m","±",{"$f":"IF(I1452=1,H1452*10^RANDBETWEEN(IF(Worksheet!$D$9,-1,0),0),IF(I1452=2,H1452*10^RANDBETWEEN(RANDBETWEEN(0,1),1),CHOOSE(RANDBETWEEN(1,3),5,10,20)))","v":0.1},{"$f":"IF(I1452=1,D1452,IF(I1452=3,\"%\",\"cm\"))","v":"m"},{"$f":"RANDBETWEEN(1,MIN(9,C1452))","v":1},{"$f":"IF(AND(Worksheet!$D$8,RAND()<0.2),3,IF(RAND()<Worksheet!$D$7/100,1,2))","v":1},{"$f":"IF(I1452=1,C1452-F1452,IF(I1452=2,C1452-F1452/100,IF(I1452=3,(1-F1452/100)*C1452,\"\")))","v":231.9},{"$f":"CONCATENATE(\" \",D1452)","v":" m"},{"$f":"J1452*100","v":23190},"cm",{"$f":"IF(I1452=1,C1452+F1452,IF(I1452=2,C1452+F1452/100,IF(I1452=3,(1+F1452/100)*C1452,\"\")))","v":232.1},{"$f":"CONCATENATE(\" \",K1452)","v":"  m"},{"$f":"N1452*100","v":23210},"cm"]
[{"$f":"IF(COUNTIF($B$1:B1453,TRUE)=COUNTIF($B$1:B1452,TRUE),\"\",COUNTIF($B$1:B1453,TRUE))","v":1137},{"$f":"Worksheet!$B$13","v":true},{"$f":"RANDBETWEEN(5,RANDBETWEEN(5,Worksheet!$D$6))","v":299},"km","±",{"$f":"IF(I1453=1,H1453*10^RANDBETWEEN(IF(Worksheet!$D$9,-1,0),0),IF(I1453=2,H1453*10^RANDBETWEEN(RANDBETWEEN(0,2),2),CHOOSE(RANDBETWEEN(1,3),5,10,20)))","v":0.60000000000000009},{"$f":"IF(I1453=1,D1453,IF(I1453=3,\"%\",\"m\"))","v":"km"},6,{"$f":"IF(AND(Worksheet!$D$8,RAND()<0.2),3,IF(RAND()<Worksheet!$D$7/100,1,2))","v":1},{"$f":"IF(I1453=1,C1453-F1453,IF(I1453=2,C1453-F1453/1000,IF(I1453=3,(1-F1453/100)*C1453,\"\")))","v":298.39999999999998}," km",{"$f":"J1453*1000","v":298400},"m",{"$f":"IF(I1453=1,C1453+F1453,IF(I1453=2,C1453+F1453/1000,IF(I1453=3,(1+F1453/100)*C1453,\"\")))","v":299.60000000000002},"  km",{"$f":"N1453*1000","v":299600},"m"]
[{"$f":"IF(COUNTIF($B$1:B1454,TRUE)=COUNTIF($B$1:B1453,TRUE),\"\",COUNTIF($B$1:B1454,TRUE))","v":""},{"$f":"Worksheet!$B$14","v":false},{"$f":"RANDBETWEEN(5,RANDBETWEEN(5,Worksheet!$D$6))","v":288},"m","±",{"$f":"IF(I1454=1,H1454*10^RANDBETWEEN(IF(Worksheet!$D$9,-1,0),0),IF(I1454=2,H1454*10^RANDBETWEEN(RANDBETWEEN(0,2),2),CHOOSE(RANDBETWEEN(1,3),5,10,20)))","v":10},{"$f":"IF(I1454=1,D1454,IF(I1454=3,\"%\",\"mm\"))","v":"%"},3,{"$f":"IF(AND(Worksheet!$D$8,RAND()<0.2),3,IF(RAND()<Worksheet!$D$7/100,1,2))","v":3},{"$f":"IF(I1454=1,C1454-F1454,IF(I1454=2,C1454-F1454/1000,IF(I1454=3,(1-F1454/100)*C1454,\"\")))","v":259.2}," m",{"$f":"J1454*1000","v":259200},"mm",{"$f":"IF(I1454=1,C1454+F1454,IF(I1454=2,C1454+F1454/1000,IF(I1454=3,(1+F1454/100)*C1454,\"\")))","v":316.8},"  m",{"$f":"N1454*1000","v":316800},"mm"]
[{"$f":"IF(COUNTIF($B$1:B1455,TRUE)=COUNTIF($B$1:B1454,TRUE),\"\",COUNTIF($B$1:B1455,TRUE))","v":1138},{"$f":"Worksheet!$B$15","v":true},{"$f":"RANDBETWEEN(5,20)","v":15},"hours","±",{"$f":"IF(I1455=1,H1455*10^RANDBETWEEN(IF(Worksheet!$D$9,-1,0),0),IF(I1455=2,H1455,CHOOSE(RANDBETWEEN(1,3),5,10,20)))","v":6},{"$f":"IF(I1455=1,D1455,IF(I1455=3,\"%\",\"min\"))","v":"hours"},6,{"$f":"IF(AND(Worksheet!$D$8,RAND()<0),3,IF(RAND()<Worksheet!$D$7/100,1,2))","v":1},null," hours",{"$f":"IF(I1455=1,C1455-F1455,IF(I1455=2,C1455*60-F1455,\"\"))","v":9},{"$f":"IF($I1455=1,\" hours\",\" min\")","v":" hours"},null,"  hours",{"$f":"IF(I1455=1,C1455+F1455,IF(I1455=2,C1455*60+F1455,\"\"))","v":21},{"$f":"IF($I1455=1,\" hours\",\" min\")","v":" hours"}]
[{"$f":"IF(COUNTIF($B$1:B1456,TRUE)=COUNTIF($B$1:B1455,TRUE),\"\",COUNTIF($B$1:B1456,TRUE))","v":1139},{"$f":"Worksheet!$D$11","v":true},{"$f":"RANDBETWEEN(5,RANDBETWEEN(5,Worksheet!$D$6))","v":140},"kg","±",{"$f":"IF(I1456=1,H1456*10^RANDBETWEEN(IF(Worksheet!$D$9,-1,0),0),IF(I1456=2,H1456*10^RANDBETWEEN(RANDBETWEEN(0,2),2),CHOOSE(RANDBETWEEN(1,3),5,10,20)))","v":5},{"$f":"IF(I1456=1,D1456,IF(I1456=3,\"%\",\"g\"))","v":"kg"},5,{"$f":"IF(AND(Worksheet!$D$8,RAND()<0.2),3,IF(RAND()<Worksheet!$D$7/100,1,2))","v":1},{"$f":"IF(I1456=1,C1456-F1456,IF(I1456=2,C1456-F1456/1000,IF(I1456=3,(1-F1456/100)*C1456,\"\")))","v":135}," kg",{"$f":"J1456*1000","v":135000},"g",{"$f":"IF(I1456=1,C1456+F1456,IF(I1456=2,C1456+F1456/1000,IF(I1456=3,(1+F1456/100)*C1456,\"\")))","v":145},"  kg",{"$f":"N1456*1000","v":145000},"g"]
[{"$f":"IF(COUNTIF($B$1:B1457,TRUE)=COUNTIF($B$1:B1456,TRUE),\"\",COUNTIF($B$1:B1457,TRUE))","v":1140},{"$f":"Worksheet!$D$12","v":true},{"$f":"RANDBETWEEN(5,RANDBETWEEN(5,Worksheet!$D$6))","v":146},"tonnes","±",{"$f":"IF(I1457=1,H1457*10^RANDBETWEEN(IF(Worksheet!$D$9,-1,0),0),IF(I1457=2,H1457*10^RANDBETWEEN(RANDBETWEEN(0,2),2),CHOOSE(RANDBETWEEN(1,3),5,10,20)))","v":3},{"$f":"IF(I1457=1,D1457,IF(I1457=3,\"%\",\"kg\"))","v":"tonnes"},3,{"$f":"IF(AND(Worksheet!$D$8,RAND()<0.2),3,IF(RAND()<Worksheet!$D$7/100,1,2))","v":1},{"$f":"IF(I1457=1,C1457-F1457,IF(I1457=2,C1457-F1457/1000,IF(I1457=3,(1-F1457/100)*C1457,\"\")))","v":143}," tonnes",{"$f":"J1457*1000","v":143000},"kg",{"$f":"IF(I1457=1,C1457+F1457,IF(I1457=2,C1457+F1457/1000,IF(I1457=3,(1+F1457/100)*C1457,\"\")))","v":149},"  tonnes",{"$f":"N1457*1000","v":149000},"kg"]
[{"$f":"IF(COUNTIF($B$1:B1458,TRUE)=COUNTIF($B$1:B1457,TRUE),\"\",COUNTIF($B$1:B1458,TRUE))","v":1141},{"$f":"Worksheet!$D$13","v":true},{"$f":"RANDBETWEEN(5,RANDBETWEEN(5,Worksheet!$D$6))","v":27},"litres","±",{"$f":"IF(I1458=1,H1458*10^RANDBETWEEN(IF(Worksheet!$D$9,-1,0),0),IF(I1458=2,H1458*10^RANDBETWEEN(RANDBETWEEN(0,2),2),CHOOSE(RANDBETWEEN(1,3),5,10,20)))","v":3},{"$f":"IF(I1458=1,D1458,IF(I1458=3,\"%\",\"ml\"))","v":"litres"},3,{"$f":"IF(AND(Worksheet!$D$8,RAND()<0.2),3,IF(RAND()<Worksheet!$D$7/100,1,2))","v":1},{"$f":"IF(I1458=1,C1458-F1458,IF(I1458=2,C1458-F1458/1000,IF(I1458=3,(1-F1458/100)*C1458,\"\")))","v":24}," litres",{"$f":"J1458*1000","v":24000},"ml",{"$f":"IF(I1458=1,C1458+F1458,IF(I1458=2,C1458+F1458/1000,IF(I1458=3,(1+F1458/100)*C1458,\"\")))","v":30},"  litres",{"$f":"N1458*1000","v":30000},"ml"]
[{"$f":"IF(COUNTIF($B$1:B1459,TRUE)=COUNTIF($B$1:B1458,TRUE),\"\",COUNTIF($B$1:B1459,TRUE))","v":1142},{"$f":"Worksheet!$D$14","v":true},{"$f":"RANDBETWEEN(5,RANDBETWEEN(5,Worksheet!$D$6))","v":139},"litres","±",{"$f":"IF(I1459=1,H1459*10^RANDBETWEEN(IF(Worksheet!$D$9,-1,0),0),IF(I1459=2,H1459*10^RANDBETWEEN(RANDBETWEEN(0,2),2),CHOOSE(RANDBETWEEN(1,3),5,10,20)))","v":1},{"$f":"IF(I1459=1,D1459,IF(I1459=3,\"%\",\"cm³\"))","v":"litres"},1,{"$f":"IF(AND(Worksheet!$D$8,RAND()<0.2),3,IF(RAND()<Worksheet!$D$7/100,1,2))","v":1},{"$f":"IF(I1459=1,C1459-F1459,IF(I1459=2,C1459-F1459/1000,IF(I1459=3,(1-F1459/100)*C1459,\"\")))","v":138}," litres",{"$f":"J1459*1000","v":138000},"cm³",{"$f":"IF(I1459=1,C1459+F1459,IF(I1459=2,C1459+F1459/1000,IF(I1459=3,(1+F1459/100)*C1459,\"\")))","v":140},"  litres",{"$f":"N1459*1000","v":140000},"cm³"]
[{"$f":"IF(COUNTIF($B$1:B1460,TRUE)=COUNTIF($B$1:B1459,TRUE),\"\",COUNTIF($B$1:B1460,TRUE))","v":""},{"$f":"Worksheet!$D$15","v":false},{"$f":"RANDBETWEEN(5,20)","v":13},"min","±",{"$f":"IF(I1460=1,H1460*10^RANDBETWEEN(IF(Worksheet!$D$9,-1,0),0),IF(I1460=2,H1460,CHOOSE(RANDBETWEEN(1,3),5,10,20)))","v":7},{"$f":"IF(I1460=1,D1460,IF(I1460=3,\"%\",\"sec\"))","v":"sec"},7,{"$f":"IF(AND(Worksheet!$D$8,RAND()<0),3,IF(RAND()<Worksheet!$D$7/100,1,2))","v":2},null," min",{"$f":"IF(I1460=1,C1460-F1460,IF(I1460=2,C1460*60-F1460,\"\"))","v":773},{"$f":"IF($I1460=1,\" hours\",\" min\")","v":" min"},null,"  min",{"$f":"IF(I1460=1,C1460+F1460,IF(I1460=2,C1460*60+F1460,\"\"))","v":787},{"$f":"IF($I1460=1,\" hours\",\" min\")","v":" min"}]
[{"$f":"COUNTIF($B$1:B1461,TRUE)","v":1143},{"$f":"Worksheet!$B$11","v":true},{"$f":"RANDBETWEEN(5,RANDBETWEEN(5,Worksheet!$D$6))","v":202},"cm","±",{"$f":"IF(I1461=1,H1461*10^RANDBETWEEN(IF(Worksheet!$D$9,-1,0),0),IF(I1461=2,H1461,CHOOSE(RANDBETWEEN(1,3),5,10,20)))","v":0.70000000000000007},{"$f":"IF(I1461=1,D1461,IF(I1461=3,\"%\",\"mm\"))","v":"cm"},{"$f":"RANDBETWEEN(1,MIN(9,C1461))","v":7},{"$f":"IF(AND(Worksheet!$D$8,RAND()<0.2),3,IF(RAND()<Worksheet!$D$7/100,1,2))","v":1},{"$f":"IF(I1461=1,C1461-F1461,IF(I1461=2,C1461-F1461/10,IF(I1461=3,(1-F1461/100)*C1461,\"\")))","v":201.3},{"$f":"CONCATENATE(\" \",D1461)","v":" cm"},{"$f":"J1461*10","v":2013},"mm",{"$f":"IF(I1461=1,C1461+F1461,IF(I1461=2,C1461+F1461/10,IF(I1461=3,(1+F1461/100)*C1461,\"\")))","v":202.7},{"$f":"CONCATENATE(\" \",K1461)","v":"  cm"},{"$f":"N1461*10","v":2027},"mm"]
[{"$f":"IF(COUNTIF($B$1:B1462,TRUE)=COUNTIF($B$1:B1461,TRUE),\"\",COUNTIF($B$1:B1462,TRUE))","v":1144},{"$f":"Worksheet!$B$12","v":true},{"$f":"RANDBETWEEN(5,RANDBETWEEN(5,Worksheet!$D$6))","v":120},"m","±",{"$f":"IF(I1462=1,H1462*10^RANDBETWEEN(IF(Worksheet!$D$9,-1,0),0),IF(I1462=2,H1462*10^RANDBETWEEN(RANDBETWEEN(0,1),1),CHOOSE(RANDBETWEEN(1,3),5,10,20)))","v":20},{"$f":"IF(I1462=1,D1462,IF(I1462=3,\"%\",\"cm\"))","v":"%"},{"$f":"RANDBETWEEN(1,MIN(9,C1462))","v":9},{"$f":"IF(AND(Worksheet!$D$8,RAND()<0.2),3,IF(RAND()<Worksheet!$D$7/100,1,2))","v":3},{"$f":"IF(I1462=1,C1462-F1462,IF(I1462=2,C1462-F1462/100,IF(I1462=3,(1-F1462/100)*C1462,\"\")))","v":96},{"$f":"CONCATENATE(\" \",D1462)","v":" m"},{"$f":"J1462*100","v":9600},"cm",{"$f":"IF(I1462=1,C1462+F1462,IF(I1462=2,C1462+F1462/100,IF(I1462=3,(1+F1462/100)*C1462,\"\")))","v":144},{"$f":"CONCATENATE(\" \",K1462)","v":"  m"},{"$f":"N1462*100","v":14400},"cm"]
[{"$f":"IF(COUNTIF($B$1:B1463,TRUE)=COUNTIF($B$1:B1462,TRUE),\"\",COUNTIF($B$1:B1463,TRUE))","v":1145},{"$f":"Worksheet!$B$13","v":true},{"$f":"RANDBETWEEN(5,RANDBETWEEN(5,Worksheet!$D$6))","v":5},"km","±",{"$f":"IF(I1463=1,H1463*10^RANDBETWEEN(IF(Worksheet!$D$9,-1,0),0),IF(I1463=2,H1463*10^RANDBETWEEN(RANDBETWEEN(0,2),2),CHOOSE(RANDBETWEEN(1,3),5,10,20)))","v":20},{"$f":"IF(I1463=1,D1463,IF(I1463=3,\"%\",\"m\"))","v":"%"},2,{"$f":"IF(AND(Worksheet!$D$8,RAND()<0.2),3,IF(RAND()<Worksheet!$D$7/100,1,2))","v":3},{"$f":"IF(I1463=1,C1463-F1463,IF(I1463=2,C1463-F1463/1000,IF(I1463=3,(1-F1463/100)*C1463,\"\")))","v":4}," km",{"$f":"J1463*1000","v":4000},"m",{"$f":"IF(I1463=1,C1463+F1463,IF(I1463=2,C1463+F1463/1000,IF(I1463=3,(1+F1463/100)*C1463,\"\")))","v":6},"  km",{"$f":"N1463*1000","v":6000},"m"]
[{"$f":"IF(COUNTIF($B$1:B1464,TRUE)=COUNTIF($B$1:B1463,TRUE),\"\",COUNTIF($B$1:B1464,TRUE))","v":""},{"$f":"Worksheet!$B$14","v":false},{"$f":"RANDBETWEEN(5,RANDBETWEEN(5,Worksheet!$D$6))","v":46},"m","±",{"$f":"IF(I1464=1,H1464*10^RANDBETWEEN(IF(Worksheet!$D$9,-1,0),0),IF(I1464=2,H1464*10^RANDBETWEEN(RANDBETWEEN(0,2),2),CHOOSE(RANDBETWEEN(1,3),5,10,20)))","v":5},{"$f":"IF(I1464=1,D1464,IF(I1464=3,\"%\",\"mm\"))","v":"%"},8,{"$f":"IF(AND(Worksheet!$D$8,RAND()<0.2),3,IF(RAND()<Worksheet!$D$7/100,1,2))","v":3},{"$f":"IF(I1464=1,C1464-F1464,IF(I1464=2,C1464-F1464/1000,IF(I1464=3,(1-F1464/100)*C1464,\"\")))","v":43.699999999999996}," m",{"$f":"J1464*1000","v":43699.999999999993},"mm",{"$f":"IF(I1464=1,C1464+F1464,IF(I1464=2,C1464+F1464/1000,IF(I1464=3,(1+F1464/100)*C1464,\"\")))","v":48.300000000000004},"  m",{"$f":"N1464*1000","v":48300.000000000007},"mm"]
[{"$f":"IF(COUNTIF($B$1:B1465,TRUE)=COUNTIF($B$1:B1464,TRUE),\"\",COUNTIF($B$1:B1465,TRUE))","v":1146},{"$f":"Worksheet!$B$15","v":true},{"$f":"RANDBETWEEN(5,20)","v":6},"hours","±",{"$f":"IF(I1465=1,H1465*10^RANDBETWEEN(IF(Worksheet!$D$9,-1,0),0),IF(I1465=2,H1465,CHOOSE(RANDBETWEEN(1,3),5,10,20)))","v":4},{"$f":"IF(I1465=1,D1465,IF(I1465=3,\"%\",\"min\"))","v":"hours"},4,{"$f":"IF(AND(Worksheet!$D$8,RAND()<0),3,IF(RAND()<Worksheet!$D$7/100,1,2))","v":1},null," hours",{"$f":"IF(I1465=1,C1465-F1465,IF(I1465=2,C1465*60-F1465,\"\"))","v":2},{"$f":"IF($I1465=1,\" hours\",\" min\")","v":" hours"},null,"  hours",{"$f":"IF(I1465=1,C1465+F1465,IF(I1465=2,C1465*60+F1465,\"\"))","v":10},{"$f":"IF($I1465=1,\" hours\",\" min\")","v":" hours"}]
[{"$f":"IF(COUNTIF($B$1:B1466,TRUE)=COUNTIF($B$1:B1465,TRUE),\"\",COUNTIF($B$1:B1466,TRUE))","v":1147},{"$f":"Worksheet!$D$11","v":true},{"$f":"RANDBETWEEN(5,RANDBETWEEN(5,Worksheet!$D$6))","v":208},"kg","±",{"$f":"IF(I1466=1,H1466*10^RANDBETWEEN(IF(Worksheet!$D$9,-1,0),0),IF(I1466=2,H1466*10^RANDBETWEEN(RANDBETWEEN(0,2),2),CHOOSE(RANDBETWEEN(1,3),5,10,20)))","v":500},{"$f":"IF(I1466=1,D1466,IF(I1466=3,\"%\",\"g\"))","v":"g"},5,{"$f":"IF(AND(Worksheet!$D$8,RAND()<0.2),3,IF(RAND()<Worksheet!$D$7/100,1,2))","v":2},{"$f":"IF(I1466=1,C1466-F1466,IF(I1466=2,C1466-F1466/1000,IF(I1466=3,(1-F1466/100)*C1466,\"\")))","v":207.5}," kg",{"$f":"J1466*1000","v":207500},"g",{"$f":"IF(I1466=1,C1466+F1466,IF(I1466=2,C1466+F1466/1000,IF(I1466=3,(1+F1466/100)*C1466,\"\")))","v":208.5},"  kg",{"$f":"N1466*1000","v":208500},"g"]
[{"$f":"IF(COUNTIF($B$1:B1467,TRUE)=COUNTIF($B$1:B1466,TRUE),\"\",COUNTIF($B$1:B1467,TRUE))","v":1148},{"$f":"Worksheet!$D$12","v":true},{"$f":"RANDBETWEEN(5,RANDBETWEEN(5,Worksheet!$D$6))","v":19},"tonnes","±",{"$f":"IF(I1467=1,H1467*10^RANDBETWEEN(IF(Worksheet!$D$9,-1,0),0),IF(I1467=2,H1467*10^RANDBETWEEN(RANDBETWEEN(0,2),2),CHOOSE(RANDBETWEEN(1,3),5,10,20)))","v":60},{"$f":"IF(I1467=1,D1467,IF(I1467=3,\"%\",\"kg\"))","v":"kg"},6,{"$f":"IF(AND(Worksheet!$D$8,RAND()<0.2),3,IF(RAND()<Worksheet!$D$7/100,1,2))","v":2},{"$f":"IF(I1467=1,C1467-F1467,IF(I1467=2,C1467-F1467/1000,IF(I1467=3,(1-F1467/100)*C1467,\"\")))","v":18.940000000000001}," tonnes",{"$f":"J1467*1000","v":18940},"kg",{"$f":"IF(I1467=1,C1467+F1467,IF(I1467=2,C1467+F1467/1000,IF(I1467=3,(1+F1467/100)*C1467,\"\")))","v":19.059999999999999},"  tonnes",{"$f":"N1467*1000","v":19060},"kg"]
[{"$f":"IF(COUNTIF($B$1:B1468,TRUE)=COUNTIF($B$1:B1467,TRUE),\"\",COUNTIF($B$1:B1468,TRUE))","v":1149},{"$f":"Worksheet!$D$13","v":true},{"$f":"RANDBETWEEN(5,RANDBETWEEN(5,Worksheet!$D$6))","v":75},"litres","±",{"$f":"IF(I1468=1,H1468*10^RANDBETWEEN(IF(Worksheet!$D$9,-1,0),0),IF(I1468=2,H1468*10^RANDBETWEEN(RANDBETWEEN(0,2),2),CHOOSE(RANDBETWEEN(1,3),5,10,20)))","v":20},{"$f":"IF(I1468=1,D1468,IF(I1468=3,\"%\",\"ml\"))","v":"%"},1,{"$f":"IF(AND(Worksheet!$D$8,RAND()<0.2),3,IF(RAND()<Worksheet!$D$7/100,1,2))","v":3},{"$f":"IF(I1468=1,C1468-F1468,IF(I1468=2,C1468-F1468/1000,IF(I1468=3,(1-F1468/100)*C1468,\"\")))","v":60}," litres",{"$f":"J1468*1000","v":60000},"ml",{"$f":"IF(I1468=1,C1468+F1468,IF(I1468=2,C1468+F1468/1000,IF(I1468=3,(1+F1468/100)*C1468,\"\")))","v":90},"  litres",{"$f":"N1468*1000","v":90000},"ml"]
[{"$f":"IF(COUNTIF($B$1:B1469,TRUE)=COUNTIF($B$1:B1468,TRUE),\"\",COUNTIF($B$1:B1469,TRUE))","v":1150},{"$f":"Worksheet!$D$14","v":true},{"$f":"RANDBETWEEN(5,RANDBETWEEN(5,Worksheet!$D$6))","v":342},"litres","±",{"$f":"IF(I1469=1,H1469*10^RANDBETWEEN(IF(Worksheet!$D$9,-1,0),0),IF(I1469=2,H1469*10^RANDBETWEEN(RANDBETWEEN(0,2),2),CHOOSE(RANDBETWEEN(1,3),5,10,20)))","v":0.1},{"$f":"IF(I1469=1,D1469,IF(I1469=3,\"%\",\"cm³\"))","v":"litres"},1,{"$f":"IF(AND(Worksheet!$D$8,RAND()<0.2),3,IF(RAND()<Worksheet!$D$7/100,1,2))","v":1},{"$f":"IF(I1469=1,C1469-F1469,IF(I1469=2,C1469-F1469/1000,IF(I1469=3,(1-F1469/100)*C1469,\"\")))","v":341.9}," litres",{"$f":"J1469*1000","v":341900},"cm³",{"$f":"IF(I1469=1,C1469+F1469,IF(I1469=2,C1469+F1469/1000,IF(I1469=3,(1+F1469/100)*C1469,\"\")))","v":342.1},"  litres",{"$f":"N1469*1000","v":342100},"cm³"]
[{"$f":"IF(COUNTIF($B$1:B1470,TRUE)=COUNTIF($B$1:B1469,TRUE),\"\",COUNTIF($B$1:B1470,TRUE))","v":""},{"$f":"Worksheet!$D$15","v":false},{"$f":"RANDBETWEEN(5,20)","v":16},"min","±",{"$f":"IF(I1470=1,H1470*10^RANDBETWEEN(IF(Worksheet!$D$9,-1,0),0),IF(I1470=2,H1470,CHOOSE(RANDBETWEEN(1,3),5,10,20)))","v":3},{"$f":"IF(I1470=1,D1470,IF(I1470=3,\"%\",\"sec\"))","v":"min"},3,{"$f":"IF(AND(Worksheet!$D$8,RAND()<0),3,IF(RAND()<Worksheet!$D$7/100,1,2))","v":1},null," min",{"$f":"IF(I1470=1,C1470-F1470,IF(I1470=2,C1470*60-F1470,\"\"))","v":13},{"$f":"IF($I1470=1,\" hours\",\" min\")","v":" hours"},null,"  min",{"$f":"IF(I1470=1,C1470+F1470,IF(I1470=2,C1470*60+F1470,\"\"))","v":19},{"$f":"IF($I1470=1,\" hours\",\" min\")","v":" hours"}]
[{"$f":"COUNTIF($B$1:B1471,TRUE)","v":1151},{"$f":"Worksheet!$B$11","v":true},{"$f":"RANDBETWEEN(5,RANDBETWEEN(5,Worksheet!$D$6))","v":253},"cm","±",{"$f":"IF(I1471=1,H1471*10^RANDBETWEEN(IF(Worksheet!$D$9,-1,0),0),IF(I1471=2,H1471,CHOOSE(RANDBETWEEN(1,3),5,10,20)))","v":5},{"$f":"IF(I1471=1,D1471,IF(I1471=3,\"%\",\"mm\"))","v":"mm"},{"$f":"RANDBETWEEN(1,MIN(9,C1471))","v":5},{"$f":"IF(AND(Worksheet!$D$8,RAND()<0.2),3,IF(RAND()<Worksheet!$D$7/100,1,2))","v":2},{"$f":"IF(I1471=1,C1471-F1471,IF(I1471=2,C1471-F1471/10,IF(I1471=3,(1-F1471/100)*C1471,\"\")))","v":252.5},{"$f":"CONCATENATE(\" \",D1471)","v":" cm"},{"$f":"J1471*10","v":2525},"mm",{"$f":"IF(I1471=1,C1471+F1471,IF(I1471=2,C1471+F1471/10,IF(I1471=3,(1+F1471/100)*C1471,\"\")))","v":253.5},{"$f":"CONCATENATE(\" \",K1471)","v":"  cm"},{"$f":"N1471*10","v":2535},"mm"]
[{"$f":"IF(COUNTIF($B$1:B1472,TRUE)=COUNTIF($B$1:B1471,TRUE),\"\",COUNTIF($B$1:B1472,TRUE))","v":1152},{"$f":"Worksheet!$B$12","v":true},{"$f":"RANDBETWEEN(5,RANDBETWEEN(5,Worksheet!$D$6))","v":28},"m","±",{"$f":"IF(I1472=1,H1472*10^RANDBETWEEN(IF(Worksheet!$D$9,-1,0),0),IF(I1472=2,H1472*10^RANDBETWEEN(RANDBETWEEN(0,1),1),CHOOSE(RANDBETWEEN(1,3),5,10,20)))","v":6},{"$f":"IF(I1472=1,D1472,IF(I1472=3,\"%\",\"cm\"))","v":"m"},{"$f":"RANDBETWEEN(1,MIN(9,C1472))","v":6},{"$f":"IF(AND(Worksheet!$D$8,RAND()<0.2),3,IF(RAND()<Worksheet!$D$7/100,1,2))","v":1},{"$f":"IF(I1472=1,C1472-F1472,IF(I1472=2,C1472-F1472/100,IF(I1472=3,(1-F1472/100)*C1472,\"\")))","v":22},{"$f":"CONCATENATE(\" \",D1472)","v":" m"},{"$f":"J1472*100","v":2200},"cm",{"$f":"IF(I1472=1,C1472+F1472,IF(I1472=2,C1472+F1472/100,IF(I1472=3,(1+F1472/100)*C1472,\"\")))","v":34},{"$f":"CONCATENATE(\" \",K1472)","v":"  m"},{"$f":"N1472*100","v":3400},"cm"]
[{"$f":"IF(COUNTIF($B$1:B1473,TRUE)=COUNTIF($B$1:B1472,TRUE),\"\",COUNTIF($B$1:B1473,TRUE))","v":1153},{"$f":"Worksheet!$B$13","v":true},{"$f":"RANDBETWEEN(5,RANDBETWEEN(5,Worksheet!$D$6))","v":69},"km","±",{"$f":"IF(I1473=1,H1473*10^RANDBETWEEN(IF(Worksheet!$D$9,-1,0),0),IF(I1473=2,H1473*10^RANDBETWEEN(RANDBETWEEN(0,2),2),CHOOSE(RANDBETWEEN(1,3),5,10,20)))","v":20},{"$f":"IF(I1473=1,D1473,IF(I1473=3,\"%\",\"m\"))","v":"%"},3,{"$f":"IF(AND(Worksheet!$D$8,RAND()<0.2),3,IF(RAND()<Worksheet!$D$7/100,1,2))","v":3},{"$f":"IF(I1473=1,C1473-F1473,IF(I1473=2,C1473-F1473/1000,IF(I1473=3,(1-F1473/100)*C1473,\"\")))","v":55.2}," km",{"$f":"J1473*1000","v":55200},"m",{"$f":"IF(I1473=1,C1473+F1473,IF(I1473=2,C1473+F1473/1000,IF(I1473=3,(1+F1473/100)*C1473,\"\")))","v":82.8},"  km",{"$f":"N1473*1000","v":82800},"m"]
[{"$f":"IF(COUNTIF($B$1:B1474,TRUE)=COUNTIF($B$1:B1473,TRUE),\"\",COUNTIF($B$1:B1474,TRUE))","v":""},{"$f":"Worksheet!$B$14","v":false},{"$f":"RANDBETWEEN(5,RANDBETWEEN(5,Worksheet!$D$6))","v":111},"m","±",{"$f":"IF(I1474=1,H1474*10^RANDBETWEEN(IF(Worksheet!$D$9,-1,0),0),IF(I1474=2,H1474*10^RANDBETWEEN(RANDBETWEEN(0,2),2),CHOOSE(RANDBETWEEN(1,3),5,10,20)))","v":200},{"$f":"IF(I1474=1,D1474,IF(I1474=3,\"%\",\"mm\"))","v":"mm"},2,{"$f":"IF(AND(Worksheet!$D$8,RAND()<0.2),3,IF(RAND()<Worksheet!$D$7/100,1,2))","v":2},{"$f":"IF(I1474=1,C1474-F1474,IF(I1474=2,C1474-F1474/1000,IF(I1474=3,(1-F1474/100)*C1474,\"\")))","v":110.8}," m",{"$f":"J1474*1000","v":110800},"mm",{"$f":"IF(I1474=1,C1474+F1474,IF(I1474=2,C1474+F1474/1000,IF(I1474=3,(1+F1474/100)*C1474,\"\")))","v":111.2},"  m",{"$f":"N1474*1000","v":111200},"mm"]
[{"$f":"IF(COUNTIF($B$1:B1475,TRUE)=COUNTIF($B$1:B1474,TRUE),\"\",COUNTIF($B$1:B1475,TRUE))","v":1154},{"$f":"Worksheet!$B$15","v":true},{"$f":"RANDBETWEEN(5,20)","v":13},"hours","±",{"$f":"IF(I1475=1,H1475*10^RANDBETWEEN(IF(Worksheet!$D$9,-1,0),0),IF(I1475=2,H1475,CHOOSE(RANDBETWEEN(1,3),5,10,20)))","v":1},{"$f":"IF(I1475=1,D1475,IF(I1475=3,\"%\",\"min\"))","v":"min"},1,{"$f":"IF(AND(Worksheet!$D$8,RAND()<0),3,IF(RAND()<Worksheet!$D$7/100,1,2))","v":2},null," hours",{"$f":"IF(I1475=1,C1475-F1475,IF(I1475=2,C1475*60-F1475,\"\"))","v":779},{"$f":"IF($I1475=1,\" hours\",\" min\")","v":" min"},null,"  hours",{"$f":"IF(I1475=1,C1475+F1475,IF(I1475=2,C1475*60+F1475,\"\"))","v":781},{"$f":"IF($I1475=1,\" hours\",\" min\")","v":" min"}]
[{"$f":"IF(COUNTIF($B$1:B1476,TRUE)=COUNTIF($B$1:B1475,TRUE),\"\",COUNTIF($B$1:B1476,TRUE))","v":1155},{"$f":"Worksheet!$D$11","v":true},{"$f":"RANDBETWEEN(5,RANDBETWEEN(5,Worksheet!$D$6))","v":338},"kg","±",{"$f":"IF(I1476=1,H1476*10^RANDBETWEEN(IF(Worksheet!$D$9,-1,0),0),IF(I1476=2,H1476*10^RANDBETWEEN(RANDBETWEEN(0,2),2),CHOOSE(RANDBETWEEN(1,3),5,10,20)))","v":0.4},{"$f":"IF(I1476=1,D1476,IF(I1476=3,\"%\",\"g\"))","v":"kg"},4,{"$f":"IF(AND(Worksheet!$D$8,RAND()<0.2),3,IF(RAND()<Worksheet!$D$7/100,1,2))","v":1},{"$f":"IF(I1476=1,C1476-F1476,IF(I1476=2,C1476-F1476/1000,IF(I1476=3,(1-F1476/100)*C1476,\"\")))","v":337.6}," kg",{"$f":"J1476*1000","v":337600},"g",{"$f":"IF(I1476=1,C1476+F1476,IF(I1476=2,C1476+F1476/1000,IF(I1476=3,(1+F1476/100)*C1476,\"\")))","v":338.4},"  kg",{"$f":"N1476*1000","v":338400},"g"]
[{"$f":"IF(COUNTIF($B$1:B1477,TRUE)=COUNTIF($B$1:B1476,TRUE),\"\",COUNTIF($B$1:B1477,TRUE))","v":1156},{"$f":"Worksheet!$D$12","v":true},{"$f":"RANDBETWEEN(5,RANDBETWEEN(5,Worksheet!$D$6))","v":84},"tonnes","±",{"$f":"IF(I1477=1,H1477*10^RANDBETWEEN(IF(Worksheet!$D$9,-1,0),0),IF(I1477=2,H1477*10^RANDBETWEEN(RANDBETWEEN(0,2),2),CHOOSE(RANDBETWEEN(1,3),5,10,20)))","v":3},{"$f":"IF(I1477=1,D1477,IF(I1477=3,\"%\",\"kg\"))","v":"tonnes"},3,{"$f":"IF(AND(Worksheet!$D$8,RAND()<0.2),3,IF(RAND()<Worksheet!$D$7/100,1,2))","v":1},{"$f":"IF(I1477=1,C1477-F1477,IF(I1477=2,C1477-F1477/1000,IF(I1477=3,(1-F1477/100)*C1477,\"\")))","v":81}," tonnes",{"$f":"J1477*1000","v":81000},"kg",{"$f":"IF(I1477=1,C1477+F1477,IF(I1477=2,C1477+F1477/1000,IF(I1477=3,(1+F1477/100)*C1477,\"\")))","v":87},"  tonnes",{"$f":"N1477*1000","v":87000},"kg"]
[{"$f":"IF(COUNTIF($B$1:B1478,TRUE)=COUNTIF($B$1:B1477,TRUE),\"\",COUNTIF($B$1:B1478,TRUE))","v":1157},{"$f":"Worksheet!$D$13","v":true},{"$f":"RANDBETWEEN(5,RANDBETWEEN(5,Worksheet!$D$6))","v":99},"litres","±",{"$f":"IF(I1478=1,H1478*10^RANDBETWEEN(IF(Worksheet!$D$9,-1,0),0),IF(I1478=2,H1478*10^RANDBETWEEN(RANDBETWEEN(0,2),2),CHOOSE(RANDBETWEEN(1,3),5,10,20)))","v":100},{"$f":"IF(I1478=1,D1478,IF(I1478=3,\"%\",\"ml\"))","v":"ml"},1,{"$f":"IF(AND(Worksheet!$D$8,RAND()<0.2),3,IF(RAND()<Worksheet!$D$7/100,1,2))","v":2},{"$f":"IF(I1478=1,C1478-F1478,IF(I1478=2,C1478-F1478/1000,IF(I1478=3,(1-F1478/100)*C1478,\"\")))","v":98.9}," litres",{"$f":"J1478*1000","v":98900},"ml",{"$f":"IF(I1478=1,C1478+F1478,IF(I1478=2,C1478+F1478/1000,IF(I1478=3,(1+F1478/100)*C1478,\"\")))","v":99.1},"  litres",{"$f":"N1478*1000","v":99100},"ml"]
[{"$f":"IF(COUNTIF($B$1:B1479,TRUE)=COUNTIF($B$1:B1478,TRUE),\"\",COUNTIF($B$1:B1479,TRUE))","v":1158},{"$f":"Worksheet!$D$14","v":true},{"$f":"RANDBETWEEN(5,RANDBETWEEN(5,Worksheet!$D$6))","v":189},"litres","±",{"$f":"IF(I1479=1,H1479*10^RANDBETWEEN(IF(Worksheet!$D$9,-1,0),0),IF(I1479=2,H1479*10^RANDBETWEEN(RANDBETWEEN(0,2),2),CHOOSE(RANDBETWEEN(1,3),5,10,20)))","v":0.1},{"$f":"IF(I1479=1,D1479,IF(I1479=3,\"%\",\"cm³\"))","v":"litres"},1,{"$f":"IF(AND(Worksheet!$D$8,RAND()<0.2),3,IF(RAND()<Worksheet!$D$7/100,1,2))","v":1},{"$f":"IF(I1479=1,C1479-F1479,IF(I1479=2,C1479-F1479/1000,IF(I1479=3,(1-F1479/100)*C1479,\"\")))","v":188.9}," litres",{"$f":"J1479*1000","v":188900},"cm³",{"$f":"IF(I1479=1,C1479+F1479,IF(I1479=2,C1479+F1479/1000,IF(I1479=3,(1+F1479/100)*C1479,\"\")))","v":189.1},"  litres",{"$f":"N1479*1000","v":189100},"cm³"]
[{"$f":"IF(COUNTIF($B$1:B1480,TRUE)=COUNTIF($B$1:B1479,TRUE),\"\",COUNTIF($B$1:B1480,TRUE))","v":""},{"$f":"Worksheet!$D$15","v":false},{"$f":"RANDBETWEEN(5,20)","v":16},"min","±",{"$f":"IF(I1480=1,H1480*10^RANDBETWEEN(IF(Worksheet!$D$9,-1,0),0),IF(I1480=2,H1480,CHOOSE(RANDBETWEEN(1,3),5,10,20)))","v":0.60000000000000009},{"$f":"IF(I1480=1,D1480,IF(I1480=3,\"%\",\"sec\"))","v":"min"},6,{"$f":"IF(AND(Worksheet!$D$8,RAND()<0),3,IF(RAND()<Worksheet!$D$7/100,1,2))","v":1},null," min",{"$f":"IF(I1480=1,C1480-F1480,IF(I1480=2,C1480*60-F1480,\"\"))","v":15.4},{"$f":"IF($I1480=1,\" hours\",\" min\")","v":" hours"},null,"  min",{"$f":"IF(I1480=1,C1480+F1480,IF(I1480=2,C1480*60+F1480,\"\"))","v":16.600000000000001},{"$f":"IF($I1480=1,\" hours\",\" min\")","v":" hours"}]
[{"$f":"COUNTIF($B$1:B1481,TRUE)","v":1159},{"$f":"Worksheet!$B$11","v":true},{"$f":"RANDBETWEEN(5,RANDBETWEEN(5,Worksheet!$D$6))","v":187},"cm","±",{"$f":"IF(I1481=1,H1481*10^RANDBETWEEN(IF(Worksheet!$D$9,-1,0),0),IF(I1481=2,H1481,CHOOSE(RANDBETWEEN(1,3),5,10,20)))","v":0.4},{"$f":"IF(I1481=1,D1481,IF(I1481=3,\"%\",\"mm\"))","v":"cm"},{"$f":"RANDBETWEEN(1,MIN(9,C1481))","v":4},{"$f":"IF(AND(Worksheet!$D$8,RAND()<0.2),3,IF(RAND()<Worksheet!$D$7/100,1,2))","v":1},{"$f":"IF(I1481=1,C1481-F1481,IF(I1481=2,C1481-F1481/10,IF(I1481=3,(1-F1481/100)*C1481,\"\")))","v":186.6},{"$f":"CONCATENATE(\" \",D1481)","v":" cm"},{"$f":"J1481*10","v":1866},"mm",{"$f":"IF(I1481=1,C1481+F1481,IF(I1481=2,C1481+F1481/10,IF(I1481=3,(1+F1481/100)*C1481,\"\")))","v":187.4},{"$f":"CONCATENATE(\" \",K1481)","v":"  cm"},{"$f":"N1481*10","v":1874},"mm"]
[{"$f":"IF(COUNTIF($B$1:B1482,TRUE)=COUNTIF($B$1:B1481,TRUE),\"\",COUNTIF($B$1:B1482,TRUE))","v":1160},{"$f":"Worksheet!$B$12","v":true},{"$f":"RANDBETWEEN(5,RANDBETWEEN(5,Worksheet!$D$6))","v":35},"m","±",{"$f":"IF(I1482=1,H1482*10^RANDBETWEEN(IF(Worksheet!$D$9,-1,0),0),IF(I1482=2,H1482*10^RANDBETWEEN(RANDBETWEEN(0,1),1),CHOOSE(RANDBETWEEN(1,3),5,10,20)))","v":20},{"$f":"IF(I1482=1,D1482,IF(I1482=3,\"%\",\"cm\"))","v":"%"},{"$f":"RANDBETWEEN(1,MIN(9,C1482))","v":4},{"$f":"IF(AND(Worksheet!$D$8,RAND()<0.2),3,IF(RAND()<Worksheet!$D$7/100,1,2))","v":3},{"$f":"IF(I1482=1,C1482-F1482,IF(I1482=2,C1482-F1482/100,IF(I1482=3,(1-F1482/100)*C1482,\"\")))","v":28},{"$f":"CONCATENATE(\" \",D1482)","v":" m"},{"$f":"J1482*100","v":2800},"cm",{"$f":"IF(I1482=1,C1482+F1482,IF(I1482=2,C1482+F1482/100,IF(I1482=3,(1+F1482/100)*C1482,\"\")))","v":42},{"$f":"CONCATENATE(\" \",K1482)","v":"  m"},{"$f":"N1482*100","v":4200},"cm"]
[{"$f":"IF(COUNTIF($B$1:B1483,TRUE)=COUNTIF($B$1:B1482,TRUE),\"\",COUNTIF($B$1:B1483,TRUE))","v":1161},{"$f":"Worksheet!$B$13","v":true},{"$f":"RANDBETWEEN(5,RANDBETWEEN(5,Worksheet!$D$6))","v":241},"km","±",{"$f":"IF(I1483=1,H1483*10^RANDBETWEEN(IF(Worksheet!$D$9,-1,0),0),IF(I1483=2,H1483*10^RANDBETWEEN(RANDBETWEEN(0,2),2),CHOOSE(RANDBETWEEN(1,3),5,10,20)))","v":5},{"$f":"IF(I1483=1,D1483,IF(I1483=3,\"%\",\"m\"))","v":"%"},4,{"$f":"IF(AND(Worksheet!$D$8,RAND()<0.2),3,IF(RAND()<Worksheet!$D$7/100,1,2))","v":3},{"$f":"IF(I1483=1,C1483-F1483,IF(I1483=2,C1483-F1483/1000,IF(I1483=3,(1-F1483/100)*C1483,\"\")))","v":228.95}," km",{"$f":"J1483*1000","v":228950},"m",{"$f":"IF(I1483=1,C1483+F1483,IF(I1483=2,C1483+F1483/1000,IF(I1483=3,(1+F1483/100)*C1483,\"\")))","v":253.05},"  km",{"$f":"N1483*1000","v":253050},"m"]
[{"$f":"IF(COUNTIF($B$1:B1484,TRUE)=COUNTIF($B$1:B1483,TRUE),\"\",COUNTIF($B$1:B1484,TRUE))","v":""},{"$f":"Worksheet!$B$14","v":false},{"$f":"RANDBETWEEN(5,RANDBETWEEN(5,Worksheet!$D$6))","v":9},"m","±",{"$f":"IF(I1484=1,H1484*10^RANDBETWEEN(IF(Worksheet!$D$9,-1,0),0),IF(I1484=2,H1484*10^RANDBETWEEN(RANDBETWEEN(0,2),2),CHOOSE(RANDBETWEEN(1,3),5,10,20)))","v":0.60000000000000009},{"$f":"IF(I1484=1,D1484,IF(I1484=3,\"%\",\"mm\"))","v":"m"},6,{"$f":"IF(AND(Worksheet!$D$8,RAND()<0.2),3,IF(RAND()<Worksheet!$D$7/100,1,2))","v":1},{"$f":"IF(I1484=1,C1484-F1484,IF(I1484=2,C1484-F1484/1000,IF(I1484=3,(1-F1484/100)*C1484,\"\")))","v":8.4}," m",{"$f":"J1484*1000","v":8400},"mm",{"$f":"IF(I1484=1,C1484+F1484,IF(I1484=2,C1484+F1484/1000,IF(I1484=3,(1+F1484/100)*C1484,\"\")))","v":9.6},"  m",{"$f":"N1484*1000","v":9600},"mm"]
[{"$f":"IF(COUNTIF($B$1:B1485,TRUE)=COUNTIF($B$1:B1484,TRUE),\"\",COUNTIF($B$1:B1485,TRUE))","v":1162},{"$f":"Worksheet!$B$15","v":true},{"$f":"RANDBETWEEN(5,20)","v":12},"hours","±",{"$f":"IF(I1485=1,H1485*10^RANDBETWEEN(IF(Worksheet!$D$9,-1,0),0),IF(I1485=2,H1485,CHOOSE(RANDBETWEEN(1,3),5,10,20)))","v":8},{"$f":"IF(I1485=1,D1485,IF(I1485=3,\"%\",\"min\"))","v":"hours"},8,{"$f":"IF(AND(Worksheet!$D$8,RAND()<0),3,IF(RAND()<Worksheet!$D$7/100,1,2))","v":1},null," hours",{"$f":"IF(I1485=1,C1485-F1485,IF(I1485=2,C1485*60-F1485,\"\"))","v":4},{"$f":"IF($I1485=1,\" hours\",\" min\")","v":" hours"},null,"  hours",{"$f":"IF(I1485=1,C1485+F1485,IF(I1485=2,C1485*60+F1485,\"\"))","v":20},{"$f":"IF($I1485=1,\" hours\",\" min\")","v":" hours"}]
[{"$f":"IF(COUNTIF($B$1:B1486,TRUE)=COUNTIF($B$1:B1485,TRUE),\"\",COUNTIF($B$1:B1486,TRUE))","v":1163},{"$f":"Worksheet!$D$11","v":true},{"$f":"RANDBETWEEN(5,RANDBETWEEN(5,Worksheet!$D$6))","v":113},"kg","±",{"$f":"IF(I1486=1,H1486*10^RANDBETWEEN(IF(Worksheet!$D$9,-1,0),0),IF(I1486=2,H1486*10^RANDBETWEEN(RANDBETWEEN(0,2),2),CHOOSE(RANDBETWEEN(1,3),5,10,20)))","v":20},{"$f":"IF(I1486=1,D1486,IF(I1486=3,\"%\",\"g\"))","v":"%"},8,{"$f":"IF(AND(Worksheet!$D$8,RAND()<0.2),3,IF(RAND()<Worksheet!$D$7/100,1,2))","v":3},{"$f":"IF(I1486=1,C1486-F1486,IF(I1486=2,C1486-F1486/1000,IF(I1486=3,(1-F1486/100)*C1486,\"\")))","v":90.4}," kg",{"$f":"J1486*1000","v":90400},"g",{"$f":"IF(I1486=1,C1486+F1486,IF(I1486=2,C1486+F1486/1000,IF(I1486=3,(1+F1486/100)*C1486,\"\")))","v":135.6},"  kg",{"$f":"N1486*1000","v":135600},"g"]
[{"$f":"IF(COUNTIF($B$1:B1487,TRUE)=COUNTIF($B$1:B1486,TRUE),\"\",COUNTIF($B$1:B1487,TRUE))","v":1164},{"$f":"Worksheet!$D$12","v":true},{"$f":"RANDBETWEEN(5,RANDBETWEEN(5,Worksheet!$D$6))","v":23},"tonnes","±",{"$f":"IF(I1487=1,H1487*10^RANDBETWEEN(IF(Worksheet!$D$9,-1,0),0),IF(I1487=2,H1487*10^RANDBETWEEN(RANDBETWEEN(0,2),2),CHOOSE(RANDBETWEEN(1,3),5,10,20)))","v":0.8},{"$f":"IF(I1487=1,D1487,IF(I1487=3,\"%\",\"kg\"))","v":"tonnes"},8,{"$f":"IF(AND(Worksheet!$D$8,RAND()<0.2),3,IF(RAND()<Worksheet!$D$7/100,1,2))","v":1},{"$f":"IF(I1487=1,C1487-F1487,IF(I1487=2,C1487-F1487/1000,IF(I1487=3,(1-F1487/100)*C1487,\"\")))","v":22.2}," tonnes",{"$f":"J1487*1000","v":22200},"kg",{"$f":"IF(I1487=1,C1487+F1487,IF(I1487=2,C1487+F1487/1000,IF(I1487=3,(1+F1487/100)*C1487,\"\")))","v":23.8},"  tonnes",{"$f":"N1487*1000","v":23800},"kg"]
[{"$f":"IF(COUNTIF($B$1:B1488,TRUE)=COUNTIF($B$1:B1487,TRUE),\"\",COUNTIF($B$1:B1488,TRUE))","v":1165},{"$f":"Worksheet!$D$13","v":true},{"$f":"RANDBETWEEN(5,RANDBETWEEN(5,Worksheet!$D$6))","v":18},"litres","±",{"$f":"IF(I1488=1,H1488*10^RANDBETWEEN(IF(Worksheet!$D$9,-1,0),0),IF(I1488=2,H1488*10^RANDBETWEEN(RANDBETWEEN(0,2),2),CHOOSE(RANDBETWEEN(1,3),5,10,20)))","v":0.30000000000000004},{"$f":"IF(I1488=1,D1488,IF(I1488=3,\"%\",\"ml\"))","v":"litres"},3,{"$f":"IF(AND(Worksheet!$D$8,RAND()<0.2),3,IF(RAND()<Worksheet!$D$7/100,1,2))","v":1},{"$f":"IF(I1488=1,C1488-F1488,IF(I1488=2,C1488-F1488/1000,IF(I1488=3,(1-F1488/100)*C1488,\"\")))","v":17.7}," litres",{"$f":"J1488*1000","v":17700},"ml",{"$f":"IF(I1488=1,C1488+F1488,IF(I1488=2,C1488+F1488/1000,IF(I1488=3,(1+F1488/100)*C1488,\"\")))","v":18.3},"  litres",{"$f":"N1488*1000","v":18300},"ml"]
[{"$f":"IF(COUNTIF($B$1:B1489,TRUE)=COUNTIF($B$1:B1488,TRUE),\"\",COUNTIF($B$1:B1489,TRUE))","v":1166},{"$f":"Worksheet!$D$14","v":true},{"$f":"RANDBETWEEN(5,RANDBETWEEN(5,Worksheet!$D$6))","v":253},"litres","±",{"$f":"IF(I1489=1,H1489*10^RANDBETWEEN(IF(Worksheet!$D$9,-1,0),0),IF(I1489=2,H1489*10^RANDBETWEEN(RANDBETWEEN(0,2),2),CHOOSE(RANDBETWEEN(1,3),5,10,20)))","v":0.9},{"$f":"IF(I1489=1,D1489,IF(I1489=3,\"%\",\"cm³\"))","v":"litres"},9,{"$f":"IF(AND(Worksheet!$D$8,RAND()<0.2),3,IF(RAND()<Worksheet!$D$7/100,1,2))","v":1},{"$f":"IF(I1489=1,C1489-F1489,IF(I1489=2,C1489-F1489/1000,IF(I1489=3,(1-F1489/100)*C1489,\"\")))","v":252.1}," litres",{"$f":"J1489*1000","v":252100},"cm³",{"$f":"IF(I1489=1,C1489+F1489,IF(I1489=2,C1489+F1489/1000,IF(I1489=3,(1+F1489/100)*C1489,\"\")))","v":253.9},"  litres",{"$f":"N1489*1000","v":253900},"cm³"]
[{"$f":"IF(COUNTIF($B$1:B1490,TRUE)=COUNTIF($B$1:B1489,TRUE),\"\",COUNTIF($B$1:B1490,TRUE))","v":""},{"$f":"Worksheet!$D$15","v":false},{"$f":"RANDBETWEEN(5,20)","v":15},"min","±",{"$f":"IF(I1490=1,H1490*10^RANDBETWEEN(IF(Worksheet!$D$9,-1,0),0),IF(I1490=2,H1490,CHOOSE(RANDBETWEEN(1,3),5,10,20)))","v":3},{"$f":"IF(I1490=1,D1490,IF(I1490=3,\"%\",\"sec\"))","v":"min"},3,{"$f":"IF(AND(Worksheet!$D$8,RAND()<0),3,IF(RAND()<Worksheet!$D$7/100,1,2))","v":1},null," min",{"$f":"IF(I1490=1,C1490-F1490,IF(I1490=2,C1490*60-F1490,\"\"))","v":12},{"$f":"IF($I1490=1,\" hours\",\" min\")","v":" hours"},null,"  min",{"$f":"IF(I1490=1,C1490+F1490,IF(I1490=2,C1490*60+F1490,\"\"))","v":18},{"$f":"IF($I1490=1,\" hours\",\" min\")","v":" hours"}]
[{"$f":"COUNTIF($B$1:B1491,TRUE)","v":1167},{"$f":"Worksheet!$B$11","v":true},{"$f":"RANDBETWEEN(5,RANDBETWEEN(5,Worksheet!$D$6))","v":94},"cm","±",{"$f":"IF(I1491=1,H1491*10^RANDBETWEEN(IF(Worksheet!$D$9,-1,0),0),IF(I1491=2,H1491,CHOOSE(RANDBETWEEN(1,3),5,10,20)))","v":5},{"$f":"IF(I1491=1,D1491,IF(I1491=3,\"%\",\"mm\"))","v":"%"},{"$f":"RANDBETWEEN(1,MIN(9,C1491))","v":5},{"$f":"IF(AND(Worksheet!$D$8,RAND()<0.2),3,IF(RAND()<Worksheet!$D$7/100,1,2))","v":3},{"$f":"IF(I1491=1,C1491-F1491,IF(I1491=2,C1491-F1491/10,IF(I1491=3,(1-F1491/100)*C1491,\"\")))","v":89.3},{"$f":"CONCATENATE(\" \",D1491)","v":" cm"},{"$f":"J1491*10","v":893},"mm",{"$f":"IF(I1491=1,C1491+F1491,IF(I1491=2,C1491+F1491/10,IF(I1491=3,(1+F1491/100)*C1491,\"\")))","v":98.7},{"$f":"CONCATENATE(\" \",K1491)","v":"  cm"},{"$f":"N1491*10","v":987},"mm"]
[{"$f":"IF(COUNTIF($B$1:B1492,TRUE)=COUNTIF($B$1:B1491,TRUE),\"\",COUNTIF($B$1:B1492,TRUE))","v":1168},{"$f":"Worksheet!$B$12","v":true},{"$f":"RANDBETWEEN(5,RANDBETWEEN(5,Worksheet!$D$6))","v":213},"m","±",{"$f":"IF(I1492=1,H1492*10^RANDBETWEEN(IF(Worksheet!$D$9,-1,0),0),IF(I1492=2,H1492*10^RANDBETWEEN(RANDBETWEEN(0,1),1),CHOOSE(RANDBETWEEN(1,3),5,10,20)))","v":1},{"$f":"IF(I1492=1,D1492,IF(I1492=3,\"%\",\"cm\"))","v":"m"},{"$f":"RANDBETWEEN(1,MIN(9,C1492))","v":1},{"$f":"IF(AND(Worksheet!$D$8,RAND()<0.2),3,IF(RAND()<Worksheet!$D$7/100,1,2))","v":1},{"$f":"IF(I1492=1,C1492-F1492,IF(I1492=2,C1492-F1492/100,IF(I1492=3,(1-F1492/100)*C1492,\"\")))","v":212},{"$f":"CONCATENATE(\" \",D1492)","v":" m"},{"$f":"J1492*100","v":21200},"cm",{"$f":"IF(I1492=1,C1492+F1492,IF(I1492=2,C1492+F1492/100,IF(I1492=3,(1+F1492/100)*C1492,\"\")))","v":214},{"$f":"CONCATENATE(\" \",K1492)","v":"  m"},{"$f":"N1492*100","v":21400},"cm"]
[{"$f":"IF(COUNTIF($B$1:B1493,TRUE)=COUNTIF($B$1:B1492,TRUE),\"\",COUNTIF($B$1:B1493,TRUE))","v":1169},{"$f":"Worksheet!$B$13","v":true},{"$f":"RANDBETWEEN(5,RANDBETWEEN(5,Worksheet!$D$6))","v":10},"km","±",{"$f":"IF(I1493=1,H1493*10^RANDBETWEEN(IF(Worksheet!$D$9,-1,0),0),IF(I1493=2,H1493*10^RANDBETWEEN(RANDBETWEEN(0,2),2),CHOOSE(RANDBETWEEN(1,3),5,10,20)))","v":20},{"$f":"IF(I1493=1,D1493,IF(I1493=3,\"%\",\"m\"))","v":"%"},5,{"$f":"IF(AND(Worksheet!$D$8,RAND()<0.2),3,IF(RAND()<Worksheet!$D$7/100,1,2))","v":3},{"$f":"IF(I1493=1,C1493-F1493,IF(I1493=2,C1493-F1493/1000,IF(I1493=3,(1-F1493/100)*C1493,\"\")))","v":8}," km",{"$f":"J1493*1000","v":8000},"m",{"$f":"IF(I1493=1,C1493+F1493,IF(I1493=2,C1493+F1493/1000,IF(I1493=3,(1+F1493/100)*C1493,\"\")))","v":12},"  km",{"$f":"N1493*1000","v":12000},"m"]
[{"$f":"IF(COUNTIF($B$1:B1494,TRUE)=COUNTIF($B$1:B1493,TRUE),\"\",COUNTIF($B$1:B1494,TRUE))","v":""},{"$f":"Worksheet!$B$14","v":false},{"$f":"RANDBETWEEN(5,RANDBETWEEN(5,Worksheet!$D$6))","v":15},"m","±",{"$f":"IF(I1494=1,H1494*10^RANDBETWEEN(IF(Worksheet!$D$9,-1,0),0),IF(I1494=2,H1494*10^RANDBETWEEN(RANDBETWEEN(0,2),2),CHOOSE(RANDBETWEEN(1,3),5,10,20)))","v":20},{"$f":"IF(I1494=1,D1494,IF(I1494=3,\"%\",\"mm\"))","v":"%"},9,{"$f":"IF(AND(Worksheet!$D$8,RAND()<0.2),3,IF(RAND()<Worksheet!$D$7/100,1,2))","v":3},{"$f":"IF(I1494=1,C1494-F1494,IF(I1494=2,C1494-F1494/1000,IF(I1494=3,(1-F1494/100)*C1494,\"\")))","v":12}," m",{"$f":"J1494*1000","v":12000},"mm",{"$f":"IF(I1494=1,C1494+F1494,IF(I1494=2,C1494+F1494/1000,IF(I1494=3,(1+F1494/100)*C1494,\"\")))","v":18},"  m",{"$f":"N1494*1000","v":18000},"mm"]
[{"$f":"IF(COUNTIF($B$1:B1495,TRUE)=COUNTIF($B$1:B1494,TRUE),\"\",COUNTIF($B$1:B1495,TRUE))","v":1170},{"$f":"Worksheet!$B$15","v":true},{"$f":"RANDBETWEEN(5,20)","v":16},"hours","±",{"$f":"IF(I1495=1,H1495*10^RANDBETWEEN(IF(Worksheet!$D$9,-1,0),0),IF(I1495=2,H1495,CHOOSE(RANDBETWEEN(1,3),5,10,20)))","v":3},{"$f":"IF(I1495=1,D1495,IF(I1495=3,\"%\",\"min\"))","v":"min"},3,{"$f":"IF(AND(Worksheet!$D$8,RAND()<0),3,IF(RAND()<Worksheet!$D$7/100,1,2))","v":2},null," hours",{"$f":"IF(I1495=1,C1495-F1495,IF(I1495=2,C1495*60-F1495,\"\"))","v":957},{"$f":"IF($I1495=1,\" hours\",\" min\")","v":" min"},null,"  hours",{"$f":"IF(I1495=1,C1495+F1495,IF(I1495=2,C1495*60+F1495,\"\"))","v":963},{"$f":"IF($I1495=1,\" hours\",\" min\")","v":" min"}]
[{"$f":"IF(COUNTIF($B$1:B1496,TRUE)=COUNTIF($B$1:B1495,TRUE),\"\",COUNTIF($B$1:B1496,TRUE))","v":1171},{"$f":"Worksheet!$D$11","v":true},{"$f":"RANDBETWEEN(5,RANDBETWEEN(5,Worksheet!$D$6))","v":23},"kg","±",{"$f":"IF(I1496=1,H1496*10^RANDBETWEEN(IF(Worksheet!$D$9,-1,0),0),IF(I1496=2,H1496*10^RANDBETWEEN(RANDBETWEEN(0,2),2),CHOOSE(RANDBETWEEN(1,3),5,10,20)))","v":5},{"$f":"IF(I1496=1,D1496,IF(I1496=3,\"%\",\"g\"))","v":"%"},9,{"$f":"IF(AND(Worksheet!$D$8,RAND()<0.2),3,IF(RAND()<Worksheet!$D$7/100,1,2))","v":3},{"$f":"IF(I1496=1,C1496-F1496,IF(I1496=2,C1496-F1496/1000,IF(I1496=3,(1-F1496/100)*C1496,\"\")))","v":21.849999999999998}," kg",{"$f":"J1496*1000","v":21849.999999999996},"g",{"$f":"IF(I1496=1,C1496+F1496,IF(I1496=2,C1496+F1496/1000,IF(I1496=3,(1+F1496/100)*C1496,\"\")))","v":24.150000000000002},"  kg",{"$f":"N1496*1000","v":24150.000000000004},"g"]
[{"$f":"IF(COUNTIF($B$1:B1497,TRUE)=COUNTIF($B$1:B1496,TRUE),\"\",COUNTIF($B$1:B1497,TRUE))","v":1172},{"$f":"Worksheet!$D$12","v":true},{"$f":"RANDBETWEEN(5,RANDBETWEEN(5,Worksheet!$D$6))","v":84},"tonnes","±",{"$f":"IF(I1497=1,H1497*10^RANDBETWEEN(IF(Worksheet!$D$9,-1,0),0),IF(I1497=2,H1497*10^RANDBETWEEN(RANDBETWEEN(0,2),2),CHOOSE(RANDBETWEEN(1,3),5,10,20)))","v":4},{"$f":"IF(I1497=1,D1497,IF(I1497=3,\"%\",\"kg\"))","v":"tonnes"},4,{"$f":"IF(AND(Worksheet!$D$8,RAND()<0.2),3,IF(RAND()<Worksheet!$D$7/100,1,2))","v":1},{"$f":"IF(I1497=1,C1497-F1497,IF(I1497=2,C1497-F1497/1000,IF(I1497=3,(1-F1497/100)*C1497,\"\")))","v":80}," tonnes",{"$f":"J1497*1000","v":80000},"kg",{"$f":"IF(I1497=1,C1497+F1497,IF(I1497=2,C1497+F1497/1000,IF(I1497=3,(1+F1497/100)*C1497,\"\")))","v":88},"  tonnes",{"$f":"N1497*1000","v":88000},"kg"]
[{"$f":"IF(COUNTIF($B$1:B1498,TRUE)=COUNTIF($B$1:B1497,TRUE),\"\",COUNTIF($B$1:B1498,TRUE))","v":1173},{"$f":"Worksheet!$D$13","v":true},{"$f":"RANDBETWEEN(5,RANDBETWEEN(5,Worksheet!$D$6))","v":99},"litres","±",{"$f":"IF(I1498=1,H1498*10^RANDBETWEEN(IF(Worksheet!$D$9,-1,0),0),IF(I1498=2,H1498*10^RANDBETWEEN(RANDBETWEEN(0,2),2),CHOOSE(RANDBETWEEN(1,3),5,10,20)))","v":0.9},{"$f":"IF(I1498=1,D1498,IF(I1498=3,\"%\",\"ml\"))","v":"litres"},9,{"$f":"IF(AND(Worksheet!$D$8,RAND()<0.2),3,IF(RAND()<Worksheet!$D$7/100,1,2))","v":1},{"$f":"IF(I1498=1,C1498-F1498,IF(I1498=2,C1498-F1498/1000,IF(I1498=3,(1-F1498/100)*C1498,\"\")))","v":98.1}," litres",{"$f":"J1498*1000","v":98100},"ml",{"$f":"IF(I1498=1,C1498+F1498,IF(I1498=2,C1498+F1498/1000,IF(I1498=3,(1+F1498/100)*C1498,\"\")))","v":99.9},"  litres",{"$f":"N1498*1000","v":99900},"ml"]
[{"$f":"IF(COUNTIF($B$1:B1499,TRUE)=COUNTIF($B$1:B1498,TRUE),\"\",COUNTIF($B$1:B1499,TRUE))","v":1174},{"$f":"Worksheet!$D$14","v":true},{"$f":"RANDBETWEEN(5,RANDBETWEEN(5,Worksheet!$D$6))","v":5},"litres","±",{"$f":"IF(I1499=1,H1499*10^RANDBETWEEN(IF(Worksheet!$D$9,-1,0),0),IF(I1499=2,H1499*10^RANDBETWEEN(RANDBETWEEN(0,2),2),CHOOSE(RANDBETWEEN(1,3),5,10,20)))","v":0.1},{"$f":"IF(I1499=1,D1499,IF(I1499=3,\"%\",\"cm³\"))","v":"litres"},1,{"$f":"IF(AND(Worksheet!$D$8,RAND()<0.2),3,IF(RAND()<Worksheet!$D$7/100,1,2))","v":1},{"$f":"IF(I1499=1,C1499-F1499,IF(I1499=2,C1499-F1499/1000,IF(I1499=3,(1-F1499/100)*C1499,\"\")))","v":4.9000000000000004}," litres",{"$f":"J1499*1000","v":4900},"cm³",{"$f":"IF(I1499=1,C1499+F1499,IF(I1499=2,C1499+F1499/1000,IF(I1499=3,(1+F1499/100)*C1499,\"\")))","v":5.0999999999999996},"  litres",{"$f":"N1499*1000","v":5100},"cm³"]
[{"$f":"IF(COUNTIF($B$1:B1500,TRUE)=COUNTIF($B$1:B1499,TRUE),\"\",COUNTIF($B$1:B1500,TRUE))","v":""},{"$f":"Worksheet!$D$15","v":false},{"$f":"RANDBETWEEN(5,20)","v":20},"min","±",{"$f":"IF(I1500=1,H1500*10^RANDBETWEEN(IF(Worksheet!$D$9,-1,0),0),IF(I1500=2,H1500,CHOOSE(RANDBETWEEN(1,3),5,10,20)))","v":6},{"$f":"IF(I1500=1,D1500,IF(I1500=3,\"%\",\"sec\"))","v":"min"},6,{"$f":"IF(AND(Worksheet!$D$8,RAND()<0),3,IF(RAND()<Worksheet!$D$7/100,1,2))","v":1},null," min",{"$f":"IF(I1500=1,C1500-F1500,IF(I1500=2,C1500*60-F1500,\"\"))","v":14},{"$f":"IF($I1500=1,\" hours\",\" min\")","v":" hours"},null,"  min",{"$f":"IF(I1500=1,C1500+F1500,IF(I1500=2,C1500*60+F1500,\"\"))","v":26},{"$f":"IF($I1500=1,\" hours\",\" min\")","v":" hours"}]
[{"$f":"COUNTIF($B$1:B1501,TRUE)","v":1175},{"$f":"Worksheet!$B$11","v":true},{"$f":"RANDBETWEEN(5,RANDBETWEEN(5,Worksheet!$D$6))","v":30},"cm","±",{"$f":"IF(I1501=1,H1501*10^RANDBETWEEN(IF(Worksheet!$D$9,-1,0),0),IF(I1501=2,H1501,CHOOSE(RANDBETWEEN(1,3),5,10,20)))","v":20},{"$f":"IF(I1501=1,D1501,IF(I1501=3,\"%\",\"mm\"))","v":"%"},{"$f":"RANDBETWEEN(1,MIN(9,C1501))","v":7},{"$f":"IF(AND(Worksheet!$D$8,RAND()<0.2),3,IF(RAND()<Worksheet!$D$7/100,1,2))","v":3},{"$f":"IF(I1501=1,C1501-F1501,IF(I1501=2,C1501-F1501/10,IF(I1501=3,(1-F1501/100)*C1501,\"\")))","v":24},{"$f":"CONCATENATE(\" \",D1501)","v":" cm"},{"$f":"J1501*10","v":240},"mm",{"$f":"IF(I1501=1,C1501+F1501,IF(I1501=2,C1501+F1501/10,IF(I1501=3,(1+F1501/100)*C1501,\"\")))","v":36},{"$f":"CONCATENATE(\" \",K1501)","v":"  cm"},{"$f":"N1501*10","v":360},"mm"]
[{"$f":"IF(COUNTIF($B$1:B1502,TRUE)=COUNTIF($B$1:B1501,TRUE),\"\",COUNTIF($B$1:B1502,TRUE))","v":1176},{"$f":"Worksheet!$B$12","v":true},{"$f":"RANDBETWEEN(5,RANDBETWEEN(5,Worksheet!$D$6))","v":10},"m","±",{"$f":"IF(I1502=1,H1502*10^RANDBETWEEN(IF(Worksheet!$D$9,-1,0),0),IF(I1502=2,H1502*10^RANDBETWEEN(RANDBETWEEN(0,1),1),CHOOSE(RANDBETWEEN(1,3),5,10,20)))","v":0.8},{"$f":"IF(I1502=1,D1502,IF(I1502=3,\"%\",\"cm\"))","v":"m"},{"$f":"RANDBETWEEN(1,MIN(9,C1502))","v":8},{"$f":"IF(AND(Worksheet!$D$8,RAND()<0.2),3,IF(RAND()<Worksheet!$D$7/100,1,2))","v":1},{"$f":"IF(I1502=1,C1502-F1502,IF(I1502=2,C1502-F1502/100,IF(I1502=3,(1-F1502/100)*C1502,\"\")))","v":9.1999999999999993},{"$f":"CONCATENATE(\" \",D1502)","v":" m"},{"$f":"J1502*100","v":919.99999999999989},"cm",{"$f":"IF(I1502=1,C1502+F1502,IF(I1502=2,C1502+F1502/100,IF(I1502=3,(1+F1502/100)*C1502,\"\")))","v":10.8},{"$f":"CONCATENATE(\" \",K1502)","v":"  m"},{"$f":"N1502*100","v":1080},"cm"]
[{"$f":"IF(COUNTIF($B$1:B1503,TRUE)=COUNTIF($B$1:B1502,TRUE),\"\",COUNTIF($B$1:B1503,TRUE))","v":1177},{"$f":"Worksheet!$B$13","v":true},{"$f":"RANDBETWEEN(5,RANDBETWEEN(5,Worksheet!$D$6))","v":71},"km","±",{"$f":"IF(I1503=1,H1503*10^RANDBETWEEN(IF(Worksheet!$D$9,-1,0),0),IF(I1503=2,H1503*10^RANDBETWEEN(RANDBETWEEN(0,2),2),CHOOSE(RANDBETWEEN(1,3),5,10,20)))","v":2},{"$f":"IF(I1503=1,D1503,IF(I1503=3,\"%\",\"m\"))","v":"km"},2,{"$f":"IF(AND(Worksheet!$D$8,RAND()<0.2),3,IF(RAND()<Worksheet!$D$7/100,1,2))","v":1},{"$f":"IF(I1503=1,C1503-F1503,IF(I1503=2,C1503-F1503/1000,IF(I1503=3,(1-F1503/100)*C1503,\"\")))","v":69}," km",{"$f":"J1503*1000","v":69000},"m",{"$f":"IF(I1503=1,C1503+F1503,IF(I1503=2,C1503+F1503/1000,IF(I1503=3,(1+F1503/100)*C1503,\"\")))","v":73},"  km",{"$f":"N1503*1000","v":73000},"m"]
[{"$f":"IF(COUNTIF($B$1:B1504,TRUE)=COUNTIF($B$1:B1503,TRUE),\"\",COUNTIF($B$1:B1504,TRUE))","v":""},{"$f":"Worksheet!$B$14","v":false},{"$f":"RANDBETWEEN(5,RANDBETWEEN(5,Worksheet!$D$6))","v":38},"m","±",{"$f":"IF(I1504=1,H1504*10^RANDBETWEEN(IF(Worksheet!$D$9,-1,0),0),IF(I1504=2,H1504*10^RANDBETWEEN(RANDBETWEEN(0,2),2),CHOOSE(RANDBETWEEN(1,3),5,10,20)))","v":6},{"$f":"IF(I1504=1,D1504,IF(I1504=3,\"%\",\"mm\"))","v":"m"},6,{"$f":"IF(AND(Worksheet!$D$8,RAND()<0.2),3,IF(RAND()<Worksheet!$D$7/100,1,2))","v":1},{"$f":"IF(I1504=1,C1504-F1504,IF(I1504=2,C1504-F1504/1000,IF(I1504=3,(1-F1504/100)*C1504,\"\")))","v":32}," m",{"$f":"J1504*1000","v":32000},"mm",{"$f":"IF(I1504=1,C1504+F1504,IF(I1504=2,C1504+F1504/1000,IF(I1504=3,(1+F1504/100)*C1504,\"\")))","v":44},"  m",{"$f":"N1504*1000","v":44000},"mm"]
[{"$f":"IF(COUNTIF($B$1:B1505,TRUE)=COUNTIF($B$1:B1504,TRUE),\"\",COUNTIF($B$1:B1505,TRUE))","v":1178},{"$f":"Worksheet!$B$15","v":true},{"$f":"RANDBETWEEN(5,20)","v":17},"hours","±",{"$f":"IF(I1505=1,H1505*10^RANDBETWEEN(IF(Worksheet!$D$9,-1,0),0),IF(I1505=2,H1505,CHOOSE(RANDBETWEEN(1,3),5,10,20)))","v":0.9},{"$f":"IF(I1505=1,D1505,IF(I1505=3,\"%\",\"min\"))","v":"hours"},9,{"$f":"IF(AND(Worksheet!$D$8,RAND()<0),3,IF(RAND()<Worksheet!$D$7/100,1,2))","v":1},null," hours",{"$f":"IF(I1505=1,C1505-F1505,IF(I1505=2,C1505*60-F1505,\"\"))","v":16.100000000000001},{"$f":"IF($I1505=1,\" hours\",\" min\")","v":" hours"},null,"  hours",{"$f":"IF(I1505=1,C1505+F1505,IF(I1505=2,C1505*60+F1505,\"\"))","v":17.899999999999999},{"$f":"IF($I1505=1,\" hours\",\" min\")","v":" hours"}]
[{"$f":"IF(COUNTIF($B$1:B1506,TRUE)=COUNTIF($B$1:B1505,TRUE),\"\",COUNTIF($B$1:B1506,TRUE))","v":1179},{"$f":"Worksheet!$D$11","v":true},{"$f":"RANDBETWEEN(5,RANDBETWEEN(5,Worksheet!$D$6))","v":99},"kg","±",{"$f":"IF(I1506=1,H1506*10^RANDBETWEEN(IF(Worksheet!$D$9,-1,0),0),IF(I1506=2,H1506*10^RANDBETWEEN(RANDBETWEEN(0,2),2),CHOOSE(RANDBETWEEN(1,3),5,10,20)))","v":0.4},{"$f":"IF(I1506=1,D1506,IF(I1506=3,\"%\",\"g\"))","v":"kg"},4,{"$f":"IF(AND(Worksheet!$D$8,RAND()<0.2),3,IF(RAND()<Worksheet!$D$7/100,1,2))","v":1},{"$f":"IF(I1506=1,C1506-F1506,IF(I1506=2,C1506-F1506/1000,IF(I1506=3,(1-F1506/100)*C1506,\"\")))","v":98.6}," kg",{"$f":"J1506*1000","v":98600},"g",{"$f":"IF(I1506=1,C1506+F1506,IF(I1506=2,C1506+F1506/1000,IF(I1506=3,(1+F1506/100)*C1506,\"\")))","v":99.4},"  kg",{"$f":"N1506*1000","v":99400},"g"]
[{"$f":"IF(COUNTIF($B$1:B1507,TRUE)=COUNTIF($B$1:B1506,TRUE),\"\",COUNTIF($B$1:B1507,TRUE))","v":1180},{"$f":"Worksheet!$D$12","v":true},{"$f":"RANDBETWEEN(5,RANDBETWEEN(5,Worksheet!$D$6))","v":104},"tonnes","±",{"$f":"IF(I1507=1,H1507*10^RANDBETWEEN(IF(Worksheet!$D$9,-1,0),0),IF(I1507=2,H1507*10^RANDBETWEEN(RANDBETWEEN(0,2),2),CHOOSE(RANDBETWEEN(1,3),5,10,20)))","v":5},{"$f":"IF(I1507=1,D1507,IF(I1507=3,\"%\",\"kg\"))","v":"%"},6,{"$f":"IF(AND(Worksheet!$D$8,RAND()<0.2),3,IF(RAND()<Worksheet!$D$7/100,1,2))","v":3},{"$f":"IF(I1507=1,C1507-F1507,IF(I1507=2,C1507-F1507/1000,IF(I1507=3,(1-F1507/100)*C1507,\"\")))","v":98.8}," tonnes",{"$f":"J1507*1000","v":98800},"kg",{"$f":"IF(I1507=1,C1507+F1507,IF(I1507=2,C1507+F1507/1000,IF(I1507=3,(1+F1507/100)*C1507,\"\")))","v":109.2},"  tonnes",{"$f":"N1507*1000","v":109200},"kg"]
[{"$f":"IF(COUNTIF($B$1:B1508,TRUE)=COUNTIF($B$1:B1507,TRUE),\"\",COUNTIF($B$1:B1508,TRUE))","v":1181},{"$f":"Worksheet!$D$13","v":true},{"$f":"RANDBETWEEN(5,RANDBETWEEN(5,Worksheet!$D$6))","v":68},"litres","±",{"$f":"IF(I1508=1,H1508*10^RANDBETWEEN(IF(Worksheet!$D$9,-1,0),0),IF(I1508=2,H1508*10^RANDBETWEEN(RANDBETWEEN(0,2),2),CHOOSE(RANDBETWEEN(1,3),5,10,20)))","v":0.30000000000000004},{"$f":"IF(I1508=1,D1508,IF(I1508=3,\"%\",\"ml\"))","v":"litres"},3,{"$f":"IF(AND(Worksheet!$D$8,RAND()<0.2),3,IF(RAND()<Worksheet!$D$7/100,1,2))","v":1},{"$f":"IF(I1508=1,C1508-F1508,IF(I1508=2,C1508-F1508/1000,IF(I1508=3,(1-F1508/100)*C1508,\"\")))","v":67.7}," litres",{"$f":"J1508*1000","v":67700},"ml",{"$f":"IF(I1508=1,C1508+F1508,IF(I1508=2,C1508+F1508/1000,IF(I1508=3,(1+F1508/100)*C1508,\"\")))","v":68.3},"  litres",{"$f":"N1508*1000","v":68300},"ml"]
[{"$f":"IF(COUNTIF($B$1:B1509,TRUE)=COUNTIF($B$1:B1508,TRUE),\"\",COUNTIF($B$1:B1509,TRUE))","v":1182},{"$f":"Worksheet!$D$14","v":true},{"$f":"RANDBETWEEN(5,RANDBETWEEN(5,Worksheet!$D$6))","v":123},"litres","±",{"$f":"IF(I1509=1,H1509*10^RANDBETWEEN(IF(Worksheet!$D$9,-1,0),0),IF(I1509=2,H1509*10^RANDBETWEEN(RANDBETWEEN(0,2),2),CHOOSE(RANDBETWEEN(1,3),5,10,20)))","v":0.2},{"$f":"IF(I1509=1,D1509,IF(I1509=3,\"%\",\"cm³\"))","v":"litres"},2,{"$f":"IF(AND(Worksheet!$D$8,RAND()<0.2),3,IF(RAND()<Worksheet!$D$7/100,1,2))","v":1},{"$f":"IF(I1509=1,C1509-F1509,IF(I1509=2,C1509-F1509/1000,IF(I1509=3,(1-F1509/100)*C1509,\"\")))","v":122.8}," litres",{"$f":"J1509*1000","v":122800},"cm³",{"$f":"IF(I1509=1,C1509+F1509,IF(I1509=2,C1509+F1509/1000,IF(I1509=3,(1+F1509/100)*C1509,\"\")))","v":123.2},"  litres",{"$f":"N1509*1000","v":123200},"cm³"]
[{"$f":"IF(COUNTIF($B$1:B1510,TRUE)=COUNTIF($B$1:B1509,TRUE),\"\",COUNTIF($B$1:B1510,TRUE))","v":""},{"$f":"Worksheet!$D$15","v":false},{"$f":"RANDBETWEEN(5,20)","v":16},"min","±",{"$f":"IF(I1510=1,H1510*10^RANDBETWEEN(IF(Worksheet!$D$9,-1,0),0),IF(I1510=2,H1510,CHOOSE(RANDBETWEEN(1,3),5,10,20)))","v":0.60000000000000009},{"$f":"IF(I1510=1,D1510,IF(I1510=3,\"%\",\"sec\"))","v":"min"},6,{"$f":"IF(AND(Worksheet!$D$8,RAND()<0),3,IF(RAND()<Worksheet!$D$7/100,1,2))","v":1},null," min",{"$f":"IF(I1510=1,C1510-F1510,IF(I1510=2,C1510*60-F1510,\"\"))","v":15.4},{"$f":"IF($I1510=1,\" hours\",\" min\")","v":" hours"},null,"  min",{"$f":"IF(I1510=1,C1510+F1510,IF(I1510=2,C1510*60+F1510,\"\"))","v":16.600000000000001},{"$f":"IF($I1510=1,\" hours\",\" min\")","v":" hours"}]
[{"$f":"COUNTIF($B$1:B1511,TRUE)","v":1183},{"$f":"Worksheet!$B$11","v":true},{"$f":"RANDBETWEEN(5,RANDBETWEEN(5,Worksheet!$D$6))","v":97},"cm","±",{"$f":"IF(I1511=1,H1511*10^RANDBETWEEN(IF(Worksheet!$D$9,-1,0),0),IF(I1511=2,H1511,CHOOSE(RANDBETWEEN(1,3),5,10,20)))","v":0.9},{"$f":"IF(I1511=1,D1511,IF(I1511=3,\"%\",\"mm\"))","v":"cm"},{"$f":"RANDBETWEEN(1,MIN(9,C1511))","v":9},{"$f":"IF(AND(Worksheet!$D$8,RAND()<0.2),3,IF(RAND()<Worksheet!$D$7/100,1,2))","v":1},{"$f":"IF(I1511=1,C1511-F1511,IF(I1511=2,C1511-F1511/10,IF(I1511=3,(1-F1511/100)*C1511,\"\")))","v":96.1},{"$f":"CONCATENATE(\" \",D1511)","v":" cm"},{"$f":"J1511*10","v":961},"mm",{"$f":"IF(I1511=1,C1511+F1511,IF(I1511=2,C1511+F1511/10,IF(I1511=3,(1+F1511/100)*C1511,\"\")))","v":97.9},{"$f":"CONCATENATE(\" \",K1511)","v":"  cm"},{"$f":"N1511*10","v":979},"mm"]
[{"$f":"IF(COUNTIF($B$1:B1512,TRUE)=COUNTIF($B$1:B1511,TRUE),\"\",COUNTIF($B$1:B1512,TRUE))","v":1184},{"$f":"Worksheet!$B$12","v":true},{"$f":"RANDBETWEEN(5,RANDBETWEEN(5,Worksheet!$D$6))","v":212},"m","±",{"$f":"IF(I1512=1,H1512*10^RANDBETWEEN(IF(Worksheet!$D$9,-1,0),0),IF(I1512=2,H1512*10^RANDBETWEEN(RANDBETWEEN(0,1),1),CHOOSE(RANDBETWEEN(1,3),5,10,20)))","v":0.5},{"$f":"IF(I1512=1,D1512,IF(I1512=3,\"%\",\"cm\"))","v":"m"},{"$f":"RANDBETWEEN(1,MIN(9,C1512))","v":5},{"$f":"IF(AND(Worksheet!$D$8,RAND()<0.2),3,IF(RAND()<Worksheet!$D$7/100,1,2))","v":1},{"$f":"IF(I1512=1,C1512-F1512,IF(I1512=2,C1512-F1512/100,IF(I1512=3,(1-F1512/100)*C1512,\"\")))","v":211.5},{"$f":"CONCATENATE(\" \",D1512)","v":" m"},{"$f":"J1512*100","v":21150},"cm",{"$f":"IF(I1512=1,C1512+F1512,IF(I1512=2,C1512+F1512/100,IF(I1512=3,(1+F1512/100)*C1512,\"\")))","v":212.5},{"$f":"CONCATENATE(\" \",K1512)","v":"  m"},{"$f":"N1512*100","v":21250},"cm"]
[{"$f":"IF(COUNTIF($B$1:B1513,TRUE)=COUNTIF($B$1:B1512,TRUE),\"\",COUNTIF($B$1:B1513,TRUE))","v":1185},{"$f":"Worksheet!$B$13","v":true},{"$f":"RANDBETWEEN(5,RANDBETWEEN(5,Worksheet!$D$6))","v":210},"km","±",{"$f":"IF(I1513=1,H1513*10^RANDBETWEEN(IF(Worksheet!$D$9,-1,0),0),IF(I1513=2,H1513*10^RANDBETWEEN(RANDBETWEEN(0,2),2),CHOOSE(RANDBETWEEN(1,3),5,10,20)))","v":3},{"$f":"IF(I1513=1,D1513,IF(I1513=3,\"%\",\"m\"))","v":"km"},3,{"$f":"IF(AND(Worksheet!$D$8,RAND()<0.2),3,IF(RAND()<Worksheet!$D$7/100,1,2))","v":1},{"$f":"IF(I1513=1,C1513-F1513,IF(I1513=2,C1513-F1513/1000,IF(I1513=3,(1-F1513/100)*C1513,\"\")))","v":207}," km",{"$f":"J1513*1000","v":207000},"m",{"$f":"IF(I1513=1,C1513+F1513,IF(I1513=2,C1513+F1513/1000,IF(I1513=3,(1+F1513/100)*C1513,\"\")))","v":213},"  km",{"$f":"N1513*1000","v":213000},"m"]
[{"$f":"IF(COUNTIF($B$1:B1514,TRUE)=COUNTIF($B$1:B1513,TRUE),\"\",COUNTIF($B$1:B1514,TRUE))","v":""},{"$f":"Worksheet!$B$14","v":false},{"$f":"RANDBETWEEN(5,RANDBETWEEN(5,Worksheet!$D$6))","v":157},"m","±",{"$f":"IF(I1514=1,H1514*10^RANDBETWEEN(IF(Worksheet!$D$9,-1,0),0),IF(I1514=2,H1514*10^RANDBETWEEN(RANDBETWEEN(0,2),2),CHOOSE(RANDBETWEEN(1,3),5,10,20)))","v":9},{"$f":"IF(I1514=1,D1514,IF(I1514=3,\"%\",\"mm\"))","v":"m"},9,{"$f":"IF(AND(Worksheet!$D$8,RAND()<0.2),3,IF(RAND()<Worksheet!$D$7/100,1,2))","v":1},{"$f":"IF(I1514=1,C1514-F1514,IF(I1514=2,C1514-F1514/1000,IF(I1514=3,(1-F1514/100)*C1514,\"\")))","v":148}," m",{"$f":"J1514*1000","v":148000},"mm",{"$f":"IF(I1514=1,C1514+F1514,IF(I1514=2,C1514+F1514/1000,IF(I1514=3,(1+F1514/100)*C1514,\"\")))","v":166},"  m",{"$f":"N1514*1000","v":166000},"mm"]
[{"$f":"IF(COUNTIF($B$1:B1515,TRUE)=COUNTIF($B$1:B1514,TRUE),\"\",COUNTIF($B$1:B1515,TRUE))","v":1186},{"$f":"Worksheet!$B$15","v":true},{"$f":"RANDBETWEEN(5,20)","v":7},"hours","±",{"$f":"IF(I1515=1,H1515*10^RANDBETWEEN(IF(Worksheet!$D$9,-1,0),0),IF(I1515=2,H1515,CHOOSE(RANDBETWEEN(1,3),5,10,20)))","v":2},{"$f":"IF(I1515=1,D1515,IF(I1515=3,\"%\",\"min\"))","v":"min"},2,{"$f":"IF(AND(Worksheet!$D$8,RAND()<0),3,IF(RAND()<Worksheet!$D$7/100,1,2))","v":2},null," hours",{"$f":"IF(I1515=1,C1515-F1515,IF(I1515=2,C1515*60-F1515,\"\"))","v":418},{"$f":"IF($I1515=1,\" hours\",\" min\")","v":" min"},null,"  hours",{"$f":"IF(I1515=1,C1515+F1515,IF(I1515=2,C1515*60+F1515,\"\"))","v":422},{"$f":"IF($I1515=1,\" hours\",\" min\")","v":" min"}]
[{"$f":"IF(COUNTIF($B$1:B1516,TRUE)=COUNTIF($B$1:B1515,TRUE),\"\",COUNTIF($B$1:B1516,TRUE))","v":1187},{"$f":"Worksheet!$D$11","v":true},{"$f":"RANDBETWEEN(5,RANDBETWEEN(5,Worksheet!$D$6))","v":79},"kg","±",{"$f":"IF(I1516=1,H1516*10^RANDBETWEEN(IF(Worksheet!$D$9,-1,0),0),IF(I1516=2,H1516*10^RANDBETWEEN(RANDBETWEEN(0,2),2),CHOOSE(RANDBETWEEN(1,3),5,10,20)))","v":6},{"$f":"IF(I1516=1,D1516,IF(I1516=3,\"%\",\"g\"))","v":"kg"},6,{"$f":"IF(AND(Worksheet!$D$8,RAND()<0.2),3,IF(RAND()<Worksheet!$D$7/100,1,2))","v":1},{"$f":"IF(I1516=1,C1516-F1516,IF(I1516=2,C1516-F1516/1000,IF(I1516=3,(1-F1516/100)*C1516,\"\")))","v":73}," kg",{"$f":"J1516*1000","v":73000},"g",{"$f":"IF(I1516=1,C1516+F1516,IF(I1516=2,C1516+F1516/1000,IF(I1516=3,(1+F1516/100)*C1516,\"\")))","v":85},"  kg",{"$f":"N1516*1000","v":85000},"g"]
[{"$f":"IF(COUNTIF($B$1:B1517,TRUE)=COUNTIF($B$1:B1516,TRUE),\"\",COUNTIF($B$1:B1517,TRUE))","v":1188},{"$f":"Worksheet!$D$12","v":true},{"$f":"RANDBETWEEN(5,RANDBETWEEN(5,Worksheet!$D$6))","v":143},"tonnes","±",{"$f":"IF(I1517=1,H1517*10^RANDBETWEEN(IF(Worksheet!$D$9,-1,0),0),IF(I1517=2,H1517*10^RANDBETWEEN(RANDBETWEEN(0,2),2),CHOOSE(RANDBETWEEN(1,3),5,10,20)))","v":20},{"$f":"IF(I1517=1,D1517,IF(I1517=3,\"%\",\"kg\"))","v":"%"},3,{"$f":"IF(AND(Worksheet!$D$8,RAND()<0.2),3,IF(RAND()<Worksheet!$D$7/100,1,2))","v":3},{"$f":"IF(I1517=1,C1517-F1517,IF(I1517=2,C1517-F1517/1000,IF(I1517=3,(1-F1517/100)*C1517,\"\")))","v":114.4}," tonnes",{"$f":"J1517*1000","v":114400},"kg",{"$f":"IF(I1517=1,C1517+F1517,IF(I1517=2,C1517+F1517/1000,IF(I1517=3,(1+F1517/100)*C1517,\"\")))","v":171.6},"  tonnes",{"$f":"N1517*1000","v":171600},"kg"]
[{"$f":"IF(COUNTIF($B$1:B1518,TRUE)=COUNTIF($B$1:B1517,TRUE),\"\",COUNTIF($B$1:B1518,TRUE))","v":1189},{"$f":"Worksheet!$D$13","v":true},{"$f":"RANDBETWEEN(5,RANDBETWEEN(5,Worksheet!$D$6))","v":26},"litres","±",{"$f":"IF(I1518=1,H1518*10^RANDBETWEEN(IF(Worksheet!$D$9,-1,0),0),IF(I1518=2,H1518*10^RANDBETWEEN(RANDBETWEEN(0,2),2),CHOOSE(RANDBETWEEN(1,3),5,10,20)))","v":5},{"$f":"IF(I1518=1,D1518,IF(I1518=3,\"%\",\"ml\"))","v":"%"},6,{"$f":"IF(AND(Worksheet!$D$8,RAND()<0.2),3,IF(RAND()<Worksheet!$D$7/100,1,2))","v":3},{"$f":"IF(I1518=1,C1518-F1518,IF(I1518=2,C1518-F1518/1000,IF(I1518=3,(1-F1518/100)*C1518,\"\")))","v":24.7}," litres",{"$f":"J1518*1000","v":24700},"ml",{"$f":"IF(I1518=1,C1518+F1518,IF(I1518=2,C1518+F1518/1000,IF(I1518=3,(1+F1518/100)*C1518,\"\")))","v":27.3},"  litres",{"$f":"N1518*1000","v":27300},"ml"]
[{"$f":"IF(COUNTIF($B$1:B1519,TRUE)=COUNTIF($B$1:B1518,TRUE),\"\",COUNTIF($B$1:B1519,TRUE))","v":1190},{"$f":"Worksheet!$D$14","v":true},{"$f":"RANDBETWEEN(5,RANDBETWEEN(5,Worksheet!$D$6))","v":98},"litres","±",{"$f":"IF(I1519=1,H1519*10^RANDBETWEEN(IF(Worksheet!$D$9,-1,0),0),IF(I1519=2,H1519*10^RANDBETWEEN(RANDBETWEEN(0,2),2),CHOOSE(RANDBETWEEN(1,3),5,10,20)))","v":5},{"$f":"IF(I1519=1,D1519,IF(I1519=3,\"%\",\"cm³\"))","v":"%"},1,{"$f":"IF(AND(Worksheet!$D$8,RAND()<0.2),3,IF(RAND()<Worksheet!$D$7/100,1,2))","v":3},{"$f":"IF(I1519=1,C1519-F1519,IF(I1519=2,C1519-F1519/1000,IF(I1519=3,(1-F1519/100)*C1519,\"\")))","v":93.1}," litres",{"$f":"J1519*1000","v":93100},"cm³",{"$f":"IF(I1519=1,C1519+F1519,IF(I1519=2,C1519+F1519/1000,IF(I1519=3,(1+F1519/100)*C1519,\"\")))","v":102.9},"  litres",{"$f":"N1519*1000","v":102900},"cm³"]
[{"$f":"IF(COUNTIF($B$1:B1520,TRUE)=COUNTIF($B$1:B1519,TRUE),\"\",COUNTIF($B$1:B1520,TRUE))","v":""},{"$f":"Worksheet!$D$15","v":false},{"$f":"RANDBETWEEN(5,20)","v":9},"min","±",{"$f":"IF(I1520=1,H1520*10^RANDBETWEEN(IF(Worksheet!$D$9,-1,0),0),IF(I1520=2,H1520,CHOOSE(RANDBETWEEN(1,3),5,10,20)))","v":1},{"$f":"IF(I1520=1,D1520,IF(I1520=3,\"%\",\"sec\"))","v":"sec"},1,{"$f":"IF(AND(Worksheet!$D$8,RAND()<0),3,IF(RAND()<Worksheet!$D$7/100,1,2))","v":2},null," min",{"$f":"IF(I1520=1,C1520-F1520,IF(I1520=2,C1520*60-F1520,\"\"))","v":539},{"$f":"IF($I1520=1,\" hours\",\" min\")","v":" min"},null,"  min",{"$f":"IF(I1520=1,C1520+F1520,IF(I1520=2,C1520*60+F1520,\"\"))","v":541},{"$f":"IF($I1520=1,\" hours\",\" min\")","v":" min"}]
[{"$f":"COUNTIF($B$1:B1521,TRUE)","v":1191},{"$f":"Worksheet!$B$11","v":true},{"$f":"RANDBETWEEN(5,RANDBETWEEN(5,Worksheet!$D$6))","v":287},"cm","±",{"$f":"IF(I1521=1,H1521*10^RANDBETWEEN(IF(Worksheet!$D$9,-1,0),0),IF(I1521=2,H1521,CHOOSE(RANDBETWEEN(1,3),5,10,20)))","v":0.8},{"$f":"IF(I1521=1,D1521,IF(I1521=3,\"%\",\"mm\"))","v":"cm"},{"$f":"RANDBETWEEN(1,MIN(9,C1521))","v":8},{"$f":"IF(AND(Worksheet!$D$8,RAND()<0.2),3,IF(RAND()<Worksheet!$D$7/100,1,2))","v":1},{"$f":"IF(I1521=1,C1521-F1521,IF(I1521=2,C1521-F1521/10,IF(I1521=3,(1-F1521/100)*C1521,\"\")))","v":286.2},{"$f":"CONCATENATE(\" \",D1521)","v":" cm"},{"$f":"J1521*10","v":2862},"mm",{"$f":"IF(I1521=1,C1521+F1521,IF(I1521=2,C1521+F1521/10,IF(I1521=3,(1+F1521/100)*C1521,\"\")))","v":287.8},{"$f":"CONCATENATE(\" \",K1521)","v":"  cm"},{"$f":"N1521*10","v":2878},"mm"]
[{"$f":"IF(COUNTIF($B$1:B1522,TRUE)=COUNTIF($B$1:B1521,TRUE),\"\",COUNTIF($B$1:B1522,TRUE))","v":1192},{"$f":"Worksheet!$B$12","v":true},{"$f":"RANDBETWEEN(5,RANDBETWEEN(5,Worksheet!$D$6))","v":180},"m","±",{"$f":"IF(I1522=1,H1522*10^RANDBETWEEN(IF(Worksheet!$D$9,-1,0),0),IF(I1522=2,H1522*10^RANDBETWEEN(RANDBETWEEN(0,1),1),CHOOSE(RANDBETWEEN(1,3),5,10,20)))","v":50},{"$f":"IF(I1522=1,D1522,IF(I1522=3,\"%\",\"cm\"))","v":"cm"},{"$f":"RANDBETWEEN(1,MIN(9,C1522))","v":5},{"$f":"IF(AND(Worksheet!$D$8,RAND()<0.2),3,IF(RAND()<Worksheet!$D$7/100,1,2))","v":2},{"$f":"IF(I1522=1,C1522-F1522,IF(I1522=2,C1522-F1522/100,IF(I1522=3,(1-F1522/100)*C1522,\"\")))","v":179.5},{"$f":"CONCATENATE(\" \",D1522)","v":" m"},{"$f":"J1522*100","v":17950},"cm",{"$f":"IF(I1522=1,C1522+F1522,IF(I1522=2,C1522+F1522/100,IF(I1522=3,(1+F1522/100)*C1522,\"\")))","v":180.5},{"$f":"CONCATENATE(\" \",K1522)","v":"  m"},{"$f":"N1522*100","v":18050},"cm"]
[{"$f":"IF(COUNTIF($B$1:B1523,TRUE)=COUNTIF($B$1:B1522,TRUE),\"\",COUNTIF($B$1:B1523,TRUE))","v":1193},{"$f":"Worksheet!$B$13","v":true},{"$f":"RANDBETWEEN(5,RANDBETWEEN(5,Worksheet!$D$6))","v":102},"km","±",{"$f":"IF(I1523=1,H1523*10^RANDBETWEEN(IF(Worksheet!$D$9,-1,0),0),IF(I1523=2,H1523*10^RANDBETWEEN(RANDBETWEEN(0,2),2),CHOOSE(RANDBETWEEN(1,3),5,10,20)))","v":0.60000000000000009},{"$f":"IF(I1523=1,D1523,IF(I1523=3,\"%\",\"m\"))","v":"km"},6,{"$f":"IF(AND(Worksheet!$D$8,RAND()<0.2),3,IF(RAND()<Worksheet!$D$7/100,1,2))","v":1},{"$f":"IF(I1523=1,C1523-F1523,IF(I1523=2,C1523-F1523/1000,IF(I1523=3,(1-F1523/100)*C1523,\"\")))","v":101.4}," km",{"$f":"J1523*1000","v":101400},"m",{"$f":"IF(I1523=1,C1523+F1523,IF(I1523=2,C1523+F1523/1000,IF(I1523=3,(1+F1523/100)*C1523,\"\")))","v":102.6},"  km",{"$f":"N1523*1000","v":102600},"m"]
[{"$f":"IF(COUNTIF($B$1:B1524,TRUE)=COUNTIF($B$1:B1523,TRUE),\"\",COUNTIF($B$1:B1524,TRUE))","v":""},{"$f":"Worksheet!$B$14","v":false},{"$f":"RANDBETWEEN(5,RANDBETWEEN(5,Worksheet!$D$6))","v":33},"m","±",{"$f":"IF(I1524=1,H1524*10^RANDBETWEEN(IF(Worksheet!$D$9,-1,0),0),IF(I1524=2,H1524*10^RANDBETWEEN(RANDBETWEEN(0,2),2),CHOOSE(RANDBETWEEN(1,3),5,10,20)))","v":0.4},{"$f":"IF(I1524=1,D1524,IF(I1524=3,\"%\",\"mm\"))","v":"m"},4,{"$f":"IF(AND(Worksheet!$D$8,RAND()<0.2),3,IF(RAND()<Worksheet!$D$7/100,1,2))","v":1},{"$f":"IF(I1524=1,C1524-F1524,IF(I1524=2,C1524-F1524/1000,IF(I1524=3,(1-F1524/100)*C1524,\"\")))","v":32.6}," m",{"$f":"J1524*1000","v":32600},"mm",{"$f":"IF(I1524=1,C1524+F1524,IF(I1524=2,C1524+F1524/1000,IF(I1524=3,(1+F1524/100)*C1524,\"\")))","v":33.4},"  m",{"$f":"N1524*1000","v":33400},"mm"]
[{"$f":"IF(COUNTIF($B$1:B1525,TRUE)=COUNTIF($B$1:B1524,TRUE),\"\",COUNTIF($B$1:B1525,TRUE))","v":1194},{"$f":"Worksheet!$B$15","v":true},{"$f":"RANDBETWEEN(5,20)","v":19},"hours","±",{"$f":"IF(I1525=1,H1525*10^RANDBETWEEN(IF(Worksheet!$D$9,-1,0),0),IF(I1525=2,H1525,CHOOSE(RANDBETWEEN(1,3),5,10,20)))","v":6},{"$f":"IF(I1525=1,D1525,IF(I1525=3,\"%\",\"min\"))","v":"hours"},6,{"$f":"IF(AND(Worksheet!$D$8,RAND()<0),3,IF(RAND()<Worksheet!$D$7/100,1,2))","v":1},null," hours",{"$f":"IF(I1525=1,C1525-F1525,IF(I1525=2,C1525*60-F1525,\"\"))","v":13},{"$f":"IF($I1525=1,\" hours\",\" min\")","v":" hours"},null,"  hours",{"$f":"IF(I1525=1,C1525+F1525,IF(I1525=2,C1525*60+F1525,\"\"))","v":25},{"$f":"IF($I1525=1,\" hours\",\" min\")","v":" hours"}]
[{"$f":"IF(COUNTIF($B$1:B1526,TRUE)=COUNTIF($B$1:B1525,TRUE),\"\",COUNTIF($B$1:B1526,TRUE))","v":1195},{"$f":"Worksheet!$D$11","v":true},{"$f":"RANDBETWEEN(5,RANDBETWEEN(5,Worksheet!$D$6))","v":17},"kg","±",{"$f":"IF(I1526=1,H1526*10^RANDBETWEEN(IF(Worksheet!$D$9,-1,0),0),IF(I1526=2,H1526*10^RANDBETWEEN(RANDBETWEEN(0,2),2),CHOOSE(RANDBETWEEN(1,3),5,10,20)))","v":300},{"$f":"IF(I1526=1,D1526,IF(I1526=3,\"%\",\"g\"))","v":"g"},3,{"$f":"IF(AND(Worksheet!$D$8,RAND()<0.2),3,IF(RAND()<Worksheet!$D$7/100,1,2))","v":2},{"$f":"IF(I1526=1,C1526-F1526,IF(I1526=2,C1526-F1526/1000,IF(I1526=3,(1-F1526/100)*C1526,\"\")))","v":16.7}," kg",{"$f":"J1526*1000","v":16700},"g",{"$f":"IF(I1526=1,C1526+F1526,IF(I1526=2,C1526+F1526/1000,IF(I1526=3,(1+F1526/100)*C1526,\"\")))","v":17.3},"  kg",{"$f":"N1526*1000","v":17300},"g"]
[{"$f":"IF(COUNTIF($B$1:B1527,TRUE)=COUNTIF($B$1:B1526,TRUE),\"\",COUNTIF($B$1:B1527,TRUE))","v":1196},{"$f":"Worksheet!$D$12","v":true},{"$f":"RANDBETWEEN(5,RANDBETWEEN(5,Worksheet!$D$6))","v":11},"tonnes","±",{"$f":"IF(I1527=1,H1527*10^RANDBETWEEN(IF(Worksheet!$D$9,-1,0),0),IF(I1527=2,H1527*10^RANDBETWEEN(RANDBETWEEN(0,2),2),CHOOSE(RANDBETWEEN(1,3),5,10,20)))","v":2},{"$f":"IF(I1527=1,D1527,IF(I1527=3,\"%\",\"kg\"))","v":"kg"},2,{"$f":"IF(AND(Worksheet!$D$8,RAND()<0.2),3,IF(RAND()<Worksheet!$D$7/100,1,2))","v":2},{"$f":"IF(I1527=1,C1527-F1527,IF(I1527=2,C1527-F1527/1000,IF(I1527=3,(1-F1527/100)*C1527,\"\")))","v":10.997999999999999}," tonnes",{"$f":"J1527*1000","v":10998},"kg",{"$f":"IF(I1527=1,C1527+F1527,IF(I1527=2,C1527+F1527/1000,IF(I1527=3,(1+F1527/100)*C1527,\"\")))","v":11.002000000000001},"  tonnes",{"$f":"N1527*1000","v":11002},"kg"]
[{"$f":"IF(COUNTIF($B$1:B1528,TRUE)=COUNTIF($B$1:B1527,TRUE),\"\",COUNTIF($B$1:B1528,TRUE))","v":1197},{"$f":"Worksheet!$D$13","v":true},{"$f":"RANDBETWEEN(5,RANDBETWEEN(5,Worksheet!$D$6))","v":98},"litres","±",{"$f":"IF(I1528=1,H1528*10^RANDBETWEEN(IF(Worksheet!$D$9,-1,0),0),IF(I1528=2,H1528*10^RANDBETWEEN(RANDBETWEEN(0,2),2),CHOOSE(RANDBETWEEN(1,3),5,10,20)))","v":4},{"$f":"IF(I1528=1,D1528,IF(I1528=3,\"%\",\"ml\"))","v":"litres"},4,{"$f":"IF(AND(Worksheet!$D$8,RAND()<0.2),3,IF(RAND()<Worksheet!$D$7/100,1,2))","v":1},{"$f":"IF(I1528=1,C1528-F1528,IF(I1528=2,C1528-F1528/1000,IF(I1528=3,(1-F1528/100)*C1528,\"\")))","v":94}," litres",{"$f":"J1528*1000","v":94000},"ml",{"$f":"IF(I1528=1,C1528+F1528,IF(I1528=2,C1528+F1528/1000,IF(I1528=3,(1+F1528/100)*C1528,\"\")))","v":102},"  litres",{"$f":"N1528*1000","v":102000},"ml"]
[{"$f":"IF(COUNTIF($B$1:B1529,TRUE)=COUNTIF($B$1:B1528,TRUE),\"\",COUNTIF($B$1:B1529,TRUE))","v":1198},{"$f":"Worksheet!$D$14","v":true},{"$f":"RANDBETWEEN(5,RANDBETWEEN(5,Worksheet!$D$6))","v":183},"litres","±",{"$f":"IF(I1529=1,H1529*10^RANDBETWEEN(IF(Worksheet!$D$9,-1,0),0),IF(I1529=2,H1529*10^RANDBETWEEN(RANDBETWEEN(0,2),2),CHOOSE(RANDBETWEEN(1,3),5,10,20)))","v":5},{"$f":"IF(I1529=1,D1529,IF(I1529=3,\"%\",\"cm³\"))","v":"%"},8,{"$f":"IF(AND(Worksheet!$D$8,RAND()<0.2),3,IF(RAND()<Worksheet!$D$7/100,1,2))","v":3},{"$f":"IF(I1529=1,C1529-F1529,IF(I1529=2,C1529-F1529/1000,IF(I1529=3,(1-F1529/100)*C1529,\"\")))","v":173.85}," litres",{"$f":"J1529*1000","v":173850},"cm³",{"$f":"IF(I1529=1,C1529+F1529,IF(I1529=2,C1529+F1529/1000,IF(I1529=3,(1+F1529/100)*C1529,\"\")))","v":192.15},"  litres",{"$f":"N1529*1000","v":192150},"cm³"]
[{"$f":"IF(COUNTIF($B$1:B1530,TRUE)=COUNTIF($B$1:B1529,TRUE),\"\",COUNTIF($B$1:B1530,TRUE))","v":""},{"$f":"Worksheet!$D$15","v":false},{"$f":"RANDBETWEEN(5,20)","v":6},"min","±",{"$f":"IF(I1530=1,H1530*10^RANDBETWEEN(IF(Worksheet!$D$9,-1,0),0),IF(I1530=2,H1530,CHOOSE(RANDBETWEEN(1,3),5,10,20)))","v":0.4},{"$f":"IF(I1530=1,D1530,IF(I1530=3,\"%\",\"sec\"))","v":"min"},4,{"$f":"IF(AND(Worksheet!$D$8,RAND()<0),3,IF(RAND()<Worksheet!$D$7/100,1,2))","v":1},null," min",{"$f":"IF(I1530=1,C1530-F1530,IF(I1530=2,C1530*60-F1530,\"\"))","v":5.6},{"$f":"IF($I1530=1,\" hours\",\" min\")","v":" hours"},null,"  min",{"$f":"IF(I1530=1,C1530+F1530,IF(I1530=2,C1530*60+F1530,\"\"))","v":6.4},{"$f":"IF($I1530=1,\" hours\",\" min\")","v":" hours"}]
[{"$f":"COUNTIF($B$1:B1531,TRUE)","v":1199},{"$f":"Worksheet!$B$11","v":true},{"$f":"RANDBETWEEN(5,RANDBETWEEN(5,Worksheet!$D$6))","v":19},"cm","±",{"$f":"IF(I1531=1,H1531*10^RANDBETWEEN(IF(Worksheet!$D$9,-1,0),0),IF(I1531=2,H1531,CHOOSE(RANDBETWEEN(1,3),5,10,20)))","v":0.1},{"$f":"IF(I1531=1,D1531,IF(I1531=3,\"%\",\"mm\"))","v":"cm"},{"$f":"RANDBETWEEN(1,MIN(9,C1531))","v":1},{"$f":"IF(AND(Worksheet!$D$8,RAND()<0.2),3,IF(RAND()<Worksheet!$D$7/100,1,2))","v":1},{"$f":"IF(I1531=1,C1531-F1531,IF(I1531=2,C1531-F1531/10,IF(I1531=3,(1-F1531/100)*C1531,\"\")))","v":18.899999999999999},{"$f":"CONCATENATE(\" \",D1531)","v":" cm"},{"$f":"J1531*10","v":189},"mm",{"$f":"IF(I1531=1,C1531+F1531,IF(I1531=2,C1531+F1531/10,IF(I1531=3,(1+F1531/100)*C1531,\"\")))","v":19.100000000000001},{"$f":"CONCATENATE(\" \",K1531)","v":"  cm"},{"$f":"N1531*10","v":191},"mm"]
[{"$f":"IF(COUNTIF($B$1:B1532,TRUE)=COUNTIF($B$1:B1531,TRUE),\"\",COUNTIF($B$1:B1532,TRUE))","v":1200},{"$f":"Worksheet!$B$12","v":true},{"$f":"RANDBETWEEN(5,RANDBETWEEN(5,Worksheet!$D$6))","v":221},"m","±",{"$f":"IF(I1532=1,H1532*10^RANDBETWEEN(IF(Worksheet!$D$9,-1,0),0),IF(I1532=2,H1532*10^RANDBETWEEN(RANDBETWEEN(0,1),1),CHOOSE(RANDBETWEEN(1,3),5,10,20)))","v":80},{"$f":"IF(I1532=1,D1532,IF(I1532=3,\"%\",\"cm\"))","v":"cm"},{"$f":"RANDBETWEEN(1,MIN(9,C1532))","v":8},{"$f":"IF(AND(Worksheet!$D$8,RAND()<0.2),3,IF(RAND()<Worksheet!$D$7/100,1,2))","v":2},{"$f":"IF(I1532=1,C1532-F1532,IF(I1532=2,C1532-F1532/100,IF(I1532=3,(1-F1532/100)*C1532,\"\")))","v":220.2},{"$f":"CONCATENATE(\" \",D1532)","v":" m"},{"$f":"J1532*100","v":22020},"cm",{"$f":"IF(I1532=1,C1532+F1532,IF(I1532=2,C1532+F1532/100,IF(I1532=3,(1+F1532/100)*C1532,\"\")))","v":221.8},{"$f":"CONCATENATE(\" \",K1532)","v":"  m"},{"$f":"N1532*100","v":22180},"cm"]
[{"$f":"IF(COUNTIF($B$1:B1533,TRUE)=COUNTIF($B$1:B1532,TRUE),\"\",COUNTIF($B$1:B1533,TRUE))","v":1201},{"$f":"Worksheet!$B$13","v":true},{"$f":"RANDBETWEEN(5,RANDBETWEEN(5,Worksheet!$D$6))","v":33},"km","±",{"$f":"IF(I1533=1,H1533*10^RANDBETWEEN(IF(Worksheet!$D$9,-1,0),0),IF(I1533=2,H1533*10^RANDBETWEEN(RANDBETWEEN(0,2),2),CHOOSE(RANDBETWEEN(1,3),5,10,20)))","v":1},{"$f":"IF(I1533=1,D1533,IF(I1533=3,\"%\",\"m\"))","v":"km"},1,{"$f":"IF(AND(Worksheet!$D$8,RAND()<0.2),3,IF(RAND()<Worksheet!$D$7/100,1,2))","v":1},{"$f":"IF(I1533=1,C1533-F1533,IF(I1533=2,C1533-F1533/1000,IF(I1533=3,(1-F1533/100)*C1533,\"\")))","v":32}," km",{"$f":"J1533*1000","v":32000},"m",{"$f":"IF(I1533=1,C1533+F1533,IF(I1533=2,C1533+F1533/1000,IF(I1533=3,(1+F1533/100)*C1533,\"\")))","v":34},"  km",{"$f":"N1533*1000","v":34000},"m"]
[{"$f":"IF(COUNTIF($B$1:B1534,TRUE)=COUNTIF($B$1:B1533,TRUE),\"\",COUNTIF($B$1:B1534,TRUE))","v":""},{"$f":"Worksheet!$B$14","v":false},{"$f":"RANDBETWEEN(5,RANDBETWEEN(5,Worksheet!$D$6))","v":27},"m","±",{"$f":"IF(I1534=1,H1534*10^RANDBETWEEN(IF(Worksheet!$D$9,-1,0),0),IF(I1534=2,H1534*10^RANDBETWEEN(RANDBETWEEN(0,2),2),CHOOSE(RANDBETWEEN(1,3),5,10,20)))","v":3},{"$f":"IF(I1534=1,D1534,IF(I1534=3,\"%\",\"mm\"))","v":"m"},3,{"$f":"IF(AND(Worksheet!$D$8,RAND()<0.2),3,IF(RAND()<Worksheet!$D$7/100,1,2))","v":1},{"$f":"IF(I1534=1,C1534-F1534,IF(I1534=2,C1534-F1534/1000,IF(I1534=3,(1-F1534/100)*C1534,\"\")))","v":24}," m",{"$f":"J1534*1000","v":24000},"mm",{"$f":"IF(I1534=1,C1534+F1534,IF(I1534=2,C1534+F1534/1000,IF(I1534=3,(1+F1534/100)*C1534,\"\")))","v":30},"  m",{"$f":"N1534*1000","v":30000},"mm"]
[{"$f":"IF(COUNTIF($B$1:B1535,TRUE)=COUNTIF($B$1:B1534,TRUE),\"\",COUNTIF($B$1:B1535,TRUE))","v":1202},{"$f":"Worksheet!$B$15","v":true},{"$f":"RANDBETWEEN(5,20)","v":5},"hours","±",{"$f":"IF(I1535=1,H1535*10^RANDBETWEEN(IF(Worksheet!$D$9,-1,0),0),IF(I1535=2,H1535,CHOOSE(RANDBETWEEN(1,3),5,10,20)))","v":1},{"$f":"IF(I1535=1,D1535,IF(I1535=3,\"%\",\"min\"))","v":"hours"},1,{"$f":"IF(AND(Worksheet!$D$8,RAND()<0),3,IF(RAND()<Worksheet!$D$7/100,1,2))","v":1},null," hours",{"$f":"IF(I1535=1,C1535-F1535,IF(I1535=2,C1535*60-F1535,\"\"))","v":4},{"$f":"IF($I1535=1,\" hours\",\" min\")","v":" hours"},null,"  hours",{"$f":"IF(I1535=1,C1535+F1535,IF(I1535=2,C1535*60+F1535,\"\"))","v":6},{"$f":"IF($I1535=1,\" hours\",\" min\")","v":" hours"}]
[{"$f":"IF(COUNTIF($B$1:B1536,TRUE)=COUNTIF($B$1:B1535,TRUE),\"\",COUNTIF($B$1:B1536,TRUE))","v":1203},{"$f":"Worksheet!$D$11","v":true},{"$f":"RANDBETWEEN(5,RANDBETWEEN(5,Worksheet!$D$6))","v":268},"kg","±",{"$f":"IF(I1536=1,H1536*10^RANDBETWEEN(IF(Worksheet!$D$9,-1,0),0),IF(I1536=2,H1536*10^RANDBETWEEN(RANDBETWEEN(0,2),2),CHOOSE(RANDBETWEEN(1,3),5,10,20)))","v":700},{"$f":"IF(I1536=1,D1536,IF(I1536=3,\"%\",\"g\"))","v":"g"},7,{"$f":"IF(AND(Worksheet!$D$8,RAND()<0.2),3,IF(RAND()<Worksheet!$D$7/100,1,2))","v":2},{"$f":"IF(I1536=1,C1536-F1536,IF(I1536=2,C1536-F1536/1000,IF(I1536=3,(1-F1536/100)*C1536,\"\")))","v":267.3}," kg",{"$f":"J1536*1000","v":267300},"g",{"$f":"IF(I1536=1,C1536+F1536,IF(I1536=2,C1536+F1536/1000,IF(I1536=3,(1+F1536/100)*C1536,\"\")))","v":268.7},"  kg",{"$f":"N1536*1000","v":268700},"g"]
[{"$f":"IF(COUNTIF($B$1:B1537,TRUE)=COUNTIF($B$1:B1536,TRUE),\"\",COUNTIF($B$1:B1537,TRUE))","v":1204},{"$f":"Worksheet!$D$12","v":true},{"$f":"RANDBETWEEN(5,RANDBETWEEN(5,Worksheet!$D$6))","v":29},"tonnes","±",{"$f":"IF(I1537=1,H1537*10^RANDBETWEEN(IF(Worksheet!$D$9,-1,0),0),IF(I1537=2,H1537*10^RANDBETWEEN(RANDBETWEEN(0,2),2),CHOOSE(RANDBETWEEN(1,3),5,10,20)))","v":0.30000000000000004},{"$f":"IF(I1537=1,D1537,IF(I1537=3,\"%\",\"kg\"))","v":"tonnes"},3,{"$f":"IF(AND(Worksheet!$D$8,RAND()<0.2),3,IF(RAND()<Worksheet!$D$7/100,1,2))","v":1},{"$f":"IF(I1537=1,C1537-F1537,IF(I1537=2,C1537-F1537/1000,IF(I1537=3,(1-F1537/100)*C1537,\"\")))","v":28.7}," tonnes",{"$f":"J1537*1000","v":28700},"kg",{"$f":"IF(I1537=1,C1537+F1537,IF(I1537=2,C1537+F1537/1000,IF(I1537=3,(1+F1537/100)*C1537,\"\")))","v":29.3},"  tonnes",{"$f":"N1537*1000","v":29300},"kg"]
[{"$f":"IF(COUNTIF($B$1:B1538,TRUE)=COUNTIF($B$1:B1537,TRUE),\"\",COUNTIF($B$1:B1538,TRUE))","v":1205},{"$f":"Worksheet!$D$13","v":true},{"$f":"RANDBETWEEN(5,RANDBETWEEN(5,Worksheet!$D$6))","v":117},"litres","±",{"$f":"IF(I1538=1,H1538*10^RANDBETWEEN(IF(Worksheet!$D$9,-1,0),0),IF(I1538=2,H1538*10^RANDBETWEEN(RANDBETWEEN(0,2),2),CHOOSE(RANDBETWEEN(1,3),5,10,20)))","v":6},{"$f":"IF(I1538=1,D1538,IF(I1538=3,\"%\",\"ml\"))","v":"litres"},6,{"$f":"IF(AND(Worksheet!$D$8,RAND()<0.2),3,IF(RAND()<Worksheet!$D$7/100,1,2))","v":1},{"$f":"IF(I1538=1,C1538-F1538,IF(I1538=2,C1538-F1538/1000,IF(I1538=3,(1-F1538/100)*C1538,\"\")))","v":111}," litres",{"$f":"J1538*1000","v":111000},"ml",{"$f":"IF(I1538=1,C1538+F1538,IF(I1538=2,C1538+F1538/1000,IF(I1538=3,(1+F1538/100)*C1538,\"\")))","v":123},"  litres",{"$f":"N1538*1000","v":123000},"ml"]
[{"$f":"IF(COUNTIF($B$1:B1539,TRUE)=COUNTIF($B$1:B1538,TRUE),\"\",COUNTIF($B$1:B1539,TRUE))","v":1206},{"$f":"Worksheet!$D$14","v":true},{"$f":"RANDBETWEEN(5,RANDBETWEEN(5,Worksheet!$D$6))","v":116},"litres","±",{"$f":"IF(I1539=1,H1539*10^RANDBETWEEN(IF(Worksheet!$D$9,-1,0),0),IF(I1539=2,H1539*10^RANDBETWEEN(RANDBETWEEN(0,2),2),CHOOSE(RANDBETWEEN(1,3),5,10,20)))","v":0.9},{"$f":"IF(I1539=1,D1539,IF(I1539=3,\"%\",\"cm³\"))","v":"litres"},9,{"$f":"IF(AND(Worksheet!$D$8,RAND()<0.2),3,IF(RAND()<Worksheet!$D$7/100,1,2))","v":1},{"$f":"IF(I1539=1,C1539-F1539,IF(I1539=2,C1539-F1539/1000,IF(I1539=3,(1-F1539/100)*C1539,\"\")))","v":115.1}," litres",{"$f":"J1539*1000","v":115100},"cm³",{"$f":"IF(I1539=1,C1539+F1539,IF(I1539=2,C1539+F1539/1000,IF(I1539=3,(1+F1539/100)*C1539,\"\")))","v":116.9},"  litres",{"$f":"N1539*1000","v":116900},"cm³"]
[{"$f":"IF(COUNTIF($B$1:B1540,TRUE)=COUNTIF($B$1:B1539,TRUE),\"\",COUNTIF($B$1:B1540,TRUE))","v":""},{"$f":"Worksheet!$D$15","v":false},{"$f":"RANDBETWEEN(5,20)","v":18},"min","±",{"$f":"IF(I1540=1,H1540*10^RANDBETWEEN(IF(Worksheet!$D$9,-1,0),0),IF(I1540=2,H1540,CHOOSE(RANDBETWEEN(1,3),5,10,20)))","v":1},{"$f":"IF(I1540=1,D1540,IF(I1540=3,\"%\",\"sec\"))","v":"min"},1,{"$f":"IF(AND(Worksheet!$D$8,RAND()<0),3,IF(RAND()<Worksheet!$D$7/100,1,2))","v":1},null," min",{"$f":"IF(I1540=1,C1540-F1540,IF(I1540=2,C1540*60-F1540,\"\"))","v":17},{"$f":"IF($I1540=1,\" hours\",\" min\")","v":" hours"},null,"  min",{"$f":"IF(I1540=1,C1540+F1540,IF(I1540=2,C1540*60+F1540,\"\"))","v":19},{"$f":"IF($I1540=1,\" hours\",\" min\")","v":" hours"}]
[{"$f":"COUNTIF($B$1:B1541,TRUE)","v":1207},{"$f":"Worksheet!$B$11","v":true},{"$f":"RANDBETWEEN(5,RANDBETWEEN(5,Worksheet!$D$6))","v":38},"cm","±",{"$f":"IF(I1541=1,H1541*10^RANDBETWEEN(IF(Worksheet!$D$9,-1,0),0),IF(I1541=2,H1541,CHOOSE(RANDBETWEEN(1,3),5,10,20)))","v":2},{"$f":"IF(I1541=1,D1541,IF(I1541=3,\"%\",\"mm\"))","v":"mm"},{"$f":"RANDBETWEEN(1,MIN(9,C1541))","v":2},{"$f":"IF(AND(Worksheet!$D$8,RAND()<0.2),3,IF(RAND()<Worksheet!$D$7/100,1,2))","v":2},{"$f":"IF(I1541=1,C1541-F1541,IF(I1541=2,C1541-F1541/10,IF(I1541=3,(1-F1541/100)*C1541,\"\")))","v":37.799999999999997},{"$f":"CONCATENATE(\" \",D1541)","v":" cm"},{"$f":"J1541*10","v":378},"mm",{"$f":"IF(I1541=1,C1541+F1541,IF(I1541=2,C1541+F1541/10,IF(I1541=3,(1+F1541/100)*C1541,\"\")))","v":38.200000000000003},{"$f":"CONCATENATE(\" \",K1541)","v":"  cm"},{"$f":"N1541*10","v":382},"mm"]
[{"$f":"IF(COUNTIF($B$1:B1542,TRUE)=COUNTIF($B$1:B1541,TRUE),\"\",COUNTIF($B$1:B1542,TRUE))","v":1208},{"$f":"Worksheet!$B$12","v":true},{"$f":"RANDBETWEEN(5,RANDBETWEEN(5,Worksheet!$D$6))","v":128},"m","±",{"$f":"IF(I1542=1,H1542*10^RANDBETWEEN(IF(Worksheet!$D$9,-1,0),0),IF(I1542=2,H1542*10^RANDBETWEEN(RANDBETWEEN(0,1),1),CHOOSE(RANDBETWEEN(1,3),5,10,20)))","v":0.4},{"$f":"IF(I1542=1,D1542,IF(I1542=3,\"%\",\"cm\"))","v":"m"},{"$f":"RANDBETWEEN(1,MIN(9,C1542))","v":4},{"$f":"IF(AND(Worksheet!$D$8,RAND()<0.2),3,IF(RAND()<Worksheet!$D$7/100,1,2))","v":1},{"$f":"IF(I1542=1,C1542-F1542,IF(I1542=2,C1542-F1542/100,IF(I1542=3,(1-F1542/100)*C1542,\"\")))","v":127.6},{"$f":"CONCATENATE(\" \",D1542)","v":" m"},{"$f":"J1542*100","v":12760},"cm",{"$f":"IF(I1542=1,C1542+F1542,IF(I1542=2,C1542+F1542/100,IF(I1542=3,(1+F1542/100)*C1542,\"\")))","v":128.4},{"$f":"CONCATENATE(\" \",K1542)","v":"  m"},{"$f":"N1542*100","v":12840},"cm"]
[{"$f":"IF(COUNTIF($B$1:B1543,TRUE)=COUNTIF($B$1:B1542,TRUE),\"\",COUNTIF($B$1:B1543,TRUE))","v":1209},{"$f":"Worksheet!$B$13","v":true},{"$f":"RANDBETWEEN(5,RANDBETWEEN(5,Worksheet!$D$6))","v":171},"km","±",{"$f":"IF(I1543=1,H1543*10^RANDBETWEEN(IF(Worksheet!$D$9,-1,0),0),IF(I1543=2,H1543*10^RANDBETWEEN(RANDBETWEEN(0,2),2),CHOOSE(RANDBETWEEN(1,3),5,10,20)))","v":10},{"$f":"IF(I1543=1,D1543,IF(I1543=3,\"%\",\"m\"))","v":"%"},9,{"$f":"IF(AND(Worksheet!$D$8,RAND()<0.2),3,IF(RAND()<Worksheet!$D$7/100,1,2))","v":3},{"$f":"IF(I1543=1,C1543-F1543,IF(I1543=2,C1543-F1543/1000,IF(I1543=3,(1-F1543/100)*C1543,\"\")))","v":153.9}," km",{"$f":"J1543*1000","v":153900},"m",{"$f":"IF(I1543=1,C1543+F1543,IF(I1543=2,C1543+F1543/1000,IF(I1543=3,(1+F1543/100)*C1543,\"\")))","v":188.10000000000002},"  km",{"$f":"N1543*1000","v":188100.00000000003},"m"]
[{"$f":"IF(COUNTIF($B$1:B1544,TRUE)=COUNTIF($B$1:B1543,TRUE),\"\",COUNTIF($B$1:B1544,TRUE))","v":""},{"$f":"Worksheet!$B$14","v":false},{"$f":"RANDBETWEEN(5,RANDBETWEEN(5,Worksheet!$D$6))","v":9},"m","±",{"$f":"IF(I1544=1,H1544*10^RANDBETWEEN(IF(Worksheet!$D$9,-1,0),0),IF(I1544=2,H1544*10^RANDBETWEEN(RANDBETWEEN(0,2),2),CHOOSE(RANDBETWEEN(1,3),5,10,20)))","v":0.30000000000000004},{"$f":"IF(I1544=1,D1544,IF(I1544=3,\"%\",\"mm\"))","v":"m"},3,{"$f":"IF(AND(Worksheet!$D$8,RAND()<0.2),3,IF(RAND()<Worksheet!$D$7/100,1,2))","v":1},{"$f":"IF(I1544=1,C1544-F1544,IF(I1544=2,C1544-F1544/1000,IF(I1544=3,(1-F1544/100)*C1544,\"\")))","v":8.6999999999999993}," m",{"$f":"J1544*1000","v":8700},"mm",{"$f":"IF(I1544=1,C1544+F1544,IF(I1544=2,C1544+F1544/1000,IF(I1544=3,(1+F1544/100)*C1544,\"\")))","v":9.3000000000000007},"  m",{"$f":"N1544*1000","v":9300},"mm"]
[{"$f":"IF(COUNTIF($B$1:B1545,TRUE)=COUNTIF($B$1:B1544,TRUE),\"\",COUNTIF($B$1:B1545,TRUE))","v":1210},{"$f":"Worksheet!$B$15","v":true},{"$f":"RANDBETWEEN(5,20)","v":14},"hours","±",{"$f":"IF(I1545=1,H1545*10^RANDBETWEEN(IF(Worksheet!$D$9,-1,0),0),IF(I1545=2,H1545,CHOOSE(RANDBETWEEN(1,3),5,10,20)))","v":0.9},{"$f":"IF(I1545=1,D1545,IF(I1545=3,\"%\",\"min\"))","v":"hours"},9,{"$f":"IF(AND(Worksheet!$D$8,RAND()<0),3,IF(RAND()<Worksheet!$D$7/100,1,2))","v":1},null," hours",{"$f":"IF(I1545=1,C1545-F1545,IF(I1545=2,C1545*60-F1545,\"\"))","v":13.1},{"$f":"IF($I1545=1,\" hours\",\" min\")","v":" hours"},null,"  hours",{"$f":"IF(I1545=1,C1545+F1545,IF(I1545=2,C1545*60+F1545,\"\"))","v":14.9},{"$f":"IF($I1545=1,\" hours\",\" min\")","v":" hours"}]
[{"$f":"IF(COUNTIF($B$1:B1546,TRUE)=COUNTIF($B$1:B1545,TRUE),\"\",COUNTIF($B$1:B1546,TRUE))","v":1211},{"$f":"Worksheet!$D$11","v":true},{"$f":"RANDBETWEEN(5,RANDBETWEEN(5,Worksheet!$D$6))","v":41},"kg","±",{"$f":"IF(I1546=1,H1546*10^RANDBETWEEN(IF(Worksheet!$D$9,-1,0),0),IF(I1546=2,H1546*10^RANDBETWEEN(RANDBETWEEN(0,2),2),CHOOSE(RANDBETWEEN(1,3),5,10,20)))","v":0.5},{"$f":"IF(I1546=1,D1546,IF(I1546=3,\"%\",\"g\"))","v":"kg"},5,{"$f":"IF(AND(Worksheet!$D$8,RAND()<0.2),3,IF(RAND()<Worksheet!$D$7/100,1,2))","v":1},{"$f":"IF(I1546=1,C1546-F1546,IF(I1546=2,C1546-F1546/1000,IF(I1546=3,(1-F1546/100)*C1546,\"\")))","v":40.5}," kg",{"$f":"J1546*1000","v":40500},"g",{"$f":"IF(I1546=1,C1546+F1546,IF(I1546=2,C1546+F1546/1000,IF(I1546=3,(1+F1546/100)*C1546,\"\")))","v":41.5},"  kg",{"$f":"N1546*1000","v":41500},"g"]
[{"$f":"IF(COUNTIF($B$1:B1547,TRUE)=COUNTIF($B$1:B1546,TRUE),\"\",COUNTIF($B$1:B1547,TRUE))","v":1212},{"$f":"Worksheet!$D$12","v":true},{"$f":"RANDBETWEEN(5,RANDBETWEEN(5,Worksheet!$D$6))","v":160},"tonnes","±",{"$f":"IF(I1547=1,H1547*10^RANDBETWEEN(IF(Worksheet!$D$9,-1,0),0),IF(I1547=2,H1547*10^RANDBETWEEN(RANDBETWEEN(0,2),2),CHOOSE(RANDBETWEEN(1,3),5,10,20)))","v":5},{"$f":"IF(I1547=1,D1547,IF(I1547=3,\"%\",\"kg\"))","v":"%"},7,{"$f":"IF(AND(Worksheet!$D$8,RAND()<0.2),3,IF(RAND()<Worksheet!$D$7/100,1,2))","v":3},{"$f":"IF(I1547=1,C1547-F1547,IF(I1547=2,C1547-F1547/1000,IF(I1547=3,(1-F1547/100)*C1547,\"\")))","v":152}," tonnes",{"$f":"J1547*1000","v":152000},"kg",{"$f":"IF(I1547=1,C1547+F1547,IF(I1547=2,C1547+F1547/1000,IF(I1547=3,(1+F1547/100)*C1547,\"\")))","v":168},"  tonnes",{"$f":"N1547*1000","v":168000},"kg"]
[{"$f":"IF(COUNTIF($B$1:B1548,TRUE)=COUNTIF($B$1:B1547,TRUE),\"\",COUNTIF($B$1:B1548,TRUE))","v":1213},{"$f":"Worksheet!$D$13","v":true},{"$f":"RANDBETWEEN(5,RANDBETWEEN(5,Worksheet!$D$6))","v":38},"litres","±",{"$f":"IF(I1548=1,H1548*10^RANDBETWEEN(IF(Worksheet!$D$9,-1,0),0),IF(I1548=2,H1548*10^RANDBETWEEN(RANDBETWEEN(0,2),2),CHOOSE(RANDBETWEEN(1,3),5,10,20)))","v":500},{"$f":"IF(I1548=1,D1548,IF(I1548=3,\"%\",\"ml\"))","v":"ml"},5,{"$f":"IF(AND(Worksheet!$D$8,RAND()<0.2),3,IF(RAND()<Worksheet!$D$7/100,1,2))","v":2},{"$f":"IF(I1548=1,C1548-F1548,IF(I1548=2,C1548-F1548/1000,IF(I1548=3,(1-F1548/100)*C1548,\"\")))","v":37.5}," litres",{"$f":"J1548*1000","v":37500},"ml",{"$f":"IF(I1548=1,C1548+F1548,IF(I1548=2,C1548+F1548/1000,IF(I1548=3,(1+F1548/100)*C1548,\"\")))","v":38.5},"  litres",{"$f":"N1548*1000","v":38500},"ml"]
[{"$f":"IF(COUNTIF($B$1:B1549,TRUE)=COUNTIF($B$1:B1548,TRUE),\"\",COUNTIF($B$1:B1549,TRUE))","v":1214},{"$f":"Worksheet!$D$14","v":true},{"$f":"RANDBETWEEN(5,RANDBETWEEN(5,Worksheet!$D$6))","v":93},"litres","±",{"$f":"IF(I1549=1,H1549*10^RANDBETWEEN(IF(Worksheet!$D$9,-1,0),0),IF(I1549=2,H1549*10^RANDBETWEEN(RANDBETWEEN(0,2),2),CHOOSE(RANDBETWEEN(1,3),5,10,20)))","v":0.9},{"$f":"IF(I1549=1,D1549,IF(I1549=3,\"%\",\"cm³\"))","v":"litres"},9,{"$f":"IF(AND(Worksheet!$D$8,RAND()<0.2),3,IF(RAND()<Worksheet!$D$7/100,1,2))","v":1},{"$f":"IF(I1549=1,C1549-F1549,IF(I1549=2,C1549-F1549/1000,IF(I1549=3,(1-F1549/100)*C1549,\"\")))","v":92.1}," litres",{"$f":"J1549*1000","v":92100},"cm³",{"$f":"IF(I1549=1,C1549+F1549,IF(I1549=2,C1549+F1549/1000,IF(I1549=3,(1+F1549/100)*C1549,\"\")))","v":93.9},"  litres",{"$f":"N1549*1000","v":93900},"cm³"]
[{"$f":"IF(COUNTIF($B$1:B1550,TRUE)=COUNTIF($B$1:B1549,TRUE),\"\",COUNTIF($B$1:B1550,TRUE))","v":""},{"$f":"Worksheet!$D$15","v":false},{"$f":"RANDBETWEEN(5,20)","v":19},"min","±",{"$f":"IF(I1550=1,H1550*10^RANDBETWEEN(IF(Worksheet!$D$9,-1,0),0),IF(I1550=2,H1550,CHOOSE(RANDBETWEEN(1,3),5,10,20)))","v":0.2},{"$f":"IF(I1550=1,D1550,IF(I1550=3,\"%\",\"sec\"))","v":"min"},2,{"$f":"IF(AND(Worksheet!$D$8,RAND()<0),3,IF(RAND()<Worksheet!$D$7/100,1,2))","v":1},null," min",{"$f":"IF(I1550=1,C1550-F1550,IF(I1550=2,C1550*60-F1550,\"\"))","v":18.8},{"$f":"IF($I1550=1,\" hours\",\" min\")","v":" hours"},null,"  min",{"$f":"IF(I1550=1,C1550+F1550,IF(I1550=2,C1550*60+F1550,\"\"))","v":19.2},{"$f":"IF($I1550=1,\" hours\",\" min\")","v":" hours"}]
[{"$f":"COUNTIF($B$1:B1551,TRUE)","v":1215},{"$f":"Worksheet!$B$11","v":true},{"$f":"RANDBETWEEN(5,RANDBETWEEN(5,Worksheet!$D$6))","v":192},"cm","±",{"$f":"IF(I1551=1,H1551*10^RANDBETWEEN(IF(Worksheet!$D$9,-1,0),0),IF(I1551=2,H1551,CHOOSE(RANDBETWEEN(1,3),5,10,20)))","v":5},{"$f":"IF(I1551=1,D1551,IF(I1551=3,\"%\",\"mm\"))","v":"%"},{"$f":"RANDBETWEEN(1,MIN(9,C1551))","v":8},{"$f":"IF(AND(Worksheet!$D$8,RAND()<0.2),3,IF(RAND()<Worksheet!$D$7/100,1,2))","v":3},{"$f":"IF(I1551=1,C1551-F1551,IF(I1551=2,C1551-F1551/10,IF(I1551=3,(1-F1551/100)*C1551,\"\")))","v":182.39999999999998},{"$f":"CONCATENATE(\" \",D1551)","v":" cm"},{"$f":"J1551*10","v":1823.9999999999998},"mm",{"$f":"IF(I1551=1,C1551+F1551,IF(I1551=2,C1551+F1551/10,IF(I1551=3,(1+F1551/100)*C1551,\"\")))","v":201.60000000000002},{"$f":"CONCATENATE(\" \",K1551)","v":"  cm"},{"$f":"N1551*10","v":2016.0000000000002},"mm"]
[{"$f":"IF(COUNTIF($B$1:B1552,TRUE)=COUNTIF($B$1:B1551,TRUE),\"\",COUNTIF($B$1:B1552,TRUE))","v":1216},{"$f":"Worksheet!$B$12","v":true},{"$f":"RANDBETWEEN(5,RANDBETWEEN(5,Worksheet!$D$6))","v":181},"m","±",{"$f":"IF(I1552=1,H1552*10^RANDBETWEEN(IF(Worksheet!$D$9,-1,0),0),IF(I1552=2,H1552*10^RANDBETWEEN(RANDBETWEEN(0,1),1),CHOOSE(RANDBETWEEN(1,3),5,10,20)))","v":7},{"$f":"IF(I1552=1,D1552,IF(I1552=3,\"%\",\"cm\"))","v":"m"},{"$f":"RANDBETWEEN(1,MIN(9,C1552))","v":7},{"$f":"IF(AND(Worksheet!$D$8,RAND()<0.2),3,IF(RAND()<Worksheet!$D$7/100,1,2))","v":1},{"$f":"IF(I1552=1,C1552-F1552,IF(I1552=2,C1552-F1552/100,IF(I1552=3,(1-F1552/100)*C1552,\"\")))","v":174},{"$f":"CONCATENATE(\" \",D1552)","v":" m"},{"$f":"J1552*100","v":17400},"cm",{"$f":"IF(I1552=1,C1552+F1552,IF(I1552=2,C1552+F1552/100,IF(I1552=3,(1+F1552/100)*C1552,\"\")))","v":188},{"$f":"CONCATENATE(\" \",K1552)","v":"  m"},{"$f":"N1552*100","v":18800},"cm"]
[{"$f":"IF(COUNTIF($B$1:B1553,TRUE)=COUNTIF($B$1:B1552,TRUE),\"\",COUNTIF($B$1:B1553,TRUE))","v":1217},{"$f":"Worksheet!$B$13","v":true},{"$f":"RANDBETWEEN(5,RANDBETWEEN(5,Worksheet!$D$6))","v":92},"km","±",{"$f":"IF(I1553=1,H1553*10^RANDBETWEEN(IF(Worksheet!$D$9,-1,0),0),IF(I1553=2,H1553*10^RANDBETWEEN(RANDBETWEEN(0,2),2),CHOOSE(RANDBETWEEN(1,3),5,10,20)))","v":0.60000000000000009},{"$f":"IF(I1553=1,D1553,IF(I1553=3,\"%\",\"m\"))","v":"km"},6,{"$f":"IF(AND(Worksheet!$D$8,RAND()<0.2),3,IF(RAND()<Worksheet!$D$7/100,1,2))","v":1},{"$f":"IF(I1553=1,C1553-F1553,IF(I1553=2,C1553-F1553/1000,IF(I1553=3,(1-F1553/100)*C1553,\"\")))","v":91.4}," km",{"$f":"J1553*1000","v":91400},"m",{"$f":"IF(I1553=1,C1553+F1553,IF(I1553=2,C1553+F1553/1000,IF(I1553=3,(1+F1553/100)*C1553,\"\")))","v":92.6},"  km",{"$f":"N1553*1000","v":92600},"m"]
[{"$f":"IF(COUNTIF($B$1:B1554,TRUE)=COUNTIF($B$1:B1553,TRUE),\"\",COUNTIF($B$1:B1554,TRUE))","v":""},{"$f":"Worksheet!$B$14","v":false},{"$f":"RANDBETWEEN(5,RANDBETWEEN(5,Worksheet!$D$6))","v":308},"m","±",{"$f":"IF(I1554=1,H1554*10^RANDBETWEEN(IF(Worksheet!$D$9,-1,0),0),IF(I1554=2,H1554*10^RANDBETWEEN(RANDBETWEEN(0,2),2),CHOOSE(RANDBETWEEN(1,3),5,10,20)))","v":2},{"$f":"IF(I1554=1,D1554,IF(I1554=3,\"%\",\"mm\"))","v":"m"},2,{"$f":"IF(AND(Worksheet!$D$8,RAND()<0.2),3,IF(RAND()<Worksheet!$D$7/100,1,2))","v":1},{"$f":"IF(I1554=1,C1554-F1554,IF(I1554=2,C1554-F1554/1000,IF(I1554=3,(1-F1554/100)*C1554,\"\")))","v":306}," m",{"$f":"J1554*1000","v":306000},"mm",{"$f":"IF(I1554=1,C1554+F1554,IF(I1554=2,C1554+F1554/1000,IF(I1554=3,(1+F1554/100)*C1554,\"\")))","v":310},"  m",{"$f":"N1554*1000","v":310000},"mm"]
[{"$f":"IF(COUNTIF($B$1:B1555,TRUE)=COUNTIF($B$1:B1554,TRUE),\"\",COUNTIF($B$1:B1555,TRUE))","v":1218},{"$f":"Worksheet!$B$15","v":true},{"$f":"RANDBETWEEN(5,20)","v":17},"hours","±",{"$f":"IF(I1555=1,H1555*10^RANDBETWEEN(IF(Worksheet!$D$9,-1,0),0),IF(I1555=2,H1555,CHOOSE(RANDBETWEEN(1,3),5,10,20)))","v":6},{"$f":"IF(I1555=1,D1555,IF(I1555=3,\"%\",\"min\"))","v":"hours"},6,{"$f":"IF(AND(Worksheet!$D$8,RAND()<0),3,IF(RAND()<Worksheet!$D$7/100,1,2))","v":1},null," hours",{"$f":"IF(I1555=1,C1555-F1555,IF(I1555=2,C1555*60-F1555,\"\"))","v":11},{"$f":"IF($I1555=1,\" hours\",\" min\")","v":" hours"},null,"  hours",{"$f":"IF(I1555=1,C1555+F1555,IF(I1555=2,C1555*60+F1555,\"\"))","v":23},{"$f":"IF($I1555=1,\" hours\",\" min\")","v":" hours"}]
[{"$f":"IF(COUNTIF($B$1:B1556,TRUE)=COUNTIF($B$1:B1555,TRUE),\"\",COUNTIF($B$1:B1556,TRUE))","v":1219},{"$f":"Worksheet!$D$11","v":true},{"$f":"RANDBETWEEN(5,RANDBETWEEN(5,Worksheet!$D$6))","v":187},"kg","±",{"$f":"IF(I1556=1,H1556*10^RANDBETWEEN(IF(Worksheet!$D$9,-1,0),0),IF(I1556=2,H1556*10^RANDBETWEEN(RANDBETWEEN(0,2),2),CHOOSE(RANDBETWEEN(1,3),5,10,20)))","v":0.9},{"$f":"IF(I1556=1,D1556,IF(I1556=3,\"%\",\"g\"))","v":"kg"},9,{"$f":"IF(AND(Worksheet!$D$8,RAND()<0.2),3,IF(RAND()<Worksheet!$D$7/100,1,2))","v":1},{"$f":"IF(I1556=1,C1556-F1556,IF(I1556=2,C1556-F1556/1000,IF(I1556=3,(1-F1556/100)*C1556,\"\")))","v":186.1}," kg",{"$f":"J1556*1000","v":186100},"g",{"$f":"IF(I1556=1,C1556+F1556,IF(I1556=2,C1556+F1556/1000,IF(I1556=3,(1+F1556/100)*C1556,\"\")))","v":187.9},"  kg",{"$f":"N1556*1000","v":187900},"g"]
[{"$f":"IF(COUNTIF($B$1:B1557,TRUE)=COUNTIF($B$1:B1556,TRUE),\"\",COUNTIF($B$1:B1557,TRUE))","v":1220},{"$f":"Worksheet!$D$12","v":true},{"$f":"RANDBETWEEN(5,RANDBETWEEN(5,Worksheet!$D$6))","v":52},"tonnes","±",{"$f":"IF(I1557=1,H1557*10^RANDBETWEEN(IF(Worksheet!$D$9,-1,0),0),IF(I1557=2,H1557*10^RANDBETWEEN(RANDBETWEEN(0,2),2),CHOOSE(RANDBETWEEN(1,3),5,10,20)))","v":2},{"$f":"IF(I1557=1,D1557,IF(I1557=3,\"%\",\"kg\"))","v":"tonnes"},2,{"$f":"IF(AND(Worksheet!$D$8,RAND()<0.2),3,IF(RAND()<Worksheet!$D$7/100,1,2))","v":1},{"$f":"IF(I1557=1,C1557-F1557,IF(I1557=2,C1557-F1557/1000,IF(I1557=3,(1-F1557/100)*C1557,\"\")))","v":50}," tonnes",{"$f":"J1557*1000","v":50000},"kg",{"$f":"IF(I1557=1,C1557+F1557,IF(I1557=2,C1557+F1557/1000,IF(I1557=3,(1+F1557/100)*C1557,\"\")))","v":54},"  tonnes",{"$f":"N1557*1000","v":54000},"kg"]
[{"$f":"IF(COUNTIF($B$1:B1558,TRUE)=COUNTIF($B$1:B1557,TRUE),\"\",COUNTIF($B$1:B1558,TRUE))","v":1221},{"$f":"Worksheet!$D$13","v":true},{"$f":"RANDBETWEEN(5,RANDBETWEEN(5,Worksheet!$D$6))","v":57},"litres","±",{"$f":"IF(I1558=1,H1558*10^RANDBETWEEN(IF(Worksheet!$D$9,-1,0),0),IF(I1558=2,H1558*10^RANDBETWEEN(RANDBETWEEN(0,2),2),CHOOSE(RANDBETWEEN(1,3),5,10,20)))","v":10},{"$f":"IF(I1558=1,D1558,IF(I1558=3,\"%\",\"ml\"))","v":"%"},5,{"$f":"IF(AND(Worksheet!$D$8,RAND()<0.2),3,IF(RAND()<Worksheet!$D$7/100,1,2))","v":3},{"$f":"IF(I1558=1,C1558-F1558,IF(I1558=2,C1558-F1558/1000,IF(I1558=3,(1-F1558/100)*C1558,\"\")))","v":51.300000000000004}," litres",{"$f":"J1558*1000","v":51300.000000000007},"ml",{"$f":"IF(I1558=1,C1558+F1558,IF(I1558=2,C1558+F1558/1000,IF(I1558=3,(1+F1558/100)*C1558,\"\")))","v":62.7},"  litres",{"$f":"N1558*1000","v":62700},"ml"]
[{"$f":"IF(COUNTIF($B$1:B1559,TRUE)=COUNTIF($B$1:B1558,TRUE),\"\",COUNTIF($B$1:B1559,TRUE))","v":1222},{"$f":"Worksheet!$D$14","v":true},{"$f":"RANDBETWEEN(5,RANDBETWEEN(5,Worksheet!$D$6))","v":122},"litres","±",{"$f":"IF(I1559=1,H1559*10^RANDBETWEEN(IF(Worksheet!$D$9,-1,0),0),IF(I1559=2,H1559*10^RANDBETWEEN(RANDBETWEEN(0,2),2),CHOOSE(RANDBETWEEN(1,3),5,10,20)))","v":0.30000000000000004},{"$f":"IF(I1559=1,D1559,IF(I1559=3,\"%\",\"cm³\"))","v":"litres"},3,{"$f":"IF(AND(Worksheet!$D$8,RAND()<0.2),3,IF(RAND()<Worksheet!$D$7/100,1,2))","v":1},{"$f":"IF(I1559=1,C1559-F1559,IF(I1559=2,C1559-F1559/1000,IF(I1559=3,(1-F1559/100)*C1559,\"\")))","v":121.7}," litres",{"$f":"J1559*1000","v":121700},"cm³",{"$f":"IF(I1559=1,C1559+F1559,IF(I1559=2,C1559+F1559/1000,IF(I1559=3,(1+F1559/100)*C1559,\"\")))","v":122.3},"  litres",{"$f":"N1559*1000","v":122300},"cm³"]
[{"$f":"IF(COUNTIF($B$1:B1560,TRUE)=COUNTIF($B$1:B1559,TRUE),\"\",COUNTIF($B$1:B1560,TRUE))","v":""},{"$f":"Worksheet!$D$15","v":false},{"$f":"RANDBETWEEN(5,20)","v":17},"min","±",{"$f":"IF(I1560=1,H1560*10^RANDBETWEEN(IF(Worksheet!$D$9,-1,0),0),IF(I1560=2,H1560,CHOOSE(RANDBETWEEN(1,3),5,10,20)))","v":8},{"$f":"IF(I1560=1,D1560,IF(I1560=3,\"%\",\"sec\"))","v":"min"},8,{"$f":"IF(AND(Worksheet!$D$8,RAND()<0),3,IF(RAND()<Worksheet!$D$7/100,1,2))","v":1},null," min",{"$f":"IF(I1560=1,C1560-F1560,IF(I1560=2,C1560*60-F1560,\"\"))","v":9},{"$f":"IF($I1560=1,\" hours\",\" min\")","v":" hours"},null,"  min",{"$f":"IF(I1560=1,C1560+F1560,IF(I1560=2,C1560*60+F1560,\"\"))","v":25},{"$f":"IF($I1560=1,\" hours\",\" min\")","v":" hours"}]
[{"$f":"COUNTIF($B$1:B1561,TRUE)","v":1223},{"$f":"Worksheet!$B$11","v":true},{"$f":"RANDBETWEEN(5,RANDBETWEEN(5,Worksheet!$D$6))","v":124},"cm","±",{"$f":"IF(I1561=1,H1561*10^RANDBETWEEN(IF(Worksheet!$D$9,-1,0),0),IF(I1561=2,H1561,CHOOSE(RANDBETWEEN(1,3),5,10,20)))","v":10},{"$f":"IF(I1561=1,D1561,IF(I1561=3,\"%\",\"mm\"))","v":"%"},{"$f":"RANDBETWEEN(1,MIN(9,C1561))","v":7},{"$f":"IF(AND(Worksheet!$D$8,RAND()<0.2),3,IF(RAND()<Worksheet!$D$7/100,1,2))","v":3},{"$f":"IF(I1561=1,C1561-F1561,IF(I1561=2,C1561-F1561/10,IF(I1561=3,(1-F1561/100)*C1561,\"\")))","v":111.60000000000001},{"$f":"CONCATENATE(\" \",D1561)","v":" cm"},{"$f":"J1561*10","v":1116},"mm",{"$f":"IF(I1561=1,C1561+F1561,IF(I1561=2,C1561+F1561/10,IF(I1561=3,(1+F1561/100)*C1561,\"\")))","v":136.4},{"$f":"CONCATENATE(\" \",K1561)","v":"  cm"},{"$f":"N1561*10","v":1364},"mm"]
[{"$f":"IF(COUNTIF($B$1:B1562,TRUE)=COUNTIF($B$1:B1561,TRUE),\"\",COUNTIF($B$1:B1562,TRUE))","v":1224},{"$f":"Worksheet!$B$12","v":true},{"$f":"RANDBETWEEN(5,RANDBETWEEN(5,Worksheet!$D$6))","v":363},"m","±",{"$f":"IF(I1562=1,H1562*10^RANDBETWEEN(IF(Worksheet!$D$9,-1,0),0),IF(I1562=2,H1562*10^RANDBETWEEN(RANDBETWEEN(0,1),1),CHOOSE(RANDBETWEEN(1,3),5,10,20)))","v":0.70000000000000007},{"$f":"IF(I1562=1,D1562,IF(I1562=3,\"%\",\"cm\"))","v":"m"},{"$f":"RANDBETWEEN(1,MIN(9,C1562))","v":7},{"$f":"IF(AND(Worksheet!$D$8,RAND()<0.2),3,IF(RAND()<Worksheet!$D$7/100,1,2))","v":1},{"$f":"IF(I1562=1,C1562-F1562,IF(I1562=2,C1562-F1562/100,IF(I1562=3,(1-F1562/100)*C1562,\"\")))","v":362.3},{"$f":"CONCATENATE(\" \",D1562)","v":" m"},{"$f":"J1562*100","v":36230},"cm",{"$f":"IF(I1562=1,C1562+F1562,IF(I1562=2,C1562+F1562/100,IF(I1562=3,(1+F1562/100)*C1562,\"\")))","v":363.7},{"$f":"CONCATENATE(\" \",K1562)","v":"  m"},{"$f":"N1562*100","v":36370},"cm"]
[{"$f":"IF(COUNTIF($B$1:B1563,TRUE)=COUNTIF($B$1:B1562,TRUE),\"\",COUNTIF($B$1:B1563,TRUE))","v":1225},{"$f":"Worksheet!$B$13","v":true},{"$f":"RANDBETWEEN(5,RANDBETWEEN(5,Worksheet!$D$6))","v":226},"km","±",{"$f":"IF(I1563=1,H1563*10^RANDBETWEEN(IF(Worksheet!$D$9,-1,0),0),IF(I1563=2,H1563*10^RANDBETWEEN(RANDBETWEEN(0,2),2),CHOOSE(RANDBETWEEN(1,3),5,10,20)))","v":3},{"$f":"IF(I1563=1,D1563,IF(I1563=3,\"%\",\"m\"))","v":"km"},3,{"$f":"IF(AND(Worksheet!$D$8,RAND()<0.2),3,IF(RAND()<Worksheet!$D$7/100,1,2))","v":1},{"$f":"IF(I1563=1,C1563-F1563,IF(I1563=2,C1563-F1563/1000,IF(I1563=3,(1-F1563/100)*C1563,\"\")))","v":223}," km",{"$f":"J1563*1000","v":223000},"m",{"$f":"IF(I1563=1,C1563+F1563,IF(I1563=2,C1563+F1563/1000,IF(I1563=3,(1+F1563/100)*C1563,\"\")))","v":229},"  km",{"$f":"N1563*1000","v":229000},"m"]
[{"$f":"IF(COUNTIF($B$1:B1564,TRUE)=COUNTIF($B$1:B1563,TRUE),\"\",COUNTIF($B$1:B1564,TRUE))","v":""},{"$f":"Worksheet!$B$14","v":false},{"$f":"RANDBETWEEN(5,RANDBETWEEN(5,Worksheet!$D$6))","v":353},"m","±",{"$f":"IF(I1564=1,H1564*10^RANDBETWEEN(IF(Worksheet!$D$9,-1,0),0),IF(I1564=2,H1564*10^RANDBETWEEN(RANDBETWEEN(0,2),2),CHOOSE(RANDBETWEEN(1,3),5,10,20)))","v":0.70000000000000007},{"$f":"IF(I1564=1,D1564,IF(I1564=3,\"%\",\"mm\"))","v":"m"},7,{"$f":"IF(AND(Worksheet!$D$8,RAND()<0.2),3,IF(RAND()<Worksheet!$D$7/100,1,2))","v":1},{"$f":"IF(I1564=1,C1564-F1564,IF(I1564=2,C1564-F1564/1000,IF(I1564=3,(1-F1564/100)*C1564,\"\")))","v":352.3}," m",{"$f":"J1564*1000","v":352300},"mm",{"$f":"IF(I1564=1,C1564+F1564,IF(I1564=2,C1564+F1564/1000,IF(I1564=3,(1+F1564/100)*C1564,\"\")))","v":353.7},"  m",{"$f":"N1564*1000","v":353700},"mm"]
[{"$f":"IF(COUNTIF($B$1:B1565,TRUE)=COUNTIF($B$1:B1564,TRUE),\"\",COUNTIF($B$1:B1565,TRUE))","v":1226},{"$f":"Worksheet!$B$15","v":true},{"$f":"RANDBETWEEN(5,20)","v":12},"hours","±",{"$f":"IF(I1565=1,H1565*10^RANDBETWEEN(IF(Worksheet!$D$9,-1,0),0),IF(I1565=2,H1565,CHOOSE(RANDBETWEEN(1,3),5,10,20)))","v":9},{"$f":"IF(I1565=1,D1565,IF(I1565=3,\"%\",\"min\"))","v":"hours"},9,{"$f":"IF(AND(Worksheet!$D$8,RAND()<0),3,IF(RAND()<Worksheet!$D$7/100,1,2))","v":1},null," hours",{"$f":"IF(I1565=1,C1565-F1565,IF(I1565=2,C1565*60-F1565,\"\"))","v":3},{"$f":"IF($I1565=1,\" hours\",\" min\")","v":" hours"},null,"  hours",{"$f":"IF(I1565=1,C1565+F1565,IF(I1565=2,C1565*60+F1565,\"\"))","v":21},{"$f":"IF($I1565=1,\" hours\",\" min\")","v":" hours"}]
[{"$f":"IF(COUNTIF($B$1:B1566,TRUE)=COUNTIF($B$1:B1565,TRUE),\"\",COUNTIF($B$1:B1566,TRUE))","v":1227},{"$f":"Worksheet!$D$11","v":true},{"$f":"RANDBETWEEN(5,RANDBETWEEN(5,Worksheet!$D$6))","v":17},"kg","±",{"$f":"IF(I1566=1,H1566*10^RANDBETWEEN(IF(Worksheet!$D$9,-1,0),0),IF(I1566=2,H1566*10^RANDBETWEEN(RANDBETWEEN(0,2),2),CHOOSE(RANDBETWEEN(1,3),5,10,20)))","v":10},{"$f":"IF(I1566=1,D1566,IF(I1566=3,\"%\",\"g\"))","v":"%"},1,{"$f":"IF(AND(Worksheet!$D$8,RAND()<0.2),3,IF(RAND()<Worksheet!$D$7/100,1,2))","v":3},{"$f":"IF(I1566=1,C1566-F1566,IF(I1566=2,C1566-F1566/1000,IF(I1566=3,(1-F1566/100)*C1566,\"\")))","v":15.3}," kg",{"$f":"J1566*1000","v":15300},"g",{"$f":"IF(I1566=1,C1566+F1566,IF(I1566=2,C1566+F1566/1000,IF(I1566=3,(1+F1566/100)*C1566,\"\")))","v":18.700000000000003},"  kg",{"$f":"N1566*1000","v":18700.000000000004},"g"]
[{"$f":"IF(COUNTIF($B$1:B1567,TRUE)=COUNTIF($B$1:B1566,TRUE),\"\",COUNTIF($B$1:B1567,TRUE))","v":1228},{"$f":"Worksheet!$D$12","v":true},{"$f":"RANDBETWEEN(5,RANDBETWEEN(5,Worksheet!$D$6))","v":38},"tonnes","±",{"$f":"IF(I1567=1,H1567*10^RANDBETWEEN(IF(Worksheet!$D$9,-1,0),0),IF(I1567=2,H1567*10^RANDBETWEEN(RANDBETWEEN(0,2),2),CHOOSE(RANDBETWEEN(1,3),5,10,20)))","v":2},{"$f":"IF(I1567=1,D1567,IF(I1567=3,\"%\",\"kg\"))","v":"tonnes"},2,{"$f":"IF(AND(Worksheet!$D$8,RAND()<0.2),3,IF(RAND()<Worksheet!$D$7/100,1,2))","v":1},{"$f":"IF(I1567=1,C1567-F1567,IF(I1567=2,C1567-F1567/1000,IF(I1567=3,(1-F1567/100)*C1567,\"\")))","v":36}," tonnes",{"$f":"J1567*1000","v":36000},"kg",{"$f":"IF(I1567=1,C1567+F1567,IF(I1567=2,C1567+F1567/1000,IF(I1567=3,(1+F1567/100)*C1567,\"\")))","v":40},"  tonnes",{"$f":"N1567*1000","v":40000},"kg"]
[{"$f":"IF(COUNTIF($B$1:B1568,TRUE)=COUNTIF($B$1:B1567,TRUE),\"\",COUNTIF($B$1:B1568,TRUE))","v":1229},{"$f":"Worksheet!$D$13","v":true},{"$f":"RANDBETWEEN(5,RANDBETWEEN(5,Worksheet!$D$6))","v":15},"litres","±",{"$f":"IF(I1568=1,H1568*10^RANDBETWEEN(IF(Worksheet!$D$9,-1,0),0),IF(I1568=2,H1568*10^RANDBETWEEN(RANDBETWEEN(0,2),2),CHOOSE(RANDBETWEEN(1,3),5,10,20)))","v":0.30000000000000004},{"$f":"IF(I1568=1,D1568,IF(I1568=3,\"%\",\"ml\"))","v":"litres"},3,{"$f":"IF(AND(Worksheet!$D$8,RAND()<0.2),3,IF(RAND()<Worksheet!$D$7/100,1,2))","v":1},{"$f":"IF(I1568=1,C1568-F1568,IF(I1568=2,C1568-F1568/1000,IF(I1568=3,(1-F1568/100)*C1568,\"\")))","v":14.7}," litres",{"$f":"J1568*1000","v":14700},"ml",{"$f":"IF(I1568=1,C1568+F1568,IF(I1568=2,C1568+F1568/1000,IF(I1568=3,(1+F1568/100)*C1568,\"\")))","v":15.3},"  litres",{"$f":"N1568*1000","v":15300},"ml"]
[{"$f":"IF(COUNTIF($B$1:B1569,TRUE)=COUNTIF($B$1:B1568,TRUE),\"\",COUNTIF($B$1:B1569,TRUE))","v":1230},{"$f":"Worksheet!$D$14","v":true},{"$f":"RANDBETWEEN(5,RANDBETWEEN(5,Worksheet!$D$6))","v":114},"litres","±",{"$f":"IF(I1569=1,H1569*10^RANDBETWEEN(IF(Worksheet!$D$9,-1,0),0),IF(I1569=2,H1569*10^RANDBETWEEN(RANDBETWEEN(0,2),2),CHOOSE(RANDBETWEEN(1,3),5,10,20)))","v":5},{"$f":"IF(I1569=1,D1569,IF(I1569=3,\"%\",\"cm³\"))","v":"%"},4,{"$f":"IF(AND(Worksheet!$D$8,RAND()<0.2),3,IF(RAND()<Worksheet!$D$7/100,1,2))","v":3},{"$f":"IF(I1569=1,C1569-F1569,IF(I1569=2,C1569-F1569/1000,IF(I1569=3,(1-F1569/100)*C1569,\"\")))","v":108.3}," litres",{"$f":"J1569*1000","v":108300},"cm³",{"$f":"IF(I1569=1,C1569+F1569,IF(I1569=2,C1569+F1569/1000,IF(I1569=3,(1+F1569/100)*C1569,\"\")))","v":119.7},"  litres",{"$f":"N1569*1000","v":119700},"cm³"]
[{"$f":"IF(COUNTIF($B$1:B1570,TRUE)=COUNTIF($B$1:B1569,TRUE),\"\",COUNTIF($B$1:B1570,TRUE))","v":""},{"$f":"Worksheet!$D$15","v":false},{"$f":"RANDBETWEEN(5,20)","v":9},"min","±",{"$f":"IF(I1570=1,H1570*10^RANDBETWEEN(IF(Worksheet!$D$9,-1,0),0),IF(I1570=2,H1570,CHOOSE(RANDBETWEEN(1,3),5,10,20)))","v":4},{"$f":"IF(I1570=1,D1570,IF(I1570=3,\"%\",\"sec\"))","v":"min"},4,{"$f":"IF(AND(Worksheet!$D$8,RAND()<0),3,IF(RAND()<Worksheet!$D$7/100,1,2))","v":1},null," min",{"$f":"IF(I1570=1,C1570-F1570,IF(I1570=2,C1570*60-F1570,\"\"))","v":5},{"$f":"IF($I1570=1,\" hours\",\" min\")","v":" hours"},null,"  min",{"$f":"IF(I1570=1,C1570+F1570,IF(I1570=2,C1570*60+F1570,\"\"))","v":13},{"$f":"IF($I1570=1,\" hours\",\" min\")","v":" hours"}]
[{"$f":"COUNTIF($B$1:B1571,TRUE)","v":1231},{"$f":"Worksheet!$B$11","v":true},{"$f":"RANDBETWEEN(5,RANDBETWEEN(5,Worksheet!$D$6))","v":6},"cm","±",{"$f":"IF(I1571=1,H1571*10^RANDBETWEEN(IF(Worksheet!$D$9,-1,0),0),IF(I1571=2,H1571,CHOOSE(RANDBETWEEN(1,3),5,10,20)))","v":4},{"$f":"IF(I1571=1,D1571,IF(I1571=3,\"%\",\"mm\"))","v":"cm"},{"$f":"RANDBETWEEN(1,MIN(9,C1571))","v":4},{"$f":"IF(AND(Worksheet!$D$8,RAND()<0.2),3,IF(RAND()<Worksheet!$D$7/100,1,2))","v":1},{"$f":"IF(I1571=1,C1571-F1571,IF(I1571=2,C1571-F1571/10,IF(I1571=3,(1-F1571/100)*C1571,\"\")))","v":2},{"$f":"CONCATENATE(\" \",D1571)","v":" cm"},{"$f":"J1571*10","v":20},"mm",{"$f":"IF(I1571=1,C1571+F1571,IF(I1571=2,C1571+F1571/10,IF(I1571=3,(1+F1571/100)*C1571,\"\")))","v":10},{"$f":"CONCATENATE(\" \",K1571)","v":"  cm"},{"$f":"N1571*10","v":100},"mm"]
[{"$f":"IF(COUNTIF($B$1:B1572,TRUE)=COUNTIF($B$1:B1571,TRUE),\"\",COUNTIF($B$1:B1572,TRUE))","v":1232},{"$f":"Worksheet!$B$12","v":true},{"$f":"RANDBETWEEN(5,RANDBETWEEN(5,Worksheet!$D$6))","v":58},"m","±",{"$f":"IF(I1572=1,H1572*10^RANDBETWEEN(IF(Worksheet!$D$9,-1,0),0),IF(I1572=2,H1572*10^RANDBETWEEN(RANDBETWEEN(0,1),1),CHOOSE(RANDBETWEEN(1,3),5,10,20)))","v":7},{"$f":"IF(I1572=1,D1572,IF(I1572=3,\"%\",\"cm\"))","v":"m"},{"$f":"RANDBETWEEN(1,MIN(9,C1572))","v":7},{"$f":"IF(AND(Worksheet!$D$8,RAND()<0.2),3,IF(RAND()<Worksheet!$D$7/100,1,2))","v":1},{"$f":"IF(I1572=1,C1572-F1572,IF(I1572=2,C1572-F1572/100,IF(I1572=3,(1-F1572/100)*C1572,\"\")))","v":51},{"$f":"CONCATENATE(\" \",D1572)","v":" m"},{"$f":"J1572*100","v":5100},"cm",{"$f":"IF(I1572=1,C1572+F1572,IF(I1572=2,C1572+F1572/100,IF(I1572=3,(1+F1572/100)*C1572,\"\")))","v":65},{"$f":"CONCATENATE(\" \",K1572)","v":"  m"},{"$f":"N1572*100","v":6500},"cm"]
[{"$f":"IF(COUNTIF($B$1:B1573,TRUE)=COUNTIF($B$1:B1572,TRUE),\"\",COUNTIF($B$1:B1573,TRUE))","v":1233},{"$f":"Worksheet!$B$13","v":true},{"$f":"RANDBETWEEN(5,RANDBETWEEN(5,Worksheet!$D$6))","v":5},"km","±",{"$f":"IF(I1573=1,H1573*10^RANDBETWEEN(IF(Worksheet!$D$9,-1,0),0),IF(I1573=2,H1573*10^RANDBETWEEN(RANDBETWEEN(0,2),2),CHOOSE(RANDBETWEEN(1,3),5,10,20)))","v":300},{"$f":"IF(I1573=1,D1573,IF(I1573=3,\"%\",\"m\"))","v":"m"},3,{"$f":"IF(AND(Worksheet!$D$8,RAND()<0.2),3,IF(RAND()<Worksheet!$D$7/100,1,2))","v":2},{"$f":"IF(I1573=1,C1573-F1573,IF(I1573=2,C1573-F1573/1000,IF(I1573=3,(1-F1573/100)*C1573,\"\")))","v":4.7}," km",{"$f":"J1573*1000","v":4700},"m",{"$f":"IF(I1573=1,C1573+F1573,IF(I1573=2,C1573+F1573/1000,IF(I1573=3,(1+F1573/100)*C1573,\"\")))","v":5.3},"  km",{"$f":"N1573*1000","v":5300},"m"]
[{"$f":"IF(COUNTIF($B$1:B1574,TRUE)=COUNTIF($B$1:B1573,TRUE),\"\",COUNTIF($B$1:B1574,TRUE))","v":""},{"$f":"Worksheet!$B$14","v":false},{"$f":"RANDBETWEEN(5,RANDBETWEEN(5,Worksheet!$D$6))","v":93},"m","±",{"$f":"IF(I1574=1,H1574*10^RANDBETWEEN(IF(Worksheet!$D$9,-1,0),0),IF(I1574=2,H1574*10^RANDBETWEEN(RANDBETWEEN(0,2),2),CHOOSE(RANDBETWEEN(1,3),5,10,20)))","v":0.60000000000000009},{"$f":"IF(I1574=1,D1574,IF(I1574=3,\"%\",\"mm\"))","v":"m"},6,{"$f":"IF(AND(Worksheet!$D$8,RAND()<0.2),3,IF(RAND()<Worksheet!$D$7/100,1,2))","v":1},{"$f":"IF(I1574=1,C1574-F1574,IF(I1574=2,C1574-F1574/1000,IF(I1574=3,(1-F1574/100)*C1574,\"\")))","v":92.4}," m",{"$f":"J1574*1000","v":92400},"mm",{"$f":"IF(I1574=1,C1574+F1574,IF(I1574=2,C1574+F1574/1000,IF(I1574=3,(1+F1574/100)*C1574,\"\")))","v":93.6},"  m",{"$f":"N1574*1000","v":93600},"mm"]
[{"$f":"IF(COUNTIF($B$1:B1575,TRUE)=COUNTIF($B$1:B1574,TRUE),\"\",COUNTIF($B$1:B1575,TRUE))","v":1234},{"$f":"Worksheet!$B$15","v":true},{"$f":"RANDBETWEEN(5,20)","v":14},"hours","±",{"$f":"IF(I1575=1,H1575*10^RANDBETWEEN(IF(Worksheet!$D$9,-1,0),0),IF(I1575=2,H1575,CHOOSE(RANDBETWEEN(1,3),5,10,20)))","v":0.4},{"$f":"IF(I1575=1,D1575,IF(I1575=3,\"%\",\"min\"))","v":"hours"},4,{"$f":"IF(AND(Worksheet!$D$8,RAND()<0),3,IF(RAND()<Worksheet!$D$7/100,1,2))","v":1},null," hours",{"$f":"IF(I1575=1,C1575-F1575,IF(I1575=2,C1575*60-F1575,\"\"))","v":13.6},{"$f":"IF($I1575=1,\" hours\",\" min\")","v":" hours"},null,"  hours",{"$f":"IF(I1575=1,C1575+F1575,IF(I1575=2,C1575*60+F1575,\"\"))","v":14.4},{"$f":"IF($I1575=1,\" hours\",\" min\")","v":" hours"}]
[{"$f":"IF(COUNTIF($B$1:B1576,TRUE)=COUNTIF($B$1:B1575,TRUE),\"\",COUNTIF($B$1:B1576,TRUE))","v":1235},{"$f":"Worksheet!$D$11","v":true},{"$f":"RANDBETWEEN(5,RANDBETWEEN(5,Worksheet!$D$6))","v":123},"kg","±",{"$f":"IF(I1576=1,H1576*10^RANDBETWEEN(IF(Worksheet!$D$9,-1,0),0),IF(I1576=2,H1576*10^RANDBETWEEN(RANDBETWEEN(0,2),2),CHOOSE(RANDBETWEEN(1,3),5,10,20)))","v":600},{"$f":"IF(I1576=1,D1576,IF(I1576=3,\"%\",\"g\"))","v":"g"},6,{"$f":"IF(AND(Worksheet!$D$8,RAND()<0.2),3,IF(RAND()<Worksheet!$D$7/100,1,2))","v":2},{"$f":"IF(I1576=1,C1576-F1576,IF(I1576=2,C1576-F1576/1000,IF(I1576=3,(1-F1576/100)*C1576,\"\")))","v":122.4}," kg",{"$f":"J1576*1000","v":122400},"g",{"$f":"IF(I1576=1,C1576+F1576,IF(I1576=2,C1576+F1576/1000,IF(I1576=3,(1+F1576/100)*C1576,\"\")))","v":123.6},"  kg",{"$f":"N1576*1000","v":123600},"g"]
[{"$f":"IF(COUNTIF($B$1:B1577,TRUE)=COUNTIF($B$1:B1576,TRUE),\"\",COUNTIF($B$1:B1577,TRUE))","v":1236},{"$f":"Worksheet!$D$12","v":true},{"$f":"RANDBETWEEN(5,RANDBETWEEN(5,Worksheet!$D$6))","v":205},"tonnes","±",{"$f":"IF(I1577=1,H1577*10^RANDBETWEEN(IF(Worksheet!$D$9,-1,0),0),IF(I1577=2,H1577*10^RANDBETWEEN(RANDBETWEEN(0,2),2),CHOOSE(RANDBETWEEN(1,3),5,10,20)))","v":60},{"$f":"IF(I1577=1,D1577,IF(I1577=3,\"%\",\"kg\"))","v":"kg"},6,{"$f":"IF(AND(Worksheet!$D$8,RAND()<0.2),3,IF(RAND()<Worksheet!$D$7/100,1,2))","v":2},{"$f":"IF(I1577=1,C1577-F1577,IF(I1577=2,C1577-F1577/1000,IF(I1577=3,(1-F1577/100)*C1577,\"\")))","v":204.94}," tonnes",{"$f":"J1577*1000","v":204940},"kg",{"$f":"IF(I1577=1,C1577+F1577,IF(I1577=2,C1577+F1577/1000,IF(I1577=3,(1+F1577/100)*C1577,\"\")))","v":205.06},"  tonnes",{"$f":"N1577*1000","v":205060},"kg"]
[{"$f":"IF(COUNTIF($B$1:B1578,TRUE)=COUNTIF($B$1:B1577,TRUE),\"\",COUNTIF($B$1:B1578,TRUE))","v":1237},{"$f":"Worksheet!$D$13","v":true},{"$f":"RANDBETWEEN(5,RANDBETWEEN(5,Worksheet!$D$6))","v":46},"litres","±",{"$f":"IF(I1578=1,H1578*10^RANDBETWEEN(IF(Worksheet!$D$9,-1,0),0),IF(I1578=2,H1578*10^RANDBETWEEN(RANDBETWEEN(0,2),2),CHOOSE(RANDBETWEEN(1,3),5,10,20)))","v":8},{"$f":"IF(I1578=1,D1578,IF(I1578=3,\"%\",\"ml\"))","v":"litres"},8,{"$f":"IF(AND(Worksheet!$D$8,RAND()<0.2),3,IF(RAND()<Worksheet!$D$7/100,1,2))","v":1},{"$f":"IF(I1578=1,C1578-F1578,IF(I1578=2,C1578-F1578/1000,IF(I1578=3,(1-F1578/100)*C1578,\"\")))","v":38}," litres",{"$f":"J1578*1000","v":38000},"ml",{"$f":"IF(I1578=1,C1578+F1578,IF(I1578=2,C1578+F1578/1000,IF(I1578=3,(1+F1578/100)*C1578,\"\")))","v":54},"  litres",{"$f":"N1578*1000","v":54000},"ml"]
[{"$f":"IF(COUNTIF($B$1:B1579,TRUE)=COUNTIF($B$1:B1578,TRUE),\"\",COUNTIF($B$1:B1579,TRUE))","v":1238},{"$f":"Worksheet!$D$14","v":true},{"$f":"RANDBETWEEN(5,RANDBETWEEN(5,Worksheet!$D$6))","v":72},"litres","±",{"$f":"IF(I1579=1,H1579*10^RANDBETWEEN(IF(Worksheet!$D$9,-1,0),0),IF(I1579=2,H1579*10^RANDBETWEEN(RANDBETWEEN(0,2),2),CHOOSE(RANDBETWEEN(1,3),5,10,20)))","v":20},{"$f":"IF(I1579=1,D1579,IF(I1579=3,\"%\",\"cm³\"))","v":"%"},9,{"$f":"IF(AND(Worksheet!$D$8,RAND()<0.2),3,IF(RAND()<Worksheet!$D$7/100,1,2))","v":3},{"$f":"IF(I1579=1,C1579-F1579,IF(I1579=2,C1579-F1579/1000,IF(I1579=3,(1-F1579/100)*C1579,\"\")))","v":57.6}," litres",{"$f":"J1579*1000","v":57600},"cm³",{"$f":"IF(I1579=1,C1579+F1579,IF(I1579=2,C1579+F1579/1000,IF(I1579=3,(1+F1579/100)*C1579,\"\")))","v":86.399999999999991},"  litres",{"$f":"N1579*1000","v":86399.999999999985},"cm³"]
[{"$f":"IF(COUNTIF($B$1:B1580,TRUE)=COUNTIF($B$1:B1579,TRUE),\"\",COUNTIF($B$1:B1580,TRUE))","v":""},{"$f":"Worksheet!$D$15","v":false},{"$f":"RANDBETWEEN(5,20)","v":10},"min","±",{"$f":"IF(I1580=1,H1580*10^RANDBETWEEN(IF(Worksheet!$D$9,-1,0),0),IF(I1580=2,H1580,CHOOSE(RANDBETWEEN(1,3),5,10,20)))","v":6},{"$f":"IF(I1580=1,D1580,IF(I1580=3,\"%\",\"sec\"))","v":"sec"},6,{"$f":"IF(AND(Worksheet!$D$8,RAND()<0),3,IF(RAND()<Worksheet!$D$7/100,1,2))","v":2},null," min",{"$f":"IF(I1580=1,C1580-F1580,IF(I1580=2,C1580*60-F1580,\"\"))","v":594},{"$f":"IF($I1580=1,\" hours\",\" min\")","v":" min"},null,"  min",{"$f":"IF(I1580=1,C1580+F1580,IF(I1580=2,C1580*60+F1580,\"\"))","v":606},{"$f":"IF($I1580=1,\" hours\",\" min\")","v":" min"}]
[{"$f":"COUNTIF($B$1:B1581,TRUE)","v":1239},{"$f":"Worksheet!$B$11","v":true},{"$f":"RANDBETWEEN(5,RANDBETWEEN(5,Worksheet!$D$6))","v":127},"cm","±",{"$f":"IF(I1581=1,H1581*10^RANDBETWEEN(IF(Worksheet!$D$9,-1,0),0),IF(I1581=2,H1581,CHOOSE(RANDBETWEEN(1,3),5,10,20)))","v":0.30000000000000004},{"$f":"IF(I1581=1,D1581,IF(I1581=3,\"%\",\"mm\"))","v":"cm"},{"$f":"RANDBETWEEN(1,MIN(9,C1581))","v":3},{"$f":"IF(AND(Worksheet!$D$8,RAND()<0.2),3,IF(RAND()<Worksheet!$D$7/100,1,2))","v":1},{"$f":"IF(I1581=1,C1581-F1581,IF(I1581=2,C1581-F1581/10,IF(I1581=3,(1-F1581/100)*C1581,\"\")))","v":126.7},{"$f":"CONCATENATE(\" \",D1581)","v":" cm"},{"$f":"J1581*10","v":1267},"mm",{"$f":"IF(I1581=1,C1581+F1581,IF(I1581=2,C1581+F1581/10,IF(I1581=3,(1+F1581/100)*C1581,\"\")))","v":127.3},{"$f":"CONCATENATE(\" \",K1581)","v":"  cm"},{"$f":"N1581*10","v":1273},"mm"]
[{"$f":"IF(COUNTIF($B$1:B1582,TRUE)=COUNTIF($B$1:B1581,TRUE),\"\",COUNTIF($B$1:B1582,TRUE))","v":1240},{"$f":"Worksheet!$B$12","v":true},{"$f":"RANDBETWEEN(5,RANDBETWEEN(5,Worksheet!$D$6))","v":90},"m","±",{"$f":"IF(I1582=1,H1582*10^RANDBETWEEN(IF(Worksheet!$D$9,-1,0),0),IF(I1582=2,H1582*10^RANDBETWEEN(RANDBETWEEN(0,1),1),CHOOSE(RANDBETWEEN(1,3),5,10,20)))","v":20},{"$f":"IF(I1582=1,D1582,IF(I1582=3,\"%\",\"cm\"))","v":"%"},{"$f":"RANDBETWEEN(1,MIN(9,C1582))","v":7},{"$f":"IF(AND(Worksheet!$D$8,RAND()<0.2),3,IF(RAND()<Worksheet!$D$7/100,1,2))","v":3},{"$f":"IF(I1582=1,C1582-F1582,IF(I1582=2,C1582-F1582/100,IF(I1582=3,(1-F1582/100)*C1582,\"\")))","v":72},{"$f":"CONCATENATE(\" \",D1582)","v":" m"},{"$f":"J1582*100","v":7200},"cm",{"$f":"IF(I1582=1,C1582+F1582,IF(I1582=2,C1582+F1582/100,IF(I1582=3,(1+F1582/100)*C1582,\"\")))","v":108},{"$f":"CONCATENATE(\" \",K1582)","v":"  m"},{"$f":"N1582*100","v":10800},"cm"]
[{"$f":"IF(COUNTIF($B$1:B1583,TRUE)=COUNTIF($B$1:B1582,TRUE),\"\",COUNTIF($B$1:B1583,TRUE))","v":1241},{"$f":"Worksheet!$B$13","v":true},{"$f":"RANDBETWEEN(5,RANDBETWEEN(5,Worksheet!$D$6))","v":23},"km","±",{"$f":"IF(I1583=1,H1583*10^RANDBETWEEN(IF(Worksheet!$D$9,-1,0),0),IF(I1583=2,H1583*10^RANDBETWEEN(RANDBETWEEN(0,2),2),CHOOSE(RANDBETWEEN(1,3),5,10,20)))","v":80},{"$f":"IF(I1583=1,D1583,IF(I1583=3,\"%\",\"m\"))","v":"m"},8,{"$f":"IF(AND(Worksheet!$D$8,RAND()<0.2),3,IF(RAND()<Worksheet!$D$7/100,1,2))","v":2},{"$f":"IF(I1583=1,C1583-F1583,IF(I1583=2,C1583-F1583/1000,IF(I1583=3,(1-F1583/100)*C1583,\"\")))","v":22.92}," km",{"$f":"J1583*1000","v":22920},"m",{"$f":"IF(I1583=1,C1583+F1583,IF(I1583=2,C1583+F1583/1000,IF(I1583=3,(1+F1583/100)*C1583,\"\")))","v":23.08},"  km",{"$f":"N1583*1000","v":23080},"m"]
[{"$f":"IF(COUNTIF($B$1:B1584,TRUE)=COUNTIF($B$1:B1583,TRUE),\"\",COUNTIF($B$1:B1584,TRUE))","v":""},{"$f":"Worksheet!$B$14","v":false},{"$f":"RANDBETWEEN(5,RANDBETWEEN(5,Worksheet!$D$6))","v":122},"m","±",{"$f":"IF(I1584=1,H1584*10^RANDBETWEEN(IF(Worksheet!$D$9,-1,0),0),IF(I1584=2,H1584*10^RANDBETWEEN(RANDBETWEEN(0,2),2),CHOOSE(RANDBETWEEN(1,3),5,10,20)))","v":2},{"$f":"IF(I1584=1,D1584,IF(I1584=3,\"%\",\"mm\"))","v":"m"},2,{"$f":"IF(AND(Worksheet!$D$8,RAND()<0.2),3,IF(RAND()<Worksheet!$D$7/100,1,2))","v":1},{"$f":"IF(I1584=1,C1584-F1584,IF(I1584=2,C1584-F1584/1000,IF(I1584=3,(1-F1584/100)*C1584,\"\")))","v":120}," m",{"$f":"J1584*1000","v":120000},"mm",{"$f":"IF(I1584=1,C1584+F1584,IF(I1584=2,C1584+F1584/1000,IF(I1584=3,(1+F1584/100)*C1584,\"\")))","v":124},"  m",{"$f":"N1584*1000","v":124000},"mm"]
[{"$f":"IF(COUNTIF($B$1:B1585,TRUE)=COUNTIF($B$1:B1584,TRUE),\"\",COUNTIF($B$1:B1585,TRUE))","v":1242},{"$f":"Worksheet!$B$15","v":true},{"$f":"RANDBETWEEN(5,20)","v":17},"hours","±",{"$f":"IF(I1585=1,H1585*10^RANDBETWEEN(IF(Worksheet!$D$9,-1,0),0),IF(I1585=2,H1585,CHOOSE(RANDBETWEEN(1,3),5,10,20)))","v":3},{"$f":"IF(I1585=1,D1585,IF(I1585=3,\"%\",\"min\"))","v":"hours"},3,{"$f":"IF(AND(Worksheet!$D$8,RAND()<0),3,IF(RAND()<Worksheet!$D$7/100,1,2))","v":1},null," hours",{"$f":"IF(I1585=1,C1585-F1585,IF(I1585=2,C1585*60-F1585,\"\"))","v":14},{"$f":"IF($I1585=1,\" hours\",\" min\")","v":" hours"},null,"  hours",{"$f":"IF(I1585=1,C1585+F1585,IF(I1585=2,C1585*60+F1585,\"\"))","v":20},{"$f":"IF($I1585=1,\" hours\",\" min\")","v":" hours"}]
[{"$f":"IF(COUNTIF($B$1:B1586,TRUE)=COUNTIF($B$1:B1585,TRUE),\"\",COUNTIF($B$1:B1586,TRUE))","v":1243},{"$f":"Worksheet!$D$11","v":true},{"$f":"RANDBETWEEN(5,RANDBETWEEN(5,Worksheet!$D$6))","v":116},"kg","±",{"$f":"IF(I1586=1,H1586*10^RANDBETWEEN(IF(Worksheet!$D$9,-1,0),0),IF(I1586=2,H1586*10^RANDBETWEEN(RANDBETWEEN(0,2),2),CHOOSE(RANDBETWEEN(1,3),5,10,20)))","v":20},{"$f":"IF(I1586=1,D1586,IF(I1586=3,\"%\",\"g\"))","v":"%"},9,{"$f":"IF(AND(Worksheet!$D$8,RAND()<0.2),3,IF(RAND()<Worksheet!$D$7/100,1,2))","v":3},{"$f":"IF(I1586=1,C1586-F1586,IF(I1586=2,C1586-F1586/1000,IF(I1586=3,(1-F1586/100)*C1586,\"\")))","v":92.800000000000011}," kg",{"$f":"J1586*1000","v":92800.000000000015},"g",{"$f":"IF(I1586=1,C1586+F1586,IF(I1586=2,C1586+F1586/1000,IF(I1586=3,(1+F1586/100)*C1586,\"\")))","v":139.19999999999999},"  kg",{"$f":"N1586*1000","v":139200},"g"]
[{"$f":"IF(COUNTIF($B$1:B1587,TRUE)=COUNTIF($B$1:B1586,TRUE),\"\",COUNTIF($B$1:B1587,TRUE))","v":1244},{"$f":"Worksheet!$D$12","v":true},{"$f":"RANDBETWEEN(5,RANDBETWEEN(5,Worksheet!$D$6))","v":277},"tonnes","±",{"$f":"IF(I1587=1,H1587*10^RANDBETWEEN(IF(Worksheet!$D$9,-1,0),0),IF(I1587=2,H1587*10^RANDBETWEEN(RANDBETWEEN(0,2),2),CHOOSE(RANDBETWEEN(1,3),5,10,20)))","v":1},{"$f":"IF(I1587=1,D1587,IF(I1587=3,\"%\",\"kg\"))","v":"tonnes"},1,{"$f":"IF(AND(Worksheet!$D$8,RAND()<0.2),3,IF(RAND()<Worksheet!$D$7/100,1,2))","v":1},{"$f":"IF(I1587=1,C1587-F1587,IF(I1587=2,C1587-F1587/1000,IF(I1587=3,(1-F1587/100)*C1587,\"\")))","v":276}," tonnes",{"$f":"J1587*1000","v":276000},"kg",{"$f":"IF(I1587=1,C1587+F1587,IF(I1587=2,C1587+F1587/1000,IF(I1587=3,(1+F1587/100)*C1587,\"\")))","v":278},"  tonnes",{"$f":"N1587*1000","v":278000},"kg"]
[{"$f":"IF(COUNTIF($B$1:B1588,TRUE)=COUNTIF($B$1:B1587,TRUE),\"\",COUNTIF($B$1:B1588,TRUE))","v":1245},{"$f":"Worksheet!$D$13","v":true},{"$f":"RANDBETWEEN(5,RANDBETWEEN(5,Worksheet!$D$6))","v":204},"litres","±",{"$f":"IF(I1588=1,H1588*10^RANDBETWEEN(IF(Worksheet!$D$9,-1,0),0),IF(I1588=2,H1588*10^RANDBETWEEN(RANDBETWEEN(0,2),2),CHOOSE(RANDBETWEEN(1,3),5,10,20)))","v":30},{"$f":"IF(I1588=1,D1588,IF(I1588=3,\"%\",\"ml\"))","v":"ml"},3,{"$f":"IF(AND(Worksheet!$D$8,RAND()<0.2),3,IF(RAND()<Worksheet!$D$7/100,1,2))","v":2},{"$f":"IF(I1588=1,C1588-F1588,IF(I1588=2,C1588-F1588/1000,IF(I1588=3,(1-F1588/100)*C1588,\"\")))","v":203.97}," litres",{"$f":"J1588*1000","v":203970},"ml",{"$f":"IF(I1588=1,C1588+F1588,IF(I1588=2,C1588+F1588/1000,IF(I1588=3,(1+F1588/100)*C1588,\"\")))","v":204.03},"  litres",{"$f":"N1588*1000","v":204030},"ml"]
[{"$f":"IF(COUNTIF($B$1:B1589,TRUE)=COUNTIF($B$1:B1588,TRUE),\"\",COUNTIF($B$1:B1589,TRUE))","v":1246},{"$f":"Worksheet!$D$14","v":true},{"$f":"RANDBETWEEN(5,RANDBETWEEN(5,Worksheet!$D$6))","v":254},"litres","±",{"$f":"IF(I1589=1,H1589*10^RANDBETWEEN(IF(Worksheet!$D$9,-1,0),0),IF(I1589=2,H1589*10^RANDBETWEEN(RANDBETWEEN(0,2),2),CHOOSE(RANDBETWEEN(1,3),5,10,20)))","v":4},{"$f":"IF(I1589=1,D1589,IF(I1589=3,\"%\",\"cm³\"))","v":"litres"},4,{"$f":"IF(AND(Worksheet!$D$8,RAND()<0.2),3,IF(RAND()<Worksheet!$D$7/100,1,2))","v":1},{"$f":"IF(I1589=1,C1589-F1589,IF(I1589=2,C1589-F1589/1000,IF(I1589=3,(1-F1589/100)*C1589,\"\")))","v":250}," litres",{"$f":"J1589*1000","v":250000},"cm³",{"$f":"IF(I1589=1,C1589+F1589,IF(I1589=2,C1589+F1589/1000,IF(I1589=3,(1+F1589/100)*C1589,\"\")))","v":258},"  litres",{"$f":"N1589*1000","v":258000},"cm³"]
[{"$f":"IF(COUNTIF($B$1:B1590,TRUE)=COUNTIF($B$1:B1589,TRUE),\"\",COUNTIF($B$1:B1590,TRUE))","v":""},{"$f":"Worksheet!$D$15","v":false},{"$f":"RANDBETWEEN(5,20)","v":9},"min","±",{"$f":"IF(I1590=1,H1590*10^RANDBETWEEN(IF(Worksheet!$D$9,-1,0),0),IF(I1590=2,H1590,CHOOSE(RANDBETWEEN(1,3),5,10,20)))","v":0.5},{"$f":"IF(I1590=1,D1590,IF(I1590=3,\"%\",\"sec\"))","v":"min"},5,{"$f":"IF(AND(Worksheet!$D$8,RAND()<0),3,IF(RAND()<Worksheet!$D$7/100,1,2))","v":1},null," min",{"$f":"IF(I1590=1,C1590-F1590,IF(I1590=2,C1590*60-F1590,\"\"))","v":8.5},{"$f":"IF($I1590=1,\" hours\",\" min\")","v":" hours"},null,"  min",{"$f":"IF(I1590=1,C1590+F1590,IF(I1590=2,C1590*60+F1590,\"\"))","v":9.5},{"$f":"IF($I1590=1,\" hours\",\" min\")","v":" hours"}]
[{"$f":"COUNTIF($B$1:B1591,TRUE)","v":1247},{"$f":"Worksheet!$B$11","v":true},{"$f":"RANDBETWEEN(5,RANDBETWEEN(5,Worksheet!$D$6))","v":11},"cm","±",{"$f":"IF(I1591=1,H1591*10^RANDBETWEEN(IF(Worksheet!$D$9,-1,0),0),IF(I1591=2,H1591,CHOOSE(RANDBETWEEN(1,3),5,10,20)))","v":0.1},{"$f":"IF(I1591=1,D1591,IF(I1591=3,\"%\",\"mm\"))","v":"cm"},{"$f":"RANDBETWEEN(1,MIN(9,C1591))","v":1},{"$f":"IF(AND(Worksheet!$D$8,RAND()<0.2),3,IF(RAND()<Worksheet!$D$7/100,1,2))","v":1},{"$f":"IF(I1591=1,C1591-F1591,IF(I1591=2,C1591-F1591/10,IF(I1591=3,(1-F1591/100)*C1591,\"\")))","v":10.9},{"$f":"CONCATENATE(\" \",D1591)","v":" cm"},{"$f":"J1591*10","v":109},"mm",{"$f":"IF(I1591=1,C1591+F1591,IF(I1591=2,C1591+F1591/10,IF(I1591=3,(1+F1591/100)*C1591,\"\")))","v":11.1},{"$f":"CONCATENATE(\" \",K1591)","v":"  cm"},{"$f":"N1591*10","v":111},"mm"]
[{"$f":"IF(COUNTIF($B$1:B1592,TRUE)=COUNTIF($B$1:B1591,TRUE),\"\",COUNTIF($B$1:B1592,TRUE))","v":1248},{"$f":"Worksheet!$B$12","v":true},{"$f":"RANDBETWEEN(5,RANDBETWEEN(5,Worksheet!$D$6))","v":253},"m","±",{"$f":"IF(I1592=1,H1592*10^RANDBETWEEN(IF(Worksheet!$D$9,-1,0),0),IF(I1592=2,H1592*10^RANDBETWEEN(RANDBETWEEN(0,1),1),CHOOSE(RANDBETWEEN(1,3),5,10,20)))","v":3},{"$f":"IF(I1592=1,D1592,IF(I1592=3,\"%\",\"cm\"))","v":"m"},{"$f":"RANDBETWEEN(1,MIN(9,C1592))","v":3},{"$f":"IF(AND(Worksheet!$D$8,RAND()<0.2),3,IF(RAND()<Worksheet!$D$7/100,1,2))","v":1},{"$f":"IF(I1592=1,C1592-F1592,IF(I1592=2,C1592-F1592/100,IF(I1592=3,(1-F1592/100)*C1592,\"\")))","v":250},{"$f":"CONCATENATE(\" \",D1592)","v":" m"},{"$f":"J1592*100","v":25000},"cm",{"$f":"IF(I1592=1,C1592+F1592,IF(I1592=2,C1592+F1592/100,IF(I1592=3,(1+F1592/100)*C1592,\"\")))","v":256},{"$f":"CONCATENATE(\" \",K1592)","v":"  m"},{"$f":"N1592*100","v":25600},"cm"]
[{"$f":"IF(COUNTIF($B$1:B1593,TRUE)=COUNTIF($B$1:B1592,TRUE),\"\",COUNTIF($B$1:B1593,TRUE))","v":1249},{"$f":"Worksheet!$B$13","v":true},{"$f":"RANDBETWEEN(5,RANDBETWEEN(5,Worksheet!$D$6))","v":54},"km","±",{"$f":"IF(I1593=1,H1593*10^RANDBETWEEN(IF(Worksheet!$D$9,-1,0),0),IF(I1593=2,H1593*10^RANDBETWEEN(RANDBETWEEN(0,2),2),CHOOSE(RANDBETWEEN(1,3),5,10,20)))","v":6},{"$f":"IF(I1593=1,D1593,IF(I1593=3,\"%\",\"m\"))","v":"km"},6,{"$f":"IF(AND(Worksheet!$D$8,RAND()<0.2),3,IF(RAND()<Worksheet!$D$7/100,1,2))","v":1},{"$f":"IF(I1593=1,C1593-F1593,IF(I1593=2,C1593-F1593/1000,IF(I1593=3,(1-F1593/100)*C1593,\"\")))","v":48}," km",{"$f":"J1593*1000","v":48000},"m",{"$f":"IF(I1593=1,C1593+F1593,IF(I1593=2,C1593+F1593/1000,IF(I1593=3,(1+F1593/100)*C1593,\"\")))","v":60},"  km",{"$f":"N1593*1000","v":60000},"m"]
[{"$f":"IF(COUNTIF($B$1:B1594,TRUE)=COUNTIF($B$1:B1593,TRUE),\"\",COUNTIF($B$1:B1594,TRUE))","v":""},{"$f":"Worksheet!$B$14","v":false},{"$f":"RANDBETWEEN(5,RANDBETWEEN(5,Worksheet!$D$6))","v":64},"m","±",{"$f":"IF(I1594=1,H1594*10^RANDBETWEEN(IF(Worksheet!$D$9,-1,0),0),IF(I1594=2,H1594*10^RANDBETWEEN(RANDBETWEEN(0,2),2),CHOOSE(RANDBETWEEN(1,3),5,10,20)))","v":3},{"$f":"IF(I1594=1,D1594,IF(I1594=3,\"%\",\"mm\"))","v":"m"},3,{"$f":"IF(AND(Worksheet!$D$8,RAND()<0.2),3,IF(RAND()<Worksheet!$D$7/100,1,2))","v":1},{"$f":"IF(I1594=1,C1594-F1594,IF(I1594=2,C1594-F1594/1000,IF(I1594=3,(1-F1594/100)*C1594,\"\")))","v":61}," m",{"$f":"J1594*1000","v":61000},"mm",{"$f":"IF(I1594=1,C1594+F1594,IF(I1594=2,C1594+F1594/1000,IF(I1594=3,(1+F1594/100)*C1594,\"\")))","v":67},"  m",{"$f":"N1594*1000","v":67000},"mm"]
[{"$f":"IF(COUNTIF($B$1:B1595,TRUE)=COUNTIF($B$1:B1594,TRUE),\"\",COUNTIF($B$1:B1595,TRUE))","v":1250},{"$f":"Worksheet!$B$15","v":true},{"$f":"RANDBETWEEN(5,20)","v":14},"hours","±",{"$f":"IF(I1595=1,H1595*10^RANDBETWEEN(IF(Worksheet!$D$9,-1,0),0),IF(I1595=2,H1595,CHOOSE(RANDBETWEEN(1,3),5,10,20)))","v":0.70000000000000007},{"$f":"IF(I1595=1,D1595,IF(I1595=3,\"%\",\"min\"))","v":"hours"},7,{"$f":"IF(AND(Worksheet!$D$8,RAND()<0),3,IF(RAND()<Worksheet!$D$7/100,1,2))","v":1},null," hours",{"$f":"IF(I1595=1,C1595-F1595,IF(I1595=2,C1595*60-F1595,\"\"))","v":13.3},{"$f":"IF($I1595=1,\" hours\",\" min\")","v":" hours"},null,"  hours",{"$f":"IF(I1595=1,C1595+F1595,IF(I1595=2,C1595*60+F1595,\"\"))","v":14.7},{"$f":"IF($I1595=1,\" hours\",\" min\")","v":" hours"}]
[{"$f":"IF(COUNTIF($B$1:B1596,TRUE)=COUNTIF($B$1:B1595,TRUE),\"\",COUNTIF($B$1:B1596,TRUE))","v":1251},{"$f":"Worksheet!$D$11","v":true},{"$f":"RANDBETWEEN(5,RANDBETWEEN(5,Worksheet!$D$6))","v":82},"kg","±",{"$f":"IF(I1596=1,H1596*10^RANDBETWEEN(IF(Worksheet!$D$9,-1,0),0),IF(I1596=2,H1596*10^RANDBETWEEN(RANDBETWEEN(0,2),2),CHOOSE(RANDBETWEEN(1,3),5,10,20)))","v":5},{"$f":"IF(I1596=1,D1596,IF(I1596=3,\"%\",\"g\"))","v":"%"},4,{"$f":"IF(AND(Worksheet!$D$8,RAND()<0.2),3,IF(RAND()<Worksheet!$D$7/100,1,2))","v":3},{"$f":"IF(I1596=1,C1596-F1596,IF(I1596=2,C1596-F1596/1000,IF(I1596=3,(1-F1596/100)*C1596,\"\")))","v":77.899999999999991}," kg",{"$f":"J1596*1000","v":77899.999999999985},"g",{"$f":"IF(I1596=1,C1596+F1596,IF(I1596=2,C1596+F1596/1000,IF(I1596=3,(1+F1596/100)*C1596,\"\")))","v":86.100000000000009},"  kg",{"$f":"N1596*1000","v":86100.000000000015},"g"]
[{"$f":"IF(COUNTIF($B$1:B1597,TRUE)=COUNTIF($B$1:B1596,TRUE),\"\",COUNTIF($B$1:B1597,TRUE))","v":1252},{"$f":"Worksheet!$D$12","v":true},{"$f":"RANDBETWEEN(5,RANDBETWEEN(5,Worksheet!$D$6))","v":5},"tonnes","±",{"$f":"IF(I1597=1,H1597*10^RANDBETWEEN(IF(Worksheet!$D$9,-1,0),0),IF(I1597=2,H1597*10^RANDBETWEEN(RANDBETWEEN(0,2),2),CHOOSE(RANDBETWEEN(1,3),5,10,20)))","v":5},{"$f":"IF(I1597=1,D1597,IF(I1597=3,\"%\",\"kg\"))","v":"tonnes"},5,{"$f":"IF(AND(Worksheet!$D$8,RAND()<0.2),3,IF(RAND()<Worksheet!$D$7/100,1,2))","v":1},{"$f":"IF(I1597=1,C1597-F1597,IF(I1597=2,C1597-F1597/1000,IF(I1597=3,(1-F1597/100)*C1597,\"\")))","v":0}," tonnes",{"$f":"J1597*1000","v":0},"kg",{"$f":"IF(I1597=1,C1597+F1597,IF(I1597=2,C1597+F1597/1000,IF(I1597=3,(1+F1597/100)*C1597,\"\")))","v":10},"  tonnes",{"$f":"N1597*1000","v":10000},"kg"]
[{"$f":"IF(COUNTIF($B$1:B1598,TRUE)=COUNTIF($B$1:B1597,TRUE),\"\",COUNTIF($B$1:B1598,TRUE))","v":1253},{"$f":"Worksheet!$D$13","v":true},{"$f":"RANDBETWEEN(5,RANDBETWEEN(5,Worksheet!$D$6))","v":92},"litres","±",{"$f":"IF(I1598=1,H1598*10^RANDBETWEEN(IF(Worksheet!$D$9,-1,0),0),IF(I1598=2,H1598*10^RANDBETWEEN(RANDBETWEEN(0,2),2),CHOOSE(RANDBETWEEN(1,3),5,10,20)))","v":1},{"$f":"IF(I1598=1,D1598,IF(I1598=3,\"%\",\"ml\"))","v":"litres"},1,{"$f":"IF(AND(Worksheet!$D$8,RAND()<0.2),3,IF(RAND()<Worksheet!$D$7/100,1,2))","v":1},{"$f":"IF(I1598=1,C1598-F1598,IF(I1598=2,C1598-F1598/1000,IF(I1598=3,(1-F1598/100)*C1598,\"\")))","v":91}," litres",{"$f":"J1598*1000","v":91000},"ml",{"$f":"IF(I1598=1,C1598+F1598,IF(I1598=2,C1598+F1598/1000,IF(I1598=3,(1+F1598/100)*C1598,\"\")))","v":93},"  litres",{"$f":"N1598*1000","v":93000},"ml"]
[{"$f":"IF(COUNTIF($B$1:B1599,TRUE)=COUNTIF($B$1:B1598,TRUE),\"\",COUNTIF($B$1:B1599,TRUE))","v":1254},{"$f":"Worksheet!$D$14","v":true},{"$f":"RANDBETWEEN(5,RANDBETWEEN(5,Worksheet!$D$6))","v":8},"litres","±",{"$f":"IF(I1599=1,H1599*10^RANDBETWEEN(IF(Worksheet!$D$9,-1,0),0),IF(I1599=2,H1599*10^RANDBETWEEN(RANDBETWEEN(0,2),2),CHOOSE(RANDBETWEEN(1,3),5,10,20)))","v":0.70000000000000007},{"$f":"IF(I1599=1,D1599,IF(I1599=3,\"%\",\"cm³\"))","v":"litres"},7,{"$f":"IF(AND(Worksheet!$D$8,RAND()<0.2),3,IF(RAND()<Worksheet!$D$7/100,1,2))","v":1},{"$f":"IF(I1599=1,C1599-F1599,IF(I1599=2,C1599-F1599/1000,IF(I1599=3,(1-F1599/100)*C1599,\"\")))","v":7.3}," litres",{"$f":"J1599*1000","v":7300},"cm³",{"$f":"IF(I1599=1,C1599+F1599,IF(I1599=2,C1599+F1599/1000,IF(I1599=3,(1+F1599/100)*C1599,\"\")))","v":8.6999999999999993},"  litres",{"$f":"N1599*1000","v":8700},"cm³"]
[{"$f":"IF(COUNTIF($B$1:B1600,TRUE)=COUNTIF($B$1:B1599,TRUE),\"\",COUNTIF($B$1:B1600,TRUE))","v":""},{"$f":"Worksheet!$D$15","v":false},{"$f":"RANDBETWEEN(5,20)","v":8},"min","±",{"$f":"IF(I1600=1,H1600*10^RANDBETWEEN(IF(Worksheet!$D$9,-1,0),0),IF(I1600=2,H1600,CHOOSE(RANDBETWEEN(1,3),5,10,20)))","v":5},{"$f":"IF(I1600=1,D1600,IF(I1600=3,\"%\",\"sec\"))","v":"min"},5,{"$f":"IF(AND(Worksheet!$D$8,RAND()<0),3,IF(RAND()<Worksheet!$D$7/100,1,2))","v":1},null," min",{"$f":"IF(I1600=1,C1600-F1600,IF(I1600=2,C1600*60-F1600,\"\"))","v":3},{"$f":"IF($I1600=1,\" hours\",\" min\")","v":" hours"},null,"  min",{"$f":"IF(I1600=1,C1600+F1600,IF(I1600=2,C1600*60+F1600,\"\"))","v":13},{"$f":"IF($I1600=1,\" hours\",\" min\")","v":" hours"}]
[{"$f":"COUNTIF($B$1:B1601,TRUE)","v":1255},{"$f":"Worksheet!$B$11","v":true},{"$f":"RANDBETWEEN(5,RANDBETWEEN(5,Worksheet!$D$6))","v":40},"cm","±",{"$f":"IF(I1601=1,H1601*10^RANDBETWEEN(IF(Worksheet!$D$9,-1,0),0),IF(I1601=2,H1601,CHOOSE(RANDBETWEEN(1,3),5,10,20)))","v":8},{"$f":"IF(I1601=1,D1601,IF(I1601=3,\"%\",\"mm\"))","v":"cm"},{"$f":"RANDBETWEEN(1,MIN(9,C1601))","v":8},{"$f":"IF(AND(Worksheet!$D$8,RAND()<0.2),3,IF(RAND()<Worksheet!$D$7/100,1,2))","v":1},{"$f":"IF(I1601=1,C1601-F1601,IF(I1601=2,C1601-F1601/10,IF(I1601=3,(1-F1601/100)*C1601,\"\")))","v":32},{"$f":"CONCATENATE(\" \",D1601)","v":" cm"},{"$f":"J1601*10","v":320},"mm",{"$f":"IF(I1601=1,C1601+F1601,IF(I1601=2,C1601+F1601/10,IF(I1601=3,(1+F1601/100)*C1601,\"\")))","v":48},{"$f":"CONCATENATE(\" \",K1601)","v":"  cm"},{"$f":"N1601*10","v":480},"mm"]
[{"$f":"IF(COUNTIF($B$1:B1602,TRUE)=COUNTIF($B$1:B1601,TRUE),\"\",COUNTIF($B$1:B1602,TRUE))","v":1256},{"$f":"Worksheet!$B$12","v":true},{"$f":"RANDBETWEEN(5,RANDBETWEEN(5,Worksheet!$D$6))","v":150},"m","±",{"$f":"IF(I1602=1,H1602*10^RANDBETWEEN(IF(Worksheet!$D$9,-1,0),0),IF(I1602=2,H1602*10^RANDBETWEEN(RANDBETWEEN(0,1),1),CHOOSE(RANDBETWEEN(1,3),5,10,20)))","v":40},{"$f":"IF(I1602=1,D1602,IF(I1602=3,\"%\",\"cm\"))","v":"cm"},{"$f":"RANDBETWEEN(1,MIN(9,C1602))","v":4},{"$f":"IF(AND(Worksheet!$D$8,RAND()<0.2),3,IF(RAND()<Worksheet!$D$7/100,1,2))","v":2},{"$f":"IF(I1602=1,C1602-F1602,IF(I1602=2,C1602-F1602/100,IF(I1602=3,(1-F1602/100)*C1602,\"\")))","v":149.6},{"$f":"CONCATENATE(\" \",D1602)","v":" m"},{"$f":"J1602*100","v":14960},"cm",{"$f":"IF(I1602=1,C1602+F1602,IF(I1602=2,C1602+F1602/100,IF(I1602=3,(1+F1602/100)*C1602,\"\")))","v":150.4},{"$f":"CONCATENATE(\" \",K1602)","v":"  m"},{"$f":"N1602*100","v":15040},"cm"]
[{"$f":"IF(COUNTIF($B$1:B1603,TRUE)=COUNTIF($B$1:B1602,TRUE),\"\",COUNTIF($B$1:B1603,TRUE))","v":1257},{"$f":"Worksheet!$B$13","v":true},{"$f":"RANDBETWEEN(5,RANDBETWEEN(5,Worksheet!$D$6))","v":48},"km","±",{"$f":"IF(I1603=1,H1603*10^RANDBETWEEN(IF(Worksheet!$D$9,-1,0),0),IF(I1603=2,H1603*10^RANDBETWEEN(RANDBETWEEN(0,2),2),CHOOSE(RANDBETWEEN(1,3),5,10,20)))","v":6},{"$f":"IF(I1603=1,D1603,IF(I1603=3,\"%\",\"m\"))","v":"km"},6,{"$f":"IF(AND(Worksheet!$D$8,RAND()<0.2),3,IF(RAND()<Worksheet!$D$7/100,1,2))","v":1},{"$f":"IF(I1603=1,C1603-F1603,IF(I1603=2,C1603-F1603/1000,IF(I1603=3,(1-F1603/100)*C1603,\"\")))","v":42}," km",{"$f":"J1603*1000","v":42000},"m",{"$f":"IF(I1603=1,C1603+F1603,IF(I1603=2,C1603+F1603/1000,IF(I1603=3,(1+F1603/100)*C1603,\"\")))","v":54},"  km",{"$f":"N1603*1000","v":54000},"m"]
[{"$f":"IF(COUNTIF($B$1:B1604,TRUE)=COUNTIF($B$1:B1603,TRUE),\"\",COUNTIF($B$1:B1604,TRUE))","v":""},{"$f":"Worksheet!$B$14","v":false},{"$f":"RANDBETWEEN(5,RANDBETWEEN(5,Worksheet!$D$6))","v":144},"m","±",{"$f":"IF(I1604=1,H1604*10^RANDBETWEEN(IF(Worksheet!$D$9,-1,0),0),IF(I1604=2,H1604*10^RANDBETWEEN(RANDBETWEEN(0,2),2),CHOOSE(RANDBETWEEN(1,3),5,10,20)))","v":5},{"$f":"IF(I1604=1,D1604,IF(I1604=3,\"%\",\"mm\"))","v":"%"},9,{"$f":"IF(AND(Worksheet!$D$8,RAND()<0.2),3,IF(RAND()<Worksheet!$D$7/100,1,2))","v":3},{"$f":"IF(I1604=1,C1604-F1604,IF(I1604=2,C1604-F1604/1000,IF(I1604=3,(1-F1604/100)*C1604,\"\")))","v":136.79999999999998}," m",{"$f":"J1604*1000","v":136799.99999999997},"mm",{"$f":"IF(I1604=1,C1604+F1604,IF(I1604=2,C1604+F1604/1000,IF(I1604=3,(1+F1604/100)*C1604,\"\")))","v":151.20000000000002},"  m",{"$f":"N1604*1000","v":151200.00000000003},"mm"]
[{"$f":"IF(COUNTIF($B$1:B1605,TRUE)=COUNTIF($B$1:B1604,TRUE),\"\",COUNTIF($B$1:B1605,TRUE))","v":1258},{"$f":"Worksheet!$B$15","v":true},{"$f":"RANDBETWEEN(5,20)","v":5},"hours","±",{"$f":"IF(I1605=1,H1605*10^RANDBETWEEN(IF(Worksheet!$D$9,-1,0),0),IF(I1605=2,H1605,CHOOSE(RANDBETWEEN(1,3),5,10,20)))","v":2},{"$f":"IF(I1605=1,D1605,IF(I1605=3,\"%\",\"min\"))","v":"hours"},2,{"$f":"IF(AND(Worksheet!$D$8,RAND()<0),3,IF(RAND()<Worksheet!$D$7/100,1,2))","v":1},null," hours",{"$f":"IF(I1605=1,C1605-F1605,IF(I1605=2,C1605*60-F1605,\"\"))","v":3},{"$f":"IF($I1605=1,\" hours\",\" min\")","v":" hours"},null,"  hours",{"$f":"IF(I1605=1,C1605+F1605,IF(I1605=2,C1605*60+F1605,\"\"))","v":7},{"$f":"IF($I1605=1,\" hours\",\" min\")","v":" hours"}]
[{"$f":"IF(COUNTIF($B$1:B1606,TRUE)=COUNTIF($B$1:B1605,TRUE),\"\",COUNTIF($B$1:B1606,TRUE))","v":1259},{"$f":"Worksheet!$D$11","v":true},{"$f":"RANDBETWEEN(5,RANDBETWEEN(5,Worksheet!$D$6))","v":89},"kg","±",{"$f":"IF(I1606=1,H1606*10^RANDBETWEEN(IF(Worksheet!$D$9,-1,0),0),IF(I1606=2,H1606*10^RANDBETWEEN(RANDBETWEEN(0,2),2),CHOOSE(RANDBETWEEN(1,3),5,10,20)))","v":4},{"$f":"IF(I1606=1,D1606,IF(I1606=3,\"%\",\"g\"))","v":"kg"},4,{"$f":"IF(AND(Worksheet!$D$8,RAND()<0.2),3,IF(RAND()<Worksheet!$D$7/100,1,2))","v":1},{"$f":"IF(I1606=1,C1606-F1606,IF(I1606=2,C1606-F1606/1000,IF(I1606=3,(1-F1606/100)*C1606,\"\")))","v":85}," kg",{"$f":"J1606*1000","v":85000},"g",{"$f":"IF(I1606=1,C1606+F1606,IF(I1606=2,C1606+F1606/1000,IF(I1606=3,(1+F1606/100)*C1606,\"\")))","v":93},"  kg",{"$f":"N1606*1000","v":93000},"g"]
[{"$f":"IF(COUNTIF($B$1:B1607,TRUE)=COUNTIF($B$1:B1606,TRUE),\"\",COUNTIF($B$1:B1607,TRUE))","v":1260},{"$f":"Worksheet!$D$12","v":true},{"$f":"RANDBETWEEN(5,RANDBETWEEN(5,Worksheet!$D$6))","v":229},"tonnes","±",{"$f":"IF(I1607=1,H1607*10^RANDBETWEEN(IF(Worksheet!$D$9,-1,0),0),IF(I1607=2,H1607*10^RANDBETWEEN(RANDBETWEEN(0,2),2),CHOOSE(RANDBETWEEN(1,3),5,10,20)))","v":20},{"$f":"IF(I1607=1,D1607,IF(I1607=3,\"%\",\"kg\"))","v":"%"},8,{"$f":"IF(AND(Worksheet!$D$8,RAND()<0.2),3,IF(RAND()<Worksheet!$D$7/100,1,2))","v":3},{"$f":"IF(I1607=1,C1607-F1607,IF(I1607=2,C1607-F1607/1000,IF(I1607=3,(1-F1607/100)*C1607,\"\")))","v":183.20000000000002}," tonnes",{"$f":"J1607*1000","v":183200.00000000003},"kg",{"$f":"IF(I1607=1,C1607+F1607,IF(I1607=2,C1607+F1607/1000,IF(I1607=3,(1+F1607/100)*C1607,\"\")))","v":274.8},"  tonnes",{"$f":"N1607*1000","v":274800},"kg"]
[{"$f":"IF(COUNTIF($B$1:B1608,TRUE)=COUNTIF($B$1:B1607,TRUE),\"\",COUNTIF($B$1:B1608,TRUE))","v":1261},{"$f":"Worksheet!$D$13","v":true},{"$f":"RANDBETWEEN(5,RANDBETWEEN(5,Worksheet!$D$6))","v":257},"litres","±",{"$f":"IF(I1608=1,H1608*10^RANDBETWEEN(IF(Worksheet!$D$9,-1,0),0),IF(I1608=2,H1608*10^RANDBETWEEN(RANDBETWEEN(0,2),2),CHOOSE(RANDBETWEEN(1,3),5,10,20)))","v":5},{"$f":"IF(I1608=1,D1608,IF(I1608=3,\"%\",\"ml\"))","v":"litres"},5,{"$f":"IF(AND(Worksheet!$D$8,RAND()<0.2),3,IF(RAND()<Worksheet!$D$7/100,1,2))","v":1},{"$f":"IF(I1608=1,C1608-F1608,IF(I1608=2,C1608-F1608/1000,IF(I1608=3,(1-F1608/100)*C1608,\"\")))","v":252}," litres",{"$f":"J1608*1000","v":252000},"ml",{"$f":"IF(I1608=1,C1608+F1608,IF(I1608=2,C1608+F1608/1000,IF(I1608=3,(1+F1608/100)*C1608,\"\")))","v":262},"  litres",{"$f":"N1608*1000","v":262000},"ml"]
[{"$f":"IF(COUNTIF($B$1:B1609,TRUE)=COUNTIF($B$1:B1608,TRUE),\"\",COUNTIF($B$1:B1609,TRUE))","v":1262},{"$f":"Worksheet!$D$14","v":true},{"$f":"RANDBETWEEN(5,RANDBETWEEN(5,Worksheet!$D$6))","v":190},"litres","±",{"$f":"IF(I1609=1,H1609*10^RANDBETWEEN(IF(Worksheet!$D$9,-1,0),0),IF(I1609=2,H1609*10^RANDBETWEEN(RANDBETWEEN(0,2),2),CHOOSE(RANDBETWEEN(1,3),5,10,20)))","v":0.9},{"$f":"IF(I1609=1,D1609,IF(I1609=3,\"%\",\"cm³\"))","v":"litres"},9,{"$f":"IF(AND(Worksheet!$D$8,RAND()<0.2),3,IF(RAND()<Worksheet!$D$7/100,1,2))","v":1},{"$f":"IF(I1609=1,C1609-F1609,IF(I1609=2,C1609-F1609/1000,IF(I1609=3,(1-F1609/100)*C1609,\"\")))","v":189.1}," litres",{"$f":"J1609*1000","v":189100},"cm³",{"$f":"IF(I1609=1,C1609+F1609,IF(I1609=2,C1609+F1609/1000,IF(I1609=3,(1+F1609/100)*C1609,\"\")))","v":190.9},"  litres",{"$f":"N1609*1000","v":190900},"cm³"]
[{"$f":"IF(COUNTIF($B$1:B1610,TRUE)=COUNTIF($B$1:B1609,TRUE),\"\",COUNTIF($B$1:B1610,TRUE))","v":""},{"$f":"Worksheet!$D$15","v":false},{"$f":"RANDBETWEEN(5,20)","v":13},"min","±",{"$f":"IF(I1610=1,H1610*10^RANDBETWEEN(IF(Worksheet!$D$9,-1,0),0),IF(I1610=2,H1610,CHOOSE(RANDBETWEEN(1,3),5,10,20)))","v":0.30000000000000004},{"$f":"IF(I1610=1,D1610,IF(I1610=3,\"%\",\"sec\"))","v":"min"},3,{"$f":"IF(AND(Worksheet!$D$8,RAND()<0),3,IF(RAND()<Worksheet!$D$7/100,1,2))","v":1},null," min",{"$f":"IF(I1610=1,C1610-F1610,IF(I1610=2,C1610*60-F1610,\"\"))","v":12.7},{"$f":"IF($I1610=1,\" hours\",\" min\")","v":" hours"},null,"  min",{"$f":"IF(I1610=1,C1610+F1610,IF(I1610=2,C1610*60+F1610,\"\"))","v":13.3},{"$f":"IF($I1610=1,\" hours\",\" min\")","v":" hours"}]
[{"$f":"COUNTIF($B$1:B1611,TRUE)","v":1263},{"$f":"Worksheet!$B$11","v":true},{"$f":"RANDBETWEEN(5,RANDBETWEEN(5,Worksheet!$D$6))","v":255},"cm","±",{"$f":"IF(I1611=1,H1611*10^RANDBETWEEN(IF(Worksheet!$D$9,-1,0),0),IF(I1611=2,H1611,CHOOSE(RANDBETWEEN(1,3),5,10,20)))","v":3},{"$f":"IF(I1611=1,D1611,IF(I1611=3,\"%\",\"mm\"))","v":"mm"},{"$f":"RANDBETWEEN(1,MIN(9,C1611))","v":3},{"$f":"IF(AND(Worksheet!$D$8,RAND()<0.2),3,IF(RAND()<Worksheet!$D$7/100,1,2))","v":2},{"$f":"IF(I1611=1,C1611-F1611,IF(I1611=2,C1611-F1611/10,IF(I1611=3,(1-F1611/100)*C1611,\"\")))","v":254.7},{"$f":"CONCATENATE(\" \",D1611)","v":" cm"},{"$f":"J1611*10","v":2547},"mm",{"$f":"IF(I1611=1,C1611+F1611,IF(I1611=2,C1611+F1611/10,IF(I1611=3,(1+F1611/100)*C1611,\"\")))","v":255.3},{"$f":"CONCATENATE(\" \",K1611)","v":"  cm"},{"$f":"N1611*10","v":2553},"mm"]
[{"$f":"IF(COUNTIF($B$1:B1612,TRUE)=COUNTIF($B$1:B1611,TRUE),\"\",COUNTIF($B$1:B1612,TRUE))","v":1264},{"$f":"Worksheet!$B$12","v":true},{"$f":"RANDBETWEEN(5,RANDBETWEEN(5,Worksheet!$D$6))","v":46},"m","±",{"$f":"IF(I1612=1,H1612*10^RANDBETWEEN(IF(Worksheet!$D$9,-1,0),0),IF(I1612=2,H1612*10^RANDBETWEEN(RANDBETWEEN(0,1),1),CHOOSE(RANDBETWEEN(1,3),5,10,20)))","v":0.5},{"$f":"IF(I1612=1,D1612,IF(I1612=3,\"%\",\"cm\"))","v":"m"},{"$f":"RANDBETWEEN(1,MIN(9,C1612))","v":5},{"$f":"IF(AND(Worksheet!$D$8,RAND()<0.2),3,IF(RAND()<Worksheet!$D$7/100,1,2))","v":1},{"$f":"IF(I1612=1,C1612-F1612,IF(I1612=2,C1612-F1612/100,IF(I1612=3,(1-F1612/100)*C1612,\"\")))","v":45.5},{"$f":"CONCATENATE(\" \",D1612)","v":" m"},{"$f":"J1612*100","v":4550},"cm",{"$f":"IF(I1612=1,C1612+F1612,IF(I1612=2,C1612+F1612/100,IF(I1612=3,(1+F1612/100)*C1612,\"\")))","v":46.5},{"$f":"CONCATENATE(\" \",K1612)","v":"  m"},{"$f":"N1612*100","v":4650},"cm"]
[{"$f":"IF(COUNTIF($B$1:B1613,TRUE)=COUNTIF($B$1:B1612,TRUE),\"\",COUNTIF($B$1:B1613,TRUE))","v":1265},{"$f":"Worksheet!$B$13","v":true},{"$f":"RANDBETWEEN(5,RANDBETWEEN(5,Worksheet!$D$6))","v":155},"km","±",{"$f":"IF(I1613=1,H1613*10^RANDBETWEEN(IF(Worksheet!$D$9,-1,0),0),IF(I1613=2,H1613*10^RANDBETWEEN(RANDBETWEEN(0,2),2),CHOOSE(RANDBETWEEN(1,3),5,10,20)))","v":7},{"$f":"IF(I1613=1,D1613,IF(I1613=3,\"%\",\"m\"))","v":"m"},7,{"$f":"IF(AND(Worksheet!$D$8,RAND()<0.2),3,IF(RAND()<Worksheet!$D$7/100,1,2))","v":2},{"$f":"IF(I1613=1,C1613-F1613,IF(I1613=2,C1613-F1613/1000,IF(I1613=3,(1-F1613/100)*C1613,\"\")))","v":154.99299999999999}," km",{"$f":"J1613*1000","v":154993},"m",{"$f":"IF(I1613=1,C1613+F1613,IF(I1613=2,C1613+F1613/1000,IF(I1613=3,(1+F1613/100)*C1613,\"\")))","v":155.00700000000001},"  km",{"$f":"N1613*1000","v":155007},"m"]
[{"$f":"IF(COUNTIF($B$1:B1614,TRUE)=COUNTIF($B$1:B1613,TRUE),\"\",COUNTIF($B$1:B1614,TRUE))","v":""},{"$f":"Worksheet!$B$14","v":false},{"$f":"RANDBETWEEN(5,RANDBETWEEN(5,Worksheet!$D$6))","v":81},"m","±",{"$f":"IF(I1614=1,H1614*10^RANDBETWEEN(IF(Worksheet!$D$9,-1,0),0),IF(I1614=2,H1614*10^RANDBETWEEN(RANDBETWEEN(0,2),2),CHOOSE(RANDBETWEEN(1,3),5,10,20)))","v":10},{"$f":"IF(I1614=1,D1614,IF(I1614=3,\"%\",\"mm\"))","v":"%"},7,{"$f":"IF(AND(Worksheet!$D$8,RAND()<0.2),3,IF(RAND()<Worksheet!$D$7/100,1,2))","v":3},{"$f":"IF(I1614=1,C1614-F1614,IF(I1614=2,C1614-F1614/1000,IF(I1614=3,(1-F1614/100)*C1614,\"\")))","v":72.900000000000006}," m",{"$f":"J1614*1000","v":72900},"mm",{"$f":"IF(I1614=1,C1614+F1614,IF(I1614=2,C1614+F1614/1000,IF(I1614=3,(1+F1614/100)*C1614,\"\")))","v":89.100000000000009},"  m",{"$f":"N1614*1000","v":89100.000000000015},"mm"]
[{"$f":"IF(COUNTIF($B$1:B1615,TRUE)=COUNTIF($B$1:B1614,TRUE),\"\",COUNTIF($B$1:B1615,TRUE))","v":1266},{"$f":"Worksheet!$B$15","v":true},{"$f":"RANDBETWEEN(5,20)","v":8},"hours","±",{"$f":"IF(I1615=1,H1615*10^RANDBETWEEN(IF(Worksheet!$D$9,-1,0),0),IF(I1615=2,H1615,CHOOSE(RANDBETWEEN(1,3),5,10,20)))","v":0.8},{"$f":"IF(I1615=1,D1615,IF(I1615=3,\"%\",\"min\"))","v":"hours"},8,{"$f":"IF(AND(Worksheet!$D$8,RAND()<0),3,IF(RAND()<Worksheet!$D$7/100,1,2))","v":1},null," hours",{"$f":"IF(I1615=1,C1615-F1615,IF(I1615=2,C1615*60-F1615,\"\"))","v":7.2},{"$f":"IF($I1615=1,\" hours\",\" min\")","v":" hours"},null,"  hours",{"$f":"IF(I1615=1,C1615+F1615,IF(I1615=2,C1615*60+F1615,\"\"))","v":8.8000000000000007},{"$f":"IF($I1615=1,\" hours\",\" min\")","v":" hours"}]
[{"$f":"IF(COUNTIF($B$1:B1616,TRUE)=COUNTIF($B$1:B1615,TRUE),\"\",COUNTIF($B$1:B1616,TRUE))","v":1267},{"$f":"Worksheet!$D$11","v":true},{"$f":"RANDBETWEEN(5,RANDBETWEEN(5,Worksheet!$D$6))","v":83},"kg","±",{"$f":"IF(I1616=1,H1616*10^RANDBETWEEN(IF(Worksheet!$D$9,-1,0),0),IF(I1616=2,H1616*10^RANDBETWEEN(RANDBETWEEN(0,2),2),CHOOSE(RANDBETWEEN(1,3),5,10,20)))","v":0.5},{"$f":"IF(I1616=1,D1616,IF(I1616=3,\"%\",\"g\"))","v":"kg"},5,{"$f":"IF(AND(Worksheet!$D$8,RAND()<0.2),3,IF(RAND()<Worksheet!$D$7/100,1,2))","v":1},{"$f":"IF(I1616=1,C1616-F1616,IF(I1616=2,C1616-F1616/1000,IF(I1616=3,(1-F1616/100)*C1616,\"\")))","v":82.5}," kg",{"$f":"J1616*1000","v":82500},"g",{"$f":"IF(I1616=1,C1616+F1616,IF(I1616=2,C1616+F1616/1000,IF(I1616=3,(1+F1616/100)*C1616,\"\")))","v":83.5},"  kg",{"$f":"N1616*1000","v":83500},"g"]
[{"$f":"IF(COUNTIF($B$1:B1617,TRUE)=COUNTIF($B$1:B1616,TRUE),\"\",COUNTIF($B$1:B1617,TRUE))","v":1268},{"$f":"Worksheet!$D$12","v":true},{"$f":"RANDBETWEEN(5,RANDBETWEEN(5,Worksheet!$D$6))","v":186},"tonnes","±",{"$f":"IF(I1617=1,H1617*10^RANDBETWEEN(IF(Worksheet!$D$9,-1,0),0),IF(I1617=2,H1617*10^RANDBETWEEN(RANDBETWEEN(0,2),2),CHOOSE(RANDBETWEEN(1,3),5,10,20)))","v":5},{"$f":"IF(I1617=1,D1617,IF(I1617=3,\"%\",\"kg\"))","v":"tonnes"},5,{"$f":"IF(AND(Worksheet!$D$8,RAND()<0.2),3,IF(RAND()<Worksheet!$D$7/100,1,2))","v":1},{"$f":"IF(I1617=1,C1617-F1617,IF(I1617=2,C1617-F1617/1000,IF(I1617=3,(1-F1617/100)*C1617,\"\")))","v":181}," tonnes",{"$f":"J1617*1000","v":181000},"kg",{"$f":"IF(I1617=1,C1617+F1617,IF(I1617=2,C1617+F1617/1000,IF(I1617=3,(1+F1617/100)*C1617,\"\")))","v":191},"  tonnes",{"$f":"N1617*1000","v":191000},"kg"]
[{"$f":"IF(COUNTIF($B$1:B1618,TRUE)=COUNTIF($B$1:B1617,TRUE),\"\",COUNTIF($B$1:B1618,TRUE))","v":1269},{"$f":"Worksheet!$D$13","v":true},{"$f":"RANDBETWEEN(5,RANDBETWEEN(5,Worksheet!$D$6))","v":68},"litres","±",{"$f":"IF(I1618=1,H1618*10^RANDBETWEEN(IF(Worksheet!$D$9,-1,0),0),IF(I1618=2,H1618*10^RANDBETWEEN(RANDBETWEEN(0,2),2),CHOOSE(RANDBETWEEN(1,3),5,10,20)))","v":50},{"$f":"IF(I1618=1,D1618,IF(I1618=3,\"%\",\"ml\"))","v":"ml"},5,{"$f":"IF(AND(Worksheet!$D$8,RAND()<0.2),3,IF(RAND()<Worksheet!$D$7/100,1,2))","v":2},{"$f":"IF(I1618=1,C1618-F1618,IF(I1618=2,C1618-F1618/1000,IF(I1618=3,(1-F1618/100)*C1618,\"\")))","v":67.95}," litres",{"$f":"J1618*1000","v":67950},"ml",{"$f":"IF(I1618=1,C1618+F1618,IF(I1618=2,C1618+F1618/1000,IF(I1618=3,(1+F1618/100)*C1618,\"\")))","v":68.05},"  litres",{"$f":"N1618*1000","v":68050},"ml"]
[{"$f":"IF(COUNTIF($B$1:B1619,TRUE)=COUNTIF($B$1:B1618,TRUE),\"\",COUNTIF($B$1:B1619,TRUE))","v":1270},{"$f":"Worksheet!$D$14","v":true},{"$f":"RANDBETWEEN(5,RANDBETWEEN(5,Worksheet!$D$6))","v":43},"litres","±",{"$f":"IF(I1619=1,H1619*10^RANDBETWEEN(IF(Worksheet!$D$9,-1,0),0),IF(I1619=2,H1619*10^RANDBETWEEN(RANDBETWEEN(0,2),2),CHOOSE(RANDBETWEEN(1,3),5,10,20)))","v":0.70000000000000007},{"$f":"IF(I1619=1,D1619,IF(I1619=3,\"%\",\"cm³\"))","v":"litres"},7,{"$f":"IF(AND(Worksheet!$D$8,RAND()<0.2),3,IF(RAND()<Worksheet!$D$7/100,1,2))","v":1},{"$f":"IF(I1619=1,C1619-F1619,IF(I1619=2,C1619-F1619/1000,IF(I1619=3,(1-F1619/100)*C1619,\"\")))","v":42.3}," litres",{"$f":"J1619*1000","v":42300},"cm³",{"$f":"IF(I1619=1,C1619+F1619,IF(I1619=2,C1619+F1619/1000,IF(I1619=3,(1+F1619/100)*C1619,\"\")))","v":43.7},"  litres",{"$f":"N1619*1000","v":43700},"cm³"]
[{"$f":"IF(COUNTIF($B$1:B1620,TRUE)=COUNTIF($B$1:B1619,TRUE),\"\",COUNTIF($B$1:B1620,TRUE))","v":""},{"$f":"Worksheet!$D$15","v":false},{"$f":"RANDBETWEEN(5,20)","v":13},"min","±",{"$f":"IF(I1620=1,H1620*10^RANDBETWEEN(IF(Worksheet!$D$9,-1,0),0),IF(I1620=2,H1620,CHOOSE(RANDBETWEEN(1,3),5,10,20)))","v":0.5},{"$f":"IF(I1620=1,D1620,IF(I1620=3,\"%\",\"sec\"))","v":"min"},5,{"$f":"IF(AND(Worksheet!$D$8,RAND()<0),3,IF(RAND()<Worksheet!$D$7/100,1,2))","v":1},null," min",{"$f":"IF(I1620=1,C1620-F1620,IF(I1620=2,C1620*60-F1620,\"\"))","v":12.5},{"$f":"IF($I1620=1,\" hours\",\" min\")","v":" hours"},null,"  min",{"$f":"IF(I1620=1,C1620+F1620,IF(I1620=2,C1620*60+F1620,\"\"))","v":13.5},{"$f":"IF($I1620=1,\" hours\",\" min\")","v":" hours"}]
[{"$f":"COUNTIF($B$1:B1621,TRUE)","v":1271},{"$f":"Worksheet!$B$11","v":true},{"$f":"RANDBETWEEN(5,RANDBETWEEN(5,Worksheet!$D$6))","v":5},"cm","±",{"$f":"IF(I1621=1,H1621*10^RANDBETWEEN(IF(Worksheet!$D$9,-1,0),0),IF(I1621=2,H1621,CHOOSE(RANDBETWEEN(1,3),5,10,20)))","v":1},{"$f":"IF(I1621=1,D1621,IF(I1621=3,\"%\",\"mm\"))","v":"mm"},{"$f":"RANDBETWEEN(1,MIN(9,C1621))","v":1},{"$f":"IF(AND(Worksheet!$D$8,RAND()<0.2),3,IF(RAND()<Worksheet!$D$7/100,1,2))","v":2},{"$f":"IF(I1621=1,C1621-F1621,IF(I1621=2,C1621-F1621/10,IF(I1621=3,(1-F1621/100)*C1621,\"\")))","v":4.9000000000000004},{"$f":"CONCATENATE(\" \",D1621)","v":" cm"},{"$f":"J1621*10","v":49},"mm",{"$f":"IF(I1621=1,C1621+F1621,IF(I1621=2,C1621+F1621/10,IF(I1621=3,(1+F1621/100)*C1621,\"\")))","v":5.0999999999999996},{"$f":"CONCATENATE(\" \",K1621)","v":"  cm"},{"$f":"N1621*10","v":51},"mm"]
[{"$f":"IF(COUNTIF($B$1:B1622,TRUE)=COUNTIF($B$1:B1621,TRUE),\"\",COUNTIF($B$1:B1622,TRUE))","v":1272},{"$f":"Worksheet!$B$12","v":true},{"$f":"RANDBETWEEN(5,RANDBETWEEN(5,Worksheet!$D$6))","v":143},"m","±",{"$f":"IF(I1622=1,H1622*10^RANDBETWEEN(IF(Worksheet!$D$9,-1,0),0),IF(I1622=2,H1622*10^RANDBETWEEN(RANDBETWEEN(0,1),1),CHOOSE(RANDBETWEEN(1,3),5,10,20)))","v":9},{"$f":"IF(I1622=1,D1622,IF(I1622=3,\"%\",\"cm\"))","v":"m"},{"$f":"RANDBETWEEN(1,MIN(9,C1622))","v":9},{"$f":"IF(AND(Worksheet!$D$8,RAND()<0.2),3,IF(RAND()<Worksheet!$D$7/100,1,2))","v":1},{"$f":"IF(I1622=1,C1622-F1622,IF(I1622=2,C1622-F1622/100,IF(I1622=3,(1-F1622/100)*C1622,\"\")))","v":134},{"$f":"CONCATENATE(\" \",D1622)","v":" m"},{"$f":"J1622*100","v":13400},"cm",{"$f":"IF(I1622=1,C1622+F1622,IF(I1622=2,C1622+F1622/100,IF(I1622=3,(1+F1622/100)*C1622,\"\")))","v":152},{"$f":"CONCATENATE(\" \",K1622)","v":"  m"},{"$f":"N1622*100","v":15200},"cm"]
[{"$f":"IF(COUNTIF($B$1:B1623,TRUE)=COUNTIF($B$1:B1622,TRUE),\"\",COUNTIF($B$1:B1623,TRUE))","v":1273},{"$f":"Worksheet!$B$13","v":true},{"$f":"RANDBETWEEN(5,RANDBETWEEN(5,Worksheet!$D$6))","v":189},"km","±",{"$f":"IF(I1623=1,H1623*10^RANDBETWEEN(IF(Worksheet!$D$9,-1,0),0),IF(I1623=2,H1623*10^RANDBETWEEN(RANDBETWEEN(0,2),2),CHOOSE(RANDBETWEEN(1,3),5,10,20)))","v":1},{"$f":"IF(I1623=1,D1623,IF(I1623=3,\"%\",\"m\"))","v":"km"},1,{"$f":"IF(AND(Worksheet!$D$8,RAND()<0.2),3,IF(RAND()<Worksheet!$D$7/100,1,2))","v":1},{"$f":"IF(I1623=1,C1623-F1623,IF(I1623=2,C1623-F1623/1000,IF(I1623=3,(1-F1623/100)*C1623,\"\")))","v":188}," km",{"$f":"J1623*1000","v":188000},"m",{"$f":"IF(I1623=1,C1623+F1623,IF(I1623=2,C1623+F1623/1000,IF(I1623=3,(1+F1623/100)*C1623,\"\")))","v":190},"  km",{"$f":"N1623*1000","v":190000},"m"]
[{"$f":"IF(COUNTIF($B$1:B1624,TRUE)=COUNTIF($B$1:B1623,TRUE),\"\",COUNTIF($B$1:B1624,TRUE))","v":""},{"$f":"Worksheet!$B$14","v":false},{"$f":"RANDBETWEEN(5,RANDBETWEEN(5,Worksheet!$D$6))","v":56},"m","±",{"$f":"IF(I1624=1,H1624*10^RANDBETWEEN(IF(Worksheet!$D$9,-1,0),0),IF(I1624=2,H1624*10^RANDBETWEEN(RANDBETWEEN(0,2),2),CHOOSE(RANDBETWEEN(1,3),5,10,20)))","v":1},{"$f":"IF(I1624=1,D1624,IF(I1624=3,\"%\",\"mm\"))","v":"m"},1,{"$f":"IF(AND(Worksheet!$D$8,RAND()<0.2),3,IF(RAND()<Worksheet!$D$7/100,1,2))","v":1},{"$f":"IF(I1624=1,C1624-F1624,IF(I1624=2,C1624-F1624/1000,IF(I1624=3,(1-F1624/100)*C1624,\"\")))","v":55}," m",{"$f":"J1624*1000","v":55000},"mm",{"$f":"IF(I1624=1,C1624+F1624,IF(I1624=2,C1624+F1624/1000,IF(I1624=3,(1+F1624/100)*C1624,\"\")))","v":57},"  m",{"$f":"N1624*1000","v":57000},"mm"]
[{"$f":"IF(COUNTIF($B$1:B1625,TRUE)=COUNTIF($B$1:B1624,TRUE),\"\",COUNTIF($B$1:B1625,TRUE))","v":1274},{"$f":"Worksheet!$B$15","v":true},{"$f":"RANDBETWEEN(5,20)","v":12},"hours","±",{"$f":"IF(I1625=1,H1625*10^RANDBETWEEN(IF(Worksheet!$D$9,-1,0),0),IF(I1625=2,H1625,CHOOSE(RANDBETWEEN(1,3),5,10,20)))","v":2},{"$f":"IF(I1625=1,D1625,IF(I1625=3,\"%\",\"min\"))","v":"hours"},2,{"$f":"IF(AND(Worksheet!$D$8,RAND()<0),3,IF(RAND()<Worksheet!$D$7/100,1,2))","v":1},null," hours",{"$f":"IF(I1625=1,C1625-F1625,IF(I1625=2,C1625*60-F1625,\"\"))","v":10},{"$f":"IF($I1625=1,\" hours\",\" min\")","v":" hours"},null,"  hours",{"$f":"IF(I1625=1,C1625+F1625,IF(I1625=2,C1625*60+F1625,\"\"))","v":14},{"$f":"IF($I1625=1,\" hours\",\" min\")","v":" hours"}]
[{"$f":"IF(COUNTIF($B$1:B1626,TRUE)=COUNTIF($B$1:B1625,TRUE),\"\",COUNTIF($B$1:B1626,TRUE))","v":1275},{"$f":"Worksheet!$D$11","v":true},{"$f":"RANDBETWEEN(5,RANDBETWEEN(5,Worksheet!$D$6))","v":77},"kg","±",{"$f":"IF(I1626=1,H1626*10^RANDBETWEEN(IF(Worksheet!$D$9,-1,0),0),IF(I1626=2,H1626*10^RANDBETWEEN(RANDBETWEEN(0,2),2),CHOOSE(RANDBETWEEN(1,3),5,10,20)))","v":20},{"$f":"IF(I1626=1,D1626,IF(I1626=3,\"%\",\"g\"))","v":"%"},2,{"$f":"IF(AND(Worksheet!$D$8,RAND()<0.2),3,IF(RAND()<Worksheet!$D$7/100,1,2))","v":3},{"$f":"IF(I1626=1,C1626-F1626,IF(I1626=2,C1626-F1626/1000,IF(I1626=3,(1-F1626/100)*C1626,\"\")))","v":61.6}," kg",{"$f":"J1626*1000","v":61600},"g",{"$f":"IF(I1626=1,C1626+F1626,IF(I1626=2,C1626+F1626/1000,IF(I1626=3,(1+F1626/100)*C1626,\"\")))","v":92.399999999999991},"  kg",{"$f":"N1626*1000","v":92399.999999999985},"g"]
[{"$f":"IF(COUNTIF($B$1:B1627,TRUE)=COUNTIF($B$1:B1626,TRUE),\"\",COUNTIF($B$1:B1627,TRUE))","v":1276},{"$f":"Worksheet!$D$12","v":true},{"$f":"RANDBETWEEN(5,RANDBETWEEN(5,Worksheet!$D$6))","v":38},"tonnes","±",{"$f":"IF(I1627=1,H1627*10^RANDBETWEEN(IF(Worksheet!$D$9,-1,0),0),IF(I1627=2,H1627*10^RANDBETWEEN(RANDBETWEEN(0,2),2),CHOOSE(RANDBETWEEN(1,3),5,10,20)))","v":3},{"$f":"IF(I1627=1,D1627,IF(I1627=3,\"%\",\"kg\"))","v":"tonnes"},3,{"$f":"IF(AND(Worksheet!$D$8,RAND()<0.2),3,IF(RAND()<Worksheet!$D$7/100,1,2))","v":1},{"$f":"IF(I1627=1,C1627-F1627,IF(I1627=2,C1627-F1627/1000,IF(I1627=3,(1-F1627/100)*C1627,\"\")))","v":35}," tonnes",{"$f":"J1627*1000","v":35000},"kg",{"$f":"IF(I1627=1,C1627+F1627,IF(I1627=2,C1627+F1627/1000,IF(I1627=3,(1+F1627/100)*C1627,\"\")))","v":41},"  tonnes",{"$f":"N1627*1000","v":41000},"kg"]
[{"$f":"IF(COUNTIF($B$1:B1628,TRUE)=COUNTIF($B$1:B1627,TRUE),\"\",COUNTIF($B$1:B1628,TRUE))","v":1277},{"$f":"Worksheet!$D$13","v":true},{"$f":"RANDBETWEEN(5,RANDBETWEEN(5,Worksheet!$D$6))","v":69},"litres","±",{"$f":"IF(I1628=1,H1628*10^RANDBETWEEN(IF(Worksheet!$D$9,-1,0),0),IF(I1628=2,H1628*10^RANDBETWEEN(RANDBETWEEN(0,2),2),CHOOSE(RANDBETWEEN(1,3),5,10,20)))","v":4},{"$f":"IF(I1628=1,D1628,IF(I1628=3,\"%\",\"ml\"))","v":"litres"},4,{"$f":"IF(AND(Worksheet!$D$8,RAND()<0.2),3,IF(RAND()<Worksheet!$D$7/100,1,2))","v":1},{"$f":"IF(I1628=1,C1628-F1628,IF(I1628=2,C1628-F1628/1000,IF(I1628=3,(1-F1628/100)*C1628,\"\")))","v":65}," litres",{"$f":"J1628*1000","v":65000},"ml",{"$f":"IF(I1628=1,C1628+F1628,IF(I1628=2,C1628+F1628/1000,IF(I1628=3,(1+F1628/100)*C1628,\"\")))","v":73},"  litres",{"$f":"N1628*1000","v":73000},"ml"]
[{"$f":"IF(COUNTIF($B$1:B1629,TRUE)=COUNTIF($B$1:B1628,TRUE),\"\",COUNTIF($B$1:B1629,TRUE))","v":1278},{"$f":"Worksheet!$D$14","v":true},{"$f":"RANDBETWEEN(5,RANDBETWEEN(5,Worksheet!$D$6))","v":270},"litres","±",{"$f":"IF(I1629=1,H1629*10^RANDBETWEEN(IF(Worksheet!$D$9,-1,0),0),IF(I1629=2,H1629*10^RANDBETWEEN(RANDBETWEEN(0,2),2),CHOOSE(RANDBETWEEN(1,3),5,10,20)))","v":300},{"$f":"IF(I1629=1,D1629,IF(I1629=3,\"%\",\"cm³\"))","v":"cm³"},3,{"$f":"IF(AND(Worksheet!$D$8,RAND()<0.2),3,IF(RAND()<Worksheet!$D$7/100,1,2))","v":2},{"$f":"IF(I1629=1,C1629-F1629,IF(I1629=2,C1629-F1629/1000,IF(I1629=3,(1-F1629/100)*C1629,\"\")))","v":269.7}," litres",{"$f":"J1629*1000","v":269700},"cm³",{"$f":"IF(I1629=1,C1629+F1629,IF(I1629=2,C1629+F1629/1000,IF(I1629=3,(1+F1629/100)*C1629,\"\")))","v":270.3},"  litres",{"$f":"N1629*1000","v":270300},"cm³"]
[{"$f":"IF(COUNTIF($B$1:B1630,TRUE)=COUNTIF($B$1:B1629,TRUE),\"\",COUNTIF($B$1:B1630,TRUE))","v":""},{"$f":"Worksheet!$D$15","v":false},{"$f":"RANDBETWEEN(5,20)","v":18},"min","±",{"$f":"IF(I1630=1,H1630*10^RANDBETWEEN(IF(Worksheet!$D$9,-1,0),0),IF(I1630=2,H1630,CHOOSE(RANDBETWEEN(1,3),5,10,20)))","v":9},{"$f":"IF(I1630=1,D1630,IF(I1630=3,\"%\",\"sec\"))","v":"sec"},9,{"$f":"IF(AND(Worksheet!$D$8,RAND()<0),3,IF(RAND()<Worksheet!$D$7/100,1,2))","v":2},null," min",{"$f":"IF(I1630=1,C1630-F1630,IF(I1630=2,C1630*60-F1630,\"\"))","v":1071},{"$f":"IF($I1630=1,\" hours\",\" min\")","v":" min"},null,"  min",{"$f":"IF(I1630=1,C1630+F1630,IF(I1630=2,C1630*60+F1630,\"\"))","v":1089},{"$f":"IF($I1630=1,\" hours\",\" min\")","v":" min"}]
[{"$f":"COUNTIF($B$1:B1631,TRUE)","v":1279},{"$f":"Worksheet!$B$11","v":true},{"$f":"RANDBETWEEN(5,RANDBETWEEN(5,Worksheet!$D$6))","v":7},"cm","±",{"$f":"IF(I1631=1,H1631*10^RANDBETWEEN(IF(Worksheet!$D$9,-1,0),0),IF(I1631=2,H1631,CHOOSE(RANDBETWEEN(1,3),5,10,20)))","v":20},{"$f":"IF(I1631=1,D1631,IF(I1631=3,\"%\",\"mm\"))","v":"%"},{"$f":"RANDBETWEEN(1,MIN(9,C1631))","v":6},{"$f":"IF(AND(Worksheet!$D$8,RAND()<0.2),3,IF(RAND()<Worksheet!$D$7/100,1,2))","v":3},{"$f":"IF(I1631=1,C1631-F1631,IF(I1631=2,C1631-F1631/10,IF(I1631=3,(1-F1631/100)*C1631,\"\")))","v":5.6000000000000005},{"$f":"CONCATENATE(\" \",D1631)","v":" cm"},{"$f":"J1631*10","v":56.000000000000007},"mm",{"$f":"IF(I1631=1,C1631+F1631,IF(I1631=2,C1631+F1631/10,IF(I1631=3,(1+F1631/100)*C1631,\"\")))","v":8.4},{"$f":"CONCATENATE(\" \",K1631)","v":"  cm"},{"$f":"N1631*10","v":84},"mm"]
[{"$f":"IF(COUNTIF($B$1:B1632,TRUE)=COUNTIF($B$1:B1631,TRUE),\"\",COUNTIF($B$1:B1632,TRUE))","v":1280},{"$f":"Worksheet!$B$12","v":true},{"$f":"RANDBETWEEN(5,RANDBETWEEN(5,Worksheet!$D$6))","v":16},"m","±",{"$f":"IF(I1632=1,H1632*10^RANDBETWEEN(IF(Worksheet!$D$9,-1,0),0),IF(I1632=2,H1632*10^RANDBETWEEN(RANDBETWEEN(0,1),1),CHOOSE(RANDBETWEEN(1,3),5,10,20)))","v":0.9},{"$f":"IF(I1632=1,D1632,IF(I1632=3,\"%\",\"cm\"))","v":"m"},{"$f":"RANDBETWEEN(1,MIN(9,C1632))","v":9},{"$f":"IF(AND(Worksheet!$D$8,RAND()<0.2),3,IF(RAND()<Worksheet!$D$7/100,1,2))","v":1},{"$f":"IF(I1632=1,C1632-F1632,IF(I1632=2,C1632-F1632/100,IF(I1632=3,(1-F1632/100)*C1632,\"\")))","v":15.1},{"$f":"CONCATENATE(\" \",D1632)","v":" m"},{"$f":"J1632*100","v":1510},"cm",{"$f":"IF(I1632=1,C1632+F1632,IF(I1632=2,C1632+F1632/100,IF(I1632=3,(1+F1632/100)*C1632,\"\")))","v":16.899999999999999},{"$f":"CONCATENATE(\" \",K1632)","v":"  m"},{"$f":"N1632*100","v":1689.9999999999998},"cm"]
[{"$f":"IF(COUNTIF($B$1:B1633,TRUE)=COUNTIF($B$1:B1632,TRUE),\"\",COUNTIF($B$1:B1633,TRUE))","v":1281},{"$f":"Worksheet!$B$13","v":true},{"$f":"RANDBETWEEN(5,RANDBETWEEN(5,Worksheet!$D$6))","v":36},"km","±",{"$f":"IF(I1633=1,H1633*10^RANDBETWEEN(IF(Worksheet!$D$9,-1,0),0),IF(I1633=2,H1633*10^RANDBETWEEN(RANDBETWEEN(0,2),2),CHOOSE(RANDBETWEEN(1,3),5,10,20)))","v":0.1},{"$f":"IF(I1633=1,D1633,IF(I1633=3,\"%\",\"m\"))","v":"km"},1,{"$f":"IF(AND(Worksheet!$D$8,RAND()<0.2),3,IF(RAND()<Worksheet!$D$7/100,1,2))","v":1},{"$f":"IF(I1633=1,C1633-F1633,IF(I1633=2,C1633-F1633/1000,IF(I1633=3,(1-F1633/100)*C1633,\"\")))","v":35.9}," km",{"$f":"J1633*1000","v":35900},"m",{"$f":"IF(I1633=1,C1633+F1633,IF(I1633=2,C1633+F1633/1000,IF(I1633=3,(1+F1633/100)*C1633,\"\")))","v":36.1},"  km",{"$f":"N1633*1000","v":36100},"m"]
[{"$f":"IF(COUNTIF($B$1:B1634,TRUE)=COUNTIF($B$1:B1633,TRUE),\"\",COUNTIF($B$1:B1634,TRUE))","v":""},{"$f":"Worksheet!$B$14","v":false},{"$f":"RANDBETWEEN(5,RANDBETWEEN(5,Worksheet!$D$6))","v":7},"m","±",{"$f":"IF(I1634=1,H1634*10^RANDBETWEEN(IF(Worksheet!$D$9,-1,0),0),IF(I1634=2,H1634*10^RANDBETWEEN(RANDBETWEEN(0,2),2),CHOOSE(RANDBETWEEN(1,3),5,10,20)))","v":10},{"$f":"IF(I1634=1,D1634,IF(I1634=3,\"%\",\"mm\"))","v":"%"},4,{"$f":"IF(AND(Worksheet!$D$8,RAND()<0.2),3,IF(RAND()<Worksheet!$D$7/100,1,2))","v":3},{"$f":"IF(I1634=1,C1634-F1634,IF(I1634=2,C1634-F1634/1000,IF(I1634=3,(1-F1634/100)*C1634,\"\")))","v":6.3}," m",{"$f":"J1634*1000","v":6300},"mm",{"$f":"IF(I1634=1,C1634+F1634,IF(I1634=2,C1634+F1634/1000,IF(I1634=3,(1+F1634/100)*C1634,\"\")))","v":7.7000000000000011},"  m",{"$f":"N1634*1000","v":7700.0000000000009},"mm"]
[{"$f":"IF(COUNTIF($B$1:B1635,TRUE)=COUNTIF($B$1:B1634,TRUE),\"\",COUNTIF($B$1:B1635,TRUE))","v":1282},{"$f":"Worksheet!$B$15","v":true},{"$f":"RANDBETWEEN(5,20)","v":7},"hours","±",{"$f":"IF(I1635=1,H1635*10^RANDBETWEEN(IF(Worksheet!$D$9,-1,0),0),IF(I1635=2,H1635,CHOOSE(RANDBETWEEN(1,3),5,10,20)))","v":0.1},{"$f":"IF(I1635=1,D1635,IF(I1635=3,\"%\",\"min\"))","v":"hours"},1,{"$f":"IF(AND(Worksheet!$D$8,RAND()<0),3,IF(RAND()<Worksheet!$D$7/100,1,2))","v":1},null," hours",{"$f":"IF(I1635=1,C1635-F1635,IF(I1635=2,C1635*60-F1635,\"\"))","v":6.9},{"$f":"IF($I1635=1,\" hours\",\" min\")","v":" hours"},null,"  hours",{"$f":"IF(I1635=1,C1635+F1635,IF(I1635=2,C1635*60+F1635,\"\"))","v":7.1},{"$f":"IF($I1635=1,\" hours\",\" min\")","v":" hours"}]
[{"$f":"IF(COUNTIF($B$1:B1636,TRUE)=COUNTIF($B$1:B1635,TRUE),\"\",COUNTIF($B$1:B1636,TRUE))","v":1283},{"$f":"Worksheet!$D$11","v":true},{"$f":"RANDBETWEEN(5,RANDBETWEEN(5,Worksheet!$D$6))","v":221},"kg","±",{"$f":"IF(I1636=1,H1636*10^RANDBETWEEN(IF(Worksheet!$D$9,-1,0),0),IF(I1636=2,H1636*10^RANDBETWEEN(RANDBETWEEN(0,2),2),CHOOSE(RANDBETWEEN(1,3),5,10,20)))","v":0.5},{"$f":"IF(I1636=1,D1636,IF(I1636=3,\"%\",\"g\"))","v":"kg"},5,{"$f":"IF(AND(Worksheet!$D$8,RAND()<0.2),3,IF(RAND()<Worksheet!$D$7/100,1,2))","v":1},{"$f":"IF(I1636=1,C1636-F1636,IF(I1636=2,C1636-F1636/1000,IF(I1636=3,(1-F1636/100)*C1636,\"\")))","v":220.5}," kg",{"$f":"J1636*1000","v":220500},"g",{"$f":"IF(I1636=1,C1636+F1636,IF(I1636=2,C1636+F1636/1000,IF(I1636=3,(1+F1636/100)*C1636,\"\")))","v":221.5},"  kg",{"$f":"N1636*1000","v":221500},"g"]
[{"$f":"IF(COUNTIF($B$1:B1637,TRUE)=COUNTIF($B$1:B1636,TRUE),\"\",COUNTIF($B$1:B1637,TRUE))","v":1284},{"$f":"Worksheet!$D$12","v":true},{"$f":"RANDBETWEEN(5,RANDBETWEEN(5,Worksheet!$D$6))","v":79},"tonnes","±",{"$f":"IF(I1637=1,H1637*10^RANDBETWEEN(IF(Worksheet!$D$9,-1,0),0),IF(I1637=2,H1637*10^RANDBETWEEN(RANDBETWEEN(0,2),2),CHOOSE(RANDBETWEEN(1,3),5,10,20)))","v":5},{"$f":"IF(I1637=1,D1637,IF(I1637=3,\"%\",\"kg\"))","v":"tonnes"},5,{"$f":"IF(AND(Worksheet!$D$8,RAND()<0.2),3,IF(RAND()<Worksheet!$D$7/100,1,2))","v":1},{"$f":"IF(I1637=1,C1637-F1637,IF(I1637=2,C1637-F1637/1000,IF(I1637=3,(1-F1637/100)*C1637,\"\")))","v":74}," tonnes",{"$f":"J1637*1000","v":74000},"kg",{"$f":"IF(I1637=1,C1637+F1637,IF(I1637=2,C1637+F1637/1000,IF(I1637=3,(1+F1637/100)*C1637,\"\")))","v":84},"  tonnes",{"$f":"N1637*1000","v":84000},"kg"]
[{"$f":"IF(COUNTIF($B$1:B1638,TRUE)=COUNTIF($B$1:B1637,TRUE),\"\",COUNTIF($B$1:B1638,TRUE))","v":1285},{"$f":"Worksheet!$D$13","v":true},{"$f":"RANDBETWEEN(5,RANDBETWEEN(5,Worksheet!$D$6))","v":22},"litres","±",{"$f":"IF(I1638=1,H1638*10^RANDBETWEEN(IF(Worksheet!$D$9,-1,0),0),IF(I1638=2,H1638*10^RANDBETWEEN(RANDBETWEEN(0,2),2),CHOOSE(RANDBETWEEN(1,3),5,10,20)))","v":0.70000000000000007},{"$f":"IF(I1638=1,D1638,IF(I1638=3,\"%\",\"ml\"))","v":"litres"},7,{"$f":"IF(AND(Worksheet!$D$8,RAND()<0.2),3,IF(RAND()<Worksheet!$D$7/100,1,2))","v":1},{"$f":"IF(I1638=1,C1638-F1638,IF(I1638=2,C1638-F1638/1000,IF(I1638=3,(1-F1638/100)*C1638,\"\")))","v":21.3}," litres",{"$f":"J1638*1000","v":21300},"ml",{"$f":"IF(I1638=1,C1638+F1638,IF(I1638=2,C1638+F1638/1000,IF(I1638=3,(1+F1638/100)*C1638,\"\")))","v":22.7},"  litres",{"$f":"N1638*1000","v":22700},"ml"]
[{"$f":"IF(COUNTIF($B$1:B1639,TRUE)=COUNTIF($B$1:B1638,TRUE),\"\",COUNTIF($B$1:B1639,TRUE))","v":1286},{"$f":"Worksheet!$D$14","v":true},{"$f":"RANDBETWEEN(5,RANDBETWEEN(5,Worksheet!$D$6))","v":165},"litres","±",{"$f":"IF(I1639=1,H1639*10^RANDBETWEEN(IF(Worksheet!$D$9,-1,0),0),IF(I1639=2,H1639*10^RANDBETWEEN(RANDBETWEEN(0,2),2),CHOOSE(RANDBETWEEN(1,3),5,10,20)))","v":8},{"$f":"IF(I1639=1,D1639,IF(I1639=3,\"%\",\"cm³\"))","v":"litres"},8,{"$f":"IF(AND(Worksheet!$D$8,RAND()<0.2),3,IF(RAND()<Worksheet!$D$7/100,1,2))","v":1},{"$f":"IF(I1639=1,C1639-F1639,IF(I1639=2,C1639-F1639/1000,IF(I1639=3,(1-F1639/100)*C1639,\"\")))","v":157}," litres",{"$f":"J1639*1000","v":157000},"cm³",{"$f":"IF(I1639=1,C1639+F1639,IF(I1639=2,C1639+F1639/1000,IF(I1639=3,(1+F1639/100)*C1639,\"\")))","v":173},"  litres",{"$f":"N1639*1000","v":173000},"cm³"]
[{"$f":"IF(COUNTIF($B$1:B1640,TRUE)=COUNTIF($B$1:B1639,TRUE),\"\",COUNTIF($B$1:B1640,TRUE))","v":""},{"$f":"Worksheet!$D$15","v":false},{"$f":"RANDBETWEEN(5,20)","v":8},"min","±",{"$f":"IF(I1640=1,H1640*10^RANDBETWEEN(IF(Worksheet!$D$9,-1,0),0),IF(I1640=2,H1640,CHOOSE(RANDBETWEEN(1,3),5,10,20)))","v":3},{"$f":"IF(I1640=1,D1640,IF(I1640=3,\"%\",\"sec\"))","v":"sec"},3,{"$f":"IF(AND(Worksheet!$D$8,RAND()<0),3,IF(RAND()<Worksheet!$D$7/100,1,2))","v":2},null," min",{"$f":"IF(I1640=1,C1640-F1640,IF(I1640=2,C1640*60-F1640,\"\"))","v":477},{"$f":"IF($I1640=1,\" hours\",\" min\")","v":" min"},null,"  min",{"$f":"IF(I1640=1,C1640+F1640,IF(I1640=2,C1640*60+F1640,\"\"))","v":483},{"$f":"IF($I1640=1,\" hours\",\" min\")","v":" min"}]
[{"$f":"COUNTIF($B$1:B1641,TRUE)","v":1287},{"$f":"Worksheet!$B$11","v":true},{"$f":"RANDBETWEEN(5,RANDBETWEEN(5,Worksheet!$D$6))","v":12},"cm","±",{"$f":"IF(I1641=1,H1641*10^RANDBETWEEN(IF(Worksheet!$D$9,-1,0),0),IF(I1641=2,H1641,CHOOSE(RANDBETWEEN(1,3),5,10,20)))","v":6},{"$f":"IF(I1641=1,D1641,IF(I1641=3,\"%\",\"mm\"))","v":"mm"},{"$f":"RANDBETWEEN(1,MIN(9,C1641))","v":6},{"$f":"IF(AND(Worksheet!$D$8,RAND()<0.2),3,IF(RAND()<Worksheet!$D$7/100,1,2))","v":2},{"$f":"IF(I1641=1,C1641-F1641,IF(I1641=2,C1641-F1641/10,IF(I1641=3,(1-F1641/100)*C1641,\"\")))","v":11.4},{"$f":"CONCATENATE(\" \",D1641)","v":" cm"},{"$f":"J1641*10","v":114},"mm",{"$f":"IF(I1641=1,C1641+F1641,IF(I1641=2,C1641+F1641/10,IF(I1641=3,(1+F1641/100)*C1641,\"\")))","v":12.6},{"$f":"CONCATENATE(\" \",K1641)","v":"  cm"},{"$f":"N1641*10","v":126},"mm"]
[{"$f":"IF(COUNTIF($B$1:B1642,TRUE)=COUNTIF($B$1:B1641,TRUE),\"\",COUNTIF($B$1:B1642,TRUE))","v":1288},{"$f":"Worksheet!$B$12","v":true},{"$f":"RANDBETWEEN(5,RANDBETWEEN(5,Worksheet!$D$6))","v":150},"m","±",{"$f":"IF(I1642=1,H1642*10^RANDBETWEEN(IF(Worksheet!$D$9,-1,0),0),IF(I1642=2,H1642*10^RANDBETWEEN(RANDBETWEEN(0,1),1),CHOOSE(RANDBETWEEN(1,3),5,10,20)))","v":2},{"$f":"IF(I1642=1,D1642,IF(I1642=3,\"%\",\"cm\"))","v":"m"},{"$f":"RANDBETWEEN(1,MIN(9,C1642))","v":2},{"$f":"IF(AND(Worksheet!$D$8,RAND()<0.2),3,IF(RAND()<Worksheet!$D$7/100,1,2))","v":1},{"$f":"IF(I1642=1,C1642-F1642,IF(I1642=2,C1642-F1642/100,IF(I1642=3,(1-F1642/100)*C1642,\"\")))","v":148},{"$f":"CONCATENATE(\" \",D1642)","v":" m"},{"$f":"J1642*100","v":14800},"cm",{"$f":"IF(I1642=1,C1642+F1642,IF(I1642=2,C1642+F1642/100,IF(I1642=3,(1+F1642/100)*C1642,\"\")))","v":152},{"$f":"CONCATENATE(\" \",K1642)","v":"  m"},{"$f":"N1642*100","v":15200},"cm"]
[{"$f":"IF(COUNTIF($B$1:B1643,TRUE)=COUNTIF($B$1:B1642,TRUE),\"\",COUNTIF($B$1:B1643,TRUE))","v":1289},{"$f":"Worksheet!$B$13","v":true},{"$f":"RANDBETWEEN(5,RANDBETWEEN(5,Worksheet!$D$6))","v":33},"km","±",{"$f":"IF(I1643=1,H1643*10^RANDBETWEEN(IF(Worksheet!$D$9,-1,0),0),IF(I1643=2,H1643*10^RANDBETWEEN(RANDBETWEEN(0,2),2),CHOOSE(RANDBETWEEN(1,3),5,10,20)))","v":0.60000000000000009},{"$f":"IF(I1643=1,D1643,IF(I1643=3,\"%\",\"m\"))","v":"km"},6,{"$f":"IF(AND(Worksheet!$D$8,RAND()<0.2),3,IF(RAND()<Worksheet!$D$7/100,1,2))","v":1},{"$f":"IF(I1643=1,C1643-F1643,IF(I1643=2,C1643-F1643/1000,IF(I1643=3,(1-F1643/100)*C1643,\"\")))","v":32.4}," km",{"$f":"J1643*1000","v":32400},"m",{"$f":"IF(I1643=1,C1643+F1643,IF(I1643=2,C1643+F1643/1000,IF(I1643=3,(1+F1643/100)*C1643,\"\")))","v":33.6},"  km",{"$f":"N1643*1000","v":33600},"m"]
[{"$f":"IF(COUNTIF($B$1:B1644,TRUE)=COUNTIF($B$1:B1643,TRUE),\"\",COUNTIF($B$1:B1644,TRUE))","v":""},{"$f":"Worksheet!$B$14","v":false},{"$f":"RANDBETWEEN(5,RANDBETWEEN(5,Worksheet!$D$6))","v":108},"m","±",{"$f":"IF(I1644=1,H1644*10^RANDBETWEEN(IF(Worksheet!$D$9,-1,0),0),IF(I1644=2,H1644*10^RANDBETWEEN(RANDBETWEEN(0,2),2),CHOOSE(RANDBETWEEN(1,3),5,10,20)))","v":8},{"$f":"IF(I1644=1,D1644,IF(I1644=3,\"%\",\"mm\"))","v":"m"},8,{"$f":"IF(AND(Worksheet!$D$8,RAND()<0.2),3,IF(RAND()<Worksheet!$D$7/100,1,2))","v":1},{"$f":"IF(I1644=1,C1644-F1644,IF(I1644=2,C1644-F1644/1000,IF(I1644=3,(1-F1644/100)*C1644,\"\")))","v":100}," m",{"$f":"J1644*1000","v":100000},"mm",{"$f":"IF(I1644=1,C1644+F1644,IF(I1644=2,C1644+F1644/1000,IF(I1644=3,(1+F1644/100)*C1644,\"\")))","v":116},"  m",{"$f":"N1644*1000","v":116000},"mm"]
[{"$f":"IF(COUNTIF($B$1:B1645,TRUE)=COUNTIF($B$1:B1644,TRUE),\"\",COUNTIF($B$1:B1645,TRUE))","v":1290},{"$f":"Worksheet!$B$15","v":true},{"$f":"RANDBETWEEN(5,20)","v":20},"hours","±",{"$f":"IF(I1645=1,H1645*10^RANDBETWEEN(IF(Worksheet!$D$9,-1,0),0),IF(I1645=2,H1645,CHOOSE(RANDBETWEEN(1,3),5,10,20)))","v":0.9},{"$f":"IF(I1645=1,D1645,IF(I1645=3,\"%\",\"min\"))","v":"hours"},9,{"$f":"IF(AND(Worksheet!$D$8,RAND()<0),3,IF(RAND()<Worksheet!$D$7/100,1,2))","v":1},null," hours",{"$f":"IF(I1645=1,C1645-F1645,IF(I1645=2,C1645*60-F1645,\"\"))","v":19.100000000000001},{"$f":"IF($I1645=1,\" hours\",\" min\")","v":" hours"},null,"  hours",{"$f":"IF(I1645=1,C1645+F1645,IF(I1645=2,C1645*60+F1645,\"\"))","v":20.9},{"$f":"IF($I1645=1,\" hours\",\" min\")","v":" hours"}]
[{"$f":"IF(COUNTIF($B$1:B1646,TRUE)=COUNTIF($B$1:B1645,TRUE),\"\",COUNTIF($B$1:B1646,TRUE))","v":1291},{"$f":"Worksheet!$D$11","v":true},{"$f":"RANDBETWEEN(5,RANDBETWEEN(5,Worksheet!$D$6))","v":20},"kg","±",{"$f":"IF(I1646=1,H1646*10^RANDBETWEEN(IF(Worksheet!$D$9,-1,0),0),IF(I1646=2,H1646*10^RANDBETWEEN(RANDBETWEEN(0,2),2),CHOOSE(RANDBETWEEN(1,3),5,10,20)))","v":7},{"$f":"IF(I1646=1,D1646,IF(I1646=3,\"%\",\"g\"))","v":"kg"},7,{"$f":"IF(AND(Worksheet!$D$8,RAND()<0.2),3,IF(RAND()<Worksheet!$D$7/100,1,2))","v":1},{"$f":"IF(I1646=1,C1646-F1646,IF(I1646=2,C1646-F1646/1000,IF(I1646=3,(1-F1646/100)*C1646,\"\")))","v":13}," kg",{"$f":"J1646*1000","v":13000},"g",{"$f":"IF(I1646=1,C1646+F1646,IF(I1646=2,C1646+F1646/1000,IF(I1646=3,(1+F1646/100)*C1646,\"\")))","v":27},"  kg",{"$f":"N1646*1000","v":27000},"g"]
[{"$f":"IF(COUNTIF($B$1:B1647,TRUE)=COUNTIF($B$1:B1646,TRUE),\"\",COUNTIF($B$1:B1647,TRUE))","v":1292},{"$f":"Worksheet!$D$12","v":true},{"$f":"RANDBETWEEN(5,RANDBETWEEN(5,Worksheet!$D$6))","v":280},"tonnes","±",{"$f":"IF(I1647=1,H1647*10^RANDBETWEEN(IF(Worksheet!$D$9,-1,0),0),IF(I1647=2,H1647*10^RANDBETWEEN(RANDBETWEEN(0,2),2),CHOOSE(RANDBETWEEN(1,3),5,10,20)))","v":20},{"$f":"IF(I1647=1,D1647,IF(I1647=3,\"%\",\"kg\"))","v":"%"},5,{"$f":"IF(AND(Worksheet!$D$8,RAND()<0.2),3,IF(RAND()<Worksheet!$D$7/100,1,2))","v":3},{"$f":"IF(I1647=1,C1647-F1647,IF(I1647=2,C1647-F1647/1000,IF(I1647=3,(1-F1647/100)*C1647,\"\")))","v":224}," tonnes",{"$f":"J1647*1000","v":224000},"kg",{"$f":"IF(I1647=1,C1647+F1647,IF(I1647=2,C1647+F1647/1000,IF(I1647=3,(1+F1647/100)*C1647,\"\")))","v":336},"  tonnes",{"$f":"N1647*1000","v":336000},"kg"]
[{"$f":"IF(COUNTIF($B$1:B1648,TRUE)=COUNTIF($B$1:B1647,TRUE),\"\",COUNTIF($B$1:B1648,TRUE))","v":1293},{"$f":"Worksheet!$D$13","v":true},{"$f":"RANDBETWEEN(5,RANDBETWEEN(5,Worksheet!$D$6))","v":96},"litres","±",{"$f":"IF(I1648=1,H1648*10^RANDBETWEEN(IF(Worksheet!$D$9,-1,0),0),IF(I1648=2,H1648*10^RANDBETWEEN(RANDBETWEEN(0,2),2),CHOOSE(RANDBETWEEN(1,3),5,10,20)))","v":0.5},{"$f":"IF(I1648=1,D1648,IF(I1648=3,\"%\",\"ml\"))","v":"litres"},5,{"$f":"IF(AND(Worksheet!$D$8,RAND()<0.2),3,IF(RAND()<Worksheet!$D$7/100,1,2))","v":1},{"$f":"IF(I1648=1,C1648-F1648,IF(I1648=2,C1648-F1648/1000,IF(I1648=3,(1-F1648/100)*C1648,\"\")))","v":95.5}," litres",{"$f":"J1648*1000","v":95500},"ml",{"$f":"IF(I1648=1,C1648+F1648,IF(I1648=2,C1648+F1648/1000,IF(I1648=3,(1+F1648/100)*C1648,\"\")))","v":96.5},"  litres",{"$f":"N1648*1000","v":96500},"ml"]
[{"$f":"IF(COUNTIF($B$1:B1649,TRUE)=COUNTIF($B$1:B1648,TRUE),\"\",COUNTIF($B$1:B1649,TRUE))","v":1294},{"$f":"Worksheet!$D$14","v":true},{"$f":"RANDBETWEEN(5,RANDBETWEEN(5,Worksheet!$D$6))","v":251},"litres","±",{"$f":"IF(I1649=1,H1649*10^RANDBETWEEN(IF(Worksheet!$D$9,-1,0),0),IF(I1649=2,H1649*10^RANDBETWEEN(RANDBETWEEN(0,2),2),CHOOSE(RANDBETWEEN(1,3),5,10,20)))","v":100},{"$f":"IF(I1649=1,D1649,IF(I1649=3,\"%\",\"cm³\"))","v":"cm³"},1,{"$f":"IF(AND(Worksheet!$D$8,RAND()<0.2),3,IF(RAND()<Worksheet!$D$7/100,1,2))","v":2},{"$f":"IF(I1649=1,C1649-F1649,IF(I1649=2,C1649-F1649/1000,IF(I1649=3,(1-F1649/100)*C1649,\"\")))","v":250.9}," litres",{"$f":"J1649*1000","v":250900},"cm³",{"$f":"IF(I1649=1,C1649+F1649,IF(I1649=2,C1649+F1649/1000,IF(I1649=3,(1+F1649/100)*C1649,\"\")))","v":251.1},"  litres",{"$f":"N1649*1000","v":251100},"cm³"]
[{"$f":"IF(COUNTIF($B$1:B1650,TRUE)=COUNTIF($B$1:B1649,TRUE),\"\",COUNTIF($B$1:B1650,TRUE))","v":""},{"$f":"Worksheet!$D$15","v":false},{"$f":"RANDBETWEEN(5,20)","v":10},"min","±",{"$f":"IF(I1650=1,H1650*10^RANDBETWEEN(IF(Worksheet!$D$9,-1,0),0),IF(I1650=2,H1650,CHOOSE(RANDBETWEEN(1,3),5,10,20)))","v":4},{"$f":"IF(I1650=1,D1650,IF(I1650=3,\"%\",\"sec\"))","v":"sec"},4,{"$f":"IF(AND(Worksheet!$D$8,RAND()<0),3,IF(RAND()<Worksheet!$D$7/100,1,2))","v":2},null," min",{"$f":"IF(I1650=1,C1650-F1650,IF(I1650=2,C1650*60-F1650,\"\"))","v":596},{"$f":"IF($I1650=1,\" hours\",\" min\")","v":" min"},null,"  min",{"$f":"IF(I1650=1,C1650+F1650,IF(I1650=2,C1650*60+F1650,\"\"))","v":604},{"$f":"IF($I1650=1,\" hours\",\" min\")","v":" min"}]
[{"$f":"COUNTIF($B$1:B1651,TRUE)","v":1295},{"$f":"Worksheet!$B$11","v":true},{"$f":"RANDBETWEEN(5,RANDBETWEEN(5,Worksheet!$D$6))","v":5},"cm","±",{"$f":"IF(I1651=1,H1651*10^RANDBETWEEN(IF(Worksheet!$D$9,-1,0),0),IF(I1651=2,H1651,CHOOSE(RANDBETWEEN(1,3),5,10,20)))","v":4},{"$f":"IF(I1651=1,D1651,IF(I1651=3,\"%\",\"mm\"))","v":"cm"},{"$f":"RANDBETWEEN(1,MIN(9,C1651))","v":4},{"$f":"IF(AND(Worksheet!$D$8,RAND()<0.2),3,IF(RAND()<Worksheet!$D$7/100,1,2))","v":1},{"$f":"IF(I1651=1,C1651-F1651,IF(I1651=2,C1651-F1651/10,IF(I1651=3,(1-F1651/100)*C1651,\"\")))","v":1},{"$f":"CONCATENATE(\" \",D1651)","v":" cm"},{"$f":"J1651*10","v":10},"mm",{"$f":"IF(I1651=1,C1651+F1651,IF(I1651=2,C1651+F1651/10,IF(I1651=3,(1+F1651/100)*C1651,\"\")))","v":9},{"$f":"CONCATENATE(\" \",K1651)","v":"  cm"},{"$f":"N1651*10","v":90},"mm"]
[{"$f":"IF(COUNTIF($B$1:B1652,TRUE)=COUNTIF($B$1:B1651,TRUE),\"\",COUNTIF($B$1:B1652,TRUE))","v":1296},{"$f":"Worksheet!$B$12","v":true},{"$f":"RANDBETWEEN(5,RANDBETWEEN(5,Worksheet!$D$6))","v":12},"m","±",{"$f":"IF(I1652=1,H1652*10^RANDBETWEEN(IF(Worksheet!$D$9,-1,0),0),IF(I1652=2,H1652*10^RANDBETWEEN(RANDBETWEEN(0,1),1),CHOOSE(RANDBETWEEN(1,3),5,10,20)))","v":2},{"$f":"IF(I1652=1,D1652,IF(I1652=3,\"%\",\"cm\"))","v":"m"},{"$f":"RANDBETWEEN(1,MIN(9,C1652))","v":2},{"$f":"IF(AND(Worksheet!$D$8,RAND()<0.2),3,IF(RAND()<Worksheet!$D$7/100,1,2))","v":1},{"$f":"IF(I1652=1,C1652-F1652,IF(I1652=2,C1652-F1652/100,IF(I1652=3,(1-F1652/100)*C1652,\"\")))","v":10},{"$f":"CONCATENATE(\" \",D1652)","v":" m"},{"$f":"J1652*100","v":1000},"cm",{"$f":"IF(I1652=1,C1652+F1652,IF(I1652=2,C1652+F1652/100,IF(I1652=3,(1+F1652/100)*C1652,\"\")))","v":14},{"$f":"CONCATENATE(\" \",K1652)","v":"  m"},{"$f":"N1652*100","v":1400},"cm"]
[{"$f":"IF(COUNTIF($B$1:B1653,TRUE)=COUNTIF($B$1:B1652,TRUE),\"\",COUNTIF($B$1:B1653,TRUE))","v":1297},{"$f":"Worksheet!$B$13","v":true},{"$f":"RANDBETWEEN(5,RANDBETWEEN(5,Worksheet!$D$6))","v":42},"km","±",{"$f":"IF(I1653=1,H1653*10^RANDBETWEEN(IF(Worksheet!$D$9,-1,0),0),IF(I1653=2,H1653*10^RANDBETWEEN(RANDBETWEEN(0,2),2),CHOOSE(RANDBETWEEN(1,3),5,10,20)))","v":200},{"$f":"IF(I1653=1,D1653,IF(I1653=3,\"%\",\"m\"))","v":"m"},2,{"$f":"IF(AND(Worksheet!$D$8,RAND()<0.2),3,IF(RAND()<Worksheet!$D$7/100,1,2))","v":2},{"$f":"IF(I1653=1,C1653-F1653,IF(I1653=2,C1653-F1653/1000,IF(I1653=3,(1-F1653/100)*C1653,\"\")))","v":41.8}," km",{"$f":"J1653*1000","v":41800},"m",{"$f":"IF(I1653=1,C1653+F1653,IF(I1653=2,C1653+F1653/1000,IF(I1653=3,(1+F1653/100)*C1653,\"\")))","v":42.2},"  km",{"$f":"N1653*1000","v":42200},"m"]
[{"$f":"IF(COUNTIF($B$1:B1654,TRUE)=COUNTIF($B$1:B1653,TRUE),\"\",COUNTIF($B$1:B1654,TRUE))","v":""},{"$f":"Worksheet!$B$14","v":false},{"$f":"RANDBETWEEN(5,RANDBETWEEN(5,Worksheet!$D$6))","v":34},"m","±",{"$f":"IF(I1654=1,H1654*10^RANDBETWEEN(IF(Worksheet!$D$9,-1,0),0),IF(I1654=2,H1654*10^RANDBETWEEN(RANDBETWEEN(0,2),2),CHOOSE(RANDBETWEEN(1,3),5,10,20)))","v":400},{"$f":"IF(I1654=1,D1654,IF(I1654=3,\"%\",\"mm\"))","v":"mm"},4,{"$f":"IF(AND(Worksheet!$D$8,RAND()<0.2),3,IF(RAND()<Worksheet!$D$7/100,1,2))","v":2},{"$f":"IF(I1654=1,C1654-F1654,IF(I1654=2,C1654-F1654/1000,IF(I1654=3,(1-F1654/100)*C1654,\"\")))","v":33.6}," m",{"$f":"J1654*1000","v":33600},"mm",{"$f":"IF(I1654=1,C1654+F1654,IF(I1654=2,C1654+F1654/1000,IF(I1654=3,(1+F1654/100)*C1654,\"\")))","v":34.4},"  m",{"$f":"N1654*1000","v":34400},"mm"]
[{"$f":"IF(COUNTIF($B$1:B1655,TRUE)=COUNTIF($B$1:B1654,TRUE),\"\",COUNTIF($B$1:B1655,TRUE))","v":1298},{"$f":"Worksheet!$B$15","v":true},{"$f":"RANDBETWEEN(5,20)","v":5},"hours","±",{"$f":"IF(I1655=1,H1655*10^RANDBETWEEN(IF(Worksheet!$D$9,-1,0),0),IF(I1655=2,H1655,CHOOSE(RANDBETWEEN(1,3),5,10,20)))","v":0.30000000000000004},{"$f":"IF(I1655=1,D1655,IF(I1655=3,\"%\",\"min\"))","v":"hours"},3,{"$f":"IF(AND(Worksheet!$D$8,RAND()<0),3,IF(RAND()<Worksheet!$D$7/100,1,2))","v":1},null," hours",{"$f":"IF(I1655=1,C1655-F1655,IF(I1655=2,C1655*60-F1655,\"\"))","v":4.7},{"$f":"IF($I1655=1,\" hours\",\" min\")","v":" hours"},null,"  hours",{"$f":"IF(I1655=1,C1655+F1655,IF(I1655=2,C1655*60+F1655,\"\"))","v":5.3},{"$f":"IF($I1655=1,\" hours\",\" min\")","v":" hours"}]
[{"$f":"IF(COUNTIF($B$1:B1656,TRUE)=COUNTIF($B$1:B1655,TRUE),\"\",COUNTIF($B$1:B1656,TRUE))","v":1299},{"$f":"Worksheet!$D$11","v":true},{"$f":"RANDBETWEEN(5,RANDBETWEEN(5,Worksheet!$D$6))","v":52},"kg","±",{"$f":"IF(I1656=1,H1656*10^RANDBETWEEN(IF(Worksheet!$D$9,-1,0),0),IF(I1656=2,H1656*10^RANDBETWEEN(RANDBETWEEN(0,2),2),CHOOSE(RANDBETWEEN(1,3),5,10,20)))","v":3},{"$f":"IF(I1656=1,D1656,IF(I1656=3,\"%\",\"g\"))","v":"g"},3,{"$f":"IF(AND(Worksheet!$D$8,RAND()<0.2),3,IF(RAND()<Worksheet!$D$7/100,1,2))","v":2},{"$f":"IF(I1656=1,C1656-F1656,IF(I1656=2,C1656-F1656/1000,IF(I1656=3,(1-F1656/100)*C1656,\"\")))","v":51.997}," kg",{"$f":"J1656*1000","v":51997},"g",{"$f":"IF(I1656=1,C1656+F1656,IF(I1656=2,C1656+F1656/1000,IF(I1656=3,(1+F1656/100)*C1656,\"\")))","v":52.003},"  kg",{"$f":"N1656*1000","v":52003},"g"]
[{"$f":"IF(COUNTIF($B$1:B1657,TRUE)=COUNTIF($B$1:B1656,TRUE),\"\",COUNTIF($B$1:B1657,TRUE))","v":1300},{"$f":"Worksheet!$D$12","v":true},{"$f":"RANDBETWEEN(5,RANDBETWEEN(5,Worksheet!$D$6))","v":150},"tonnes","±",{"$f":"IF(I1657=1,H1657*10^RANDBETWEEN(IF(Worksheet!$D$9,-1,0),0),IF(I1657=2,H1657*10^RANDBETWEEN(RANDBETWEEN(0,2),2),CHOOSE(RANDBETWEEN(1,3),5,10,20)))","v":900},{"$f":"IF(I1657=1,D1657,IF(I1657=3,\"%\",\"kg\"))","v":"kg"},9,{"$f":"IF(AND(Worksheet!$D$8,RAND()<0.2),3,IF(RAND()<Worksheet!$D$7/100,1,2))","v":2},{"$f":"IF(I1657=1,C1657-F1657,IF(I1657=2,C1657-F1657/1000,IF(I1657=3,(1-F1657/100)*C1657,\"\")))","v":149.1}," tonnes",{"$f":"J1657*1000","v":149100},"kg",{"$f":"IF(I1657=1,C1657+F1657,IF(I1657=2,C1657+F1657/1000,IF(I1657=3,(1+F1657/100)*C1657,\"\")))","v":150.9},"  tonnes",{"$f":"N1657*1000","v":150900},"kg"]
[{"$f":"IF(COUNTIF($B$1:B1658,TRUE)=COUNTIF($B$1:B1657,TRUE),\"\",COUNTIF($B$1:B1658,TRUE))","v":1301},{"$f":"Worksheet!$D$13","v":true},{"$f":"RANDBETWEEN(5,RANDBETWEEN(5,Worksheet!$D$6))","v":10},"litres","±",{"$f":"IF(I1658=1,H1658*10^RANDBETWEEN(IF(Worksheet!$D$9,-1,0),0),IF(I1658=2,H1658*10^RANDBETWEEN(RANDBETWEEN(0,2),2),CHOOSE(RANDBETWEEN(1,3),5,10,20)))","v":5},{"$f":"IF(I1658=1,D1658,IF(I1658=3,\"%\",\"ml\"))","v":"%"},7,{"$f":"IF(AND(Worksheet!$D$8,RAND()<0.2),3,IF(RAND()<Worksheet!$D$7/100,1,2))","v":3},{"$f":"IF(I1658=1,C1658-F1658,IF(I1658=2,C1658-F1658/1000,IF(I1658=3,(1-F1658/100)*C1658,\"\")))","v":9.5}," litres",{"$f":"J1658*1000","v":9500},"ml",{"$f":"IF(I1658=1,C1658+F1658,IF(I1658=2,C1658+F1658/1000,IF(I1658=3,(1+F1658/100)*C1658,\"\")))","v":10.5},"  litres",{"$f":"N1658*1000","v":10500},"ml"]
[{"$f":"IF(COUNTIF($B$1:B1659,TRUE)=COUNTIF($B$1:B1658,TRUE),\"\",COUNTIF($B$1:B1659,TRUE))","v":1302},{"$f":"Worksheet!$D$14","v":true},{"$f":"RANDBETWEEN(5,RANDBETWEEN(5,Worksheet!$D$6))","v":268},"litres","±",{"$f":"IF(I1659=1,H1659*10^RANDBETWEEN(IF(Worksheet!$D$9,-1,0),0),IF(I1659=2,H1659*10^RANDBETWEEN(RANDBETWEEN(0,2),2),CHOOSE(RANDBETWEEN(1,3),5,10,20)))","v":0.4},{"$f":"IF(I1659=1,D1659,IF(I1659=3,\"%\",\"cm³\"))","v":"litres"},4,{"$f":"IF(AND(Worksheet!$D$8,RAND()<0.2),3,IF(RAND()<Worksheet!$D$7/100,1,2))","v":1},{"$f":"IF(I1659=1,C1659-F1659,IF(I1659=2,C1659-F1659/1000,IF(I1659=3,(1-F1659/100)*C1659,\"\")))","v":267.60000000000002}," litres",{"$f":"J1659*1000","v":267600},"cm³",{"$f":"IF(I1659=1,C1659+F1659,IF(I1659=2,C1659+F1659/1000,IF(I1659=3,(1+F1659/100)*C1659,\"\")))","v":268.39999999999998},"  litres",{"$f":"N1659*1000","v":268400},"cm³"]
[{"$f":"IF(COUNTIF($B$1:B1660,TRUE)=COUNTIF($B$1:B1659,TRUE),\"\",COUNTIF($B$1:B1660,TRUE))","v":""},{"$f":"Worksheet!$D$15","v":false},{"$f":"RANDBETWEEN(5,20)","v":16},"min","±",{"$f":"IF(I1660=1,H1660*10^RANDBETWEEN(IF(Worksheet!$D$9,-1,0),0),IF(I1660=2,H1660,CHOOSE(RANDBETWEEN(1,3),5,10,20)))","v":0.2},{"$f":"IF(I1660=1,D1660,IF(I1660=3,\"%\",\"sec\"))","v":"min"},2,{"$f":"IF(AND(Worksheet!$D$8,RAND()<0),3,IF(RAND()<Worksheet!$D$7/100,1,2))","v":1},null," min",{"$f":"IF(I1660=1,C1660-F1660,IF(I1660=2,C1660*60-F1660,\"\"))","v":15.8},{"$f":"IF($I1660=1,\" hours\",\" min\")","v":" hours"},null,"  min",{"$f":"IF(I1660=1,C1660+F1660,IF(I1660=2,C1660*60+F1660,\"\"))","v":16.2},{"$f":"IF($I1660=1,\" hours\",\" min\")","v":" hours"}]
[{"$f":"COUNTIF($B$1:B1661,TRUE)","v":1303},{"$f":"Worksheet!$B$11","v":true},{"$f":"RANDBETWEEN(5,RANDBETWEEN(5,Worksheet!$D$6))","v":115},"cm","±",{"$f":"IF(I1661=1,H1661*10^RANDBETWEEN(IF(Worksheet!$D$9,-1,0),0),IF(I1661=2,H1661,CHOOSE(RANDBETWEEN(1,3),5,10,20)))","v":4},{"$f":"IF(I1661=1,D1661,IF(I1661=3,\"%\",\"mm\"))","v":"cm"},{"$f":"RANDBETWEEN(1,MIN(9,C1661))","v":4},{"$f":"IF(AND(Worksheet!$D$8,RAND()<0.2),3,IF(RAND()<Worksheet!$D$7/100,1,2))","v":1},{"$f":"IF(I1661=1,C1661-F1661,IF(I1661=2,C1661-F1661/10,IF(I1661=3,(1-F1661/100)*C1661,\"\")))","v":111},{"$f":"CONCATENATE(\" \",D1661)","v":" cm"},{"$f":"J1661*10","v":1110},"mm",{"$f":"IF(I1661=1,C1661+F1661,IF(I1661=2,C1661+F1661/10,IF(I1661=3,(1+F1661/100)*C1661,\"\")))","v":119},{"$f":"CONCATENATE(\" \",K1661)","v":"  cm"},{"$f":"N1661*10","v":1190},"mm"]
[{"$f":"IF(COUNTIF($B$1:B1662,TRUE)=COUNTIF($B$1:B1661,TRUE),\"\",COUNTIF($B$1:B1662,TRUE))","v":1304},{"$f":"Worksheet!$B$12","v":true},{"$f":"RANDBETWEEN(5,RANDBETWEEN(5,Worksheet!$D$6))","v":102},"m","±",{"$f":"IF(I1662=1,H1662*10^RANDBETWEEN(IF(Worksheet!$D$9,-1,0),0),IF(I1662=2,H1662*10^RANDBETWEEN(RANDBETWEEN(0,1),1),CHOOSE(RANDBETWEEN(1,3),5,10,20)))","v":0.2},{"$f":"IF(I1662=1,D1662,IF(I1662=3,\"%\",\"cm\"))","v":"m"},{"$f":"RANDBETWEEN(1,MIN(9,C1662))","v":2},{"$f":"IF(AND(Worksheet!$D$8,RAND()<0.2),3,IF(RAND()<Worksheet!$D$7/100,1,2))","v":1},{"$f":"IF(I1662=1,C1662-F1662,IF(I1662=2,C1662-F1662/100,IF(I1662=3,(1-F1662/100)*C1662,\"\")))","v":101.8},{"$f":"CONCATENATE(\" \",D1662)","v":" m"},{"$f":"J1662*100","v":10180},"cm",{"$f":"IF(I1662=1,C1662+F1662,IF(I1662=2,C1662+F1662/100,IF(I1662=3,(1+F1662/100)*C1662,\"\")))","v":102.2},{"$f":"CONCATENATE(\" \",K1662)","v":"  m"},{"$f":"N1662*100","v":10220},"cm"]
[{"$f":"IF(COUNTIF($B$1:B1663,TRUE)=COUNTIF($B$1:B1662,TRUE),\"\",COUNTIF($B$1:B1663,TRUE))","v":1305},{"$f":"Worksheet!$B$13","v":true},{"$f":"RANDBETWEEN(5,RANDBETWEEN(5,Worksheet!$D$6))","v":269},"km","±",{"$f":"IF(I1663=1,H1663*10^RANDBETWEEN(IF(Worksheet!$D$9,-1,0),0),IF(I1663=2,H1663*10^RANDBETWEEN(RANDBETWEEN(0,2),2),CHOOSE(RANDBETWEEN(1,3),5,10,20)))","v":2},{"$f":"IF(I1663=1,D1663,IF(I1663=3,\"%\",\"m\"))","v":"m"},2,{"$f":"IF(AND(Worksheet!$D$8,RAND()<0.2),3,IF(RAND()<Worksheet!$D$7/100,1,2))","v":2},{"$f":"IF(I1663=1,C1663-F1663,IF(I1663=2,C1663-F1663/1000,IF(I1663=3,(1-F1663/100)*C1663,\"\")))","v":268.99799999999999}," km",{"$f":"J1663*1000","v":268998},"m",{"$f":"IF(I1663=1,C1663+F1663,IF(I1663=2,C1663+F1663/1000,IF(I1663=3,(1+F1663/100)*C1663,\"\")))","v":269.00200000000001},"  km",{"$f":"N1663*1000","v":269002},"m"]
[{"$f":"IF(COUNTIF($B$1:B1664,TRUE)=COUNTIF($B$1:B1663,TRUE),\"\",COUNTIF($B$1:B1664,TRUE))","v":""},{"$f":"Worksheet!$B$14","v":false},{"$f":"RANDBETWEEN(5,RANDBETWEEN(5,Worksheet!$D$6))","v":15},"m","±",{"$f":"IF(I1664=1,H1664*10^RANDBETWEEN(IF(Worksheet!$D$9,-1,0),0),IF(I1664=2,H1664*10^RANDBETWEEN(RANDBETWEEN(0,2),2),CHOOSE(RANDBETWEEN(1,3),5,10,20)))","v":3},{"$f":"IF(I1664=1,D1664,IF(I1664=3,\"%\",\"mm\"))","v":"m"},3,{"$f":"IF(AND(Worksheet!$D$8,RAND()<0.2),3,IF(RAND()<Worksheet!$D$7/100,1,2))","v":1},{"$f":"IF(I1664=1,C1664-F1664,IF(I1664=2,C1664-F1664/1000,IF(I1664=3,(1-F1664/100)*C1664,\"\")))","v":12}," m",{"$f":"J1664*1000","v":12000},"mm",{"$f":"IF(I1664=1,C1664+F1664,IF(I1664=2,C1664+F1664/1000,IF(I1664=3,(1+F1664/100)*C1664,\"\")))","v":18},"  m",{"$f":"N1664*1000","v":18000},"mm"]
[{"$f":"IF(COUNTIF($B$1:B1665,TRUE)=COUNTIF($B$1:B1664,TRUE),\"\",COUNTIF($B$1:B1665,TRUE))","v":1306},{"$f":"Worksheet!$B$15","v":true},{"$f":"RANDBETWEEN(5,20)","v":14},"hours","±",{"$f":"IF(I1665=1,H1665*10^RANDBETWEEN(IF(Worksheet!$D$9,-1,0),0),IF(I1665=2,H1665,CHOOSE(RANDBETWEEN(1,3),5,10,20)))","v":9},{"$f":"IF(I1665=1,D1665,IF(I1665=3,\"%\",\"min\"))","v":"min"},9,{"$f":"IF(AND(Worksheet!$D$8,RAND()<0),3,IF(RAND()<Worksheet!$D$7/100,1,2))","v":2},null," hours",{"$f":"IF(I1665=1,C1665-F1665,IF(I1665=2,C1665*60-F1665,\"\"))","v":831},{"$f":"IF($I1665=1,\" hours\",\" min\")","v":" min"},null,"  hours",{"$f":"IF(I1665=1,C1665+F1665,IF(I1665=2,C1665*60+F1665,\"\"))","v":849},{"$f":"IF($I1665=1,\" hours\",\" min\")","v":" min"}]
[{"$f":"IF(COUNTIF($B$1:B1666,TRUE)=COUNTIF($B$1:B1665,TRUE),\"\",COUNTIF($B$1:B1666,TRUE))","v":1307},{"$f":"Worksheet!$D$11","v":true},{"$f":"RANDBETWEEN(5,RANDBETWEEN(5,Worksheet!$D$6))","v":11},"kg","±",{"$f":"IF(I1666=1,H1666*10^RANDBETWEEN(IF(Worksheet!$D$9,-1,0),0),IF(I1666=2,H1666*10^RANDBETWEEN(RANDBETWEEN(0,2),2),CHOOSE(RANDBETWEEN(1,3),5,10,20)))","v":90},{"$f":"IF(I1666=1,D1666,IF(I1666=3,\"%\",\"g\"))","v":"g"},9,{"$f":"IF(AND(Worksheet!$D$8,RAND()<0.2),3,IF(RAND()<Worksheet!$D$7/100,1,2))","v":2},{"$f":"IF(I1666=1,C1666-F1666,IF(I1666=2,C1666-F1666/1000,IF(I1666=3,(1-F1666/100)*C1666,\"\")))","v":10.91}," kg",{"$f":"J1666*1000","v":10910},"g",{"$f":"IF(I1666=1,C1666+F1666,IF(I1666=2,C1666+F1666/1000,IF(I1666=3,(1+F1666/100)*C1666,\"\")))","v":11.09},"  kg",{"$f":"N1666*1000","v":11090},"g"]
[{"$f":"IF(COUNTIF($B$1:B1667,TRUE)=COUNTIF($B$1:B1666,TRUE),\"\",COUNTIF($B$1:B1667,TRUE))","v":1308},{"$f":"Worksheet!$D$12","v":true},{"$f":"RANDBETWEEN(5,RANDBETWEEN(5,Worksheet!$D$6))","v":120},"tonnes","±",{"$f":"IF(I1667=1,H1667*10^RANDBETWEEN(IF(Worksheet!$D$9,-1,0),0),IF(I1667=2,H1667*10^RANDBETWEEN(RANDBETWEEN(0,2),2),CHOOSE(RANDBETWEEN(1,3),5,10,20)))","v":0.30000000000000004},{"$f":"IF(I1667=1,D1667,IF(I1667=3,\"%\",\"kg\"))","v":"tonnes"},3,{"$f":"IF(AND(Worksheet!$D$8,RAND()<0.2),3,IF(RAND()<Worksheet!$D$7/100,1,2))","v":1},{"$f":"IF(I1667=1,C1667-F1667,IF(I1667=2,C1667-F1667/1000,IF(I1667=3,(1-F1667/100)*C1667,\"\")))","v":119.7}," tonnes",{"$f":"J1667*1000","v":119700},"kg",{"$f":"IF(I1667=1,C1667+F1667,IF(I1667=2,C1667+F1667/1000,IF(I1667=3,(1+F1667/100)*C1667,\"\")))","v":120.3},"  tonnes",{"$f":"N1667*1000","v":120300},"kg"]
[{"$f":"IF(COUNTIF($B$1:B1668,TRUE)=COUNTIF($B$1:B1667,TRUE),\"\",COUNTIF($B$1:B1668,TRUE))","v":1309},{"$f":"Worksheet!$D$13","v":true},{"$f":"RANDBETWEEN(5,RANDBETWEEN(5,Worksheet!$D$6))","v":305},"litres","±",{"$f":"IF(I1668=1,H1668*10^RANDBETWEEN(IF(Worksheet!$D$9,-1,0),0),IF(I1668=2,H1668*10^RANDBETWEEN(RANDBETWEEN(0,2),2),CHOOSE(RANDBETWEEN(1,3),5,10,20)))","v":8},{"$f":"IF(I1668=1,D1668,IF(I1668=3,\"%\",\"ml\"))","v":"ml"},8,{"$f":"IF(AND(Worksheet!$D$8,RAND()<0.2),3,IF(RAND()<Worksheet!$D$7/100,1,2))","v":2},{"$f":"IF(I1668=1,C1668-F1668,IF(I1668=2,C1668-F1668/1000,IF(I1668=3,(1-F1668/100)*C1668,\"\")))","v":304.99200000000002}," litres",{"$f":"J1668*1000","v":304992},"ml",{"$f":"IF(I1668=1,C1668+F1668,IF(I1668=2,C1668+F1668/1000,IF(I1668=3,(1+F1668/100)*C1668,\"\")))","v":305.00799999999998},"  litres",{"$f":"N1668*1000","v":305008},"ml"]
[{"$f":"IF(COUNTIF($B$1:B1669,TRUE)=COUNTIF($B$1:B1668,TRUE),\"\",COUNTIF($B$1:B1669,TRUE))","v":1310},{"$f":"Worksheet!$D$14","v":true},{"$f":"RANDBETWEEN(5,RANDBETWEEN(5,Worksheet!$D$6))","v":272},"litres","±",{"$f":"IF(I1669=1,H1669*10^RANDBETWEEN(IF(Worksheet!$D$9,-1,0),0),IF(I1669=2,H1669*10^RANDBETWEEN(RANDBETWEEN(0,2),2),CHOOSE(RANDBETWEEN(1,3),5,10,20)))","v":0.70000000000000007},{"$f":"IF(I1669=1,D1669,IF(I1669=3,\"%\",\"cm³\"))","v":"litres"},7,{"$f":"IF(AND(Worksheet!$D$8,RAND()<0.2),3,IF(RAND()<Worksheet!$D$7/100,1,2))","v":1},{"$f":"IF(I1669=1,C1669-F1669,IF(I1669=2,C1669-F1669/1000,IF(I1669=3,(1-F1669/100)*C1669,\"\")))","v":271.3}," litres",{"$f":"J1669*1000","v":271300},"cm³",{"$f":"IF(I1669=1,C1669+F1669,IF(I1669=2,C1669+F1669/1000,IF(I1669=3,(1+F1669/100)*C1669,\"\")))","v":272.7},"  litres",{"$f":"N1669*1000","v":272700},"cm³"]
[{"$f":"IF(COUNTIF($B$1:B1670,TRUE)=COUNTIF($B$1:B1669,TRUE),\"\",COUNTIF($B$1:B1670,TRUE))","v":""},{"$f":"Worksheet!$D$15","v":false},{"$f":"RANDBETWEEN(5,20)","v":6},"min","±",{"$f":"IF(I1670=1,H1670*10^RANDBETWEEN(IF(Worksheet!$D$9,-1,0),0),IF(I1670=2,H1670,CHOOSE(RANDBETWEEN(1,3),5,10,20)))","v":1},{"$f":"IF(I1670=1,D1670,IF(I1670=3,\"%\",\"sec\"))","v":"min"},1,{"$f":"IF(AND(Worksheet!$D$8,RAND()<0),3,IF(RAND()<Worksheet!$D$7/100,1,2))","v":1},null," min",{"$f":"IF(I1670=1,C1670-F1670,IF(I1670=2,C1670*60-F1670,\"\"))","v":5},{"$f":"IF($I1670=1,\" hours\",\" min\")","v":" hours"},null,"  min",{"$f":"IF(I1670=1,C1670+F1670,IF(I1670=2,C1670*60+F1670,\"\"))","v":7},{"$f":"IF($I1670=1,\" hours\",\" min\")","v":" hours"}]
[{"$f":"COUNTIF($B$1:B1671,TRUE)","v":1311},{"$f":"Worksheet!$B$11","v":true},{"$f":"RANDBETWEEN(5,RANDBETWEEN(5,Worksheet!$D$6))","v":227},"cm","±",{"$f":"IF(I1671=1,H1671*10^RANDBETWEEN(IF(Worksheet!$D$9,-1,0),0),IF(I1671=2,H1671,CHOOSE(RANDBETWEEN(1,3),5,10,20)))","v":6},{"$f":"IF(I1671=1,D1671,IF(I1671=3,\"%\",\"mm\"))","v":"mm"},{"$f":"RANDBETWEEN(1,MIN(9,C1671))","v":6},{"$f":"IF(AND(Worksheet!$D$8,RAND()<0.2),3,IF(RAND()<Worksheet!$D$7/100,1,2))","v":2},{"$f":"IF(I1671=1,C1671-F1671,IF(I1671=2,C1671-F1671/10,IF(I1671=3,(1-F1671/100)*C1671,\"\")))","v":226.4},{"$f":"CONCATENATE(\" \",D1671)","v":" cm"},{"$f":"J1671*10","v":2264},"mm",{"$f":"IF(I1671=1,C1671+F1671,IF(I1671=2,C1671+F1671/10,IF(I1671=3,(1+F1671/100)*C1671,\"\")))","v":227.6},{"$f":"CONCATENATE(\" \",K1671)","v":"  cm"},{"$f":"N1671*10","v":2276},"mm"]
[{"$f":"IF(COUNTIF($B$1:B1672,TRUE)=COUNTIF($B$1:B1671,TRUE),\"\",COUNTIF($B$1:B1672,TRUE))","v":1312},{"$f":"Worksheet!$B$12","v":true},{"$f":"RANDBETWEEN(5,RANDBETWEEN(5,Worksheet!$D$6))","v":38},"m","±",{"$f":"IF(I1672=1,H1672*10^RANDBETWEEN(IF(Worksheet!$D$9,-1,0),0),IF(I1672=2,H1672*10^RANDBETWEEN(RANDBETWEEN(0,1),1),CHOOSE(RANDBETWEEN(1,3),5,10,20)))","v":10},{"$f":"IF(I1672=1,D1672,IF(I1672=3,\"%\",\"cm\"))","v":"%"},{"$f":"RANDBETWEEN(1,MIN(9,C1672))","v":9},{"$f":"IF(AND(Worksheet!$D$8,RAND()<0.2),3,IF(RAND()<Worksheet!$D$7/100,1,2))","v":3},{"$f":"IF(I1672=1,C1672-F1672,IF(I1672=2,C1672-F1672/100,IF(I1672=3,(1-F1672/100)*C1672,\"\")))","v":34.200000000000003},{"$f":"CONCATENATE(\" \",D1672)","v":" m"},{"$f":"J1672*100","v":3420.0000000000005},"cm",{"$f":"IF(I1672=1,C1672+F1672,IF(I1672=2,C1672+F1672/100,IF(I1672=3,(1+F1672/100)*C1672,\"\")))","v":41.800000000000004},{"$f":"CONCATENATE(\" \",K1672)","v":"  m"},{"$f":"N1672*100","v":4180},"cm"]
[{"$f":"IF(COUNTIF($B$1:B1673,TRUE)=COUNTIF($B$1:B1672,TRUE),\"\",COUNTIF($B$1:B1673,TRUE))","v":1313},{"$f":"Worksheet!$B$13","v":true},{"$f":"RANDBETWEEN(5,RANDBETWEEN(5,Worksheet!$D$6))","v":23},"km","±",{"$f":"IF(I1673=1,H1673*10^RANDBETWEEN(IF(Worksheet!$D$9,-1,0),0),IF(I1673=2,H1673*10^RANDBETWEEN(RANDBETWEEN(0,2),2),CHOOSE(RANDBETWEEN(1,3),5,10,20)))","v":5},{"$f":"IF(I1673=1,D1673,IF(I1673=3,\"%\",\"m\"))","v":"km"},5,{"$f":"IF(AND(Worksheet!$D$8,RAND()<0.2),3,IF(RAND()<Worksheet!$D$7/100,1,2))","v":1},{"$f":"IF(I1673=1,C1673-F1673,IF(I1673=2,C1673-F1673/1000,IF(I1673=3,(1-F1673/100)*C1673,\"\")))","v":18}," km",{"$f":"J1673*1000","v":18000},"m",{"$f":"IF(I1673=1,C1673+F1673,IF(I1673=2,C1673+F1673/1000,IF(I1673=3,(1+F1673/100)*C1673,\"\")))","v":28},"  km",{"$f":"N1673*1000","v":28000},"m"]
[{"$f":"IF(COUNTIF($B$1:B1674,TRUE)=COUNTIF($B$1:B1673,TRUE),\"\",COUNTIF($B$1:B1674,TRUE))","v":""},{"$f":"Worksheet!$B$14","v":false},{"$f":"RANDBETWEEN(5,RANDBETWEEN(5,Worksheet!$D$6))","v":293},"m","±",{"$f":"IF(I1674=1,H1674*10^RANDBETWEEN(IF(Worksheet!$D$9,-1,0),0),IF(I1674=2,H1674*10^RANDBETWEEN(RANDBETWEEN(0,2),2),CHOOSE(RANDBETWEEN(1,3),5,10,20)))","v":4},{"$f":"IF(I1674=1,D1674,IF(I1674=3,\"%\",\"mm\"))","v":"m"},4,{"$f":"IF(AND(Worksheet!$D$8,RAND()<0.2),3,IF(RAND()<Worksheet!$D$7/100,1,2))","v":1},{"$f":"IF(I1674=1,C1674-F1674,IF(I1674=2,C1674-F1674/1000,IF(I1674=3,(1-F1674/100)*C1674,\"\")))","v":289}," m",{"$f":"J1674*1000","v":289000},"mm",{"$f":"IF(I1674=1,C1674+F1674,IF(I1674=2,C1674+F1674/1000,IF(I1674=3,(1+F1674/100)*C1674,\"\")))","v":297},"  m",{"$f":"N1674*1000","v":297000},"mm"]
[{"$f":"IF(COUNTIF($B$1:B1675,TRUE)=COUNTIF($B$1:B1674,TRUE),\"\",COUNTIF($B$1:B1675,TRUE))","v":1314},{"$f":"Worksheet!$B$15","v":true},{"$f":"RANDBETWEEN(5,20)","v":11},"hours","±",{"$f":"IF(I1675=1,H1675*10^RANDBETWEEN(IF(Worksheet!$D$9,-1,0),0),IF(I1675=2,H1675,CHOOSE(RANDBETWEEN(1,3),5,10,20)))","v":8},{"$f":"IF(I1675=1,D1675,IF(I1675=3,\"%\",\"min\"))","v":"hours"},8,{"$f":"IF(AND(Worksheet!$D$8,RAND()<0),3,IF(RAND()<Worksheet!$D$7/100,1,2))","v":1},null," hours",{"$f":"IF(I1675=1,C1675-F1675,IF(I1675=2,C1675*60-F1675,\"\"))","v":3},{"$f":"IF($I1675=1,\" hours\",\" min\")","v":" hours"},null,"  hours",{"$f":"IF(I1675=1,C1675+F1675,IF(I1675=2,C1675*60+F1675,\"\"))","v":19},{"$f":"IF($I1675=1,\" hours\",\" min\")","v":" hours"}]
[{"$f":"IF(COUNTIF($B$1:B1676,TRUE)=COUNTIF($B$1:B1675,TRUE),\"\",COUNTIF($B$1:B1676,TRUE))","v":1315},{"$f":"Worksheet!$D$11","v":true},{"$f":"RANDBETWEEN(5,RANDBETWEEN(5,Worksheet!$D$6))","v":116},"kg","±",{"$f":"IF(I1676=1,H1676*10^RANDBETWEEN(IF(Worksheet!$D$9,-1,0),0),IF(I1676=2,H1676*10^RANDBETWEEN(RANDBETWEEN(0,2),2),CHOOSE(RANDBETWEEN(1,3),5,10,20)))","v":0.60000000000000009},{"$f":"IF(I1676=1,D1676,IF(I1676=3,\"%\",\"g\"))","v":"kg"},6,{"$f":"IF(AND(Worksheet!$D$8,RAND()<0.2),3,IF(RAND()<Worksheet!$D$7/100,1,2))","v":1},{"$f":"IF(I1676=1,C1676-F1676,IF(I1676=2,C1676-F1676/1000,IF(I1676=3,(1-F1676/100)*C1676,\"\")))","v":115.4}," kg",{"$f":"J1676*1000","v":115400},"g",{"$f":"IF(I1676=1,C1676+F1676,IF(I1676=2,C1676+F1676/1000,IF(I1676=3,(1+F1676/100)*C1676,\"\")))","v":116.6},"  kg",{"$f":"N1676*1000","v":116600},"g"]
[{"$f":"IF(COUNTIF($B$1:B1677,TRUE)=COUNTIF($B$1:B1676,TRUE),\"\",COUNTIF($B$1:B1677,TRUE))","v":1316},{"$f":"Worksheet!$D$12","v":true},{"$f":"RANDBETWEEN(5,RANDBETWEEN(5,Worksheet!$D$6))","v":10},"tonnes","±",{"$f":"IF(I1677=1,H1677*10^RANDBETWEEN(IF(Worksheet!$D$9,-1,0),0),IF(I1677=2,H1677*10^RANDBETWEEN(RANDBETWEEN(0,2),2),CHOOSE(RANDBETWEEN(1,3),5,10,20)))","v":8},{"$f":"IF(I1677=1,D1677,IF(I1677=3,\"%\",\"kg\"))","v":"tonnes"},8,{"$f":"IF(AND(Worksheet!$D$8,RAND()<0.2),3,IF(RAND()<Worksheet!$D$7/100,1,2))","v":1},{"$f":"IF(I1677=1,C1677-F1677,IF(I1677=2,C1677-F1677/1000,IF(I1677=3,(1-F1677/100)*C1677,\"\")))","v":2}," tonnes",{"$f":"J1677*1000","v":2000},"kg",{"$f":"IF(I1677=1,C1677+F1677,IF(I1677=2,C1677+F1677/1000,IF(I1677=3,(1+F1677/100)*C1677,\"\")))","v":18},"  tonnes",{"$f":"N1677*1000","v":18000},"kg"]
[{"$f":"IF(COUNTIF($B$1:B1678,TRUE)=COUNTIF($B$1:B1677,TRUE),\"\",COUNTIF($B$1:B1678,TRUE))","v":1317},{"$f":"Worksheet!$D$13","v":true},{"$f":"RANDBETWEEN(5,RANDBETWEEN(5,Worksheet!$D$6))","v":182},"litres","±",{"$f":"IF(I1678=1,H1678*10^RANDBETWEEN(IF(Worksheet!$D$9,-1,0),0),IF(I1678=2,H1678*10^RANDBETWEEN(RANDBETWEEN(0,2),2),CHOOSE(RANDBETWEEN(1,3),5,10,20)))","v":4},{"$f":"IF(I1678=1,D1678,IF(I1678=3,\"%\",\"ml\"))","v":"litres"},4,{"$f":"IF(AND(Worksheet!$D$8,RAND()<0.2),3,IF(RAND()<Worksheet!$D$7/100,1,2))","v":1},{"$f":"IF(I1678=1,C1678-F1678,IF(I1678=2,C1678-F1678/1000,IF(I1678=3,(1-F1678/100)*C1678,\"\")))","v":178}," litres",{"$f":"J1678*1000","v":178000},"ml",{"$f":"IF(I1678=1,C1678+F1678,IF(I1678=2,C1678+F1678/1000,IF(I1678=3,(1+F1678/100)*C1678,\"\")))","v":186},"  litres",{"$f":"N1678*1000","v":186000},"ml"]
[{"$f":"IF(COUNTIF($B$1:B1679,TRUE)=COUNTIF($B$1:B1678,TRUE),\"\",COUNTIF($B$1:B1679,TRUE))","v":1318},{"$f":"Worksheet!$D$14","v":true},{"$f":"RANDBETWEEN(5,RANDBETWEEN(5,Worksheet!$D$6))","v":68},"litres","±",{"$f":"IF(I1679=1,H1679*10^RANDBETWEEN(IF(Worksheet!$D$9,-1,0),0),IF(I1679=2,H1679*10^RANDBETWEEN(RANDBETWEEN(0,2),2),CHOOSE(RANDBETWEEN(1,3),5,10,20)))","v":4},{"$f":"IF(I1679=1,D1679,IF(I1679=3,\"%\",\"cm³\"))","v":"litres"},4,{"$f":"IF(AND(Worksheet!$D$8,RAND()<0.2),3,IF(RAND()<Worksheet!$D$7/100,1,2))","v":1},{"$f":"IF(I1679=1,C1679-F1679,IF(I1679=2,C1679-F1679/1000,IF(I1679=3,(1-F1679/100)*C1679,\"\")))","v":64}," litres",{"$f":"J1679*1000","v":64000},"cm³",{"$f":"IF(I1679=1,C1679+F1679,IF(I1679=2,C1679+F1679/1000,IF(I1679=3,(1+F1679/100)*C1679,\"\")))","v":72},"  litres",{"$f":"N1679*1000","v":72000},"cm³"]
[{"$f":"IF(COUNTIF($B$1:B1680,TRUE)=COUNTIF($B$1:B1679,TRUE),\"\",COUNTIF($B$1:B1680,TRUE))","v":""},{"$f":"Worksheet!$D$15","v":false},{"$f":"RANDBETWEEN(5,20)","v":10},"min","±",{"$f":"IF(I1680=1,H1680*10^RANDBETWEEN(IF(Worksheet!$D$9,-1,0),0),IF(I1680=2,H1680,CHOOSE(RANDBETWEEN(1,3),5,10,20)))","v":4},{"$f":"IF(I1680=1,D1680,IF(I1680=3,\"%\",\"sec\"))","v":"sec"},4,{"$f":"IF(AND(Worksheet!$D$8,RAND()<0),3,IF(RAND()<Worksheet!$D$7/100,1,2))","v":2},null," min",{"$f":"IF(I1680=1,C1680-F1680,IF(I1680=2,C1680*60-F1680,\"\"))","v":596},{"$f":"IF($I1680=1,\" hours\",\" min\")","v":" min"},null,"  min",{"$f":"IF(I1680=1,C1680+F1680,IF(I1680=2,C1680*60+F1680,\"\"))","v":604},{"$f":"IF($I1680=1,\" hours\",\" min\")","v":" min"}]
[{"$f":"COUNTIF($B$1:B1681,TRUE)","v":1319},{"$f":"Worksheet!$B$11","v":true},{"$f":"RANDBETWEEN(5,RANDBETWEEN(5,Worksheet!$D$6))","v":141},"cm","±",{"$f":"IF(I1681=1,H1681*10^RANDBETWEEN(IF(Worksheet!$D$9,-1,0),0),IF(I1681=2,H1681,CHOOSE(RANDBETWEEN(1,3),5,10,20)))","v":5},{"$f":"IF(I1681=1,D1681,IF(I1681=3,\"%\",\"mm\"))","v":"mm"},{"$f":"RANDBETWEEN(1,MIN(9,C1681))","v":5},{"$f":"IF(AND(Worksheet!$D$8,RAND()<0.2),3,IF(RAND()<Worksheet!$D$7/100,1,2))","v":2},{"$f":"IF(I1681=1,C1681-F1681,IF(I1681=2,C1681-F1681/10,IF(I1681=3,(1-F1681/100)*C1681,\"\")))","v":140.5},{"$f":"CONCATENATE(\" \",D1681)","v":" cm"},{"$f":"J1681*10","v":1405},"mm",{"$f":"IF(I1681=1,C1681+F1681,IF(I1681=2,C1681+F1681/10,IF(I1681=3,(1+F1681/100)*C1681,\"\")))","v":141.5},{"$f":"CONCATENATE(\" \",K1681)","v":"  cm"},{"$f":"N1681*10","v":1415},"mm"]
[{"$f":"IF(COUNTIF($B$1:B1682,TRUE)=COUNTIF($B$1:B1681,TRUE),\"\",COUNTIF($B$1:B1682,TRUE))","v":1320},{"$f":"Worksheet!$B$12","v":true},{"$f":"RANDBETWEEN(5,RANDBETWEEN(5,Worksheet!$D$6))","v":81},"m","±",{"$f":"IF(I1682=1,H1682*10^RANDBETWEEN(IF(Worksheet!$D$9,-1,0),0),IF(I1682=2,H1682*10^RANDBETWEEN(RANDBETWEEN(0,1),1),CHOOSE(RANDBETWEEN(1,3),5,10,20)))","v":0.60000000000000009},{"$f":"IF(I1682=1,D1682,IF(I1682=3,\"%\",\"cm\"))","v":"m"},{"$f":"RANDBETWEEN(1,MIN(9,C1682))","v":6},{"$f":"IF(AND(Worksheet!$D$8,RAND()<0.2),3,IF(RAND()<Worksheet!$D$7/100,1,2))","v":1},{"$f":"IF(I1682=1,C1682-F1682,IF(I1682=2,C1682-F1682/100,IF(I1682=3,(1-F1682/100)*C1682,\"\")))","v":80.400000000000006},{"$f":"CONCATENATE(\" \",D1682)","v":" m"},{"$f":"J1682*100","v":8040.0000000000009},"cm",{"$f":"IF(I1682=1,C1682+F1682,IF(I1682=2,C1682+F1682/100,IF(I1682=3,(1+F1682/100)*C1682,\"\")))","v":81.599999999999994},{"$f":"CONCATENATE(\" \",K1682)","v":"  m"},{"$f":"N1682*100","v":8159.9999999999991},"cm"]
[{"$f":"IF(COUNTIF($B$1:B1683,TRUE)=COUNTIF($B$1:B1682,TRUE),\"\",COUNTIF($B$1:B1683,TRUE))","v":1321},{"$f":"Worksheet!$B$13","v":true},{"$f":"RANDBETWEEN(5,RANDBETWEEN(5,Worksheet!$D$6))","v":8},"km","±",{"$f":"IF(I1683=1,H1683*10^RANDBETWEEN(IF(Worksheet!$D$9,-1,0),0),IF(I1683=2,H1683*10^RANDBETWEEN(RANDBETWEEN(0,2),2),CHOOSE(RANDBETWEEN(1,3),5,10,20)))","v":0.2},{"$f":"IF(I1683=1,D1683,IF(I1683=3,\"%\",\"m\"))","v":"km"},2,{"$f":"IF(AND(Worksheet!$D$8,RAND()<0.2),3,IF(RAND()<Worksheet!$D$7/100,1,2))","v":1},{"$f":"IF(I1683=1,C1683-F1683,IF(I1683=2,C1683-F1683/1000,IF(I1683=3,(1-F1683/100)*C1683,\"\")))","v":7.8}," km",{"$f":"J1683*1000","v":7800},"m",{"$f":"IF(I1683=1,C1683+F1683,IF(I1683=2,C1683+F1683/1000,IF(I1683=3,(1+F1683/100)*C1683,\"\")))","v":8.1999999999999993},"  km",{"$f":"N1683*1000","v":8200},"m"]
[{"$f":"IF(COUNTIF($B$1:B1684,TRUE)=COUNTIF($B$1:B1683,TRUE),\"\",COUNTIF($B$1:B1684,TRUE))","v":""},{"$f":"Worksheet!$B$14","v":false},{"$f":"RANDBETWEEN(5,RANDBETWEEN(5,Worksheet!$D$6))","v":266},"m","±",{"$f":"IF(I1684=1,H1684*10^RANDBETWEEN(IF(Worksheet!$D$9,-1,0),0),IF(I1684=2,H1684*10^RANDBETWEEN(RANDBETWEEN(0,2),2),CHOOSE(RANDBETWEEN(1,3),5,10,20)))","v":0.2},{"$f":"IF(I1684=1,D1684,IF(I1684=3,\"%\",\"mm\"))","v":"m"},2,{"$f":"IF(AND(Worksheet!$D$8,RAND()<0.2),3,IF(RAND()<Worksheet!$D$7/100,1,2))","v":1},{"$f":"IF(I1684=1,C1684-F1684,IF(I1684=2,C1684-F1684/1000,IF(I1684=3,(1-F1684/100)*C1684,\"\")))","v":265.8}," m",{"$f":"J1684*1000","v":265800},"mm",{"$f":"IF(I1684=1,C1684+F1684,IF(I1684=2,C1684+F1684/1000,IF(I1684=3,(1+F1684/100)*C1684,\"\")))","v":266.2},"  m",{"$f":"N1684*1000","v":266200},"mm"]
[{"$f":"IF(COUNTIF($B$1:B1685,TRUE)=COUNTIF($B$1:B1684,TRUE),\"\",COUNTIF($B$1:B1685,TRUE))","v":1322},{"$f":"Worksheet!$B$15","v":true},{"$f":"RANDBETWEEN(5,20)","v":13},"hours","±",{"$f":"IF(I1685=1,H1685*10^RANDBETWEEN(IF(Worksheet!$D$9,-1,0),0),IF(I1685=2,H1685,CHOOSE(RANDBETWEEN(1,3),5,10,20)))","v":0.70000000000000007},{"$f":"IF(I1685=1,D1685,IF(I1685=3,\"%\",\"min\"))","v":"hours"},7,{"$f":"IF(AND(Worksheet!$D$8,RAND()<0),3,IF(RAND()<Worksheet!$D$7/100,1,2))","v":1},null," hours",{"$f":"IF(I1685=1,C1685-F1685,IF(I1685=2,C1685*60-F1685,\"\"))","v":12.3},{"$f":"IF($I1685=1,\" hours\",\" min\")","v":" hours"},null,"  hours",{"$f":"IF(I1685=1,C1685+F1685,IF(I1685=2,C1685*60+F1685,\"\"))","v":13.7},{"$f":"IF($I1685=1,\" hours\",\" min\")","v":" hours"}]
[{"$f":"IF(COUNTIF($B$1:B1686,TRUE)=COUNTIF($B$1:B1685,TRUE),\"\",COUNTIF($B$1:B1686,TRUE))","v":1323},{"$f":"Worksheet!$D$11","v":true},{"$f":"RANDBETWEEN(5,RANDBETWEEN(5,Worksheet!$D$6))","v":104},"kg","±",{"$f":"IF(I1686=1,H1686*10^RANDBETWEEN(IF(Worksheet!$D$9,-1,0),0),IF(I1686=2,H1686*10^RANDBETWEEN(RANDBETWEEN(0,2),2),CHOOSE(RANDBETWEEN(1,3),5,10,20)))","v":0.60000000000000009},{"$f":"IF(I1686=1,D1686,IF(I1686=3,\"%\",\"g\"))","v":"kg"},6,{"$f":"IF(AND(Worksheet!$D$8,RAND()<0.2),3,IF(RAND()<Worksheet!$D$7/100,1,2))","v":1},{"$f":"IF(I1686=1,C1686-F1686,IF(I1686=2,C1686-F1686/1000,IF(I1686=3,(1-F1686/100)*C1686,\"\")))","v":103.4}," kg",{"$f":"J1686*1000","v":103400},"g",{"$f":"IF(I1686=1,C1686+F1686,IF(I1686=2,C1686+F1686/1000,IF(I1686=3,(1+F1686/100)*C1686,\"\")))","v":104.6},"  kg",{"$f":"N1686*1000","v":104600},"g"]
[{"$f":"IF(COUNTIF($B$1:B1687,TRUE)=COUNTIF($B$1:B1686,TRUE),\"\",COUNTIF($B$1:B1687,TRUE))","v":1324},{"$f":"Worksheet!$D$12","v":true},{"$f":"RANDBETWEEN(5,RANDBETWEEN(5,Worksheet!$D$6))","v":343},"tonnes","±",{"$f":"IF(I1687=1,H1687*10^RANDBETWEEN(IF(Worksheet!$D$9,-1,0),0),IF(I1687=2,H1687*10^RANDBETWEEN(RANDBETWEEN(0,2),2),CHOOSE(RANDBETWEEN(1,3),5,10,20)))","v":5},{"$f":"IF(I1687=1,D1687,IF(I1687=3,\"%\",\"kg\"))","v":"%"},7,{"$f":"IF(AND(Worksheet!$D$8,RAND()<0.2),3,IF(RAND()<Worksheet!$D$7/100,1,2))","v":3},{"$f":"IF(I1687=1,C1687-F1687,IF(I1687=2,C1687-F1687/1000,IF(I1687=3,(1-F1687/100)*C1687,\"\")))","v":325.84999999999997}," tonnes",{"$f":"J1687*1000","v":325849.99999999994},"kg",{"$f":"IF(I1687=1,C1687+F1687,IF(I1687=2,C1687+F1687/1000,IF(I1687=3,(1+F1687/100)*C1687,\"\")))","v":360.15000000000003},"  tonnes",{"$f":"N1687*1000","v":360150.00000000006},"kg"]
[{"$f":"IF(COUNTIF($B$1:B1688,TRUE)=COUNTIF($B$1:B1687,TRUE),\"\",COUNTIF($B$1:B1688,TRUE))","v":1325},{"$f":"Worksheet!$D$13","v":true},{"$f":"RANDBETWEEN(5,RANDBETWEEN(5,Worksheet!$D$6))","v":78},"litres","±",{"$f":"IF(I1688=1,H1688*10^RANDBETWEEN(IF(Worksheet!$D$9,-1,0),0),IF(I1688=2,H1688*10^RANDBETWEEN(RANDBETWEEN(0,2),2),CHOOSE(RANDBETWEEN(1,3),5,10,20)))","v":6},{"$f":"IF(I1688=1,D1688,IF(I1688=3,\"%\",\"ml\"))","v":"litres"},6,{"$f":"IF(AND(Worksheet!$D$8,RAND()<0.2),3,IF(RAND()<Worksheet!$D$7/100,1,2))","v":1},{"$f":"IF(I1688=1,C1688-F1688,IF(I1688=2,C1688-F1688/1000,IF(I1688=3,(1-F1688/100)*C1688,\"\")))","v":72}," litres",{"$f":"J1688*1000","v":72000},"ml",{"$f":"IF(I1688=1,C1688+F1688,IF(I1688=2,C1688+F1688/1000,IF(I1688=3,(1+F1688/100)*C1688,\"\")))","v":84},"  litres",{"$f":"N1688*1000","v":84000},"ml"]
[{"$f":"IF(COUNTIF($B$1:B1689,TRUE)=COUNTIF($B$1:B1688,TRUE),\"\",COUNTIF($B$1:B1689,TRUE))","v":1326},{"$f":"Worksheet!$D$14","v":true},{"$f":"RANDBETWEEN(5,RANDBETWEEN(5,Worksheet!$D$6))","v":26},"litres","±",{"$f":"IF(I1689=1,H1689*10^RANDBETWEEN(IF(Worksheet!$D$9,-1,0),0),IF(I1689=2,H1689*10^RANDBETWEEN(RANDBETWEEN(0,2),2),CHOOSE(RANDBETWEEN(1,3),5,10,20)))","v":0.2},{"$f":"IF(I1689=1,D1689,IF(I1689=3,\"%\",\"cm³\"))","v":"litres"},2,{"$f":"IF(AND(Worksheet!$D$8,RAND()<0.2),3,IF(RAND()<Worksheet!$D$7/100,1,2))","v":1},{"$f":"IF(I1689=1,C1689-F1689,IF(I1689=2,C1689-F1689/1000,IF(I1689=3,(1-F1689/100)*C1689,\"\")))","v":25.8}," litres",{"$f":"J1689*1000","v":25800},"cm³",{"$f":"IF(I1689=1,C1689+F1689,IF(I1689=2,C1689+F1689/1000,IF(I1689=3,(1+F1689/100)*C1689,\"\")))","v":26.2},"  litres",{"$f":"N1689*1000","v":26200},"cm³"]
[{"$f":"IF(COUNTIF($B$1:B1690,TRUE)=COUNTIF($B$1:B1689,TRUE),\"\",COUNTIF($B$1:B1690,TRUE))","v":""},{"$f":"Worksheet!$D$15","v":false},{"$f":"RANDBETWEEN(5,20)","v":19},"min","±",{"$f":"IF(I1690=1,H1690*10^RANDBETWEEN(IF(Worksheet!$D$9,-1,0),0),IF(I1690=2,H1690,CHOOSE(RANDBETWEEN(1,3),5,10,20)))","v":0.9},{"$f":"IF(I1690=1,D1690,IF(I1690=3,\"%\",\"sec\"))","v":"min"},9,{"$f":"IF(AND(Worksheet!$D$8,RAND()<0),3,IF(RAND()<Worksheet!$D$7/100,1,2))","v":1},null," min",{"$f":"IF(I1690=1,C1690-F1690,IF(I1690=2,C1690*60-F1690,\"\"))","v":18.100000000000001},{"$f":"IF($I1690=1,\" hours\",\" min\")","v":" hours"},null,"  min",{"$f":"IF(I1690=1,C1690+F1690,IF(I1690=2,C1690*60+F1690,\"\"))","v":19.899999999999999},{"$f":"IF($I1690=1,\" hours\",\" min\")","v":" hours"}]
[{"$f":"COUNTIF($B$1:B1691,TRUE)","v":1327},{"$f":"Worksheet!$B$11","v":true},{"$f":"RANDBETWEEN(5,RANDBETWEEN(5,Worksheet!$D$6))","v":5},"cm","±",{"$f":"IF(I1691=1,H1691*10^RANDBETWEEN(IF(Worksheet!$D$9,-1,0),0),IF(I1691=2,H1691,CHOOSE(RANDBETWEEN(1,3),5,10,20)))","v":0.30000000000000004},{"$f":"IF(I1691=1,D1691,IF(I1691=3,\"%\",\"mm\"))","v":"cm"},{"$f":"RANDBETWEEN(1,MIN(9,C1691))","v":3},{"$f":"IF(AND(Worksheet!$D$8,RAND()<0.2),3,IF(RAND()<Worksheet!$D$7/100,1,2))","v":1},{"$f":"IF(I1691=1,C1691-F1691,IF(I1691=2,C1691-F1691/10,IF(I1691=3,(1-F1691/100)*C1691,\"\")))","v":4.7},{"$f":"CONCATENATE(\" \",D1691)","v":" cm"},{"$f":"J1691*10","v":47},"mm",{"$f":"IF(I1691=1,C1691+F1691,IF(I1691=2,C1691+F1691/10,IF(I1691=3,(1+F1691/100)*C1691,\"\")))","v":5.3},{"$f":"CONCATENATE(\" \",K1691)","v":"  cm"},{"$f":"N1691*10","v":53},"mm"]
[{"$f":"IF(COUNTIF($B$1:B1692,TRUE)=COUNTIF($B$1:B1691,TRUE),\"\",COUNTIF($B$1:B1692,TRUE))","v":1328},{"$f":"Worksheet!$B$12","v":true},{"$f":"RANDBETWEEN(5,RANDBETWEEN(5,Worksheet!$D$6))","v":154},"m","±",{"$f":"IF(I1692=1,H1692*10^RANDBETWEEN(IF(Worksheet!$D$9,-1,0),0),IF(I1692=2,H1692*10^RANDBETWEEN(RANDBETWEEN(0,1),1),CHOOSE(RANDBETWEEN(1,3),5,10,20)))","v":6},{"$f":"IF(I1692=1,D1692,IF(I1692=3,\"%\",\"cm\"))","v":"m"},{"$f":"RANDBETWEEN(1,MIN(9,C1692))","v":6},{"$f":"IF(AND(Worksheet!$D$8,RAND()<0.2),3,IF(RAND()<Worksheet!$D$7/100,1,2))","v":1},{"$f":"IF(I1692=1,C1692-F1692,IF(I1692=2,C1692-F1692/100,IF(I1692=3,(1-F1692/100)*C1692,\"\")))","v":148},{"$f":"CONCATENATE(\" \",D1692)","v":" m"},{"$f":"J1692*100","v":14800},"cm",{"$f":"IF(I1692=1,C1692+F1692,IF(I1692=2,C1692+F1692/100,IF(I1692=3,(1+F1692/100)*C1692,\"\")))","v":160},{"$f":"CONCATENATE(\" \",K1692)","v":"  m"},{"$f":"N1692*100","v":16000},"cm"]
[{"$f":"IF(COUNTIF($B$1:B1693,TRUE)=COUNTIF($B$1:B1692,TRUE),\"\",COUNTIF($B$1:B1693,TRUE))","v":1329},{"$f":"Worksheet!$B$13","v":true},{"$f":"RANDBETWEEN(5,RANDBETWEEN(5,Worksheet!$D$6))","v":125},"km","±",{"$f":"IF(I1693=1,H1693*10^RANDBETWEEN(IF(Worksheet!$D$9,-1,0),0),IF(I1693=2,H1693*10^RANDBETWEEN(RANDBETWEEN(0,2),2),CHOOSE(RANDBETWEEN(1,3),5,10,20)))","v":20},{"$f":"IF(I1693=1,D1693,IF(I1693=3,\"%\",\"m\"))","v":"%"},2,{"$f":"IF(AND(Worksheet!$D$8,RAND()<0.2),3,IF(RAND()<Worksheet!$D$7/100,1,2))","v":3},{"$f":"IF(I1693=1,C1693-F1693,IF(I1693=2,C1693-F1693/1000,IF(I1693=3,(1-F1693/100)*C1693,\"\")))","v":100}," km",{"$f":"J1693*1000","v":100000},"m",{"$f":"IF(I1693=1,C1693+F1693,IF(I1693=2,C1693+F1693/1000,IF(I1693=3,(1+F1693/100)*C1693,\"\")))","v":150},"  km",{"$f":"N1693*1000","v":150000},"m"]
[{"$f":"IF(COUNTIF($B$1:B1694,TRUE)=COUNTIF($B$1:B1693,TRUE),\"\",COUNTIF($B$1:B1694,TRUE))","v":""},{"$f":"Worksheet!$B$14","v":false},{"$f":"RANDBETWEEN(5,RANDBETWEEN(5,Worksheet!$D$6))","v":199},"m","±",{"$f":"IF(I1694=1,H1694*10^RANDBETWEEN(IF(Worksheet!$D$9,-1,0),0),IF(I1694=2,H1694*10^RANDBETWEEN(RANDBETWEEN(0,2),2),CHOOSE(RANDBETWEEN(1,3),5,10,20)))","v":500},{"$f":"IF(I1694=1,D1694,IF(I1694=3,\"%\",\"mm\"))","v":"mm"},5,{"$f":"IF(AND(Worksheet!$D$8,RAND()<0.2),3,IF(RAND()<Worksheet!$D$7/100,1,2))","v":2},{"$f":"IF(I1694=1,C1694-F1694,IF(I1694=2,C1694-F1694/1000,IF(I1694=3,(1-F1694/100)*C1694,\"\")))","v":198.5}," m",{"$f":"J1694*1000","v":198500},"mm",{"$f":"IF(I1694=1,C1694+F1694,IF(I1694=2,C1694+F1694/1000,IF(I1694=3,(1+F1694/100)*C1694,\"\")))","v":199.5},"  m",{"$f":"N1694*1000","v":199500},"mm"]
[{"$f":"IF(COUNTIF($B$1:B1695,TRUE)=COUNTIF($B$1:B1694,TRUE),\"\",COUNTIF($B$1:B1695,TRUE))","v":1330},{"$f":"Worksheet!$B$15","v":true},{"$f":"RANDBETWEEN(5,20)","v":12},"hours","±",{"$f":"IF(I1695=1,H1695*10^RANDBETWEEN(IF(Worksheet!$D$9,-1,0),0),IF(I1695=2,H1695,CHOOSE(RANDBETWEEN(1,3),5,10,20)))","v":0.8},{"$f":"IF(I1695=1,D1695,IF(I1695=3,\"%\",\"min\"))","v":"hours"},8,{"$f":"IF(AND(Worksheet!$D$8,RAND()<0),3,IF(RAND()<Worksheet!$D$7/100,1,2))","v":1},null," hours",{"$f":"IF(I1695=1,C1695-F1695,IF(I1695=2,C1695*60-F1695,\"\"))","v":11.2},{"$f":"IF($I1695=1,\" hours\",\" min\")","v":" hours"},null,"  hours",{"$f":"IF(I1695=1,C1695+F1695,IF(I1695=2,C1695*60+F1695,\"\"))","v":12.8},{"$f":"IF($I1695=1,\" hours\",\" min\")","v":" hours"}]
[{"$f":"IF(COUNTIF($B$1:B1696,TRUE)=COUNTIF($B$1:B1695,TRUE),\"\",COUNTIF($B$1:B1696,TRUE))","v":1331},{"$f":"Worksheet!$D$11","v":true},{"$f":"RANDBETWEEN(5,RANDBETWEEN(5,Worksheet!$D$6))","v":269},"kg","±",{"$f":"IF(I1696=1,H1696*10^RANDBETWEEN(IF(Worksheet!$D$9,-1,0),0),IF(I1696=2,H1696*10^RANDBETWEEN(RANDBETWEEN(0,2),2),CHOOSE(RANDBETWEEN(1,3),5,10,20)))","v":5},{"$f":"IF(I1696=1,D1696,IF(I1696=3,\"%\",\"g\"))","v":"%"},1,{"$f":"IF(AND(Worksheet!$D$8,RAND()<0.2),3,IF(RAND()<Worksheet!$D$7/100,1,2))","v":3},{"$f":"IF(I1696=1,C1696-F1696,IF(I1696=2,C1696-F1696/1000,IF(I1696=3,(1-F1696/100)*C1696,\"\")))","v":255.54999999999998}," kg",{"$f":"J1696*1000","v":255549.99999999997},"g",{"$f":"IF(I1696=1,C1696+F1696,IF(I1696=2,C1696+F1696/1000,IF(I1696=3,(1+F1696/100)*C1696,\"\")))","v":282.45},"  kg",{"$f":"N1696*1000","v":282450},"g"]
[{"$f":"IF(COUNTIF($B$1:B1697,TRUE)=COUNTIF($B$1:B1696,TRUE),\"\",COUNTIF($B$1:B1697,TRUE))","v":1332},{"$f":"Worksheet!$D$12","v":true},{"$f":"RANDBETWEEN(5,RANDBETWEEN(5,Worksheet!$D$6))","v":82},"tonnes","±",{"$f":"IF(I1697=1,H1697*10^RANDBETWEEN(IF(Worksheet!$D$9,-1,0),0),IF(I1697=2,H1697*10^RANDBETWEEN(RANDBETWEEN(0,2),2),CHOOSE(RANDBETWEEN(1,3),5,10,20)))","v":0.2},{"$f":"IF(I1697=1,D1697,IF(I1697=3,\"%\",\"kg\"))","v":"tonnes"},2,{"$f":"IF(AND(Worksheet!$D$8,RAND()<0.2),3,IF(RAND()<Worksheet!$D$7/100,1,2))","v":1},{"$f":"IF(I1697=1,C1697-F1697,IF(I1697=2,C1697-F1697/1000,IF(I1697=3,(1-F1697/100)*C1697,\"\")))","v":81.8}," tonnes",{"$f":"J1697*1000","v":81800},"kg",{"$f":"IF(I1697=1,C1697+F1697,IF(I1697=2,C1697+F1697/1000,IF(I1697=3,(1+F1697/100)*C1697,\"\")))","v":82.2},"  tonnes",{"$f":"N1697*1000","v":82200},"kg"]
[{"$f":"IF(COUNTIF($B$1:B1698,TRUE)=COUNTIF($B$1:B1697,TRUE),\"\",COUNTIF($B$1:B1698,TRUE))","v":1333},{"$f":"Worksheet!$D$13","v":true},{"$f":"RANDBETWEEN(5,RANDBETWEEN(5,Worksheet!$D$6))","v":205},"litres","±",{"$f":"IF(I1698=1,H1698*10^RANDBETWEEN(IF(Worksheet!$D$9,-1,0),0),IF(I1698=2,H1698*10^RANDBETWEEN(RANDBETWEEN(0,2),2),CHOOSE(RANDBETWEEN(1,3),5,10,20)))","v":8},{"$f":"IF(I1698=1,D1698,IF(I1698=3,\"%\",\"ml\"))","v":"ml"},8,{"$f":"IF(AND(Worksheet!$D$8,RAND()<0.2),3,IF(RAND()<Worksheet!$D$7/100,1,2))","v":2},{"$f":"IF(I1698=1,C1698-F1698,IF(I1698=2,C1698-F1698/1000,IF(I1698=3,(1-F1698/100)*C1698,\"\")))","v":204.99199999999999}," litres",{"$f":"J1698*1000","v":204992},"ml",{"$f":"IF(I1698=1,C1698+F1698,IF(I1698=2,C1698+F1698/1000,IF(I1698=3,(1+F1698/100)*C1698,\"\")))","v":205.00800000000001},"  litres",{"$f":"N1698*1000","v":205008},"ml"]
[{"$f":"IF(COUNTIF($B$1:B1699,TRUE)=COUNTIF($B$1:B1698,TRUE),\"\",COUNTIF($B$1:B1699,TRUE))","v":1334},{"$f":"Worksheet!$D$14","v":true},{"$f":"RANDBETWEEN(5,RANDBETWEEN(5,Worksheet!$D$6))","v":37},"litres","±",{"$f":"IF(I1699=1,H1699*10^RANDBETWEEN(IF(Worksheet!$D$9,-1,0),0),IF(I1699=2,H1699*10^RANDBETWEEN(RANDBETWEEN(0,2),2),CHOOSE(RANDBETWEEN(1,3),5,10,20)))","v":900},{"$f":"IF(I1699=1,D1699,IF(I1699=3,\"%\",\"cm³\"))","v":"cm³"},9,{"$f":"IF(AND(Worksheet!$D$8,RAND()<0.2),3,IF(RAND()<Worksheet!$D$7/100,1,2))","v":2},{"$f":"IF(I1699=1,C1699-F1699,IF(I1699=2,C1699-F1699/1000,IF(I1699=3,(1-F1699/100)*C1699,\"\")))","v":36.1}," litres",{"$f":"J1699*1000","v":36100},"cm³",{"$f":"IF(I1699=1,C1699+F1699,IF(I1699=2,C1699+F1699/1000,IF(I1699=3,(1+F1699/100)*C1699,\"\")))","v":37.9},"  litres",{"$f":"N1699*1000","v":37900},"cm³"]
[{"$f":"IF(COUNTIF($B$1:B1700,TRUE)=COUNTIF($B$1:B1699,TRUE),\"\",COUNTIF($B$1:B1700,TRUE))","v":""},{"$f":"Worksheet!$D$15","v":false},{"$f":"RANDBETWEEN(5,20)","v":15},"min","±",{"$f":"IF(I1700=1,H1700*10^RANDBETWEEN(IF(Worksheet!$D$9,-1,0),0),IF(I1700=2,H1700,CHOOSE(RANDBETWEEN(1,3),5,10,20)))","v":0.9},{"$f":"IF(I1700=1,D1700,IF(I1700=3,\"%\",\"sec\"))","v":"min"},9,{"$f":"IF(AND(Worksheet!$D$8,RAND()<0),3,IF(RAND()<Worksheet!$D$7/100,1,2))","v":1},null," min",{"$f":"IF(I1700=1,C1700-F1700,IF(I1700=2,C1700*60-F1700,\"\"))","v":14.1},{"$f":"IF($I1700=1,\" hours\",\" min\")","v":" hours"},null,"  min",{"$f":"IF(I1700=1,C1700+F1700,IF(I1700=2,C1700*60+F1700,\"\"))","v":15.9},{"$f":"IF($I1700=1,\" hours\",\" min\")","v":" hours"}]
[{"$f":"COUNTIF($B$1:B1701,TRUE)","v":1335},{"$f":"Worksheet!$B$11","v":true},{"$f":"RANDBETWEEN(5,RANDBETWEEN(5,Worksheet!$D$6))","v":227},"cm","±",{"$f":"IF(I1701=1,H1701*10^RANDBETWEEN(IF(Worksheet!$D$9,-1,0),0),IF(I1701=2,H1701,CHOOSE(RANDBETWEEN(1,3),5,10,20)))","v":5},{"$f":"IF(I1701=1,D1701,IF(I1701=3,\"%\",\"mm\"))","v":"cm"},{"$f":"RANDBETWEEN(1,MIN(9,C1701))","v":5},{"$f":"IF(AND(Worksheet!$D$8,RAND()<0.2),3,IF(RAND()<Worksheet!$D$7/100,1,2))","v":1},{"$f":"IF(I1701=1,C1701-F1701,IF(I1701=2,C1701-F1701/10,IF(I1701=3,(1-F1701/100)*C1701,\"\")))","v":222},{"$f":"CONCATENATE(\" \",D1701)","v":" cm"},{"$f":"J1701*10","v":2220},"mm",{"$f":"IF(I1701=1,C1701+F1701,IF(I1701=2,C1701+F1701/10,IF(I1701=3,(1+F1701/100)*C1701,\"\")))","v":232},{"$f":"CONCATENATE(\" \",K1701)","v":"  cm"},{"$f":"N1701*10","v":2320},"mm"]
[{"$f":"IF(COUNTIF($B$1:B1702,TRUE)=COUNTIF($B$1:B1701,TRUE),\"\",COUNTIF($B$1:B1702,TRUE))","v":1336},{"$f":"Worksheet!$B$12","v":true},{"$f":"RANDBETWEEN(5,RANDBETWEEN(5,Worksheet!$D$6))","v":66},"m","±",{"$f":"IF(I1702=1,H1702*10^RANDBETWEEN(IF(Worksheet!$D$9,-1,0),0),IF(I1702=2,H1702*10^RANDBETWEEN(RANDBETWEEN(0,1),1),CHOOSE(RANDBETWEEN(1,3),5,10,20)))","v":5},{"$f":"IF(I1702=1,D1702,IF(I1702=3,\"%\",\"cm\"))","v":"%"},{"$f":"RANDBETWEEN(1,MIN(9,C1702))","v":9},{"$f":"IF(AND(Worksheet!$D$8,RAND()<0.2),3,IF(RAND()<Worksheet!$D$7/100,1,2))","v":3},{"$f":"IF(I1702=1,C1702-F1702,IF(I1702=2,C1702-F1702/100,IF(I1702=3,(1-F1702/100)*C1702,\"\")))","v":62.699999999999996},{"$f":"CONCATENATE(\" \",D1702)","v":" m"},{"$f":"J1702*100","v":6270},"cm",{"$f":"IF(I1702=1,C1702+F1702,IF(I1702=2,C1702+F1702/100,IF(I1702=3,(1+F1702/100)*C1702,\"\")))","v":69.3},{"$f":"CONCATENATE(\" \",K1702)","v":"  m"},{"$f":"N1702*100","v":6930},"cm"]
[{"$f":"IF(COUNTIF($B$1:B1703,TRUE)=COUNTIF($B$1:B1702,TRUE),\"\",COUNTIF($B$1:B1703,TRUE))","v":1337},{"$f":"Worksheet!$B$13","v":true},{"$f":"RANDBETWEEN(5,RANDBETWEEN(5,Worksheet!$D$6))","v":178},"km","±",{"$f":"IF(I1703=1,H1703*10^RANDBETWEEN(IF(Worksheet!$D$9,-1,0),0),IF(I1703=2,H1703*10^RANDBETWEEN(RANDBETWEEN(0,2),2),CHOOSE(RANDBETWEEN(1,3),5,10,20)))","v":9},{"$f":"IF(I1703=1,D1703,IF(I1703=3,\"%\",\"m\"))","v":"km"},9,{"$f":"IF(AND(Worksheet!$D$8,RAND()<0.2),3,IF(RAND()<Worksheet!$D$7/100,1,2))","v":1},{"$f":"IF(I1703=1,C1703-F1703,IF(I1703=2,C1703-F1703/1000,IF(I1703=3,(1-F1703/100)*C1703,\"\")))","v":169}," km",{"$f":"J1703*1000","v":169000},"m",{"$f":"IF(I1703=1,C1703+F1703,IF(I1703=2,C1703+F1703/1000,IF(I1703=3,(1+F1703/100)*C1703,\"\")))","v":187},"  km",{"$f":"N1703*1000","v":187000},"m"]
[{"$f":"IF(COUNTIF($B$1:B1704,TRUE)=COUNTIF($B$1:B1703,TRUE),\"\",COUNTIF($B$1:B1704,TRUE))","v":""},{"$f":"Worksheet!$B$14","v":false},{"$f":"RANDBETWEEN(5,RANDBETWEEN(5,Worksheet!$D$6))","v":213},"m","±",{"$f":"IF(I1704=1,H1704*10^RANDBETWEEN(IF(Worksheet!$D$9,-1,0),0),IF(I1704=2,H1704*10^RANDBETWEEN(RANDBETWEEN(0,2),2),CHOOSE(RANDBETWEEN(1,3),5,10,20)))","v":20},{"$f":"IF(I1704=1,D1704,IF(I1704=3,\"%\",\"mm\"))","v":"%"},3,{"$f":"IF(AND(Worksheet!$D$8,RAND()<0.2),3,IF(RAND()<Worksheet!$D$7/100,1,2))","v":3},{"$f":"IF(I1704=1,C1704-F1704,IF(I1704=2,C1704-F1704/1000,IF(I1704=3,(1-F1704/100)*C1704,\"\")))","v":170.4}," m",{"$f":"J1704*1000","v":170400},"mm",{"$f":"IF(I1704=1,C1704+F1704,IF(I1704=2,C1704+F1704/1000,IF(I1704=3,(1+F1704/100)*C1704,\"\")))","v":255.6},"  m",{"$f":"N1704*1000","v":255600},"mm"]
[{"$f":"IF(COUNTIF($B$1:B1705,TRUE)=COUNTIF($B$1:B1704,TRUE),\"\",COUNTIF($B$1:B1705,TRUE))","v":1338},{"$f":"Worksheet!$B$15","v":true},{"$f":"RANDBETWEEN(5,20)","v":19},"hours","±",{"$f":"IF(I1705=1,H1705*10^RANDBETWEEN(IF(Worksheet!$D$9,-1,0),0),IF(I1705=2,H1705,CHOOSE(RANDBETWEEN(1,3),5,10,20)))","v":6},{"$f":"IF(I1705=1,D1705,IF(I1705=3,\"%\",\"min\"))","v":"hours"},6,{"$f":"IF(AND(Worksheet!$D$8,RAND()<0),3,IF(RAND()<Worksheet!$D$7/100,1,2))","v":1},null," hours",{"$f":"IF(I1705=1,C1705-F1705,IF(I1705=2,C1705*60-F1705,\"\"))","v":13},{"$f":"IF($I1705=1,\" hours\",\" min\")","v":" hours"},null,"  hours",{"$f":"IF(I1705=1,C1705+F1705,IF(I1705=2,C1705*60+F1705,\"\"))","v":25},{"$f":"IF($I1705=1,\" hours\",\" min\")","v":" hours"}]
[{"$f":"IF(COUNTIF($B$1:B1706,TRUE)=COUNTIF($B$1:B1705,TRUE),\"\",COUNTIF($B$1:B1706,TRUE))","v":1339},{"$f":"Worksheet!$D$11","v":true},{"$f":"RANDBETWEEN(5,RANDBETWEEN(5,Worksheet!$D$6))","v":12},"kg","±",{"$f":"IF(I1706=1,H1706*10^RANDBETWEEN(IF(Worksheet!$D$9,-1,0),0),IF(I1706=2,H1706*10^RANDBETWEEN(RANDBETWEEN(0,2),2),CHOOSE(RANDBETWEEN(1,3),5,10,20)))","v":7},{"$f":"IF(I1706=1,D1706,IF(I1706=3,\"%\",\"g\"))","v":"kg"},7,{"$f":"IF(AND(Worksheet!$D$8,RAND()<0.2),3,IF(RAND()<Worksheet!$D$7/100,1,2))","v":1},{"$f":"IF(I1706=1,C1706-F1706,IF(I1706=2,C1706-F1706/1000,IF(I1706=3,(1-F1706/100)*C1706,\"\")))","v":5}," kg",{"$f":"J1706*1000","v":5000},"g",{"$f":"IF(I1706=1,C1706+F1706,IF(I1706=2,C1706+F1706/1000,IF(I1706=3,(1+F1706/100)*C1706,\"\")))","v":19},"  kg",{"$f":"N1706*1000","v":19000},"g"]
[{"$f":"IF(COUNTIF($B$1:B1707,TRUE)=COUNTIF($B$1:B1706,TRUE),\"\",COUNTIF($B$1:B1707,TRUE))","v":1340},{"$f":"Worksheet!$D$12","v":true},{"$f":"RANDBETWEEN(5,RANDBETWEEN(5,Worksheet!$D$6))","v":46},"tonnes","±",{"$f":"IF(I1707=1,H1707*10^RANDBETWEEN(IF(Worksheet!$D$9,-1,0),0),IF(I1707=2,H1707*10^RANDBETWEEN(RANDBETWEEN(0,2),2),CHOOSE(RANDBETWEEN(1,3),5,10,20)))","v":0.30000000000000004},{"$f":"IF(I1707=1,D1707,IF(I1707=3,\"%\",\"kg\"))","v":"tonnes"},3,{"$f":"IF(AND(Worksheet!$D$8,RAND()<0.2),3,IF(RAND()<Worksheet!$D$7/100,1,2))","v":1},{"$f":"IF(I1707=1,C1707-F1707,IF(I1707=2,C1707-F1707/1000,IF(I1707=3,(1-F1707/100)*C1707,\"\")))","v":45.7}," tonnes",{"$f":"J1707*1000","v":45700},"kg",{"$f":"IF(I1707=1,C1707+F1707,IF(I1707=2,C1707+F1707/1000,IF(I1707=3,(1+F1707/100)*C1707,\"\")))","v":46.3},"  tonnes",{"$f":"N1707*1000","v":46300},"kg"]
[{"$f":"IF(COUNTIF($B$1:B1708,TRUE)=COUNTIF($B$1:B1707,TRUE),\"\",COUNTIF($B$1:B1708,TRUE))","v":1341},{"$f":"Worksheet!$D$13","v":true},{"$f":"RANDBETWEEN(5,RANDBETWEEN(5,Worksheet!$D$6))","v":138},"litres","±",{"$f":"IF(I1708=1,H1708*10^RANDBETWEEN(IF(Worksheet!$D$9,-1,0),0),IF(I1708=2,H1708*10^RANDBETWEEN(RANDBETWEEN(0,2),2),CHOOSE(RANDBETWEEN(1,3),5,10,20)))","v":70},{"$f":"IF(I1708=1,D1708,IF(I1708=3,\"%\",\"ml\"))","v":"ml"},7,{"$f":"IF(AND(Worksheet!$D$8,RAND()<0.2),3,IF(RAND()<Worksheet!$D$7/100,1,2))","v":2},{"$f":"IF(I1708=1,C1708-F1708,IF(I1708=2,C1708-F1708/1000,IF(I1708=3,(1-F1708/100)*C1708,\"\")))","v":137.93}," litres",{"$f":"J1708*1000","v":137930},"ml",{"$f":"IF(I1708=1,C1708+F1708,IF(I1708=2,C1708+F1708/1000,IF(I1708=3,(1+F1708/100)*C1708,\"\")))","v":138.07},"  litres",{"$f":"N1708*1000","v":138070},"ml"]
[{"$f":"IF(COUNTIF($B$1:B1709,TRUE)=COUNTIF($B$1:B1708,TRUE),\"\",COUNTIF($B$1:B1709,TRUE))","v":1342},{"$f":"Worksheet!$D$14","v":true},{"$f":"RANDBETWEEN(5,RANDBETWEEN(5,Worksheet!$D$6))","v":9},"litres","±",{"$f":"IF(I1709=1,H1709*10^RANDBETWEEN(IF(Worksheet!$D$9,-1,0),0),IF(I1709=2,H1709*10^RANDBETWEEN(RANDBETWEEN(0,2),2),CHOOSE(RANDBETWEEN(1,3),5,10,20)))","v":0.4},{"$f":"IF(I1709=1,D1709,IF(I1709=3,\"%\",\"cm³\"))","v":"litres"},4,{"$f":"IF(AND(Worksheet!$D$8,RAND()<0.2),3,IF(RAND()<Worksheet!$D$7/100,1,2))","v":1},{"$f":"IF(I1709=1,C1709-F1709,IF(I1709=2,C1709-F1709/1000,IF(I1709=3,(1-F1709/100)*C1709,\"\")))","v":8.6}," litres",{"$f":"J1709*1000","v":8600},"cm³",{"$f":"IF(I1709=1,C1709+F1709,IF(I1709=2,C1709+F1709/1000,IF(I1709=3,(1+F1709/100)*C1709,\"\")))","v":9.4},"  litres",{"$f":"N1709*1000","v":9400},"cm³"]
[{"$f":"IF(COUNTIF($B$1:B1710,TRUE)=COUNTIF($B$1:B1709,TRUE),\"\",COUNTIF($B$1:B1710,TRUE))","v":""},{"$f":"Worksheet!$D$15","v":false},{"$f":"RANDBETWEEN(5,20)","v":5},"min","±",{"$f":"IF(I1710=1,H1710*10^RANDBETWEEN(IF(Worksheet!$D$9,-1,0),0),IF(I1710=2,H1710,CHOOSE(RANDBETWEEN(1,3),5,10,20)))","v":2},{"$f":"IF(I1710=1,D1710,IF(I1710=3,\"%\",\"sec\"))","v":"sec"},2,{"$f":"IF(AND(Worksheet!$D$8,RAND()<0),3,IF(RAND()<Worksheet!$D$7/100,1,2))","v":2},null," min",{"$f":"IF(I1710=1,C1710-F1710,IF(I1710=2,C1710*60-F1710,\"\"))","v":298},{"$f":"IF($I1710=1,\" hours\",\" min\")","v":" min"},null,"  min",{"$f":"IF(I1710=1,C1710+F1710,IF(I1710=2,C1710*60+F1710,\"\"))","v":302},{"$f":"IF($I1710=1,\" hours\",\" min\")","v":" min"}]
[{"$f":"COUNTIF($B$1:B1711,TRUE)","v":1343},{"$f":"Worksheet!$B$11","v":true},{"$f":"RANDBETWEEN(5,RANDBETWEEN(5,Worksheet!$D$6))","v":60},"cm","±",{"$f":"IF(I1711=1,H1711*10^RANDBETWEEN(IF(Worksheet!$D$9,-1,0),0),IF(I1711=2,H1711,CHOOSE(RANDBETWEEN(1,3),5,10,20)))","v":7},{"$f":"IF(I1711=1,D1711,IF(I1711=3,\"%\",\"mm\"))","v":"mm"},{"$f":"RANDBETWEEN(1,MIN(9,C1711))","v":7},{"$f":"IF(AND(Worksheet!$D$8,RAND()<0.2),3,IF(RAND()<Worksheet!$D$7/100,1,2))","v":2},{"$f":"IF(I1711=1,C1711-F1711,IF(I1711=2,C1711-F1711/10,IF(I1711=3,(1-F1711/100)*C1711,\"\")))","v":59.3},{"$f":"CONCATENATE(\" \",D1711)","v":" cm"},{"$f":"J1711*10","v":593},"mm",{"$f":"IF(I1711=1,C1711+F1711,IF(I1711=2,C1711+F1711/10,IF(I1711=3,(1+F1711/100)*C1711,\"\")))","v":60.7},{"$f":"CONCATENATE(\" \",K1711)","v":"  cm"},{"$f":"N1711*10","v":607},"mm"]
[{"$f":"IF(COUNTIF($B$1:B1712,TRUE)=COUNTIF($B$1:B1711,TRUE),\"\",COUNTIF($B$1:B1712,TRUE))","v":1344},{"$f":"Worksheet!$B$12","v":true},{"$f":"RANDBETWEEN(5,RANDBETWEEN(5,Worksheet!$D$6))","v":46},"m","±",{"$f":"IF(I1712=1,H1712*10^RANDBETWEEN(IF(Worksheet!$D$9,-1,0),0),IF(I1712=2,H1712*10^RANDBETWEEN(RANDBETWEEN(0,1),1),CHOOSE(RANDBETWEEN(1,3),5,10,20)))","v":10},{"$f":"IF(I1712=1,D1712,IF(I1712=3,\"%\",\"cm\"))","v":"%"},{"$f":"RANDBETWEEN(1,MIN(9,C1712))","v":4},{"$f":"IF(AND(Worksheet!$D$8,RAND()<0.2),3,IF(RAND()<Worksheet!$D$7/100,1,2))","v":3},{"$f":"IF(I1712=1,C1712-F1712,IF(I1712=2,C1712-F1712/100,IF(I1712=3,(1-F1712/100)*C1712,\"\")))","v":41.4},{"$f":"CONCATENATE(\" \",D1712)","v":" m"},{"$f":"J1712*100","v":4140},"cm",{"$f":"IF(I1712=1,C1712+F1712,IF(I1712=2,C1712+F1712/100,IF(I1712=3,(1+F1712/100)*C1712,\"\")))","v":50.6},{"$f":"CONCATENATE(\" \",K1712)","v":"  m"},{"$f":"N1712*100","v":5060},"cm"]
[{"$f":"IF(COUNTIF($B$1:B1713,TRUE)=COUNTIF($B$1:B1712,TRUE),\"\",COUNTIF($B$1:B1713,TRUE))","v":1345},{"$f":"Worksheet!$B$13","v":true},{"$f":"RANDBETWEEN(5,RANDBETWEEN(5,Worksheet!$D$6))","v":60},"km","±",{"$f":"IF(I1713=1,H1713*10^RANDBETWEEN(IF(Worksheet!$D$9,-1,0),0),IF(I1713=2,H1713*10^RANDBETWEEN(RANDBETWEEN(0,2),2),CHOOSE(RANDBETWEEN(1,3),5,10,20)))","v":1},{"$f":"IF(I1713=1,D1713,IF(I1713=3,\"%\",\"m\"))","v":"km"},1,{"$f":"IF(AND(Worksheet!$D$8,RAND()<0.2),3,IF(RAND()<Worksheet!$D$7/100,1,2))","v":1},{"$f":"IF(I1713=1,C1713-F1713,IF(I1713=2,C1713-F1713/1000,IF(I1713=3,(1-F1713/100)*C1713,\"\")))","v":59}," km",{"$f":"J1713*1000","v":59000},"m",{"$f":"IF(I1713=1,C1713+F1713,IF(I1713=2,C1713+F1713/1000,IF(I1713=3,(1+F1713/100)*C1713,\"\")))","v":61},"  km",{"$f":"N1713*1000","v":61000},"m"]
[{"$f":"IF(COUNTIF($B$1:B1714,TRUE)=COUNTIF($B$1:B1713,TRUE),\"\",COUNTIF($B$1:B1714,TRUE))","v":""},{"$f":"Worksheet!$B$14","v":false},{"$f":"RANDBETWEEN(5,RANDBETWEEN(5,Worksheet!$D$6))","v":46},"m","±",{"$f":"IF(I1714=1,H1714*10^RANDBETWEEN(IF(Worksheet!$D$9,-1,0),0),IF(I1714=2,H1714*10^RANDBETWEEN(RANDBETWEEN(0,2),2),CHOOSE(RANDBETWEEN(1,3),5,10,20)))","v":5},{"$f":"IF(I1714=1,D1714,IF(I1714=3,\"%\",\"mm\"))","v":"%"},8,{"$f":"IF(AND(Worksheet!$D$8,RAND()<0.2),3,IF(RAND()<Worksheet!$D$7/100,1,2))","v":3},{"$f":"IF(I1714=1,C1714-F1714,IF(I1714=2,C1714-F1714/1000,IF(I1714=3,(1-F1714/100)*C1714,\"\")))","v":43.699999999999996}," m",{"$f":"J1714*1000","v":43699.999999999993},"mm",{"$f":"IF(I1714=1,C1714+F1714,IF(I1714=2,C1714+F1714/1000,IF(I1714=3,(1+F1714/100)*C1714,\"\")))","v":48.300000000000004},"  m",{"$f":"N1714*1000","v":48300.000000000007},"mm"]
[{"$f":"IF(COUNTIF($B$1:B1715,TRUE)=COUNTIF($B$1:B1714,TRUE),\"\",COUNTIF($B$1:B1715,TRUE))","v":1346},{"$f":"Worksheet!$B$15","v":true},{"$f":"RANDBETWEEN(5,20)","v":9},"hours","±",{"$f":"IF(I1715=1,H1715*10^RANDBETWEEN(IF(Worksheet!$D$9,-1,0),0),IF(I1715=2,H1715,CHOOSE(RANDBETWEEN(1,3),5,10,20)))","v":0.30000000000000004},{"$f":"IF(I1715=1,D1715,IF(I1715=3,\"%\",\"min\"))","v":"hours"},3,{"$f":"IF(AND(Worksheet!$D$8,RAND()<0),3,IF(RAND()<Worksheet!$D$7/100,1,2))","v":1},null," hours",{"$f":"IF(I1715=1,C1715-F1715,IF(I1715=2,C1715*60-F1715,\"\"))","v":8.6999999999999993},{"$f":"IF($I1715=1,\" hours\",\" min\")","v":" hours"},null,"  hours",{"$f":"IF(I1715=1,C1715+F1715,IF(I1715=2,C1715*60+F1715,\"\"))","v":9.3000000000000007},{"$f":"IF($I1715=1,\" hours\",\" min\")","v":" hours"}]
[{"$f":"IF(COUNTIF($B$1:B1716,TRUE)=COUNTIF($B$1:B1715,TRUE),\"\",COUNTIF($B$1:B1716,TRUE))","v":1347},{"$f":"Worksheet!$D$11","v":true},{"$f":"RANDBETWEEN(5,RANDBETWEEN(5,Worksheet!$D$6))","v":170},"kg","±",{"$f":"IF(I1716=1,H1716*10^RANDBETWEEN(IF(Worksheet!$D$9,-1,0),0),IF(I1716=2,H1716*10^RANDBETWEEN(RANDBETWEEN(0,2),2),CHOOSE(RANDBETWEEN(1,3),5,10,20)))","v":2},{"$f":"IF(I1716=1,D1716,IF(I1716=3,\"%\",\"g\"))","v":"kg"},2,{"$f":"IF(AND(Worksheet!$D$8,RAND()<0.2),3,IF(RAND()<Worksheet!$D$7/100,1,2))","v":1},{"$f":"IF(I1716=1,C1716-F1716,IF(I1716=2,C1716-F1716/1000,IF(I1716=3,(1-F1716/100)*C1716,\"\")))","v":168}," kg",{"$f":"J1716*1000","v":168000},"g",{"$f":"IF(I1716=1,C1716+F1716,IF(I1716=2,C1716+F1716/1000,IF(I1716=3,(1+F1716/100)*C1716,\"\")))","v":172},"  kg",{"$f":"N1716*1000","v":172000},"g"]
[{"$f":"IF(COUNTIF($B$1:B1717,TRUE)=COUNTIF($B$1:B1716,TRUE),\"\",COUNTIF($B$1:B1717,TRUE))","v":1348},{"$f":"Worksheet!$D$12","v":true},{"$f":"RANDBETWEEN(5,RANDBETWEEN(5,Worksheet!$D$6))","v":76},"tonnes","±",{"$f":"IF(I1717=1,H1717*10^RANDBETWEEN(IF(Worksheet!$D$9,-1,0),0),IF(I1717=2,H1717*10^RANDBETWEEN(RANDBETWEEN(0,2),2),CHOOSE(RANDBETWEEN(1,3),5,10,20)))","v":0.1},{"$f":"IF(I1717=1,D1717,IF(I1717=3,\"%\",\"kg\"))","v":"tonnes"},1,{"$f":"IF(AND(Worksheet!$D$8,RAND()<0.2),3,IF(RAND()<Worksheet!$D$7/100,1,2))","v":1},{"$f":"IF(I1717=1,C1717-F1717,IF(I1717=2,C1717-F1717/1000,IF(I1717=3,(1-F1717/100)*C1717,\"\")))","v":75.900000000000006}," tonnes",{"$f":"J1717*1000","v":75900},"kg",{"$f":"IF(I1717=1,C1717+F1717,IF(I1717=2,C1717+F1717/1000,IF(I1717=3,(1+F1717/100)*C1717,\"\")))","v":76.099999999999994},"  tonnes",{"$f":"N1717*1000","v":76100},"kg"]
[{"$f":"IF(COUNTIF($B$1:B1718,TRUE)=COUNTIF($B$1:B1717,TRUE),\"\",COUNTIF($B$1:B1718,TRUE))","v":1349},{"$f":"Worksheet!$D$13","v":true},{"$f":"RANDBETWEEN(5,RANDBETWEEN(5,Worksheet!$D$6))","v":242},"litres","±",{"$f":"IF(I1718=1,H1718*10^RANDBETWEEN(IF(Worksheet!$D$9,-1,0),0),IF(I1718=2,H1718*10^RANDBETWEEN(RANDBETWEEN(0,2),2),CHOOSE(RANDBETWEEN(1,3),5,10,20)))","v":8},{"$f":"IF(I1718=1,D1718,IF(I1718=3,\"%\",\"ml\"))","v":"litres"},8,{"$f":"IF(AND(Worksheet!$D$8,RAND()<0.2),3,IF(RAND()<Worksheet!$D$7/100,1,2))","v":1},{"$f":"IF(I1718=1,C1718-F1718,IF(I1718=2,C1718-F1718/1000,IF(I1718=3,(1-F1718/100)*C1718,\"\")))","v":234}," litres",{"$f":"J1718*1000","v":234000},"ml",{"$f":"IF(I1718=1,C1718+F1718,IF(I1718=2,C1718+F1718/1000,IF(I1718=3,(1+F1718/100)*C1718,\"\")))","v":250},"  litres",{"$f":"N1718*1000","v":250000},"ml"]
[{"$f":"IF(COUNTIF($B$1:B1719,TRUE)=COUNTIF($B$1:B1718,TRUE),\"\",COUNTIF($B$1:B1719,TRUE))","v":1350},{"$f":"Worksheet!$D$14","v":true},{"$f":"RANDBETWEEN(5,RANDBETWEEN(5,Worksheet!$D$6))","v":11},"litres","±",{"$f":"IF(I1719=1,H1719*10^RANDBETWEEN(IF(Worksheet!$D$9,-1,0),0),IF(I1719=2,H1719*10^RANDBETWEEN(RANDBETWEEN(0,2),2),CHOOSE(RANDBETWEEN(1,3),5,10,20)))","v":20},{"$f":"IF(I1719=1,D1719,IF(I1719=3,\"%\",\"cm³\"))","v":"%"},2,{"$f":"IF(AND(Worksheet!$D$8,RAND()<0.2),3,IF(RAND()<Worksheet!$D$7/100,1,2))","v":3},{"$f":"IF(I1719=1,C1719-F1719,IF(I1719=2,C1719-F1719/1000,IF(I1719=3,(1-F1719/100)*C1719,\"\")))","v":8.8000000000000007}," litres",{"$f":"J1719*1000","v":8800},"cm³",{"$f":"IF(I1719=1,C1719+F1719,IF(I1719=2,C1719+F1719/1000,IF(I1719=3,(1+F1719/100)*C1719,\"\")))","v":13.2},"  litres",{"$f":"N1719*1000","v":13200},"cm³"]
[{"$f":"IF(COUNTIF($B$1:B1720,TRUE)=COUNTIF($B$1:B1719,TRUE),\"\",COUNTIF($B$1:B1720,TRUE))","v":""},{"$f":"Worksheet!$D$15","v":false},{"$f":"RANDBETWEEN(5,20)","v":17},"min","±",{"$f":"IF(I1720=1,H1720*10^RANDBETWEEN(IF(Worksheet!$D$9,-1,0),0),IF(I1720=2,H1720,CHOOSE(RANDBETWEEN(1,3),5,10,20)))","v":5},{"$f":"IF(I1720=1,D1720,IF(I1720=3,\"%\",\"sec\"))","v":"sec"},5,{"$f":"IF(AND(Worksheet!$D$8,RAND()<0),3,IF(RAND()<Worksheet!$D$7/100,1,2))","v":2},null," min",{"$f":"IF(I1720=1,C1720-F1720,IF(I1720=2,C1720*60-F1720,\"\"))","v":1015},{"$f":"IF($I1720=1,\" hours\",\" min\")","v":" min"},null,"  min",{"$f":"IF(I1720=1,C1720+F1720,IF(I1720=2,C1720*60+F1720,\"\"))","v":1025},{"$f":"IF($I1720=1,\" hours\",\" min\")","v":" min"}]
[{"$f":"COUNTIF($B$1:B1721,TRUE)","v":1351},{"$f":"Worksheet!$B$11","v":true},{"$f":"RANDBETWEEN(5,RANDBETWEEN(5,Worksheet!$D$6))","v":78},"cm","±",{"$f":"IF(I1721=1,H1721*10^RANDBETWEEN(IF(Worksheet!$D$9,-1,0),0),IF(I1721=2,H1721,CHOOSE(RANDBETWEEN(1,3),5,10,20)))","v":0.5},{"$f":"IF(I1721=1,D1721,IF(I1721=3,\"%\",\"mm\"))","v":"cm"},{"$f":"RANDBETWEEN(1,MIN(9,C1721))","v":5},{"$f":"IF(AND(Worksheet!$D$8,RAND()<0.2),3,IF(RAND()<Worksheet!$D$7/100,1,2))","v":1},{"$f":"IF(I1721=1,C1721-F1721,IF(I1721=2,C1721-F1721/10,IF(I1721=3,(1-F1721/100)*C1721,\"\")))","v":77.5},{"$f":"CONCATENATE(\" \",D1721)","v":" cm"},{"$f":"J1721*10","v":775},"mm",{"$f":"IF(I1721=1,C1721+F1721,IF(I1721=2,C1721+F1721/10,IF(I1721=3,(1+F1721/100)*C1721,\"\")))","v":78.5},{"$f":"CONCATENATE(\" \",K1721)","v":"  cm"},{"$f":"N1721*10","v":785},"mm"]
[{"$f":"IF(COUNTIF($B$1:B1722,TRUE)=COUNTIF($B$1:B1721,TRUE),\"\",COUNTIF($B$1:B1722,TRUE))","v":1352},{"$f":"Worksheet!$B$12","v":true},{"$f":"RANDBETWEEN(5,RANDBETWEEN(5,Worksheet!$D$6))","v":29},"m","±",{"$f":"IF(I1722=1,H1722*10^RANDBETWEEN(IF(Worksheet!$D$9,-1,0),0),IF(I1722=2,H1722*10^RANDBETWEEN(RANDBETWEEN(0,1),1),CHOOSE(RANDBETWEEN(1,3),5,10,20)))","v":50},{"$f":"IF(I1722=1,D1722,IF(I1722=3,\"%\",\"cm\"))","v":"cm"},{"$f":"RANDBETWEEN(1,MIN(9,C1722))","v":5},{"$f":"IF(AND(Worksheet!$D$8,RAND()<0.2),3,IF(RAND()<Worksheet!$D$7/100,1,2))","v":2},{"$f":"IF(I1722=1,C1722-F1722,IF(I1722=2,C1722-F1722/100,IF(I1722=3,(1-F1722/100)*C1722,\"\")))","v":28.5},{"$f":"CONCATENATE(\" \",D1722)","v":" m"},{"$f":"J1722*100","v":2850},"cm",{"$f":"IF(I1722=1,C1722+F1722,IF(I1722=2,C1722+F1722/100,IF(I1722=3,(1+F1722/100)*C1722,\"\")))","v":29.5},{"$f":"CONCATENATE(\" \",K1722)","v":"  m"},{"$f":"N1722*100","v":2950},"cm"]
[{"$f":"IF(COUNTIF($B$1:B1723,TRUE)=COUNTIF($B$1:B1722,TRUE),\"\",COUNTIF($B$1:B1723,TRUE))","v":1353},{"$f":"Worksheet!$B$13","v":true},{"$f":"RANDBETWEEN(5,RANDBETWEEN(5,Worksheet!$D$6))","v":50},"km","±",{"$f":"IF(I1723=1,H1723*10^RANDBETWEEN(IF(Worksheet!$D$9,-1,0),0),IF(I1723=2,H1723*10^RANDBETWEEN(RANDBETWEEN(0,2),2),CHOOSE(RANDBETWEEN(1,3),5,10,20)))","v":400},{"$f":"IF(I1723=1,D1723,IF(I1723=3,\"%\",\"m\"))","v":"m"},4,{"$f":"IF(AND(Worksheet!$D$8,RAND()<0.2),3,IF(RAND()<Worksheet!$D$7/100,1,2))","v":2},{"$f":"IF(I1723=1,C1723-F1723,IF(I1723=2,C1723-F1723/1000,IF(I1723=3,(1-F1723/100)*C1723,\"\")))","v":49.6}," km",{"$f":"J1723*1000","v":49600},"m",{"$f":"IF(I1723=1,C1723+F1723,IF(I1723=2,C1723+F1723/1000,IF(I1723=3,(1+F1723/100)*C1723,\"\")))","v":50.4},"  km",{"$f":"N1723*1000","v":50400},"m"]
[{"$f":"IF(COUNTIF($B$1:B1724,TRUE)=COUNTIF($B$1:B1723,TRUE),\"\",COUNTIF($B$1:B1724,TRUE))","v":""},{"$f":"Worksheet!$B$14","v":false},{"$f":"RANDBETWEEN(5,RANDBETWEEN(5,Worksheet!$D$6))","v":15},"m","±",{"$f":"IF(I1724=1,H1724*10^RANDBETWEEN(IF(Worksheet!$D$9,-1,0),0),IF(I1724=2,H1724*10^RANDBETWEEN(RANDBETWEEN(0,2),2),CHOOSE(RANDBETWEEN(1,3),5,10,20)))","v":20},{"$f":"IF(I1724=1,D1724,IF(I1724=3,\"%\",\"mm\"))","v":"%"},8,{"$f":"IF(AND(Worksheet!$D$8,RAND()<0.2),3,IF(RAND()<Worksheet!$D$7/100,1,2))","v":3},{"$f":"IF(I1724=1,C1724-F1724,IF(I1724=2,C1724-F1724/1000,IF(I1724=3,(1-F1724/100)*C1724,\"\")))","v":12}," m",{"$f":"J1724*1000","v":12000},"mm",{"$f":"IF(I1724=1,C1724+F1724,IF(I1724=2,C1724+F1724/1000,IF(I1724=3,(1+F1724/100)*C1724,\"\")))","v":18},"  m",{"$f":"N1724*1000","v":18000},"mm"]
[{"$f":"IF(COUNTIF($B$1:B1725,TRUE)=COUNTIF($B$1:B1724,TRUE),\"\",COUNTIF($B$1:B1725,TRUE))","v":1354},{"$f":"Worksheet!$B$15","v":true},{"$f":"RANDBETWEEN(5,20)","v":18},"hours","±",{"$f":"IF(I1725=1,H1725*10^RANDBETWEEN(IF(Worksheet!$D$9,-1,0),0),IF(I1725=2,H1725,CHOOSE(RANDBETWEEN(1,3),5,10,20)))","v":8},{"$f":"IF(I1725=1,D1725,IF(I1725=3,\"%\",\"min\"))","v":"min"},8,{"$f":"IF(AND(Worksheet!$D$8,RAND()<0),3,IF(RAND()<Worksheet!$D$7/100,1,2))","v":2},null," hours",{"$f":"IF(I1725=1,C1725-F1725,IF(I1725=2,C1725*60-F1725,\"\"))","v":1072},{"$f":"IF($I1725=1,\" hours\",\" min\")","v":" min"},null,"  hours",{"$f":"IF(I1725=1,C1725+F1725,IF(I1725=2,C1725*60+F1725,\"\"))","v":1088},{"$f":"IF($I1725=1,\" hours\",\" min\")","v":" min"}]
[{"$f":"IF(COUNTIF($B$1:B1726,TRUE)=COUNTIF($B$1:B1725,TRUE),\"\",COUNTIF($B$1:B1726,TRUE))","v":1355},{"$f":"Worksheet!$D$11","v":true},{"$f":"RANDBETWEEN(5,RANDBETWEEN(5,Worksheet!$D$6))","v":19},"kg","±",{"$f":"IF(I1726=1,H1726*10^RANDBETWEEN(IF(Worksheet!$D$9,-1,0),0),IF(I1726=2,H1726*10^RANDBETWEEN(RANDBETWEEN(0,2),2),CHOOSE(RANDBETWEEN(1,3),5,10,20)))","v":0.9},{"$f":"IF(I1726=1,D1726,IF(I1726=3,\"%\",\"g\"))","v":"kg"},9,{"$f":"IF(AND(Worksheet!$D$8,RAND()<0.2),3,IF(RAND()<Worksheet!$D$7/100,1,2))","v":1},{"$f":"IF(I1726=1,C1726-F1726,IF(I1726=2,C1726-F1726/1000,IF(I1726=3,(1-F1726/100)*C1726,\"\")))","v":18.100000000000001}," kg",{"$f":"J1726*1000","v":18100},"g",{"$f":"IF(I1726=1,C1726+F1726,IF(I1726=2,C1726+F1726/1000,IF(I1726=3,(1+F1726/100)*C1726,\"\")))","v":19.899999999999999},"  kg",{"$f":"N1726*1000","v":19900},"g"]
[{"$f":"IF(COUNTIF($B$1:B1727,TRUE)=COUNTIF($B$1:B1726,TRUE),\"\",COUNTIF($B$1:B1727,TRUE))","v":1356},{"$f":"Worksheet!$D$12","v":true},{"$f":"RANDBETWEEN(5,RANDBETWEEN(5,Worksheet!$D$6))","v":119},"tonnes","±",{"$f":"IF(I1727=1,H1727*10^RANDBETWEEN(IF(Worksheet!$D$9,-1,0),0),IF(I1727=2,H1727*10^RANDBETWEEN(RANDBETWEEN(0,2),2),CHOOSE(RANDBETWEEN(1,3),5,10,20)))","v":500},{"$f":"IF(I1727=1,D1727,IF(I1727=3,\"%\",\"kg\"))","v":"kg"},5,{"$f":"IF(AND(Worksheet!$D$8,RAND()<0.2),3,IF(RAND()<Worksheet!$D$7/100,1,2))","v":2},{"$f":"IF(I1727=1,C1727-F1727,IF(I1727=2,C1727-F1727/1000,IF(I1727=3,(1-F1727/100)*C1727,\"\")))","v":118.5}," tonnes",{"$f":"J1727*1000","v":118500},"kg",{"$f":"IF(I1727=1,C1727+F1727,IF(I1727=2,C1727+F1727/1000,IF(I1727=3,(1+F1727/100)*C1727,\"\")))","v":119.5},"  tonnes",{"$f":"N1727*1000","v":119500},"kg"]
[{"$f":"IF(COUNTIF($B$1:B1728,TRUE)=COUNTIF($B$1:B1727,TRUE),\"\",COUNTIF($B$1:B1728,TRUE))","v":1357},{"$f":"Worksheet!$D$13","v":true},{"$f":"RANDBETWEEN(5,RANDBETWEEN(5,Worksheet!$D$6))","v":32},"litres","±",{"$f":"IF(I1728=1,H1728*10^RANDBETWEEN(IF(Worksheet!$D$9,-1,0),0),IF(I1728=2,H1728*10^RANDBETWEEN(RANDBETWEEN(0,2),2),CHOOSE(RANDBETWEEN(1,3),5,10,20)))","v":10},{"$f":"IF(I1728=1,D1728,IF(I1728=3,\"%\",\"ml\"))","v":"%"},7,{"$f":"IF(AND(Worksheet!$D$8,RAND()<0.2),3,IF(RAND()<Worksheet!$D$7/100,1,2))","v":3},{"$f":"IF(I1728=1,C1728-F1728,IF(I1728=2,C1728-F1728/1000,IF(I1728=3,(1-F1728/100)*C1728,\"\")))","v":28.8}," litres",{"$f":"J1728*1000","v":28800},"ml",{"$f":"IF(I1728=1,C1728+F1728,IF(I1728=2,C1728+F1728/1000,IF(I1728=3,(1+F1728/100)*C1728,\"\")))","v":35.200000000000003},"  litres",{"$f":"N1728*1000","v":35200},"ml"]
[{"$f":"IF(COUNTIF($B$1:B1729,TRUE)=COUNTIF($B$1:B1728,TRUE),\"\",COUNTIF($B$1:B1729,TRUE))","v":1358},{"$f":"Worksheet!$D$14","v":true},{"$f":"RANDBETWEEN(5,RANDBETWEEN(5,Worksheet!$D$6))","v":278},"litres","±",{"$f":"IF(I1729=1,H1729*10^RANDBETWEEN(IF(Worksheet!$D$9,-1,0),0),IF(I1729=2,H1729*10^RANDBETWEEN(RANDBETWEEN(0,2),2),CHOOSE(RANDBETWEEN(1,3),5,10,20)))","v":900},{"$f":"IF(I1729=1,D1729,IF(I1729=3,\"%\",\"cm³\"))","v":"cm³"},9,{"$f":"IF(AND(Worksheet!$D$8,RAND()<0.2),3,IF(RAND()<Worksheet!$D$7/100,1,2))","v":2},{"$f":"IF(I1729=1,C1729-F1729,IF(I1729=2,C1729-F1729/1000,IF(I1729=3,(1-F1729/100)*C1729,\"\")))","v":277.10000000000002}," litres",{"$f":"J1729*1000","v":277100},"cm³",{"$f":"IF(I1729=1,C1729+F1729,IF(I1729=2,C1729+F1729/1000,IF(I1729=3,(1+F1729/100)*C1729,\"\")))","v":278.89999999999998},"  litres",{"$f":"N1729*1000","v":278900},"cm³"]
[{"$f":"IF(COUNTIF($B$1:B1730,TRUE)=COUNTIF($B$1:B1729,TRUE),\"\",COUNTIF($B$1:B1730,TRUE))","v":""},{"$f":"Worksheet!$D$15","v":false},{"$f":"RANDBETWEEN(5,20)","v":20},"min","±",{"$f":"IF(I1730=1,H1730*10^RANDBETWEEN(IF(Worksheet!$D$9,-1,0),0),IF(I1730=2,H1730,CHOOSE(RANDBETWEEN(1,3),5,10,20)))","v":0.1},{"$f":"IF(I1730=1,D1730,IF(I1730=3,\"%\",\"sec\"))","v":"min"},1,{"$f":"IF(AND(Worksheet!$D$8,RAND()<0),3,IF(RAND()<Worksheet!$D$7/100,1,2))","v":1},null," min",{"$f":"IF(I1730=1,C1730-F1730,IF(I1730=2,C1730*60-F1730,\"\"))","v":19.899999999999999},{"$f":"IF($I1730=1,\" hours\",\" min\")","v":" hours"},null,"  min",{"$f":"IF(I1730=1,C1730+F1730,IF(I1730=2,C1730*60+F1730,\"\"))","v":20.100000000000001},{"$f":"IF($I1730=1,\" hours\",\" min\")","v":" hours"}]
[{"$f":"COUNTIF($B$1:B1731,TRUE)","v":1359},{"$f":"Worksheet!$B$11","v":true},{"$f":"RANDBETWEEN(5,RANDBETWEEN(5,Worksheet!$D$6))","v":224},"cm","±",{"$f":"IF(I1731=1,H1731*10^RANDBETWEEN(IF(Worksheet!$D$9,-1,0),0),IF(I1731=2,H1731,CHOOSE(RANDBETWEEN(1,3),5,10,20)))","v":0.9},{"$f":"IF(I1731=1,D1731,IF(I1731=3,\"%\",\"mm\"))","v":"cm"},{"$f":"RANDBETWEEN(1,MIN(9,C1731))","v":9},{"$f":"IF(AND(Worksheet!$D$8,RAND()<0.2),3,IF(RAND()<Worksheet!$D$7/100,1,2))","v":1},{"$f":"IF(I1731=1,C1731-F1731,IF(I1731=2,C1731-F1731/10,IF(I1731=3,(1-F1731/100)*C1731,\"\")))","v":223.1},{"$f":"CONCATENATE(\" \",D1731)","v":" cm"},{"$f":"J1731*10","v":2231},"mm",{"$f":"IF(I1731=1,C1731+F1731,IF(I1731=2,C1731+F1731/10,IF(I1731=3,(1+F1731/100)*C1731,\"\")))","v":224.9},{"$f":"CONCATENATE(\" \",K1731)","v":"  cm"},{"$f":"N1731*10","v":2249},"mm"]
[{"$f":"IF(COUNTIF($B$1:B1732,TRUE)=COUNTIF($B$1:B1731,TRUE),\"\",COUNTIF($B$1:B1732,TRUE))","v":1360},{"$f":"Worksheet!$B$12","v":true},{"$f":"RANDBETWEEN(5,RANDBETWEEN(5,Worksheet!$D$6))","v":86},"m","±",{"$f":"IF(I1732=1,H1732*10^RANDBETWEEN(IF(Worksheet!$D$9,-1,0),0),IF(I1732=2,H1732*10^RANDBETWEEN(RANDBETWEEN(0,1),1),CHOOSE(RANDBETWEEN(1,3),5,10,20)))","v":1},{"$f":"IF(I1732=1,D1732,IF(I1732=3,\"%\",\"cm\"))","v":"m"},{"$f":"RANDBETWEEN(1,MIN(9,C1732))","v":1},{"$f":"IF(AND(Worksheet!$D$8,RAND()<0.2),3,IF(RAND()<Worksheet!$D$7/100,1,2))","v":1},{"$f":"IF(I1732=1,C1732-F1732,IF(I1732=2,C1732-F1732/100,IF(I1732=3,(1-F1732/100)*C1732,\"\")))","v":85},{"$f":"CONCATENATE(\" \",D1732)","v":" m"},{"$f":"J1732*100","v":8500},"cm",{"$f":"IF(I1732=1,C1732+F1732,IF(I1732=2,C1732+F1732/100,IF(I1732=3,(1+F1732/100)*C1732,\"\")))","v":87},{"$f":"CONCATENATE(\" \",K1732)","v":"  m"},{"$f":"N1732*100","v":8700},"cm"]
[{"$f":"IF(COUNTIF($B$1:B1733,TRUE)=COUNTIF($B$1:B1732,TRUE),\"\",COUNTIF($B$1:B1733,TRUE))","v":1361},{"$f":"Worksheet!$B$13","v":true},{"$f":"RANDBETWEEN(5,RANDBETWEEN(5,Worksheet!$D$6))","v":134},"km","±",{"$f":"IF(I1733=1,H1733*10^RANDBETWEEN(IF(Worksheet!$D$9,-1,0),0),IF(I1733=2,H1733*10^RANDBETWEEN(RANDBETWEEN(0,2),2),CHOOSE(RANDBETWEEN(1,3),5,10,20)))","v":0.1},{"$f":"IF(I1733=1,D1733,IF(I1733=3,\"%\",\"m\"))","v":"km"},1,{"$f":"IF(AND(Worksheet!$D$8,RAND()<0.2),3,IF(RAND()<Worksheet!$D$7/100,1,2))","v":1},{"$f":"IF(I1733=1,C1733-F1733,IF(I1733=2,C1733-F1733/1000,IF(I1733=3,(1-F1733/100)*C1733,\"\")))","v":133.9}," km",{"$f":"J1733*1000","v":133900},"m",{"$f":"IF(I1733=1,C1733+F1733,IF(I1733=2,C1733+F1733/1000,IF(I1733=3,(1+F1733/100)*C1733,\"\")))","v":134.1},"  km",{"$f":"N1733*1000","v":134100},"m"]
[{"$f":"IF(COUNTIF($B$1:B1734,TRUE)=COUNTIF($B$1:B1733,TRUE),\"\",COUNTIF($B$1:B1734,TRUE))","v":""},{"$f":"Worksheet!$B$14","v":false},{"$f":"RANDBETWEEN(5,RANDBETWEEN(5,Worksheet!$D$6))","v":7},"m","±",{"$f":"IF(I1734=1,H1734*10^RANDBETWEEN(IF(Worksheet!$D$9,-1,0),0),IF(I1734=2,H1734*10^RANDBETWEEN(RANDBETWEEN(0,2),2),CHOOSE(RANDBETWEEN(1,3),5,10,20)))","v":0.30000000000000004},{"$f":"IF(I1734=1,D1734,IF(I1734=3,\"%\",\"mm\"))","v":"m"},3,{"$f":"IF(AND(Worksheet!$D$8,RAND()<0.2),3,IF(RAND()<Worksheet!$D$7/100,1,2))","v":1},{"$f":"IF(I1734=1,C1734-F1734,IF(I1734=2,C1734-F1734/1000,IF(I1734=3,(1-F1734/100)*C1734,\"\")))","v":6.7}," m",{"$f":"J1734*1000","v":6700},"mm",{"$f":"IF(I1734=1,C1734+F1734,IF(I1734=2,C1734+F1734/1000,IF(I1734=3,(1+F1734/100)*C1734,\"\")))","v":7.3},"  m",{"$f":"N1734*1000","v":7300},"mm"]
[{"$f":"IF(COUNTIF($B$1:B1735,TRUE)=COUNTIF($B$1:B1734,TRUE),\"\",COUNTIF($B$1:B1735,TRUE))","v":1362},{"$f":"Worksheet!$B$15","v":true},{"$f":"RANDBETWEEN(5,20)","v":9},"hours","±",{"$f":"IF(I1735=1,H1735*10^RANDBETWEEN(IF(Worksheet!$D$9,-1,0),0),IF(I1735=2,H1735,CHOOSE(RANDBETWEEN(1,3),5,10,20)))","v":0.2},{"$f":"IF(I1735=1,D1735,IF(I1735=3,\"%\",\"min\"))","v":"hours"},2,{"$f":"IF(AND(Worksheet!$D$8,RAND()<0),3,IF(RAND()<Worksheet!$D$7/100,1,2))","v":1},null," hours",{"$f":"IF(I1735=1,C1735-F1735,IF(I1735=2,C1735*60-F1735,\"\"))","v":8.8000000000000007},{"$f":"IF($I1735=1,\" hours\",\" min\")","v":" hours"},null,"  hours",{"$f":"IF(I1735=1,C1735+F1735,IF(I1735=2,C1735*60+F1735,\"\"))","v":9.1999999999999993},{"$f":"IF($I1735=1,\" hours\",\" min\")","v":" hours"}]
[{"$f":"IF(COUNTIF($B$1:B1736,TRUE)=COUNTIF($B$1:B1735,TRUE),\"\",COUNTIF($B$1:B1736,TRUE))","v":1363},{"$f":"Worksheet!$D$11","v":true},{"$f":"RANDBETWEEN(5,RANDBETWEEN(5,Worksheet!$D$6))","v":86},"kg","±",{"$f":"IF(I1736=1,H1736*10^RANDBETWEEN(IF(Worksheet!$D$9,-1,0),0),IF(I1736=2,H1736*10^RANDBETWEEN(RANDBETWEEN(0,2),2),CHOOSE(RANDBETWEEN(1,3),5,10,20)))","v":900},{"$f":"IF(I1736=1,D1736,IF(I1736=3,\"%\",\"g\"))","v":"g"},9,{"$f":"IF(AND(Worksheet!$D$8,RAND()<0.2),3,IF(RAND()<Worksheet!$D$7/100,1,2))","v":2},{"$f":"IF(I1736=1,C1736-F1736,IF(I1736=2,C1736-F1736/1000,IF(I1736=3,(1-F1736/100)*C1736,\"\")))","v":85.1}," kg",{"$f":"J1736*1000","v":85100},"g",{"$f":"IF(I1736=1,C1736+F1736,IF(I1736=2,C1736+F1736/1000,IF(I1736=3,(1+F1736/100)*C1736,\"\")))","v":86.9},"  kg",{"$f":"N1736*1000","v":86900},"g"]
[{"$f":"IF(COUNTIF($B$1:B1737,TRUE)=COUNTIF($B$1:B1736,TRUE),\"\",COUNTIF($B$1:B1737,TRUE))","v":1364},{"$f":"Worksheet!$D$12","v":true},{"$f":"RANDBETWEEN(5,RANDBETWEEN(5,Worksheet!$D$6))","v":205},"tonnes","±",{"$f":"IF(I1737=1,H1737*10^RANDBETWEEN(IF(Worksheet!$D$9,-1,0),0),IF(I1737=2,H1737*10^RANDBETWEEN(RANDBETWEEN(0,2),2),CHOOSE(RANDBETWEEN(1,3),5,10,20)))","v":10},{"$f":"IF(I1737=1,D1737,IF(I1737=3,\"%\",\"kg\"))","v":"%"},4,{"$f":"IF(AND(Worksheet!$D$8,RAND()<0.2),3,IF(RAND()<Worksheet!$D$7/100,1,2))","v":3},{"$f":"IF(I1737=1,C1737-F1737,IF(I1737=2,C1737-F1737/1000,IF(I1737=3,(1-F1737/100)*C1737,\"\")))","v":184.5}," tonnes",{"$f":"J1737*1000","v":184500},"kg",{"$f":"IF(I1737=1,C1737+F1737,IF(I1737=2,C1737+F1737/1000,IF(I1737=3,(1+F1737/100)*C1737,\"\")))","v":225.50000000000003},"  tonnes",{"$f":"N1737*1000","v":225500.00000000003},"kg"]
[{"$f":"IF(COUNTIF($B$1:B1738,TRUE)=COUNTIF($B$1:B1737,TRUE),\"\",COUNTIF($B$1:B1738,TRUE))","v":1365},{"$f":"Worksheet!$D$13","v":true},{"$f":"RANDBETWEEN(5,RANDBETWEEN(5,Worksheet!$D$6))","v":33},"litres","±",{"$f":"IF(I1738=1,H1738*10^RANDBETWEEN(IF(Worksheet!$D$9,-1,0),0),IF(I1738=2,H1738*10^RANDBETWEEN(RANDBETWEEN(0,2),2),CHOOSE(RANDBETWEEN(1,3),5,10,20)))","v":100},{"$f":"IF(I1738=1,D1738,IF(I1738=3,\"%\",\"ml\"))","v":"ml"},1,{"$f":"IF(AND(Worksheet!$D$8,RAND()<0.2),3,IF(RAND()<Worksheet!$D$7/100,1,2))","v":2},{"$f":"IF(I1738=1,C1738-F1738,IF(I1738=2,C1738-F1738/1000,IF(I1738=3,(1-F1738/100)*C1738,\"\")))","v":32.9}," litres",{"$f":"J1738*1000","v":32900},"ml",{"$f":"IF(I1738=1,C1738+F1738,IF(I1738=2,C1738+F1738/1000,IF(I1738=3,(1+F1738/100)*C1738,\"\")))","v":33.1},"  litres",{"$f":"N1738*1000","v":33100},"ml"]
[{"$f":"IF(COUNTIF($B$1:B1739,TRUE)=COUNTIF($B$1:B1738,TRUE),\"\",COUNTIF($B$1:B1739,TRUE))","v":1366},{"$f":"Worksheet!$D$14","v":true},{"$f":"RANDBETWEEN(5,RANDBETWEEN(5,Worksheet!$D$6))","v":135},"litres","±",{"$f":"IF(I1739=1,H1739*10^RANDBETWEEN(IF(Worksheet!$D$9,-1,0),0),IF(I1739=2,H1739*10^RANDBETWEEN(RANDBETWEEN(0,2),2),CHOOSE(RANDBETWEEN(1,3),5,10,20)))","v":0.5},{"$f":"IF(I1739=1,D1739,IF(I1739=3,\"%\",\"cm³\"))","v":"litres"},5,{"$f":"IF(AND(Worksheet!$D$8,RAND()<0.2),3,IF(RAND()<Worksheet!$D$7/100,1,2))","v":1},{"$f":"IF(I1739=1,C1739-F1739,IF(I1739=2,C1739-F1739/1000,IF(I1739=3,(1-F1739/100)*C1739,\"\")))","v":134.5}," litres",{"$f":"J1739*1000","v":134500},"cm³",{"$f":"IF(I1739=1,C1739+F1739,IF(I1739=2,C1739+F1739/1000,IF(I1739=3,(1+F1739/100)*C1739,\"\")))","v":135.5},"  litres",{"$f":"N1739*1000","v":135500},"cm³"]
[{"$f":"IF(COUNTIF($B$1:B1740,TRUE)=COUNTIF($B$1:B1739,TRUE),\"\",COUNTIF($B$1:B1740,TRUE))","v":""},{"$f":"Worksheet!$D$15","v":false},{"$f":"RANDBETWEEN(5,20)","v":9},"min","±",{"$f":"IF(I1740=1,H1740*10^RANDBETWEEN(IF(Worksheet!$D$9,-1,0),0),IF(I1740=2,H1740,CHOOSE(RANDBETWEEN(1,3),5,10,20)))","v":5},{"$f":"IF(I1740=1,D1740,IF(I1740=3,\"%\",\"sec\"))","v":"sec"},5,{"$f":"IF(AND(Worksheet!$D$8,RAND()<0),3,IF(RAND()<Worksheet!$D$7/100,1,2))","v":2},null," min",{"$f":"IF(I1740=1,C1740-F1740,IF(I1740=2,C1740*60-F1740,\"\"))","v":535},{"$f":"IF($I1740=1,\" hours\",\" min\")","v":" min"},null,"  min",{"$f":"IF(I1740=1,C1740+F1740,IF(I1740=2,C1740*60+F1740,\"\"))","v":545},{"$f":"IF($I1740=1,\" hours\",\" min\")","v":" min"}]
[{"$f":"COUNTIF($B$1:B1741,TRUE)","v":1367},{"$f":"Worksheet!$B$11","v":true},{"$f":"RANDBETWEEN(5,RANDBETWEEN(5,Worksheet!$D$6))","v":122},"cm","±",{"$f":"IF(I1741=1,H1741*10^RANDBETWEEN(IF(Worksheet!$D$9,-1,0),0),IF(I1741=2,H1741,CHOOSE(RANDBETWEEN(1,3),5,10,20)))","v":0.70000000000000007},{"$f":"IF(I1741=1,D1741,IF(I1741=3,\"%\",\"mm\"))","v":"cm"},{"$f":"RANDBETWEEN(1,MIN(9,C1741))","v":7},{"$f":"IF(AND(Worksheet!$D$8,RAND()<0.2),3,IF(RAND()<Worksheet!$D$7/100,1,2))","v":1},{"$f":"IF(I1741=1,C1741-F1741,IF(I1741=2,C1741-F1741/10,IF(I1741=3,(1-F1741/100)*C1741,\"\")))","v":121.3},{"$f":"CONCATENATE(\" \",D1741)","v":" cm"},{"$f":"J1741*10","v":1213},"mm",{"$f":"IF(I1741=1,C1741+F1741,IF(I1741=2,C1741+F1741/10,IF(I1741=3,(1+F1741/100)*C1741,\"\")))","v":122.7},{"$f":"CONCATENATE(\" \",K1741)","v":"  cm"},{"$f":"N1741*10","v":1227},"mm"]
[{"$f":"IF(COUNTIF($B$1:B1742,TRUE)=COUNTIF($B$1:B1741,TRUE),\"\",COUNTIF($B$1:B1742,TRUE))","v":1368},{"$f":"Worksheet!$B$12","v":true},{"$f":"RANDBETWEEN(5,RANDBETWEEN(5,Worksheet!$D$6))","v":235},"m","±",{"$f":"IF(I1742=1,H1742*10^RANDBETWEEN(IF(Worksheet!$D$9,-1,0),0),IF(I1742=2,H1742*10^RANDBETWEEN(RANDBETWEEN(0,1),1),CHOOSE(RANDBETWEEN(1,3),5,10,20)))","v":0.1},{"$f":"IF(I1742=1,D1742,IF(I1742=3,\"%\",\"cm\"))","v":"m"},{"$f":"RANDBETWEEN(1,MIN(9,C1742))","v":1},{"$f":"IF(AND(Worksheet!$D$8,RAND()<0.2),3,IF(RAND()<Worksheet!$D$7/100,1,2))","v":1},{"$f":"IF(I1742=1,C1742-F1742,IF(I1742=2,C1742-F1742/100,IF(I1742=3,(1-F1742/100)*C1742,\"\")))","v":234.9},{"$f":"CONCATENATE(\" \",D1742)","v":" m"},{"$f":"J1742*100","v":23490},"cm",{"$f":"IF(I1742=1,C1742+F1742,IF(I1742=2,C1742+F1742/100,IF(I1742=3,(1+F1742/100)*C1742,\"\")))","v":235.1},{"$f":"CONCATENATE(\" \",K1742)","v":"  m"},{"$f":"N1742*100","v":23510},"cm"]
[{"$f":"IF(COUNTIF($B$1:B1743,TRUE)=COUNTIF($B$1:B1742,TRUE),\"\",COUNTIF($B$1:B1743,TRUE))","v":1369},{"$f":"Worksheet!$B$13","v":true},{"$f":"RANDBETWEEN(5,RANDBETWEEN(5,Worksheet!$D$6))","v":79},"km","±",{"$f":"IF(I1743=1,H1743*10^RANDBETWEEN(IF(Worksheet!$D$9,-1,0),0),IF(I1743=2,H1743*10^RANDBETWEEN(RANDBETWEEN(0,2),2),CHOOSE(RANDBETWEEN(1,3),5,10,20)))","v":10},{"$f":"IF(I1743=1,D1743,IF(I1743=3,\"%\",\"m\"))","v":"%"},2,{"$f":"IF(AND(Worksheet!$D$8,RAND()<0.2),3,IF(RAND()<Worksheet!$D$7/100,1,2))","v":3},{"$f":"IF(I1743=1,C1743-F1743,IF(I1743=2,C1743-F1743/1000,IF(I1743=3,(1-F1743/100)*C1743,\"\")))","v":71.100000000000009}," km",{"$f":"J1743*1000","v":71100.000000000015},"m",{"$f":"IF(I1743=1,C1743+F1743,IF(I1743=2,C1743+F1743/1000,IF(I1743=3,(1+F1743/100)*C1743,\"\")))","v":86.9},"  km",{"$f":"N1743*1000","v":86900},"m"]
[{"$f":"IF(COUNTIF($B$1:B1744,TRUE)=COUNTIF($B$1:B1743,TRUE),\"\",COUNTIF($B$1:B1744,TRUE))","v":""},{"$f":"Worksheet!$B$14","v":false},{"$f":"RANDBETWEEN(5,RANDBETWEEN(5,Worksheet!$D$6))","v":131},"m","±",{"$f":"IF(I1744=1,H1744*10^RANDBETWEEN(IF(Worksheet!$D$9,-1,0),0),IF(I1744=2,H1744*10^RANDBETWEEN(RANDBETWEEN(0,2),2),CHOOSE(RANDBETWEEN(1,3),5,10,20)))","v":20},{"$f":"IF(I1744=1,D1744,IF(I1744=3,\"%\",\"mm\"))","v":"%"},4,{"$f":"IF(AND(Worksheet!$D$8,RAND()<0.2),3,IF(RAND()<Worksheet!$D$7/100,1,2))","v":3},{"$f":"IF(I1744=1,C1744-F1744,IF(I1744=2,C1744-F1744/1000,IF(I1744=3,(1-F1744/100)*C1744,\"\")))","v":104.80000000000001}," m",{"$f":"J1744*1000","v":104800.00000000001},"mm",{"$f":"IF(I1744=1,C1744+F1744,IF(I1744=2,C1744+F1744/1000,IF(I1744=3,(1+F1744/100)*C1744,\"\")))","v":157.19999999999999},"  m",{"$f":"N1744*1000","v":157200},"mm"]
[{"$f":"IF(COUNTIF($B$1:B1745,TRUE)=COUNTIF($B$1:B1744,TRUE),\"\",COUNTIF($B$1:B1745,TRUE))","v":1370},{"$f":"Worksheet!$B$15","v":true},{"$f":"RANDBETWEEN(5,20)","v":6},"hours","±",{"$f":"IF(I1745=1,H1745*10^RANDBETWEEN(IF(Worksheet!$D$9,-1,0),0),IF(I1745=2,H1745,CHOOSE(RANDBETWEEN(1,3),5,10,20)))","v":0.60000000000000009},{"$f":"IF(I1745=1,D1745,IF(I1745=3,\"%\",\"min\"))","v":"hours"},6,{"$f":"IF(AND(Worksheet!$D$8,RAND()<0),3,IF(RAND()<Worksheet!$D$7/100,1,2))","v":1},null," hours",{"$f":"IF(I1745=1,C1745-F1745,IF(I1745=2,C1745*60-F1745,\"\"))","v":5.4},{"$f":"IF($I1745=1,\" hours\",\" min\")","v":" hours"},null,"  hours",{"$f":"IF(I1745=1,C1745+F1745,IF(I1745=2,C1745*60+F1745,\"\"))","v":6.6},{"$f":"IF($I1745=1,\" hours\",\" min\")","v":" hours"}]
[{"$f":"IF(COUNTIF($B$1:B1746,TRUE)=COUNTIF($B$1:B1745,TRUE),\"\",COUNTIF($B$1:B1746,TRUE))","v":1371},{"$f":"Worksheet!$D$11","v":true},{"$f":"RANDBETWEEN(5,RANDBETWEEN(5,Worksheet!$D$6))","v":106},"kg","±",{"$f":"IF(I1746=1,H1746*10^RANDBETWEEN(IF(Worksheet!$D$9,-1,0),0),IF(I1746=2,H1746*10^RANDBETWEEN(RANDBETWEEN(0,2),2),CHOOSE(RANDBETWEEN(1,3),5,10,20)))","v":0.1},{"$f":"IF(I1746=1,D1746,IF(I1746=3,\"%\",\"g\"))","v":"kg"},1,{"$f":"IF(AND(Worksheet!$D$8,RAND()<0.2),3,IF(RAND()<Worksheet!$D$7/100,1,2))","v":1},{"$f":"IF(I1746=1,C1746-F1746,IF(I1746=2,C1746-F1746/1000,IF(I1746=3,(1-F1746/100)*C1746,\"\")))","v":105.9}," kg",{"$f":"J1746*1000","v":105900},"g",{"$f":"IF(I1746=1,C1746+F1746,IF(I1746=2,C1746+F1746/1000,IF(I1746=3,(1+F1746/100)*C1746,\"\")))","v":106.1},"  kg",{"$f":"N1746*1000","v":106100},"g"]
[{"$f":"IF(COUNTIF($B$1:B1747,TRUE)=COUNTIF($B$1:B1746,TRUE),\"\",COUNTIF($B$1:B1747,TRUE))","v":1372},{"$f":"Worksheet!$D$12","v":true},{"$f":"RANDBETWEEN(5,RANDBETWEEN(5,Worksheet!$D$6))","v":147},"tonnes","±",{"$f":"IF(I1747=1,H1747*10^RANDBETWEEN(IF(Worksheet!$D$9,-1,0),0),IF(I1747=2,H1747*10^RANDBETWEEN(RANDBETWEEN(0,2),2),CHOOSE(RANDBETWEEN(1,3),5,10,20)))","v":0.2},{"$f":"IF(I1747=1,D1747,IF(I1747=3,\"%\",\"kg\"))","v":"tonnes"},2,{"$f":"IF(AND(Worksheet!$D$8,RAND()<0.2),3,IF(RAND()<Worksheet!$D$7/100,1,2))","v":1},{"$f":"IF(I1747=1,C1747-F1747,IF(I1747=2,C1747-F1747/1000,IF(I1747=3,(1-F1747/100)*C1747,\"\")))","v":146.80000000000001}," tonnes",{"$f":"J1747*1000","v":146800},"kg",{"$f":"IF(I1747=1,C1747+F1747,IF(I1747=2,C1747+F1747/1000,IF(I1747=3,(1+F1747/100)*C1747,\"\")))","v":147.19999999999999},"  tonnes",{"$f":"N1747*1000","v":147200},"kg"]
[{"$f":"IF(COUNTIF($B$1:B1748,TRUE)=COUNTIF($B$1:B1747,TRUE),\"\",COUNTIF($B$1:B1748,TRUE))","v":1373},{"$f":"Worksheet!$D$13","v":true},{"$f":"RANDBETWEEN(5,RANDBETWEEN(5,Worksheet!$D$6))","v":237},"litres","±",{"$f":"IF(I1748=1,H1748*10^RANDBETWEEN(IF(Worksheet!$D$9,-1,0),0),IF(I1748=2,H1748*10^RANDBETWEEN(RANDBETWEEN(0,2),2),CHOOSE(RANDBETWEEN(1,3),5,10,20)))","v":0.30000000000000004},{"$f":"IF(I1748=1,D1748,IF(I1748=3,\"%\",\"ml\"))","v":"litres"},3,{"$f":"IF(AND(Worksheet!$D$8,RAND()<0.2),3,IF(RAND()<Worksheet!$D$7/100,1,2))","v":1},{"$f":"IF(I1748=1,C1748-F1748,IF(I1748=2,C1748-F1748/1000,IF(I1748=3,(1-F1748/100)*C1748,\"\")))","v":236.7}," litres",{"$f":"J1748*1000","v":236700},"ml",{"$f":"IF(I1748=1,C1748+F1748,IF(I1748=2,C1748+F1748/1000,IF(I1748=3,(1+F1748/100)*C1748,\"\")))","v":237.3},"  litres",{"$f":"N1748*1000","v":237300},"ml"]
[{"$f":"IF(COUNTIF($B$1:B1749,TRUE)=COUNTIF($B$1:B1748,TRUE),\"\",COUNTIF($B$1:B1749,TRUE))","v":1374},{"$f":"Worksheet!$D$14","v":true},{"$f":"RANDBETWEEN(5,RANDBETWEEN(5,Worksheet!$D$6))","v":133},"litres","±",{"$f":"IF(I1749=1,H1749*10^RANDBETWEEN(IF(Worksheet!$D$9,-1,0),0),IF(I1749=2,H1749*10^RANDBETWEEN(RANDBETWEEN(0,2),2),CHOOSE(RANDBETWEEN(1,3),5,10,20)))","v":8},{"$f":"IF(I1749=1,D1749,IF(I1749=3,\"%\",\"cm³\"))","v":"litres"},8,{"$f":"IF(AND(Worksheet!$D$8,RAND()<0.2),3,IF(RAND()<Worksheet!$D$7/100,1,2))","v":1},{"$f":"IF(I1749=1,C1749-F1749,IF(I1749=2,C1749-F1749/1000,IF(I1749=3,(1-F1749/100)*C1749,\"\")))","v":125}," litres",{"$f":"J1749*1000","v":125000},"cm³",{"$f":"IF(I1749=1,C1749+F1749,IF(I1749=2,C1749+F1749/1000,IF(I1749=3,(1+F1749/100)*C1749,\"\")))","v":141},"  litres",{"$f":"N1749*1000","v":141000},"cm³"]
[{"$f":"IF(COUNTIF($B$1:B1750,TRUE)=COUNTIF($B$1:B1749,TRUE),\"\",COUNTIF($B$1:B1750,TRUE))","v":""},{"$f":"Worksheet!$D$15","v":false},{"$f":"RANDBETWEEN(5,20)","v":6},"min","±",{"$f":"IF(I1750=1,H1750*10^RANDBETWEEN(IF(Worksheet!$D$9,-1,0),0),IF(I1750=2,H1750,CHOOSE(RANDBETWEEN(1,3),5,10,20)))","v":3},{"$f":"IF(I1750=1,D1750,IF(I1750=3,\"%\",\"sec\"))","v":"sec"},3,{"$f":"IF(AND(Worksheet!$D$8,RAND()<0),3,IF(RAND()<Worksheet!$D$7/100,1,2))","v":2},null," min",{"$f":"IF(I1750=1,C1750-F1750,IF(I1750=2,C1750*60-F1750,\"\"))","v":357},{"$f":"IF($I1750=1,\" hours\",\" min\")","v":" min"},null,"  min",{"$f":"IF(I1750=1,C1750+F1750,IF(I1750=2,C1750*60+F1750,\"\"))","v":363},{"$f":"IF($I1750=1,\" hours\",\" min\")","v":" min"}]
[{"$f":"COUNTIF($B$1:B1751,TRUE)","v":1375},{"$f":"Worksheet!$B$11","v":true},{"$f":"RANDBETWEEN(5,RANDBETWEEN(5,Worksheet!$D$6))","v":5},"cm","±",{"$f":"IF(I1751=1,H1751*10^RANDBETWEEN(IF(Worksheet!$D$9,-1,0),0),IF(I1751=2,H1751,CHOOSE(RANDBETWEEN(1,3),5,10,20)))","v":5},{"$f":"IF(I1751=1,D1751,IF(I1751=3,\"%\",\"mm\"))","v":"mm"},{"$f":"RANDBETWEEN(1,MIN(9,C1751))","v":5},{"$f":"IF(AND(Worksheet!$D$8,RAND()<0.2),3,IF(RAND()<Worksheet!$D$7/100,1,2))","v":2},{"$f":"IF(I1751=1,C1751-F1751,IF(I1751=2,C1751-F1751/10,IF(I1751=3,(1-F1751/100)*C1751,\"\")))","v":4.5},{"$f":"CONCATENATE(\" \",D1751)","v":" cm"},{"$f":"J1751*10","v":45},"mm",{"$f":"IF(I1751=1,C1751+F1751,IF(I1751=2,C1751+F1751/10,IF(I1751=3,(1+F1751/100)*C1751,\"\")))","v":5.5},{"$f":"CONCATENATE(\" \",K1751)","v":"  cm"},{"$f":"N1751*10","v":55},"mm"]
[{"$f":"IF(COUNTIF($B$1:B1752,TRUE)=COUNTIF($B$1:B1751,TRUE),\"\",COUNTIF($B$1:B1752,TRUE))","v":1376},{"$f":"Worksheet!$B$12","v":true},{"$f":"RANDBETWEEN(5,RANDBETWEEN(5,Worksheet!$D$6))","v":72},"m","±",{"$f":"IF(I1752=1,H1752*10^RANDBETWEEN(IF(Worksheet!$D$9,-1,0),0),IF(I1752=2,H1752*10^RANDBETWEEN(RANDBETWEEN(0,1),1),CHOOSE(RANDBETWEEN(1,3),5,10,20)))","v":0.1},{"$f":"IF(I1752=1,D1752,IF(I1752=3,\"%\",\"cm\"))","v":"m"},{"$f":"RANDBETWEEN(1,MIN(9,C1752))","v":1},{"$f":"IF(AND(Worksheet!$D$8,RAND()<0.2),3,IF(RAND()<Worksheet!$D$7/100,1,2))","v":1},{"$f":"IF(I1752=1,C1752-F1752,IF(I1752=2,C1752-F1752/100,IF(I1752=3,(1-F1752/100)*C1752,\"\")))","v":71.900000000000006},{"$f":"CONCATENATE(\" \",D1752)","v":" m"},{"$f":"J1752*100","v":7190.0000000000009},"cm",{"$f":"IF(I1752=1,C1752+F1752,IF(I1752=2,C1752+F1752/100,IF(I1752=3,(1+F1752/100)*C1752,\"\")))","v":72.099999999999994},{"$f":"CONCATENATE(\" \",K1752)","v":"  m"},{"$f":"N1752*100","v":7209.9999999999991},"cm"]
[{"$f":"IF(COUNTIF($B$1:B1753,TRUE)=COUNTIF($B$1:B1752,TRUE),\"\",COUNTIF($B$1:B1753,TRUE))","v":1377},{"$f":"Worksheet!$B$13","v":true},{"$f":"RANDBETWEEN(5,RANDBETWEEN(5,Worksheet!$D$6))","v":125},"km","±",{"$f":"IF(I1753=1,H1753*10^RANDBETWEEN(IF(Worksheet!$D$9,-1,0),0),IF(I1753=2,H1753*10^RANDBETWEEN(RANDBETWEEN(0,2),2),CHOOSE(RANDBETWEEN(1,3),5,10,20)))","v":5},{"$f":"IF(I1753=1,D1753,IF(I1753=3,\"%\",\"m\"))","v":"%"},3,{"$f":"IF(AND(Worksheet!$D$8,RAND()<0.2),3,IF(RAND()<Worksheet!$D$7/100,1,2))","v":3},{"$f":"IF(I1753=1,C1753-F1753,IF(I1753=2,C1753-F1753/1000,IF(I1753=3,(1-F1753/100)*C1753,\"\")))","v":118.75}," km",{"$f":"J1753*1000","v":118750},"m",{"$f":"IF(I1753=1,C1753+F1753,IF(I1753=2,C1753+F1753/1000,IF(I1753=3,(1+F1753/100)*C1753,\"\")))","v":131.25},"  km",{"$f":"N1753*1000","v":131250},"m"]
[{"$f":"IF(COUNTIF($B$1:B1754,TRUE)=COUNTIF($B$1:B1753,TRUE),\"\",COUNTIF($B$1:B1754,TRUE))","v":""},{"$f":"Worksheet!$B$14","v":false},{"$f":"RANDBETWEEN(5,RANDBETWEEN(5,Worksheet!$D$6))","v":211},"m","±",{"$f":"IF(I1754=1,H1754*10^RANDBETWEEN(IF(Worksheet!$D$9,-1,0),0),IF(I1754=2,H1754*10^RANDBETWEEN(RANDBETWEEN(0,2),2),CHOOSE(RANDBETWEEN(1,3),5,10,20)))","v":600},{"$f":"IF(I1754=1,D1754,IF(I1754=3,\"%\",\"mm\"))","v":"mm"},6,{"$f":"IF(AND(Worksheet!$D$8,RAND()<0.2),3,IF(RAND()<Worksheet!$D$7/100,1,2))","v":2},{"$f":"IF(I1754=1,C1754-F1754,IF(I1754=2,C1754-F1754/1000,IF(I1754=3,(1-F1754/100)*C1754,\"\")))","v":210.4}," m",{"$f":"J1754*1000","v":210400},"mm",{"$f":"IF(I1754=1,C1754+F1754,IF(I1754=2,C1754+F1754/1000,IF(I1754=3,(1+F1754/100)*C1754,\"\")))","v":211.6},"  m",{"$f":"N1754*1000","v":211600},"mm"]
[{"$f":"IF(COUNTIF($B$1:B1755,TRUE)=COUNTIF($B$1:B1754,TRUE),\"\",COUNTIF($B$1:B1755,TRUE))","v":1378},{"$f":"Worksheet!$B$15","v":true},{"$f":"RANDBETWEEN(5,20)","v":9},"hours","±",{"$f":"IF(I1755=1,H1755*10^RANDBETWEEN(IF(Worksheet!$D$9,-1,0),0),IF(I1755=2,H1755,CHOOSE(RANDBETWEEN(1,3),5,10,20)))","v":8},{"$f":"IF(I1755=1,D1755,IF(I1755=3,\"%\",\"min\"))","v":"hours"},8,{"$f":"IF(AND(Worksheet!$D$8,RAND()<0),3,IF(RAND()<Worksheet!$D$7/100,1,2))","v":1},null," hours",{"$f":"IF(I1755=1,C1755-F1755,IF(I1755=2,C1755*60-F1755,\"\"))","v":1},{"$f":"IF($I1755=1,\" hours\",\" min\")","v":" hours"},null,"  hours",{"$f":"IF(I1755=1,C1755+F1755,IF(I1755=2,C1755*60+F1755,\"\"))","v":17},{"$f":"IF($I1755=1,\" hours\",\" min\")","v":" hours"}]
[{"$f":"IF(COUNTIF($B$1:B1756,TRUE)=COUNTIF($B$1:B1755,TRUE),\"\",COUNTIF($B$1:B1756,TRUE))","v":1379},{"$f":"Worksheet!$D$11","v":true},{"$f":"RANDBETWEEN(5,RANDBETWEEN(5,Worksheet!$D$6))","v":227},"kg","±",{"$f":"IF(I1756=1,H1756*10^RANDBETWEEN(IF(Worksheet!$D$9,-1,0),0),IF(I1756=2,H1756*10^RANDBETWEEN(RANDBETWEEN(0,2),2),CHOOSE(RANDBETWEEN(1,3),5,10,20)))","v":0.1},{"$f":"IF(I1756=1,D1756,IF(I1756=3,\"%\",\"g\"))","v":"kg"},1,{"$f":"IF(AND(Worksheet!$D$8,RAND()<0.2),3,IF(RAND()<Worksheet!$D$7/100,1,2))","v":1},{"$f":"IF(I1756=1,C1756-F1756,IF(I1756=2,C1756-F1756/1000,IF(I1756=3,(1-F1756/100)*C1756,\"\")))","v":226.9}," kg",{"$f":"J1756*1000","v":226900},"g",{"$f":"IF(I1756=1,C1756+F1756,IF(I1756=2,C1756+F1756/1000,IF(I1756=3,(1+F1756/100)*C1756,\"\")))","v":227.1},"  kg",{"$f":"N1756*1000","v":227100},"g"]
[{"$f":"IF(COUNTIF($B$1:B1757,TRUE)=COUNTIF($B$1:B1756,TRUE),\"\",COUNTIF($B$1:B1757,TRUE))","v":1380},{"$f":"Worksheet!$D$12","v":true},{"$f":"RANDBETWEEN(5,RANDBETWEEN(5,Worksheet!$D$6))","v":215},"tonnes","±",{"$f":"IF(I1757=1,H1757*10^RANDBETWEEN(IF(Worksheet!$D$9,-1,0),0),IF(I1757=2,H1757*10^RANDBETWEEN(RANDBETWEEN(0,2),2),CHOOSE(RANDBETWEEN(1,3),5,10,20)))","v":3},{"$f":"IF(I1757=1,D1757,IF(I1757=3,\"%\",\"kg\"))","v":"tonnes"},3,{"$f":"IF(AND(Worksheet!$D$8,RAND()<0.2),3,IF(RAND()<Worksheet!$D$7/100,1,2))","v":1},{"$f":"IF(I1757=1,C1757-F1757,IF(I1757=2,C1757-F1757/1000,IF(I1757=3,(1-F1757/100)*C1757,\"\")))","v":212}," tonnes",{"$f":"J1757*1000","v":212000},"kg",{"$f":"IF(I1757=1,C1757+F1757,IF(I1757=2,C1757+F1757/1000,IF(I1757=3,(1+F1757/100)*C1757,\"\")))","v":218},"  tonnes",{"$f":"N1757*1000","v":218000},"kg"]
[{"$f":"IF(COUNTIF($B$1:B1758,TRUE)=COUNTIF($B$1:B1757,TRUE),\"\",COUNTIF($B$1:B1758,TRUE))","v":1381},{"$f":"Worksheet!$D$13","v":true},{"$f":"RANDBETWEEN(5,RANDBETWEEN(5,Worksheet!$D$6))","v":11},"litres","±",{"$f":"IF(I1758=1,H1758*10^RANDBETWEEN(IF(Worksheet!$D$9,-1,0),0),IF(I1758=2,H1758*10^RANDBETWEEN(RANDBETWEEN(0,2),2),CHOOSE(RANDBETWEEN(1,3),5,10,20)))","v":8},{"$f":"IF(I1758=1,D1758,IF(I1758=3,\"%\",\"ml\"))","v":"litres"},8,{"$f":"IF(AND(Worksheet!$D$8,RAND()<0.2),3,IF(RAND()<Worksheet!$D$7/100,1,2))","v":1},{"$f":"IF(I1758=1,C1758-F1758,IF(I1758=2,C1758-F1758/1000,IF(I1758=3,(1-F1758/100)*C1758,\"\")))","v":3}," litres",{"$f":"J1758*1000","v":3000},"ml",{"$f":"IF(I1758=1,C1758+F1758,IF(I1758=2,C1758+F1758/1000,IF(I1758=3,(1+F1758/100)*C1758,\"\")))","v":19},"  litres",{"$f":"N1758*1000","v":19000},"ml"]
[{"$f":"IF(COUNTIF($B$1:B1759,TRUE)=COUNTIF($B$1:B1758,TRUE),\"\",COUNTIF($B$1:B1759,TRUE))","v":1382},{"$f":"Worksheet!$D$14","v":true},{"$f":"RANDBETWEEN(5,RANDBETWEEN(5,Worksheet!$D$6))","v":37},"litres","±",{"$f":"IF(I1759=1,H1759*10^RANDBETWEEN(IF(Worksheet!$D$9,-1,0),0),IF(I1759=2,H1759*10^RANDBETWEEN(RANDBETWEEN(0,2),2),CHOOSE(RANDBETWEEN(1,3),5,10,20)))","v":0.2},{"$f":"IF(I1759=1,D1759,IF(I1759=3,\"%\",\"cm³\"))","v":"litres"},2,{"$f":"IF(AND(Worksheet!$D$8,RAND()<0.2),3,IF(RAND()<Worksheet!$D$7/100,1,2))","v":1},{"$f":"IF(I1759=1,C1759-F1759,IF(I1759=2,C1759-F1759/1000,IF(I1759=3,(1-F1759/100)*C1759,\"\")))","v":36.799999999999997}," litres",{"$f":"J1759*1000","v":36800},"cm³",{"$f":"IF(I1759=1,C1759+F1759,IF(I1759=2,C1759+F1759/1000,IF(I1759=3,(1+F1759/100)*C1759,\"\")))","v":37.200000000000003},"  litres",{"$f":"N1759*1000","v":37200},"cm³"]
[{"$f":"IF(COUNTIF($B$1:B1760,TRUE)=COUNTIF($B$1:B1759,TRUE),\"\",COUNTIF($B$1:B1760,TRUE))","v":""},{"$f":"Worksheet!$D$15","v":false},{"$f":"RANDBETWEEN(5,20)","v":7},"min","±",{"$f":"IF(I1760=1,H1760*10^RANDBETWEEN(IF(Worksheet!$D$9,-1,0),0),IF(I1760=2,H1760,CHOOSE(RANDBETWEEN(1,3),5,10,20)))","v":0.60000000000000009},{"$f":"IF(I1760=1,D1760,IF(I1760=3,\"%\",\"sec\"))","v":"min"},6,{"$f":"IF(AND(Worksheet!$D$8,RAND()<0),3,IF(RAND()<Worksheet!$D$7/100,1,2))","v":1},null," min",{"$f":"IF(I1760=1,C1760-F1760,IF(I1760=2,C1760*60-F1760,\"\"))","v":6.4},{"$f":"IF($I1760=1,\" hours\",\" min\")","v":" hours"},null,"  min",{"$f":"IF(I1760=1,C1760+F1760,IF(I1760=2,C1760*60+F1760,\"\"))","v":7.6},{"$f":"IF($I1760=1,\" hours\",\" min\")","v":" hours"}]
[{"$f":"COUNTIF($B$1:B1761,TRUE)","v":1383},{"$f":"Worksheet!$B$11","v":true},{"$f":"RANDBETWEEN(5,RANDBETWEEN(5,Worksheet!$D$6))","v":20},"cm","±",{"$f":"IF(I1761=1,H1761*10^RANDBETWEEN(IF(Worksheet!$D$9,-1,0),0),IF(I1761=2,H1761,CHOOSE(RANDBETWEEN(1,3),5,10,20)))","v":5},{"$f":"IF(I1761=1,D1761,IF(I1761=3,\"%\",\"mm\"))","v":"%"},{"$f":"RANDBETWEEN(1,MIN(9,C1761))","v":5},{"$f":"IF(AND(Worksheet!$D$8,RAND()<0.2),3,IF(RAND()<Worksheet!$D$7/100,1,2))","v":3},{"$f":"IF(I1761=1,C1761-F1761,IF(I1761=2,C1761-F1761/10,IF(I1761=3,(1-F1761/100)*C1761,\"\")))","v":19},{"$f":"CONCATENATE(\" \",D1761)","v":" cm"},{"$f":"J1761*10","v":190},"mm",{"$f":"IF(I1761=1,C1761+F1761,IF(I1761=2,C1761+F1761/10,IF(I1761=3,(1+F1761/100)*C1761,\"\")))","v":21},{"$f":"CONCATENATE(\" \",K1761)","v":"  cm"},{"$f":"N1761*10","v":210},"mm"]
[{"$f":"IF(COUNTIF($B$1:B1762,TRUE)=COUNTIF($B$1:B1761,TRUE),\"\",COUNTIF($B$1:B1762,TRUE))","v":1384},{"$f":"Worksheet!$B$12","v":true},{"$f":"RANDBETWEEN(5,RANDBETWEEN(5,Worksheet!$D$6))","v":57},"m","±",{"$f":"IF(I1762=1,H1762*10^RANDBETWEEN(IF(Worksheet!$D$9,-1,0),0),IF(I1762=2,H1762*10^RANDBETWEEN(RANDBETWEEN(0,1),1),CHOOSE(RANDBETWEEN(1,3),5,10,20)))","v":0.70000000000000007},{"$f":"IF(I1762=1,D1762,IF(I1762=3,\"%\",\"cm\"))","v":"m"},{"$f":"RANDBETWEEN(1,MIN(9,C1762))","v":7},{"$f":"IF(AND(Worksheet!$D$8,RAND()<0.2),3,IF(RAND()<Worksheet!$D$7/100,1,2))","v":1},{"$f":"IF(I1762=1,C1762-F1762,IF(I1762=2,C1762-F1762/100,IF(I1762=3,(1-F1762/100)*C1762,\"\")))","v":56.3},{"$f":"CONCATENATE(\" \",D1762)","v":" m"},{"$f":"J1762*100","v":5630},"cm",{"$f":"IF(I1762=1,C1762+F1762,IF(I1762=2,C1762+F1762/100,IF(I1762=3,(1+F1762/100)*C1762,\"\")))","v":57.7},{"$f":"CONCATENATE(\" \",K1762)","v":"  m"},{"$f":"N1762*100","v":5770},"cm"]
[{"$f":"IF(COUNTIF($B$1:B1763,TRUE)=COUNTIF($B$1:B1762,TRUE),\"\",COUNTIF($B$1:B1763,TRUE))","v":1385},{"$f":"Worksheet!$B$13","v":true},{"$f":"RANDBETWEEN(5,RANDBETWEEN(5,Worksheet!$D$6))","v":125},"km","±",{"$f":"IF(I1763=1,H1763*10^RANDBETWEEN(IF(Worksheet!$D$9,-1,0),0),IF(I1763=2,H1763*10^RANDBETWEEN(RANDBETWEEN(0,2),2),CHOOSE(RANDBETWEEN(1,3),5,10,20)))","v":800},{"$f":"IF(I1763=1,D1763,IF(I1763=3,\"%\",\"m\"))","v":"m"},8,{"$f":"IF(AND(Worksheet!$D$8,RAND()<0.2),3,IF(RAND()<Worksheet!$D$7/100,1,2))","v":2},{"$f":"IF(I1763=1,C1763-F1763,IF(I1763=2,C1763-F1763/1000,IF(I1763=3,(1-F1763/100)*C1763,\"\")))","v":124.2}," km",{"$f":"J1763*1000","v":124200},"m",{"$f":"IF(I1763=1,C1763+F1763,IF(I1763=2,C1763+F1763/1000,IF(I1763=3,(1+F1763/100)*C1763,\"\")))","v":125.8},"  km",{"$f":"N1763*1000","v":125800},"m"]
[{"$f":"IF(COUNTIF($B$1:B1764,TRUE)=COUNTIF($B$1:B1763,TRUE),\"\",COUNTIF($B$1:B1764,TRUE))","v":""},{"$f":"Worksheet!$B$14","v":false},{"$f":"RANDBETWEEN(5,RANDBETWEEN(5,Worksheet!$D$6))","v":41},"m","±",{"$f":"IF(I1764=1,H1764*10^RANDBETWEEN(IF(Worksheet!$D$9,-1,0),0),IF(I1764=2,H1764*10^RANDBETWEEN(RANDBETWEEN(0,2),2),CHOOSE(RANDBETWEEN(1,3),5,10,20)))","v":7},{"$f":"IF(I1764=1,D1764,IF(I1764=3,\"%\",\"mm\"))","v":"m"},7,{"$f":"IF(AND(Worksheet!$D$8,RAND()<0.2),3,IF(RAND()<Worksheet!$D$7/100,1,2))","v":1},{"$f":"IF(I1764=1,C1764-F1764,IF(I1764=2,C1764-F1764/1000,IF(I1764=3,(1-F1764/100)*C1764,\"\")))","v":34}," m",{"$f":"J1764*1000","v":34000},"mm",{"$f":"IF(I1764=1,C1764+F1764,IF(I1764=2,C1764+F1764/1000,IF(I1764=3,(1+F1764/100)*C1764,\"\")))","v":48},"  m",{"$f":"N1764*1000","v":48000},"mm"]
[{"$f":"IF(COUNTIF($B$1:B1765,TRUE)=COUNTIF($B$1:B1764,TRUE),\"\",COUNTIF($B$1:B1765,TRUE))","v":1386},{"$f":"Worksheet!$B$15","v":true},{"$f":"RANDBETWEEN(5,20)","v":6},"hours","±",{"$f":"IF(I1765=1,H1765*10^RANDBETWEEN(IF(Worksheet!$D$9,-1,0),0),IF(I1765=2,H1765,CHOOSE(RANDBETWEEN(1,3),5,10,20)))","v":5},{"$f":"IF(I1765=1,D1765,IF(I1765=3,\"%\",\"min\"))","v":"hours"},5,{"$f":"IF(AND(Worksheet!$D$8,RAND()<0),3,IF(RAND()<Worksheet!$D$7/100,1,2))","v":1},null," hours",{"$f":"IF(I1765=1,C1765-F1765,IF(I1765=2,C1765*60-F1765,\"\"))","v":1},{"$f":"IF($I1765=1,\" hours\",\" min\")","v":" hours"},null,"  hours",{"$f":"IF(I1765=1,C1765+F1765,IF(I1765=2,C1765*60+F1765,\"\"))","v":11},{"$f":"IF($I1765=1,\" hours\",\" min\")","v":" hours"}]
[{"$f":"IF(COUNTIF($B$1:B1766,TRUE)=COUNTIF($B$1:B1765,TRUE),\"\",COUNTIF($B$1:B1766,TRUE))","v":1387},{"$f":"Worksheet!$D$11","v":true},{"$f":"RANDBETWEEN(5,RANDBETWEEN(5,Worksheet!$D$6))","v":16},"kg","±",{"$f":"IF(I1766=1,H1766*10^RANDBETWEEN(IF(Worksheet!$D$9,-1,0),0),IF(I1766=2,H1766*10^RANDBETWEEN(RANDBETWEEN(0,2),2),CHOOSE(RANDBETWEEN(1,3),5,10,20)))","v":0.60000000000000009},{"$f":"IF(I1766=1,D1766,IF(I1766=3,\"%\",\"g\"))","v":"kg"},6,{"$f":"IF(AND(Worksheet!$D$8,RAND()<0.2),3,IF(RAND()<Worksheet!$D$7/100,1,2))","v":1},{"$f":"IF(I1766=1,C1766-F1766,IF(I1766=2,C1766-F1766/1000,IF(I1766=3,(1-F1766/100)*C1766,\"\")))","v":15.4}," kg",{"$f":"J1766*1000","v":15400},"g",{"$f":"IF(I1766=1,C1766+F1766,IF(I1766=2,C1766+F1766/1000,IF(I1766=3,(1+F1766/100)*C1766,\"\")))","v":16.600000000000001},"  kg",{"$f":"N1766*1000","v":16600},"g"]
[{"$f":"IF(COUNTIF($B$1:B1767,TRUE)=COUNTIF($B$1:B1766,TRUE),\"\",COUNTIF($B$1:B1767,TRUE))","v":1388},{"$f":"Worksheet!$D$12","v":true},{"$f":"RANDBETWEEN(5,RANDBETWEEN(5,Worksheet!$D$6))","v":26},"tonnes","±",{"$f":"IF(I1767=1,H1767*10^RANDBETWEEN(IF(Worksheet!$D$9,-1,0),0),IF(I1767=2,H1767*10^RANDBETWEEN(RANDBETWEEN(0,2),2),CHOOSE(RANDBETWEEN(1,3),5,10,20)))","v":1},{"$f":"IF(I1767=1,D1767,IF(I1767=3,\"%\",\"kg\"))","v":"tonnes"},1,{"$f":"IF(AND(Worksheet!$D$8,RAND()<0.2),3,IF(RAND()<Worksheet!$D$7/100,1,2))","v":1},{"$f":"IF(I1767=1,C1767-F1767,IF(I1767=2,C1767-F1767/1000,IF(I1767=3,(1-F1767/100)*C1767,\"\")))","v":25}," tonnes",{"$f":"J1767*1000","v":25000},"kg",{"$f":"IF(I1767=1,C1767+F1767,IF(I1767=2,C1767+F1767/1000,IF(I1767=3,(1+F1767/100)*C1767,\"\")))","v":27},"  tonnes",{"$f":"N1767*1000","v":27000},"kg"]
[{"$f":"IF(COUNTIF($B$1:B1768,TRUE)=COUNTIF($B$1:B1767,TRUE),\"\",COUNTIF($B$1:B1768,TRUE))","v":1389},{"$f":"Worksheet!$D$13","v":true},{"$f":"RANDBETWEEN(5,RANDBETWEEN(5,Worksheet!$D$6))","v":183},"litres","±",{"$f":"IF(I1768=1,H1768*10^RANDBETWEEN(IF(Worksheet!$D$9,-1,0),0),IF(I1768=2,H1768*10^RANDBETWEEN(RANDBETWEEN(0,2),2),CHOOSE(RANDBETWEEN(1,3),5,10,20)))","v":700},{"$f":"IF(I1768=1,D1768,IF(I1768=3,\"%\",\"ml\"))","v":"ml"},7,{"$f":"IF(AND(Worksheet!$D$8,RAND()<0.2),3,IF(RAND()<Worksheet!$D$7/100,1,2))","v":2},{"$f":"IF(I1768=1,C1768-F1768,IF(I1768=2,C1768-F1768/1000,IF(I1768=3,(1-F1768/100)*C1768,\"\")))","v":182.3}," litres",{"$f":"J1768*1000","v":182300},"ml",{"$f":"IF(I1768=1,C1768+F1768,IF(I1768=2,C1768+F1768/1000,IF(I1768=3,(1+F1768/100)*C1768,\"\")))","v":183.7},"  litres",{"$f":"N1768*1000","v":183700},"ml"]
[{"$f":"IF(COUNTIF($B$1:B1769,TRUE)=COUNTIF($B$1:B1768,TRUE),\"\",COUNTIF($B$1:B1769,TRUE))","v":1390},{"$f":"Worksheet!$D$14","v":true},{"$f":"RANDBETWEEN(5,RANDBETWEEN(5,Worksheet!$D$6))","v":47},"litres","±",{"$f":"IF(I1769=1,H1769*10^RANDBETWEEN(IF(Worksheet!$D$9,-1,0),0),IF(I1769=2,H1769*10^RANDBETWEEN(RANDBETWEEN(0,2),2),CHOOSE(RANDBETWEEN(1,3),5,10,20)))","v":60},{"$f":"IF(I1769=1,D1769,IF(I1769=3,\"%\",\"cm³\"))","v":"cm³"},6,{"$f":"IF(AND(Worksheet!$D$8,RAND()<0.2),3,IF(RAND()<Worksheet!$D$7/100,1,2))","v":2},{"$f":"IF(I1769=1,C1769-F1769,IF(I1769=2,C1769-F1769/1000,IF(I1769=3,(1-F1769/100)*C1769,\"\")))","v":46.94}," litres",{"$f":"J1769*1000","v":46940},"cm³",{"$f":"IF(I1769=1,C1769+F1769,IF(I1769=2,C1769+F1769/1000,IF(I1769=3,(1+F1769/100)*C1769,\"\")))","v":47.06},"  litres",{"$f":"N1769*1000","v":47060},"cm³"]
[{"$f":"IF(COUNTIF($B$1:B1770,TRUE)=COUNTIF($B$1:B1769,TRUE),\"\",COUNTIF($B$1:B1770,TRUE))","v":""},{"$f":"Worksheet!$D$15","v":false},{"$f":"RANDBETWEEN(5,20)","v":7},"min","±",{"$f":"IF(I1770=1,H1770*10^RANDBETWEEN(IF(Worksheet!$D$9,-1,0),0),IF(I1770=2,H1770,CHOOSE(RANDBETWEEN(1,3),5,10,20)))","v":0.2},{"$f":"IF(I1770=1,D1770,IF(I1770=3,\"%\",\"sec\"))","v":"min"},2,{"$f":"IF(AND(Worksheet!$D$8,RAND()<0),3,IF(RAND()<Worksheet!$D$7/100,1,2))","v":1},null," min",{"$f":"IF(I1770=1,C1770-F1770,IF(I1770=2,C1770*60-F1770,\"\"))","v":6.8},{"$f":"IF($I1770=1,\" hours\",\" min\")","v":" hours"},null,"  min",{"$f":"IF(I1770=1,C1770+F1770,IF(I1770=2,C1770*60+F1770,\"\"))","v":7.2},{"$f":"IF($I1770=1,\" hours\",\" min\")","v":" hours"}]
[{"$f":"COUNTIF($B$1:B1771,TRUE)","v":1391},{"$f":"Worksheet!$B$11","v":true},{"$f":"RANDBETWEEN(5,RANDBETWEEN(5,Worksheet!$D$6))","v":134},"cm","±",{"$f":"IF(I1771=1,H1771*10^RANDBETWEEN(IF(Worksheet!$D$9,-1,0),0),IF(I1771=2,H1771,CHOOSE(RANDBETWEEN(1,3),5,10,20)))","v":3},{"$f":"IF(I1771=1,D1771,IF(I1771=3,\"%\",\"mm\"))","v":"cm"},{"$f":"RANDBETWEEN(1,MIN(9,C1771))","v":3},{"$f":"IF(AND(Worksheet!$D$8,RAND()<0.2),3,IF(RAND()<Worksheet!$D$7/100,1,2))","v":1},{"$f":"IF(I1771=1,C1771-F1771,IF(I1771=2,C1771-F1771/10,IF(I1771=3,(1-F1771/100)*C1771,\"\")))","v":131},{"$f":"CONCATENATE(\" \",D1771)","v":" cm"},{"$f":"J1771*10","v":1310},"mm",{"$f":"IF(I1771=1,C1771+F1771,IF(I1771=2,C1771+F1771/10,IF(I1771=3,(1+F1771/100)*C1771,\"\")))","v":137},{"$f":"CONCATENATE(\" \",K1771)","v":"  cm"},{"$f":"N1771*10","v":1370},"mm"]
[{"$f":"IF(COUNTIF($B$1:B1772,TRUE)=COUNTIF($B$1:B1771,TRUE),\"\",COUNTIF($B$1:B1772,TRUE))","v":1392},{"$f":"Worksheet!$B$12","v":true},{"$f":"RANDBETWEEN(5,RANDBETWEEN(5,Worksheet!$D$6))","v":161},"m","±",{"$f":"IF(I1772=1,H1772*10^RANDBETWEEN(IF(Worksheet!$D$9,-1,0),0),IF(I1772=2,H1772*10^RANDBETWEEN(RANDBETWEEN(0,1),1),CHOOSE(RANDBETWEEN(1,3),5,10,20)))","v":20},{"$f":"IF(I1772=1,D1772,IF(I1772=3,\"%\",\"cm\"))","v":"%"},{"$f":"RANDBETWEEN(1,MIN(9,C1772))","v":2},{"$f":"IF(AND(Worksheet!$D$8,RAND()<0.2),3,IF(RAND()<Worksheet!$D$7/100,1,2))","v":3},{"$f":"IF(I1772=1,C1772-F1772,IF(I1772=2,C1772-F1772/100,IF(I1772=3,(1-F1772/100)*C1772,\"\")))","v":128.80000000000001},{"$f":"CONCATENATE(\" \",D1772)","v":" m"},{"$f":"J1772*100","v":12880.000000000002},"cm",{"$f":"IF(I1772=1,C1772+F1772,IF(I1772=2,C1772+F1772/100,IF(I1772=3,(1+F1772/100)*C1772,\"\")))","v":193.2},{"$f":"CONCATENATE(\" \",K1772)","v":"  m"},{"$f":"N1772*100","v":19320},"cm"]
[{"$f":"IF(COUNTIF($B$1:B1773,TRUE)=COUNTIF($B$1:B1772,TRUE),\"\",COUNTIF($B$1:B1773,TRUE))","v":1393},{"$f":"Worksheet!$B$13","v":true},{"$f":"RANDBETWEEN(5,RANDBETWEEN(5,Worksheet!$D$6))","v":20},"km","±",{"$f":"IF(I1773=1,H1773*10^RANDBETWEEN(IF(Worksheet!$D$9,-1,0),0),IF(I1773=2,H1773*10^RANDBETWEEN(RANDBETWEEN(0,2),2),CHOOSE(RANDBETWEEN(1,3),5,10,20)))","v":6},{"$f":"IF(I1773=1,D1773,IF(I1773=3,\"%\",\"m\"))","v":"km"},6,{"$f":"IF(AND(Worksheet!$D$8,RAND()<0.2),3,IF(RAND()<Worksheet!$D$7/100,1,2))","v":1},{"$f":"IF(I1773=1,C1773-F1773,IF(I1773=2,C1773-F1773/1000,IF(I1773=3,(1-F1773/100)*C1773,\"\")))","v":14}," km",{"$f":"J1773*1000","v":14000},"m",{"$f":"IF(I1773=1,C1773+F1773,IF(I1773=2,C1773+F1773/1000,IF(I1773=3,(1+F1773/100)*C1773,\"\")))","v":26},"  km",{"$f":"N1773*1000","v":26000},"m"]
[{"$f":"IF(COUNTIF($B$1:B1774,TRUE)=COUNTIF($B$1:B1773,TRUE),\"\",COUNTIF($B$1:B1774,TRUE))","v":""},{"$f":"Worksheet!$B$14","v":false},{"$f":"RANDBETWEEN(5,RANDBETWEEN(5,Worksheet!$D$6))","v":260},"m","±",{"$f":"IF(I1774=1,H1774*10^RANDBETWEEN(IF(Worksheet!$D$9,-1,0),0),IF(I1774=2,H1774*10^RANDBETWEEN(RANDBETWEEN(0,2),2),CHOOSE(RANDBETWEEN(1,3),5,10,20)))","v":8},{"$f":"IF(I1774=1,D1774,IF(I1774=3,\"%\",\"mm\"))","v":"m"},8,{"$f":"IF(AND(Worksheet!$D$8,RAND()<0.2),3,IF(RAND()<Worksheet!$D$7/100,1,2))","v":1},{"$f":"IF(I1774=1,C1774-F1774,IF(I1774=2,C1774-F1774/1000,IF(I1774=3,(1-F1774/100)*C1774,\"\")))","v":252}," m",{"$f":"J1774*1000","v":252000},"mm",{"$f":"IF(I1774=1,C1774+F1774,IF(I1774=2,C1774+F1774/1000,IF(I1774=3,(1+F1774/100)*C1774,\"\")))","v":268},"  m",{"$f":"N1774*1000","v":268000},"mm"]
[{"$f":"IF(COUNTIF($B$1:B1775,TRUE)=COUNTIF($B$1:B1774,TRUE),\"\",COUNTIF($B$1:B1775,TRUE))","v":1394},{"$f":"Worksheet!$B$15","v":true},{"$f":"RANDBETWEEN(5,20)","v":5},"hours","±",{"$f":"IF(I1775=1,H1775*10^RANDBETWEEN(IF(Worksheet!$D$9,-1,0),0),IF(I1775=2,H1775,CHOOSE(RANDBETWEEN(1,3),5,10,20)))","v":0.2},{"$f":"IF(I1775=1,D1775,IF(I1775=3,\"%\",\"min\"))","v":"hours"},2,{"$f":"IF(AND(Worksheet!$D$8,RAND()<0),3,IF(RAND()<Worksheet!$D$7/100,1,2))","v":1},null," hours",{"$f":"IF(I1775=1,C1775-F1775,IF(I1775=2,C1775*60-F1775,\"\"))","v":4.8},{"$f":"IF($I1775=1,\" hours\",\" min\")","v":" hours"},null,"  hours",{"$f":"IF(I1775=1,C1775+F1775,IF(I1775=2,C1775*60+F1775,\"\"))","v":5.2},{"$f":"IF($I1775=1,\" hours\",\" min\")","v":" hours"}]
[{"$f":"IF(COUNTIF($B$1:B1776,TRUE)=COUNTIF($B$1:B1775,TRUE),\"\",COUNTIF($B$1:B1776,TRUE))","v":1395},{"$f":"Worksheet!$D$11","v":true},{"$f":"RANDBETWEEN(5,RANDBETWEEN(5,Worksheet!$D$6))","v":28},"kg","±",{"$f":"IF(I1776=1,H1776*10^RANDBETWEEN(IF(Worksheet!$D$9,-1,0),0),IF(I1776=2,H1776*10^RANDBETWEEN(RANDBETWEEN(0,2),2),CHOOSE(RANDBETWEEN(1,3),5,10,20)))","v":6},{"$f":"IF(I1776=1,D1776,IF(I1776=3,\"%\",\"g\"))","v":"kg"},6,{"$f":"IF(AND(Worksheet!$D$8,RAND()<0.2),3,IF(RAND()<Worksheet!$D$7/100,1,2))","v":1},{"$f":"IF(I1776=1,C1776-F1776,IF(I1776=2,C1776-F1776/1000,IF(I1776=3,(1-F1776/100)*C1776,\"\")))","v":22}," kg",{"$f":"J1776*1000","v":22000},"g",{"$f":"IF(I1776=1,C1776+F1776,IF(I1776=2,C1776+F1776/1000,IF(I1776=3,(1+F1776/100)*C1776,\"\")))","v":34},"  kg",{"$f":"N1776*1000","v":34000},"g"]
[{"$f":"IF(COUNTIF($B$1:B1777,TRUE)=COUNTIF($B$1:B1776,TRUE),\"\",COUNTIF($B$1:B1777,TRUE))","v":1396},{"$f":"Worksheet!$D$12","v":true},{"$f":"RANDBETWEEN(5,RANDBETWEEN(5,Worksheet!$D$6))","v":330},"tonnes","±",{"$f":"IF(I1777=1,H1777*10^RANDBETWEEN(IF(Worksheet!$D$9,-1,0),0),IF(I1777=2,H1777*10^RANDBETWEEN(RANDBETWEEN(0,2),2),CHOOSE(RANDBETWEEN(1,3),5,10,20)))","v":10},{"$f":"IF(I1777=1,D1777,IF(I1777=3,\"%\",\"kg\"))","v":"%"},5,{"$f":"IF(AND(Worksheet!$D$8,RAND()<0.2),3,IF(RAND()<Worksheet!$D$7/100,1,2))","v":3},{"$f":"IF(I1777=1,C1777-F1777,IF(I1777=2,C1777-F1777/1000,IF(I1777=3,(1-F1777/100)*C1777,\"\")))","v":297}," tonnes",{"$f":"J1777*1000","v":297000},"kg",{"$f":"IF(I1777=1,C1777+F1777,IF(I1777=2,C1777+F1777/1000,IF(I1777=3,(1+F1777/100)*C1777,\"\")))","v":363.00000000000006},"  tonnes",{"$f":"N1777*1000","v":363000.00000000006},"kg"]
[{"$f":"IF(COUNTIF($B$1:B1778,TRUE)=COUNTIF($B$1:B1777,TRUE),\"\",COUNTIF($B$1:B1778,TRUE))","v":1397},{"$f":"Worksheet!$D$13","v":true},{"$f":"RANDBETWEEN(5,RANDBETWEEN(5,Worksheet!$D$6))","v":171},"litres","±",{"$f":"IF(I1778=1,H1778*10^RANDBETWEEN(IF(Worksheet!$D$9,-1,0),0),IF(I1778=2,H1778*10^RANDBETWEEN(RANDBETWEEN(0,2),2),CHOOSE(RANDBETWEEN(1,3),5,10,20)))","v":3},{"$f":"IF(I1778=1,D1778,IF(I1778=3,\"%\",\"ml\"))","v":"litres"},3,{"$f":"IF(AND(Worksheet!$D$8,RAND()<0.2),3,IF(RAND()<Worksheet!$D$7/100,1,2))","v":1},{"$f":"IF(I1778=1,C1778-F1778,IF(I1778=2,C1778-F1778/1000,IF(I1778=3,(1-F1778/100)*C1778,\"\")))","v":168}," litres",{"$f":"J1778*1000","v":168000},"ml",{"$f":"IF(I1778=1,C1778+F1778,IF(I1778=2,C1778+F1778/1000,IF(I1778=3,(1+F1778/100)*C1778,\"\")))","v":174},"  litres",{"$f":"N1778*1000","v":174000},"ml"]
[{"$f":"IF(COUNTIF($B$1:B1779,TRUE)=COUNTIF($B$1:B1778,TRUE),\"\",COUNTIF($B$1:B1779,TRUE))","v":1398},{"$f":"Worksheet!$D$14","v":true},{"$f":"RANDBETWEEN(5,RANDBETWEEN(5,Worksheet!$D$6))","v":21},"litres","±",{"$f":"IF(I1779=1,H1779*10^RANDBETWEEN(IF(Worksheet!$D$9,-1,0),0),IF(I1779=2,H1779*10^RANDBETWEEN(RANDBETWEEN(0,2),2),CHOOSE(RANDBETWEEN(1,3),5,10,20)))","v":7},{"$f":"IF(I1779=1,D1779,IF(I1779=3,\"%\",\"cm³\"))","v":"litres"},7,{"$f":"IF(AND(Worksheet!$D$8,RAND()<0.2),3,IF(RAND()<Worksheet!$D$7/100,1,2))","v":1},{"$f":"IF(I1779=1,C1779-F1779,IF(I1779=2,C1779-F1779/1000,IF(I1779=3,(1-F1779/100)*C1779,\"\")))","v":14}," litres",{"$f":"J1779*1000","v":14000},"cm³",{"$f":"IF(I1779=1,C1779+F1779,IF(I1779=2,C1779+F1779/1000,IF(I1779=3,(1+F1779/100)*C1779,\"\")))","v":28},"  litres",{"$f":"N1779*1000","v":28000},"cm³"]
[{"$f":"IF(COUNTIF($B$1:B1780,TRUE)=COUNTIF($B$1:B1779,TRUE),\"\",COUNTIF($B$1:B1780,TRUE))","v":""},{"$f":"Worksheet!$D$15","v":false},{"$f":"RANDBETWEEN(5,20)","v":16},"min","±",{"$f":"IF(I1780=1,H1780*10^RANDBETWEEN(IF(Worksheet!$D$9,-1,0),0),IF(I1780=2,H1780,CHOOSE(RANDBETWEEN(1,3),5,10,20)))","v":6},{"$f":"IF(I1780=1,D1780,IF(I1780=3,\"%\",\"sec\"))","v":"sec"},6,{"$f":"IF(AND(Worksheet!$D$8,RAND()<0),3,IF(RAND()<Worksheet!$D$7/100,1,2))","v":2},null," min",{"$f":"IF(I1780=1,C1780-F1780,IF(I1780=2,C1780*60-F1780,\"\"))","v":954},{"$f":"IF($I1780=1,\" hours\",\" min\")","v":" min"},null,"  min",{"$f":"IF(I1780=1,C1780+F1780,IF(I1780=2,C1780*60+F1780,\"\"))","v":966},{"$f":"IF($I1780=1,\" hours\",\" min\")","v":" min"}]
[{"$f":"COUNTIF($B$1:B1781,TRUE)","v":1399},{"$f":"Worksheet!$B$11","v":true},{"$f":"RANDBETWEEN(5,RANDBETWEEN(5,Worksheet!$D$6))","v":70},"cm","±",{"$f":"IF(I1781=1,H1781*10^RANDBETWEEN(IF(Worksheet!$D$9,-1,0),0),IF(I1781=2,H1781,CHOOSE(RANDBETWEEN(1,3),5,10,20)))","v":5},{"$f":"IF(I1781=1,D1781,IF(I1781=3,\"%\",\"mm\"))","v":"%"},{"$f":"RANDBETWEEN(1,MIN(9,C1781))","v":8},{"$f":"IF(AND(Worksheet!$D$8,RAND()<0.2),3,IF(RAND()<Worksheet!$D$7/100,1,2))","v":3},{"$f":"IF(I1781=1,C1781-F1781,IF(I1781=2,C1781-F1781/10,IF(I1781=3,(1-F1781/100)*C1781,\"\")))","v":66.5},{"$f":"CONCATENATE(\" \",D1781)","v":" cm"},{"$f":"J1781*10","v":665},"mm",{"$f":"IF(I1781=1,C1781+F1781,IF(I1781=2,C1781+F1781/10,IF(I1781=3,(1+F1781/100)*C1781,\"\")))","v":73.5},{"$f":"CONCATENATE(\" \",K1781)","v":"  cm"},{"$f":"N1781*10","v":735},"mm"]
[{"$f":"IF(COUNTIF($B$1:B1782,TRUE)=COUNTIF($B$1:B1781,TRUE),\"\",COUNTIF($B$1:B1782,TRUE))","v":1400},{"$f":"Worksheet!$B$12","v":true},{"$f":"RANDBETWEEN(5,RANDBETWEEN(5,Worksheet!$D$6))","v":193},"m","±",{"$f":"IF(I1782=1,H1782*10^RANDBETWEEN(IF(Worksheet!$D$9,-1,0),0),IF(I1782=2,H1782*10^RANDBETWEEN(RANDBETWEEN(0,1),1),CHOOSE(RANDBETWEEN(1,3),5,10,20)))","v":0.30000000000000004},{"$f":"IF(I1782=1,D1782,IF(I1782=3,\"%\",\"cm\"))","v":"m"},{"$f":"RANDBETWEEN(1,MIN(9,C1782))","v":3},{"$f":"IF(AND(Worksheet!$D$8,RAND()<0.2),3,IF(RAND()<Worksheet!$D$7/100,1,2))","v":1},{"$f":"IF(I1782=1,C1782-F1782,IF(I1782=2,C1782-F1782/100,IF(I1782=3,(1-F1782/100)*C1782,\"\")))","v":192.7},{"$f":"CONCATENATE(\" \",D1782)","v":" m"},{"$f":"J1782*100","v":19270},"cm",{"$f":"IF(I1782=1,C1782+F1782,IF(I1782=2,C1782+F1782/100,IF(I1782=3,(1+F1782/100)*C1782,\"\")))","v":193.3},{"$f":"CONCATENATE(\" \",K1782)","v":"  m"},{"$f":"N1782*100","v":19330},"cm"]
[{"$f":"IF(COUNTIF($B$1:B1783,TRUE)=COUNTIF($B$1:B1782,TRUE),\"\",COUNTIF($B$1:B1783,TRUE))","v":1401},{"$f":"Worksheet!$B$13","v":true},{"$f":"RANDBETWEEN(5,RANDBETWEEN(5,Worksheet!$D$6))","v":291},"km","±",{"$f":"IF(I1783=1,H1783*10^RANDBETWEEN(IF(Worksheet!$D$9,-1,0),0),IF(I1783=2,H1783*10^RANDBETWEEN(RANDBETWEEN(0,2),2),CHOOSE(RANDBETWEEN(1,3),5,10,20)))","v":10},{"$f":"IF(I1783=1,D1783,IF(I1783=3,\"%\",\"m\"))","v":"%"},3,{"$f":"IF(AND(Worksheet!$D$8,RAND()<0.2),3,IF(RAND()<Worksheet!$D$7/100,1,2))","v":3},{"$f":"IF(I1783=1,C1783-F1783,IF(I1783=2,C1783-F1783/1000,IF(I1783=3,(1-F1783/100)*C1783,\"\")))","v":261.90000000000003}," km",{"$f":"J1783*1000","v":261900.00000000003},"m",{"$f":"IF(I1783=1,C1783+F1783,IF(I1783=2,C1783+F1783/1000,IF(I1783=3,(1+F1783/100)*C1783,\"\")))","v":320.10000000000002},"  km",{"$f":"N1783*1000","v":320100},"m"]
[{"$f":"IF(COUNTIF($B$1:B1784,TRUE)=COUNTIF($B$1:B1783,TRUE),\"\",COUNTIF($B$1:B1784,TRUE))","v":""},{"$f":"Worksheet!$B$14","v":false},{"$f":"RANDBETWEEN(5,RANDBETWEEN(5,Worksheet!$D$6))","v":67},"m","±",{"$f":"IF(I1784=1,H1784*10^RANDBETWEEN(IF(Worksheet!$D$9,-1,0),0),IF(I1784=2,H1784*10^RANDBETWEEN(RANDBETWEEN(0,2),2),CHOOSE(RANDBETWEEN(1,3),5,10,20)))","v":5},{"$f":"IF(I1784=1,D1784,IF(I1784=3,\"%\",\"mm\"))","v":"m"},5,{"$f":"IF(AND(Worksheet!$D$8,RAND()<0.2),3,IF(RAND()<Worksheet!$D$7/100,1,2))","v":1},{"$f":"IF(I1784=1,C1784-F1784,IF(I1784=2,C1784-F1784/1000,IF(I1784=3,(1-F1784/100)*C1784,\"\")))","v":62}," m",{"$f":"J1784*1000","v":62000},"mm",{"$f":"IF(I1784=1,C1784+F1784,IF(I1784=2,C1784+F1784/1000,IF(I1784=3,(1+F1784/100)*C1784,\"\")))","v":72},"  m",{"$f":"N1784*1000","v":72000},"mm"]
[{"$f":"IF(COUNTIF($B$1:B1785,TRUE)=COUNTIF($B$1:B1784,TRUE),\"\",COUNTIF($B$1:B1785,TRUE))","v":1402},{"$f":"Worksheet!$B$15","v":true},{"$f":"RANDBETWEEN(5,20)","v":5},"hours","±",{"$f":"IF(I1785=1,H1785*10^RANDBETWEEN(IF(Worksheet!$D$9,-1,0),0),IF(I1785=2,H1785,CHOOSE(RANDBETWEEN(1,3),5,10,20)))","v":4},{"$f":"IF(I1785=1,D1785,IF(I1785=3,\"%\",\"min\"))","v":"hours"},4,{"$f":"IF(AND(Worksheet!$D$8,RAND()<0),3,IF(RAND()<Worksheet!$D$7/100,1,2))","v":1},null," hours",{"$f":"IF(I1785=1,C1785-F1785,IF(I1785=2,C1785*60-F1785,\"\"))","v":1},{"$f":"IF($I1785=1,\" hours\",\" min\")","v":" hours"},null,"  hours",{"$f":"IF(I1785=1,C1785+F1785,IF(I1785=2,C1785*60+F1785,\"\"))","v":9},{"$f":"IF($I1785=1,\" hours\",\" min\")","v":" hours"}]
[{"$f":"IF(COUNTIF($B$1:B1786,TRUE)=COUNTIF($B$1:B1785,TRUE),\"\",COUNTIF($B$1:B1786,TRUE))","v":1403},{"$f":"Worksheet!$D$11","v":true},{"$f":"RANDBETWEEN(5,RANDBETWEEN(5,Worksheet!$D$6))","v":22},"kg","±",{"$f":"IF(I1786=1,H1786*10^RANDBETWEEN(IF(Worksheet!$D$9,-1,0),0),IF(I1786=2,H1786*10^RANDBETWEEN(RANDBETWEEN(0,2),2),CHOOSE(RANDBETWEEN(1,3),5,10,20)))","v":0.70000000000000007},{"$f":"IF(I1786=1,D1786,IF(I1786=3,\"%\",\"g\"))","v":"kg"},7,{"$f":"IF(AND(Worksheet!$D$8,RAND()<0.2),3,IF(RAND()<Worksheet!$D$7/100,1,2))","v":1},{"$f":"IF(I1786=1,C1786-F1786,IF(I1786=2,C1786-F1786/1000,IF(I1786=3,(1-F1786/100)*C1786,\"\")))","v":21.3}," kg",{"$f":"J1786*1000","v":21300},"g",{"$f":"IF(I1786=1,C1786+F1786,IF(I1786=2,C1786+F1786/1000,IF(I1786=3,(1+F1786/100)*C1786,\"\")))","v":22.7},"  kg",{"$f":"N1786*1000","v":22700},"g"]
[{"$f":"IF(COUNTIF($B$1:B1787,TRUE)=COUNTIF($B$1:B1786,TRUE),\"\",COUNTIF($B$1:B1787,TRUE))","v":1404},{"$f":"Worksheet!$D$12","v":true},{"$f":"RANDBETWEEN(5,RANDBETWEEN(5,Worksheet!$D$6))","v":184},"tonnes","±",{"$f":"IF(I1787=1,H1787*10^RANDBETWEEN(IF(Worksheet!$D$9,-1,0),0),IF(I1787=2,H1787*10^RANDBETWEEN(RANDBETWEEN(0,2),2),CHOOSE(RANDBETWEEN(1,3),5,10,20)))","v":0.8},{"$f":"IF(I1787=1,D1787,IF(I1787=3,\"%\",\"kg\"))","v":"tonnes"},8,{"$f":"IF(AND(Worksheet!$D$8,RAND()<0.2),3,IF(RAND()<Worksheet!$D$7/100,1,2))","v":1},{"$f":"IF(I1787=1,C1787-F1787,IF(I1787=2,C1787-F1787/1000,IF(I1787=3,(1-F1787/100)*C1787,\"\")))","v":183.2}," tonnes",{"$f":"J1787*1000","v":183200},"kg",{"$f":"IF(I1787=1,C1787+F1787,IF(I1787=2,C1787+F1787/1000,IF(I1787=3,(1+F1787/100)*C1787,\"\")))","v":184.8},"  tonnes",{"$f":"N1787*1000","v":184800},"kg"]
[{"$f":"IF(COUNTIF($B$1:B1788,TRUE)=COUNTIF($B$1:B1787,TRUE),\"\",COUNTIF($B$1:B1788,TRUE))","v":1405},{"$f":"Worksheet!$D$13","v":true},{"$f":"RANDBETWEEN(5,RANDBETWEEN(5,Worksheet!$D$6))","v":69},"litres","±",{"$f":"IF(I1788=1,H1788*10^RANDBETWEEN(IF(Worksheet!$D$9,-1,0),0),IF(I1788=2,H1788*10^RANDBETWEEN(RANDBETWEEN(0,2),2),CHOOSE(RANDBETWEEN(1,3),5,10,20)))","v":10},{"$f":"IF(I1788=1,D1788,IF(I1788=3,\"%\",\"ml\"))","v":"%"},1,{"$f":"IF(AND(Worksheet!$D$8,RAND()<0.2),3,IF(RAND()<Worksheet!$D$7/100,1,2))","v":3},{"$f":"IF(I1788=1,C1788-F1788,IF(I1788=2,C1788-F1788/1000,IF(I1788=3,(1-F1788/100)*C1788,\"\")))","v":62.1}," litres",{"$f":"J1788*1000","v":62100},"ml",{"$f":"IF(I1788=1,C1788+F1788,IF(I1788=2,C1788+F1788/1000,IF(I1788=3,(1+F1788/100)*C1788,\"\")))","v":75.900000000000006},"  litres",{"$f":"N1788*1000","v":75900},"ml"]
[{"$f":"IF(COUNTIF($B$1:B1789,TRUE)=COUNTIF($B$1:B1788,TRUE),\"\",COUNTIF($B$1:B1789,TRUE))","v":1406},{"$f":"Worksheet!$D$14","v":true},{"$f":"RANDBETWEEN(5,RANDBETWEEN(5,Worksheet!$D$6))","v":139},"litres","±",{"$f":"IF(I1789=1,H1789*10^RANDBETWEEN(IF(Worksheet!$D$9,-1,0),0),IF(I1789=2,H1789*10^RANDBETWEEN(RANDBETWEEN(0,2),2),CHOOSE(RANDBETWEEN(1,3),5,10,20)))","v":8},{"$f":"IF(I1789=1,D1789,IF(I1789=3,\"%\",\"cm³\"))","v":"litres"},8,{"$f":"IF(AND(Worksheet!$D$8,RAND()<0.2),3,IF(RAND()<Worksheet!$D$7/100,1,2))","v":1},{"$f":"IF(I1789=1,C1789-F1789,IF(I1789=2,C1789-F1789/1000,IF(I1789=3,(1-F1789/100)*C1789,\"\")))","v":131}," litres",{"$f":"J1789*1000","v":131000},"cm³",{"$f":"IF(I1789=1,C1789+F1789,IF(I1789=2,C1789+F1789/1000,IF(I1789=3,(1+F1789/100)*C1789,\"\")))","v":147},"  litres",{"$f":"N1789*1000","v":147000},"cm³"]
[{"$f":"IF(COUNTIF($B$1:B1790,TRUE)=COUNTIF($B$1:B1789,TRUE),\"\",COUNTIF($B$1:B1790,TRUE))","v":""},{"$f":"Worksheet!$D$15","v":false},{"$f":"RANDBETWEEN(5,20)","v":7},"min","±",{"$f":"IF(I1790=1,H1790*10^RANDBETWEEN(IF(Worksheet!$D$9,-1,0),0),IF(I1790=2,H1790,CHOOSE(RANDBETWEEN(1,3),5,10,20)))","v":0.60000000000000009},{"$f":"IF(I1790=1,D1790,IF(I1790=3,\"%\",\"sec\"))","v":"min"},6,{"$f":"IF(AND(Worksheet!$D$8,RAND()<0),3,IF(RAND()<Worksheet!$D$7/100,1,2))","v":1},null," min",{"$f":"IF(I1790=1,C1790-F1790,IF(I1790=2,C1790*60-F1790,\"\"))","v":6.4},{"$f":"IF($I1790=1,\" hours\",\" min\")","v":" hours"},null,"  min",{"$f":"IF(I1790=1,C1790+F1790,IF(I1790=2,C1790*60+F1790,\"\"))","v":7.6},{"$f":"IF($I1790=1,\" hours\",\" min\")","v":" hours"}]
[{"$f":"COUNTIF($B$1:B1791,TRUE)","v":1407},{"$f":"Worksheet!$B$11","v":true},{"$f":"RANDBETWEEN(5,RANDBETWEEN(5,Worksheet!$D$6))","v":118},"cm","±",{"$f":"IF(I1791=1,H1791*10^RANDBETWEEN(IF(Worksheet!$D$9,-1,0),0),IF(I1791=2,H1791,CHOOSE(RANDBETWEEN(1,3),5,10,20)))","v":6},{"$f":"IF(I1791=1,D1791,IF(I1791=3,\"%\",\"mm\"))","v":"cm"},{"$f":"RANDBETWEEN(1,MIN(9,C1791))","v":6},{"$f":"IF(AND(Worksheet!$D$8,RAND()<0.2),3,IF(RAND()<Worksheet!$D$7/100,1,2))","v":1},{"$f":"IF(I1791=1,C1791-F1791,IF(I1791=2,C1791-F1791/10,IF(I1791=3,(1-F1791/100)*C1791,\"\")))","v":112},{"$f":"CONCATENATE(\" \",D1791)","v":" cm"},{"$f":"J1791*10","v":1120},"mm",{"$f":"IF(I1791=1,C1791+F1791,IF(I1791=2,C1791+F1791/10,IF(I1791=3,(1+F1791/100)*C1791,\"\")))","v":124},{"$f":"CONCATENATE(\" \",K1791)","v":"  cm"},{"$f":"N1791*10","v":1240},"mm"]
[{"$f":"IF(COUNTIF($B$1:B1792,TRUE)=COUNTIF($B$1:B1791,TRUE),\"\",COUNTIF($B$1:B1792,TRUE))","v":1408},{"$f":"Worksheet!$B$12","v":true},{"$f":"RANDBETWEEN(5,RANDBETWEEN(5,Worksheet!$D$6))","v":161},"m","±",{"$f":"IF(I1792=1,H1792*10^RANDBETWEEN(IF(Worksheet!$D$9,-1,0),0),IF(I1792=2,H1792*10^RANDBETWEEN(RANDBETWEEN(0,1),1),CHOOSE(RANDBETWEEN(1,3),5,10,20)))","v":90},{"$f":"IF(I1792=1,D1792,IF(I1792=3,\"%\",\"cm\"))","v":"cm"},{"$f":"RANDBETWEEN(1,MIN(9,C1792))","v":9},{"$f":"IF(AND(Worksheet!$D$8,RAND()<0.2),3,IF(RAND()<Worksheet!$D$7/100,1,2))","v":2},{"$f":"IF(I1792=1,C1792-F1792,IF(I1792=2,C1792-F1792/100,IF(I1792=3,(1-F1792/100)*C1792,\"\")))","v":160.1},{"$f":"CONCATENATE(\" \",D1792)","v":" m"},{"$f":"J1792*100","v":16010},"cm",{"$f":"IF(I1792=1,C1792+F1792,IF(I1792=2,C1792+F1792/100,IF(I1792=3,(1+F1792/100)*C1792,\"\")))","v":161.9},{"$f":"CONCATENATE(\" \",K1792)","v":"  m"},{"$f":"N1792*100","v":16190},"cm"]
[{"$f":"IF(COUNTIF($B$1:B1793,TRUE)=COUNTIF($B$1:B1792,TRUE),\"\",COUNTIF($B$1:B1793,TRUE))","v":1409},{"$f":"Worksheet!$B$13","v":true},{"$f":"RANDBETWEEN(5,RANDBETWEEN(5,Worksheet!$D$6))","v":26},"km","±",{"$f":"IF(I1793=1,H1793*10^RANDBETWEEN(IF(Worksheet!$D$9,-1,0),0),IF(I1793=2,H1793*10^RANDBETWEEN(RANDBETWEEN(0,2),2),CHOOSE(RANDBETWEEN(1,3),5,10,20)))","v":10},{"$f":"IF(I1793=1,D1793,IF(I1793=3,\"%\",\"m\"))","v":"%"},2,{"$f":"IF(AND(Worksheet!$D$8,RAND()<0.2),3,IF(RAND()<Worksheet!$D$7/100,1,2))","v":3},{"$f":"IF(I1793=1,C1793-F1793,IF(I1793=2,C1793-F1793/1000,IF(I1793=3,(1-F1793/100)*C1793,\"\")))","v":23.400000000000002}," km",{"$f":"J1793*1000","v":23400.000000000004},"m",{"$f":"IF(I1793=1,C1793+F1793,IF(I1793=2,C1793+F1793/1000,IF(I1793=3,(1+F1793/100)*C1793,\"\")))","v":28.6},"  km",{"$f":"N1793*1000","v":28600},"m"]
[{"$f":"IF(COUNTIF($B$1:B1794,TRUE)=COUNTIF($B$1:B1793,TRUE),\"\",COUNTIF($B$1:B1794,TRUE))","v":""},{"$f":"Worksheet!$B$14","v":false},{"$f":"RANDBETWEEN(5,RANDBETWEEN(5,Worksheet!$D$6))","v":136},"m","±",{"$f":"IF(I1794=1,H1794*10^RANDBETWEEN(IF(Worksheet!$D$9,-1,0),0),IF(I1794=2,H1794*10^RANDBETWEEN(RANDBETWEEN(0,2),2),CHOOSE(RANDBETWEEN(1,3),5,10,20)))","v":0.30000000000000004},{"$f":"IF(I1794=1,D1794,IF(I1794=3,\"%\",\"mm\"))","v":"m"},3,{"$f":"IF(AND(Worksheet!$D$8,RAND()<0.2),3,IF(RAND()<Worksheet!$D$7/100,1,2))","v":1},{"$f":"IF(I1794=1,C1794-F1794,IF(I1794=2,C1794-F1794/1000,IF(I1794=3,(1-F1794/100)*C1794,\"\")))","v":135.69999999999999}," m",{"$f":"J1794*1000","v":135700},"mm",{"$f":"IF(I1794=1,C1794+F1794,IF(I1794=2,C1794+F1794/1000,IF(I1794=3,(1+F1794/100)*C1794,\"\")))","v":136.30000000000001},"  m",{"$f":"N1794*1000","v":136300},"mm"]
[{"$f":"IF(COUNTIF($B$1:B1795,TRUE)=COUNTIF($B$1:B1794,TRUE),\"\",COUNTIF($B$1:B1795,TRUE))","v":1410},{"$f":"Worksheet!$B$15","v":true},{"$f":"RANDBETWEEN(5,20)","v":11},"hours","±",{"$f":"IF(I1795=1,H1795*10^RANDBETWEEN(IF(Worksheet!$D$9,-1,0),0),IF(I1795=2,H1795,CHOOSE(RANDBETWEEN(1,3),5,10,20)))","v":2},{"$f":"IF(I1795=1,D1795,IF(I1795=3,\"%\",\"min\"))","v":"min"},2,{"$f":"IF(AND(Worksheet!$D$8,RAND()<0),3,IF(RAND()<Worksheet!$D$7/100,1,2))","v":2},null," hours",{"$f":"IF(I1795=1,C1795-F1795,IF(I1795=2,C1795*60-F1795,\"\"))","v":658},{"$f":"IF($I1795=1,\" hours\",\" min\")","v":" min"},null,"  hours",{"$f":"IF(I1795=1,C1795+F1795,IF(I1795=2,C1795*60+F1795,\"\"))","v":662},{"$f":"IF($I1795=1,\" hours\",\" min\")","v":" min"}]
[{"$f":"IF(COUNTIF($B$1:B1796,TRUE)=COUNTIF($B$1:B1795,TRUE),\"\",COUNTIF($B$1:B1796,TRUE))","v":1411},{"$f":"Worksheet!$D$11","v":true},{"$f":"RANDBETWEEN(5,RANDBETWEEN(5,Worksheet!$D$6))","v":86},"kg","±",{"$f":"IF(I1796=1,H1796*10^RANDBETWEEN(IF(Worksheet!$D$9,-1,0),0),IF(I1796=2,H1796*10^RANDBETWEEN(RANDBETWEEN(0,2),2),CHOOSE(RANDBETWEEN(1,3),5,10,20)))","v":8},{"$f":"IF(I1796=1,D1796,IF(I1796=3,\"%\",\"g\"))","v":"kg"},8,{"$f":"IF(AND(Worksheet!$D$8,RAND()<0.2),3,IF(RAND()<Worksheet!$D$7/100,1,2))","v":1},{"$f":"IF(I1796=1,C1796-F1796,IF(I1796=2,C1796-F1796/1000,IF(I1796=3,(1-F1796/100)*C1796,\"\")))","v":78}," kg",{"$f":"J1796*1000","v":78000},"g",{"$f":"IF(I1796=1,C1796+F1796,IF(I1796=2,C1796+F1796/1000,IF(I1796=3,(1+F1796/100)*C1796,\"\")))","v":94},"  kg",{"$f":"N1796*1000","v":94000},"g"]
[{"$f":"IF(COUNTIF($B$1:B1797,TRUE)=COUNTIF($B$1:B1796,TRUE),\"\",COUNTIF($B$1:B1797,TRUE))","v":1412},{"$f":"Worksheet!$D$12","v":true},{"$f":"RANDBETWEEN(5,RANDBETWEEN(5,Worksheet!$D$6))","v":22},"tonnes","±",{"$f":"IF(I1797=1,H1797*10^RANDBETWEEN(IF(Worksheet!$D$9,-1,0),0),IF(I1797=2,H1797*10^RANDBETWEEN(RANDBETWEEN(0,2),2),CHOOSE(RANDBETWEEN(1,3),5,10,20)))","v":3},{"$f":"IF(I1797=1,D1797,IF(I1797=3,\"%\",\"kg\"))","v":"tonnes"},3,{"$f":"IF(AND(Worksheet!$D$8,RAND()<0.2),3,IF(RAND()<Worksheet!$D$7/100,1,2))","v":1},{"$f":"IF(I1797=1,C1797-F1797,IF(I1797=2,C1797-F1797/1000,IF(I1797=3,(1-F1797/100)*C1797,\"\")))","v":19}," tonnes",{"$f":"J1797*1000","v":19000},"kg",{"$f":"IF(I1797=1,C1797+F1797,IF(I1797=2,C1797+F1797/1000,IF(I1797=3,(1+F1797/100)*C1797,\"\")))","v":25},"  tonnes",{"$f":"N1797*1000","v":25000},"kg"]
[{"$f":"IF(COUNTIF($B$1:B1798,TRUE)=COUNTIF($B$1:B1797,TRUE),\"\",COUNTIF($B$1:B1798,TRUE))","v":1413},{"$f":"Worksheet!$D$13","v":true},{"$f":"RANDBETWEEN(5,RANDBETWEEN(5,Worksheet!$D$6))","v":266},"litres","±",{"$f":"IF(I1798=1,H1798*10^RANDBETWEEN(IF(Worksheet!$D$9,-1,0),0),IF(I1798=2,H1798*10^RANDBETWEEN(RANDBETWEEN(0,2),2),CHOOSE(RANDBETWEEN(1,3),5,10,20)))","v":0.4},{"$f":"IF(I1798=1,D1798,IF(I1798=3,\"%\",\"ml\"))","v":"litres"},4,{"$f":"IF(AND(Worksheet!$D$8,RAND()<0.2),3,IF(RAND()<Worksheet!$D$7/100,1,2))","v":1},{"$f":"IF(I1798=1,C1798-F1798,IF(I1798=2,C1798-F1798/1000,IF(I1798=3,(1-F1798/100)*C1798,\"\")))","v":265.60000000000002}," litres",{"$f":"J1798*1000","v":265600},"ml",{"$f":"IF(I1798=1,C1798+F1798,IF(I1798=2,C1798+F1798/1000,IF(I1798=3,(1+F1798/100)*C1798,\"\")))","v":266.39999999999998},"  litres",{"$f":"N1798*1000","v":266400},"ml"]
[{"$f":"IF(COUNTIF($B$1:B1799,TRUE)=COUNTIF($B$1:B1798,TRUE),\"\",COUNTIF($B$1:B1799,TRUE))","v":1414},{"$f":"Worksheet!$D$14","v":true},{"$f":"RANDBETWEEN(5,RANDBETWEEN(5,Worksheet!$D$6))","v":99},"litres","±",{"$f":"IF(I1799=1,H1799*10^RANDBETWEEN(IF(Worksheet!$D$9,-1,0),0),IF(I1799=2,H1799*10^RANDBETWEEN(RANDBETWEEN(0,2),2),CHOOSE(RANDBETWEEN(1,3),5,10,20)))","v":5},{"$f":"IF(I1799=1,D1799,IF(I1799=3,\"%\",\"cm³\"))","v":"litres"},5,{"$f":"IF(AND(Worksheet!$D$8,RAND()<0.2),3,IF(RAND()<Worksheet!$D$7/100,1,2))","v":1},{"$f":"IF(I1799=1,C1799-F1799,IF(I1799=2,C1799-F1799/1000,IF(I1799=3,(1-F1799/100)*C1799,\"\")))","v":94}," litres",{"$f":"J1799*1000","v":94000},"cm³",{"$f":"IF(I1799=1,C1799+F1799,IF(I1799=2,C1799+F1799/1000,IF(I1799=3,(1+F1799/100)*C1799,\"\")))","v":104},"  litres",{"$f":"N1799*1000","v":104000},"cm³"]
[{"$f":"IF(COUNTIF($B$1:B1800,TRUE)=COUNTIF($B$1:B1799,TRUE),\"\",COUNTIF($B$1:B1800,TRUE))","v":""},{"$f":"Worksheet!$D$15","v":false},{"$f":"RANDBETWEEN(5,20)","v":15},"min","±",{"$f":"IF(I1800=1,H1800*10^RANDBETWEEN(IF(Worksheet!$D$9,-1,0),0),IF(I1800=2,H1800,CHOOSE(RANDBETWEEN(1,3),5,10,20)))","v":0.9},{"$f":"IF(I1800=1,D1800,IF(I1800=3,\"%\",\"sec\"))","v":"min"},9,{"$f":"IF(AND(Worksheet!$D$8,RAND()<0),3,IF(RAND()<Worksheet!$D$7/100,1,2))","v":1},null," min",{"$f":"IF(I1800=1,C1800-F1800,IF(I1800=2,C1800*60-F1800,\"\"))","v":14.1},{"$f":"IF($I1800=1,\" hours\",\" min\")","v":" hours"},null,"  min",{"$f":"IF(I1800=1,C1800+F1800,IF(I1800=2,C1800*60+F1800,\"\"))","v":15.9},{"$f":"IF($I1800=1,\" hours\",\" min\")","v":" hours"}]
[{"$f":"COUNTIF($B$1:B1801,TRUE)","v":1415},{"$f":"Worksheet!$B$11","v":true},{"$f":"RANDBETWEEN(5,RANDBETWEEN(5,Worksheet!$D$6))","v":17},"cm","±",{"$f":"IF(I1801=1,H1801*10^RANDBETWEEN(IF(Worksheet!$D$9,-1,0),0),IF(I1801=2,H1801,CHOOSE(RANDBETWEEN(1,3),5,10,20)))","v":10},{"$f":"IF(I1801=1,D1801,IF(I1801=3,\"%\",\"mm\"))","v":"%"},{"$f":"RANDBETWEEN(1,MIN(9,C1801))","v":9},{"$f":"IF(AND(Worksheet!$D$8,RAND()<0.2),3,IF(RAND()<Worksheet!$D$7/100,1,2))","v":3},{"$f":"IF(I1801=1,C1801-F1801,IF(I1801=2,C1801-F1801/10,IF(I1801=3,(1-F1801/100)*C1801,\"\")))","v":15.3},{"$f":"CONCATENATE(\" \",D1801)","v":" cm"},{"$f":"J1801*10","v":153},"mm",{"$f":"IF(I1801=1,C1801+F1801,IF(I1801=2,C1801+F1801/10,IF(I1801=3,(1+F1801/100)*C1801,\"\")))","v":18.700000000000003},{"$f":"CONCATENATE(\" \",K1801)","v":"  cm"},{"$f":"N1801*10","v":187.00000000000003},"mm"]
[{"$f":"IF(COUNTIF($B$1:B1802,TRUE)=COUNTIF($B$1:B1801,TRUE),\"\",COUNTIF($B$1:B1802,TRUE))","v":1416},{"$f":"Worksheet!$B$12","v":true},{"$f":"RANDBETWEEN(5,RANDBETWEEN(5,Worksheet!$D$6))","v":32},"m","±",{"$f":"IF(I1802=1,H1802*10^RANDBETWEEN(IF(Worksheet!$D$9,-1,0),0),IF(I1802=2,H1802*10^RANDBETWEEN(RANDBETWEEN(0,1),1),CHOOSE(RANDBETWEEN(1,3),5,10,20)))","v":0.1},{"$f":"IF(I1802=1,D1802,IF(I1802=3,\"%\",\"cm\"))","v":"m"},{"$f":"RANDBETWEEN(1,MIN(9,C1802))","v":1},{"$f":"IF(AND(Worksheet!$D$8,RAND()<0.2),3,IF(RAND()<Worksheet!$D$7/100,1,2))","v":1},{"$f":"IF(I1802=1,C1802-F1802,IF(I1802=2,C1802-F1802/100,IF(I1802=3,(1-F1802/100)*C1802,\"\")))","v":31.9},{"$f":"CONCATENATE(\" \",D1802)","v":" m"},{"$f":"J1802*100","v":3190},"cm",{"$f":"IF(I1802=1,C1802+F1802,IF(I1802=2,C1802+F1802/100,IF(I1802=3,(1+F1802/100)*C1802,\"\")))","v":32.1},{"$f":"CONCATENATE(\" \",K1802)","v":"  m"},{"$f":"N1802*100","v":3210},"cm"]
[{"$f":"IF(COUNTIF($B$1:B1803,TRUE)=COUNTIF($B$1:B1802,TRUE),\"\",COUNTIF($B$1:B1803,TRUE))","v":1417},{"$f":"Worksheet!$B$13","v":true},{"$f":"RANDBETWEEN(5,RANDBETWEEN(5,Worksheet!$D$6))","v":103},"km","±",{"$f":"IF(I1803=1,H1803*10^RANDBETWEEN(IF(Worksheet!$D$9,-1,0),0),IF(I1803=2,H1803*10^RANDBETWEEN(RANDBETWEEN(0,2),2),CHOOSE(RANDBETWEEN(1,3),5,10,20)))","v":0.9},{"$f":"IF(I1803=1,D1803,IF(I1803=3,\"%\",\"m\"))","v":"km"},9,{"$f":"IF(AND(Worksheet!$D$8,RAND()<0.2),3,IF(RAND()<Worksheet!$D$7/100,1,2))","v":1},{"$f":"IF(I1803=1,C1803-F1803,IF(I1803=2,C1803-F1803/1000,IF(I1803=3,(1-F1803/100)*C1803,\"\")))","v":102.1}," km",{"$f":"J1803*1000","v":102100},"m",{"$f":"IF(I1803=1,C1803+F1803,IF(I1803=2,C1803+F1803/1000,IF(I1803=3,(1+F1803/100)*C1803,\"\")))","v":103.9},"  km",{"$f":"N1803*1000","v":103900},"m"]
[{"$f":"IF(COUNTIF($B$1:B1804,TRUE)=COUNTIF($B$1:B1803,TRUE),\"\",COUNTIF($B$1:B1804,TRUE))","v":""},{"$f":"Worksheet!$B$14","v":false},{"$f":"RANDBETWEEN(5,RANDBETWEEN(5,Worksheet!$D$6))","v":132},"m","±",{"$f":"IF(I1804=1,H1804*10^RANDBETWEEN(IF(Worksheet!$D$9,-1,0),0),IF(I1804=2,H1804*10^RANDBETWEEN(RANDBETWEEN(0,2),2),CHOOSE(RANDBETWEEN(1,3),5,10,20)))","v":6},{"$f":"IF(I1804=1,D1804,IF(I1804=3,\"%\",\"mm\"))","v":"mm"},6,{"$f":"IF(AND(Worksheet!$D$8,RAND()<0.2),3,IF(RAND()<Worksheet!$D$7/100,1,2))","v":2},{"$f":"IF(I1804=1,C1804-F1804,IF(I1804=2,C1804-F1804/1000,IF(I1804=3,(1-F1804/100)*C1804,\"\")))","v":131.994}," m",{"$f":"J1804*1000","v":131994},"mm",{"$f":"IF(I1804=1,C1804+F1804,IF(I1804=2,C1804+F1804/1000,IF(I1804=3,(1+F1804/100)*C1804,\"\")))","v":132.006},"  m",{"$f":"N1804*1000","v":132006},"mm"]
[{"$f":"IF(COUNTIF($B$1:B1805,TRUE)=COUNTIF($B$1:B1804,TRUE),\"\",COUNTIF($B$1:B1805,TRUE))","v":1418},{"$f":"Worksheet!$B$15","v":true},{"$f":"RANDBETWEEN(5,20)","v":16},"hours","±",{"$f":"IF(I1805=1,H1805*10^RANDBETWEEN(IF(Worksheet!$D$9,-1,0),0),IF(I1805=2,H1805,CHOOSE(RANDBETWEEN(1,3),5,10,20)))","v":0.4},{"$f":"IF(I1805=1,D1805,IF(I1805=3,\"%\",\"min\"))","v":"hours"},4,{"$f":"IF(AND(Worksheet!$D$8,RAND()<0),3,IF(RAND()<Worksheet!$D$7/100,1,2))","v":1},null," hours",{"$f":"IF(I1805=1,C1805-F1805,IF(I1805=2,C1805*60-F1805,\"\"))","v":15.6},{"$f":"IF($I1805=1,\" hours\",\" min\")","v":" hours"},null,"  hours",{"$f":"IF(I1805=1,C1805+F1805,IF(I1805=2,C1805*60+F1805,\"\"))","v":16.399999999999999},{"$f":"IF($I1805=1,\" hours\",\" min\")","v":" hours"}]
[{"$f":"IF(COUNTIF($B$1:B1806,TRUE)=COUNTIF($B$1:B1805,TRUE),\"\",COUNTIF($B$1:B1806,TRUE))","v":1419},{"$f":"Worksheet!$D$11","v":true},{"$f":"RANDBETWEEN(5,RANDBETWEEN(5,Worksheet!$D$6))","v":99},"kg","±",{"$f":"IF(I1806=1,H1806*10^RANDBETWEEN(IF(Worksheet!$D$9,-1,0),0),IF(I1806=2,H1806*10^RANDBETWEEN(RANDBETWEEN(0,2),2),CHOOSE(RANDBETWEEN(1,3),5,10,20)))","v":0.30000000000000004},{"$f":"IF(I1806=1,D1806,IF(I1806=3,\"%\",\"g\"))","v":"kg"},3,{"$f":"IF(AND(Worksheet!$D$8,RAND()<0.2),3,IF(RAND()<Worksheet!$D$7/100,1,2))","v":1},{"$f":"IF(I1806=1,C1806-F1806,IF(I1806=2,C1806-F1806/1000,IF(I1806=3,(1-F1806/100)*C1806,\"\")))","v":98.7}," kg",{"$f":"J1806*1000","v":98700},"g",{"$f":"IF(I1806=1,C1806+F1806,IF(I1806=2,C1806+F1806/1000,IF(I1806=3,(1+F1806/100)*C1806,\"\")))","v":99.3},"  kg",{"$f":"N1806*1000","v":99300},"g"]
[{"$f":"IF(COUNTIF($B$1:B1807,TRUE)=COUNTIF($B$1:B1806,TRUE),\"\",COUNTIF($B$1:B1807,TRUE))","v":1420},{"$f":"Worksheet!$D$12","v":true},{"$f":"RANDBETWEEN(5,RANDBETWEEN(5,Worksheet!$D$6))","v":42},"tonnes","±",{"$f":"IF(I1807=1,H1807*10^RANDBETWEEN(IF(Worksheet!$D$9,-1,0),0),IF(I1807=2,H1807*10^RANDBETWEEN(RANDBETWEEN(0,2),2),CHOOSE(RANDBETWEEN(1,3),5,10,20)))","v":2},{"$f":"IF(I1807=1,D1807,IF(I1807=3,\"%\",\"kg\"))","v":"tonnes"},2,{"$f":"IF(AND(Worksheet!$D$8,RAND()<0.2),3,IF(RAND()<Worksheet!$D$7/100,1,2))","v":1},{"$f":"IF(I1807=1,C1807-F1807,IF(I1807=2,C1807-F1807/1000,IF(I1807=3,(1-F1807/100)*C1807,\"\")))","v":40}," tonnes",{"$f":"J1807*1000","v":40000},"kg",{"$f":"IF(I1807=1,C1807+F1807,IF(I1807=2,C1807+F1807/1000,IF(I1807=3,(1+F1807/100)*C1807,\"\")))","v":44},"  tonnes",{"$f":"N1807*1000","v":44000},"kg"]
[{"$f":"IF(COUNTIF($B$1:B1808,TRUE)=COUNTIF($B$1:B1807,TRUE),\"\",COUNTIF($B$1:B1808,TRUE))","v":1421},{"$f":"Worksheet!$D$13","v":true},{"$f":"RANDBETWEEN(5,RANDBETWEEN(5,Worksheet!$D$6))","v":274},"litres","±",{"$f":"IF(I1808=1,H1808*10^RANDBETWEEN(IF(Worksheet!$D$9,-1,0),0),IF(I1808=2,H1808*10^RANDBETWEEN(RANDBETWEEN(0,2),2),CHOOSE(RANDBETWEEN(1,3),5,10,20)))","v":0.2},{"$f":"IF(I1808=1,D1808,IF(I1808=3,\"%\",\"ml\"))","v":"litres"},2,{"$f":"IF(AND(Worksheet!$D$8,RAND()<0.2),3,IF(RAND()<Worksheet!$D$7/100,1,2))","v":1},{"$f":"IF(I1808=1,C1808-F1808,IF(I1808=2,C1808-F1808/1000,IF(I1808=3,(1-F1808/100)*C1808,\"\")))","v":273.8}," litres",{"$f":"J1808*1000","v":273800},"ml",{"$f":"IF(I1808=1,C1808+F1808,IF(I1808=2,C1808+F1808/1000,IF(I1808=3,(1+F1808/100)*C1808,\"\")))","v":274.2},"  litres",{"$f":"N1808*1000","v":274200},"ml"]
[{"$f":"IF(COUNTIF($B$1:B1809,TRUE)=COUNTIF($B$1:B1808,TRUE),\"\",COUNTIF($B$1:B1809,TRUE))","v":1422},{"$f":"Worksheet!$D$14","v":true},{"$f":"RANDBETWEEN(5,RANDBETWEEN(5,Worksheet!$D$6))","v":91},"litres","±",{"$f":"IF(I1809=1,H1809*10^RANDBETWEEN(IF(Worksheet!$D$9,-1,0),0),IF(I1809=2,H1809*10^RANDBETWEEN(RANDBETWEEN(0,2),2),CHOOSE(RANDBETWEEN(1,3),5,10,20)))","v":300},{"$f":"IF(I1809=1,D1809,IF(I1809=3,\"%\",\"cm³\"))","v":"cm³"},3,{"$f":"IF(AND(Worksheet!$D$8,RAND()<0.2),3,IF(RAND()<Worksheet!$D$7/100,1,2))","v":2},{"$f":"IF(I1809=1,C1809-F1809,IF(I1809=2,C1809-F1809/1000,IF(I1809=3,(1-F1809/100)*C1809,\"\")))","v":90.7}," litres",{"$f":"J1809*1000","v":90700},"cm³",{"$f":"IF(I1809=1,C1809+F1809,IF(I1809=2,C1809+F1809/1000,IF(I1809=3,(1+F1809/100)*C1809,\"\")))","v":91.3},"  litres",{"$f":"N1809*1000","v":91300},"cm³"]
[{"$f":"IF(COUNTIF($B$1:B1810,TRUE)=COUNTIF($B$1:B1809,TRUE),\"\",COUNTIF($B$1:B1810,TRUE))","v":""},{"$f":"Worksheet!$D$15","v":false},{"$f":"RANDBETWEEN(5,20)","v":17},"min","±",{"$f":"IF(I1810=1,H1810*10^RANDBETWEEN(IF(Worksheet!$D$9,-1,0),0),IF(I1810=2,H1810,CHOOSE(RANDBETWEEN(1,3),5,10,20)))","v":9},{"$f":"IF(I1810=1,D1810,IF(I1810=3,\"%\",\"sec\"))","v":"min"},9,{"$f":"IF(AND(Worksheet!$D$8,RAND()<0),3,IF(RAND()<Worksheet!$D$7/100,1,2))","v":1},null," min",{"$f":"IF(I1810=1,C1810-F1810,IF(I1810=2,C1810*60-F1810,\"\"))","v":8},{"$f":"IF($I1810=1,\" hours\",\" min\")","v":" hours"},null,"  min",{"$f":"IF(I1810=1,C1810+F1810,IF(I1810=2,C1810*60+F1810,\"\"))","v":26},{"$f":"IF($I1810=1,\" hours\",\" min\")","v":" hours"}]
[{"$f":"COUNTIF($B$1:B1811,TRUE)","v":1423},{"$f":"Worksheet!$B$11","v":true},{"$f":"RANDBETWEEN(5,RANDBETWEEN(5,Worksheet!$D$6))","v":15},"cm","±",{"$f":"IF(I1811=1,H1811*10^RANDBETWEEN(IF(Worksheet!$D$9,-1,0),0),IF(I1811=2,H1811,CHOOSE(RANDBETWEEN(1,3),5,10,20)))","v":20},{"$f":"IF(I1811=1,D1811,IF(I1811=3,\"%\",\"mm\"))","v":"%"},{"$f":"RANDBETWEEN(1,MIN(9,C1811))","v":2},{"$f":"IF(AND(Worksheet!$D$8,RAND()<0.2),3,IF(RAND()<Worksheet!$D$7/100,1,2))","v":3},{"$f":"IF(I1811=1,C1811-F1811,IF(I1811=2,C1811-F1811/10,IF(I1811=3,(1-F1811/100)*C1811,\"\")))","v":12},{"$f":"CONCATENATE(\" \",D1811)","v":" cm"},{"$f":"J1811*10","v":120},"mm",{"$f":"IF(I1811=1,C1811+F1811,IF(I1811=2,C1811+F1811/10,IF(I1811=3,(1+F1811/100)*C1811,\"\")))","v":18},{"$f":"CONCATENATE(\" \",K1811)","v":"  cm"},{"$f":"N1811*10","v":180},"mm"]
[{"$f":"IF(COUNTIF($B$1:B1812,TRUE)=COUNTIF($B$1:B1811,TRUE),\"\",COUNTIF($B$1:B1812,TRUE))","v":1424},{"$f":"Worksheet!$B$12","v":true},{"$f":"RANDBETWEEN(5,RANDBETWEEN(5,Worksheet!$D$6))","v":28},"m","±",{"$f":"IF(I1812=1,H1812*10^RANDBETWEEN(IF(Worksheet!$D$9,-1,0),0),IF(I1812=2,H1812*10^RANDBETWEEN(RANDBETWEEN(0,1),1),CHOOSE(RANDBETWEEN(1,3),5,10,20)))","v":50},{"$f":"IF(I1812=1,D1812,IF(I1812=3,\"%\",\"cm\"))","v":"cm"},{"$f":"RANDBETWEEN(1,MIN(9,C1812))","v":5},{"$f":"IF(AND(Worksheet!$D$8,RAND()<0.2),3,IF(RAND()<Worksheet!$D$7/100,1,2))","v":2},{"$f":"IF(I1812=1,C1812-F1812,IF(I1812=2,C1812-F1812/100,IF(I1812=3,(1-F1812/100)*C1812,\"\")))","v":27.5},{"$f":"CONCATENATE(\" \",D1812)","v":" m"},{"$f":"J1812*100","v":2750},"cm",{"$f":"IF(I1812=1,C1812+F1812,IF(I1812=2,C1812+F1812/100,IF(I1812=3,(1+F1812/100)*C1812,\"\")))","v":28.5},{"$f":"CONCATENATE(\" \",K1812)","v":"  m"},{"$f":"N1812*100","v":2850},"cm"]
[{"$f":"IF(COUNTIF($B$1:B1813,TRUE)=COUNTIF($B$1:B1812,TRUE),\"\",COUNTIF($B$1:B1813,TRUE))","v":1425},{"$f":"Worksheet!$B$13","v":true},{"$f":"RANDBETWEEN(5,RANDBETWEEN(5,Worksheet!$D$6))","v":16},"km","±",{"$f":"IF(I1813=1,H1813*10^RANDBETWEEN(IF(Worksheet!$D$9,-1,0),0),IF(I1813=2,H1813*10^RANDBETWEEN(RANDBETWEEN(0,2),2),CHOOSE(RANDBETWEEN(1,3),5,10,20)))","v":3},{"$f":"IF(I1813=1,D1813,IF(I1813=3,\"%\",\"m\"))","v":"km"},3,{"$f":"IF(AND(Worksheet!$D$8,RAND()<0.2),3,IF(RAND()<Worksheet!$D$7/100,1,2))","v":1},{"$f":"IF(I1813=1,C1813-F1813,IF(I1813=2,C1813-F1813/1000,IF(I1813=3,(1-F1813/100)*C1813,\"\")))","v":13}," km",{"$f":"J1813*1000","v":13000},"m",{"$f":"IF(I1813=1,C1813+F1813,IF(I1813=2,C1813+F1813/1000,IF(I1813=3,(1+F1813/100)*C1813,\"\")))","v":19},"  km",{"$f":"N1813*1000","v":19000},"m"]
[{"$f":"IF(COUNTIF($B$1:B1814,TRUE)=COUNTIF($B$1:B1813,TRUE),\"\",COUNTIF($B$1:B1814,TRUE))","v":""},{"$f":"Worksheet!$B$14","v":false},{"$f":"RANDBETWEEN(5,RANDBETWEEN(5,Worksheet!$D$6))","v":94},"m","±",{"$f":"IF(I1814=1,H1814*10^RANDBETWEEN(IF(Worksheet!$D$9,-1,0),0),IF(I1814=2,H1814*10^RANDBETWEEN(RANDBETWEEN(0,2),2),CHOOSE(RANDBETWEEN(1,3),5,10,20)))","v":0.9},{"$f":"IF(I1814=1,D1814,IF(I1814=3,\"%\",\"mm\"))","v":"m"},9,{"$f":"IF(AND(Worksheet!$D$8,RAND()<0.2),3,IF(RAND()<Worksheet!$D$7/100,1,2))","v":1},{"$f":"IF(I1814=1,C1814-F1814,IF(I1814=2,C1814-F1814/1000,IF(I1814=3,(1-F1814/100)*C1814,\"\")))","v":93.1}," m",{"$f":"J1814*1000","v":93100},"mm",{"$f":"IF(I1814=1,C1814+F1814,IF(I1814=2,C1814+F1814/1000,IF(I1814=3,(1+F1814/100)*C1814,\"\")))","v":94.9},"  m",{"$f":"N1814*1000","v":94900},"mm"]
[{"$f":"IF(COUNTIF($B$1:B1815,TRUE)=COUNTIF($B$1:B1814,TRUE),\"\",COUNTIF($B$1:B1815,TRUE))","v":1426},{"$f":"Worksheet!$B$15","v":true},{"$f":"RANDBETWEEN(5,20)","v":9},"hours","±",{"$f":"IF(I1815=1,H1815*10^RANDBETWEEN(IF(Worksheet!$D$9,-1,0),0),IF(I1815=2,H1815,CHOOSE(RANDBETWEEN(1,3),5,10,20)))","v":1},{"$f":"IF(I1815=1,D1815,IF(I1815=3,\"%\",\"min\"))","v":"min"},1,{"$f":"IF(AND(Worksheet!$D$8,RAND()<0),3,IF(RAND()<Worksheet!$D$7/100,1,2))","v":2},null," hours",{"$f":"IF(I1815=1,C1815-F1815,IF(I1815=2,C1815*60-F1815,\"\"))","v":539},{"$f":"IF($I1815=1,\" hours\",\" min\")","v":" min"},null,"  hours",{"$f":"IF(I1815=1,C1815+F1815,IF(I1815=2,C1815*60+F1815,\"\"))","v":541},{"$f":"IF($I1815=1,\" hours\",\" min\")","v":" min"}]
[{"$f":"IF(COUNTIF($B$1:B1816,TRUE)=COUNTIF($B$1:B1815,TRUE),\"\",COUNTIF($B$1:B1816,TRUE))","v":1427},{"$f":"Worksheet!$D$11","v":true},{"$f":"RANDBETWEEN(5,RANDBETWEEN(5,Worksheet!$D$6))","v":203},"kg","±",{"$f":"IF(I1816=1,H1816*10^RANDBETWEEN(IF(Worksheet!$D$9,-1,0),0),IF(I1816=2,H1816*10^RANDBETWEEN(RANDBETWEEN(0,2),2),CHOOSE(RANDBETWEEN(1,3),5,10,20)))","v":0.8},{"$f":"IF(I1816=1,D1816,IF(I1816=3,\"%\",\"g\"))","v":"kg"},8,{"$f":"IF(AND(Worksheet!$D$8,RAND()<0.2),3,IF(RAND()<Worksheet!$D$7/100,1,2))","v":1},{"$f":"IF(I1816=1,C1816-F1816,IF(I1816=2,C1816-F1816/1000,IF(I1816=3,(1-F1816/100)*C1816,\"\")))","v":202.2}," kg",{"$f":"J1816*1000","v":202200},"g",{"$f":"IF(I1816=1,C1816+F1816,IF(I1816=2,C1816+F1816/1000,IF(I1816=3,(1+F1816/100)*C1816,\"\")))","v":203.8},"  kg",{"$f":"N1816*1000","v":203800},"g"]
[{"$f":"IF(COUNTIF($B$1:B1817,TRUE)=COUNTIF($B$1:B1816,TRUE),\"\",COUNTIF($B$1:B1817,TRUE))","v":1428},{"$f":"Worksheet!$D$12","v":true},{"$f":"RANDBETWEEN(5,RANDBETWEEN(5,Worksheet!$D$6))","v":17},"tonnes","±",{"$f":"IF(I1817=1,H1817*10^RANDBETWEEN(IF(Worksheet!$D$9,-1,0),0),IF(I1817=2,H1817*10^RANDBETWEEN(RANDBETWEEN(0,2),2),CHOOSE(RANDBETWEEN(1,3),5,10,20)))","v":90},{"$f":"IF(I1817=1,D1817,IF(I1817=3,\"%\",\"kg\"))","v":"kg"},9,{"$f":"IF(AND(Worksheet!$D$8,RAND()<0.2),3,IF(RAND()<Worksheet!$D$7/100,1,2))","v":2},{"$f":"IF(I1817=1,C1817-F1817,IF(I1817=2,C1817-F1817/1000,IF(I1817=3,(1-F1817/100)*C1817,\"\")))","v":16.91}," tonnes",{"$f":"J1817*1000","v":16910},"kg",{"$f":"IF(I1817=1,C1817+F1817,IF(I1817=2,C1817+F1817/1000,IF(I1817=3,(1+F1817/100)*C1817,\"\")))","v":17.09},"  tonnes",{"$f":"N1817*1000","v":17090},"kg"]
[{"$f":"IF(COUNTIF($B$1:B1818,TRUE)=COUNTIF($B$1:B1817,TRUE),\"\",COUNTIF($B$1:B1818,TRUE))","v":1429},{"$f":"Worksheet!$D$13","v":true},{"$f":"RANDBETWEEN(5,RANDBETWEEN(5,Worksheet!$D$6))","v":162},"litres","±",{"$f":"IF(I1818=1,H1818*10^RANDBETWEEN(IF(Worksheet!$D$9,-1,0),0),IF(I1818=2,H1818*10^RANDBETWEEN(RANDBETWEEN(0,2),2),CHOOSE(RANDBETWEEN(1,3),5,10,20)))","v":1},{"$f":"IF(I1818=1,D1818,IF(I1818=3,\"%\",\"ml\"))","v":"litres"},1,{"$f":"IF(AND(Worksheet!$D$8,RAND()<0.2),3,IF(RAND()<Worksheet!$D$7/100,1,2))","v":1},{"$f":"IF(I1818=1,C1818-F1818,IF(I1818=2,C1818-F1818/1000,IF(I1818=3,(1-F1818/100)*C1818,\"\")))","v":161}," litres",{"$f":"J1818*1000","v":161000},"ml",{"$f":"IF(I1818=1,C1818+F1818,IF(I1818=2,C1818+F1818/1000,IF(I1818=3,(1+F1818/100)*C1818,\"\")))","v":163},"  litres",{"$f":"N1818*1000","v":163000},"ml"]
[{"$f":"IF(COUNTIF($B$1:B1819,TRUE)=COUNTIF($B$1:B1818,TRUE),\"\",COUNTIF($B$1:B1819,TRUE))","v":1430},{"$f":"Worksheet!$D$14","v":true},{"$f":"RANDBETWEEN(5,RANDBETWEEN(5,Worksheet!$D$6))","v":144},"litres","±",{"$f":"IF(I1819=1,H1819*10^RANDBETWEEN(IF(Worksheet!$D$9,-1,0),0),IF(I1819=2,H1819*10^RANDBETWEEN(RANDBETWEEN(0,2),2),CHOOSE(RANDBETWEEN(1,3),5,10,20)))","v":8},{"$f":"IF(I1819=1,D1819,IF(I1819=3,\"%\",\"cm³\"))","v":"litres"},8,{"$f":"IF(AND(Worksheet!$D$8,RAND()<0.2),3,IF(RAND()<Worksheet!$D$7/100,1,2))","v":1},{"$f":"IF(I1819=1,C1819-F1819,IF(I1819=2,C1819-F1819/1000,IF(I1819=3,(1-F1819/100)*C1819,\"\")))","v":136}," litres",{"$f":"J1819*1000","v":136000},"cm³",{"$f":"IF(I1819=1,C1819+F1819,IF(I1819=2,C1819+F1819/1000,IF(I1819=3,(1+F1819/100)*C1819,\"\")))","v":152},"  litres",{"$f":"N1819*1000","v":152000},"cm³"]
[{"$f":"IF(COUNTIF($B$1:B1820,TRUE)=COUNTIF($B$1:B1819,TRUE),\"\",COUNTIF($B$1:B1820,TRUE))","v":""},{"$f":"Worksheet!$D$15","v":false},{"$f":"RANDBETWEEN(5,20)","v":15},"min","±",{"$f":"IF(I1820=1,H1820*10^RANDBETWEEN(IF(Worksheet!$D$9,-1,0),0),IF(I1820=2,H1820,CHOOSE(RANDBETWEEN(1,3),5,10,20)))","v":7},{"$f":"IF(I1820=1,D1820,IF(I1820=3,\"%\",\"sec\"))","v":"min"},7,{"$f":"IF(AND(Worksheet!$D$8,RAND()<0),3,IF(RAND()<Worksheet!$D$7/100,1,2))","v":1},null," min",{"$f":"IF(I1820=1,C1820-F1820,IF(I1820=2,C1820*60-F1820,\"\"))","v":8},{"$f":"IF($I1820=1,\" hours\",\" min\")","v":" hours"},null,"  min",{"$f":"IF(I1820=1,C1820+F1820,IF(I1820=2,C1820*60+F1820,\"\"))","v":22},{"$f":"IF($I1820=1,\" hours\",\" min\")","v":" hours"}]
[{"$f":"COUNTIF($B$1:B1821,TRUE)","v":1431},{"$f":"Worksheet!$B$11","v":true},{"$f":"RANDBETWEEN(5,RANDBETWEEN(5,Worksheet!$D$6))","v":204},"cm","±",{"$f":"IF(I1821=1,H1821*10^RANDBETWEEN(IF(Worksheet!$D$9,-1,0),0),IF(I1821=2,H1821,CHOOSE(RANDBETWEEN(1,3),5,10,20)))","v":1},{"$f":"IF(I1821=1,D1821,IF(I1821=3,\"%\",\"mm\"))","v":"cm"},{"$f":"RANDBETWEEN(1,MIN(9,C1821))","v":1},{"$f":"IF(AND(Worksheet!$D$8,RAND()<0.2),3,IF(RAND()<Worksheet!$D$7/100,1,2))","v":1},{"$f":"IF(I1821=1,C1821-F1821,IF(I1821=2,C1821-F1821/10,IF(I1821=3,(1-F1821/100)*C1821,\"\")))","v":203},{"$f":"CONCATENATE(\" \",D1821)","v":" cm"},{"$f":"J1821*10","v":2030},"mm",{"$f":"IF(I1821=1,C1821+F1821,IF(I1821=2,C1821+F1821/10,IF(I1821=3,(1+F1821/100)*C1821,\"\")))","v":205},{"$f":"CONCATENATE(\" \",K1821)","v":"  cm"},{"$f":"N1821*10","v":2050},"mm"]
[{"$f":"IF(COUNTIF($B$1:B1822,TRUE)=COUNTIF($B$1:B1821,TRUE),\"\",COUNTIF($B$1:B1822,TRUE))","v":1432},{"$f":"Worksheet!$B$12","v":true},{"$f":"RANDBETWEEN(5,RANDBETWEEN(5,Worksheet!$D$6))","v":261},"m","±",{"$f":"IF(I1822=1,H1822*10^RANDBETWEEN(IF(Worksheet!$D$9,-1,0),0),IF(I1822=2,H1822*10^RANDBETWEEN(RANDBETWEEN(0,1),1),CHOOSE(RANDBETWEEN(1,3),5,10,20)))","v":2},{"$f":"IF(I1822=1,D1822,IF(I1822=3,\"%\",\"cm\"))","v":"m"},{"$f":"RANDBETWEEN(1,MIN(9,C1822))","v":2},{"$f":"IF(AND(Worksheet!$D$8,RAND()<0.2),3,IF(RAND()<Worksheet!$D$7/100,1,2))","v":1},{"$f":"IF(I1822=1,C1822-F1822,IF(I1822=2,C1822-F1822/100,IF(I1822=3,(1-F1822/100)*C1822,\"\")))","v":259},{"$f":"CONCATENATE(\" \",D1822)","v":" m"},{"$f":"J1822*100","v":25900},"cm",{"$f":"IF(I1822=1,C1822+F1822,IF(I1822=2,C1822+F1822/100,IF(I1822=3,(1+F1822/100)*C1822,\"\")))","v":263},{"$f":"CONCATENATE(\" \",K1822)","v":"  m"},{"$f":"N1822*100","v":26300},"cm"]
[{"$f":"IF(COUNTIF($B$1:B1823,TRUE)=COUNTIF($B$1:B1822,TRUE),\"\",COUNTIF($B$1:B1823,TRUE))","v":1433},{"$f":"Worksheet!$B$13","v":true},{"$f":"RANDBETWEEN(5,RANDBETWEEN(5,Worksheet!$D$6))","v":79},"km","±",{"$f":"IF(I1823=1,H1823*10^RANDBETWEEN(IF(Worksheet!$D$9,-1,0),0),IF(I1823=2,H1823*10^RANDBETWEEN(RANDBETWEEN(0,2),2),CHOOSE(RANDBETWEEN(1,3),5,10,20)))","v":0.30000000000000004},{"$f":"IF(I1823=1,D1823,IF(I1823=3,\"%\",\"m\"))","v":"km"},3,{"$f":"IF(AND(Worksheet!$D$8,RAND()<0.2),3,IF(RAND()<Worksheet!$D$7/100,1,2))","v":1},{"$f":"IF(I1823=1,C1823-F1823,IF(I1823=2,C1823-F1823/1000,IF(I1823=3,(1-F1823/100)*C1823,\"\")))","v":78.7}," km",{"$f":"J1823*1000","v":78700},"m",{"$f":"IF(I1823=1,C1823+F1823,IF(I1823=2,C1823+F1823/1000,IF(I1823=3,(1+F1823/100)*C1823,\"\")))","v":79.3},"  km",{"$f":"N1823*1000","v":79300},"m"]
[{"$f":"IF(COUNTIF($B$1:B1824,TRUE)=COUNTIF($B$1:B1823,TRUE),\"\",COUNTIF($B$1:B1824,TRUE))","v":""},{"$f":"Worksheet!$B$14","v":false},{"$f":"RANDBETWEEN(5,RANDBETWEEN(5,Worksheet!$D$6))","v":114},"m","±",{"$f":"IF(I1824=1,H1824*10^RANDBETWEEN(IF(Worksheet!$D$9,-1,0),0),IF(I1824=2,H1824*10^RANDBETWEEN(RANDBETWEEN(0,2),2),CHOOSE(RANDBETWEEN(1,3),5,10,20)))","v":40},{"$f":"IF(I1824=1,D1824,IF(I1824=3,\"%\",\"mm\"))","v":"mm"},4,{"$f":"IF(AND(Worksheet!$D$8,RAND()<0.2),3,IF(RAND()<Worksheet!$D$7/100,1,2))","v":2},{"$f":"IF(I1824=1,C1824-F1824,IF(I1824=2,C1824-F1824/1000,IF(I1824=3,(1-F1824/100)*C1824,\"\")))","v":113.96}," m",{"$f":"J1824*1000","v":113960},"mm",{"$f":"IF(I1824=1,C1824+F1824,IF(I1824=2,C1824+F1824/1000,IF(I1824=3,(1+F1824/100)*C1824,\"\")))","v":114.04},"  m",{"$f":"N1824*1000","v":114040},"mm"]
[{"$f":"IF(COUNTIF($B$1:B1825,TRUE)=COUNTIF($B$1:B1824,TRUE),\"\",COUNTIF($B$1:B1825,TRUE))","v":1434},{"$f":"Worksheet!$B$15","v":true},{"$f":"RANDBETWEEN(5,20)","v":11},"hours","±",{"$f":"IF(I1825=1,H1825*10^RANDBETWEEN(IF(Worksheet!$D$9,-1,0),0),IF(I1825=2,H1825,CHOOSE(RANDBETWEEN(1,3),5,10,20)))","v":0.60000000000000009},{"$f":"IF(I1825=1,D1825,IF(I1825=3,\"%\",\"min\"))","v":"hours"},6,{"$f":"IF(AND(Worksheet!$D$8,RAND()<0),3,IF(RAND()<Worksheet!$D$7/100,1,2))","v":1},null," hours",{"$f":"IF(I1825=1,C1825-F1825,IF(I1825=2,C1825*60-F1825,\"\"))","v":10.4},{"$f":"IF($I1825=1,\" hours\",\" min\")","v":" hours"},null,"  hours",{"$f":"IF(I1825=1,C1825+F1825,IF(I1825=2,C1825*60+F1825,\"\"))","v":11.6},{"$f":"IF($I1825=1,\" hours\",\" min\")","v":" hours"}]
[{"$f":"IF(COUNTIF($B$1:B1826,TRUE)=COUNTIF($B$1:B1825,TRUE),\"\",COUNTIF($B$1:B1826,TRUE))","v":1435},{"$f":"Worksheet!$D$11","v":true},{"$f":"RANDBETWEEN(5,RANDBETWEEN(5,Worksheet!$D$6))","v":10},"kg","±",{"$f":"IF(I1826=1,H1826*10^RANDBETWEEN(IF(Worksheet!$D$9,-1,0),0),IF(I1826=2,H1826*10^RANDBETWEEN(RANDBETWEEN(0,2),2),CHOOSE(RANDBETWEEN(1,3),5,10,20)))","v":0.5},{"$f":"IF(I1826=1,D1826,IF(I1826=3,\"%\",\"g\"))","v":"kg"},5,{"$f":"IF(AND(Worksheet!$D$8,RAND()<0.2),3,IF(RAND()<Worksheet!$D$7/100,1,2))","v":1},{"$f":"IF(I1826=1,C1826-F1826,IF(I1826=2,C1826-F1826/1000,IF(I1826=3,(1-F1826/100)*C1826,\"\")))","v":9.5}," kg",{"$f":"J1826*1000","v":9500},"g",{"$f":"IF(I1826=1,C1826+F1826,IF(I1826=2,C1826+F1826/1000,IF(I1826=3,(1+F1826/100)*C1826,\"\")))","v":10.5},"  kg",{"$f":"N1826*1000","v":10500},"g"]
[{"$f":"IF(COUNTIF($B$1:B1827,TRUE)=COUNTIF($B$1:B1826,TRUE),\"\",COUNTIF($B$1:B1827,TRUE))","v":1436},{"$f":"Worksheet!$D$12","v":true},{"$f":"RANDBETWEEN(5,RANDBETWEEN(5,Worksheet!$D$6))","v":82},"tonnes","±",{"$f":"IF(I1827=1,H1827*10^RANDBETWEEN(IF(Worksheet!$D$9,-1,0),0),IF(I1827=2,H1827*10^RANDBETWEEN(RANDBETWEEN(0,2),2),CHOOSE(RANDBETWEEN(1,3),5,10,20)))","v":0.2},{"$f":"IF(I1827=1,D1827,IF(I1827=3,\"%\",\"kg\"))","v":"tonnes"},2,{"$f":"IF(AND(Worksheet!$D$8,RAND()<0.2),3,IF(RAND()<Worksheet!$D$7/100,1,2))","v":1},{"$f":"IF(I1827=1,C1827-F1827,IF(I1827=2,C1827-F1827/1000,IF(I1827=3,(1-F1827/100)*C1827,\"\")))","v":81.8}," tonnes",{"$f":"J1827*1000","v":81800},"kg",{"$f":"IF(I1827=1,C1827+F1827,IF(I1827=2,C1827+F1827/1000,IF(I1827=3,(1+F1827/100)*C1827,\"\")))","v":82.2},"  tonnes",{"$f":"N1827*1000","v":82200},"kg"]
[{"$f":"IF(COUNTIF($B$1:B1828,TRUE)=COUNTIF($B$1:B1827,TRUE),\"\",COUNTIF($B$1:B1828,TRUE))","v":1437},{"$f":"Worksheet!$D$13","v":true},{"$f":"RANDBETWEEN(5,RANDBETWEEN(5,Worksheet!$D$6))","v":110},"litres","±",{"$f":"IF(I1828=1,H1828*10^RANDBETWEEN(IF(Worksheet!$D$9,-1,0),0),IF(I1828=2,H1828*10^RANDBETWEEN(RANDBETWEEN(0,2),2),CHOOSE(RANDBETWEEN(1,3),5,10,20)))","v":0.5},{"$f":"IF(I1828=1,D1828,IF(I1828=3,\"%\",\"ml\"))","v":"litres"},5,{"$f":"IF(AND(Worksheet!$D$8,RAND()<0.2),3,IF(RAND()<Worksheet!$D$7/100,1,2))","v":1},{"$f":"IF(I1828=1,C1828-F1828,IF(I1828=2,C1828-F1828/1000,IF(I1828=3,(1-F1828/100)*C1828,\"\")))","v":109.5}," litres",{"$f":"J1828*1000","v":109500},"ml",{"$f":"IF(I1828=1,C1828+F1828,IF(I1828=2,C1828+F1828/1000,IF(I1828=3,(1+F1828/100)*C1828,\"\")))","v":110.5},"  litres",{"$f":"N1828*1000","v":110500},"ml"]
[{"$f":"IF(COUNTIF($B$1:B1829,TRUE)=COUNTIF($B$1:B1828,TRUE),\"\",COUNTIF($B$1:B1829,TRUE))","v":1438},{"$f":"Worksheet!$D$14","v":true},{"$f":"RANDBETWEEN(5,RANDBETWEEN(5,Worksheet!$D$6))","v":48},"litres","±",{"$f":"IF(I1829=1,H1829*10^RANDBETWEEN(IF(Worksheet!$D$9,-1,0),0),IF(I1829=2,H1829*10^RANDBETWEEN(RANDBETWEEN(0,2),2),CHOOSE(RANDBETWEEN(1,3),5,10,20)))","v":2},{"$f":"IF(I1829=1,D1829,IF(I1829=3,\"%\",\"cm³\"))","v":"litres"},2,{"$f":"IF(AND(Worksheet!$D$8,RAND()<0.2),3,IF(RAND()<Worksheet!$D$7/100,1,2))","v":1},{"$f":"IF(I1829=1,C1829-F1829,IF(I1829=2,C1829-F1829/1000,IF(I1829=3,(1-F1829/100)*C1829,\"\")))","v":46}," litres",{"$f":"J1829*1000","v":46000},"cm³",{"$f":"IF(I1829=1,C1829+F1829,IF(I1829=2,C1829+F1829/1000,IF(I1829=3,(1+F1829/100)*C1829,\"\")))","v":50},"  litres",{"$f":"N1829*1000","v":50000},"cm³"]
[{"$f":"IF(COUNTIF($B$1:B1830,TRUE)=COUNTIF($B$1:B1829,TRUE),\"\",COUNTIF($B$1:B1830,TRUE))","v":""},{"$f":"Worksheet!$D$15","v":false},{"$f":"RANDBETWEEN(5,20)","v":9},"min","±",{"$f":"IF(I1830=1,H1830*10^RANDBETWEEN(IF(Worksheet!$D$9,-1,0),0),IF(I1830=2,H1830,CHOOSE(RANDBETWEEN(1,3),5,10,20)))","v":2},{"$f":"IF(I1830=1,D1830,IF(I1830=3,\"%\",\"sec\"))","v":"min"},2,{"$f":"IF(AND(Worksheet!$D$8,RAND()<0),3,IF(RAND()<Worksheet!$D$7/100,1,2))","v":1},null," min",{"$f":"IF(I1830=1,C1830-F1830,IF(I1830=2,C1830*60-F1830,\"\"))","v":7},{"$f":"IF($I1830=1,\" hours\",\" min\")","v":" hours"},null,"  min",{"$f":"IF(I1830=1,C1830+F1830,IF(I1830=2,C1830*60+F1830,\"\"))","v":11},{"$f":"IF($I1830=1,\" hours\",\" min\")","v":" hours"}]
[{"$f":"COUNTIF($B$1:B1831,TRUE)","v":1439},{"$f":"Worksheet!$B$11","v":true},{"$f":"RANDBETWEEN(5,RANDBETWEEN(5,Worksheet!$D$6))","v":49},"cm","±",{"$f":"IF(I1831=1,H1831*10^RANDBETWEEN(IF(Worksheet!$D$9,-1,0),0),IF(I1831=2,H1831,CHOOSE(RANDBETWEEN(1,3),5,10,20)))","v":0.70000000000000007},{"$f":"IF(I1831=1,D1831,IF(I1831=3,\"%\",\"mm\"))","v":"cm"},{"$f":"RANDBETWEEN(1,MIN(9,C1831))","v":7},{"$f":"IF(AND(Worksheet!$D$8,RAND()<0.2),3,IF(RAND()<Worksheet!$D$7/100,1,2))","v":1},{"$f":"IF(I1831=1,C1831-F1831,IF(I1831=2,C1831-F1831/10,IF(I1831=3,(1-F1831/100)*C1831,\"\")))","v":48.3},{"$f":"CONCATENATE(\" \",D1831)","v":" cm"},{"$f":"J1831*10","v":483},"mm",{"$f":"IF(I1831=1,C1831+F1831,IF(I1831=2,C1831+F1831/10,IF(I1831=3,(1+F1831/100)*C1831,\"\")))","v":49.7},{"$f":"CONCATENATE(\" \",K1831)","v":"  cm"},{"$f":"N1831*10","v":497},"mm"]
[{"$f":"IF(COUNTIF($B$1:B1832,TRUE)=COUNTIF($B$1:B1831,TRUE),\"\",COUNTIF($B$1:B1832,TRUE))","v":1440},{"$f":"Worksheet!$B$12","v":true},{"$f":"RANDBETWEEN(5,RANDBETWEEN(5,Worksheet!$D$6))","v":234},"m","±",{"$f":"IF(I1832=1,H1832*10^RANDBETWEEN(IF(Worksheet!$D$9,-1,0),0),IF(I1832=2,H1832*10^RANDBETWEEN(RANDBETWEEN(0,1),1),CHOOSE(RANDBETWEEN(1,3),5,10,20)))","v":10},{"$f":"IF(I1832=1,D1832,IF(I1832=3,\"%\",\"cm\"))","v":"%"},{"$f":"RANDBETWEEN(1,MIN(9,C1832))","v":1},{"$f":"IF(AND(Worksheet!$D$8,RAND()<0.2),3,IF(RAND()<Worksheet!$D$7/100,1,2))","v":3},{"$f":"IF(I1832=1,C1832-F1832,IF(I1832=2,C1832-F1832/100,IF(I1832=3,(1-F1832/100)*C1832,\"\")))","v":210.6},{"$f":"CONCATENATE(\" \",D1832)","v":" m"},{"$f":"J1832*100","v":21060},"cm",{"$f":"IF(I1832=1,C1832+F1832,IF(I1832=2,C1832+F1832/100,IF(I1832=3,(1+F1832/100)*C1832,\"\")))","v":257.40000000000003},{"$f":"CONCATENATE(\" \",K1832)","v":"  m"},{"$f":"N1832*100","v":25740.000000000004},"cm"]
[{"$f":"IF(COUNTIF($B$1:B1833,TRUE)=COUNTIF($B$1:B1832,TRUE),\"\",COUNTIF($B$1:B1833,TRUE))","v":1441},{"$f":"Worksheet!$B$13","v":true},{"$f":"RANDBETWEEN(5,RANDBETWEEN(5,Worksheet!$D$6))","v":308},"km","±",{"$f":"IF(I1833=1,H1833*10^RANDBETWEEN(IF(Worksheet!$D$9,-1,0),0),IF(I1833=2,H1833*10^RANDBETWEEN(RANDBETWEEN(0,2),2),CHOOSE(RANDBETWEEN(1,3),5,10,20)))","v":900},{"$f":"IF(I1833=1,D1833,IF(I1833=3,\"%\",\"m\"))","v":"m"},9,{"$f":"IF(AND(Worksheet!$D$8,RAND()<0.2),3,IF(RAND()<Worksheet!$D$7/100,1,2))","v":2},{"$f":"IF(I1833=1,C1833-F1833,IF(I1833=2,C1833-F1833/1000,IF(I1833=3,(1-F1833/100)*C1833,\"\")))","v":307.10000000000002}," km",{"$f":"J1833*1000","v":307100},"m",{"$f":"IF(I1833=1,C1833+F1833,IF(I1833=2,C1833+F1833/1000,IF(I1833=3,(1+F1833/100)*C1833,\"\")))","v":308.89999999999998},"  km",{"$f":"N1833*1000","v":308900},"m"]
[{"$f":"IF(COUNTIF($B$1:B1834,TRUE)=COUNTIF($B$1:B1833,TRUE),\"\",COUNTIF($B$1:B1834,TRUE))","v":""},{"$f":"Worksheet!$B$14","v":false},{"$f":"RANDBETWEEN(5,RANDBETWEEN(5,Worksheet!$D$6))","v":19},"m","±",{"$f":"IF(I1834=1,H1834*10^RANDBETWEEN(IF(Worksheet!$D$9,-1,0),0),IF(I1834=2,H1834*10^RANDBETWEEN(RANDBETWEEN(0,2),2),CHOOSE(RANDBETWEEN(1,3),5,10,20)))","v":10},{"$f":"IF(I1834=1,D1834,IF(I1834=3,\"%\",\"mm\"))","v":"%"},5,{"$f":"IF(AND(Worksheet!$D$8,RAND()<0.2),3,IF(RAND()<Worksheet!$D$7/100,1,2))","v":3},{"$f":"IF(I1834=1,C1834-F1834,IF(I1834=2,C1834-F1834/1000,IF(I1834=3,(1-F1834/100)*C1834,\"\")))","v":17.100000000000001}," m",{"$f":"J1834*1000","v":17100},"mm",{"$f":"IF(I1834=1,C1834+F1834,IF(I1834=2,C1834+F1834/1000,IF(I1834=3,(1+F1834/100)*C1834,\"\")))","v":20.900000000000002},"  m",{"$f":"N1834*1000","v":20900.000000000004},"mm"]
[{"$f":"IF(COUNTIF($B$1:B1835,TRUE)=COUNTIF($B$1:B1834,TRUE),\"\",COUNTIF($B$1:B1835,TRUE))","v":1442},{"$f":"Worksheet!$B$15","v":true},{"$f":"RANDBETWEEN(5,20)","v":10},"hours","±",{"$f":"IF(I1835=1,H1835*10^RANDBETWEEN(IF(Worksheet!$D$9,-1,0),0),IF(I1835=2,H1835,CHOOSE(RANDBETWEEN(1,3),5,10,20)))","v":5},{"$f":"IF(I1835=1,D1835,IF(I1835=3,\"%\",\"min\"))","v":"hours"},5,{"$f":"IF(AND(Worksheet!$D$8,RAND()<0),3,IF(RAND()<Worksheet!$D$7/100,1,2))","v":1},null," hours",{"$f":"IF(I1835=1,C1835-F1835,IF(I1835=2,C1835*60-F1835,\"\"))","v":5},{"$f":"IF($I1835=1,\" hours\",\" min\")","v":" hours"},null,"  hours",{"$f":"IF(I1835=1,C1835+F1835,IF(I1835=2,C1835*60+F1835,\"\"))","v":15},{"$f":"IF($I1835=1,\" hours\",\" min\")","v":" hours"}]
[{"$f":"IF(COUNTIF($B$1:B1836,TRUE)=COUNTIF($B$1:B1835,TRUE),\"\",COUNTIF($B$1:B1836,TRUE))","v":1443},{"$f":"Worksheet!$D$11","v":true},{"$f":"RANDBETWEEN(5,RANDBETWEEN(5,Worksheet!$D$6))","v":176},"kg","±",{"$f":"IF(I1836=1,H1836*10^RANDBETWEEN(IF(Worksheet!$D$9,-1,0),0),IF(I1836=2,H1836*10^RANDBETWEEN(RANDBETWEEN(0,2),2),CHOOSE(RANDBETWEEN(1,3),5,10,20)))","v":10},{"$f":"IF(I1836=1,D1836,IF(I1836=3,\"%\",\"g\"))","v":"g"},1,{"$f":"IF(AND(Worksheet!$D$8,RAND()<0.2),3,IF(RAND()<Worksheet!$D$7/100,1,2))","v":2},{"$f":"IF(I1836=1,C1836-F1836,IF(I1836=2,C1836-F1836/1000,IF(I1836=3,(1-F1836/100)*C1836,\"\")))","v":175.99}," kg",{"$f":"J1836*1000","v":175990},"g",{"$f":"IF(I1836=1,C1836+F1836,IF(I1836=2,C1836+F1836/1000,IF(I1836=3,(1+F1836/100)*C1836,\"\")))","v":176.01},"  kg",{"$f":"N1836*1000","v":176010},"g"]
[{"$f":"IF(COUNTIF($B$1:B1837,TRUE)=COUNTIF($B$1:B1836,TRUE),\"\",COUNTIF($B$1:B1837,TRUE))","v":1444},{"$f":"Worksheet!$D$12","v":true},{"$f":"RANDBETWEEN(5,RANDBETWEEN(5,Worksheet!$D$6))","v":200},"tonnes","±",{"$f":"IF(I1837=1,H1837*10^RANDBETWEEN(IF(Worksheet!$D$9,-1,0),0),IF(I1837=2,H1837*10^RANDBETWEEN(RANDBETWEEN(0,2),2),CHOOSE(RANDBETWEEN(1,3),5,10,20)))","v":0.9},{"$f":"IF(I1837=1,D1837,IF(I1837=3,\"%\",\"kg\"))","v":"tonnes"},9,{"$f":"IF(AND(Worksheet!$D$8,RAND()<0.2),3,IF(RAND()<Worksheet!$D$7/100,1,2))","v":1},{"$f":"IF(I1837=1,C1837-F1837,IF(I1837=2,C1837-F1837/1000,IF(I1837=3,(1-F1837/100)*C1837,\"\")))","v":199.1}," tonnes",{"$f":"J1837*1000","v":199100},"kg",{"$f":"IF(I1837=1,C1837+F1837,IF(I1837=2,C1837+F1837/1000,IF(I1837=3,(1+F1837/100)*C1837,\"\")))","v":200.9},"  tonnes",{"$f":"N1837*1000","v":200900},"kg"]
[{"$f":"IF(COUNTIF($B$1:B1838,TRUE)=COUNTIF($B$1:B1837,TRUE),\"\",COUNTIF($B$1:B1838,TRUE))","v":1445},{"$f":"Worksheet!$D$13","v":true},{"$f":"RANDBETWEEN(5,RANDBETWEEN(5,Worksheet!$D$6))","v":154},"litres","±",{"$f":"IF(I1838=1,H1838*10^RANDBETWEEN(IF(Worksheet!$D$9,-1,0),0),IF(I1838=2,H1838*10^RANDBETWEEN(RANDBETWEEN(0,2),2),CHOOSE(RANDBETWEEN(1,3),5,10,20)))","v":20},{"$f":"IF(I1838=1,D1838,IF(I1838=3,\"%\",\"ml\"))","v":"ml"},2,{"$f":"IF(AND(Worksheet!$D$8,RAND()<0.2),3,IF(RAND()<Worksheet!$D$7/100,1,2))","v":2},{"$f":"IF(I1838=1,C1838-F1838,IF(I1838=2,C1838-F1838/1000,IF(I1838=3,(1-F1838/100)*C1838,\"\")))","v":153.97999999999999}," litres",{"$f":"J1838*1000","v":153980},"ml",{"$f":"IF(I1838=1,C1838+F1838,IF(I1838=2,C1838+F1838/1000,IF(I1838=3,(1+F1838/100)*C1838,\"\")))","v":154.02000000000001},"  litres",{"$f":"N1838*1000","v":154020},"ml"]
[{"$f":"IF(COUNTIF($B$1:B1839,TRUE)=COUNTIF($B$1:B1838,TRUE),\"\",COUNTIF($B$1:B1839,TRUE))","v":1446},{"$f":"Worksheet!$D$14","v":true},{"$f":"RANDBETWEEN(5,RANDBETWEEN(5,Worksheet!$D$6))","v":23},"litres","±",{"$f":"IF(I1839=1,H1839*10^RANDBETWEEN(IF(Worksheet!$D$9,-1,0),0),IF(I1839=2,H1839*10^RANDBETWEEN(RANDBETWEEN(0,2),2),CHOOSE(RANDBETWEEN(1,3),5,10,20)))","v":5},{"$f":"IF(I1839=1,D1839,IF(I1839=3,\"%\",\"cm³\"))","v":"litres"},5,{"$f":"IF(AND(Worksheet!$D$8,RAND()<0.2),3,IF(RAND()<Worksheet!$D$7/100,1,2))","v":1},{"$f":"IF(I1839=1,C1839-F1839,IF(I1839=2,C1839-F1839/1000,IF(I1839=3,(1-F1839/100)*C1839,\"\")))","v":18}," litres",{"$f":"J1839*1000","v":18000},"cm³",{"$f":"IF(I1839=1,C1839+F1839,IF(I1839=2,C1839+F1839/1000,IF(I1839=3,(1+F1839/100)*C1839,\"\")))","v":28},"  litres",{"$f":"N1839*1000","v":28000},"cm³"]
[{"$f":"IF(COUNTIF($B$1:B1840,TRUE)=COUNTIF($B$1:B1839,TRUE),\"\",COUNTIF($B$1:B1840,TRUE))","v":""},{"$f":"Worksheet!$D$15","v":false},{"$f":"RANDBETWEEN(5,20)","v":11},"min","±",{"$f":"IF(I1840=1,H1840*10^RANDBETWEEN(IF(Worksheet!$D$9,-1,0),0),IF(I1840=2,H1840,CHOOSE(RANDBETWEEN(1,3),5,10,20)))","v":7},{"$f":"IF(I1840=1,D1840,IF(I1840=3,\"%\",\"sec\"))","v":"min"},7,{"$f":"IF(AND(Worksheet!$D$8,RAND()<0),3,IF(RAND()<Worksheet!$D$7/100,1,2))","v":1},null," min",{"$f":"IF(I1840=1,C1840-F1840,IF(I1840=2,C1840*60-F1840,\"\"))","v":4},{"$f":"IF($I1840=1,\" hours\",\" min\")","v":" hours"},null,"  min",{"$f":"IF(I1840=1,C1840+F1840,IF(I1840=2,C1840*60+F1840,\"\"))","v":18},{"$f":"IF($I1840=1,\" hours\",\" min\")","v":" hours"}]
[{"$f":"COUNTIF($B$1:B1841,TRUE)","v":1447},{"$f":"Worksheet!$B$11","v":true},{"$f":"RANDBETWEEN(5,RANDBETWEEN(5,Worksheet!$D$6))","v":34},"cm","±",{"$f":"IF(I1841=1,H1841*10^RANDBETWEEN(IF(Worksheet!$D$9,-1,0),0),IF(I1841=2,H1841,CHOOSE(RANDBETWEEN(1,3),5,10,20)))","v":4},{"$f":"IF(I1841=1,D1841,IF(I1841=3,\"%\",\"mm\"))","v":"cm"},{"$f":"RANDBETWEEN(1,MIN(9,C1841))","v":4},{"$f":"IF(AND(Worksheet!$D$8,RAND()<0.2),3,IF(RAND()<Worksheet!$D$7/100,1,2))","v":1},{"$f":"IF(I1841=1,C1841-F1841,IF(I1841=2,C1841-F1841/10,IF(I1841=3,(1-F1841/100)*C1841,\"\")))","v":30},{"$f":"CONCATENATE(\" \",D1841)","v":" cm"},{"$f":"J1841*10","v":300},"mm",{"$f":"IF(I1841=1,C1841+F1841,IF(I1841=2,C1841+F1841/10,IF(I1841=3,(1+F1841/100)*C1841,\"\")))","v":38},{"$f":"CONCATENATE(\" \",K1841)","v":"  cm"},{"$f":"N1841*10","v":380},"mm"]
[{"$f":"IF(COUNTIF($B$1:B1842,TRUE)=COUNTIF($B$1:B1841,TRUE),\"\",COUNTIF($B$1:B1842,TRUE))","v":1448},{"$f":"Worksheet!$B$12","v":true},{"$f":"RANDBETWEEN(5,RANDBETWEEN(5,Worksheet!$D$6))","v":105},"m","±",{"$f":"IF(I1842=1,H1842*10^RANDBETWEEN(IF(Worksheet!$D$9,-1,0),0),IF(I1842=2,H1842*10^RANDBETWEEN(RANDBETWEEN(0,1),1),CHOOSE(RANDBETWEEN(1,3),5,10,20)))","v":4},{"$f":"IF(I1842=1,D1842,IF(I1842=3,\"%\",\"cm\"))","v":"m"},{"$f":"RANDBETWEEN(1,MIN(9,C1842))","v":4},{"$f":"IF(AND(Worksheet!$D$8,RAND()<0.2),3,IF(RAND()<Worksheet!$D$7/100,1,2))","v":1},{"$f":"IF(I1842=1,C1842-F1842,IF(I1842=2,C1842-F1842/100,IF(I1842=3,(1-F1842/100)*C1842,\"\")))","v":101},{"$f":"CONCATENATE(\" \",D1842)","v":" m"},{"$f":"J1842*100","v":10100},"cm",{"$f":"IF(I1842=1,C1842+F1842,IF(I1842=2,C1842+F1842/100,IF(I1842=3,(1+F1842/100)*C1842,\"\")))","v":109},{"$f":"CONCATENATE(\" \",K1842)","v":"  m"},{"$f":"N1842*100","v":10900},"cm"]
[{"$f":"IF(COUNTIF($B$1:B1843,TRUE)=COUNTIF($B$1:B1842,TRUE),\"\",COUNTIF($B$1:B1843,TRUE))","v":1449},{"$f":"Worksheet!$B$13","v":true},{"$f":"RANDBETWEEN(5,RANDBETWEEN(5,Worksheet!$D$6))","v":38},"km","±",{"$f":"IF(I1843=1,H1843*10^RANDBETWEEN(IF(Worksheet!$D$9,-1,0),0),IF(I1843=2,H1843*10^RANDBETWEEN(RANDBETWEEN(0,2),2),CHOOSE(RANDBETWEEN(1,3),5,10,20)))","v":4},{"$f":"IF(I1843=1,D1843,IF(I1843=3,\"%\",\"m\"))","v":"km"},4,{"$f":"IF(AND(Worksheet!$D$8,RAND()<0.2),3,IF(RAND()<Worksheet!$D$7/100,1,2))","v":1},{"$f":"IF(I1843=1,C1843-F1843,IF(I1843=2,C1843-F1843/1000,IF(I1843=3,(1-F1843/100)*C1843,\"\")))","v":34}," km",{"$f":"J1843*1000","v":34000},"m",{"$f":"IF(I1843=1,C1843+F1843,IF(I1843=2,C1843+F1843/1000,IF(I1843=3,(1+F1843/100)*C1843,\"\")))","v":42},"  km",{"$f":"N1843*1000","v":42000},"m"]
[{"$f":"IF(COUNTIF($B$1:B1844,TRUE)=COUNTIF($B$1:B1843,TRUE),\"\",COUNTIF($B$1:B1844,TRUE))","v":""},{"$f":"Worksheet!$B$14","v":false},{"$f":"RANDBETWEEN(5,RANDBETWEEN(5,Worksheet!$D$6))","v":96},"m","±",{"$f":"IF(I1844=1,H1844*10^RANDBETWEEN(IF(Worksheet!$D$9,-1,0),0),IF(I1844=2,H1844*10^RANDBETWEEN(RANDBETWEEN(0,2),2),CHOOSE(RANDBETWEEN(1,3),5,10,20)))","v":200},{"$f":"IF(I1844=1,D1844,IF(I1844=3,\"%\",\"mm\"))","v":"mm"},2,{"$f":"IF(AND(Worksheet!$D$8,RAND()<0.2),3,IF(RAND()<Worksheet!$D$7/100,1,2))","v":2},{"$f":"IF(I1844=1,C1844-F1844,IF(I1844=2,C1844-F1844/1000,IF(I1844=3,(1-F1844/100)*C1844,\"\")))","v":95.8}," m",{"$f":"J1844*1000","v":95800},"mm",{"$f":"IF(I1844=1,C1844+F1844,IF(I1844=2,C1844+F1844/1000,IF(I1844=3,(1+F1844/100)*C1844,\"\")))","v":96.2},"  m",{"$f":"N1844*1000","v":96200},"mm"]
[{"$f":"IF(COUNTIF($B$1:B1845,TRUE)=COUNTIF($B$1:B1844,TRUE),\"\",COUNTIF($B$1:B1845,TRUE))","v":1450},{"$f":"Worksheet!$B$15","v":true},{"$f":"RANDBETWEEN(5,20)","v":18},"hours","±",{"$f":"IF(I1845=1,H1845*10^RANDBETWEEN(IF(Worksheet!$D$9,-1,0),0),IF(I1845=2,H1845,CHOOSE(RANDBETWEEN(1,3),5,10,20)))","v":1},{"$f":"IF(I1845=1,D1845,IF(I1845=3,\"%\",\"min\"))","v":"min"},1,{"$f":"IF(AND(Worksheet!$D$8,RAND()<0),3,IF(RAND()<Worksheet!$D$7/100,1,2))","v":2},null," hours",{"$f":"IF(I1845=1,C1845-F1845,IF(I1845=2,C1845*60-F1845,\"\"))","v":1079},{"$f":"IF($I1845=1,\" hours\",\" min\")","v":" min"},null,"  hours",{"$f":"IF(I1845=1,C1845+F1845,IF(I1845=2,C1845*60+F1845,\"\"))","v":1081},{"$f":"IF($I1845=1,\" hours\",\" min\")","v":" min"}]
[{"$f":"IF(COUNTIF($B$1:B1846,TRUE)=COUNTIF($B$1:B1845,TRUE),\"\",COUNTIF($B$1:B1846,TRUE))","v":1451},{"$f":"Worksheet!$D$11","v":true},{"$f":"RANDBETWEEN(5,RANDBETWEEN(5,Worksheet!$D$6))","v":74},"kg","±",{"$f":"IF(I1846=1,H1846*10^RANDBETWEEN(IF(Worksheet!$D$9,-1,0),0),IF(I1846=2,H1846*10^RANDBETWEEN(RANDBETWEEN(0,2),2),CHOOSE(RANDBETWEEN(1,3),5,10,20)))","v":0.70000000000000007},{"$f":"IF(I1846=1,D1846,IF(I1846=3,\"%\",\"g\"))","v":"kg"},7,{"$f":"IF(AND(Worksheet!$D$8,RAND()<0.2),3,IF(RAND()<Worksheet!$D$7/100,1,2))","v":1},{"$f":"IF(I1846=1,C1846-F1846,IF(I1846=2,C1846-F1846/1000,IF(I1846=3,(1-F1846/100)*C1846,\"\")))","v":73.3}," kg",{"$f":"J1846*1000","v":73300},"g",{"$f":"IF(I1846=1,C1846+F1846,IF(I1846=2,C1846+F1846/1000,IF(I1846=3,(1+F1846/100)*C1846,\"\")))","v":74.7},"  kg",{"$f":"N1846*1000","v":74700},"g"]
[{"$f":"IF(COUNTIF($B$1:B1847,TRUE)=COUNTIF($B$1:B1846,TRUE),\"\",COUNTIF($B$1:B1847,TRUE))","v":1452},{"$f":"Worksheet!$D$12","v":true},{"$f":"RANDBETWEEN(5,RANDBETWEEN(5,Worksheet!$D$6))","v":256},"tonnes","±",{"$f":"IF(I1847=1,H1847*10^RANDBETWEEN(IF(Worksheet!$D$9,-1,0),0),IF(I1847=2,H1847*10^RANDBETWEEN(RANDBETWEEN(0,2),2),CHOOSE(RANDBETWEEN(1,3),5,10,20)))","v":0.30000000000000004},{"$f":"IF(I1847=1,D1847,IF(I1847=3,\"%\",\"kg\"))","v":"tonnes"},3,{"$f":"IF(AND(Worksheet!$D$8,RAND()<0.2),3,IF(RAND()<Worksheet!$D$7/100,1,2))","v":1},{"$f":"IF(I1847=1,C1847-F1847,IF(I1847=2,C1847-F1847/1000,IF(I1847=3,(1-F1847/100)*C1847,\"\")))","v":255.7}," tonnes",{"$f":"J1847*1000","v":255700},"kg",{"$f":"IF(I1847=1,C1847+F1847,IF(I1847=2,C1847+F1847/1000,IF(I1847=3,(1+F1847/100)*C1847,\"\")))","v":256.3},"  tonnes",{"$f":"N1847*1000","v":256300},"kg"]
[{"$f":"IF(COUNTIF($B$1:B1848,TRUE)=COUNTIF($B$1:B1847,TRUE),\"\",COUNTIF($B$1:B1848,TRUE))","v":1453},{"$f":"Worksheet!$D$13","v":true},{"$f":"RANDBETWEEN(5,RANDBETWEEN(5,Worksheet!$D$6))","v":119},"litres","±",{"$f":"IF(I1848=1,H1848*10^RANDBETWEEN(IF(Worksheet!$D$9,-1,0),0),IF(I1848=2,H1848*10^RANDBETWEEN(RANDBETWEEN(0,2),2),CHOOSE(RANDBETWEEN(1,3),5,10,20)))","v":0.2},{"$f":"IF(I1848=1,D1848,IF(I1848=3,\"%\",\"ml\"))","v":"litres"},2,{"$f":"IF(AND(Worksheet!$D$8,RAND()<0.2),3,IF(RAND()<Worksheet!$D$7/100,1,2))","v":1},{"$f":"IF(I1848=1,C1848-F1848,IF(I1848=2,C1848-F1848/1000,IF(I1848=3,(1-F1848/100)*C1848,\"\")))","v":118.8}," litres",{"$f":"J1848*1000","v":118800},"ml",{"$f":"IF(I1848=1,C1848+F1848,IF(I1848=2,C1848+F1848/1000,IF(I1848=3,(1+F1848/100)*C1848,\"\")))","v":119.2},"  litres",{"$f":"N1848*1000","v":119200},"ml"]
[{"$f":"IF(COUNTIF($B$1:B1849,TRUE)=COUNTIF($B$1:B1848,TRUE),\"\",COUNTIF($B$1:B1849,TRUE))","v":1454},{"$f":"Worksheet!$D$14","v":true},{"$f":"RANDBETWEEN(5,RANDBETWEEN(5,Worksheet!$D$6))","v":203},"litres","±",{"$f":"IF(I1849=1,H1849*10^RANDBETWEEN(IF(Worksheet!$D$9,-1,0),0),IF(I1849=2,H1849*10^RANDBETWEEN(RANDBETWEEN(0,2),2),CHOOSE(RANDBETWEEN(1,3),5,10,20)))","v":20},{"$f":"IF(I1849=1,D1849,IF(I1849=3,\"%\",\"cm³\"))","v":"%"},7,{"$f":"IF(AND(Worksheet!$D$8,RAND()<0.2),3,IF(RAND()<Worksheet!$D$7/100,1,2))","v":3},{"$f":"IF(I1849=1,C1849-F1849,IF(I1849=2,C1849-F1849/1000,IF(I1849=3,(1-F1849/100)*C1849,\"\")))","v":162.4}," litres",{"$f":"J1849*1000","v":162400},"cm³",{"$f":"IF(I1849=1,C1849+F1849,IF(I1849=2,C1849+F1849/1000,IF(I1849=3,(1+F1849/100)*C1849,\"\")))","v":243.6},"  litres",{"$f":"N1849*1000","v":243600},"cm³"]
[{"$f":"IF(COUNTIF($B$1:B1850,TRUE)=COUNTIF($B$1:B1849,TRUE),\"\",COUNTIF($B$1:B1850,TRUE))","v":""},{"$f":"Worksheet!$D$15","v":false},{"$f":"RANDBETWEEN(5,20)","v":9},"min","±",{"$f":"IF(I1850=1,H1850*10^RANDBETWEEN(IF(Worksheet!$D$9,-1,0),0),IF(I1850=2,H1850,CHOOSE(RANDBETWEEN(1,3),5,10,20)))","v":9},{"$f":"IF(I1850=1,D1850,IF(I1850=3,\"%\",\"sec\"))","v":"min"},9,{"$f":"IF(AND(Worksheet!$D$8,RAND()<0),3,IF(RAND()<Worksheet!$D$7/100,1,2))","v":1},null," min",{"$f":"IF(I1850=1,C1850-F1850,IF(I1850=2,C1850*60-F1850,\"\"))","v":0},{"$f":"IF($I1850=1,\" hours\",\" min\")","v":" hours"},null,"  min",{"$f":"IF(I1850=1,C1850+F1850,IF(I1850=2,C1850*60+F1850,\"\"))","v":18},{"$f":"IF($I1850=1,\" hours\",\" min\")","v":" hours"}]
[{"$f":"COUNTIF($B$1:B1851,TRUE)","v":1455},{"$f":"Worksheet!$B$11","v":true},{"$f":"RANDBETWEEN(5,RANDBETWEEN(5,Worksheet!$D$6))","v":35},"cm","±",{"$f":"IF(I1851=1,H1851*10^RANDBETWEEN(IF(Worksheet!$D$9,-1,0),0),IF(I1851=2,H1851,CHOOSE(RANDBETWEEN(1,3),5,10,20)))","v":8},{"$f":"IF(I1851=1,D1851,IF(I1851=3,\"%\",\"mm\"))","v":"cm"},{"$f":"RANDBETWEEN(1,MIN(9,C1851))","v":8},{"$f":"IF(AND(Worksheet!$D$8,RAND()<0.2),3,IF(RAND()<Worksheet!$D$7/100,1,2))","v":1},{"$f":"IF(I1851=1,C1851-F1851,IF(I1851=2,C1851-F1851/10,IF(I1851=3,(1-F1851/100)*C1851,\"\")))","v":27},{"$f":"CONCATENATE(\" \",D1851)","v":" cm"},{"$f":"J1851*10","v":270},"mm",{"$f":"IF(I1851=1,C1851+F1851,IF(I1851=2,C1851+F1851/10,IF(I1851=3,(1+F1851/100)*C1851,\"\")))","v":43},{"$f":"CONCATENATE(\" \",K1851)","v":"  cm"},{"$f":"N1851*10","v":430},"mm"]
[{"$f":"IF(COUNTIF($B$1:B1852,TRUE)=COUNTIF($B$1:B1851,TRUE),\"\",COUNTIF($B$1:B1852,TRUE))","v":1456},{"$f":"Worksheet!$B$12","v":true},{"$f":"RANDBETWEEN(5,RANDBETWEEN(5,Worksheet!$D$6))","v":66},"m","±",{"$f":"IF(I1852=1,H1852*10^RANDBETWEEN(IF(Worksheet!$D$9,-1,0),0),IF(I1852=2,H1852*10^RANDBETWEEN(RANDBETWEEN(0,1),1),CHOOSE(RANDBETWEEN(1,3),5,10,20)))","v":1},{"$f":"IF(I1852=1,D1852,IF(I1852=3,\"%\",\"cm\"))","v":"m"},{"$f":"RANDBETWEEN(1,MIN(9,C1852))","v":1},{"$f":"IF(AND(Worksheet!$D$8,RAND()<0.2),3,IF(RAND()<Worksheet!$D$7/100,1,2))","v":1},{"$f":"IF(I1852=1,C1852-F1852,IF(I1852=2,C1852-F1852/100,IF(I1852=3,(1-F1852/100)*C1852,\"\")))","v":65},{"$f":"CONCATENATE(\" \",D1852)","v":" m"},{"$f":"J1852*100","v":6500},"cm",{"$f":"IF(I1852=1,C1852+F1852,IF(I1852=2,C1852+F1852/100,IF(I1852=3,(1+F1852/100)*C1852,\"\")))","v":67},{"$f":"CONCATENATE(\" \",K1852)","v":"  m"},{"$f":"N1852*100","v":6700},"cm"]
[{"$f":"IF(COUNTIF($B$1:B1853,TRUE)=COUNTIF($B$1:B1852,TRUE),\"\",COUNTIF($B$1:B1853,TRUE))","v":1457},{"$f":"Worksheet!$B$13","v":true},{"$f":"RANDBETWEEN(5,RANDBETWEEN(5,Worksheet!$D$6))","v":32},"km","±",{"$f":"IF(I1853=1,H1853*10^RANDBETWEEN(IF(Worksheet!$D$9,-1,0),0),IF(I1853=2,H1853*10^RANDBETWEEN(RANDBETWEEN(0,2),2),CHOOSE(RANDBETWEEN(1,3),5,10,20)))","v":0.8},{"$f":"IF(I1853=1,D1853,IF(I1853=3,\"%\",\"m\"))","v":"km"},8,{"$f":"IF(AND(Worksheet!$D$8,RAND()<0.2),3,IF(RAND()<Worksheet!$D$7/100,1,2))","v":1},{"$f":"IF(I1853=1,C1853-F1853,IF(I1853=2,C1853-F1853/1000,IF(I1853=3,(1-F1853/100)*C1853,\"\")))","v":31.2}," km",{"$f":"J1853*1000","v":31200},"m",{"$f":"IF(I1853=1,C1853+F1853,IF(I1853=2,C1853+F1853/1000,IF(I1853=3,(1+F1853/100)*C1853,\"\")))","v":32.799999999999997},"  km",{"$f":"N1853*1000","v":32800},"m"]
[{"$f":"IF(COUNTIF($B$1:B1854,TRUE)=COUNTIF($B$1:B1853,TRUE),\"\",COUNTIF($B$1:B1854,TRUE))","v":""},{"$f":"Worksheet!$B$14","v":false},{"$f":"RANDBETWEEN(5,RANDBETWEEN(5,Worksheet!$D$6))","v":154},"m","±",{"$f":"IF(I1854=1,H1854*10^RANDBETWEEN(IF(Worksheet!$D$9,-1,0),0),IF(I1854=2,H1854*10^RANDBETWEEN(RANDBETWEEN(0,2),2),CHOOSE(RANDBETWEEN(1,3),5,10,20)))","v":300},{"$f":"IF(I1854=1,D1854,IF(I1854=3,\"%\",\"mm\"))","v":"mm"},3,{"$f":"IF(AND(Worksheet!$D$8,RAND()<0.2),3,IF(RAND()<Worksheet!$D$7/100,1,2))","v":2},{"$f":"IF(I1854=1,C1854-F1854,IF(I1854=2,C1854-F1854/1000,IF(I1854=3,(1-F1854/100)*C1854,\"\")))","v":153.69999999999999}," m",{"$f":"J1854*1000","v":153700},"mm",{"$f":"IF(I1854=1,C1854+F1854,IF(I1854=2,C1854+F1854/1000,IF(I1854=3,(1+F1854/100)*C1854,\"\")))","v":154.30000000000001},"  m",{"$f":"N1854*1000","v":154300},"mm"]
[{"$f":"IF(COUNTIF($B$1:B1855,TRUE)=COUNTIF($B$1:B1854,TRUE),\"\",COUNTIF($B$1:B1855,TRUE))","v":1458},{"$f":"Worksheet!$B$15","v":true},{"$f":"RANDBETWEEN(5,20)","v":11},"hours","±",{"$f":"IF(I1855=1,H1855*10^RANDBETWEEN(IF(Worksheet!$D$9,-1,0),0),IF(I1855=2,H1855,CHOOSE(RANDBETWEEN(1,3),5,10,20)))","v":4},{"$f":"IF(I1855=1,D1855,IF(I1855=3,\"%\",\"min\"))","v":"hours"},4,{"$f":"IF(AND(Worksheet!$D$8,RAND()<0),3,IF(RAND()<Worksheet!$D$7/100,1,2))","v":1},null," hours",{"$f":"IF(I1855=1,C1855-F1855,IF(I1855=2,C1855*60-F1855,\"\"))","v":7},{"$f":"IF($I1855=1,\" hours\",\" min\")","v":" hours"},null,"  hours",{"$f":"IF(I1855=1,C1855+F1855,IF(I1855=2,C1855*60+F1855,\"\"))","v":15},{"$f":"IF($I1855=1,\" hours\",\" min\")","v":" hours"}]
[{"$f":"IF(COUNTIF($B$1:B1856,TRUE)=COUNTIF($B$1:B1855,TRUE),\"\",COUNTIF($B$1:B1856,TRUE))","v":1459},{"$f":"Worksheet!$D$11","v":true},{"$f":"RANDBETWEEN(5,RANDBETWEEN(5,Worksheet!$D$6))","v":60},"kg","±",{"$f":"IF(I1856=1,H1856*10^RANDBETWEEN(IF(Worksheet!$D$9,-1,0),0),IF(I1856=2,H1856*10^RANDBETWEEN(RANDBETWEEN(0,2),2),CHOOSE(RANDBETWEEN(1,3),5,10,20)))","v":0.8},{"$f":"IF(I1856=1,D1856,IF(I1856=3,\"%\",\"g\"))","v":"kg"},8,{"$f":"IF(AND(Worksheet!$D$8,RAND()<0.2),3,IF(RAND()<Worksheet!$D$7/100,1,2))","v":1},{"$f":"IF(I1856=1,C1856-F1856,IF(I1856=2,C1856-F1856/1000,IF(I1856=3,(1-F1856/100)*C1856,\"\")))","v":59.2}," kg",{"$f":"J1856*1000","v":59200},"g",{"$f":"IF(I1856=1,C1856+F1856,IF(I1856=2,C1856+F1856/1000,IF(I1856=3,(1+F1856/100)*C1856,\"\")))","v":60.8},"  kg",{"$f":"N1856*1000","v":60800},"g"]
[{"$f":"IF(COUNTIF($B$1:B1857,TRUE)=COUNTIF($B$1:B1856,TRUE),\"\",COUNTIF($B$1:B1857,TRUE))","v":1460},{"$f":"Worksheet!$D$12","v":true},{"$f":"RANDBETWEEN(5,RANDBETWEEN(5,Worksheet!$D$6))","v":111},"tonnes","±",{"$f":"IF(I1857=1,H1857*10^RANDBETWEEN(IF(Worksheet!$D$9,-1,0),0),IF(I1857=2,H1857*10^RANDBETWEEN(RANDBETWEEN(0,2),2),CHOOSE(RANDBETWEEN(1,3),5,10,20)))","v":5},{"$f":"IF(I1857=1,D1857,IF(I1857=3,\"%\",\"kg\"))","v":"%"},8,{"$f":"IF(AND(Worksheet!$D$8,RAND()<0.2),3,IF(RAND()<Worksheet!$D$7/100,1,2))","v":3},{"$f":"IF(I1857=1,C1857-F1857,IF(I1857=2,C1857-F1857/1000,IF(I1857=3,(1-F1857/100)*C1857,\"\")))","v":105.44999999999999}," tonnes",{"$f":"J1857*1000","v":105449.99999999999},"kg",{"$f":"IF(I1857=1,C1857+F1857,IF(I1857=2,C1857+F1857/1000,IF(I1857=3,(1+F1857/100)*C1857,\"\")))","v":116.55000000000001},"  tonnes",{"$f":"N1857*1000","v":116550.00000000001},"kg"]
[{"$f":"IF(COUNTIF($B$1:B1858,TRUE)=COUNTIF($B$1:B1857,TRUE),\"\",COUNTIF($B$1:B1858,TRUE))","v":1461},{"$f":"Worksheet!$D$13","v":true},{"$f":"RANDBETWEEN(5,RANDBETWEEN(5,Worksheet!$D$6))","v":6},"litres","±",{"$f":"IF(I1858=1,H1858*10^RANDBETWEEN(IF(Worksheet!$D$9,-1,0),0),IF(I1858=2,H1858*10^RANDBETWEEN(RANDBETWEEN(0,2),2),CHOOSE(RANDBETWEEN(1,3),5,10,20)))","v":10},{"$f":"IF(I1858=1,D1858,IF(I1858=3,\"%\",\"ml\"))","v":"ml"},1,{"$f":"IF(AND(Worksheet!$D$8,RAND()<0.2),3,IF(RAND()<Worksheet!$D$7/100,1,2))","v":2},{"$f":"IF(I1858=1,C1858-F1858,IF(I1858=2,C1858-F1858/1000,IF(I1858=3,(1-F1858/100)*C1858,\"\")))","v":5.99}," litres",{"$f":"J1858*1000","v":5990},"ml",{"$f":"IF(I1858=1,C1858+F1858,IF(I1858=2,C1858+F1858/1000,IF(I1858=3,(1+F1858/100)*C1858,\"\")))","v":6.01},"  litres",{"$f":"N1858*1000","v":6010},"ml"]
[{"$f":"IF(COUNTIF($B$1:B1859,TRUE)=COUNTIF($B$1:B1858,TRUE),\"\",COUNTIF($B$1:B1859,TRUE))","v":1462},{"$f":"Worksheet!$D$14","v":true},{"$f":"RANDBETWEEN(5,RANDBETWEEN(5,Worksheet!$D$6))","v":14},"litres","±",{"$f":"IF(I1859=1,H1859*10^RANDBETWEEN(IF(Worksheet!$D$9,-1,0),0),IF(I1859=2,H1859*10^RANDBETWEEN(RANDBETWEEN(0,2),2),CHOOSE(RANDBETWEEN(1,3),5,10,20)))","v":5},{"$f":"IF(I1859=1,D1859,IF(I1859=3,\"%\",\"cm³\"))","v":"%"},7,{"$f":"IF(AND(Worksheet!$D$8,RAND()<0.2),3,IF(RAND()<Worksheet!$D$7/100,1,2))","v":3},{"$f":"IF(I1859=1,C1859-F1859,IF(I1859=2,C1859-F1859/1000,IF(I1859=3,(1-F1859/100)*C1859,\"\")))","v":13.299999999999999}," litres",{"$f":"J1859*1000","v":13299.999999999998},"cm³",{"$f":"IF(I1859=1,C1859+F1859,IF(I1859=2,C1859+F1859/1000,IF(I1859=3,(1+F1859/100)*C1859,\"\")))","v":14.700000000000001},"  litres",{"$f":"N1859*1000","v":14700.000000000002},"cm³"]
[{"$f":"IF(COUNTIF($B$1:B1860,TRUE)=COUNTIF($B$1:B1859,TRUE),\"\",COUNTIF($B$1:B1860,TRUE))","v":""},{"$f":"Worksheet!$D$15","v":false},{"$f":"RANDBETWEEN(5,20)","v":7},"min","±",{"$f":"IF(I1860=1,H1860*10^RANDBETWEEN(IF(Worksheet!$D$9,-1,0),0),IF(I1860=2,H1860,CHOOSE(RANDBETWEEN(1,3),5,10,20)))","v":2},{"$f":"IF(I1860=1,D1860,IF(I1860=3,\"%\",\"sec\"))","v":"min"},2,{"$f":"IF(AND(Worksheet!$D$8,RAND()<0),3,IF(RAND()<Worksheet!$D$7/100,1,2))","v":1},null," min",{"$f":"IF(I1860=1,C1860-F1860,IF(I1860=2,C1860*60-F1860,\"\"))","v":5},{"$f":"IF($I1860=1,\" hours\",\" min\")","v":" hours"},null,"  min",{"$f":"IF(I1860=1,C1860+F1860,IF(I1860=2,C1860*60+F1860,\"\"))","v":9},{"$f":"IF($I1860=1,\" hours\",\" min\")","v":" hours"}]
[{"$f":"COUNTIF($B$1:B1861,TRUE)","v":1463},{"$f":"Worksheet!$B$11","v":true},{"$f":"RANDBETWEEN(5,RANDBETWEEN(5,Worksheet!$D$6))","v":29},"cm","±",{"$f":"IF(I1861=1,H1861*10^RANDBETWEEN(IF(Worksheet!$D$9,-1,0),0),IF(I1861=2,H1861,CHOOSE(RANDBETWEEN(1,3),5,10,20)))","v":9},{"$f":"IF(I1861=1,D1861,IF(I1861=3,\"%\",\"mm\"))","v":"mm"},{"$f":"RANDBETWEEN(1,MIN(9,C1861))","v":9},{"$f":"IF(AND(Worksheet!$D$8,RAND()<0.2),3,IF(RAND()<Worksheet!$D$7/100,1,2))","v":2},{"$f":"IF(I1861=1,C1861-F1861,IF(I1861=2,C1861-F1861/10,IF(I1861=3,(1-F1861/100)*C1861,\"\")))","v":28.1},{"$f":"CONCATENATE(\" \",D1861)","v":" cm"},{"$f":"J1861*10","v":281},"mm",{"$f":"IF(I1861=1,C1861+F1861,IF(I1861=2,C1861+F1861/10,IF(I1861=3,(1+F1861/100)*C1861,\"\")))","v":29.9},{"$f":"CONCATENATE(\" \",K1861)","v":"  cm"},{"$f":"N1861*10","v":299},"mm"]
[{"$f":"IF(COUNTIF($B$1:B1862,TRUE)=COUNTIF($B$1:B1861,TRUE),\"\",COUNTIF($B$1:B1862,TRUE))","v":1464},{"$f":"Worksheet!$B$12","v":true},{"$f":"RANDBETWEEN(5,RANDBETWEEN(5,Worksheet!$D$6))","v":96},"m","±",{"$f":"IF(I1862=1,H1862*10^RANDBETWEEN(IF(Worksheet!$D$9,-1,0),0),IF(I1862=2,H1862*10^RANDBETWEEN(RANDBETWEEN(0,1),1),CHOOSE(RANDBETWEEN(1,3),5,10,20)))","v":3},{"$f":"IF(I1862=1,D1862,IF(I1862=3,\"%\",\"cm\"))","v":"m"},{"$f":"RANDBETWEEN(1,MIN(9,C1862))","v":3},{"$f":"IF(AND(Worksheet!$D$8,RAND()<0.2),3,IF(RAND()<Worksheet!$D$7/100,1,2))","v":1},{"$f":"IF(I1862=1,C1862-F1862,IF(I1862=2,C1862-F1862/100,IF(I1862=3,(1-F1862/100)*C1862,\"\")))","v":93},{"$f":"CONCATENATE(\" \",D1862)","v":" m"},{"$f":"J1862*100","v":9300},"cm",{"$f":"IF(I1862=1,C1862+F1862,IF(I1862=2,C1862+F1862/100,IF(I1862=3,(1+F1862/100)*C1862,\"\")))","v":99},{"$f":"CONCATENATE(\" \",K1862)","v":"  m"},{"$f":"N1862*100","v":9900},"cm"]
[{"$f":"IF(COUNTIF($B$1:B1863,TRUE)=COUNTIF($B$1:B1862,TRUE),\"\",COUNTIF($B$1:B1863,TRUE))","v":1465},{"$f":"Worksheet!$B$13","v":true},{"$f":"RANDBETWEEN(5,RANDBETWEEN(5,Worksheet!$D$6))","v":46},"km","±",{"$f":"IF(I1863=1,H1863*10^RANDBETWEEN(IF(Worksheet!$D$9,-1,0),0),IF(I1863=2,H1863*10^RANDBETWEEN(RANDBETWEEN(0,2),2),CHOOSE(RANDBETWEEN(1,3),5,10,20)))","v":2},{"$f":"IF(I1863=1,D1863,IF(I1863=3,\"%\",\"m\"))","v":"km"},2,{"$f":"IF(AND(Worksheet!$D$8,RAND()<0.2),3,IF(RAND()<Worksheet!$D$7/100,1,2))","v":1},{"$f":"IF(I1863=1,C1863-F1863,IF(I1863=2,C1863-F1863/1000,IF(I1863=3,(1-F1863/100)*C1863,\"\")))","v":44}," km",{"$f":"J1863*1000","v":44000},"m",{"$f":"IF(I1863=1,C1863+F1863,IF(I1863=2,C1863+F1863/1000,IF(I1863=3,(1+F1863/100)*C1863,\"\")))","v":48},"  km",{"$f":"N1863*1000","v":48000},"m"]
[{"$f":"IF(COUNTIF($B$1:B1864,TRUE)=COUNTIF($B$1:B1863,TRUE),\"\",COUNTIF($B$1:B1864,TRUE))","v":""},{"$f":"Worksheet!$B$14","v":false},{"$f":"RANDBETWEEN(5,RANDBETWEEN(5,Worksheet!$D$6))","v":12},"m","±",{"$f":"IF(I1864=1,H1864*10^RANDBETWEEN(IF(Worksheet!$D$9,-1,0),0),IF(I1864=2,H1864*10^RANDBETWEEN(RANDBETWEEN(0,2),2),CHOOSE(RANDBETWEEN(1,3),5,10,20)))","v":0.30000000000000004},{"$f":"IF(I1864=1,D1864,IF(I1864=3,\"%\",\"mm\"))","v":"m"},3,{"$f":"IF(AND(Worksheet!$D$8,RAND()<0.2),3,IF(RAND()<Worksheet!$D$7/100,1,2))","v":1},{"$f":"IF(I1864=1,C1864-F1864,IF(I1864=2,C1864-F1864/1000,IF(I1864=3,(1-F1864/100)*C1864,\"\")))","v":11.7}," m",{"$f":"J1864*1000","v":11700},"mm",{"$f":"IF(I1864=1,C1864+F1864,IF(I1864=2,C1864+F1864/1000,IF(I1864=3,(1+F1864/100)*C1864,\"\")))","v":12.3},"  m",{"$f":"N1864*1000","v":12300},"mm"]
[{"$f":"IF(COUNTIF($B$1:B1865,TRUE)=COUNTIF($B$1:B1864,TRUE),\"\",COUNTIF($B$1:B1865,TRUE))","v":1466},{"$f":"Worksheet!$B$15","v":true},{"$f":"RANDBETWEEN(5,20)","v":15},"hours","±",{"$f":"IF(I1865=1,H1865*10^RANDBETWEEN(IF(Worksheet!$D$9,-1,0),0),IF(I1865=2,H1865,CHOOSE(RANDBETWEEN(1,3),5,10,20)))","v":8},{"$f":"IF(I1865=1,D1865,IF(I1865=3,\"%\",\"min\"))","v":"hours"},8,{"$f":"IF(AND(Worksheet!$D$8,RAND()<0),3,IF(RAND()<Worksheet!$D$7/100,1,2))","v":1},null," hours",{"$f":"IF(I1865=1,C1865-F1865,IF(I1865=2,C1865*60-F1865,\"\"))","v":7},{"$f":"IF($I1865=1,\" hours\",\" min\")","v":" hours"},null,"  hours",{"$f":"IF(I1865=1,C1865+F1865,IF(I1865=2,C1865*60+F1865,\"\"))","v":23},{"$f":"IF($I1865=1,\" hours\",\" min\")","v":" hours"}]
[{"$f":"IF(COUNTIF($B$1:B1866,TRUE)=COUNTIF($B$1:B1865,TRUE),\"\",COUNTIF($B$1:B1866,TRUE))","v":1467},{"$f":"Worksheet!$D$11","v":true},{"$f":"RANDBETWEEN(5,RANDBETWEEN(5,Worksheet!$D$6))","v":147},"kg","±",{"$f":"IF(I1866=1,H1866*10^RANDBETWEEN(IF(Worksheet!$D$9,-1,0),0),IF(I1866=2,H1866*10^RANDBETWEEN(RANDBETWEEN(0,2),2),CHOOSE(RANDBETWEEN(1,3),5,10,20)))","v":0.30000000000000004},{"$f":"IF(I1866=1,D1866,IF(I1866=3,\"%\",\"g\"))","v":"kg"},3,{"$f":"IF(AND(Worksheet!$D$8,RAND()<0.2),3,IF(RAND()<Worksheet!$D$7/100,1,2))","v":1},{"$f":"IF(I1866=1,C1866-F1866,IF(I1866=2,C1866-F1866/1000,IF(I1866=3,(1-F1866/100)*C1866,\"\")))","v":146.69999999999999}," kg",{"$f":"J1866*1000","v":146700},"g",{"$f":"IF(I1866=1,C1866+F1866,IF(I1866=2,C1866+F1866/1000,IF(I1866=3,(1+F1866/100)*C1866,\"\")))","v":147.30000000000001},"  kg",{"$f":"N1866*1000","v":147300},"g"]
[{"$f":"IF(COUNTIF($B$1:B1867,TRUE)=COUNTIF($B$1:B1866,TRUE),\"\",COUNTIF($B$1:B1867,TRUE))","v":1468},{"$f":"Worksheet!$D$12","v":true},{"$f":"RANDBETWEEN(5,RANDBETWEEN(5,Worksheet!$D$6))","v":127},"tonnes","±",{"$f":"IF(I1867=1,H1867*10^RANDBETWEEN(IF(Worksheet!$D$9,-1,0),0),IF(I1867=2,H1867*10^RANDBETWEEN(RANDBETWEEN(0,2),2),CHOOSE(RANDBETWEEN(1,3),5,10,20)))","v":0.70000000000000007},{"$f":"IF(I1867=1,D1867,IF(I1867=3,\"%\",\"kg\"))","v":"tonnes"},7,{"$f":"IF(AND(Worksheet!$D$8,RAND()<0.2),3,IF(RAND()<Worksheet!$D$7/100,1,2))","v":1},{"$f":"IF(I1867=1,C1867-F1867,IF(I1867=2,C1867-F1867/1000,IF(I1867=3,(1-F1867/100)*C1867,\"\")))","v":126.3}," tonnes",{"$f":"J1867*1000","v":126300},"kg",{"$f":"IF(I1867=1,C1867+F1867,IF(I1867=2,C1867+F1867/1000,IF(I1867=3,(1+F1867/100)*C1867,\"\")))","v":127.7},"  tonnes",{"$f":"N1867*1000","v":127700},"kg"]
[{"$f":"IF(COUNTIF($B$1:B1868,TRUE)=COUNTIF($B$1:B1867,TRUE),\"\",COUNTIF($B$1:B1868,TRUE))","v":1469},{"$f":"Worksheet!$D$13","v":true},{"$f":"RANDBETWEEN(5,RANDBETWEEN(5,Worksheet!$D$6))","v":143},"litres","±",{"$f":"IF(I1868=1,H1868*10^RANDBETWEEN(IF(Worksheet!$D$9,-1,0),0),IF(I1868=2,H1868*10^RANDBETWEEN(RANDBETWEEN(0,2),2),CHOOSE(RANDBETWEEN(1,3),5,10,20)))","v":200},{"$f":"IF(I1868=1,D1868,IF(I1868=3,\"%\",\"ml\"))","v":"ml"},2,{"$f":"IF(AND(Worksheet!$D$8,RAND()<0.2),3,IF(RAND()<Worksheet!$D$7/100,1,2))","v":2},{"$f":"IF(I1868=1,C1868-F1868,IF(I1868=2,C1868-F1868/1000,IF(I1868=3,(1-F1868/100)*C1868,\"\")))","v":142.80000000000001}," litres",{"$f":"J1868*1000","v":142800},"ml",{"$f":"IF(I1868=1,C1868+F1868,IF(I1868=2,C1868+F1868/1000,IF(I1868=3,(1+F1868/100)*C1868,\"\")))","v":143.19999999999999},"  litres",{"$f":"N1868*1000","v":143200},"ml"]
[{"$f":"IF(COUNTIF($B$1:B1869,TRUE)=COUNTIF($B$1:B1868,TRUE),\"\",COUNTIF($B$1:B1869,TRUE))","v":1470},{"$f":"Worksheet!$D$14","v":true},{"$f":"RANDBETWEEN(5,RANDBETWEEN(5,Worksheet!$D$6))","v":42},"litres","±",{"$f":"IF(I1869=1,H1869*10^RANDBETWEEN(IF(Worksheet!$D$9,-1,0),0),IF(I1869=2,H1869*10^RANDBETWEEN(RANDBETWEEN(0,2),2),CHOOSE(RANDBETWEEN(1,3),5,10,20)))","v":20},{"$f":"IF(I1869=1,D1869,IF(I1869=3,\"%\",\"cm³\"))","v":"%"},8,{"$f":"IF(AND(Worksheet!$D$8,RAND()<0.2),3,IF(RAND()<Worksheet!$D$7/100,1,2))","v":3},{"$f":"IF(I1869=1,C1869-F1869,IF(I1869=2,C1869-F1869/1000,IF(I1869=3,(1-F1869/100)*C1869,\"\")))","v":33.6}," litres",{"$f":"J1869*1000","v":33600},"cm³",{"$f":"IF(I1869=1,C1869+F1869,IF(I1869=2,C1869+F1869/1000,IF(I1869=3,(1+F1869/100)*C1869,\"\")))","v":50.4},"  litres",{"$f":"N1869*1000","v":50400},"cm³"]
[{"$f":"IF(COUNTIF($B$1:B1870,TRUE)=COUNTIF($B$1:B1869,TRUE),\"\",COUNTIF($B$1:B1870,TRUE))","v":""},{"$f":"Worksheet!$D$15","v":false},{"$f":"RANDBETWEEN(5,20)","v":7},"min","±",{"$f":"IF(I1870=1,H1870*10^RANDBETWEEN(IF(Worksheet!$D$9,-1,0),0),IF(I1870=2,H1870,CHOOSE(RANDBETWEEN(1,3),5,10,20)))","v":5},{"$f":"IF(I1870=1,D1870,IF(I1870=3,\"%\",\"sec\"))","v":"sec"},5,{"$f":"IF(AND(Worksheet!$D$8,RAND()<0),3,IF(RAND()<Worksheet!$D$7/100,1,2))","v":2},null," min",{"$f":"IF(I1870=1,C1870-F1870,IF(I1870=2,C1870*60-F1870,\"\"))","v":415},{"$f":"IF($I1870=1,\" hours\",\" min\")","v":" min"},null,"  min",{"$f":"IF(I1870=1,C1870+F1870,IF(I1870=2,C1870*60+F1870,\"\"))","v":425},{"$f":"IF($I1870=1,\" hours\",\" min\")","v":" min"}]
[{"$f":"COUNTIF($B$1:B1871,TRUE)","v":1471},{"$f":"Worksheet!$B$11","v":true},{"$f":"RANDBETWEEN(5,RANDBETWEEN(5,Worksheet!$D$6))","v":241},"cm","±",{"$f":"IF(I1871=1,H1871*10^RANDBETWEEN(IF(Worksheet!$D$9,-1,0),0),IF(I1871=2,H1871,CHOOSE(RANDBETWEEN(1,3),5,10,20)))","v":7},{"$f":"IF(I1871=1,D1871,IF(I1871=3,\"%\",\"mm\"))","v":"mm"},{"$f":"RANDBETWEEN(1,MIN(9,C1871))","v":7},{"$f":"IF(AND(Worksheet!$D$8,RAND()<0.2),3,IF(RAND()<Worksheet!$D$7/100,1,2))","v":2},{"$f":"IF(I1871=1,C1871-F1871,IF(I1871=2,C1871-F1871/10,IF(I1871=3,(1-F1871/100)*C1871,\"\")))","v":240.3},{"$f":"CONCATENATE(\" \",D1871)","v":" cm"},{"$f":"J1871*10","v":2403},"mm",{"$f":"IF(I1871=1,C1871+F1871,IF(I1871=2,C1871+F1871/10,IF(I1871=3,(1+F1871/100)*C1871,\"\")))","v":241.7},{"$f":"CONCATENATE(\" \",K1871)","v":"  cm"},{"$f":"N1871*10","v":2417},"mm"]
[{"$f":"IF(COUNTIF($B$1:B1872,TRUE)=COUNTIF($B$1:B1871,TRUE),\"\",COUNTIF($B$1:B1872,TRUE))","v":1472},{"$f":"Worksheet!$B$12","v":true},{"$f":"RANDBETWEEN(5,RANDBETWEEN(5,Worksheet!$D$6))","v":52},"m","±",{"$f":"IF(I1872=1,H1872*10^RANDBETWEEN(IF(Worksheet!$D$9,-1,0),0),IF(I1872=2,H1872*10^RANDBETWEEN(RANDBETWEEN(0,1),1),CHOOSE(RANDBETWEEN(1,3),5,10,20)))","v":0.30000000000000004},{"$f":"IF(I1872=1,D1872,IF(I1872=3,\"%\",\"cm\"))","v":"m"},{"$f":"RANDBETWEEN(1,MIN(9,C1872))","v":3},{"$f":"IF(AND(Worksheet!$D$8,RAND()<0.2),3,IF(RAND()<Worksheet!$D$7/100,1,2))","v":1},{"$f":"IF(I1872=1,C1872-F1872,IF(I1872=2,C1872-F1872/100,IF(I1872=3,(1-F1872/100)*C1872,\"\")))","v":51.7},{"$f":"CONCATENATE(\" \",D1872)","v":" m"},{"$f":"J1872*100","v":5170},"cm",{"$f":"IF(I1872=1,C1872+F1872,IF(I1872=2,C1872+F1872/100,IF(I1872=3,(1+F1872/100)*C1872,\"\")))","v":52.3},{"$f":"CONCATENATE(\" \",K1872)","v":"  m"},{"$f":"N1872*100","v":5230},"cm"]
[{"$f":"IF(COUNTIF($B$1:B1873,TRUE)=COUNTIF($B$1:B1872,TRUE),\"\",COUNTIF($B$1:B1873,TRUE))","v":1473},{"$f":"Worksheet!$B$13","v":true},{"$f":"RANDBETWEEN(5,RANDBETWEEN(5,Worksheet!$D$6))","v":59},"km","±",{"$f":"IF(I1873=1,H1873*10^RANDBETWEEN(IF(Worksheet!$D$9,-1,0),0),IF(I1873=2,H1873*10^RANDBETWEEN(RANDBETWEEN(0,2),2),CHOOSE(RANDBETWEEN(1,3),5,10,20)))","v":0.5},{"$f":"IF(I1873=1,D1873,IF(I1873=3,\"%\",\"m\"))","v":"km"},5,{"$f":"IF(AND(Worksheet!$D$8,RAND()<0.2),3,IF(RAND()<Worksheet!$D$7/100,1,2))","v":1},{"$f":"IF(I1873=1,C1873-F1873,IF(I1873=2,C1873-F1873/1000,IF(I1873=3,(1-F1873/100)*C1873,\"\")))","v":58.5}," km",{"$f":"J1873*1000","v":58500},"m",{"$f":"IF(I1873=1,C1873+F1873,IF(I1873=2,C1873+F1873/1000,IF(I1873=3,(1+F1873/100)*C1873,\"\")))","v":59.5},"  km",{"$f":"N1873*1000","v":59500},"m"]
[{"$f":"IF(COUNTIF($B$1:B1874,TRUE)=COUNTIF($B$1:B1873,TRUE),\"\",COUNTIF($B$1:B1874,TRUE))","v":""},{"$f":"Worksheet!$B$14","v":false},{"$f":"RANDBETWEEN(5,RANDBETWEEN(5,Worksheet!$D$6))","v":6},"m","±",{"$f":"IF(I1874=1,H1874*10^RANDBETWEEN(IF(Worksheet!$D$9,-1,0),0),IF(I1874=2,H1874*10^RANDBETWEEN(RANDBETWEEN(0,2),2),CHOOSE(RANDBETWEEN(1,3),5,10,20)))","v":4},{"$f":"IF(I1874=1,D1874,IF(I1874=3,\"%\",\"mm\"))","v":"m"},4,{"$f":"IF(AND(Worksheet!$D$8,RAND()<0.2),3,IF(RAND()<Worksheet!$D$7/100,1,2))","v":1},{"$f":"IF(I1874=1,C1874-F1874,IF(I1874=2,C1874-F1874/1000,IF(I1874=3,(1-F1874/100)*C1874,\"\")))","v":2}," m",{"$f":"J1874*1000","v":2000},"mm",{"$f":"IF(I1874=1,C1874+F1874,IF(I1874=2,C1874+F1874/1000,IF(I1874=3,(1+F1874/100)*C1874,\"\")))","v":10},"  m",{"$f":"N1874*1000","v":10000},"mm"]
[{"$f":"IF(COUNTIF($B$1:B1875,TRUE)=COUNTIF($B$1:B1874,TRUE),\"\",COUNTIF($B$1:B1875,TRUE))","v":1474},{"$f":"Worksheet!$B$15","v":true},{"$f":"RANDBETWEEN(5,20)","v":20},"hours","±",{"$f":"IF(I1875=1,H1875*10^RANDBETWEEN(IF(Worksheet!$D$9,-1,0),0),IF(I1875=2,H1875,CHOOSE(RANDBETWEEN(1,3),5,10,20)))","v":5},{"$f":"IF(I1875=1,D1875,IF(I1875=3,\"%\",\"min\"))","v":"hours"},5,{"$f":"IF(AND(Worksheet!$D$8,RAND()<0),3,IF(RAND()<Worksheet!$D$7/100,1,2))","v":1},null," hours",{"$f":"IF(I1875=1,C1875-F1875,IF(I1875=2,C1875*60-F1875,\"\"))","v":15},{"$f":"IF($I1875=1,\" hours\",\" min\")","v":" hours"},null,"  hours",{"$f":"IF(I1875=1,C1875+F1875,IF(I1875=2,C1875*60+F1875,\"\"))","v":25},{"$f":"IF($I1875=1,\" hours\",\" min\")","v":" hours"}]
[{"$f":"IF(COUNTIF($B$1:B1876,TRUE)=COUNTIF($B$1:B1875,TRUE),\"\",COUNTIF($B$1:B1876,TRUE))","v":1475},{"$f":"Worksheet!$D$11","v":true},{"$f":"RANDBETWEEN(5,RANDBETWEEN(5,Worksheet!$D$6))","v":164},"kg","±",{"$f":"IF(I1876=1,H1876*10^RANDBETWEEN(IF(Worksheet!$D$9,-1,0),0),IF(I1876=2,H1876*10^RANDBETWEEN(RANDBETWEEN(0,2),2),CHOOSE(RANDBETWEEN(1,3),5,10,20)))","v":6},{"$f":"IF(I1876=1,D1876,IF(I1876=3,\"%\",\"g\"))","v":"kg"},6,{"$f":"IF(AND(Worksheet!$D$8,RAND()<0.2),3,IF(RAND()<Worksheet!$D$7/100,1,2))","v":1},{"$f":"IF(I1876=1,C1876-F1876,IF(I1876=2,C1876-F1876/1000,IF(I1876=3,(1-F1876/100)*C1876,\"\")))","v":158}," kg",{"$f":"J1876*1000","v":158000},"g",{"$f":"IF(I1876=1,C1876+F1876,IF(I1876=2,C1876+F1876/1000,IF(I1876=3,(1+F1876/100)*C1876,\"\")))","v":170},"  kg",{"$f":"N1876*1000","v":170000},"g"]
[{"$f":"IF(COUNTIF($B$1:B1877,TRUE)=COUNTIF($B$1:B1876,TRUE),\"\",COUNTIF($B$1:B1877,TRUE))","v":1476},{"$f":"Worksheet!$D$12","v":true},{"$f":"RANDBETWEEN(5,RANDBETWEEN(5,Worksheet!$D$6))","v":8},"tonnes","±",{"$f":"IF(I1877=1,H1877*10^RANDBETWEEN(IF(Worksheet!$D$9,-1,0),0),IF(I1877=2,H1877*10^RANDBETWEEN(RANDBETWEEN(0,2),2),CHOOSE(RANDBETWEEN(1,3),5,10,20)))","v":4},{"$f":"IF(I1877=1,D1877,IF(I1877=3,\"%\",\"kg\"))","v":"tonnes"},4,{"$f":"IF(AND(Worksheet!$D$8,RAND()<0.2),3,IF(RAND()<Worksheet!$D$7/100,1,2))","v":1},{"$f":"IF(I1877=1,C1877-F1877,IF(I1877=2,C1877-F1877/1000,IF(I1877=3,(1-F1877/100)*C1877,\"\")))","v":4}," tonnes",{"$f":"J1877*1000","v":4000},"kg",{"$f":"IF(I1877=1,C1877+F1877,IF(I1877=2,C1877+F1877/1000,IF(I1877=3,(1+F1877/100)*C1877,\"\")))","v":12},"  tonnes",{"$f":"N1877*1000","v":12000},"kg"]
[{"$f":"IF(COUNTIF($B$1:B1878,TRUE)=COUNTIF($B$1:B1877,TRUE),\"\",COUNTIF($B$1:B1878,TRUE))","v":1477},{"$f":"Worksheet!$D$13","v":true},{"$f":"RANDBETWEEN(5,RANDBETWEEN(5,Worksheet!$D$6))","v":5},"litres","±",{"$f":"IF(I1878=1,H1878*10^RANDBETWEEN(IF(Worksheet!$D$9,-1,0),0),IF(I1878=2,H1878*10^RANDBETWEEN(RANDBETWEEN(0,2),2),CHOOSE(RANDBETWEEN(1,3),5,10,20)))","v":5},{"$f":"IF(I1878=1,D1878,IF(I1878=3,\"%\",\"ml\"))","v":"%"},2,{"$f":"IF(AND(Worksheet!$D$8,RAND()<0.2),3,IF(RAND()<Worksheet!$D$7/100,1,2))","v":3},{"$f":"IF(I1878=1,C1878-F1878,IF(I1878=2,C1878-F1878/1000,IF(I1878=3,(1-F1878/100)*C1878,\"\")))","v":4.75}," litres",{"$f":"J1878*1000","v":4750},"ml",{"$f":"IF(I1878=1,C1878+F1878,IF(I1878=2,C1878+F1878/1000,IF(I1878=3,(1+F1878/100)*C1878,\"\")))","v":5.25},"  litres",{"$f":"N1878*1000","v":5250},"ml"]
[{"$f":"IF(COUNTIF($B$1:B1879,TRUE)=COUNTIF($B$1:B1878,TRUE),\"\",COUNTIF($B$1:B1879,TRUE))","v":1478},{"$f":"Worksheet!$D$14","v":true},{"$f":"RANDBETWEEN(5,RANDBETWEEN(5,Worksheet!$D$6))","v":201},"litres","±",{"$f":"IF(I1879=1,H1879*10^RANDBETWEEN(IF(Worksheet!$D$9,-1,0),0),IF(I1879=2,H1879*10^RANDBETWEEN(RANDBETWEEN(0,2),2),CHOOSE(RANDBETWEEN(1,3),5,10,20)))","v":3},{"$f":"IF(I1879=1,D1879,IF(I1879=3,\"%\",\"cm³\"))","v":"litres"},3,{"$f":"IF(AND(Worksheet!$D$8,RAND()<0.2),3,IF(RAND()<Worksheet!$D$7/100,1,2))","v":1},{"$f":"IF(I1879=1,C1879-F1879,IF(I1879=2,C1879-F1879/1000,IF(I1879=3,(1-F1879/100)*C1879,\"\")))","v":198}," litres",{"$f":"J1879*1000","v":198000},"cm³",{"$f":"IF(I1879=1,C1879+F1879,IF(I1879=2,C1879+F1879/1000,IF(I1879=3,(1+F1879/100)*C1879,\"\")))","v":204},"  litres",{"$f":"N1879*1000","v":204000},"cm³"]
[{"$f":"IF(COUNTIF($B$1:B1880,TRUE)=COUNTIF($B$1:B1879,TRUE),\"\",COUNTIF($B$1:B1880,TRUE))","v":""},{"$f":"Worksheet!$D$15","v":false},{"$f":"RANDBETWEEN(5,20)","v":7},"min","±",{"$f":"IF(I1880=1,H1880*10^RANDBETWEEN(IF(Worksheet!$D$9,-1,0),0),IF(I1880=2,H1880,CHOOSE(RANDBETWEEN(1,3),5,10,20)))","v":3},{"$f":"IF(I1880=1,D1880,IF(I1880=3,\"%\",\"sec\"))","v":"min"},3,{"$f":"IF(AND(Worksheet!$D$8,RAND()<0),3,IF(RAND()<Worksheet!$D$7/100,1,2))","v":1},null," min",{"$f":"IF(I1880=1,C1880-F1880,IF(I1880=2,C1880*60-F1880,\"\"))","v":4},{"$f":"IF($I1880=1,\" hours\",\" min\")","v":" hours"},null,"  min",{"$f":"IF(I1880=1,C1880+F1880,IF(I1880=2,C1880*60+F1880,\"\"))","v":10},{"$f":"IF($I1880=1,\" hours\",\" min\")","v":" hours"}]
[{"$f":"COUNTIF($B$1:B1881,TRUE)","v":1479},{"$f":"Worksheet!$B$11","v":true},{"$f":"RANDBETWEEN(5,RANDBETWEEN(5,Worksheet!$D$6))","v":7},"cm","±",{"$f":"IF(I1881=1,H1881*10^RANDBETWEEN(IF(Worksheet!$D$9,-1,0),0),IF(I1881=2,H1881,CHOOSE(RANDBETWEEN(1,3),5,10,20)))","v":5},{"$f":"IF(I1881=1,D1881,IF(I1881=3,\"%\",\"mm\"))","v":"mm"},{"$f":"RANDBETWEEN(1,MIN(9,C1881))","v":5},{"$f":"IF(AND(Worksheet!$D$8,RAND()<0.2),3,IF(RAND()<Worksheet!$D$7/100,1,2))","v":2},{"$f":"IF(I1881=1,C1881-F1881,IF(I1881=2,C1881-F1881/10,IF(I1881=3,(1-F1881/100)*C1881,\"\")))","v":6.5},{"$f":"CONCATENATE(\" \",D1881)","v":" cm"},{"$f":"J1881*10","v":65},"mm",{"$f":"IF(I1881=1,C1881+F1881,IF(I1881=2,C1881+F1881/10,IF(I1881=3,(1+F1881/100)*C1881,\"\")))","v":7.5},{"$f":"CONCATENATE(\" \",K1881)","v":"  cm"},{"$f":"N1881*10","v":75},"mm"]
[{"$f":"IF(COUNTIF($B$1:B1882,TRUE)=COUNTIF($B$1:B1881,TRUE),\"\",COUNTIF($B$1:B1882,TRUE))","v":1480},{"$f":"Worksheet!$B$12","v":true},{"$f":"RANDBETWEEN(5,RANDBETWEEN(5,Worksheet!$D$6))","v":225},"m","±",{"$f":"IF(I1882=1,H1882*10^RANDBETWEEN(IF(Worksheet!$D$9,-1,0),0),IF(I1882=2,H1882*10^RANDBETWEEN(RANDBETWEEN(0,1),1),CHOOSE(RANDBETWEEN(1,3),5,10,20)))","v":9},{"$f":"IF(I1882=1,D1882,IF(I1882=3,\"%\",\"cm\"))","v":"m"},{"$f":"RANDBETWEEN(1,MIN(9,C1882))","v":9},{"$f":"IF(AND(Worksheet!$D$8,RAND()<0.2),3,IF(RAND()<Worksheet!$D$7/100,1,2))","v":1},{"$f":"IF(I1882=1,C1882-F1882,IF(I1882=2,C1882-F1882/100,IF(I1882=3,(1-F1882/100)*C1882,\"\")))","v":216},{"$f":"CONCATENATE(\" \",D1882)","v":" m"},{"$f":"J1882*100","v":21600},"cm",{"$f":"IF(I1882=1,C1882+F1882,IF(I1882=2,C1882+F1882/100,IF(I1882=3,(1+F1882/100)*C1882,\"\")))","v":234},{"$f":"CONCATENATE(\" \",K1882)","v":"  m"},{"$f":"N1882*100","v":23400},"cm"]
[{"$f":"IF(COUNTIF($B$1:B1883,TRUE)=COUNTIF($B$1:B1882,TRUE),\"\",COUNTIF($B$1:B1883,TRUE))","v":1481},{"$f":"Worksheet!$B$13","v":true},{"$f":"RANDBETWEEN(5,RANDBETWEEN(5,Worksheet!$D$6))","v":335},"km","±",{"$f":"IF(I1883=1,H1883*10^RANDBETWEEN(IF(Worksheet!$D$9,-1,0),0),IF(I1883=2,H1883*10^RANDBETWEEN(RANDBETWEEN(0,2),2),CHOOSE(RANDBETWEEN(1,3),5,10,20)))","v":1},{"$f":"IF(I1883=1,D1883,IF(I1883=3,\"%\",\"m\"))","v":"km"},1,{"$f":"IF(AND(Worksheet!$D$8,RAND()<0.2),3,IF(RAND()<Worksheet!$D$7/100,1,2))","v":1},{"$f":"IF(I1883=1,C1883-F1883,IF(I1883=2,C1883-F1883/1000,IF(I1883=3,(1-F1883/100)*C1883,\"\")))","v":334}," km",{"$f":"J1883*1000","v":334000},"m",{"$f":"IF(I1883=1,C1883+F1883,IF(I1883=2,C1883+F1883/1000,IF(I1883=3,(1+F1883/100)*C1883,\"\")))","v":336},"  km",{"$f":"N1883*1000","v":336000},"m"]
[{"$f":"IF(COUNTIF($B$1:B1884,TRUE)=COUNTIF($B$1:B1883,TRUE),\"\",COUNTIF($B$1:B1884,TRUE))","v":""},{"$f":"Worksheet!$B$14","v":false},{"$f":"RANDBETWEEN(5,RANDBETWEEN(5,Worksheet!$D$6))","v":158},"m","±",{"$f":"IF(I1884=1,H1884*10^RANDBETWEEN(IF(Worksheet!$D$9,-1,0),0),IF(I1884=2,H1884*10^RANDBETWEEN(RANDBETWEEN(0,2),2),CHOOSE(RANDBETWEEN(1,3),5,10,20)))","v":0.9},{"$f":"IF(I1884=1,D1884,IF(I1884=3,\"%\",\"mm\"))","v":"m"},9,{"$f":"IF(AND(Worksheet!$D$8,RAND()<0.2),3,IF(RAND()<Worksheet!$D$7/100,1,2))","v":1},{"$f":"IF(I1884=1,C1884-F1884,IF(I1884=2,C1884-F1884/1000,IF(I1884=3,(1-F1884/100)*C1884,\"\")))","v":157.1}," m",{"$f":"J1884*1000","v":157100},"mm",{"$f":"IF(I1884=1,C1884+F1884,IF(I1884=2,C1884+F1884/1000,IF(I1884=3,(1+F1884/100)*C1884,\"\")))","v":158.9},"  m",{"$f":"N1884*1000","v":158900},"mm"]
[{"$f":"IF(COUNTIF($B$1:B1885,TRUE)=COUNTIF($B$1:B1884,TRUE),\"\",COUNTIF($B$1:B1885,TRUE))","v":1482},{"$f":"Worksheet!$B$15","v":true},{"$f":"RANDBETWEEN(5,20)","v":10},"hours","±",{"$f":"IF(I1885=1,H1885*10^RANDBETWEEN(IF(Worksheet!$D$9,-1,0),0),IF(I1885=2,H1885,CHOOSE(RANDBETWEEN(1,3),5,10,20)))","v":9},{"$f":"IF(I1885=1,D1885,IF(I1885=3,\"%\",\"min\"))","v":"hours"},9,{"$f":"IF(AND(Worksheet!$D$8,RAND()<0),3,IF(RAND()<Worksheet!$D$7/100,1,2))","v":1},null," hours",{"$f":"IF(I1885=1,C1885-F1885,IF(I1885=2,C1885*60-F1885,\"\"))","v":1},{"$f":"IF($I1885=1,\" hours\",\" min\")","v":" hours"},null,"  hours",{"$f":"IF(I1885=1,C1885+F1885,IF(I1885=2,C1885*60+F1885,\"\"))","v":19},{"$f":"IF($I1885=1,\" hours\",\" min\")","v":" hours"}]
[{"$f":"IF(COUNTIF($B$1:B1886,TRUE)=COUNTIF($B$1:B1885,TRUE),\"\",COUNTIF($B$1:B1886,TRUE))","v":1483},{"$f":"Worksheet!$D$11","v":true},{"$f":"RANDBETWEEN(5,RANDBETWEEN(5,Worksheet!$D$6))","v":233},"kg","±",{"$f":"IF(I1886=1,H1886*10^RANDBETWEEN(IF(Worksheet!$D$9,-1,0),0),IF(I1886=2,H1886*10^RANDBETWEEN(RANDBETWEEN(0,2),2),CHOOSE(RANDBETWEEN(1,3),5,10,20)))","v":20},{"$f":"IF(I1886=1,D1886,IF(I1886=3,\"%\",\"g\"))","v":"%"},5,{"$f":"IF(AND(Worksheet!$D$8,RAND()<0.2),3,IF(RAND()<Worksheet!$D$7/100,1,2))","v":3},{"$f":"IF(I1886=1,C1886-F1886,IF(I1886=2,C1886-F1886/1000,IF(I1886=3,(1-F1886/100)*C1886,\"\")))","v":186.4}," kg",{"$f":"J1886*1000","v":186400},"g",{"$f":"IF(I1886=1,C1886+F1886,IF(I1886=2,C1886+F1886/1000,IF(I1886=3,(1+F1886/100)*C1886,\"\")))","v":279.59999999999997},"  kg",{"$f":"N1886*1000","v":279599.99999999994},"g"]
[{"$f":"IF(COUNTIF($B$1:B1887,TRUE)=COUNTIF($B$1:B1886,TRUE),\"\",COUNTIF($B$1:B1887,TRUE))","v":1484},{"$f":"Worksheet!$D$12","v":true},{"$f":"RANDBETWEEN(5,RANDBETWEEN(5,Worksheet!$D$6))","v":213},"tonnes","±",{"$f":"IF(I1887=1,H1887*10^RANDBETWEEN(IF(Worksheet!$D$9,-1,0),0),IF(I1887=2,H1887*10^RANDBETWEEN(RANDBETWEEN(0,2),2),CHOOSE(RANDBETWEEN(1,3),5,10,20)))","v":50},{"$f":"IF(I1887=1,D1887,IF(I1887=3,\"%\",\"kg\"))","v":"kg"},5,{"$f":"IF(AND(Worksheet!$D$8,RAND()<0.2),3,IF(RAND()<Worksheet!$D$7/100,1,2))","v":2},{"$f":"IF(I1887=1,C1887-F1887,IF(I1887=2,C1887-F1887/1000,IF(I1887=3,(1-F1887/100)*C1887,\"\")))","v":212.95}," tonnes",{"$f":"J1887*1000","v":212950},"kg",{"$f":"IF(I1887=1,C1887+F1887,IF(I1887=2,C1887+F1887/1000,IF(I1887=3,(1+F1887/100)*C1887,\"\")))","v":213.05},"  tonnes",{"$f":"N1887*1000","v":213050},"kg"]
[{"$f":"IF(COUNTIF($B$1:B1888,TRUE)=COUNTIF($B$1:B1887,TRUE),\"\",COUNTIF($B$1:B1888,TRUE))","v":1485},{"$f":"Worksheet!$D$13","v":true},{"$f":"RANDBETWEEN(5,RANDBETWEEN(5,Worksheet!$D$6))","v":93},"litres","±",{"$f":"IF(I1888=1,H1888*10^RANDBETWEEN(IF(Worksheet!$D$9,-1,0),0),IF(I1888=2,H1888*10^RANDBETWEEN(RANDBETWEEN(0,2),2),CHOOSE(RANDBETWEEN(1,3),5,10,20)))","v":9},{"$f":"IF(I1888=1,D1888,IF(I1888=3,\"%\",\"ml\"))","v":"litres"},9,{"$f":"IF(AND(Worksheet!$D$8,RAND()<0.2),3,IF(RAND()<Worksheet!$D$7/100,1,2))","v":1},{"$f":"IF(I1888=1,C1888-F1888,IF(I1888=2,C1888-F1888/1000,IF(I1888=3,(1-F1888/100)*C1888,\"\")))","v":84}," litres",{"$f":"J1888*1000","v":84000},"ml",{"$f":"IF(I1888=1,C1888+F1888,IF(I1888=2,C1888+F1888/1000,IF(I1888=3,(1+F1888/100)*C1888,\"\")))","v":102},"  litres",{"$f":"N1888*1000","v":102000},"ml"]
[{"$f":"IF(COUNTIF($B$1:B1889,TRUE)=COUNTIF($B$1:B1888,TRUE),\"\",COUNTIF($B$1:B1889,TRUE))","v":1486},{"$f":"Worksheet!$D$14","v":true},{"$f":"RANDBETWEEN(5,RANDBETWEEN(5,Worksheet!$D$6))","v":6},"litres","±",{"$f":"IF(I1889=1,H1889*10^RANDBETWEEN(IF(Worksheet!$D$9,-1,0),0),IF(I1889=2,H1889*10^RANDBETWEEN(RANDBETWEEN(0,2),2),CHOOSE(RANDBETWEEN(1,3),5,10,20)))","v":20},{"$f":"IF(I1889=1,D1889,IF(I1889=3,\"%\",\"cm³\"))","v":"%"},6,{"$f":"IF(AND(Worksheet!$D$8,RAND()<0.2),3,IF(RAND()<Worksheet!$D$7/100,1,2))","v":3},{"$f":"IF(I1889=1,C1889-F1889,IF(I1889=2,C1889-F1889/1000,IF(I1889=3,(1-F1889/100)*C1889,\"\")))","v":4.8000000000000007}," litres",{"$f":"J1889*1000","v":4800.0000000000009},"cm³",{"$f":"IF(I1889=1,C1889+F1889,IF(I1889=2,C1889+F1889/1000,IF(I1889=3,(1+F1889/100)*C1889,\"\")))","v":7.1999999999999993},"  litres",{"$f":"N1889*1000","v":7199.9999999999991},"cm³"]
[{"$f":"IF(COUNTIF($B$1:B1890,TRUE)=COUNTIF($B$1:B1889,TRUE),\"\",COUNTIF($B$1:B1890,TRUE))","v":""},{"$f":"Worksheet!$D$15","v":false},{"$f":"RANDBETWEEN(5,20)","v":8},"min","±",{"$f":"IF(I1890=1,H1890*10^RANDBETWEEN(IF(Worksheet!$D$9,-1,0),0),IF(I1890=2,H1890,CHOOSE(RANDBETWEEN(1,3),5,10,20)))","v":0.70000000000000007},{"$f":"IF(I1890=1,D1890,IF(I1890=3,\"%\",\"sec\"))","v":"min"},7,{"$f":"IF(AND(Worksheet!$D$8,RAND()<0),3,IF(RAND()<Worksheet!$D$7/100,1,2))","v":1},null," min",{"$f":"IF(I1890=1,C1890-F1890,IF(I1890=2,C1890*60-F1890,\"\"))","v":7.3},{"$f":"IF($I1890=1,\" hours\",\" min\")","v":" hours"},null,"  min",{"$f":"IF(I1890=1,C1890+F1890,IF(I1890=2,C1890*60+F1890,\"\"))","v":8.6999999999999993},{"$f":"IF($I1890=1,\" hours\",\" min\")","v":" hours"}]
[{"$f":"COUNTIF($B$1:B1891,TRUE)","v":1487},{"$f":"Worksheet!$B$11","v":true},{"$f":"RANDBETWEEN(5,RANDBETWEEN(5,Worksheet!$D$6))","v":38},"cm","±",{"$f":"IF(I1891=1,H1891*10^RANDBETWEEN(IF(Worksheet!$D$9,-1,0),0),IF(I1891=2,H1891,CHOOSE(RANDBETWEEN(1,3),5,10,20)))","v":10},{"$f":"IF(I1891=1,D1891,IF(I1891=3,\"%\",\"mm\"))","v":"%"},{"$f":"RANDBETWEEN(1,MIN(9,C1891))","v":5},{"$f":"IF(AND(Worksheet!$D$8,RAND()<0.2),3,IF(RAND()<Worksheet!$D$7/100,1,2))","v":3},{"$f":"IF(I1891=1,C1891-F1891,IF(I1891=2,C1891-F1891/10,IF(I1891=3,(1-F1891/100)*C1891,\"\")))","v":34.200000000000003},{"$f":"CONCATENATE(\" \",D1891)","v":" cm"},{"$f":"J1891*10","v":342},"mm",{"$f":"IF(I1891=1,C1891+F1891,IF(I1891=2,C1891+F1891/10,IF(I1891=3,(1+F1891/100)*C1891,\"\")))","v":41.800000000000004},{"$f":"CONCATENATE(\" \",K1891)","v":"  cm"},{"$f":"N1891*10","v":418.00000000000006},"mm"]
[{"$f":"IF(COUNTIF($B$1:B1892,TRUE)=COUNTIF($B$1:B1891,TRUE),\"\",COUNTIF($B$1:B1892,TRUE))","v":1488},{"$f":"Worksheet!$B$12","v":true},{"$f":"RANDBETWEEN(5,RANDBETWEEN(5,Worksheet!$D$6))","v":5},"m","±",{"$f":"IF(I1892=1,H1892*10^RANDBETWEEN(IF(Worksheet!$D$9,-1,0),0),IF(I1892=2,H1892*10^RANDBETWEEN(RANDBETWEEN(0,1),1),CHOOSE(RANDBETWEEN(1,3),5,10,20)))","v":1},{"$f":"IF(I1892=1,D1892,IF(I1892=3,\"%\",\"cm\"))","v":"m"},{"$f":"RANDBETWEEN(1,MIN(9,C1892))","v":1},{"$f":"IF(AND(Worksheet!$D$8,RAND()<0.2),3,IF(RAND()<Worksheet!$D$7/100,1,2))","v":1},{"$f":"IF(I1892=1,C1892-F1892,IF(I1892=2,C1892-F1892/100,IF(I1892=3,(1-F1892/100)*C1892,\"\")))","v":4},{"$f":"CONCATENATE(\" \",D1892)","v":" m"},{"$f":"J1892*100","v":400},"cm",{"$f":"IF(I1892=1,C1892+F1892,IF(I1892=2,C1892+F1892/100,IF(I1892=3,(1+F1892/100)*C1892,\"\")))","v":6},{"$f":"CONCATENATE(\" \",K1892)","v":"  m"},{"$f":"N1892*100","v":600},"cm"]
[{"$f":"IF(COUNTIF($B$1:B1893,TRUE)=COUNTIF($B$1:B1892,TRUE),\"\",COUNTIF($B$1:B1893,TRUE))","v":1489},{"$f":"Worksheet!$B$13","v":true},{"$f":"RANDBETWEEN(5,RANDBETWEEN(5,Worksheet!$D$6))","v":196},"km","±",{"$f":"IF(I1893=1,H1893*10^RANDBETWEEN(IF(Worksheet!$D$9,-1,0),0),IF(I1893=2,H1893*10^RANDBETWEEN(RANDBETWEEN(0,2),2),CHOOSE(RANDBETWEEN(1,3),5,10,20)))","v":0.8},{"$f":"IF(I1893=1,D1893,IF(I1893=3,\"%\",\"m\"))","v":"km"},8,{"$f":"IF(AND(Worksheet!$D$8,RAND()<0.2),3,IF(RAND()<Worksheet!$D$7/100,1,2))","v":1},{"$f":"IF(I1893=1,C1893-F1893,IF(I1893=2,C1893-F1893/1000,IF(I1893=3,(1-F1893/100)*C1893,\"\")))","v":195.2}," km",{"$f":"J1893*1000","v":195200},"m",{"$f":"IF(I1893=1,C1893+F1893,IF(I1893=2,C1893+F1893/1000,IF(I1893=3,(1+F1893/100)*C1893,\"\")))","v":196.8},"  km",{"$f":"N1893*1000","v":196800},"m"]
[{"$f":"IF(COUNTIF($B$1:B1894,TRUE)=COUNTIF($B$1:B1893,TRUE),\"\",COUNTIF($B$1:B1894,TRUE))","v":""},{"$f":"Worksheet!$B$14","v":false},{"$f":"RANDBETWEEN(5,RANDBETWEEN(5,Worksheet!$D$6))","v":156},"m","±",{"$f":"IF(I1894=1,H1894*10^RANDBETWEEN(IF(Worksheet!$D$9,-1,0),0),IF(I1894=2,H1894*10^RANDBETWEEN(RANDBETWEEN(0,2),2),CHOOSE(RANDBETWEEN(1,3),5,10,20)))","v":900},{"$f":"IF(I1894=1,D1894,IF(I1894=3,\"%\",\"mm\"))","v":"mm"},9,{"$f":"IF(AND(Worksheet!$D$8,RAND()<0.2),3,IF(RAND()<Worksheet!$D$7/100,1,2))","v":2},{"$f":"IF(I1894=1,C1894-F1894,IF(I1894=2,C1894-F1894/1000,IF(I1894=3,(1-F1894/100)*C1894,\"\")))","v":155.1}," m",{"$f":"J1894*1000","v":155100},"mm",{"$f":"IF(I1894=1,C1894+F1894,IF(I1894=2,C1894+F1894/1000,IF(I1894=3,(1+F1894/100)*C1894,\"\")))","v":156.9},"  m",{"$f":"N1894*1000","v":156900},"mm"]
[{"$f":"IF(COUNTIF($B$1:B1895,TRUE)=COUNTIF($B$1:B1894,TRUE),\"\",COUNTIF($B$1:B1895,TRUE))","v":1490},{"$f":"Worksheet!$B$15","v":true},{"$f":"RANDBETWEEN(5,20)","v":11},"hours","±",{"$f":"IF(I1895=1,H1895*10^RANDBETWEEN(IF(Worksheet!$D$9,-1,0),0),IF(I1895=2,H1895,CHOOSE(RANDBETWEEN(1,3),5,10,20)))","v":7},{"$f":"IF(I1895=1,D1895,IF(I1895=3,\"%\",\"min\"))","v":"min"},7,{"$f":"IF(AND(Worksheet!$D$8,RAND()<0),3,IF(RAND()<Worksheet!$D$7/100,1,2))","v":2},null," hours",{"$f":"IF(I1895=1,C1895-F1895,IF(I1895=2,C1895*60-F1895,\"\"))","v":653},{"$f":"IF($I1895=1,\" hours\",\" min\")","v":" min"},null,"  hours",{"$f":"IF(I1895=1,C1895+F1895,IF(I1895=2,C1895*60+F1895,\"\"))","v":667},{"$f":"IF($I1895=1,\" hours\",\" min\")","v":" min"}]
[{"$f":"IF(COUNTIF($B$1:B1896,TRUE)=COUNTIF($B$1:B1895,TRUE),\"\",COUNTIF($B$1:B1896,TRUE))","v":1491},{"$f":"Worksheet!$D$11","v":true},{"$f":"RANDBETWEEN(5,RANDBETWEEN(5,Worksheet!$D$6))","v":25},"kg","±",{"$f":"IF(I1896=1,H1896*10^RANDBETWEEN(IF(Worksheet!$D$9,-1,0),0),IF(I1896=2,H1896*10^RANDBETWEEN(RANDBETWEEN(0,2),2),CHOOSE(RANDBETWEEN(1,3),5,10,20)))","v":0.5},{"$f":"IF(I1896=1,D1896,IF(I1896=3,\"%\",\"g\"))","v":"kg"},5,{"$f":"IF(AND(Worksheet!$D$8,RAND()<0.2),3,IF(RAND()<Worksheet!$D$7/100,1,2))","v":1},{"$f":"IF(I1896=1,C1896-F1896,IF(I1896=2,C1896-F1896/1000,IF(I1896=3,(1-F1896/100)*C1896,\"\")))","v":24.5}," kg",{"$f":"J1896*1000","v":24500},"g",{"$f":"IF(I1896=1,C1896+F1896,IF(I1896=2,C1896+F1896/1000,IF(I1896=3,(1+F1896/100)*C1896,\"\")))","v":25.5},"  kg",{"$f":"N1896*1000","v":25500},"g"]
[{"$f":"IF(COUNTIF($B$1:B1897,TRUE)=COUNTIF($B$1:B1896,TRUE),\"\",COUNTIF($B$1:B1897,TRUE))","v":1492},{"$f":"Worksheet!$D$12","v":true},{"$f":"RANDBETWEEN(5,RANDBETWEEN(5,Worksheet!$D$6))","v":161},"tonnes","±",{"$f":"IF(I1897=1,H1897*10^RANDBETWEEN(IF(Worksheet!$D$9,-1,0),0),IF(I1897=2,H1897*10^RANDBETWEEN(RANDBETWEEN(0,2),2),CHOOSE(RANDBETWEEN(1,3),5,10,20)))","v":0.70000000000000007},{"$f":"IF(I1897=1,D1897,IF(I1897=3,\"%\",\"kg\"))","v":"tonnes"},7,{"$f":"IF(AND(Worksheet!$D$8,RAND()<0.2),3,IF(RAND()<Worksheet!$D$7/100,1,2))","v":1},{"$f":"IF(I1897=1,C1897-F1897,IF(I1897=2,C1897-F1897/1000,IF(I1897=3,(1-F1897/100)*C1897,\"\")))","v":160.30000000000001}," tonnes",{"$f":"J1897*1000","v":160300},"kg",{"$f":"IF(I1897=1,C1897+F1897,IF(I1897=2,C1897+F1897/1000,IF(I1897=3,(1+F1897/100)*C1897,\"\")))","v":161.69999999999999},"  tonnes",{"$f":"N1897*1000","v":161700},"kg"]
[{"$f":"IF(COUNTIF($B$1:B1898,TRUE)=COUNTIF($B$1:B1897,TRUE),\"\",COUNTIF($B$1:B1898,TRUE))","v":1493},{"$f":"Worksheet!$D$13","v":true},{"$f":"RANDBETWEEN(5,RANDBETWEEN(5,Worksheet!$D$6))","v":53},"litres","±",{"$f":"IF(I1898=1,H1898*10^RANDBETWEEN(IF(Worksheet!$D$9,-1,0),0),IF(I1898=2,H1898*10^RANDBETWEEN(RANDBETWEEN(0,2),2),CHOOSE(RANDBETWEEN(1,3),5,10,20)))","v":10},{"$f":"IF(I1898=1,D1898,IF(I1898=3,\"%\",\"ml\"))","v":"%"},4,{"$f":"IF(AND(Worksheet!$D$8,RAND()<0.2),3,IF(RAND()<Worksheet!$D$7/100,1,2))","v":3},{"$f":"IF(I1898=1,C1898-F1898,IF(I1898=2,C1898-F1898/1000,IF(I1898=3,(1-F1898/100)*C1898,\"\")))","v":47.7}," litres",{"$f":"J1898*1000","v":47700},"ml",{"$f":"IF(I1898=1,C1898+F1898,IF(I1898=2,C1898+F1898/1000,IF(I1898=3,(1+F1898/100)*C1898,\"\")))","v":58.300000000000004},"  litres",{"$f":"N1898*1000","v":58300.000000000007},"ml"]
[{"$f":"IF(COUNTIF($B$1:B1899,TRUE)=COUNTIF($B$1:B1898,TRUE),\"\",COUNTIF($B$1:B1899,TRUE))","v":1494},{"$f":"Worksheet!$D$14","v":true},{"$f":"RANDBETWEEN(5,RANDBETWEEN(5,Worksheet!$D$6))","v":52},"litres","±",{"$f":"IF(I1899=1,H1899*10^RANDBETWEEN(IF(Worksheet!$D$9,-1,0),0),IF(I1899=2,H1899*10^RANDBETWEEN(RANDBETWEEN(0,2),2),CHOOSE(RANDBETWEEN(1,3),5,10,20)))","v":0.1},{"$f":"IF(I1899=1,D1899,IF(I1899=3,\"%\",\"cm³\"))","v":"litres"},1,{"$f":"IF(AND(Worksheet!$D$8,RAND()<0.2),3,IF(RAND()<Worksheet!$D$7/100,1,2))","v":1},{"$f":"IF(I1899=1,C1899-F1899,IF(I1899=2,C1899-F1899/1000,IF(I1899=3,(1-F1899/100)*C1899,\"\")))","v":51.9}," litres",{"$f":"J1899*1000","v":51900},"cm³",{"$f":"IF(I1899=1,C1899+F1899,IF(I1899=2,C1899+F1899/1000,IF(I1899=3,(1+F1899/100)*C1899,\"\")))","v":52.1},"  litres",{"$f":"N1899*1000","v":52100},"cm³"]
[{"$f":"IF(COUNTIF($B$1:B1900,TRUE)=COUNTIF($B$1:B1899,TRUE),\"\",COUNTIF($B$1:B1900,TRUE))","v":""},{"$f":"Worksheet!$D$15","v":false},{"$f":"RANDBETWEEN(5,20)","v":7},"min","±",{"$f":"IF(I1900=1,H1900*10^RANDBETWEEN(IF(Worksheet!$D$9,-1,0),0),IF(I1900=2,H1900,CHOOSE(RANDBETWEEN(1,3),5,10,20)))","v":7},{"$f":"IF(I1900=1,D1900,IF(I1900=3,\"%\",\"sec\"))","v":"sec"},7,{"$f":"IF(AND(Worksheet!$D$8,RAND()<0),3,IF(RAND()<Worksheet!$D$7/100,1,2))","v":2},null," min",{"$f":"IF(I1900=1,C1900-F1900,IF(I1900=2,C1900*60-F1900,\"\"))","v":413},{"$f":"IF($I1900=1,\" hours\",\" min\")","v":" min"},null,"  min",{"$f":"IF(I1900=1,C1900+F1900,IF(I1900=2,C1900*60+F1900,\"\"))","v":427},{"$f":"IF($I1900=1,\" hours\",\" min\")","v":" min"}]
[{"$f":"COUNTIF($B$1:B1901,TRUE)","v":1495},{"$f":"Worksheet!$B$11","v":true},{"$f":"RANDBETWEEN(5,RANDBETWEEN(5,Worksheet!$D$6))","v":218},"cm","±",{"$f":"IF(I1901=1,H1901*10^RANDBETWEEN(IF(Worksheet!$D$9,-1,0),0),IF(I1901=2,H1901,CHOOSE(RANDBETWEEN(1,3),5,10,20)))","v":0.2},{"$f":"IF(I1901=1,D1901,IF(I1901=3,\"%\",\"mm\"))","v":"cm"},{"$f":"RANDBETWEEN(1,MIN(9,C1901))","v":2},{"$f":"IF(AND(Worksheet!$D$8,RAND()<0.2),3,IF(RAND()<Worksheet!$D$7/100,1,2))","v":1},{"$f":"IF(I1901=1,C1901-F1901,IF(I1901=2,C1901-F1901/10,IF(I1901=3,(1-F1901/100)*C1901,\"\")))","v":217.8},{"$f":"CONCATENATE(\" \",D1901)","v":" cm"},{"$f":"J1901*10","v":2178},"mm",{"$f":"IF(I1901=1,C1901+F1901,IF(I1901=2,C1901+F1901/10,IF(I1901=3,(1+F1901/100)*C1901,\"\")))","v":218.2},{"$f":"CONCATENATE(\" \",K1901)","v":"  cm"},{"$f":"N1901*10","v":2182},"mm"]
[{"$f":"IF(COUNTIF($B$1:B1902,TRUE)=COUNTIF($B$1:B1901,TRUE),\"\",COUNTIF($B$1:B1902,TRUE))","v":1496},{"$f":"Worksheet!$B$12","v":true},{"$f":"RANDBETWEEN(5,RANDBETWEEN(5,Worksheet!$D$6))","v":95},"m","±",{"$f":"IF(I1902=1,H1902*10^RANDBETWEEN(IF(Worksheet!$D$9,-1,0),0),IF(I1902=2,H1902*10^RANDBETWEEN(RANDBETWEEN(0,1),1),CHOOSE(RANDBETWEEN(1,3),5,10,20)))","v":4},{"$f":"IF(I1902=1,D1902,IF(I1902=3,\"%\",\"cm\"))","v":"m"},{"$f":"RANDBETWEEN(1,MIN(9,C1902))","v":4},{"$f":"IF(AND(Worksheet!$D$8,RAND()<0.2),3,IF(RAND()<Worksheet!$D$7/100,1,2))","v":1},{"$f":"IF(I1902=1,C1902-F1902,IF(I1902=2,C1902-F1902/100,IF(I1902=3,(1-F1902/100)*C1902,\"\")))","v":91},{"$f":"CONCATENATE(\" \",D1902)","v":" m"},{"$f":"J1902*100","v":9100},"cm",{"$f":"IF(I1902=1,C1902+F1902,IF(I1902=2,C1902+F1902/100,IF(I1902=3,(1+F1902/100)*C1902,\"\")))","v":99},{"$f":"CONCATENATE(\" \",K1902)","v":"  m"},{"$f":"N1902*100","v":9900},"cm"]
[{"$f":"IF(COUNTIF($B$1:B1903,TRUE)=COUNTIF($B$1:B1902,TRUE),\"\",COUNTIF($B$1:B1903,TRUE))","v":1497},{"$f":"Worksheet!$B$13","v":true},{"$f":"RANDBETWEEN(5,RANDBETWEEN(5,Worksheet!$D$6))","v":19},"km","±",{"$f":"IF(I1903=1,H1903*10^RANDBETWEEN(IF(Worksheet!$D$9,-1,0),0),IF(I1903=2,H1903*10^RANDBETWEEN(RANDBETWEEN(0,2),2),CHOOSE(RANDBETWEEN(1,3),5,10,20)))","v":3},{"$f":"IF(I1903=1,D1903,IF(I1903=3,\"%\",\"m\"))","v":"km"},3,{"$f":"IF(AND(Worksheet!$D$8,RAND()<0.2),3,IF(RAND()<Worksheet!$D$7/100,1,2))","v":1},{"$f":"IF(I1903=1,C1903-F1903,IF(I1903=2,C1903-F1903/1000,IF(I1903=3,(1-F1903/100)*C1903,\"\")))","v":16}," km",{"$f":"J1903*1000","v":16000},"m",{"$f":"IF(I1903=1,C1903+F1903,IF(I1903=2,C1903+F1903/1000,IF(I1903=3,(1+F1903/100)*C1903,\"\")))","v":22},"  km",{"$f":"N1903*1000","v":22000},"m"]
[{"$f":"IF(COUNTIF($B$1:B1904,TRUE)=COUNTIF($B$1:B1903,TRUE),\"\",COUNTIF($B$1:B1904,TRUE))","v":""},{"$f":"Worksheet!$B$14","v":false},{"$f":"RANDBETWEEN(5,RANDBETWEEN(5,Worksheet!$D$6))","v":35},"m","±",{"$f":"IF(I1904=1,H1904*10^RANDBETWEEN(IF(Worksheet!$D$9,-1,0),0),IF(I1904=2,H1904*10^RANDBETWEEN(RANDBETWEEN(0,2),2),CHOOSE(RANDBETWEEN(1,3),5,10,20)))","v":50},{"$f":"IF(I1904=1,D1904,IF(I1904=3,\"%\",\"mm\"))","v":"mm"},5,{"$f":"IF(AND(Worksheet!$D$8,RAND()<0.2),3,IF(RAND()<Worksheet!$D$7/100,1,2))","v":2},{"$f":"IF(I1904=1,C1904-F1904,IF(I1904=2,C1904-F1904/1000,IF(I1904=3,(1-F1904/100)*C1904,\"\")))","v":34.950000000000003}," m",{"$f":"J1904*1000","v":34950},"mm",{"$f":"IF(I1904=1,C1904+F1904,IF(I1904=2,C1904+F1904/1000,IF(I1904=3,(1+F1904/100)*C1904,\"\")))","v":35.049999999999997},"  m",{"$f":"N1904*1000","v":35050},"mm"]
[{"$f":"IF(COUNTIF($B$1:B1905,TRUE)=COUNTIF($B$1:B1904,TRUE),\"\",COUNTIF($B$1:B1905,TRUE))","v":1498},{"$f":"Worksheet!$B$15","v":true},{"$f":"RANDBETWEEN(5,20)","v":5},"hours","±",{"$f":"IF(I1905=1,H1905*10^RANDBETWEEN(IF(Worksheet!$D$9,-1,0),0),IF(I1905=2,H1905,CHOOSE(RANDBETWEEN(1,3),5,10,20)))","v":2},{"$f":"IF(I1905=1,D1905,IF(I1905=3,\"%\",\"min\"))","v":"hours"},2,{"$f":"IF(AND(Worksheet!$D$8,RAND()<0),3,IF(RAND()<Worksheet!$D$7/100,1,2))","v":1},null," hours",{"$f":"IF(I1905=1,C1905-F1905,IF(I1905=2,C1905*60-F1905,\"\"))","v":3},{"$f":"IF($I1905=1,\" hours\",\" min\")","v":" hours"},null,"  hours",{"$f":"IF(I1905=1,C1905+F1905,IF(I1905=2,C1905*60+F1905,\"\"))","v":7},{"$f":"IF($I1905=1,\" hours\",\" min\")","v":" hours"}]
[{"$f":"IF(COUNTIF($B$1:B1906,TRUE)=COUNTIF($B$1:B1905,TRUE),\"\",COUNTIF($B$1:B1906,TRUE))","v":1499},{"$f":"Worksheet!$D$11","v":true},{"$f":"RANDBETWEEN(5,RANDBETWEEN(5,Worksheet!$D$6))","v":13},"kg","±",{"$f":"IF(I1906=1,H1906*10^RANDBETWEEN(IF(Worksheet!$D$9,-1,0),0),IF(I1906=2,H1906*10^RANDBETWEEN(RANDBETWEEN(0,2),2),CHOOSE(RANDBETWEEN(1,3),5,10,20)))","v":8},{"$f":"IF(I1906=1,D1906,IF(I1906=3,\"%\",\"g\"))","v":"kg"},8,{"$f":"IF(AND(Worksheet!$D$8,RAND()<0.2),3,IF(RAND()<Worksheet!$D$7/100,1,2))","v":1},{"$f":"IF(I1906=1,C1906-F1906,IF(I1906=2,C1906-F1906/1000,IF(I1906=3,(1-F1906/100)*C1906,\"\")))","v":5}," kg",{"$f":"J1906*1000","v":5000},"g",{"$f":"IF(I1906=1,C1906+F1906,IF(I1906=2,C1906+F1906/1000,IF(I1906=3,(1+F1906/100)*C1906,\"\")))","v":21},"  kg",{"$f":"N1906*1000","v":21000},"g"]
[{"$f":"IF(COUNTIF($B$1:B1907,TRUE)=COUNTIF($B$1:B1906,TRUE),\"\",COUNTIF($B$1:B1907,TRUE))","v":1500},{"$f":"Worksheet!$D$12","v":true},{"$f":"RANDBETWEEN(5,RANDBETWEEN(5,Worksheet!$D$6))","v":41},"tonnes","±",{"$f":"IF(I1907=1,H1907*10^RANDBETWEEN(IF(Worksheet!$D$9,-1,0),0),IF(I1907=2,H1907*10^RANDBETWEEN(RANDBETWEEN(0,2),2),CHOOSE(RANDBETWEEN(1,3),5,10,20)))","v":700},{"$f":"IF(I1907=1,D1907,IF(I1907=3,\"%\",\"kg\"))","v":"kg"},7,{"$f":"IF(AND(Worksheet!$D$8,RAND()<0.2),3,IF(RAND()<Worksheet!$D$7/100,1,2))","v":2},{"$f":"IF(I1907=1,C1907-F1907,IF(I1907=2,C1907-F1907/1000,IF(I1907=3,(1-F1907/100)*C1907,\"\")))","v":40.299999999999997}," tonnes",{"$f":"J1907*1000","v":40300},"kg",{"$f":"IF(I1907=1,C1907+F1907,IF(I1907=2,C1907+F1907/1000,IF(I1907=3,(1+F1907/100)*C1907,\"\")))","v":41.7},"  tonnes",{"$f":"N1907*1000","v":41700},"kg"]
[{"$f":"IF(COUNTIF($B$1:B1908,TRUE)=COUNTIF($B$1:B1907,TRUE),\"\",COUNTIF($B$1:B1908,TRUE))","v":1501},{"$f":"Worksheet!$D$13","v":true},{"$f":"RANDBETWEEN(5,RANDBETWEEN(5,Worksheet!$D$6))","v":12},"litres","±",{"$f":"IF(I1908=1,H1908*10^RANDBETWEEN(IF(Worksheet!$D$9,-1,0),0),IF(I1908=2,H1908*10^RANDBETWEEN(RANDBETWEEN(0,2),2),CHOOSE(RANDBETWEEN(1,3),5,10,20)))","v":9},{"$f":"IF(I1908=1,D1908,IF(I1908=3,\"%\",\"ml\"))","v":"litres"},9,{"$f":"IF(AND(Worksheet!$D$8,RAND()<0.2),3,IF(RAND()<Worksheet!$D$7/100,1,2))","v":1},{"$f":"IF(I1908=1,C1908-F1908,IF(I1908=2,C1908-F1908/1000,IF(I1908=3,(1-F1908/100)*C1908,\"\")))","v":3}," litres",{"$f":"J1908*1000","v":3000},"ml",{"$f":"IF(I1908=1,C1908+F1908,IF(I1908=2,C1908+F1908/1000,IF(I1908=3,(1+F1908/100)*C1908,\"\")))","v":21},"  litres",{"$f":"N1908*1000","v":21000},"ml"]
[{"$f":"IF(COUNTIF($B$1:B1909,TRUE)=COUNTIF($B$1:B1908,TRUE),\"\",COUNTIF($B$1:B1909,TRUE))","v":1502},{"$f":"Worksheet!$D$14","v":true},{"$f":"RANDBETWEEN(5,RANDBETWEEN(5,Worksheet!$D$6))","v":6},"litres","±",{"$f":"IF(I1909=1,H1909*10^RANDBETWEEN(IF(Worksheet!$D$9,-1,0),0),IF(I1909=2,H1909*10^RANDBETWEEN(RANDBETWEEN(0,2),2),CHOOSE(RANDBETWEEN(1,3),5,10,20)))","v":0.60000000000000009},{"$f":"IF(I1909=1,D1909,IF(I1909=3,\"%\",\"cm³\"))","v":"litres"},6,{"$f":"IF(AND(Worksheet!$D$8,RAND()<0.2),3,IF(RAND()<Worksheet!$D$7/100,1,2))","v":1},{"$f":"IF(I1909=1,C1909-F1909,IF(I1909=2,C1909-F1909/1000,IF(I1909=3,(1-F1909/100)*C1909,\"\")))","v":5.4}," litres",{"$f":"J1909*1000","v":5400},"cm³",{"$f":"IF(I1909=1,C1909+F1909,IF(I1909=2,C1909+F1909/1000,IF(I1909=3,(1+F1909/100)*C1909,\"\")))","v":6.6},"  litres",{"$f":"N1909*1000","v":6600},"cm³"]
[{"$f":"IF(COUNTIF($B$1:B1910,TRUE)=COUNTIF($B$1:B1909,TRUE),\"\",COUNTIF($B$1:B1910,TRUE))","v":""},{"$f":"Worksheet!$D$15","v":false},{"$f":"RANDBETWEEN(5,20)","v":15},"min","±",{"$f":"IF(I1910=1,H1910*10^RANDBETWEEN(IF(Worksheet!$D$9,-1,0),0),IF(I1910=2,H1910,CHOOSE(RANDBETWEEN(1,3),5,10,20)))","v":6},{"$f":"IF(I1910=1,D1910,IF(I1910=3,\"%\",\"sec\"))","v":"sec"},6,{"$f":"IF(AND(Worksheet!$D$8,RAND()<0),3,IF(RAND()<Worksheet!$D$7/100,1,2))","v":2},null," min",{"$f":"IF(I1910=1,C1910-F1910,IF(I1910=2,C1910*60-F1910,\"\"))","v":894},{"$f":"IF($I1910=1,\" hours\",\" min\")","v":" min"},null,"  min",{"$f":"IF(I1910=1,C1910+F1910,IF(I1910=2,C1910*60+F1910,\"\"))","v":906},{"$f":"IF($I1910=1,\" hours\",\" min\")","v":" min"}]
[{"$f":"COUNTIF($B$1:B1911,TRUE)","v":1503},{"$f":"Worksheet!$B$11","v":true},{"$f":"RANDBETWEEN(5,RANDBETWEEN(5,Worksheet!$D$6))","v":28},"cm","±",{"$f":"IF(I1911=1,H1911*10^RANDBETWEEN(IF(Worksheet!$D$9,-1,0),0),IF(I1911=2,H1911,CHOOSE(RANDBETWEEN(1,3),5,10,20)))","v":7},{"$f":"IF(I1911=1,D1911,IF(I1911=3,\"%\",\"mm\"))","v":"cm"},{"$f":"RANDBETWEEN(1,MIN(9,C1911))","v":7},{"$f":"IF(AND(Worksheet!$D$8,RAND()<0.2),3,IF(RAND()<Worksheet!$D$7/100,1,2))","v":1},{"$f":"IF(I1911=1,C1911-F1911,IF(I1911=2,C1911-F1911/10,IF(I1911=3,(1-F1911/100)*C1911,\"\")))","v":21},{"$f":"CONCATENATE(\" \",D1911)","v":" cm"},{"$f":"J1911*10","v":210},"mm",{"$f":"IF(I1911=1,C1911+F1911,IF(I1911=2,C1911+F1911/10,IF(I1911=3,(1+F1911/100)*C1911,\"\")))","v":35},{"$f":"CONCATENATE(\" \",K1911)","v":"  cm"},{"$f":"N1911*10","v":350},"mm"]
[{"$f":"IF(COUNTIF($B$1:B1912,TRUE)=COUNTIF($B$1:B1911,TRUE),\"\",COUNTIF($B$1:B1912,TRUE))","v":1504},{"$f":"Worksheet!$B$12","v":true},{"$f":"RANDBETWEEN(5,RANDBETWEEN(5,Worksheet!$D$6))","v":178},"m","±",{"$f":"IF(I1912=1,H1912*10^RANDBETWEEN(IF(Worksheet!$D$9,-1,0),0),IF(I1912=2,H1912*10^RANDBETWEEN(RANDBETWEEN(0,1),1),CHOOSE(RANDBETWEEN(1,3),5,10,20)))","v":3},{"$f":"IF(I1912=1,D1912,IF(I1912=3,\"%\",\"cm\"))","v":"m"},{"$f":"RANDBETWEEN(1,MIN(9,C1912))","v":3},{"$f":"IF(AND(Worksheet!$D$8,RAND()<0.2),3,IF(RAND()<Worksheet!$D$7/100,1,2))","v":1},{"$f":"IF(I1912=1,C1912-F1912,IF(I1912=2,C1912-F1912/100,IF(I1912=3,(1-F1912/100)*C1912,\"\")))","v":175},{"$f":"CONCATENATE(\" \",D1912)","v":" m"},{"$f":"J1912*100","v":17500},"cm",{"$f":"IF(I1912=1,C1912+F1912,IF(I1912=2,C1912+F1912/100,IF(I1912=3,(1+F1912/100)*C1912,\"\")))","v":181},{"$f":"CONCATENATE(\" \",K1912)","v":"  m"},{"$f":"N1912*100","v":18100},"cm"]
[{"$f":"IF(COUNTIF($B$1:B1913,TRUE)=COUNTIF($B$1:B1912,TRUE),\"\",COUNTIF($B$1:B1913,TRUE))","v":1505},{"$f":"Worksheet!$B$13","v":true},{"$f":"RANDBETWEEN(5,RANDBETWEEN(5,Worksheet!$D$6))","v":121},"km","±",{"$f":"IF(I1913=1,H1913*10^RANDBETWEEN(IF(Worksheet!$D$9,-1,0),0),IF(I1913=2,H1913*10^RANDBETWEEN(RANDBETWEEN(0,2),2),CHOOSE(RANDBETWEEN(1,3),5,10,20)))","v":0.70000000000000007},{"$f":"IF(I1913=1,D1913,IF(I1913=3,\"%\",\"m\"))","v":"km"},7,{"$f":"IF(AND(Worksheet!$D$8,RAND()<0.2),3,IF(RAND()<Worksheet!$D$7/100,1,2))","v":1},{"$f":"IF(I1913=1,C1913-F1913,IF(I1913=2,C1913-F1913/1000,IF(I1913=3,(1-F1913/100)*C1913,\"\")))","v":120.3}," km",{"$f":"J1913*1000","v":120300},"m",{"$f":"IF(I1913=1,C1913+F1913,IF(I1913=2,C1913+F1913/1000,IF(I1913=3,(1+F1913/100)*C1913,\"\")))","v":121.7},"  km",{"$f":"N1913*1000","v":121700},"m"]
[{"$f":"IF(COUNTIF($B$1:B1914,TRUE)=COUNTIF($B$1:B1913,TRUE),\"\",COUNTIF($B$1:B1914,TRUE))","v":""},{"$f":"Worksheet!$B$14","v":false},{"$f":"RANDBETWEEN(5,RANDBETWEEN(5,Worksheet!$D$6))","v":215},"m","±",{"$f":"IF(I1914=1,H1914*10^RANDBETWEEN(IF(Worksheet!$D$9,-1,0),0),IF(I1914=2,H1914*10^RANDBETWEEN(RANDBETWEEN(0,2),2),CHOOSE(RANDBETWEEN(1,3),5,10,20)))","v":500},{"$f":"IF(I1914=1,D1914,IF(I1914=3,\"%\",\"mm\"))","v":"mm"},5,{"$f":"IF(AND(Worksheet!$D$8,RAND()<0.2),3,IF(RAND()<Worksheet!$D$7/100,1,2))","v":2},{"$f":"IF(I1914=1,C1914-F1914,IF(I1914=2,C1914-F1914/1000,IF(I1914=3,(1-F1914/100)*C1914,\"\")))","v":214.5}," m",{"$f":"J1914*1000","v":214500},"mm",{"$f":"IF(I1914=1,C1914+F1914,IF(I1914=2,C1914+F1914/1000,IF(I1914=3,(1+F1914/100)*C1914,\"\")))","v":215.5},"  m",{"$f":"N1914*1000","v":215500},"mm"]
[{"$f":"IF(COUNTIF($B$1:B1915,TRUE)=COUNTIF($B$1:B1914,TRUE),\"\",COUNTIF($B$1:B1915,TRUE))","v":1506},{"$f":"Worksheet!$B$15","v":true},{"$f":"RANDBETWEEN(5,20)","v":17},"hours","±",{"$f":"IF(I1915=1,H1915*10^RANDBETWEEN(IF(Worksheet!$D$9,-1,0),0),IF(I1915=2,H1915,CHOOSE(RANDBETWEEN(1,3),5,10,20)))","v":7},{"$f":"IF(I1915=1,D1915,IF(I1915=3,\"%\",\"min\"))","v":"hours"},7,{"$f":"IF(AND(Worksheet!$D$8,RAND()<0),3,IF(RAND()<Worksheet!$D$7/100,1,2))","v":1},null," hours",{"$f":"IF(I1915=1,C1915-F1915,IF(I1915=2,C1915*60-F1915,\"\"))","v":10},{"$f":"IF($I1915=1,\" hours\",\" min\")","v":" hours"},null,"  hours",{"$f":"IF(I1915=1,C1915+F1915,IF(I1915=2,C1915*60+F1915,\"\"))","v":24},{"$f":"IF($I1915=1,\" hours\",\" min\")","v":" hours"}]
[{"$f":"IF(COUNTIF($B$1:B1916,TRUE)=COUNTIF($B$1:B1915,TRUE),\"\",COUNTIF($B$1:B1916,TRUE))","v":1507},{"$f":"Worksheet!$D$11","v":true},{"$f":"RANDBETWEEN(5,RANDBETWEEN(5,Worksheet!$D$6))","v":109},"kg","±",{"$f":"IF(I1916=1,H1916*10^RANDBETWEEN(IF(Worksheet!$D$9,-1,0),0),IF(I1916=2,H1916*10^RANDBETWEEN(RANDBETWEEN(0,2),2),CHOOSE(RANDBETWEEN(1,3),5,10,20)))","v":0.9},{"$f":"IF(I1916=1,D1916,IF(I1916=3,\"%\",\"g\"))","v":"kg"},9,{"$f":"IF(AND(Worksheet!$D$8,RAND()<0.2),3,IF(RAND()<Worksheet!$D$7/100,1,2))","v":1},{"$f":"IF(I1916=1,C1916-F1916,IF(I1916=2,C1916-F1916/1000,IF(I1916=3,(1-F1916/100)*C1916,\"\")))","v":108.1}," kg",{"$f":"J1916*1000","v":108100},"g",{"$f":"IF(I1916=1,C1916+F1916,IF(I1916=2,C1916+F1916/1000,IF(I1916=3,(1+F1916/100)*C1916,\"\")))","v":109.9},"  kg",{"$f":"N1916*1000","v":109900},"g"]
[{"$f":"IF(COUNTIF($B$1:B1917,TRUE)=COUNTIF($B$1:B1916,TRUE),\"\",COUNTIF($B$1:B1917,TRUE))","v":1508},{"$f":"Worksheet!$D$12","v":true},{"$f":"RANDBETWEEN(5,RANDBETWEEN(5,Worksheet!$D$6))","v":87},"tonnes","±",{"$f":"IF(I1917=1,H1917*10^RANDBETWEEN(IF(Worksheet!$D$9,-1,0),0),IF(I1917=2,H1917*10^RANDBETWEEN(RANDBETWEEN(0,2),2),CHOOSE(RANDBETWEEN(1,3),5,10,20)))","v":500},{"$f":"IF(I1917=1,D1917,IF(I1917=3,\"%\",\"kg\"))","v":"kg"},5,{"$f":"IF(AND(Worksheet!$D$8,RAND()<0.2),3,IF(RAND()<Worksheet!$D$7/100,1,2))","v":2},{"$f":"IF(I1917=1,C1917-F1917,IF(I1917=2,C1917-F1917/1000,IF(I1917=3,(1-F1917/100)*C1917,\"\")))","v":86.5}," tonnes",{"$f":"J1917*1000","v":86500},"kg",{"$f":"IF(I1917=1,C1917+F1917,IF(I1917=2,C1917+F1917/1000,IF(I1917=3,(1+F1917/100)*C1917,\"\")))","v":87.5},"  tonnes",{"$f":"N1917*1000","v":87500},"kg"]
[{"$f":"IF(COUNTIF($B$1:B1918,TRUE)=COUNTIF($B$1:B1917,TRUE),\"\",COUNTIF($B$1:B1918,TRUE))","v":1509},{"$f":"Worksheet!$D$13","v":true},{"$f":"RANDBETWEEN(5,RANDBETWEEN(5,Worksheet!$D$6))","v":39},"litres","±",{"$f":"IF(I1918=1,H1918*10^RANDBETWEEN(IF(Worksheet!$D$9,-1,0),0),IF(I1918=2,H1918*10^RANDBETWEEN(RANDBETWEEN(0,2),2),CHOOSE(RANDBETWEEN(1,3),5,10,20)))","v":700},{"$f":"IF(I1918=1,D1918,IF(I1918=3,\"%\",\"ml\"))","v":"ml"},7,{"$f":"IF(AND(Worksheet!$D$8,RAND()<0.2),3,IF(RAND()<Worksheet!$D$7/100,1,2))","v":2},{"$f":"IF(I1918=1,C1918-F1918,IF(I1918=2,C1918-F1918/1000,IF(I1918=3,(1-F1918/100)*C1918,\"\")))","v":38.299999999999997}," litres",{"$f":"J1918*1000","v":38300},"ml",{"$f":"IF(I1918=1,C1918+F1918,IF(I1918=2,C1918+F1918/1000,IF(I1918=3,(1+F1918/100)*C1918,\"\")))","v":39.700000000000003},"  litres",{"$f":"N1918*1000","v":39700},"ml"]
[{"$f":"IF(COUNTIF($B$1:B1919,TRUE)=COUNTIF($B$1:B1918,TRUE),\"\",COUNTIF($B$1:B1919,TRUE))","v":1510},{"$f":"Worksheet!$D$14","v":true},{"$f":"RANDBETWEEN(5,RANDBETWEEN(5,Worksheet!$D$6))","v":54},"litres","±",{"$f":"IF(I1919=1,H1919*10^RANDBETWEEN(IF(Worksheet!$D$9,-1,0),0),IF(I1919=2,H1919*10^RANDBETWEEN(RANDBETWEEN(0,2),2),CHOOSE(RANDBETWEEN(1,3),5,10,20)))","v":0.30000000000000004},{"$f":"IF(I1919=1,D1919,IF(I1919=3,\"%\",\"cm³\"))","v":"litres"},3,{"$f":"IF(AND(Worksheet!$D$8,RAND()<0.2),3,IF(RAND()<Worksheet!$D$7/100,1,2))","v":1},{"$f":"IF(I1919=1,C1919-F1919,IF(I1919=2,C1919-F1919/1000,IF(I1919=3,(1-F1919/100)*C1919,\"\")))","v":53.7}," litres",{"$f":"J1919*1000","v":53700},"cm³",{"$f":"IF(I1919=1,C1919+F1919,IF(I1919=2,C1919+F1919/1000,IF(I1919=3,(1+F1919/100)*C1919,\"\")))","v":54.3},"  litres",{"$f":"N1919*1000","v":54300},"cm³"]
[{"$f":"IF(COUNTIF($B$1:B1920,TRUE)=COUNTIF($B$1:B1919,TRUE),\"\",COUNTIF($B$1:B1920,TRUE))","v":""},{"$f":"Worksheet!$D$15","v":false},{"$f":"RANDBETWEEN(5,20)","v":13},"min","±",{"$f":"IF(I1920=1,H1920*10^RANDBETWEEN(IF(Worksheet!$D$9,-1,0),0),IF(I1920=2,H1920,CHOOSE(RANDBETWEEN(1,3),5,10,20)))","v":5},{"$f":"IF(I1920=1,D1920,IF(I1920=3,\"%\",\"sec\"))","v":"sec"},5,{"$f":"IF(AND(Worksheet!$D$8,RAND()<0),3,IF(RAND()<Worksheet!$D$7/100,1,2))","v":2},null," min",{"$f":"IF(I1920=1,C1920-F1920,IF(I1920=2,C1920*60-F1920,\"\"))","v":775},{"$f":"IF($I1920=1,\" hours\",\" min\")","v":" min"},null,"  min",{"$f":"IF(I1920=1,C1920+F1920,IF(I1920=2,C1920*60+F1920,\"\"))","v":785},{"$f":"IF($I1920=1,\" hours\",\" min\")","v":" min"}]
[{"$f":"COUNTIF($B$1:B1921,TRUE)","v":1511},{"$f":"Worksheet!$B$11","v":true},{"$f":"RANDBETWEEN(5,RANDBETWEEN(5,Worksheet!$D$6))","v":142},"cm","±",{"$f":"IF(I1921=1,H1921*10^RANDBETWEEN(IF(Worksheet!$D$9,-1,0),0),IF(I1921=2,H1921,CHOOSE(RANDBETWEEN(1,3),5,10,20)))","v":0.4},{"$f":"IF(I1921=1,D1921,IF(I1921=3,\"%\",\"mm\"))","v":"cm"},{"$f":"RANDBETWEEN(1,MIN(9,C1921))","v":4},{"$f":"IF(AND(Worksheet!$D$8,RAND()<0.2),3,IF(RAND()<Worksheet!$D$7/100,1,2))","v":1},{"$f":"IF(I1921=1,C1921-F1921,IF(I1921=2,C1921-F1921/10,IF(I1921=3,(1-F1921/100)*C1921,\"\")))","v":141.6},{"$f":"CONCATENATE(\" \",D1921)","v":" cm"},{"$f":"J1921*10","v":1416},"mm",{"$f":"IF(I1921=1,C1921+F1921,IF(I1921=2,C1921+F1921/10,IF(I1921=3,(1+F1921/100)*C1921,\"\")))","v":142.4},{"$f":"CONCATENATE(\" \",K1921)","v":"  cm"},{"$f":"N1921*10","v":1424},"mm"]
[{"$f":"IF(COUNTIF($B$1:B1922,TRUE)=COUNTIF($B$1:B1921,TRUE),\"\",COUNTIF($B$1:B1922,TRUE))","v":1512},{"$f":"Worksheet!$B$12","v":true},{"$f":"RANDBETWEEN(5,RANDBETWEEN(5,Worksheet!$D$6))","v":129},"m","±",{"$f":"IF(I1922=1,H1922*10^RANDBETWEEN(IF(Worksheet!$D$9,-1,0),0),IF(I1922=2,H1922*10^RANDBETWEEN(RANDBETWEEN(0,1),1),CHOOSE(RANDBETWEEN(1,3),5,10,20)))","v":0.8},{"$f":"IF(I1922=1,D1922,IF(I1922=3,\"%\",\"cm\"))","v":"m"},{"$f":"RANDBETWEEN(1,MIN(9,C1922))","v":8},{"$f":"IF(AND(Worksheet!$D$8,RAND()<0.2),3,IF(RAND()<Worksheet!$D$7/100,1,2))","v":1},{"$f":"IF(I1922=1,C1922-F1922,IF(I1922=2,C1922-F1922/100,IF(I1922=3,(1-F1922/100)*C1922,\"\")))","v":128.19999999999999},{"$f":"CONCATENATE(\" \",D1922)","v":" m"},{"$f":"J1922*100","v":12819.999999999998},"cm",{"$f":"IF(I1922=1,C1922+F1922,IF(I1922=2,C1922+F1922/100,IF(I1922=3,(1+F1922/100)*C1922,\"\")))","v":129.80000000000001},{"$f":"CONCATENATE(\" \",K1922)","v":"  m"},{"$f":"N1922*100","v":12980.000000000002},"cm"]
[{"$f":"IF(COUNTIF($B$1:B1923,TRUE)=COUNTIF($B$1:B1922,TRUE),\"\",COUNTIF($B$1:B1923,TRUE))","v":1513},{"$f":"Worksheet!$B$13","v":true},{"$f":"RANDBETWEEN(5,RANDBETWEEN(5,Worksheet!$D$6))","v":173},"km","±",{"$f":"IF(I1923=1,H1923*10^RANDBETWEEN(IF(Worksheet!$D$9,-1,0),0),IF(I1923=2,H1923*10^RANDBETWEEN(RANDBETWEEN(0,2),2),CHOOSE(RANDBETWEEN(1,3),5,10,20)))","v":5},{"$f":"IF(I1923=1,D1923,IF(I1923=3,\"%\",\"m\"))","v":"km"},5,{"$f":"IF(AND(Worksheet!$D$8,RAND()<0.2),3,IF(RAND()<Worksheet!$D$7/100,1,2))","v":1},{"$f":"IF(I1923=1,C1923-F1923,IF(I1923=2,C1923-F1923/1000,IF(I1923=3,(1-F1923/100)*C1923,\"\")))","v":168}," km",{"$f":"J1923*1000","v":168000},"m",{"$f":"IF(I1923=1,C1923+F1923,IF(I1923=2,C1923+F1923/1000,IF(I1923=3,(1+F1923/100)*C1923,\"\")))","v":178},"  km",{"$f":"N1923*1000","v":178000},"m"]
[{"$f":"IF(COUNTIF($B$1:B1924,TRUE)=COUNTIF($B$1:B1923,TRUE),\"\",COUNTIF($B$1:B1924,TRUE))","v":""},{"$f":"Worksheet!$B$14","v":false},{"$f":"RANDBETWEEN(5,RANDBETWEEN(5,Worksheet!$D$6))","v":130},"m","±",{"$f":"IF(I1924=1,H1924*10^RANDBETWEEN(IF(Worksheet!$D$9,-1,0),0),IF(I1924=2,H1924*10^RANDBETWEEN(RANDBETWEEN(0,2),2),CHOOSE(RANDBETWEEN(1,3),5,10,20)))","v":20},{"$f":"IF(I1924=1,D1924,IF(I1924=3,\"%\",\"mm\"))","v":"%"},8,{"$f":"IF(AND(Worksheet!$D$8,RAND()<0.2),3,IF(RAND()<Worksheet!$D$7/100,1,2))","v":3},{"$f":"IF(I1924=1,C1924-F1924,IF(I1924=2,C1924-F1924/1000,IF(I1924=3,(1-F1924/100)*C1924,\"\")))","v":104}," m",{"$f":"J1924*1000","v":104000},"mm",{"$f":"IF(I1924=1,C1924+F1924,IF(I1924=2,C1924+F1924/1000,IF(I1924=3,(1+F1924/100)*C1924,\"\")))","v":156},"  m",{"$f":"N1924*1000","v":156000},"mm"]
[{"$f":"IF(COUNTIF($B$1:B1925,TRUE)=COUNTIF($B$1:B1924,TRUE),\"\",COUNTIF($B$1:B1925,TRUE))","v":1514},{"$f":"Worksheet!$B$15","v":true},{"$f":"RANDBETWEEN(5,20)","v":12},"hours","±",{"$f":"IF(I1925=1,H1925*10^RANDBETWEEN(IF(Worksheet!$D$9,-1,0),0),IF(I1925=2,H1925,CHOOSE(RANDBETWEEN(1,3),5,10,20)))","v":0.9},{"$f":"IF(I1925=1,D1925,IF(I1925=3,\"%\",\"min\"))","v":"hours"},9,{"$f":"IF(AND(Worksheet!$D$8,RAND()<0),3,IF(RAND()<Worksheet!$D$7/100,1,2))","v":1},null," hours",{"$f":"IF(I1925=1,C1925-F1925,IF(I1925=2,C1925*60-F1925,\"\"))","v":11.1},{"$f":"IF($I1925=1,\" hours\",\" min\")","v":" hours"},null,"  hours",{"$f":"IF(I1925=1,C1925+F1925,IF(I1925=2,C1925*60+F1925,\"\"))","v":12.9},{"$f":"IF($I1925=1,\" hours\",\" min\")","v":" hours"}]
[{"$f":"IF(COUNTIF($B$1:B1926,TRUE)=COUNTIF($B$1:B1925,TRUE),\"\",COUNTIF($B$1:B1926,TRUE))","v":1515},{"$f":"Worksheet!$D$11","v":true},{"$f":"RANDBETWEEN(5,RANDBETWEEN(5,Worksheet!$D$6))","v":19},"kg","±",{"$f":"IF(I1926=1,H1926*10^RANDBETWEEN(IF(Worksheet!$D$9,-1,0),0),IF(I1926=2,H1926*10^RANDBETWEEN(RANDBETWEEN(0,2),2),CHOOSE(RANDBETWEEN(1,3),5,10,20)))","v":30},{"$f":"IF(I1926=1,D1926,IF(I1926=3,\"%\",\"g\"))","v":"g"},3,{"$f":"IF(AND(Worksheet!$D$8,RAND()<0.2),3,IF(RAND()<Worksheet!$D$7/100,1,2))","v":2},{"$f":"IF(I1926=1,C1926-F1926,IF(I1926=2,C1926-F1926/1000,IF(I1926=3,(1-F1926/100)*C1926,\"\")))","v":18.97}," kg",{"$f":"J1926*1000","v":18970},"g",{"$f":"IF(I1926=1,C1926+F1926,IF(I1926=2,C1926+F1926/1000,IF(I1926=3,(1+F1926/100)*C1926,\"\")))","v":19.03},"  kg",{"$f":"N1926*1000","v":19030},"g"]
[{"$f":"IF(COUNTIF($B$1:B1927,TRUE)=COUNTIF($B$1:B1926,TRUE),\"\",COUNTIF($B$1:B1927,TRUE))","v":1516},{"$f":"Worksheet!$D$12","v":true},{"$f":"RANDBETWEEN(5,RANDBETWEEN(5,Worksheet!$D$6))","v":147},"tonnes","±",{"$f":"IF(I1927=1,H1927*10^RANDBETWEEN(IF(Worksheet!$D$9,-1,0),0),IF(I1927=2,H1927*10^RANDBETWEEN(RANDBETWEEN(0,2),2),CHOOSE(RANDBETWEEN(1,3),5,10,20)))","v":10},{"$f":"IF(I1927=1,D1927,IF(I1927=3,\"%\",\"kg\"))","v":"%"},3,{"$f":"IF(AND(Worksheet!$D$8,RAND()<0.2),3,IF(RAND()<Worksheet!$D$7/100,1,2))","v":3},{"$f":"IF(I1927=1,C1927-F1927,IF(I1927=2,C1927-F1927/1000,IF(I1927=3,(1-F1927/100)*C1927,\"\")))","v":132.30000000000001}," tonnes",{"$f":"J1927*1000","v":132300},"kg",{"$f":"IF(I1927=1,C1927+F1927,IF(I1927=2,C1927+F1927/1000,IF(I1927=3,(1+F1927/100)*C1927,\"\")))","v":161.70000000000002},"  tonnes",{"$f":"N1927*1000","v":161700.00000000003},"kg"]
[{"$f":"IF(COUNTIF($B$1:B1928,TRUE)=COUNTIF($B$1:B1927,TRUE),\"\",COUNTIF($B$1:B1928,TRUE))","v":1517},{"$f":"Worksheet!$D$13","v":true},{"$f":"RANDBETWEEN(5,RANDBETWEEN(5,Worksheet!$D$6))","v":158},"litres","±",{"$f":"IF(I1928=1,H1928*10^RANDBETWEEN(IF(Worksheet!$D$9,-1,0),0),IF(I1928=2,H1928*10^RANDBETWEEN(RANDBETWEEN(0,2),2),CHOOSE(RANDBETWEEN(1,3),5,10,20)))","v":0.2},{"$f":"IF(I1928=1,D1928,IF(I1928=3,\"%\",\"ml\"))","v":"litres"},2,{"$f":"IF(AND(Worksheet!$D$8,RAND()<0.2),3,IF(RAND()<Worksheet!$D$7/100,1,2))","v":1},{"$f":"IF(I1928=1,C1928-F1928,IF(I1928=2,C1928-F1928/1000,IF(I1928=3,(1-F1928/100)*C1928,\"\")))","v":157.80000000000001}," litres",{"$f":"J1928*1000","v":157800},"ml",{"$f":"IF(I1928=1,C1928+F1928,IF(I1928=2,C1928+F1928/1000,IF(I1928=3,(1+F1928/100)*C1928,\"\")))","v":158.19999999999999},"  litres",{"$f":"N1928*1000","v":158200},"ml"]
[{"$f":"IF(COUNTIF($B$1:B1929,TRUE)=COUNTIF($B$1:B1928,TRUE),\"\",COUNTIF($B$1:B1929,TRUE))","v":1518},{"$f":"Worksheet!$D$14","v":true},{"$f":"RANDBETWEEN(5,RANDBETWEEN(5,Worksheet!$D$6))","v":88},"litres","±",{"$f":"IF(I1929=1,H1929*10^RANDBETWEEN(IF(Worksheet!$D$9,-1,0),0),IF(I1929=2,H1929*10^RANDBETWEEN(RANDBETWEEN(0,2),2),CHOOSE(RANDBETWEEN(1,3),5,10,20)))","v":5},{"$f":"IF(I1929=1,D1929,IF(I1929=3,\"%\",\"cm³\"))","v":"%"},4,{"$f":"IF(AND(Worksheet!$D$8,RAND()<0.2),3,IF(RAND()<Worksheet!$D$7/100,1,2))","v":3},{"$f":"IF(I1929=1,C1929-F1929,IF(I1929=2,C1929-F1929/1000,IF(I1929=3,(1-F1929/100)*C1929,\"\")))","v":83.6}," litres",{"$f":"J1929*1000","v":83600},"cm³",{"$f":"IF(I1929=1,C1929+F1929,IF(I1929=2,C1929+F1929/1000,IF(I1929=3,(1+F1929/100)*C1929,\"\")))","v":92.4},"  litres",{"$f":"N1929*1000","v":92400},"cm³"]
[{"$f":"IF(COUNTIF($B$1:B1930,TRUE)=COUNTIF($B$1:B1929,TRUE),\"\",COUNTIF($B$1:B1930,TRUE))","v":""},{"$f":"Worksheet!$D$15","v":false},{"$f":"RANDBETWEEN(5,20)","v":5},"min","±",{"$f":"IF(I1930=1,H1930*10^RANDBETWEEN(IF(Worksheet!$D$9,-1,0),0),IF(I1930=2,H1930,CHOOSE(RANDBETWEEN(1,3),5,10,20)))","v":2},{"$f":"IF(I1930=1,D1930,IF(I1930=3,\"%\",\"sec\"))","v":"sec"},2,{"$f":"IF(AND(Worksheet!$D$8,RAND()<0),3,IF(RAND()<Worksheet!$D$7/100,1,2))","v":2},null," min",{"$f":"IF(I1930=1,C1930-F1930,IF(I1930=2,C1930*60-F1930,\"\"))","v":298},{"$f":"IF($I1930=1,\" hours\",\" min\")","v":" min"},null,"  min",{"$f":"IF(I1930=1,C1930+F1930,IF(I1930=2,C1930*60+F1930,\"\"))","v":302},{"$f":"IF($I1930=1,\" hours\",\" min\")","v":" min"}]
[{"$f":"COUNTIF($B$1:B1931,TRUE)","v":1519},{"$f":"Worksheet!$B$11","v":true},{"$f":"RANDBETWEEN(5,RANDBETWEEN(5,Worksheet!$D$6))","v":42},"cm","±",{"$f":"IF(I1931=1,H1931*10^RANDBETWEEN(IF(Worksheet!$D$9,-1,0),0),IF(I1931=2,H1931,CHOOSE(RANDBETWEEN(1,3),5,10,20)))","v":0.9},{"$f":"IF(I1931=1,D1931,IF(I1931=3,\"%\",\"mm\"))","v":"cm"},{"$f":"RANDBETWEEN(1,MIN(9,C1931))","v":9},{"$f":"IF(AND(Worksheet!$D$8,RAND()<0.2),3,IF(RAND()<Worksheet!$D$7/100,1,2))","v":1},{"$f":"IF(I1931=1,C1931-F1931,IF(I1931=2,C1931-F1931/10,IF(I1931=3,(1-F1931/100)*C1931,\"\")))","v":41.1},{"$f":"CONCATENATE(\" \",D1931)","v":" cm"},{"$f":"J1931*10","v":411},"mm",{"$f":"IF(I1931=1,C1931+F1931,IF(I1931=2,C1931+F1931/10,IF(I1931=3,(1+F1931/100)*C1931,\"\")))","v":42.9},{"$f":"CONCATENATE(\" \",K1931)","v":"  cm"},{"$f":"N1931*10","v":429},"mm"]
[{"$f":"IF(COUNTIF($B$1:B1932,TRUE)=COUNTIF($B$1:B1931,TRUE),\"\",COUNTIF($B$1:B1932,TRUE))","v":1520},{"$f":"Worksheet!$B$12","v":true},{"$f":"RANDBETWEEN(5,RANDBETWEEN(5,Worksheet!$D$6))","v":52},"m","±",{"$f":"IF(I1932=1,H1932*10^RANDBETWEEN(IF(Worksheet!$D$9,-1,0),0),IF(I1932=2,H1932*10^RANDBETWEEN(RANDBETWEEN(0,1),1),CHOOSE(RANDBETWEEN(1,3),5,10,20)))","v":3},{"$f":"IF(I1932=1,D1932,IF(I1932=3,\"%\",\"cm\"))","v":"m"},{"$f":"RANDBETWEEN(1,MIN(9,C1932))","v":3},{"$f":"IF(AND(Worksheet!$D$8,RAND()<0.2),3,IF(RAND()<Worksheet!$D$7/100,1,2))","v":1},{"$f":"IF(I1932=1,C1932-F1932,IF(I1932=2,C1932-F1932/100,IF(I1932=3,(1-F1932/100)*C1932,\"\")))","v":49},{"$f":"CONCATENATE(\" \",D1932)","v":" m"},{"$f":"J1932*100","v":4900},"cm",{"$f":"IF(I1932=1,C1932+F1932,IF(I1932=2,C1932+F1932/100,IF(I1932=3,(1+F1932/100)*C1932,\"\")))","v":55},{"$f":"CONCATENATE(\" \",K1932)","v":"  m"},{"$f":"N1932*100","v":5500},"cm"]
[{"$f":"IF(COUNTIF($B$1:B1933,TRUE)=COUNTIF($B$1:B1932,TRUE),\"\",COUNTIF($B$1:B1933,TRUE))","v":1521},{"$f":"Worksheet!$B$13","v":true},{"$f":"RANDBETWEEN(5,RANDBETWEEN(5,Worksheet!$D$6))","v":100},"km","±",{"$f":"IF(I1933=1,H1933*10^RANDBETWEEN(IF(Worksheet!$D$9,-1,0),0),IF(I1933=2,H1933*10^RANDBETWEEN(RANDBETWEEN(0,2),2),CHOOSE(RANDBETWEEN(1,3),5,10,20)))","v":60},{"$f":"IF(I1933=1,D1933,IF(I1933=3,\"%\",\"m\"))","v":"m"},6,{"$f":"IF(AND(Worksheet!$D$8,RAND()<0.2),3,IF(RAND()<Worksheet!$D$7/100,1,2))","v":2},{"$f":"IF(I1933=1,C1933-F1933,IF(I1933=2,C1933-F1933/1000,IF(I1933=3,(1-F1933/100)*C1933,\"\")))","v":99.94}," km",{"$f":"J1933*1000","v":99940},"m",{"$f":"IF(I1933=1,C1933+F1933,IF(I1933=2,C1933+F1933/1000,IF(I1933=3,(1+F1933/100)*C1933,\"\")))","v":100.06},"  km",{"$f":"N1933*1000","v":100060},"m"]
[{"$f":"IF(COUNTIF($B$1:B1934,TRUE)=COUNTIF($B$1:B1933,TRUE),\"\",COUNTIF($B$1:B1934,TRUE))","v":""},{"$f":"Worksheet!$B$14","v":false},{"$f":"RANDBETWEEN(5,RANDBETWEEN(5,Worksheet!$D$6))","v":29},"m","±",{"$f":"IF(I1934=1,H1934*10^RANDBETWEEN(IF(Worksheet!$D$9,-1,0),0),IF(I1934=2,H1934*10^RANDBETWEEN(RANDBETWEEN(0,2),2),CHOOSE(RANDBETWEEN(1,3),5,10,20)))","v":8},{"$f":"IF(I1934=1,D1934,IF(I1934=3,\"%\",\"mm\"))","v":"m"},8,{"$f":"IF(AND(Worksheet!$D$8,RAND()<0.2),3,IF(RAND()<Worksheet!$D$7/100,1,2))","v":1},{"$f":"IF(I1934=1,C1934-F1934,IF(I1934=2,C1934-F1934/1000,IF(I1934=3,(1-F1934/100)*C1934,\"\")))","v":21}," m",{"$f":"J1934*1000","v":21000},"mm",{"$f":"IF(I1934=1,C1934+F1934,IF(I1934=2,C1934+F1934/1000,IF(I1934=3,(1+F1934/100)*C1934,\"\")))","v":37},"  m",{"$f":"N1934*1000","v":37000},"mm"]
[{"$f":"IF(COUNTIF($B$1:B1935,TRUE)=COUNTIF($B$1:B1934,TRUE),\"\",COUNTIF($B$1:B1935,TRUE))","v":1522},{"$f":"Worksheet!$B$15","v":true},{"$f":"RANDBETWEEN(5,20)","v":5},"hours","±",{"$f":"IF(I1935=1,H1935*10^RANDBETWEEN(IF(Worksheet!$D$9,-1,0),0),IF(I1935=2,H1935,CHOOSE(RANDBETWEEN(1,3),5,10,20)))","v":0.2},{"$f":"IF(I1935=1,D1935,IF(I1935=3,\"%\",\"min\"))","v":"hours"},2,{"$f":"IF(AND(Worksheet!$D$8,RAND()<0),3,IF(RAND()<Worksheet!$D$7/100,1,2))","v":1},null," hours",{"$f":"IF(I1935=1,C1935-F1935,IF(I1935=2,C1935*60-F1935,\"\"))","v":4.8},{"$f":"IF($I1935=1,\" hours\",\" min\")","v":" hours"},null,"  hours",{"$f":"IF(I1935=1,C1935+F1935,IF(I1935=2,C1935*60+F1935,\"\"))","v":5.2},{"$f":"IF($I1935=1,\" hours\",\" min\")","v":" hours"}]
[{"$f":"IF(COUNTIF($B$1:B1936,TRUE)=COUNTIF($B$1:B1935,TRUE),\"\",COUNTIF($B$1:B1936,TRUE))","v":1523},{"$f":"Worksheet!$D$11","v":true},{"$f":"RANDBETWEEN(5,RANDBETWEEN(5,Worksheet!$D$6))","v":34},"kg","±",{"$f":"IF(I1936=1,H1936*10^RANDBETWEEN(IF(Worksheet!$D$9,-1,0),0),IF(I1936=2,H1936*10^RANDBETWEEN(RANDBETWEEN(0,2),2),CHOOSE(RANDBETWEEN(1,3),5,10,20)))","v":3},{"$f":"IF(I1936=1,D1936,IF(I1936=3,\"%\",\"g\"))","v":"kg"},3,{"$f":"IF(AND(Worksheet!$D$8,RAND()<0.2),3,IF(RAND()<Worksheet!$D$7/100,1,2))","v":1},{"$f":"IF(I1936=1,C1936-F1936,IF(I1936=2,C1936-F1936/1000,IF(I1936=3,(1-F1936/100)*C1936,\"\")))","v":31}," kg",{"$f":"J1936*1000","v":31000},"g",{"$f":"IF(I1936=1,C1936+F1936,IF(I1936=2,C1936+F1936/1000,IF(I1936=3,(1+F1936/100)*C1936,\"\")))","v":37},"  kg",{"$f":"N1936*1000","v":37000},"g"]
[{"$f":"IF(COUNTIF($B$1:B1937,TRUE)=COUNTIF($B$1:B1936,TRUE),\"\",COUNTIF($B$1:B1937,TRUE))","v":1524},{"$f":"Worksheet!$D$12","v":true},{"$f":"RANDBETWEEN(5,RANDBETWEEN(5,Worksheet!$D$6))","v":29},"tonnes","±",{"$f":"IF(I1937=1,H1937*10^RANDBETWEEN(IF(Worksheet!$D$9,-1,0),0),IF(I1937=2,H1937*10^RANDBETWEEN(RANDBETWEEN(0,2),2),CHOOSE(RANDBETWEEN(1,3),5,10,20)))","v":0.8},{"$f":"IF(I1937=1,D1937,IF(I1937=3,\"%\",\"kg\"))","v":"tonnes"},8,{"$f":"IF(AND(Worksheet!$D$8,RAND()<0.2),3,IF(RAND()<Worksheet!$D$7/100,1,2))","v":1},{"$f":"IF(I1937=1,C1937-F1937,IF(I1937=2,C1937-F1937/1000,IF(I1937=3,(1-F1937/100)*C1937,\"\")))","v":28.2}," tonnes",{"$f":"J1937*1000","v":28200},"kg",{"$f":"IF(I1937=1,C1937+F1937,IF(I1937=2,C1937+F1937/1000,IF(I1937=3,(1+F1937/100)*C1937,\"\")))","v":29.8},"  tonnes",{"$f":"N1937*1000","v":29800},"kg"]
[{"$f":"IF(COUNTIF($B$1:B1938,TRUE)=COUNTIF($B$1:B1937,TRUE),\"\",COUNTIF($B$1:B1938,TRUE))","v":1525},{"$f":"Worksheet!$D$13","v":true},{"$f":"RANDBETWEEN(5,RANDBETWEEN(5,Worksheet!$D$6))","v":76},"litres","±",{"$f":"IF(I1938=1,H1938*10^RANDBETWEEN(IF(Worksheet!$D$9,-1,0),0),IF(I1938=2,H1938*10^RANDBETWEEN(RANDBETWEEN(0,2),2),CHOOSE(RANDBETWEEN(1,3),5,10,20)))","v":700},{"$f":"IF(I1938=1,D1938,IF(I1938=3,\"%\",\"ml\"))","v":"ml"},7,{"$f":"IF(AND(Worksheet!$D$8,RAND()<0.2),3,IF(RAND()<Worksheet!$D$7/100,1,2))","v":2},{"$f":"IF(I1938=1,C1938-F1938,IF(I1938=2,C1938-F1938/1000,IF(I1938=3,(1-F1938/100)*C1938,\"\")))","v":75.3}," litres",{"$f":"J1938*1000","v":75300},"ml",{"$f":"IF(I1938=1,C1938+F1938,IF(I1938=2,C1938+F1938/1000,IF(I1938=3,(1+F1938/100)*C1938,\"\")))","v":76.7},"  litres",{"$f":"N1938*1000","v":76700},"ml"]
[{"$f":"IF(COUNTIF($B$1:B1939,TRUE)=COUNTIF($B$1:B1938,TRUE),\"\",COUNTIF($B$1:B1939,TRUE))","v":1526},{"$f":"Worksheet!$D$14","v":true},{"$f":"RANDBETWEEN(5,RANDBETWEEN(5,Worksheet!$D$6))","v":101},"litres","±",{"$f":"IF(I1939=1,H1939*10^RANDBETWEEN(IF(Worksheet!$D$9,-1,0),0),IF(I1939=2,H1939*10^RANDBETWEEN(RANDBETWEEN(0,2),2),CHOOSE(RANDBETWEEN(1,3),5,10,20)))","v":900},{"$f":"IF(I1939=1,D1939,IF(I1939=3,\"%\",\"cm³\"))","v":"cm³"},9,{"$f":"IF(AND(Worksheet!$D$8,RAND()<0.2),3,IF(RAND()<Worksheet!$D$7/100,1,2))","v":2},{"$f":"IF(I1939=1,C1939-F1939,IF(I1939=2,C1939-F1939/1000,IF(I1939=3,(1-F1939/100)*C1939,\"\")))","v":100.1}," litres",{"$f":"J1939*1000","v":100100},"cm³",{"$f":"IF(I1939=1,C1939+F1939,IF(I1939=2,C1939+F1939/1000,IF(I1939=3,(1+F1939/100)*C1939,\"\")))","v":101.9},"  litres",{"$f":"N1939*1000","v":101900},"cm³"]
[{"$f":"IF(COUNTIF($B$1:B1940,TRUE)=COUNTIF($B$1:B1939,TRUE),\"\",COUNTIF($B$1:B1940,TRUE))","v":""},{"$f":"Worksheet!$D$15","v":false},{"$f":"RANDBETWEEN(5,20)","v":13},"min","±",{"$f":"IF(I1940=1,H1940*10^RANDBETWEEN(IF(Worksheet!$D$9,-1,0),0),IF(I1940=2,H1940,CHOOSE(RANDBETWEEN(1,3),5,10,20)))","v":3},{"$f":"IF(I1940=1,D1940,IF(I1940=3,\"%\",\"sec\"))","v":"min"},3,{"$f":"IF(AND(Worksheet!$D$8,RAND()<0),3,IF(RAND()<Worksheet!$D$7/100,1,2))","v":1},null," min",{"$f":"IF(I1940=1,C1940-F1940,IF(I1940=2,C1940*60-F1940,\"\"))","v":10},{"$f":"IF($I1940=1,\" hours\",\" min\")","v":" hours"},null,"  min",{"$f":"IF(I1940=1,C1940+F1940,IF(I1940=2,C1940*60+F1940,\"\"))","v":16},{"$f":"IF($I1940=1,\" hours\",\" min\")","v":" hours"}]
[{"$f":"COUNTIF($B$1:B1941,TRUE)","v":1527},{"$f":"Worksheet!$B$11","v":true},{"$f":"RANDBETWEEN(5,RANDBETWEEN(5,Worksheet!$D$6))","v":283},"cm","±",{"$f":"IF(I1941=1,H1941*10^RANDBETWEEN(IF(Worksheet!$D$9,-1,0),0),IF(I1941=2,H1941,CHOOSE(RANDBETWEEN(1,3),5,10,20)))","v":3},{"$f":"IF(I1941=1,D1941,IF(I1941=3,\"%\",\"mm\"))","v":"cm"},{"$f":"RANDBETWEEN(1,MIN(9,C1941))","v":3},{"$f":"IF(AND(Worksheet!$D$8,RAND()<0.2),3,IF(RAND()<Worksheet!$D$7/100,1,2))","v":1},{"$f":"IF(I1941=1,C1941-F1941,IF(I1941=2,C1941-F1941/10,IF(I1941=3,(1-F1941/100)*C1941,\"\")))","v":280},{"$f":"CONCATENATE(\" \",D1941)","v":" cm"},{"$f":"J1941*10","v":2800},"mm",{"$f":"IF(I1941=1,C1941+F1941,IF(I1941=2,C1941+F1941/10,IF(I1941=3,(1+F1941/100)*C1941,\"\")))","v":286},{"$f":"CONCATENATE(\" \",K1941)","v":"  cm"},{"$f":"N1941*10","v":2860},"mm"]
[{"$f":"IF(COUNTIF($B$1:B1942,TRUE)=COUNTIF($B$1:B1941,TRUE),\"\",COUNTIF($B$1:B1942,TRUE))","v":1528},{"$f":"Worksheet!$B$12","v":true},{"$f":"RANDBETWEEN(5,RANDBETWEEN(5,Worksheet!$D$6))","v":25},"m","±",{"$f":"IF(I1942=1,H1942*10^RANDBETWEEN(IF(Worksheet!$D$9,-1,0),0),IF(I1942=2,H1942*10^RANDBETWEEN(RANDBETWEEN(0,1),1),CHOOSE(RANDBETWEEN(1,3),5,10,20)))","v":9},{"$f":"IF(I1942=1,D1942,IF(I1942=3,\"%\",\"cm\"))","v":"m"},{"$f":"RANDBETWEEN(1,MIN(9,C1942))","v":9},{"$f":"IF(AND(Worksheet!$D$8,RAND()<0.2),3,IF(RAND()<Worksheet!$D$7/100,1,2))","v":1},{"$f":"IF(I1942=1,C1942-F1942,IF(I1942=2,C1942-F1942/100,IF(I1942=3,(1-F1942/100)*C1942,\"\")))","v":16},{"$f":"CONCATENATE(\" \",D1942)","v":" m"},{"$f":"J1942*100","v":1600},"cm",{"$f":"IF(I1942=1,C1942+F1942,IF(I1942=2,C1942+F1942/100,IF(I1942=3,(1+F1942/100)*C1942,\"\")))","v":34},{"$f":"CONCATENATE(\" \",K1942)","v":"  m"},{"$f":"N1942*100","v":3400},"cm"]
[{"$f":"IF(COUNTIF($B$1:B1943,TRUE)=COUNTIF($B$1:B1942,TRUE),\"\",COUNTIF($B$1:B1943,TRUE))","v":1529},{"$f":"Worksheet!$B$13","v":true},{"$f":"RANDBETWEEN(5,RANDBETWEEN(5,Worksheet!$D$6))","v":31},"km","±",{"$f":"IF(I1943=1,H1943*10^RANDBETWEEN(IF(Worksheet!$D$9,-1,0),0),IF(I1943=2,H1943*10^RANDBETWEEN(RANDBETWEEN(0,2),2),CHOOSE(RANDBETWEEN(1,3),5,10,20)))","v":0.5},{"$f":"IF(I1943=1,D1943,IF(I1943=3,\"%\",\"m\"))","v":"km"},5,{"$f":"IF(AND(Worksheet!$D$8,RAND()<0.2),3,IF(RAND()<Worksheet!$D$7/100,1,2))","v":1},{"$f":"IF(I1943=1,C1943-F1943,IF(I1943=2,C1943-F1943/1000,IF(I1943=3,(1-F1943/100)*C1943,\"\")))","v":30.5}," km",{"$f":"J1943*1000","v":30500},"m",{"$f":"IF(I1943=1,C1943+F1943,IF(I1943=2,C1943+F1943/1000,IF(I1943=3,(1+F1943/100)*C1943,\"\")))","v":31.5},"  km",{"$f":"N1943*1000","v":31500},"m"]
[{"$f":"IF(COUNTIF($B$1:B1944,TRUE)=COUNTIF($B$1:B1943,TRUE),\"\",COUNTIF($B$1:B1944,TRUE))","v":""},{"$f":"Worksheet!$B$14","v":false},{"$f":"RANDBETWEEN(5,RANDBETWEEN(5,Worksheet!$D$6))","v":135},"m","±",{"$f":"IF(I1944=1,H1944*10^RANDBETWEEN(IF(Worksheet!$D$9,-1,0),0),IF(I1944=2,H1944*10^RANDBETWEEN(RANDBETWEEN(0,2),2),CHOOSE(RANDBETWEEN(1,3),5,10,20)))","v":400},{"$f":"IF(I1944=1,D1944,IF(I1944=3,\"%\",\"mm\"))","v":"mm"},4,{"$f":"IF(AND(Worksheet!$D$8,RAND()<0.2),3,IF(RAND()<Worksheet!$D$7/100,1,2))","v":2},{"$f":"IF(I1944=1,C1944-F1944,IF(I1944=2,C1944-F1944/1000,IF(I1944=3,(1-F1944/100)*C1944,\"\")))","v":134.6}," m",{"$f":"J1944*1000","v":134600},"mm",{"$f":"IF(I1944=1,C1944+F1944,IF(I1944=2,C1944+F1944/1000,IF(I1944=3,(1+F1944/100)*C1944,\"\")))","v":135.4},"  m",{"$f":"N1944*1000","v":135400},"mm"]
[{"$f":"IF(COUNTIF($B$1:B1945,TRUE)=COUNTIF($B$1:B1944,TRUE),\"\",COUNTIF($B$1:B1945,TRUE))","v":1530},{"$f":"Worksheet!$B$15","v":true},{"$f":"RANDBETWEEN(5,20)","v":10},"hours","±",{"$f":"IF(I1945=1,H1945*10^RANDBETWEEN(IF(Worksheet!$D$9,-1,0),0),IF(I1945=2,H1945,CHOOSE(RANDBETWEEN(1,3),5,10,20)))","v":2},{"$f":"IF(I1945=1,D1945,IF(I1945=3,\"%\",\"min\"))","v":"hours"},2,{"$f":"IF(AND(Worksheet!$D$8,RAND()<0),3,IF(RAND()<Worksheet!$D$7/100,1,2))","v":1},null," hours",{"$f":"IF(I1945=1,C1945-F1945,IF(I1945=2,C1945*60-F1945,\"\"))","v":8},{"$f":"IF($I1945=1,\" hours\",\" min\")","v":" hours"},null,"  hours",{"$f":"IF(I1945=1,C1945+F1945,IF(I1945=2,C1945*60+F1945,\"\"))","v":12},{"$f":"IF($I1945=1,\" hours\",\" min\")","v":" hours"}]
[{"$f":"IF(COUNTIF($B$1:B1946,TRUE)=COUNTIF($B$1:B1945,TRUE),\"\",COUNTIF($B$1:B1946,TRUE))","v":1531},{"$f":"Worksheet!$D$11","v":true},{"$f":"RANDBETWEEN(5,RANDBETWEEN(5,Worksheet!$D$6))","v":13},"kg","±",{"$f":"IF(I1946=1,H1946*10^RANDBETWEEN(IF(Worksheet!$D$9,-1,0),0),IF(I1946=2,H1946*10^RANDBETWEEN(RANDBETWEEN(0,2),2),CHOOSE(RANDBETWEEN(1,3),5,10,20)))","v":0.60000000000000009},{"$f":"IF(I1946=1,D1946,IF(I1946=3,\"%\",\"g\"))","v":"kg"},6,{"$f":"IF(AND(Worksheet!$D$8,RAND()<0.2),3,IF(RAND()<Worksheet!$D$7/100,1,2))","v":1},{"$f":"IF(I1946=1,C1946-F1946,IF(I1946=2,C1946-F1946/1000,IF(I1946=3,(1-F1946/100)*C1946,\"\")))","v":12.4}," kg",{"$f":"J1946*1000","v":12400},"g",{"$f":"IF(I1946=1,C1946+F1946,IF(I1946=2,C1946+F1946/1000,IF(I1946=3,(1+F1946/100)*C1946,\"\")))","v":13.6},"  kg",{"$f":"N1946*1000","v":13600},"g"]
[{"$f":"IF(COUNTIF($B$1:B1947,TRUE)=COUNTIF($B$1:B1946,TRUE),\"\",COUNTIF($B$1:B1947,TRUE))","v":1532},{"$f":"Worksheet!$D$12","v":true},{"$f":"RANDBETWEEN(5,RANDBETWEEN(5,Worksheet!$D$6))","v":101},"tonnes","±",{"$f":"IF(I1947=1,H1947*10^RANDBETWEEN(IF(Worksheet!$D$9,-1,0),0),IF(I1947=2,H1947*10^RANDBETWEEN(RANDBETWEEN(0,2),2),CHOOSE(RANDBETWEEN(1,3),5,10,20)))","v":4},{"$f":"IF(I1947=1,D1947,IF(I1947=3,\"%\",\"kg\"))","v":"tonnes"},4,{"$f":"IF(AND(Worksheet!$D$8,RAND()<0.2),3,IF(RAND()<Worksheet!$D$7/100,1,2))","v":1},{"$f":"IF(I1947=1,C1947-F1947,IF(I1947=2,C1947-F1947/1000,IF(I1947=3,(1-F1947/100)*C1947,\"\")))","v":97}," tonnes",{"$f":"J1947*1000","v":97000},"kg",{"$f":"IF(I1947=1,C1947+F1947,IF(I1947=2,C1947+F1947/1000,IF(I1947=3,(1+F1947/100)*C1947,\"\")))","v":105},"  tonnes",{"$f":"N1947*1000","v":105000},"kg"]
[{"$f":"IF(COUNTIF($B$1:B1948,TRUE)=COUNTIF($B$1:B1947,TRUE),\"\",COUNTIF($B$1:B1948,TRUE))","v":1533},{"$f":"Worksheet!$D$13","v":true},{"$f":"RANDBETWEEN(5,RANDBETWEEN(5,Worksheet!$D$6))","v":103},"litres","±",{"$f":"IF(I1948=1,H1948*10^RANDBETWEEN(IF(Worksheet!$D$9,-1,0),0),IF(I1948=2,H1948*10^RANDBETWEEN(RANDBETWEEN(0,2),2),CHOOSE(RANDBETWEEN(1,3),5,10,20)))","v":10},{"$f":"IF(I1948=1,D1948,IF(I1948=3,\"%\",\"ml\"))","v":"%"},8,{"$f":"IF(AND(Worksheet!$D$8,RAND()<0.2),3,IF(RAND()<Worksheet!$D$7/100,1,2))","v":3},{"$f":"IF(I1948=1,C1948-F1948,IF(I1948=2,C1948-F1948/1000,IF(I1948=3,(1-F1948/100)*C1948,\"\")))","v":92.7}," litres",{"$f":"J1948*1000","v":92700},"ml",{"$f":"IF(I1948=1,C1948+F1948,IF(I1948=2,C1948+F1948/1000,IF(I1948=3,(1+F1948/100)*C1948,\"\")))","v":113.30000000000001},"  litres",{"$f":"N1948*1000","v":113300.00000000001},"ml"]
[{"$f":"IF(COUNTIF($B$1:B1949,TRUE)=COUNTIF($B$1:B1948,TRUE),\"\",COUNTIF($B$1:B1949,TRUE))","v":1534},{"$f":"Worksheet!$D$14","v":true},{"$f":"RANDBETWEEN(5,RANDBETWEEN(5,Worksheet!$D$6))","v":182},"litres","±",{"$f":"IF(I1949=1,H1949*10^RANDBETWEEN(IF(Worksheet!$D$9,-1,0),0),IF(I1949=2,H1949*10^RANDBETWEEN(RANDBETWEEN(0,2),2),CHOOSE(RANDBETWEEN(1,3),5,10,20)))","v":10},{"$f":"IF(I1949=1,D1949,IF(I1949=3,\"%\",\"cm³\"))","v":"%"},9,{"$f":"IF(AND(Worksheet!$D$8,RAND()<0.2),3,IF(RAND()<Worksheet!$D$7/100,1,2))","v":3},{"$f":"IF(I1949=1,C1949-F1949,IF(I1949=2,C1949-F1949/1000,IF(I1949=3,(1-F1949/100)*C1949,\"\")))","v":163.80000000000001}," litres",{"$f":"J1949*1000","v":163800},"cm³",{"$f":"IF(I1949=1,C1949+F1949,IF(I1949=2,C1949+F1949/1000,IF(I1949=3,(1+F1949/100)*C1949,\"\")))","v":200.20000000000002},"  litres",{"$f":"N1949*1000","v":200200.00000000003},"cm³"]
[{"$f":"IF(COUNTIF($B$1:B1950,TRUE)=COUNTIF($B$1:B1949,TRUE),\"\",COUNTIF($B$1:B1950,TRUE))","v":""},{"$f":"Worksheet!$D$15","v":false},{"$f":"RANDBETWEEN(5,20)","v":19},"min","±",{"$f":"IF(I1950=1,H1950*10^RANDBETWEEN(IF(Worksheet!$D$9,-1,0),0),IF(I1950=2,H1950,CHOOSE(RANDBETWEEN(1,3),5,10,20)))","v":0.5},{"$f":"IF(I1950=1,D1950,IF(I1950=3,\"%\",\"sec\"))","v":"min"},5,{"$f":"IF(AND(Worksheet!$D$8,RAND()<0),3,IF(RAND()<Worksheet!$D$7/100,1,2))","v":1},null," min",{"$f":"IF(I1950=1,C1950-F1950,IF(I1950=2,C1950*60-F1950,\"\"))","v":18.5},{"$f":"IF($I1950=1,\" hours\",\" min\")","v":" hours"},null,"  min",{"$f":"IF(I1950=1,C1950+F1950,IF(I1950=2,C1950*60+F1950,\"\"))","v":19.5},{"$f":"IF($I1950=1,\" hours\",\" min\")","v":" hours"}]
[{"$f":"COUNTIF($B$1:B1951,TRUE)","v":1535},{"$f":"Worksheet!$B$11","v":true},{"$f":"RANDBETWEEN(5,RANDBETWEEN(5,Worksheet!$D$6))","v":273},"cm","±",{"$f":"IF(I1951=1,H1951*10^RANDBETWEEN(IF(Worksheet!$D$9,-1,0),0),IF(I1951=2,H1951,CHOOSE(RANDBETWEEN(1,3),5,10,20)))","v":0.70000000000000007},{"$f":"IF(I1951=1,D1951,IF(I1951=3,\"%\",\"mm\"))","v":"cm"},{"$f":"RANDBETWEEN(1,MIN(9,C1951))","v":7},{"$f":"IF(AND(Worksheet!$D$8,RAND()<0.2),3,IF(RAND()<Worksheet!$D$7/100,1,2))","v":1},{"$f":"IF(I1951=1,C1951-F1951,IF(I1951=2,C1951-F1951/10,IF(I1951=3,(1-F1951/100)*C1951,\"\")))","v":272.3},{"$f":"CONCATENATE(\" \",D1951)","v":" cm"},{"$f":"J1951*10","v":2723},"mm",{"$f":"IF(I1951=1,C1951+F1951,IF(I1951=2,C1951+F1951/10,IF(I1951=3,(1+F1951/100)*C1951,\"\")))","v":273.7},{"$f":"CONCATENATE(\" \",K1951)","v":"  cm"},{"$f":"N1951*10","v":2737},"mm"]
[{"$f":"IF(COUNTIF($B$1:B1952,TRUE)=COUNTIF($B$1:B1951,TRUE),\"\",COUNTIF($B$1:B1952,TRUE))","v":1536},{"$f":"Worksheet!$B$12","v":true},{"$f":"RANDBETWEEN(5,RANDBETWEEN(5,Worksheet!$D$6))","v":101},"m","±",{"$f":"IF(I1952=1,H1952*10^RANDBETWEEN(IF(Worksheet!$D$9,-1,0),0),IF(I1952=2,H1952*10^RANDBETWEEN(RANDBETWEEN(0,1),1),CHOOSE(RANDBETWEEN(1,3),5,10,20)))","v":50},{"$f":"IF(I1952=1,D1952,IF(I1952=3,\"%\",\"cm\"))","v":"cm"},{"$f":"RANDBETWEEN(1,MIN(9,C1952))","v":5},{"$f":"IF(AND(Worksheet!$D$8,RAND()<0.2),3,IF(RAND()<Worksheet!$D$7/100,1,2))","v":2},{"$f":"IF(I1952=1,C1952-F1952,IF(I1952=2,C1952-F1952/100,IF(I1952=3,(1-F1952/100)*C1952,\"\")))","v":100.5},{"$f":"CONCATENATE(\" \",D1952)","v":" m"},{"$f":"J1952*100","v":10050},"cm",{"$f":"IF(I1952=1,C1952+F1952,IF(I1952=2,C1952+F1952/100,IF(I1952=3,(1+F1952/100)*C1952,\"\")))","v":101.5},{"$f":"CONCATENATE(\" \",K1952)","v":"  m"},{"$f":"N1952*100","v":10150},"cm"]
[{"$f":"IF(COUNTIF($B$1:B1953,TRUE)=COUNTIF($B$1:B1952,TRUE),\"\",COUNTIF($B$1:B1953,TRUE))","v":1537},{"$f":"Worksheet!$B$13","v":true},{"$f":"RANDBETWEEN(5,RANDBETWEEN(5,Worksheet!$D$6))","v":95},"km","±",{"$f":"IF(I1953=1,H1953*10^RANDBETWEEN(IF(Worksheet!$D$9,-1,0),0),IF(I1953=2,H1953*10^RANDBETWEEN(RANDBETWEEN(0,2),2),CHOOSE(RANDBETWEEN(1,3),5,10,20)))","v":60},{"$f":"IF(I1953=1,D1953,IF(I1953=3,\"%\",\"m\"))","v":"m"},6,{"$f":"IF(AND(Worksheet!$D$8,RAND()<0.2),3,IF(RAND()<Worksheet!$D$7/100,1,2))","v":2},{"$f":"IF(I1953=1,C1953-F1953,IF(I1953=2,C1953-F1953/1000,IF(I1953=3,(1-F1953/100)*C1953,\"\")))","v":94.94}," km",{"$f":"J1953*1000","v":94940},"m",{"$f":"IF(I1953=1,C1953+F1953,IF(I1953=2,C1953+F1953/1000,IF(I1953=3,(1+F1953/100)*C1953,\"\")))","v":95.06},"  km",{"$f":"N1953*1000","v":95060},"m"]
[{"$f":"IF(COUNTIF($B$1:B1954,TRUE)=COUNTIF($B$1:B1953,TRUE),\"\",COUNTIF($B$1:B1954,TRUE))","v":""},{"$f":"Worksheet!$B$14","v":false},{"$f":"RANDBETWEEN(5,RANDBETWEEN(5,Worksheet!$D$6))","v":65},"m","±",{"$f":"IF(I1954=1,H1954*10^RANDBETWEEN(IF(Worksheet!$D$9,-1,0),0),IF(I1954=2,H1954*10^RANDBETWEEN(RANDBETWEEN(0,2),2),CHOOSE(RANDBETWEEN(1,3),5,10,20)))","v":0.2},{"$f":"IF(I1954=1,D1954,IF(I1954=3,\"%\",\"mm\"))","v":"m"},2,{"$f":"IF(AND(Worksheet!$D$8,RAND()<0.2),3,IF(RAND()<Worksheet!$D$7/100,1,2))","v":1},{"$f":"IF(I1954=1,C1954-F1954,IF(I1954=2,C1954-F1954/1000,IF(I1954=3,(1-F1954/100)*C1954,\"\")))","v":64.8}," m",{"$f":"J1954*1000","v":64800},"mm",{"$f":"IF(I1954=1,C1954+F1954,IF(I1954=2,C1954+F1954/1000,IF(I1954=3,(1+F1954/100)*C1954,\"\")))","v":65.2},"  m",{"$f":"N1954*1000","v":65200},"mm"]
[{"$f":"IF(COUNTIF($B$1:B1955,TRUE)=COUNTIF($B$1:B1954,TRUE),\"\",COUNTIF($B$1:B1955,TRUE))","v":1538},{"$f":"Worksheet!$B$15","v":true},{"$f":"RANDBETWEEN(5,20)","v":13},"hours","±",{"$f":"IF(I1955=1,H1955*10^RANDBETWEEN(IF(Worksheet!$D$9,-1,0),0),IF(I1955=2,H1955,CHOOSE(RANDBETWEEN(1,3),5,10,20)))","v":2},{"$f":"IF(I1955=1,D1955,IF(I1955=3,\"%\",\"min\"))","v":"min"},2,{"$f":"IF(AND(Worksheet!$D$8,RAND()<0),3,IF(RAND()<Worksheet!$D$7/100,1,2))","v":2},null," hours",{"$f":"IF(I1955=1,C1955-F1955,IF(I1955=2,C1955*60-F1955,\"\"))","v":778},{"$f":"IF($I1955=1,\" hours\",\" min\")","v":" min"},null,"  hours",{"$f":"IF(I1955=1,C1955+F1955,IF(I1955=2,C1955*60+F1955,\"\"))","v":782},{"$f":"IF($I1955=1,\" hours\",\" min\")","v":" min"}]
[{"$f":"IF(COUNTIF($B$1:B1956,TRUE)=COUNTIF($B$1:B1955,TRUE),\"\",COUNTIF($B$1:B1956,TRUE))","v":1539},{"$f":"Worksheet!$D$11","v":true},{"$f":"RANDBETWEEN(5,RANDBETWEEN(5,Worksheet!$D$6))","v":336},"kg","±",{"$f":"IF(I1956=1,H1956*10^RANDBETWEEN(IF(Worksheet!$D$9,-1,0),0),IF(I1956=2,H1956*10^RANDBETWEEN(RANDBETWEEN(0,2),2),CHOOSE(RANDBETWEEN(1,3),5,10,20)))","v":0.1},{"$f":"IF(I1956=1,D1956,IF(I1956=3,\"%\",\"g\"))","v":"kg"},1,{"$f":"IF(AND(Worksheet!$D$8,RAND()<0.2),3,IF(RAND()<Worksheet!$D$7/100,1,2))","v":1},{"$f":"IF(I1956=1,C1956-F1956,IF(I1956=2,C1956-F1956/1000,IF(I1956=3,(1-F1956/100)*C1956,\"\")))","v":335.9}," kg",{"$f":"J1956*1000","v":335900},"g",{"$f":"IF(I1956=1,C1956+F1956,IF(I1956=2,C1956+F1956/1000,IF(I1956=3,(1+F1956/100)*C1956,\"\")))","v":336.1},"  kg",{"$f":"N1956*1000","v":336100},"g"]
[{"$f":"IF(COUNTIF($B$1:B1957,TRUE)=COUNTIF($B$1:B1956,TRUE),\"\",COUNTIF($B$1:B1957,TRUE))","v":1540},{"$f":"Worksheet!$D$12","v":true},{"$f":"RANDBETWEEN(5,RANDBETWEEN(5,Worksheet!$D$6))","v":216},"tonnes","±",{"$f":"IF(I1957=1,H1957*10^RANDBETWEEN(IF(Worksheet!$D$9,-1,0),0),IF(I1957=2,H1957*10^RANDBETWEEN(RANDBETWEEN(0,2),2),CHOOSE(RANDBETWEEN(1,3),5,10,20)))","v":4},{"$f":"IF(I1957=1,D1957,IF(I1957=3,\"%\",\"kg\"))","v":"tonnes"},4,{"$f":"IF(AND(Worksheet!$D$8,RAND()<0.2),3,IF(RAND()<Worksheet!$D$7/100,1,2))","v":1},{"$f":"IF(I1957=1,C1957-F1957,IF(I1957=2,C1957-F1957/1000,IF(I1957=3,(1-F1957/100)*C1957,\"\")))","v":212}," tonnes",{"$f":"J1957*1000","v":212000},"kg",{"$f":"IF(I1957=1,C1957+F1957,IF(I1957=2,C1957+F1957/1000,IF(I1957=3,(1+F1957/100)*C1957,\"\")))","v":220},"  tonnes",{"$f":"N1957*1000","v":220000},"kg"]
[{"$f":"IF(COUNTIF($B$1:B1958,TRUE)=COUNTIF($B$1:B1957,TRUE),\"\",COUNTIF($B$1:B1958,TRUE))","v":1541},{"$f":"Worksheet!$D$13","v":true},{"$f":"RANDBETWEEN(5,RANDBETWEEN(5,Worksheet!$D$6))","v":75},"litres","±",{"$f":"IF(I1958=1,H1958*10^RANDBETWEEN(IF(Worksheet!$D$9,-1,0),0),IF(I1958=2,H1958*10^RANDBETWEEN(RANDBETWEEN(0,2),2),CHOOSE(RANDBETWEEN(1,3),5,10,20)))","v":200},{"$f":"IF(I1958=1,D1958,IF(I1958=3,\"%\",\"ml\"))","v":"ml"},2,{"$f":"IF(AND(Worksheet!$D$8,RAND()<0.2),3,IF(RAND()<Worksheet!$D$7/100,1,2))","v":2},{"$f":"IF(I1958=1,C1958-F1958,IF(I1958=2,C1958-F1958/1000,IF(I1958=3,(1-F1958/100)*C1958,\"\")))","v":74.8}," litres",{"$f":"J1958*1000","v":74800},"ml",{"$f":"IF(I1958=1,C1958+F1958,IF(I1958=2,C1958+F1958/1000,IF(I1958=3,(1+F1958/100)*C1958,\"\")))","v":75.2},"  litres",{"$f":"N1958*1000","v":75200},"ml"]
[{"$f":"IF(COUNTIF($B$1:B1959,TRUE)=COUNTIF($B$1:B1958,TRUE),\"\",COUNTIF($B$1:B1959,TRUE))","v":1542},{"$f":"Worksheet!$D$14","v":true},{"$f":"RANDBETWEEN(5,RANDBETWEEN(5,Worksheet!$D$6))","v":116},"litres","±",{"$f":"IF(I1959=1,H1959*10^RANDBETWEEN(IF(Worksheet!$D$9,-1,0),0),IF(I1959=2,H1959*10^RANDBETWEEN(RANDBETWEEN(0,2),2),CHOOSE(RANDBETWEEN(1,3),5,10,20)))","v":0.8},{"$f":"IF(I1959=1,D1959,IF(I1959=3,\"%\",\"cm³\"))","v":"litres"},8,{"$f":"IF(AND(Worksheet!$D$8,RAND()<0.2),3,IF(RAND()<Worksheet!$D$7/100,1,2))","v":1},{"$f":"IF(I1959=1,C1959-F1959,IF(I1959=2,C1959-F1959/1000,IF(I1959=3,(1-F1959/100)*C1959,\"\")))","v":115.2}," litres",{"$f":"J1959*1000","v":115200},"cm³",{"$f":"IF(I1959=1,C1959+F1959,IF(I1959=2,C1959+F1959/1000,IF(I1959=3,(1+F1959/100)*C1959,\"\")))","v":116.8},"  litres",{"$f":"N1959*1000","v":116800},"cm³"]
[{"$f":"IF(COUNTIF($B$1:B1960,TRUE)=COUNTIF($B$1:B1959,TRUE),\"\",COUNTIF($B$1:B1960,TRUE))","v":""},{"$f":"Worksheet!$D$15","v":false},{"$f":"RANDBETWEEN(5,20)","v":12},"min","±",{"$f":"IF(I1960=1,H1960*10^RANDBETWEEN(IF(Worksheet!$D$9,-1,0),0),IF(I1960=2,H1960,CHOOSE(RANDBETWEEN(1,3),5,10,20)))","v":0.9},{"$f":"IF(I1960=1,D1960,IF(I1960=3,\"%\",\"sec\"))","v":"min"},9,{"$f":"IF(AND(Worksheet!$D$8,RAND()<0),3,IF(RAND()<Worksheet!$D$7/100,1,2))","v":1},null," min",{"$f":"IF(I1960=1,C1960-F1960,IF(I1960=2,C1960*60-F1960,\"\"))","v":11.1},{"$f":"IF($I1960=1,\" hours\",\" min\")","v":" hours"},null,"  min",{"$f":"IF(I1960=1,C1960+F1960,IF(I1960=2,C1960*60+F1960,\"\"))","v":12.9},{"$f":"IF($I1960=1,\" hours\",\" min\")","v":" hours"}]
[{"$f":"COUNTIF($B$1:B1961,TRUE)","v":1543},{"$f":"Worksheet!$B$11","v":true},{"$f":"RANDBETWEEN(5,RANDBETWEEN(5,Worksheet!$D$6))","v":8},"cm","±",{"$f":"IF(I1961=1,H1961*10^RANDBETWEEN(IF(Worksheet!$D$9,-1,0),0),IF(I1961=2,H1961,CHOOSE(RANDBETWEEN(1,3),5,10,20)))","v":0.8},{"$f":"IF(I1961=1,D1961,IF(I1961=3,\"%\",\"mm\"))","v":"cm"},{"$f":"RANDBETWEEN(1,MIN(9,C1961))","v":8},{"$f":"IF(AND(Worksheet!$D$8,RAND()<0.2),3,IF(RAND()<Worksheet!$D$7/100,1,2))","v":1},{"$f":"IF(I1961=1,C1961-F1961,IF(I1961=2,C1961-F1961/10,IF(I1961=3,(1-F1961/100)*C1961,\"\")))","v":7.2},{"$f":"CONCATENATE(\" \",D1961)","v":" cm"},{"$f":"J1961*10","v":72},"mm",{"$f":"IF(I1961=1,C1961+F1961,IF(I1961=2,C1961+F1961/10,IF(I1961=3,(1+F1961/100)*C1961,\"\")))","v":8.8000000000000007},{"$f":"CONCATENATE(\" \",K1961)","v":"  cm"},{"$f":"N1961*10","v":88},"mm"]
[{"$f":"IF(COUNTIF($B$1:B1962,TRUE)=COUNTIF($B$1:B1961,TRUE),\"\",COUNTIF($B$1:B1962,TRUE))","v":1544},{"$f":"Worksheet!$B$12","v":true},{"$f":"RANDBETWEEN(5,RANDBETWEEN(5,Worksheet!$D$6))","v":40},"m","±",{"$f":"IF(I1962=1,H1962*10^RANDBETWEEN(IF(Worksheet!$D$9,-1,0),0),IF(I1962=2,H1962*10^RANDBETWEEN(RANDBETWEEN(0,1),1),CHOOSE(RANDBETWEEN(1,3),5,10,20)))","v":60},{"$f":"IF(I1962=1,D1962,IF(I1962=3,\"%\",\"cm\"))","v":"cm"},{"$f":"RANDBETWEEN(1,MIN(9,C1962))","v":6},{"$f":"IF(AND(Worksheet!$D$8,RAND()<0.2),3,IF(RAND()<Worksheet!$D$7/100,1,2))","v":2},{"$f":"IF(I1962=1,C1962-F1962,IF(I1962=2,C1962-F1962/100,IF(I1962=3,(1-F1962/100)*C1962,\"\")))","v":39.4},{"$f":"CONCATENATE(\" \",D1962)","v":" m"},{"$f":"J1962*100","v":3940},"cm",{"$f":"IF(I1962=1,C1962+F1962,IF(I1962=2,C1962+F1962/100,IF(I1962=3,(1+F1962/100)*C1962,\"\")))","v":40.6},{"$f":"CONCATENATE(\" \",K1962)","v":"  m"},{"$f":"N1962*100","v":4060},"cm"]
[{"$f":"IF(COUNTIF($B$1:B1963,TRUE)=COUNTIF($B$1:B1962,TRUE),\"\",COUNTIF($B$1:B1963,TRUE))","v":1545},{"$f":"Worksheet!$B$13","v":true},{"$f":"RANDBETWEEN(5,RANDBETWEEN(5,Worksheet!$D$6))","v":29},"km","±",{"$f":"IF(I1963=1,H1963*10^RANDBETWEEN(IF(Worksheet!$D$9,-1,0),0),IF(I1963=2,H1963*10^RANDBETWEEN(RANDBETWEEN(0,2),2),CHOOSE(RANDBETWEEN(1,3),5,10,20)))","v":10},{"$f":"IF(I1963=1,D1963,IF(I1963=3,\"%\",\"m\"))","v":"%"},4,{"$f":"IF(AND(Worksheet!$D$8,RAND()<0.2),3,IF(RAND()<Worksheet!$D$7/100,1,2))","v":3},{"$f":"IF(I1963=1,C1963-F1963,IF(I1963=2,C1963-F1963/1000,IF(I1963=3,(1-F1963/100)*C1963,\"\")))","v":26.1}," km",{"$f":"J1963*1000","v":26100},"m",{"$f":"IF(I1963=1,C1963+F1963,IF(I1963=2,C1963+F1963/1000,IF(I1963=3,(1+F1963/100)*C1963,\"\")))","v":31.900000000000002},"  km",{"$f":"N1963*1000","v":31900.000000000004},"m"]
[{"$f":"IF(COUNTIF($B$1:B1964,TRUE)=COUNTIF($B$1:B1963,TRUE),\"\",COUNTIF($B$1:B1964,TRUE))","v":""},{"$f":"Worksheet!$B$14","v":false},{"$f":"RANDBETWEEN(5,RANDBETWEEN(5,Worksheet!$D$6))","v":145},"m","±",{"$f":"IF(I1964=1,H1964*10^RANDBETWEEN(IF(Worksheet!$D$9,-1,0),0),IF(I1964=2,H1964*10^RANDBETWEEN(RANDBETWEEN(0,2),2),CHOOSE(RANDBETWEEN(1,3),5,10,20)))","v":0.60000000000000009},{"$f":"IF(I1964=1,D1964,IF(I1964=3,\"%\",\"mm\"))","v":"m"},6,{"$f":"IF(AND(Worksheet!$D$8,RAND()<0.2),3,IF(RAND()<Worksheet!$D$7/100,1,2))","v":1},{"$f":"IF(I1964=1,C1964-F1964,IF(I1964=2,C1964-F1964/1000,IF(I1964=3,(1-F1964/100)*C1964,\"\")))","v":144.4}," m",{"$f":"J1964*1000","v":144400},"mm",{"$f":"IF(I1964=1,C1964+F1964,IF(I1964=2,C1964+F1964/1000,IF(I1964=3,(1+F1964/100)*C1964,\"\")))","v":145.6},"  m",{"$f":"N1964*1000","v":145600},"mm"]
[{"$f":"IF(COUNTIF($B$1:B1965,TRUE)=COUNTIF($B$1:B1964,TRUE),\"\",COUNTIF($B$1:B1965,TRUE))","v":1546},{"$f":"Worksheet!$B$15","v":true},{"$f":"RANDBETWEEN(5,20)","v":9},"hours","±",{"$f":"IF(I1965=1,H1965*10^RANDBETWEEN(IF(Worksheet!$D$9,-1,0),0),IF(I1965=2,H1965,CHOOSE(RANDBETWEEN(1,3),5,10,20)))","v":0.9},{"$f":"IF(I1965=1,D1965,IF(I1965=3,\"%\",\"min\"))","v":"hours"},9,{"$f":"IF(AND(Worksheet!$D$8,RAND()<0),3,IF(RAND()<Worksheet!$D$7/100,1,2))","v":1},null," hours",{"$f":"IF(I1965=1,C1965-F1965,IF(I1965=2,C1965*60-F1965,\"\"))","v":8.1},{"$f":"IF($I1965=1,\" hours\",\" min\")","v":" hours"},null,"  hours",{"$f":"IF(I1965=1,C1965+F1965,IF(I1965=2,C1965*60+F1965,\"\"))","v":9.9},{"$f":"IF($I1965=1,\" hours\",\" min\")","v":" hours"}]
[{"$f":"IF(COUNTIF($B$1:B1966,TRUE)=COUNTIF($B$1:B1965,TRUE),\"\",COUNTIF($B$1:B1966,TRUE))","v":1547},{"$f":"Worksheet!$D$11","v":true},{"$f":"RANDBETWEEN(5,RANDBETWEEN(5,Worksheet!$D$6))","v":24},"kg","±",{"$f":"IF(I1966=1,H1966*10^RANDBETWEEN(IF(Worksheet!$D$9,-1,0),0),IF(I1966=2,H1966*10^RANDBETWEEN(RANDBETWEEN(0,2),2),CHOOSE(RANDBETWEEN(1,3),5,10,20)))","v":0.9},{"$f":"IF(I1966=1,D1966,IF(I1966=3,\"%\",\"g\"))","v":"kg"},9,{"$f":"IF(AND(Worksheet!$D$8,RAND()<0.2),3,IF(RAND()<Worksheet!$D$7/100,1,2))","v":1},{"$f":"IF(I1966=1,C1966-F1966,IF(I1966=2,C1966-F1966/1000,IF(I1966=3,(1-F1966/100)*C1966,\"\")))","v":23.1}," kg",{"$f":"J1966*1000","v":23100},"g",{"$f":"IF(I1966=1,C1966+F1966,IF(I1966=2,C1966+F1966/1000,IF(I1966=3,(1+F1966/100)*C1966,\"\")))","v":24.9},"  kg",{"$f":"N1966*1000","v":24900},"g"]
[{"$f":"IF(COUNTIF($B$1:B1967,TRUE)=COUNTIF($B$1:B1966,TRUE),\"\",COUNTIF($B$1:B1967,TRUE))","v":1548},{"$f":"Worksheet!$D$12","v":true},{"$f":"RANDBETWEEN(5,RANDBETWEEN(5,Worksheet!$D$6))","v":127},"tonnes","±",{"$f":"IF(I1967=1,H1967*10^RANDBETWEEN(IF(Worksheet!$D$9,-1,0),0),IF(I1967=2,H1967*10^RANDBETWEEN(RANDBETWEEN(0,2),2),CHOOSE(RANDBETWEEN(1,3),5,10,20)))","v":500},{"$f":"IF(I1967=1,D1967,IF(I1967=3,\"%\",\"kg\"))","v":"kg"},5,{"$f":"IF(AND(Worksheet!$D$8,RAND()<0.2),3,IF(RAND()<Worksheet!$D$7/100,1,2))","v":2},{"$f":"IF(I1967=1,C1967-F1967,IF(I1967=2,C1967-F1967/1000,IF(I1967=3,(1-F1967/100)*C1967,\"\")))","v":126.5}," tonnes",{"$f":"J1967*1000","v":126500},"kg",{"$f":"IF(I1967=1,C1967+F1967,IF(I1967=2,C1967+F1967/1000,IF(I1967=3,(1+F1967/100)*C1967,\"\")))","v":127.5},"  tonnes",{"$f":"N1967*1000","v":127500},"kg"]
[{"$f":"IF(COUNTIF($B$1:B1968,TRUE)=COUNTIF($B$1:B1967,TRUE),\"\",COUNTIF($B$1:B1968,TRUE))","v":1549},{"$f":"Worksheet!$D$13","v":true},{"$f":"RANDBETWEEN(5,RANDBETWEEN(5,Worksheet!$D$6))","v":24},"litres","±",{"$f":"IF(I1968=1,H1968*10^RANDBETWEEN(IF(Worksheet!$D$9,-1,0),0),IF(I1968=2,H1968*10^RANDBETWEEN(RANDBETWEEN(0,2),2),CHOOSE(RANDBETWEEN(1,3),5,10,20)))","v":5},{"$f":"IF(I1968=1,D1968,IF(I1968=3,\"%\",\"ml\"))","v":"%"},1,{"$f":"IF(AND(Worksheet!$D$8,RAND()<0.2),3,IF(RAND()<Worksheet!$D$7/100,1,2))","v":3},{"$f":"IF(I1968=1,C1968-F1968,IF(I1968=2,C1968-F1968/1000,IF(I1968=3,(1-F1968/100)*C1968,\"\")))","v":22.799999999999997}," litres",{"$f":"J1968*1000","v":22799.999999999996},"ml",{"$f":"IF(I1968=1,C1968+F1968,IF(I1968=2,C1968+F1968/1000,IF(I1968=3,(1+F1968/100)*C1968,\"\")))","v":25.200000000000003},"  litres",{"$f":"N1968*1000","v":25200.000000000004},"ml"]
[{"$f":"IF(COUNTIF($B$1:B1969,TRUE)=COUNTIF($B$1:B1968,TRUE),\"\",COUNTIF($B$1:B1969,TRUE))","v":1550},{"$f":"Worksheet!$D$14","v":true},{"$f":"RANDBETWEEN(5,RANDBETWEEN(5,Worksheet!$D$6))","v":30},"litres","±",{"$f":"IF(I1969=1,H1969*10^RANDBETWEEN(IF(Worksheet!$D$9,-1,0),0),IF(I1969=2,H1969*10^RANDBETWEEN(RANDBETWEEN(0,2),2),CHOOSE(RANDBETWEEN(1,3),5,10,20)))","v":0.5},{"$f":"IF(I1969=1,D1969,IF(I1969=3,\"%\",\"cm³\"))","v":"litres"},5,{"$f":"IF(AND(Worksheet!$D$8,RAND()<0.2),3,IF(RAND()<Worksheet!$D$7/100,1,2))","v":1},{"$f":"IF(I1969=1,C1969-F1969,IF(I1969=2,C1969-F1969/1000,IF(I1969=3,(1-F1969/100)*C1969,\"\")))","v":29.5}," litres",{"$f":"J1969*1000","v":29500},"cm³",{"$f":"IF(I1969=1,C1969+F1969,IF(I1969=2,C1969+F1969/1000,IF(I1969=3,(1+F1969/100)*C1969,\"\")))","v":30.5},"  litres",{"$f":"N1969*1000","v":30500},"cm³"]
[{"$f":"IF(COUNTIF($B$1:B1970,TRUE)=COUNTIF($B$1:B1969,TRUE),\"\",COUNTIF($B$1:B1970,TRUE))","v":""},{"$f":"Worksheet!$D$15","v":false},{"$f":"RANDBETWEEN(5,20)","v":6},"min","±",{"$f":"IF(I1970=1,H1970*10^RANDBETWEEN(IF(Worksheet!$D$9,-1,0),0),IF(I1970=2,H1970,CHOOSE(RANDBETWEEN(1,3),5,10,20)))","v":5},{"$f":"IF(I1970=1,D1970,IF(I1970=3,\"%\",\"sec\"))","v":"sec"},5,{"$f":"IF(AND(Worksheet!$D$8,RAND()<0),3,IF(RAND()<Worksheet!$D$7/100,1,2))","v":2},null," min",{"$f":"IF(I1970=1,C1970-F1970,IF(I1970=2,C1970*60-F1970,\"\"))","v":355},{"$f":"IF($I1970=1,\" hours\",\" min\")","v":" min"},null,"  min",{"$f":"IF(I1970=1,C1970+F1970,IF(I1970=2,C1970*60+F1970,\"\"))","v":365},{"$f":"IF($I1970=1,\" hours\",\" min\")","v":" min"}]
[{"$f":"COUNTIF($B$1:B1971,TRUE)","v":1551},{"$f":"Worksheet!$B$11","v":true},{"$f":"RANDBETWEEN(5,RANDBETWEEN(5,Worksheet!$D$6))","v":44},"cm","±",{"$f":"IF(I1971=1,H1971*10^RANDBETWEEN(IF(Worksheet!$D$9,-1,0),0),IF(I1971=2,H1971,CHOOSE(RANDBETWEEN(1,3),5,10,20)))","v":2},{"$f":"IF(I1971=1,D1971,IF(I1971=3,\"%\",\"mm\"))","v":"cm"},{"$f":"RANDBETWEEN(1,MIN(9,C1971))","v":2},{"$f":"IF(AND(Worksheet!$D$8,RAND()<0.2),3,IF(RAND()<Worksheet!$D$7/100,1,2))","v":1},{"$f":"IF(I1971=1,C1971-F1971,IF(I1971=2,C1971-F1971/10,IF(I1971=3,(1-F1971/100)*C1971,\"\")))","v":42},{"$f":"CONCATENATE(\" \",D1971)","v":" cm"},{"$f":"J1971*10","v":420},"mm",{"$f":"IF(I1971=1,C1971+F1971,IF(I1971=2,C1971+F1971/10,IF(I1971=3,(1+F1971/100)*C1971,\"\")))","v":46},{"$f":"CONCATENATE(\" \",K1971)","v":"  cm"},{"$f":"N1971*10","v":460},"mm"]
[{"$f":"IF(COUNTIF($B$1:B1972,TRUE)=COUNTIF($B$1:B1971,TRUE),\"\",COUNTIF($B$1:B1972,TRUE))","v":1552},{"$f":"Worksheet!$B$12","v":true},{"$f":"RANDBETWEEN(5,RANDBETWEEN(5,Worksheet!$D$6))","v":9},"m","±",{"$f":"IF(I1972=1,H1972*10^RANDBETWEEN(IF(Worksheet!$D$9,-1,0),0),IF(I1972=2,H1972*10^RANDBETWEEN(RANDBETWEEN(0,1),1),CHOOSE(RANDBETWEEN(1,3),5,10,20)))","v":30},{"$f":"IF(I1972=1,D1972,IF(I1972=3,\"%\",\"cm\"))","v":"cm"},{"$f":"RANDBETWEEN(1,MIN(9,C1972))","v":3},{"$f":"IF(AND(Worksheet!$D$8,RAND()<0.2),3,IF(RAND()<Worksheet!$D$7/100,1,2))","v":2},{"$f":"IF(I1972=1,C1972-F1972,IF(I1972=2,C1972-F1972/100,IF(I1972=3,(1-F1972/100)*C1972,\"\")))","v":8.6999999999999993},{"$f":"CONCATENATE(\" \",D1972)","v":" m"},{"$f":"J1972*100","v":869.99999999999989},"cm",{"$f":"IF(I1972=1,C1972+F1972,IF(I1972=2,C1972+F1972/100,IF(I1972=3,(1+F1972/100)*C1972,\"\")))","v":9.3000000000000007},{"$f":"CONCATENATE(\" \",K1972)","v":"  m"},{"$f":"N1972*100","v":930.00000000000011},"cm"]
[{"$f":"IF(COUNTIF($B$1:B1973,TRUE)=COUNTIF($B$1:B1972,TRUE),\"\",COUNTIF($B$1:B1973,TRUE))","v":1553},{"$f":"Worksheet!$B$13","v":true},{"$f":"RANDBETWEEN(5,RANDBETWEEN(5,Worksheet!$D$6))","v":218},"km","±",{"$f":"IF(I1973=1,H1973*10^RANDBETWEEN(IF(Worksheet!$D$9,-1,0),0),IF(I1973=2,H1973*10^RANDBETWEEN(RANDBETWEEN(0,2),2),CHOOSE(RANDBETWEEN(1,3),5,10,20)))","v":3},{"$f":"IF(I1973=1,D1973,IF(I1973=3,\"%\",\"m\"))","v":"km"},3,{"$f":"IF(AND(Worksheet!$D$8,RAND()<0.2),3,IF(RAND()<Worksheet!$D$7/100,1,2))","v":1},{"$f":"IF(I1973=1,C1973-F1973,IF(I1973=2,C1973-F1973/1000,IF(I1973=3,(1-F1973/100)*C1973,\"\")))","v":215}," km",{"$f":"J1973*1000","v":215000},"m",{"$f":"IF(I1973=1,C1973+F1973,IF(I1973=2,C1973+F1973/1000,IF(I1973=3,(1+F1973/100)*C1973,\"\")))","v":221},"  km",{"$f":"N1973*1000","v":221000},"m"]
[{"$f":"IF(COUNTIF($B$1:B1974,TRUE)=COUNTIF($B$1:B1973,TRUE),\"\",COUNTIF($B$1:B1974,TRUE))","v":""},{"$f":"Worksheet!$B$14","v":false},{"$f":"RANDBETWEEN(5,RANDBETWEEN(5,Worksheet!$D$6))","v":32},"m","±",{"$f":"IF(I1974=1,H1974*10^RANDBETWEEN(IF(Worksheet!$D$9,-1,0),0),IF(I1974=2,H1974*10^RANDBETWEEN(RANDBETWEEN(0,2),2),CHOOSE(RANDBETWEEN(1,3),5,10,20)))","v":40},{"$f":"IF(I1974=1,D1974,IF(I1974=3,\"%\",\"mm\"))","v":"mm"},4,{"$f":"IF(AND(Worksheet!$D$8,RAND()<0.2),3,IF(RAND()<Worksheet!$D$7/100,1,2))","v":2},{"$f":"IF(I1974=1,C1974-F1974,IF(I1974=2,C1974-F1974/1000,IF(I1974=3,(1-F1974/100)*C1974,\"\")))","v":31.96}," m",{"$f":"J1974*1000","v":31960},"mm",{"$f":"IF(I1974=1,C1974+F1974,IF(I1974=2,C1974+F1974/1000,IF(I1974=3,(1+F1974/100)*C1974,\"\")))","v":32.04},"  m",{"$f":"N1974*1000","v":32040},"mm"]
[{"$f":"IF(COUNTIF($B$1:B1975,TRUE)=COUNTIF($B$1:B1974,TRUE),\"\",COUNTIF($B$1:B1975,TRUE))","v":1554},{"$f":"Worksheet!$B$15","v":true},{"$f":"RANDBETWEEN(5,20)","v":8},"hours","±",{"$f":"IF(I1975=1,H1975*10^RANDBETWEEN(IF(Worksheet!$D$9,-1,0),0),IF(I1975=2,H1975,CHOOSE(RANDBETWEEN(1,3),5,10,20)))","v":0.30000000000000004},{"$f":"IF(I1975=1,D1975,IF(I1975=3,\"%\",\"min\"))","v":"hours"},3,{"$f":"IF(AND(Worksheet!$D$8,RAND()<0),3,IF(RAND()<Worksheet!$D$7/100,1,2))","v":1},null," hours",{"$f":"IF(I1975=1,C1975-F1975,IF(I1975=2,C1975*60-F1975,\"\"))","v":7.7},{"$f":"IF($I1975=1,\" hours\",\" min\")","v":" hours"},null,"  hours",{"$f":"IF(I1975=1,C1975+F1975,IF(I1975=2,C1975*60+F1975,\"\"))","v":8.3000000000000007},{"$f":"IF($I1975=1,\" hours\",\" min\")","v":" hours"}]
[{"$f":"IF(COUNTIF($B$1:B1976,TRUE)=COUNTIF($B$1:B1975,TRUE),\"\",COUNTIF($B$1:B1976,TRUE))","v":1555},{"$f":"Worksheet!$D$11","v":true},{"$f":"RANDBETWEEN(5,RANDBETWEEN(5,Worksheet!$D$6))","v":5},"kg","±",{"$f":"IF(I1976=1,H1976*10^RANDBETWEEN(IF(Worksheet!$D$9,-1,0),0),IF(I1976=2,H1976*10^RANDBETWEEN(RANDBETWEEN(0,2),2),CHOOSE(RANDBETWEEN(1,3),5,10,20)))","v":0.1},{"$f":"IF(I1976=1,D1976,IF(I1976=3,\"%\",\"g\"))","v":"kg"},1,{"$f":"IF(AND(Worksheet!$D$8,RAND()<0.2),3,IF(RAND()<Worksheet!$D$7/100,1,2))","v":1},{"$f":"IF(I1976=1,C1976-F1976,IF(I1976=2,C1976-F1976/1000,IF(I1976=3,(1-F1976/100)*C1976,\"\")))","v":4.9000000000000004}," kg",{"$f":"J1976*1000","v":4900},"g",{"$f":"IF(I1976=1,C1976+F1976,IF(I1976=2,C1976+F1976/1000,IF(I1976=3,(1+F1976/100)*C1976,\"\")))","v":5.0999999999999996},"  kg",{"$f":"N1976*1000","v":5100},"g"]
[{"$f":"IF(COUNTIF($B$1:B1977,TRUE)=COUNTIF($B$1:B1976,TRUE),\"\",COUNTIF($B$1:B1977,TRUE))","v":1556},{"$f":"Worksheet!$D$12","v":true},{"$f":"RANDBETWEEN(5,RANDBETWEEN(5,Worksheet!$D$6))","v":27},"tonnes","±",{"$f":"IF(I1977=1,H1977*10^RANDBETWEEN(IF(Worksheet!$D$9,-1,0),0),IF(I1977=2,H1977*10^RANDBETWEEN(RANDBETWEEN(0,2),2),CHOOSE(RANDBETWEEN(1,3),5,10,20)))","v":500},{"$f":"IF(I1977=1,D1977,IF(I1977=3,\"%\",\"kg\"))","v":"kg"},5,{"$f":"IF(AND(Worksheet!$D$8,RAND()<0.2),3,IF(RAND()<Worksheet!$D$7/100,1,2))","v":2},{"$f":"IF(I1977=1,C1977-F1977,IF(I1977=2,C1977-F1977/1000,IF(I1977=3,(1-F1977/100)*C1977,\"\")))","v":26.5}," tonnes",{"$f":"J1977*1000","v":26500},"kg",{"$f":"IF(I1977=1,C1977+F1977,IF(I1977=2,C1977+F1977/1000,IF(I1977=3,(1+F1977/100)*C1977,\"\")))","v":27.5},"  tonnes",{"$f":"N1977*1000","v":27500},"kg"]
[{"$f":"IF(COUNTIF($B$1:B1978,TRUE)=COUNTIF($B$1:B1977,TRUE),\"\",COUNTIF($B$1:B1978,TRUE))","v":1557},{"$f":"Worksheet!$D$13","v":true},{"$f":"RANDBETWEEN(5,RANDBETWEEN(5,Worksheet!$D$6))","v":183},"litres","±",{"$f":"IF(I1978=1,H1978*10^RANDBETWEEN(IF(Worksheet!$D$9,-1,0),0),IF(I1978=2,H1978*10^RANDBETWEEN(RANDBETWEEN(0,2),2),CHOOSE(RANDBETWEEN(1,3),5,10,20)))","v":0.1},{"$f":"IF(I1978=1,D1978,IF(I1978=3,\"%\",\"ml\"))","v":"litres"},1,{"$f":"IF(AND(Worksheet!$D$8,RAND()<0.2),3,IF(RAND()<Worksheet!$D$7/100,1,2))","v":1},{"$f":"IF(I1978=1,C1978-F1978,IF(I1978=2,C1978-F1978/1000,IF(I1978=3,(1-F1978/100)*C1978,\"\")))","v":182.9}," litres",{"$f":"J1978*1000","v":182900},"ml",{"$f":"IF(I1978=1,C1978+F1978,IF(I1978=2,C1978+F1978/1000,IF(I1978=3,(1+F1978/100)*C1978,\"\")))","v":183.1},"  litres",{"$f":"N1978*1000","v":183100},"ml"]
[{"$f":"IF(COUNTIF($B$1:B1979,TRUE)=COUNTIF($B$1:B1978,TRUE),\"\",COUNTIF($B$1:B1979,TRUE))","v":1558},{"$f":"Worksheet!$D$14","v":true},{"$f":"RANDBETWEEN(5,RANDBETWEEN(5,Worksheet!$D$6))","v":109},"litres","±",{"$f":"IF(I1979=1,H1979*10^RANDBETWEEN(IF(Worksheet!$D$9,-1,0),0),IF(I1979=2,H1979*10^RANDBETWEEN(RANDBETWEEN(0,2),2),CHOOSE(RANDBETWEEN(1,3),5,10,20)))","v":400},{"$f":"IF(I1979=1,D1979,IF(I1979=3,\"%\",\"cm³\"))","v":"cm³"},4,{"$f":"IF(AND(Worksheet!$D$8,RAND()<0.2),3,IF(RAND()<Worksheet!$D$7/100,1,2))","v":2},{"$f":"IF(I1979=1,C1979-F1979,IF(I1979=2,C1979-F1979/1000,IF(I1979=3,(1-F1979/100)*C1979,\"\")))","v":108.6}," litres",{"$f":"J1979*1000","v":108600},"cm³",{"$f":"IF(I1979=1,C1979+F1979,IF(I1979=2,C1979+F1979/1000,IF(I1979=3,(1+F1979/100)*C1979,\"\")))","v":109.4},"  litres",{"$f":"N1979*1000","v":109400},"cm³"]
[{"$f":"IF(COUNTIF($B$1:B1980,TRUE)=COUNTIF($B$1:B1979,TRUE),\"\",COUNTIF($B$1:B1980,TRUE))","v":""},{"$f":"Worksheet!$D$15","v":false},{"$f":"RANDBETWEEN(5,20)","v":12},"min","±",{"$f":"IF(I1980=1,H1980*10^RANDBETWEEN(IF(Worksheet!$D$9,-1,0),0),IF(I1980=2,H1980,CHOOSE(RANDBETWEEN(1,3),5,10,20)))","v":0.70000000000000007},{"$f":"IF(I1980=1,D1980,IF(I1980=3,\"%\",\"sec\"))","v":"min"},7,{"$f":"IF(AND(Worksheet!$D$8,RAND()<0),3,IF(RAND()<Worksheet!$D$7/100,1,2))","v":1},null," min",{"$f":"IF(I1980=1,C1980-F1980,IF(I1980=2,C1980*60-F1980,\"\"))","v":11.3},{"$f":"IF($I1980=1,\" hours\",\" min\")","v":" hours"},null,"  min",{"$f":"IF(I1980=1,C1980+F1980,IF(I1980=2,C1980*60+F1980,\"\"))","v":12.7},{"$f":"IF($I1980=1,\" hours\",\" min\")","v":" hours"}]
[{"$f":"COUNTIF($B$1:B1981,TRUE)","v":1559},{"$f":"Worksheet!$B$11","v":true},{"$f":"RANDBETWEEN(5,RANDBETWEEN(5,Worksheet!$D$6))","v":24},"cm","±",{"$f":"IF(I1981=1,H1981*10^RANDBETWEEN(IF(Worksheet!$D$9,-1,0),0),IF(I1981=2,H1981,CHOOSE(RANDBETWEEN(1,3),5,10,20)))","v":0.30000000000000004},{"$f":"IF(I1981=1,D1981,IF(I1981=3,\"%\",\"mm\"))","v":"cm"},{"$f":"RANDBETWEEN(1,MIN(9,C1981))","v":3},{"$f":"IF(AND(Worksheet!$D$8,RAND()<0.2),3,IF(RAND()<Worksheet!$D$7/100,1,2))","v":1},{"$f":"IF(I1981=1,C1981-F1981,IF(I1981=2,C1981-F1981/10,IF(I1981=3,(1-F1981/100)*C1981,\"\")))","v":23.7},{"$f":"CONCATENATE(\" \",D1981)","v":" cm"},{"$f":"J1981*10","v":237},"mm",{"$f":"IF(I1981=1,C1981+F1981,IF(I1981=2,C1981+F1981/10,IF(I1981=3,(1+F1981/100)*C1981,\"\")))","v":24.3},{"$f":"CONCATENATE(\" \",K1981)","v":"  cm"},{"$f":"N1981*10","v":243},"mm"]
[{"$f":"IF(COUNTIF($B$1:B1982,TRUE)=COUNTIF($B$1:B1981,TRUE),\"\",COUNTIF($B$1:B1982,TRUE))","v":1560},{"$f":"Worksheet!$B$12","v":true},{"$f":"RANDBETWEEN(5,RANDBETWEEN(5,Worksheet!$D$6))","v":115},"m","±",{"$f":"IF(I1982=1,H1982*10^RANDBETWEEN(IF(Worksheet!$D$9,-1,0),0),IF(I1982=2,H1982*10^RANDBETWEEN(RANDBETWEEN(0,1),1),CHOOSE(RANDBETWEEN(1,3),5,10,20)))","v":0.1},{"$f":"IF(I1982=1,D1982,IF(I1982=3,\"%\",\"cm\"))","v":"m"},{"$f":"RANDBETWEEN(1,MIN(9,C1982))","v":1},{"$f":"IF(AND(Worksheet!$D$8,RAND()<0.2),3,IF(RAND()<Worksheet!$D$7/100,1,2))","v":1},{"$f":"IF(I1982=1,C1982-F1982,IF(I1982=2,C1982-F1982/100,IF(I1982=3,(1-F1982/100)*C1982,\"\")))","v":114.9},{"$f":"CONCATENATE(\" \",D1982)","v":" m"},{"$f":"J1982*100","v":11490},"cm",{"$f":"IF(I1982=1,C1982+F1982,IF(I1982=2,C1982+F1982/100,IF(I1982=3,(1+F1982/100)*C1982,\"\")))","v":115.1},{"$f":"CONCATENATE(\" \",K1982)","v":"  m"},{"$f":"N1982*100","v":11510},"cm"]
[{"$f":"IF(COUNTIF($B$1:B1983,TRUE)=COUNTIF($B$1:B1982,TRUE),\"\",COUNTIF($B$1:B1983,TRUE))","v":1561},{"$f":"Worksheet!$B$13","v":true},{"$f":"RANDBETWEEN(5,RANDBETWEEN(5,Worksheet!$D$6))","v":125},"km","±",{"$f":"IF(I1983=1,H1983*10^RANDBETWEEN(IF(Worksheet!$D$9,-1,0),0),IF(I1983=2,H1983*10^RANDBETWEEN(RANDBETWEEN(0,2),2),CHOOSE(RANDBETWEEN(1,3),5,10,20)))","v":0.30000000000000004},{"$f":"IF(I1983=1,D1983,IF(I1983=3,\"%\",\"m\"))","v":"km"},3,{"$f":"IF(AND(Worksheet!$D$8,RAND()<0.2),3,IF(RAND()<Worksheet!$D$7/100,1,2))","v":1},{"$f":"IF(I1983=1,C1983-F1983,IF(I1983=2,C1983-F1983/1000,IF(I1983=3,(1-F1983/100)*C1983,\"\")))","v":124.7}," km",{"$f":"J1983*1000","v":124700},"m",{"$f":"IF(I1983=1,C1983+F1983,IF(I1983=2,C1983+F1983/1000,IF(I1983=3,(1+F1983/100)*C1983,\"\")))","v":125.3},"  km",{"$f":"N1983*1000","v":125300},"m"]
[{"$f":"IF(COUNTIF($B$1:B1984,TRUE)=COUNTIF($B$1:B1983,TRUE),\"\",COUNTIF($B$1:B1984,TRUE))","v":""},{"$f":"Worksheet!$B$14","v":false},{"$f":"RANDBETWEEN(5,RANDBETWEEN(5,Worksheet!$D$6))","v":19},"m","±",{"$f":"IF(I1984=1,H1984*10^RANDBETWEEN(IF(Worksheet!$D$9,-1,0),0),IF(I1984=2,H1984*10^RANDBETWEEN(RANDBETWEEN(0,2),2),CHOOSE(RANDBETWEEN(1,3),5,10,20)))","v":5},{"$f":"IF(I1984=1,D1984,IF(I1984=3,\"%\",\"mm\"))","v":"%"},9,{"$f":"IF(AND(Worksheet!$D$8,RAND()<0.2),3,IF(RAND()<Worksheet!$D$7/100,1,2))","v":3},{"$f":"IF(I1984=1,C1984-F1984,IF(I1984=2,C1984-F1984/1000,IF(I1984=3,(1-F1984/100)*C1984,\"\")))","v":18.05}," m",{"$f":"J1984*1000","v":18050},"mm",{"$f":"IF(I1984=1,C1984+F1984,IF(I1984=2,C1984+F1984/1000,IF(I1984=3,(1+F1984/100)*C1984,\"\")))","v":19.95},"  m",{"$f":"N1984*1000","v":19950},"mm"]
[{"$f":"IF(COUNTIF($B$1:B1985,TRUE)=COUNTIF($B$1:B1984,TRUE),\"\",COUNTIF($B$1:B1985,TRUE))","v":1562},{"$f":"Worksheet!$B$15","v":true},{"$f":"RANDBETWEEN(5,20)","v":12},"hours","±",{"$f":"IF(I1985=1,H1985*10^RANDBETWEEN(IF(Worksheet!$D$9,-1,0),0),IF(I1985=2,H1985,CHOOSE(RANDBETWEEN(1,3),5,10,20)))","v":0.1},{"$f":"IF(I1985=1,D1985,IF(I1985=3,\"%\",\"min\"))","v":"hours"},1,{"$f":"IF(AND(Worksheet!$D$8,RAND()<0),3,IF(RAND()<Worksheet!$D$7/100,1,2))","v":1},null," hours",{"$f":"IF(I1985=1,C1985-F1985,IF(I1985=2,C1985*60-F1985,\"\"))","v":11.9},{"$f":"IF($I1985=1,\" hours\",\" min\")","v":" hours"},null,"  hours",{"$f":"IF(I1985=1,C1985+F1985,IF(I1985=2,C1985*60+F1985,\"\"))","v":12.1},{"$f":"IF($I1985=1,\" hours\",\" min\")","v":" hours"}]
[{"$f":"IF(COUNTIF($B$1:B1986,TRUE)=COUNTIF($B$1:B1985,TRUE),\"\",COUNTIF($B$1:B1986,TRUE))","v":1563},{"$f":"Worksheet!$D$11","v":true},{"$f":"RANDBETWEEN(5,RANDBETWEEN(5,Worksheet!$D$6))","v":58},"kg","±",{"$f":"IF(I1986=1,H1986*10^RANDBETWEEN(IF(Worksheet!$D$9,-1,0),0),IF(I1986=2,H1986*10^RANDBETWEEN(RANDBETWEEN(0,2),2),CHOOSE(RANDBETWEEN(1,3),5,10,20)))","v":5},{"$f":"IF(I1986=1,D1986,IF(I1986=3,\"%\",\"g\"))","v":"%"},9,{"$f":"IF(AND(Worksheet!$D$8,RAND()<0.2),3,IF(RAND()<Worksheet!$D$7/100,1,2))","v":3},{"$f":"IF(I1986=1,C1986-F1986,IF(I1986=2,C1986-F1986/1000,IF(I1986=3,(1-F1986/100)*C1986,\"\")))","v":55.099999999999994}," kg",{"$f":"J1986*1000","v":55099.999999999993},"g",{"$f":"IF(I1986=1,C1986+F1986,IF(I1986=2,C1986+F1986/1000,IF(I1986=3,(1+F1986/100)*C1986,\"\")))","v":60.900000000000006},"  kg",{"$f":"N1986*1000","v":60900.000000000007},"g"]
[{"$f":"IF(COUNTIF($B$1:B1987,TRUE)=COUNTIF($B$1:B1986,TRUE),\"\",COUNTIF($B$1:B1987,TRUE))","v":1564},{"$f":"Worksheet!$D$12","v":true},{"$f":"RANDBETWEEN(5,RANDBETWEEN(5,Worksheet!$D$6))","v":9},"tonnes","±",{"$f":"IF(I1987=1,H1987*10^RANDBETWEEN(IF(Worksheet!$D$9,-1,0),0),IF(I1987=2,H1987*10^RANDBETWEEN(RANDBETWEEN(0,2),2),CHOOSE(RANDBETWEEN(1,3),5,10,20)))","v":1},{"$f":"IF(I1987=1,D1987,IF(I1987=3,\"%\",\"kg\"))","v":"tonnes"},1,{"$f":"IF(AND(Worksheet!$D$8,RAND()<0.2),3,IF(RAND()<Worksheet!$D$7/100,1,2))","v":1},{"$f":"IF(I1987=1,C1987-F1987,IF(I1987=2,C1987-F1987/1000,IF(I1987=3,(1-F1987/100)*C1987,\"\")))","v":8}," tonnes",{"$f":"J1987*1000","v":8000},"kg",{"$f":"IF(I1987=1,C1987+F1987,IF(I1987=2,C1987+F1987/1000,IF(I1987=3,(1+F1987/100)*C1987,\"\")))","v":10},"  tonnes",{"$f":"N1987*1000","v":10000},"kg"]
[{"$f":"IF(COUNTIF($B$1:B1988,TRUE)=COUNTIF($B$1:B1987,TRUE),\"\",COUNTIF($B$1:B1988,TRUE))","v":1565},{"$f":"Worksheet!$D$13","v":true},{"$f":"RANDBETWEEN(5,RANDBETWEEN(5,Worksheet!$D$6))","v":28},"litres","±",{"$f":"IF(I1988=1,H1988*10^RANDBETWEEN(IF(Worksheet!$D$9,-1,0),0),IF(I1988=2,H1988*10^RANDBETWEEN(RANDBETWEEN(0,2),2),CHOOSE(RANDBETWEEN(1,3),5,10,20)))","v":5},{"$f":"IF(I1988=1,D1988,IF(I1988=3,\"%\",\"ml\"))","v":"litres"},5,{"$f":"IF(AND(Worksheet!$D$8,RAND()<0.2),3,IF(RAND()<Worksheet!$D$7/100,1,2))","v":1},{"$f":"IF(I1988=1,C1988-F1988,IF(I1988=2,C1988-F1988/1000,IF(I1988=3,(1-F1988/100)*C1988,\"\")))","v":23}," litres",{"$f":"J1988*1000","v":23000},"ml",{"$f":"IF(I1988=1,C1988+F1988,IF(I1988=2,C1988+F1988/1000,IF(I1988=3,(1+F1988/100)*C1988,\"\")))","v":33},"  litres",{"$f":"N1988*1000","v":33000},"ml"]
[{"$f":"IF(COUNTIF($B$1:B1989,TRUE)=COUNTIF($B$1:B1988,TRUE),\"\",COUNTIF($B$1:B1989,TRUE))","v":1566},{"$f":"Worksheet!$D$14","v":true},{"$f":"RANDBETWEEN(5,RANDBETWEEN(5,Worksheet!$D$6))","v":218},"litres","±",{"$f":"IF(I1989=1,H1989*10^RANDBETWEEN(IF(Worksheet!$D$9,-1,0),0),IF(I1989=2,H1989*10^RANDBETWEEN(RANDBETWEEN(0,2),2),CHOOSE(RANDBETWEEN(1,3),5,10,20)))","v":0.70000000000000007},{"$f":"IF(I1989=1,D1989,IF(I1989=3,\"%\",\"cm³\"))","v":"litres"},7,{"$f":"IF(AND(Worksheet!$D$8,RAND()<0.2),3,IF(RAND()<Worksheet!$D$7/100,1,2))","v":1},{"$f":"IF(I1989=1,C1989-F1989,IF(I1989=2,C1989-F1989/1000,IF(I1989=3,(1-F1989/100)*C1989,\"\")))","v":217.3}," litres",{"$f":"J1989*1000","v":217300},"cm³",{"$f":"IF(I1989=1,C1989+F1989,IF(I1989=2,C1989+F1989/1000,IF(I1989=3,(1+F1989/100)*C1989,\"\")))","v":218.7},"  litres",{"$f":"N1989*1000","v":218700},"cm³"]
[{"$f":"IF(COUNTIF($B$1:B1990,TRUE)=COUNTIF($B$1:B1989,TRUE),\"\",COUNTIF($B$1:B1990,TRUE))","v":""},{"$f":"Worksheet!$D$15","v":false},{"$f":"RANDBETWEEN(5,20)","v":5},"min","±",{"$f":"IF(I1990=1,H1990*10^RANDBETWEEN(IF(Worksheet!$D$9,-1,0),0),IF(I1990=2,H1990,CHOOSE(RANDBETWEEN(1,3),5,10,20)))","v":0.1},{"$f":"IF(I1990=1,D1990,IF(I1990=3,\"%\",\"sec\"))","v":"min"},1,{"$f":"IF(AND(Worksheet!$D$8,RAND()<0),3,IF(RAND()<Worksheet!$D$7/100,1,2))","v":1},null," min",{"$f":"IF(I1990=1,C1990-F1990,IF(I1990=2,C1990*60-F1990,\"\"))","v":4.9000000000000004},{"$f":"IF($I1990=1,\" hours\",\" min\")","v":" hours"},null,"  min",{"$f":"IF(I1990=1,C1990+F1990,IF(I1990=2,C1990*60+F1990,\"\"))","v":5.0999999999999996},{"$f":"IF($I1990=1,\" hours\",\" min\")","v":" hours"}]