{"text_format":"1","workbook":"xlsx","n_sheets":2,"sheets":["Worksheet","SYSTEM FORMULAE"],"not_rendered":{"charts":0,"images":0,"macros":1,"external_links":0,"defined_names":2,"comments":0,"pivot_tables":0},"unopened":[],"bounds":{"document_bytes":16777216,"sheet_cells":100000,"rows_first":2000,"rows_last":500,"rows_between":2000,"halvings":0,"cell_chars":16384,"cell_head_chars":4096},"cells_cut":0,"cells_raw":0,"read":"whole","date_system":"1900"}

{"sheet":"Worksheet","index":0,"n_rows":21,"n_cols":27,"rows_kept":21,"cut":false,"hidden":false,"merged":[[0,4,0,26],[1,0,1,3],[4,0,4,3],[2,0,2,2],[12,0,12,3],[7,0,7,2],[6,0,6,2],[5,0,5,2],[3,0,3,2],[8,0,8,3],[9,0,9,2],[10,0,11,3]]}
[null,null,null,null,"Change from one unit to the other unit specified"]
["Variables",null,null,null,1,1098,"83 000","ml","="," 83","litres",null,21,1195," 40","cm","="," 400","mm",null,41,134,"2 800","cm","="," 28","m"]
["SHOW ANSWERS",null,null,false,2,299," 13","tonnes","=","13 000","kg",null,22,588," 17","litres","=","17 000","ml",null,42,540," 58","litres","=","58 000","ml"]
["Number of questions                                             (minimum 30, maximum 60)",null,null,60,3,498,"60 000","ml","="," 60","litres",null,23,963,"36 000","m","="," 36","km",null,43,784,"29 000","g","="," 29","kg"]
["Level of difficulty",null,null,null,4,1370,"1 400","cm","="," 14","m",null,24,929,"35 000","kg","="," 35","tonnes",null,44,1436," 31","m","=","3 100","cm"]
["Whole numbers only",null,null,1,5,430," 17","kg","=","17 000","g",null,25,211," 32","cm","="," 320","mm",null,45,893,"64 000","kg","="," 64","tonnes"]
["May include decimals up to 1dp",null,null,null,6,1362,"80 000","ml","="," 80","litres",null,26,1181,"24 000","kg","="," 24","tonnes",null,46,301," 750","mm","="," 75","cm"]
["May include decimals up to 3dp",null,null,null,7,1269," 24","km","=","24 000","m",null,27,428," 57","m","=","5 700","cm",null,47,1435," 85","cm","="," 850","mm"]
["Order in which units appear",null,null,null,8,598," 55","kg","=","55 000","g",null,28,925," 860","mm","="," 86","cm",null,48,1369," 160","mm","="," 16","cm"]
[null,null,null,1,9,1487," 70","tonnes","=","70 000","kg",null,29,1238,"1 000","cm","="," 10","m",null,49,1432,"51 000","g","="," 51","kg"]
[null,null,null,null,10,510,"72 000","ml","="," 72","litres",null,30,1433,"10 000","kg","="," 10","tonnes",null,50,1012,"10 000","g","="," 10","kg"]
[null,null,null,null,11,541," 90","mm","="," 9","cm",null,31,249," 67","km","=","67 000","m",null,51,1246," 77","kg","=","77 000","g"]
["Which unit conversions to include: (once you have selected the units you want, click on \"generate new sheet\" above)",null,null,null,12,523," 32","cm","="," 320","mm",null,32,1410,"35 000","ml","="," 35","litres",null,52,362,"2 800","cm","="," 28","m"]
["Length: mm/cm",true,"Weight: g/kg",true,13,1467,"13 000","m","="," 13","km",null,33,1051," 22","cm","="," 220","mm",null,53,1180,"5 000","g","="," 5","kg"]
["Length: cm/m",true,"Weight: kg/tonnes",true,14,563," 60","tonnes","=","60 000","kg",null,34,996," 14","litres","=","14 000","ml",null,54,1154,"2 500","cm","="," 25","m"]
["Length: m/km",true,"Volume: ml/l",true,15,876," 10","litres","=","10 000","ml",null,35,908," 96","m","=","9 600","cm",null,55,1474," 62","kg","=","62 000","g"]
["Length: mm/m",false,"Volume: cm³/l",false,16,1200," 45","litres","=","45 000","ml",null,36,483,"99 000","m","="," 99","km",null,56,1101," 40","km","=","40 000","m"]
["Area: cm²/mm²",false,"Area: cm²/m²",false,17,1202," 600","cm","="," 6","m",null,37,143," 88","tonnes","=","88 000","kg",null,57,963,"36 000","m","="," 36","km"]
[null,null,null,null,18,637," 260","mm","="," 26","cm",null,38,982," 1","kg","=","1 000","g",null,58,1476," 24","litres","=","24 000","ml"]
[null,null,null,null,19,779," 96","tonnes","=","96 000","kg",null,39,377,"22 000","kg","="," 22","tonnes",null,59,6,"75 000","ml","="," 75","litres"]
[null,null,null,null,20,165," 52","km","=","52 000","m",null,40,810,"24 000","ml","="," 24","litres",null,60,852," 67","litres","=","67 000","ml"]

{"sheet":"SYSTEM FORMULAE","index":1,"n_rows":2940,"n_cols":35,"rows_kept":2940,"cut":false,"hidden":false,"merged":[]}
[{"$f":"COUNTIF($B$1:B1,TRUE)","v":1},{"$f":"IF(Worksheet!$D$10=2,FALSE,Worksheet!$B$14)","v":true},{"$f":"10*F1","v":640},"mm","=",{"$f":"IF(Worksheet!$D$6=1,RANDBETWEEN(1,99),IF(Worksheet!$D$6=2,CHOOSE(RANDBETWEEN(1,2),RANDBETWEEN(1,99),RANDBETWEEN(1,999)/10),CHOOSE(RANDBETWEEN(1,4),RANDBETWEEN(1,99999)/1000,RANDBETWEEN(1,9999)/100,RANDBETWEEN(1,999)/10,RANDBETWEEN(1,99))))","v":64},"cm",null,null,{"$f":"IF(ROW()<=Worksheet!$D$4/3,ROW(),\"\")","v":1},{"$f":"RANDBETWEEN(1,MAX('SYSTEM FORMULAE'!$A$1:$A$2560))","v":844},{"$f":"IF(RIGHT(TEXT(VLOOKUP(K1,'SYSTEM FORMULAE'!$A$1:$G$2560,3),\"# ##0.###\"),1)=\".\",LEFT(TEXT(VLOOKUP(K1,'SYSTEM FORMULAE'!$A$1:$G$2560,3),\"# ##0.###\"),LEN(TEXT(VLOOKUP(K1,'SYSTEM FORMULAE'!$A$1:$G$2560,3),\"# ##0.###\"))-1),TEXT(VLOOKUP(K1,'SYSTEM FORMULAE'!$A$1:$G$2560,3),\"# ##0.###\"))","v":"61 000"},{"$f":"VLOOKUP(K1,'SYSTEM FORMULAE'!$A$1:$G$2560,4)","v":"g"},"=",{"$f":"IF(RIGHT(TEXT(VLOOKUP(K1,'SYSTEM FORMULAE'!$A$1:$G$2560,6),\"# ##0.###\"),1)=\".\",LEFT(TEXT(VLOOKUP(K1,'SYSTEM FORMULAE'!$A$1:$G$2560,6),\"# ##0.###\"),LEN(TEXT(VLOOKUP(K1,'SYSTEM FORMULAE'!$A$1:$G$2560,6),\"# ##0.###\"))-1),TEXT(VLOOKUP(K1,'SYSTEM FORMULAE'!$A$1:$G$2560,6),\"# ##0.###\"))","v":" 61"},{"$f":"VLOOKUP(K1,'SYSTEM FORMULAE'!$A$1:$G$2560,7)","v":"kg"},null,{"$f":"MAX(J1:J40)+1","v":21},{"$f":"RANDBETWEEN(1,MAX('SYSTEM FORMULAE'!$A$1:$A$2560))","v":705},{"$f":"IF(RIGHT(TEXT(VLOOKUP(S1,'SYSTEM FORMULAE'!$A$1:$G$2560,3),\"# ##0.###\"),1)=\".\",LEFT(TEXT(VLOOKUP(S1,'SYSTEM FORMULAE'!$A$1:$G$2560,3),\"# ##0.###\"),LEN(TEXT(VLOOKUP(S1,'SYSTEM FORMULAE'!$A$1:$G$2560,3),\"# ##0.###\"))-1),TEXT(VLOOKUP(S1,'SYSTEM FORMULAE'!$A$1:$G$2560,3),\"# ##0.###\"))","v":" 81"},{"$f":"VLOOKUP(S1,'SYSTEM FORMULAE'!$A$1:$G$2560,4)","v":"km"},"=",{"$f":"IF(RIGHT(TEXT(VLOOKUP(S1,'SYSTEM FORMULAE'!$A$1:$G$2560,6),\"# ##0.###\"),1)=\".\",LEFT(TEXT(VLOOKUP(S1,'SYSTEM FORMULAE'!$A$1:$G$2560,6),\"# ##0.###\"),LEN(TEXT(VLOOKUP(S1,'SYSTEM FORMULAE'!$A$1:$G$2560,6),\"# ##0.###\"))-1),TEXT(VLOOKUP(S1,'SYSTEM FORMULAE'!$A$1:$G$2560,6),\"# ##0.###\"))","v":"81 000"},{"$f":"VLOOKUP(S1,'SYSTEM FORMULAE'!$A$1:$G$2560,7)","v":"m"},null,{"$f":"MAX(R1:R40)+1","v":41},{"$f":"RANDBETWEEN(1,MAX('SYSTEM FORMULAE'!$A$1:$A$2560))","v":1390},{"$f":"IF(RIGHT(TEXT(VLOOKUP(AA1,'SYSTEM FORMULAE'!$A$1:$G$2560,3),\"# ##0.###\"),1)=\".\",LEFT(TEXT(VLOOKUP(AA1,'SYSTEM FORMULAE'!$A$1:$G$2560,3),\"# ##0.###\"),LEN(TEXT(VLOOKUP(AA1,'SYSTEM FORMULAE'!$A$1:$G$2560,3),\"# ##0.###\"))-1),TEXT(VLOOKUP(AA1,'SYSTEM FORMULAE'!$A$1:$G$2560,3),\"# ##0.###\"))","v":" 90"},{"$f":"VLOOKUP(AA1,'SYSTEM FORMULAE'!$A$1:$G$2560,4)","v":"kg"},"=",{"$f":"IF(RIGHT(TEXT(VLOOKUP(AA1,'SYSTEM FORMULAE'!$A$1:$G$2560,6),\"# ##0.###\"),1)=\".\",LEFT(TEXT(VLOOKUP(AA1,'SYSTEM FORMULAE'!$A$1:$G$2560,6),\"# ##0.###\"),LEN(TEXT(VLOOKUP(AA1,'SYSTEM FORMULAE'!$A$1:$G$2560,6),\"# ##0.###\"))-1),TEXT(VLOOKUP(AA1,'SYSTEM FORMULAE'!$A$1:$G$2560,6),\"# ##0.###\"))","v":"90 000"},{"$f":"VLOOKUP(AA1,'SYSTEM FORMULAE'!$A$1:$G$2560,7)","v":"g"},null,null,"Bigger unit may be on left or right"]
[{"$f":"IF(COUNTIF($B$1:B2,TRUE)=COUNTIF($B$1:B1,TRUE),\"\",COUNTIF($B$1:B2,TRUE))","v":2},{"$f":"IF(Worksheet!$D$10=2,FALSE,Worksheet!$B$15)","v":true},{"$f":"100*F2","v":400},"cm","=",{"$f":"IF(Worksheet!$D$6=1,RANDBETWEEN(1,99),IF(Worksheet!$D$6=2,CHOOSE(RANDBETWEEN(1,2),RANDBETWEEN(1,99),RANDBETWEEN(1,999)/10),CHOOSE(RANDBETWEEN(1,4),RANDBETWEEN(1,99999)/1000,RANDBETWEEN(1,9999)/100,RANDBETWEEN(1,999)/10,RANDBETWEEN(1,99))))","v":4},"m",null,null,{"$f":"IF(ROW()<=Worksheet!$D$4/3,ROW(),\"\")","v":2},{"$f":"RANDBETWEEN(1,MAX('SYSTEM FORMULAE'!$A$1:$A$2560))","v":1205},{"$f":"IF(RIGHT(TEXT(VLOOKUP(K2,'SYSTEM FORMULAE'!$A$1:$G$2560,3),\"# ##0.###\"),1)=\".\",LEFT(TEXT(VLOOKUP(K2,'SYSTEM FORMULAE'!$A$1:$G$2560,3),\"# ##0.###\"),LEN(TEXT(VLOOKUP(K2,'SYSTEM FORMULAE'!$A$1:$G$2560,3),\"# ##0.###\"))-1),TEXT(VLOOKUP(K2,'SYSTEM FORMULAE'!$A$1:$G$2560,3),\"# ##0.###\"))","v":"73 000"},{"$f":"VLOOKUP(K2,'SYSTEM FORMULAE'!$A$1:$G$2560,4)","v":"kg"},"=",{"$f":"IF(RIGHT(TEXT(VLOOKUP(K2,'SYSTEM FORMULAE'!$A$1:$G$2560,6),\"# ##0.###\"),1)=\".\",LEFT(TEXT(VLOOKUP(K2,'SYSTEM FORMULAE'!$A$1:$G$2560,6),\"# ##0.###\"),LEN(TEXT(VLOOKUP(K2,'SYSTEM FORMULAE'!$A$1:$G$2560,6),\"# ##0.###\"))-1),TEXT(VLOOKUP(K2,'SYSTEM FORMULAE'!$A$1:$G$2560,6),\"# ##0.###\"))","v":" 73"},{"$f":"VLOOKUP(K2,'SYSTEM FORMULAE'!$A$1:$G$2560,7)","v":"tonnes"},null,{"$f":"IF(ROW()<=Worksheet!$D$4/3,R1+1,\"\")","v":22},{"$f":"RANDBETWEEN(1,MAX('SYSTEM FORMULAE'!$A$1:$A$2560))","v":280},{"$f":"IF(RIGHT(TEXT(VLOOKUP(S2,'SYSTEM FORMULAE'!$A$1:$G$2560,3),\"# ##0.###\"),1)=\".\",LEFT(TEXT(VLOOKUP(S2,'SYSTEM FORMULAE'!$A$1:$G$2560,3),\"# ##0.###\"),LEN(TEXT(VLOOKUP(S2,'SYSTEM FORMULAE'!$A$1:$G$2560,3),\"# ##0.###\"))-1),TEXT(VLOOKUP(S2,'SYSTEM FORMULAE'!$A$1:$G$2560,3),\"# ##0.###\"))","v":"23 000"},{"$f":"VLOOKUP(S2,'SYSTEM FORMULAE'!$A$1:$G$2560,4)","v":"g"},"=",{"$f":"IF(RIGHT(TEXT(VLOOKUP(S2,'SYSTEM FORMULAE'!$A$1:$G$2560,6),\"# ##0.###\"),1)=\".\",LEFT(TEXT(VLOOKUP(S2,'SYSTEM FORMULAE'!$A$1:$G$2560,6),\"# ##0.###\"),LEN(TEXT(VLOOKUP(S2,'SYSTEM FORMULAE'!$A$1:$G$2560,6),\"# ##0.###\"))-1),TEXT(VLOOKUP(S2,'SYSTEM FORMULAE'!$A$1:$G$2560,6),\"# ##0.###\"))","v":" 23"},{"$f":"VLOOKUP(S2,'SYSTEM FORMULAE'!$A$1:$G$2560,7)","v":"kg"},null,{"$f":"IF(ROW()<=Worksheet!$D$4/3,Z1+1,\"\")","v":42},{"$f":"RANDBETWEEN(1,MAX('SYSTEM FORMULAE'!$A$1:$A$2560))","v":851},{"$f":"IF(RIGHT(TEXT(VLOOKUP(AA2,'SYSTEM FORMULAE'!$A$1:$G$2560,3),\"# ##0.###\"),1)=\".\",LEFT(TEXT(VLOOKUP(AA2,'SYSTEM FORMULAE'!$A$1:$G$2560,3),\"# ##0.###\"),LEN(TEXT(VLOOKUP(AA2,'SYSTEM FORMULAE'!$A$1:$G$2560,3),\"# ##0.###\"))-1),TEXT(VLOOKUP(AA2,'SYSTEM FORMULAE'!$A$1:$G$2560,3),\"# ##0.###\"))","v":" 60"},{"$f":"VLOOKUP(AA2,'SYSTEM FORMULAE'!$A$1:$G$2560,4)","v":"tonnes"},"=",{"$f":"IF(RIGHT(TEXT(VLOOKUP(AA2,'SYSTEM FORMULAE'!$A$1:$G$2560,6),\"# ##0.###\"),1)=\".\",LEFT(TEXT(VLOOKUP(AA2,'SYSTEM FORMULAE'!$A$1:$G$2560,6),\"# ##0.###\"),LEN(TEXT(VLOOKUP(AA2,'SYSTEM FORMULAE'!$A$1:$G$2560,6),\"# ##0.###\"))-1),TEXT(VLOOKUP(AA2,'SYSTEM FORMULAE'!$A$1:$G$2560,6),\"# ##0.###\"))","v":"60 000"},{"$f":"VLOOKUP(AA2,'SYSTEM FORMULAE'!$A$1:$G$2560,7)","v":"kg"},null,null,"Bigger unit is always on left"]
[{"$f":"IF(COUNTIF($B$1:B3,TRUE)=COUNTIF($B$1:B2,TRUE),\"\",COUNTIF($B$1:B3,TRUE))","v":3},{"$f":"IF(Worksheet!$D$10=2,FALSE,Worksheet!$B$16)","v":true},{"$f":"1000*F3","v":52000},"m","=",{"$f":"IF(Worksheet!$D$6=1,RANDBETWEEN(1,99),IF(Worksheet!$D$6=2,CHOOSE(RANDBETWEEN(1,2),RANDBETWEEN(1,99),RANDBETWEEN(1,999)/10),CHOOSE(RANDBETWEEN(1,4),RANDBETWEEN(1,99999)/1000,RANDBETWEEN(1,9999)/100,RANDBETWEEN(1,999)/10,RANDBETWEEN(1,99))))","v":52},"km",null,null,{"$f":"IF(ROW()<=Worksheet!$D$4/3,ROW(),\"\")","v":3},{"$f":"RANDBETWEEN(1,MAX('SYSTEM FORMULAE'!$A$1:$A$2560))","v":1026},{"$f":"IF(RIGHT(TEXT(VLOOKUP(K3,'SYSTEM FORMULAE'!$A$1:$G$2560,3),\"# ##0.###\"),1)=\".\",LEFT(TEXT(VLOOKUP(K3,'SYSTEM FORMULAE'!$A$1:$G$2560,3),\"# ##0.###\"),LEN(TEXT(VLOOKUP(K3,'SYSTEM FORMULAE'!$A$1:$G$2560,3),\"# ##0.###\"))-1),TEXT(VLOOKUP(K3,'SYSTEM FORMULAE'!$A$1:$G$2560,3),\"# ##0.###\"))","v":"9 000"},{"$f":"VLOOKUP(K3,'SYSTEM FORMULAE'!$A$1:$G$2560,4)","v":"ml"},"=",{"$f":"IF(RIGHT(TEXT(VLOOKUP(K3,'SYSTEM FORMULAE'!$A$1:$G$2560,6),\"# ##0.###\"),1)=\".\",LEFT(TEXT(VLOOKUP(K3,'SYSTEM FORMULAE'!$A$1:$G$2560,6),\"# ##0.###\"),LEN(TEXT(VLOOKUP(K3,'SYSTEM FORMULAE'!$A$1:$G$2560,6),\"# ##0.###\"))-1),TEXT(VLOOKUP(K3,'SYSTEM FORMULAE'!$A$1:$G$2560,6),\"# ##0.###\"))","v":" 9"},{"$f":"VLOOKUP(K3,'SYSTEM FORMULAE'!$A$1:$G$2560,7)","v":"litres"},null,{"$f":"IF(ROW()<=Worksheet!$D$4/3,R2+1,\"\")","v":23},{"$f":"RANDBETWEEN(1,MAX('SYSTEM FORMULAE'!$A$1:$A$2560))","v":1301},{"$f":"IF(RIGHT(TEXT(VLOOKUP(S3,'SYSTEM FORMULAE'!$A$1:$G$2560,3),\"# ##0.###\"),1)=\".\",LEFT(TEXT(VLOOKUP(S3,'SYSTEM FORMULAE'!$A$1:$G$2560,3),\"# ##0.###\"),LEN(TEXT(VLOOKUP(S3,'SYSTEM FORMULAE'!$A$1:$G$2560,3),\"# ##0.###\"))-1),TEXT(VLOOKUP(S3,'SYSTEM FORMULAE'!$A$1:$G$2560,3),\"# ##0.###\"))","v":"57 000"},{"$f":"VLOOKUP(S3,'SYSTEM FORMULAE'!$A$1:$G$2560,4)","v":"kg"},"=",{"$f":"IF(RIGHT(TEXT(VLOOKUP(S3,'SYSTEM FORMULAE'!$A$1:$G$2560,6),\"# ##0.###\"),1)=\".\",LEFT(TEXT(VLOOKUP(S3,'SYSTEM FORMULAE'!$A$1:$G$2560,6),\"# ##0.###\"),LEN(TEXT(VLOOKUP(S3,'SYSTEM FORMULAE'!$A$1:$G$2560,6),\"# ##0.###\"))-1),TEXT(VLOOKUP(S3,'SYSTEM FORMULAE'!$A$1:$G$2560,6),\"# ##0.###\"))","v":" 57"},{"$f":"VLOOKUP(S3,'SYSTEM FORMULAE'!$A$1:$G$2560,7)","v":"tonnes"},null,{"$f":"IF(ROW()<=Worksheet!$D$4/3,Z2+1,\"\")","v":43},{"$f":"RANDBETWEEN(1,MAX('SYSTEM FORMULAE'!$A$1:$A$2560))","v":755},{"$f":"IF(RIGHT(TEXT(VLOOKUP(AA3,'SYSTEM FORMULAE'!$A$1:$G$2560,3),\"# ##0.###\"),1)=\".\",LEFT(TEXT(VLOOKUP(AA3,'SYSTEM FORMULAE'!$A$1:$G$2560,3),\"# ##0.###\"),LEN(TEXT(VLOOKUP(AA3,'SYSTEM FORMULAE'!$A$1:$G$2560,3),\"# ##0.###\"))-1),TEXT(VLOOKUP(AA3,'SYSTEM FORMULAE'!$A$1:$G$2560,3),\"# ##0.###\"))","v":" 88"},{"$f":"VLOOKUP(AA3,'SYSTEM FORMULAE'!$A$1:$G$2560,4)","v":"tonnes"},"=",{"$f":"IF(RIGHT(TEXT(VLOOKUP(AA3,'SYSTEM FORMULAE'!$A$1:$G$2560,6),\"# ##0.###\"),1)=\".\",LEFT(TEXT(VLOOKUP(AA3,'SYSTEM FORMULAE'!$A$1:$G$2560,6),\"# ##0.###\"),LEN(TEXT(VLOOKUP(AA3,'SYSTEM FORMULAE'!$A$1:$G$2560,6),\"# ##0.###\"))-1),TEXT(VLOOKUP(AA3,'SYSTEM FORMULAE'!$A$1:$G$2560,6),\"# ##0.###\"))","v":"88 000"},{"$f":"VLOOKUP(AA3,'SYSTEM FORMULAE'!$A$1:$G$2560,7)","v":"kg"},null,null,"Bigger unit is always on right"]
[{"$f":"IF(COUNTIF($B$1:B4,TRUE)=COUNTIF($B$1:B3,TRUE),\"\",COUNTIF($B$1:B4,TRUE))","v":""},{"$f":"IF(Worksheet!$D$10=2,FALSE,Worksheet!$B$17)","v":false},{"$f":"1000*F4","v":53000},"mm","=",{"$f":"IF(Worksheet!$D$6=1,RANDBETWEEN(1,99),IF(Worksheet!$D$6=2,CHOOSE(RANDBETWEEN(1,2),RANDBETWEEN(1,99),RANDBETWEEN(1,999)/10),CHOOSE(RANDBETWEEN(1,4),RANDBETWEEN(1,99999)/1000,RANDBETWEEN(1,9999)/100,RANDBETWEEN(1,999)/10,RANDBETWEEN(1,99))))","v":53},"m",null,null,{"$f":"IF(ROW()<=Worksheet!$D$4/3,ROW(),\"\")","v":4},{"$f":"RANDBETWEEN(1,MAX('SYSTEM FORMULAE'!$A$1:$A$2560))","v":470},{"$f":"IF(RIGHT(TEXT(VLOOKUP(K4,'SYSTEM FORMULAE'!$A$1:$G$2560,3),\"# ##0.###\"),1)=\".\",LEFT(TEXT(VLOOKUP(K4,'SYSTEM FORMULAE'!$A$1:$G$2560,3),\"# ##0.###\"),LEN(TEXT(VLOOKUP(K4,'SYSTEM FORMULAE'!$A$1:$G$2560,3),\"# ##0.###\"))-1),TEXT(VLOOKUP(K4,'SYSTEM FORMULAE'!$A$1:$G$2560,3),\"# ##0.###\"))","v":"2 600"},{"$f":"VLOOKUP(K4,'SYSTEM FORMULAE'!$A$1:$G$2560,4)","v":"cm"},"=",{"$f":"IF(RIGHT(TEXT(VLOOKUP(K4,'SYSTEM FORMULAE'!$A$1:$G$2560,6),\"# ##0.###\"),1)=\".\",LEFT(TEXT(VLOOKUP(K4,'SYSTEM FORMULAE'!$A$1:$G$2560,6),\"# ##0.###\"),LEN(TEXT(VLOOKUP(K4,'SYSTEM FORMULAE'!$A$1:$G$2560,6),\"# ##0.###\"))-1),TEXT(VLOOKUP(K4,'SYSTEM FORMULAE'!$A$1:$G$2560,6),\"# ##0.###\"))","v":" 26"},{"$f":"VLOOKUP(K4,'SYSTEM FORMULAE'!$A$1:$G$2560,7)","v":"m"},null,{"$f":"IF(ROW()<=Worksheet!$D$4/3,R3+1,\"\")","v":24},{"$f":"RANDBETWEEN(1,MAX('SYSTEM FORMULAE'!$A$1:$A$2560))","v":1315},{"$f":"IF(RIGHT(TEXT(VLOOKUP(S4,'SYSTEM FORMULAE'!$A$1:$G$2560,3),\"# ##0.###\"),1)=\".\",LEFT(TEXT(VLOOKUP(S4,'SYSTEM FORMULAE'!$A$1:$G$2560,3),\"# ##0.###\"),LEN(TEXT(VLOOKUP(S4,'SYSTEM FORMULAE'!$A$1:$G$2560,3),\"# ##0.###\"))-1),TEXT(VLOOKUP(S4,'SYSTEM FORMULAE'!$A$1:$G$2560,3),\"# ##0.###\"))","v":" 94"},{"$f":"VLOOKUP(S4,'SYSTEM FORMULAE'!$A$1:$G$2560,4)","v":"cm"},"=",{"$f":"IF(RIGHT(TEXT(VLOOKUP(S4,'SYSTEM FORMULAE'!$A$1:$G$2560,6),\"# ##0.###\"),1)=\".\",LEFT(TEXT(VLOOKUP(S4,'SYSTEM FORMULAE'!$A$1:$G$2560,6),\"# ##0.###\"),LEN(TEXT(VLOOKUP(S4,'SYSTEM FORMULAE'!$A$1:$G$2560,6),\"# ##0.###\"))-1),TEXT(VLOOKUP(S4,'SYSTEM FORMULAE'!$A$1:$G$2560,6),\"# ##0.###\"))","v":" 940"},{"$f":"VLOOKUP(S4,'SYSTEM FORMULAE'!$A$1:$G$2560,7)","v":"mm"},null,{"$f":"IF(ROW()<=Worksheet!$D$4/3,Z3+1,\"\")","v":44},{"$f":"RANDBETWEEN(1,MAX('SYSTEM FORMULAE'!$A$1:$A$2560))","v":1360},{"$f":"IF(RIGHT(TEXT(VLOOKUP(AA4,'SYSTEM FORMULAE'!$A$1:$G$2560,3),\"# ##0.###\"),1)=\".\",LEFT(TEXT(VLOOKUP(AA4,'SYSTEM FORMULAE'!$A$1:$G$2560,3),\"# ##0.###\"),LEN(TEXT(VLOOKUP(AA4,'SYSTEM FORMULAE'!$A$1:$G$2560,3),\"# ##0.###\"))-1),TEXT(VLOOKUP(AA4,'SYSTEM FORMULAE'!$A$1:$G$2560,3),\"# ##0.###\"))","v":"5 000"},{"$f":"VLOOKUP(AA4,'SYSTEM FORMULAE'!$A$1:$G$2560,4)","v":"g"},"=",{"$f":"IF(RIGHT(TEXT(VLOOKUP(AA4,'SYSTEM FORMULAE'!$A$1:$G$2560,6),\"# ##0.###\"),1)=\".\",LEFT(TEXT(VLOOKUP(AA4,'SYSTEM FORMULAE'!$A$1:$G$2560,6),\"# ##0.###\"),LEN(TEXT(VLOOKUP(AA4,'SYSTEM FORMULAE'!$A$1:$G$2560,6),\"# ##0.###\"))-1),TEXT(VLOOKUP(AA4,'SYSTEM FORMULAE'!$A$1:$G$2560,6),\"# ##0.###\"))","v":" 5"},{"$f":"VLOOKUP(AA4,'SYSTEM FORMULAE'!$A$1:$G$2560,7)","v":"kg"}]
[{"$f":"IF(COUNTIF($B$1:B5,TRUE)=COUNTIF($B$1:B4,TRUE),\"\",COUNTIF($B$1:B5,TRUE))","v":""},{"$f":"IF(Worksheet!$D$10=2,FALSE,Worksheet!$B$18)","v":false},{"$f":"100*F5","v":400},"mm²","=",{"$f":"IF(Worksheet!$D$6=1,RANDBETWEEN(1,99),IF(Worksheet!$D$6=2,CHOOSE(RANDBETWEEN(1,2),RANDBETWEEN(1,99),RANDBETWEEN(1,999)/10),CHOOSE(RANDBETWEEN(1,4),RANDBETWEEN(1,99999)/1000,RANDBETWEEN(1,9999)/100,RANDBETWEEN(1,999)/10,RANDBETWEEN(1,99))))","v":4},"cm²",null,null,{"$f":"IF(ROW()<=Worksheet!$D$4/3,ROW(),\"\")","v":5},{"$f":"RANDBETWEEN(1,MAX('SYSTEM FORMULAE'!$A$1:$A$2560))","v":1399},{"$f":"IF(RIGHT(TEXT(VLOOKUP(K5,'SYSTEM FORMULAE'!$A$1:$G$2560,3),\"# ##0.###\"),1)=\".\",LEFT(TEXT(VLOOKUP(K5,'SYSTEM FORMULAE'!$A$1:$G$2560,3),\"# ##0.###\"),LEN(TEXT(VLOOKUP(K5,'SYSTEM FORMULAE'!$A$1:$G$2560,3),\"# ##0.###\"))-1),TEXT(VLOOKUP(K5,'SYSTEM FORMULAE'!$A$1:$G$2560,3),\"# ##0.###\"))","v":" 91"},{"$f":"VLOOKUP(K5,'SYSTEM FORMULAE'!$A$1:$G$2560,4)","v":"cm"},"=",{"$f":"IF(RIGHT(TEXT(VLOOKUP(K5,'SYSTEM FORMULAE'!$A$1:$G$2560,6),\"# ##0.###\"),1)=\".\",LEFT(TEXT(VLOOKUP(K5,'SYSTEM FORMULAE'!$A$1:$G$2560,6),\"# ##0.###\"),LEN(TEXT(VLOOKUP(K5,'SYSTEM FORMULAE'!$A$1:$G$2560,6),\"# ##0.###\"))-1),TEXT(VLOOKUP(K5,'SYSTEM FORMULAE'!$A$1:$G$2560,6),\"# ##0.###\"))","v":" 910"},{"$f":"VLOOKUP(K5,'SYSTEM FORMULAE'!$A$1:$G$2560,7)","v":"mm"},null,{"$f":"IF(ROW()<=Worksheet!$D$4/3,R4+1,\"\")","v":25},{"$f":"RANDBETWEEN(1,MAX('SYSTEM FORMULAE'!$A$1:$A$2560))","v":320},{"$f":"IF(RIGHT(TEXT(VLOOKUP(S5,'SYSTEM FORMULAE'!$A$1:$G$2560,3),\"# ##0.###\"),1)=\".\",LEFT(TEXT(VLOOKUP(S5,'SYSTEM FORMULAE'!$A$1:$G$2560,3),\"# ##0.###\"),LEN(TEXT(VLOOKUP(S5,'SYSTEM FORMULAE'!$A$1:$G$2560,3),\"# ##0.###\"))-1),TEXT(VLOOKUP(S5,'SYSTEM FORMULAE'!$A$1:$G$2560,3),\"# ##0.###\"))","v":" 99"},{"$f":"VLOOKUP(S5,'SYSTEM FORMULAE'!$A$1:$G$2560,4)","v":"m"},"=",{"$f":"IF(RIGHT(TEXT(VLOOKUP(S5,'SYSTEM FORMULAE'!$A$1:$G$2560,6),\"# ##0.###\"),1)=\".\",LEFT(TEXT(VLOOKUP(S5,'SYSTEM FORMULAE'!$A$1:$G$2560,6),\"# ##0.###\"),LEN(TEXT(VLOOKUP(S5,'SYSTEM FORMULAE'!$A$1:$G$2560,6),\"# ##0.###\"))-1),TEXT(VLOOKUP(S5,'SYSTEM FORMULAE'!$A$1:$G$2560,6),\"# ##0.###\"))","v":"9 900"},{"$f":"VLOOKUP(S5,'SYSTEM FORMULAE'!$A$1:$G$2560,7)","v":"cm"},null,{"$f":"IF(ROW()<=Worksheet!$D$4/3,Z4+1,\"\")","v":45},{"$f":"RANDBETWEEN(1,MAX('SYSTEM FORMULAE'!$A$1:$A$2560))","v":812},{"$f":"IF(RIGHT(TEXT(VLOOKUP(AA5,'SYSTEM FORMULAE'!$A$1:$G$2560,3),\"# ##0.###\"),1)=\".\",LEFT(TEXT(VLOOKUP(AA5,'SYSTEM FORMULAE'!$A$1:$G$2560,3),\"# ##0.###\"),LEN(TEXT(VLOOKUP(AA5,'SYSTEM FORMULAE'!$A$1:$G$2560,3),\"# ##0.###\"))-1),TEXT(VLOOKUP(AA5,'SYSTEM FORMULAE'!$A$1:$G$2560,3),\"# ##0.###\"))","v":" 50"},{"$f":"VLOOKUP(AA5,'SYSTEM FORMULAE'!$A$1:$G$2560,4)","v":"m"},"=",{"$f":"IF(RIGHT(TEXT(VLOOKUP(AA5,'SYSTEM FORMULAE'!$A$1:$G$2560,6),\"# ##0.###\"),1)=\".\",LEFT(TEXT(VLOOKUP(AA5,'SYSTEM FORMULAE'!$A$1:$G$2560,6),\"# ##0.###\"),LEN(TEXT(VLOOKUP(AA5,'SYSTEM FORMULAE'!$A$1:$G$2560,6),\"# ##0.###\"))-1),TEXT(VLOOKUP(AA5,'SYSTEM FORMULAE'!$A$1:$G$2560,6),\"# ##0.###\"))","v":"5 000"},{"$f":"VLOOKUP(AA5,'SYSTEM FORMULAE'!$A$1:$G$2560,7)","v":"cm"}]
[{"$f":"IF(COUNTIF($B$1:B6,TRUE)=COUNTIF($B$1:B5,TRUE),\"\",COUNTIF($B$1:B6,TRUE))","v":4},{"$f":"IF(Worksheet!$D$10=2,FALSE,Worksheet!$D$14)","v":true},{"$f":"F6*1000","v":38000},"g","=",{"$f":"IF(Worksheet!$D$6=1,RANDBETWEEN(1,99),IF(Worksheet!$D$6=2,CHOOSE(RANDBETWEEN(1,2),RANDBETWEEN(1,99),RANDBETWEEN(1,999)/10),CHOOSE(RANDBETWEEN(1,4),RANDBETWEEN(1,99999)/1000,RANDBETWEEN(1,9999)/100,RANDBETWEEN(1,999)/10,RANDBETWEEN(1,99))))","v":38},"kg",null,null,{"$f":"IF(ROW()<=Worksheet!$D$4/3,ROW(),\"\")","v":6},{"$f":"RANDBETWEEN(1,MAX('SYSTEM FORMULAE'!$A$1:$A$2560))","v":1206},{"$f":"IF(RIGHT(TEXT(VLOOKUP(K6,'SYSTEM FORMULAE'!$A$1:$G$2560,3),\"# ##0.###\"),1)=\".\",LEFT(TEXT(VLOOKUP(K6,'SYSTEM FORMULAE'!$A$1:$G$2560,3),\"# ##0.###\"),LEN(TEXT(VLOOKUP(K6,'SYSTEM FORMULAE'!$A$1:$G$2560,3),\"# ##0.###\"))-1),TEXT(VLOOKUP(K6,'SYSTEM FORMULAE'!$A$1:$G$2560,3),\"# ##0.###\"))","v":"36 000"},{"$f":"VLOOKUP(K6,'SYSTEM FORMULAE'!$A$1:$G$2560,4)","v":"ml"},"=",{"$f":"IF(RIGHT(TEXT(VLOOKUP(K6,'SYSTEM FORMULAE'!$A$1:$G$2560,6),\"# ##0.###\"),1)=\".\",LEFT(TEXT(VLOOKUP(K6,'SYSTEM FORMULAE'!$A$1:$G$2560,6),\"# ##0.###\"),LEN(TEXT(VLOOKUP(K6,'SYSTEM FORMULAE'!$A$1:$G$2560,6),\"# ##0.###\"))-1),TEXT(VLOOKUP(K6,'SYSTEM FORMULAE'!$A$1:$G$2560,6),\"# ##0.###\"))","v":" 36"},{"$f":"VLOOKUP(K6,'SYSTEM FORMULAE'!$A$1:$G$2560,7)","v":"litres"},null,{"$f":"IF(ROW()<=Worksheet!$D$4/3,R5+1,\"\")","v":26},{"$f":"RANDBETWEEN(1,MAX('SYSTEM FORMULAE'!$A$1:$A$2560))","v":575},{"$f":"IF(RIGHT(TEXT(VLOOKUP(S6,'SYSTEM FORMULAE'!$A$1:$G$2560,3),\"# ##0.###\"),1)=\".\",LEFT(TEXT(VLOOKUP(S6,'SYSTEM FORMULAE'!$A$1:$G$2560,3),\"# ##0.###\"),LEN(TEXT(VLOOKUP(S6,'SYSTEM FORMULAE'!$A$1:$G$2560,3),\"# ##0.###\"))-1),TEXT(VLOOKUP(S6,'SYSTEM FORMULAE'!$A$1:$G$2560,3),\"# ##0.###\"))","v":" 94"},{"$f":"VLOOKUP(S6,'SYSTEM FORMULAE'!$A$1:$G$2560,4)","v":"tonnes"},"=",{"$f":"IF(RIGHT(TEXT(VLOOKUP(S6,'SYSTEM FORMULAE'!$A$1:$G$2560,6),\"# ##0.###\"),1)=\".\",LEFT(TEXT(VLOOKUP(S6,'SYSTEM FORMULAE'!$A$1:$G$2560,6),\"# ##0.###\"),LEN(TEXT(VLOOKUP(S6,'SYSTEM FORMULAE'!$A$1:$G$2560,6),\"# ##0.###\"))-1),TEXT(VLOOKUP(S6,'SYSTEM FORMULAE'!$A$1:$G$2560,6),\"# ##0.###\"))","v":"94 000"},{"$f":"VLOOKUP(S6,'SYSTEM FORMULAE'!$A$1:$G$2560,7)","v":"kg"},null,{"$f":"IF(ROW()<=Worksheet!$D$4/3,Z5+1,\"\")","v":46},{"$f":"RANDBETWEEN(1,MAX('SYSTEM FORMULAE'!$A$1:$A$2560))","v":426},{"$f":"IF(RIGHT(TEXT(VLOOKUP(AA6,'SYSTEM FORMULAE'!$A$1:$G$2560,3),\"# ##0.###\"),1)=\".\",LEFT(TEXT(VLOOKUP(AA6,'SYSTEM FORMULAE'!$A$1:$G$2560,3),\"# ##0.###\"),LEN(TEXT(VLOOKUP(AA6,'SYSTEM FORMULAE'!$A$1:$G$2560,3),\"# ##0.###\"))-1),TEXT(VLOOKUP(AA6,'SYSTEM FORMULAE'!$A$1:$G$2560,3),\"# ##0.###\"))","v":"45 000"},{"$f":"VLOOKUP(AA6,'SYSTEM FORMULAE'!$A$1:$G$2560,4)","v":"ml"},"=",{"$f":"IF(RIGHT(TEXT(VLOOKUP(AA6,'SYSTEM FORMULAE'!$A$1:$G$2560,6),\"# ##0.###\"),1)=\".\",LEFT(TEXT(VLOOKUP(AA6,'SYSTEM FORMULAE'!$A$1:$G$2560,6),\"# ##0.###\"),LEN(TEXT(VLOOKUP(AA6,'SYSTEM FORMULAE'!$A$1:$G$2560,6),\"# ##0.###\"))-1),TEXT(VLOOKUP(AA6,'SYSTEM FORMULAE'!$A$1:$G$2560,6),\"# ##0.###\"))","v":" 45"},{"$f":"VLOOKUP(AA6,'SYSTEM FORMULAE'!$A$1:$G$2560,7)","v":"litres"}]
[{"$f":"IF(COUNTIF($B$1:B7,TRUE)=COUNTIF($B$1:B6,TRUE),\"\",COUNTIF($B$1:B7,TRUE))","v":5},{"$f":"IF(Worksheet!$D$10=2,FALSE,Worksheet!$D$15)","v":true},{"$f":"F7*1000","v":33000},"kg","=",{"$f":"IF(Worksheet!$D$6=1,RANDBETWEEN(1,99),IF(Worksheet!$D$6=2,CHOOSE(RANDBETWEEN(1,2),RANDBETWEEN(1,99),RANDBETWEEN(1,999)/10),CHOOSE(RANDBETWEEN(1,4),RANDBETWEEN(1,99999)/1000,RANDBETWEEN(1,9999)/100,RANDBETWEEN(1,999)/10,RANDBETWEEN(1,99))))","v":33},"tonnes",null,null,{"$f":"IF(ROW()<=Worksheet!$D$4/3,ROW(),\"\")","v":7},{"$f":"RANDBETWEEN(1,MAX('SYSTEM FORMULAE'!$A$1:$A$2560))","v":727},{"$f":"IF(RIGHT(TEXT(VLOOKUP(K7,'SYSTEM FORMULAE'!$A$1:$G$2560,3),\"# ##0.###\"),1)=\".\",LEFT(TEXT(VLOOKUP(K7,'SYSTEM FORMULAE'!$A$1:$G$2560,3),\"# ##0.###\"),LEN(TEXT(VLOOKUP(K7,'SYSTEM FORMULAE'!$A$1:$G$2560,3),\"# ##0.###\"))-1),TEXT(VLOOKUP(K7,'SYSTEM FORMULAE'!$A$1:$G$2560,3),\"# ##0.###\"))","v":" 44"},{"$f":"VLOOKUP(K7,'SYSTEM FORMULAE'!$A$1:$G$2560,4)","v":"cm"},"=",{"$f":"IF(RIGHT(TEXT(VLOOKUP(K7,'SYSTEM FORMULAE'!$A$1:$G$2560,6),\"# ##0.###\"),1)=\".\",LEFT(TEXT(VLOOKUP(K7,'SYSTEM FORMULAE'!$A$1:$G$2560,6),\"# ##0.###\"),LEN(TEXT(VLOOKUP(K7,'SYSTEM FORMULAE'!$A$1:$G$2560,6),\"# ##0.###\"))-1),TEXT(VLOOKUP(K7,'SYSTEM FORMULAE'!$A$1:$G$2560,6),\"# ##0.###\"))","v":" 440"},{"$f":"VLOOKUP(K7,'SYSTEM FORMULAE'!$A$1:$G$2560,7)","v":"mm"},null,{"$f":"IF(ROW()<=Worksheet!$D$4/3,R6+1,\"\")","v":27},{"$f":"RANDBETWEEN(1,MAX('SYSTEM FORMULAE'!$A$1:$A$2560))","v":1203},{"$f":"IF(RIGHT(TEXT(VLOOKUP(S7,'SYSTEM FORMULAE'!$A$1:$G$2560,3),\"# ##0.###\"),1)=\".\",LEFT(TEXT(VLOOKUP(S7,'SYSTEM FORMULAE'!$A$1:$G$2560,3),\"# ##0.###\"),LEN(TEXT(VLOOKUP(S7,'SYSTEM FORMULAE'!$A$1:$G$2560,3),\"# ##0.###\"))-1),TEXT(VLOOKUP(S7,'SYSTEM FORMULAE'!$A$1:$G$2560,3),\"# ##0.###\"))","v":"43 000"},{"$f":"VLOOKUP(S7,'SYSTEM FORMULAE'!$A$1:$G$2560,4)","v":"m"},"=",{"$f":"IF(RIGHT(TEXT(VLOOKUP(S7,'SYSTEM FORMULAE'!$A$1:$G$2560,6),\"# ##0.###\"),1)=\".\",LEFT(TEXT(VLOOKUP(S7,'SYSTEM FORMULAE'!$A$1:$G$2560,6),\"# ##0.###\"),LEN(TEXT(VLOOKUP(S7,'SYSTEM FORMULAE'!$A$1:$G$2560,6),\"# ##0.###\"))-1),TEXT(VLOOKUP(S7,'SYSTEM FORMULAE'!$A$1:$G$2560,6),\"# ##0.###\"))","v":" 43"},{"$f":"VLOOKUP(S7,'SYSTEM FORMULAE'!$A$1:$G$2560,7)","v":"km"},null,{"$f":"IF(ROW()<=Worksheet!$D$4/3,Z6+1,\"\")","v":47},{"$f":"RANDBETWEEN(1,MAX('SYSTEM FORMULAE'!$A$1:$A$2560))","v":865},{"$f":"IF(RIGHT(TEXT(VLOOKUP(AA7,'SYSTEM FORMULAE'!$A$1:$G$2560,3),\"# ##0.###\"),1)=\".\",LEFT(TEXT(VLOOKUP(AA7,'SYSTEM FORMULAE'!$A$1:$G$2560,3),\"# ##0.###\"),LEN(TEXT(VLOOKUP(AA7,'SYSTEM FORMULAE'!$A$1:$G$2560,3),\"# ##0.###\"))-1),TEXT(VLOOKUP(AA7,'SYSTEM FORMULAE'!$A$1:$G$2560,3),\"# ##0.###\"))","v":" 540"},{"$f":"VLOOKUP(AA7,'SYSTEM FORMULAE'!$A$1:$G$2560,4)","v":"mm"},"=",{"$f":"IF(RIGHT(TEXT(VLOOKUP(AA7,'SYSTEM FORMULAE'!$A$1:$G$2560,6),\"# ##0.###\"),1)=\".\",LEFT(TEXT(VLOOKUP(AA7,'SYSTEM FORMULAE'!$A$1:$G$2560,6),\"# ##0.###\"),LEN(TEXT(VLOOKUP(AA7,'SYSTEM FORMULAE'!$A$1:$G$2560,6),\"# ##0.###\"))-1),TEXT(VLOOKUP(AA7,'SYSTEM FORMULAE'!$A$1:$G$2560,6),\"# ##0.###\"))","v":" 54"},{"$f":"VLOOKUP(AA7,'SYSTEM FORMULAE'!$A$1:$G$2560,7)","v":"cm"}]
[{"$f":"IF(COUNTIF($B$1:B8,TRUE)=COUNTIF($B$1:B7,TRUE),\"\",COUNTIF($B$1:B8,TRUE))","v":6},{"$f":"IF(Worksheet!$D$10=2,FALSE,Worksheet!$D$16)","v":true},{"$f":"1000*F8","v":90000},"ml","=",{"$f":"IF(Worksheet!$D$6=1,RANDBETWEEN(1,99),IF(Worksheet!$D$6=2,CHOOSE(RANDBETWEEN(1,2),RANDBETWEEN(1,99),RANDBETWEEN(1,999)/10),CHOOSE(RANDBETWEEN(1,4),RANDBETWEEN(1,99999)/1000,RANDBETWEEN(1,9999)/100,RANDBETWEEN(1,999)/10,RANDBETWEEN(1,99))))","v":90},"litres",null,null,{"$f":"IF(ROW()<=Worksheet!$D$4/3,ROW(),\"\")","v":8},{"$f":"RANDBETWEEN(1,MAX('SYSTEM FORMULAE'!$A$1:$A$2560))","v":224},{"$f":"IF(RIGHT(TEXT(VLOOKUP(K8,'SYSTEM FORMULAE'!$A$1:$G$2560,3),\"# ##0.###\"),1)=\".\",LEFT(TEXT(VLOOKUP(K8,'SYSTEM FORMULAE'!$A$1:$G$2560,3),\"# ##0.###\"),LEN(TEXT(VLOOKUP(K8,'SYSTEM FORMULAE'!$A$1:$G$2560,3),\"# ##0.###\"))-1),TEXT(VLOOKUP(K8,'SYSTEM FORMULAE'!$A$1:$G$2560,3),\"# ##0.###\"))","v":" 68"},{"$f":"VLOOKUP(K8,'SYSTEM FORMULAE'!$A$1:$G$2560,4)","v":"m"},"=",{"$f":"IF(RIGHT(TEXT(VLOOKUP(K8,'SYSTEM FORMULAE'!$A$1:$G$2560,6),\"# ##0.###\"),1)=\".\",LEFT(TEXT(VLOOKUP(K8,'SYSTEM FORMULAE'!$A$1:$G$2560,6),\"# ##0.###\"),LEN(TEXT(VLOOKUP(K8,'SYSTEM FORMULAE'!$A$1:$G$2560,6),\"# ##0.###\"))-1),TEXT(VLOOKUP(K8,'SYSTEM FORMULAE'!$A$1:$G$2560,6),\"# ##0.###\"))","v":"6 800"},{"$f":"VLOOKUP(K8,'SYSTEM FORMULAE'!$A$1:$G$2560,7)","v":"cm"},null,{"$f":"IF(ROW()<=Worksheet!$D$4/3,R7+1,\"\")","v":28},{"$f":"RANDBETWEEN(1,MAX('SYSTEM FORMULAE'!$A$1:$A$2560))","v":980},{"$f":"IF(RIGHT(TEXT(VLOOKUP(S8,'SYSTEM FORMULAE'!$A$1:$G$2560,3),\"# ##0.###\"),1)=\".\",LEFT(TEXT(VLOOKUP(S8,'SYSTEM FORMULAE'!$A$1:$G$2560,3),\"# ##0.###\"),LEN(TEXT(VLOOKUP(S8,'SYSTEM FORMULAE'!$A$1:$G$2560,3),\"# ##0.###\"))-1),TEXT(VLOOKUP(S8,'SYSTEM FORMULAE'!$A$1:$G$2560,3),\"# ##0.###\"))","v":" 66"},{"$f":"VLOOKUP(S8,'SYSTEM FORMULAE'!$A$1:$G$2560,4)","v":"m"},"=",{"$f":"IF(RIGHT(TEXT(VLOOKUP(S8,'SYSTEM FORMULAE'!$A$1:$G$2560,6),\"# ##0.###\"),1)=\".\",LEFT(TEXT(VLOOKUP(S8,'SYSTEM FORMULAE'!$A$1:$G$2560,6),\"# ##0.###\"),LEN(TEXT(VLOOKUP(S8,'SYSTEM FORMULAE'!$A$1:$G$2560,6),\"# ##0.###\"))-1),TEXT(VLOOKUP(S8,'SYSTEM FORMULAE'!$A$1:$G$2560,6),\"# ##0.###\"))","v":"6 600"},{"$f":"VLOOKUP(S8,'SYSTEM FORMULAE'!$A$1:$G$2560,7)","v":"cm"},null,{"$f":"IF(ROW()<=Worksheet!$D$4/3,Z7+1,\"\")","v":48},{"$f":"RANDBETWEEN(1,MAX('SYSTEM FORMULAE'!$A$1:$A$2560))","v":174},{"$f":"IF(RIGHT(TEXT(VLOOKUP(AA8,'SYSTEM FORMULAE'!$A$1:$G$2560,3),\"# ##0.###\"),1)=\".\",LEFT(TEXT(VLOOKUP(AA8,'SYSTEM FORMULAE'!$A$1:$G$2560,3),\"# ##0.###\"),LEN(TEXT(VLOOKUP(AA8,'SYSTEM FORMULAE'!$A$1:$G$2560,3),\"# ##0.###\"))-1),TEXT(VLOOKUP(AA8,'SYSTEM FORMULAE'!$A$1:$G$2560,3),\"# ##0.###\"))","v":"49 000"},{"$f":"VLOOKUP(AA8,'SYSTEM FORMULAE'!$A$1:$G$2560,4)","v":"ml"},"=",{"$f":"IF(RIGHT(TEXT(VLOOKUP(AA8,'SYSTEM FORMULAE'!$A$1:$G$2560,6),\"# ##0.###\"),1)=\".\",LEFT(TEXT(VLOOKUP(AA8,'SYSTEM FORMULAE'!$A$1:$G$2560,6),\"# ##0.###\"),LEN(TEXT(VLOOKUP(AA8,'SYSTEM FORMULAE'!$A$1:$G$2560,6),\"# ##0.###\"))-1),TEXT(VLOOKUP(AA8,'SYSTEM FORMULAE'!$A$1:$G$2560,6),\"# ##0.###\"))","v":" 49"},{"$f":"VLOOKUP(AA8,'SYSTEM FORMULAE'!$A$1:$G$2560,7)","v":"litres"}]
[{"$f":"IF(COUNTIF($B$1:B9,TRUE)=COUNTIF($B$1:B8,TRUE),\"\",COUNTIF($B$1:B9,TRUE))","v":""},{"$f":"IF(Worksheet!$D$10=2,FALSE,Worksheet!$D$17)","v":false},{"$f":"1000*F9","v":34000},"cm³","=",{"$f":"IF(Worksheet!$D$6=1,RANDBETWEEN(1,99),IF(Worksheet!$D$6=2,CHOOSE(RANDBETWEEN(1,2),RANDBETWEEN(1,99),RANDBETWEEN(1,999)/10),CHOOSE(RANDBETWEEN(1,4),RANDBETWEEN(1,99999)/1000,RANDBETWEEN(1,9999)/100,RANDBETWEEN(1,999)/10,RANDBETWEEN(1,99))))","v":34},"litres",null,null,{"$f":"IF(ROW()<=Worksheet!$D$4/3,ROW(),\"\")","v":9},{"$f":"RANDBETWEEN(1,MAX('SYSTEM FORMULAE'!$A$1:$A$2560))","v":545},{"$f":"IF(RIGHT(TEXT(VLOOKUP(K9,'SYSTEM FORMULAE'!$A$1:$G$2560,3),\"# ##0.###\"),1)=\".\",LEFT(TEXT(VLOOKUP(K9,'SYSTEM FORMULAE'!$A$1:$G$2560,3),\"# ##0.###\"),LEN(TEXT(VLOOKUP(K9,'SYSTEM FORMULAE'!$A$1:$G$2560,3),\"# ##0.###\"))-1),TEXT(VLOOKUP(K9,'SYSTEM FORMULAE'!$A$1:$G$2560,3),\"# ##0.###\"))","v":"38 000"},{"$f":"VLOOKUP(K9,'SYSTEM FORMULAE'!$A$1:$G$2560,4)","v":"kg"},"=",{"$f":"IF(RIGHT(TEXT(VLOOKUP(K9,'SYSTEM FORMULAE'!$A$1:$G$2560,6),\"# ##0.###\"),1)=\".\",LEFT(TEXT(VLOOKUP(K9,'SYSTEM FORMULAE'!$A$1:$G$2560,6),\"# ##0.###\"),LEN(TEXT(VLOOKUP(K9,'SYSTEM FORMULAE'!$A$1:$G$2560,6),\"# ##0.###\"))-1),TEXT(VLOOKUP(K9,'SYSTEM FORMULAE'!$A$1:$G$2560,6),\"# ##0.###\"))","v":" 38"},{"$f":"VLOOKUP(K9,'SYSTEM FORMULAE'!$A$1:$G$2560,7)","v":"tonnes"},null,{"$f":"IF(ROW()<=Worksheet!$D$4/3,R8+1,\"\")","v":29},{"$f":"RANDBETWEEN(1,MAX('SYSTEM FORMULAE'!$A$1:$A$2560))","v":31},{"$f":"IF(RIGHT(TEXT(VLOOKUP(S9,'SYSTEM FORMULAE'!$A$1:$G$2560,3),\"# ##0.###\"),1)=\".\",LEFT(TEXT(VLOOKUP(S9,'SYSTEM FORMULAE'!$A$1:$G$2560,3),\"# ##0.###\"),LEN(TEXT(VLOOKUP(S9,'SYSTEM FORMULAE'!$A$1:$G$2560,3),\"# ##0.###\"))-1),TEXT(VLOOKUP(S9,'SYSTEM FORMULAE'!$A$1:$G$2560,3),\"# ##0.###\"))","v":" 55"},{"$f":"VLOOKUP(S9,'SYSTEM FORMULAE'!$A$1:$G$2560,4)","v":"cm"},"=",{"$f":"IF(RIGHT(TEXT(VLOOKUP(S9,'SYSTEM FORMULAE'!$A$1:$G$2560,6),\"# ##0.###\"),1)=\".\",LEFT(TEXT(VLOOKUP(S9,'SYSTEM FORMULAE'!$A$1:$G$2560,6),\"# ##0.###\"),LEN(TEXT(VLOOKUP(S9,'SYSTEM FORMULAE'!$A$1:$G$2560,6),\"# ##0.###\"))-1),TEXT(VLOOKUP(S9,'SYSTEM FORMULAE'!$A$1:$G$2560,6),\"# ##0.###\"))","v":" 550"},{"$f":"VLOOKUP(S9,'SYSTEM FORMULAE'!$A$1:$G$2560,7)","v":"mm"},null,{"$f":"IF(ROW()<=Worksheet!$D$4/3,Z8+1,\"\")","v":49},{"$f":"RANDBETWEEN(1,MAX('SYSTEM FORMULAE'!$A$1:$A$2560))","v":403},{"$f":"IF(RIGHT(TEXT(VLOOKUP(AA9,'SYSTEM FORMULAE'!$A$1:$G$2560,3),\"# ##0.###\"),1)=\".\",LEFT(TEXT(VLOOKUP(AA9,'SYSTEM FORMULAE'!$A$1:$G$2560,3),\"# ##0.###\"),LEN(TEXT(VLOOKUP(AA9,'SYSTEM FORMULAE'!$A$1:$G$2560,3),\"# ##0.###\"))-1),TEXT(VLOOKUP(AA9,'SYSTEM FORMULAE'!$A$1:$G$2560,3),\"# ##0.###\"))","v":" 91"},{"$f":"VLOOKUP(AA9,'SYSTEM FORMULAE'!$A$1:$G$2560,4)","v":"cm"},"=",{"$f":"IF(RIGHT(TEXT(VLOOKUP(AA9,'SYSTEM FORMULAE'!$A$1:$G$2560,6),\"# ##0.###\"),1)=\".\",LEFT(TEXT(VLOOKUP(AA9,'SYSTEM FORMULAE'!$A$1:$G$2560,6),\"# ##0.###\"),LEN(TEXT(VLOOKUP(AA9,'SYSTEM FORMULAE'!$A$1:$G$2560,6),\"# ##0.###\"))-1),TEXT(VLOOKUP(AA9,'SYSTEM FORMULAE'!$A$1:$G$2560,6),\"# ##0.###\"))","v":" 910"},{"$f":"VLOOKUP(AA9,'SYSTEM FORMULAE'!$A$1:$G$2560,7)","v":"mm"}]
[{"$f":"IF(COUNTIF($B$1:B10,TRUE)=COUNTIF($B$1:B9,TRUE),\"\",COUNTIF($B$1:B10,TRUE))","v":""},{"$f":"IF(Worksheet!$D$10=2,FALSE,Worksheet!$D$18)","v":false},{"$f":"10000*F10","v":680000},"cm²","=",{"$f":"IF(Worksheet!$D$6=1,RANDBETWEEN(1,99),IF(Worksheet!$D$6=2,CHOOSE(RANDBETWEEN(1,2),RANDBETWEEN(1,99),RANDBETWEEN(1,999)/10),CHOOSE(RANDBETWEEN(1,4),RANDBETWEEN(1,99999)/1000,RANDBETWEEN(1,9999)/100,RANDBETWEEN(1,999)/10,RANDBETWEEN(1,99))))","v":68},"m²",null,null,{"$f":"IF(ROW()<=Worksheet!$D$4/3,ROW(),\"\")","v":10},{"$f":"RANDBETWEEN(1,MAX('SYSTEM FORMULAE'!$A$1:$A$2560))","v":1368},{"$f":"IF(RIGHT(TEXT(VLOOKUP(K10,'SYSTEM FORMULAE'!$A$1:$G$2560,3),\"# ##0.###\"),1)=\".\",LEFT(TEXT(VLOOKUP(K10,'SYSTEM FORMULAE'!$A$1:$G$2560,3),\"# ##0.###\"),LEN(TEXT(VLOOKUP(K10,'SYSTEM FORMULAE'!$A$1:$G$2560,3),\"# ##0.###\"))-1),TEXT(VLOOKUP(K10,'SYSTEM FORMULAE'!$A$1:$G$2560,3),\"# ##0.###\"))","v":" 59"},{"$f":"VLOOKUP(K10,'SYSTEM FORMULAE'!$A$1:$G$2560,4)","v":"litres"},"=",{"$f":"IF(RIGHT(TEXT(VLOOKUP(K10,'SYSTEM FORMULAE'!$A$1:$G$2560,6),\"# ##0.###\"),1)=\".\",LEFT(TEXT(VLOOKUP(K10,'SYSTEM FORMULAE'!$A$1:$G$2560,6),\"# ##0.###\"),LEN(TEXT(VLOOKUP(K10,'SYSTEM FORMULAE'!$A$1:$G$2560,6),\"# ##0.###\"))-1),TEXT(VLOOKUP(K10,'SYSTEM FORMULAE'!$A$1:$G$2560,6),\"# ##0.###\"))","v":"59 000"},{"$f":"VLOOKUP(K10,'SYSTEM FORMULAE'!$A$1:$G$2560,7)","v":"ml"},null,{"$f":"IF(ROW()<=Worksheet!$D$4/3,R9+1,\"\")","v":30},{"$f":"RANDBETWEEN(1,MAX('SYSTEM FORMULAE'!$A$1:$A$2560))","v":223},{"$f":"IF(RIGHT(TEXT(VLOOKUP(S10,'SYSTEM FORMULAE'!$A$1:$G$2560,3),\"# ##0.###\"),1)=\".\",LEFT(TEXT(VLOOKUP(S10,'SYSTEM FORMULAE'!$A$1:$G$2560,3),\"# ##0.###\"),LEN(TEXT(VLOOKUP(S10,'SYSTEM FORMULAE'!$A$1:$G$2560,3),\"# ##0.###\"))-1),TEXT(VLOOKUP(S10,'SYSTEM FORMULAE'!$A$1:$G$2560,3),\"# ##0.###\"))","v":" 95"},{"$f":"VLOOKUP(S10,'SYSTEM FORMULAE'!$A$1:$G$2560,4)","v":"cm"},"=",{"$f":"IF(RIGHT(TEXT(VLOOKUP(S10,'SYSTEM FORMULAE'!$A$1:$G$2560,6),\"# ##0.###\"),1)=\".\",LEFT(TEXT(VLOOKUP(S10,'SYSTEM FORMULAE'!$A$1:$G$2560,6),\"# ##0.###\"),LEN(TEXT(VLOOKUP(S10,'SYSTEM FORMULAE'!$A$1:$G$2560,6),\"# ##0.###\"))-1),TEXT(VLOOKUP(S10,'SYSTEM FORMULAE'!$A$1:$G$2560,6),\"# ##0.###\"))","v":" 950"},{"$f":"VLOOKUP(S10,'SYSTEM FORMULAE'!$A$1:$G$2560,7)","v":"mm"},null,{"$f":"IF(ROW()<=Worksheet!$D$4/3,Z9+1,\"\")","v":50},{"$f":"RANDBETWEEN(1,MAX('SYSTEM FORMULAE'!$A$1:$A$2560))","v":967},{"$f":"IF(RIGHT(TEXT(VLOOKUP(AA10,'SYSTEM FORMULAE'!$A$1:$G$2560,3),\"# ##0.###\"),1)=\".\",LEFT(TEXT(VLOOKUP(AA10,'SYSTEM FORMULAE'!$A$1:$G$2560,3),\"# ##0.###\"),LEN(TEXT(VLOOKUP(AA10,'SYSTEM FORMULAE'!$A$1:$G$2560,3),\"# ##0.###\"))-1),TEXT(VLOOKUP(AA10,'SYSTEM FORMULAE'!$A$1:$G$2560,3),\"# ##0.###\"))","v":" 30"},{"$f":"VLOOKUP(AA10,'SYSTEM FORMULAE'!$A$1:$G$2560,4)","v":"cm"},"=",{"$f":"IF(RIGHT(TEXT(VLOOKUP(AA10,'SYSTEM FORMULAE'!$A$1:$G$2560,6),\"# ##0.###\"),1)=\".\",LEFT(TEXT(VLOOKUP(AA10,'SYSTEM FORMULAE'!$A$1:$G$2560,6),\"# ##0.###\"),LEN(TEXT(VLOOKUP(AA10,'SYSTEM FORMULAE'!$A$1:$G$2560,6),\"# ##0.###\"))-1),TEXT(VLOOKUP(AA10,'SYSTEM FORMULAE'!$A$1:$G$2560,6),\"# ##0.###\"))","v":" 300"},{"$f":"VLOOKUP(AA10,'SYSTEM FORMULAE'!$A$1:$G$2560,7)","v":"mm"}]
[{"$f":"IF(COUNTIF($B$1:B11,TRUE)=COUNTIF($B$1:B10,TRUE),\"\",COUNTIF($B$1:B11,TRUE))","v":7},{"$f":"IF(Worksheet!$D$10=3,FALSE,Worksheet!$B$14)","v":true},{"$f":"IF(Worksheet!$D$6=1,RANDBETWEEN(1,99),IF(Worksheet!$D$6=2,CHOOSE(RANDBETWEEN(1,2),RANDBETWEEN(1,99),RANDBETWEEN(1,999)/10),CHOOSE(RANDBETWEEN(1,4),RANDBETWEEN(1,99999)/1000,RANDBETWEEN(1,9999)/100,RANDBETWEEN(1,999)/10,RANDBETWEEN(1,99))))","v":77},"cm","=",{"$f":"10*C11","v":770},"mm",null,null,{"$f":"IF(ROW()<=Worksheet!$D$4/3,ROW(),\"\")","v":11},{"$f":"RANDBETWEEN(1,MAX('SYSTEM FORMULAE'!$A$1:$A$2560))","v":774},{"$f":"IF(RIGHT(TEXT(VLOOKUP(K11,'SYSTEM FORMULAE'!$A$1:$G$2560,3),\"# ##0.###\"),1)=\".\",LEFT(TEXT(VLOOKUP(K11,'SYSTEM FORMULAE'!$A$1:$G$2560,3),\"# ##0.###\"),LEN(TEXT(VLOOKUP(K11,'SYSTEM FORMULAE'!$A$1:$G$2560,3),\"# ##0.###\"))-1),TEXT(VLOOKUP(K11,'SYSTEM FORMULAE'!$A$1:$G$2560,3),\"# ##0.###\"))","v":"20 000"},{"$f":"VLOOKUP(K11,'SYSTEM FORMULAE'!$A$1:$G$2560,4)","v":"ml"},"=",{"$f":"IF(RIGHT(TEXT(VLOOKUP(K11,'SYSTEM FORMULAE'!$A$1:$G$2560,6),\"# ##0.###\"),1)=\".\",LEFT(TEXT(VLOOKUP(K11,'SYSTEM FORMULAE'!$A$1:$G$2560,6),\"# ##0.###\"),LEN(TEXT(VLOOKUP(K11,'SYSTEM FORMULAE'!$A$1:$G$2560,6),\"# ##0.###\"))-1),TEXT(VLOOKUP(K11,'SYSTEM FORMULAE'!$A$1:$G$2560,6),\"# ##0.###\"))","v":" 20"},{"$f":"VLOOKUP(K11,'SYSTEM FORMULAE'!$A$1:$G$2560,7)","v":"litres"},null,{"$f":"IF(ROW()<=Worksheet!$D$4/3,R10+1,\"\")","v":31},{"$f":"RANDBETWEEN(1,MAX('SYSTEM FORMULAE'!$A$1:$A$2560))","v":1350},{"$f":"IF(RIGHT(TEXT(VLOOKUP(S11,'SYSTEM FORMULAE'!$A$1:$G$2560,3),\"# ##0.###\"),1)=\".\",LEFT(TEXT(VLOOKUP(S11,'SYSTEM FORMULAE'!$A$1:$G$2560,3),\"# ##0.###\"),LEN(TEXT(VLOOKUP(S11,'SYSTEM FORMULAE'!$A$1:$G$2560,3),\"# ##0.###\"))-1),TEXT(VLOOKUP(S11,'SYSTEM FORMULAE'!$A$1:$G$2560,3),\"# ##0.###\"))","v":"96 000"},{"$f":"VLOOKUP(S11,'SYSTEM FORMULAE'!$A$1:$G$2560,4)","v":"ml"},"=",{"$f":"IF(RIGHT(TEXT(VLOOKUP(S11,'SYSTEM FORMULAE'!$A$1:$G$2560,6),\"# ##0.###\"),1)=\".\",LEFT(TEXT(VLOOKUP(S11,'SYSTEM FORMULAE'!$A$1:$G$2560,6),\"# ##0.###\"),LEN(TEXT(VLOOKUP(S11,'SYSTEM FORMULAE'!$A$1:$G$2560,6),\"# ##0.###\"))-1),TEXT(VLOOKUP(S11,'SYSTEM FORMULAE'!$A$1:$G$2560,6),\"# ##0.###\"))","v":" 96"},{"$f":"VLOOKUP(S11,'SYSTEM FORMULAE'!$A$1:$G$2560,7)","v":"litres"},null,{"$f":"IF(ROW()<=Worksheet!$D$4/3,Z10+1,\"\")","v":51},{"$f":"RANDBETWEEN(1,MAX('SYSTEM FORMULAE'!$A$1:$A$2560))","v":1165},{"$f":"IF(RIGHT(TEXT(VLOOKUP(AA11,'SYSTEM FORMULAE'!$A$1:$G$2560,3),\"# ##0.###\"),1)=\".\",LEFT(TEXT(VLOOKUP(AA11,'SYSTEM FORMULAE'!$A$1:$G$2560,3),\"# ##0.###\"),LEN(TEXT(VLOOKUP(AA11,'SYSTEM FORMULAE'!$A$1:$G$2560,3),\"# ##0.###\"))-1),TEXT(VLOOKUP(AA11,'SYSTEM FORMULAE'!$A$1:$G$2560,3),\"# ##0.###\"))","v":" 820"},{"$f":"VLOOKUP(AA11,'SYSTEM FORMULAE'!$A$1:$G$2560,4)","v":"mm"},"=",{"$f":"IF(RIGHT(TEXT(VLOOKUP(AA11,'SYSTEM FORMULAE'!$A$1:$G$2560,6),\"# ##0.###\"),1)=\".\",LEFT(TEXT(VLOOKUP(AA11,'SYSTEM FORMULAE'!$A$1:$G$2560,6),\"# ##0.###\"),LEN(TEXT(VLOOKUP(AA11,'SYSTEM FORMULAE'!$A$1:$G$2560,6),\"# ##0.###\"))-1),TEXT(VLOOKUP(AA11,'SYSTEM FORMULAE'!$A$1:$G$2560,6),\"# ##0.###\"))","v":" 82"},{"$f":"VLOOKUP(AA11,'SYSTEM FORMULAE'!$A$1:$G$2560,7)","v":"cm"}]
[{"$f":"IF(COUNTIF($B$1:B12,TRUE)=COUNTIF($B$1:B11,TRUE),\"\",COUNTIF($B$1:B12,TRUE))","v":8},{"$f":"IF(Worksheet!$D$10=3,FALSE,Worksheet!$B$15)","v":true},{"$f":"IF(Worksheet!$D$6=1,RANDBETWEEN(1,99),IF(Worksheet!$D$6=2,CHOOSE(RANDBETWEEN(1,2),RANDBETWEEN(1,99),RANDBETWEEN(1,999)/10),CHOOSE(RANDBETWEEN(1,4),RANDBETWEEN(1,99999)/1000,RANDBETWEEN(1,9999)/100,RANDBETWEEN(1,999)/10,RANDBETWEEN(1,99))))","v":12},"m","=",{"$f":"100*C12","v":1200},"cm",null,null,{"$f":"IF(ROW()<=Worksheet!$D$4/3,ROW(),\"\")","v":12},{"$f":"RANDBETWEEN(1,MAX('SYSTEM FORMULAE'!$A$1:$A$2560))","v":1365},{"$f":"IF(RIGHT(TEXT(VLOOKUP(K12,'SYSTEM FORMULAE'!$A$1:$G$2560,3),\"# ##0.###\"),1)=\".\",LEFT(TEXT(VLOOKUP(K12,'SYSTEM FORMULAE'!$A$1:$G$2560,3),\"# ##0.###\"),LEN(TEXT(VLOOKUP(K12,'SYSTEM FORMULAE'!$A$1:$G$2560,3),\"# ##0.###\"))-1),TEXT(VLOOKUP(K12,'SYSTEM FORMULAE'!$A$1:$G$2560,3),\"# ##0.###\"))","v":" 13"},{"$f":"VLOOKUP(K12,'SYSTEM FORMULAE'!$A$1:$G$2560,4)","v":"km"},"=",{"$f":"IF(RIGHT(TEXT(VLOOKUP(K12,'SYSTEM FORMULAE'!$A$1:$G$2560,6),\"# ##0.###\"),1)=\".\",LEFT(TEXT(VLOOKUP(K12,'SYSTEM FORMULAE'!$A$1:$G$2560,6),\"# ##0.###\"),LEN(TEXT(VLOOKUP(K12,'SYSTEM FORMULAE'!$A$1:$G$2560,6),\"# ##0.###\"))-1),TEXT(VLOOKUP(K12,'SYSTEM FORMULAE'!$A$1:$G$2560,6),\"# ##0.###\"))","v":"13 000"},{"$f":"VLOOKUP(K12,'SYSTEM FORMULAE'!$A$1:$G$2560,7)","v":"m"},null,{"$f":"IF(ROW()<=Worksheet!$D$4/3,R11+1,\"\")","v":32},{"$f":"RANDBETWEEN(1,MAX('SYSTEM FORMULAE'!$A$1:$A$2560))","v":166},{"$f":"IF(RIGHT(TEXT(VLOOKUP(S12,'SYSTEM FORMULAE'!$A$1:$G$2560,3),\"# ##0.###\"),1)=\".\",LEFT(TEXT(VLOOKUP(S12,'SYSTEM FORMULAE'!$A$1:$G$2560,3),\"# ##0.###\"),LEN(TEXT(VLOOKUP(S12,'SYSTEM FORMULAE'!$A$1:$G$2560,3),\"# ##0.###\"))-1),TEXT(VLOOKUP(S12,'SYSTEM FORMULAE'!$A$1:$G$2560,3),\"# ##0.###\"))","v":" 23"},{"$f":"VLOOKUP(S12,'SYSTEM FORMULAE'!$A$1:$G$2560,4)","v":"kg"},"=",{"$f":"IF(RIGHT(TEXT(VLOOKUP(S12,'SYSTEM FORMULAE'!$A$1:$G$2560,6),\"# ##0.###\"),1)=\".\",LEFT(TEXT(VLOOKUP(S12,'SYSTEM FORMULAE'!$A$1:$G$2560,6),\"# ##0.###\"),LEN(TEXT(VLOOKUP(S12,'SYSTEM FORMULAE'!$A$1:$G$2560,6),\"# ##0.###\"))-1),TEXT(VLOOKUP(S12,'SYSTEM FORMULAE'!$A$1:$G$2560,6),\"# ##0.###\"))","v":"23 000"},{"$f":"VLOOKUP(S12,'SYSTEM FORMULAE'!$A$1:$G$2560,7)","v":"g"},null,{"$f":"IF(ROW()<=Worksheet!$D$4/3,Z11+1,\"\")","v":52},{"$f":"RANDBETWEEN(1,MAX('SYSTEM FORMULAE'!$A$1:$A$2560))","v":463},{"$f":"IF(RIGHT(TEXT(VLOOKUP(AA12,'SYSTEM FORMULAE'!$A$1:$G$2560,3),\"# ##0.###\"),1)=\".\",LEFT(TEXT(VLOOKUP(AA12,'SYSTEM FORMULAE'!$A$1:$G$2560,3),\"# ##0.###\"),LEN(TEXT(VLOOKUP(AA12,'SYSTEM FORMULAE'!$A$1:$G$2560,3),\"# ##0.###\"))-1),TEXT(VLOOKUP(AA12,'SYSTEM FORMULAE'!$A$1:$G$2560,3),\"# ##0.###\"))","v":" 63"},{"$f":"VLOOKUP(AA12,'SYSTEM FORMULAE'!$A$1:$G$2560,4)","v":"cm"},"=",{"$f":"IF(RIGHT(TEXT(VLOOKUP(AA12,'SYSTEM FORMULAE'!$A$1:$G$2560,6),\"# ##0.###\"),1)=\".\",LEFT(TEXT(VLOOKUP(AA12,'SYSTEM FORMULAE'!$A$1:$G$2560,6),\"# ##0.###\"),LEN(TEXT(VLOOKUP(AA12,'SYSTEM FORMULAE'!$A$1:$G$2560,6),\"# ##0.###\"))-1),TEXT(VLOOKUP(AA12,'SYSTEM FORMULAE'!$A$1:$G$2560,6),\"# ##0.###\"))","v":" 630"},{"$f":"VLOOKUP(AA12,'SYSTEM FORMULAE'!$A$1:$G$2560,7)","v":"mm"}]
[{"$f":"IF(COUNTIF($B$1:B13,TRUE)=COUNTIF($B$1:B12,TRUE),\"\",COUNTIF($B$1:B13,TRUE))","v":9},{"$f":"IF(Worksheet!$D$10=3,FALSE,Worksheet!$B$16)","v":true},{"$f":"IF(Worksheet!$D$6=1,RANDBETWEEN(1,99),IF(Worksheet!$D$6=2,CHOOSE(RANDBETWEEN(1,2),RANDBETWEEN(1,99),RANDBETWEEN(1,999)/10),CHOOSE(RANDBETWEEN(1,4),RANDBETWEEN(1,99999)/1000,RANDBETWEEN(1,9999)/100,RANDBETWEEN(1,999)/10,RANDBETWEEN(1,99))))","v":69},"km","=",{"$f":"1000*C13","v":69000},"m",null,null,{"$f":"IF(ROW()<=Worksheet!$D$4/3,ROW(),\"\")","v":13},{"$f":"RANDBETWEEN(1,MAX('SYSTEM FORMULAE'!$A$1:$A$2560))","v":1311},{"$f":"IF(RIGHT(TEXT(VLOOKUP(K13,'SYSTEM FORMULAE'!$A$1:$G$2560,3),\"# ##0.###\"),1)=\".\",LEFT(TEXT(VLOOKUP(K13,'SYSTEM FORMULAE'!$A$1:$G$2560,3),\"# ##0.###\"),LEN(TEXT(VLOOKUP(K13,'SYSTEM FORMULAE'!$A$1:$G$2560,3),\"# ##0.###\"))-1),TEXT(VLOOKUP(K13,'SYSTEM FORMULAE'!$A$1:$G$2560,3),\"# ##0.###\"))","v":"34 000"},{"$f":"VLOOKUP(K13,'SYSTEM FORMULAE'!$A$1:$G$2560,4)","v":"m"},"=",{"$f":"IF(RIGHT(TEXT(VLOOKUP(K13,'SYSTEM FORMULAE'!$A$1:$G$2560,6),\"# ##0.###\"),1)=\".\",LEFT(TEXT(VLOOKUP(K13,'SYSTEM FORMULAE'!$A$1:$G$2560,6),\"# ##0.###\"),LEN(TEXT(VLOOKUP(K13,'SYSTEM FORMULAE'!$A$1:$G$2560,6),\"# ##0.###\"))-1),TEXT(VLOOKUP(K13,'SYSTEM FORMULAE'!$A$1:$G$2560,6),\"# ##0.###\"))","v":" 34"},{"$f":"VLOOKUP(K13,'SYSTEM FORMULAE'!$A$1:$G$2560,7)","v":"km"},null,{"$f":"IF(ROW()<=Worksheet!$D$4/3,R12+1,\"\")","v":33},{"$f":"RANDBETWEEN(1,MAX('SYSTEM FORMULAE'!$A$1:$A$2560))","v":1375},{"$f":"IF(RIGHT(TEXT(VLOOKUP(S13,'SYSTEM FORMULAE'!$A$1:$G$2560,3),\"# ##0.###\"),1)=\".\",LEFT(TEXT(VLOOKUP(S13,'SYSTEM FORMULAE'!$A$1:$G$2560,3),\"# ##0.###\"),LEN(TEXT(VLOOKUP(S13,'SYSTEM FORMULAE'!$A$1:$G$2560,3),\"# ##0.###\"))-1),TEXT(VLOOKUP(S13,'SYSTEM FORMULAE'!$A$1:$G$2560,3),\"# ##0.###\"))","v":" 98"},{"$f":"VLOOKUP(S13,'SYSTEM FORMULAE'!$A$1:$G$2560,4)","v":"cm"},"=",{"$f":"IF(RIGHT(TEXT(VLOOKUP(S13,'SYSTEM FORMULAE'!$A$1:$G$2560,6),\"# ##0.###\"),1)=\".\",LEFT(TEXT(VLOOKUP(S13,'SYSTEM FORMULAE'!$A$1:$G$2560,6),\"# ##0.###\"),LEN(TEXT(VLOOKUP(S13,'SYSTEM FORMULAE'!$A$1:$G$2560,6),\"# ##0.###\"))-1),TEXT(VLOOKUP(S13,'SYSTEM FORMULAE'!$A$1:$G$2560,6),\"# ##0.###\"))","v":" 980"},{"$f":"VLOOKUP(S13,'SYSTEM FORMULAE'!$A$1:$G$2560,7)","v":"mm"},null,{"$f":"IF(ROW()<=Worksheet!$D$4/3,Z12+1,\"\")","v":53},{"$f":"RANDBETWEEN(1,MAX('SYSTEM FORMULAE'!$A$1:$A$2560))","v":943},{"$f":"IF(RIGHT(TEXT(VLOOKUP(AA13,'SYSTEM FORMULAE'!$A$1:$G$2560,3),\"# ##0.###\"),1)=\".\",LEFT(TEXT(VLOOKUP(AA13,'SYSTEM FORMULAE'!$A$1:$G$2560,3),\"# ##0.###\"),LEN(TEXT(VLOOKUP(AA13,'SYSTEM FORMULAE'!$A$1:$G$2560,3),\"# ##0.###\"))-1),TEXT(VLOOKUP(AA13,'SYSTEM FORMULAE'!$A$1:$G$2560,3),\"# ##0.###\"))","v":" 35"},{"$f":"VLOOKUP(AA13,'SYSTEM FORMULAE'!$A$1:$G$2560,4)","v":"cm"},"=",{"$f":"IF(RIGHT(TEXT(VLOOKUP(AA13,'SYSTEM FORMULAE'!$A$1:$G$2560,6),\"# ##0.###\"),1)=\".\",LEFT(TEXT(VLOOKUP(AA13,'SYSTEM FORMULAE'!$A$1:$G$2560,6),\"# ##0.###\"),LEN(TEXT(VLOOKUP(AA13,'SYSTEM FORMULAE'!$A$1:$G$2560,6),\"# ##0.###\"))-1),TEXT(VLOOKUP(AA13,'SYSTEM FORMULAE'!$A$1:$G$2560,6),\"# ##0.###\"))","v":" 350"},{"$f":"VLOOKUP(AA13,'SYSTEM FORMULAE'!$A$1:$G$2560,7)","v":"mm"}]
[{"$f":"IF(COUNTIF($B$1:B14,TRUE)=COUNTIF($B$1:B13,TRUE),\"\",COUNTIF($B$1:B14,TRUE))","v":""},{"$f":"IF(Worksheet!$D$10=3,FALSE,Worksheet!$B$17)","v":false},{"$f":"IF(Worksheet!$D$6=1,RANDBETWEEN(1,99),IF(Worksheet!$D$6=2,CHOOSE(RANDBETWEEN(1,2),RANDBETWEEN(1,99),RANDBETWEEN(1,999)/10),CHOOSE(RANDBETWEEN(1,4),RANDBETWEEN(1,99999)/1000,RANDBETWEEN(1,9999)/100,RANDBETWEEN(1,999)/10,RANDBETWEEN(1,99))))","v":68},"m",{"$f":"#REF!","v":{"$error":"#REF!"}},{"$f":"1000*C14","v":68000},"mm",null,null,{"$f":"IF(ROW()<=Worksheet!$D$4/3,ROW(),\"\")","v":14},{"$f":"RANDBETWEEN(1,MAX('SYSTEM FORMULAE'!$A$1:$A$2560))","v":85},{"$f":"IF(RIGHT(TEXT(VLOOKUP(K14,'SYSTEM FORMULAE'!$A$1:$G$2560,3),\"# ##0.###\"),1)=\".\",LEFT(TEXT(VLOOKUP(K14,'SYSTEM FORMULAE'!$A$1:$G$2560,3),\"# ##0.###\"),LEN(TEXT(VLOOKUP(K14,'SYSTEM FORMULAE'!$A$1:$G$2560,3),\"# ##0.###\"))-1),TEXT(VLOOKUP(K14,'SYSTEM FORMULAE'!$A$1:$G$2560,3),\"# ##0.###\"))","v":" 190"},{"$f":"VLOOKUP(K14,'SYSTEM FORMULAE'!$A$1:$G$2560,4)","v":"mm"},"=",{"$f":"IF(RIGHT(TEXT(VLOOKUP(K14,'SYSTEM FORMULAE'!$A$1:$G$2560,6),\"# ##0.###\"),1)=\".\",LEFT(TEXT(VLOOKUP(K14,'SYSTEM FORMULAE'!$A$1:$G$2560,6),\"# ##0.###\"),LEN(TEXT(VLOOKUP(K14,'SYSTEM FORMULAE'!$A$1:$G$2560,6),\"# ##0.###\"))-1),TEXT(VLOOKUP(K14,'SYSTEM FORMULAE'!$A$1:$G$2560,6),\"# ##0.###\"))","v":" 19"},{"$f":"VLOOKUP(K14,'SYSTEM FORMULAE'!$A$1:$G$2560,7)","v":"cm"},null,{"$f":"IF(ROW()<=Worksheet!$D$4/3,R13+1,\"\")","v":34},{"$f":"RANDBETWEEN(1,MAX('SYSTEM FORMULAE'!$A$1:$A$2560))","v":399},{"$f":"IF(RIGHT(TEXT(VLOOKUP(S14,'SYSTEM FORMULAE'!$A$1:$G$2560,3),\"# ##0.###\"),1)=\".\",LEFT(TEXT(VLOOKUP(S14,'SYSTEM FORMULAE'!$A$1:$G$2560,3),\"# ##0.###\"),LEN(TEXT(VLOOKUP(S14,'SYSTEM FORMULAE'!$A$1:$G$2560,3),\"# ##0.###\"))-1),TEXT(VLOOKUP(S14,'SYSTEM FORMULAE'!$A$1:$G$2560,3),\"# ##0.###\"))","v":"50 000"},{"$f":"VLOOKUP(S14,'SYSTEM FORMULAE'!$A$1:$G$2560,4)","v":"m"},"=",{"$f":"IF(RIGHT(TEXT(VLOOKUP(S14,'SYSTEM FORMULAE'!$A$1:$G$2560,6),\"# ##0.###\"),1)=\".\",LEFT(TEXT(VLOOKUP(S14,'SYSTEM FORMULAE'!$A$1:$G$2560,6),\"# ##0.###\"),LEN(TEXT(VLOOKUP(S14,'SYSTEM FORMULAE'!$A$1:$G$2560,6),\"# ##0.###\"))-1),TEXT(VLOOKUP(S14,'SYSTEM FORMULAE'!$A$1:$G$2560,6),\"# ##0.###\"))","v":" 50"},{"$f":"VLOOKUP(S14,'SYSTEM FORMULAE'!$A$1:$G$2560,7)","v":"km"},null,{"$f":"IF(ROW()<=Worksheet!$D$4/3,Z13+1,\"\")","v":54},{"$f":"RANDBETWEEN(1,MAX('SYSTEM FORMULAE'!$A$1:$A$2560))","v":241},{"$f":"IF(RIGHT(TEXT(VLOOKUP(AA14,'SYSTEM FORMULAE'!$A$1:$G$2560,3),\"# ##0.###\"),1)=\".\",LEFT(TEXT(VLOOKUP(AA14,'SYSTEM FORMULAE'!$A$1:$G$2560,3),\"# ##0.###\"),LEN(TEXT(VLOOKUP(AA14,'SYSTEM FORMULAE'!$A$1:$G$2560,3),\"# ##0.###\"))-1),TEXT(VLOOKUP(AA14,'SYSTEM FORMULAE'!$A$1:$G$2560,3),\"# ##0.###\"))","v":" 30"},{"$f":"VLOOKUP(AA14,'SYSTEM FORMULAE'!$A$1:$G$2560,4)","v":"mm"},"=",{"$f":"IF(RIGHT(TEXT(VLOOKUP(AA14,'SYSTEM FORMULAE'!$A$1:$G$2560,6),\"# ##0.###\"),1)=\".\",LEFT(TEXT(VLOOKUP(AA14,'SYSTEM FORMULAE'!$A$1:$G$2560,6),\"# ##0.###\"),LEN(TEXT(VLOOKUP(AA14,'SYSTEM FORMULAE'!$A$1:$G$2560,6),\"# ##0.###\"))-1),TEXT(VLOOKUP(AA14,'SYSTEM FORMULAE'!$A$1:$G$2560,6),\"# ##0.###\"))","v":" 3"},{"$f":"VLOOKUP(AA14,'SYSTEM FORMULAE'!$A$1:$G$2560,7)","v":"cm"}]
[{"$f":"IF(COUNTIF($B$1:B15,TRUE)=COUNTIF($B$1:B14,TRUE),\"\",COUNTIF($B$1:B15,TRUE))","v":""},{"$f":"IF(Worksheet!$D$10=3,FALSE,Worksheet!$B$18)","v":false},{"$f":"IF(Worksheet!$D$6=1,RANDBETWEEN(1,99),IF(Worksheet!$D$6=2,CHOOSE(RANDBETWEEN(1,2),RANDBETWEEN(1,99),RANDBETWEEN(1,999)/10),CHOOSE(RANDBETWEEN(1,4),RANDBETWEEN(1,99999)/1000,RANDBETWEEN(1,9999)/100,RANDBETWEEN(1,999)/10,RANDBETWEEN(1,99))))","v":73},"cm²","=",{"$f":"C15*100","v":7300},"mm²",null,null,{"$f":"IF(ROW()<=Worksheet!$D$4/3,ROW(),\"\")","v":15},{"$f":"RANDBETWEEN(1,MAX('SYSTEM FORMULAE'!$A$1:$A$2560))","v":1268},{"$f":"IF(RIGHT(TEXT(VLOOKUP(K15,'SYSTEM FORMULAE'!$A$1:$G$2560,3),\"# ##0.###\"),1)=\".\",LEFT(TEXT(VLOOKUP(K15,'SYSTEM FORMULAE'!$A$1:$G$2560,3),\"# ##0.###\"),LEN(TEXT(VLOOKUP(K15,'SYSTEM FORMULAE'!$A$1:$G$2560,3),\"# ##0.###\"))-1),TEXT(VLOOKUP(K15,'SYSTEM FORMULAE'!$A$1:$G$2560,3),\"# ##0.###\"))","v":" 25"},{"$f":"VLOOKUP(K15,'SYSTEM FORMULAE'!$A$1:$G$2560,4)","v":"m"},"=",{"$f":"IF(RIGHT(TEXT(VLOOKUP(K15,'SYSTEM FORMULAE'!$A$1:$G$2560,6),\"# ##0.###\"),1)=\".\",LEFT(TEXT(VLOOKUP(K15,'SYSTEM FORMULAE'!$A$1:$G$2560,6),\"# ##0.###\"),LEN(TEXT(VLOOKUP(K15,'SYSTEM FORMULAE'!$A$1:$G$2560,6),\"# ##0.###\"))-1),TEXT(VLOOKUP(K15,'SYSTEM FORMULAE'!$A$1:$G$2560,6),\"# ##0.###\"))","v":"2 500"},{"$f":"VLOOKUP(K15,'SYSTEM FORMULAE'!$A$1:$G$2560,7)","v":"cm"},null,{"$f":"IF(ROW()<=Worksheet!$D$4/3,R14+1,\"\")","v":35},{"$f":"RANDBETWEEN(1,MAX('SYSTEM FORMULAE'!$A$1:$A$2560))","v":348},{"$f":"IF(RIGHT(TEXT(VLOOKUP(S15,'SYSTEM FORMULAE'!$A$1:$G$2560,3),\"# ##0.###\"),1)=\".\",LEFT(TEXT(VLOOKUP(S15,'SYSTEM FORMULAE'!$A$1:$G$2560,3),\"# ##0.###\"),LEN(TEXT(VLOOKUP(S15,'SYSTEM FORMULAE'!$A$1:$G$2560,3),\"# ##0.###\"))-1),TEXT(VLOOKUP(S15,'SYSTEM FORMULAE'!$A$1:$G$2560,3),\"# ##0.###\"))","v":" 74"},{"$f":"VLOOKUP(S15,'SYSTEM FORMULAE'!$A$1:$G$2560,4)","v":"litres"},"=",{"$f":"IF(RIGHT(TEXT(VLOOKUP(S15,'SYSTEM FORMULAE'!$A$1:$G$2560,6),\"# ##0.###\"),1)=\".\",LEFT(TEXT(VLOOKUP(S15,'SYSTEM FORMULAE'!$A$1:$G$2560,6),\"# ##0.###\"),LEN(TEXT(VLOOKUP(S15,'SYSTEM FORMULAE'!$A$1:$G$2560,6),\"# ##0.###\"))-1),TEXT(VLOOKUP(S15,'SYSTEM FORMULAE'!$A$1:$G$2560,6),\"# ##0.###\"))","v":"74 000"},{"$f":"VLOOKUP(S15,'SYSTEM FORMULAE'!$A$1:$G$2560,7)","v":"ml"},null,{"$f":"IF(ROW()<=Worksheet!$D$4/3,Z14+1,\"\")","v":55},{"$f":"RANDBETWEEN(1,MAX('SYSTEM FORMULAE'!$A$1:$A$2560))","v":892},{"$f":"IF(RIGHT(TEXT(VLOOKUP(AA15,'SYSTEM FORMULAE'!$A$1:$G$2560,3),\"# ##0.###\"),1)=\".\",LEFT(TEXT(VLOOKUP(AA15,'SYSTEM FORMULAE'!$A$1:$G$2560,3),\"# ##0.###\"),LEN(TEXT(VLOOKUP(AA15,'SYSTEM FORMULAE'!$A$1:$G$2560,3),\"# ##0.###\"))-1),TEXT(VLOOKUP(AA15,'SYSTEM FORMULAE'!$A$1:$G$2560,3),\"# ##0.###\"))","v":"1 000"},{"$f":"VLOOKUP(AA15,'SYSTEM FORMULAE'!$A$1:$G$2560,4)","v":"g"},"=",{"$f":"IF(RIGHT(TEXT(VLOOKUP(AA15,'SYSTEM FORMULAE'!$A$1:$G$2560,6),\"# ##0.###\"),1)=\".\",LEFT(TEXT(VLOOKUP(AA15,'SYSTEM FORMULAE'!$A$1:$G$2560,6),\"# ##0.###\"),LEN(TEXT(VLOOKUP(AA15,'SYSTEM FORMULAE'!$A$1:$G$2560,6),\"# ##0.###\"))-1),TEXT(VLOOKUP(AA15,'SYSTEM FORMULAE'!$A$1:$G$2560,6),\"# ##0.###\"))","v":" 1"},{"$f":"VLOOKUP(AA15,'SYSTEM FORMULAE'!$A$1:$G$2560,7)","v":"kg"}]
[{"$f":"IF(COUNTIF($B$1:B16,TRUE)=COUNTIF($B$1:B15,TRUE),\"\",COUNTIF($B$1:B16,TRUE))","v":10},{"$f":"IF(Worksheet!$D$10=3,FALSE,Worksheet!$D$14)","v":true},{"$f":"IF(Worksheet!$D$6=1,RANDBETWEEN(1,99),IF(Worksheet!$D$6=2,CHOOSE(RANDBETWEEN(1,2),RANDBETWEEN(1,99),RANDBETWEEN(1,999)/10),CHOOSE(RANDBETWEEN(1,4),RANDBETWEEN(1,99999)/1000,RANDBETWEEN(1,9999)/100,RANDBETWEEN(1,999)/10,RANDBETWEEN(1,99))))","v":87},"kg","=",{"$f":"1000*C16","v":87000},"g",null,null,{"$f":"IF(ROW()<=Worksheet!$D$4/3,ROW(),\"\")","v":16},{"$f":"RANDBETWEEN(1,MAX('SYSTEM FORMULAE'!$A$1:$A$2560))","v":1417},{"$f":"IF(RIGHT(TEXT(VLOOKUP(K16,'SYSTEM FORMULAE'!$A$1:$G$2560,3),\"# ##0.###\"),1)=\".\",LEFT(TEXT(VLOOKUP(K16,'SYSTEM FORMULAE'!$A$1:$G$2560,3),\"# ##0.###\"),LEN(TEXT(VLOOKUP(K16,'SYSTEM FORMULAE'!$A$1:$G$2560,3),\"# ##0.###\"))-1),TEXT(VLOOKUP(K16,'SYSTEM FORMULAE'!$A$1:$G$2560,3),\"# ##0.###\"))","v":" 940"},{"$f":"VLOOKUP(K16,'SYSTEM FORMULAE'!$A$1:$G$2560,4)","v":"mm"},"=",{"$f":"IF(RIGHT(TEXT(VLOOKUP(K16,'SYSTEM FORMULAE'!$A$1:$G$2560,6),\"# ##0.###\"),1)=\".\",LEFT(TEXT(VLOOKUP(K16,'SYSTEM FORMULAE'!$A$1:$G$2560,6),\"# ##0.###\"),LEN(TEXT(VLOOKUP(K16,'SYSTEM FORMULAE'!$A$1:$G$2560,6),\"# ##0.###\"))-1),TEXT(VLOOKUP(K16,'SYSTEM FORMULAE'!$A$1:$G$2560,6),\"# ##0.###\"))","v":" 94"},{"$f":"VLOOKUP(K16,'SYSTEM FORMULAE'!$A$1:$G$2560,7)","v":"cm"},null,{"$f":"IF(ROW()<=Worksheet!$D$4/3,R15+1,\"\")","v":36},{"$f":"RANDBETWEEN(1,MAX('SYSTEM FORMULAE'!$A$1:$A$2560))","v":1440},{"$f":"IF(RIGHT(TEXT(VLOOKUP(S16,'SYSTEM FORMULAE'!$A$1:$G$2560,3),\"# ##0.###\"),1)=\".\",LEFT(TEXT(VLOOKUP(S16,'SYSTEM FORMULAE'!$A$1:$G$2560,3),\"# ##0.###\"),LEN(TEXT(VLOOKUP(S16,'SYSTEM FORMULAE'!$A$1:$G$2560,3),\"# ##0.###\"))-1),TEXT(VLOOKUP(S16,'SYSTEM FORMULAE'!$A$1:$G$2560,3),\"# ##0.###\"))","v":" 55"},{"$f":"VLOOKUP(S16,'SYSTEM FORMULAE'!$A$1:$G$2560,4)","v":"litres"},"=",{"$f":"IF(RIGHT(TEXT(VLOOKUP(S16,'SYSTEM FORMULAE'!$A$1:$G$2560,6),\"# ##0.###\"),1)=\".\",LEFT(TEXT(VLOOKUP(S16,'SYSTEM FORMULAE'!$A$1:$G$2560,6),\"# ##0.###\"),LEN(TEXT(VLOOKUP(S16,'SYSTEM FORMULAE'!$A$1:$G$2560,6),\"# ##0.###\"))-1),TEXT(VLOOKUP(S16,'SYSTEM FORMULAE'!$A$1:$G$2560,6),\"# ##0.###\"))","v":"55 000"},{"$f":"VLOOKUP(S16,'SYSTEM FORMULAE'!$A$1:$G$2560,7)","v":"ml"},null,{"$f":"IF(ROW()<=Worksheet!$D$4/3,Z15+1,\"\")","v":56},{"$f":"RANDBETWEEN(1,MAX('SYSTEM FORMULAE'!$A$1:$A$2560))","v":727},{"$f":"IF(RIGHT(TEXT(VLOOKUP(AA16,'SYSTEM FORMULAE'!$A$1:$G$2560,3),\"# ##0.###\"),1)=\".\",LEFT(TEXT(VLOOKUP(AA16,'SYSTEM FORMULAE'!$A$1:$G$2560,3),\"# ##0.###\"),LEN(TEXT(VLOOKUP(AA16,'SYSTEM FORMULAE'!$A$1:$G$2560,3),\"# ##0.###\"))-1),TEXT(VLOOKUP(AA16,'SYSTEM FORMULAE'!$A$1:$G$2560,3),\"# ##0.###\"))","v":" 44"},{"$f":"VLOOKUP(AA16,'SYSTEM FORMULAE'!$A$1:$G$2560,4)","v":"cm"},"=",{"$f":"IF(RIGHT(TEXT(VLOOKUP(AA16,'SYSTEM FORMULAE'!$A$1:$G$2560,6),\"# ##0.###\"),1)=\".\",LEFT(TEXT(VLOOKUP(AA16,'SYSTEM FORMULAE'!$A$1:$G$2560,6),\"# ##0.###\"),LEN(TEXT(VLOOKUP(AA16,'SYSTEM FORMULAE'!$A$1:$G$2560,6),\"# ##0.###\"))-1),TEXT(VLOOKUP(AA16,'SYSTEM FORMULAE'!$A$1:$G$2560,6),\"# ##0.###\"))","v":" 440"},{"$f":"VLOOKUP(AA16,'SYSTEM FORMULAE'!$A$1:$G$2560,7)","v":"mm"}]
[{"$f":"IF(COUNTIF($B$1:B17,TRUE)=COUNTIF($B$1:B16,TRUE),\"\",COUNTIF($B$1:B17,TRUE))","v":11},{"$f":"IF(Worksheet!$D$10=3,FALSE,Worksheet!$D$15)","v":true},{"$f":"IF(Worksheet!$D$6=1,RANDBETWEEN(1,99),IF(Worksheet!$D$6=2,CHOOSE(RANDBETWEEN(1,2),RANDBETWEEN(1,99),RANDBETWEEN(1,999)/10),CHOOSE(RANDBETWEEN(1,4),RANDBETWEEN(1,99999)/1000,RANDBETWEEN(1,9999)/100,RANDBETWEEN(1,999)/10,RANDBETWEEN(1,99))))","v":59},"tonnes","=",{"$f":"1000*C17","v":59000},"kg",null,null,{"$f":"IF(ROW()<=Worksheet!$D$4/3,ROW(),\"\")","v":17},{"$f":"RANDBETWEEN(1,MAX('SYSTEM FORMULAE'!$A$1:$A$2560))","v":81},{"$f":"IF(RIGHT(TEXT(VLOOKUP(K17,'SYSTEM FORMULAE'!$A$1:$G$2560,3),\"# ##0.###\"),1)=\".\",LEFT(TEXT(VLOOKUP(K17,'SYSTEM FORMULAE'!$A$1:$G$2560,3),\"# ##0.###\"),LEN(TEXT(VLOOKUP(K17,'SYSTEM FORMULAE'!$A$1:$G$2560,3),\"# ##0.###\"))-1),TEXT(VLOOKUP(K17,'SYSTEM FORMULAE'!$A$1:$G$2560,3),\"# ##0.###\"))","v":" 77"},{"$f":"VLOOKUP(K17,'SYSTEM FORMULAE'!$A$1:$G$2560,4)","v":"km"},"=",{"$f":"IF(RIGHT(TEXT(VLOOKUP(K17,'SYSTEM FORMULAE'!$A$1:$G$2560,6),\"# ##0.###\"),1)=\".\",LEFT(TEXT(VLOOKUP(K17,'SYSTEM FORMULAE'!$A$1:$G$2560,6),\"# ##0.###\"),LEN(TEXT(VLOOKUP(K17,'SYSTEM FORMULAE'!$A$1:$G$2560,6),\"# ##0.###\"))-1),TEXT(VLOOKUP(K17,'SYSTEM FORMULAE'!$A$1:$G$2560,6),\"# ##0.###\"))","v":"77 000"},{"$f":"VLOOKUP(K17,'SYSTEM FORMULAE'!$A$1:$G$2560,7)","v":"m"},null,{"$f":"IF(ROW()<=Worksheet!$D$4/3,R16+1,\"\")","v":37},{"$f":"RANDBETWEEN(1,MAX('SYSTEM FORMULAE'!$A$1:$A$2560))","v":103},{"$f":"IF(RIGHT(TEXT(VLOOKUP(S17,'SYSTEM FORMULAE'!$A$1:$G$2560,3),\"# ##0.###\"),1)=\".\",LEFT(TEXT(VLOOKUP(S17,'SYSTEM FORMULAE'!$A$1:$G$2560,3),\"# ##0.###\"),LEN(TEXT(VLOOKUP(S17,'SYSTEM FORMULAE'!$A$1:$G$2560,3),\"# ##0.###\"))-1),TEXT(VLOOKUP(S17,'SYSTEM FORMULAE'!$A$1:$G$2560,3),\"# ##0.###\"))","v":" 67"},{"$f":"VLOOKUP(S17,'SYSTEM FORMULAE'!$A$1:$G$2560,4)","v":"cm"},"=",{"$f":"IF(RIGHT(TEXT(VLOOKUP(S17,'SYSTEM FORMULAE'!$A$1:$G$2560,6),\"# ##0.###\"),1)=\".\",LEFT(TEXT(VLOOKUP(S17,'SYSTEM FORMULAE'!$A$1:$G$2560,6),\"# ##0.###\"),LEN(TEXT(VLOOKUP(S17,'SYSTEM FORMULAE'!$A$1:$G$2560,6),\"# ##0.###\"))-1),TEXT(VLOOKUP(S17,'SYSTEM FORMULAE'!$A$1:$G$2560,6),\"# ##0.###\"))","v":" 670"},{"$f":"VLOOKUP(S17,'SYSTEM FORMULAE'!$A$1:$G$2560,7)","v":"mm"},null,{"$f":"IF(ROW()<=Worksheet!$D$4/3,Z16+1,\"\")","v":57},{"$f":"RANDBETWEEN(1,MAX('SYSTEM FORMULAE'!$A$1:$A$2560))","v":107},{"$f":"IF(RIGHT(TEXT(VLOOKUP(AA17,'SYSTEM FORMULAE'!$A$1:$G$2560,3),\"# ##0.###\"),1)=\".\",LEFT(TEXT(VLOOKUP(AA17,'SYSTEM FORMULAE'!$A$1:$G$2560,3),\"# ##0.###\"),LEN(TEXT(VLOOKUP(AA17,'SYSTEM FORMULAE'!$A$1:$G$2560,3),\"# ##0.###\"))-1),TEXT(VLOOKUP(AA17,'SYSTEM FORMULAE'!$A$1:$G$2560,3),\"# ##0.###\"))","v":" 42"},{"$f":"VLOOKUP(AA17,'SYSTEM FORMULAE'!$A$1:$G$2560,4)","v":"tonnes"},"=",{"$f":"IF(RIGHT(TEXT(VLOOKUP(AA17,'SYSTEM FORMULAE'!$A$1:$G$2560,6),\"# ##0.###\"),1)=\".\",LEFT(TEXT(VLOOKUP(AA17,'SYSTEM FORMULAE'!$A$1:$G$2560,6),\"# ##0.###\"),LEN(TEXT(VLOOKUP(AA17,'SYSTEM FORMULAE'!$A$1:$G$2560,6),\"# ##0.###\"))-1),TEXT(VLOOKUP(AA17,'SYSTEM FORMULAE'!$A$1:$G$2560,6),\"# ##0.###\"))","v":"42 000"},{"$f":"VLOOKUP(AA17,'SYSTEM FORMULAE'!$A$1:$G$2560,7)","v":"kg"}]
[{"$f":"IF(COUNTIF($B$1:B18,TRUE)=COUNTIF($B$1:B17,TRUE),\"\",COUNTIF($B$1:B18,TRUE))","v":12},{"$f":"IF(Worksheet!$D$10=3,FALSE,Worksheet!$D$16)","v":true},{"$f":"IF(Worksheet!$D$6=1,RANDBETWEEN(1,99),IF(Worksheet!$D$6=2,CHOOSE(RANDBETWEEN(1,2),RANDBETWEEN(1,99),RANDBETWEEN(1,999)/10),CHOOSE(RANDBETWEEN(1,4),RANDBETWEEN(1,99999)/1000,RANDBETWEEN(1,9999)/100,RANDBETWEEN(1,999)/10,RANDBETWEEN(1,99))))","v":40},"litres","=",{"$f":"1000*C18","v":40000},"ml",null,null,{"$f":"IF(ROW()<=Worksheet!$D$4/3,ROW(),\"\")","v":18},{"$f":"RANDBETWEEN(1,MAX('SYSTEM FORMULAE'!$A$1:$A$2560))","v":519},{"$f":"IF(RIGHT(TEXT(VLOOKUP(K18,'SYSTEM FORMULAE'!$A$1:$G$2560,3),\"# ##0.###\"),1)=\".\",LEFT(TEXT(VLOOKUP(K18,'SYSTEM FORMULAE'!$A$1:$G$2560,3),\"# ##0.###\"),LEN(TEXT(VLOOKUP(K18,'SYSTEM FORMULAE'!$A$1:$G$2560,3),\"# ##0.###\"))-1),TEXT(VLOOKUP(K18,'SYSTEM FORMULAE'!$A$1:$G$2560,3),\"# ##0.###\"))","v":"31 000"},{"$f":"VLOOKUP(K18,'SYSTEM FORMULAE'!$A$1:$G$2560,4)","v":"m"},"=",{"$f":"IF(RIGHT(TEXT(VLOOKUP(K18,'SYSTEM FORMULAE'!$A$1:$G$2560,6),\"# ##0.###\"),1)=\".\",LEFT(TEXT(VLOOKUP(K18,'SYSTEM FORMULAE'!$A$1:$G$2560,6),\"# ##0.###\"),LEN(TEXT(VLOOKUP(K18,'SYSTEM FORMULAE'!$A$1:$G$2560,6),\"# ##0.###\"))-1),TEXT(VLOOKUP(K18,'SYSTEM FORMULAE'!$A$1:$G$2560,6),\"# ##0.###\"))","v":" 31"},{"$f":"VLOOKUP(K18,'SYSTEM FORMULAE'!$A$1:$G$2560,7)","v":"km"},null,{"$f":"IF(ROW()<=Worksheet!$D$4/3,R17+1,\"\")","v":38},{"$f":"RANDBETWEEN(1,MAX('SYSTEM FORMULAE'!$A$1:$A$2560))","v":1518},{"$f":"IF(RIGHT(TEXT(VLOOKUP(S18,'SYSTEM FORMULAE'!$A$1:$G$2560,3),\"# ##0.###\"),1)=\".\",LEFT(TEXT(VLOOKUP(S18,'SYSTEM FORMULAE'!$A$1:$G$2560,3),\"# ##0.###\"),LEN(TEXT(VLOOKUP(S18,'SYSTEM FORMULAE'!$A$1:$G$2560,3),\"# ##0.###\"))-1),TEXT(VLOOKUP(S18,'SYSTEM FORMULAE'!$A$1:$G$2560,3),\"# ##0.###\"))","v":"80 000"},{"$f":"VLOOKUP(S18,'SYSTEM FORMULAE'!$A$1:$G$2560,4)","v":"ml"},"=",{"$f":"IF(RIGHT(TEXT(VLOOKUP(S18,'SYSTEM FORMULAE'!$A$1:$G$2560,6),\"# ##0.###\"),1)=\".\",LEFT(TEXT(VLOOKUP(S18,'SYSTEM FORMULAE'!$A$1:$G$2560,6),\"# ##0.###\"),LEN(TEXT(VLOOKUP(S18,'SYSTEM FORMULAE'!$A$1:$G$2560,6),\"# ##0.###\"))-1),TEXT(VLOOKUP(S18,'SYSTEM FORMULAE'!$A$1:$G$2560,6),\"# ##0.###\"))","v":" 80"},{"$f":"VLOOKUP(S18,'SYSTEM FORMULAE'!$A$1:$G$2560,7)","v":"litres"},null,{"$f":"IF(ROW()<=Worksheet!$D$4/3,Z17+1,\"\")","v":58},{"$f":"RANDBETWEEN(1,MAX('SYSTEM FORMULAE'!$A$1:$A$2560))","v":1241},{"$f":"IF(RIGHT(TEXT(VLOOKUP(AA18,'SYSTEM FORMULAE'!$A$1:$G$2560,3),\"# ##0.###\"),1)=\".\",LEFT(TEXT(VLOOKUP(AA18,'SYSTEM FORMULAE'!$A$1:$G$2560,3),\"# ##0.###\"),LEN(TEXT(VLOOKUP(AA18,'SYSTEM FORMULAE'!$A$1:$G$2560,3),\"# ##0.###\"))-1),TEXT(VLOOKUP(AA18,'SYSTEM FORMULAE'!$A$1:$G$2560,3),\"# ##0.###\"))","v":"22 000"},{"$f":"VLOOKUP(AA18,'SYSTEM FORMULAE'!$A$1:$G$2560,4)","v":"kg"},"=",{"$f":"IF(RIGHT(TEXT(VLOOKUP(AA18,'SYSTEM FORMULAE'!$A$1:$G$2560,6),\"# ##0.###\"),1)=\".\",LEFT(TEXT(VLOOKUP(AA18,'SYSTEM FORMULAE'!$A$1:$G$2560,6),\"# ##0.###\"),LEN(TEXT(VLOOKUP(AA18,'SYSTEM FORMULAE'!$A$1:$G$2560,6),\"# ##0.###\"))-1),TEXT(VLOOKUP(AA18,'SYSTEM FORMULAE'!$A$1:$G$2560,6),\"# ##0.###\"))","v":" 22"},{"$f":"VLOOKUP(AA18,'SYSTEM FORMULAE'!$A$1:$G$2560,7)","v":"tonnes"}]
[{"$f":"IF(COUNTIF($B$1:B19,TRUE)=COUNTIF($B$1:B18,TRUE),\"\",COUNTIF($B$1:B19,TRUE))","v":""},{"$f":"IF(Worksheet!$D$10=3,FALSE,Worksheet!$D$17)","v":false},{"$f":"IF(Worksheet!$D$6=1,RANDBETWEEN(1,99),IF(Worksheet!$D$6=2,CHOOSE(RANDBETWEEN(1,2),RANDBETWEEN(1,99),RANDBETWEEN(1,999)/10),CHOOSE(RANDBETWEEN(1,4),RANDBETWEEN(1,99999)/1000,RANDBETWEEN(1,9999)/100,RANDBETWEEN(1,999)/10,RANDBETWEEN(1,99))))","v":39},"litres","=",{"$f":"1000*C19","v":39000},"cm³",null,null,{"$f":"IF(ROW()<=Worksheet!$D$4/3,ROW(),\"\")","v":19},{"$f":"RANDBETWEEN(1,MAX('SYSTEM FORMULAE'!$A$1:$A$2560))","v":1288},{"$f":"IF(RIGHT(TEXT(VLOOKUP(K19,'SYSTEM FORMULAE'!$A$1:$G$2560,3),\"# ##0.###\"),1)=\".\",LEFT(TEXT(VLOOKUP(K19,'SYSTEM FORMULAE'!$A$1:$G$2560,3),\"# ##0.###\"),LEN(TEXT(VLOOKUP(K19,'SYSTEM FORMULAE'!$A$1:$G$2560,3),\"# ##0.###\"))-1),TEXT(VLOOKUP(K19,'SYSTEM FORMULAE'!$A$1:$G$2560,3),\"# ##0.###\"))","v":"80 000"},{"$f":"VLOOKUP(K19,'SYSTEM FORMULAE'!$A$1:$G$2560,4)","v":"g"},"=",{"$f":"IF(RIGHT(TEXT(VLOOKUP(K19,'SYSTEM FORMULAE'!$A$1:$G$2560,6),\"# ##0.###\"),1)=\".\",LEFT(TEXT(VLOOKUP(K19,'SYSTEM FORMULAE'!$A$1:$G$2560,6),\"# ##0.###\"),LEN(TEXT(VLOOKUP(K19,'SYSTEM FORMULAE'!$A$1:$G$2560,6),\"# ##0.###\"))-1),TEXT(VLOOKUP(K19,'SYSTEM FORMULAE'!$A$1:$G$2560,6),\"# ##0.###\"))","v":" 80"},{"$f":"VLOOKUP(K19,'SYSTEM FORMULAE'!$A$1:$G$2560,7)","v":"kg"},null,{"$f":"IF(ROW()<=Worksheet!$D$4/3,R18+1,\"\")","v":39},{"$f":"RANDBETWEEN(1,MAX('SYSTEM FORMULAE'!$A$1:$A$2560))","v":91},{"$f":"IF(RIGHT(TEXT(VLOOKUP(S19,'SYSTEM FORMULAE'!$A$1:$G$2560,3),\"# ##0.###\"),1)=\".\",LEFT(TEXT(VLOOKUP(S19,'SYSTEM FORMULAE'!$A$1:$G$2560,3),\"# ##0.###\"),LEN(TEXT(VLOOKUP(S19,'SYSTEM FORMULAE'!$A$1:$G$2560,3),\"# ##0.###\"))-1),TEXT(VLOOKUP(S19,'SYSTEM FORMULAE'!$A$1:$G$2560,3),\"# ##0.###\"))","v":" 19"},{"$f":"VLOOKUP(S19,'SYSTEM FORMULAE'!$A$1:$G$2560,4)","v":"cm"},"=",{"$f":"IF(RIGHT(TEXT(VLOOKUP(S19,'SYSTEM FORMULAE'!$A$1:$G$2560,6),\"# ##0.###\"),1)=\".\",LEFT(TEXT(VLOOKUP(S19,'SYSTEM FORMULAE'!$A$1:$G$2560,6),\"# ##0.###\"),LEN(TEXT(VLOOKUP(S19,'SYSTEM FORMULAE'!$A$1:$G$2560,6),\"# ##0.###\"))-1),TEXT(VLOOKUP(S19,'SYSTEM FORMULAE'!$A$1:$G$2560,6),\"# ##0.###\"))","v":" 190"},{"$f":"VLOOKUP(S19,'SYSTEM FORMULAE'!$A$1:$G$2560,7)","v":"mm"},null,{"$f":"IF(ROW()<=Worksheet!$D$4/3,Z18+1,\"\")","v":59},{"$f":"RANDBETWEEN(1,MAX('SYSTEM FORMULAE'!$A$1:$A$2560))","v":614},{"$f":"IF(RIGHT(TEXT(VLOOKUP(AA19,'SYSTEM FORMULAE'!$A$1:$G$2560,3),\"# ##0.###\"),1)=\".\",LEFT(TEXT(VLOOKUP(AA19,'SYSTEM FORMULAE'!$A$1:$G$2560,3),\"# ##0.###\"),LEN(TEXT(VLOOKUP(AA19,'SYSTEM FORMULAE'!$A$1:$G$2560,3),\"# ##0.###\"))-1),TEXT(VLOOKUP(AA19,'SYSTEM FORMULAE'!$A$1:$G$2560,3),\"# ##0.###\"))","v":" 200"},{"$f":"VLOOKUP(AA19,'SYSTEM FORMULAE'!$A$1:$G$2560,4)","v":"cm"},"=",{"$f":"IF(RIGHT(TEXT(VLOOKUP(AA19,'SYSTEM FORMULAE'!$A$1:$G$2560,6),\"# ##0.###\"),1)=\".\",LEFT(TEXT(VLOOKUP(AA19,'SYSTEM FORMULAE'!$A$1:$G$2560,6),\"# ##0.###\"),LEN(TEXT(VLOOKUP(AA19,'SYSTEM FORMULAE'!$A$1:$G$2560,6),\"# ##0.###\"))-1),TEXT(VLOOKUP(AA19,'SYSTEM FORMULAE'!$A$1:$G$2560,6),\"# ##0.###\"))","v":" 2"},{"$f":"VLOOKUP(AA19,'SYSTEM FORMULAE'!$A$1:$G$2560,7)","v":"m"}]
[{"$f":"IF(COUNTIF($B$1:B20,TRUE)=COUNTIF($B$1:B19,TRUE),\"\",COUNTIF($B$1:B20,TRUE))","v":""},{"$f":"IF(Worksheet!$D$10=3,FALSE,Worksheet!$D$18)","v":false},{"$f":"IF(Worksheet!$D$6=1,RANDBETWEEN(1,99),IF(Worksheet!$D$6=2,CHOOSE(RANDBETWEEN(1,2),RANDBETWEEN(1,99),RANDBETWEEN(1,999)/10),CHOOSE(RANDBETWEEN(1,4),RANDBETWEEN(1,99999)/1000,RANDBETWEEN(1,9999)/100,RANDBETWEEN(1,999)/10,RANDBETWEEN(1,99))))","v":97},"m²","=",{"$f":"10000*C20","v":970000},"cm²",null,null,{"$f":"IF(ROW()<=Worksheet!$D$4/3,ROW(),\"\")","v":20},{"$f":"RANDBETWEEN(1,MAX('SYSTEM FORMULAE'!$A$1:$A$2560))","v":602},{"$f":"IF(RIGHT(TEXT(VLOOKUP(K20,'SYSTEM FORMULAE'!$A$1:$G$2560,3),\"# ##0.###\"),1)=\".\",LEFT(TEXT(VLOOKUP(K20,'SYSTEM FORMULAE'!$A$1:$G$2560,3),\"# ##0.###\"),LEN(TEXT(VLOOKUP(K20,'SYSTEM FORMULAE'!$A$1:$G$2560,3),\"# ##0.###\"))-1),TEXT(VLOOKUP(K20,'SYSTEM FORMULAE'!$A$1:$G$2560,3),\"# ##0.###\"))","v":"3 600"},{"$f":"VLOOKUP(K20,'SYSTEM FORMULAE'!$A$1:$G$2560,4)","v":"cm"},"=",{"$f":"IF(RIGHT(TEXT(VLOOKUP(K20,'SYSTEM FORMULAE'!$A$1:$G$2560,6),\"# ##0.###\"),1)=\".\",LEFT(TEXT(VLOOKUP(K20,'SYSTEM FORMULAE'!$A$1:$G$2560,6),\"# ##0.###\"),LEN(TEXT(VLOOKUP(K20,'SYSTEM FORMULAE'!$A$1:$G$2560,6),\"# ##0.###\"))-1),TEXT(VLOOKUP(K20,'SYSTEM FORMULAE'!$A$1:$G$2560,6),\"# ##0.###\"))","v":" 36"},{"$f":"VLOOKUP(K20,'SYSTEM FORMULAE'!$A$1:$G$2560,7)","v":"m"},null,{"$f":"IF(ROW()<=Worksheet!$D$4/3,R19+1,\"\")","v":40},{"$f":"RANDBETWEEN(1,MAX('SYSTEM FORMULAE'!$A$1:$A$2560))","v":1179},{"$f":"IF(RIGHT(TEXT(VLOOKUP(S20,'SYSTEM FORMULAE'!$A$1:$G$2560,3),\"# ##0.###\"),1)=\".\",LEFT(TEXT(VLOOKUP(S20,'SYSTEM FORMULAE'!$A$1:$G$2560,3),\"# ##0.###\"),LEN(TEXT(VLOOKUP(S20,'SYSTEM FORMULAE'!$A$1:$G$2560,3),\"# ##0.###\"))-1),TEXT(VLOOKUP(S20,'SYSTEM FORMULAE'!$A$1:$G$2560,3),\"# ##0.###\"))","v":"12 000"},{"$f":"VLOOKUP(S20,'SYSTEM FORMULAE'!$A$1:$G$2560,4)","v":"m"},"=",{"$f":"IF(RIGHT(TEXT(VLOOKUP(S20,'SYSTEM FORMULAE'!$A$1:$G$2560,6),\"# ##0.###\"),1)=\".\",LEFT(TEXT(VLOOKUP(S20,'SYSTEM FORMULAE'!$A$1:$G$2560,6),\"# ##0.###\"),LEN(TEXT(VLOOKUP(S20,'SYSTEM FORMULAE'!$A$1:$G$2560,6),\"# ##0.###\"))-1),TEXT(VLOOKUP(S20,'SYSTEM FORMULAE'!$A$1:$G$2560,6),\"# ##0.###\"))","v":" 12"},{"$f":"VLOOKUP(S20,'SYSTEM FORMULAE'!$A$1:$G$2560,7)","v":"km"},null,{"$f":"IF(ROW()<=Worksheet!$D$4/3,Z19+1,\"\")","v":60},{"$f":"RANDBETWEEN(1,MAX('SYSTEM FORMULAE'!$A$1:$A$2560))","v":1528},{"$f":"IF(RIGHT(TEXT(VLOOKUP(AA20,'SYSTEM FORMULAE'!$A$1:$G$2560,3),\"# ##0.###\"),1)=\".\",LEFT(TEXT(VLOOKUP(AA20,'SYSTEM FORMULAE'!$A$1:$G$2560,3),\"# ##0.###\"),LEN(TEXT(VLOOKUP(AA20,'SYSTEM FORMULAE'!$A$1:$G$2560,3),\"# ##0.###\"))-1),TEXT(VLOOKUP(AA20,'SYSTEM FORMULAE'!$A$1:$G$2560,3),\"# ##0.###\"))","v":"36 000"},{"$f":"VLOOKUP(AA20,'SYSTEM FORMULAE'!$A$1:$G$2560,4)","v":"g"},"=",{"$f":"IF(RIGHT(TEXT(VLOOKUP(AA20,'SYSTEM FORMULAE'!$A$1:$G$2560,6),\"# ##0.###\"),1)=\".\",LEFT(TEXT(VLOOKUP(AA20,'SYSTEM FORMULAE'!$A$1:$G$2560,6),\"# ##0.###\"),LEN(TEXT(VLOOKUP(AA20,'SYSTEM FORMULAE'!$A$1:$G$2560,6),\"# ##0.###\"))-1),TEXT(VLOOKUP(AA20,'SYSTEM FORMULAE'!$A$1:$G$2560,6),\"# ##0.###\"))","v":" 36"},{"$f":"VLOOKUP(AA20,'SYSTEM FORMULAE'!$A$1:$G$2560,7)","v":"kg"}]
[{"$f":"IF(COUNTIF($B$1:B21,TRUE)=COUNTIF($B$1:B20,TRUE),\"\",COUNTIF($B$1:B21,TRUE))","v":13},{"$f":"IF(Worksheet!$D$10=2,FALSE,Worksheet!$B$14)","v":true},{"$f":"10*F21","v":100},"mm","=",{"$f":"IF(Worksheet!$D$6=1,RANDBETWEEN(1,99),IF(Worksheet!$D$6=2,CHOOSE(RANDBETWEEN(1,2),RANDBETWEEN(1,99),RANDBETWEEN(1,999)/10),CHOOSE(RANDBETWEEN(1,4),RANDBETWEEN(1,99999)/1000,RANDBETWEEN(1,9999)/100,RANDBETWEEN(1,999)/10,RANDBETWEEN(1,99))))","v":10},"cm"]
[{"$f":"IF(COUNTIF($B$1:B22,TRUE)=COUNTIF($B$1:B21,TRUE),\"\",COUNTIF($B$1:B22,TRUE))","v":14},{"$f":"IF(Worksheet!$D$10=2,FALSE,Worksheet!$B$15)","v":true},{"$f":"100*F22","v":4800},"cm","=",{"$f":"IF(Worksheet!$D$6=1,RANDBETWEEN(1,99),IF(Worksheet!$D$6=2,CHOOSE(RANDBETWEEN(1,2),RANDBETWEEN(1,99),RANDBETWEEN(1,999)/10),CHOOSE(RANDBETWEEN(1,4),RANDBETWEEN(1,99999)/1000,RANDBETWEEN(1,9999)/100,RANDBETWEEN(1,999)/10,RANDBETWEEN(1,99))))","v":48},"m"]
[{"$f":"IF(COUNTIF($B$1:B23,TRUE)=COUNTIF($B$1:B22,TRUE),\"\",COUNTIF($B$1:B23,TRUE))","v":15},{"$f":"IF(Worksheet!$D$10=2,FALSE,Worksheet!$B$16)","v":true},{"$f":"1000*F23","v":52000},"m","=",{"$f":"IF(Worksheet!$D$6=1,RANDBETWEEN(1,99),IF(Worksheet!$D$6=2,CHOOSE(RANDBETWEEN(1,2),RANDBETWEEN(1,99),RANDBETWEEN(1,999)/10),CHOOSE(RANDBETWEEN(1,4),RANDBETWEEN(1,99999)/1000,RANDBETWEEN(1,9999)/100,RANDBETWEEN(1,999)/10,RANDBETWEEN(1,99))))","v":52},"km"]
[{"$f":"IF(COUNTIF($B$1:B24,TRUE)=COUNTIF($B$1:B23,TRUE),\"\",COUNTIF($B$1:B24,TRUE))","v":""},{"$f":"IF(Worksheet!$D$10=2,FALSE,Worksheet!$B$17)","v":false},{"$f":"1000*F24","v":97000},"mm","=",{"$f":"IF(Worksheet!$D$6=1,RANDBETWEEN(1,99),IF(Worksheet!$D$6=2,CHOOSE(RANDBETWEEN(1,2),RANDBETWEEN(1,99),RANDBETWEEN(1,999)/10),CHOOSE(RANDBETWEEN(1,4),RANDBETWEEN(1,99999)/1000,RANDBETWEEN(1,9999)/100,RANDBETWEEN(1,999)/10,RANDBETWEEN(1,99))))","v":97},"m"]
[{"$f":"IF(COUNTIF($B$1:B25,TRUE)=COUNTIF($B$1:B24,TRUE),\"\",COUNTIF($B$1:B25,TRUE))","v":""},{"$f":"IF(Worksheet!$D$10=2,FALSE,Worksheet!$B$18)","v":false},{"$f":"100*F25","v":200},"mm²","=",{"$f":"IF(Worksheet!$D$6=1,RANDBETWEEN(1,99),IF(Worksheet!$D$6=2,CHOOSE(RANDBETWEEN(1,2),RANDBETWEEN(1,99),RANDBETWEEN(1,999)/10),CHOOSE(RANDBETWEEN(1,4),RANDBETWEEN(1,99999)/1000,RANDBETWEEN(1,9999)/100,RANDBETWEEN(1,999)/10,RANDBETWEEN(1,99))))","v":2},"cm²"]
[{"$f":"IF(COUNTIF($B$1:B26,TRUE)=COUNTIF($B$1:B25,TRUE),\"\",COUNTIF($B$1:B26,TRUE))","v":16},{"$f":"IF(Worksheet!$D$10=2,FALSE,Worksheet!$D$14)","v":true},{"$f":"F26*1000","v":2000},"g","=",{"$f":"IF(Worksheet!$D$6=1,RANDBETWEEN(1,99),IF(Worksheet!$D$6=2,CHOOSE(RANDBETWEEN(1,2),RANDBETWEEN(1,99),RANDBETWEEN(1,999)/10),CHOOSE(RANDBETWEEN(1,4),RANDBETWEEN(1,99999)/1000,RANDBETWEEN(1,9999)/100,RANDBETWEEN(1,999)/10,RANDBETWEEN(1,99))))","v":2},"kg"]
[{"$f":"IF(COUNTIF($B$1:B27,TRUE)=COUNTIF($B$1:B26,TRUE),\"\",COUNTIF($B$1:B27,TRUE))","v":17},{"$f":"IF(Worksheet!$D$10=2,FALSE,Worksheet!$D$15)","v":true},{"$f":"F27*1000","v":17000},"kg","=",{"$f":"IF(Worksheet!$D$6=1,RANDBETWEEN(1,99),IF(Worksheet!$D$6=2,CHOOSE(RANDBETWEEN(1,2),RANDBETWEEN(1,99),RANDBETWEEN(1,999)/10),CHOOSE(RANDBETWEEN(1,4),RANDBETWEEN(1,99999)/1000,RANDBETWEEN(1,9999)/100,RANDBETWEEN(1,999)/10,RANDBETWEEN(1,99))))","v":17},"tonnes"]
[{"$f":"IF(COUNTIF($B$1:B28,TRUE)=COUNTIF($B$1:B27,TRUE),\"\",COUNTIF($B$1:B28,TRUE))","v":18},{"$f":"IF(Worksheet!$D$10=2,FALSE,Worksheet!$D$16)","v":true},{"$f":"1000*F28","v":65000},"ml","=",{"$f":"IF(Worksheet!$D$6=1,RANDBETWEEN(1,99),IF(Worksheet!$D$6=2,CHOOSE(RANDBETWEEN(1,2),RANDBETWEEN(1,99),RANDBETWEEN(1,999)/10),CHOOSE(RANDBETWEEN(1,4),RANDBETWEEN(1,99999)/1000,RANDBETWEEN(1,9999)/100,RANDBETWEEN(1,999)/10,RANDBETWEEN(1,99))))","v":65},"litres"]
[{"$f":"IF(COUNTIF($B$1:B29,TRUE)=COUNTIF($B$1:B28,TRUE),\"\",COUNTIF($B$1:B29,TRUE))","v":""},{"$f":"IF(Worksheet!$D$10=2,FALSE,Worksheet!$D$17)","v":false},{"$f":"1000*F29","v":22000},"cm³","=",{"$f":"IF(Worksheet!$D$6=1,RANDBETWEEN(1,99),IF(Worksheet!$D$6=2,CHOOSE(RANDBETWEEN(1,2),RANDBETWEEN(1,99),RANDBETWEEN(1,999)/10),CHOOSE(RANDBETWEEN(1,4),RANDBETWEEN(1,99999)/1000,RANDBETWEEN(1,9999)/100,RANDBETWEEN(1,999)/10,RANDBETWEEN(1,99))))","v":22},"litres"]
[{"$f":"IF(COUNTIF($B$1:B30,TRUE)=COUNTIF($B$1:B29,TRUE),\"\",COUNTIF($B$1:B30,TRUE))","v":""},{"$f":"IF(Worksheet!$D$10=2,FALSE,Worksheet!$D$18)","v":false},{"$f":"10000*F30","v":110000},"cm²","=",{"$f":"IF(Worksheet!$D$6=1,RANDBETWEEN(1,99),IF(Worksheet!$D$6=2,CHOOSE(RANDBETWEEN(1,2),RANDBETWEEN(1,99),RANDBETWEEN(1,999)/10),CHOOSE(RANDBETWEEN(1,4),RANDBETWEEN(1,99999)/1000,RANDBETWEEN(1,9999)/100,RANDBETWEEN(1,999)/10,RANDBETWEEN(1,99))))","v":11},"m²"]
[{"$f":"IF(COUNTIF($B$1:B31,TRUE)=COUNTIF($B$1:B30,TRUE),\"\",COUNTIF($B$1:B31,TRUE))","v":19},{"$f":"IF(Worksheet!$D$10=3,FALSE,Worksheet!$B$14)","v":true},{"$f":"IF(Worksheet!$D$6=1,RANDBETWEEN(1,99),IF(Worksheet!$D$6=2,CHOOSE(RANDBETWEEN(1,2),RANDBETWEEN(1,99),RANDBETWEEN(1,999)/10),CHOOSE(RANDBETWEEN(1,4),RANDBETWEEN(1,99999)/1000,RANDBETWEEN(1,9999)/100,RANDBETWEEN(1,999)/10,RANDBETWEEN(1,99))))","v":81},"cm","=",{"$f":"10*C31","v":810},"mm"]
[{"$f":"IF(COUNTIF($B$1:B32,TRUE)=COUNTIF($B$1:B31,TRUE),\"\",COUNTIF($B$1:B32,TRUE))","v":20},{"$f":"IF(Worksheet!$D$10=3,FALSE,Worksheet!$B$15)","v":true},{"$f":"IF(Worksheet!$D$6=1,RANDBETWEEN(1,99),IF(Worksheet!$D$6=2,CHOOSE(RANDBETWEEN(1,2),RANDBETWEEN(1,99),RANDBETWEEN(1,999)/10),CHOOSE(RANDBETWEEN(1,4),RANDBETWEEN(1,99999)/1000,RANDBETWEEN(1,9999)/100,RANDBETWEEN(1,999)/10,RANDBETWEEN(1,99))))","v":80},"m","=",{"$f":"100*C32","v":8000},"cm"]
[{"$f":"IF(COUNTIF($B$1:B33,TRUE)=COUNTIF($B$1:B32,TRUE),\"\",COUNTIF($B$1:B33,TRUE))","v":21},{"$f":"IF(Worksheet!$D$10=3,FALSE,Worksheet!$B$16)","v":true},{"$f":"IF(Worksheet!$D$6=1,RANDBETWEEN(1,99),IF(Worksheet!$D$6=2,CHOOSE(RANDBETWEEN(1,2),RANDBETWEEN(1,99),RANDBETWEEN(1,999)/10),CHOOSE(RANDBETWEEN(1,4),RANDBETWEEN(1,99999)/1000,RANDBETWEEN(1,9999)/100,RANDBETWEEN(1,999)/10,RANDBETWEEN(1,99))))","v":30},"km","=",{"$f":"1000*C33","v":30000},"m"]
[{"$f":"IF(COUNTIF($B$1:B34,TRUE)=COUNTIF($B$1:B33,TRUE),\"\",COUNTIF($B$1:B34,TRUE))","v":""},{"$f":"IF(Worksheet!$D$10=3,FALSE,Worksheet!$B$17)","v":false},{"$f":"IF(Worksheet!$D$6=1,RANDBETWEEN(1,99),IF(Worksheet!$D$6=2,CHOOSE(RANDBETWEEN(1,2),RANDBETWEEN(1,99),RANDBETWEEN(1,999)/10),CHOOSE(RANDBETWEEN(1,4),RANDBETWEEN(1,99999)/1000,RANDBETWEEN(1,9999)/100,RANDBETWEEN(1,999)/10,RANDBETWEEN(1,99))))","v":64},"m",{"$f":"#REF!","v":{"$error":"#REF!"}},{"$f":"1000*C34","v":64000},"mm"]
[{"$f":"IF(COUNTIF($B$1:B35,TRUE)=COUNTIF($B$1:B34,TRUE),\"\",COUNTIF($B$1:B35,TRUE))","v":""},{"$f":"IF(Worksheet!$D$10=3,FALSE,Worksheet!$B$18)","v":false},{"$f":"IF(Worksheet!$D$6=1,RANDBETWEEN(1,99),IF(Worksheet!$D$6=2,CHOOSE(RANDBETWEEN(1,2),RANDBETWEEN(1,99),RANDBETWEEN(1,999)/10),CHOOSE(RANDBETWEEN(1,4),RANDBETWEEN(1,99999)/1000,RANDBETWEEN(1,9999)/100,RANDBETWEEN(1,999)/10,RANDBETWEEN(1,99))))","v":93},"cm²","=",{"$f":"C35*100","v":9300},"mm²"]
[{"$f":"IF(COUNTIF($B$1:B36,TRUE)=COUNTIF($B$1:B35,TRUE),\"\",COUNTIF($B$1:B36,TRUE))","v":22},{"$f":"IF(Worksheet!$D$10=3,FALSE,Worksheet!$D$14)","v":true},{"$f":"IF(Worksheet!$D$6=1,RANDBETWEEN(1,99),IF(Worksheet!$D$6=2,CHOOSE(RANDBETWEEN(1,2),RANDBETWEEN(1,99),RANDBETWEEN(1,999)/10),CHOOSE(RANDBETWEEN(1,4),RANDBETWEEN(1,99999)/1000,RANDBETWEEN(1,9999)/100,RANDBETWEEN(1,999)/10,RANDBETWEEN(1,99))))","v":12},"kg","=",{"$f":"1000*C36","v":12000},"g"]
[{"$f":"IF(COUNTIF($B$1:B37,TRUE)=COUNTIF($B$1:B36,TRUE),\"\",COUNTIF($B$1:B37,TRUE))","v":23},{"$f":"IF(Worksheet!$D$10=3,FALSE,Worksheet!$D$15)","v":true},{"$f":"IF(Worksheet!$D$6=1,RANDBETWEEN(1,99),IF(Worksheet!$D$6=2,CHOOSE(RANDBETWEEN(1,2),RANDBETWEEN(1,99),RANDBETWEEN(1,999)/10),CHOOSE(RANDBETWEEN(1,4),RANDBETWEEN(1,99999)/1000,RANDBETWEEN(1,9999)/100,RANDBETWEEN(1,999)/10,RANDBETWEEN(1,99))))","v":91},"tonnes","=",{"$f":"1000*C37","v":91000},"kg"]
[{"$f":"IF(COUNTIF($B$1:B38,TRUE)=COUNTIF($B$1:B37,TRUE),\"\",COUNTIF($B$1:B38,TRUE))","v":24},{"$f":"IF(Worksheet!$D$10=3,FALSE,Worksheet!$D$16)","v":true},{"$f":"IF(Worksheet!$D$6=1,RANDBETWEEN(1,99),IF(Worksheet!$D$6=2,CHOOSE(RANDBETWEEN(1,2),RANDBETWEEN(1,99),RANDBETWEEN(1,999)/10),CHOOSE(RANDBETWEEN(1,4),RANDBETWEEN(1,99999)/1000,RANDBETWEEN(1,9999)/100,RANDBETWEEN(1,999)/10,RANDBETWEEN(1,99))))","v":77},"litres","=",{"$f":"1000*C38","v":77000},"ml"]
[{"$f":"IF(COUNTIF($B$1:B39,TRUE)=COUNTIF($B$1:B38,TRUE),\"\",COUNTIF($B$1:B39,TRUE))","v":""},{"$f":"IF(Worksheet!$D$10=3,FALSE,Worksheet!$D$17)","v":false},{"$f":"IF(Worksheet!$D$6=1,RANDBETWEEN(1,99),IF(Worksheet!$D$6=2,CHOOSE(RANDBETWEEN(1,2),RANDBETWEEN(1,99),RANDBETWEEN(1,999)/10),CHOOSE(RANDBETWEEN(1,4),RANDBETWEEN(1,99999)/1000,RANDBETWEEN(1,9999)/100,RANDBETWEEN(1,999)/10,RANDBETWEEN(1,99))))","v":16},"litres","=",{"$f":"1000*C39","v":16000},"cm³"]
[{"$f":"IF(COUNTIF($B$1:B40,TRUE)=COUNTIF($B$1:B39,TRUE),\"\",COUNTIF($B$1:B40,TRUE))","v":""},{"$f":"IF(Worksheet!$D$10=3,FALSE,Worksheet!$D$18)","v":false},{"$f":"IF(Worksheet!$D$6=1,RANDBETWEEN(1,99),IF(Worksheet!$D$6=2,CHOOSE(RANDBETWEEN(1,2),RANDBETWEEN(1,99),RANDBETWEEN(1,999)/10),CHOOSE(RANDBETWEEN(1,4),RANDBETWEEN(1,99999)/1000,RANDBETWEEN(1,9999)/100,RANDBETWEEN(1,999)/10,RANDBETWEEN(1,99))))","v":49},"m²","=",{"$f":"10000*C40","v":490000},"cm²"]
[{"$f":"IF(COUNTIF($B$1:B41,TRUE)=COUNTIF($B$1:B40,TRUE),\"\",COUNTIF($B$1:B41,TRUE))","v":25},{"$f":"IF(Worksheet!$D$10=2,FALSE,Worksheet!$B$14)","v":true},{"$f":"10*F41","v":620},"mm","=",{"$f":"IF(Worksheet!$D$6=1,RANDBETWEEN(1,99),IF(Worksheet!$D$6=2,CHOOSE(RANDBETWEEN(1,2),RANDBETWEEN(1,99),RANDBETWEEN(1,999)/10),CHOOSE(RANDBETWEEN(1,4),RANDBETWEEN(1,99999)/1000,RANDBETWEEN(1,9999)/100,RANDBETWEEN(1,999)/10,RANDBETWEEN(1,99))))","v":62},"cm"]
[{"$f":"IF(COUNTIF($B$1:B42,TRUE)=COUNTIF($B$1:B41,TRUE),\"\",COUNTIF($B$1:B42,TRUE))","v":26},{"$f":"IF(Worksheet!$D$10=2,FALSE,Worksheet!$B$15)","v":true},{"$f":"100*F42","v":100},"cm","=",{"$f":"IF(Worksheet!$D$6=1,RANDBETWEEN(1,99),IF(Worksheet!$D$6=2,CHOOSE(RANDBETWEEN(1,2),RANDBETWEEN(1,99),RANDBETWEEN(1,999)/10),CHOOSE(RANDBETWEEN(1,4),RANDBETWEEN(1,99999)/1000,RANDBETWEEN(1,9999)/100,RANDBETWEEN(1,999)/10,RANDBETWEEN(1,99))))","v":1},"m"]
[{"$f":"IF(COUNTIF($B$1:B43,TRUE)=COUNTIF($B$1:B42,TRUE),\"\",COUNTIF($B$1:B43,TRUE))","v":27},{"$f":"IF(Worksheet!$D$10=2,FALSE,Worksheet!$B$16)","v":true},{"$f":"1000*F43","v":34000},"m","=",{"$f":"IF(Worksheet!$D$6=1,RANDBETWEEN(1,99),IF(Worksheet!$D$6=2,CHOOSE(RANDBETWEEN(1,2),RANDBETWEEN(1,99),RANDBETWEEN(1,999)/10),CHOOSE(RANDBETWEEN(1,4),RANDBETWEEN(1,99999)/1000,RANDBETWEEN(1,9999)/100,RANDBETWEEN(1,999)/10,RANDBETWEEN(1,99))))","v":34},"km"]
[{"$f":"IF(COUNTIF($B$1:B44,TRUE)=COUNTIF($B$1:B43,TRUE),\"\",COUNTIF($B$1:B44,TRUE))","v":""},{"$f":"IF(Worksheet!$D$10=2,FALSE,Worksheet!$B$17)","v":false},{"$f":"1000*F44","v":20000},"mm","=",{"$f":"IF(Worksheet!$D$6=1,RANDBETWEEN(1,99),IF(Worksheet!$D$6=2,CHOOSE(RANDBETWEEN(1,2),RANDBETWEEN(1,99),RANDBETWEEN(1,999)/10),CHOOSE(RANDBETWEEN(1,4),RANDBETWEEN(1,99999)/1000,RANDBETWEEN(1,9999)/100,RANDBETWEEN(1,999)/10,RANDBETWEEN(1,99))))","v":20},"m"]
[{"$f":"IF(COUNTIF($B$1:B45,TRUE)=COUNTIF($B$1:B44,TRUE),\"\",COUNTIF($B$1:B45,TRUE))","v":""},{"$f":"IF(Worksheet!$D$10=2,FALSE,Worksheet!$B$18)","v":false},{"$f":"100*F45","v":6600},"mm²","=",{"$f":"IF(Worksheet!$D$6=1,RANDBETWEEN(1,99),IF(Worksheet!$D$6=2,CHOOSE(RANDBETWEEN(1,2),RANDBETWEEN(1,99),RANDBETWEEN(1,999)/10),CHOOSE(RANDBETWEEN(1,4),RANDBETWEEN(1,99999)/1000,RANDBETWEEN(1,9999)/100,RANDBETWEEN(1,999)/10,RANDBETWEEN(1,99))))","v":66},"cm²"]
[{"$f":"IF(COUNTIF($B$1:B46,TRUE)=COUNTIF($B$1:B45,TRUE),\"\",COUNTIF($B$1:B46,TRUE))","v":28},{"$f":"IF(Worksheet!$D$10=2,FALSE,Worksheet!$D$14)","v":true},{"$f":"F46*1000","v":21000},"g","=",{"$f":"IF(Worksheet!$D$6=1,RANDBETWEEN(1,99),IF(Worksheet!$D$6=2,CHOOSE(RANDBETWEEN(1,2),RANDBETWEEN(1,99),RANDBETWEEN(1,999)/10),CHOOSE(RANDBETWEEN(1,4),RANDBETWEEN(1,99999)/1000,RANDBETWEEN(1,9999)/100,RANDBETWEEN(1,999)/10,RANDBETWEEN(1,99))))","v":21},"kg"]
[{"$f":"IF(COUNTIF($B$1:B47,TRUE)=COUNTIF($B$1:B46,TRUE),\"\",COUNTIF($B$1:B47,TRUE))","v":29},{"$f":"IF(Worksheet!$D$10=2,FALSE,Worksheet!$D$15)","v":true},{"$f":"F47*1000","v":91000},"kg","=",{"$f":"IF(Worksheet!$D$6=1,RANDBETWEEN(1,99),IF(Worksheet!$D$6=2,CHOOSE(RANDBETWEEN(1,2),RANDBETWEEN(1,99),RANDBETWEEN(1,999)/10),CHOOSE(RANDBETWEEN(1,4),RANDBETWEEN(1,99999)/1000,RANDBETWEEN(1,9999)/100,RANDBETWEEN(1,999)/10,RANDBETWEEN(1,99))))","v":91},"tonnes"]
[{"$f":"IF(COUNTIF($B$1:B48,TRUE)=COUNTIF($B$1:B47,TRUE),\"\",COUNTIF($B$1:B48,TRUE))","v":30},{"$f":"IF(Worksheet!$D$10=2,FALSE,Worksheet!$D$16)","v":true},{"$f":"1000*F48","v":75000},"ml","=",{"$f":"IF(Worksheet!$D$6=1,RANDBETWEEN(1,99),IF(Worksheet!$D$6=2,CHOOSE(RANDBETWEEN(1,2),RANDBETWEEN(1,99),RANDBETWEEN(1,999)/10),CHOOSE(RANDBETWEEN(1,4),RANDBETWEEN(1,99999)/1000,RANDBETWEEN(1,9999)/100,RANDBETWEEN(1,999)/10,RANDBETWEEN(1,99))))","v":75},"litres"]
[{"$f":"IF(COUNTIF($B$1:B49,TRUE)=COUNTIF($B$1:B48,TRUE),\"\",COUNTIF($B$1:B49,TRUE))","v":""},{"$f":"IF(Worksheet!$D$10=2,FALSE,Worksheet!$D$17)","v":false},{"$f":"1000*F49","v":42000},"cm³","=",{"$f":"IF(Worksheet!$D$6=1,RANDBETWEEN(1,99),IF(Worksheet!$D$6=2,CHOOSE(RANDBETWEEN(1,2),RANDBETWEEN(1,99),RANDBETWEEN(1,999)/10),CHOOSE(RANDBETWEEN(1,4),RANDBETWEEN(1,99999)/1000,RANDBETWEEN(1,9999)/100,RANDBETWEEN(1,999)/10,RANDBETWEEN(1,99))))","v":42},"litres"]
[{"$f":"IF(COUNTIF($B$1:B50,TRUE)=COUNTIF($B$1:B49,TRUE),\"\",COUNTIF($B$1:B50,TRUE))","v":""},{"$f":"IF(Worksheet!$D$10=2,FALSE,Worksheet!$D$18)","v":false},{"$f":"10000*F50","v":690000},"cm²","=",{"$f":"IF(Worksheet!$D$6=1,RANDBETWEEN(1,99),IF(Worksheet!$D$6=2,CHOOSE(RANDBETWEEN(1,2),RANDBETWEEN(1,99),RANDBETWEEN(1,999)/10),CHOOSE(RANDBETWEEN(1,4),RANDBETWEEN(1,99999)/1000,RANDBETWEEN(1,9999)/100,RANDBETWEEN(1,999)/10,RANDBETWEEN(1,99))))","v":69},"m²"]
[{"$f":"IF(COUNTIF($B$1:B51,TRUE)=COUNTIF($B$1:B50,TRUE),\"\",COUNTIF($B$1:B51,TRUE))","v":31},{"$f":"IF(Worksheet!$D$10=3,FALSE,Worksheet!$B$14)","v":true},{"$f":"IF(Worksheet!$D$6=1,RANDBETWEEN(1,99),IF(Worksheet!$D$6=2,CHOOSE(RANDBETWEEN(1,2),RANDBETWEEN(1,99),RANDBETWEEN(1,999)/10),CHOOSE(RANDBETWEEN(1,4),RANDBETWEEN(1,99999)/1000,RANDBETWEEN(1,9999)/100,RANDBETWEEN(1,999)/10,RANDBETWEEN(1,99))))","v":55},"cm","=",{"$f":"10*C51","v":550},"mm"]
[{"$f":"IF(COUNTIF($B$1:B52,TRUE)=COUNTIF($B$1:B51,TRUE),\"\",COUNTIF($B$1:B52,TRUE))","v":32},{"$f":"IF(Worksheet!$D$10=3,FALSE,Worksheet!$B$15)","v":true},{"$f":"IF(Worksheet!$D$6=1,RANDBETWEEN(1,99),IF(Worksheet!$D$6=2,CHOOSE(RANDBETWEEN(1,2),RANDBETWEEN(1,99),RANDBETWEEN(1,999)/10),CHOOSE(RANDBETWEEN(1,4),RANDBETWEEN(1,99999)/1000,RANDBETWEEN(1,9999)/100,RANDBETWEEN(1,999)/10,RANDBETWEEN(1,99))))","v":52},"m","=",{"$f":"100*C52","v":5200},"cm"]
[{"$f":"IF(COUNTIF($B$1:B53,TRUE)=COUNTIF($B$1:B52,TRUE),\"\",COUNTIF($B$1:B53,TRUE))","v":33},{"$f":"IF(Worksheet!$D$10=3,FALSE,Worksheet!$B$16)","v":true},{"$f":"IF(Worksheet!$D$6=1,RANDBETWEEN(1,99),IF(Worksheet!$D$6=2,CHOOSE(RANDBETWEEN(1,2),RANDBETWEEN(1,99),RANDBETWEEN(1,999)/10),CHOOSE(RANDBETWEEN(1,4),RANDBETWEEN(1,99999)/1000,RANDBETWEEN(1,9999)/100,RANDBETWEEN(1,999)/10,RANDBETWEEN(1,99))))","v":84},"km","=",{"$f":"1000*C53","v":84000},"m"]
[{"$f":"IF(COUNTIF($B$1:B54,TRUE)=COUNTIF($B$1:B53,TRUE),\"\",COUNTIF($B$1:B54,TRUE))","v":""},{"$f":"IF(Worksheet!$D$10=3,FALSE,Worksheet!$B$17)","v":false},{"$f":"IF(Worksheet!$D$6=1,RANDBETWEEN(1,99),IF(Worksheet!$D$6=2,CHOOSE(RANDBETWEEN(1,2),RANDBETWEEN(1,99),RANDBETWEEN(1,999)/10),CHOOSE(RANDBETWEEN(1,4),RANDBETWEEN(1,99999)/1000,RANDBETWEEN(1,9999)/100,RANDBETWEEN(1,999)/10,RANDBETWEEN(1,99))))","v":86},"m",{"$f":"#REF!","v":{"$error":"#REF!"}},{"$f":"1000*C54","v":86000},"mm"]
[{"$f":"IF(COUNTIF($B$1:B55,TRUE)=COUNTIF($B$1:B54,TRUE),\"\",COUNTIF($B$1:B55,TRUE))","v":""},{"$f":"IF(Worksheet!$D$10=3,FALSE,Worksheet!$B$18)","v":false},{"$f":"IF(Worksheet!$D$6=1,RANDBETWEEN(1,99),IF(Worksheet!$D$6=2,CHOOSE(RANDBETWEEN(1,2),RANDBETWEEN(1,99),RANDBETWEEN(1,999)/10),CHOOSE(RANDBETWEEN(1,4),RANDBETWEEN(1,99999)/1000,RANDBETWEEN(1,9999)/100,RANDBETWEEN(1,999)/10,RANDBETWEEN(1,99))))","v":67},"cm²","=",{"$f":"C55*100","v":6700},"mm²"]
[{"$f":"IF(COUNTIF($B$1:B56,TRUE)=COUNTIF($B$1:B55,TRUE),\"\",COUNTIF($B$1:B56,TRUE))","v":34},{"$f":"IF(Worksheet!$D$10=3,FALSE,Worksheet!$D$14)","v":true},{"$f":"IF(Worksheet!$D$6=1,RANDBETWEEN(1,99),IF(Worksheet!$D$6=2,CHOOSE(RANDBETWEEN(1,2),RANDBETWEEN(1,99),RANDBETWEEN(1,999)/10),CHOOSE(RANDBETWEEN(1,4),RANDBETWEEN(1,99999)/1000,RANDBETWEEN(1,9999)/100,RANDBETWEEN(1,999)/10,RANDBETWEEN(1,99))))","v":52},"kg","=",{"$f":"1000*C56","v":52000},"g"]
[{"$f":"IF(COUNTIF($B$1:B57,TRUE)=COUNTIF($B$1:B56,TRUE),\"\",COUNTIF($B$1:B57,TRUE))","v":35},{"$f":"IF(Worksheet!$D$10=3,FALSE,Worksheet!$D$15)","v":true},{"$f":"IF(Worksheet!$D$6=1,RANDBETWEEN(1,99),IF(Worksheet!$D$6=2,CHOOSE(RANDBETWEEN(1,2),RANDBETWEEN(1,99),RANDBETWEEN(1,999)/10),CHOOSE(RANDBETWEEN(1,4),RANDBETWEEN(1,99999)/1000,RANDBETWEEN(1,9999)/100,RANDBETWEEN(1,999)/10,RANDBETWEEN(1,99))))","v":13},"tonnes","=",{"$f":"1000*C57","v":13000},"kg"]
[{"$f":"IF(COUNTIF($B$1:B58,TRUE)=COUNTIF($B$1:B57,TRUE),\"\",COUNTIF($B$1:B58,TRUE))","v":36},{"$f":"IF(Worksheet!$D$10=3,FALSE,Worksheet!$D$16)","v":true},{"$f":"IF(Worksheet!$D$6=1,RANDBETWEEN(1,99),IF(Worksheet!$D$6=2,CHOOSE(RANDBETWEEN(1,2),RANDBETWEEN(1,99),RANDBETWEEN(1,999)/10),CHOOSE(RANDBETWEEN(1,4),RANDBETWEEN(1,99999)/1000,RANDBETWEEN(1,9999)/100,RANDBETWEEN(1,999)/10,RANDBETWEEN(1,99))))","v":15},"litres","=",{"$f":"1000*C58","v":15000},"ml"]
[{"$f":"IF(COUNTIF($B$1:B59,TRUE)=COUNTIF($B$1:B58,TRUE),\"\",COUNTIF($B$1:B59,TRUE))","v":""},{"$f":"IF(Worksheet!$D$10=3,FALSE,Worksheet!$D$17)","v":false},{"$f":"IF(Worksheet!$D$6=1,RANDBETWEEN(1,99),IF(Worksheet!$D$6=2,CHOOSE(RANDBETWEEN(1,2),RANDBETWEEN(1,99),RANDBETWEEN(1,999)/10),CHOOSE(RANDBETWEEN(1,4),RANDBETWEEN(1,99999)/1000,RANDBETWEEN(1,9999)/100,RANDBETWEEN(1,999)/10,RANDBETWEEN(1,99))))","v":12},"litres","=",{"$f":"1000*C59","v":12000},"cm³"]
[{"$f":"IF(COUNTIF($B$1:B60,TRUE)=COUNTIF($B$1:B59,TRUE),\"\",COUNTIF($B$1:B60,TRUE))","v":""},{"$f":"IF(Worksheet!$D$10=3,FALSE,Worksheet!$D$18)","v":false},{"$f":"IF(Worksheet!$D$6=1,RANDBETWEEN(1,99),IF(Worksheet!$D$6=2,CHOOSE(RANDBETWEEN(1,2),RANDBETWEEN(1,99),RANDBETWEEN(1,999)/10),CHOOSE(RANDBETWEEN(1,4),RANDBETWEEN(1,99999)/1000,RANDBETWEEN(1,9999)/100,RANDBETWEEN(1,999)/10,RANDBETWEEN(1,99))))","v":59},"m²","=",{"$f":"10000*C60","v":590000},"cm²"]
[{"$f":"IF(COUNTIF($B$1:B61,TRUE)=COUNTIF($B$1:B60,TRUE),\"\",COUNTIF($B$1:B61,TRUE))","v":37},{"$f":"IF(Worksheet!$D$10=2,FALSE,Worksheet!$B$14)","v":true},{"$f":"10*F61","v":740},"mm","=",{"$f":"IF(Worksheet!$D$6=1,RANDBETWEEN(1,99),IF(Worksheet!$D$6=2,CHOOSE(RANDBETWEEN(1,2),RANDBETWEEN(1,99),RANDBETWEEN(1,999)/10),CHOOSE(RANDBETWEEN(1,4),RANDBETWEEN(1,99999)/1000,RANDBETWEEN(1,9999)/100,RANDBETWEEN(1,999)/10,RANDBETWEEN(1,99))))","v":74},"cm"]
[{"$f":"IF(COUNTIF($B$1:B62,TRUE)=COUNTIF($B$1:B61,TRUE),\"\",COUNTIF($B$1:B62,TRUE))","v":38},{"$f":"IF(Worksheet!$D$10=2,FALSE,Worksheet!$B$15)","v":true},{"$f":"100*F62","v":1900},"cm","=",{"$f":"IF(Worksheet!$D$6=1,RANDBETWEEN(1,99),IF(Worksheet!$D$6=2,CHOOSE(RANDBETWEEN(1,2),RANDBETWEEN(1,99),RANDBETWEEN(1,999)/10),CHOOSE(RANDBETWEEN(1,4),RANDBETWEEN(1,99999)/1000,RANDBETWEEN(1,9999)/100,RANDBETWEEN(1,999)/10,RANDBETWEEN(1,99))))","v":19},"m"]
[{"$f":"IF(COUNTIF($B$1:B63,TRUE)=COUNTIF($B$1:B62,TRUE),\"\",COUNTIF($B$1:B63,TRUE))","v":39},{"$f":"IF(Worksheet!$D$10=2,FALSE,Worksheet!$B$16)","v":true},{"$f":"1000*F63","v":88000},"m","=",{"$f":"IF(Worksheet!$D$6=1,RANDBETWEEN(1,99),IF(Worksheet!$D$6=2,CHOOSE(RANDBETWEEN(1,2),RANDBETWEEN(1,99),RANDBETWEEN(1,999)/10),CHOOSE(RANDBETWEEN(1,4),RANDBETWEEN(1,99999)/1000,RANDBETWEEN(1,9999)/100,RANDBETWEEN(1,999)/10,RANDBETWEEN(1,99))))","v":88},"km"]
[{"$f":"IF(COUNTIF($B$1:B64,TRUE)=COUNTIF($B$1:B63,TRUE),\"\",COUNTIF($B$1:B64,TRUE))","v":""},{"$f":"IF(Worksheet!$D$10=2,FALSE,Worksheet!$B$17)","v":false},{"$f":"1000*F64","v":69000},"mm","=",{"$f":"IF(Worksheet!$D$6=1,RANDBETWEEN(1,99),IF(Worksheet!$D$6=2,CHOOSE(RANDBETWEEN(1,2),RANDBETWEEN(1,99),RANDBETWEEN(1,999)/10),CHOOSE(RANDBETWEEN(1,4),RANDBETWEEN(1,99999)/1000,RANDBETWEEN(1,9999)/100,RANDBETWEEN(1,999)/10,RANDBETWEEN(1,99))))","v":69},"m"]
[{"$f":"IF(COUNTIF($B$1:B65,TRUE)=COUNTIF($B$1:B64,TRUE),\"\",COUNTIF($B$1:B65,TRUE))","v":""},{"$f":"IF(Worksheet!$D$10=2,FALSE,Worksheet!$B$18)","v":false},{"$f":"100*F65","v":1600},"mm²","=",{"$f":"IF(Worksheet!$D$6=1,RANDBETWEEN(1,99),IF(Worksheet!$D$6=2,CHOOSE(RANDBETWEEN(1,2),RANDBETWEEN(1,99),RANDBETWEEN(1,999)/10),CHOOSE(RANDBETWEEN(1,4),RANDBETWEEN(1,99999)/1000,RANDBETWEEN(1,9999)/100,RANDBETWEEN(1,999)/10,RANDBETWEEN(1,99))))","v":16},"cm²"]
[{"$f":"IF(COUNTIF($B$1:B66,TRUE)=COUNTIF($B$1:B65,TRUE),\"\",COUNTIF($B$1:B66,TRUE))","v":40},{"$f":"IF(Worksheet!$D$10=2,FALSE,Worksheet!$D$14)","v":true},{"$f":"F66*1000","v":69000},"g","=",{"$f":"IF(Worksheet!$D$6=1,RANDBETWEEN(1,99),IF(Worksheet!$D$6=2,CHOOSE(RANDBETWEEN(1,2),RANDBETWEEN(1,99),RANDBETWEEN(1,999)/10),CHOOSE(RANDBETWEEN(1,4),RANDBETWEEN(1,99999)/1000,RANDBETWEEN(1,9999)/100,RANDBETWEEN(1,999)/10,RANDBETWEEN(1,99))))","v":69},"kg"]
[{"$f":"IF(COUNTIF($B$1:B67,TRUE)=COUNTIF($B$1:B66,TRUE),\"\",COUNTIF($B$1:B67,TRUE))","v":41},{"$f":"IF(Worksheet!$D$10=2,FALSE,Worksheet!$D$15)","v":true},{"$f":"F67*1000","v":20000},"kg","=",{"$f":"IF(Worksheet!$D$6=1,RANDBETWEEN(1,99),IF(Worksheet!$D$6=2,CHOOSE(RANDBETWEEN(1,2),RANDBETWEEN(1,99),RANDBETWEEN(1,999)/10),CHOOSE(RANDBETWEEN(1,4),RANDBETWEEN(1,99999)/1000,RANDBETWEEN(1,9999)/100,RANDBETWEEN(1,999)/10,RANDBETWEEN(1,99))))","v":20},"tonnes"]
[{"$f":"IF(COUNTIF($B$1:B68,TRUE)=COUNTIF($B$1:B67,TRUE),\"\",COUNTIF($B$1:B68,TRUE))","v":42},{"$f":"IF(Worksheet!$D$10=2,FALSE,Worksheet!$D$16)","v":true},{"$f":"1000*F68","v":51000},"ml","=",{"$f":"IF(Worksheet!$D$6=1,RANDBETWEEN(1,99),IF(Worksheet!$D$6=2,CHOOSE(RANDBETWEEN(1,2),RANDBETWEEN(1,99),RANDBETWEEN(1,999)/10),CHOOSE(RANDBETWEEN(1,4),RANDBETWEEN(1,99999)/1000,RANDBETWEEN(1,9999)/100,RANDBETWEEN(1,999)/10,RANDBETWEEN(1,99))))","v":51},"litres"]
[{"$f":"IF(COUNTIF($B$1:B69,TRUE)=COUNTIF($B$1:B68,TRUE),\"\",COUNTIF($B$1:B69,TRUE))","v":""},{"$f":"IF(Worksheet!$D$10=2,FALSE,Worksheet!$D$17)","v":false},{"$f":"1000*F69","v":79000},"cm³","=",{"$f":"IF(Worksheet!$D$6=1,RANDBETWEEN(1,99),IF(Worksheet!$D$6=2,CHOOSE(RANDBETWEEN(1,2),RANDBETWEEN(1,99),RANDBETWEEN(1,999)/10),CHOOSE(RANDBETWEEN(1,4),RANDBETWEEN(1,99999)/1000,RANDBETWEEN(1,9999)/100,RANDBETWEEN(1,999)/10,RANDBETWEEN(1,99))))","v":79},"litres"]
[{"$f":"IF(COUNTIF($B$1:B70,TRUE)=COUNTIF($B$1:B69,TRUE),\"\",COUNTIF($B$1:B70,TRUE))","v":""},{"$f":"IF(Worksheet!$D$10=2,FALSE,Worksheet!$D$18)","v":false},{"$f":"10000*F70","v":890000},"cm²","=",{"$f":"IF(Worksheet!$D$6=1,RANDBETWEEN(1,99),IF(Worksheet!$D$6=2,CHOOSE(RANDBETWEEN(1,2),RANDBETWEEN(1,99),RANDBETWEEN(1,999)/10),CHOOSE(RANDBETWEEN(1,4),RANDBETWEEN(1,99999)/1000,RANDBETWEEN(1,9999)/100,RANDBETWEEN(1,999)/10,RANDBETWEEN(1,99))))","v":89},"m²"]
[{"$f":"IF(COUNTIF($B$1:B71,TRUE)=COUNTIF($B$1:B70,TRUE),\"\",COUNTIF($B$1:B71,TRUE))","v":43},{"$f":"IF(Worksheet!$D$10=3,FALSE,Worksheet!$B$14)","v":true},{"$f":"IF(Worksheet!$D$6=1,RANDBETWEEN(1,99),IF(Worksheet!$D$6=2,CHOOSE(RANDBETWEEN(1,2),RANDBETWEEN(1,99),RANDBETWEEN(1,999)/10),CHOOSE(RANDBETWEEN(1,4),RANDBETWEEN(1,99999)/1000,RANDBETWEEN(1,9999)/100,RANDBETWEEN(1,999)/10,RANDBETWEEN(1,99))))","v":85},"cm","=",{"$f":"10*C71","v":850},"mm"]
[{"$f":"IF(COUNTIF($B$1:B72,TRUE)=COUNTIF($B$1:B71,TRUE),\"\",COUNTIF($B$1:B72,TRUE))","v":44},{"$f":"IF(Worksheet!$D$10=3,FALSE,Worksheet!$B$15)","v":true},{"$f":"IF(Worksheet!$D$6=1,RANDBETWEEN(1,99),IF(Worksheet!$D$6=2,CHOOSE(RANDBETWEEN(1,2),RANDBETWEEN(1,99),RANDBETWEEN(1,999)/10),CHOOSE(RANDBETWEEN(1,4),RANDBETWEEN(1,99999)/1000,RANDBETWEEN(1,9999)/100,RANDBETWEEN(1,999)/10,RANDBETWEEN(1,99))))","v":16},"m","=",{"$f":"100*C72","v":1600},"cm"]
[{"$f":"IF(COUNTIF($B$1:B73,TRUE)=COUNTIF($B$1:B72,TRUE),\"\",COUNTIF($B$1:B73,TRUE))","v":45},{"$f":"IF(Worksheet!$D$10=3,FALSE,Worksheet!$B$16)","v":true},{"$f":"IF(Worksheet!$D$6=1,RANDBETWEEN(1,99),IF(Worksheet!$D$6=2,CHOOSE(RANDBETWEEN(1,2),RANDBETWEEN(1,99),RANDBETWEEN(1,999)/10),CHOOSE(RANDBETWEEN(1,4),RANDBETWEEN(1,99999)/1000,RANDBETWEEN(1,9999)/100,RANDBETWEEN(1,999)/10,RANDBETWEEN(1,99))))","v":77},"km","=",{"$f":"1000*C73","v":77000},"m"]
[{"$f":"IF(COUNTIF($B$1:B74,TRUE)=COUNTIF($B$1:B73,TRUE),\"\",COUNTIF($B$1:B74,TRUE))","v":""},{"$f":"IF(Worksheet!$D$10=3,FALSE,Worksheet!$B$17)","v":false},{"$f":"IF(Worksheet!$D$6=1,RANDBETWEEN(1,99),IF(Worksheet!$D$6=2,CHOOSE(RANDBETWEEN(1,2),RANDBETWEEN(1,99),RANDBETWEEN(1,999)/10),CHOOSE(RANDBETWEEN(1,4),RANDBETWEEN(1,99999)/1000,RANDBETWEEN(1,9999)/100,RANDBETWEEN(1,999)/10,RANDBETWEEN(1,99))))","v":6},"m",{"$f":"#REF!","v":{"$error":"#REF!"}},{"$f":"1000*C74","v":6000},"mm"]
[{"$f":"IF(COUNTIF($B$1:B75,TRUE)=COUNTIF($B$1:B74,TRUE),\"\",COUNTIF($B$1:B75,TRUE))","v":""},{"$f":"IF(Worksheet!$D$10=3,FALSE,Worksheet!$B$18)","v":false},{"$f":"IF(Worksheet!$D$6=1,RANDBETWEEN(1,99),IF(Worksheet!$D$6=2,CHOOSE(RANDBETWEEN(1,2),RANDBETWEEN(1,99),RANDBETWEEN(1,999)/10),CHOOSE(RANDBETWEEN(1,4),RANDBETWEEN(1,99999)/1000,RANDBETWEEN(1,9999)/100,RANDBETWEEN(1,999)/10,RANDBETWEEN(1,99))))","v":53},"cm²","=",{"$f":"C75*100","v":5300},"mm²"]
[{"$f":"IF(COUNTIF($B$1:B76,TRUE)=COUNTIF($B$1:B75,TRUE),\"\",COUNTIF($B$1:B76,TRUE))","v":46},{"$f":"IF(Worksheet!$D$10=3,FALSE,Worksheet!$D$14)","v":true},{"$f":"IF(Worksheet!$D$6=1,RANDBETWEEN(1,99),IF(Worksheet!$D$6=2,CHOOSE(RANDBETWEEN(1,2),RANDBETWEEN(1,99),RANDBETWEEN(1,999)/10),CHOOSE(RANDBETWEEN(1,4),RANDBETWEEN(1,99999)/1000,RANDBETWEEN(1,9999)/100,RANDBETWEEN(1,999)/10,RANDBETWEEN(1,99))))","v":13},"kg","=",{"$f":"1000*C76","v":13000},"g"]
[{"$f":"IF(COUNTIF($B$1:B77,TRUE)=COUNTIF($B$1:B76,TRUE),\"\",COUNTIF($B$1:B77,TRUE))","v":47},{"$f":"IF(Worksheet!$D$10=3,FALSE,Worksheet!$D$15)","v":true},{"$f":"IF(Worksheet!$D$6=1,RANDBETWEEN(1,99),IF(Worksheet!$D$6=2,CHOOSE(RANDBETWEEN(1,2),RANDBETWEEN(1,99),RANDBETWEEN(1,999)/10),CHOOSE(RANDBETWEEN(1,4),RANDBETWEEN(1,99999)/1000,RANDBETWEEN(1,9999)/100,RANDBETWEEN(1,999)/10,RANDBETWEEN(1,99))))","v":28},"tonnes","=",{"$f":"1000*C77","v":28000},"kg"]
[{"$f":"IF(COUNTIF($B$1:B78,TRUE)=COUNTIF($B$1:B77,TRUE),\"\",COUNTIF($B$1:B78,TRUE))","v":48},{"$f":"IF(Worksheet!$D$10=3,FALSE,Worksheet!$D$16)","v":true},{"$f":"IF(Worksheet!$D$6=1,RANDBETWEEN(1,99),IF(Worksheet!$D$6=2,CHOOSE(RANDBETWEEN(1,2),RANDBETWEEN(1,99),RANDBETWEEN(1,999)/10),CHOOSE(RANDBETWEEN(1,4),RANDBETWEEN(1,99999)/1000,RANDBETWEEN(1,9999)/100,RANDBETWEEN(1,999)/10,RANDBETWEEN(1,99))))","v":19},"litres","=",{"$f":"1000*C78","v":19000},"ml"]
[{"$f":"IF(COUNTIF($B$1:B79,TRUE)=COUNTIF($B$1:B78,TRUE),\"\",COUNTIF($B$1:B79,TRUE))","v":""},{"$f":"IF(Worksheet!$D$10=3,FALSE,Worksheet!$D$17)","v":false},{"$f":"IF(Worksheet!$D$6=1,RANDBETWEEN(1,99),IF(Worksheet!$D$6=2,CHOOSE(RANDBETWEEN(1,2),RANDBETWEEN(1,99),RANDBETWEEN(1,999)/10),CHOOSE(RANDBETWEEN(1,4),RANDBETWEEN(1,99999)/1000,RANDBETWEEN(1,9999)/100,RANDBETWEEN(1,999)/10,RANDBETWEEN(1,99))))","v":50},"litres","=",{"$f":"1000*C79","v":50000},"cm³"]
[{"$f":"IF(COUNTIF($B$1:B80,TRUE)=COUNTIF($B$1:B79,TRUE),\"\",COUNTIF($B$1:B80,TRUE))","v":""},{"$f":"IF(Worksheet!$D$10=3,FALSE,Worksheet!$D$18)","v":false},{"$f":"IF(Worksheet!$D$6=1,RANDBETWEEN(1,99),IF(Worksheet!$D$6=2,CHOOSE(RANDBETWEEN(1,2),RANDBETWEEN(1,99),RANDBETWEEN(1,999)/10),CHOOSE(RANDBETWEEN(1,4),RANDBETWEEN(1,99999)/1000,RANDBETWEEN(1,9999)/100,RANDBETWEEN(1,999)/10,RANDBETWEEN(1,99))))","v":94},"m²","=",{"$f":"10000*C80","v":940000},"cm²"]
[{"$f":"IF(COUNTIF($B$1:B81,TRUE)=COUNTIF($B$1:B80,TRUE),\"\",COUNTIF($B$1:B81,TRUE))","v":49},{"$f":"IF(Worksheet!$D$10=2,FALSE,Worksheet!$B$14)","v":true},{"$f":"10*F81","v":220},"mm","=",{"$f":"IF(Worksheet!$D$6=1,RANDBETWEEN(1,99),IF(Worksheet!$D$6=2,CHOOSE(RANDBETWEEN(1,2),RANDBETWEEN(1,99),RANDBETWEEN(1,999)/10),CHOOSE(RANDBETWEEN(1,4),RANDBETWEEN(1,99999)/1000,RANDBETWEEN(1,9999)/100,RANDBETWEEN(1,999)/10,RANDBETWEEN(1,99))))","v":22},"cm"]
[{"$f":"IF(COUNTIF($B$1:B82,TRUE)=COUNTIF($B$1:B81,TRUE),\"\",COUNTIF($B$1:B82,TRUE))","v":50},{"$f":"IF(Worksheet!$D$10=2,FALSE,Worksheet!$B$15)","v":true},{"$f":"100*F82","v":4600},"cm","=",{"$f":"IF(Worksheet!$D$6=1,RANDBETWEEN(1,99),IF(Worksheet!$D$6=2,CHOOSE(RANDBETWEEN(1,2),RANDBETWEEN(1,99),RANDBETWEEN(1,999)/10),CHOOSE(RANDBETWEEN(1,4),RANDBETWEEN(1,99999)/1000,RANDBETWEEN(1,9999)/100,RANDBETWEEN(1,999)/10,RANDBETWEEN(1,99))))","v":46},"m"]
[{"$f":"IF(COUNTIF($B$1:B83,TRUE)=COUNTIF($B$1:B82,TRUE),\"\",COUNTIF($B$1:B83,TRUE))","v":51},{"$f":"IF(Worksheet!$D$10=2,FALSE,Worksheet!$B$16)","v":true},{"$f":"1000*F83","v":73000},"m","=",{"$f":"IF(Worksheet!$D$6=1,RANDBETWEEN(1,99),IF(Worksheet!$D$6=2,CHOOSE(RANDBETWEEN(1,2),RANDBETWEEN(1,99),RANDBETWEEN(1,999)/10),CHOOSE(RANDBETWEEN(1,4),RANDBETWEEN(1,99999)/1000,RANDBETWEEN(1,9999)/100,RANDBETWEEN(1,999)/10,RANDBETWEEN(1,99))))","v":73},"km"]
[{"$f":"IF(COUNTIF($B$1:B84,TRUE)=COUNTIF($B$1:B83,TRUE),\"\",COUNTIF($B$1:B84,TRUE))","v":""},{"$f":"IF(Worksheet!$D$10=2,FALSE,Worksheet!$B$17)","v":false},{"$f":"1000*F84","v":41000},"mm","=",{"$f":"IF(Worksheet!$D$6=1,RANDBETWEEN(1,99),IF(Worksheet!$D$6=2,CHOOSE(RANDBETWEEN(1,2),RANDBETWEEN(1,99),RANDBETWEEN(1,999)/10),CHOOSE(RANDBETWEEN(1,4),RANDBETWEEN(1,99999)/1000,RANDBETWEEN(1,9999)/100,RANDBETWEEN(1,999)/10,RANDBETWEEN(1,99))))","v":41},"m"]
[{"$f":"IF(COUNTIF($B$1:B85,TRUE)=COUNTIF($B$1:B84,TRUE),\"\",COUNTIF($B$1:B85,TRUE))","v":""},{"$f":"IF(Worksheet!$D$10=2,FALSE,Worksheet!$B$18)","v":false},{"$f":"100*F85","v":4400},"mm²","=",{"$f":"IF(Worksheet!$D$6=1,RANDBETWEEN(1,99),IF(Worksheet!$D$6=2,CHOOSE(RANDBETWEEN(1,2),RANDBETWEEN(1,99),RANDBETWEEN(1,999)/10),CHOOSE(RANDBETWEEN(1,4),RANDBETWEEN(1,99999)/1000,RANDBETWEEN(1,9999)/100,RANDBETWEEN(1,999)/10,RANDBETWEEN(1,99))))","v":44},"cm²"]
[{"$f":"IF(COUNTIF($B$1:B86,TRUE)=COUNTIF($B$1:B85,TRUE),\"\",COUNTIF($B$1:B86,TRUE))","v":52},{"$f":"IF(Worksheet!$D$10=2,FALSE,Worksheet!$D$14)","v":true},{"$f":"F86*1000","v":23000},"g","=",{"$f":"IF(Worksheet!$D$6=1,RANDBETWEEN(1,99),IF(Worksheet!$D$6=2,CHOOSE(RANDBETWEEN(1,2),RANDBETWEEN(1,99),RANDBETWEEN(1,999)/10),CHOOSE(RANDBETWEEN(1,4),RANDBETWEEN(1,99999)/1000,RANDBETWEEN(1,9999)/100,RANDBETWEEN(1,999)/10,RANDBETWEEN(1,99))))","v":23},"kg"]
[{"$f":"IF(COUNTIF($B$1:B87,TRUE)=COUNTIF($B$1:B86,TRUE),\"\",COUNTIF($B$1:B87,TRUE))","v":53},{"$f":"IF(Worksheet!$D$10=2,FALSE,Worksheet!$D$15)","v":true},{"$f":"F87*1000","v":31000},"kg","=",{"$f":"IF(Worksheet!$D$6=1,RANDBETWEEN(1,99),IF(Worksheet!$D$6=2,CHOOSE(RANDBETWEEN(1,2),RANDBETWEEN(1,99),RANDBETWEEN(1,999)/10),CHOOSE(RANDBETWEEN(1,4),RANDBETWEEN(1,99999)/1000,RANDBETWEEN(1,9999)/100,RANDBETWEEN(1,999)/10,RANDBETWEEN(1,99))))","v":31},"tonnes"]
[{"$f":"IF(COUNTIF($B$1:B88,TRUE)=COUNTIF($B$1:B87,TRUE),\"\",COUNTIF($B$1:B88,TRUE))","v":54},{"$f":"IF(Worksheet!$D$10=2,FALSE,Worksheet!$D$16)","v":true},{"$f":"1000*F88","v":65000},"ml","=",{"$f":"IF(Worksheet!$D$6=1,RANDBETWEEN(1,99),IF(Worksheet!$D$6=2,CHOOSE(RANDBETWEEN(1,2),RANDBETWEEN(1,99),RANDBETWEEN(1,999)/10),CHOOSE(RANDBETWEEN(1,4),RANDBETWEEN(1,99999)/1000,RANDBETWEEN(1,9999)/100,RANDBETWEEN(1,999)/10,RANDBETWEEN(1,99))))","v":65},"litres"]
[{"$f":"IF(COUNTIF($B$1:B89,TRUE)=COUNTIF($B$1:B88,TRUE),\"\",COUNTIF($B$1:B89,TRUE))","v":""},{"$f":"IF(Worksheet!$D$10=2,FALSE,Worksheet!$D$17)","v":false},{"$f":"1000*F89","v":9000},"cm³","=",{"$f":"IF(Worksheet!$D$6=1,RANDBETWEEN(1,99),IF(Worksheet!$D$6=2,CHOOSE(RANDBETWEEN(1,2),RANDBETWEEN(1,99),RANDBETWEEN(1,999)/10),CHOOSE(RANDBETWEEN(1,4),RANDBETWEEN(1,99999)/1000,RANDBETWEEN(1,9999)/100,RANDBETWEEN(1,999)/10,RANDBETWEEN(1,99))))","v":9},"litres"]
[{"$f":"IF(COUNTIF($B$1:B90,TRUE)=COUNTIF($B$1:B89,TRUE),\"\",COUNTIF($B$1:B90,TRUE))","v":""},{"$f":"IF(Worksheet!$D$10=2,FALSE,Worksheet!$D$18)","v":false},{"$f":"10000*F90","v":880000},"cm²","=",{"$f":"IF(Worksheet!$D$6=1,RANDBETWEEN(1,99),IF(Worksheet!$D$6=2,CHOOSE(RANDBETWEEN(1,2),RANDBETWEEN(1,99),RANDBETWEEN(1,999)/10),CHOOSE(RANDBETWEEN(1,4),RANDBETWEEN(1,99999)/1000,RANDBETWEEN(1,9999)/100,RANDBETWEEN(1,999)/10,RANDBETWEEN(1,99))))","v":88},"m²"]
[{"$f":"IF(COUNTIF($B$1:B91,TRUE)=COUNTIF($B$1:B90,TRUE),\"\",COUNTIF($B$1:B91,TRUE))","v":55},{"$f":"IF(Worksheet!$D$10=3,FALSE,Worksheet!$B$14)","v":true},{"$f":"IF(Worksheet!$D$6=1,RANDBETWEEN(1,99),IF(Worksheet!$D$6=2,CHOOSE(RANDBETWEEN(1,2),RANDBETWEEN(1,99),RANDBETWEEN(1,999)/10),CHOOSE(RANDBETWEEN(1,4),RANDBETWEEN(1,99999)/1000,RANDBETWEEN(1,9999)/100,RANDBETWEEN(1,999)/10,RANDBETWEEN(1,99))))","v":22},"cm","=",{"$f":"10*C91","v":220},"mm"]
[{"$f":"IF(COUNTIF($B$1:B92,TRUE)=COUNTIF($B$1:B91,TRUE),\"\",COUNTIF($B$1:B92,TRUE))","v":56},{"$f":"IF(Worksheet!$D$10=3,FALSE,Worksheet!$B$15)","v":true},{"$f":"IF(Worksheet!$D$6=1,RANDBETWEEN(1,99),IF(Worksheet!$D$6=2,CHOOSE(RANDBETWEEN(1,2),RANDBETWEEN(1,99),RANDBETWEEN(1,999)/10),CHOOSE(RANDBETWEEN(1,4),RANDBETWEEN(1,99999)/1000,RANDBETWEEN(1,9999)/100,RANDBETWEEN(1,999)/10,RANDBETWEEN(1,99))))","v":82},"m","=",{"$f":"100*C92","v":8200},"cm"]
[{"$f":"IF(COUNTIF($B$1:B93,TRUE)=COUNTIF($B$1:B92,TRUE),\"\",COUNTIF($B$1:B93,TRUE))","v":57},{"$f":"IF(Worksheet!$D$10=3,FALSE,Worksheet!$B$16)","v":true},{"$f":"IF(Worksheet!$D$6=1,RANDBETWEEN(1,99),IF(Worksheet!$D$6=2,CHOOSE(RANDBETWEEN(1,2),RANDBETWEEN(1,99),RANDBETWEEN(1,999)/10),CHOOSE(RANDBETWEEN(1,4),RANDBETWEEN(1,99999)/1000,RANDBETWEEN(1,9999)/100,RANDBETWEEN(1,999)/10,RANDBETWEEN(1,99))))","v":5},"km","=",{"$f":"1000*C93","v":5000},"m"]
[{"$f":"IF(COUNTIF($B$1:B94,TRUE)=COUNTIF($B$1:B93,TRUE),\"\",COUNTIF($B$1:B94,TRUE))","v":""},{"$f":"IF(Worksheet!$D$10=3,FALSE,Worksheet!$B$17)","v":false},{"$f":"IF(Worksheet!$D$6=1,RANDBETWEEN(1,99),IF(Worksheet!$D$6=2,CHOOSE(RANDBETWEEN(1,2),RANDBETWEEN(1,99),RANDBETWEEN(1,999)/10),CHOOSE(RANDBETWEEN(1,4),RANDBETWEEN(1,99999)/1000,RANDBETWEEN(1,9999)/100,RANDBETWEEN(1,999)/10,RANDBETWEEN(1,99))))","v":84},"m",{"$f":"#REF!","v":{"$error":"#REF!"}},{"$f":"1000*C94","v":84000},"mm"]
[{"$f":"IF(COUNTIF($B$1:B95,TRUE)=COUNTIF($B$1:B94,TRUE),\"\",COUNTIF($B$1:B95,TRUE))","v":""},{"$f":"IF(Worksheet!$D$10=3,FALSE,Worksheet!$B$18)","v":false},{"$f":"IF(Worksheet!$D$6=1,RANDBETWEEN(1,99),IF(Worksheet!$D$6=2,CHOOSE(RANDBETWEEN(1,2),RANDBETWEEN(1,99),RANDBETWEEN(1,999)/10),CHOOSE(RANDBETWEEN(1,4),RANDBETWEEN(1,99999)/1000,RANDBETWEEN(1,9999)/100,RANDBETWEEN(1,999)/10,RANDBETWEEN(1,99))))","v":54},"cm²","=",{"$f":"C95*100","v":5400},"mm²"]
[{"$f":"IF(COUNTIF($B$1:B96,TRUE)=COUNTIF($B$1:B95,TRUE),\"\",COUNTIF($B$1:B96,TRUE))","v":58},{"$f":"IF(Worksheet!$D$10=3,FALSE,Worksheet!$D$14)","v":true},{"$f":"IF(Worksheet!$D$6=1,RANDBETWEEN(1,99),IF(Worksheet!$D$6=2,CHOOSE(RANDBETWEEN(1,2),RANDBETWEEN(1,99),RANDBETWEEN(1,999)/10),CHOOSE(RANDBETWEEN(1,4),RANDBETWEEN(1,99999)/1000,RANDBETWEEN(1,9999)/100,RANDBETWEEN(1,999)/10,RANDBETWEEN(1,99))))","v":2},"kg","=",{"$f":"1000*C96","v":2000},"g"]
[{"$f":"IF(COUNTIF($B$1:B97,TRUE)=COUNTIF($B$1:B96,TRUE),\"\",COUNTIF($B$1:B97,TRUE))","v":59},{"$f":"IF(Worksheet!$D$10=3,FALSE,Worksheet!$D$15)","v":true},{"$f":"IF(Worksheet!$D$6=1,RANDBETWEEN(1,99),IF(Worksheet!$D$6=2,CHOOSE(RANDBETWEEN(1,2),RANDBETWEEN(1,99),RANDBETWEEN(1,999)/10),CHOOSE(RANDBETWEEN(1,4),RANDBETWEEN(1,99999)/1000,RANDBETWEEN(1,9999)/100,RANDBETWEEN(1,999)/10,RANDBETWEEN(1,99))))","v":44},"tonnes","=",{"$f":"1000*C97","v":44000},"kg"]
[{"$f":"IF(COUNTIF($B$1:B98,TRUE)=COUNTIF($B$1:B97,TRUE),\"\",COUNTIF($B$1:B98,TRUE))","v":60},{"$f":"IF(Worksheet!$D$10=3,FALSE,Worksheet!$D$16)","v":true},{"$f":"IF(Worksheet!$D$6=1,RANDBETWEEN(1,99),IF(Worksheet!$D$6=2,CHOOSE(RANDBETWEEN(1,2),RANDBETWEEN(1,99),RANDBETWEEN(1,999)/10),CHOOSE(RANDBETWEEN(1,4),RANDBETWEEN(1,99999)/1000,RANDBETWEEN(1,9999)/100,RANDBETWEEN(1,999)/10,RANDBETWEEN(1,99))))","v":70},"litres","=",{"$f":"1000*C98","v":70000},"ml"]
[{"$f":"IF(COUNTIF($B$1:B99,TRUE)=COUNTIF($B$1:B98,TRUE),\"\",COUNTIF($B$1:B99,TRUE))","v":""},{"$f":"IF(Worksheet!$D$10=3,FALSE,Worksheet!$D$17)","v":false},{"$f":"IF(Worksheet!$D$6=1,RANDBETWEEN(1,99),IF(Worksheet!$D$6=2,CHOOSE(RANDBETWEEN(1,2),RANDBETWEEN(1,99),RANDBETWEEN(1,999)/10),CHOOSE(RANDBETWEEN(1,4),RANDBETWEEN(1,99999)/1000,RANDBETWEEN(1,9999)/100,RANDBETWEEN(1,999)/10,RANDBETWEEN(1,99))))","v":34},"litres","=",{"$f":"1000*C99","v":34000},"cm³"]
[{"$f":"IF(COUNTIF($B$1:B100,TRUE)=COUNTIF($B$1:B99,TRUE),\"\",COUNTIF($B$1:B100,TRUE))","v":""},{"$f":"IF(Worksheet!$D$10=3,FALSE,Worksheet!$D$18)","v":false},{"$f":"IF(Worksheet!$D$6=1,RANDBETWEEN(1,99),IF(Worksheet!$D$6=2,CHOOSE(RANDBETWEEN(1,2),RANDBETWEEN(1,99),RANDBETWEEN(1,999)/10),CHOOSE(RANDBETWEEN(1,4),RANDBETWEEN(1,99999)/1000,RANDBETWEEN(1,9999)/100,RANDBETWEEN(1,999)/10,RANDBETWEEN(1,99))))","v":24},"m²","=",{"$f":"10000*C100","v":240000},"cm²"]
[{"$f":"IF(COUNTIF($B$1:B101,TRUE)=COUNTIF($B$1:B100,TRUE),\"\",COUNTIF($B$1:B101,TRUE))","v":61},{"$f":"IF(Worksheet!$D$10=2,FALSE,Worksheet!$B$14)","v":true},{"$f":"10*F101","v":70},"mm","=",{"$f":"IF(Worksheet!$D$6=1,RANDBETWEEN(1,99),IF(Worksheet!$D$6=2,CHOOSE(RANDBETWEEN(1,2),RANDBETWEEN(1,99),RANDBETWEEN(1,999)/10),CHOOSE(RANDBETWEEN(1,4),RANDBETWEEN(1,99999)/1000,RANDBETWEEN(1,9999)/100,RANDBETWEEN(1,999)/10,RANDBETWEEN(1,99))))","v":7},"cm"]
[{"$f":"IF(COUNTIF($B$1:B102,TRUE)=COUNTIF($B$1:B101,TRUE),\"\",COUNTIF($B$1:B102,TRUE))","v":62},{"$f":"IF(Worksheet!$D$10=2,FALSE,Worksheet!$B$15)","v":true},{"$f":"100*F102","v":1600},"cm","=",{"$f":"IF(Worksheet!$D$6=1,RANDBETWEEN(1,99),IF(Worksheet!$D$6=2,CHOOSE(RANDBETWEEN(1,2),RANDBETWEEN(1,99),RANDBETWEEN(1,999)/10),CHOOSE(RANDBETWEEN(1,4),RANDBETWEEN(1,99999)/1000,RANDBETWEEN(1,9999)/100,RANDBETWEEN(1,999)/10,RANDBETWEEN(1,99))))","v":16},"m"]
[{"$f":"IF(COUNTIF($B$1:B103,TRUE)=COUNTIF($B$1:B102,TRUE),\"\",COUNTIF($B$1:B103,TRUE))","v":63},{"$f":"IF(Worksheet!$D$10=2,FALSE,Worksheet!$B$16)","v":true},{"$f":"1000*F103","v":79000},"m","=",{"$f":"IF(Worksheet!$D$6=1,RANDBETWEEN(1,99),IF(Worksheet!$D$6=2,CHOOSE(RANDBETWEEN(1,2),RANDBETWEEN(1,99),RANDBETWEEN(1,999)/10),CHOOSE(RANDBETWEEN(1,4),RANDBETWEEN(1,99999)/1000,RANDBETWEEN(1,9999)/100,RANDBETWEEN(1,999)/10,RANDBETWEEN(1,99))))","v":79},"km"]
[{"$f":"IF(COUNTIF($B$1:B104,TRUE)=COUNTIF($B$1:B103,TRUE),\"\",COUNTIF($B$1:B104,TRUE))","v":""},{"$f":"IF(Worksheet!$D$10=2,FALSE,Worksheet!$B$17)","v":false},{"$f":"1000*F104","v":6000},"mm","=",{"$f":"IF(Worksheet!$D$6=1,RANDBETWEEN(1,99),IF(Worksheet!$D$6=2,CHOOSE(RANDBETWEEN(1,2),RANDBETWEEN(1,99),RANDBETWEEN(1,999)/10),CHOOSE(RANDBETWEEN(1,4),RANDBETWEEN(1,99999)/1000,RANDBETWEEN(1,9999)/100,RANDBETWEEN(1,999)/10,RANDBETWEEN(1,99))))","v":6},"m"]
[{"$f":"IF(COUNTIF($B$1:B105,TRUE)=COUNTIF($B$1:B104,TRUE),\"\",COUNTIF($B$1:B105,TRUE))","v":""},{"$f":"IF(Worksheet!$D$10=2,FALSE,Worksheet!$B$18)","v":false},{"$f":"100*F105","v":2800},"mm²","=",{"$f":"IF(Worksheet!$D$6=1,RANDBETWEEN(1,99),IF(Worksheet!$D$6=2,CHOOSE(RANDBETWEEN(1,2),RANDBETWEEN(1,99),RANDBETWEEN(1,999)/10),CHOOSE(RANDBETWEEN(1,4),RANDBETWEEN(1,99999)/1000,RANDBETWEEN(1,9999)/100,RANDBETWEEN(1,999)/10,RANDBETWEEN(1,99))))","v":28},"cm²"]
[{"$f":"IF(COUNTIF($B$1:B106,TRUE)=COUNTIF($B$1:B105,TRUE),\"\",COUNTIF($B$1:B106,TRUE))","v":64},{"$f":"IF(Worksheet!$D$10=2,FALSE,Worksheet!$D$14)","v":true},{"$f":"F106*1000","v":25000},"g","=",{"$f":"IF(Worksheet!$D$6=1,RANDBETWEEN(1,99),IF(Worksheet!$D$6=2,CHOOSE(RANDBETWEEN(1,2),RANDBETWEEN(1,99),RANDBETWEEN(1,999)/10),CHOOSE(RANDBETWEEN(1,4),RANDBETWEEN(1,99999)/1000,RANDBETWEEN(1,9999)/100,RANDBETWEEN(1,999)/10,RANDBETWEEN(1,99))))","v":25},"kg"]
[{"$f":"IF(COUNTIF($B$1:B107,TRUE)=COUNTIF($B$1:B106,TRUE),\"\",COUNTIF($B$1:B107,TRUE))","v":65},{"$f":"IF(Worksheet!$D$10=2,FALSE,Worksheet!$D$15)","v":true},{"$f":"F107*1000","v":81000},"kg","=",{"$f":"IF(Worksheet!$D$6=1,RANDBETWEEN(1,99),IF(Worksheet!$D$6=2,CHOOSE(RANDBETWEEN(1,2),RANDBETWEEN(1,99),RANDBETWEEN(1,999)/10),CHOOSE(RANDBETWEEN(1,4),RANDBETWEEN(1,99999)/1000,RANDBETWEEN(1,9999)/100,RANDBETWEEN(1,999)/10,RANDBETWEEN(1,99))))","v":81},"tonnes"]
[{"$f":"IF(COUNTIF($B$1:B108,TRUE)=COUNTIF($B$1:B107,TRUE),\"\",COUNTIF($B$1:B108,TRUE))","v":66},{"$f":"IF(Worksheet!$D$10=2,FALSE,Worksheet!$D$16)","v":true},{"$f":"1000*F108","v":34000},"ml","=",{"$f":"IF(Worksheet!$D$6=1,RANDBETWEEN(1,99),IF(Worksheet!$D$6=2,CHOOSE(RANDBETWEEN(1,2),RANDBETWEEN(1,99),RANDBETWEEN(1,999)/10),CHOOSE(RANDBETWEEN(1,4),RANDBETWEEN(1,99999)/1000,RANDBETWEEN(1,9999)/100,RANDBETWEEN(1,999)/10,RANDBETWEEN(1,99))))","v":34},"litres"]
[{"$f":"IF(COUNTIF($B$1:B109,TRUE)=COUNTIF($B$1:B108,TRUE),\"\",COUNTIF($B$1:B109,TRUE))","v":""},{"$f":"IF(Worksheet!$D$10=2,FALSE,Worksheet!$D$17)","v":false},{"$f":"1000*F109","v":86000},"cm³","=",{"$f":"IF(Worksheet!$D$6=1,RANDBETWEEN(1,99),IF(Worksheet!$D$6=2,CHOOSE(RANDBETWEEN(1,2),RANDBETWEEN(1,99),RANDBETWEEN(1,999)/10),CHOOSE(RANDBETWEEN(1,4),RANDBETWEEN(1,99999)/1000,RANDBETWEEN(1,9999)/100,RANDBETWEEN(1,999)/10,RANDBETWEEN(1,99))))","v":86},"litres"]
[{"$f":"IF(COUNTIF($B$1:B110,TRUE)=COUNTIF($B$1:B109,TRUE),\"\",COUNTIF($B$1:B110,TRUE))","v":""},{"$f":"IF(Worksheet!$D$10=2,FALSE,Worksheet!$D$18)","v":false},{"$f":"10000*F110","v":990000},"cm²","=",{"$f":"IF(Worksheet!$D$6=1,RANDBETWEEN(1,99),IF(Worksheet!$D$6=2,CHOOSE(RANDBETWEEN(1,2),RANDBETWEEN(1,99),RANDBETWEEN(1,999)/10),CHOOSE(RANDBETWEEN(1,4),RANDBETWEEN(1,99999)/1000,RANDBETWEEN(1,9999)/100,RANDBETWEEN(1,999)/10,RANDBETWEEN(1,99))))","v":99},"m²"]
[{"$f":"IF(COUNTIF($B$1:B111,TRUE)=COUNTIF($B$1:B110,TRUE),\"\",COUNTIF($B$1:B111,TRUE))","v":67},{"$f":"IF(Worksheet!$D$10=3,FALSE,Worksheet!$B$14)","v":true},{"$f":"IF(Worksheet!$D$6=1,RANDBETWEEN(1,99),IF(Worksheet!$D$6=2,CHOOSE(RANDBETWEEN(1,2),RANDBETWEEN(1,99),RANDBETWEEN(1,999)/10),CHOOSE(RANDBETWEEN(1,4),RANDBETWEEN(1,99999)/1000,RANDBETWEEN(1,9999)/100,RANDBETWEEN(1,999)/10,RANDBETWEEN(1,99))))","v":78},"cm","=",{"$f":"10*C111","v":780},"mm"]
[{"$f":"IF(COUNTIF($B$1:B112,TRUE)=COUNTIF($B$1:B111,TRUE),\"\",COUNTIF($B$1:B112,TRUE))","v":68},{"$f":"IF(Worksheet!$D$10=3,FALSE,Worksheet!$B$15)","v":true},{"$f":"IF(Worksheet!$D$6=1,RANDBETWEEN(1,99),IF(Worksheet!$D$6=2,CHOOSE(RANDBETWEEN(1,2),RANDBETWEEN(1,99),RANDBETWEEN(1,999)/10),CHOOSE(RANDBETWEEN(1,4),RANDBETWEEN(1,99999)/1000,RANDBETWEEN(1,9999)/100,RANDBETWEEN(1,999)/10,RANDBETWEEN(1,99))))","v":80},"m","=",{"$f":"100*C112","v":8000},"cm"]
[{"$f":"IF(COUNTIF($B$1:B113,TRUE)=COUNTIF($B$1:B112,TRUE),\"\",COUNTIF($B$1:B113,TRUE))","v":69},{"$f":"IF(Worksheet!$D$10=3,FALSE,Worksheet!$B$16)","v":true},{"$f":"IF(Worksheet!$D$6=1,RANDBETWEEN(1,99),IF(Worksheet!$D$6=2,CHOOSE(RANDBETWEEN(1,2),RANDBETWEEN(1,99),RANDBETWEEN(1,999)/10),CHOOSE(RANDBETWEEN(1,4),RANDBETWEEN(1,99999)/1000,RANDBETWEEN(1,9999)/100,RANDBETWEEN(1,999)/10,RANDBETWEEN(1,99))))","v":29},"km","=",{"$f":"1000*C113","v":29000},"m"]
[{"$f":"IF(COUNTIF($B$1:B114,TRUE)=COUNTIF($B$1:B113,TRUE),\"\",COUNTIF($B$1:B114,TRUE))","v":""},{"$f":"IF(Worksheet!$D$10=3,FALSE,Worksheet!$B$17)","v":false},{"$f":"IF(Worksheet!$D$6=1,RANDBETWEEN(1,99),IF(Worksheet!$D$6=2,CHOOSE(RANDBETWEEN(1,2),RANDBETWEEN(1,99),RANDBETWEEN(1,999)/10),CHOOSE(RANDBETWEEN(1,4),RANDBETWEEN(1,99999)/1000,RANDBETWEEN(1,9999)/100,RANDBETWEEN(1,999)/10,RANDBETWEEN(1,99))))","v":67},"m",{"$f":"#REF!","v":{"$error":"#REF!"}},{"$f":"1000*C114","v":67000},"mm"]
[{"$f":"IF(COUNTIF($B$1:B115,TRUE)=COUNTIF($B$1:B114,TRUE),\"\",COUNTIF($B$1:B115,TRUE))","v":""},{"$f":"IF(Worksheet!$D$10=3,FALSE,Worksheet!$B$18)","v":false},{"$f":"IF(Worksheet!$D$6=1,RANDBETWEEN(1,99),IF(Worksheet!$D$6=2,CHOOSE(RANDBETWEEN(1,2),RANDBETWEEN(1,99),RANDBETWEEN(1,999)/10),CHOOSE(RANDBETWEEN(1,4),RANDBETWEEN(1,99999)/1000,RANDBETWEEN(1,9999)/100,RANDBETWEEN(1,999)/10,RANDBETWEEN(1,99))))","v":43},"cm²","=",{"$f":"C115*100","v":4300},"mm²"]
[{"$f":"IF(COUNTIF($B$1:B116,TRUE)=COUNTIF($B$1:B115,TRUE),\"\",COUNTIF($B$1:B116,TRUE))","v":70},{"$f":"IF(Worksheet!$D$10=3,FALSE,Worksheet!$D$14)","v":true},{"$f":"IF(Worksheet!$D$6=1,RANDBETWEEN(1,99),IF(Worksheet!$D$6=2,CHOOSE(RANDBETWEEN(1,2),RANDBETWEEN(1,99),RANDBETWEEN(1,999)/10),CHOOSE(RANDBETWEEN(1,4),RANDBETWEEN(1,99999)/1000,RANDBETWEEN(1,9999)/100,RANDBETWEEN(1,999)/10,RANDBETWEEN(1,99))))","v":80},"kg","=",{"$f":"1000*C116","v":80000},"g"]
[{"$f":"IF(COUNTIF($B$1:B117,TRUE)=COUNTIF($B$1:B116,TRUE),\"\",COUNTIF($B$1:B117,TRUE))","v":71},{"$f":"IF(Worksheet!$D$10=3,FALSE,Worksheet!$D$15)","v":true},{"$f":"IF(Worksheet!$D$6=1,RANDBETWEEN(1,99),IF(Worksheet!$D$6=2,CHOOSE(RANDBETWEEN(1,2),RANDBETWEEN(1,99),RANDBETWEEN(1,999)/10),CHOOSE(RANDBETWEEN(1,4),RANDBETWEEN(1,99999)/1000,RANDBETWEEN(1,9999)/100,RANDBETWEEN(1,999)/10,RANDBETWEEN(1,99))))","v":78},"tonnes","=",{"$f":"1000*C117","v":78000},"kg"]
[{"$f":"IF(COUNTIF($B$1:B118,TRUE)=COUNTIF($B$1:B117,TRUE),\"\",COUNTIF($B$1:B118,TRUE))","v":72},{"$f":"IF(Worksheet!$D$10=3,FALSE,Worksheet!$D$16)","v":true},{"$f":"IF(Worksheet!$D$6=1,RANDBETWEEN(1,99),IF(Worksheet!$D$6=2,CHOOSE(RANDBETWEEN(1,2),RANDBETWEEN(1,99),RANDBETWEEN(1,999)/10),CHOOSE(RANDBETWEEN(1,4),RANDBETWEEN(1,99999)/1000,RANDBETWEEN(1,9999)/100,RANDBETWEEN(1,999)/10,RANDBETWEEN(1,99))))","v":36},"litres","=",{"$f":"1000*C118","v":36000},"ml"]
[{"$f":"IF(COUNTIF($B$1:B119,TRUE)=COUNTIF($B$1:B118,TRUE),\"\",COUNTIF($B$1:B119,TRUE))","v":""},{"$f":"IF(Worksheet!$D$10=3,FALSE,Worksheet!$D$17)","v":false},{"$f":"IF(Worksheet!$D$6=1,RANDBETWEEN(1,99),IF(Worksheet!$D$6=2,CHOOSE(RANDBETWEEN(1,2),RANDBETWEEN(1,99),RANDBETWEEN(1,999)/10),CHOOSE(RANDBETWEEN(1,4),RANDBETWEEN(1,99999)/1000,RANDBETWEEN(1,9999)/100,RANDBETWEEN(1,999)/10,RANDBETWEEN(1,99))))","v":31},"litres","=",{"$f":"1000*C119","v":31000},"cm³"]
[{"$f":"IF(COUNTIF($B$1:B120,TRUE)=COUNTIF($B$1:B119,TRUE),\"\",COUNTIF($B$1:B120,TRUE))","v":""},{"$f":"IF(Worksheet!$D$10=3,FALSE,Worksheet!$D$18)","v":false},{"$f":"IF(Worksheet!$D$6=1,RANDBETWEEN(1,99),IF(Worksheet!$D$6=2,CHOOSE(RANDBETWEEN(1,2),RANDBETWEEN(1,99),RANDBETWEEN(1,999)/10),CHOOSE(RANDBETWEEN(1,4),RANDBETWEEN(1,99999)/1000,RANDBETWEEN(1,9999)/100,RANDBETWEEN(1,999)/10,RANDBETWEEN(1,99))))","v":1},"m²","=",{"$f":"10000*C120","v":10000},"cm²"]
[{"$f":"IF(COUNTIF($B$1:B121,TRUE)=COUNTIF($B$1:B120,TRUE),\"\",COUNTIF($B$1:B121,TRUE))","v":73},{"$f":"IF(Worksheet!$D$10=2,FALSE,Worksheet!$B$14)","v":true},{"$f":"10*F121","v":440},"mm","=",{"$f":"IF(Worksheet!$D$6=1,RANDBETWEEN(1,99),IF(Worksheet!$D$6=2,CHOOSE(RANDBETWEEN(1,2),RANDBETWEEN(1,99),RANDBETWEEN(1,999)/10),CHOOSE(RANDBETWEEN(1,4),RANDBETWEEN(1,99999)/1000,RANDBETWEEN(1,9999)/100,RANDBETWEEN(1,999)/10,RANDBETWEEN(1,99))))","v":44},"cm"]
[{"$f":"IF(COUNTIF($B$1:B122,TRUE)=COUNTIF($B$1:B121,TRUE),\"\",COUNTIF($B$1:B122,TRUE))","v":74},{"$f":"IF(Worksheet!$D$10=2,FALSE,Worksheet!$B$15)","v":true},{"$f":"100*F122","v":1100},"cm","=",{"$f":"IF(Worksheet!$D$6=1,RANDBETWEEN(1,99),IF(Worksheet!$D$6=2,CHOOSE(RANDBETWEEN(1,2),RANDBETWEEN(1,99),RANDBETWEEN(1,999)/10),CHOOSE(RANDBETWEEN(1,4),RANDBETWEEN(1,99999)/1000,RANDBETWEEN(1,9999)/100,RANDBETWEEN(1,999)/10,RANDBETWEEN(1,99))))","v":11},"m"]
[{"$f":"IF(COUNTIF($B$1:B123,TRUE)=COUNTIF($B$1:B122,TRUE),\"\",COUNTIF($B$1:B123,TRUE))","v":75},{"$f":"IF(Worksheet!$D$10=2,FALSE,Worksheet!$B$16)","v":true},{"$f":"1000*F123","v":11000},"m","=",{"$f":"IF(Worksheet!$D$6=1,RANDBETWEEN(1,99),IF(Worksheet!$D$6=2,CHOOSE(RANDBETWEEN(1,2),RANDBETWEEN(1,99),RANDBETWEEN(1,999)/10),CHOOSE(RANDBETWEEN(1,4),RANDBETWEEN(1,99999)/1000,RANDBETWEEN(1,9999)/100,RANDBETWEEN(1,999)/10,RANDBETWEEN(1,99))))","v":11},"km"]
[{"$f":"IF(COUNTIF($B$1:B124,TRUE)=COUNTIF($B$1:B123,TRUE),\"\",COUNTIF($B$1:B124,TRUE))","v":""},{"$f":"IF(Worksheet!$D$10=2,FALSE,Worksheet!$B$17)","v":false},{"$f":"1000*F124","v":22000},"mm","=",{"$f":"IF(Worksheet!$D$6=1,RANDBETWEEN(1,99),IF(Worksheet!$D$6=2,CHOOSE(RANDBETWEEN(1,2),RANDBETWEEN(1,99),RANDBETWEEN(1,999)/10),CHOOSE(RANDBETWEEN(1,4),RANDBETWEEN(1,99999)/1000,RANDBETWEEN(1,9999)/100,RANDBETWEEN(1,999)/10,RANDBETWEEN(1,99))))","v":22},"m"]
[{"$f":"IF(COUNTIF($B$1:B125,TRUE)=COUNTIF($B$1:B124,TRUE),\"\",COUNTIF($B$1:B125,TRUE))","v":""},{"$f":"IF(Worksheet!$D$10=2,FALSE,Worksheet!$B$18)","v":false},{"$f":"100*F125","v":7300},"mm²","=",{"$f":"IF(Worksheet!$D$6=1,RANDBETWEEN(1,99),IF(Worksheet!$D$6=2,CHOOSE(RANDBETWEEN(1,2),RANDBETWEEN(1,99),RANDBETWEEN(1,999)/10),CHOOSE(RANDBETWEEN(1,4),RANDBETWEEN(1,99999)/1000,RANDBETWEEN(1,9999)/100,RANDBETWEEN(1,999)/10,RANDBETWEEN(1,99))))","v":73},"cm²"]
[{"$f":"IF(COUNTIF($B$1:B126,TRUE)=COUNTIF($B$1:B125,TRUE),\"\",COUNTIF($B$1:B126,TRUE))","v":76},{"$f":"IF(Worksheet!$D$10=2,FALSE,Worksheet!$D$14)","v":true},{"$f":"F126*1000","v":43000},"g","=",{"$f":"IF(Worksheet!$D$6=1,RANDBETWEEN(1,99),IF(Worksheet!$D$6=2,CHOOSE(RANDBETWEEN(1,2),RANDBETWEEN(1,99),RANDBETWEEN(1,999)/10),CHOOSE(RANDBETWEEN(1,4),RANDBETWEEN(1,99999)/1000,RANDBETWEEN(1,9999)/100,RANDBETWEEN(1,999)/10,RANDBETWEEN(1,99))))","v":43},"kg"]
[{"$f":"IF(COUNTIF($B$1:B127,TRUE)=COUNTIF($B$1:B126,TRUE),\"\",COUNTIF($B$1:B127,TRUE))","v":77},{"$f":"IF(Worksheet!$D$10=2,FALSE,Worksheet!$D$15)","v":true},{"$f":"F127*1000","v":75000},"kg","=",{"$f":"IF(Worksheet!$D$6=1,RANDBETWEEN(1,99),IF(Worksheet!$D$6=2,CHOOSE(RANDBETWEEN(1,2),RANDBETWEEN(1,99),RANDBETWEEN(1,999)/10),CHOOSE(RANDBETWEEN(1,4),RANDBETWEEN(1,99999)/1000,RANDBETWEEN(1,9999)/100,RANDBETWEEN(1,999)/10,RANDBETWEEN(1,99))))","v":75},"tonnes"]
[{"$f":"IF(COUNTIF($B$1:B128,TRUE)=COUNTIF($B$1:B127,TRUE),\"\",COUNTIF($B$1:B128,TRUE))","v":78},{"$f":"IF(Worksheet!$D$10=2,FALSE,Worksheet!$D$16)","v":true},{"$f":"1000*F128","v":6000},"ml","=",{"$f":"IF(Worksheet!$D$6=1,RANDBETWEEN(1,99),IF(Worksheet!$D$6=2,CHOOSE(RANDBETWEEN(1,2),RANDBETWEEN(1,99),RANDBETWEEN(1,999)/10),CHOOSE(RANDBETWEEN(1,4),RANDBETWEEN(1,99999)/1000,RANDBETWEEN(1,9999)/100,RANDBETWEEN(1,999)/10,RANDBETWEEN(1,99))))","v":6},"litres"]
[{"$f":"IF(COUNTIF($B$1:B129,TRUE)=COUNTIF($B$1:B128,TRUE),\"\",COUNTIF($B$1:B129,TRUE))","v":""},{"$f":"IF(Worksheet!$D$10=2,FALSE,Worksheet!$D$17)","v":false},{"$f":"1000*F129","v":28000},"cm³","=",{"$f":"IF(Worksheet!$D$6=1,RANDBETWEEN(1,99),IF(Worksheet!$D$6=2,CHOOSE(RANDBETWEEN(1,2),RANDBETWEEN(1,99),RANDBETWEEN(1,999)/10),CHOOSE(RANDBETWEEN(1,4),RANDBETWEEN(1,99999)/1000,RANDBETWEEN(1,9999)/100,RANDBETWEEN(1,999)/10,RANDBETWEEN(1,99))))","v":28},"litres"]
[{"$f":"IF(COUNTIF($B$1:B130,TRUE)=COUNTIF($B$1:B129,TRUE),\"\",COUNTIF($B$1:B130,TRUE))","v":""},{"$f":"IF(Worksheet!$D$10=2,FALSE,Worksheet!$D$18)","v":false},{"$f":"10000*F130","v":90000},"cm²","=",{"$f":"IF(Worksheet!$D$6=1,RANDBETWEEN(1,99),IF(Worksheet!$D$6=2,CHOOSE(RANDBETWEEN(1,2),RANDBETWEEN(1,99),RANDBETWEEN(1,999)/10),CHOOSE(RANDBETWEEN(1,4),RANDBETWEEN(1,99999)/1000,RANDBETWEEN(1,9999)/100,RANDBETWEEN(1,999)/10,RANDBETWEEN(1,99))))","v":9},"m²"]
[{"$f":"IF(COUNTIF($B$1:B131,TRUE)=COUNTIF($B$1:B130,TRUE),\"\",COUNTIF($B$1:B131,TRUE))","v":79},{"$f":"IF(Worksheet!$D$10=3,FALSE,Worksheet!$B$14)","v":true},{"$f":"IF(Worksheet!$D$6=1,RANDBETWEEN(1,99),IF(Worksheet!$D$6=2,CHOOSE(RANDBETWEEN(1,2),RANDBETWEEN(1,99),RANDBETWEEN(1,999)/10),CHOOSE(RANDBETWEEN(1,4),RANDBETWEEN(1,99999)/1000,RANDBETWEEN(1,9999)/100,RANDBETWEEN(1,999)/10,RANDBETWEEN(1,99))))","v":73},"cm","=",{"$f":"10*C131","v":730},"mm"]
[{"$f":"IF(COUNTIF($B$1:B132,TRUE)=COUNTIF($B$1:B131,TRUE),\"\",COUNTIF($B$1:B132,TRUE))","v":80},{"$f":"IF(Worksheet!$D$10=3,FALSE,Worksheet!$B$15)","v":true},{"$f":"IF(Worksheet!$D$6=1,RANDBETWEEN(1,99),IF(Worksheet!$D$6=2,CHOOSE(RANDBETWEEN(1,2),RANDBETWEEN(1,99),RANDBETWEEN(1,999)/10),CHOOSE(RANDBETWEEN(1,4),RANDBETWEEN(1,99999)/1000,RANDBETWEEN(1,9999)/100,RANDBETWEEN(1,999)/10,RANDBETWEEN(1,99))))","v":92},"m","=",{"$f":"100*C132","v":9200},"cm"]
[{"$f":"IF(COUNTIF($B$1:B133,TRUE)=COUNTIF($B$1:B132,TRUE),\"\",COUNTIF($B$1:B133,TRUE))","v":81},{"$f":"IF(Worksheet!$D$10=3,FALSE,Worksheet!$B$16)","v":true},{"$f":"IF(Worksheet!$D$6=1,RANDBETWEEN(1,99),IF(Worksheet!$D$6=2,CHOOSE(RANDBETWEEN(1,2),RANDBETWEEN(1,99),RANDBETWEEN(1,999)/10),CHOOSE(RANDBETWEEN(1,4),RANDBETWEEN(1,99999)/1000,RANDBETWEEN(1,9999)/100,RANDBETWEEN(1,999)/10,RANDBETWEEN(1,99))))","v":77},"km","=",{"$f":"1000*C133","v":77000},"m"]
[{"$f":"IF(COUNTIF($B$1:B134,TRUE)=COUNTIF($B$1:B133,TRUE),\"\",COUNTIF($B$1:B134,TRUE))","v":""},{"$f":"IF(Worksheet!$D$10=3,FALSE,Worksheet!$B$17)","v":false},{"$f":"IF(Worksheet!$D$6=1,RANDBETWEEN(1,99),IF(Worksheet!$D$6=2,CHOOSE(RANDBETWEEN(1,2),RANDBETWEEN(1,99),RANDBETWEEN(1,999)/10),CHOOSE(RANDBETWEEN(1,4),RANDBETWEEN(1,99999)/1000,RANDBETWEEN(1,9999)/100,RANDBETWEEN(1,999)/10,RANDBETWEEN(1,99))))","v":2},"m",{"$f":"#REF!","v":{"$error":"#REF!"}},{"$f":"1000*C134","v":2000},"mm"]
[{"$f":"IF(COUNTIF($B$1:B135,TRUE)=COUNTIF($B$1:B134,TRUE),\"\",COUNTIF($B$1:B135,TRUE))","v":""},{"$f":"IF(Worksheet!$D$10=3,FALSE,Worksheet!$B$18)","v":false},{"$f":"IF(Worksheet!$D$6=1,RANDBETWEEN(1,99),IF(Worksheet!$D$6=2,CHOOSE(RANDBETWEEN(1,2),RANDBETWEEN(1,99),RANDBETWEEN(1,999)/10),CHOOSE(RANDBETWEEN(1,4),RANDBETWEEN(1,99999)/1000,RANDBETWEEN(1,9999)/100,RANDBETWEEN(1,999)/10,RANDBETWEEN(1,99))))","v":64},"cm²","=",{"$f":"C135*100","v":6400},"mm²"]
[{"$f":"IF(COUNTIF($B$1:B136,TRUE)=COUNTIF($B$1:B135,TRUE),\"\",COUNTIF($B$1:B136,TRUE))","v":82},{"$f":"IF(Worksheet!$D$10=3,FALSE,Worksheet!$D$14)","v":true},{"$f":"IF(Worksheet!$D$6=1,RANDBETWEEN(1,99),IF(Worksheet!$D$6=2,CHOOSE(RANDBETWEEN(1,2),RANDBETWEEN(1,99),RANDBETWEEN(1,999)/10),CHOOSE(RANDBETWEEN(1,4),RANDBETWEEN(1,99999)/1000,RANDBETWEEN(1,9999)/100,RANDBETWEEN(1,999)/10,RANDBETWEEN(1,99))))","v":18},"kg","=",{"$f":"1000*C136","v":18000},"g"]
[{"$f":"IF(COUNTIF($B$1:B137,TRUE)=COUNTIF($B$1:B136,TRUE),\"\",COUNTIF($B$1:B137,TRUE))","v":83},{"$f":"IF(Worksheet!$D$10=3,FALSE,Worksheet!$D$15)","v":true},{"$f":"IF(Worksheet!$D$6=1,RANDBETWEEN(1,99),IF(Worksheet!$D$6=2,CHOOSE(RANDBETWEEN(1,2),RANDBETWEEN(1,99),RANDBETWEEN(1,999)/10),CHOOSE(RANDBETWEEN(1,4),RANDBETWEEN(1,99999)/1000,RANDBETWEEN(1,9999)/100,RANDBETWEEN(1,999)/10,RANDBETWEEN(1,99))))","v":45},"tonnes","=",{"$f":"1000*C137","v":45000},"kg"]
[{"$f":"IF(COUNTIF($B$1:B138,TRUE)=COUNTIF($B$1:B137,TRUE),\"\",COUNTIF($B$1:B138,TRUE))","v":84},{"$f":"IF(Worksheet!$D$10=3,FALSE,Worksheet!$D$16)","v":true},{"$f":"IF(Worksheet!$D$6=1,RANDBETWEEN(1,99),IF(Worksheet!$D$6=2,CHOOSE(RANDBETWEEN(1,2),RANDBETWEEN(1,99),RANDBETWEEN(1,999)/10),CHOOSE(RANDBETWEEN(1,4),RANDBETWEEN(1,99999)/1000,RANDBETWEEN(1,9999)/100,RANDBETWEEN(1,999)/10,RANDBETWEEN(1,99))))","v":53},"litres","=",{"$f":"1000*C138","v":53000},"ml"]
[{"$f":"IF(COUNTIF($B$1:B139,TRUE)=COUNTIF($B$1:B138,TRUE),\"\",COUNTIF($B$1:B139,TRUE))","v":""},{"$f":"IF(Worksheet!$D$10=3,FALSE,Worksheet!$D$17)","v":false},{"$f":"IF(Worksheet!$D$6=1,RANDBETWEEN(1,99),IF(Worksheet!$D$6=2,CHOOSE(RANDBETWEEN(1,2),RANDBETWEEN(1,99),RANDBETWEEN(1,999)/10),CHOOSE(RANDBETWEEN(1,4),RANDBETWEEN(1,99999)/1000,RANDBETWEEN(1,9999)/100,RANDBETWEEN(1,999)/10,RANDBETWEEN(1,99))))","v":71},"litres","=",{"$f":"1000*C139","v":71000},"cm³"]
[{"$f":"IF(COUNTIF($B$1:B140,TRUE)=COUNTIF($B$1:B139,TRUE),\"\",COUNTIF($B$1:B140,TRUE))","v":""},{"$f":"IF(Worksheet!$D$10=3,FALSE,Worksheet!$D$18)","v":false},{"$f":"IF(Worksheet!$D$6=1,RANDBETWEEN(1,99),IF(Worksheet!$D$6=2,CHOOSE(RANDBETWEEN(1,2),RANDBETWEEN(1,99),RANDBETWEEN(1,999)/10),CHOOSE(RANDBETWEEN(1,4),RANDBETWEEN(1,99999)/1000,RANDBETWEEN(1,9999)/100,RANDBETWEEN(1,999)/10,RANDBETWEEN(1,99))))","v":65},"m²","=",{"$f":"10000*C140","v":650000},"cm²"]
[{"$f":"IF(COUNTIF($B$1:B141,TRUE)=COUNTIF($B$1:B140,TRUE),\"\",COUNTIF($B$1:B141,TRUE))","v":85},{"$f":"IF(Worksheet!$D$10=2,FALSE,Worksheet!$B$14)","v":true},{"$f":"10*F141","v":190},"mm","=",{"$f":"IF(Worksheet!$D$6=1,RANDBETWEEN(1,99),IF(Worksheet!$D$6=2,CHOOSE(RANDBETWEEN(1,2),RANDBETWEEN(1,99),RANDBETWEEN(1,999)/10),CHOOSE(RANDBETWEEN(1,4),RANDBETWEEN(1,99999)/1000,RANDBETWEEN(1,9999)/100,RANDBETWEEN(1,999)/10,RANDBETWEEN(1,99))))","v":19},"cm"]
[{"$f":"IF(COUNTIF($B$1:B142,TRUE)=COUNTIF($B$1:B141,TRUE),\"\",COUNTIF($B$1:B142,TRUE))","v":86},{"$f":"IF(Worksheet!$D$10=2,FALSE,Worksheet!$B$15)","v":true},{"$f":"100*F142","v":2000},"cm","=",{"$f":"IF(Worksheet!$D$6=1,RANDBETWEEN(1,99),IF(Worksheet!$D$6=2,CHOOSE(RANDBETWEEN(1,2),RANDBETWEEN(1,99),RANDBETWEEN(1,999)/10),CHOOSE(RANDBETWEEN(1,4),RANDBETWEEN(1,99999)/1000,RANDBETWEEN(1,9999)/100,RANDBETWEEN(1,999)/10,RANDBETWEEN(1,99))))","v":20},"m"]
[{"$f":"IF(COUNTIF($B$1:B143,TRUE)=COUNTIF($B$1:B142,TRUE),\"\",COUNTIF($B$1:B143,TRUE))","v":87},{"$f":"IF(Worksheet!$D$10=2,FALSE,Worksheet!$B$16)","v":true},{"$f":"1000*F143","v":41000},"m","=",{"$f":"IF(Worksheet!$D$6=1,RANDBETWEEN(1,99),IF(Worksheet!$D$6=2,CHOOSE(RANDBETWEEN(1,2),RANDBETWEEN(1,99),RANDBETWEEN(1,999)/10),CHOOSE(RANDBETWEEN(1,4),RANDBETWEEN(1,99999)/1000,RANDBETWEEN(1,9999)/100,RANDBETWEEN(1,999)/10,RANDBETWEEN(1,99))))","v":41},"km"]
[{"$f":"IF(COUNTIF($B$1:B144,TRUE)=COUNTIF($B$1:B143,TRUE),\"\",COUNTIF($B$1:B144,TRUE))","v":""},{"$f":"IF(Worksheet!$D$10=2,FALSE,Worksheet!$B$17)","v":false},{"$f":"1000*F144","v":82000},"mm","=",{"$f":"IF(Worksheet!$D$6=1,RANDBETWEEN(1,99),IF(Worksheet!$D$6=2,CHOOSE(RANDBETWEEN(1,2),RANDBETWEEN(1,99),RANDBETWEEN(1,999)/10),CHOOSE(RANDBETWEEN(1,4),RANDBETWEEN(1,99999)/1000,RANDBETWEEN(1,9999)/100,RANDBETWEEN(1,999)/10,RANDBETWEEN(1,99))))","v":82},"m"]
[{"$f":"IF(COUNTIF($B$1:B145,TRUE)=COUNTIF($B$1:B144,TRUE),\"\",COUNTIF($B$1:B145,TRUE))","v":""},{"$f":"IF(Worksheet!$D$10=2,FALSE,Worksheet!$B$18)","v":false},{"$f":"100*F145","v":3400},"mm²","=",{"$f":"IF(Worksheet!$D$6=1,RANDBETWEEN(1,99),IF(Worksheet!$D$6=2,CHOOSE(RANDBETWEEN(1,2),RANDBETWEEN(1,99),RANDBETWEEN(1,999)/10),CHOOSE(RANDBETWEEN(1,4),RANDBETWEEN(1,99999)/1000,RANDBETWEEN(1,9999)/100,RANDBETWEEN(1,999)/10,RANDBETWEEN(1,99))))","v":34},"cm²"]
[{"$f":"IF(COUNTIF($B$1:B146,TRUE)=COUNTIF($B$1:B145,TRUE),\"\",COUNTIF($B$1:B146,TRUE))","v":88},{"$f":"IF(Worksheet!$D$10=2,FALSE,Worksheet!$D$14)","v":true},{"$f":"F146*1000","v":70000},"g","=",{"$f":"IF(Worksheet!$D$6=1,RANDBETWEEN(1,99),IF(Worksheet!$D$6=2,CHOOSE(RANDBETWEEN(1,2),RANDBETWEEN(1,99),RANDBETWEEN(1,999)/10),CHOOSE(RANDBETWEEN(1,4),RANDBETWEEN(1,99999)/1000,RANDBETWEEN(1,9999)/100,RANDBETWEEN(1,999)/10,RANDBETWEEN(1,99))))","v":70},"kg"]
[{"$f":"IF(COUNTIF($B$1:B147,TRUE)=COUNTIF($B$1:B146,TRUE),\"\",COUNTIF($B$1:B147,TRUE))","v":89},{"$f":"IF(Worksheet!$D$10=2,FALSE,Worksheet!$D$15)","v":true},{"$f":"F147*1000","v":31000},"kg","=",{"$f":"IF(Worksheet!$D$6=1,RANDBETWEEN(1,99),IF(Worksheet!$D$6=2,CHOOSE(RANDBETWEEN(1,2),RANDBETWEEN(1,99),RANDBETWEEN(1,999)/10),CHOOSE(RANDBETWEEN(1,4),RANDBETWEEN(1,99999)/1000,RANDBETWEEN(1,9999)/100,RANDBETWEEN(1,999)/10,RANDBETWEEN(1,99))))","v":31},"tonnes"]
[{"$f":"IF(COUNTIF($B$1:B148,TRUE)=COUNTIF($B$1:B147,TRUE),\"\",COUNTIF($B$1:B148,TRUE))","v":90},{"$f":"IF(Worksheet!$D$10=2,FALSE,Worksheet!$D$16)","v":true},{"$f":"1000*F148","v":99000},"ml","=",{"$f":"IF(Worksheet!$D$6=1,RANDBETWEEN(1,99),IF(Worksheet!$D$6=2,CHOOSE(RANDBETWEEN(1,2),RANDBETWEEN(1,99),RANDBETWEEN(1,999)/10),CHOOSE(RANDBETWEEN(1,4),RANDBETWEEN(1,99999)/1000,RANDBETWEEN(1,9999)/100,RANDBETWEEN(1,999)/10,RANDBETWEEN(1,99))))","v":99},"litres"]
[{"$f":"IF(COUNTIF($B$1:B149,TRUE)=COUNTIF($B$1:B148,TRUE),\"\",COUNTIF($B$1:B149,TRUE))","v":""},{"$f":"IF(Worksheet!$D$10=2,FALSE,Worksheet!$D$17)","v":false},{"$f":"1000*F149","v":11000},"cm³","=",{"$f":"IF(Worksheet!$D$6=1,RANDBETWEEN(1,99),IF(Worksheet!$D$6=2,CHOOSE(RANDBETWEEN(1,2),RANDBETWEEN(1,99),RANDBETWEEN(1,999)/10),CHOOSE(RANDBETWEEN(1,4),RANDBETWEEN(1,99999)/1000,RANDBETWEEN(1,9999)/100,RANDBETWEEN(1,999)/10,RANDBETWEEN(1,99))))","v":11},"litres"]
[{"$f":"IF(COUNTIF($B$1:B150,TRUE)=COUNTIF($B$1:B149,TRUE),\"\",COUNTIF($B$1:B150,TRUE))","v":""},{"$f":"IF(Worksheet!$D$10=2,FALSE,Worksheet!$D$18)","v":false},{"$f":"10000*F150","v":910000},"cm²","=",{"$f":"IF(Worksheet!$D$6=1,RANDBETWEEN(1,99),IF(Worksheet!$D$6=2,CHOOSE(RANDBETWEEN(1,2),RANDBETWEEN(1,99),RANDBETWEEN(1,999)/10),CHOOSE(RANDBETWEEN(1,4),RANDBETWEEN(1,99999)/1000,RANDBETWEEN(1,9999)/100,RANDBETWEEN(1,999)/10,RANDBETWEEN(1,99))))","v":91},"m²"]
[{"$f":"IF(COUNTIF($B$1:B151,TRUE)=COUNTIF($B$1:B150,TRUE),\"\",COUNTIF($B$1:B151,TRUE))","v":91},{"$f":"IF(Worksheet!$D$10=3,FALSE,Worksheet!$B$14)","v":true},{"$f":"IF(Worksheet!$D$6=1,RANDBETWEEN(1,99),IF(Worksheet!$D$6=2,CHOOSE(RANDBETWEEN(1,2),RANDBETWEEN(1,99),RANDBETWEEN(1,999)/10),CHOOSE(RANDBETWEEN(1,4),RANDBETWEEN(1,99999)/1000,RANDBETWEEN(1,9999)/100,RANDBETWEEN(1,999)/10,RANDBETWEEN(1,99))))","v":19},"cm","=",{"$f":"10*C151","v":190},"mm"]
[{"$f":"IF(COUNTIF($B$1:B152,TRUE)=COUNTIF($B$1:B151,TRUE),\"\",COUNTIF($B$1:B152,TRUE))","v":92},{"$f":"IF(Worksheet!$D$10=3,FALSE,Worksheet!$B$15)","v":true},{"$f":"IF(Worksheet!$D$6=1,RANDBETWEEN(1,99),IF(Worksheet!$D$6=2,CHOOSE(RANDBETWEEN(1,2),RANDBETWEEN(1,99),RANDBETWEEN(1,999)/10),CHOOSE(RANDBETWEEN(1,4),RANDBETWEEN(1,99999)/1000,RANDBETWEEN(1,9999)/100,RANDBETWEEN(1,999)/10,RANDBETWEEN(1,99))))","v":15},"m","=",{"$f":"100*C152","v":1500},"cm"]
[{"$f":"IF(COUNTIF($B$1:B153,TRUE)=COUNTIF($B$1:B152,TRUE),\"\",COUNTIF($B$1:B153,TRUE))","v":93},{"$f":"IF(Worksheet!$D$10=3,FALSE,Worksheet!$B$16)","v":true},{"$f":"IF(Worksheet!$D$6=1,RANDBETWEEN(1,99),IF(Worksheet!$D$6=2,CHOOSE(RANDBETWEEN(1,2),RANDBETWEEN(1,99),RANDBETWEEN(1,999)/10),CHOOSE(RANDBETWEEN(1,4),RANDBETWEEN(1,99999)/1000,RANDBETWEEN(1,9999)/100,RANDBETWEEN(1,999)/10,RANDBETWEEN(1,99))))","v":48},"km","=",{"$f":"1000*C153","v":48000},"m"]
[{"$f":"IF(COUNTIF($B$1:B154,TRUE)=COUNTIF($B$1:B153,TRUE),\"\",COUNTIF($B$1:B154,TRUE))","v":""},{"$f":"IF(Worksheet!$D$10=3,FALSE,Worksheet!$B$17)","v":false},{"$f":"IF(Worksheet!$D$6=1,RANDBETWEEN(1,99),IF(Worksheet!$D$6=2,CHOOSE(RANDBETWEEN(1,2),RANDBETWEEN(1,99),RANDBETWEEN(1,999)/10),CHOOSE(RANDBETWEEN(1,4),RANDBETWEEN(1,99999)/1000,RANDBETWEEN(1,9999)/100,RANDBETWEEN(1,999)/10,RANDBETWEEN(1,99))))","v":33},"m",{"$f":"#REF!","v":{"$error":"#REF!"}},{"$f":"1000*C154","v":33000},"mm"]
[{"$f":"IF(COUNTIF($B$1:B155,TRUE)=COUNTIF($B$1:B154,TRUE),\"\",COUNTIF($B$1:B155,TRUE))","v":""},{"$f":"IF(Worksheet!$D$10=3,FALSE,Worksheet!$B$18)","v":false},{"$f":"IF(Worksheet!$D$6=1,RANDBETWEEN(1,99),IF(Worksheet!$D$6=2,CHOOSE(RANDBETWEEN(1,2),RANDBETWEEN(1,99),RANDBETWEEN(1,999)/10),CHOOSE(RANDBETWEEN(1,4),RANDBETWEEN(1,99999)/1000,RANDBETWEEN(1,9999)/100,RANDBETWEEN(1,999)/10,RANDBETWEEN(1,99))))","v":45},"cm²","=",{"$f":"C155*100","v":4500},"mm²"]
[{"$f":"IF(COUNTIF($B$1:B156,TRUE)=COUNTIF($B$1:B155,TRUE),\"\",COUNTIF($B$1:B156,TRUE))","v":94},{"$f":"IF(Worksheet!$D$10=3,FALSE,Worksheet!$D$14)","v":true},{"$f":"IF(Worksheet!$D$6=1,RANDBETWEEN(1,99),IF(Worksheet!$D$6=2,CHOOSE(RANDBETWEEN(1,2),RANDBETWEEN(1,99),RANDBETWEEN(1,999)/10),CHOOSE(RANDBETWEEN(1,4),RANDBETWEEN(1,99999)/1000,RANDBETWEEN(1,9999)/100,RANDBETWEEN(1,999)/10,RANDBETWEEN(1,99))))","v":84},"kg","=",{"$f":"1000*C156","v":84000},"g"]
[{"$f":"IF(COUNTIF($B$1:B157,TRUE)=COUNTIF($B$1:B156,TRUE),\"\",COUNTIF($B$1:B157,TRUE))","v":95},{"$f":"IF(Worksheet!$D$10=3,FALSE,Worksheet!$D$15)","v":true},{"$f":"IF(Worksheet!$D$6=1,RANDBETWEEN(1,99),IF(Worksheet!$D$6=2,CHOOSE(RANDBETWEEN(1,2),RANDBETWEEN(1,99),RANDBETWEEN(1,999)/10),CHOOSE(RANDBETWEEN(1,4),RANDBETWEEN(1,99999)/1000,RANDBETWEEN(1,9999)/100,RANDBETWEEN(1,999)/10,RANDBETWEEN(1,99))))","v":38},"tonnes","=",{"$f":"1000*C157","v":38000},"kg"]
[{"$f":"IF(COUNTIF($B$1:B158,TRUE)=COUNTIF($B$1:B157,TRUE),\"\",COUNTIF($B$1:B158,TRUE))","v":96},{"$f":"IF(Worksheet!$D$10=3,FALSE,Worksheet!$D$16)","v":true},{"$f":"IF(Worksheet!$D$6=1,RANDBETWEEN(1,99),IF(Worksheet!$D$6=2,CHOOSE(RANDBETWEEN(1,2),RANDBETWEEN(1,99),RANDBETWEEN(1,999)/10),CHOOSE(RANDBETWEEN(1,4),RANDBETWEEN(1,99999)/1000,RANDBETWEEN(1,9999)/100,RANDBETWEEN(1,999)/10,RANDBETWEEN(1,99))))","v":58},"litres","=",{"$f":"1000*C158","v":58000},"ml"]
[{"$f":"IF(COUNTIF($B$1:B159,TRUE)=COUNTIF($B$1:B158,TRUE),\"\",COUNTIF($B$1:B159,TRUE))","v":""},{"$f":"IF(Worksheet!$D$10=3,FALSE,Worksheet!$D$17)","v":false},{"$f":"IF(Worksheet!$D$6=1,RANDBETWEEN(1,99),IF(Worksheet!$D$6=2,CHOOSE(RANDBETWEEN(1,2),RANDBETWEEN(1,99),RANDBETWEEN(1,999)/10),CHOOSE(RANDBETWEEN(1,4),RANDBETWEEN(1,99999)/1000,RANDBETWEEN(1,9999)/100,RANDBETWEEN(1,999)/10,RANDBETWEEN(1,99))))","v":48},"litres","=",{"$f":"1000*C159","v":48000},"cm³"]
[{"$f":"IF(COUNTIF($B$1:B160,TRUE)=COUNTIF($B$1:B159,TRUE),\"\",COUNTIF($B$1:B160,TRUE))","v":""},{"$f":"IF(Worksheet!$D$10=3,FALSE,Worksheet!$D$18)","v":false},{"$f":"IF(Worksheet!$D$6=1,RANDBETWEEN(1,99),IF(Worksheet!$D$6=2,CHOOSE(RANDBETWEEN(1,2),RANDBETWEEN(1,99),RANDBETWEEN(1,999)/10),CHOOSE(RANDBETWEEN(1,4),RANDBETWEEN(1,99999)/1000,RANDBETWEEN(1,9999)/100,RANDBETWEEN(1,999)/10,RANDBETWEEN(1,99))))","v":11},"m²","=",{"$f":"10000*C160","v":110000},"cm²"]
[{"$f":"IF(COUNTIF($B$1:B161,TRUE)=COUNTIF($B$1:B160,TRUE),\"\",COUNTIF($B$1:B161,TRUE))","v":97},{"$f":"IF(Worksheet!$D$10=2,FALSE,Worksheet!$B$14)","v":true},{"$f":"10*F161","v":50},"mm","=",{"$f":"IF(Worksheet!$D$6=1,RANDBETWEEN(1,99),IF(Worksheet!$D$6=2,CHOOSE(RANDBETWEEN(1,2),RANDBETWEEN(1,99),RANDBETWEEN(1,999)/10),CHOOSE(RANDBETWEEN(1,4),RANDBETWEEN(1,99999)/1000,RANDBETWEEN(1,9999)/100,RANDBETWEEN(1,999)/10,RANDBETWEEN(1,99))))","v":5},"cm"]
[{"$f":"IF(COUNTIF($B$1:B162,TRUE)=COUNTIF($B$1:B161,TRUE),\"\",COUNTIF($B$1:B162,TRUE))","v":98},{"$f":"IF(Worksheet!$D$10=2,FALSE,Worksheet!$B$15)","v":true},{"$f":"100*F162","v":9300},"cm","=",{"$f":"IF(Worksheet!$D$6=1,RANDBETWEEN(1,99),IF(Worksheet!$D$6=2,CHOOSE(RANDBETWEEN(1,2),RANDBETWEEN(1,99),RANDBETWEEN(1,999)/10),CHOOSE(RANDBETWEEN(1,4),RANDBETWEEN(1,99999)/1000,RANDBETWEEN(1,9999)/100,RANDBETWEEN(1,999)/10,RANDBETWEEN(1,99))))","v":93},"m"]
[{"$f":"IF(COUNTIF($B$1:B163,TRUE)=COUNTIF($B$1:B162,TRUE),\"\",COUNTIF($B$1:B163,TRUE))","v":99},{"$f":"IF(Worksheet!$D$10=2,FALSE,Worksheet!$B$16)","v":true},{"$f":"1000*F163","v":34000},"m","=",{"$f":"IF(Worksheet!$D$6=1,RANDBETWEEN(1,99),IF(Worksheet!$D$6=2,CHOOSE(RANDBETWEEN(1,2),RANDBETWEEN(1,99),RANDBETWEEN(1,999)/10),CHOOSE(RANDBETWEEN(1,4),RANDBETWEEN(1,99999)/1000,RANDBETWEEN(1,9999)/100,RANDBETWEEN(1,999)/10,RANDBETWEEN(1,99))))","v":34},"km"]
[{"$f":"IF(COUNTIF($B$1:B164,TRUE)=COUNTIF($B$1:B163,TRUE),\"\",COUNTIF($B$1:B164,TRUE))","v":""},{"$f":"IF(Worksheet!$D$10=2,FALSE,Worksheet!$B$17)","v":false},{"$f":"1000*F164","v":91000},"mm","=",{"$f":"IF(Worksheet!$D$6=1,RANDBETWEEN(1,99),IF(Worksheet!$D$6=2,CHOOSE(RANDBETWEEN(1,2),RANDBETWEEN(1,99),RANDBETWEEN(1,999)/10),CHOOSE(RANDBETWEEN(1,4),RANDBETWEEN(1,99999)/1000,RANDBETWEEN(1,9999)/100,RANDBETWEEN(1,999)/10,RANDBETWEEN(1,99))))","v":91},"m"]
[{"$f":"IF(COUNTIF($B$1:B165,TRUE)=COUNTIF($B$1:B164,TRUE),\"\",COUNTIF($B$1:B165,TRUE))","v":""},{"$f":"IF(Worksheet!$D$10=2,FALSE,Worksheet!$B$18)","v":false},{"$f":"100*F165","v":800},"mm²","=",{"$f":"IF(Worksheet!$D$6=1,RANDBETWEEN(1,99),IF(Worksheet!$D$6=2,CHOOSE(RANDBETWEEN(1,2),RANDBETWEEN(1,99),RANDBETWEEN(1,999)/10),CHOOSE(RANDBETWEEN(1,4),RANDBETWEEN(1,99999)/1000,RANDBETWEEN(1,9999)/100,RANDBETWEEN(1,999)/10,RANDBETWEEN(1,99))))","v":8},"cm²"]
[{"$f":"IF(COUNTIF($B$1:B166,TRUE)=COUNTIF($B$1:B165,TRUE),\"\",COUNTIF($B$1:B166,TRUE))","v":100},{"$f":"IF(Worksheet!$D$10=2,FALSE,Worksheet!$D$14)","v":true},{"$f":"F166*1000","v":90000},"g","=",{"$f":"IF(Worksheet!$D$6=1,RANDBETWEEN(1,99),IF(Worksheet!$D$6=2,CHOOSE(RANDBETWEEN(1,2),RANDBETWEEN(1,99),RANDBETWEEN(1,999)/10),CHOOSE(RANDBETWEEN(1,4),RANDBETWEEN(1,99999)/1000,RANDBETWEEN(1,9999)/100,RANDBETWEEN(1,999)/10,RANDBETWEEN(1,99))))","v":90},"kg"]
[{"$f":"IF(COUNTIF($B$1:B167,TRUE)=COUNTIF($B$1:B166,TRUE),\"\",COUNTIF($B$1:B167,TRUE))","v":101},{"$f":"IF(Worksheet!$D$10=2,FALSE,Worksheet!$D$15)","v":true},{"$f":"F167*1000","v":21000},"kg","=",{"$f":"IF(Worksheet!$D$6=1,RANDBETWEEN(1,99),IF(Worksheet!$D$6=2,CHOOSE(RANDBETWEEN(1,2),RANDBETWEEN(1,99),RANDBETWEEN(1,999)/10),CHOOSE(RANDBETWEEN(1,4),RANDBETWEEN(1,99999)/1000,RANDBETWEEN(1,9999)/100,RANDBETWEEN(1,999)/10,RANDBETWEEN(1,99))))","v":21},"tonnes"]
[{"$f":"IF(COUNTIF($B$1:B168,TRUE)=COUNTIF($B$1:B167,TRUE),\"\",COUNTIF($B$1:B168,TRUE))","v":102},{"$f":"IF(Worksheet!$D$10=2,FALSE,Worksheet!$D$16)","v":true},{"$f":"1000*F168","v":29000},"ml","=",{"$f":"IF(Worksheet!$D$6=1,RANDBETWEEN(1,99),IF(Worksheet!$D$6=2,CHOOSE(RANDBETWEEN(1,2),RANDBETWEEN(1,99),RANDBETWEEN(1,999)/10),CHOOSE(RANDBETWEEN(1,4),RANDBETWEEN(1,99999)/1000,RANDBETWEEN(1,9999)/100,RANDBETWEEN(1,999)/10,RANDBETWEEN(1,99))))","v":29},"litres"]
[{"$f":"IF(COUNTIF($B$1:B169,TRUE)=COUNTIF($B$1:B168,TRUE),\"\",COUNTIF($B$1:B169,TRUE))","v":""},{"$f":"IF(Worksheet!$D$10=2,FALSE,Worksheet!$D$17)","v":false},{"$f":"1000*F169","v":64000},"cm³","=",{"$f":"IF(Worksheet!$D$6=1,RANDBETWEEN(1,99),IF(Worksheet!$D$6=2,CHOOSE(RANDBETWEEN(1,2),RANDBETWEEN(1,99),RANDBETWEEN(1,999)/10),CHOOSE(RANDBETWEEN(1,4),RANDBETWEEN(1,99999)/1000,RANDBETWEEN(1,9999)/100,RANDBETWEEN(1,999)/10,RANDBETWEEN(1,99))))","v":64},"litres"]
[{"$f":"IF(COUNTIF($B$1:B170,TRUE)=COUNTIF($B$1:B169,TRUE),\"\",COUNTIF($B$1:B170,TRUE))","v":""},{"$f":"IF(Worksheet!$D$10=2,FALSE,Worksheet!$D$18)","v":false},{"$f":"10000*F170","v":880000},"cm²","=",{"$f":"IF(Worksheet!$D$6=1,RANDBETWEEN(1,99),IF(Worksheet!$D$6=2,CHOOSE(RANDBETWEEN(1,2),RANDBETWEEN(1,99),RANDBETWEEN(1,999)/10),CHOOSE(RANDBETWEEN(1,4),RANDBETWEEN(1,99999)/1000,RANDBETWEEN(1,9999)/100,RANDBETWEEN(1,999)/10,RANDBETWEEN(1,99))))","v":88},"m²"]
[{"$f":"IF(COUNTIF($B$1:B171,TRUE)=COUNTIF($B$1:B170,TRUE),\"\",COUNTIF($B$1:B171,TRUE))","v":103},{"$f":"IF(Worksheet!$D$10=3,FALSE,Worksheet!$B$14)","v":true},{"$f":"IF(Worksheet!$D$6=1,RANDBETWEEN(1,99),IF(Worksheet!$D$6=2,CHOOSE(RANDBETWEEN(1,2),RANDBETWEEN(1,99),RANDBETWEEN(1,999)/10),CHOOSE(RANDBETWEEN(1,4),RANDBETWEEN(1,99999)/1000,RANDBETWEEN(1,9999)/100,RANDBETWEEN(1,999)/10,RANDBETWEEN(1,99))))","v":67},"cm","=",{"$f":"10*C171","v":670},"mm"]
[{"$f":"IF(COUNTIF($B$1:B172,TRUE)=COUNTIF($B$1:B171,TRUE),\"\",COUNTIF($B$1:B172,TRUE))","v":104},{"$f":"IF(Worksheet!$D$10=3,FALSE,Worksheet!$B$15)","v":true},{"$f":"IF(Worksheet!$D$6=1,RANDBETWEEN(1,99),IF(Worksheet!$D$6=2,CHOOSE(RANDBETWEEN(1,2),RANDBETWEEN(1,99),RANDBETWEEN(1,999)/10),CHOOSE(RANDBETWEEN(1,4),RANDBETWEEN(1,99999)/1000,RANDBETWEEN(1,9999)/100,RANDBETWEEN(1,999)/10,RANDBETWEEN(1,99))))","v":8},"m","=",{"$f":"100*C172","v":800},"cm"]
[{"$f":"IF(COUNTIF($B$1:B173,TRUE)=COUNTIF($B$1:B172,TRUE),\"\",COUNTIF($B$1:B173,TRUE))","v":105},{"$f":"IF(Worksheet!$D$10=3,FALSE,Worksheet!$B$16)","v":true},{"$f":"IF(Worksheet!$D$6=1,RANDBETWEEN(1,99),IF(Worksheet!$D$6=2,CHOOSE(RANDBETWEEN(1,2),RANDBETWEEN(1,99),RANDBETWEEN(1,999)/10),CHOOSE(RANDBETWEEN(1,4),RANDBETWEEN(1,99999)/1000,RANDBETWEEN(1,9999)/100,RANDBETWEEN(1,999)/10,RANDBETWEEN(1,99))))","v":6},"km","=",{"$f":"1000*C173","v":6000},"m"]
[{"$f":"IF(COUNTIF($B$1:B174,TRUE)=COUNTIF($B$1:B173,TRUE),\"\",COUNTIF($B$1:B174,TRUE))","v":""},{"$f":"IF(Worksheet!$D$10=3,FALSE,Worksheet!$B$17)","v":false},{"$f":"IF(Worksheet!$D$6=1,RANDBETWEEN(1,99),IF(Worksheet!$D$6=2,CHOOSE(RANDBETWEEN(1,2),RANDBETWEEN(1,99),RANDBETWEEN(1,999)/10),CHOOSE(RANDBETWEEN(1,4),RANDBETWEEN(1,99999)/1000,RANDBETWEEN(1,9999)/100,RANDBETWEEN(1,999)/10,RANDBETWEEN(1,99))))","v":77},"m",{"$f":"#REF!","v":{"$error":"#REF!"}},{"$f":"1000*C174","v":77000},"mm"]
[{"$f":"IF(COUNTIF($B$1:B175,TRUE)=COUNTIF($B$1:B174,TRUE),\"\",COUNTIF($B$1:B175,TRUE))","v":""},{"$f":"IF(Worksheet!$D$10=3,FALSE,Worksheet!$B$18)","v":false},{"$f":"IF(Worksheet!$D$6=1,RANDBETWEEN(1,99),IF(Worksheet!$D$6=2,CHOOSE(RANDBETWEEN(1,2),RANDBETWEEN(1,99),RANDBETWEEN(1,999)/10),CHOOSE(RANDBETWEEN(1,4),RANDBETWEEN(1,99999)/1000,RANDBETWEEN(1,9999)/100,RANDBETWEEN(1,999)/10,RANDBETWEEN(1,99))))","v":70},"cm²","=",{"$f":"C175*100","v":7000},"mm²"]
[{"$f":"IF(COUNTIF($B$1:B176,TRUE)=COUNTIF($B$1:B175,TRUE),\"\",COUNTIF($B$1:B176,TRUE))","v":106},{"$f":"IF(Worksheet!$D$10=3,FALSE,Worksheet!$D$14)","v":true},{"$f":"IF(Worksheet!$D$6=1,RANDBETWEEN(1,99),IF(Worksheet!$D$6=2,CHOOSE(RANDBETWEEN(1,2),RANDBETWEEN(1,99),RANDBETWEEN(1,999)/10),CHOOSE(RANDBETWEEN(1,4),RANDBETWEEN(1,99999)/1000,RANDBETWEEN(1,9999)/100,RANDBETWEEN(1,999)/10,RANDBETWEEN(1,99))))","v":67},"kg","=",{"$f":"1000*C176","v":67000},"g"]
[{"$f":"IF(COUNTIF($B$1:B177,TRUE)=COUNTIF($B$1:B176,TRUE),\"\",COUNTIF($B$1:B177,TRUE))","v":107},{"$f":"IF(Worksheet!$D$10=3,FALSE,Worksheet!$D$15)","v":true},{"$f":"IF(Worksheet!$D$6=1,RANDBETWEEN(1,99),IF(Worksheet!$D$6=2,CHOOSE(RANDBETWEEN(1,2),RANDBETWEEN(1,99),RANDBETWEEN(1,999)/10),CHOOSE(RANDBETWEEN(1,4),RANDBETWEEN(1,99999)/1000,RANDBETWEEN(1,9999)/100,RANDBETWEEN(1,999)/10,RANDBETWEEN(1,99))))","v":42},"tonnes","=",{"$f":"1000*C177","v":42000},"kg"]
[{"$f":"IF(COUNTIF($B$1:B178,TRUE)=COUNTIF($B$1:B177,TRUE),\"\",COUNTIF($B$1:B178,TRUE))","v":108},{"$f":"IF(Worksheet!$D$10=3,FALSE,Worksheet!$D$16)","v":true},{"$f":"IF(Worksheet!$D$6=1,RANDBETWEEN(1,99),IF(Worksheet!$D$6=2,CHOOSE(RANDBETWEEN(1,2),RANDBETWEEN(1,99),RANDBETWEEN(1,999)/10),CHOOSE(RANDBETWEEN(1,4),RANDBETWEEN(1,99999)/1000,RANDBETWEEN(1,9999)/100,RANDBETWEEN(1,999)/10,RANDBETWEEN(1,99))))","v":52},"litres","=",{"$f":"1000*C178","v":52000},"ml"]
[{"$f":"IF(COUNTIF($B$1:B179,TRUE)=COUNTIF($B$1:B178,TRUE),\"\",COUNTIF($B$1:B179,TRUE))","v":""},{"$f":"IF(Worksheet!$D$10=3,FALSE,Worksheet!$D$17)","v":false},{"$f":"IF(Worksheet!$D$6=1,RANDBETWEEN(1,99),IF(Worksheet!$D$6=2,CHOOSE(RANDBETWEEN(1,2),RANDBETWEEN(1,99),RANDBETWEEN(1,999)/10),CHOOSE(RANDBETWEEN(1,4),RANDBETWEEN(1,99999)/1000,RANDBETWEEN(1,9999)/100,RANDBETWEEN(1,999)/10,RANDBETWEEN(1,99))))","v":75},"litres","=",{"$f":"1000*C179","v":75000},"cm³"]
[{"$f":"IF(COUNTIF($B$1:B180,TRUE)=COUNTIF($B$1:B179,TRUE),\"\",COUNTIF($B$1:B180,TRUE))","v":""},{"$f":"IF(Worksheet!$D$10=3,FALSE,Worksheet!$D$18)","v":false},{"$f":"IF(Worksheet!$D$6=1,RANDBETWEEN(1,99),IF(Worksheet!$D$6=2,CHOOSE(RANDBETWEEN(1,2),RANDBETWEEN(1,99),RANDBETWEEN(1,999)/10),CHOOSE(RANDBETWEEN(1,4),RANDBETWEEN(1,99999)/1000,RANDBETWEEN(1,9999)/100,RANDBETWEEN(1,999)/10,RANDBETWEEN(1,99))))","v":5},"m²","=",{"$f":"10000*C180","v":50000},"cm²"]
[{"$f":"IF(COUNTIF($B$1:B181,TRUE)=COUNTIF($B$1:B180,TRUE),\"\",COUNTIF($B$1:B181,TRUE))","v":109},{"$f":"IF(Worksheet!$D$10=2,FALSE,Worksheet!$B$14)","v":true},{"$f":"10*F181","v":700},"mm","=",{"$f":"IF(Worksheet!$D$6=1,RANDBETWEEN(1,99),IF(Worksheet!$D$6=2,CHOOSE(RANDBETWEEN(1,2),RANDBETWEEN(1,99),RANDBETWEEN(1,999)/10),CHOOSE(RANDBETWEEN(1,4),RANDBETWEEN(1,99999)/1000,RANDBETWEEN(1,9999)/100,RANDBETWEEN(1,999)/10,RANDBETWEEN(1,99))))","v":70},"cm"]
[{"$f":"IF(COUNTIF($B$1:B182,TRUE)=COUNTIF($B$1:B181,TRUE),\"\",COUNTIF($B$1:B182,TRUE))","v":110},{"$f":"IF(Worksheet!$D$10=2,FALSE,Worksheet!$B$15)","v":true},{"$f":"100*F182","v":1900},"cm","=",{"$f":"IF(Worksheet!$D$6=1,RANDBETWEEN(1,99),IF(Worksheet!$D$6=2,CHOOSE(RANDBETWEEN(1,2),RANDBETWEEN(1,99),RANDBETWEEN(1,999)/10),CHOOSE(RANDBETWEEN(1,4),RANDBETWEEN(1,99999)/1000,RANDBETWEEN(1,9999)/100,RANDBETWEEN(1,999)/10,RANDBETWEEN(1,99))))","v":19},"m"]
[{"$f":"IF(COUNTIF($B$1:B183,TRUE)=COUNTIF($B$1:B182,TRUE),\"\",COUNTIF($B$1:B183,TRUE))","v":111},{"$f":"IF(Worksheet!$D$10=2,FALSE,Worksheet!$B$16)","v":true},{"$f":"1000*F183","v":37000},"m","=",{"$f":"IF(Worksheet!$D$6=1,RANDBETWEEN(1,99),IF(Worksheet!$D$6=2,CHOOSE(RANDBETWEEN(1,2),RANDBETWEEN(1,99),RANDBETWEEN(1,999)/10),CHOOSE(RANDBETWEEN(1,4),RANDBETWEEN(1,99999)/1000,RANDBETWEEN(1,9999)/100,RANDBETWEEN(1,999)/10,RANDBETWEEN(1,99))))","v":37},"km"]
[{"$f":"IF(COUNTIF($B$1:B184,TRUE)=COUNTIF($B$1:B183,TRUE),\"\",COUNTIF($B$1:B184,TRUE))","v":""},{"$f":"IF(Worksheet!$D$10=2,FALSE,Worksheet!$B$17)","v":false},{"$f":"1000*F184","v":78000},"mm","=",{"$f":"IF(Worksheet!$D$6=1,RANDBETWEEN(1,99),IF(Worksheet!$D$6=2,CHOOSE(RANDBETWEEN(1,2),RANDBETWEEN(1,99),RANDBETWEEN(1,999)/10),CHOOSE(RANDBETWEEN(1,4),RANDBETWEEN(1,99999)/1000,RANDBETWEEN(1,9999)/100,RANDBETWEEN(1,999)/10,RANDBETWEEN(1,99))))","v":78},"m"]
[{"$f":"IF(COUNTIF($B$1:B185,TRUE)=COUNTIF($B$1:B184,TRUE),\"\",COUNTIF($B$1:B185,TRUE))","v":""},{"$f":"IF(Worksheet!$D$10=2,FALSE,Worksheet!$B$18)","v":false},{"$f":"100*F185","v":2400},"mm²","=",{"$f":"IF(Worksheet!$D$6=1,RANDBETWEEN(1,99),IF(Worksheet!$D$6=2,CHOOSE(RANDBETWEEN(1,2),RANDBETWEEN(1,99),RANDBETWEEN(1,999)/10),CHOOSE(RANDBETWEEN(1,4),RANDBETWEEN(1,99999)/1000,RANDBETWEEN(1,9999)/100,RANDBETWEEN(1,999)/10,RANDBETWEEN(1,99))))","v":24},"cm²"]
[{"$f":"IF(COUNTIF($B$1:B186,TRUE)=COUNTIF($B$1:B185,TRUE),\"\",COUNTIF($B$1:B186,TRUE))","v":112},{"$f":"IF(Worksheet!$D$10=2,FALSE,Worksheet!$D$14)","v":true},{"$f":"F186*1000","v":32000},"g","=",{"$f":"IF(Worksheet!$D$6=1,RANDBETWEEN(1,99),IF(Worksheet!$D$6=2,CHOOSE(RANDBETWEEN(1,2),RANDBETWEEN(1,99),RANDBETWEEN(1,999)/10),CHOOSE(RANDBETWEEN(1,4),RANDBETWEEN(1,99999)/1000,RANDBETWEEN(1,9999)/100,RANDBETWEEN(1,999)/10,RANDBETWEEN(1,99))))","v":32},"kg"]
[{"$f":"IF(COUNTIF($B$1:B187,TRUE)=COUNTIF($B$1:B186,TRUE),\"\",COUNTIF($B$1:B187,TRUE))","v":113},{"$f":"IF(Worksheet!$D$10=2,FALSE,Worksheet!$D$15)","v":true},{"$f":"F187*1000","v":51000},"kg","=",{"$f":"IF(Worksheet!$D$6=1,RANDBETWEEN(1,99),IF(Worksheet!$D$6=2,CHOOSE(RANDBETWEEN(1,2),RANDBETWEEN(1,99),RANDBETWEEN(1,999)/10),CHOOSE(RANDBETWEEN(1,4),RANDBETWEEN(1,99999)/1000,RANDBETWEEN(1,9999)/100,RANDBETWEEN(1,999)/10,RANDBETWEEN(1,99))))","v":51},"tonnes"]
[{"$f":"IF(COUNTIF($B$1:B188,TRUE)=COUNTIF($B$1:B187,TRUE),\"\",COUNTIF($B$1:B188,TRUE))","v":114},{"$f":"IF(Worksheet!$D$10=2,FALSE,Worksheet!$D$16)","v":true},{"$f":"1000*F188","v":79000},"ml","=",{"$f":"IF(Worksheet!$D$6=1,RANDBETWEEN(1,99),IF(Worksheet!$D$6=2,CHOOSE(RANDBETWEEN(1,2),RANDBETWEEN(1,99),RANDBETWEEN(1,999)/10),CHOOSE(RANDBETWEEN(1,4),RANDBETWEEN(1,99999)/1000,RANDBETWEEN(1,9999)/100,RANDBETWEEN(1,999)/10,RANDBETWEEN(1,99))))","v":79},"litres"]
[{"$f":"IF(COUNTIF($B$1:B189,TRUE)=COUNTIF($B$1:B188,TRUE),\"\",COUNTIF($B$1:B189,TRUE))","v":""},{"$f":"IF(Worksheet!$D$10=2,FALSE,Worksheet!$D$17)","v":false},{"$f":"1000*F189","v":64000},"cm³","=",{"$f":"IF(Worksheet!$D$6=1,RANDBETWEEN(1,99),IF(Worksheet!$D$6=2,CHOOSE(RANDBETWEEN(1,2),RANDBETWEEN(1,99),RANDBETWEEN(1,999)/10),CHOOSE(RANDBETWEEN(1,4),RANDBETWEEN(1,99999)/1000,RANDBETWEEN(1,9999)/100,RANDBETWEEN(1,999)/10,RANDBETWEEN(1,99))))","v":64},"litres"]
[{"$f":"IF(COUNTIF($B$1:B190,TRUE)=COUNTIF($B$1:B189,TRUE),\"\",COUNTIF($B$1:B190,TRUE))","v":""},{"$f":"IF(Worksheet!$D$10=2,FALSE,Worksheet!$D$18)","v":false},{"$f":"10000*F190","v":730000},"cm²","=",{"$f":"IF(Worksheet!$D$6=1,RANDBETWEEN(1,99),IF(Worksheet!$D$6=2,CHOOSE(RANDBETWEEN(1,2),RANDBETWEEN(1,99),RANDBETWEEN(1,999)/10),CHOOSE(RANDBETWEEN(1,4),RANDBETWEEN(1,99999)/1000,RANDBETWEEN(1,9999)/100,RANDBETWEEN(1,999)/10,RANDBETWEEN(1,99))))","v":73},"m²"]
[{"$f":"IF(COUNTIF($B$1:B191,TRUE)=COUNTIF($B$1:B190,TRUE),\"\",COUNTIF($B$1:B191,TRUE))","v":115},{"$f":"IF(Worksheet!$D$10=3,FALSE,Worksheet!$B$14)","v":true},{"$f":"IF(Worksheet!$D$6=1,RANDBETWEEN(1,99),IF(Worksheet!$D$6=2,CHOOSE(RANDBETWEEN(1,2),RANDBETWEEN(1,99),RANDBETWEEN(1,999)/10),CHOOSE(RANDBETWEEN(1,4),RANDBETWEEN(1,99999)/1000,RANDBETWEEN(1,9999)/100,RANDBETWEEN(1,999)/10,RANDBETWEEN(1,99))))","v":75},"cm","=",{"$f":"10*C191","v":750},"mm"]
[{"$f":"IF(COUNTIF($B$1:B192,TRUE)=COUNTIF($B$1:B191,TRUE),\"\",COUNTIF($B$1:B192,TRUE))","v":116},{"$f":"IF(Worksheet!$D$10=3,FALSE,Worksheet!$B$15)","v":true},{"$f":"IF(Worksheet!$D$6=1,RANDBETWEEN(1,99),IF(Worksheet!$D$6=2,CHOOSE(RANDBETWEEN(1,2),RANDBETWEEN(1,99),RANDBETWEEN(1,999)/10),CHOOSE(RANDBETWEEN(1,4),RANDBETWEEN(1,99999)/1000,RANDBETWEEN(1,9999)/100,RANDBETWEEN(1,999)/10,RANDBETWEEN(1,99))))","v":7},"m","=",{"$f":"100*C192","v":700},"cm"]
[{"$f":"IF(COUNTIF($B$1:B193,TRUE)=COUNTIF($B$1:B192,TRUE),\"\",COUNTIF($B$1:B193,TRUE))","v":117},{"$f":"IF(Worksheet!$D$10=3,FALSE,Worksheet!$B$16)","v":true},{"$f":"IF(Worksheet!$D$6=1,RANDBETWEEN(1,99),IF(Worksheet!$D$6=2,CHOOSE(RANDBETWEEN(1,2),RANDBETWEEN(1,99),RANDBETWEEN(1,999)/10),CHOOSE(RANDBETWEEN(1,4),RANDBETWEEN(1,99999)/1000,RANDBETWEEN(1,9999)/100,RANDBETWEEN(1,999)/10,RANDBETWEEN(1,99))))","v":43},"km","=",{"$f":"1000*C193","v":43000},"m"]
[{"$f":"IF(COUNTIF($B$1:B194,TRUE)=COUNTIF($B$1:B193,TRUE),\"\",COUNTIF($B$1:B194,TRUE))","v":""},{"$f":"IF(Worksheet!$D$10=3,FALSE,Worksheet!$B$17)","v":false},{"$f":"IF(Worksheet!$D$6=1,RANDBETWEEN(1,99),IF(Worksheet!$D$6=2,CHOOSE(RANDBETWEEN(1,2),RANDBETWEEN(1,99),RANDBETWEEN(1,999)/10),CHOOSE(RANDBETWEEN(1,4),RANDBETWEEN(1,99999)/1000,RANDBETWEEN(1,9999)/100,RANDBETWEEN(1,999)/10,RANDBETWEEN(1,99))))","v":99},"m",{"$f":"#REF!","v":{"$error":"#REF!"}},{"$f":"1000*C194","v":99000},"mm"]
[{"$f":"IF(COUNTIF($B$1:B195,TRUE)=COUNTIF($B$1:B194,TRUE),\"\",COUNTIF($B$1:B195,TRUE))","v":""},{"$f":"IF(Worksheet!$D$10=3,FALSE,Worksheet!$B$18)","v":false},{"$f":"IF(Worksheet!$D$6=1,RANDBETWEEN(1,99),IF(Worksheet!$D$6=2,CHOOSE(RANDBETWEEN(1,2),RANDBETWEEN(1,99),RANDBETWEEN(1,999)/10),CHOOSE(RANDBETWEEN(1,4),RANDBETWEEN(1,99999)/1000,RANDBETWEEN(1,9999)/100,RANDBETWEEN(1,999)/10,RANDBETWEEN(1,99))))","v":32},"cm²","=",{"$f":"C195*100","v":3200},"mm²"]
[{"$f":"IF(COUNTIF($B$1:B196,TRUE)=COUNTIF($B$1:B195,TRUE),\"\",COUNTIF($B$1:B196,TRUE))","v":118},{"$f":"IF(Worksheet!$D$10=3,FALSE,Worksheet!$D$14)","v":true},{"$f":"IF(Worksheet!$D$6=1,RANDBETWEEN(1,99),IF(Worksheet!$D$6=2,CHOOSE(RANDBETWEEN(1,2),RANDBETWEEN(1,99),RANDBETWEEN(1,999)/10),CHOOSE(RANDBETWEEN(1,4),RANDBETWEEN(1,99999)/1000,RANDBETWEEN(1,9999)/100,RANDBETWEEN(1,999)/10,RANDBETWEEN(1,99))))","v":22},"kg","=",{"$f":"1000*C196","v":22000},"g"]
[{"$f":"IF(COUNTIF($B$1:B197,TRUE)=COUNTIF($B$1:B196,TRUE),\"\",COUNTIF($B$1:B197,TRUE))","v":119},{"$f":"IF(Worksheet!$D$10=3,FALSE,Worksheet!$D$15)","v":true},{"$f":"IF(Worksheet!$D$6=1,RANDBETWEEN(1,99),IF(Worksheet!$D$6=2,CHOOSE(RANDBETWEEN(1,2),RANDBETWEEN(1,99),RANDBETWEEN(1,999)/10),CHOOSE(RANDBETWEEN(1,4),RANDBETWEEN(1,99999)/1000,RANDBETWEEN(1,9999)/100,RANDBETWEEN(1,999)/10,RANDBETWEEN(1,99))))","v":51},"tonnes","=",{"$f":"1000*C197","v":51000},"kg"]
[{"$f":"IF(COUNTIF($B$1:B198,TRUE)=COUNTIF($B$1:B197,TRUE),\"\",COUNTIF($B$1:B198,TRUE))","v":120},{"$f":"IF(Worksheet!$D$10=3,FALSE,Worksheet!$D$16)","v":true},{"$f":"IF(Worksheet!$D$6=1,RANDBETWEEN(1,99),IF(Worksheet!$D$6=2,CHOOSE(RANDBETWEEN(1,2),RANDBETWEEN(1,99),RANDBETWEEN(1,999)/10),CHOOSE(RANDBETWEEN(1,4),RANDBETWEEN(1,99999)/1000,RANDBETWEEN(1,9999)/100,RANDBETWEEN(1,999)/10,RANDBETWEEN(1,99))))","v":25},"litres","=",{"$f":"1000*C198","v":25000},"ml"]
[{"$f":"IF(COUNTIF($B$1:B199,TRUE)=COUNTIF($B$1:B198,TRUE),\"\",COUNTIF($B$1:B199,TRUE))","v":""},{"$f":"IF(Worksheet!$D$10=3,FALSE,Worksheet!$D$17)","v":false},{"$f":"IF(Worksheet!$D$6=1,RANDBETWEEN(1,99),IF(Worksheet!$D$6=2,CHOOSE(RANDBETWEEN(1,2),RANDBETWEEN(1,99),RANDBETWEEN(1,999)/10),CHOOSE(RANDBETWEEN(1,4),RANDBETWEEN(1,99999)/1000,RANDBETWEEN(1,9999)/100,RANDBETWEEN(1,999)/10,RANDBETWEEN(1,99))))","v":2},"litres","=",{"$f":"1000*C199","v":2000},"cm³"]
[{"$f":"IF(COUNTIF($B$1:B200,TRUE)=COUNTIF($B$1:B199,TRUE),\"\",COUNTIF($B$1:B200,TRUE))","v":""},{"$f":"IF(Worksheet!$D$10=3,FALSE,Worksheet!$D$18)","v":false},{"$f":"IF(Worksheet!$D$6=1,RANDBETWEEN(1,99),IF(Worksheet!$D$6=2,CHOOSE(RANDBETWEEN(1,2),RANDBETWEEN(1,99),RANDBETWEEN(1,999)/10),CHOOSE(RANDBETWEEN(1,4),RANDBETWEEN(1,99999)/1000,RANDBETWEEN(1,9999)/100,RANDBETWEEN(1,999)/10,RANDBETWEEN(1,99))))","v":14},"m²","=",{"$f":"10000*C200","v":140000},"cm²"]
[{"$f":"IF(COUNTIF($B$1:B201,TRUE)=COUNTIF($B$1:B200,TRUE),\"\",COUNTIF($B$1:B201,TRUE))","v":121},{"$f":"IF(Worksheet!$D$10=2,FALSE,Worksheet!$B$14)","v":true},{"$f":"10*F201","v":720},"mm","=",{"$f":"IF(Worksheet!$D$6=1,RANDBETWEEN(1,99),IF(Worksheet!$D$6=2,CHOOSE(RANDBETWEEN(1,2),RANDBETWEEN(1,99),RANDBETWEEN(1,999)/10),CHOOSE(RANDBETWEEN(1,4),RANDBETWEEN(1,99999)/1000,RANDBETWEEN(1,9999)/100,RANDBETWEEN(1,999)/10,RANDBETWEEN(1,99))))","v":72},"cm"]
[{"$f":"IF(COUNTIF($B$1:B202,TRUE)=COUNTIF($B$1:B201,TRUE),\"\",COUNTIF($B$1:B202,TRUE))","v":122},{"$f":"IF(Worksheet!$D$10=2,FALSE,Worksheet!$B$15)","v":true},{"$f":"100*F202","v":7200},"cm","=",{"$f":"IF(Worksheet!$D$6=1,RANDBETWEEN(1,99),IF(Worksheet!$D$6=2,CHOOSE(RANDBETWEEN(1,2),RANDBETWEEN(1,99),RANDBETWEEN(1,999)/10),CHOOSE(RANDBETWEEN(1,4),RANDBETWEEN(1,99999)/1000,RANDBETWEEN(1,9999)/100,RANDBETWEEN(1,999)/10,RANDBETWEEN(1,99))))","v":72},"m"]
[{"$f":"IF(COUNTIF($B$1:B203,TRUE)=COUNTIF($B$1:B202,TRUE),\"\",COUNTIF($B$1:B203,TRUE))","v":123},{"$f":"IF(Worksheet!$D$10=2,FALSE,Worksheet!$B$16)","v":true},{"$f":"1000*F203","v":28000},"m","=",{"$f":"IF(Worksheet!$D$6=1,RANDBETWEEN(1,99),IF(Worksheet!$D$6=2,CHOOSE(RANDBETWEEN(1,2),RANDBETWEEN(1,99),RANDBETWEEN(1,999)/10),CHOOSE(RANDBETWEEN(1,4),RANDBETWEEN(1,99999)/1000,RANDBETWEEN(1,9999)/100,RANDBETWEEN(1,999)/10,RANDBETWEEN(1,99))))","v":28},"km"]
[{"$f":"IF(COUNTIF($B$1:B204,TRUE)=COUNTIF($B$1:B203,TRUE),\"\",COUNTIF($B$1:B204,TRUE))","v":""},{"$f":"IF(Worksheet!$D$10=2,FALSE,Worksheet!$B$17)","v":false},{"$f":"1000*F204","v":16000},"mm","=",{"$f":"IF(Worksheet!$D$6=1,RANDBETWEEN(1,99),IF(Worksheet!$D$6=2,CHOOSE(RANDBETWEEN(1,2),RANDBETWEEN(1,99),RANDBETWEEN(1,999)/10),CHOOSE(RANDBETWEEN(1,4),RANDBETWEEN(1,99999)/1000,RANDBETWEEN(1,9999)/100,RANDBETWEEN(1,999)/10,RANDBETWEEN(1,99))))","v":16},"m"]
[{"$f":"IF(COUNTIF($B$1:B205,TRUE)=COUNTIF($B$1:B204,TRUE),\"\",COUNTIF($B$1:B205,TRUE))","v":""},{"$f":"IF(Worksheet!$D$10=2,FALSE,Worksheet!$B$18)","v":false},{"$f":"100*F205","v":2200},"mm²","=",{"$f":"IF(Worksheet!$D$6=1,RANDBETWEEN(1,99),IF(Worksheet!$D$6=2,CHOOSE(RANDBETWEEN(1,2),RANDBETWEEN(1,99),RANDBETWEEN(1,999)/10),CHOOSE(RANDBETWEEN(1,4),RANDBETWEEN(1,99999)/1000,RANDBETWEEN(1,9999)/100,RANDBETWEEN(1,999)/10,RANDBETWEEN(1,99))))","v":22},"cm²"]
[{"$f":"IF(COUNTIF($B$1:B206,TRUE)=COUNTIF($B$1:B205,TRUE),\"\",COUNTIF($B$1:B206,TRUE))","v":124},{"$f":"IF(Worksheet!$D$10=2,FALSE,Worksheet!$D$14)","v":true},{"$f":"F206*1000","v":18000},"g","=",{"$f":"IF(Worksheet!$D$6=1,RANDBETWEEN(1,99),IF(Worksheet!$D$6=2,CHOOSE(RANDBETWEEN(1,2),RANDBETWEEN(1,99),RANDBETWEEN(1,999)/10),CHOOSE(RANDBETWEEN(1,4),RANDBETWEEN(1,99999)/1000,RANDBETWEEN(1,9999)/100,RANDBETWEEN(1,999)/10,RANDBETWEEN(1,99))))","v":18},"kg"]
[{"$f":"IF(COUNTIF($B$1:B207,TRUE)=COUNTIF($B$1:B206,TRUE),\"\",COUNTIF($B$1:B207,TRUE))","v":125},{"$f":"IF(Worksheet!$D$10=2,FALSE,Worksheet!$D$15)","v":true},{"$f":"F207*1000","v":3000},"kg","=",{"$f":"IF(Worksheet!$D$6=1,RANDBETWEEN(1,99),IF(Worksheet!$D$6=2,CHOOSE(RANDBETWEEN(1,2),RANDBETWEEN(1,99),RANDBETWEEN(1,999)/10),CHOOSE(RANDBETWEEN(1,4),RANDBETWEEN(1,99999)/1000,RANDBETWEEN(1,9999)/100,RANDBETWEEN(1,999)/10,RANDBETWEEN(1,99))))","v":3},"tonnes"]
[{"$f":"IF(COUNTIF($B$1:B208,TRUE)=COUNTIF($B$1:B207,TRUE),\"\",COUNTIF($B$1:B208,TRUE))","v":126},{"$f":"IF(Worksheet!$D$10=2,FALSE,Worksheet!$D$16)","v":true},{"$f":"1000*F208","v":45000},"ml","=",{"$f":"IF(Worksheet!$D$6=1,RANDBETWEEN(1,99),IF(Worksheet!$D$6=2,CHOOSE(RANDBETWEEN(1,2),RANDBETWEEN(1,99),RANDBETWEEN(1,999)/10),CHOOSE(RANDBETWEEN(1,4),RANDBETWEEN(1,99999)/1000,RANDBETWEEN(1,9999)/100,RANDBETWEEN(1,999)/10,RANDBETWEEN(1,99))))","v":45},"litres"]
[{"$f":"IF(COUNTIF($B$1:B209,TRUE)=COUNTIF($B$1:B208,TRUE),\"\",COUNTIF($B$1:B209,TRUE))","v":""},{"$f":"IF(Worksheet!$D$10=2,FALSE,Worksheet!$D$17)","v":false},{"$f":"1000*F209","v":16000},"cm³","=",{"$f":"IF(Worksheet!$D$6=1,RANDBETWEEN(1,99),IF(Worksheet!$D$6=2,CHOOSE(RANDBETWEEN(1,2),RANDBETWEEN(1,99),RANDBETWEEN(1,999)/10),CHOOSE(RANDBETWEEN(1,4),RANDBETWEEN(1,99999)/1000,RANDBETWEEN(1,9999)/100,RANDBETWEEN(1,999)/10,RANDBETWEEN(1,99))))","v":16},"litres"]
[{"$f":"IF(COUNTIF($B$1:B210,TRUE)=COUNTIF($B$1:B209,TRUE),\"\",COUNTIF($B$1:B210,TRUE))","v":""},{"$f":"IF(Worksheet!$D$10=2,FALSE,Worksheet!$D$18)","v":false},{"$f":"10000*F210","v":580000},"cm²","=",{"$f":"IF(Worksheet!$D$6=1,RANDBETWEEN(1,99),IF(Worksheet!$D$6=2,CHOOSE(RANDBETWEEN(1,2),RANDBETWEEN(1,99),RANDBETWEEN(1,999)/10),CHOOSE(RANDBETWEEN(1,4),RANDBETWEEN(1,99999)/1000,RANDBETWEEN(1,9999)/100,RANDBETWEEN(1,999)/10,RANDBETWEEN(1,99))))","v":58},"m²"]
[{"$f":"IF(COUNTIF($B$1:B211,TRUE)=COUNTIF($B$1:B210,TRUE),\"\",COUNTIF($B$1:B211,TRUE))","v":127},{"$f":"IF(Worksheet!$D$10=3,FALSE,Worksheet!$B$14)","v":true},{"$f":"IF(Worksheet!$D$6=1,RANDBETWEEN(1,99),IF(Worksheet!$D$6=2,CHOOSE(RANDBETWEEN(1,2),RANDBETWEEN(1,99),RANDBETWEEN(1,999)/10),CHOOSE(RANDBETWEEN(1,4),RANDBETWEEN(1,99999)/1000,RANDBETWEEN(1,9999)/100,RANDBETWEEN(1,999)/10,RANDBETWEEN(1,99))))","v":61},"cm","=",{"$f":"10*C211","v":610},"mm"]
[{"$f":"IF(COUNTIF($B$1:B212,TRUE)=COUNTIF($B$1:B211,TRUE),\"\",COUNTIF($B$1:B212,TRUE))","v":128},{"$f":"IF(Worksheet!$D$10=3,FALSE,Worksheet!$B$15)","v":true},{"$f":"IF(Worksheet!$D$6=1,RANDBETWEEN(1,99),IF(Worksheet!$D$6=2,CHOOSE(RANDBETWEEN(1,2),RANDBETWEEN(1,99),RANDBETWEEN(1,999)/10),CHOOSE(RANDBETWEEN(1,4),RANDBETWEEN(1,99999)/1000,RANDBETWEEN(1,9999)/100,RANDBETWEEN(1,999)/10,RANDBETWEEN(1,99))))","v":4},"m","=",{"$f":"100*C212","v":400},"cm"]
[{"$f":"IF(COUNTIF($B$1:B213,TRUE)=COUNTIF($B$1:B212,TRUE),\"\",COUNTIF($B$1:B213,TRUE))","v":129},{"$f":"IF(Worksheet!$D$10=3,FALSE,Worksheet!$B$16)","v":true},{"$f":"IF(Worksheet!$D$6=1,RANDBETWEEN(1,99),IF(Worksheet!$D$6=2,CHOOSE(RANDBETWEEN(1,2),RANDBETWEEN(1,99),RANDBETWEEN(1,999)/10),CHOOSE(RANDBETWEEN(1,4),RANDBETWEEN(1,99999)/1000,RANDBETWEEN(1,9999)/100,RANDBETWEEN(1,999)/10,RANDBETWEEN(1,99))))","v":69},"km","=",{"$f":"1000*C213","v":69000},"m"]
[{"$f":"IF(COUNTIF($B$1:B214,TRUE)=COUNTIF($B$1:B213,TRUE),\"\",COUNTIF($B$1:B214,TRUE))","v":""},{"$f":"IF(Worksheet!$D$10=3,FALSE,Worksheet!$B$17)","v":false},{"$f":"IF(Worksheet!$D$6=1,RANDBETWEEN(1,99),IF(Worksheet!$D$6=2,CHOOSE(RANDBETWEEN(1,2),RANDBETWEEN(1,99),RANDBETWEEN(1,999)/10),CHOOSE(RANDBETWEEN(1,4),RANDBETWEEN(1,99999)/1000,RANDBETWEEN(1,9999)/100,RANDBETWEEN(1,999)/10,RANDBETWEEN(1,99))))","v":57},"m",{"$f":"#REF!","v":{"$error":"#REF!"}},{"$f":"1000*C214","v":57000},"mm"]
[{"$f":"IF(COUNTIF($B$1:B215,TRUE)=COUNTIF($B$1:B214,TRUE),\"\",COUNTIF($B$1:B215,TRUE))","v":""},{"$f":"IF(Worksheet!$D$10=3,FALSE,Worksheet!$B$18)","v":false},{"$f":"IF(Worksheet!$D$6=1,RANDBETWEEN(1,99),IF(Worksheet!$D$6=2,CHOOSE(RANDBETWEEN(1,2),RANDBETWEEN(1,99),RANDBETWEEN(1,999)/10),CHOOSE(RANDBETWEEN(1,4),RANDBETWEEN(1,99999)/1000,RANDBETWEEN(1,9999)/100,RANDBETWEEN(1,999)/10,RANDBETWEEN(1,99))))","v":83},"cm²","=",{"$f":"C215*100","v":8300},"mm²"]
[{"$f":"IF(COUNTIF($B$1:B216,TRUE)=COUNTIF($B$1:B215,TRUE),\"\",COUNTIF($B$1:B216,TRUE))","v":130},{"$f":"IF(Worksheet!$D$10=3,FALSE,Worksheet!$D$14)","v":true},{"$f":"IF(Worksheet!$D$6=1,RANDBETWEEN(1,99),IF(Worksheet!$D$6=2,CHOOSE(RANDBETWEEN(1,2),RANDBETWEEN(1,99),RANDBETWEEN(1,999)/10),CHOOSE(RANDBETWEEN(1,4),RANDBETWEEN(1,99999)/1000,RANDBETWEEN(1,9999)/100,RANDBETWEEN(1,999)/10,RANDBETWEEN(1,99))))","v":93},"kg","=",{"$f":"1000*C216","v":93000},"g"]
[{"$f":"IF(COUNTIF($B$1:B217,TRUE)=COUNTIF($B$1:B216,TRUE),\"\",COUNTIF($B$1:B217,TRUE))","v":131},{"$f":"IF(Worksheet!$D$10=3,FALSE,Worksheet!$D$15)","v":true},{"$f":"IF(Worksheet!$D$6=1,RANDBETWEEN(1,99),IF(Worksheet!$D$6=2,CHOOSE(RANDBETWEEN(1,2),RANDBETWEEN(1,99),RANDBETWEEN(1,999)/10),CHOOSE(RANDBETWEEN(1,4),RANDBETWEEN(1,99999)/1000,RANDBETWEEN(1,9999)/100,RANDBETWEEN(1,999)/10,RANDBETWEEN(1,99))))","v":88},"tonnes","=",{"$f":"1000*C217","v":88000},"kg"]
[{"$f":"IF(COUNTIF($B$1:B218,TRUE)=COUNTIF($B$1:B217,TRUE),\"\",COUNTIF($B$1:B218,TRUE))","v":132},{"$f":"IF(Worksheet!$D$10=3,FALSE,Worksheet!$D$16)","v":true},{"$f":"IF(Worksheet!$D$6=1,RANDBETWEEN(1,99),IF(Worksheet!$D$6=2,CHOOSE(RANDBETWEEN(1,2),RANDBETWEEN(1,99),RANDBETWEEN(1,999)/10),CHOOSE(RANDBETWEEN(1,4),RANDBETWEEN(1,99999)/1000,RANDBETWEEN(1,9999)/100,RANDBETWEEN(1,999)/10,RANDBETWEEN(1,99))))","v":33},"litres","=",{"$f":"1000*C218","v":33000},"ml"]
[{"$f":"IF(COUNTIF($B$1:B219,TRUE)=COUNTIF($B$1:B218,TRUE),\"\",COUNTIF($B$1:B219,TRUE))","v":""},{"$f":"IF(Worksheet!$D$10=3,FALSE,Worksheet!$D$17)","v":false},{"$f":"IF(Worksheet!$D$6=1,RANDBETWEEN(1,99),IF(Worksheet!$D$6=2,CHOOSE(RANDBETWEEN(1,2),RANDBETWEEN(1,99),RANDBETWEEN(1,999)/10),CHOOSE(RANDBETWEEN(1,4),RANDBETWEEN(1,99999)/1000,RANDBETWEEN(1,9999)/100,RANDBETWEEN(1,999)/10,RANDBETWEEN(1,99))))","v":53},"litres","=",{"$f":"1000*C219","v":53000},"cm³"]
[{"$f":"IF(COUNTIF($B$1:B220,TRUE)=COUNTIF($B$1:B219,TRUE),\"\",COUNTIF($B$1:B220,TRUE))","v":""},{"$f":"IF(Worksheet!$D$10=3,FALSE,Worksheet!$D$18)","v":false},{"$f":"IF(Worksheet!$D$6=1,RANDBETWEEN(1,99),IF(Worksheet!$D$6=2,CHOOSE(RANDBETWEEN(1,2),RANDBETWEEN(1,99),RANDBETWEEN(1,999)/10),CHOOSE(RANDBETWEEN(1,4),RANDBETWEEN(1,99999)/1000,RANDBETWEEN(1,9999)/100,RANDBETWEEN(1,999)/10,RANDBETWEEN(1,99))))","v":97},"m²","=",{"$f":"10000*C220","v":970000},"cm²"]
[{"$f":"IF(COUNTIF($B$1:B221,TRUE)=COUNTIF($B$1:B220,TRUE),\"\",COUNTIF($B$1:B221,TRUE))","v":133},{"$f":"IF(Worksheet!$D$10=2,FALSE,Worksheet!$B$14)","v":true},{"$f":"10*F221","v":90},"mm","=",{"$f":"IF(Worksheet!$D$6=1,RANDBETWEEN(1,99),IF(Worksheet!$D$6=2,CHOOSE(RANDBETWEEN(1,2),RANDBETWEEN(1,99),RANDBETWEEN(1,999)/10),CHOOSE(RANDBETWEEN(1,4),RANDBETWEEN(1,99999)/1000,RANDBETWEEN(1,9999)/100,RANDBETWEEN(1,999)/10,RANDBETWEEN(1,99))))","v":9},"cm"]
[{"$f":"IF(COUNTIF($B$1:B222,TRUE)=COUNTIF($B$1:B221,TRUE),\"\",COUNTIF($B$1:B222,TRUE))","v":134},{"$f":"IF(Worksheet!$D$10=2,FALSE,Worksheet!$B$15)","v":true},{"$f":"100*F222","v":7000},"cm","=",{"$f":"IF(Worksheet!$D$6=1,RANDBETWEEN(1,99),IF(Worksheet!$D$6=2,CHOOSE(RANDBETWEEN(1,2),RANDBETWEEN(1,99),RANDBETWEEN(1,999)/10),CHOOSE(RANDBETWEEN(1,4),RANDBETWEEN(1,99999)/1000,RANDBETWEEN(1,9999)/100,RANDBETWEEN(1,999)/10,RANDBETWEEN(1,99))))","v":70},"m"]
[{"$f":"IF(COUNTIF($B$1:B223,TRUE)=COUNTIF($B$1:B222,TRUE),\"\",COUNTIF($B$1:B223,TRUE))","v":135},{"$f":"IF(Worksheet!$D$10=2,FALSE,Worksheet!$B$16)","v":true},{"$f":"1000*F223","v":89000},"m","=",{"$f":"IF(Worksheet!$D$6=1,RANDBETWEEN(1,99),IF(Worksheet!$D$6=2,CHOOSE(RANDBETWEEN(1,2),RANDBETWEEN(1,99),RANDBETWEEN(1,999)/10),CHOOSE(RANDBETWEEN(1,4),RANDBETWEEN(1,99999)/1000,RANDBETWEEN(1,9999)/100,RANDBETWEEN(1,999)/10,RANDBETWEEN(1,99))))","v":89},"km"]
[{"$f":"IF(COUNTIF($B$1:B224,TRUE)=COUNTIF($B$1:B223,TRUE),\"\",COUNTIF($B$1:B224,TRUE))","v":""},{"$f":"IF(Worksheet!$D$10=2,FALSE,Worksheet!$B$17)","v":false},{"$f":"1000*F224","v":84000},"mm","=",{"$f":"IF(Worksheet!$D$6=1,RANDBETWEEN(1,99),IF(Worksheet!$D$6=2,CHOOSE(RANDBETWEEN(1,2),RANDBETWEEN(1,99),RANDBETWEEN(1,999)/10),CHOOSE(RANDBETWEEN(1,4),RANDBETWEEN(1,99999)/1000,RANDBETWEEN(1,9999)/100,RANDBETWEEN(1,999)/10,RANDBETWEEN(1,99))))","v":84},"m"]
[{"$f":"IF(COUNTIF($B$1:B225,TRUE)=COUNTIF($B$1:B224,TRUE),\"\",COUNTIF($B$1:B225,TRUE))","v":""},{"$f":"IF(Worksheet!$D$10=2,FALSE,Worksheet!$B$18)","v":false},{"$f":"100*F225","v":1100},"mm²","=",{"$f":"IF(Worksheet!$D$6=1,RANDBETWEEN(1,99),IF(Worksheet!$D$6=2,CHOOSE(RANDBETWEEN(1,2),RANDBETWEEN(1,99),RANDBETWEEN(1,999)/10),CHOOSE(RANDBETWEEN(1,4),RANDBETWEEN(1,99999)/1000,RANDBETWEEN(1,9999)/100,RANDBETWEEN(1,999)/10,RANDBETWEEN(1,99))))","v":11},"cm²"]
[{"$f":"IF(COUNTIF($B$1:B226,TRUE)=COUNTIF($B$1:B225,TRUE),\"\",COUNTIF($B$1:B226,TRUE))","v":136},{"$f":"IF(Worksheet!$D$10=2,FALSE,Worksheet!$D$14)","v":true},{"$f":"F226*1000","v":11000},"g","=",{"$f":"IF(Worksheet!$D$6=1,RANDBETWEEN(1,99),IF(Worksheet!$D$6=2,CHOOSE(RANDBETWEEN(1,2),RANDBETWEEN(1,99),RANDBETWEEN(1,999)/10),CHOOSE(RANDBETWEEN(1,4),RANDBETWEEN(1,99999)/1000,RANDBETWEEN(1,9999)/100,RANDBETWEEN(1,999)/10,RANDBETWEEN(1,99))))","v":11},"kg"]
[{"$f":"IF(COUNTIF($B$1:B227,TRUE)=COUNTIF($B$1:B226,TRUE),\"\",COUNTIF($B$1:B227,TRUE))","v":137},{"$f":"IF(Worksheet!$D$10=2,FALSE,Worksheet!$D$15)","v":true},{"$f":"F227*1000","v":45000},"kg","=",{"$f":"IF(Worksheet!$D$6=1,RANDBETWEEN(1,99),IF(Worksheet!$D$6=2,CHOOSE(RANDBETWEEN(1,2),RANDBETWEEN(1,99),RANDBETWEEN(1,999)/10),CHOOSE(RANDBETWEEN(1,4),RANDBETWEEN(1,99999)/1000,RANDBETWEEN(1,9999)/100,RANDBETWEEN(1,999)/10,RANDBETWEEN(1,99))))","v":45},"tonnes"]
[{"$f":"IF(COUNTIF($B$1:B228,TRUE)=COUNTIF($B$1:B227,TRUE),\"\",COUNTIF($B$1:B228,TRUE))","v":138},{"$f":"IF(Worksheet!$D$10=2,FALSE,Worksheet!$D$16)","v":true},{"$f":"1000*F228","v":50000},"ml","=",{"$f":"IF(Worksheet!$D$6=1,RANDBETWEEN(1,99),IF(Worksheet!$D$6=2,CHOOSE(RANDBETWEEN(1,2),RANDBETWEEN(1,99),RANDBETWEEN(1,999)/10),CHOOSE(RANDBETWEEN(1,4),RANDBETWEEN(1,99999)/1000,RANDBETWEEN(1,9999)/100,RANDBETWEEN(1,999)/10,RANDBETWEEN(1,99))))","v":50},"litres"]
[{"$f":"IF(COUNTIF($B$1:B229,TRUE)=COUNTIF($B$1:B228,TRUE),\"\",COUNTIF($B$1:B229,TRUE))","v":""},{"$f":"IF(Worksheet!$D$10=2,FALSE,Worksheet!$D$17)","v":false},{"$f":"1000*F229","v":51000},"cm³","=",{"$f":"IF(Worksheet!$D$6=1,RANDBETWEEN(1,99),IF(Worksheet!$D$6=2,CHOOSE(RANDBETWEEN(1,2),RANDBETWEEN(1,99),RANDBETWEEN(1,999)/10),CHOOSE(RANDBETWEEN(1,4),RANDBETWEEN(1,99999)/1000,RANDBETWEEN(1,9999)/100,RANDBETWEEN(1,999)/10,RANDBETWEEN(1,99))))","v":51},"litres"]
[{"$f":"IF(COUNTIF($B$1:B230,TRUE)=COUNTIF($B$1:B229,TRUE),\"\",COUNTIF($B$1:B230,TRUE))","v":""},{"$f":"IF(Worksheet!$D$10=2,FALSE,Worksheet!$D$18)","v":false},{"$f":"10000*F230","v":160000},"cm²","=",{"$f":"IF(Worksheet!$D$6=1,RANDBETWEEN(1,99),IF(Worksheet!$D$6=2,CHOOSE(RANDBETWEEN(1,2),RANDBETWEEN(1,99),RANDBETWEEN(1,999)/10),CHOOSE(RANDBETWEEN(1,4),RANDBETWEEN(1,99999)/1000,RANDBETWEEN(1,9999)/100,RANDBETWEEN(1,999)/10,RANDBETWEEN(1,99))))","v":16},"m²"]
[{"$f":"IF(COUNTIF($B$1:B231,TRUE)=COUNTIF($B$1:B230,TRUE),\"\",COUNTIF($B$1:B231,TRUE))","v":139},{"$f":"IF(Worksheet!$D$10=3,FALSE,Worksheet!$B$14)","v":true},{"$f":"IF(Worksheet!$D$6=1,RANDBETWEEN(1,99),IF(Worksheet!$D$6=2,CHOOSE(RANDBETWEEN(1,2),RANDBETWEEN(1,99),RANDBETWEEN(1,999)/10),CHOOSE(RANDBETWEEN(1,4),RANDBETWEEN(1,99999)/1000,RANDBETWEEN(1,9999)/100,RANDBETWEEN(1,999)/10,RANDBETWEEN(1,99))))","v":35},"cm","=",{"$f":"10*C231","v":350},"mm"]
[{"$f":"IF(COUNTIF($B$1:B232,TRUE)=COUNTIF($B$1:B231,TRUE),\"\",COUNTIF($B$1:B232,TRUE))","v":140},{"$f":"IF(Worksheet!$D$10=3,FALSE,Worksheet!$B$15)","v":true},{"$f":"IF(Worksheet!$D$6=1,RANDBETWEEN(1,99),IF(Worksheet!$D$6=2,CHOOSE(RANDBETWEEN(1,2),RANDBETWEEN(1,99),RANDBETWEEN(1,999)/10),CHOOSE(RANDBETWEEN(1,4),RANDBETWEEN(1,99999)/1000,RANDBETWEEN(1,9999)/100,RANDBETWEEN(1,999)/10,RANDBETWEEN(1,99))))","v":6},"m","=",{"$f":"100*C232","v":600},"cm"]
[{"$f":"IF(COUNTIF($B$1:B233,TRUE)=COUNTIF($B$1:B232,TRUE),\"\",COUNTIF($B$1:B233,TRUE))","v":141},{"$f":"IF(Worksheet!$D$10=3,FALSE,Worksheet!$B$16)","v":true},{"$f":"IF(Worksheet!$D$6=1,RANDBETWEEN(1,99),IF(Worksheet!$D$6=2,CHOOSE(RANDBETWEEN(1,2),RANDBETWEEN(1,99),RANDBETWEEN(1,999)/10),CHOOSE(RANDBETWEEN(1,4),RANDBETWEEN(1,99999)/1000,RANDBETWEEN(1,9999)/100,RANDBETWEEN(1,999)/10,RANDBETWEEN(1,99))))","v":19},"km","=",{"$f":"1000*C233","v":19000},"m"]
[{"$f":"IF(COUNTIF($B$1:B234,TRUE)=COUNTIF($B$1:B233,TRUE),\"\",COUNTIF($B$1:B234,TRUE))","v":""},{"$f":"IF(Worksheet!$D$10=3,FALSE,Worksheet!$B$17)","v":false},{"$f":"IF(Worksheet!$D$6=1,RANDBETWEEN(1,99),IF(Worksheet!$D$6=2,CHOOSE(RANDBETWEEN(1,2),RANDBETWEEN(1,99),RANDBETWEEN(1,999)/10),CHOOSE(RANDBETWEEN(1,4),RANDBETWEEN(1,99999)/1000,RANDBETWEEN(1,9999)/100,RANDBETWEEN(1,999)/10,RANDBETWEEN(1,99))))","v":52},"m",{"$f":"#REF!","v":{"$error":"#REF!"}},{"$f":"1000*C234","v":52000},"mm"]
[{"$f":"IF(COUNTIF($B$1:B235,TRUE)=COUNTIF($B$1:B234,TRUE),\"\",COUNTIF($B$1:B235,TRUE))","v":""},{"$f":"IF(Worksheet!$D$10=3,FALSE,Worksheet!$B$18)","v":false},{"$f":"IF(Worksheet!$D$6=1,RANDBETWEEN(1,99),IF(Worksheet!$D$6=2,CHOOSE(RANDBETWEEN(1,2),RANDBETWEEN(1,99),RANDBETWEEN(1,999)/10),CHOOSE(RANDBETWEEN(1,4),RANDBETWEEN(1,99999)/1000,RANDBETWEEN(1,9999)/100,RANDBETWEEN(1,999)/10,RANDBETWEEN(1,99))))","v":71},"cm²","=",{"$f":"C235*100","v":7100},"mm²"]
[{"$f":"IF(COUNTIF($B$1:B236,TRUE)=COUNTIF($B$1:B235,TRUE),\"\",COUNTIF($B$1:B236,TRUE))","v":142},{"$f":"IF(Worksheet!$D$10=3,FALSE,Worksheet!$D$14)","v":true},{"$f":"IF(Worksheet!$D$6=1,RANDBETWEEN(1,99),IF(Worksheet!$D$6=2,CHOOSE(RANDBETWEEN(1,2),RANDBETWEEN(1,99),RANDBETWEEN(1,999)/10),CHOOSE(RANDBETWEEN(1,4),RANDBETWEEN(1,99999)/1000,RANDBETWEEN(1,9999)/100,RANDBETWEEN(1,999)/10,RANDBETWEEN(1,99))))","v":89},"kg","=",{"$f":"1000*C236","v":89000},"g"]
[{"$f":"IF(COUNTIF($B$1:B237,TRUE)=COUNTIF($B$1:B236,TRUE),\"\",COUNTIF($B$1:B237,TRUE))","v":143},{"$f":"IF(Worksheet!$D$10=3,FALSE,Worksheet!$D$15)","v":true},{"$f":"IF(Worksheet!$D$6=1,RANDBETWEEN(1,99),IF(Worksheet!$D$6=2,CHOOSE(RANDBETWEEN(1,2),RANDBETWEEN(1,99),RANDBETWEEN(1,999)/10),CHOOSE(RANDBETWEEN(1,4),RANDBETWEEN(1,99999)/1000,RANDBETWEEN(1,9999)/100,RANDBETWEEN(1,999)/10,RANDBETWEEN(1,99))))","v":74},"tonnes","=",{"$f":"1000*C237","v":74000},"kg"]
[{"$f":"IF(COUNTIF($B$1:B238,TRUE)=COUNTIF($B$1:B237,TRUE),\"\",COUNTIF($B$1:B238,TRUE))","v":144},{"$f":"IF(Worksheet!$D$10=3,FALSE,Worksheet!$D$16)","v":true},{"$f":"IF(Worksheet!$D$6=1,RANDBETWEEN(1,99),IF(Worksheet!$D$6=2,CHOOSE(RANDBETWEEN(1,2),RANDBETWEEN(1,99),RANDBETWEEN(1,999)/10),CHOOSE(RANDBETWEEN(1,4),RANDBETWEEN(1,99999)/1000,RANDBETWEEN(1,9999)/100,RANDBETWEEN(1,999)/10,RANDBETWEEN(1,99))))","v":55},"litres","=",{"$f":"1000*C238","v":55000},"ml"]
[{"$f":"IF(COUNTIF($B$1:B239,TRUE)=COUNTIF($B$1:B238,TRUE),\"\",COUNTIF($B$1:B239,TRUE))","v":""},{"$f":"IF(Worksheet!$D$10=3,FALSE,Worksheet!$D$17)","v":false},{"$f":"IF(Worksheet!$D$6=1,RANDBETWEEN(1,99),IF(Worksheet!$D$6=2,CHOOSE(RANDBETWEEN(1,2),RANDBETWEEN(1,99),RANDBETWEEN(1,999)/10),CHOOSE(RANDBETWEEN(1,4),RANDBETWEEN(1,99999)/1000,RANDBETWEEN(1,9999)/100,RANDBETWEEN(1,999)/10,RANDBETWEEN(1,99))))","v":92},"litres","=",{"$f":"1000*C239","v":92000},"cm³"]
[{"$f":"IF(COUNTIF($B$1:B240,TRUE)=COUNTIF($B$1:B239,TRUE),\"\",COUNTIF($B$1:B240,TRUE))","v":""},{"$f":"IF(Worksheet!$D$10=3,FALSE,Worksheet!$D$18)","v":false},{"$f":"IF(Worksheet!$D$6=1,RANDBETWEEN(1,99),IF(Worksheet!$D$6=2,CHOOSE(RANDBETWEEN(1,2),RANDBETWEEN(1,99),RANDBETWEEN(1,999)/10),CHOOSE(RANDBETWEEN(1,4),RANDBETWEEN(1,99999)/1000,RANDBETWEEN(1,9999)/100,RANDBETWEEN(1,999)/10,RANDBETWEEN(1,99))))","v":27},"m²","=",{"$f":"10000*C240","v":270000},"cm²"]
[{"$f":"IF(COUNTIF($B$1:B241,TRUE)=COUNTIF($B$1:B240,TRUE),\"\",COUNTIF($B$1:B241,TRUE))","v":145},{"$f":"IF(Worksheet!$D$10=2,FALSE,Worksheet!$B$14)","v":true},{"$f":"10*F241","v":410},"mm","=",{"$f":"IF(Worksheet!$D$6=1,RANDBETWEEN(1,99),IF(Worksheet!$D$6=2,CHOOSE(RANDBETWEEN(1,2),RANDBETWEEN(1,99),RANDBETWEEN(1,999)/10),CHOOSE(RANDBETWEEN(1,4),RANDBETWEEN(1,99999)/1000,RANDBETWEEN(1,9999)/100,RANDBETWEEN(1,999)/10,RANDBETWEEN(1,99))))","v":41},"cm"]
[{"$f":"IF(COUNTIF($B$1:B242,TRUE)=COUNTIF($B$1:B241,TRUE),\"\",COUNTIF($B$1:B242,TRUE))","v":146},{"$f":"IF(Worksheet!$D$10=2,FALSE,Worksheet!$B$15)","v":true},{"$f":"100*F242","v":8700},"cm","=",{"$f":"IF(Worksheet!$D$6=1,RANDBETWEEN(1,99),IF(Worksheet!$D$6=2,CHOOSE(RANDBETWEEN(1,2),RANDBETWEEN(1,99),RANDBETWEEN(1,999)/10),CHOOSE(RANDBETWEEN(1,4),RANDBETWEEN(1,99999)/1000,RANDBETWEEN(1,9999)/100,RANDBETWEEN(1,999)/10,RANDBETWEEN(1,99))))","v":87},"m"]
[{"$f":"IF(COUNTIF($B$1:B243,TRUE)=COUNTIF($B$1:B242,TRUE),\"\",COUNTIF($B$1:B243,TRUE))","v":147},{"$f":"IF(Worksheet!$D$10=2,FALSE,Worksheet!$B$16)","v":true},{"$f":"1000*F243","v":51000},"m","=",{"$f":"IF(Worksheet!$D$6=1,RANDBETWEEN(1,99),IF(Worksheet!$D$6=2,CHOOSE(RANDBETWEEN(1,2),RANDBETWEEN(1,99),RANDBETWEEN(1,999)/10),CHOOSE(RANDBETWEEN(1,4),RANDBETWEEN(1,99999)/1000,RANDBETWEEN(1,9999)/100,RANDBETWEEN(1,999)/10,RANDBETWEEN(1,99))))","v":51},"km"]
[{"$f":"IF(COUNTIF($B$1:B244,TRUE)=COUNTIF($B$1:B243,TRUE),\"\",COUNTIF($B$1:B244,TRUE))","v":""},{"$f":"IF(Worksheet!$D$10=2,FALSE,Worksheet!$B$17)","v":false},{"$f":"1000*F244","v":99000},"mm","=",{"$f":"IF(Worksheet!$D$6=1,RANDBETWEEN(1,99),IF(Worksheet!$D$6=2,CHOOSE(RANDBETWEEN(1,2),RANDBETWEEN(1,99),RANDBETWEEN(1,999)/10),CHOOSE(RANDBETWEEN(1,4),RANDBETWEEN(1,99999)/1000,RANDBETWEEN(1,9999)/100,RANDBETWEEN(1,999)/10,RANDBETWEEN(1,99))))","v":99},"m"]
[{"$f":"IF(COUNTIF($B$1:B245,TRUE)=COUNTIF($B$1:B244,TRUE),\"\",COUNTIF($B$1:B245,TRUE))","v":""},{"$f":"IF(Worksheet!$D$10=2,FALSE,Worksheet!$B$18)","v":false},{"$f":"100*F245","v":6800},"mm²","=",{"$f":"IF(Worksheet!$D$6=1,RANDBETWEEN(1,99),IF(Worksheet!$D$6=2,CHOOSE(RANDBETWEEN(1,2),RANDBETWEEN(1,99),RANDBETWEEN(1,999)/10),CHOOSE(RANDBETWEEN(1,4),RANDBETWEEN(1,99999)/1000,RANDBETWEEN(1,9999)/100,RANDBETWEEN(1,999)/10,RANDBETWEEN(1,99))))","v":68},"cm²"]
[{"$f":"IF(COUNTIF($B$1:B246,TRUE)=COUNTIF($B$1:B245,TRUE),\"\",COUNTIF($B$1:B246,TRUE))","v":148},{"$f":"IF(Worksheet!$D$10=2,FALSE,Worksheet!$D$14)","v":true},{"$f":"F246*1000","v":73000},"g","=",{"$f":"IF(Worksheet!$D$6=1,RANDBETWEEN(1,99),IF(Worksheet!$D$6=2,CHOOSE(RANDBETWEEN(1,2),RANDBETWEEN(1,99),RANDBETWEEN(1,999)/10),CHOOSE(RANDBETWEEN(1,4),RANDBETWEEN(1,99999)/1000,RANDBETWEEN(1,9999)/100,RANDBETWEEN(1,999)/10,RANDBETWEEN(1,99))))","v":73},"kg"]
[{"$f":"IF(COUNTIF($B$1:B247,TRUE)=COUNTIF($B$1:B246,TRUE),\"\",COUNTIF($B$1:B247,TRUE))","v":149},{"$f":"IF(Worksheet!$D$10=2,FALSE,Worksheet!$D$15)","v":true},{"$f":"F247*1000","v":89000},"kg","=",{"$f":"IF(Worksheet!$D$6=1,RANDBETWEEN(1,99),IF(Worksheet!$D$6=2,CHOOSE(RANDBETWEEN(1,2),RANDBETWEEN(1,99),RANDBETWEEN(1,999)/10),CHOOSE(RANDBETWEEN(1,4),RANDBETWEEN(1,99999)/1000,RANDBETWEEN(1,9999)/100,RANDBETWEEN(1,999)/10,RANDBETWEEN(1,99))))","v":89},"tonnes"]
[{"$f":"IF(COUNTIF($B$1:B248,TRUE)=COUNTIF($B$1:B247,TRUE),\"\",COUNTIF($B$1:B248,TRUE))","v":150},{"$f":"IF(Worksheet!$D$10=2,FALSE,Worksheet!$D$16)","v":true},{"$f":"1000*F248","v":81000},"ml","=",{"$f":"IF(Worksheet!$D$6=1,RANDBETWEEN(1,99),IF(Worksheet!$D$6=2,CHOOSE(RANDBETWEEN(1,2),RANDBETWEEN(1,99),RANDBETWEEN(1,999)/10),CHOOSE(RANDBETWEEN(1,4),RANDBETWEEN(1,99999)/1000,RANDBETWEEN(1,9999)/100,RANDBETWEEN(1,999)/10,RANDBETWEEN(1,99))))","v":81},"litres"]
[{"$f":"IF(COUNTIF($B$1:B249,TRUE)=COUNTIF($B$1:B248,TRUE),\"\",COUNTIF($B$1:B249,TRUE))","v":""},{"$f":"IF(Worksheet!$D$10=2,FALSE,Worksheet!$D$17)","v":false},{"$f":"1000*F249","v":92000},"cm³","=",{"$f":"IF(Worksheet!$D$6=1,RANDBETWEEN(1,99),IF(Worksheet!$D$6=2,CHOOSE(RANDBETWEEN(1,2),RANDBETWEEN(1,99),RANDBETWEEN(1,999)/10),CHOOSE(RANDBETWEEN(1,4),RANDBETWEEN(1,99999)/1000,RANDBETWEEN(1,9999)/100,RANDBETWEEN(1,999)/10,RANDBETWEEN(1,99))))","v":92},"litres"]
[{"$f":"IF(COUNTIF($B$1:B250,TRUE)=COUNTIF($B$1:B249,TRUE),\"\",COUNTIF($B$1:B250,TRUE))","v":""},{"$f":"IF(Worksheet!$D$10=2,FALSE,Worksheet!$D$18)","v":false},{"$f":"10000*F250","v":380000},"cm²","=",{"$f":"IF(Worksheet!$D$6=1,RANDBETWEEN(1,99),IF(Worksheet!$D$6=2,CHOOSE(RANDBETWEEN(1,2),RANDBETWEEN(1,99),RANDBETWEEN(1,999)/10),CHOOSE(RANDBETWEEN(1,4),RANDBETWEEN(1,99999)/1000,RANDBETWEEN(1,9999)/100,RANDBETWEEN(1,999)/10,RANDBETWEEN(1,99))))","v":38},"m²"]
[{"$f":"IF(COUNTIF($B$1:B251,TRUE)=COUNTIF($B$1:B250,TRUE),\"\",COUNTIF($B$1:B251,TRUE))","v":151},{"$f":"IF(Worksheet!$D$10=3,FALSE,Worksheet!$B$14)","v":true},{"$f":"IF(Worksheet!$D$6=1,RANDBETWEEN(1,99),IF(Worksheet!$D$6=2,CHOOSE(RANDBETWEEN(1,2),RANDBETWEEN(1,99),RANDBETWEEN(1,999)/10),CHOOSE(RANDBETWEEN(1,4),RANDBETWEEN(1,99999)/1000,RANDBETWEEN(1,9999)/100,RANDBETWEEN(1,999)/10,RANDBETWEEN(1,99))))","v":34},"cm","=",{"$f":"10*C251","v":340},"mm"]
[{"$f":"IF(COUNTIF($B$1:B252,TRUE)=COUNTIF($B$1:B251,TRUE),\"\",COUNTIF($B$1:B252,TRUE))","v":152},{"$f":"IF(Worksheet!$D$10=3,FALSE,Worksheet!$B$15)","v":true},{"$f":"IF(Worksheet!$D$6=1,RANDBETWEEN(1,99),IF(Worksheet!$D$6=2,CHOOSE(RANDBETWEEN(1,2),RANDBETWEEN(1,99),RANDBETWEEN(1,999)/10),CHOOSE(RANDBETWEEN(1,4),RANDBETWEEN(1,99999)/1000,RANDBETWEEN(1,9999)/100,RANDBETWEEN(1,999)/10,RANDBETWEEN(1,99))))","v":32},"m","=",{"$f":"100*C252","v":3200},"cm"]
[{"$f":"IF(COUNTIF($B$1:B253,TRUE)=COUNTIF($B$1:B252,TRUE),\"\",COUNTIF($B$1:B253,TRUE))","v":153},{"$f":"IF(Worksheet!$D$10=3,FALSE,Worksheet!$B$16)","v":true},{"$f":"IF(Worksheet!$D$6=1,RANDBETWEEN(1,99),IF(Worksheet!$D$6=2,CHOOSE(RANDBETWEEN(1,2),RANDBETWEEN(1,99),RANDBETWEEN(1,999)/10),CHOOSE(RANDBETWEEN(1,4),RANDBETWEEN(1,99999)/1000,RANDBETWEEN(1,9999)/100,RANDBETWEEN(1,999)/10,RANDBETWEEN(1,99))))","v":25},"km","=",{"$f":"1000*C253","v":25000},"m"]
[{"$f":"IF(COUNTIF($B$1:B254,TRUE)=COUNTIF($B$1:B253,TRUE),\"\",COUNTIF($B$1:B254,TRUE))","v":""},{"$f":"IF(Worksheet!$D$10=3,FALSE,Worksheet!$B$17)","v":false},{"$f":"IF(Worksheet!$D$6=1,RANDBETWEEN(1,99),IF(Worksheet!$D$6=2,CHOOSE(RANDBETWEEN(1,2),RANDBETWEEN(1,99),RANDBETWEEN(1,999)/10),CHOOSE(RANDBETWEEN(1,4),RANDBETWEEN(1,99999)/1000,RANDBETWEEN(1,9999)/100,RANDBETWEEN(1,999)/10,RANDBETWEEN(1,99))))","v":53},"m",{"$f":"#REF!","v":{"$error":"#REF!"}},{"$f":"1000*C254","v":53000},"mm"]
[{"$f":"IF(COUNTIF($B$1:B255,TRUE)=COUNTIF($B$1:B254,TRUE),\"\",COUNTIF($B$1:B255,TRUE))","v":""},{"$f":"IF(Worksheet!$D$10=3,FALSE,Worksheet!$B$18)","v":false},{"$f":"IF(Worksheet!$D$6=1,RANDBETWEEN(1,99),IF(Worksheet!$D$6=2,CHOOSE(RANDBETWEEN(1,2),RANDBETWEEN(1,99),RANDBETWEEN(1,999)/10),CHOOSE(RANDBETWEEN(1,4),RANDBETWEEN(1,99999)/1000,RANDBETWEEN(1,9999)/100,RANDBETWEEN(1,999)/10,RANDBETWEEN(1,99))))","v":64},"cm²","=",{"$f":"C255*100","v":6400},"mm²"]
[{"$f":"IF(COUNTIF($B$1:B256,TRUE)=COUNTIF($B$1:B255,TRUE),\"\",COUNTIF($B$1:B256,TRUE))","v":154},{"$f":"IF(Worksheet!$D$10=3,FALSE,Worksheet!$D$14)","v":true},{"$f":"IF(Worksheet!$D$6=1,RANDBETWEEN(1,99),IF(Worksheet!$D$6=2,CHOOSE(RANDBETWEEN(1,2),RANDBETWEEN(1,99),RANDBETWEEN(1,999)/10),CHOOSE(RANDBETWEEN(1,4),RANDBETWEEN(1,99999)/1000,RANDBETWEEN(1,9999)/100,RANDBETWEEN(1,999)/10,RANDBETWEEN(1,99))))","v":55},"kg","=",{"$f":"1000*C256","v":55000},"g"]
[{"$f":"IF(COUNTIF($B$1:B257,TRUE)=COUNTIF($B$1:B256,TRUE),\"\",COUNTIF($B$1:B257,TRUE))","v":155},{"$f":"IF(Worksheet!$D$10=3,FALSE,Worksheet!$D$15)","v":true},{"$f":"IF(Worksheet!$D$6=1,RANDBETWEEN(1,99),IF(Worksheet!$D$6=2,CHOOSE(RANDBETWEEN(1,2),RANDBETWEEN(1,99),RANDBETWEEN(1,999)/10),CHOOSE(RANDBETWEEN(1,4),RANDBETWEEN(1,99999)/1000,RANDBETWEEN(1,9999)/100,RANDBETWEEN(1,999)/10,RANDBETWEEN(1,99))))","v":52},"tonnes","=",{"$f":"1000*C257","v":52000},"kg"]
[{"$f":"IF(COUNTIF($B$1:B258,TRUE)=COUNTIF($B$1:B257,TRUE),\"\",COUNTIF($B$1:B258,TRUE))","v":156},{"$f":"IF(Worksheet!$D$10=3,FALSE,Worksheet!$D$16)","v":true},{"$f":"IF(Worksheet!$D$6=1,RANDBETWEEN(1,99),IF(Worksheet!$D$6=2,CHOOSE(RANDBETWEEN(1,2),RANDBETWEEN(1,99),RANDBETWEEN(1,999)/10),CHOOSE(RANDBETWEEN(1,4),RANDBETWEEN(1,99999)/1000,RANDBETWEEN(1,9999)/100,RANDBETWEEN(1,999)/10,RANDBETWEEN(1,99))))","v":9},"litres","=",{"$f":"1000*C258","v":9000},"ml"]
[{"$f":"IF(COUNTIF($B$1:B259,TRUE)=COUNTIF($B$1:B258,TRUE),\"\",COUNTIF($B$1:B259,TRUE))","v":""},{"$f":"IF(Worksheet!$D$10=3,FALSE,Worksheet!$D$17)","v":false},{"$f":"IF(Worksheet!$D$6=1,RANDBETWEEN(1,99),IF(Worksheet!$D$6=2,CHOOSE(RANDBETWEEN(1,2),RANDBETWEEN(1,99),RANDBETWEEN(1,999)/10),CHOOSE(RANDBETWEEN(1,4),RANDBETWEEN(1,99999)/1000,RANDBETWEEN(1,9999)/100,RANDBETWEEN(1,999)/10,RANDBETWEEN(1,99))))","v":39},"litres","=",{"$f":"1000*C259","v":39000},"cm³"]
[{"$f":"IF(COUNTIF($B$1:B260,TRUE)=COUNTIF($B$1:B259,TRUE),\"\",COUNTIF($B$1:B260,TRUE))","v":""},{"$f":"IF(Worksheet!$D$10=3,FALSE,Worksheet!$D$18)","v":false},{"$f":"IF(Worksheet!$D$6=1,RANDBETWEEN(1,99),IF(Worksheet!$D$6=2,CHOOSE(RANDBETWEEN(1,2),RANDBETWEEN(1,99),RANDBETWEEN(1,999)/10),CHOOSE(RANDBETWEEN(1,4),RANDBETWEEN(1,99999)/1000,RANDBETWEEN(1,9999)/100,RANDBETWEEN(1,999)/10,RANDBETWEEN(1,99))))","v":52},"m²","=",{"$f":"10000*C260","v":520000},"cm²"]
[{"$f":"IF(COUNTIF($B$1:B261,TRUE)=COUNTIF($B$1:B260,TRUE),\"\",COUNTIF($B$1:B261,TRUE))","v":157},{"$f":"IF(Worksheet!$D$10=2,FALSE,Worksheet!$B$14)","v":true},{"$f":"10*F261","v":590},"mm","=",{"$f":"IF(Worksheet!$D$6=1,RANDBETWEEN(1,99),IF(Worksheet!$D$6=2,CHOOSE(RANDBETWEEN(1,2),RANDBETWEEN(1,99),RANDBETWEEN(1,999)/10),CHOOSE(RANDBETWEEN(1,4),RANDBETWEEN(1,99999)/1000,RANDBETWEEN(1,9999)/100,RANDBETWEEN(1,999)/10,RANDBETWEEN(1,99))))","v":59},"cm"]
[{"$f":"IF(COUNTIF($B$1:B262,TRUE)=COUNTIF($B$1:B261,TRUE),\"\",COUNTIF($B$1:B262,TRUE))","v":158},{"$f":"IF(Worksheet!$D$10=2,FALSE,Worksheet!$B$15)","v":true},{"$f":"100*F262","v":2100},"cm","=",{"$f":"IF(Worksheet!$D$6=1,RANDBETWEEN(1,99),IF(Worksheet!$D$6=2,CHOOSE(RANDBETWEEN(1,2),RANDBETWEEN(1,99),RANDBETWEEN(1,999)/10),CHOOSE(RANDBETWEEN(1,4),RANDBETWEEN(1,99999)/1000,RANDBETWEEN(1,9999)/100,RANDBETWEEN(1,999)/10,RANDBETWEEN(1,99))))","v":21},"m"]
[{"$f":"IF(COUNTIF($B$1:B263,TRUE)=COUNTIF($B$1:B262,TRUE),\"\",COUNTIF($B$1:B263,TRUE))","v":159},{"$f":"IF(Worksheet!$D$10=2,FALSE,Worksheet!$B$16)","v":true},{"$f":"1000*F263","v":96000},"m","=",{"$f":"IF(Worksheet!$D$6=1,RANDBETWEEN(1,99),IF(Worksheet!$D$6=2,CHOOSE(RANDBETWEEN(1,2),RANDBETWEEN(1,99),RANDBETWEEN(1,999)/10),CHOOSE(RANDBETWEEN(1,4),RANDBETWEEN(1,99999)/1000,RANDBETWEEN(1,9999)/100,RANDBETWEEN(1,999)/10,RANDBETWEEN(1,99))))","v":96},"km"]
[{"$f":"IF(COUNTIF($B$1:B264,TRUE)=COUNTIF($B$1:B263,TRUE),\"\",COUNTIF($B$1:B264,TRUE))","v":""},{"$f":"IF(Worksheet!$D$10=2,FALSE,Worksheet!$B$17)","v":false},{"$f":"1000*F264","v":71000},"mm","=",{"$f":"IF(Worksheet!$D$6=1,RANDBETWEEN(1,99),IF(Worksheet!$D$6=2,CHOOSE(RANDBETWEEN(1,2),RANDBETWEEN(1,99),RANDBETWEEN(1,999)/10),CHOOSE(RANDBETWEEN(1,4),RANDBETWEEN(1,99999)/1000,RANDBETWEEN(1,9999)/100,RANDBETWEEN(1,999)/10,RANDBETWEEN(1,99))))","v":71},"m"]
[{"$f":"IF(COUNTIF($B$1:B265,TRUE)=COUNTIF($B$1:B264,TRUE),\"\",COUNTIF($B$1:B265,TRUE))","v":""},{"$f":"IF(Worksheet!$D$10=2,FALSE,Worksheet!$B$18)","v":false},{"$f":"100*F265","v":900},"mm²","=",{"$f":"IF(Worksheet!$D$6=1,RANDBETWEEN(1,99),IF(Worksheet!$D$6=2,CHOOSE(RANDBETWEEN(1,2),RANDBETWEEN(1,99),RANDBETWEEN(1,999)/10),CHOOSE(RANDBETWEEN(1,4),RANDBETWEEN(1,99999)/1000,RANDBETWEEN(1,9999)/100,RANDBETWEEN(1,999)/10,RANDBETWEEN(1,99))))","v":9},"cm²"]
[{"$f":"IF(COUNTIF($B$1:B266,TRUE)=COUNTIF($B$1:B265,TRUE),\"\",COUNTIF($B$1:B266,TRUE))","v":160},{"$f":"IF(Worksheet!$D$10=2,FALSE,Worksheet!$D$14)","v":true},{"$f":"F266*1000","v":36000},"g","=",{"$f":"IF(Worksheet!$D$6=1,RANDBETWEEN(1,99),IF(Worksheet!$D$6=2,CHOOSE(RANDBETWEEN(1,2),RANDBETWEEN(1,99),RANDBETWEEN(1,999)/10),CHOOSE(RANDBETWEEN(1,4),RANDBETWEEN(1,99999)/1000,RANDBETWEEN(1,9999)/100,RANDBETWEEN(1,999)/10,RANDBETWEEN(1,99))))","v":36},"kg"]
[{"$f":"IF(COUNTIF($B$1:B267,TRUE)=COUNTIF($B$1:B266,TRUE),\"\",COUNTIF($B$1:B267,TRUE))","v":161},{"$f":"IF(Worksheet!$D$10=2,FALSE,Worksheet!$D$15)","v":true},{"$f":"F267*1000","v":32000},"kg","=",{"$f":"IF(Worksheet!$D$6=1,RANDBETWEEN(1,99),IF(Worksheet!$D$6=2,CHOOSE(RANDBETWEEN(1,2),RANDBETWEEN(1,99),RANDBETWEEN(1,999)/10),CHOOSE(RANDBETWEEN(1,4),RANDBETWEEN(1,99999)/1000,RANDBETWEEN(1,9999)/100,RANDBETWEEN(1,999)/10,RANDBETWEEN(1,99))))","v":32},"tonnes"]
[{"$f":"IF(COUNTIF($B$1:B268,TRUE)=COUNTIF($B$1:B267,TRUE),\"\",COUNTIF($B$1:B268,TRUE))","v":162},{"$f":"IF(Worksheet!$D$10=2,FALSE,Worksheet!$D$16)","v":true},{"$f":"1000*F268","v":97000},"ml","=",{"$f":"IF(Worksheet!$D$6=1,RANDBETWEEN(1,99),IF(Worksheet!$D$6=2,CHOOSE(RANDBETWEEN(1,2),RANDBETWEEN(1,99),RANDBETWEEN(1,999)/10),CHOOSE(RANDBETWEEN(1,4),RANDBETWEEN(1,99999)/1000,RANDBETWEEN(1,9999)/100,RANDBETWEEN(1,999)/10,RANDBETWEEN(1,99))))","v":97},"litres"]
[{"$f":"IF(COUNTIF($B$1:B269,TRUE)=COUNTIF($B$1:B268,TRUE),\"\",COUNTIF($B$1:B269,TRUE))","v":""},{"$f":"IF(Worksheet!$D$10=2,FALSE,Worksheet!$D$17)","v":false},{"$f":"1000*F269","v":97000},"cm³","=",{"$f":"IF(Worksheet!$D$6=1,RANDBETWEEN(1,99),IF(Worksheet!$D$6=2,CHOOSE(RANDBETWEEN(1,2),RANDBETWEEN(1,99),RANDBETWEEN(1,999)/10),CHOOSE(RANDBETWEEN(1,4),RANDBETWEEN(1,99999)/1000,RANDBETWEEN(1,9999)/100,RANDBETWEEN(1,999)/10,RANDBETWEEN(1,99))))","v":97},"litres"]
[{"$f":"IF(COUNTIF($B$1:B270,TRUE)=COUNTIF($B$1:B269,TRUE),\"\",COUNTIF($B$1:B270,TRUE))","v":""},{"$f":"IF(Worksheet!$D$10=2,FALSE,Worksheet!$D$18)","v":false},{"$f":"10000*F270","v":800000},"cm²","=",{"$f":"IF(Worksheet!$D$6=1,RANDBETWEEN(1,99),IF(Worksheet!$D$6=2,CHOOSE(RANDBETWEEN(1,2),RANDBETWEEN(1,99),RANDBETWEEN(1,999)/10),CHOOSE(RANDBETWEEN(1,4),RANDBETWEEN(1,99999)/1000,RANDBETWEEN(1,9999)/100,RANDBETWEEN(1,999)/10,RANDBETWEEN(1,99))))","v":80},"m²"]
[{"$f":"IF(COUNTIF($B$1:B271,TRUE)=COUNTIF($B$1:B270,TRUE),\"\",COUNTIF($B$1:B271,TRUE))","v":163},{"$f":"IF(Worksheet!$D$10=3,FALSE,Worksheet!$B$14)","v":true},{"$f":"IF(Worksheet!$D$6=1,RANDBETWEEN(1,99),IF(Worksheet!$D$6=2,CHOOSE(RANDBETWEEN(1,2),RANDBETWEEN(1,99),RANDBETWEEN(1,999)/10),CHOOSE(RANDBETWEEN(1,4),RANDBETWEEN(1,99999)/1000,RANDBETWEEN(1,9999)/100,RANDBETWEEN(1,999)/10,RANDBETWEEN(1,99))))","v":37},"cm","=",{"$f":"10*C271","v":370},"mm"]
[{"$f":"IF(COUNTIF($B$1:B272,TRUE)=COUNTIF($B$1:B271,TRUE),\"\",COUNTIF($B$1:B272,TRUE))","v":164},{"$f":"IF(Worksheet!$D$10=3,FALSE,Worksheet!$B$15)","v":true},{"$f":"IF(Worksheet!$D$6=1,RANDBETWEEN(1,99),IF(Worksheet!$D$6=2,CHOOSE(RANDBETWEEN(1,2),RANDBETWEEN(1,99),RANDBETWEEN(1,999)/10),CHOOSE(RANDBETWEEN(1,4),RANDBETWEEN(1,99999)/1000,RANDBETWEEN(1,9999)/100,RANDBETWEEN(1,999)/10,RANDBETWEEN(1,99))))","v":79},"m","=",{"$f":"100*C272","v":7900},"cm"]
[{"$f":"IF(COUNTIF($B$1:B273,TRUE)=COUNTIF($B$1:B272,TRUE),\"\",COUNTIF($B$1:B273,TRUE))","v":165},{"$f":"IF(Worksheet!$D$10=3,FALSE,Worksheet!$B$16)","v":true},{"$f":"IF(Worksheet!$D$6=1,RANDBETWEEN(1,99),IF(Worksheet!$D$6=2,CHOOSE(RANDBETWEEN(1,2),RANDBETWEEN(1,99),RANDBETWEEN(1,999)/10),CHOOSE(RANDBETWEEN(1,4),RANDBETWEEN(1,99999)/1000,RANDBETWEEN(1,9999)/100,RANDBETWEEN(1,999)/10,RANDBETWEEN(1,99))))","v":75},"km","=",{"$f":"1000*C273","v":75000},"m"]
[{"$f":"IF(COUNTIF($B$1:B274,TRUE)=COUNTIF($B$1:B273,TRUE),\"\",COUNTIF($B$1:B274,TRUE))","v":""},{"$f":"IF(Worksheet!$D$10=3,FALSE,Worksheet!$B$17)","v":false},{"$f":"IF(Worksheet!$D$6=1,RANDBETWEEN(1,99),IF(Worksheet!$D$6=2,CHOOSE(RANDBETWEEN(1,2),RANDBETWEEN(1,99),RANDBETWEEN(1,999)/10),CHOOSE(RANDBETWEEN(1,4),RANDBETWEEN(1,99999)/1000,RANDBETWEEN(1,9999)/100,RANDBETWEEN(1,999)/10,RANDBETWEEN(1,99))))","v":98},"m",{"$f":"#REF!","v":{"$error":"#REF!"}},{"$f":"1000*C274","v":98000},"mm"]
[{"$f":"IF(COUNTIF($B$1:B275,TRUE)=COUNTIF($B$1:B274,TRUE),\"\",COUNTIF($B$1:B275,TRUE))","v":""},{"$f":"IF(Worksheet!$D$10=3,FALSE,Worksheet!$B$18)","v":false},{"$f":"IF(Worksheet!$D$6=1,RANDBETWEEN(1,99),IF(Worksheet!$D$6=2,CHOOSE(RANDBETWEEN(1,2),RANDBETWEEN(1,99),RANDBETWEEN(1,999)/10),CHOOSE(RANDBETWEEN(1,4),RANDBETWEEN(1,99999)/1000,RANDBETWEEN(1,9999)/100,RANDBETWEEN(1,999)/10,RANDBETWEEN(1,99))))","v":37},"cm²","=",{"$f":"C275*100","v":3700},"mm²"]
[{"$f":"IF(COUNTIF($B$1:B276,TRUE)=COUNTIF($B$1:B275,TRUE),\"\",COUNTIF($B$1:B276,TRUE))","v":166},{"$f":"IF(Worksheet!$D$10=3,FALSE,Worksheet!$D$14)","v":true},{"$f":"IF(Worksheet!$D$6=1,RANDBETWEEN(1,99),IF(Worksheet!$D$6=2,CHOOSE(RANDBETWEEN(1,2),RANDBETWEEN(1,99),RANDBETWEEN(1,999)/10),CHOOSE(RANDBETWEEN(1,4),RANDBETWEEN(1,99999)/1000,RANDBETWEEN(1,9999)/100,RANDBETWEEN(1,999)/10,RANDBETWEEN(1,99))))","v":23},"kg","=",{"$f":"1000*C276","v":23000},"g"]
[{"$f":"IF(COUNTIF($B$1:B277,TRUE)=COUNTIF($B$1:B276,TRUE),\"\",COUNTIF($B$1:B277,TRUE))","v":167},{"$f":"IF(Worksheet!$D$10=3,FALSE,Worksheet!$D$15)","v":true},{"$f":"IF(Worksheet!$D$6=1,RANDBETWEEN(1,99),IF(Worksheet!$D$6=2,CHOOSE(RANDBETWEEN(1,2),RANDBETWEEN(1,99),RANDBETWEEN(1,999)/10),CHOOSE(RANDBETWEEN(1,4),RANDBETWEEN(1,99999)/1000,RANDBETWEEN(1,9999)/100,RANDBETWEEN(1,999)/10,RANDBETWEEN(1,99))))","v":6},"tonnes","=",{"$f":"1000*C277","v":6000},"kg"]
[{"$f":"IF(COUNTIF($B$1:B278,TRUE)=COUNTIF($B$1:B277,TRUE),\"\",COUNTIF($B$1:B278,TRUE))","v":168},{"$f":"IF(Worksheet!$D$10=3,FALSE,Worksheet!$D$16)","v":true},{"$f":"IF(Worksheet!$D$6=1,RANDBETWEEN(1,99),IF(Worksheet!$D$6=2,CHOOSE(RANDBETWEEN(1,2),RANDBETWEEN(1,99),RANDBETWEEN(1,999)/10),CHOOSE(RANDBETWEEN(1,4),RANDBETWEEN(1,99999)/1000,RANDBETWEEN(1,9999)/100,RANDBETWEEN(1,999)/10,RANDBETWEEN(1,99))))","v":13},"litres","=",{"$f":"1000*C278","v":13000},"ml"]
[{"$f":"IF(COUNTIF($B$1:B279,TRUE)=COUNTIF($B$1:B278,TRUE),\"\",COUNTIF($B$1:B279,TRUE))","v":""},{"$f":"IF(Worksheet!$D$10=3,FALSE,Worksheet!$D$17)","v":false},{"$f":"IF(Worksheet!$D$6=1,RANDBETWEEN(1,99),IF(Worksheet!$D$6=2,CHOOSE(RANDBETWEEN(1,2),RANDBETWEEN(1,99),RANDBETWEEN(1,999)/10),CHOOSE(RANDBETWEEN(1,4),RANDBETWEEN(1,99999)/1000,RANDBETWEEN(1,9999)/100,RANDBETWEEN(1,999)/10,RANDBETWEEN(1,99))))","v":68},"litres","=",{"$f":"1000*C279","v":68000},"cm³"]
[{"$f":"IF(COUNTIF($B$1:B280,TRUE)=COUNTIF($B$1:B279,TRUE),\"\",COUNTIF($B$1:B280,TRUE))","v":""},{"$f":"IF(Worksheet!$D$10=3,FALSE,Worksheet!$D$18)","v":false},{"$f":"IF(Worksheet!$D$6=1,RANDBETWEEN(1,99),IF(Worksheet!$D$6=2,CHOOSE(RANDBETWEEN(1,2),RANDBETWEEN(1,99),RANDBETWEEN(1,999)/10),CHOOSE(RANDBETWEEN(1,4),RANDBETWEEN(1,99999)/1000,RANDBETWEEN(1,9999)/100,RANDBETWEEN(1,999)/10,RANDBETWEEN(1,99))))","v":85},"m²","=",{"$f":"10000*C280","v":850000},"cm²"]
[{"$f":"IF(COUNTIF($B$1:B281,TRUE)=COUNTIF($B$1:B280,TRUE),\"\",COUNTIF($B$1:B281,TRUE))","v":169},{"$f":"IF(Worksheet!$D$10=2,FALSE,Worksheet!$B$14)","v":true},{"$f":"10*F281","v":990},"mm","=",{"$f":"IF(Worksheet!$D$6=1,RANDBETWEEN(1,99),IF(Worksheet!$D$6=2,CHOOSE(RANDBETWEEN(1,2),RANDBETWEEN(1,99),RANDBETWEEN(1,999)/10),CHOOSE(RANDBETWEEN(1,4),RANDBETWEEN(1,99999)/1000,RANDBETWEEN(1,9999)/100,RANDBETWEEN(1,999)/10,RANDBETWEEN(1,99))))","v":99},"cm"]
[{"$f":"IF(COUNTIF($B$1:B282,TRUE)=COUNTIF($B$1:B281,TRUE),\"\",COUNTIF($B$1:B282,TRUE))","v":170},{"$f":"IF(Worksheet!$D$10=2,FALSE,Worksheet!$B$15)","v":true},{"$f":"100*F282","v":4300},"cm","=",{"$f":"IF(Worksheet!$D$6=1,RANDBETWEEN(1,99),IF(Worksheet!$D$6=2,CHOOSE(RANDBETWEEN(1,2),RANDBETWEEN(1,99),RANDBETWEEN(1,999)/10),CHOOSE(RANDBETWEEN(1,4),RANDBETWEEN(1,99999)/1000,RANDBETWEEN(1,9999)/100,RANDBETWEEN(1,999)/10,RANDBETWEEN(1,99))))","v":43},"m"]
[{"$f":"IF(COUNTIF($B$1:B283,TRUE)=COUNTIF($B$1:B282,TRUE),\"\",COUNTIF($B$1:B283,TRUE))","v":171},{"$f":"IF(Worksheet!$D$10=2,FALSE,Worksheet!$B$16)","v":true},{"$f":"1000*F283","v":64000},"m","=",{"$f":"IF(Worksheet!$D$6=1,RANDBETWEEN(1,99),IF(Worksheet!$D$6=2,CHOOSE(RANDBETWEEN(1,2),RANDBETWEEN(1,99),RANDBETWEEN(1,999)/10),CHOOSE(RANDBETWEEN(1,4),RANDBETWEEN(1,99999)/1000,RANDBETWEEN(1,9999)/100,RANDBETWEEN(1,999)/10,RANDBETWEEN(1,99))))","v":64},"km"]
[{"$f":"IF(COUNTIF($B$1:B284,TRUE)=COUNTIF($B$1:B283,TRUE),\"\",COUNTIF($B$1:B284,TRUE))","v":""},{"$f":"IF(Worksheet!$D$10=2,FALSE,Worksheet!$B$17)","v":false},{"$f":"1000*F284","v":22000},"mm","=",{"$f":"IF(Worksheet!$D$6=1,RANDBETWEEN(1,99),IF(Worksheet!$D$6=2,CHOOSE(RANDBETWEEN(1,2),RANDBETWEEN(1,99),RANDBETWEEN(1,999)/10),CHOOSE(RANDBETWEEN(1,4),RANDBETWEEN(1,99999)/1000,RANDBETWEEN(1,9999)/100,RANDBETWEEN(1,999)/10,RANDBETWEEN(1,99))))","v":22},"m"]
[{"$f":"IF(COUNTIF($B$1:B285,TRUE)=COUNTIF($B$1:B284,TRUE),\"\",COUNTIF($B$1:B285,TRUE))","v":""},{"$f":"IF(Worksheet!$D$10=2,FALSE,Worksheet!$B$18)","v":false},{"$f":"100*F285","v":9900},"mm²","=",{"$f":"IF(Worksheet!$D$6=1,RANDBETWEEN(1,99),IF(Worksheet!$D$6=2,CHOOSE(RANDBETWEEN(1,2),RANDBETWEEN(1,99),RANDBETWEEN(1,999)/10),CHOOSE(RANDBETWEEN(1,4),RANDBETWEEN(1,99999)/1000,RANDBETWEEN(1,9999)/100,RANDBETWEEN(1,999)/10,RANDBETWEEN(1,99))))","v":99},"cm²"]
[{"$f":"IF(COUNTIF($B$1:B286,TRUE)=COUNTIF($B$1:B285,TRUE),\"\",COUNTIF($B$1:B286,TRUE))","v":172},{"$f":"IF(Worksheet!$D$10=2,FALSE,Worksheet!$D$14)","v":true},{"$f":"F286*1000","v":9000},"g","=",{"$f":"IF(Worksheet!$D$6=1,RANDBETWEEN(1,99),IF(Worksheet!$D$6=2,CHOOSE(RANDBETWEEN(1,2),RANDBETWEEN(1,99),RANDBETWEEN(1,999)/10),CHOOSE(RANDBETWEEN(1,4),RANDBETWEEN(1,99999)/1000,RANDBETWEEN(1,9999)/100,RANDBETWEEN(1,999)/10,RANDBETWEEN(1,99))))","v":9},"kg"]
[{"$f":"IF(COUNTIF($B$1:B287,TRUE)=COUNTIF($B$1:B286,TRUE),\"\",COUNTIF($B$1:B287,TRUE))","v":173},{"$f":"IF(Worksheet!$D$10=2,FALSE,Worksheet!$D$15)","v":true},{"$f":"F287*1000","v":93000},"kg","=",{"$f":"IF(Worksheet!$D$6=1,RANDBETWEEN(1,99),IF(Worksheet!$D$6=2,CHOOSE(RANDBETWEEN(1,2),RANDBETWEEN(1,99),RANDBETWEEN(1,999)/10),CHOOSE(RANDBETWEEN(1,4),RANDBETWEEN(1,99999)/1000,RANDBETWEEN(1,9999)/100,RANDBETWEEN(1,999)/10,RANDBETWEEN(1,99))))","v":93},"tonnes"]
[{"$f":"IF(COUNTIF($B$1:B288,TRUE)=COUNTIF($B$1:B287,TRUE),\"\",COUNTIF($B$1:B288,TRUE))","v":174},{"$f":"IF(Worksheet!$D$10=2,FALSE,Worksheet!$D$16)","v":true},{"$f":"1000*F288","v":49000},"ml","=",{"$f":"IF(Worksheet!$D$6=1,RANDBETWEEN(1,99),IF(Worksheet!$D$6=2,CHOOSE(RANDBETWEEN(1,2),RANDBETWEEN(1,99),RANDBETWEEN(1,999)/10),CHOOSE(RANDBETWEEN(1,4),RANDBETWEEN(1,99999)/1000,RANDBETWEEN(1,9999)/100,RANDBETWEEN(1,999)/10,RANDBETWEEN(1,99))))","v":49},"litres"]
[{"$f":"IF(COUNTIF($B$1:B289,TRUE)=COUNTIF($B$1:B288,TRUE),\"\",COUNTIF($B$1:B289,TRUE))","v":""},{"$f":"IF(Worksheet!$D$10=2,FALSE,Worksheet!$D$17)","v":false},{"$f":"1000*F289","v":47000},"cm³","=",{"$f":"IF(Worksheet!$D$6=1,RANDBETWEEN(1,99),IF(Worksheet!$D$6=2,CHOOSE(RANDBETWEEN(1,2),RANDBETWEEN(1,99),RANDBETWEEN(1,999)/10),CHOOSE(RANDBETWEEN(1,4),RANDBETWEEN(1,99999)/1000,RANDBETWEEN(1,9999)/100,RANDBETWEEN(1,999)/10,RANDBETWEEN(1,99))))","v":47},"litres"]
[{"$f":"IF(COUNTIF($B$1:B290,TRUE)=COUNTIF($B$1:B289,TRUE),\"\",COUNTIF($B$1:B290,TRUE))","v":""},{"$f":"IF(Worksheet!$D$10=2,FALSE,Worksheet!$D$18)","v":false},{"$f":"10000*F290","v":190000},"cm²","=",{"$f":"IF(Worksheet!$D$6=1,RANDBETWEEN(1,99),IF(Worksheet!$D$6=2,CHOOSE(RANDBETWEEN(1,2),RANDBETWEEN(1,99),RANDBETWEEN(1,999)/10),CHOOSE(RANDBETWEEN(1,4),RANDBETWEEN(1,99999)/1000,RANDBETWEEN(1,9999)/100,RANDBETWEEN(1,999)/10,RANDBETWEEN(1,99))))","v":19},"m²"]
[{"$f":"IF(COUNTIF($B$1:B291,TRUE)=COUNTIF($B$1:B290,TRUE),\"\",COUNTIF($B$1:B291,TRUE))","v":175},{"$f":"IF(Worksheet!$D$10=3,FALSE,Worksheet!$B$14)","v":true},{"$f":"IF(Worksheet!$D$6=1,RANDBETWEEN(1,99),IF(Worksheet!$D$6=2,CHOOSE(RANDBETWEEN(1,2),RANDBETWEEN(1,99),RANDBETWEEN(1,999)/10),CHOOSE(RANDBETWEEN(1,4),RANDBETWEEN(1,99999)/1000,RANDBETWEEN(1,9999)/100,RANDBETWEEN(1,999)/10,RANDBETWEEN(1,99))))","v":7},"cm","=",{"$f":"10*C291","v":70},"mm"]
[{"$f":"IF(COUNTIF($B$1:B292,TRUE)=COUNTIF($B$1:B291,TRUE),\"\",COUNTIF($B$1:B292,TRUE))","v":176},{"$f":"IF(Worksheet!$D$10=3,FALSE,Worksheet!$B$15)","v":true},{"$f":"IF(Worksheet!$D$6=1,RANDBETWEEN(1,99),IF(Worksheet!$D$6=2,CHOOSE(RANDBETWEEN(1,2),RANDBETWEEN(1,99),RANDBETWEEN(1,999)/10),CHOOSE(RANDBETWEEN(1,4),RANDBETWEEN(1,99999)/1000,RANDBETWEEN(1,9999)/100,RANDBETWEEN(1,999)/10,RANDBETWEEN(1,99))))","v":86},"m","=",{"$f":"100*C292","v":8600},"cm"]
[{"$f":"IF(COUNTIF($B$1:B293,TRUE)=COUNTIF($B$1:B292,TRUE),\"\",COUNTIF($B$1:B293,TRUE))","v":177},{"$f":"IF(Worksheet!$D$10=3,FALSE,Worksheet!$B$16)","v":true},{"$f":"IF(Worksheet!$D$6=1,RANDBETWEEN(1,99),IF(Worksheet!$D$6=2,CHOOSE(RANDBETWEEN(1,2),RANDBETWEEN(1,99),RANDBETWEEN(1,999)/10),CHOOSE(RANDBETWEEN(1,4),RANDBETWEEN(1,99999)/1000,RANDBETWEEN(1,9999)/100,RANDBETWEEN(1,999)/10,RANDBETWEEN(1,99))))","v":8},"km","=",{"$f":"1000*C293","v":8000},"m"]
[{"$f":"IF(COUNTIF($B$1:B294,TRUE)=COUNTIF($B$1:B293,TRUE),\"\",COUNTIF($B$1:B294,TRUE))","v":""},{"$f":"IF(Worksheet!$D$10=3,FALSE,Worksheet!$B$17)","v":false},{"$f":"IF(Worksheet!$D$6=1,RANDBETWEEN(1,99),IF(Worksheet!$D$6=2,CHOOSE(RANDBETWEEN(1,2),RANDBETWEEN(1,99),RANDBETWEEN(1,999)/10),CHOOSE(RANDBETWEEN(1,4),RANDBETWEEN(1,99999)/1000,RANDBETWEEN(1,9999)/100,RANDBETWEEN(1,999)/10,RANDBETWEEN(1,99))))","v":67},"m",{"$f":"#REF!","v":{"$error":"#REF!"}},{"$f":"1000*C294","v":67000},"mm"]
[{"$f":"IF(COUNTIF($B$1:B295,TRUE)=COUNTIF($B$1:B294,TRUE),\"\",COUNTIF($B$1:B295,TRUE))","v":""},{"$f":"IF(Worksheet!$D$10=3,FALSE,Worksheet!$B$18)","v":false},{"$f":"IF(Worksheet!$D$6=1,RANDBETWEEN(1,99),IF(Worksheet!$D$6=2,CHOOSE(RANDBETWEEN(1,2),RANDBETWEEN(1,99),RANDBETWEEN(1,999)/10),CHOOSE(RANDBETWEEN(1,4),RANDBETWEEN(1,99999)/1000,RANDBETWEEN(1,9999)/100,RANDBETWEEN(1,999)/10,RANDBETWEEN(1,99))))","v":53},"cm²","=",{"$f":"C295*100","v":5300},"mm²"]
[{"$f":"IF(COUNTIF($B$1:B296,TRUE)=COUNTIF($B$1:B295,TRUE),\"\",COUNTIF($B$1:B296,TRUE))","v":178},{"$f":"IF(Worksheet!$D$10=3,FALSE,Worksheet!$D$14)","v":true},{"$f":"IF(Worksheet!$D$6=1,RANDBETWEEN(1,99),IF(Worksheet!$D$6=2,CHOOSE(RANDBETWEEN(1,2),RANDBETWEEN(1,99),RANDBETWEEN(1,999)/10),CHOOSE(RANDBETWEEN(1,4),RANDBETWEEN(1,99999)/1000,RANDBETWEEN(1,9999)/100,RANDBETWEEN(1,999)/10,RANDBETWEEN(1,99))))","v":24},"kg","=",{"$f":"1000*C296","v":24000},"g"]
[{"$f":"IF(COUNTIF($B$1:B297,TRUE)=COUNTIF($B$1:B296,TRUE),\"\",COUNTIF($B$1:B297,TRUE))","v":179},{"$f":"IF(Worksheet!$D$10=3,FALSE,Worksheet!$D$15)","v":true},{"$f":"IF(Worksheet!$D$6=1,RANDBETWEEN(1,99),IF(Worksheet!$D$6=2,CHOOSE(RANDBETWEEN(1,2),RANDBETWEEN(1,99),RANDBETWEEN(1,999)/10),CHOOSE(RANDBETWEEN(1,4),RANDBETWEEN(1,99999)/1000,RANDBETWEEN(1,9999)/100,RANDBETWEEN(1,999)/10,RANDBETWEEN(1,99))))","v":90},"tonnes","=",{"$f":"1000*C297","v":90000},"kg"]
[{"$f":"IF(COUNTIF($B$1:B298,TRUE)=COUNTIF($B$1:B297,TRUE),\"\",COUNTIF($B$1:B298,TRUE))","v":180},{"$f":"IF(Worksheet!$D$10=3,FALSE,Worksheet!$D$16)","v":true},{"$f":"IF(Worksheet!$D$6=1,RANDBETWEEN(1,99),IF(Worksheet!$D$6=2,CHOOSE(RANDBETWEEN(1,2),RANDBETWEEN(1,99),RANDBETWEEN(1,999)/10),CHOOSE(RANDBETWEEN(1,4),RANDBETWEEN(1,99999)/1000,RANDBETWEEN(1,9999)/100,RANDBETWEEN(1,999)/10,RANDBETWEEN(1,99))))","v":7},"litres","=",{"$f":"1000*C298","v":7000},"ml"]
[{"$f":"IF(COUNTIF($B$1:B299,TRUE)=COUNTIF($B$1:B298,TRUE),\"\",COUNTIF($B$1:B299,TRUE))","v":""},{"$f":"IF(Worksheet!$D$10=3,FALSE,Worksheet!$D$17)","v":false},{"$f":"IF(Worksheet!$D$6=1,RANDBETWEEN(1,99),IF(Worksheet!$D$6=2,CHOOSE(RANDBETWEEN(1,2),RANDBETWEEN(1,99),RANDBETWEEN(1,999)/10),CHOOSE(RANDBETWEEN(1,4),RANDBETWEEN(1,99999)/1000,RANDBETWEEN(1,9999)/100,RANDBETWEEN(1,999)/10,RANDBETWEEN(1,99))))","v":30},"litres","=",{"$f":"1000*C299","v":30000},"cm³"]
[{"$f":"IF(COUNTIF($B$1:B300,TRUE)=COUNTIF($B$1:B299,TRUE),\"\",COUNTIF($B$1:B300,TRUE))","v":""},{"$f":"IF(Worksheet!$D$10=3,FALSE,Worksheet!$D$18)","v":false},{"$f":"IF(Worksheet!$D$6=1,RANDBETWEEN(1,99),IF(Worksheet!$D$6=2,CHOOSE(RANDBETWEEN(1,2),RANDBETWEEN(1,99),RANDBETWEEN(1,999)/10),CHOOSE(RANDBETWEEN(1,4),RANDBETWEEN(1,99999)/1000,RANDBETWEEN(1,9999)/100,RANDBETWEEN(1,999)/10,RANDBETWEEN(1,99))))","v":31},"m²","=",{"$f":"10000*C300","v":310000},"cm²"]
[{"$f":"IF(COUNTIF($B$1:B301,TRUE)=COUNTIF($B$1:B300,TRUE),\"\",COUNTIF($B$1:B301,TRUE))","v":181},{"$f":"IF(Worksheet!$D$10=2,FALSE,Worksheet!$B$14)","v":true},{"$f":"10*F301","v":680},"mm","=",{"$f":"IF(Worksheet!$D$6=1,RANDBETWEEN(1,99),IF(Worksheet!$D$6=2,CHOOSE(RANDBETWEEN(1,2),RANDBETWEEN(1,99),RANDBETWEEN(1,999)/10),CHOOSE(RANDBETWEEN(1,4),RANDBETWEEN(1,99999)/1000,RANDBETWEEN(1,9999)/100,RANDBETWEEN(1,999)/10,RANDBETWEEN(1,99))))","v":68},"cm"]
[{"$f":"IF(COUNTIF($B$1:B302,TRUE)=COUNTIF($B$1:B301,TRUE),\"\",COUNTIF($B$1:B302,TRUE))","v":182},{"$f":"IF(Worksheet!$D$10=2,FALSE,Worksheet!$B$15)","v":true},{"$f":"100*F302","v":7900},"cm","=",{"$f":"IF(Worksheet!$D$6=1,RANDBETWEEN(1,99),IF(Worksheet!$D$6=2,CHOOSE(RANDBETWEEN(1,2),RANDBETWEEN(1,99),RANDBETWEEN(1,999)/10),CHOOSE(RANDBETWEEN(1,4),RANDBETWEEN(1,99999)/1000,RANDBETWEEN(1,9999)/100,RANDBETWEEN(1,999)/10,RANDBETWEEN(1,99))))","v":79},"m"]
[{"$f":"IF(COUNTIF($B$1:B303,TRUE)=COUNTIF($B$1:B302,TRUE),\"\",COUNTIF($B$1:B303,TRUE))","v":183},{"$f":"IF(Worksheet!$D$10=2,FALSE,Worksheet!$B$16)","v":true},{"$f":"1000*F303","v":37000},"m","=",{"$f":"IF(Worksheet!$D$6=1,RANDBETWEEN(1,99),IF(Worksheet!$D$6=2,CHOOSE(RANDBETWEEN(1,2),RANDBETWEEN(1,99),RANDBETWEEN(1,999)/10),CHOOSE(RANDBETWEEN(1,4),RANDBETWEEN(1,99999)/1000,RANDBETWEEN(1,9999)/100,RANDBETWEEN(1,999)/10,RANDBETWEEN(1,99))))","v":37},"km"]
[{"$f":"IF(COUNTIF($B$1:B304,TRUE)=COUNTIF($B$1:B303,TRUE),\"\",COUNTIF($B$1:B304,TRUE))","v":""},{"$f":"IF(Worksheet!$D$10=2,FALSE,Worksheet!$B$17)","v":false},{"$f":"1000*F304","v":52000},"mm","=",{"$f":"IF(Worksheet!$D$6=1,RANDBETWEEN(1,99),IF(Worksheet!$D$6=2,CHOOSE(RANDBETWEEN(1,2),RANDBETWEEN(1,99),RANDBETWEEN(1,999)/10),CHOOSE(RANDBETWEEN(1,4),RANDBETWEEN(1,99999)/1000,RANDBETWEEN(1,9999)/100,RANDBETWEEN(1,999)/10,RANDBETWEEN(1,99))))","v":52},"m"]
[{"$f":"IF(COUNTIF($B$1:B305,TRUE)=COUNTIF($B$1:B304,TRUE),\"\",COUNTIF($B$1:B305,TRUE))","v":""},{"$f":"IF(Worksheet!$D$10=2,FALSE,Worksheet!$B$18)","v":false},{"$f":"100*F305","v":8700},"mm²","=",{"$f":"IF(Worksheet!$D$6=1,RANDBETWEEN(1,99),IF(Worksheet!$D$6=2,CHOOSE(RANDBETWEEN(1,2),RANDBETWEEN(1,99),RANDBETWEEN(1,999)/10),CHOOSE(RANDBETWEEN(1,4),RANDBETWEEN(1,99999)/1000,RANDBETWEEN(1,9999)/100,RANDBETWEEN(1,999)/10,RANDBETWEEN(1,99))))","v":87},"cm²"]
[{"$f":"IF(COUNTIF($B$1:B306,TRUE)=COUNTIF($B$1:B305,TRUE),\"\",COUNTIF($B$1:B306,TRUE))","v":184},{"$f":"IF(Worksheet!$D$10=2,FALSE,Worksheet!$D$14)","v":true},{"$f":"F306*1000","v":64000},"g","=",{"$f":"IF(Worksheet!$D$6=1,RANDBETWEEN(1,99),IF(Worksheet!$D$6=2,CHOOSE(RANDBETWEEN(1,2),RANDBETWEEN(1,99),RANDBETWEEN(1,999)/10),CHOOSE(RANDBETWEEN(1,4),RANDBETWEEN(1,99999)/1000,RANDBETWEEN(1,9999)/100,RANDBETWEEN(1,999)/10,RANDBETWEEN(1,99))))","v":64},"kg"]
[{"$f":"IF(COUNTIF($B$1:B307,TRUE)=COUNTIF($B$1:B306,TRUE),\"\",COUNTIF($B$1:B307,TRUE))","v":185},{"$f":"IF(Worksheet!$D$10=2,FALSE,Worksheet!$D$15)","v":true},{"$f":"F307*1000","v":91000},"kg","=",{"$f":"IF(Worksheet!$D$6=1,RANDBETWEEN(1,99),IF(Worksheet!$D$6=2,CHOOSE(RANDBETWEEN(1,2),RANDBETWEEN(1,99),RANDBETWEEN(1,999)/10),CHOOSE(RANDBETWEEN(1,4),RANDBETWEEN(1,99999)/1000,RANDBETWEEN(1,9999)/100,RANDBETWEEN(1,999)/10,RANDBETWEEN(1,99))))","v":91},"tonnes"]
[{"$f":"IF(COUNTIF($B$1:B308,TRUE)=COUNTIF($B$1:B307,TRUE),\"\",COUNTIF($B$1:B308,TRUE))","v":186},{"$f":"IF(Worksheet!$D$10=2,FALSE,Worksheet!$D$16)","v":true},{"$f":"1000*F308","v":19000},"ml","=",{"$f":"IF(Worksheet!$D$6=1,RANDBETWEEN(1,99),IF(Worksheet!$D$6=2,CHOOSE(RANDBETWEEN(1,2),RANDBETWEEN(1,99),RANDBETWEEN(1,999)/10),CHOOSE(RANDBETWEEN(1,4),RANDBETWEEN(1,99999)/1000,RANDBETWEEN(1,9999)/100,RANDBETWEEN(1,999)/10,RANDBETWEEN(1,99))))","v":19},"litres"]
[{"$f":"IF(COUNTIF($B$1:B309,TRUE)=COUNTIF($B$1:B308,TRUE),\"\",COUNTIF($B$1:B309,TRUE))","v":""},{"$f":"IF(Worksheet!$D$10=2,FALSE,Worksheet!$D$17)","v":false},{"$f":"1000*F309","v":67000},"cm³","=",{"$f":"IF(Worksheet!$D$6=1,RANDBETWEEN(1,99),IF(Worksheet!$D$6=2,CHOOSE(RANDBETWEEN(1,2),RANDBETWEEN(1,99),RANDBETWEEN(1,999)/10),CHOOSE(RANDBETWEEN(1,4),RANDBETWEEN(1,99999)/1000,RANDBETWEEN(1,9999)/100,RANDBETWEEN(1,999)/10,RANDBETWEEN(1,99))))","v":67},"litres"]
[{"$f":"IF(COUNTIF($B$1:B310,TRUE)=COUNTIF($B$1:B309,TRUE),\"\",COUNTIF($B$1:B310,TRUE))","v":""},{"$f":"IF(Worksheet!$D$10=2,FALSE,Worksheet!$D$18)","v":false},{"$f":"10000*F310","v":820000},"cm²","=",{"$f":"IF(Worksheet!$D$6=1,RANDBETWEEN(1,99),IF(Worksheet!$D$6=2,CHOOSE(RANDBETWEEN(1,2),RANDBETWEEN(1,99),RANDBETWEEN(1,999)/10),CHOOSE(RANDBETWEEN(1,4),RANDBETWEEN(1,99999)/1000,RANDBETWEEN(1,9999)/100,RANDBETWEEN(1,999)/10,RANDBETWEEN(1,99))))","v":82},"m²"]
[{"$f":"IF(COUNTIF($B$1:B311,TRUE)=COUNTIF($B$1:B310,TRUE),\"\",COUNTIF($B$1:B311,TRUE))","v":187},{"$f":"IF(Worksheet!$D$10=3,FALSE,Worksheet!$B$14)","v":true},{"$f":"IF(Worksheet!$D$6=1,RANDBETWEEN(1,99),IF(Worksheet!$D$6=2,CHOOSE(RANDBETWEEN(1,2),RANDBETWEEN(1,99),RANDBETWEEN(1,999)/10),CHOOSE(RANDBETWEEN(1,4),RANDBETWEEN(1,99999)/1000,RANDBETWEEN(1,9999)/100,RANDBETWEEN(1,999)/10,RANDBETWEEN(1,99))))","v":55},"cm","=",{"$f":"10*C311","v":550},"mm"]
[{"$f":"IF(COUNTIF($B$1:B312,TRUE)=COUNTIF($B$1:B311,TRUE),\"\",COUNTIF($B$1:B312,TRUE))","v":188},{"$f":"IF(Worksheet!$D$10=3,FALSE,Worksheet!$B$15)","v":true},{"$f":"IF(Worksheet!$D$6=1,RANDBETWEEN(1,99),IF(Worksheet!$D$6=2,CHOOSE(RANDBETWEEN(1,2),RANDBETWEEN(1,99),RANDBETWEEN(1,999)/10),CHOOSE(RANDBETWEEN(1,4),RANDBETWEEN(1,99999)/1000,RANDBETWEEN(1,9999)/100,RANDBETWEEN(1,999)/10,RANDBETWEEN(1,99))))","v":85},"m","=",{"$f":"100*C312","v":8500},"cm"]
[{"$f":"IF(COUNTIF($B$1:B313,TRUE)=COUNTIF($B$1:B312,TRUE),\"\",COUNTIF($B$1:B313,TRUE))","v":189},{"$f":"IF(Worksheet!$D$10=3,FALSE,Worksheet!$B$16)","v":true},{"$f":"IF(Worksheet!$D$6=1,RANDBETWEEN(1,99),IF(Worksheet!$D$6=2,CHOOSE(RANDBETWEEN(1,2),RANDBETWEEN(1,99),RANDBETWEEN(1,999)/10),CHOOSE(RANDBETWEEN(1,4),RANDBETWEEN(1,99999)/1000,RANDBETWEEN(1,9999)/100,RANDBETWEEN(1,999)/10,RANDBETWEEN(1,99))))","v":28},"km","=",{"$f":"1000*C313","v":28000},"m"]
[{"$f":"IF(COUNTIF($B$1:B314,TRUE)=COUNTIF($B$1:B313,TRUE),\"\",COUNTIF($B$1:B314,TRUE))","v":""},{"$f":"IF(Worksheet!$D$10=3,FALSE,Worksheet!$B$17)","v":false},{"$f":"IF(Worksheet!$D$6=1,RANDBETWEEN(1,99),IF(Worksheet!$D$6=2,CHOOSE(RANDBETWEEN(1,2),RANDBETWEEN(1,99),RANDBETWEEN(1,999)/10),CHOOSE(RANDBETWEEN(1,4),RANDBETWEEN(1,99999)/1000,RANDBETWEEN(1,9999)/100,RANDBETWEEN(1,999)/10,RANDBETWEEN(1,99))))","v":70},"m",{"$f":"#REF!","v":{"$error":"#REF!"}},{"$f":"1000*C314","v":70000},"mm"]
[{"$f":"IF(COUNTIF($B$1:B315,TRUE)=COUNTIF($B$1:B314,TRUE),\"\",COUNTIF($B$1:B315,TRUE))","v":""},{"$f":"IF(Worksheet!$D$10=3,FALSE,Worksheet!$B$18)","v":false},{"$f":"IF(Worksheet!$D$6=1,RANDBETWEEN(1,99),IF(Worksheet!$D$6=2,CHOOSE(RANDBETWEEN(1,2),RANDBETWEEN(1,99),RANDBETWEEN(1,999)/10),CHOOSE(RANDBETWEEN(1,4),RANDBETWEEN(1,99999)/1000,RANDBETWEEN(1,9999)/100,RANDBETWEEN(1,999)/10,RANDBETWEEN(1,99))))","v":41},"cm²","=",{"$f":"C315*100","v":4100},"mm²"]
[{"$f":"IF(COUNTIF($B$1:B316,TRUE)=COUNTIF($B$1:B315,TRUE),\"\",COUNTIF($B$1:B316,TRUE))","v":190},{"$f":"IF(Worksheet!$D$10=3,FALSE,Worksheet!$D$14)","v":true},{"$f":"IF(Worksheet!$D$6=1,RANDBETWEEN(1,99),IF(Worksheet!$D$6=2,CHOOSE(RANDBETWEEN(1,2),RANDBETWEEN(1,99),RANDBETWEEN(1,999)/10),CHOOSE(RANDBETWEEN(1,4),RANDBETWEEN(1,99999)/1000,RANDBETWEEN(1,9999)/100,RANDBETWEEN(1,999)/10,RANDBETWEEN(1,99))))","v":55},"kg","=",{"$f":"1000*C316","v":55000},"g"]
[{"$f":"IF(COUNTIF($B$1:B317,TRUE)=COUNTIF($B$1:B316,TRUE),\"\",COUNTIF($B$1:B317,TRUE))","v":191},{"$f":"IF(Worksheet!$D$10=3,FALSE,Worksheet!$D$15)","v":true},{"$f":"IF(Worksheet!$D$6=1,RANDBETWEEN(1,99),IF(Worksheet!$D$6=2,CHOOSE(RANDBETWEEN(1,2),RANDBETWEEN(1,99),RANDBETWEEN(1,999)/10),CHOOSE(RANDBETWEEN(1,4),RANDBETWEEN(1,99999)/1000,RANDBETWEEN(1,9999)/100,RANDBETWEEN(1,999)/10,RANDBETWEEN(1,99))))","v":84},"tonnes","=",{"$f":"1000*C317","v":84000},"kg"]
[{"$f":"IF(COUNTIF($B$1:B318,TRUE)=COUNTIF($B$1:B317,TRUE),\"\",COUNTIF($B$1:B318,TRUE))","v":192},{"$f":"IF(Worksheet!$D$10=3,FALSE,Worksheet!$D$16)","v":true},{"$f":"IF(Worksheet!$D$6=1,RANDBETWEEN(1,99),IF(Worksheet!$D$6=2,CHOOSE(RANDBETWEEN(1,2),RANDBETWEEN(1,99),RANDBETWEEN(1,999)/10),CHOOSE(RANDBETWEEN(1,4),RANDBETWEEN(1,99999)/1000,RANDBETWEEN(1,9999)/100,RANDBETWEEN(1,999)/10,RANDBETWEEN(1,99))))","v":47},"litres","=",{"$f":"1000*C318","v":47000},"ml"]
[{"$f":"IF(COUNTIF($B$1:B319,TRUE)=COUNTIF($B$1:B318,TRUE),\"\",COUNTIF($B$1:B319,TRUE))","v":""},{"$f":"IF(Worksheet!$D$10=3,FALSE,Worksheet!$D$17)","v":false},{"$f":"IF(Worksheet!$D$6=1,RANDBETWEEN(1,99),IF(Worksheet!$D$6=2,CHOOSE(RANDBETWEEN(1,2),RANDBETWEEN(1,99),RANDBETWEEN(1,999)/10),CHOOSE(RANDBETWEEN(1,4),RANDBETWEEN(1,99999)/1000,RANDBETWEEN(1,9999)/100,RANDBETWEEN(1,999)/10,RANDBETWEEN(1,99))))","v":9},"litres","=",{"$f":"1000*C319","v":9000},"cm³"]
[{"$f":"IF(COUNTIF($B$1:B320,TRUE)=COUNTIF($B$1:B319,TRUE),\"\",COUNTIF($B$1:B320,TRUE))","v":""},{"$f":"IF(Worksheet!$D$10=3,FALSE,Worksheet!$D$18)","v":false},{"$f":"IF(Worksheet!$D$6=1,RANDBETWEEN(1,99),IF(Worksheet!$D$6=2,CHOOSE(RANDBETWEEN(1,2),RANDBETWEEN(1,99),RANDBETWEEN(1,999)/10),CHOOSE(RANDBETWEEN(1,4),RANDBETWEEN(1,99999)/1000,RANDBETWEEN(1,9999)/100,RANDBETWEEN(1,999)/10,RANDBETWEEN(1,99))))","v":28},"m²","=",{"$f":"10000*C320","v":280000},"cm²"]
[{"$f":"IF(COUNTIF($B$1:B321,TRUE)=COUNTIF($B$1:B320,TRUE),\"\",COUNTIF($B$1:B321,TRUE))","v":193},{"$f":"IF(Worksheet!$D$10=2,FALSE,Worksheet!$B$14)","v":true},{"$f":"10*F321","v":630},"mm","=",{"$f":"IF(Worksheet!$D$6=1,RANDBETWEEN(1,99),IF(Worksheet!$D$6=2,CHOOSE(RANDBETWEEN(1,2),RANDBETWEEN(1,99),RANDBETWEEN(1,999)/10),CHOOSE(RANDBETWEEN(1,4),RANDBETWEEN(1,99999)/1000,RANDBETWEEN(1,9999)/100,RANDBETWEEN(1,999)/10,RANDBETWEEN(1,99))))","v":63},"cm"]
[{"$f":"IF(COUNTIF($B$1:B322,TRUE)=COUNTIF($B$1:B321,TRUE),\"\",COUNTIF($B$1:B322,TRUE))","v":194},{"$f":"IF(Worksheet!$D$10=2,FALSE,Worksheet!$B$15)","v":true},{"$f":"100*F322","v":2300},"cm","=",{"$f":"IF(Worksheet!$D$6=1,RANDBETWEEN(1,99),IF(Worksheet!$D$6=2,CHOOSE(RANDBETWEEN(1,2),RANDBETWEEN(1,99),RANDBETWEEN(1,999)/10),CHOOSE(RANDBETWEEN(1,4),RANDBETWEEN(1,99999)/1000,RANDBETWEEN(1,9999)/100,RANDBETWEEN(1,999)/10,RANDBETWEEN(1,99))))","v":23},"m"]
[{"$f":"IF(COUNTIF($B$1:B323,TRUE)=COUNTIF($B$1:B322,TRUE),\"\",COUNTIF($B$1:B323,TRUE))","v":195},{"$f":"IF(Worksheet!$D$10=2,FALSE,Worksheet!$B$16)","v":true},{"$f":"1000*F323","v":36000},"m","=",{"$f":"IF(Worksheet!$D$6=1,RANDBETWEEN(1,99),IF(Worksheet!$D$6=2,CHOOSE(RANDBETWEEN(1,2),RANDBETWEEN(1,99),RANDBETWEEN(1,999)/10),CHOOSE(RANDBETWEEN(1,4),RANDBETWEEN(1,99999)/1000,RANDBETWEEN(1,9999)/100,RANDBETWEEN(1,999)/10,RANDBETWEEN(1,99))))","v":36},"km"]
[{"$f":"IF(COUNTIF($B$1:B324,TRUE)=COUNTIF($B$1:B323,TRUE),\"\",COUNTIF($B$1:B324,TRUE))","v":""},{"$f":"IF(Worksheet!$D$10=2,FALSE,Worksheet!$B$17)","v":false},{"$f":"1000*F324","v":94000},"mm","=",{"$f":"IF(Worksheet!$D$6=1,RANDBETWEEN(1,99),IF(Worksheet!$D$6=2,CHOOSE(RANDBETWEEN(1,2),RANDBETWEEN(1,99),RANDBETWEEN(1,999)/10),CHOOSE(RANDBETWEEN(1,4),RANDBETWEEN(1,99999)/1000,RANDBETWEEN(1,9999)/100,RANDBETWEEN(1,999)/10,RANDBETWEEN(1,99))))","v":94},"m"]
[{"$f":"IF(COUNTIF($B$1:B325,TRUE)=COUNTIF($B$1:B324,TRUE),\"\",COUNTIF($B$1:B325,TRUE))","v":""},{"$f":"IF(Worksheet!$D$10=2,FALSE,Worksheet!$B$18)","v":false},{"$f":"100*F325","v":1000},"mm²","=",{"$f":"IF(Worksheet!$D$6=1,RANDBETWEEN(1,99),IF(Worksheet!$D$6=2,CHOOSE(RANDBETWEEN(1,2),RANDBETWEEN(1,99),RANDBETWEEN(1,999)/10),CHOOSE(RANDBETWEEN(1,4),RANDBETWEEN(1,99999)/1000,RANDBETWEEN(1,9999)/100,RANDBETWEEN(1,999)/10,RANDBETWEEN(1,99))))","v":10},"cm²"]
[{"$f":"IF(COUNTIF($B$1:B326,TRUE)=COUNTIF($B$1:B325,TRUE),\"\",COUNTIF($B$1:B326,TRUE))","v":196},{"$f":"IF(Worksheet!$D$10=2,FALSE,Worksheet!$D$14)","v":true},{"$f":"F326*1000","v":87000},"g","=",{"$f":"IF(Worksheet!$D$6=1,RANDBETWEEN(1,99),IF(Worksheet!$D$6=2,CHOOSE(RANDBETWEEN(1,2),RANDBETWEEN(1,99),RANDBETWEEN(1,999)/10),CHOOSE(RANDBETWEEN(1,4),RANDBETWEEN(1,99999)/1000,RANDBETWEEN(1,9999)/100,RANDBETWEEN(1,999)/10,RANDBETWEEN(1,99))))","v":87},"kg"]
[{"$f":"IF(COUNTIF($B$1:B327,TRUE)=COUNTIF($B$1:B326,TRUE),\"\",COUNTIF($B$1:B327,TRUE))","v":197},{"$f":"IF(Worksheet!$D$10=2,FALSE,Worksheet!$D$15)","v":true},{"$f":"F327*1000","v":24000},"kg","=",{"$f":"IF(Worksheet!$D$6=1,RANDBETWEEN(1,99),IF(Worksheet!$D$6=2,CHOOSE(RANDBETWEEN(1,2),RANDBETWEEN(1,99),RANDBETWEEN(1,999)/10),CHOOSE(RANDBETWEEN(1,4),RANDBETWEEN(1,99999)/1000,RANDBETWEEN(1,9999)/100,RANDBETWEEN(1,999)/10,RANDBETWEEN(1,99))))","v":24},"tonnes"]
[{"$f":"IF(COUNTIF($B$1:B328,TRUE)=COUNTIF($B$1:B327,TRUE),\"\",COUNTIF($B$1:B328,TRUE))","v":198},{"$f":"IF(Worksheet!$D$10=2,FALSE,Worksheet!$D$16)","v":true},{"$f":"1000*F328","v":93000},"ml","=",{"$f":"IF(Worksheet!$D$6=1,RANDBETWEEN(1,99),IF(Worksheet!$D$6=2,CHOOSE(RANDBETWEEN(1,2),RANDBETWEEN(1,99),RANDBETWEEN(1,999)/10),CHOOSE(RANDBETWEEN(1,4),RANDBETWEEN(1,99999)/1000,RANDBETWEEN(1,9999)/100,RANDBETWEEN(1,999)/10,RANDBETWEEN(1,99))))","v":93},"litres"]
[{"$f":"IF(COUNTIF($B$1:B329,TRUE)=COUNTIF($B$1:B328,TRUE),\"\",COUNTIF($B$1:B329,TRUE))","v":""},{"$f":"IF(Worksheet!$D$10=2,FALSE,Worksheet!$D$17)","v":false},{"$f":"1000*F329","v":64000},"cm³","=",{"$f":"IF(Worksheet!$D$6=1,RANDBETWEEN(1,99),IF(Worksheet!$D$6=2,CHOOSE(RANDBETWEEN(1,2),RANDBETWEEN(1,99),RANDBETWEEN(1,999)/10),CHOOSE(RANDBETWEEN(1,4),RANDBETWEEN(1,99999)/1000,RANDBETWEEN(1,9999)/100,RANDBETWEEN(1,999)/10,RANDBETWEEN(1,99))))","v":64},"litres"]
[{"$f":"IF(COUNTIF($B$1:B330,TRUE)=COUNTIF($B$1:B329,TRUE),\"\",COUNTIF($B$1:B330,TRUE))","v":""},{"$f":"IF(Worksheet!$D$10=2,FALSE,Worksheet!$D$18)","v":false},{"$f":"10000*F330","v":870000},"cm²","=",{"$f":"IF(Worksheet!$D$6=1,RANDBETWEEN(1,99),IF(Worksheet!$D$6=2,CHOOSE(RANDBETWEEN(1,2),RANDBETWEEN(1,99),RANDBETWEEN(1,999)/10),CHOOSE(RANDBETWEEN(1,4),RANDBETWEEN(1,99999)/1000,RANDBETWEEN(1,9999)/100,RANDBETWEEN(1,999)/10,RANDBETWEEN(1,99))))","v":87},"m²"]
[{"$f":"IF(COUNTIF($B$1:B331,TRUE)=COUNTIF($B$1:B330,TRUE),\"\",COUNTIF($B$1:B331,TRUE))","v":199},{"$f":"IF(Worksheet!$D$10=3,FALSE,Worksheet!$B$14)","v":true},{"$f":"IF(Worksheet!$D$6=1,RANDBETWEEN(1,99),IF(Worksheet!$D$6=2,CHOOSE(RANDBETWEEN(1,2),RANDBETWEEN(1,99),RANDBETWEEN(1,999)/10),CHOOSE(RANDBETWEEN(1,4),RANDBETWEEN(1,99999)/1000,RANDBETWEEN(1,9999)/100,RANDBETWEEN(1,999)/10,RANDBETWEEN(1,99))))","v":17},"cm","=",{"$f":"10*C331","v":170},"mm"]
[{"$f":"IF(COUNTIF($B$1:B332,TRUE)=COUNTIF($B$1:B331,TRUE),\"\",COUNTIF($B$1:B332,TRUE))","v":200},{"$f":"IF(Worksheet!$D$10=3,FALSE,Worksheet!$B$15)","v":true},{"$f":"IF(Worksheet!$D$6=1,RANDBETWEEN(1,99),IF(Worksheet!$D$6=2,CHOOSE(RANDBETWEEN(1,2),RANDBETWEEN(1,99),RANDBETWEEN(1,999)/10),CHOOSE(RANDBETWEEN(1,4),RANDBETWEEN(1,99999)/1000,RANDBETWEEN(1,9999)/100,RANDBETWEEN(1,999)/10,RANDBETWEEN(1,99))))","v":53},"m","=",{"$f":"100*C332","v":5300},"cm"]
[{"$f":"IF(COUNTIF($B$1:B333,TRUE)=COUNTIF($B$1:B332,TRUE),\"\",COUNTIF($B$1:B333,TRUE))","v":201},{"$f":"IF(Worksheet!$D$10=3,FALSE,Worksheet!$B$16)","v":true},{"$f":"IF(Worksheet!$D$6=1,RANDBETWEEN(1,99),IF(Worksheet!$D$6=2,CHOOSE(RANDBETWEEN(1,2),RANDBETWEEN(1,99),RANDBETWEEN(1,999)/10),CHOOSE(RANDBETWEEN(1,4),RANDBETWEEN(1,99999)/1000,RANDBETWEEN(1,9999)/100,RANDBETWEEN(1,999)/10,RANDBETWEEN(1,99))))","v":89},"km","=",{"$f":"1000*C333","v":89000},"m"]
[{"$f":"IF(COUNTIF($B$1:B334,TRUE)=COUNTIF($B$1:B333,TRUE),\"\",COUNTIF($B$1:B334,TRUE))","v":""},{"$f":"IF(Worksheet!$D$10=3,FALSE,Worksheet!$B$17)","v":false},{"$f":"IF(Worksheet!$D$6=1,RANDBETWEEN(1,99),IF(Worksheet!$D$6=2,CHOOSE(RANDBETWEEN(1,2),RANDBETWEEN(1,99),RANDBETWEEN(1,999)/10),CHOOSE(RANDBETWEEN(1,4),RANDBETWEEN(1,99999)/1000,RANDBETWEEN(1,9999)/100,RANDBETWEEN(1,999)/10,RANDBETWEEN(1,99))))","v":70},"m",{"$f":"#REF!","v":{"$error":"#REF!"}},{"$f":"1000*C334","v":70000},"mm"]
[{"$f":"IF(COUNTIF($B$1:B335,TRUE)=COUNTIF($B$1:B334,TRUE),\"\",COUNTIF($B$1:B335,TRUE))","v":""},{"$f":"IF(Worksheet!$D$10=3,FALSE,Worksheet!$B$18)","v":false},{"$f":"IF(Worksheet!$D$6=1,RANDBETWEEN(1,99),IF(Worksheet!$D$6=2,CHOOSE(RANDBETWEEN(1,2),RANDBETWEEN(1,99),RANDBETWEEN(1,999)/10),CHOOSE(RANDBETWEEN(1,4),RANDBETWEEN(1,99999)/1000,RANDBETWEEN(1,9999)/100,RANDBETWEEN(1,999)/10,RANDBETWEEN(1,99))))","v":95},"cm²","=",{"$f":"C335*100","v":9500},"mm²"]
[{"$f":"IF(COUNTIF($B$1:B336,TRUE)=COUNTIF($B$1:B335,TRUE),\"\",COUNTIF($B$1:B336,TRUE))","v":202},{"$f":"IF(Worksheet!$D$10=3,FALSE,Worksheet!$D$14)","v":true},{"$f":"IF(Worksheet!$D$6=1,RANDBETWEEN(1,99),IF(Worksheet!$D$6=2,CHOOSE(RANDBETWEEN(1,2),RANDBETWEEN(1,99),RANDBETWEEN(1,999)/10),CHOOSE(RANDBETWEEN(1,4),RANDBETWEEN(1,99999)/1000,RANDBETWEEN(1,9999)/100,RANDBETWEEN(1,999)/10,RANDBETWEEN(1,99))))","v":82},"kg","=",{"$f":"1000*C336","v":82000},"g"]
[{"$f":"IF(COUNTIF($B$1:B337,TRUE)=COUNTIF($B$1:B336,TRUE),\"\",COUNTIF($B$1:B337,TRUE))","v":203},{"$f":"IF(Worksheet!$D$10=3,FALSE,Worksheet!$D$15)","v":true},{"$f":"IF(Worksheet!$D$6=1,RANDBETWEEN(1,99),IF(Worksheet!$D$6=2,CHOOSE(RANDBETWEEN(1,2),RANDBETWEEN(1,99),RANDBETWEEN(1,999)/10),CHOOSE(RANDBETWEEN(1,4),RANDBETWEEN(1,99999)/1000,RANDBETWEEN(1,9999)/100,RANDBETWEEN(1,999)/10,RANDBETWEEN(1,99))))","v":11},"tonnes","=",{"$f":"1000*C337","v":11000},"kg"]
[{"$f":"IF(COUNTIF($B$1:B338,TRUE)=COUNTIF($B$1:B337,TRUE),\"\",COUNTIF($B$1:B338,TRUE))","v":204},{"$f":"IF(Worksheet!$D$10=3,FALSE,Worksheet!$D$16)","v":true},{"$f":"IF(Worksheet!$D$6=1,RANDBETWEEN(1,99),IF(Worksheet!$D$6=2,CHOOSE(RANDBETWEEN(1,2),RANDBETWEEN(1,99),RANDBETWEEN(1,999)/10),CHOOSE(RANDBETWEEN(1,4),RANDBETWEEN(1,99999)/1000,RANDBETWEEN(1,9999)/100,RANDBETWEEN(1,999)/10,RANDBETWEEN(1,99))))","v":90},"litres","=",{"$f":"1000*C338","v":90000},"ml"]
[{"$f":"IF(COUNTIF($B$1:B339,TRUE)=COUNTIF($B$1:B338,TRUE),\"\",COUNTIF($B$1:B339,TRUE))","v":""},{"$f":"IF(Worksheet!$D$10=3,FALSE,Worksheet!$D$17)","v":false},{"$f":"IF(Worksheet!$D$6=1,RANDBETWEEN(1,99),IF(Worksheet!$D$6=2,CHOOSE(RANDBETWEEN(1,2),RANDBETWEEN(1,99),RANDBETWEEN(1,999)/10),CHOOSE(RANDBETWEEN(1,4),RANDBETWEEN(1,99999)/1000,RANDBETWEEN(1,9999)/100,RANDBETWEEN(1,999)/10,RANDBETWEEN(1,99))))","v":67},"litres","=",{"$f":"1000*C339","v":67000},"cm³"]
[{"$f":"IF(COUNTIF($B$1:B340,TRUE)=COUNTIF($B$1:B339,TRUE),\"\",COUNTIF($B$1:B340,TRUE))","v":""},{"$f":"IF(Worksheet!$D$10=3,FALSE,Worksheet!$D$18)","v":false},{"$f":"IF(Worksheet!$D$6=1,RANDBETWEEN(1,99),IF(Worksheet!$D$6=2,CHOOSE(RANDBETWEEN(1,2),RANDBETWEEN(1,99),RANDBETWEEN(1,999)/10),CHOOSE(RANDBETWEEN(1,4),RANDBETWEEN(1,99999)/1000,RANDBETWEEN(1,9999)/100,RANDBETWEEN(1,999)/10,RANDBETWEEN(1,99))))","v":28},"m²","=",{"$f":"10000*C340","v":280000},"cm²"]
[{"$f":"IF(COUNTIF($B$1:B341,TRUE)=COUNTIF($B$1:B340,TRUE),\"\",COUNTIF($B$1:B341,TRUE))","v":205},{"$f":"IF(Worksheet!$D$10=2,FALSE,Worksheet!$B$14)","v":true},{"$f":"10*F341","v":750},"mm","=",{"$f":"IF(Worksheet!$D$6=1,RANDBETWEEN(1,99),IF(Worksheet!$D$6=2,CHOOSE(RANDBETWEEN(1,2),RANDBETWEEN(1,99),RANDBETWEEN(1,999)/10),CHOOSE(RANDBETWEEN(1,4),RANDBETWEEN(1,99999)/1000,RANDBETWEEN(1,9999)/100,RANDBETWEEN(1,999)/10,RANDBETWEEN(1,99))))","v":75},"cm"]
[{"$f":"IF(COUNTIF($B$1:B342,TRUE)=COUNTIF($B$1:B341,TRUE),\"\",COUNTIF($B$1:B342,TRUE))","v":206},{"$f":"IF(Worksheet!$D$10=2,FALSE,Worksheet!$B$15)","v":true},{"$f":"100*F342","v":3400},"cm","=",{"$f":"IF(Worksheet!$D$6=1,RANDBETWEEN(1,99),IF(Worksheet!$D$6=2,CHOOSE(RANDBETWEEN(1,2),RANDBETWEEN(1,99),RANDBETWEEN(1,999)/10),CHOOSE(RANDBETWEEN(1,4),RANDBETWEEN(1,99999)/1000,RANDBETWEEN(1,9999)/100,RANDBETWEEN(1,999)/10,RANDBETWEEN(1,99))))","v":34},"m"]
[{"$f":"IF(COUNTIF($B$1:B343,TRUE)=COUNTIF($B$1:B342,TRUE),\"\",COUNTIF($B$1:B343,TRUE))","v":207},{"$f":"IF(Worksheet!$D$10=2,FALSE,Worksheet!$B$16)","v":true},{"$f":"1000*F343","v":32000},"m","=",{"$f":"IF(Worksheet!$D$6=1,RANDBETWEEN(1,99),IF(Worksheet!$D$6=2,CHOOSE(RANDBETWEEN(1,2),RANDBETWEEN(1,99),RANDBETWEEN(1,999)/10),CHOOSE(RANDBETWEEN(1,4),RANDBETWEEN(1,99999)/1000,RANDBETWEEN(1,9999)/100,RANDBETWEEN(1,999)/10,RANDBETWEEN(1,99))))","v":32},"km"]
[{"$f":"IF(COUNTIF($B$1:B344,TRUE)=COUNTIF($B$1:B343,TRUE),\"\",COUNTIF($B$1:B344,TRUE))","v":""},{"$f":"IF(Worksheet!$D$10=2,FALSE,Worksheet!$B$17)","v":false},{"$f":"1000*F344","v":21000},"mm","=",{"$f":"IF(Worksheet!$D$6=1,RANDBETWEEN(1,99),IF(Worksheet!$D$6=2,CHOOSE(RANDBETWEEN(1,2),RANDBETWEEN(1,99),RANDBETWEEN(1,999)/10),CHOOSE(RANDBETWEEN(1,4),RANDBETWEEN(1,99999)/1000,RANDBETWEEN(1,9999)/100,RANDBETWEEN(1,999)/10,RANDBETWEEN(1,99))))","v":21},"m"]
[{"$f":"IF(COUNTIF($B$1:B345,TRUE)=COUNTIF($B$1:B344,TRUE),\"\",COUNTIF($B$1:B345,TRUE))","v":""},{"$f":"IF(Worksheet!$D$10=2,FALSE,Worksheet!$B$18)","v":false},{"$f":"100*F345","v":6200},"mm²","=",{"$f":"IF(Worksheet!$D$6=1,RANDBETWEEN(1,99),IF(Worksheet!$D$6=2,CHOOSE(RANDBETWEEN(1,2),RANDBETWEEN(1,99),RANDBETWEEN(1,999)/10),CHOOSE(RANDBETWEEN(1,4),RANDBETWEEN(1,99999)/1000,RANDBETWEEN(1,9999)/100,RANDBETWEEN(1,999)/10,RANDBETWEEN(1,99))))","v":62},"cm²"]
[{"$f":"IF(COUNTIF($B$1:B346,TRUE)=COUNTIF($B$1:B345,TRUE),\"\",COUNTIF($B$1:B346,TRUE))","v":208},{"$f":"IF(Worksheet!$D$10=2,FALSE,Worksheet!$D$14)","v":true},{"$f":"F346*1000","v":55000},"g","=",{"$f":"IF(Worksheet!$D$6=1,RANDBETWEEN(1,99),IF(Worksheet!$D$6=2,CHOOSE(RANDBETWEEN(1,2),RANDBETWEEN(1,99),RANDBETWEEN(1,999)/10),CHOOSE(RANDBETWEEN(1,4),RANDBETWEEN(1,99999)/1000,RANDBETWEEN(1,9999)/100,RANDBETWEEN(1,999)/10,RANDBETWEEN(1,99))))","v":55},"kg"]
[{"$f":"IF(COUNTIF($B$1:B347,TRUE)=COUNTIF($B$1:B346,TRUE),\"\",COUNTIF($B$1:B347,TRUE))","v":209},{"$f":"IF(Worksheet!$D$10=2,FALSE,Worksheet!$D$15)","v":true},{"$f":"F347*1000","v":89000},"kg","=",{"$f":"IF(Worksheet!$D$6=1,RANDBETWEEN(1,99),IF(Worksheet!$D$6=2,CHOOSE(RANDBETWEEN(1,2),RANDBETWEEN(1,99),RANDBETWEEN(1,999)/10),CHOOSE(RANDBETWEEN(1,4),RANDBETWEEN(1,99999)/1000,RANDBETWEEN(1,9999)/100,RANDBETWEEN(1,999)/10,RANDBETWEEN(1,99))))","v":89},"tonnes"]
[{"$f":"IF(COUNTIF($B$1:B348,TRUE)=COUNTIF($B$1:B347,TRUE),\"\",COUNTIF($B$1:B348,TRUE))","v":210},{"$f":"IF(Worksheet!$D$10=2,FALSE,Worksheet!$D$16)","v":true},{"$f":"1000*F348","v":64000},"ml","=",{"$f":"IF(Worksheet!$D$6=1,RANDBETWEEN(1,99),IF(Worksheet!$D$6=2,CHOOSE(RANDBETWEEN(1,2),RANDBETWEEN(1,99),RANDBETWEEN(1,999)/10),CHOOSE(RANDBETWEEN(1,4),RANDBETWEEN(1,99999)/1000,RANDBETWEEN(1,9999)/100,RANDBETWEEN(1,999)/10,RANDBETWEEN(1,99))))","v":64},"litres"]
[{"$f":"IF(COUNTIF($B$1:B349,TRUE)=COUNTIF($B$1:B348,TRUE),\"\",COUNTIF($B$1:B349,TRUE))","v":""},{"$f":"IF(Worksheet!$D$10=2,FALSE,Worksheet!$D$17)","v":false},{"$f":"1000*F349","v":4000},"cm³","=",{"$f":"IF(Worksheet!$D$6=1,RANDBETWEEN(1,99),IF(Worksheet!$D$6=2,CHOOSE(RANDBETWEEN(1,2),RANDBETWEEN(1,99),RANDBETWEEN(1,999)/10),CHOOSE(RANDBETWEEN(1,4),RANDBETWEEN(1,99999)/1000,RANDBETWEEN(1,9999)/100,RANDBETWEEN(1,999)/10,RANDBETWEEN(1,99))))","v":4},"litres"]
[{"$f":"IF(COUNTIF($B$1:B350,TRUE)=COUNTIF($B$1:B349,TRUE),\"\",COUNTIF($B$1:B350,TRUE))","v":""},{"$f":"IF(Worksheet!$D$10=2,FALSE,Worksheet!$D$18)","v":false},{"$f":"10000*F350","v":430000},"cm²","=",{"$f":"IF(Worksheet!$D$6=1,RANDBETWEEN(1,99),IF(Worksheet!$D$6=2,CHOOSE(RANDBETWEEN(1,2),RANDBETWEEN(1,99),RANDBETWEEN(1,999)/10),CHOOSE(RANDBETWEEN(1,4),RANDBETWEEN(1,99999)/1000,RANDBETWEEN(1,9999)/100,RANDBETWEEN(1,999)/10,RANDBETWEEN(1,99))))","v":43},"m²"]
[{"$f":"IF(COUNTIF($B$1:B351,TRUE)=COUNTIF($B$1:B350,TRUE),\"\",COUNTIF($B$1:B351,TRUE))","v":211},{"$f":"IF(Worksheet!$D$10=3,FALSE,Worksheet!$B$14)","v":true},{"$f":"IF(Worksheet!$D$6=1,RANDBETWEEN(1,99),IF(Worksheet!$D$6=2,CHOOSE(RANDBETWEEN(1,2),RANDBETWEEN(1,99),RANDBETWEEN(1,999)/10),CHOOSE(RANDBETWEEN(1,4),RANDBETWEEN(1,99999)/1000,RANDBETWEEN(1,9999)/100,RANDBETWEEN(1,999)/10,RANDBETWEEN(1,99))))","v":63},"cm","=",{"$f":"10*C351","v":630},"mm"]
[{"$f":"IF(COUNTIF($B$1:B352,TRUE)=COUNTIF($B$1:B351,TRUE),\"\",COUNTIF($B$1:B352,TRUE))","v":212},{"$f":"IF(Worksheet!$D$10=3,FALSE,Worksheet!$B$15)","v":true},{"$f":"IF(Worksheet!$D$6=1,RANDBETWEEN(1,99),IF(Worksheet!$D$6=2,CHOOSE(RANDBETWEEN(1,2),RANDBETWEEN(1,99),RANDBETWEEN(1,999)/10),CHOOSE(RANDBETWEEN(1,4),RANDBETWEEN(1,99999)/1000,RANDBETWEEN(1,9999)/100,RANDBETWEEN(1,999)/10,RANDBETWEEN(1,99))))","v":42},"m","=",{"$f":"100*C352","v":4200},"cm"]
[{"$f":"IF(COUNTIF($B$1:B353,TRUE)=COUNTIF($B$1:B352,TRUE),\"\",COUNTIF($B$1:B353,TRUE))","v":213},{"$f":"IF(Worksheet!$D$10=3,FALSE,Worksheet!$B$16)","v":true},{"$f":"IF(Worksheet!$D$6=1,RANDBETWEEN(1,99),IF(Worksheet!$D$6=2,CHOOSE(RANDBETWEEN(1,2),RANDBETWEEN(1,99),RANDBETWEEN(1,999)/10),CHOOSE(RANDBETWEEN(1,4),RANDBETWEEN(1,99999)/1000,RANDBETWEEN(1,9999)/100,RANDBETWEEN(1,999)/10,RANDBETWEEN(1,99))))","v":50},"km","=",{"$f":"1000*C353","v":50000},"m"]
[{"$f":"IF(COUNTIF($B$1:B354,TRUE)=COUNTIF($B$1:B353,TRUE),\"\",COUNTIF($B$1:B354,TRUE))","v":""},{"$f":"IF(Worksheet!$D$10=3,FALSE,Worksheet!$B$17)","v":false},{"$f":"IF(Worksheet!$D$6=1,RANDBETWEEN(1,99),IF(Worksheet!$D$6=2,CHOOSE(RANDBETWEEN(1,2),RANDBETWEEN(1,99),RANDBETWEEN(1,999)/10),CHOOSE(RANDBETWEEN(1,4),RANDBETWEEN(1,99999)/1000,RANDBETWEEN(1,9999)/100,RANDBETWEEN(1,999)/10,RANDBETWEEN(1,99))))","v":78},"m",{"$f":"#REF!","v":{"$error":"#REF!"}},{"$f":"1000*C354","v":78000},"mm"]
[{"$f":"IF(COUNTIF($B$1:B355,TRUE)=COUNTIF($B$1:B354,TRUE),\"\",COUNTIF($B$1:B355,TRUE))","v":""},{"$f":"IF(Worksheet!$D$10=3,FALSE,Worksheet!$B$18)","v":false},{"$f":"IF(Worksheet!$D$6=1,RANDBETWEEN(1,99),IF(Worksheet!$D$6=2,CHOOSE(RANDBETWEEN(1,2),RANDBETWEEN(1,99),RANDBETWEEN(1,999)/10),CHOOSE(RANDBETWEEN(1,4),RANDBETWEEN(1,99999)/1000,RANDBETWEEN(1,9999)/100,RANDBETWEEN(1,999)/10,RANDBETWEEN(1,99))))","v":81},"cm²","=",{"$f":"C355*100","v":8100},"mm²"]
[{"$f":"IF(COUNTIF($B$1:B356,TRUE)=COUNTIF($B$1:B355,TRUE),\"\",COUNTIF($B$1:B356,TRUE))","v":214},{"$f":"IF(Worksheet!$D$10=3,FALSE,Worksheet!$D$14)","v":true},{"$f":"IF(Worksheet!$D$6=1,RANDBETWEEN(1,99),IF(Worksheet!$D$6=2,CHOOSE(RANDBETWEEN(1,2),RANDBETWEEN(1,99),RANDBETWEEN(1,999)/10),CHOOSE(RANDBETWEEN(1,4),RANDBETWEEN(1,99999)/1000,RANDBETWEEN(1,9999)/100,RANDBETWEEN(1,999)/10,RANDBETWEEN(1,99))))","v":39},"kg","=",{"$f":"1000*C356","v":39000},"g"]
[{"$f":"IF(COUNTIF($B$1:B357,TRUE)=COUNTIF($B$1:B356,TRUE),\"\",COUNTIF($B$1:B357,TRUE))","v":215},{"$f":"IF(Worksheet!$D$10=3,FALSE,Worksheet!$D$15)","v":true},{"$f":"IF(Worksheet!$D$6=1,RANDBETWEEN(1,99),IF(Worksheet!$D$6=2,CHOOSE(RANDBETWEEN(1,2),RANDBETWEEN(1,99),RANDBETWEEN(1,999)/10),CHOOSE(RANDBETWEEN(1,4),RANDBETWEEN(1,99999)/1000,RANDBETWEEN(1,9999)/100,RANDBETWEEN(1,999)/10,RANDBETWEEN(1,99))))","v":78},"tonnes","=",{"$f":"1000*C357","v":78000},"kg"]
[{"$f":"IF(COUNTIF($B$1:B358,TRUE)=COUNTIF($B$1:B357,TRUE),\"\",COUNTIF($B$1:B358,TRUE))","v":216},{"$f":"IF(Worksheet!$D$10=3,FALSE,Worksheet!$D$16)","v":true},{"$f":"IF(Worksheet!$D$6=1,RANDBETWEEN(1,99),IF(Worksheet!$D$6=2,CHOOSE(RANDBETWEEN(1,2),RANDBETWEEN(1,99),RANDBETWEEN(1,999)/10),CHOOSE(RANDBETWEEN(1,4),RANDBETWEEN(1,99999)/1000,RANDBETWEEN(1,9999)/100,RANDBETWEEN(1,999)/10,RANDBETWEEN(1,99))))","v":64},"litres","=",{"$f":"1000*C358","v":64000},"ml"]
[{"$f":"IF(COUNTIF($B$1:B359,TRUE)=COUNTIF($B$1:B358,TRUE),\"\",COUNTIF($B$1:B359,TRUE))","v":""},{"$f":"IF(Worksheet!$D$10=3,FALSE,Worksheet!$D$17)","v":false},{"$f":"IF(Worksheet!$D$6=1,RANDBETWEEN(1,99),IF(Worksheet!$D$6=2,CHOOSE(RANDBETWEEN(1,2),RANDBETWEEN(1,99),RANDBETWEEN(1,999)/10),CHOOSE(RANDBETWEEN(1,4),RANDBETWEEN(1,99999)/1000,RANDBETWEEN(1,9999)/100,RANDBETWEEN(1,999)/10,RANDBETWEEN(1,99))))","v":11},"litres","=",{"$f":"1000*C359","v":11000},"cm³"]
[{"$f":"IF(COUNTIF($B$1:B360,TRUE)=COUNTIF($B$1:B359,TRUE),\"\",COUNTIF($B$1:B360,TRUE))","v":""},{"$f":"IF(Worksheet!$D$10=3,FALSE,Worksheet!$D$18)","v":false},{"$f":"IF(Worksheet!$D$6=1,RANDBETWEEN(1,99),IF(Worksheet!$D$6=2,CHOOSE(RANDBETWEEN(1,2),RANDBETWEEN(1,99),RANDBETWEEN(1,999)/10),CHOOSE(RANDBETWEEN(1,4),RANDBETWEEN(1,99999)/1000,RANDBETWEEN(1,9999)/100,RANDBETWEEN(1,999)/10,RANDBETWEEN(1,99))))","v":16},"m²","=",{"$f":"10000*C360","v":160000},"cm²"]
[{"$f":"IF(COUNTIF($B$1:B361,TRUE)=COUNTIF($B$1:B360,TRUE),\"\",COUNTIF($B$1:B361,TRUE))","v":217},{"$f":"IF(Worksheet!$D$10=2,FALSE,Worksheet!$B$14)","v":true},{"$f":"10*F361","v":730},"mm","=",{"$f":"IF(Worksheet!$D$6=1,RANDBETWEEN(1,99),IF(Worksheet!$D$6=2,CHOOSE(RANDBETWEEN(1,2),RANDBETWEEN(1,99),RANDBETWEEN(1,999)/10),CHOOSE(RANDBETWEEN(1,4),RANDBETWEEN(1,99999)/1000,RANDBETWEEN(1,9999)/100,RANDBETWEEN(1,999)/10,RANDBETWEEN(1,99))))","v":73},"cm"]
[{"$f":"IF(COUNTIF($B$1:B362,TRUE)=COUNTIF($B$1:B361,TRUE),\"\",COUNTIF($B$1:B362,TRUE))","v":218},{"$f":"IF(Worksheet!$D$10=2,FALSE,Worksheet!$B$15)","v":true},{"$f":"100*F362","v":7700},"cm","=",{"$f":"IF(Worksheet!$D$6=1,RANDBETWEEN(1,99),IF(Worksheet!$D$6=2,CHOOSE(RANDBETWEEN(1,2),RANDBETWEEN(1,99),RANDBETWEEN(1,999)/10),CHOOSE(RANDBETWEEN(1,4),RANDBETWEEN(1,99999)/1000,RANDBETWEEN(1,9999)/100,RANDBETWEEN(1,999)/10,RANDBETWEEN(1,99))))","v":77},"m"]
[{"$f":"IF(COUNTIF($B$1:B363,TRUE)=COUNTIF($B$1:B362,TRUE),\"\",COUNTIF($B$1:B363,TRUE))","v":219},{"$f":"IF(Worksheet!$D$10=2,FALSE,Worksheet!$B$16)","v":true},{"$f":"1000*F363","v":70000},"m","=",{"$f":"IF(Worksheet!$D$6=1,RANDBETWEEN(1,99),IF(Worksheet!$D$6=2,CHOOSE(RANDBETWEEN(1,2),RANDBETWEEN(1,99),RANDBETWEEN(1,999)/10),CHOOSE(RANDBETWEEN(1,4),RANDBETWEEN(1,99999)/1000,RANDBETWEEN(1,9999)/100,RANDBETWEEN(1,999)/10,RANDBETWEEN(1,99))))","v":70},"km"]
[{"$f":"IF(COUNTIF($B$1:B364,TRUE)=COUNTIF($B$1:B363,TRUE),\"\",COUNTIF($B$1:B364,TRUE))","v":""},{"$f":"IF(Worksheet!$D$10=2,FALSE,Worksheet!$B$17)","v":false},{"$f":"1000*F364","v":72000},"mm","=",{"$f":"IF(Worksheet!$D$6=1,RANDBETWEEN(1,99),IF(Worksheet!$D$6=2,CHOOSE(RANDBETWEEN(1,2),RANDBETWEEN(1,99),RANDBETWEEN(1,999)/10),CHOOSE(RANDBETWEEN(1,4),RANDBETWEEN(1,99999)/1000,RANDBETWEEN(1,9999)/100,RANDBETWEEN(1,999)/10,RANDBETWEEN(1,99))))","v":72},"m"]
[{"$f":"IF(COUNTIF($B$1:B365,TRUE)=COUNTIF($B$1:B364,TRUE),\"\",COUNTIF($B$1:B365,TRUE))","v":""},{"$f":"IF(Worksheet!$D$10=2,FALSE,Worksheet!$B$18)","v":false},{"$f":"100*F365","v":4700},"mm²","=",{"$f":"IF(Worksheet!$D$6=1,RANDBETWEEN(1,99),IF(Worksheet!$D$6=2,CHOOSE(RANDBETWEEN(1,2),RANDBETWEEN(1,99),RANDBETWEEN(1,999)/10),CHOOSE(RANDBETWEEN(1,4),RANDBETWEEN(1,99999)/1000,RANDBETWEEN(1,9999)/100,RANDBETWEEN(1,999)/10,RANDBETWEEN(1,99))))","v":47},"cm²"]
[{"$f":"IF(COUNTIF($B$1:B366,TRUE)=COUNTIF($B$1:B365,TRUE),\"\",COUNTIF($B$1:B366,TRUE))","v":220},{"$f":"IF(Worksheet!$D$10=2,FALSE,Worksheet!$D$14)","v":true},{"$f":"F366*1000","v":78000},"g","=",{"$f":"IF(Worksheet!$D$6=1,RANDBETWEEN(1,99),IF(Worksheet!$D$6=2,CHOOSE(RANDBETWEEN(1,2),RANDBETWEEN(1,99),RANDBETWEEN(1,999)/10),CHOOSE(RANDBETWEEN(1,4),RANDBETWEEN(1,99999)/1000,RANDBETWEEN(1,9999)/100,RANDBETWEEN(1,999)/10,RANDBETWEEN(1,99))))","v":78},"kg"]
[{"$f":"IF(COUNTIF($B$1:B367,TRUE)=COUNTIF($B$1:B366,TRUE),\"\",COUNTIF($B$1:B367,TRUE))","v":221},{"$f":"IF(Worksheet!$D$10=2,FALSE,Worksheet!$D$15)","v":true},{"$f":"F367*1000","v":98000},"kg","=",{"$f":"IF(Worksheet!$D$6=1,RANDBETWEEN(1,99),IF(Worksheet!$D$6=2,CHOOSE(RANDBETWEEN(1,2),RANDBETWEEN(1,99),RANDBETWEEN(1,999)/10),CHOOSE(RANDBETWEEN(1,4),RANDBETWEEN(1,99999)/1000,RANDBETWEEN(1,9999)/100,RANDBETWEEN(1,999)/10,RANDBETWEEN(1,99))))","v":98},"tonnes"]
[{"$f":"IF(COUNTIF($B$1:B368,TRUE)=COUNTIF($B$1:B367,TRUE),\"\",COUNTIF($B$1:B368,TRUE))","v":222},{"$f":"IF(Worksheet!$D$10=2,FALSE,Worksheet!$D$16)","v":true},{"$f":"1000*F368","v":79000},"ml","=",{"$f":"IF(Worksheet!$D$6=1,RANDBETWEEN(1,99),IF(Worksheet!$D$6=2,CHOOSE(RANDBETWEEN(1,2),RANDBETWEEN(1,99),RANDBETWEEN(1,999)/10),CHOOSE(RANDBETWEEN(1,4),RANDBETWEEN(1,99999)/1000,RANDBETWEEN(1,9999)/100,RANDBETWEEN(1,999)/10,RANDBETWEEN(1,99))))","v":79},"litres"]
[{"$f":"IF(COUNTIF($B$1:B369,TRUE)=COUNTIF($B$1:B368,TRUE),\"\",COUNTIF($B$1:B369,TRUE))","v":""},{"$f":"IF(Worksheet!$D$10=2,FALSE,Worksheet!$D$17)","v":false},{"$f":"1000*F369","v":19000},"cm³","=",{"$f":"IF(Worksheet!$D$6=1,RANDBETWEEN(1,99),IF(Worksheet!$D$6=2,CHOOSE(RANDBETWEEN(1,2),RANDBETWEEN(1,99),RANDBETWEEN(1,999)/10),CHOOSE(RANDBETWEEN(1,4),RANDBETWEEN(1,99999)/1000,RANDBETWEEN(1,9999)/100,RANDBETWEEN(1,999)/10,RANDBETWEEN(1,99))))","v":19},"litres"]
[{"$f":"IF(COUNTIF($B$1:B370,TRUE)=COUNTIF($B$1:B369,TRUE),\"\",COUNTIF($B$1:B370,TRUE))","v":""},{"$f":"IF(Worksheet!$D$10=2,FALSE,Worksheet!$D$18)","v":false},{"$f":"10000*F370","v":510000},"cm²","=",{"$f":"IF(Worksheet!$D$6=1,RANDBETWEEN(1,99),IF(Worksheet!$D$6=2,CHOOSE(RANDBETWEEN(1,2),RANDBETWEEN(1,99),RANDBETWEEN(1,999)/10),CHOOSE(RANDBETWEEN(1,4),RANDBETWEEN(1,99999)/1000,RANDBETWEEN(1,9999)/100,RANDBETWEEN(1,999)/10,RANDBETWEEN(1,99))))","v":51},"m²"]
[{"$f":"IF(COUNTIF($B$1:B371,TRUE)=COUNTIF($B$1:B370,TRUE),\"\",COUNTIF($B$1:B371,TRUE))","v":223},{"$f":"IF(Worksheet!$D$10=3,FALSE,Worksheet!$B$14)","v":true},{"$f":"IF(Worksheet!$D$6=1,RANDBETWEEN(1,99),IF(Worksheet!$D$6=2,CHOOSE(RANDBETWEEN(1,2),RANDBETWEEN(1,99),RANDBETWEEN(1,999)/10),CHOOSE(RANDBETWEEN(1,4),RANDBETWEEN(1,99999)/1000,RANDBETWEEN(1,9999)/100,RANDBETWEEN(1,999)/10,RANDBETWEEN(1,99))))","v":95},"cm","=",{"$f":"10*C371","v":950},"mm"]
[{"$f":"IF(COUNTIF($B$1:B372,TRUE)=COUNTIF($B$1:B371,TRUE),\"\",COUNTIF($B$1:B372,TRUE))","v":224},{"$f":"IF(Worksheet!$D$10=3,FALSE,Worksheet!$B$15)","v":true},{"$f":"IF(Worksheet!$D$6=1,RANDBETWEEN(1,99),IF(Worksheet!$D$6=2,CHOOSE(RANDBETWEEN(1,2),RANDBETWEEN(1,99),RANDBETWEEN(1,999)/10),CHOOSE(RANDBETWEEN(1,4),RANDBETWEEN(1,99999)/1000,RANDBETWEEN(1,9999)/100,RANDBETWEEN(1,999)/10,RANDBETWEEN(1,99))))","v":68},"m","=",{"$f":"100*C372","v":6800},"cm"]
[{"$f":"IF(COUNTIF($B$1:B373,TRUE)=COUNTIF($B$1:B372,TRUE),\"\",COUNTIF($B$1:B373,TRUE))","v":225},{"$f":"IF(Worksheet!$D$10=3,FALSE,Worksheet!$B$16)","v":true},{"$f":"IF(Worksheet!$D$6=1,RANDBETWEEN(1,99),IF(Worksheet!$D$6=2,CHOOSE(RANDBETWEEN(1,2),RANDBETWEEN(1,99),RANDBETWEEN(1,999)/10),CHOOSE(RANDBETWEEN(1,4),RANDBETWEEN(1,99999)/1000,RANDBETWEEN(1,9999)/100,RANDBETWEEN(1,999)/10,RANDBETWEEN(1,99))))","v":95},"km","=",{"$f":"1000*C373","v":95000},"m"]
[{"$f":"IF(COUNTIF($B$1:B374,TRUE)=COUNTIF($B$1:B373,TRUE),\"\",COUNTIF($B$1:B374,TRUE))","v":""},{"$f":"IF(Worksheet!$D$10=3,FALSE,Worksheet!$B$17)","v":false},{"$f":"IF(Worksheet!$D$6=1,RANDBETWEEN(1,99),IF(Worksheet!$D$6=2,CHOOSE(RANDBETWEEN(1,2),RANDBETWEEN(1,99),RANDBETWEEN(1,999)/10),CHOOSE(RANDBETWEEN(1,4),RANDBETWEEN(1,99999)/1000,RANDBETWEEN(1,9999)/100,RANDBETWEEN(1,999)/10,RANDBETWEEN(1,99))))","v":91},"m",{"$f":"#REF!","v":{"$error":"#REF!"}},{"$f":"1000*C374","v":91000},"mm"]
[{"$f":"IF(COUNTIF($B$1:B375,TRUE)=COUNTIF($B$1:B374,TRUE),\"\",COUNTIF($B$1:B375,TRUE))","v":""},{"$f":"IF(Worksheet!$D$10=3,FALSE,Worksheet!$B$18)","v":false},{"$f":"IF(Worksheet!$D$6=1,RANDBETWEEN(1,99),IF(Worksheet!$D$6=2,CHOOSE(RANDBETWEEN(1,2),RANDBETWEEN(1,99),RANDBETWEEN(1,999)/10),CHOOSE(RANDBETWEEN(1,4),RANDBETWEEN(1,99999)/1000,RANDBETWEEN(1,9999)/100,RANDBETWEEN(1,999)/10,RANDBETWEEN(1,99))))","v":98},"cm²","=",{"$f":"C375*100","v":9800},"mm²"]
[{"$f":"IF(COUNTIF($B$1:B376,TRUE)=COUNTIF($B$1:B375,TRUE),\"\",COUNTIF($B$1:B376,TRUE))","v":226},{"$f":"IF(Worksheet!$D$10=3,FALSE,Worksheet!$D$14)","v":true},{"$f":"IF(Worksheet!$D$6=1,RANDBETWEEN(1,99),IF(Worksheet!$D$6=2,CHOOSE(RANDBETWEEN(1,2),RANDBETWEEN(1,99),RANDBETWEEN(1,999)/10),CHOOSE(RANDBETWEEN(1,4),RANDBETWEEN(1,99999)/1000,RANDBETWEEN(1,9999)/100,RANDBETWEEN(1,999)/10,RANDBETWEEN(1,99))))","v":25},"kg","=",{"$f":"1000*C376","v":25000},"g"]
[{"$f":"IF(COUNTIF($B$1:B377,TRUE)=COUNTIF($B$1:B376,TRUE),\"\",COUNTIF($B$1:B377,TRUE))","v":227},{"$f":"IF(Worksheet!$D$10=3,FALSE,Worksheet!$D$15)","v":true},{"$f":"IF(Worksheet!$D$6=1,RANDBETWEEN(1,99),IF(Worksheet!$D$6=2,CHOOSE(RANDBETWEEN(1,2),RANDBETWEEN(1,99),RANDBETWEEN(1,999)/10),CHOOSE(RANDBETWEEN(1,4),RANDBETWEEN(1,99999)/1000,RANDBETWEEN(1,9999)/100,RANDBETWEEN(1,999)/10,RANDBETWEEN(1,99))))","v":67},"tonnes","=",{"$f":"1000*C377","v":67000},"kg"]
[{"$f":"IF(COUNTIF($B$1:B378,TRUE)=COUNTIF($B$1:B377,TRUE),\"\",COUNTIF($B$1:B378,TRUE))","v":228},{"$f":"IF(Worksheet!$D$10=3,FALSE,Worksheet!$D$16)","v":true},{"$f":"IF(Worksheet!$D$6=1,RANDBETWEEN(1,99),IF(Worksheet!$D$6=2,CHOOSE(RANDBETWEEN(1,2),RANDBETWEEN(1,99),RANDBETWEEN(1,999)/10),CHOOSE(RANDBETWEEN(1,4),RANDBETWEEN(1,99999)/1000,RANDBETWEEN(1,9999)/100,RANDBETWEEN(1,999)/10,RANDBETWEEN(1,99))))","v":72},"litres","=",{"$f":"1000*C378","v":72000},"ml"]
[{"$f":"IF(COUNTIF($B$1:B379,TRUE)=COUNTIF($B$1:B378,TRUE),\"\",COUNTIF($B$1:B379,TRUE))","v":""},{"$f":"IF(Worksheet!$D$10=3,FALSE,Worksheet!$D$17)","v":false},{"$f":"IF(Worksheet!$D$6=1,RANDBETWEEN(1,99),IF(Worksheet!$D$6=2,CHOOSE(RANDBETWEEN(1,2),RANDBETWEEN(1,99),RANDBETWEEN(1,999)/10),CHOOSE(RANDBETWEEN(1,4),RANDBETWEEN(1,99999)/1000,RANDBETWEEN(1,9999)/100,RANDBETWEEN(1,999)/10,RANDBETWEEN(1,99))))","v":1},"litres","=",{"$f":"1000*C379","v":1000},"cm³"]
[{"$f":"IF(COUNTIF($B$1:B380,TRUE)=COUNTIF($B$1:B379,TRUE),\"\",COUNTIF($B$1:B380,TRUE))","v":""},{"$f":"IF(Worksheet!$D$10=3,FALSE,Worksheet!$D$18)","v":false},{"$f":"IF(Worksheet!$D$6=1,RANDBETWEEN(1,99),IF(Worksheet!$D$6=2,CHOOSE(RANDBETWEEN(1,2),RANDBETWEEN(1,99),RANDBETWEEN(1,999)/10),CHOOSE(RANDBETWEEN(1,4),RANDBETWEEN(1,99999)/1000,RANDBETWEEN(1,9999)/100,RANDBETWEEN(1,999)/10,RANDBETWEEN(1,99))))","v":73},"m²","=",{"$f":"10000*C380","v":730000},"cm²"]
[{"$f":"IF(COUNTIF($B$1:B381,TRUE)=COUNTIF($B$1:B380,TRUE),\"\",COUNTIF($B$1:B381,TRUE))","v":229},{"$f":"IF(Worksheet!$D$10=2,FALSE,Worksheet!$B$14)","v":true},{"$f":"10*F381","v":140},"mm","=",{"$f":"IF(Worksheet!$D$6=1,RANDBETWEEN(1,99),IF(Worksheet!$D$6=2,CHOOSE(RANDBETWEEN(1,2),RANDBETWEEN(1,99),RANDBETWEEN(1,999)/10),CHOOSE(RANDBETWEEN(1,4),RANDBETWEEN(1,99999)/1000,RANDBETWEEN(1,9999)/100,RANDBETWEEN(1,999)/10,RANDBETWEEN(1,99))))","v":14},"cm"]
[{"$f":"IF(COUNTIF($B$1:B382,TRUE)=COUNTIF($B$1:B381,TRUE),\"\",COUNTIF($B$1:B382,TRUE))","v":230},{"$f":"IF(Worksheet!$D$10=2,FALSE,Worksheet!$B$15)","v":true},{"$f":"100*F382","v":6900},"cm","=",{"$f":"IF(Worksheet!$D$6=1,RANDBETWEEN(1,99),IF(Worksheet!$D$6=2,CHOOSE(RANDBETWEEN(1,2),RANDBETWEEN(1,99),RANDBETWEEN(1,999)/10),CHOOSE(RANDBETWEEN(1,4),RANDBETWEEN(1,99999)/1000,RANDBETWEEN(1,9999)/100,RANDBETWEEN(1,999)/10,RANDBETWEEN(1,99))))","v":69},"m"]
[{"$f":"IF(COUNTIF($B$1:B383,TRUE)=COUNTIF($B$1:B382,TRUE),\"\",COUNTIF($B$1:B383,TRUE))","v":231},{"$f":"IF(Worksheet!$D$10=2,FALSE,Worksheet!$B$16)","v":true},{"$f":"1000*F383","v":23000},"m","=",{"$f":"IF(Worksheet!$D$6=1,RANDBETWEEN(1,99),IF(Worksheet!$D$6=2,CHOOSE(RANDBETWEEN(1,2),RANDBETWEEN(1,99),RANDBETWEEN(1,999)/10),CHOOSE(RANDBETWEEN(1,4),RANDBETWEEN(1,99999)/1000,RANDBETWEEN(1,9999)/100,RANDBETWEEN(1,999)/10,RANDBETWEEN(1,99))))","v":23},"km"]
[{"$f":"IF(COUNTIF($B$1:B384,TRUE)=COUNTIF($B$1:B383,TRUE),\"\",COUNTIF($B$1:B384,TRUE))","v":""},{"$f":"IF(Worksheet!$D$10=2,FALSE,Worksheet!$B$17)","v":false},{"$f":"1000*F384","v":39000},"mm","=",{"$f":"IF(Worksheet!$D$6=1,RANDBETWEEN(1,99),IF(Worksheet!$D$6=2,CHOOSE(RANDBETWEEN(1,2),RANDBETWEEN(1,99),RANDBETWEEN(1,999)/10),CHOOSE(RANDBETWEEN(1,4),RANDBETWEEN(1,99999)/1000,RANDBETWEEN(1,9999)/100,RANDBETWEEN(1,999)/10,RANDBETWEEN(1,99))))","v":39},"m"]
[{"$f":"IF(COUNTIF($B$1:B385,TRUE)=COUNTIF($B$1:B384,TRUE),\"\",COUNTIF($B$1:B385,TRUE))","v":""},{"$f":"IF(Worksheet!$D$10=2,FALSE,Worksheet!$B$18)","v":false},{"$f":"100*F385","v":6000},"mm²","=",{"$f":"IF(Worksheet!$D$6=1,RANDBETWEEN(1,99),IF(Worksheet!$D$6=2,CHOOSE(RANDBETWEEN(1,2),RANDBETWEEN(1,99),RANDBETWEEN(1,999)/10),CHOOSE(RANDBETWEEN(1,4),RANDBETWEEN(1,99999)/1000,RANDBETWEEN(1,9999)/100,RANDBETWEEN(1,999)/10,RANDBETWEEN(1,99))))","v":60},"cm²"]
[{"$f":"IF(COUNTIF($B$1:B386,TRUE)=COUNTIF($B$1:B385,TRUE),\"\",COUNTIF($B$1:B386,TRUE))","v":232},{"$f":"IF(Worksheet!$D$10=2,FALSE,Worksheet!$D$14)","v":true},{"$f":"F386*1000","v":53000},"g","=",{"$f":"IF(Worksheet!$D$6=1,RANDBETWEEN(1,99),IF(Worksheet!$D$6=2,CHOOSE(RANDBETWEEN(1,2),RANDBETWEEN(1,99),RANDBETWEEN(1,999)/10),CHOOSE(RANDBETWEEN(1,4),RANDBETWEEN(1,99999)/1000,RANDBETWEEN(1,9999)/100,RANDBETWEEN(1,999)/10,RANDBETWEEN(1,99))))","v":53},"kg"]
[{"$f":"IF(COUNTIF($B$1:B387,TRUE)=COUNTIF($B$1:B386,TRUE),\"\",COUNTIF($B$1:B387,TRUE))","v":233},{"$f":"IF(Worksheet!$D$10=2,FALSE,Worksheet!$D$15)","v":true},{"$f":"F387*1000","v":99000},"kg","=",{"$f":"IF(Worksheet!$D$6=1,RANDBETWEEN(1,99),IF(Worksheet!$D$6=2,CHOOSE(RANDBETWEEN(1,2),RANDBETWEEN(1,99),RANDBETWEEN(1,999)/10),CHOOSE(RANDBETWEEN(1,4),RANDBETWEEN(1,99999)/1000,RANDBETWEEN(1,9999)/100,RANDBETWEEN(1,999)/10,RANDBETWEEN(1,99))))","v":99},"tonnes"]
[{"$f":"IF(COUNTIF($B$1:B388,TRUE)=COUNTIF($B$1:B387,TRUE),\"\",COUNTIF($B$1:B388,TRUE))","v":234},{"$f":"IF(Worksheet!$D$10=2,FALSE,Worksheet!$D$16)","v":true},{"$f":"1000*F388","v":31000},"ml","=",{"$f":"IF(Worksheet!$D$6=1,RANDBETWEEN(1,99),IF(Worksheet!$D$6=2,CHOOSE(RANDBETWEEN(1,2),RANDBETWEEN(1,99),RANDBETWEEN(1,999)/10),CHOOSE(RANDBETWEEN(1,4),RANDBETWEEN(1,99999)/1000,RANDBETWEEN(1,9999)/100,RANDBETWEEN(1,999)/10,RANDBETWEEN(1,99))))","v":31},"litres"]
[{"$f":"IF(COUNTIF($B$1:B389,TRUE)=COUNTIF($B$1:B388,TRUE),\"\",COUNTIF($B$1:B389,TRUE))","v":""},{"$f":"IF(Worksheet!$D$10=2,FALSE,Worksheet!$D$17)","v":false},{"$f":"1000*F389","v":72000},"cm³","=",{"$f":"IF(Worksheet!$D$6=1,RANDBETWEEN(1,99),IF(Worksheet!$D$6=2,CHOOSE(RANDBETWEEN(1,2),RANDBETWEEN(1,99),RANDBETWEEN(1,999)/10),CHOOSE(RANDBETWEEN(1,4),RANDBETWEEN(1,99999)/1000,RANDBETWEEN(1,9999)/100,RANDBETWEEN(1,999)/10,RANDBETWEEN(1,99))))","v":72},"litres"]
[{"$f":"IF(COUNTIF($B$1:B390,TRUE)=COUNTIF($B$1:B389,TRUE),\"\",COUNTIF($B$1:B390,TRUE))","v":""},{"$f":"IF(Worksheet!$D$10=2,FALSE,Worksheet!$D$18)","v":false},{"$f":"10000*F390","v":280000},"cm²","=",{"$f":"IF(Worksheet!$D$6=1,RANDBETWEEN(1,99),IF(Worksheet!$D$6=2,CHOOSE(RANDBETWEEN(1,2),RANDBETWEEN(1,99),RANDBETWEEN(1,999)/10),CHOOSE(RANDBETWEEN(1,4),RANDBETWEEN(1,99999)/1000,RANDBETWEEN(1,9999)/100,RANDBETWEEN(1,999)/10,RANDBETWEEN(1,99))))","v":28},"m²"]
[{"$f":"IF(COUNTIF($B$1:B391,TRUE)=COUNTIF($B$1:B390,TRUE),\"\",COUNTIF($B$1:B391,TRUE))","v":235},{"$f":"IF(Worksheet!$D$10=3,FALSE,Worksheet!$B$14)","v":true},{"$f":"IF(Worksheet!$D$6=1,RANDBETWEEN(1,99),IF(Worksheet!$D$6=2,CHOOSE(RANDBETWEEN(1,2),RANDBETWEEN(1,99),RANDBETWEEN(1,999)/10),CHOOSE(RANDBETWEEN(1,4),RANDBETWEEN(1,99999)/1000,RANDBETWEEN(1,9999)/100,RANDBETWEEN(1,999)/10,RANDBETWEEN(1,99))))","v":45},"cm","=",{"$f":"10*C391","v":450},"mm"]
[{"$f":"IF(COUNTIF($B$1:B392,TRUE)=COUNTIF($B$1:B391,TRUE),\"\",COUNTIF($B$1:B392,TRUE))","v":236},{"$f":"IF(Worksheet!$D$10=3,FALSE,Worksheet!$B$15)","v":true},{"$f":"IF(Worksheet!$D$6=1,RANDBETWEEN(1,99),IF(Worksheet!$D$6=2,CHOOSE(RANDBETWEEN(1,2),RANDBETWEEN(1,99),RANDBETWEEN(1,999)/10),CHOOSE(RANDBETWEEN(1,4),RANDBETWEEN(1,99999)/1000,RANDBETWEEN(1,9999)/100,RANDBETWEEN(1,999)/10,RANDBETWEEN(1,99))))","v":74},"m","=",{"$f":"100*C392","v":7400},"cm"]
[{"$f":"IF(COUNTIF($B$1:B393,TRUE)=COUNTIF($B$1:B392,TRUE),\"\",COUNTIF($B$1:B393,TRUE))","v":237},{"$f":"IF(Worksheet!$D$10=3,FALSE,Worksheet!$B$16)","v":true},{"$f":"IF(Worksheet!$D$6=1,RANDBETWEEN(1,99),IF(Worksheet!$D$6=2,CHOOSE(RANDBETWEEN(1,2),RANDBETWEEN(1,99),RANDBETWEEN(1,999)/10),CHOOSE(RANDBETWEEN(1,4),RANDBETWEEN(1,99999)/1000,RANDBETWEEN(1,9999)/100,RANDBETWEEN(1,999)/10,RANDBETWEEN(1,99))))","v":20},"km","=",{"$f":"1000*C393","v":20000},"m"]
[{"$f":"IF(COUNTIF($B$1:B394,TRUE)=COUNTIF($B$1:B393,TRUE),\"\",COUNTIF($B$1:B394,TRUE))","v":""},{"$f":"IF(Worksheet!$D$10=3,FALSE,Worksheet!$B$17)","v":false},{"$f":"IF(Worksheet!$D$6=1,RANDBETWEEN(1,99),IF(Worksheet!$D$6=2,CHOOSE(RANDBETWEEN(1,2),RANDBETWEEN(1,99),RANDBETWEEN(1,999)/10),CHOOSE(RANDBETWEEN(1,4),RANDBETWEEN(1,99999)/1000,RANDBETWEEN(1,9999)/100,RANDBETWEEN(1,999)/10,RANDBETWEEN(1,99))))","v":50},"m",{"$f":"#REF!","v":{"$error":"#REF!"}},{"$f":"1000*C394","v":50000},"mm"]
[{"$f":"IF(COUNTIF($B$1:B395,TRUE)=COUNTIF($B$1:B394,TRUE),\"\",COUNTIF($B$1:B395,TRUE))","v":""},{"$f":"IF(Worksheet!$D$10=3,FALSE,Worksheet!$B$18)","v":false},{"$f":"IF(Worksheet!$D$6=1,RANDBETWEEN(1,99),IF(Worksheet!$D$6=2,CHOOSE(RANDBETWEEN(1,2),RANDBETWEEN(1,99),RANDBETWEEN(1,999)/10),CHOOSE(RANDBETWEEN(1,4),RANDBETWEEN(1,99999)/1000,RANDBETWEEN(1,9999)/100,RANDBETWEEN(1,999)/10,RANDBETWEEN(1,99))))","v":80},"cm²","=",{"$f":"C395*100","v":8000},"mm²"]
[{"$f":"IF(COUNTIF($B$1:B396,TRUE)=COUNTIF($B$1:B395,TRUE),\"\",COUNTIF($B$1:B396,TRUE))","v":238},{"$f":"IF(Worksheet!$D$10=3,FALSE,Worksheet!$D$14)","v":true},{"$f":"IF(Worksheet!$D$6=1,RANDBETWEEN(1,99),IF(Worksheet!$D$6=2,CHOOSE(RANDBETWEEN(1,2),RANDBETWEEN(1,99),RANDBETWEEN(1,999)/10),CHOOSE(RANDBETWEEN(1,4),RANDBETWEEN(1,99999)/1000,RANDBETWEEN(1,9999)/100,RANDBETWEEN(1,999)/10,RANDBETWEEN(1,99))))","v":26},"kg","=",{"$f":"1000*C396","v":26000},"g"]
[{"$f":"IF(COUNTIF($B$1:B397,TRUE)=COUNTIF($B$1:B396,TRUE),\"\",COUNTIF($B$1:B397,TRUE))","v":239},{"$f":"IF(Worksheet!$D$10=3,FALSE,Worksheet!$D$15)","v":true},{"$f":"IF(Worksheet!$D$6=1,RANDBETWEEN(1,99),IF(Worksheet!$D$6=2,CHOOSE(RANDBETWEEN(1,2),RANDBETWEEN(1,99),RANDBETWEEN(1,999)/10),CHOOSE(RANDBETWEEN(1,4),RANDBETWEEN(1,99999)/1000,RANDBETWEEN(1,9999)/100,RANDBETWEEN(1,999)/10,RANDBETWEEN(1,99))))","v":53},"tonnes","=",{"$f":"1000*C397","v":53000},"kg"]
[{"$f":"IF(COUNTIF($B$1:B398,TRUE)=COUNTIF($B$1:B397,TRUE),\"\",COUNTIF($B$1:B398,TRUE))","v":240},{"$f":"IF(Worksheet!$D$10=3,FALSE,Worksheet!$D$16)","v":true},{"$f":"IF(Worksheet!$D$6=1,RANDBETWEEN(1,99),IF(Worksheet!$D$6=2,CHOOSE(RANDBETWEEN(1,2),RANDBETWEEN(1,99),RANDBETWEEN(1,999)/10),CHOOSE(RANDBETWEEN(1,4),RANDBETWEEN(1,99999)/1000,RANDBETWEEN(1,9999)/100,RANDBETWEEN(1,999)/10,RANDBETWEEN(1,99))))","v":77},"litres","=",{"$f":"1000*C398","v":77000},"ml"]
[{"$f":"IF(COUNTIF($B$1:B399,TRUE)=COUNTIF($B$1:B398,TRUE),\"\",COUNTIF($B$1:B399,TRUE))","v":""},{"$f":"IF(Worksheet!$D$10=3,FALSE,Worksheet!$D$17)","v":false},{"$f":"IF(Worksheet!$D$6=1,RANDBETWEEN(1,99),IF(Worksheet!$D$6=2,CHOOSE(RANDBETWEEN(1,2),RANDBETWEEN(1,99),RANDBETWEEN(1,999)/10),CHOOSE(RANDBETWEEN(1,4),RANDBETWEEN(1,99999)/1000,RANDBETWEEN(1,9999)/100,RANDBETWEEN(1,999)/10,RANDBETWEEN(1,99))))","v":64},"litres","=",{"$f":"1000*C399","v":64000},"cm³"]
[{"$f":"IF(COUNTIF($B$1:B400,TRUE)=COUNTIF($B$1:B399,TRUE),\"\",COUNTIF($B$1:B400,TRUE))","v":""},{"$f":"IF(Worksheet!$D$10=3,FALSE,Worksheet!$D$18)","v":false},{"$f":"IF(Worksheet!$D$6=1,RANDBETWEEN(1,99),IF(Worksheet!$D$6=2,CHOOSE(RANDBETWEEN(1,2),RANDBETWEEN(1,99),RANDBETWEEN(1,999)/10),CHOOSE(RANDBETWEEN(1,4),RANDBETWEEN(1,99999)/1000,RANDBETWEEN(1,9999)/100,RANDBETWEEN(1,999)/10,RANDBETWEEN(1,99))))","v":97},"m²","=",{"$f":"10000*C400","v":970000},"cm²"]
[{"$f":"IF(COUNTIF($B$1:B401,TRUE)=COUNTIF($B$1:B400,TRUE),\"\",COUNTIF($B$1:B401,TRUE))","v":241},{"$f":"IF(Worksheet!$D$10=2,FALSE,Worksheet!$B$14)","v":true},{"$f":"10*F401","v":30},"mm","=",{"$f":"IF(Worksheet!$D$6=1,RANDBETWEEN(1,99),IF(Worksheet!$D$6=2,CHOOSE(RANDBETWEEN(1,2),RANDBETWEEN(1,99),RANDBETWEEN(1,999)/10),CHOOSE(RANDBETWEEN(1,4),RANDBETWEEN(1,99999)/1000,RANDBETWEEN(1,9999)/100,RANDBETWEEN(1,999)/10,RANDBETWEEN(1,99))))","v":3},"cm"]
[{"$f":"IF(COUNTIF($B$1:B402,TRUE)=COUNTIF($B$1:B401,TRUE),\"\",COUNTIF($B$1:B402,TRUE))","v":242},{"$f":"IF(Worksheet!$D$10=2,FALSE,Worksheet!$B$15)","v":true},{"$f":"100*F402","v":5700},"cm","=",{"$f":"IF(Worksheet!$D$6=1,RANDBETWEEN(1,99),IF(Worksheet!$D$6=2,CHOOSE(RANDBETWEEN(1,2),RANDBETWEEN(1,99),RANDBETWEEN(1,999)/10),CHOOSE(RANDBETWEEN(1,4),RANDBETWEEN(1,99999)/1000,RANDBETWEEN(1,9999)/100,RANDBETWEEN(1,999)/10,RANDBETWEEN(1,99))))","v":57},"m"]
[{"$f":"IF(COUNTIF($B$1:B403,TRUE)=COUNTIF($B$1:B402,TRUE),\"\",COUNTIF($B$1:B403,TRUE))","v":243},{"$f":"IF(Worksheet!$D$10=2,FALSE,Worksheet!$B$16)","v":true},{"$f":"1000*F403","v":11000},"m","=",{"$f":"IF(Worksheet!$D$6=1,RANDBETWEEN(1,99),IF(Worksheet!$D$6=2,CHOOSE(RANDBETWEEN(1,2),RANDBETWEEN(1,99),RANDBETWEEN(1,999)/10),CHOOSE(RANDBETWEEN(1,4),RANDBETWEEN(1,99999)/1000,RANDBETWEEN(1,9999)/100,RANDBETWEEN(1,999)/10,RANDBETWEEN(1,99))))","v":11},"km"]
[{"$f":"IF(COUNTIF($B$1:B404,TRUE)=COUNTIF($B$1:B403,TRUE),\"\",COUNTIF($B$1:B404,TRUE))","v":""},{"$f":"IF(Worksheet!$D$10=2,FALSE,Worksheet!$B$17)","v":false},{"$f":"1000*F404","v":27000},"mm","=",{"$f":"IF(Worksheet!$D$6=1,RANDBETWEEN(1,99),IF(Worksheet!$D$6=2,CHOOSE(RANDBETWEEN(1,2),RANDBETWEEN(1,99),RANDBETWEEN(1,999)/10),CHOOSE(RANDBETWEEN(1,4),RANDBETWEEN(1,99999)/1000,RANDBETWEEN(1,9999)/100,RANDBETWEEN(1,999)/10,RANDBETWEEN(1,99))))","v":27},"m"]
[{"$f":"IF(COUNTIF($B$1:B405,TRUE)=COUNTIF($B$1:B404,TRUE),\"\",COUNTIF($B$1:B405,TRUE))","v":""},{"$f":"IF(Worksheet!$D$10=2,FALSE,Worksheet!$B$18)","v":false},{"$f":"100*F405","v":100},"mm²","=",{"$f":"IF(Worksheet!$D$6=1,RANDBETWEEN(1,99),IF(Worksheet!$D$6=2,CHOOSE(RANDBETWEEN(1,2),RANDBETWEEN(1,99),RANDBETWEEN(1,999)/10),CHOOSE(RANDBETWEEN(1,4),RANDBETWEEN(1,99999)/1000,RANDBETWEEN(1,9999)/100,RANDBETWEEN(1,999)/10,RANDBETWEEN(1,99))))","v":1},"cm²"]
[{"$f":"IF(COUNTIF($B$1:B406,TRUE)=COUNTIF($B$1:B405,TRUE),\"\",COUNTIF($B$1:B406,TRUE))","v":244},{"$f":"IF(Worksheet!$D$10=2,FALSE,Worksheet!$D$14)","v":true},{"$f":"F406*1000","v":80000},"g","=",{"$f":"IF(Worksheet!$D$6=1,RANDBETWEEN(1,99),IF(Worksheet!$D$6=2,CHOOSE(RANDBETWEEN(1,2),RANDBETWEEN(1,99),RANDBETWEEN(1,999)/10),CHOOSE(RANDBETWEEN(1,4),RANDBETWEEN(1,99999)/1000,RANDBETWEEN(1,9999)/100,RANDBETWEEN(1,999)/10,RANDBETWEEN(1,99))))","v":80},"kg"]
[{"$f":"IF(COUNTIF($B$1:B407,TRUE)=COUNTIF($B$1:B406,TRUE),\"\",COUNTIF($B$1:B407,TRUE))","v":245},{"$f":"IF(Worksheet!$D$10=2,FALSE,Worksheet!$D$15)","v":true},{"$f":"F407*1000","v":18000},"kg","=",{"$f":"IF(Worksheet!$D$6=1,RANDBETWEEN(1,99),IF(Worksheet!$D$6=2,CHOOSE(RANDBETWEEN(1,2),RANDBETWEEN(1,99),RANDBETWEEN(1,999)/10),CHOOSE(RANDBETWEEN(1,4),RANDBETWEEN(1,99999)/1000,RANDBETWEEN(1,9999)/100,RANDBETWEEN(1,999)/10,RANDBETWEEN(1,99))))","v":18},"tonnes"]
[{"$f":"IF(COUNTIF($B$1:B408,TRUE)=COUNTIF($B$1:B407,TRUE),\"\",COUNTIF($B$1:B408,TRUE))","v":246},{"$f":"IF(Worksheet!$D$10=2,FALSE,Worksheet!$D$16)","v":true},{"$f":"1000*F408","v":22000},"ml","=",{"$f":"IF(Worksheet!$D$6=1,RANDBETWEEN(1,99),IF(Worksheet!$D$6=2,CHOOSE(RANDBETWEEN(1,2),RANDBETWEEN(1,99),RANDBETWEEN(1,999)/10),CHOOSE(RANDBETWEEN(1,4),RANDBETWEEN(1,99999)/1000,RANDBETWEEN(1,9999)/100,RANDBETWEEN(1,999)/10,RANDBETWEEN(1,99))))","v":22},"litres"]
[{"$f":"IF(COUNTIF($B$1:B409,TRUE)=COUNTIF($B$1:B408,TRUE),\"\",COUNTIF($B$1:B409,TRUE))","v":""},{"$f":"IF(Worksheet!$D$10=2,FALSE,Worksheet!$D$17)","v":false},{"$f":"1000*F409","v":20000},"cm³","=",{"$f":"IF(Worksheet!$D$6=1,RANDBETWEEN(1,99),IF(Worksheet!$D$6=2,CHOOSE(RANDBETWEEN(1,2),RANDBETWEEN(1,99),RANDBETWEEN(1,999)/10),CHOOSE(RANDBETWEEN(1,4),RANDBETWEEN(1,99999)/1000,RANDBETWEEN(1,9999)/100,RANDBETWEEN(1,999)/10,RANDBETWEEN(1,99))))","v":20},"litres"]
[{"$f":"IF(COUNTIF($B$1:B410,TRUE)=COUNTIF($B$1:B409,TRUE),\"\",COUNTIF($B$1:B410,TRUE))","v":""},{"$f":"IF(Worksheet!$D$10=2,FALSE,Worksheet!$D$18)","v":false},{"$f":"10000*F410","v":660000},"cm²","=",{"$f":"IF(Worksheet!$D$6=1,RANDBETWEEN(1,99),IF(Worksheet!$D$6=2,CHOOSE(RANDBETWEEN(1,2),RANDBETWEEN(1,99),RANDBETWEEN(1,999)/10),CHOOSE(RANDBETWEEN(1,4),RANDBETWEEN(1,99999)/1000,RANDBETWEEN(1,9999)/100,RANDBETWEEN(1,999)/10,RANDBETWEEN(1,99))))","v":66},"m²"]
[{"$f":"IF(COUNTIF($B$1:B411,TRUE)=COUNTIF($B$1:B410,TRUE),\"\",COUNTIF($B$1:B411,TRUE))","v":247},{"$f":"IF(Worksheet!$D$10=3,FALSE,Worksheet!$B$14)","v":true},{"$f":"IF(Worksheet!$D$6=1,RANDBETWEEN(1,99),IF(Worksheet!$D$6=2,CHOOSE(RANDBETWEEN(1,2),RANDBETWEEN(1,99),RANDBETWEEN(1,999)/10),CHOOSE(RANDBETWEEN(1,4),RANDBETWEEN(1,99999)/1000,RANDBETWEEN(1,9999)/100,RANDBETWEEN(1,999)/10,RANDBETWEEN(1,99))))","v":93},"cm","=",{"$f":"10*C411","v":930},"mm"]
[{"$f":"IF(COUNTIF($B$1:B412,TRUE)=COUNTIF($B$1:B411,TRUE),\"\",COUNTIF($B$1:B412,TRUE))","v":248},{"$f":"IF(Worksheet!$D$10=3,FALSE,Worksheet!$B$15)","v":true},{"$f":"IF(Worksheet!$D$6=1,RANDBETWEEN(1,99),IF(Worksheet!$D$6=2,CHOOSE(RANDBETWEEN(1,2),RANDBETWEEN(1,99),RANDBETWEEN(1,999)/10),CHOOSE(RANDBETWEEN(1,4),RANDBETWEEN(1,99999)/1000,RANDBETWEEN(1,9999)/100,RANDBETWEEN(1,999)/10,RANDBETWEEN(1,99))))","v":98},"m","=",{"$f":"100*C412","v":9800},"cm"]
[{"$f":"IF(COUNTIF($B$1:B413,TRUE)=COUNTIF($B$1:B412,TRUE),\"\",COUNTIF($B$1:B413,TRUE))","v":249},{"$f":"IF(Worksheet!$D$10=3,FALSE,Worksheet!$B$16)","v":true},{"$f":"IF(Worksheet!$D$6=1,RANDBETWEEN(1,99),IF(Worksheet!$D$6=2,CHOOSE(RANDBETWEEN(1,2),RANDBETWEEN(1,99),RANDBETWEEN(1,999)/10),CHOOSE(RANDBETWEEN(1,4),RANDBETWEEN(1,99999)/1000,RANDBETWEEN(1,9999)/100,RANDBETWEEN(1,999)/10,RANDBETWEEN(1,99))))","v":87},"km","=",{"$f":"1000*C413","v":87000},"m"]
[{"$f":"IF(COUNTIF($B$1:B414,TRUE)=COUNTIF($B$1:B413,TRUE),\"\",COUNTIF($B$1:B414,TRUE))","v":""},{"$f":"IF(Worksheet!$D$10=3,FALSE,Worksheet!$B$17)","v":false},{"$f":"IF(Worksheet!$D$6=1,RANDBETWEEN(1,99),IF(Worksheet!$D$6=2,CHOOSE(RANDBETWEEN(1,2),RANDBETWEEN(1,99),RANDBETWEEN(1,999)/10),CHOOSE(RANDBETWEEN(1,4),RANDBETWEEN(1,99999)/1000,RANDBETWEEN(1,9999)/100,RANDBETWEEN(1,999)/10,RANDBETWEEN(1,99))))","v":55},"m",{"$f":"#REF!","v":{"$error":"#REF!"}},{"$f":"1000*C414","v":55000},"mm"]
[{"$f":"IF(COUNTIF($B$1:B415,TRUE)=COUNTIF($B$1:B414,TRUE),\"\",COUNTIF($B$1:B415,TRUE))","v":""},{"$f":"IF(Worksheet!$D$10=3,FALSE,Worksheet!$B$18)","v":false},{"$f":"IF(Worksheet!$D$6=1,RANDBETWEEN(1,99),IF(Worksheet!$D$6=2,CHOOSE(RANDBETWEEN(1,2),RANDBETWEEN(1,99),RANDBETWEEN(1,999)/10),CHOOSE(RANDBETWEEN(1,4),RANDBETWEEN(1,99999)/1000,RANDBETWEEN(1,9999)/100,RANDBETWEEN(1,999)/10,RANDBETWEEN(1,99))))","v":15},"cm²","=",{"$f":"C415*100","v":1500},"mm²"]
[{"$f":"IF(COUNTIF($B$1:B416,TRUE)=COUNTIF($B$1:B415,TRUE),\"\",COUNTIF($B$1:B416,TRUE))","v":250},{"$f":"IF(Worksheet!$D$10=3,FALSE,Worksheet!$D$14)","v":true},{"$f":"IF(Worksheet!$D$6=1,RANDBETWEEN(1,99),IF(Worksheet!$D$6=2,CHOOSE(RANDBETWEEN(1,2),RANDBETWEEN(1,99),RANDBETWEEN(1,999)/10),CHOOSE(RANDBETWEEN(1,4),RANDBETWEEN(1,99999)/1000,RANDBETWEEN(1,9999)/100,RANDBETWEEN(1,999)/10,RANDBETWEEN(1,99))))","v":59},"kg","=",{"$f":"1000*C416","v":59000},"g"]
[{"$f":"IF(COUNTIF($B$1:B417,TRUE)=COUNTIF($B$1:B416,TRUE),\"\",COUNTIF($B$1:B417,TRUE))","v":251},{"$f":"IF(Worksheet!$D$10=3,FALSE,Worksheet!$D$15)","v":true},{"$f":"IF(Worksheet!$D$6=1,RANDBETWEEN(1,99),IF(Worksheet!$D$6=2,CHOOSE(RANDBETWEEN(1,2),RANDBETWEEN(1,99),RANDBETWEEN(1,999)/10),CHOOSE(RANDBETWEEN(1,4),RANDBETWEEN(1,99999)/1000,RANDBETWEEN(1,9999)/100,RANDBETWEEN(1,999)/10,RANDBETWEEN(1,99))))","v":92},"tonnes","=",{"$f":"1000*C417","v":92000},"kg"]
[{"$f":"IF(COUNTIF($B$1:B418,TRUE)=COUNTIF($B$1:B417,TRUE),\"\",COUNTIF($B$1:B418,TRUE))","v":252},{"$f":"IF(Worksheet!$D$10=3,FALSE,Worksheet!$D$16)","v":true},{"$f":"IF(Worksheet!$D$6=1,RANDBETWEEN(1,99),IF(Worksheet!$D$6=2,CHOOSE(RANDBETWEEN(1,2),RANDBETWEEN(1,99),RANDBETWEEN(1,999)/10),CHOOSE(RANDBETWEEN(1,4),RANDBETWEEN(1,99999)/1000,RANDBETWEEN(1,9999)/100,RANDBETWEEN(1,999)/10,RANDBETWEEN(1,99))))","v":85},"litres","=",{"$f":"1000*C418","v":85000},"ml"]
[{"$f":"IF(COUNTIF($B$1:B419,TRUE)=COUNTIF($B$1:B418,TRUE),\"\",COUNTIF($B$1:B419,TRUE))","v":""},{"$f":"IF(Worksheet!$D$10=3,FALSE,Worksheet!$D$17)","v":false},{"$f":"IF(Worksheet!$D$6=1,RANDBETWEEN(1,99),IF(Worksheet!$D$6=2,CHOOSE(RANDBETWEEN(1,2),RANDBETWEEN(1,99),RANDBETWEEN(1,999)/10),CHOOSE(RANDBETWEEN(1,4),RANDBETWEEN(1,99999)/1000,RANDBETWEEN(1,9999)/100,RANDBETWEEN(1,999)/10,RANDBETWEEN(1,99))))","v":73},"litres","=",{"$f":"1000*C419","v":73000},"cm³"]
[{"$f":"IF(COUNTIF($B$1:B420,TRUE)=COUNTIF($B$1:B419,TRUE),\"\",COUNTIF($B$1:B420,TRUE))","v":""},{"$f":"IF(Worksheet!$D$10=3,FALSE,Worksheet!$D$18)","v":false},{"$f":"IF(Worksheet!$D$6=1,RANDBETWEEN(1,99),IF(Worksheet!$D$6=2,CHOOSE(RANDBETWEEN(1,2),RANDBETWEEN(1,99),RANDBETWEEN(1,999)/10),CHOOSE(RANDBETWEEN(1,4),RANDBETWEEN(1,99999)/1000,RANDBETWEEN(1,9999)/100,RANDBETWEEN(1,999)/10,RANDBETWEEN(1,99))))","v":5},"m²","=",{"$f":"10000*C420","v":50000},"cm²"]
[{"$f":"IF(COUNTIF($B$1:B421,TRUE)=COUNTIF($B$1:B420,TRUE),\"\",COUNTIF($B$1:B421,TRUE))","v":253},{"$f":"IF(Worksheet!$D$10=2,FALSE,Worksheet!$B$14)","v":true},{"$f":"10*F421","v":280},"mm","=",{"$f":"IF(Worksheet!$D$6=1,RANDBETWEEN(1,99),IF(Worksheet!$D$6=2,CHOOSE(RANDBETWEEN(1,2),RANDBETWEEN(1,99),RANDBETWEEN(1,999)/10),CHOOSE(RANDBETWEEN(1,4),RANDBETWEEN(1,99999)/1000,RANDBETWEEN(1,9999)/100,RANDBETWEEN(1,999)/10,RANDBETWEEN(1,99))))","v":28},"cm"]
[{"$f":"IF(COUNTIF($B$1:B422,TRUE)=COUNTIF($B$1:B421,TRUE),\"\",COUNTIF($B$1:B422,TRUE))","v":254},{"$f":"IF(Worksheet!$D$10=2,FALSE,Worksheet!$B$15)","v":true},{"$f":"100*F422","v":2800},"cm","=",{"$f":"IF(Worksheet!$D$6=1,RANDBETWEEN(1,99),IF(Worksheet!$D$6=2,CHOOSE(RANDBETWEEN(1,2),RANDBETWEEN(1,99),RANDBETWEEN(1,999)/10),CHOOSE(RANDBETWEEN(1,4),RANDBETWEEN(1,99999)/1000,RANDBETWEEN(1,9999)/100,RANDBETWEEN(1,999)/10,RANDBETWEEN(1,99))))","v":28},"m"]
[{"$f":"IF(COUNTIF($B$1:B423,TRUE)=COUNTIF($B$1:B422,TRUE),\"\",COUNTIF($B$1:B423,TRUE))","v":255},{"$f":"IF(Worksheet!$D$10=2,FALSE,Worksheet!$B$16)","v":true},{"$f":"1000*F423","v":63000},"m","=",{"$f":"IF(Worksheet!$D$6=1,RANDBETWEEN(1,99),IF(Worksheet!$D$6=2,CHOOSE(RANDBETWEEN(1,2),RANDBETWEEN(1,99),RANDBETWEEN(1,999)/10),CHOOSE(RANDBETWEEN(1,4),RANDBETWEEN(1,99999)/1000,RANDBETWEEN(1,9999)/100,RANDBETWEEN(1,999)/10,RANDBETWEEN(1,99))))","v":63},"km"]
[{"$f":"IF(COUNTIF($B$1:B424,TRUE)=COUNTIF($B$1:B423,TRUE),\"\",COUNTIF($B$1:B424,TRUE))","v":""},{"$f":"IF(Worksheet!$D$10=2,FALSE,Worksheet!$B$17)","v":false},{"$f":"1000*F424","v":35000},"mm","=",{"$f":"IF(Worksheet!$D$6=1,RANDBETWEEN(1,99),IF(Worksheet!$D$6=2,CHOOSE(RANDBETWEEN(1,2),RANDBETWEEN(1,99),RANDBETWEEN(1,999)/10),CHOOSE(RANDBETWEEN(1,4),RANDBETWEEN(1,99999)/1000,RANDBETWEEN(1,9999)/100,RANDBETWEEN(1,999)/10,RANDBETWEEN(1,99))))","v":35},"m"]
[{"$f":"IF(COUNTIF($B$1:B425,TRUE)=COUNTIF($B$1:B424,TRUE),\"\",COUNTIF($B$1:B425,TRUE))","v":""},{"$f":"IF(Worksheet!$D$10=2,FALSE,Worksheet!$B$18)","v":false},{"$f":"100*F425","v":9900},"mm²","=",{"$f":"IF(Worksheet!$D$6=1,RANDBETWEEN(1,99),IF(Worksheet!$D$6=2,CHOOSE(RANDBETWEEN(1,2),RANDBETWEEN(1,99),RANDBETWEEN(1,999)/10),CHOOSE(RANDBETWEEN(1,4),RANDBETWEEN(1,99999)/1000,RANDBETWEEN(1,9999)/100,RANDBETWEEN(1,999)/10,RANDBETWEEN(1,99))))","v":99},"cm²"]
[{"$f":"IF(COUNTIF($B$1:B426,TRUE)=COUNTIF($B$1:B425,TRUE),\"\",COUNTIF($B$1:B426,TRUE))","v":256},{"$f":"IF(Worksheet!$D$10=2,FALSE,Worksheet!$D$14)","v":true},{"$f":"F426*1000","v":4000},"g","=",{"$f":"IF(Worksheet!$D$6=1,RANDBETWEEN(1,99),IF(Worksheet!$D$6=2,CHOOSE(RANDBETWEEN(1,2),RANDBETWEEN(1,99),RANDBETWEEN(1,999)/10),CHOOSE(RANDBETWEEN(1,4),RANDBETWEEN(1,99999)/1000,RANDBETWEEN(1,9999)/100,RANDBETWEEN(1,999)/10,RANDBETWEEN(1,99))))","v":4},"kg"]
[{"$f":"IF(COUNTIF($B$1:B427,TRUE)=COUNTIF($B$1:B426,TRUE),\"\",COUNTIF($B$1:B427,TRUE))","v":257},{"$f":"IF(Worksheet!$D$10=2,FALSE,Worksheet!$D$15)","v":true},{"$f":"F427*1000","v":92000},"kg","=",{"$f":"IF(Worksheet!$D$6=1,RANDBETWEEN(1,99),IF(Worksheet!$D$6=2,CHOOSE(RANDBETWEEN(1,2),RANDBETWEEN(1,99),RANDBETWEEN(1,999)/10),CHOOSE(RANDBETWEEN(1,4),RANDBETWEEN(1,99999)/1000,RANDBETWEEN(1,9999)/100,RANDBETWEEN(1,999)/10,RANDBETWEEN(1,99))))","v":92},"tonnes"]
[{"$f":"IF(COUNTIF($B$1:B428,TRUE)=COUNTIF($B$1:B427,TRUE),\"\",COUNTIF($B$1:B428,TRUE))","v":258},{"$f":"IF(Worksheet!$D$10=2,FALSE,Worksheet!$D$16)","v":true},{"$f":"1000*F428","v":53000},"ml","=",{"$f":"IF(Worksheet!$D$6=1,RANDBETWEEN(1,99),IF(Worksheet!$D$6=2,CHOOSE(RANDBETWEEN(1,2),RANDBETWEEN(1,99),RANDBETWEEN(1,999)/10),CHOOSE(RANDBETWEEN(1,4),RANDBETWEEN(1,99999)/1000,RANDBETWEEN(1,9999)/100,RANDBETWEEN(1,999)/10,RANDBETWEEN(1,99))))","v":53},"litres"]
[{"$f":"IF(COUNTIF($B$1:B429,TRUE)=COUNTIF($B$1:B428,TRUE),\"\",COUNTIF($B$1:B429,TRUE))","v":""},{"$f":"IF(Worksheet!$D$10=2,FALSE,Worksheet!$D$17)","v":false},{"$f":"1000*F429","v":30000},"cm³","=",{"$f":"IF(Worksheet!$D$6=1,RANDBETWEEN(1,99),IF(Worksheet!$D$6=2,CHOOSE(RANDBETWEEN(1,2),RANDBETWEEN(1,99),RANDBETWEEN(1,999)/10),CHOOSE(RANDBETWEEN(1,4),RANDBETWEEN(1,99999)/1000,RANDBETWEEN(1,9999)/100,RANDBETWEEN(1,999)/10,RANDBETWEEN(1,99))))","v":30},"litres"]
[{"$f":"IF(COUNTIF($B$1:B430,TRUE)=COUNTIF($B$1:B429,TRUE),\"\",COUNTIF($B$1:B430,TRUE))","v":""},{"$f":"IF(Worksheet!$D$10=2,FALSE,Worksheet!$D$18)","v":false},{"$f":"10000*F430","v":600000},"cm²","=",{"$f":"IF(Worksheet!$D$6=1,RANDBETWEEN(1,99),IF(Worksheet!$D$6=2,CHOOSE(RANDBETWEEN(1,2),RANDBETWEEN(1,99),RANDBETWEEN(1,999)/10),CHOOSE(RANDBETWEEN(1,4),RANDBETWEEN(1,99999)/1000,RANDBETWEEN(1,9999)/100,RANDBETWEEN(1,999)/10,RANDBETWEEN(1,99))))","v":60},"m²"]
[{"$f":"IF(COUNTIF($B$1:B431,TRUE)=COUNTIF($B$1:B430,TRUE),\"\",COUNTIF($B$1:B431,TRUE))","v":259},{"$f":"IF(Worksheet!$D$10=3,FALSE,Worksheet!$B$14)","v":true},{"$f":"IF(Worksheet!$D$6=1,RANDBETWEEN(1,99),IF(Worksheet!$D$6=2,CHOOSE(RANDBETWEEN(1,2),RANDBETWEEN(1,99),RANDBETWEEN(1,999)/10),CHOOSE(RANDBETWEEN(1,4),RANDBETWEEN(1,99999)/1000,RANDBETWEEN(1,9999)/100,RANDBETWEEN(1,999)/10,RANDBETWEEN(1,99))))","v":64},"cm","=",{"$f":"10*C431","v":640},"mm"]
[{"$f":"IF(COUNTIF($B$1:B432,TRUE)=COUNTIF($B$1:B431,TRUE),\"\",COUNTIF($B$1:B432,TRUE))","v":260},{"$f":"IF(Worksheet!$D$10=3,FALSE,Worksheet!$B$15)","v":true},{"$f":"IF(Worksheet!$D$6=1,RANDBETWEEN(1,99),IF(Worksheet!$D$6=2,CHOOSE(RANDBETWEEN(1,2),RANDBETWEEN(1,99),RANDBETWEEN(1,999)/10),CHOOSE(RANDBETWEEN(1,4),RANDBETWEEN(1,99999)/1000,RANDBETWEEN(1,9999)/100,RANDBETWEEN(1,999)/10,RANDBETWEEN(1,99))))","v":15},"m","=",{"$f":"100*C432","v":1500},"cm"]
[{"$f":"IF(COUNTIF($B$1:B433,TRUE)=COUNTIF($B$1:B432,TRUE),\"\",COUNTIF($B$1:B433,TRUE))","v":261},{"$f":"IF(Worksheet!$D$10=3,FALSE,Worksheet!$B$16)","v":true},{"$f":"IF(Worksheet!$D$6=1,RANDBETWEEN(1,99),IF(Worksheet!$D$6=2,CHOOSE(RANDBETWEEN(1,2),RANDBETWEEN(1,99),RANDBETWEEN(1,999)/10),CHOOSE(RANDBETWEEN(1,4),RANDBETWEEN(1,99999)/1000,RANDBETWEEN(1,9999)/100,RANDBETWEEN(1,999)/10,RANDBETWEEN(1,99))))","v":29},"km","=",{"$f":"1000*C433","v":29000},"m"]
[{"$f":"IF(COUNTIF($B$1:B434,TRUE)=COUNTIF($B$1:B433,TRUE),\"\",COUNTIF($B$1:B434,TRUE))","v":""},{"$f":"IF(Worksheet!$D$10=3,FALSE,Worksheet!$B$17)","v":false},{"$f":"IF(Worksheet!$D$6=1,RANDBETWEEN(1,99),IF(Worksheet!$D$6=2,CHOOSE(RANDBETWEEN(1,2),RANDBETWEEN(1,99),RANDBETWEEN(1,999)/10),CHOOSE(RANDBETWEEN(1,4),RANDBETWEEN(1,99999)/1000,RANDBETWEEN(1,9999)/100,RANDBETWEEN(1,999)/10,RANDBETWEEN(1,99))))","v":15},"m",{"$f":"#REF!","v":{"$error":"#REF!"}},{"$f":"1000*C434","v":15000},"mm"]
[{"$f":"IF(COUNTIF($B$1:B435,TRUE)=COUNTIF($B$1:B434,TRUE),\"\",COUNTIF($B$1:B435,TRUE))","v":""},{"$f":"IF(Worksheet!$D$10=3,FALSE,Worksheet!$B$18)","v":false},{"$f":"IF(Worksheet!$D$6=1,RANDBETWEEN(1,99),IF(Worksheet!$D$6=2,CHOOSE(RANDBETWEEN(1,2),RANDBETWEEN(1,99),RANDBETWEEN(1,999)/10),CHOOSE(RANDBETWEEN(1,4),RANDBETWEEN(1,99999)/1000,RANDBETWEEN(1,9999)/100,RANDBETWEEN(1,999)/10,RANDBETWEEN(1,99))))","v":36},"cm²","=",{"$f":"C435*100","v":3600},"mm²"]
[{"$f":"IF(COUNTIF($B$1:B436,TRUE)=COUNTIF($B$1:B435,TRUE),\"\",COUNTIF($B$1:B436,TRUE))","v":262},{"$f":"IF(Worksheet!$D$10=3,FALSE,Worksheet!$D$14)","v":true},{"$f":"IF(Worksheet!$D$6=1,RANDBETWEEN(1,99),IF(Worksheet!$D$6=2,CHOOSE(RANDBETWEEN(1,2),RANDBETWEEN(1,99),RANDBETWEEN(1,999)/10),CHOOSE(RANDBETWEEN(1,4),RANDBETWEEN(1,99999)/1000,RANDBETWEEN(1,9999)/100,RANDBETWEEN(1,999)/10,RANDBETWEEN(1,99))))","v":37},"kg","=",{"$f":"1000*C436","v":37000},"g"]
[{"$f":"IF(COUNTIF($B$1:B437,TRUE)=COUNTIF($B$1:B436,TRUE),\"\",COUNTIF($B$1:B437,TRUE))","v":263},{"$f":"IF(Worksheet!$D$10=3,FALSE,Worksheet!$D$15)","v":true},{"$f":"IF(Worksheet!$D$6=1,RANDBETWEEN(1,99),IF(Worksheet!$D$6=2,CHOOSE(RANDBETWEEN(1,2),RANDBETWEEN(1,99),RANDBETWEEN(1,999)/10),CHOOSE(RANDBETWEEN(1,4),RANDBETWEEN(1,99999)/1000,RANDBETWEEN(1,9999)/100,RANDBETWEEN(1,999)/10,RANDBETWEEN(1,99))))","v":91},"tonnes","=",{"$f":"1000*C437","v":91000},"kg"]
[{"$f":"IF(COUNTIF($B$1:B438,TRUE)=COUNTIF($B$1:B437,TRUE),\"\",COUNTIF($B$1:B438,TRUE))","v":264},{"$f":"IF(Worksheet!$D$10=3,FALSE,Worksheet!$D$16)","v":true},{"$f":"IF(Worksheet!$D$6=1,RANDBETWEEN(1,99),IF(Worksheet!$D$6=2,CHOOSE(RANDBETWEEN(1,2),RANDBETWEEN(1,99),RANDBETWEEN(1,999)/10),CHOOSE(RANDBETWEEN(1,4),RANDBETWEEN(1,99999)/1000,RANDBETWEEN(1,9999)/100,RANDBETWEEN(1,999)/10,RANDBETWEEN(1,99))))","v":85},"litres","=",{"$f":"1000*C438","v":85000},"ml"]
[{"$f":"IF(COUNTIF($B$1:B439,TRUE)=COUNTIF($B$1:B438,TRUE),\"\",COUNTIF($B$1:B439,TRUE))","v":""},{"$f":"IF(Worksheet!$D$10=3,FALSE,Worksheet!$D$17)","v":false},{"$f":"IF(Worksheet!$D$6=1,RANDBETWEEN(1,99),IF(Worksheet!$D$6=2,CHOOSE(RANDBETWEEN(1,2),RANDBETWEEN(1,99),RANDBETWEEN(1,999)/10),CHOOSE(RANDBETWEEN(1,4),RANDBETWEEN(1,99999)/1000,RANDBETWEEN(1,9999)/100,RANDBETWEEN(1,999)/10,RANDBETWEEN(1,99))))","v":62},"litres","=",{"$f":"1000*C439","v":62000},"cm³"]
[{"$f":"IF(COUNTIF($B$1:B440,TRUE)=COUNTIF($B$1:B439,TRUE),\"\",COUNTIF($B$1:B440,TRUE))","v":""},{"$f":"IF(Worksheet!$D$10=3,FALSE,Worksheet!$D$18)","v":false},{"$f":"IF(Worksheet!$D$6=1,RANDBETWEEN(1,99),IF(Worksheet!$D$6=2,CHOOSE(RANDBETWEEN(1,2),RANDBETWEEN(1,99),RANDBETWEEN(1,999)/10),CHOOSE(RANDBETWEEN(1,4),RANDBETWEEN(1,99999)/1000,RANDBETWEEN(1,9999)/100,RANDBETWEEN(1,999)/10,RANDBETWEEN(1,99))))","v":7},"m²","=",{"$f":"10000*C440","v":70000},"cm²"]
[{"$f":"IF(COUNTIF($B$1:B441,TRUE)=COUNTIF($B$1:B440,TRUE),\"\",COUNTIF($B$1:B441,TRUE))","v":265},{"$f":"IF(Worksheet!$D$10=2,FALSE,Worksheet!$B$14)","v":true},{"$f":"10*F441","v":630},"mm","=",{"$f":"IF(Worksheet!$D$6=1,RANDBETWEEN(1,99),IF(Worksheet!$D$6=2,CHOOSE(RANDBETWEEN(1,2),RANDBETWEEN(1,99),RANDBETWEEN(1,999)/10),CHOOSE(RANDBETWEEN(1,4),RANDBETWEEN(1,99999)/1000,RANDBETWEEN(1,9999)/100,RANDBETWEEN(1,999)/10,RANDBETWEEN(1,99))))","v":63},"cm"]
[{"$f":"IF(COUNTIF($B$1:B442,TRUE)=COUNTIF($B$1:B441,TRUE),\"\",COUNTIF($B$1:B442,TRUE))","v":266},{"$f":"IF(Worksheet!$D$10=2,FALSE,Worksheet!$B$15)","v":true},{"$f":"100*F442","v":4400},"cm","=",{"$f":"IF(Worksheet!$D$6=1,RANDBETWEEN(1,99),IF(Worksheet!$D$6=2,CHOOSE(RANDBETWEEN(1,2),RANDBETWEEN(1,99),RANDBETWEEN(1,999)/10),CHOOSE(RANDBETWEEN(1,4),RANDBETWEEN(1,99999)/1000,RANDBETWEEN(1,9999)/100,RANDBETWEEN(1,999)/10,RANDBETWEEN(1,99))))","v":44},"m"]
[{"$f":"IF(COUNTIF($B$1:B443,TRUE)=COUNTIF($B$1:B442,TRUE),\"\",COUNTIF($B$1:B443,TRUE))","v":267},{"$f":"IF(Worksheet!$D$10=2,FALSE,Worksheet!$B$16)","v":true},{"$f":"1000*F443","v":99000},"m","=",{"$f":"IF(Worksheet!$D$6=1,RANDBETWEEN(1,99),IF(Worksheet!$D$6=2,CHOOSE(RANDBETWEEN(1,2),RANDBETWEEN(1,99),RANDBETWEEN(1,999)/10),CHOOSE(RANDBETWEEN(1,4),RANDBETWEEN(1,99999)/1000,RANDBETWEEN(1,9999)/100,RANDBETWEEN(1,999)/10,RANDBETWEEN(1,99))))","v":99},"km"]
[{"$f":"IF(COUNTIF($B$1:B444,TRUE)=COUNTIF($B$1:B443,TRUE),\"\",COUNTIF($B$1:B444,TRUE))","v":""},{"$f":"IF(Worksheet!$D$10=2,FALSE,Worksheet!$B$17)","v":false},{"$f":"1000*F444","v":5000},"mm","=",{"$f":"IF(Worksheet!$D$6=1,RANDBETWEEN(1,99),IF(Worksheet!$D$6=2,CHOOSE(RANDBETWEEN(1,2),RANDBETWEEN(1,99),RANDBETWEEN(1,999)/10),CHOOSE(RANDBETWEEN(1,4),RANDBETWEEN(1,99999)/1000,RANDBETWEEN(1,9999)/100,RANDBETWEEN(1,999)/10,RANDBETWEEN(1,99))))","v":5},"m"]
[{"$f":"IF(COUNTIF($B$1:B445,TRUE)=COUNTIF($B$1:B444,TRUE),\"\",COUNTIF($B$1:B445,TRUE))","v":""},{"$f":"IF(Worksheet!$D$10=2,FALSE,Worksheet!$B$18)","v":false},{"$f":"100*F445","v":6000},"mm²","=",{"$f":"IF(Worksheet!$D$6=1,RANDBETWEEN(1,99),IF(Worksheet!$D$6=2,CHOOSE(RANDBETWEEN(1,2),RANDBETWEEN(1,99),RANDBETWEEN(1,999)/10),CHOOSE(RANDBETWEEN(1,4),RANDBETWEEN(1,99999)/1000,RANDBETWEEN(1,9999)/100,RANDBETWEEN(1,999)/10,RANDBETWEEN(1,99))))","v":60},"cm²"]
[{"$f":"IF(COUNTIF($B$1:B446,TRUE)=COUNTIF($B$1:B445,TRUE),\"\",COUNTIF($B$1:B446,TRUE))","v":268},{"$f":"IF(Worksheet!$D$10=2,FALSE,Worksheet!$D$14)","v":true},{"$f":"F446*1000","v":45000},"g","=",{"$f":"IF(Worksheet!$D$6=1,RANDBETWEEN(1,99),IF(Worksheet!$D$6=2,CHOOSE(RANDBETWEEN(1,2),RANDBETWEEN(1,99),RANDBETWEEN(1,999)/10),CHOOSE(RANDBETWEEN(1,4),RANDBETWEEN(1,99999)/1000,RANDBETWEEN(1,9999)/100,RANDBETWEEN(1,999)/10,RANDBETWEEN(1,99))))","v":45},"kg"]
[{"$f":"IF(COUNTIF($B$1:B447,TRUE)=COUNTIF($B$1:B446,TRUE),\"\",COUNTIF($B$1:B447,TRUE))","v":269},{"$f":"IF(Worksheet!$D$10=2,FALSE,Worksheet!$D$15)","v":true},{"$f":"F447*1000","v":53000},"kg","=",{"$f":"IF(Worksheet!$D$6=1,RANDBETWEEN(1,99),IF(Worksheet!$D$6=2,CHOOSE(RANDBETWEEN(1,2),RANDBETWEEN(1,99),RANDBETWEEN(1,999)/10),CHOOSE(RANDBETWEEN(1,4),RANDBETWEEN(1,99999)/1000,RANDBETWEEN(1,9999)/100,RANDBETWEEN(1,999)/10,RANDBETWEEN(1,99))))","v":53},"tonnes"]
[{"$f":"IF(COUNTIF($B$1:B448,TRUE)=COUNTIF($B$1:B447,TRUE),\"\",COUNTIF($B$1:B448,TRUE))","v":270},{"$f":"IF(Worksheet!$D$10=2,FALSE,Worksheet!$D$16)","v":true},{"$f":"1000*F448","v":72000},"ml","=",{"$f":"IF(Worksheet!$D$6=1,RANDBETWEEN(1,99),IF(Worksheet!$D$6=2,CHOOSE(RANDBETWEEN(1,2),RANDBETWEEN(1,99),RANDBETWEEN(1,999)/10),CHOOSE(RANDBETWEEN(1,4),RANDBETWEEN(1,99999)/1000,RANDBETWEEN(1,9999)/100,RANDBETWEEN(1,999)/10,RANDBETWEEN(1,99))))","v":72},"litres"]
[{"$f":"IF(COUNTIF($B$1:B449,TRUE)=COUNTIF($B$1:B448,TRUE),\"\",COUNTIF($B$1:B449,TRUE))","v":""},{"$f":"IF(Worksheet!$D$10=2,FALSE,Worksheet!$D$17)","v":false},{"$f":"1000*F449","v":80000},"cm³","=",{"$f":"IF(Worksheet!$D$6=1,RANDBETWEEN(1,99),IF(Worksheet!$D$6=2,CHOOSE(RANDBETWEEN(1,2),RANDBETWEEN(1,99),RANDBETWEEN(1,999)/10),CHOOSE(RANDBETWEEN(1,4),RANDBETWEEN(1,99999)/1000,RANDBETWEEN(1,9999)/100,RANDBETWEEN(1,999)/10,RANDBETWEEN(1,99))))","v":80},"litres"]
[{"$f":"IF(COUNTIF($B$1:B450,TRUE)=COUNTIF($B$1:B449,TRUE),\"\",COUNTIF($B$1:B450,TRUE))","v":""},{"$f":"IF(Worksheet!$D$10=2,FALSE,Worksheet!$D$18)","v":false},{"$f":"10000*F450","v":670000},"cm²","=",{"$f":"IF(Worksheet!$D$6=1,RANDBETWEEN(1,99),IF(Worksheet!$D$6=2,CHOOSE(RANDBETWEEN(1,2),RANDBETWEEN(1,99),RANDBETWEEN(1,999)/10),CHOOSE(RANDBETWEEN(1,4),RANDBETWEEN(1,99999)/1000,RANDBETWEEN(1,9999)/100,RANDBETWEEN(1,999)/10,RANDBETWEEN(1,99))))","v":67},"m²"]
[{"$f":"IF(COUNTIF($B$1:B451,TRUE)=COUNTIF($B$1:B450,TRUE),\"\",COUNTIF($B$1:B451,TRUE))","v":271},{"$f":"IF(Worksheet!$D$10=3,FALSE,Worksheet!$B$14)","v":true},{"$f":"IF(Worksheet!$D$6=1,RANDBETWEEN(1,99),IF(Worksheet!$D$6=2,CHOOSE(RANDBETWEEN(1,2),RANDBETWEEN(1,99),RANDBETWEEN(1,999)/10),CHOOSE(RANDBETWEEN(1,4),RANDBETWEEN(1,99999)/1000,RANDBETWEEN(1,9999)/100,RANDBETWEEN(1,999)/10,RANDBETWEEN(1,99))))","v":85},"cm","=",{"$f":"10*C451","v":850},"mm"]
[{"$f":"IF(COUNTIF($B$1:B452,TRUE)=COUNTIF($B$1:B451,TRUE),\"\",COUNTIF($B$1:B452,TRUE))","v":272},{"$f":"IF(Worksheet!$D$10=3,FALSE,Worksheet!$B$15)","v":true},{"$f":"IF(Worksheet!$D$6=1,RANDBETWEEN(1,99),IF(Worksheet!$D$6=2,CHOOSE(RANDBETWEEN(1,2),RANDBETWEEN(1,99),RANDBETWEEN(1,999)/10),CHOOSE(RANDBETWEEN(1,4),RANDBETWEEN(1,99999)/1000,RANDBETWEEN(1,9999)/100,RANDBETWEEN(1,999)/10,RANDBETWEEN(1,99))))","v":64},"m","=",{"$f":"100*C452","v":6400},"cm"]
[{"$f":"IF(COUNTIF($B$1:B453,TRUE)=COUNTIF($B$1:B452,TRUE),\"\",COUNTIF($B$1:B453,TRUE))","v":273},{"$f":"IF(Worksheet!$D$10=3,FALSE,Worksheet!$B$16)","v":true},{"$f":"IF(Worksheet!$D$6=1,RANDBETWEEN(1,99),IF(Worksheet!$D$6=2,CHOOSE(RANDBETWEEN(1,2),RANDBETWEEN(1,99),RANDBETWEEN(1,999)/10),CHOOSE(RANDBETWEEN(1,4),RANDBETWEEN(1,99999)/1000,RANDBETWEEN(1,9999)/100,RANDBETWEEN(1,999)/10,RANDBETWEEN(1,99))))","v":96},"km","=",{"$f":"1000*C453","v":96000},"m"]
[{"$f":"IF(COUNTIF($B$1:B454,TRUE)=COUNTIF($B$1:B453,TRUE),\"\",COUNTIF($B$1:B454,TRUE))","v":""},{"$f":"IF(Worksheet!$D$10=3,FALSE,Worksheet!$B$17)","v":false},{"$f":"IF(Worksheet!$D$6=1,RANDBETWEEN(1,99),IF(Worksheet!$D$6=2,CHOOSE(RANDBETWEEN(1,2),RANDBETWEEN(1,99),RANDBETWEEN(1,999)/10),CHOOSE(RANDBETWEEN(1,4),RANDBETWEEN(1,99999)/1000,RANDBETWEEN(1,9999)/100,RANDBETWEEN(1,999)/10,RANDBETWEEN(1,99))))","v":5},"m",{"$f":"#REF!","v":{"$error":"#REF!"}},{"$f":"1000*C454","v":5000},"mm"]
[{"$f":"IF(COUNTIF($B$1:B455,TRUE)=COUNTIF($B$1:B454,TRUE),\"\",COUNTIF($B$1:B455,TRUE))","v":""},{"$f":"IF(Worksheet!$D$10=3,FALSE,Worksheet!$B$18)","v":false},{"$f":"IF(Worksheet!$D$6=1,RANDBETWEEN(1,99),IF(Worksheet!$D$6=2,CHOOSE(RANDBETWEEN(1,2),RANDBETWEEN(1,99),RANDBETWEEN(1,999)/10),CHOOSE(RANDBETWEEN(1,4),RANDBETWEEN(1,99999)/1000,RANDBETWEEN(1,9999)/100,RANDBETWEEN(1,999)/10,RANDBETWEEN(1,99))))","v":47},"cm²","=",{"$f":"C455*100","v":4700},"mm²"]
[{"$f":"IF(COUNTIF($B$1:B456,TRUE)=COUNTIF($B$1:B455,TRUE),\"\",COUNTIF($B$1:B456,TRUE))","v":274},{"$f":"IF(Worksheet!$D$10=3,FALSE,Worksheet!$D$14)","v":true},{"$f":"IF(Worksheet!$D$6=1,RANDBETWEEN(1,99),IF(Worksheet!$D$6=2,CHOOSE(RANDBETWEEN(1,2),RANDBETWEEN(1,99),RANDBETWEEN(1,999)/10),CHOOSE(RANDBETWEEN(1,4),RANDBETWEEN(1,99999)/1000,RANDBETWEEN(1,9999)/100,RANDBETWEEN(1,999)/10,RANDBETWEEN(1,99))))","v":51},"kg","=",{"$f":"1000*C456","v":51000},"g"]
[{"$f":"IF(COUNTIF($B$1:B457,TRUE)=COUNTIF($B$1:B456,TRUE),\"\",COUNTIF($B$1:B457,TRUE))","v":275},{"$f":"IF(Worksheet!$D$10=3,FALSE,Worksheet!$D$15)","v":true},{"$f":"IF(Worksheet!$D$6=1,RANDBETWEEN(1,99),IF(Worksheet!$D$6=2,CHOOSE(RANDBETWEEN(1,2),RANDBETWEEN(1,99),RANDBETWEEN(1,999)/10),CHOOSE(RANDBETWEEN(1,4),RANDBETWEEN(1,99999)/1000,RANDBETWEEN(1,9999)/100,RANDBETWEEN(1,999)/10,RANDBETWEEN(1,99))))","v":91},"tonnes","=",{"$f":"1000*C457","v":91000},"kg"]
[{"$f":"IF(COUNTIF($B$1:B458,TRUE)=COUNTIF($B$1:B457,TRUE),\"\",COUNTIF($B$1:B458,TRUE))","v":276},{"$f":"IF(Worksheet!$D$10=3,FALSE,Worksheet!$D$16)","v":true},{"$f":"IF(Worksheet!$D$6=1,RANDBETWEEN(1,99),IF(Worksheet!$D$6=2,CHOOSE(RANDBETWEEN(1,2),RANDBETWEEN(1,99),RANDBETWEEN(1,999)/10),CHOOSE(RANDBETWEEN(1,4),RANDBETWEEN(1,99999)/1000,RANDBETWEEN(1,9999)/100,RANDBETWEEN(1,999)/10,RANDBETWEEN(1,99))))","v":61},"litres","=",{"$f":"1000*C458","v":61000},"ml"]
[{"$f":"IF(COUNTIF($B$1:B459,TRUE)=COUNTIF($B$1:B458,TRUE),\"\",COUNTIF($B$1:B459,TRUE))","v":""},{"$f":"IF(Worksheet!$D$10=3,FALSE,Worksheet!$D$17)","v":false},{"$f":"IF(Worksheet!$D$6=1,RANDBETWEEN(1,99),IF(Worksheet!$D$6=2,CHOOSE(RANDBETWEEN(1,2),RANDBETWEEN(1,99),RANDBETWEEN(1,999)/10),CHOOSE(RANDBETWEEN(1,4),RANDBETWEEN(1,99999)/1000,RANDBETWEEN(1,9999)/100,RANDBETWEEN(1,999)/10,RANDBETWEEN(1,99))))","v":73},"litres","=",{"$f":"1000*C459","v":73000},"cm³"]
[{"$f":"IF(COUNTIF($B$1:B460,TRUE)=COUNTIF($B$1:B459,TRUE),\"\",COUNTIF($B$1:B460,TRUE))","v":""},{"$f":"IF(Worksheet!$D$10=3,FALSE,Worksheet!$D$18)","v":false},{"$f":"IF(Worksheet!$D$6=1,RANDBETWEEN(1,99),IF(Worksheet!$D$6=2,CHOOSE(RANDBETWEEN(1,2),RANDBETWEEN(1,99),RANDBETWEEN(1,999)/10),CHOOSE(RANDBETWEEN(1,4),RANDBETWEEN(1,99999)/1000,RANDBETWEEN(1,9999)/100,RANDBETWEEN(1,999)/10,RANDBETWEEN(1,99))))","v":85},"m²","=",{"$f":"10000*C460","v":850000},"cm²"]
[{"$f":"IF(COUNTIF($B$1:B461,TRUE)=COUNTIF($B$1:B460,TRUE),\"\",COUNTIF($B$1:B461,TRUE))","v":277},{"$f":"IF(Worksheet!$D$10=2,FALSE,Worksheet!$B$14)","v":true},{"$f":"10*F461","v":140},"mm","=",{"$f":"IF(Worksheet!$D$6=1,RANDBETWEEN(1,99),IF(Worksheet!$D$6=2,CHOOSE(RANDBETWEEN(1,2),RANDBETWEEN(1,99),RANDBETWEEN(1,999)/10),CHOOSE(RANDBETWEEN(1,4),RANDBETWEEN(1,99999)/1000,RANDBETWEEN(1,9999)/100,RANDBETWEEN(1,999)/10,RANDBETWEEN(1,99))))","v":14},"cm"]
[{"$f":"IF(COUNTIF($B$1:B462,TRUE)=COUNTIF($B$1:B461,TRUE),\"\",COUNTIF($B$1:B462,TRUE))","v":278},{"$f":"IF(Worksheet!$D$10=2,FALSE,Worksheet!$B$15)","v":true},{"$f":"100*F462","v":2000},"cm","=",{"$f":"IF(Worksheet!$D$6=1,RANDBETWEEN(1,99),IF(Worksheet!$D$6=2,CHOOSE(RANDBETWEEN(1,2),RANDBETWEEN(1,99),RANDBETWEEN(1,999)/10),CHOOSE(RANDBETWEEN(1,4),RANDBETWEEN(1,99999)/1000,RANDBETWEEN(1,9999)/100,RANDBETWEEN(1,999)/10,RANDBETWEEN(1,99))))","v":20},"m"]
[{"$f":"IF(COUNTIF($B$1:B463,TRUE)=COUNTIF($B$1:B462,TRUE),\"\",COUNTIF($B$1:B463,TRUE))","v":279},{"$f":"IF(Worksheet!$D$10=2,FALSE,Worksheet!$B$16)","v":true},{"$f":"1000*F463","v":4000},"m","=",{"$f":"IF(Worksheet!$D$6=1,RANDBETWEEN(1,99),IF(Worksheet!$D$6=2,CHOOSE(RANDBETWEEN(1,2),RANDBETWEEN(1,99),RANDBETWEEN(1,999)/10),CHOOSE(RANDBETWEEN(1,4),RANDBETWEEN(1,99999)/1000,RANDBETWEEN(1,9999)/100,RANDBETWEEN(1,999)/10,RANDBETWEEN(1,99))))","v":4},"km"]
[{"$f":"IF(COUNTIF($B$1:B464,TRUE)=COUNTIF($B$1:B463,TRUE),\"\",COUNTIF($B$1:B464,TRUE))","v":""},{"$f":"IF(Worksheet!$D$10=2,FALSE,Worksheet!$B$17)","v":false},{"$f":"1000*F464","v":41000},"mm","=",{"$f":"IF(Worksheet!$D$6=1,RANDBETWEEN(1,99),IF(Worksheet!$D$6=2,CHOOSE(RANDBETWEEN(1,2),RANDBETWEEN(1,99),RANDBETWEEN(1,999)/10),CHOOSE(RANDBETWEEN(1,4),RANDBETWEEN(1,99999)/1000,RANDBETWEEN(1,9999)/100,RANDBETWEEN(1,999)/10,RANDBETWEEN(1,99))))","v":41},"m"]
[{"$f":"IF(COUNTIF($B$1:B465,TRUE)=COUNTIF($B$1:B464,TRUE),\"\",COUNTIF($B$1:B465,TRUE))","v":""},{"$f":"IF(Worksheet!$D$10=2,FALSE,Worksheet!$B$18)","v":false},{"$f":"100*F465","v":8500},"mm²","=",{"$f":"IF(Worksheet!$D$6=1,RANDBETWEEN(1,99),IF(Worksheet!$D$6=2,CHOOSE(RANDBETWEEN(1,2),RANDBETWEEN(1,99),RANDBETWEEN(1,999)/10),CHOOSE(RANDBETWEEN(1,4),RANDBETWEEN(1,99999)/1000,RANDBETWEEN(1,9999)/100,RANDBETWEEN(1,999)/10,RANDBETWEEN(1,99))))","v":85},"cm²"]
[{"$f":"IF(COUNTIF($B$1:B466,TRUE)=COUNTIF($B$1:B465,TRUE),\"\",COUNTIF($B$1:B466,TRUE))","v":280},{"$f":"IF(Worksheet!$D$10=2,FALSE,Worksheet!$D$14)","v":true},{"$f":"F466*1000","v":23000},"g","=",{"$f":"IF(Worksheet!$D$6=1,RANDBETWEEN(1,99),IF(Worksheet!$D$6=2,CHOOSE(RANDBETWEEN(1,2),RANDBETWEEN(1,99),RANDBETWEEN(1,999)/10),CHOOSE(RANDBETWEEN(1,4),RANDBETWEEN(1,99999)/1000,RANDBETWEEN(1,9999)/100,RANDBETWEEN(1,999)/10,RANDBETWEEN(1,99))))","v":23},"kg"]
[{"$f":"IF(COUNTIF($B$1:B467,TRUE)=COUNTIF($B$1:B466,TRUE),\"\",COUNTIF($B$1:B467,TRUE))","v":281},{"$f":"IF(Worksheet!$D$10=2,FALSE,Worksheet!$D$15)","v":true},{"$f":"F467*1000","v":17000},"kg","=",{"$f":"IF(Worksheet!$D$6=1,RANDBETWEEN(1,99),IF(Worksheet!$D$6=2,CHOOSE(RANDBETWEEN(1,2),RANDBETWEEN(1,99),RANDBETWEEN(1,999)/10),CHOOSE(RANDBETWEEN(1,4),RANDBETWEEN(1,99999)/1000,RANDBETWEEN(1,9999)/100,RANDBETWEEN(1,999)/10,RANDBETWEEN(1,99))))","v":17},"tonnes"]
[{"$f":"IF(COUNTIF($B$1:B468,TRUE)=COUNTIF($B$1:B467,TRUE),\"\",COUNTIF($B$1:B468,TRUE))","v":282},{"$f":"IF(Worksheet!$D$10=2,FALSE,Worksheet!$D$16)","v":true},{"$f":"1000*F468","v":62000},"ml","=",{"$f":"IF(Worksheet!$D$6=1,RANDBETWEEN(1,99),IF(Worksheet!$D$6=2,CHOOSE(RANDBETWEEN(1,2),RANDBETWEEN(1,99),RANDBETWEEN(1,999)/10),CHOOSE(RANDBETWEEN(1,4),RANDBETWEEN(1,99999)/1000,RANDBETWEEN(1,9999)/100,RANDBETWEEN(1,999)/10,RANDBETWEEN(1,99))))","v":62},"litres"]
[{"$f":"IF(COUNTIF($B$1:B469,TRUE)=COUNTIF($B$1:B468,TRUE),\"\",COUNTIF($B$1:B469,TRUE))","v":""},{"$f":"IF(Worksheet!$D$10=2,FALSE,Worksheet!$D$17)","v":false},{"$f":"1000*F469","v":32000},"cm³","=",{"$f":"IF(Worksheet!$D$6=1,RANDBETWEEN(1,99),IF(Worksheet!$D$6=2,CHOOSE(RANDBETWEEN(1,2),RANDBETWEEN(1,99),RANDBETWEEN(1,999)/10),CHOOSE(RANDBETWEEN(1,4),RANDBETWEEN(1,99999)/1000,RANDBETWEEN(1,9999)/100,RANDBETWEEN(1,999)/10,RANDBETWEEN(1,99))))","v":32},"litres"]
[{"$f":"IF(COUNTIF($B$1:B470,TRUE)=COUNTIF($B$1:B469,TRUE),\"\",COUNTIF($B$1:B470,TRUE))","v":""},{"$f":"IF(Worksheet!$D$10=2,FALSE,Worksheet!$D$18)","v":false},{"$f":"10000*F470","v":470000},"cm²","=",{"$f":"IF(Worksheet!$D$6=1,RANDBETWEEN(1,99),IF(Worksheet!$D$6=2,CHOOSE(RANDBETWEEN(1,2),RANDBETWEEN(1,99),RANDBETWEEN(1,999)/10),CHOOSE(RANDBETWEEN(1,4),RANDBETWEEN(1,99999)/1000,RANDBETWEEN(1,9999)/100,RANDBETWEEN(1,999)/10,RANDBETWEEN(1,99))))","v":47},"m²"]
[{"$f":"IF(COUNTIF($B$1:B471,TRUE)=COUNTIF($B$1:B470,TRUE),\"\",COUNTIF($B$1:B471,TRUE))","v":283},{"$f":"IF(Worksheet!$D$10=3,FALSE,Worksheet!$B$14)","v":true},{"$f":"IF(Worksheet!$D$6=1,RANDBETWEEN(1,99),IF(Worksheet!$D$6=2,CHOOSE(RANDBETWEEN(1,2),RANDBETWEEN(1,99),RANDBETWEEN(1,999)/10),CHOOSE(RANDBETWEEN(1,4),RANDBETWEEN(1,99999)/1000,RANDBETWEEN(1,9999)/100,RANDBETWEEN(1,999)/10,RANDBETWEEN(1,99))))","v":53},"cm","=",{"$f":"10*C471","v":530},"mm"]
[{"$f":"IF(COUNTIF($B$1:B472,TRUE)=COUNTIF($B$1:B471,TRUE),\"\",COUNTIF($B$1:B472,TRUE))","v":284},{"$f":"IF(Worksheet!$D$10=3,FALSE,Worksheet!$B$15)","v":true},{"$f":"IF(Worksheet!$D$6=1,RANDBETWEEN(1,99),IF(Worksheet!$D$6=2,CHOOSE(RANDBETWEEN(1,2),RANDBETWEEN(1,99),RANDBETWEEN(1,999)/10),CHOOSE(RANDBETWEEN(1,4),RANDBETWEEN(1,99999)/1000,RANDBETWEEN(1,9999)/100,RANDBETWEEN(1,999)/10,RANDBETWEEN(1,99))))","v":46},"m","=",{"$f":"100*C472","v":4600},"cm"]
[{"$f":"IF(COUNTIF($B$1:B473,TRUE)=COUNTIF($B$1:B472,TRUE),\"\",COUNTIF($B$1:B473,TRUE))","v":285},{"$f":"IF(Worksheet!$D$10=3,FALSE,Worksheet!$B$16)","v":true},{"$f":"IF(Worksheet!$D$6=1,RANDBETWEEN(1,99),IF(Worksheet!$D$6=2,CHOOSE(RANDBETWEEN(1,2),RANDBETWEEN(1,99),RANDBETWEEN(1,999)/10),CHOOSE(RANDBETWEEN(1,4),RANDBETWEEN(1,99999)/1000,RANDBETWEEN(1,9999)/100,RANDBETWEEN(1,999)/10,RANDBETWEEN(1,99))))","v":66},"km","=",{"$f":"1000*C473","v":66000},"m"]
[{"$f":"IF(COUNTIF($B$1:B474,TRUE)=COUNTIF($B$1:B473,TRUE),\"\",COUNTIF($B$1:B474,TRUE))","v":""},{"$f":"IF(Worksheet!$D$10=3,FALSE,Worksheet!$B$17)","v":false},{"$f":"IF(Worksheet!$D$6=1,RANDBETWEEN(1,99),IF(Worksheet!$D$6=2,CHOOSE(RANDBETWEEN(1,2),RANDBETWEEN(1,99),RANDBETWEEN(1,999)/10),CHOOSE(RANDBETWEEN(1,4),RANDBETWEEN(1,99999)/1000,RANDBETWEEN(1,9999)/100,RANDBETWEEN(1,999)/10,RANDBETWEEN(1,99))))","v":39},"m",{"$f":"#REF!","v":{"$error":"#REF!"}},{"$f":"1000*C474","v":39000},"mm"]
[{"$f":"IF(COUNTIF($B$1:B475,TRUE)=COUNTIF($B$1:B474,TRUE),\"\",COUNTIF($B$1:B475,TRUE))","v":""},{"$f":"IF(Worksheet!$D$10=3,FALSE,Worksheet!$B$18)","v":false},{"$f":"IF(Worksheet!$D$6=1,RANDBETWEEN(1,99),IF(Worksheet!$D$6=2,CHOOSE(RANDBETWEEN(1,2),RANDBETWEEN(1,99),RANDBETWEEN(1,999)/10),CHOOSE(RANDBETWEEN(1,4),RANDBETWEEN(1,99999)/1000,RANDBETWEEN(1,9999)/100,RANDBETWEEN(1,999)/10,RANDBETWEEN(1,99))))","v":92},"cm²","=",{"$f":"C475*100","v":9200},"mm²"]
[{"$f":"IF(COUNTIF($B$1:B476,TRUE)=COUNTIF($B$1:B475,TRUE),\"\",COUNTIF($B$1:B476,TRUE))","v":286},{"$f":"IF(Worksheet!$D$10=3,FALSE,Worksheet!$D$14)","v":true},{"$f":"IF(Worksheet!$D$6=1,RANDBETWEEN(1,99),IF(Worksheet!$D$6=2,CHOOSE(RANDBETWEEN(1,2),RANDBETWEEN(1,99),RANDBETWEEN(1,999)/10),CHOOSE(RANDBETWEEN(1,4),RANDBETWEEN(1,99999)/1000,RANDBETWEEN(1,9999)/100,RANDBETWEEN(1,999)/10,RANDBETWEEN(1,99))))","v":33},"kg","=",{"$f":"1000*C476","v":33000},"g"]
[{"$f":"IF(COUNTIF($B$1:B477,TRUE)=COUNTIF($B$1:B476,TRUE),\"\",COUNTIF($B$1:B477,TRUE))","v":287},{"$f":"IF(Worksheet!$D$10=3,FALSE,Worksheet!$D$15)","v":true},{"$f":"IF(Worksheet!$D$6=1,RANDBETWEEN(1,99),IF(Worksheet!$D$6=2,CHOOSE(RANDBETWEEN(1,2),RANDBETWEEN(1,99),RANDBETWEEN(1,999)/10),CHOOSE(RANDBETWEEN(1,4),RANDBETWEEN(1,99999)/1000,RANDBETWEEN(1,9999)/100,RANDBETWEEN(1,999)/10,RANDBETWEEN(1,99))))","v":78},"tonnes","=",{"$f":"1000*C477","v":78000},"kg"]
[{"$f":"IF(COUNTIF($B$1:B478,TRUE)=COUNTIF($B$1:B477,TRUE),\"\",COUNTIF($B$1:B478,TRUE))","v":288},{"$f":"IF(Worksheet!$D$10=3,FALSE,Worksheet!$D$16)","v":true},{"$f":"IF(Worksheet!$D$6=1,RANDBETWEEN(1,99),IF(Worksheet!$D$6=2,CHOOSE(RANDBETWEEN(1,2),RANDBETWEEN(1,99),RANDBETWEEN(1,999)/10),CHOOSE(RANDBETWEEN(1,4),RANDBETWEEN(1,99999)/1000,RANDBETWEEN(1,9999)/100,RANDBETWEEN(1,999)/10,RANDBETWEEN(1,99))))","v":80},"litres","=",{"$f":"1000*C478","v":80000},"ml"]
[{"$f":"IF(COUNTIF($B$1:B479,TRUE)=COUNTIF($B$1:B478,TRUE),\"\",COUNTIF($B$1:B479,TRUE))","v":""},{"$f":"IF(Worksheet!$D$10=3,FALSE,Worksheet!$D$17)","v":false},{"$f":"IF(Worksheet!$D$6=1,RANDBETWEEN(1,99),IF(Worksheet!$D$6=2,CHOOSE(RANDBETWEEN(1,2),RANDBETWEEN(1,99),RANDBETWEEN(1,999)/10),CHOOSE(RANDBETWEEN(1,4),RANDBETWEEN(1,99999)/1000,RANDBETWEEN(1,9999)/100,RANDBETWEEN(1,999)/10,RANDBETWEEN(1,99))))","v":97},"litres","=",{"$f":"1000*C479","v":97000},"cm³"]
[{"$f":"IF(COUNTIF($B$1:B480,TRUE)=COUNTIF($B$1:B479,TRUE),\"\",COUNTIF($B$1:B480,TRUE))","v":""},{"$f":"IF(Worksheet!$D$10=3,FALSE,Worksheet!$D$18)","v":false},{"$f":"IF(Worksheet!$D$6=1,RANDBETWEEN(1,99),IF(Worksheet!$D$6=2,CHOOSE(RANDBETWEEN(1,2),RANDBETWEEN(1,99),RANDBETWEEN(1,999)/10),CHOOSE(RANDBETWEEN(1,4),RANDBETWEEN(1,99999)/1000,RANDBETWEEN(1,9999)/100,RANDBETWEEN(1,999)/10,RANDBETWEEN(1,99))))","v":85},"m²","=",{"$f":"10000*C480","v":850000},"cm²"]
[{"$f":"IF(COUNTIF($B$1:B481,TRUE)=COUNTIF($B$1:B480,TRUE),\"\",COUNTIF($B$1:B481,TRUE))","v":289},{"$f":"IF(Worksheet!$D$10=2,FALSE,Worksheet!$B$14)","v":true},{"$f":"10*F481","v":320},"mm","=",{"$f":"IF(Worksheet!$D$6=1,RANDBETWEEN(1,99),IF(Worksheet!$D$6=2,CHOOSE(RANDBETWEEN(1,2),RANDBETWEEN(1,99),RANDBETWEEN(1,999)/10),CHOOSE(RANDBETWEEN(1,4),RANDBETWEEN(1,99999)/1000,RANDBETWEEN(1,9999)/100,RANDBETWEEN(1,999)/10,RANDBETWEEN(1,99))))","v":32},"cm"]
[{"$f":"IF(COUNTIF($B$1:B482,TRUE)=COUNTIF($B$1:B481,TRUE),\"\",COUNTIF($B$1:B482,TRUE))","v":290},{"$f":"IF(Worksheet!$D$10=2,FALSE,Worksheet!$B$15)","v":true},{"$f":"100*F482","v":3400},"cm","=",{"$f":"IF(Worksheet!$D$6=1,RANDBETWEEN(1,99),IF(Worksheet!$D$6=2,CHOOSE(RANDBETWEEN(1,2),RANDBETWEEN(1,99),RANDBETWEEN(1,999)/10),CHOOSE(RANDBETWEEN(1,4),RANDBETWEEN(1,99999)/1000,RANDBETWEEN(1,9999)/100,RANDBETWEEN(1,999)/10,RANDBETWEEN(1,99))))","v":34},"m"]
[{"$f":"IF(COUNTIF($B$1:B483,TRUE)=COUNTIF($B$1:B482,TRUE),\"\",COUNTIF($B$1:B483,TRUE))","v":291},{"$f":"IF(Worksheet!$D$10=2,FALSE,Worksheet!$B$16)","v":true},{"$f":"1000*F483","v":73000},"m","=",{"$f":"IF(Worksheet!$D$6=1,RANDBETWEEN(1,99),IF(Worksheet!$D$6=2,CHOOSE(RANDBETWEEN(1,2),RANDBETWEEN(1,99),RANDBETWEEN(1,999)/10),CHOOSE(RANDBETWEEN(1,4),RANDBETWEEN(1,99999)/1000,RANDBETWEEN(1,9999)/100,RANDBETWEEN(1,999)/10,RANDBETWEEN(1,99))))","v":73},"km"]
[{"$f":"IF(COUNTIF($B$1:B484,TRUE)=COUNTIF($B$1:B483,TRUE),\"\",COUNTIF($B$1:B484,TRUE))","v":""},{"$f":"IF(Worksheet!$D$10=2,FALSE,Worksheet!$B$17)","v":false},{"$f":"1000*F484","v":20000},"mm","=",{"$f":"IF(Worksheet!$D$6=1,RANDBETWEEN(1,99),IF(Worksheet!$D$6=2,CHOOSE(RANDBETWEEN(1,2),RANDBETWEEN(1,99),RANDBETWEEN(1,999)/10),CHOOSE(RANDBETWEEN(1,4),RANDBETWEEN(1,99999)/1000,RANDBETWEEN(1,9999)/100,RANDBETWEEN(1,999)/10,RANDBETWEEN(1,99))))","v":20},"m"]
[{"$f":"IF(COUNTIF($B$1:B485,TRUE)=COUNTIF($B$1:B484,TRUE),\"\",COUNTIF($B$1:B485,TRUE))","v":""},{"$f":"IF(Worksheet!$D$10=2,FALSE,Worksheet!$B$18)","v":false},{"$f":"100*F485","v":5300},"mm²","=",{"$f":"IF(Worksheet!$D$6=1,RANDBETWEEN(1,99),IF(Worksheet!$D$6=2,CHOOSE(RANDBETWEEN(1,2),RANDBETWEEN(1,99),RANDBETWEEN(1,999)/10),CHOOSE(RANDBETWEEN(1,4),RANDBETWEEN(1,99999)/1000,RANDBETWEEN(1,9999)/100,RANDBETWEEN(1,999)/10,RANDBETWEEN(1,99))))","v":53},"cm²"]
[{"$f":"IF(COUNTIF($B$1:B486,TRUE)=COUNTIF($B$1:B485,TRUE),\"\",COUNTIF($B$1:B486,TRUE))","v":292},{"$f":"IF(Worksheet!$D$10=2,FALSE,Worksheet!$D$14)","v":true},{"$f":"F486*1000","v":17000},"g","=",{"$f":"IF(Worksheet!$D$6=1,RANDBETWEEN(1,99),IF(Worksheet!$D$6=2,CHOOSE(RANDBETWEEN(1,2),RANDBETWEEN(1,99),RANDBETWEEN(1,999)/10),CHOOSE(RANDBETWEEN(1,4),RANDBETWEEN(1,99999)/1000,RANDBETWEEN(1,9999)/100,RANDBETWEEN(1,999)/10,RANDBETWEEN(1,99))))","v":17},"kg"]
[{"$f":"IF(COUNTIF($B$1:B487,TRUE)=COUNTIF($B$1:B486,TRUE),\"\",COUNTIF($B$1:B487,TRUE))","v":293},{"$f":"IF(Worksheet!$D$10=2,FALSE,Worksheet!$D$15)","v":true},{"$f":"F487*1000","v":73000},"kg","=",{"$f":"IF(Worksheet!$D$6=1,RANDBETWEEN(1,99),IF(Worksheet!$D$6=2,CHOOSE(RANDBETWEEN(1,2),RANDBETWEEN(1,99),RANDBETWEEN(1,999)/10),CHOOSE(RANDBETWEEN(1,4),RANDBETWEEN(1,99999)/1000,RANDBETWEEN(1,9999)/100,RANDBETWEEN(1,999)/10,RANDBETWEEN(1,99))))","v":73},"tonnes"]
[{"$f":"IF(COUNTIF($B$1:B488,TRUE)=COUNTIF($B$1:B487,TRUE),\"\",COUNTIF($B$1:B488,TRUE))","v":294},{"$f":"IF(Worksheet!$D$10=2,FALSE,Worksheet!$D$16)","v":true},{"$f":"1000*F488","v":72000},"ml","=",{"$f":"IF(Worksheet!$D$6=1,RANDBETWEEN(1,99),IF(Worksheet!$D$6=2,CHOOSE(RANDBETWEEN(1,2),RANDBETWEEN(1,99),RANDBETWEEN(1,999)/10),CHOOSE(RANDBETWEEN(1,4),RANDBETWEEN(1,99999)/1000,RANDBETWEEN(1,9999)/100,RANDBETWEEN(1,999)/10,RANDBETWEEN(1,99))))","v":72},"litres"]
[{"$f":"IF(COUNTIF($B$1:B489,TRUE)=COUNTIF($B$1:B488,TRUE),\"\",COUNTIF($B$1:B489,TRUE))","v":""},{"$f":"IF(Worksheet!$D$10=2,FALSE,Worksheet!$D$17)","v":false},{"$f":"1000*F489","v":20000},"cm³","=",{"$f":"IF(Worksheet!$D$6=1,RANDBETWEEN(1,99),IF(Worksheet!$D$6=2,CHOOSE(RANDBETWEEN(1,2),RANDBETWEEN(1,99),RANDBETWEEN(1,999)/10),CHOOSE(RANDBETWEEN(1,4),RANDBETWEEN(1,99999)/1000,RANDBETWEEN(1,9999)/100,RANDBETWEEN(1,999)/10,RANDBETWEEN(1,99))))","v":20},"litres"]
[{"$f":"IF(COUNTIF($B$1:B490,TRUE)=COUNTIF($B$1:B489,TRUE),\"\",COUNTIF($B$1:B490,TRUE))","v":""},{"$f":"IF(Worksheet!$D$10=2,FALSE,Worksheet!$D$18)","v":false},{"$f":"10000*F490","v":580000},"cm²","=",{"$f":"IF(Worksheet!$D$6=1,RANDBETWEEN(1,99),IF(Worksheet!$D$6=2,CHOOSE(RANDBETWEEN(1,2),RANDBETWEEN(1,99),RANDBETWEEN(1,999)/10),CHOOSE(RANDBETWEEN(1,4),RANDBETWEEN(1,99999)/1000,RANDBETWEEN(1,9999)/100,RANDBETWEEN(1,999)/10,RANDBETWEEN(1,99))))","v":58},"m²"]
[{"$f":"IF(COUNTIF($B$1:B491,TRUE)=COUNTIF($B$1:B490,TRUE),\"\",COUNTIF($B$1:B491,TRUE))","v":295},{"$f":"IF(Worksheet!$D$10=3,FALSE,Worksheet!$B$14)","v":true},{"$f":"IF(Worksheet!$D$6=1,RANDBETWEEN(1,99),IF(Worksheet!$D$6=2,CHOOSE(RANDBETWEEN(1,2),RANDBETWEEN(1,99),RANDBETWEEN(1,999)/10),CHOOSE(RANDBETWEEN(1,4),RANDBETWEEN(1,99999)/1000,RANDBETWEEN(1,9999)/100,RANDBETWEEN(1,999)/10,RANDBETWEEN(1,99))))","v":51},"cm","=",{"$f":"10*C491","v":510},"mm"]
[{"$f":"IF(COUNTIF($B$1:B492,TRUE)=COUNTIF($B$1:B491,TRUE),\"\",COUNTIF($B$1:B492,TRUE))","v":296},{"$f":"IF(Worksheet!$D$10=3,FALSE,Worksheet!$B$15)","v":true},{"$f":"IF(Worksheet!$D$6=1,RANDBETWEEN(1,99),IF(Worksheet!$D$6=2,CHOOSE(RANDBETWEEN(1,2),RANDBETWEEN(1,99),RANDBETWEEN(1,999)/10),CHOOSE(RANDBETWEEN(1,4),RANDBETWEEN(1,99999)/1000,RANDBETWEEN(1,9999)/100,RANDBETWEEN(1,999)/10,RANDBETWEEN(1,99))))","v":63},"m","=",{"$f":"100*C492","v":6300},"cm"]
[{"$f":"IF(COUNTIF($B$1:B493,TRUE)=COUNTIF($B$1:B492,TRUE),\"\",COUNTIF($B$1:B493,TRUE))","v":297},{"$f":"IF(Worksheet!$D$10=3,FALSE,Worksheet!$B$16)","v":true},{"$f":"IF(Worksheet!$D$6=1,RANDBETWEEN(1,99),IF(Worksheet!$D$6=2,CHOOSE(RANDBETWEEN(1,2),RANDBETWEEN(1,99),RANDBETWEEN(1,999)/10),CHOOSE(RANDBETWEEN(1,4),RANDBETWEEN(1,99999)/1000,RANDBETWEEN(1,9999)/100,RANDBETWEEN(1,999)/10,RANDBETWEEN(1,99))))","v":55},"km","=",{"$f":"1000*C493","v":55000},"m"]
[{"$f":"IF(COUNTIF($B$1:B494,TRUE)=COUNTIF($B$1:B493,TRUE),\"\",COUNTIF($B$1:B494,TRUE))","v":""},{"$f":"IF(Worksheet!$D$10=3,FALSE,Worksheet!$B$17)","v":false},{"$f":"IF(Worksheet!$D$6=1,RANDBETWEEN(1,99),IF(Worksheet!$D$6=2,CHOOSE(RANDBETWEEN(1,2),RANDBETWEEN(1,99),RANDBETWEEN(1,999)/10),CHOOSE(RANDBETWEEN(1,4),RANDBETWEEN(1,99999)/1000,RANDBETWEEN(1,9999)/100,RANDBETWEEN(1,999)/10,RANDBETWEEN(1,99))))","v":87},"m",{"$f":"#REF!","v":{"$error":"#REF!"}},{"$f":"1000*C494","v":87000},"mm"]
[{"$f":"IF(COUNTIF($B$1:B495,TRUE)=COUNTIF($B$1:B494,TRUE),\"\",COUNTIF($B$1:B495,TRUE))","v":""},{"$f":"IF(Worksheet!$D$10=3,FALSE,Worksheet!$B$18)","v":false},{"$f":"IF(Worksheet!$D$6=1,RANDBETWEEN(1,99),IF(Worksheet!$D$6=2,CHOOSE(RANDBETWEEN(1,2),RANDBETWEEN(1,99),RANDBETWEEN(1,999)/10),CHOOSE(RANDBETWEEN(1,4),RANDBETWEEN(1,99999)/1000,RANDBETWEEN(1,9999)/100,RANDBETWEEN(1,999)/10,RANDBETWEEN(1,99))))","v":53},"cm²","=",{"$f":"C495*100","v":5300},"mm²"]
[{"$f":"IF(COUNTIF($B$1:B496,TRUE)=COUNTIF($B$1:B495,TRUE),\"\",COUNTIF($B$1:B496,TRUE))","v":298},{"$f":"IF(Worksheet!$D$10=3,FALSE,Worksheet!$D$14)","v":true},{"$f":"IF(Worksheet!$D$6=1,RANDBETWEEN(1,99),IF(Worksheet!$D$6=2,CHOOSE(RANDBETWEEN(1,2),RANDBETWEEN(1,99),RANDBETWEEN(1,999)/10),CHOOSE(RANDBETWEEN(1,4),RANDBETWEEN(1,99999)/1000,RANDBETWEEN(1,9999)/100,RANDBETWEEN(1,999)/10,RANDBETWEEN(1,99))))","v":63},"kg","=",{"$f":"1000*C496","v":63000},"g"]
[{"$f":"IF(COUNTIF($B$1:B497,TRUE)=COUNTIF($B$1:B496,TRUE),\"\",COUNTIF($B$1:B497,TRUE))","v":299},{"$f":"IF(Worksheet!$D$10=3,FALSE,Worksheet!$D$15)","v":true},{"$f":"IF(Worksheet!$D$6=1,RANDBETWEEN(1,99),IF(Worksheet!$D$6=2,CHOOSE(RANDBETWEEN(1,2),RANDBETWEEN(1,99),RANDBETWEEN(1,999)/10),CHOOSE(RANDBETWEEN(1,4),RANDBETWEEN(1,99999)/1000,RANDBETWEEN(1,9999)/100,RANDBETWEEN(1,999)/10,RANDBETWEEN(1,99))))","v":68},"tonnes","=",{"$f":"1000*C497","v":68000},"kg"]
[{"$f":"IF(COUNTIF($B$1:B498,TRUE)=COUNTIF($B$1:B497,TRUE),\"\",COUNTIF($B$1:B498,TRUE))","v":300},{"$f":"IF(Worksheet!$D$10=3,FALSE,Worksheet!$D$16)","v":true},{"$f":"IF(Worksheet!$D$6=1,RANDBETWEEN(1,99),IF(Worksheet!$D$6=2,CHOOSE(RANDBETWEEN(1,2),RANDBETWEEN(1,99),RANDBETWEEN(1,999)/10),CHOOSE(RANDBETWEEN(1,4),RANDBETWEEN(1,99999)/1000,RANDBETWEEN(1,9999)/100,RANDBETWEEN(1,999)/10,RANDBETWEEN(1,99))))","v":8},"litres","=",{"$f":"1000*C498","v":8000},"ml"]
[{"$f":"IF(COUNTIF($B$1:B499,TRUE)=COUNTIF($B$1:B498,TRUE),\"\",COUNTIF($B$1:B499,TRUE))","v":""},{"$f":"IF(Worksheet!$D$10=3,FALSE,Worksheet!$D$17)","v":false},{"$f":"IF(Worksheet!$D$6=1,RANDBETWEEN(1,99),IF(Worksheet!$D$6=2,CHOOSE(RANDBETWEEN(1,2),RANDBETWEEN(1,99),RANDBETWEEN(1,999)/10),CHOOSE(RANDBETWEEN(1,4),RANDBETWEEN(1,99999)/1000,RANDBETWEEN(1,9999)/100,RANDBETWEEN(1,999)/10,RANDBETWEEN(1,99))))","v":77},"litres","=",{"$f":"1000*C499","v":77000},"cm³"]
[{"$f":"IF(COUNTIF($B$1:B500,TRUE)=COUNTIF($B$1:B499,TRUE),\"\",COUNTIF($B$1:B500,TRUE))","v":""},{"$f":"IF(Worksheet!$D$10=3,FALSE,Worksheet!$D$18)","v":false},{"$f":"IF(Worksheet!$D$6=1,RANDBETWEEN(1,99),IF(Worksheet!$D$6=2,CHOOSE(RANDBETWEEN(1,2),RANDBETWEEN(1,99),RANDBETWEEN(1,999)/10),CHOOSE(RANDBETWEEN(1,4),RANDBETWEEN(1,99999)/1000,RANDBETWEEN(1,9999)/100,RANDBETWEEN(1,999)/10,RANDBETWEEN(1,99))))","v":18},"m²","=",{"$f":"10000*C500","v":180000},"cm²"]
[{"$f":"IF(COUNTIF($B$1:B501,TRUE)=COUNTIF($B$1:B500,TRUE),\"\",COUNTIF($B$1:B501,TRUE))","v":301},{"$f":"IF(Worksheet!$D$10=2,FALSE,Worksheet!$B$14)","v":true},{"$f":"10*F501","v":360},"mm","=",{"$f":"IF(Worksheet!$D$6=1,RANDBETWEEN(1,99),IF(Worksheet!$D$6=2,CHOOSE(RANDBETWEEN(1,2),RANDBETWEEN(1,99),RANDBETWEEN(1,999)/10),CHOOSE(RANDBETWEEN(1,4),RANDBETWEEN(1,99999)/1000,RANDBETWEEN(1,9999)/100,RANDBETWEEN(1,999)/10,RANDBETWEEN(1,99))))","v":36},"cm"]
[{"$f":"IF(COUNTIF($B$1:B502,TRUE)=COUNTIF($B$1:B501,TRUE),\"\",COUNTIF($B$1:B502,TRUE))","v":302},{"$f":"IF(Worksheet!$D$10=2,FALSE,Worksheet!$B$15)","v":true},{"$f":"100*F502","v":7000},"cm","=",{"$f":"IF(Worksheet!$D$6=1,RANDBETWEEN(1,99),IF(Worksheet!$D$6=2,CHOOSE(RANDBETWEEN(1,2),RANDBETWEEN(1,99),RANDBETWEEN(1,999)/10),CHOOSE(RANDBETWEEN(1,4),RANDBETWEEN(1,99999)/1000,RANDBETWEEN(1,9999)/100,RANDBETWEEN(1,999)/10,RANDBETWEEN(1,99))))","v":70},"m"]
[{"$f":"IF(COUNTIF($B$1:B503,TRUE)=COUNTIF($B$1:B502,TRUE),\"\",COUNTIF($B$1:B503,TRUE))","v":303},{"$f":"IF(Worksheet!$D$10=2,FALSE,Worksheet!$B$16)","v":true},{"$f":"1000*F503","v":71000},"m","=",{"$f":"IF(Worksheet!$D$6=1,RANDBETWEEN(1,99),IF(Worksheet!$D$6=2,CHOOSE(RANDBETWEEN(1,2),RANDBETWEEN(1,99),RANDBETWEEN(1,999)/10),CHOOSE(RANDBETWEEN(1,4),RANDBETWEEN(1,99999)/1000,RANDBETWEEN(1,9999)/100,RANDBETWEEN(1,999)/10,RANDBETWEEN(1,99))))","v":71},"km"]
[{"$f":"IF(COUNTIF($B$1:B504,TRUE)=COUNTIF($B$1:B503,TRUE),\"\",COUNTIF($B$1:B504,TRUE))","v":""},{"$f":"IF(Worksheet!$D$10=2,FALSE,Worksheet!$B$17)","v":false},{"$f":"1000*F504","v":3000},"mm","=",{"$f":"IF(Worksheet!$D$6=1,RANDBETWEEN(1,99),IF(Worksheet!$D$6=2,CHOOSE(RANDBETWEEN(1,2),RANDBETWEEN(1,99),RANDBETWEEN(1,999)/10),CHOOSE(RANDBETWEEN(1,4),RANDBETWEEN(1,99999)/1000,RANDBETWEEN(1,9999)/100,RANDBETWEEN(1,999)/10,RANDBETWEEN(1,99))))","v":3},"m"]
[{"$f":"IF(COUNTIF($B$1:B505,TRUE)=COUNTIF($B$1:B504,TRUE),\"\",COUNTIF($B$1:B505,TRUE))","v":""},{"$f":"IF(Worksheet!$D$10=2,FALSE,Worksheet!$B$18)","v":false},{"$f":"100*F505","v":1200},"mm²","=",{"$f":"IF(Worksheet!$D$6=1,RANDBETWEEN(1,99),IF(Worksheet!$D$6=2,CHOOSE(RANDBETWEEN(1,2),RANDBETWEEN(1,99),RANDBETWEEN(1,999)/10),CHOOSE(RANDBETWEEN(1,4),RANDBETWEEN(1,99999)/1000,RANDBETWEEN(1,9999)/100,RANDBETWEEN(1,999)/10,RANDBETWEEN(1,99))))","v":12},"cm²"]
[{"$f":"IF(COUNTIF($B$1:B506,TRUE)=COUNTIF($B$1:B505,TRUE),\"\",COUNTIF($B$1:B506,TRUE))","v":304},{"$f":"IF(Worksheet!$D$10=2,FALSE,Worksheet!$D$14)","v":true},{"$f":"F506*1000","v":37000},"g","=",{"$f":"IF(Worksheet!$D$6=1,RANDBETWEEN(1,99),IF(Worksheet!$D$6=2,CHOOSE(RANDBETWEEN(1,2),RANDBETWEEN(1,99),RANDBETWEEN(1,999)/10),CHOOSE(RANDBETWEEN(1,4),RANDBETWEEN(1,99999)/1000,RANDBETWEEN(1,9999)/100,RANDBETWEEN(1,999)/10,RANDBETWEEN(1,99))))","v":37},"kg"]
[{"$f":"IF(COUNTIF($B$1:B507,TRUE)=COUNTIF($B$1:B506,TRUE),\"\",COUNTIF($B$1:B507,TRUE))","v":305},{"$f":"IF(Worksheet!$D$10=2,FALSE,Worksheet!$D$15)","v":true},{"$f":"F507*1000","v":34000},"kg","=",{"$f":"IF(Worksheet!$D$6=1,RANDBETWEEN(1,99),IF(Worksheet!$D$6=2,CHOOSE(RANDBETWEEN(1,2),RANDBETWEEN(1,99),RANDBETWEEN(1,999)/10),CHOOSE(RANDBETWEEN(1,4),RANDBETWEEN(1,99999)/1000,RANDBETWEEN(1,9999)/100,RANDBETWEEN(1,999)/10,RANDBETWEEN(1,99))))","v":34},"tonnes"]
[{"$f":"IF(COUNTIF($B$1:B508,TRUE)=COUNTIF($B$1:B507,TRUE),\"\",COUNTIF($B$1:B508,TRUE))","v":306},{"$f":"IF(Worksheet!$D$10=2,FALSE,Worksheet!$D$16)","v":true},{"$f":"1000*F508","v":52000},"ml","=",{"$f":"IF(Worksheet!$D$6=1,RANDBETWEEN(1,99),IF(Worksheet!$D$6=2,CHOOSE(RANDBETWEEN(1,2),RANDBETWEEN(1,99),RANDBETWEEN(1,999)/10),CHOOSE(RANDBETWEEN(1,4),RANDBETWEEN(1,99999)/1000,RANDBETWEEN(1,9999)/100,RANDBETWEEN(1,999)/10,RANDBETWEEN(1,99))))","v":52},"litres"]
[{"$f":"IF(COUNTIF($B$1:B509,TRUE)=COUNTIF($B$1:B508,TRUE),\"\",COUNTIF($B$1:B509,TRUE))","v":""},{"$f":"IF(Worksheet!$D$10=2,FALSE,Worksheet!$D$17)","v":false},{"$f":"1000*F509","v":32000},"cm³","=",{"$f":"IF(Worksheet!$D$6=1,RANDBETWEEN(1,99),IF(Worksheet!$D$6=2,CHOOSE(RANDBETWEEN(1,2),RANDBETWEEN(1,99),RANDBETWEEN(1,999)/10),CHOOSE(RANDBETWEEN(1,4),RANDBETWEEN(1,99999)/1000,RANDBETWEEN(1,9999)/100,RANDBETWEEN(1,999)/10,RANDBETWEEN(1,99))))","v":32},"litres"]
[{"$f":"IF(COUNTIF($B$1:B510,TRUE)=COUNTIF($B$1:B509,TRUE),\"\",COUNTIF($B$1:B510,TRUE))","v":""},{"$f":"IF(Worksheet!$D$10=2,FALSE,Worksheet!$D$18)","v":false},{"$f":"10000*F510","v":810000},"cm²","=",{"$f":"IF(Worksheet!$D$6=1,RANDBETWEEN(1,99),IF(Worksheet!$D$6=2,CHOOSE(RANDBETWEEN(1,2),RANDBETWEEN(1,99),RANDBETWEEN(1,999)/10),CHOOSE(RANDBETWEEN(1,4),RANDBETWEEN(1,99999)/1000,RANDBETWEEN(1,9999)/100,RANDBETWEEN(1,999)/10,RANDBETWEEN(1,99))))","v":81},"m²"]
[{"$f":"IF(COUNTIF($B$1:B511,TRUE)=COUNTIF($B$1:B510,TRUE),\"\",COUNTIF($B$1:B511,TRUE))","v":307},{"$f":"IF(Worksheet!$D$10=3,FALSE,Worksheet!$B$14)","v":true},{"$f":"IF(Worksheet!$D$6=1,RANDBETWEEN(1,99),IF(Worksheet!$D$6=2,CHOOSE(RANDBETWEEN(1,2),RANDBETWEEN(1,99),RANDBETWEEN(1,999)/10),CHOOSE(RANDBETWEEN(1,4),RANDBETWEEN(1,99999)/1000,RANDBETWEEN(1,9999)/100,RANDBETWEEN(1,999)/10,RANDBETWEEN(1,99))))","v":48},"cm","=",{"$f":"10*C511","v":480},"mm"]
[{"$f":"IF(COUNTIF($B$1:B512,TRUE)=COUNTIF($B$1:B511,TRUE),\"\",COUNTIF($B$1:B512,TRUE))","v":308},{"$f":"IF(Worksheet!$D$10=3,FALSE,Worksheet!$B$15)","v":true},{"$f":"IF(Worksheet!$D$6=1,RANDBETWEEN(1,99),IF(Worksheet!$D$6=2,CHOOSE(RANDBETWEEN(1,2),RANDBETWEEN(1,99),RANDBETWEEN(1,999)/10),CHOOSE(RANDBETWEEN(1,4),RANDBETWEEN(1,99999)/1000,RANDBETWEEN(1,9999)/100,RANDBETWEEN(1,999)/10,RANDBETWEEN(1,99))))","v":23},"m","=",{"$f":"100*C512","v":2300},"cm"]
[{"$f":"IF(COUNTIF($B$1:B513,TRUE)=COUNTIF($B$1:B512,TRUE),\"\",COUNTIF($B$1:B513,TRUE))","v":309},{"$f":"IF(Worksheet!$D$10=3,FALSE,Worksheet!$B$16)","v":true},{"$f":"IF(Worksheet!$D$6=1,RANDBETWEEN(1,99),IF(Worksheet!$D$6=2,CHOOSE(RANDBETWEEN(1,2),RANDBETWEEN(1,99),RANDBETWEEN(1,999)/10),CHOOSE(RANDBETWEEN(1,4),RANDBETWEEN(1,99999)/1000,RANDBETWEEN(1,9999)/100,RANDBETWEEN(1,999)/10,RANDBETWEEN(1,99))))","v":66},"km","=",{"$f":"1000*C513","v":66000},"m"]
[{"$f":"IF(COUNTIF($B$1:B514,TRUE)=COUNTIF($B$1:B513,TRUE),\"\",COUNTIF($B$1:B514,TRUE))","v":""},{"$f":"IF(Worksheet!$D$10=3,FALSE,Worksheet!$B$17)","v":false},{"$f":"IF(Worksheet!$D$6=1,RANDBETWEEN(1,99),IF(Worksheet!$D$6=2,CHOOSE(RANDBETWEEN(1,2),RANDBETWEEN(1,99),RANDBETWEEN(1,999)/10),CHOOSE(RANDBETWEEN(1,4),RANDBETWEEN(1,99999)/1000,RANDBETWEEN(1,9999)/100,RANDBETWEEN(1,999)/10,RANDBETWEEN(1,99))))","v":77},"m",{"$f":"#REF!","v":{"$error":"#REF!"}},{"$f":"1000*C514","v":77000},"mm"]
[{"$f":"IF(COUNTIF($B$1:B515,TRUE)=COUNTIF($B$1:B514,TRUE),\"\",COUNTIF($B$1:B515,TRUE))","v":""},{"$f":"IF(Worksheet!$D$10=3,FALSE,Worksheet!$B$18)","v":false},{"$f":"IF(Worksheet!$D$6=1,RANDBETWEEN(1,99),IF(Worksheet!$D$6=2,CHOOSE(RANDBETWEEN(1,2),RANDBETWEEN(1,99),RANDBETWEEN(1,999)/10),CHOOSE(RANDBETWEEN(1,4),RANDBETWEEN(1,99999)/1000,RANDBETWEEN(1,9999)/100,RANDBETWEEN(1,999)/10,RANDBETWEEN(1,99))))","v":62},"cm²","=",{"$f":"C515*100","v":6200},"mm²"]
[{"$f":"IF(COUNTIF($B$1:B516,TRUE)=COUNTIF($B$1:B515,TRUE),\"\",COUNTIF($B$1:B516,TRUE))","v":310},{"$f":"IF(Worksheet!$D$10=3,FALSE,Worksheet!$D$14)","v":true},{"$f":"IF(Worksheet!$D$6=1,RANDBETWEEN(1,99),IF(Worksheet!$D$6=2,CHOOSE(RANDBETWEEN(1,2),RANDBETWEEN(1,99),RANDBETWEEN(1,999)/10),CHOOSE(RANDBETWEEN(1,4),RANDBETWEEN(1,99999)/1000,RANDBETWEEN(1,9999)/100,RANDBETWEEN(1,999)/10,RANDBETWEEN(1,99))))","v":74},"kg","=",{"$f":"1000*C516","v":74000},"g"]
[{"$f":"IF(COUNTIF($B$1:B517,TRUE)=COUNTIF($B$1:B516,TRUE),\"\",COUNTIF($B$1:B517,TRUE))","v":311},{"$f":"IF(Worksheet!$D$10=3,FALSE,Worksheet!$D$15)","v":true},{"$f":"IF(Worksheet!$D$6=1,RANDBETWEEN(1,99),IF(Worksheet!$D$6=2,CHOOSE(RANDBETWEEN(1,2),RANDBETWEEN(1,99),RANDBETWEEN(1,999)/10),CHOOSE(RANDBETWEEN(1,4),RANDBETWEEN(1,99999)/1000,RANDBETWEEN(1,9999)/100,RANDBETWEEN(1,999)/10,RANDBETWEEN(1,99))))","v":59},"tonnes","=",{"$f":"1000*C517","v":59000},"kg"]
[{"$f":"IF(COUNTIF($B$1:B518,TRUE)=COUNTIF($B$1:B517,TRUE),\"\",COUNTIF($B$1:B518,TRUE))","v":312},{"$f":"IF(Worksheet!$D$10=3,FALSE,Worksheet!$D$16)","v":true},{"$f":"IF(Worksheet!$D$6=1,RANDBETWEEN(1,99),IF(Worksheet!$D$6=2,CHOOSE(RANDBETWEEN(1,2),RANDBETWEEN(1,99),RANDBETWEEN(1,999)/10),CHOOSE(RANDBETWEEN(1,4),RANDBETWEEN(1,99999)/1000,RANDBETWEEN(1,9999)/100,RANDBETWEEN(1,999)/10,RANDBETWEEN(1,99))))","v":81},"litres","=",{"$f":"1000*C518","v":81000},"ml"]
[{"$f":"IF(COUNTIF($B$1:B519,TRUE)=COUNTIF($B$1:B518,TRUE),\"\",COUNTIF($B$1:B519,TRUE))","v":""},{"$f":"IF(Worksheet!$D$10=3,FALSE,Worksheet!$D$17)","v":false},{"$f":"IF(Worksheet!$D$6=1,RANDBETWEEN(1,99),IF(Worksheet!$D$6=2,CHOOSE(RANDBETWEEN(1,2),RANDBETWEEN(1,99),RANDBETWEEN(1,999)/10),CHOOSE(RANDBETWEEN(1,4),RANDBETWEEN(1,99999)/1000,RANDBETWEEN(1,9999)/100,RANDBETWEEN(1,999)/10,RANDBETWEEN(1,99))))","v":99},"litres","=",{"$f":"1000*C519","v":99000},"cm³"]
[{"$f":"IF(COUNTIF($B$1:B520,TRUE)=COUNTIF($B$1:B519,TRUE),\"\",COUNTIF($B$1:B520,TRUE))","v":""},{"$f":"IF(Worksheet!$D$10=3,FALSE,Worksheet!$D$18)","v":false},{"$f":"IF(Worksheet!$D$6=1,RANDBETWEEN(1,99),IF(Worksheet!$D$6=2,CHOOSE(RANDBETWEEN(1,2),RANDBETWEEN(1,99),RANDBETWEEN(1,999)/10),CHOOSE(RANDBETWEEN(1,4),RANDBETWEEN(1,99999)/1000,RANDBETWEEN(1,9999)/100,RANDBETWEEN(1,999)/10,RANDBETWEEN(1,99))))","v":27},"m²","=",{"$f":"10000*C520","v":270000},"cm²"]
[{"$f":"IF(COUNTIF($B$1:B521,TRUE)=COUNTIF($B$1:B520,TRUE),\"\",COUNTIF($B$1:B521,TRUE))","v":313},{"$f":"IF(Worksheet!$D$10=2,FALSE,Worksheet!$B$14)","v":true},{"$f":"10*F521","v":470},"mm","=",{"$f":"IF(Worksheet!$D$6=1,RANDBETWEEN(1,99),IF(Worksheet!$D$6=2,CHOOSE(RANDBETWEEN(1,2),RANDBETWEEN(1,99),RANDBETWEEN(1,999)/10),CHOOSE(RANDBETWEEN(1,4),RANDBETWEEN(1,99999)/1000,RANDBETWEEN(1,9999)/100,RANDBETWEEN(1,999)/10,RANDBETWEEN(1,99))))","v":47},"cm"]
[{"$f":"IF(COUNTIF($B$1:B522,TRUE)=COUNTIF($B$1:B521,TRUE),\"\",COUNTIF($B$1:B522,TRUE))","v":314},{"$f":"IF(Worksheet!$D$10=2,FALSE,Worksheet!$B$15)","v":true},{"$f":"100*F522","v":500},"cm","=",{"$f":"IF(Worksheet!$D$6=1,RANDBETWEEN(1,99),IF(Worksheet!$D$6=2,CHOOSE(RANDBETWEEN(1,2),RANDBETWEEN(1,99),RANDBETWEEN(1,999)/10),CHOOSE(RANDBETWEEN(1,4),RANDBETWEEN(1,99999)/1000,RANDBETWEEN(1,9999)/100,RANDBETWEEN(1,999)/10,RANDBETWEEN(1,99))))","v":5},"m"]
[{"$f":"IF(COUNTIF($B$1:B523,TRUE)=COUNTIF($B$1:B522,TRUE),\"\",COUNTIF($B$1:B523,TRUE))","v":315},{"$f":"IF(Worksheet!$D$10=2,FALSE,Worksheet!$B$16)","v":true},{"$f":"1000*F523","v":43000},"m","=",{"$f":"IF(Worksheet!$D$6=1,RANDBETWEEN(1,99),IF(Worksheet!$D$6=2,CHOOSE(RANDBETWEEN(1,2),RANDBETWEEN(1,99),RANDBETWEEN(1,999)/10),CHOOSE(RANDBETWEEN(1,4),RANDBETWEEN(1,99999)/1000,RANDBETWEEN(1,9999)/100,RANDBETWEEN(1,999)/10,RANDBETWEEN(1,99))))","v":43},"km"]
[{"$f":"IF(COUNTIF($B$1:B524,TRUE)=COUNTIF($B$1:B523,TRUE),\"\",COUNTIF($B$1:B524,TRUE))","v":""},{"$f":"IF(Worksheet!$D$10=2,FALSE,Worksheet!$B$17)","v":false},{"$f":"1000*F524","v":38000},"mm","=",{"$f":"IF(Worksheet!$D$6=1,RANDBETWEEN(1,99),IF(Worksheet!$D$6=2,CHOOSE(RANDBETWEEN(1,2),RANDBETWEEN(1,99),RANDBETWEEN(1,999)/10),CHOOSE(RANDBETWEEN(1,4),RANDBETWEEN(1,99999)/1000,RANDBETWEEN(1,9999)/100,RANDBETWEEN(1,999)/10,RANDBETWEEN(1,99))))","v":38},"m"]
[{"$f":"IF(COUNTIF($B$1:B525,TRUE)=COUNTIF($B$1:B524,TRUE),\"\",COUNTIF($B$1:B525,TRUE))","v":""},{"$f":"IF(Worksheet!$D$10=2,FALSE,Worksheet!$B$18)","v":false},{"$f":"100*F525","v":8500},"mm²","=",{"$f":"IF(Worksheet!$D$6=1,RANDBETWEEN(1,99),IF(Worksheet!$D$6=2,CHOOSE(RANDBETWEEN(1,2),RANDBETWEEN(1,99),RANDBETWEEN(1,999)/10),CHOOSE(RANDBETWEEN(1,4),RANDBETWEEN(1,99999)/1000,RANDBETWEEN(1,9999)/100,RANDBETWEEN(1,999)/10,RANDBETWEEN(1,99))))","v":85},"cm²"]
[{"$f":"IF(COUNTIF($B$1:B526,TRUE)=COUNTIF($B$1:B525,TRUE),\"\",COUNTIF($B$1:B526,TRUE))","v":316},{"$f":"IF(Worksheet!$D$10=2,FALSE,Worksheet!$D$14)","v":true},{"$f":"F526*1000","v":44000},"g","=",{"$f":"IF(Worksheet!$D$6=1,RANDBETWEEN(1,99),IF(Worksheet!$D$6=2,CHOOSE(RANDBETWEEN(1,2),RANDBETWEEN(1,99),RANDBETWEEN(1,999)/10),CHOOSE(RANDBETWEEN(1,4),RANDBETWEEN(1,99999)/1000,RANDBETWEEN(1,9999)/100,RANDBETWEEN(1,999)/10,RANDBETWEEN(1,99))))","v":44},"kg"]
[{"$f":"IF(COUNTIF($B$1:B527,TRUE)=COUNTIF($B$1:B526,TRUE),\"\",COUNTIF($B$1:B527,TRUE))","v":317},{"$f":"IF(Worksheet!$D$10=2,FALSE,Worksheet!$D$15)","v":true},{"$f":"F527*1000","v":19000},"kg","=",{"$f":"IF(Worksheet!$D$6=1,RANDBETWEEN(1,99),IF(Worksheet!$D$6=2,CHOOSE(RANDBETWEEN(1,2),RANDBETWEEN(1,99),RANDBETWEEN(1,999)/10),CHOOSE(RANDBETWEEN(1,4),RANDBETWEEN(1,99999)/1000,RANDBETWEEN(1,9999)/100,RANDBETWEEN(1,999)/10,RANDBETWEEN(1,99))))","v":19},"tonnes"]
[{"$f":"IF(COUNTIF($B$1:B528,TRUE)=COUNTIF($B$1:B527,TRUE),\"\",COUNTIF($B$1:B528,TRUE))","v":318},{"$f":"IF(Worksheet!$D$10=2,FALSE,Worksheet!$D$16)","v":true},{"$f":"1000*F528","v":41000},"ml","=",{"$f":"IF(Worksheet!$D$6=1,RANDBETWEEN(1,99),IF(Worksheet!$D$6=2,CHOOSE(RANDBETWEEN(1,2),RANDBETWEEN(1,99),RANDBETWEEN(1,999)/10),CHOOSE(RANDBETWEEN(1,4),RANDBETWEEN(1,99999)/1000,RANDBETWEEN(1,9999)/100,RANDBETWEEN(1,999)/10,RANDBETWEEN(1,99))))","v":41},"litres"]
[{"$f":"IF(COUNTIF($B$1:B529,TRUE)=COUNTIF($B$1:B528,TRUE),\"\",COUNTIF($B$1:B529,TRUE))","v":""},{"$f":"IF(Worksheet!$D$10=2,FALSE,Worksheet!$D$17)","v":false},{"$f":"1000*F529","v":84000},"cm³","=",{"$f":"IF(Worksheet!$D$6=1,RANDBETWEEN(1,99),IF(Worksheet!$D$6=2,CHOOSE(RANDBETWEEN(1,2),RANDBETWEEN(1,99),RANDBETWEEN(1,999)/10),CHOOSE(RANDBETWEEN(1,4),RANDBETWEEN(1,99999)/1000,RANDBETWEEN(1,9999)/100,RANDBETWEEN(1,999)/10,RANDBETWEEN(1,99))))","v":84},"litres"]
[{"$f":"IF(COUNTIF($B$1:B530,TRUE)=COUNTIF($B$1:B529,TRUE),\"\",COUNTIF($B$1:B530,TRUE))","v":""},{"$f":"IF(Worksheet!$D$10=2,FALSE,Worksheet!$D$18)","v":false},{"$f":"10000*F530","v":680000},"cm²","=",{"$f":"IF(Worksheet!$D$6=1,RANDBETWEEN(1,99),IF(Worksheet!$D$6=2,CHOOSE(RANDBETWEEN(1,2),RANDBETWEEN(1,99),RANDBETWEEN(1,999)/10),CHOOSE(RANDBETWEEN(1,4),RANDBETWEEN(1,99999)/1000,RANDBETWEEN(1,9999)/100,RANDBETWEEN(1,999)/10,RANDBETWEEN(1,99))))","v":68},"m²"]
[{"$f":"IF(COUNTIF($B$1:B531,TRUE)=COUNTIF($B$1:B530,TRUE),\"\",COUNTIF($B$1:B531,TRUE))","v":319},{"$f":"IF(Worksheet!$D$10=3,FALSE,Worksheet!$B$14)","v":true},{"$f":"IF(Worksheet!$D$6=1,RANDBETWEEN(1,99),IF(Worksheet!$D$6=2,CHOOSE(RANDBETWEEN(1,2),RANDBETWEEN(1,99),RANDBETWEEN(1,999)/10),CHOOSE(RANDBETWEEN(1,4),RANDBETWEEN(1,99999)/1000,RANDBETWEEN(1,9999)/100,RANDBETWEEN(1,999)/10,RANDBETWEEN(1,99))))","v":61},"cm","=",{"$f":"10*C531","v":610},"mm"]
[{"$f":"IF(COUNTIF($B$1:B532,TRUE)=COUNTIF($B$1:B531,TRUE),\"\",COUNTIF($B$1:B532,TRUE))","v":320},{"$f":"IF(Worksheet!$D$10=3,FALSE,Worksheet!$B$15)","v":true},{"$f":"IF(Worksheet!$D$6=1,RANDBETWEEN(1,99),IF(Worksheet!$D$6=2,CHOOSE(RANDBETWEEN(1,2),RANDBETWEEN(1,99),RANDBETWEEN(1,999)/10),CHOOSE(RANDBETWEEN(1,4),RANDBETWEEN(1,99999)/1000,RANDBETWEEN(1,9999)/100,RANDBETWEEN(1,999)/10,RANDBETWEEN(1,99))))","v":99},"m","=",{"$f":"100*C532","v":9900},"cm"]
[{"$f":"IF(COUNTIF($B$1:B533,TRUE)=COUNTIF($B$1:B532,TRUE),\"\",COUNTIF($B$1:B533,TRUE))","v":321},{"$f":"IF(Worksheet!$D$10=3,FALSE,Worksheet!$B$16)","v":true},{"$f":"IF(Worksheet!$D$6=1,RANDBETWEEN(1,99),IF(Worksheet!$D$6=2,CHOOSE(RANDBETWEEN(1,2),RANDBETWEEN(1,99),RANDBETWEEN(1,999)/10),CHOOSE(RANDBETWEEN(1,4),RANDBETWEEN(1,99999)/1000,RANDBETWEEN(1,9999)/100,RANDBETWEEN(1,999)/10,RANDBETWEEN(1,99))))","v":95},"km","=",{"$f":"1000*C533","v":95000},"m"]
[{"$f":"IF(COUNTIF($B$1:B534,TRUE)=COUNTIF($B$1:B533,TRUE),\"\",COUNTIF($B$1:B534,TRUE))","v":""},{"$f":"IF(Worksheet!$D$10=3,FALSE,Worksheet!$B$17)","v":false},{"$f":"IF(Worksheet!$D$6=1,RANDBETWEEN(1,99),IF(Worksheet!$D$6=2,CHOOSE(RANDBETWEEN(1,2),RANDBETWEEN(1,99),RANDBETWEEN(1,999)/10),CHOOSE(RANDBETWEEN(1,4),RANDBETWEEN(1,99999)/1000,RANDBETWEEN(1,9999)/100,RANDBETWEEN(1,999)/10,RANDBETWEEN(1,99))))","v":89},"m",{"$f":"#REF!","v":{"$error":"#REF!"}},{"$f":"1000*C534","v":89000},"mm"]
[{"$f":"IF(COUNTIF($B$1:B535,TRUE)=COUNTIF($B$1:B534,TRUE),\"\",COUNTIF($B$1:B535,TRUE))","v":""},{"$f":"IF(Worksheet!$D$10=3,FALSE,Worksheet!$B$18)","v":false},{"$f":"IF(Worksheet!$D$6=1,RANDBETWEEN(1,99),IF(Worksheet!$D$6=2,CHOOSE(RANDBETWEEN(1,2),RANDBETWEEN(1,99),RANDBETWEEN(1,999)/10),CHOOSE(RANDBETWEEN(1,4),RANDBETWEEN(1,99999)/1000,RANDBETWEEN(1,9999)/100,RANDBETWEEN(1,999)/10,RANDBETWEEN(1,99))))","v":24},"cm²","=",{"$f":"C535*100","v":2400},"mm²"]
[{"$f":"IF(COUNTIF($B$1:B536,TRUE)=COUNTIF($B$1:B535,TRUE),\"\",COUNTIF($B$1:B536,TRUE))","v":322},{"$f":"IF(Worksheet!$D$10=3,FALSE,Worksheet!$D$14)","v":true},{"$f":"IF(Worksheet!$D$6=1,RANDBETWEEN(1,99),IF(Worksheet!$D$6=2,CHOOSE(RANDBETWEEN(1,2),RANDBETWEEN(1,99),RANDBETWEEN(1,999)/10),CHOOSE(RANDBETWEEN(1,4),RANDBETWEEN(1,99999)/1000,RANDBETWEEN(1,9999)/100,RANDBETWEEN(1,999)/10,RANDBETWEEN(1,99))))","v":12},"kg","=",{"$f":"1000*C536","v":12000},"g"]
[{"$f":"IF(COUNTIF($B$1:B537,TRUE)=COUNTIF($B$1:B536,TRUE),\"\",COUNTIF($B$1:B537,TRUE))","v":323},{"$f":"IF(Worksheet!$D$10=3,FALSE,Worksheet!$D$15)","v":true},{"$f":"IF(Worksheet!$D$6=1,RANDBETWEEN(1,99),IF(Worksheet!$D$6=2,CHOOSE(RANDBETWEEN(1,2),RANDBETWEEN(1,99),RANDBETWEEN(1,999)/10),CHOOSE(RANDBETWEEN(1,4),RANDBETWEEN(1,99999)/1000,RANDBETWEEN(1,9999)/100,RANDBETWEEN(1,999)/10,RANDBETWEEN(1,99))))","v":15},"tonnes","=",{"$f":"1000*C537","v":15000},"kg"]
[{"$f":"IF(COUNTIF($B$1:B538,TRUE)=COUNTIF($B$1:B537,TRUE),\"\",COUNTIF($B$1:B538,TRUE))","v":324},{"$f":"IF(Worksheet!$D$10=3,FALSE,Worksheet!$D$16)","v":true},{"$f":"IF(Worksheet!$D$6=1,RANDBETWEEN(1,99),IF(Worksheet!$D$6=2,CHOOSE(RANDBETWEEN(1,2),RANDBETWEEN(1,99),RANDBETWEEN(1,999)/10),CHOOSE(RANDBETWEEN(1,4),RANDBETWEEN(1,99999)/1000,RANDBETWEEN(1,9999)/100,RANDBETWEEN(1,999)/10,RANDBETWEEN(1,99))))","v":27},"litres","=",{"$f":"1000*C538","v":27000},"ml"]
[{"$f":"IF(COUNTIF($B$1:B539,TRUE)=COUNTIF($B$1:B538,TRUE),\"\",COUNTIF($B$1:B539,TRUE))","v":""},{"$f":"IF(Worksheet!$D$10=3,FALSE,Worksheet!$D$17)","v":false},{"$f":"IF(Worksheet!$D$6=1,RANDBETWEEN(1,99),IF(Worksheet!$D$6=2,CHOOSE(RANDBETWEEN(1,2),RANDBETWEEN(1,99),RANDBETWEEN(1,999)/10),CHOOSE(RANDBETWEEN(1,4),RANDBETWEEN(1,99999)/1000,RANDBETWEEN(1,9999)/100,RANDBETWEEN(1,999)/10,RANDBETWEEN(1,99))))","v":91},"litres","=",{"$f":"1000*C539","v":91000},"cm³"]
[{"$f":"IF(COUNTIF($B$1:B540,TRUE)=COUNTIF($B$1:B539,TRUE),\"\",COUNTIF($B$1:B540,TRUE))","v":""},{"$f":"IF(Worksheet!$D$10=3,FALSE,Worksheet!$D$18)","v":false},{"$f":"IF(Worksheet!$D$6=1,RANDBETWEEN(1,99),IF(Worksheet!$D$6=2,CHOOSE(RANDBETWEEN(1,2),RANDBETWEEN(1,99),RANDBETWEEN(1,999)/10),CHOOSE(RANDBETWEEN(1,4),RANDBETWEEN(1,99999)/1000,RANDBETWEEN(1,9999)/100,RANDBETWEEN(1,999)/10,RANDBETWEEN(1,99))))","v":41},"m²","=",{"$f":"10000*C540","v":410000},"cm²"]
[{"$f":"IF(COUNTIF($B$1:B541,TRUE)=COUNTIF($B$1:B540,TRUE),\"\",COUNTIF($B$1:B541,TRUE))","v":325},{"$f":"IF(Worksheet!$D$10=2,FALSE,Worksheet!$B$14)","v":true},{"$f":"10*F541","v":390},"mm","=",{"$f":"IF(Worksheet!$D$6=1,RANDBETWEEN(1,99),IF(Worksheet!$D$6=2,CHOOSE(RANDBETWEEN(1,2),RANDBETWEEN(1,99),RANDBETWEEN(1,999)/10),CHOOSE(RANDBETWEEN(1,4),RANDBETWEEN(1,99999)/1000,RANDBETWEEN(1,9999)/100,RANDBETWEEN(1,999)/10,RANDBETWEEN(1,99))))","v":39},"cm"]
[{"$f":"IF(COUNTIF($B$1:B542,TRUE)=COUNTIF($B$1:B541,TRUE),\"\",COUNTIF($B$1:B542,TRUE))","v":326},{"$f":"IF(Worksheet!$D$10=2,FALSE,Worksheet!$B$15)","v":true},{"$f":"100*F542","v":4100},"cm","=",{"$f":"IF(Worksheet!$D$6=1,RANDBETWEEN(1,99),IF(Worksheet!$D$6=2,CHOOSE(RANDBETWEEN(1,2),RANDBETWEEN(1,99),RANDBETWEEN(1,999)/10),CHOOSE(RANDBETWEEN(1,4),RANDBETWEEN(1,99999)/1000,RANDBETWEEN(1,9999)/100,RANDBETWEEN(1,999)/10,RANDBETWEEN(1,99))))","v":41},"m"]
[{"$f":"IF(COUNTIF($B$1:B543,TRUE)=COUNTIF($B$1:B542,TRUE),\"\",COUNTIF($B$1:B543,TRUE))","v":327},{"$f":"IF(Worksheet!$D$10=2,FALSE,Worksheet!$B$16)","v":true},{"$f":"1000*F543","v":41000},"m","=",{"$f":"IF(Worksheet!$D$6=1,RANDBETWEEN(1,99),IF(Worksheet!$D$6=2,CHOOSE(RANDBETWEEN(1,2),RANDBETWEEN(1,99),RANDBETWEEN(1,999)/10),CHOOSE(RANDBETWEEN(1,4),RANDBETWEEN(1,99999)/1000,RANDBETWEEN(1,9999)/100,RANDBETWEEN(1,999)/10,RANDBETWEEN(1,99))))","v":41},"km"]
[{"$f":"IF(COUNTIF($B$1:B544,TRUE)=COUNTIF($B$1:B543,TRUE),\"\",COUNTIF($B$1:B544,TRUE))","v":""},{"$f":"IF(Worksheet!$D$10=2,FALSE,Worksheet!$B$17)","v":false},{"$f":"1000*F544","v":51000},"mm","=",{"$f":"IF(Worksheet!$D$6=1,RANDBETWEEN(1,99),IF(Worksheet!$D$6=2,CHOOSE(RANDBETWEEN(1,2),RANDBETWEEN(1,99),RANDBETWEEN(1,999)/10),CHOOSE(RANDBETWEEN(1,4),RANDBETWEEN(1,99999)/1000,RANDBETWEEN(1,9999)/100,RANDBETWEEN(1,999)/10,RANDBETWEEN(1,99))))","v":51},"m"]
[{"$f":"IF(COUNTIF($B$1:B545,TRUE)=COUNTIF($B$1:B544,TRUE),\"\",COUNTIF($B$1:B545,TRUE))","v":""},{"$f":"IF(Worksheet!$D$10=2,FALSE,Worksheet!$B$18)","v":false},{"$f":"100*F545","v":2100},"mm²","=",{"$f":"IF(Worksheet!$D$6=1,RANDBETWEEN(1,99),IF(Worksheet!$D$6=2,CHOOSE(RANDBETWEEN(1,2),RANDBETWEEN(1,99),RANDBETWEEN(1,999)/10),CHOOSE(RANDBETWEEN(1,4),RANDBETWEEN(1,99999)/1000,RANDBETWEEN(1,9999)/100,RANDBETWEEN(1,999)/10,RANDBETWEEN(1,99))))","v":21},"cm²"]
[{"$f":"IF(COUNTIF($B$1:B546,TRUE)=COUNTIF($B$1:B545,TRUE),\"\",COUNTIF($B$1:B546,TRUE))","v":328},{"$f":"IF(Worksheet!$D$10=2,FALSE,Worksheet!$D$14)","v":true},{"$f":"F546*1000","v":9000},"g","=",{"$f":"IF(Worksheet!$D$6=1,RANDBETWEEN(1,99),IF(Worksheet!$D$6=2,CHOOSE(RANDBETWEEN(1,2),RANDBETWEEN(1,99),RANDBETWEEN(1,999)/10),CHOOSE(RANDBETWEEN(1,4),RANDBETWEEN(1,99999)/1000,RANDBETWEEN(1,9999)/100,RANDBETWEEN(1,999)/10,RANDBETWEEN(1,99))))","v":9},"kg"]
[{"$f":"IF(COUNTIF($B$1:B547,TRUE)=COUNTIF($B$1:B546,TRUE),\"\",COUNTIF($B$1:B547,TRUE))","v":329},{"$f":"IF(Worksheet!$D$10=2,FALSE,Worksheet!$D$15)","v":true},{"$f":"F547*1000","v":99000},"kg","=",{"$f":"IF(Worksheet!$D$6=1,RANDBETWEEN(1,99),IF(Worksheet!$D$6=2,CHOOSE(RANDBETWEEN(1,2),RANDBETWEEN(1,99),RANDBETWEEN(1,999)/10),CHOOSE(RANDBETWEEN(1,4),RANDBETWEEN(1,99999)/1000,RANDBETWEEN(1,9999)/100,RANDBETWEEN(1,999)/10,RANDBETWEEN(1,99))))","v":99},"tonnes"]
[{"$f":"IF(COUNTIF($B$1:B548,TRUE)=COUNTIF($B$1:B547,TRUE),\"\",COUNTIF($B$1:B548,TRUE))","v":330},{"$f":"IF(Worksheet!$D$10=2,FALSE,Worksheet!$D$16)","v":true},{"$f":"1000*F548","v":50000},"ml","=",{"$f":"IF(Worksheet!$D$6=1,RANDBETWEEN(1,99),IF(Worksheet!$D$6=2,CHOOSE(RANDBETWEEN(1,2),RANDBETWEEN(1,99),RANDBETWEEN(1,999)/10),CHOOSE(RANDBETWEEN(1,4),RANDBETWEEN(1,99999)/1000,RANDBETWEEN(1,9999)/100,RANDBETWEEN(1,999)/10,RANDBETWEEN(1,99))))","v":50},"litres"]
[{"$f":"IF(COUNTIF($B$1:B549,TRUE)=COUNTIF($B$1:B548,TRUE),\"\",COUNTIF($B$1:B549,TRUE))","v":""},{"$f":"IF(Worksheet!$D$10=2,FALSE,Worksheet!$D$17)","v":false},{"$f":"1000*F549","v":67000},"cm³","=",{"$f":"IF(Worksheet!$D$6=1,RANDBETWEEN(1,99),IF(Worksheet!$D$6=2,CHOOSE(RANDBETWEEN(1,2),RANDBETWEEN(1,99),RANDBETWEEN(1,999)/10),CHOOSE(RANDBETWEEN(1,4),RANDBETWEEN(1,99999)/1000,RANDBETWEEN(1,9999)/100,RANDBETWEEN(1,999)/10,RANDBETWEEN(1,99))))","v":67},"litres"]
[{"$f":"IF(COUNTIF($B$1:B550,TRUE)=COUNTIF($B$1:B549,TRUE),\"\",COUNTIF($B$1:B550,TRUE))","v":""},{"$f":"IF(Worksheet!$D$10=2,FALSE,Worksheet!$D$18)","v":false},{"$f":"10000*F550","v":870000},"cm²","=",{"$f":"IF(Worksheet!$D$6=1,RANDBETWEEN(1,99),IF(Worksheet!$D$6=2,CHOOSE(RANDBETWEEN(1,2),RANDBETWEEN(1,99),RANDBETWEEN(1,999)/10),CHOOSE(RANDBETWEEN(1,4),RANDBETWEEN(1,99999)/1000,RANDBETWEEN(1,9999)/100,RANDBETWEEN(1,999)/10,RANDBETWEEN(1,99))))","v":87},"m²"]
[{"$f":"IF(COUNTIF($B$1:B551,TRUE)=COUNTIF($B$1:B550,TRUE),\"\",COUNTIF($B$1:B551,TRUE))","v":331},{"$f":"IF(Worksheet!$D$10=3,FALSE,Worksheet!$B$14)","v":true},{"$f":"IF(Worksheet!$D$6=1,RANDBETWEEN(1,99),IF(Worksheet!$D$6=2,CHOOSE(RANDBETWEEN(1,2),RANDBETWEEN(1,99),RANDBETWEEN(1,999)/10),CHOOSE(RANDBETWEEN(1,4),RANDBETWEEN(1,99999)/1000,RANDBETWEEN(1,9999)/100,RANDBETWEEN(1,999)/10,RANDBETWEEN(1,99))))","v":79},"cm","=",{"$f":"10*C551","v":790},"mm"]
[{"$f":"IF(COUNTIF($B$1:B552,TRUE)=COUNTIF($B$1:B551,TRUE),\"\",COUNTIF($B$1:B552,TRUE))","v":332},{"$f":"IF(Worksheet!$D$10=3,FALSE,Worksheet!$B$15)","v":true},{"$f":"IF(Worksheet!$D$6=1,RANDBETWEEN(1,99),IF(Worksheet!$D$6=2,CHOOSE(RANDBETWEEN(1,2),RANDBETWEEN(1,99),RANDBETWEEN(1,999)/10),CHOOSE(RANDBETWEEN(1,4),RANDBETWEEN(1,99999)/1000,RANDBETWEEN(1,9999)/100,RANDBETWEEN(1,999)/10,RANDBETWEEN(1,99))))","v":32},"m","=",{"$f":"100*C552","v":3200},"cm"]
[{"$f":"IF(COUNTIF($B$1:B553,TRUE)=COUNTIF($B$1:B552,TRUE),\"\",COUNTIF($B$1:B553,TRUE))","v":333},{"$f":"IF(Worksheet!$D$10=3,FALSE,Worksheet!$B$16)","v":true},{"$f":"IF(Worksheet!$D$6=1,RANDBETWEEN(1,99),IF(Worksheet!$D$6=2,CHOOSE(RANDBETWEEN(1,2),RANDBETWEEN(1,99),RANDBETWEEN(1,999)/10),CHOOSE(RANDBETWEEN(1,4),RANDBETWEEN(1,99999)/1000,RANDBETWEEN(1,9999)/100,RANDBETWEEN(1,999)/10,RANDBETWEEN(1,99))))","v":98},"km","=",{"$f":"1000*C553","v":98000},"m"]
[{"$f":"IF(COUNTIF($B$1:B554,TRUE)=COUNTIF($B$1:B553,TRUE),\"\",COUNTIF($B$1:B554,TRUE))","v":""},{"$f":"IF(Worksheet!$D$10=3,FALSE,Worksheet!$B$17)","v":false},{"$f":"IF(Worksheet!$D$6=1,RANDBETWEEN(1,99),IF(Worksheet!$D$6=2,CHOOSE(RANDBETWEEN(1,2),RANDBETWEEN(1,99),RANDBETWEEN(1,999)/10),CHOOSE(RANDBETWEEN(1,4),RANDBETWEEN(1,99999)/1000,RANDBETWEEN(1,9999)/100,RANDBETWEEN(1,999)/10,RANDBETWEEN(1,99))))","v":53},"m",{"$f":"#REF!","v":{"$error":"#REF!"}},{"$f":"1000*C554","v":53000},"mm"]
[{"$f":"IF(COUNTIF($B$1:B555,TRUE)=COUNTIF($B$1:B554,TRUE),\"\",COUNTIF($B$1:B555,TRUE))","v":""},{"$f":"IF(Worksheet!$D$10=3,FALSE,Worksheet!$B$18)","v":false},{"$f":"IF(Worksheet!$D$6=1,RANDBETWEEN(1,99),IF(Worksheet!$D$6=2,CHOOSE(RANDBETWEEN(1,2),RANDBETWEEN(1,99),RANDBETWEEN(1,999)/10),CHOOSE(RANDBETWEEN(1,4),RANDBETWEEN(1,99999)/1000,RANDBETWEEN(1,9999)/100,RANDBETWEEN(1,999)/10,RANDBETWEEN(1,99))))","v":17},"cm²","=",{"$f":"C555*100","v":1700},"mm²"]
[{"$f":"IF(COUNTIF($B$1:B556,TRUE)=COUNTIF($B$1:B555,TRUE),\"\",COUNTIF($B$1:B556,TRUE))","v":334},{"$f":"IF(Worksheet!$D$10=3,FALSE,Worksheet!$D$14)","v":true},{"$f":"IF(Worksheet!$D$6=1,RANDBETWEEN(1,99),IF(Worksheet!$D$6=2,CHOOSE(RANDBETWEEN(1,2),RANDBETWEEN(1,99),RANDBETWEEN(1,999)/10),CHOOSE(RANDBETWEEN(1,4),RANDBETWEEN(1,99999)/1000,RANDBETWEEN(1,9999)/100,RANDBETWEEN(1,999)/10,RANDBETWEEN(1,99))))","v":30},"kg","=",{"$f":"1000*C556","v":30000},"g"]
[{"$f":"IF(COUNTIF($B$1:B557,TRUE)=COUNTIF($B$1:B556,TRUE),\"\",COUNTIF($B$1:B557,TRUE))","v":335},{"$f":"IF(Worksheet!$D$10=3,FALSE,Worksheet!$D$15)","v":true},{"$f":"IF(Worksheet!$D$6=1,RANDBETWEEN(1,99),IF(Worksheet!$D$6=2,CHOOSE(RANDBETWEEN(1,2),RANDBETWEEN(1,99),RANDBETWEEN(1,999)/10),CHOOSE(RANDBETWEEN(1,4),RANDBETWEEN(1,99999)/1000,RANDBETWEEN(1,9999)/100,RANDBETWEEN(1,999)/10,RANDBETWEEN(1,99))))","v":37},"tonnes","=",{"$f":"1000*C557","v":37000},"kg"]
[{"$f":"IF(COUNTIF($B$1:B558,TRUE)=COUNTIF($B$1:B557,TRUE),\"\",COUNTIF($B$1:B558,TRUE))","v":336},{"$f":"IF(Worksheet!$D$10=3,FALSE,Worksheet!$D$16)","v":true},{"$f":"IF(Worksheet!$D$6=1,RANDBETWEEN(1,99),IF(Worksheet!$D$6=2,CHOOSE(RANDBETWEEN(1,2),RANDBETWEEN(1,99),RANDBETWEEN(1,999)/10),CHOOSE(RANDBETWEEN(1,4),RANDBETWEEN(1,99999)/1000,RANDBETWEEN(1,9999)/100,RANDBETWEEN(1,999)/10,RANDBETWEEN(1,99))))","v":63},"litres","=",{"$f":"1000*C558","v":63000},"ml"]
[{"$f":"IF(COUNTIF($B$1:B559,TRUE)=COUNTIF($B$1:B558,TRUE),\"\",COUNTIF($B$1:B559,TRUE))","v":""},{"$f":"IF(Worksheet!$D$10=3,FALSE,Worksheet!$D$17)","v":false},{"$f":"IF(Worksheet!$D$6=1,RANDBETWEEN(1,99),IF(Worksheet!$D$6=2,CHOOSE(RANDBETWEEN(1,2),RANDBETWEEN(1,99),RANDBETWEEN(1,999)/10),CHOOSE(RANDBETWEEN(1,4),RANDBETWEEN(1,99999)/1000,RANDBETWEEN(1,9999)/100,RANDBETWEEN(1,999)/10,RANDBETWEEN(1,99))))","v":4},"litres","=",{"$f":"1000*C559","v":4000},"cm³"]
[{"$f":"IF(COUNTIF($B$1:B560,TRUE)=COUNTIF($B$1:B559,TRUE),\"\",COUNTIF($B$1:B560,TRUE))","v":""},{"$f":"IF(Worksheet!$D$10=3,FALSE,Worksheet!$D$18)","v":false},{"$f":"IF(Worksheet!$D$6=1,RANDBETWEEN(1,99),IF(Worksheet!$D$6=2,CHOOSE(RANDBETWEEN(1,2),RANDBETWEEN(1,99),RANDBETWEEN(1,999)/10),CHOOSE(RANDBETWEEN(1,4),RANDBETWEEN(1,99999)/1000,RANDBETWEEN(1,9999)/100,RANDBETWEEN(1,999)/10,RANDBETWEEN(1,99))))","v":6},"m²","=",{"$f":"10000*C560","v":60000},"cm²"]
[{"$f":"IF(COUNTIF($B$1:B561,TRUE)=COUNTIF($B$1:B560,TRUE),\"\",COUNTIF($B$1:B561,TRUE))","v":337},{"$f":"IF(Worksheet!$D$10=2,FALSE,Worksheet!$B$14)","v":true},{"$f":"10*F561","v":120},"mm","=",{"$f":"IF(Worksheet!$D$6=1,RANDBETWEEN(1,99),IF(Worksheet!$D$6=2,CHOOSE(RANDBETWEEN(1,2),RANDBETWEEN(1,99),RANDBETWEEN(1,999)/10),CHOOSE(RANDBETWEEN(1,4),RANDBETWEEN(1,99999)/1000,RANDBETWEEN(1,9999)/100,RANDBETWEEN(1,999)/10,RANDBETWEEN(1,99))))","v":12},"cm"]
[{"$f":"IF(COUNTIF($B$1:B562,TRUE)=COUNTIF($B$1:B561,TRUE),\"\",COUNTIF($B$1:B562,TRUE))","v":338},{"$f":"IF(Worksheet!$D$10=2,FALSE,Worksheet!$B$15)","v":true},{"$f":"100*F562","v":1400},"cm","=",{"$f":"IF(Worksheet!$D$6=1,RANDBETWEEN(1,99),IF(Worksheet!$D$6=2,CHOOSE(RANDBETWEEN(1,2),RANDBETWEEN(1,99),RANDBETWEEN(1,999)/10),CHOOSE(RANDBETWEEN(1,4),RANDBETWEEN(1,99999)/1000,RANDBETWEEN(1,9999)/100,RANDBETWEEN(1,999)/10,RANDBETWEEN(1,99))))","v":14},"m"]
[{"$f":"IF(COUNTIF($B$1:B563,TRUE)=COUNTIF($B$1:B562,TRUE),\"\",COUNTIF($B$1:B563,TRUE))","v":339},{"$f":"IF(Worksheet!$D$10=2,FALSE,Worksheet!$B$16)","v":true},{"$f":"1000*F563","v":55000},"m","=",{"$f":"IF(Worksheet!$D$6=1,RANDBETWEEN(1,99),IF(Worksheet!$D$6=2,CHOOSE(RANDBETWEEN(1,2),RANDBETWEEN(1,99),RANDBETWEEN(1,999)/10),CHOOSE(RANDBETWEEN(1,4),RANDBETWEEN(1,99999)/1000,RANDBETWEEN(1,9999)/100,RANDBETWEEN(1,999)/10,RANDBETWEEN(1,99))))","v":55},"km"]
[{"$f":"IF(COUNTIF($B$1:B564,TRUE)=COUNTIF($B$1:B563,TRUE),\"\",COUNTIF($B$1:B564,TRUE))","v":""},{"$f":"IF(Worksheet!$D$10=2,FALSE,Worksheet!$B$17)","v":false},{"$f":"1000*F564","v":76000},"mm","=",{"$f":"IF(Worksheet!$D$6=1,RANDBETWEEN(1,99),IF(Worksheet!$D$6=2,CHOOSE(RANDBETWEEN(1,2),RANDBETWEEN(1,99),RANDBETWEEN(1,999)/10),CHOOSE(RANDBETWEEN(1,4),RANDBETWEEN(1,99999)/1000,RANDBETWEEN(1,9999)/100,RANDBETWEEN(1,999)/10,RANDBETWEEN(1,99))))","v":76},"m"]
[{"$f":"IF(COUNTIF($B$1:B565,TRUE)=COUNTIF($B$1:B564,TRUE),\"\",COUNTIF($B$1:B565,TRUE))","v":""},{"$f":"IF(Worksheet!$D$10=2,FALSE,Worksheet!$B$18)","v":false},{"$f":"100*F565","v":1000},"mm²","=",{"$f":"IF(Worksheet!$D$6=1,RANDBETWEEN(1,99),IF(Worksheet!$D$6=2,CHOOSE(RANDBETWEEN(1,2),RANDBETWEEN(1,99),RANDBETWEEN(1,999)/10),CHOOSE(RANDBETWEEN(1,4),RANDBETWEEN(1,99999)/1000,RANDBETWEEN(1,9999)/100,RANDBETWEEN(1,999)/10,RANDBETWEEN(1,99))))","v":10},"cm²"]
[{"$f":"IF(COUNTIF($B$1:B566,TRUE)=COUNTIF($B$1:B565,TRUE),\"\",COUNTIF($B$1:B566,TRUE))","v":340},{"$f":"IF(Worksheet!$D$10=2,FALSE,Worksheet!$D$14)","v":true},{"$f":"F566*1000","v":74000},"g","=",{"$f":"IF(Worksheet!$D$6=1,RANDBETWEEN(1,99),IF(Worksheet!$D$6=2,CHOOSE(RANDBETWEEN(1,2),RANDBETWEEN(1,99),RANDBETWEEN(1,999)/10),CHOOSE(RANDBETWEEN(1,4),RANDBETWEEN(1,99999)/1000,RANDBETWEEN(1,9999)/100,RANDBETWEEN(1,999)/10,RANDBETWEEN(1,99))))","v":74},"kg"]
[{"$f":"IF(COUNTIF($B$1:B567,TRUE)=COUNTIF($B$1:B566,TRUE),\"\",COUNTIF($B$1:B567,TRUE))","v":341},{"$f":"IF(Worksheet!$D$10=2,FALSE,Worksheet!$D$15)","v":true},{"$f":"F567*1000","v":8000},"kg","=",{"$f":"IF(Worksheet!$D$6=1,RANDBETWEEN(1,99),IF(Worksheet!$D$6=2,CHOOSE(RANDBETWEEN(1,2),RANDBETWEEN(1,99),RANDBETWEEN(1,999)/10),CHOOSE(RANDBETWEEN(1,4),RANDBETWEEN(1,99999)/1000,RANDBETWEEN(1,9999)/100,RANDBETWEEN(1,999)/10,RANDBETWEEN(1,99))))","v":8},"tonnes"]
[{"$f":"IF(COUNTIF($B$1:B568,TRUE)=COUNTIF($B$1:B567,TRUE),\"\",COUNTIF($B$1:B568,TRUE))","v":342},{"$f":"IF(Worksheet!$D$10=2,FALSE,Worksheet!$D$16)","v":true},{"$f":"1000*F568","v":17000},"ml","=",{"$f":"IF(Worksheet!$D$6=1,RANDBETWEEN(1,99),IF(Worksheet!$D$6=2,CHOOSE(RANDBETWEEN(1,2),RANDBETWEEN(1,99),RANDBETWEEN(1,999)/10),CHOOSE(RANDBETWEEN(1,4),RANDBETWEEN(1,99999)/1000,RANDBETWEEN(1,9999)/100,RANDBETWEEN(1,999)/10,RANDBETWEEN(1,99))))","v":17},"litres"]
[{"$f":"IF(COUNTIF($B$1:B569,TRUE)=COUNTIF($B$1:B568,TRUE),\"\",COUNTIF($B$1:B569,TRUE))","v":""},{"$f":"IF(Worksheet!$D$10=2,FALSE,Worksheet!$D$17)","v":false},{"$f":"1000*F569","v":50000},"cm³","=",{"$f":"IF(Worksheet!$D$6=1,RANDBETWEEN(1,99),IF(Worksheet!$D$6=2,CHOOSE(RANDBETWEEN(1,2),RANDBETWEEN(1,99),RANDBETWEEN(1,999)/10),CHOOSE(RANDBETWEEN(1,4),RANDBETWEEN(1,99999)/1000,RANDBETWEEN(1,9999)/100,RANDBETWEEN(1,999)/10,RANDBETWEEN(1,99))))","v":50},"litres"]
[{"$f":"IF(COUNTIF($B$1:B570,TRUE)=COUNTIF($B$1:B569,TRUE),\"\",COUNTIF($B$1:B570,TRUE))","v":""},{"$f":"IF(Worksheet!$D$10=2,FALSE,Worksheet!$D$18)","v":false},{"$f":"10000*F570","v":210000},"cm²","=",{"$f":"IF(Worksheet!$D$6=1,RANDBETWEEN(1,99),IF(Worksheet!$D$6=2,CHOOSE(RANDBETWEEN(1,2),RANDBETWEEN(1,99),RANDBETWEEN(1,999)/10),CHOOSE(RANDBETWEEN(1,4),RANDBETWEEN(1,99999)/1000,RANDBETWEEN(1,9999)/100,RANDBETWEEN(1,999)/10,RANDBETWEEN(1,99))))","v":21},"m²"]
[{"$f":"IF(COUNTIF($B$1:B571,TRUE)=COUNTIF($B$1:B570,TRUE),\"\",COUNTIF($B$1:B571,TRUE))","v":343},{"$f":"IF(Worksheet!$D$10=3,FALSE,Worksheet!$B$14)","v":true},{"$f":"IF(Worksheet!$D$6=1,RANDBETWEEN(1,99),IF(Worksheet!$D$6=2,CHOOSE(RANDBETWEEN(1,2),RANDBETWEEN(1,99),RANDBETWEEN(1,999)/10),CHOOSE(RANDBETWEEN(1,4),RANDBETWEEN(1,99999)/1000,RANDBETWEEN(1,9999)/100,RANDBETWEEN(1,999)/10,RANDBETWEEN(1,99))))","v":39},"cm","=",{"$f":"10*C571","v":390},"mm"]
[{"$f":"IF(COUNTIF($B$1:B572,TRUE)=COUNTIF($B$1:B571,TRUE),\"\",COUNTIF($B$1:B572,TRUE))","v":344},{"$f":"IF(Worksheet!$D$10=3,FALSE,Worksheet!$B$15)","v":true},{"$f":"IF(Worksheet!$D$6=1,RANDBETWEEN(1,99),IF(Worksheet!$D$6=2,CHOOSE(RANDBETWEEN(1,2),RANDBETWEEN(1,99),RANDBETWEEN(1,999)/10),CHOOSE(RANDBETWEEN(1,4),RANDBETWEEN(1,99999)/1000,RANDBETWEEN(1,9999)/100,RANDBETWEEN(1,999)/10,RANDBETWEEN(1,99))))","v":67},"m","=",{"$f":"100*C572","v":6700},"cm"]
[{"$f":"IF(COUNTIF($B$1:B573,TRUE)=COUNTIF($B$1:B572,TRUE),\"\",COUNTIF($B$1:B573,TRUE))","v":345},{"$f":"IF(Worksheet!$D$10=3,FALSE,Worksheet!$B$16)","v":true},{"$f":"IF(Worksheet!$D$6=1,RANDBETWEEN(1,99),IF(Worksheet!$D$6=2,CHOOSE(RANDBETWEEN(1,2),RANDBETWEEN(1,99),RANDBETWEEN(1,999)/10),CHOOSE(RANDBETWEEN(1,4),RANDBETWEEN(1,99999)/1000,RANDBETWEEN(1,9999)/100,RANDBETWEEN(1,999)/10,RANDBETWEEN(1,99))))","v":91},"km","=",{"$f":"1000*C573","v":91000},"m"]
[{"$f":"IF(COUNTIF($B$1:B574,TRUE)=COUNTIF($B$1:B573,TRUE),\"\",COUNTIF($B$1:B574,TRUE))","v":""},{"$f":"IF(Worksheet!$D$10=3,FALSE,Worksheet!$B$17)","v":false},{"$f":"IF(Worksheet!$D$6=1,RANDBETWEEN(1,99),IF(Worksheet!$D$6=2,CHOOSE(RANDBETWEEN(1,2),RANDBETWEEN(1,99),RANDBETWEEN(1,999)/10),CHOOSE(RANDBETWEEN(1,4),RANDBETWEEN(1,99999)/1000,RANDBETWEEN(1,9999)/100,RANDBETWEEN(1,999)/10,RANDBETWEEN(1,99))))","v":51},"m",{"$f":"#REF!","v":{"$error":"#REF!"}},{"$f":"1000*C574","v":51000},"mm"]
[{"$f":"IF(COUNTIF($B$1:B575,TRUE)=COUNTIF($B$1:B574,TRUE),\"\",COUNTIF($B$1:B575,TRUE))","v":""},{"$f":"IF(Worksheet!$D$10=3,FALSE,Worksheet!$B$18)","v":false},{"$f":"IF(Worksheet!$D$6=1,RANDBETWEEN(1,99),IF(Worksheet!$D$6=2,CHOOSE(RANDBETWEEN(1,2),RANDBETWEEN(1,99),RANDBETWEEN(1,999)/10),CHOOSE(RANDBETWEEN(1,4),RANDBETWEEN(1,99999)/1000,RANDBETWEEN(1,9999)/100,RANDBETWEEN(1,999)/10,RANDBETWEEN(1,99))))","v":96},"cm²","=",{"$f":"C575*100","v":9600},"mm²"]
[{"$f":"IF(COUNTIF($B$1:B576,TRUE)=COUNTIF($B$1:B575,TRUE),\"\",COUNTIF($B$1:B576,TRUE))","v":346},{"$f":"IF(Worksheet!$D$10=3,FALSE,Worksheet!$D$14)","v":true},{"$f":"IF(Worksheet!$D$6=1,RANDBETWEEN(1,99),IF(Worksheet!$D$6=2,CHOOSE(RANDBETWEEN(1,2),RANDBETWEEN(1,99),RANDBETWEEN(1,999)/10),CHOOSE(RANDBETWEEN(1,4),RANDBETWEEN(1,99999)/1000,RANDBETWEEN(1,9999)/100,RANDBETWEEN(1,999)/10,RANDBETWEEN(1,99))))","v":85},"kg","=",{"$f":"1000*C576","v":85000},"g"]
[{"$f":"IF(COUNTIF($B$1:B577,TRUE)=COUNTIF($B$1:B576,TRUE),\"\",COUNTIF($B$1:B577,TRUE))","v":347},{"$f":"IF(Worksheet!$D$10=3,FALSE,Worksheet!$D$15)","v":true},{"$f":"IF(Worksheet!$D$6=1,RANDBETWEEN(1,99),IF(Worksheet!$D$6=2,CHOOSE(RANDBETWEEN(1,2),RANDBETWEEN(1,99),RANDBETWEEN(1,999)/10),CHOOSE(RANDBETWEEN(1,4),RANDBETWEEN(1,99999)/1000,RANDBETWEEN(1,9999)/100,RANDBETWEEN(1,999)/10,RANDBETWEEN(1,99))))","v":8},"tonnes","=",{"$f":"1000*C577","v":8000},"kg"]
[{"$f":"IF(COUNTIF($B$1:B578,TRUE)=COUNTIF($B$1:B577,TRUE),\"\",COUNTIF($B$1:B578,TRUE))","v":348},{"$f":"IF(Worksheet!$D$10=3,FALSE,Worksheet!$D$16)","v":true},{"$f":"IF(Worksheet!$D$6=1,RANDBETWEEN(1,99),IF(Worksheet!$D$6=2,CHOOSE(RANDBETWEEN(1,2),RANDBETWEEN(1,99),RANDBETWEEN(1,999)/10),CHOOSE(RANDBETWEEN(1,4),RANDBETWEEN(1,99999)/1000,RANDBETWEEN(1,9999)/100,RANDBETWEEN(1,999)/10,RANDBETWEEN(1,99))))","v":74},"litres","=",{"$f":"1000*C578","v":74000},"ml"]
[{"$f":"IF(COUNTIF($B$1:B579,TRUE)=COUNTIF($B$1:B578,TRUE),\"\",COUNTIF($B$1:B579,TRUE))","v":""},{"$f":"IF(Worksheet!$D$10=3,FALSE,Worksheet!$D$17)","v":false},{"$f":"IF(Worksheet!$D$6=1,RANDBETWEEN(1,99),IF(Worksheet!$D$6=2,CHOOSE(RANDBETWEEN(1,2),RANDBETWEEN(1,99),RANDBETWEEN(1,999)/10),CHOOSE(RANDBETWEEN(1,4),RANDBETWEEN(1,99999)/1000,RANDBETWEEN(1,9999)/100,RANDBETWEEN(1,999)/10,RANDBETWEEN(1,99))))","v":61},"litres","=",{"$f":"1000*C579","v":61000},"cm³"]
[{"$f":"IF(COUNTIF($B$1:B580,TRUE)=COUNTIF($B$1:B579,TRUE),\"\",COUNTIF($B$1:B580,TRUE))","v":""},{"$f":"IF(Worksheet!$D$10=3,FALSE,Worksheet!$D$18)","v":false},{"$f":"IF(Worksheet!$D$6=1,RANDBETWEEN(1,99),IF(Worksheet!$D$6=2,CHOOSE(RANDBETWEEN(1,2),RANDBETWEEN(1,99),RANDBETWEEN(1,999)/10),CHOOSE(RANDBETWEEN(1,4),RANDBETWEEN(1,99999)/1000,RANDBETWEEN(1,9999)/100,RANDBETWEEN(1,999)/10,RANDBETWEEN(1,99))))","v":37},"m²","=",{"$f":"10000*C580","v":370000},"cm²"]
[{"$f":"IF(COUNTIF($B$1:B581,TRUE)=COUNTIF($B$1:B580,TRUE),\"\",COUNTIF($B$1:B581,TRUE))","v":349},{"$f":"IF(Worksheet!$D$10=2,FALSE,Worksheet!$B$14)","v":true},{"$f":"10*F581","v":220},"mm","=",{"$f":"IF(Worksheet!$D$6=1,RANDBETWEEN(1,99),IF(Worksheet!$D$6=2,CHOOSE(RANDBETWEEN(1,2),RANDBETWEEN(1,99),RANDBETWEEN(1,999)/10),CHOOSE(RANDBETWEEN(1,4),RANDBETWEEN(1,99999)/1000,RANDBETWEEN(1,9999)/100,RANDBETWEEN(1,999)/10,RANDBETWEEN(1,99))))","v":22},"cm"]
[{"$f":"IF(COUNTIF($B$1:B582,TRUE)=COUNTIF($B$1:B581,TRUE),\"\",COUNTIF($B$1:B582,TRUE))","v":350},{"$f":"IF(Worksheet!$D$10=2,FALSE,Worksheet!$B$15)","v":true},{"$f":"100*F582","v":5900},"cm","=",{"$f":"IF(Worksheet!$D$6=1,RANDBETWEEN(1,99),IF(Worksheet!$D$6=2,CHOOSE(RANDBETWEEN(1,2),RANDBETWEEN(1,99),RANDBETWEEN(1,999)/10),CHOOSE(RANDBETWEEN(1,4),RANDBETWEEN(1,99999)/1000,RANDBETWEEN(1,9999)/100,RANDBETWEEN(1,999)/10,RANDBETWEEN(1,99))))","v":59},"m"]
[{"$f":"IF(COUNTIF($B$1:B583,TRUE)=COUNTIF($B$1:B582,TRUE),\"\",COUNTIF($B$1:B583,TRUE))","v":351},{"$f":"IF(Worksheet!$D$10=2,FALSE,Worksheet!$B$16)","v":true},{"$f":"1000*F583","v":9000},"m","=",{"$f":"IF(Worksheet!$D$6=1,RANDBETWEEN(1,99),IF(Worksheet!$D$6=2,CHOOSE(RANDBETWEEN(1,2),RANDBETWEEN(1,99),RANDBETWEEN(1,999)/10),CHOOSE(RANDBETWEEN(1,4),RANDBETWEEN(1,99999)/1000,RANDBETWEEN(1,9999)/100,RANDBETWEEN(1,999)/10,RANDBETWEEN(1,99))))","v":9},"km"]
[{"$f":"IF(COUNTIF($B$1:B584,TRUE)=COUNTIF($B$1:B583,TRUE),\"\",COUNTIF($B$1:B584,TRUE))","v":""},{"$f":"IF(Worksheet!$D$10=2,FALSE,Worksheet!$B$17)","v":false},{"$f":"1000*F584","v":55000},"mm","=",{"$f":"IF(Worksheet!$D$6=1,RANDBETWEEN(1,99),IF(Worksheet!$D$6=2,CHOOSE(RANDBETWEEN(1,2),RANDBETWEEN(1,99),RANDBETWEEN(1,999)/10),CHOOSE(RANDBETWEEN(1,4),RANDBETWEEN(1,99999)/1000,RANDBETWEEN(1,9999)/100,RANDBETWEEN(1,999)/10,RANDBETWEEN(1,99))))","v":55},"m"]
[{"$f":"IF(COUNTIF($B$1:B585,TRUE)=COUNTIF($B$1:B584,TRUE),\"\",COUNTIF($B$1:B585,TRUE))","v":""},{"$f":"IF(Worksheet!$D$10=2,FALSE,Worksheet!$B$18)","v":false},{"$f":"100*F585","v":600},"mm²","=",{"$f":"IF(Worksheet!$D$6=1,RANDBETWEEN(1,99),IF(Worksheet!$D$6=2,CHOOSE(RANDBETWEEN(1,2),RANDBETWEEN(1,99),RANDBETWEEN(1,999)/10),CHOOSE(RANDBETWEEN(1,4),RANDBETWEEN(1,99999)/1000,RANDBETWEEN(1,9999)/100,RANDBETWEEN(1,999)/10,RANDBETWEEN(1,99))))","v":6},"cm²"]
[{"$f":"IF(COUNTIF($B$1:B586,TRUE)=COUNTIF($B$1:B585,TRUE),\"\",COUNTIF($B$1:B586,TRUE))","v":352},{"$f":"IF(Worksheet!$D$10=2,FALSE,Worksheet!$D$14)","v":true},{"$f":"F586*1000","v":56000},"g","=",{"$f":"IF(Worksheet!$D$6=1,RANDBETWEEN(1,99),IF(Worksheet!$D$6=2,CHOOSE(RANDBETWEEN(1,2),RANDBETWEEN(1,99),RANDBETWEEN(1,999)/10),CHOOSE(RANDBETWEEN(1,4),RANDBETWEEN(1,99999)/1000,RANDBETWEEN(1,9999)/100,RANDBETWEEN(1,999)/10,RANDBETWEEN(1,99))))","v":56},"kg"]
[{"$f":"IF(COUNTIF($B$1:B587,TRUE)=COUNTIF($B$1:B586,TRUE),\"\",COUNTIF($B$1:B587,TRUE))","v":353},{"$f":"IF(Worksheet!$D$10=2,FALSE,Worksheet!$D$15)","v":true},{"$f":"F587*1000","v":65000},"kg","=",{"$f":"IF(Worksheet!$D$6=1,RANDBETWEEN(1,99),IF(Worksheet!$D$6=2,CHOOSE(RANDBETWEEN(1,2),RANDBETWEEN(1,99),RANDBETWEEN(1,999)/10),CHOOSE(RANDBETWEEN(1,4),RANDBETWEEN(1,99999)/1000,RANDBETWEEN(1,9999)/100,RANDBETWEEN(1,999)/10,RANDBETWEEN(1,99))))","v":65},"tonnes"]
[{"$f":"IF(COUNTIF($B$1:B588,TRUE)=COUNTIF($B$1:B587,TRUE),\"\",COUNTIF($B$1:B588,TRUE))","v":354},{"$f":"IF(Worksheet!$D$10=2,FALSE,Worksheet!$D$16)","v":true},{"$f":"1000*F588","v":43000},"ml","=",{"$f":"IF(Worksheet!$D$6=1,RANDBETWEEN(1,99),IF(Worksheet!$D$6=2,CHOOSE(RANDBETWEEN(1,2),RANDBETWEEN(1,99),RANDBETWEEN(1,999)/10),CHOOSE(RANDBETWEEN(1,4),RANDBETWEEN(1,99999)/1000,RANDBETWEEN(1,9999)/100,RANDBETWEEN(1,999)/10,RANDBETWEEN(1,99))))","v":43},"litres"]
[{"$f":"IF(COUNTIF($B$1:B589,TRUE)=COUNTIF($B$1:B588,TRUE),\"\",COUNTIF($B$1:B589,TRUE))","v":""},{"$f":"IF(Worksheet!$D$10=2,FALSE,Worksheet!$D$17)","v":false},{"$f":"1000*F589","v":8000},"cm³","=",{"$f":"IF(Worksheet!$D$6=1,RANDBETWEEN(1,99),IF(Worksheet!$D$6=2,CHOOSE(RANDBETWEEN(1,2),RANDBETWEEN(1,99),RANDBETWEEN(1,999)/10),CHOOSE(RANDBETWEEN(1,4),RANDBETWEEN(1,99999)/1000,RANDBETWEEN(1,9999)/100,RANDBETWEEN(1,999)/10,RANDBETWEEN(1,99))))","v":8},"litres"]
[{"$f":"IF(COUNTIF($B$1:B590,TRUE)=COUNTIF($B$1:B589,TRUE),\"\",COUNTIF($B$1:B590,TRUE))","v":""},{"$f":"IF(Worksheet!$D$10=2,FALSE,Worksheet!$D$18)","v":false},{"$f":"10000*F590","v":100000},"cm²","=",{"$f":"IF(Worksheet!$D$6=1,RANDBETWEEN(1,99),IF(Worksheet!$D$6=2,CHOOSE(RANDBETWEEN(1,2),RANDBETWEEN(1,99),RANDBETWEEN(1,999)/10),CHOOSE(RANDBETWEEN(1,4),RANDBETWEEN(1,99999)/1000,RANDBETWEEN(1,9999)/100,RANDBETWEEN(1,999)/10,RANDBETWEEN(1,99))))","v":10},"m²"]
[{"$f":"IF(COUNTIF($B$1:B591,TRUE)=COUNTIF($B$1:B590,TRUE),\"\",COUNTIF($B$1:B591,TRUE))","v":355},{"$f":"IF(Worksheet!$D$10=3,FALSE,Worksheet!$B$14)","v":true},{"$f":"IF(Worksheet!$D$6=1,RANDBETWEEN(1,99),IF(Worksheet!$D$6=2,CHOOSE(RANDBETWEEN(1,2),RANDBETWEEN(1,99),RANDBETWEEN(1,999)/10),CHOOSE(RANDBETWEEN(1,4),RANDBETWEEN(1,99999)/1000,RANDBETWEEN(1,9999)/100,RANDBETWEEN(1,999)/10,RANDBETWEEN(1,99))))","v":56},"cm","=",{"$f":"10*C591","v":560},"mm"]
[{"$f":"IF(COUNTIF($B$1:B592,TRUE)=COUNTIF($B$1:B591,TRUE),\"\",COUNTIF($B$1:B592,TRUE))","v":356},{"$f":"IF(Worksheet!$D$10=3,FALSE,Worksheet!$B$15)","v":true},{"$f":"IF(Worksheet!$D$6=1,RANDBETWEEN(1,99),IF(Worksheet!$D$6=2,CHOOSE(RANDBETWEEN(1,2),RANDBETWEEN(1,99),RANDBETWEEN(1,999)/10),CHOOSE(RANDBETWEEN(1,4),RANDBETWEEN(1,99999)/1000,RANDBETWEEN(1,9999)/100,RANDBETWEEN(1,999)/10,RANDBETWEEN(1,99))))","v":31},"m","=",{"$f":"100*C592","v":3100},"cm"]
[{"$f":"IF(COUNTIF($B$1:B593,TRUE)=COUNTIF($B$1:B592,TRUE),\"\",COUNTIF($B$1:B593,TRUE))","v":357},{"$f":"IF(Worksheet!$D$10=3,FALSE,Worksheet!$B$16)","v":true},{"$f":"IF(Worksheet!$D$6=1,RANDBETWEEN(1,99),IF(Worksheet!$D$6=2,CHOOSE(RANDBETWEEN(1,2),RANDBETWEEN(1,99),RANDBETWEEN(1,999)/10),CHOOSE(RANDBETWEEN(1,4),RANDBETWEEN(1,99999)/1000,RANDBETWEEN(1,9999)/100,RANDBETWEEN(1,999)/10,RANDBETWEEN(1,99))))","v":15},"km","=",{"$f":"1000*C593","v":15000},"m"]
[{"$f":"IF(COUNTIF($B$1:B594,TRUE)=COUNTIF($B$1:B593,TRUE),\"\",COUNTIF($B$1:B594,TRUE))","v":""},{"$f":"IF(Worksheet!$D$10=3,FALSE,Worksheet!$B$17)","v":false},{"$f":"IF(Worksheet!$D$6=1,RANDBETWEEN(1,99),IF(Worksheet!$D$6=2,CHOOSE(RANDBETWEEN(1,2),RANDBETWEEN(1,99),RANDBETWEEN(1,999)/10),CHOOSE(RANDBETWEEN(1,4),RANDBETWEEN(1,99999)/1000,RANDBETWEEN(1,9999)/100,RANDBETWEEN(1,999)/10,RANDBETWEEN(1,99))))","v":91},"m",{"$f":"#REF!","v":{"$error":"#REF!"}},{"$f":"1000*C594","v":91000},"mm"]
[{"$f":"IF(COUNTIF($B$1:B595,TRUE)=COUNTIF($B$1:B594,TRUE),\"\",COUNTIF($B$1:B595,TRUE))","v":""},{"$f":"IF(Worksheet!$D$10=3,FALSE,Worksheet!$B$18)","v":false},{"$f":"IF(Worksheet!$D$6=1,RANDBETWEEN(1,99),IF(Worksheet!$D$6=2,CHOOSE(RANDBETWEEN(1,2),RANDBETWEEN(1,99),RANDBETWEEN(1,999)/10),CHOOSE(RANDBETWEEN(1,4),RANDBETWEEN(1,99999)/1000,RANDBETWEEN(1,9999)/100,RANDBETWEEN(1,999)/10,RANDBETWEEN(1,99))))","v":45},"cm²","=",{"$f":"C595*100","v":4500},"mm²"]
[{"$f":"IF(COUNTIF($B$1:B596,TRUE)=COUNTIF($B$1:B595,TRUE),\"\",COUNTIF($B$1:B596,TRUE))","v":358},{"$f":"IF(Worksheet!$D$10=3,FALSE,Worksheet!$D$14)","v":true},{"$f":"IF(Worksheet!$D$6=1,RANDBETWEEN(1,99),IF(Worksheet!$D$6=2,CHOOSE(RANDBETWEEN(1,2),RANDBETWEEN(1,99),RANDBETWEEN(1,999)/10),CHOOSE(RANDBETWEEN(1,4),RANDBETWEEN(1,99999)/1000,RANDBETWEEN(1,9999)/100,RANDBETWEEN(1,999)/10,RANDBETWEEN(1,99))))","v":91},"kg","=",{"$f":"1000*C596","v":91000},"g"]
[{"$f":"IF(COUNTIF($B$1:B597,TRUE)=COUNTIF($B$1:B596,TRUE),\"\",COUNTIF($B$1:B597,TRUE))","v":359},{"$f":"IF(Worksheet!$D$10=3,FALSE,Worksheet!$D$15)","v":true},{"$f":"IF(Worksheet!$D$6=1,RANDBETWEEN(1,99),IF(Worksheet!$D$6=2,CHOOSE(RANDBETWEEN(1,2),RANDBETWEEN(1,99),RANDBETWEEN(1,999)/10),CHOOSE(RANDBETWEEN(1,4),RANDBETWEEN(1,99999)/1000,RANDBETWEEN(1,9999)/100,RANDBETWEEN(1,999)/10,RANDBETWEEN(1,99))))","v":30},"tonnes","=",{"$f":"1000*C597","v":30000},"kg"]
[{"$f":"IF(COUNTIF($B$1:B598,TRUE)=COUNTIF($B$1:B597,TRUE),\"\",COUNTIF($B$1:B598,TRUE))","v":360},{"$f":"IF(Worksheet!$D$10=3,FALSE,Worksheet!$D$16)","v":true},{"$f":"IF(Worksheet!$D$6=1,RANDBETWEEN(1,99),IF(Worksheet!$D$6=2,CHOOSE(RANDBETWEEN(1,2),RANDBETWEEN(1,99),RANDBETWEEN(1,999)/10),CHOOSE(RANDBETWEEN(1,4),RANDBETWEEN(1,99999)/1000,RANDBETWEEN(1,9999)/100,RANDBETWEEN(1,999)/10,RANDBETWEEN(1,99))))","v":61},"litres","=",{"$f":"1000*C598","v":61000},"ml"]
[{"$f":"IF(COUNTIF($B$1:B599,TRUE)=COUNTIF($B$1:B598,TRUE),\"\",COUNTIF($B$1:B599,TRUE))","v":""},{"$f":"IF(Worksheet!$D$10=3,FALSE,Worksheet!$D$17)","v":false},{"$f":"IF(Worksheet!$D$6=1,RANDBETWEEN(1,99),IF(Worksheet!$D$6=2,CHOOSE(RANDBETWEEN(1,2),RANDBETWEEN(1,99),RANDBETWEEN(1,999)/10),CHOOSE(RANDBETWEEN(1,4),RANDBETWEEN(1,99999)/1000,RANDBETWEEN(1,9999)/100,RANDBETWEEN(1,999)/10,RANDBETWEEN(1,99))))","v":74},"litres","=",{"$f":"1000*C599","v":74000},"cm³"]
[{"$f":"IF(COUNTIF($B$1:B600,TRUE)=COUNTIF($B$1:B599,TRUE),\"\",COUNTIF($B$1:B600,TRUE))","v":""},{"$f":"IF(Worksheet!$D$10=3,FALSE,Worksheet!$D$18)","v":false},{"$f":"IF(Worksheet!$D$6=1,RANDBETWEEN(1,99),IF(Worksheet!$D$6=2,CHOOSE(RANDBETWEEN(1,2),RANDBETWEEN(1,99),RANDBETWEEN(1,999)/10),CHOOSE(RANDBETWEEN(1,4),RANDBETWEEN(1,99999)/1000,RANDBETWEEN(1,9999)/100,RANDBETWEEN(1,999)/10,RANDBETWEEN(1,99))))","v":26},"m²","=",{"$f":"10000*C600","v":260000},"cm²"]
[{"$f":"IF(COUNTIF($B$1:B601,TRUE)=COUNTIF($B$1:B600,TRUE),\"\",COUNTIF($B$1:B601,TRUE))","v":361},{"$f":"IF(Worksheet!$D$10=2,FALSE,Worksheet!$B$14)","v":true},{"$f":"10*F601","v":520},"mm","=",{"$f":"IF(Worksheet!$D$6=1,RANDBETWEEN(1,99),IF(Worksheet!$D$6=2,CHOOSE(RANDBETWEEN(1,2),RANDBETWEEN(1,99),RANDBETWEEN(1,999)/10),CHOOSE(RANDBETWEEN(1,4),RANDBETWEEN(1,99999)/1000,RANDBETWEEN(1,9999)/100,RANDBETWEEN(1,999)/10,RANDBETWEEN(1,99))))","v":52},"cm"]
[{"$f":"IF(COUNTIF($B$1:B602,TRUE)=COUNTIF($B$1:B601,TRUE),\"\",COUNTIF($B$1:B602,TRUE))","v":362},{"$f":"IF(Worksheet!$D$10=2,FALSE,Worksheet!$B$15)","v":true},{"$f":"100*F602","v":5400},"cm","=",{"$f":"IF(Worksheet!$D$6=1,RANDBETWEEN(1,99),IF(Worksheet!$D$6=2,CHOOSE(RANDBETWEEN(1,2),RANDBETWEEN(1,99),RANDBETWEEN(1,999)/10),CHOOSE(RANDBETWEEN(1,4),RANDBETWEEN(1,99999)/1000,RANDBETWEEN(1,9999)/100,RANDBETWEEN(1,999)/10,RANDBETWEEN(1,99))))","v":54},"m"]
[{"$f":"IF(COUNTIF($B$1:B603,TRUE)=COUNTIF($B$1:B602,TRUE),\"\",COUNTIF($B$1:B603,TRUE))","v":363},{"$f":"IF(Worksheet!$D$10=2,FALSE,Worksheet!$B$16)","v":true},{"$f":"1000*F603","v":21000},"m","=",{"$f":"IF(Worksheet!$D$6=1,RANDBETWEEN(1,99),IF(Worksheet!$D$6=2,CHOOSE(RANDBETWEEN(1,2),RANDBETWEEN(1,99),RANDBETWEEN(1,999)/10),CHOOSE(RANDBETWEEN(1,4),RANDBETWEEN(1,99999)/1000,RANDBETWEEN(1,9999)/100,RANDBETWEEN(1,999)/10,RANDBETWEEN(1,99))))","v":21},"km"]
[{"$f":"IF(COUNTIF($B$1:B604,TRUE)=COUNTIF($B$1:B603,TRUE),\"\",COUNTIF($B$1:B604,TRUE))","v":""},{"$f":"IF(Worksheet!$D$10=2,FALSE,Worksheet!$B$17)","v":false},{"$f":"1000*F604","v":35000},"mm","=",{"$f":"IF(Worksheet!$D$6=1,RANDBETWEEN(1,99),IF(Worksheet!$D$6=2,CHOOSE(RANDBETWEEN(1,2),RANDBETWEEN(1,99),RANDBETWEEN(1,999)/10),CHOOSE(RANDBETWEEN(1,4),RANDBETWEEN(1,99999)/1000,RANDBETWEEN(1,9999)/100,RANDBETWEEN(1,999)/10,RANDBETWEEN(1,99))))","v":35},"m"]
[{"$f":"IF(COUNTIF($B$1:B605,TRUE)=COUNTIF($B$1:B604,TRUE),\"\",COUNTIF($B$1:B605,TRUE))","v":""},{"$f":"IF(Worksheet!$D$10=2,FALSE,Worksheet!$B$18)","v":false},{"$f":"100*F605","v":2000},"mm²","=",{"$f":"IF(Worksheet!$D$6=1,RANDBETWEEN(1,99),IF(Worksheet!$D$6=2,CHOOSE(RANDBETWEEN(1,2),RANDBETWEEN(1,99),RANDBETWEEN(1,999)/10),CHOOSE(RANDBETWEEN(1,4),RANDBETWEEN(1,99999)/1000,RANDBETWEEN(1,9999)/100,RANDBETWEEN(1,999)/10,RANDBETWEEN(1,99))))","v":20},"cm²"]
[{"$f":"IF(COUNTIF($B$1:B606,TRUE)=COUNTIF($B$1:B605,TRUE),\"\",COUNTIF($B$1:B606,TRUE))","v":364},{"$f":"IF(Worksheet!$D$10=2,FALSE,Worksheet!$D$14)","v":true},{"$f":"F606*1000","v":94000},"g","=",{"$f":"IF(Worksheet!$D$6=1,RANDBETWEEN(1,99),IF(Worksheet!$D$6=2,CHOOSE(RANDBETWEEN(1,2),RANDBETWEEN(1,99),RANDBETWEEN(1,999)/10),CHOOSE(RANDBETWEEN(1,4),RANDBETWEEN(1,99999)/1000,RANDBETWEEN(1,9999)/100,RANDBETWEEN(1,999)/10,RANDBETWEEN(1,99))))","v":94},"kg"]
[{"$f":"IF(COUNTIF($B$1:B607,TRUE)=COUNTIF($B$1:B606,TRUE),\"\",COUNTIF($B$1:B607,TRUE))","v":365},{"$f":"IF(Worksheet!$D$10=2,FALSE,Worksheet!$D$15)","v":true},{"$f":"F607*1000","v":81000},"kg","=",{"$f":"IF(Worksheet!$D$6=1,RANDBETWEEN(1,99),IF(Worksheet!$D$6=2,CHOOSE(RANDBETWEEN(1,2),RANDBETWEEN(1,99),RANDBETWEEN(1,999)/10),CHOOSE(RANDBETWEEN(1,4),RANDBETWEEN(1,99999)/1000,RANDBETWEEN(1,9999)/100,RANDBETWEEN(1,999)/10,RANDBETWEEN(1,99))))","v":81},"tonnes"]
[{"$f":"IF(COUNTIF($B$1:B608,TRUE)=COUNTIF($B$1:B607,TRUE),\"\",COUNTIF($B$1:B608,TRUE))","v":366},{"$f":"IF(Worksheet!$D$10=2,FALSE,Worksheet!$D$16)","v":true},{"$f":"1000*F608","v":50000},"ml","=",{"$f":"IF(Worksheet!$D$6=1,RANDBETWEEN(1,99),IF(Worksheet!$D$6=2,CHOOSE(RANDBETWEEN(1,2),RANDBETWEEN(1,99),RANDBETWEEN(1,999)/10),CHOOSE(RANDBETWEEN(1,4),RANDBETWEEN(1,99999)/1000,RANDBETWEEN(1,9999)/100,RANDBETWEEN(1,999)/10,RANDBETWEEN(1,99))))","v":50},"litres"]
[{"$f":"IF(COUNTIF($B$1:B609,TRUE)=COUNTIF($B$1:B608,TRUE),\"\",COUNTIF($B$1:B609,TRUE))","v":""},{"$f":"IF(Worksheet!$D$10=2,FALSE,Worksheet!$D$17)","v":false},{"$f":"1000*F609","v":16000},"cm³","=",{"$f":"IF(Worksheet!$D$6=1,RANDBETWEEN(1,99),IF(Worksheet!$D$6=2,CHOOSE(RANDBETWEEN(1,2),RANDBETWEEN(1,99),RANDBETWEEN(1,999)/10),CHOOSE(RANDBETWEEN(1,4),RANDBETWEEN(1,99999)/1000,RANDBETWEEN(1,9999)/100,RANDBETWEEN(1,999)/10,RANDBETWEEN(1,99))))","v":16},"litres"]
[{"$f":"IF(COUNTIF($B$1:B610,TRUE)=COUNTIF($B$1:B609,TRUE),\"\",COUNTIF($B$1:B610,TRUE))","v":""},{"$f":"IF(Worksheet!$D$10=2,FALSE,Worksheet!$D$18)","v":false},{"$f":"10000*F610","v":820000},"cm²","=",{"$f":"IF(Worksheet!$D$6=1,RANDBETWEEN(1,99),IF(Worksheet!$D$6=2,CHOOSE(RANDBETWEEN(1,2),RANDBETWEEN(1,99),RANDBETWEEN(1,999)/10),CHOOSE(RANDBETWEEN(1,4),RANDBETWEEN(1,99999)/1000,RANDBETWEEN(1,9999)/100,RANDBETWEEN(1,999)/10,RANDBETWEEN(1,99))))","v":82},"m²"]
[{"$f":"IF(COUNTIF($B$1:B611,TRUE)=COUNTIF($B$1:B610,TRUE),\"\",COUNTIF($B$1:B611,TRUE))","v":367},{"$f":"IF(Worksheet!$D$10=3,FALSE,Worksheet!$B$14)","v":true},{"$f":"IF(Worksheet!$D$6=1,RANDBETWEEN(1,99),IF(Worksheet!$D$6=2,CHOOSE(RANDBETWEEN(1,2),RANDBETWEEN(1,99),RANDBETWEEN(1,999)/10),CHOOSE(RANDBETWEEN(1,4),RANDBETWEEN(1,99999)/1000,RANDBETWEEN(1,9999)/100,RANDBETWEEN(1,999)/10,RANDBETWEEN(1,99))))","v":6},"cm","=",{"$f":"10*C611","v":60},"mm"]
[{"$f":"IF(COUNTIF($B$1:B612,TRUE)=COUNTIF($B$1:B611,TRUE),\"\",COUNTIF($B$1:B612,TRUE))","v":368},{"$f":"IF(Worksheet!$D$10=3,FALSE,Worksheet!$B$15)","v":true},{"$f":"IF(Worksheet!$D$6=1,RANDBETWEEN(1,99),IF(Worksheet!$D$6=2,CHOOSE(RANDBETWEEN(1,2),RANDBETWEEN(1,99),RANDBETWEEN(1,999)/10),CHOOSE(RANDBETWEEN(1,4),RANDBETWEEN(1,99999)/1000,RANDBETWEEN(1,9999)/100,RANDBETWEEN(1,999)/10,RANDBETWEEN(1,99))))","v":5},"m","=",{"$f":"100*C612","v":500},"cm"]
[{"$f":"IF(COUNTIF($B$1:B613,TRUE)=COUNTIF($B$1:B612,TRUE),\"\",COUNTIF($B$1:B613,TRUE))","v":369},{"$f":"IF(Worksheet!$D$10=3,FALSE,Worksheet!$B$16)","v":true},{"$f":"IF(Worksheet!$D$6=1,RANDBETWEEN(1,99),IF(Worksheet!$D$6=2,CHOOSE(RANDBETWEEN(1,2),RANDBETWEEN(1,99),RANDBETWEEN(1,999)/10),CHOOSE(RANDBETWEEN(1,4),RANDBETWEEN(1,99999)/1000,RANDBETWEEN(1,9999)/100,RANDBETWEEN(1,999)/10,RANDBETWEEN(1,99))))","v":93},"km","=",{"$f":"1000*C613","v":93000},"m"]
[{"$f":"IF(COUNTIF($B$1:B614,TRUE)=COUNTIF($B$1:B613,TRUE),\"\",COUNTIF($B$1:B614,TRUE))","v":""},{"$f":"IF(Worksheet!$D$10=3,FALSE,Worksheet!$B$17)","v":false},{"$f":"IF(Worksheet!$D$6=1,RANDBETWEEN(1,99),IF(Worksheet!$D$6=2,CHOOSE(RANDBETWEEN(1,2),RANDBETWEEN(1,99),RANDBETWEEN(1,999)/10),CHOOSE(RANDBETWEEN(1,4),RANDBETWEEN(1,99999)/1000,RANDBETWEEN(1,9999)/100,RANDBETWEEN(1,999)/10,RANDBETWEEN(1,99))))","v":27},"m",{"$f":"#REF!","v":{"$error":"#REF!"}},{"$f":"1000*C614","v":27000},"mm"]
[{"$f":"IF(COUNTIF($B$1:B615,TRUE)=COUNTIF($B$1:B614,TRUE),\"\",COUNTIF($B$1:B615,TRUE))","v":""},{"$f":"IF(Worksheet!$D$10=3,FALSE,Worksheet!$B$18)","v":false},{"$f":"IF(Worksheet!$D$6=1,RANDBETWEEN(1,99),IF(Worksheet!$D$6=2,CHOOSE(RANDBETWEEN(1,2),RANDBETWEEN(1,99),RANDBETWEEN(1,999)/10),CHOOSE(RANDBETWEEN(1,4),RANDBETWEEN(1,99999)/1000,RANDBETWEEN(1,9999)/100,RANDBETWEEN(1,999)/10,RANDBETWEEN(1,99))))","v":52},"cm²","=",{"$f":"C615*100","v":5200},"mm²"]
[{"$f":"IF(COUNTIF($B$1:B616,TRUE)=COUNTIF($B$1:B615,TRUE),\"\",COUNTIF($B$1:B616,TRUE))","v":370},{"$f":"IF(Worksheet!$D$10=3,FALSE,Worksheet!$D$14)","v":true},{"$f":"IF(Worksheet!$D$6=1,RANDBETWEEN(1,99),IF(Worksheet!$D$6=2,CHOOSE(RANDBETWEEN(1,2),RANDBETWEEN(1,99),RANDBETWEEN(1,999)/10),CHOOSE(RANDBETWEEN(1,4),RANDBETWEEN(1,99999)/1000,RANDBETWEEN(1,9999)/100,RANDBETWEEN(1,999)/10,RANDBETWEEN(1,99))))","v":81},"kg","=",{"$f":"1000*C616","v":81000},"g"]
[{"$f":"IF(COUNTIF($B$1:B617,TRUE)=COUNTIF($B$1:B616,TRUE),\"\",COUNTIF($B$1:B617,TRUE))","v":371},{"$f":"IF(Worksheet!$D$10=3,FALSE,Worksheet!$D$15)","v":true},{"$f":"IF(Worksheet!$D$6=1,RANDBETWEEN(1,99),IF(Worksheet!$D$6=2,CHOOSE(RANDBETWEEN(1,2),RANDBETWEEN(1,99),RANDBETWEEN(1,999)/10),CHOOSE(RANDBETWEEN(1,4),RANDBETWEEN(1,99999)/1000,RANDBETWEEN(1,9999)/100,RANDBETWEEN(1,999)/10,RANDBETWEEN(1,99))))","v":41},"tonnes","=",{"$f":"1000*C617","v":41000},"kg"]
[{"$f":"IF(COUNTIF($B$1:B618,TRUE)=COUNTIF($B$1:B617,TRUE),\"\",COUNTIF($B$1:B618,TRUE))","v":372},{"$f":"IF(Worksheet!$D$10=3,FALSE,Worksheet!$D$16)","v":true},{"$f":"IF(Worksheet!$D$6=1,RANDBETWEEN(1,99),IF(Worksheet!$D$6=2,CHOOSE(RANDBETWEEN(1,2),RANDBETWEEN(1,99),RANDBETWEEN(1,999)/10),CHOOSE(RANDBETWEEN(1,4),RANDBETWEEN(1,99999)/1000,RANDBETWEEN(1,9999)/100,RANDBETWEEN(1,999)/10,RANDBETWEEN(1,99))))","v":27},"litres","=",{"$f":"1000*C618","v":27000},"ml"]
[{"$f":"IF(COUNTIF($B$1:B619,TRUE)=COUNTIF($B$1:B618,TRUE),\"\",COUNTIF($B$1:B619,TRUE))","v":""},{"$f":"IF(Worksheet!$D$10=3,FALSE,Worksheet!$D$17)","v":false},{"$f":"IF(Worksheet!$D$6=1,RANDBETWEEN(1,99),IF(Worksheet!$D$6=2,CHOOSE(RANDBETWEEN(1,2),RANDBETWEEN(1,99),RANDBETWEEN(1,999)/10),CHOOSE(RANDBETWEEN(1,4),RANDBETWEEN(1,99999)/1000,RANDBETWEEN(1,9999)/100,RANDBETWEEN(1,999)/10,RANDBETWEEN(1,99))))","v":20},"litres","=",{"$f":"1000*C619","v":20000},"cm³"]
[{"$f":"IF(COUNTIF($B$1:B620,TRUE)=COUNTIF($B$1:B619,TRUE),\"\",COUNTIF($B$1:B620,TRUE))","v":""},{"$f":"IF(Worksheet!$D$10=3,FALSE,Worksheet!$D$18)","v":false},{"$f":"IF(Worksheet!$D$6=1,RANDBETWEEN(1,99),IF(Worksheet!$D$6=2,CHOOSE(RANDBETWEEN(1,2),RANDBETWEEN(1,99),RANDBETWEEN(1,999)/10),CHOOSE(RANDBETWEEN(1,4),RANDBETWEEN(1,99999)/1000,RANDBETWEEN(1,9999)/100,RANDBETWEEN(1,999)/10,RANDBETWEEN(1,99))))","v":22},"m²","=",{"$f":"10000*C620","v":220000},"cm²"]
[{"$f":"IF(COUNTIF($B$1:B621,TRUE)=COUNTIF($B$1:B620,TRUE),\"\",COUNTIF($B$1:B621,TRUE))","v":373},{"$f":"IF(Worksheet!$D$10=2,FALSE,Worksheet!$B$14)","v":true},{"$f":"10*F621","v":40},"mm","=",{"$f":"IF(Worksheet!$D$6=1,RANDBETWEEN(1,99),IF(Worksheet!$D$6=2,CHOOSE(RANDBETWEEN(1,2),RANDBETWEEN(1,99),RANDBETWEEN(1,999)/10),CHOOSE(RANDBETWEEN(1,4),RANDBETWEEN(1,99999)/1000,RANDBETWEEN(1,9999)/100,RANDBETWEEN(1,999)/10,RANDBETWEEN(1,99))))","v":4},"cm"]
[{"$f":"IF(COUNTIF($B$1:B622,TRUE)=COUNTIF($B$1:B621,TRUE),\"\",COUNTIF($B$1:B622,TRUE))","v":374},{"$f":"IF(Worksheet!$D$10=2,FALSE,Worksheet!$B$15)","v":true},{"$f":"100*F622","v":500},"cm","=",{"$f":"IF(Worksheet!$D$6=1,RANDBETWEEN(1,99),IF(Worksheet!$D$6=2,CHOOSE(RANDBETWEEN(1,2),RANDBETWEEN(1,99),RANDBETWEEN(1,999)/10),CHOOSE(RANDBETWEEN(1,4),RANDBETWEEN(1,99999)/1000,RANDBETWEEN(1,9999)/100,RANDBETWEEN(1,999)/10,RANDBETWEEN(1,99))))","v":5},"m"]
[{"$f":"IF(COUNTIF($B$1:B623,TRUE)=COUNTIF($B$1:B622,TRUE),\"\",COUNTIF($B$1:B623,TRUE))","v":375},{"$f":"IF(Worksheet!$D$10=2,FALSE,Worksheet!$B$16)","v":true},{"$f":"1000*F623","v":70000},"m","=",{"$f":"IF(Worksheet!$D$6=1,RANDBETWEEN(1,99),IF(Worksheet!$D$6=2,CHOOSE(RANDBETWEEN(1,2),RANDBETWEEN(1,99),RANDBETWEEN(1,999)/10),CHOOSE(RANDBETWEEN(1,4),RANDBETWEEN(1,99999)/1000,RANDBETWEEN(1,9999)/100,RANDBETWEEN(1,999)/10,RANDBETWEEN(1,99))))","v":70},"km"]
[{"$f":"IF(COUNTIF($B$1:B624,TRUE)=COUNTIF($B$1:B623,TRUE),\"\",COUNTIF($B$1:B624,TRUE))","v":""},{"$f":"IF(Worksheet!$D$10=2,FALSE,Worksheet!$B$17)","v":false},{"$f":"1000*F624","v":30000},"mm","=",{"$f":"IF(Worksheet!$D$6=1,RANDBETWEEN(1,99),IF(Worksheet!$D$6=2,CHOOSE(RANDBETWEEN(1,2),RANDBETWEEN(1,99),RANDBETWEEN(1,999)/10),CHOOSE(RANDBETWEEN(1,4),RANDBETWEEN(1,99999)/1000,RANDBETWEEN(1,9999)/100,RANDBETWEEN(1,999)/10,RANDBETWEEN(1,99))))","v":30},"m"]
[{"$f":"IF(COUNTIF($B$1:B625,TRUE)=COUNTIF($B$1:B624,TRUE),\"\",COUNTIF($B$1:B625,TRUE))","v":""},{"$f":"IF(Worksheet!$D$10=2,FALSE,Worksheet!$B$18)","v":false},{"$f":"100*F625","v":8200},"mm²","=",{"$f":"IF(Worksheet!$D$6=1,RANDBETWEEN(1,99),IF(Worksheet!$D$6=2,CHOOSE(RANDBETWEEN(1,2),RANDBETWEEN(1,99),RANDBETWEEN(1,999)/10),CHOOSE(RANDBETWEEN(1,4),RANDBETWEEN(1,99999)/1000,RANDBETWEEN(1,9999)/100,RANDBETWEEN(1,999)/10,RANDBETWEEN(1,99))))","v":82},"cm²"]
[{"$f":"IF(COUNTIF($B$1:B626,TRUE)=COUNTIF($B$1:B625,TRUE),\"\",COUNTIF($B$1:B626,TRUE))","v":376},{"$f":"IF(Worksheet!$D$10=2,FALSE,Worksheet!$D$14)","v":true},{"$f":"F626*1000","v":96000},"g","=",{"$f":"IF(Worksheet!$D$6=1,RANDBETWEEN(1,99),IF(Worksheet!$D$6=2,CHOOSE(RANDBETWEEN(1,2),RANDBETWEEN(1,99),RANDBETWEEN(1,999)/10),CHOOSE(RANDBETWEEN(1,4),RANDBETWEEN(1,99999)/1000,RANDBETWEEN(1,9999)/100,RANDBETWEEN(1,999)/10,RANDBETWEEN(1,99))))","v":96},"kg"]
[{"$f":"IF(COUNTIF($B$1:B627,TRUE)=COUNTIF($B$1:B626,TRUE),\"\",COUNTIF($B$1:B627,TRUE))","v":377},{"$f":"IF(Worksheet!$D$10=2,FALSE,Worksheet!$D$15)","v":true},{"$f":"F627*1000","v":19000},"kg","=",{"$f":"IF(Worksheet!$D$6=1,RANDBETWEEN(1,99),IF(Worksheet!$D$6=2,CHOOSE(RANDBETWEEN(1,2),RANDBETWEEN(1,99),RANDBETWEEN(1,999)/10),CHOOSE(RANDBETWEEN(1,4),RANDBETWEEN(1,99999)/1000,RANDBETWEEN(1,9999)/100,RANDBETWEEN(1,999)/10,RANDBETWEEN(1,99))))","v":19},"tonnes"]
[{"$f":"IF(COUNTIF($B$1:B628,TRUE)=COUNTIF($B$1:B627,TRUE),\"\",COUNTIF($B$1:B628,TRUE))","v":378},{"$f":"IF(Worksheet!$D$10=2,FALSE,Worksheet!$D$16)","v":true},{"$f":"1000*F628","v":77000},"ml","=",{"$f":"IF(Worksheet!$D$6=1,RANDBETWEEN(1,99),IF(Worksheet!$D$6=2,CHOOSE(RANDBETWEEN(1,2),RANDBETWEEN(1,99),RANDBETWEEN(1,999)/10),CHOOSE(RANDBETWEEN(1,4),RANDBETWEEN(1,99999)/1000,RANDBETWEEN(1,9999)/100,RANDBETWEEN(1,999)/10,RANDBETWEEN(1,99))))","v":77},"litres"]
[{"$f":"IF(COUNTIF($B$1:B629,TRUE)=COUNTIF($B$1:B628,TRUE),\"\",COUNTIF($B$1:B629,TRUE))","v":""},{"$f":"IF(Worksheet!$D$10=2,FALSE,Worksheet!$D$17)","v":false},{"$f":"1000*F629","v":98000},"cm³","=",{"$f":"IF(Worksheet!$D$6=1,RANDBETWEEN(1,99),IF(Worksheet!$D$6=2,CHOOSE(RANDBETWEEN(1,2),RANDBETWEEN(1,99),RANDBETWEEN(1,999)/10),CHOOSE(RANDBETWEEN(1,4),RANDBETWEEN(1,99999)/1000,RANDBETWEEN(1,9999)/100,RANDBETWEEN(1,999)/10,RANDBETWEEN(1,99))))","v":98},"litres"]
[{"$f":"IF(COUNTIF($B$1:B630,TRUE)=COUNTIF($B$1:B629,TRUE),\"\",COUNTIF($B$1:B630,TRUE))","v":""},{"$f":"IF(Worksheet!$D$10=2,FALSE,Worksheet!$D$18)","v":false},{"$f":"10000*F630","v":310000},"cm²","=",{"$f":"IF(Worksheet!$D$6=1,RANDBETWEEN(1,99),IF(Worksheet!$D$6=2,CHOOSE(RANDBETWEEN(1,2),RANDBETWEEN(1,99),RANDBETWEEN(1,999)/10),CHOOSE(RANDBETWEEN(1,4),RANDBETWEEN(1,99999)/1000,RANDBETWEEN(1,9999)/100,RANDBETWEEN(1,999)/10,RANDBETWEEN(1,99))))","v":31},"m²"]
[{"$f":"IF(COUNTIF($B$1:B631,TRUE)=COUNTIF($B$1:B630,TRUE),\"\",COUNTIF($B$1:B631,TRUE))","v":379},{"$f":"IF(Worksheet!$D$10=3,FALSE,Worksheet!$B$14)","v":true},{"$f":"IF(Worksheet!$D$6=1,RANDBETWEEN(1,99),IF(Worksheet!$D$6=2,CHOOSE(RANDBETWEEN(1,2),RANDBETWEEN(1,99),RANDBETWEEN(1,999)/10),CHOOSE(RANDBETWEEN(1,4),RANDBETWEEN(1,99999)/1000,RANDBETWEEN(1,9999)/100,RANDBETWEEN(1,999)/10,RANDBETWEEN(1,99))))","v":85},"cm","=",{"$f":"10*C631","v":850},"mm"]
[{"$f":"IF(COUNTIF($B$1:B632,TRUE)=COUNTIF($B$1:B631,TRUE),\"\",COUNTIF($B$1:B632,TRUE))","v":380},{"$f":"IF(Worksheet!$D$10=3,FALSE,Worksheet!$B$15)","v":true},{"$f":"IF(Worksheet!$D$6=1,RANDBETWEEN(1,99),IF(Worksheet!$D$6=2,CHOOSE(RANDBETWEEN(1,2),RANDBETWEEN(1,99),RANDBETWEEN(1,999)/10),CHOOSE(RANDBETWEEN(1,4),RANDBETWEEN(1,99999)/1000,RANDBETWEEN(1,9999)/100,RANDBETWEEN(1,999)/10,RANDBETWEEN(1,99))))","v":73},"m","=",{"$f":"100*C632","v":7300},"cm"]
[{"$f":"IF(COUNTIF($B$1:B633,TRUE)=COUNTIF($B$1:B632,TRUE),\"\",COUNTIF($B$1:B633,TRUE))","v":381},{"$f":"IF(Worksheet!$D$10=3,FALSE,Worksheet!$B$16)","v":true},{"$f":"IF(Worksheet!$D$6=1,RANDBETWEEN(1,99),IF(Worksheet!$D$6=2,CHOOSE(RANDBETWEEN(1,2),RANDBETWEEN(1,99),RANDBETWEEN(1,999)/10),CHOOSE(RANDBETWEEN(1,4),RANDBETWEEN(1,99999)/1000,RANDBETWEEN(1,9999)/100,RANDBETWEEN(1,999)/10,RANDBETWEEN(1,99))))","v":68},"km","=",{"$f":"1000*C633","v":68000},"m"]
[{"$f":"IF(COUNTIF($B$1:B634,TRUE)=COUNTIF($B$1:B633,TRUE),\"\",COUNTIF($B$1:B634,TRUE))","v":""},{"$f":"IF(Worksheet!$D$10=3,FALSE,Worksheet!$B$17)","v":false},{"$f":"IF(Worksheet!$D$6=1,RANDBETWEEN(1,99),IF(Worksheet!$D$6=2,CHOOSE(RANDBETWEEN(1,2),RANDBETWEEN(1,99),RANDBETWEEN(1,999)/10),CHOOSE(RANDBETWEEN(1,4),RANDBETWEEN(1,99999)/1000,RANDBETWEEN(1,9999)/100,RANDBETWEEN(1,999)/10,RANDBETWEEN(1,99))))","v":51},"m",{"$f":"#REF!","v":{"$error":"#REF!"}},{"$f":"1000*C634","v":51000},"mm"]
[{"$f":"IF(COUNTIF($B$1:B635,TRUE)=COUNTIF($B$1:B634,TRUE),\"\",COUNTIF($B$1:B635,TRUE))","v":""},{"$f":"IF(Worksheet!$D$10=3,FALSE,Worksheet!$B$18)","v":false},{"$f":"IF(Worksheet!$D$6=1,RANDBETWEEN(1,99),IF(Worksheet!$D$6=2,CHOOSE(RANDBETWEEN(1,2),RANDBETWEEN(1,99),RANDBETWEEN(1,999)/10),CHOOSE(RANDBETWEEN(1,4),RANDBETWEEN(1,99999)/1000,RANDBETWEEN(1,9999)/100,RANDBETWEEN(1,999)/10,RANDBETWEEN(1,99))))","v":6},"cm²","=",{"$f":"C635*100","v":600},"mm²"]
[{"$f":"IF(COUNTIF($B$1:B636,TRUE)=COUNTIF($B$1:B635,TRUE),\"\",COUNTIF($B$1:B636,TRUE))","v":382},{"$f":"IF(Worksheet!$D$10=3,FALSE,Worksheet!$D$14)","v":true},{"$f":"IF(Worksheet!$D$6=1,RANDBETWEEN(1,99),IF(Worksheet!$D$6=2,CHOOSE(RANDBETWEEN(1,2),RANDBETWEEN(1,99),RANDBETWEEN(1,999)/10),CHOOSE(RANDBETWEEN(1,4),RANDBETWEEN(1,99999)/1000,RANDBETWEEN(1,9999)/100,RANDBETWEEN(1,999)/10,RANDBETWEEN(1,99))))","v":35},"kg","=",{"$f":"1000*C636","v":35000},"g"]
[{"$f":"IF(COUNTIF($B$1:B637,TRUE)=COUNTIF($B$1:B636,TRUE),\"\",COUNTIF($B$1:B637,TRUE))","v":383},{"$f":"IF(Worksheet!$D$10=3,FALSE,Worksheet!$D$15)","v":true},{"$f":"IF(Worksheet!$D$6=1,RANDBETWEEN(1,99),IF(Worksheet!$D$6=2,CHOOSE(RANDBETWEEN(1,2),RANDBETWEEN(1,99),RANDBETWEEN(1,999)/10),CHOOSE(RANDBETWEEN(1,4),RANDBETWEEN(1,99999)/1000,RANDBETWEEN(1,9999)/100,RANDBETWEEN(1,999)/10,RANDBETWEEN(1,99))))","v":74},"tonnes","=",{"$f":"1000*C637","v":74000},"kg"]
[{"$f":"IF(COUNTIF($B$1:B638,TRUE)=COUNTIF($B$1:B637,TRUE),\"\",COUNTIF($B$1:B638,TRUE))","v":384},{"$f":"IF(Worksheet!$D$10=3,FALSE,Worksheet!$D$16)","v":true},{"$f":"IF(Worksheet!$D$6=1,RANDBETWEEN(1,99),IF(Worksheet!$D$6=2,CHOOSE(RANDBETWEEN(1,2),RANDBETWEEN(1,99),RANDBETWEEN(1,999)/10),CHOOSE(RANDBETWEEN(1,4),RANDBETWEEN(1,99999)/1000,RANDBETWEEN(1,9999)/100,RANDBETWEEN(1,999)/10,RANDBETWEEN(1,99))))","v":29},"litres","=",{"$f":"1000*C638","v":29000},"ml"]
[{"$f":"IF(COUNTIF($B$1:B639,TRUE)=COUNTIF($B$1:B638,TRUE),\"\",COUNTIF($B$1:B639,TRUE))","v":""},{"$f":"IF(Worksheet!$D$10=3,FALSE,Worksheet!$D$17)","v":false},{"$f":"IF(Worksheet!$D$6=1,RANDBETWEEN(1,99),IF(Worksheet!$D$6=2,CHOOSE(RANDBETWEEN(1,2),RANDBETWEEN(1,99),RANDBETWEEN(1,999)/10),CHOOSE(RANDBETWEEN(1,4),RANDBETWEEN(1,99999)/1000,RANDBETWEEN(1,9999)/100,RANDBETWEEN(1,999)/10,RANDBETWEEN(1,99))))","v":2},"litres","=",{"$f":"1000*C639","v":2000},"cm³"]
[{"$f":"IF(COUNTIF($B$1:B640,TRUE)=COUNTIF($B$1:B639,TRUE),\"\",COUNTIF($B$1:B640,TRUE))","v":""},{"$f":"IF(Worksheet!$D$10=3,FALSE,Worksheet!$D$18)","v":false},{"$f":"IF(Worksheet!$D$6=1,RANDBETWEEN(1,99),IF(Worksheet!$D$6=2,CHOOSE(RANDBETWEEN(1,2),RANDBETWEEN(1,99),RANDBETWEEN(1,999)/10),CHOOSE(RANDBETWEEN(1,4),RANDBETWEEN(1,99999)/1000,RANDBETWEEN(1,9999)/100,RANDBETWEEN(1,999)/10,RANDBETWEEN(1,99))))","v":58},"m²","=",{"$f":"10000*C640","v":580000},"cm²"]
[{"$f":"IF(COUNTIF($B$1:B641,TRUE)=COUNTIF($B$1:B640,TRUE),\"\",COUNTIF($B$1:B641,TRUE))","v":385},{"$f":"IF(Worksheet!$D$10=2,FALSE,Worksheet!$B$14)","v":true},{"$f":"10*F641","v":380},"mm","=",{"$f":"IF(Worksheet!$D$6=1,RANDBETWEEN(1,99),IF(Worksheet!$D$6=2,CHOOSE(RANDBETWEEN(1,2),RANDBETWEEN(1,99),RANDBETWEEN(1,999)/10),CHOOSE(RANDBETWEEN(1,4),RANDBETWEEN(1,99999)/1000,RANDBETWEEN(1,9999)/100,RANDBETWEEN(1,999)/10,RANDBETWEEN(1,99))))","v":38},"cm"]
[{"$f":"IF(COUNTIF($B$1:B642,TRUE)=COUNTIF($B$1:B641,TRUE),\"\",COUNTIF($B$1:B642,TRUE))","v":386},{"$f":"IF(Worksheet!$D$10=2,FALSE,Worksheet!$B$15)","v":true},{"$f":"100*F642","v":9700},"cm","=",{"$f":"IF(Worksheet!$D$6=1,RANDBETWEEN(1,99),IF(Worksheet!$D$6=2,CHOOSE(RANDBETWEEN(1,2),RANDBETWEEN(1,99),RANDBETWEEN(1,999)/10),CHOOSE(RANDBETWEEN(1,4),RANDBETWEEN(1,99999)/1000,RANDBETWEEN(1,9999)/100,RANDBETWEEN(1,999)/10,RANDBETWEEN(1,99))))","v":97},"m"]
[{"$f":"IF(COUNTIF($B$1:B643,TRUE)=COUNTIF($B$1:B642,TRUE),\"\",COUNTIF($B$1:B643,TRUE))","v":387},{"$f":"IF(Worksheet!$D$10=2,FALSE,Worksheet!$B$16)","v":true},{"$f":"1000*F643","v":33000},"m","=",{"$f":"IF(Worksheet!$D$6=1,RANDBETWEEN(1,99),IF(Worksheet!$D$6=2,CHOOSE(RANDBETWEEN(1,2),RANDBETWEEN(1,99),RANDBETWEEN(1,999)/10),CHOOSE(RANDBETWEEN(1,4),RANDBETWEEN(1,99999)/1000,RANDBETWEEN(1,9999)/100,RANDBETWEEN(1,999)/10,RANDBETWEEN(1,99))))","v":33},"km"]
[{"$f":"IF(COUNTIF($B$1:B644,TRUE)=COUNTIF($B$1:B643,TRUE),\"\",COUNTIF($B$1:B644,TRUE))","v":""},{"$f":"IF(Worksheet!$D$10=2,FALSE,Worksheet!$B$17)","v":false},{"$f":"1000*F644","v":35000},"mm","=",{"$f":"IF(Worksheet!$D$6=1,RANDBETWEEN(1,99),IF(Worksheet!$D$6=2,CHOOSE(RANDBETWEEN(1,2),RANDBETWEEN(1,99),RANDBETWEEN(1,999)/10),CHOOSE(RANDBETWEEN(1,4),RANDBETWEEN(1,99999)/1000,RANDBETWEEN(1,9999)/100,RANDBETWEEN(1,999)/10,RANDBETWEEN(1,99))))","v":35},"m"]
[{"$f":"IF(COUNTIF($B$1:B645,TRUE)=COUNTIF($B$1:B644,TRUE),\"\",COUNTIF($B$1:B645,TRUE))","v":""},{"$f":"IF(Worksheet!$D$10=2,FALSE,Worksheet!$B$18)","v":false},{"$f":"100*F645","v":8300},"mm²","=",{"$f":"IF(Worksheet!$D$6=1,RANDBETWEEN(1,99),IF(Worksheet!$D$6=2,CHOOSE(RANDBETWEEN(1,2),RANDBETWEEN(1,99),RANDBETWEEN(1,999)/10),CHOOSE(RANDBETWEEN(1,4),RANDBETWEEN(1,99999)/1000,RANDBETWEEN(1,9999)/100,RANDBETWEEN(1,999)/10,RANDBETWEEN(1,99))))","v":83},"cm²"]
[{"$f":"IF(COUNTIF($B$1:B646,TRUE)=COUNTIF($B$1:B645,TRUE),\"\",COUNTIF($B$1:B646,TRUE))","v":388},{"$f":"IF(Worksheet!$D$10=2,FALSE,Worksheet!$D$14)","v":true},{"$f":"F646*1000","v":30000},"g","=",{"$f":"IF(Worksheet!$D$6=1,RANDBETWEEN(1,99),IF(Worksheet!$D$6=2,CHOOSE(RANDBETWEEN(1,2),RANDBETWEEN(1,99),RANDBETWEEN(1,999)/10),CHOOSE(RANDBETWEEN(1,4),RANDBETWEEN(1,99999)/1000,RANDBETWEEN(1,9999)/100,RANDBETWEEN(1,999)/10,RANDBETWEEN(1,99))))","v":30},"kg"]
[{"$f":"IF(COUNTIF($B$1:B647,TRUE)=COUNTIF($B$1:B646,TRUE),\"\",COUNTIF($B$1:B647,TRUE))","v":389},{"$f":"IF(Worksheet!$D$10=2,FALSE,Worksheet!$D$15)","v":true},{"$f":"F647*1000","v":73000},"kg","=",{"$f":"IF(Worksheet!$D$6=1,RANDBETWEEN(1,99),IF(Worksheet!$D$6=2,CHOOSE(RANDBETWEEN(1,2),RANDBETWEEN(1,99),RANDBETWEEN(1,999)/10),CHOOSE(RANDBETWEEN(1,4),RANDBETWEEN(1,99999)/1000,RANDBETWEEN(1,9999)/100,RANDBETWEEN(1,999)/10,RANDBETWEEN(1,99))))","v":73},"tonnes"]
[{"$f":"IF(COUNTIF($B$1:B648,TRUE)=COUNTIF($B$1:B647,TRUE),\"\",COUNTIF($B$1:B648,TRUE))","v":390},{"$f":"IF(Worksheet!$D$10=2,FALSE,Worksheet!$D$16)","v":true},{"$f":"1000*F648","v":20000},"ml","=",{"$f":"IF(Worksheet!$D$6=1,RANDBETWEEN(1,99),IF(Worksheet!$D$6=2,CHOOSE(RANDBETWEEN(1,2),RANDBETWEEN(1,99),RANDBETWEEN(1,999)/10),CHOOSE(RANDBETWEEN(1,4),RANDBETWEEN(1,99999)/1000,RANDBETWEEN(1,9999)/100,RANDBETWEEN(1,999)/10,RANDBETWEEN(1,99))))","v":20},"litres"]
[{"$f":"IF(COUNTIF($B$1:B649,TRUE)=COUNTIF($B$1:B648,TRUE),\"\",COUNTIF($B$1:B649,TRUE))","v":""},{"$f":"IF(Worksheet!$D$10=2,FALSE,Worksheet!$D$17)","v":false},{"$f":"1000*F649","v":52000},"cm³","=",{"$f":"IF(Worksheet!$D$6=1,RANDBETWEEN(1,99),IF(Worksheet!$D$6=2,CHOOSE(RANDBETWEEN(1,2),RANDBETWEEN(1,99),RANDBETWEEN(1,999)/10),CHOOSE(RANDBETWEEN(1,4),RANDBETWEEN(1,99999)/1000,RANDBETWEEN(1,9999)/100,RANDBETWEEN(1,999)/10,RANDBETWEEN(1,99))))","v":52},"litres"]
[{"$f":"IF(COUNTIF($B$1:B650,TRUE)=COUNTIF($B$1:B649,TRUE),\"\",COUNTIF($B$1:B650,TRUE))","v":""},{"$f":"IF(Worksheet!$D$10=2,FALSE,Worksheet!$D$18)","v":false},{"$f":"10000*F650","v":570000},"cm²","=",{"$f":"IF(Worksheet!$D$6=1,RANDBETWEEN(1,99),IF(Worksheet!$D$6=2,CHOOSE(RANDBETWEEN(1,2),RANDBETWEEN(1,99),RANDBETWEEN(1,999)/10),CHOOSE(RANDBETWEEN(1,4),RANDBETWEEN(1,99999)/1000,RANDBETWEEN(1,9999)/100,RANDBETWEEN(1,999)/10,RANDBETWEEN(1,99))))","v":57},"m²"]
[{"$f":"IF(COUNTIF($B$1:B651,TRUE)=COUNTIF($B$1:B650,TRUE),\"\",COUNTIF($B$1:B651,TRUE))","v":391},{"$f":"IF(Worksheet!$D$10=3,FALSE,Worksheet!$B$14)","v":true},{"$f":"IF(Worksheet!$D$6=1,RANDBETWEEN(1,99),IF(Worksheet!$D$6=2,CHOOSE(RANDBETWEEN(1,2),RANDBETWEEN(1,99),RANDBETWEEN(1,999)/10),CHOOSE(RANDBETWEEN(1,4),RANDBETWEEN(1,99999)/1000,RANDBETWEEN(1,9999)/100,RANDBETWEEN(1,999)/10,RANDBETWEEN(1,99))))","v":11},"cm","=",{"$f":"10*C651","v":110},"mm"]
[{"$f":"IF(COUNTIF($B$1:B652,TRUE)=COUNTIF($B$1:B651,TRUE),\"\",COUNTIF($B$1:B652,TRUE))","v":392},{"$f":"IF(Worksheet!$D$10=3,FALSE,Worksheet!$B$15)","v":true},{"$f":"IF(Worksheet!$D$6=1,RANDBETWEEN(1,99),IF(Worksheet!$D$6=2,CHOOSE(RANDBETWEEN(1,2),RANDBETWEEN(1,99),RANDBETWEEN(1,999)/10),CHOOSE(RANDBETWEEN(1,4),RANDBETWEEN(1,99999)/1000,RANDBETWEEN(1,9999)/100,RANDBETWEEN(1,999)/10,RANDBETWEEN(1,99))))","v":72},"m","=",{"$f":"100*C652","v":7200},"cm"]
[{"$f":"IF(COUNTIF($B$1:B653,TRUE)=COUNTIF($B$1:B652,TRUE),\"\",COUNTIF($B$1:B653,TRUE))","v":393},{"$f":"IF(Worksheet!$D$10=3,FALSE,Worksheet!$B$16)","v":true},{"$f":"IF(Worksheet!$D$6=1,RANDBETWEEN(1,99),IF(Worksheet!$D$6=2,CHOOSE(RANDBETWEEN(1,2),RANDBETWEEN(1,99),RANDBETWEEN(1,999)/10),CHOOSE(RANDBETWEEN(1,4),RANDBETWEEN(1,99999)/1000,RANDBETWEEN(1,9999)/100,RANDBETWEEN(1,999)/10,RANDBETWEEN(1,99))))","v":97},"km","=",{"$f":"1000*C653","v":97000},"m"]
[{"$f":"IF(COUNTIF($B$1:B654,TRUE)=COUNTIF($B$1:B653,TRUE),\"\",COUNTIF($B$1:B654,TRUE))","v":""},{"$f":"IF(Worksheet!$D$10=3,FALSE,Worksheet!$B$17)","v":false},{"$f":"IF(Worksheet!$D$6=1,RANDBETWEEN(1,99),IF(Worksheet!$D$6=2,CHOOSE(RANDBETWEEN(1,2),RANDBETWEEN(1,99),RANDBETWEEN(1,999)/10),CHOOSE(RANDBETWEEN(1,4),RANDBETWEEN(1,99999)/1000,RANDBETWEEN(1,9999)/100,RANDBETWEEN(1,999)/10,RANDBETWEEN(1,99))))","v":88},"m",{"$f":"#REF!","v":{"$error":"#REF!"}},{"$f":"1000*C654","v":88000},"mm"]
[{"$f":"IF(COUNTIF($B$1:B655,TRUE)=COUNTIF($B$1:B654,TRUE),\"\",COUNTIF($B$1:B655,TRUE))","v":""},{"$f":"IF(Worksheet!$D$10=3,FALSE,Worksheet!$B$18)","v":false},{"$f":"IF(Worksheet!$D$6=1,RANDBETWEEN(1,99),IF(Worksheet!$D$6=2,CHOOSE(RANDBETWEEN(1,2),RANDBETWEEN(1,99),RANDBETWEEN(1,999)/10),CHOOSE(RANDBETWEEN(1,4),RANDBETWEEN(1,99999)/1000,RANDBETWEEN(1,9999)/100,RANDBETWEEN(1,999)/10,RANDBETWEEN(1,99))))","v":62},"cm²","=",{"$f":"C655*100","v":6200},"mm²"]
[{"$f":"IF(COUNTIF($B$1:B656,TRUE)=COUNTIF($B$1:B655,TRUE),\"\",COUNTIF($B$1:B656,TRUE))","v":394},{"$f":"IF(Worksheet!$D$10=3,FALSE,Worksheet!$D$14)","v":true},{"$f":"IF(Worksheet!$D$6=1,RANDBETWEEN(1,99),IF(Worksheet!$D$6=2,CHOOSE(RANDBETWEEN(1,2),RANDBETWEEN(1,99),RANDBETWEEN(1,999)/10),CHOOSE(RANDBETWEEN(1,4),RANDBETWEEN(1,99999)/1000,RANDBETWEEN(1,9999)/100,RANDBETWEEN(1,999)/10,RANDBETWEEN(1,99))))","v":37},"kg","=",{"$f":"1000*C656","v":37000},"g"]
[{"$f":"IF(COUNTIF($B$1:B657,TRUE)=COUNTIF($B$1:B656,TRUE),\"\",COUNTIF($B$1:B657,TRUE))","v":395},{"$f":"IF(Worksheet!$D$10=3,FALSE,Worksheet!$D$15)","v":true},{"$f":"IF(Worksheet!$D$6=1,RANDBETWEEN(1,99),IF(Worksheet!$D$6=2,CHOOSE(RANDBETWEEN(1,2),RANDBETWEEN(1,99),RANDBETWEEN(1,999)/10),CHOOSE(RANDBETWEEN(1,4),RANDBETWEEN(1,99999)/1000,RANDBETWEEN(1,9999)/100,RANDBETWEEN(1,999)/10,RANDBETWEEN(1,99))))","v":38},"tonnes","=",{"$f":"1000*C657","v":38000},"kg"]
[{"$f":"IF(COUNTIF($B$1:B658,TRUE)=COUNTIF($B$1:B657,TRUE),\"\",COUNTIF($B$1:B658,TRUE))","v":396},{"$f":"IF(Worksheet!$D$10=3,FALSE,Worksheet!$D$16)","v":true},{"$f":"IF(Worksheet!$D$6=1,RANDBETWEEN(1,99),IF(Worksheet!$D$6=2,CHOOSE(RANDBETWEEN(1,2),RANDBETWEEN(1,99),RANDBETWEEN(1,999)/10),CHOOSE(RANDBETWEEN(1,4),RANDBETWEEN(1,99999)/1000,RANDBETWEEN(1,9999)/100,RANDBETWEEN(1,999)/10,RANDBETWEEN(1,99))))","v":40},"litres","=",{"$f":"1000*C658","v":40000},"ml"]
[{"$f":"IF(COUNTIF($B$1:B659,TRUE)=COUNTIF($B$1:B658,TRUE),\"\",COUNTIF($B$1:B659,TRUE))","v":""},{"$f":"IF(Worksheet!$D$10=3,FALSE,Worksheet!$D$17)","v":false},{"$f":"IF(Worksheet!$D$6=1,RANDBETWEEN(1,99),IF(Worksheet!$D$6=2,CHOOSE(RANDBETWEEN(1,2),RANDBETWEEN(1,99),RANDBETWEEN(1,999)/10),CHOOSE(RANDBETWEEN(1,4),RANDBETWEEN(1,99999)/1000,RANDBETWEEN(1,9999)/100,RANDBETWEEN(1,999)/10,RANDBETWEEN(1,99))))","v":33},"litres","=",{"$f":"1000*C659","v":33000},"cm³"]
[{"$f":"IF(COUNTIF($B$1:B660,TRUE)=COUNTIF($B$1:B659,TRUE),\"\",COUNTIF($B$1:B660,TRUE))","v":""},{"$f":"IF(Worksheet!$D$10=3,FALSE,Worksheet!$D$18)","v":false},{"$f":"IF(Worksheet!$D$6=1,RANDBETWEEN(1,99),IF(Worksheet!$D$6=2,CHOOSE(RANDBETWEEN(1,2),RANDBETWEEN(1,99),RANDBETWEEN(1,999)/10),CHOOSE(RANDBETWEEN(1,4),RANDBETWEEN(1,99999)/1000,RANDBETWEEN(1,9999)/100,RANDBETWEEN(1,999)/10,RANDBETWEEN(1,99))))","v":97},"m²","=",{"$f":"10000*C660","v":970000},"cm²"]
[{"$f":"IF(COUNTIF($B$1:B661,TRUE)=COUNTIF($B$1:B660,TRUE),\"\",COUNTIF($B$1:B661,TRUE))","v":397},{"$f":"IF(Worksheet!$D$10=2,FALSE,Worksheet!$B$14)","v":true},{"$f":"10*F661","v":160},"mm","=",{"$f":"IF(Worksheet!$D$6=1,RANDBETWEEN(1,99),IF(Worksheet!$D$6=2,CHOOSE(RANDBETWEEN(1,2),RANDBETWEEN(1,99),RANDBETWEEN(1,999)/10),CHOOSE(RANDBETWEEN(1,4),RANDBETWEEN(1,99999)/1000,RANDBETWEEN(1,9999)/100,RANDBETWEEN(1,999)/10,RANDBETWEEN(1,99))))","v":16},"cm"]
[{"$f":"IF(COUNTIF($B$1:B662,TRUE)=COUNTIF($B$1:B661,TRUE),\"\",COUNTIF($B$1:B662,TRUE))","v":398},{"$f":"IF(Worksheet!$D$10=2,FALSE,Worksheet!$B$15)","v":true},{"$f":"100*F662","v":1000},"cm","=",{"$f":"IF(Worksheet!$D$6=1,RANDBETWEEN(1,99),IF(Worksheet!$D$6=2,CHOOSE(RANDBETWEEN(1,2),RANDBETWEEN(1,99),RANDBETWEEN(1,999)/10),CHOOSE(RANDBETWEEN(1,4),RANDBETWEEN(1,99999)/1000,RANDBETWEEN(1,9999)/100,RANDBETWEEN(1,999)/10,RANDBETWEEN(1,99))))","v":10},"m"]
[{"$f":"IF(COUNTIF($B$1:B663,TRUE)=COUNTIF($B$1:B662,TRUE),\"\",COUNTIF($B$1:B663,TRUE))","v":399},{"$f":"IF(Worksheet!$D$10=2,FALSE,Worksheet!$B$16)","v":true},{"$f":"1000*F663","v":50000},"m","=",{"$f":"IF(Worksheet!$D$6=1,RANDBETWEEN(1,99),IF(Worksheet!$D$6=2,CHOOSE(RANDBETWEEN(1,2),RANDBETWEEN(1,99),RANDBETWEEN(1,999)/10),CHOOSE(RANDBETWEEN(1,4),RANDBETWEEN(1,99999)/1000,RANDBETWEEN(1,9999)/100,RANDBETWEEN(1,999)/10,RANDBETWEEN(1,99))))","v":50},"km"]
[{"$f":"IF(COUNTIF($B$1:B664,TRUE)=COUNTIF($B$1:B663,TRUE),\"\",COUNTIF($B$1:B664,TRUE))","v":""},{"$f":"IF(Worksheet!$D$10=2,FALSE,Worksheet!$B$17)","v":false},{"$f":"1000*F664","v":4000},"mm","=",{"$f":"IF(Worksheet!$D$6=1,RANDBETWEEN(1,99),IF(Worksheet!$D$6=2,CHOOSE(RANDBETWEEN(1,2),RANDBETWEEN(1,99),RANDBETWEEN(1,999)/10),CHOOSE(RANDBETWEEN(1,4),RANDBETWEEN(1,99999)/1000,RANDBETWEEN(1,9999)/100,RANDBETWEEN(1,999)/10,RANDBETWEEN(1,99))))","v":4},"m"]
[{"$f":"IF(COUNTIF($B$1:B665,TRUE)=COUNTIF($B$1:B664,TRUE),\"\",COUNTIF($B$1:B665,TRUE))","v":""},{"$f":"IF(Worksheet!$D$10=2,FALSE,Worksheet!$B$18)","v":false},{"$f":"100*F665","v":2100},"mm²","=",{"$f":"IF(Worksheet!$D$6=1,RANDBETWEEN(1,99),IF(Worksheet!$D$6=2,CHOOSE(RANDBETWEEN(1,2),RANDBETWEEN(1,99),RANDBETWEEN(1,999)/10),CHOOSE(RANDBETWEEN(1,4),RANDBETWEEN(1,99999)/1000,RANDBETWEEN(1,9999)/100,RANDBETWEEN(1,999)/10,RANDBETWEEN(1,99))))","v":21},"cm²"]
[{"$f":"IF(COUNTIF($B$1:B666,TRUE)=COUNTIF($B$1:B665,TRUE),\"\",COUNTIF($B$1:B666,TRUE))","v":400},{"$f":"IF(Worksheet!$D$10=2,FALSE,Worksheet!$D$14)","v":true},{"$f":"F666*1000","v":1000},"g","=",{"$f":"IF(Worksheet!$D$6=1,RANDBETWEEN(1,99),IF(Worksheet!$D$6=2,CHOOSE(RANDBETWEEN(1,2),RANDBETWEEN(1,99),RANDBETWEEN(1,999)/10),CHOOSE(RANDBETWEEN(1,4),RANDBETWEEN(1,99999)/1000,RANDBETWEEN(1,9999)/100,RANDBETWEEN(1,999)/10,RANDBETWEEN(1,99))))","v":1},"kg"]
[{"$f":"IF(COUNTIF($B$1:B667,TRUE)=COUNTIF($B$1:B666,TRUE),\"\",COUNTIF($B$1:B667,TRUE))","v":401},{"$f":"IF(Worksheet!$D$10=2,FALSE,Worksheet!$D$15)","v":true},{"$f":"F667*1000","v":47000},"kg","=",{"$f":"IF(Worksheet!$D$6=1,RANDBETWEEN(1,99),IF(Worksheet!$D$6=2,CHOOSE(RANDBETWEEN(1,2),RANDBETWEEN(1,99),RANDBETWEEN(1,999)/10),CHOOSE(RANDBETWEEN(1,4),RANDBETWEEN(1,99999)/1000,RANDBETWEEN(1,9999)/100,RANDBETWEEN(1,999)/10,RANDBETWEEN(1,99))))","v":47},"tonnes"]
[{"$f":"IF(COUNTIF($B$1:B668,TRUE)=COUNTIF($B$1:B667,TRUE),\"\",COUNTIF($B$1:B668,TRUE))","v":402},{"$f":"IF(Worksheet!$D$10=2,FALSE,Worksheet!$D$16)","v":true},{"$f":"1000*F668","v":53000},"ml","=",{"$f":"IF(Worksheet!$D$6=1,RANDBETWEEN(1,99),IF(Worksheet!$D$6=2,CHOOSE(RANDBETWEEN(1,2),RANDBETWEEN(1,99),RANDBETWEEN(1,999)/10),CHOOSE(RANDBETWEEN(1,4),RANDBETWEEN(1,99999)/1000,RANDBETWEEN(1,9999)/100,RANDBETWEEN(1,999)/10,RANDBETWEEN(1,99))))","v":53},"litres"]
[{"$f":"IF(COUNTIF($B$1:B669,TRUE)=COUNTIF($B$1:B668,TRUE),\"\",COUNTIF($B$1:B669,TRUE))","v":""},{"$f":"IF(Worksheet!$D$10=2,FALSE,Worksheet!$D$17)","v":false},{"$f":"1000*F669","v":80000},"cm³","=",{"$f":"IF(Worksheet!$D$6=1,RANDBETWEEN(1,99),IF(Worksheet!$D$6=2,CHOOSE(RANDBETWEEN(1,2),RANDBETWEEN(1,99),RANDBETWEEN(1,999)/10),CHOOSE(RANDBETWEEN(1,4),RANDBETWEEN(1,99999)/1000,RANDBETWEEN(1,9999)/100,RANDBETWEEN(1,999)/10,RANDBETWEEN(1,99))))","v":80},"litres"]
[{"$f":"IF(COUNTIF($B$1:B670,TRUE)=COUNTIF($B$1:B669,TRUE),\"\",COUNTIF($B$1:B670,TRUE))","v":""},{"$f":"IF(Worksheet!$D$10=2,FALSE,Worksheet!$D$18)","v":false},{"$f":"10000*F670","v":360000},"cm²","=",{"$f":"IF(Worksheet!$D$6=1,RANDBETWEEN(1,99),IF(Worksheet!$D$6=2,CHOOSE(RANDBETWEEN(1,2),RANDBETWEEN(1,99),RANDBETWEEN(1,999)/10),CHOOSE(RANDBETWEEN(1,4),RANDBETWEEN(1,99999)/1000,RANDBETWEEN(1,9999)/100,RANDBETWEEN(1,999)/10,RANDBETWEEN(1,99))))","v":36},"m²"]
[{"$f":"IF(COUNTIF($B$1:B671,TRUE)=COUNTIF($B$1:B670,TRUE),\"\",COUNTIF($B$1:B671,TRUE))","v":403},{"$f":"IF(Worksheet!$D$10=3,FALSE,Worksheet!$B$14)","v":true},{"$f":"IF(Worksheet!$D$6=1,RANDBETWEEN(1,99),IF(Worksheet!$D$6=2,CHOOSE(RANDBETWEEN(1,2),RANDBETWEEN(1,99),RANDBETWEEN(1,999)/10),CHOOSE(RANDBETWEEN(1,4),RANDBETWEEN(1,99999)/1000,RANDBETWEEN(1,9999)/100,RANDBETWEEN(1,999)/10,RANDBETWEEN(1,99))))","v":91},"cm","=",{"$f":"10*C671","v":910},"mm"]
[{"$f":"IF(COUNTIF($B$1:B672,TRUE)=COUNTIF($B$1:B671,TRUE),\"\",COUNTIF($B$1:B672,TRUE))","v":404},{"$f":"IF(Worksheet!$D$10=3,FALSE,Worksheet!$B$15)","v":true},{"$f":"IF(Worksheet!$D$6=1,RANDBETWEEN(1,99),IF(Worksheet!$D$6=2,CHOOSE(RANDBETWEEN(1,2),RANDBETWEEN(1,99),RANDBETWEEN(1,999)/10),CHOOSE(RANDBETWEEN(1,4),RANDBETWEEN(1,99999)/1000,RANDBETWEEN(1,9999)/100,RANDBETWEEN(1,999)/10,RANDBETWEEN(1,99))))","v":41},"m","=",{"$f":"100*C672","v":4100},"cm"]
[{"$f":"IF(COUNTIF($B$1:B673,TRUE)=COUNTIF($B$1:B672,TRUE),\"\",COUNTIF($B$1:B673,TRUE))","v":405},{"$f":"IF(Worksheet!$D$10=3,FALSE,Worksheet!$B$16)","v":true},{"$f":"IF(Worksheet!$D$6=1,RANDBETWEEN(1,99),IF(Worksheet!$D$6=2,CHOOSE(RANDBETWEEN(1,2),RANDBETWEEN(1,99),RANDBETWEEN(1,999)/10),CHOOSE(RANDBETWEEN(1,4),RANDBETWEEN(1,99999)/1000,RANDBETWEEN(1,9999)/100,RANDBETWEEN(1,999)/10,RANDBETWEEN(1,99))))","v":64},"km","=",{"$f":"1000*C673","v":64000},"m"]
[{"$f":"IF(COUNTIF($B$1:B674,TRUE)=COUNTIF($B$1:B673,TRUE),\"\",COUNTIF($B$1:B674,TRUE))","v":""},{"$f":"IF(Worksheet!$D$10=3,FALSE,Worksheet!$B$17)","v":false},{"$f":"IF(Worksheet!$D$6=1,RANDBETWEEN(1,99),IF(Worksheet!$D$6=2,CHOOSE(RANDBETWEEN(1,2),RANDBETWEEN(1,99),RANDBETWEEN(1,999)/10),CHOOSE(RANDBETWEEN(1,4),RANDBETWEEN(1,99999)/1000,RANDBETWEEN(1,9999)/100,RANDBETWEEN(1,999)/10,RANDBETWEEN(1,99))))","v":45},"m",{"$f":"#REF!","v":{"$error":"#REF!"}},{"$f":"1000*C674","v":45000},"mm"]
[{"$f":"IF(COUNTIF($B$1:B675,TRUE)=COUNTIF($B$1:B674,TRUE),\"\",COUNTIF($B$1:B675,TRUE))","v":""},{"$f":"IF(Worksheet!$D$10=3,FALSE,Worksheet!$B$18)","v":false},{"$f":"IF(Worksheet!$D$6=1,RANDBETWEEN(1,99),IF(Worksheet!$D$6=2,CHOOSE(RANDBETWEEN(1,2),RANDBETWEEN(1,99),RANDBETWEEN(1,999)/10),CHOOSE(RANDBETWEEN(1,4),RANDBETWEEN(1,99999)/1000,RANDBETWEEN(1,9999)/100,RANDBETWEEN(1,999)/10,RANDBETWEEN(1,99))))","v":90},"cm²","=",{"$f":"C675*100","v":9000},"mm²"]
[{"$f":"IF(COUNTIF($B$1:B676,TRUE)=COUNTIF($B$1:B675,TRUE),\"\",COUNTIF($B$1:B676,TRUE))","v":406},{"$f":"IF(Worksheet!$D$10=3,FALSE,Worksheet!$D$14)","v":true},{"$f":"IF(Worksheet!$D$6=1,RANDBETWEEN(1,99),IF(Worksheet!$D$6=2,CHOOSE(RANDBETWEEN(1,2),RANDBETWEEN(1,99),RANDBETWEEN(1,999)/10),CHOOSE(RANDBETWEEN(1,4),RANDBETWEEN(1,99999)/1000,RANDBETWEEN(1,9999)/100,RANDBETWEEN(1,999)/10,RANDBETWEEN(1,99))))","v":36},"kg","=",{"$f":"1000*C676","v":36000},"g"]
[{"$f":"IF(COUNTIF($B$1:B677,TRUE)=COUNTIF($B$1:B676,TRUE),\"\",COUNTIF($B$1:B677,TRUE))","v":407},{"$f":"IF(Worksheet!$D$10=3,FALSE,Worksheet!$D$15)","v":true},{"$f":"IF(Worksheet!$D$6=1,RANDBETWEEN(1,99),IF(Worksheet!$D$6=2,CHOOSE(RANDBETWEEN(1,2),RANDBETWEEN(1,99),RANDBETWEEN(1,999)/10),CHOOSE(RANDBETWEEN(1,4),RANDBETWEEN(1,99999)/1000,RANDBETWEEN(1,9999)/100,RANDBETWEEN(1,999)/10,RANDBETWEEN(1,99))))","v":9},"tonnes","=",{"$f":"1000*C677","v":9000},"kg"]
[{"$f":"IF(COUNTIF($B$1:B678,TRUE)=COUNTIF($B$1:B677,TRUE),\"\",COUNTIF($B$1:B678,TRUE))","v":408},{"$f":"IF(Worksheet!$D$10=3,FALSE,Worksheet!$D$16)","v":true},{"$f":"IF(Worksheet!$D$6=1,RANDBETWEEN(1,99),IF(Worksheet!$D$6=2,CHOOSE(RANDBETWEEN(1,2),RANDBETWEEN(1,99),RANDBETWEEN(1,999)/10),CHOOSE(RANDBETWEEN(1,4),RANDBETWEEN(1,99999)/1000,RANDBETWEEN(1,9999)/100,RANDBETWEEN(1,999)/10,RANDBETWEEN(1,99))))","v":2},"litres","=",{"$f":"1000*C678","v":2000},"ml"]
[{"$f":"IF(COUNTIF($B$1:B679,TRUE)=COUNTIF($B$1:B678,TRUE),\"\",COUNTIF($B$1:B679,TRUE))","v":""},{"$f":"IF(Worksheet!$D$10=3,FALSE,Worksheet!$D$17)","v":false},{"$f":"IF(Worksheet!$D$6=1,RANDBETWEEN(1,99),IF(Worksheet!$D$6=2,CHOOSE(RANDBETWEEN(1,2),RANDBETWEEN(1,99),RANDBETWEEN(1,999)/10),CHOOSE(RANDBETWEEN(1,4),RANDBETWEEN(1,99999)/1000,RANDBETWEEN(1,9999)/100,RANDBETWEEN(1,999)/10,RANDBETWEEN(1,99))))","v":52},"litres","=",{"$f":"1000*C679","v":52000},"cm³"]
[{"$f":"IF(COUNTIF($B$1:B680,TRUE)=COUNTIF($B$1:B679,TRUE),\"\",COUNTIF($B$1:B680,TRUE))","v":""},{"$f":"IF(Worksheet!$D$10=3,FALSE,Worksheet!$D$18)","v":false},{"$f":"IF(Worksheet!$D$6=1,RANDBETWEEN(1,99),IF(Worksheet!$D$6=2,CHOOSE(RANDBETWEEN(1,2),RANDBETWEEN(1,99),RANDBETWEEN(1,999)/10),CHOOSE(RANDBETWEEN(1,4),RANDBETWEEN(1,99999)/1000,RANDBETWEEN(1,9999)/100,RANDBETWEEN(1,999)/10,RANDBETWEEN(1,99))))","v":7},"m²","=",{"$f":"10000*C680","v":70000},"cm²"]
[{"$f":"IF(COUNTIF($B$1:B681,TRUE)=COUNTIF($B$1:B680,TRUE),\"\",COUNTIF($B$1:B681,TRUE))","v":409},{"$f":"IF(Worksheet!$D$10=2,FALSE,Worksheet!$B$14)","v":true},{"$f":"10*F681","v":800},"mm","=",{"$f":"IF(Worksheet!$D$6=1,RANDBETWEEN(1,99),IF(Worksheet!$D$6=2,CHOOSE(RANDBETWEEN(1,2),RANDBETWEEN(1,99),RANDBETWEEN(1,999)/10),CHOOSE(RANDBETWEEN(1,4),RANDBETWEEN(1,99999)/1000,RANDBETWEEN(1,9999)/100,RANDBETWEEN(1,999)/10,RANDBETWEEN(1,99))))","v":80},"cm"]
[{"$f":"IF(COUNTIF($B$1:B682,TRUE)=COUNTIF($B$1:B681,TRUE),\"\",COUNTIF($B$1:B682,TRUE))","v":410},{"$f":"IF(Worksheet!$D$10=2,FALSE,Worksheet!$B$15)","v":true},{"$f":"100*F682","v":2800},"cm","=",{"$f":"IF(Worksheet!$D$6=1,RANDBETWEEN(1,99),IF(Worksheet!$D$6=2,CHOOSE(RANDBETWEEN(1,2),RANDBETWEEN(1,99),RANDBETWEEN(1,999)/10),CHOOSE(RANDBETWEEN(1,4),RANDBETWEEN(1,99999)/1000,RANDBETWEEN(1,9999)/100,RANDBETWEEN(1,999)/10,RANDBETWEEN(1,99))))","v":28},"m"]
[{"$f":"IF(COUNTIF($B$1:B683,TRUE)=COUNTIF($B$1:B682,TRUE),\"\",COUNTIF($B$1:B683,TRUE))","v":411},{"$f":"IF(Worksheet!$D$10=2,FALSE,Worksheet!$B$16)","v":true},{"$f":"1000*F683","v":54000},"m","=",{"$f":"IF(Worksheet!$D$6=1,RANDBETWEEN(1,99),IF(Worksheet!$D$6=2,CHOOSE(RANDBETWEEN(1,2),RANDBETWEEN(1,99),RANDBETWEEN(1,999)/10),CHOOSE(RANDBETWEEN(1,4),RANDBETWEEN(1,99999)/1000,RANDBETWEEN(1,9999)/100,RANDBETWEEN(1,999)/10,RANDBETWEEN(1,99))))","v":54},"km"]
[{"$f":"IF(COUNTIF($B$1:B684,TRUE)=COUNTIF($B$1:B683,TRUE),\"\",COUNTIF($B$1:B684,TRUE))","v":""},{"$f":"IF(Worksheet!$D$10=2,FALSE,Worksheet!$B$17)","v":false},{"$f":"1000*F684","v":42000},"mm","=",{"$f":"IF(Worksheet!$D$6=1,RANDBETWEEN(1,99),IF(Worksheet!$D$6=2,CHOOSE(RANDBETWEEN(1,2),RANDBETWEEN(1,99),RANDBETWEEN(1,999)/10),CHOOSE(RANDBETWEEN(1,4),RANDBETWEEN(1,99999)/1000,RANDBETWEEN(1,9999)/100,RANDBETWEEN(1,999)/10,RANDBETWEEN(1,99))))","v":42},"m"]
[{"$f":"IF(COUNTIF($B$1:B685,TRUE)=COUNTIF($B$1:B684,TRUE),\"\",COUNTIF($B$1:B685,TRUE))","v":""},{"$f":"IF(Worksheet!$D$10=2,FALSE,Worksheet!$B$18)","v":false},{"$f":"100*F685","v":2900},"mm²","=",{"$f":"IF(Worksheet!$D$6=1,RANDBETWEEN(1,99),IF(Worksheet!$D$6=2,CHOOSE(RANDBETWEEN(1,2),RANDBETWEEN(1,99),RANDBETWEEN(1,999)/10),CHOOSE(RANDBETWEEN(1,4),RANDBETWEEN(1,99999)/1000,RANDBETWEEN(1,9999)/100,RANDBETWEEN(1,999)/10,RANDBETWEEN(1,99))))","v":29},"cm²"]
[{"$f":"IF(COUNTIF($B$1:B686,TRUE)=COUNTIF($B$1:B685,TRUE),\"\",COUNTIF($B$1:B686,TRUE))","v":412},{"$f":"IF(Worksheet!$D$10=2,FALSE,Worksheet!$D$14)","v":true},{"$f":"F686*1000","v":65000},"g","=",{"$f":"IF(Worksheet!$D$6=1,RANDBETWEEN(1,99),IF(Worksheet!$D$6=2,CHOOSE(RANDBETWEEN(1,2),RANDBETWEEN(1,99),RANDBETWEEN(1,999)/10),CHOOSE(RANDBETWEEN(1,4),RANDBETWEEN(1,99999)/1000,RANDBETWEEN(1,9999)/100,RANDBETWEEN(1,999)/10,RANDBETWEEN(1,99))))","v":65},"kg"]
[{"$f":"IF(COUNTIF($B$1:B687,TRUE)=COUNTIF($B$1:B686,TRUE),\"\",COUNTIF($B$1:B687,TRUE))","v":413},{"$f":"IF(Worksheet!$D$10=2,FALSE,Worksheet!$D$15)","v":true},{"$f":"F687*1000","v":8000},"kg","=",{"$f":"IF(Worksheet!$D$6=1,RANDBETWEEN(1,99),IF(Worksheet!$D$6=2,CHOOSE(RANDBETWEEN(1,2),RANDBETWEEN(1,99),RANDBETWEEN(1,999)/10),CHOOSE(RANDBETWEEN(1,4),RANDBETWEEN(1,99999)/1000,RANDBETWEEN(1,9999)/100,RANDBETWEEN(1,999)/10,RANDBETWEEN(1,99))))","v":8},"tonnes"]
[{"$f":"IF(COUNTIF($B$1:B688,TRUE)=COUNTIF($B$1:B687,TRUE),\"\",COUNTIF($B$1:B688,TRUE))","v":414},{"$f":"IF(Worksheet!$D$10=2,FALSE,Worksheet!$D$16)","v":true},{"$f":"1000*F688","v":96000},"ml","=",{"$f":"IF(Worksheet!$D$6=1,RANDBETWEEN(1,99),IF(Worksheet!$D$6=2,CHOOSE(RANDBETWEEN(1,2),RANDBETWEEN(1,99),RANDBETWEEN(1,999)/10),CHOOSE(RANDBETWEEN(1,4),RANDBETWEEN(1,99999)/1000,RANDBETWEEN(1,9999)/100,RANDBETWEEN(1,999)/10,RANDBETWEEN(1,99))))","v":96},"litres"]
[{"$f":"IF(COUNTIF($B$1:B689,TRUE)=COUNTIF($B$1:B688,TRUE),\"\",COUNTIF($B$1:B689,TRUE))","v":""},{"$f":"IF(Worksheet!$D$10=2,FALSE,Worksheet!$D$17)","v":false},{"$f":"1000*F689","v":52000},"cm³","=",{"$f":"IF(Worksheet!$D$6=1,RANDBETWEEN(1,99),IF(Worksheet!$D$6=2,CHOOSE(RANDBETWEEN(1,2),RANDBETWEEN(1,99),RANDBETWEEN(1,999)/10),CHOOSE(RANDBETWEEN(1,4),RANDBETWEEN(1,99999)/1000,RANDBETWEEN(1,9999)/100,RANDBETWEEN(1,999)/10,RANDBETWEEN(1,99))))","v":52},"litres"]
[{"$f":"IF(COUNTIF($B$1:B690,TRUE)=COUNTIF($B$1:B689,TRUE),\"\",COUNTIF($B$1:B690,TRUE))","v":""},{"$f":"IF(Worksheet!$D$10=2,FALSE,Worksheet!$D$18)","v":false},{"$f":"10000*F690","v":410000},"cm²","=",{"$f":"IF(Worksheet!$D$6=1,RANDBETWEEN(1,99),IF(Worksheet!$D$6=2,CHOOSE(RANDBETWEEN(1,2),RANDBETWEEN(1,99),RANDBETWEEN(1,999)/10),CHOOSE(RANDBETWEEN(1,4),RANDBETWEEN(1,99999)/1000,RANDBETWEEN(1,9999)/100,RANDBETWEEN(1,999)/10,RANDBETWEEN(1,99))))","v":41},"m²"]
[{"$f":"IF(COUNTIF($B$1:B691,TRUE)=COUNTIF($B$1:B690,TRUE),\"\",COUNTIF($B$1:B691,TRUE))","v":415},{"$f":"IF(Worksheet!$D$10=3,FALSE,Worksheet!$B$14)","v":true},{"$f":"IF(Worksheet!$D$6=1,RANDBETWEEN(1,99),IF(Worksheet!$D$6=2,CHOOSE(RANDBETWEEN(1,2),RANDBETWEEN(1,99),RANDBETWEEN(1,999)/10),CHOOSE(RANDBETWEEN(1,4),RANDBETWEEN(1,99999)/1000,RANDBETWEEN(1,9999)/100,RANDBETWEEN(1,999)/10,RANDBETWEEN(1,99))))","v":38},"cm","=",{"$f":"10*C691","v":380},"mm"]
[{"$f":"IF(COUNTIF($B$1:B692,TRUE)=COUNTIF($B$1:B691,TRUE),\"\",COUNTIF($B$1:B692,TRUE))","v":416},{"$f":"IF(Worksheet!$D$10=3,FALSE,Worksheet!$B$15)","v":true},{"$f":"IF(Worksheet!$D$6=1,RANDBETWEEN(1,99),IF(Worksheet!$D$6=2,CHOOSE(RANDBETWEEN(1,2),RANDBETWEEN(1,99),RANDBETWEEN(1,999)/10),CHOOSE(RANDBETWEEN(1,4),RANDBETWEEN(1,99999)/1000,RANDBETWEEN(1,9999)/100,RANDBETWEEN(1,999)/10,RANDBETWEEN(1,99))))","v":99},"m","=",{"$f":"100*C692","v":9900},"cm"]
[{"$f":"IF(COUNTIF($B$1:B693,TRUE)=COUNTIF($B$1:B692,TRUE),\"\",COUNTIF($B$1:B693,TRUE))","v":417},{"$f":"IF(Worksheet!$D$10=3,FALSE,Worksheet!$B$16)","v":true},{"$f":"IF(Worksheet!$D$6=1,RANDBETWEEN(1,99),IF(Worksheet!$D$6=2,CHOOSE(RANDBETWEEN(1,2),RANDBETWEEN(1,99),RANDBETWEEN(1,999)/10),CHOOSE(RANDBETWEEN(1,4),RANDBETWEEN(1,99999)/1000,RANDBETWEEN(1,9999)/100,RANDBETWEEN(1,999)/10,RANDBETWEEN(1,99))))","v":83},"km","=",{"$f":"1000*C693","v":83000},"m"]
[{"$f":"IF(COUNTIF($B$1:B694,TRUE)=COUNTIF($B$1:B693,TRUE),\"\",COUNTIF($B$1:B694,TRUE))","v":""},{"$f":"IF(Worksheet!$D$10=3,FALSE,Worksheet!$B$17)","v":false},{"$f":"IF(Worksheet!$D$6=1,RANDBETWEEN(1,99),IF(Worksheet!$D$6=2,CHOOSE(RANDBETWEEN(1,2),RANDBETWEEN(1,99),RANDBETWEEN(1,999)/10),CHOOSE(RANDBETWEEN(1,4),RANDBETWEEN(1,99999)/1000,RANDBETWEEN(1,9999)/100,RANDBETWEEN(1,999)/10,RANDBETWEEN(1,99))))","v":41},"m",{"$f":"#REF!","v":{"$error":"#REF!"}},{"$f":"1000*C694","v":41000},"mm"]
[{"$f":"IF(COUNTIF($B$1:B695,TRUE)=COUNTIF($B$1:B694,TRUE),\"\",COUNTIF($B$1:B695,TRUE))","v":""},{"$f":"IF(Worksheet!$D$10=3,FALSE,Worksheet!$B$18)","v":false},{"$f":"IF(Worksheet!$D$6=1,RANDBETWEEN(1,99),IF(Worksheet!$D$6=2,CHOOSE(RANDBETWEEN(1,2),RANDBETWEEN(1,99),RANDBETWEEN(1,999)/10),CHOOSE(RANDBETWEEN(1,4),RANDBETWEEN(1,99999)/1000,RANDBETWEEN(1,9999)/100,RANDBETWEEN(1,999)/10,RANDBETWEEN(1,99))))","v":21},"cm²","=",{"$f":"C695*100","v":2100},"mm²"]
[{"$f":"IF(COUNTIF($B$1:B696,TRUE)=COUNTIF($B$1:B695,TRUE),\"\",COUNTIF($B$1:B696,TRUE))","v":418},{"$f":"IF(Worksheet!$D$10=3,FALSE,Worksheet!$D$14)","v":true},{"$f":"IF(Worksheet!$D$6=1,RANDBETWEEN(1,99),IF(Worksheet!$D$6=2,CHOOSE(RANDBETWEEN(1,2),RANDBETWEEN(1,99),RANDBETWEEN(1,999)/10),CHOOSE(RANDBETWEEN(1,4),RANDBETWEEN(1,99999)/1000,RANDBETWEEN(1,9999)/100,RANDBETWEEN(1,999)/10,RANDBETWEEN(1,99))))","v":45},"kg","=",{"$f":"1000*C696","v":45000},"g"]
[{"$f":"IF(COUNTIF($B$1:B697,TRUE)=COUNTIF($B$1:B696,TRUE),\"\",COUNTIF($B$1:B697,TRUE))","v":419},{"$f":"IF(Worksheet!$D$10=3,FALSE,Worksheet!$D$15)","v":true},{"$f":"IF(Worksheet!$D$6=1,RANDBETWEEN(1,99),IF(Worksheet!$D$6=2,CHOOSE(RANDBETWEEN(1,2),RANDBETWEEN(1,99),RANDBETWEEN(1,999)/10),CHOOSE(RANDBETWEEN(1,4),RANDBETWEEN(1,99999)/1000,RANDBETWEEN(1,9999)/100,RANDBETWEEN(1,999)/10,RANDBETWEEN(1,99))))","v":14},"tonnes","=",{"$f":"1000*C697","v":14000},"kg"]
[{"$f":"IF(COUNTIF($B$1:B698,TRUE)=COUNTIF($B$1:B697,TRUE),\"\",COUNTIF($B$1:B698,TRUE))","v":420},{"$f":"IF(Worksheet!$D$10=3,FALSE,Worksheet!$D$16)","v":true},{"$f":"IF(Worksheet!$D$6=1,RANDBETWEEN(1,99),IF(Worksheet!$D$6=2,CHOOSE(RANDBETWEEN(1,2),RANDBETWEEN(1,99),RANDBETWEEN(1,999)/10),CHOOSE(RANDBETWEEN(1,4),RANDBETWEEN(1,99999)/1000,RANDBETWEEN(1,9999)/100,RANDBETWEEN(1,999)/10,RANDBETWEEN(1,99))))","v":62},"litres","=",{"$f":"1000*C698","v":62000},"ml"]
[{"$f":"IF(COUNTIF($B$1:B699,TRUE)=COUNTIF($B$1:B698,TRUE),\"\",COUNTIF($B$1:B699,TRUE))","v":""},{"$f":"IF(Worksheet!$D$10=3,FALSE,Worksheet!$D$17)","v":false},{"$f":"IF(Worksheet!$D$6=1,RANDBETWEEN(1,99),IF(Worksheet!$D$6=2,CHOOSE(RANDBETWEEN(1,2),RANDBETWEEN(1,99),RANDBETWEEN(1,999)/10),CHOOSE(RANDBETWEEN(1,4),RANDBETWEEN(1,99999)/1000,RANDBETWEEN(1,9999)/100,RANDBETWEEN(1,999)/10,RANDBETWEEN(1,99))))","v":84},"litres","=",{"$f":"1000*C699","v":84000},"cm³"]
[{"$f":"IF(COUNTIF($B$1:B700,TRUE)=COUNTIF($B$1:B699,TRUE),\"\",COUNTIF($B$1:B700,TRUE))","v":""},{"$f":"IF(Worksheet!$D$10=3,FALSE,Worksheet!$D$18)","v":false},{"$f":"IF(Worksheet!$D$6=1,RANDBETWEEN(1,99),IF(Worksheet!$D$6=2,CHOOSE(RANDBETWEEN(1,2),RANDBETWEEN(1,99),RANDBETWEEN(1,999)/10),CHOOSE(RANDBETWEEN(1,4),RANDBETWEEN(1,99999)/1000,RANDBETWEEN(1,9999)/100,RANDBETWEEN(1,999)/10,RANDBETWEEN(1,99))))","v":13},"m²","=",{"$f":"10000*C700","v":130000},"cm²"]
[{"$f":"IF(COUNTIF($B$1:B701,TRUE)=COUNTIF($B$1:B700,TRUE),\"\",COUNTIF($B$1:B701,TRUE))","v":421},{"$f":"IF(Worksheet!$D$10=2,FALSE,Worksheet!$B$14)","v":true},{"$f":"10*F701","v":190},"mm","=",{"$f":"IF(Worksheet!$D$6=1,RANDBETWEEN(1,99),IF(Worksheet!$D$6=2,CHOOSE(RANDBETWEEN(1,2),RANDBETWEEN(1,99),RANDBETWEEN(1,999)/10),CHOOSE(RANDBETWEEN(1,4),RANDBETWEEN(1,99999)/1000,RANDBETWEEN(1,9999)/100,RANDBETWEEN(1,999)/10,RANDBETWEEN(1,99))))","v":19},"cm"]
[{"$f":"IF(COUNTIF($B$1:B702,TRUE)=COUNTIF($B$1:B701,TRUE),\"\",COUNTIF($B$1:B702,TRUE))","v":422},{"$f":"IF(Worksheet!$D$10=2,FALSE,Worksheet!$B$15)","v":true},{"$f":"100*F702","v":600},"cm","=",{"$f":"IF(Worksheet!$D$6=1,RANDBETWEEN(1,99),IF(Worksheet!$D$6=2,CHOOSE(RANDBETWEEN(1,2),RANDBETWEEN(1,99),RANDBETWEEN(1,999)/10),CHOOSE(RANDBETWEEN(1,4),RANDBETWEEN(1,99999)/1000,RANDBETWEEN(1,9999)/100,RANDBETWEEN(1,999)/10,RANDBETWEEN(1,99))))","v":6},"m"]
[{"$f":"IF(COUNTIF($B$1:B703,TRUE)=COUNTIF($B$1:B702,TRUE),\"\",COUNTIF($B$1:B703,TRUE))","v":423},{"$f":"IF(Worksheet!$D$10=2,FALSE,Worksheet!$B$16)","v":true},{"$f":"1000*F703","v":42000},"m","=",{"$f":"IF(Worksheet!$D$6=1,RANDBETWEEN(1,99),IF(Worksheet!$D$6=2,CHOOSE(RANDBETWEEN(1,2),RANDBETWEEN(1,99),RANDBETWEEN(1,999)/10),CHOOSE(RANDBETWEEN(1,4),RANDBETWEEN(1,99999)/1000,RANDBETWEEN(1,9999)/100,RANDBETWEEN(1,999)/10,RANDBETWEEN(1,99))))","v":42},"km"]
[{"$f":"IF(COUNTIF($B$1:B704,TRUE)=COUNTIF($B$1:B703,TRUE),\"\",COUNTIF($B$1:B704,TRUE))","v":""},{"$f":"IF(Worksheet!$D$10=2,FALSE,Worksheet!$B$17)","v":false},{"$f":"1000*F704","v":76000},"mm","=",{"$f":"IF(Worksheet!$D$6=1,RANDBETWEEN(1,99),IF(Worksheet!$D$6=2,CHOOSE(RANDBETWEEN(1,2),RANDBETWEEN(1,99),RANDBETWEEN(1,999)/10),CHOOSE(RANDBETWEEN(1,4),RANDBETWEEN(1,99999)/1000,RANDBETWEEN(1,9999)/100,RANDBETWEEN(1,999)/10,RANDBETWEEN(1,99))))","v":76},"m"]
[{"$f":"IF(COUNTIF($B$1:B705,TRUE)=COUNTIF($B$1:B704,TRUE),\"\",COUNTIF($B$1:B705,TRUE))","v":""},{"$f":"IF(Worksheet!$D$10=2,FALSE,Worksheet!$B$18)","v":false},{"$f":"100*F705","v":1700},"mm²","=",{"$f":"IF(Worksheet!$D$6=1,RANDBETWEEN(1,99),IF(Worksheet!$D$6=2,CHOOSE(RANDBETWEEN(1,2),RANDBETWEEN(1,99),RANDBETWEEN(1,999)/10),CHOOSE(RANDBETWEEN(1,4),RANDBETWEEN(1,99999)/1000,RANDBETWEEN(1,9999)/100,RANDBETWEEN(1,999)/10,RANDBETWEEN(1,99))))","v":17},"cm²"]
[{"$f":"IF(COUNTIF($B$1:B706,TRUE)=COUNTIF($B$1:B705,TRUE),\"\",COUNTIF($B$1:B706,TRUE))","v":424},{"$f":"IF(Worksheet!$D$10=2,FALSE,Worksheet!$D$14)","v":true},{"$f":"F706*1000","v":54000},"g","=",{"$f":"IF(Worksheet!$D$6=1,RANDBETWEEN(1,99),IF(Worksheet!$D$6=2,CHOOSE(RANDBETWEEN(1,2),RANDBETWEEN(1,99),RANDBETWEEN(1,999)/10),CHOOSE(RANDBETWEEN(1,4),RANDBETWEEN(1,99999)/1000,RANDBETWEEN(1,9999)/100,RANDBETWEEN(1,999)/10,RANDBETWEEN(1,99))))","v":54},"kg"]
[{"$f":"IF(COUNTIF($B$1:B707,TRUE)=COUNTIF($B$1:B706,TRUE),\"\",COUNTIF($B$1:B707,TRUE))","v":425},{"$f":"IF(Worksheet!$D$10=2,FALSE,Worksheet!$D$15)","v":true},{"$f":"F707*1000","v":65000},"kg","=",{"$f":"IF(Worksheet!$D$6=1,RANDBETWEEN(1,99),IF(Worksheet!$D$6=2,CHOOSE(RANDBETWEEN(1,2),RANDBETWEEN(1,99),RANDBETWEEN(1,999)/10),CHOOSE(RANDBETWEEN(1,4),RANDBETWEEN(1,99999)/1000,RANDBETWEEN(1,9999)/100,RANDBETWEEN(1,999)/10,RANDBETWEEN(1,99))))","v":65},"tonnes"]
[{"$f":"IF(COUNTIF($B$1:B708,TRUE)=COUNTIF($B$1:B707,TRUE),\"\",COUNTIF($B$1:B708,TRUE))","v":426},{"$f":"IF(Worksheet!$D$10=2,FALSE,Worksheet!$D$16)","v":true},{"$f":"1000*F708","v":45000},"ml","=",{"$f":"IF(Worksheet!$D$6=1,RANDBETWEEN(1,99),IF(Worksheet!$D$6=2,CHOOSE(RANDBETWEEN(1,2),RANDBETWEEN(1,99),RANDBETWEEN(1,999)/10),CHOOSE(RANDBETWEEN(1,4),RANDBETWEEN(1,99999)/1000,RANDBETWEEN(1,9999)/100,RANDBETWEEN(1,999)/10,RANDBETWEEN(1,99))))","v":45},"litres"]
[{"$f":"IF(COUNTIF($B$1:B709,TRUE)=COUNTIF($B$1:B708,TRUE),\"\",COUNTIF($B$1:B709,TRUE))","v":""},{"$f":"IF(Worksheet!$D$10=2,FALSE,Worksheet!$D$17)","v":false},{"$f":"1000*F709","v":90000},"cm³","=",{"$f":"IF(Worksheet!$D$6=1,RANDBETWEEN(1,99),IF(Worksheet!$D$6=2,CHOOSE(RANDBETWEEN(1,2),RANDBETWEEN(1,99),RANDBETWEEN(1,999)/10),CHOOSE(RANDBETWEEN(1,4),RANDBETWEEN(1,99999)/1000,RANDBETWEEN(1,9999)/100,RANDBETWEEN(1,999)/10,RANDBETWEEN(1,99))))","v":90},"litres"]
[{"$f":"IF(COUNTIF($B$1:B710,TRUE)=COUNTIF($B$1:B709,TRUE),\"\",COUNTIF($B$1:B710,TRUE))","v":""},{"$f":"IF(Worksheet!$D$10=2,FALSE,Worksheet!$D$18)","v":false},{"$f":"10000*F710","v":70000},"cm²","=",{"$f":"IF(Worksheet!$D$6=1,RANDBETWEEN(1,99),IF(Worksheet!$D$6=2,CHOOSE(RANDBETWEEN(1,2),RANDBETWEEN(1,99),RANDBETWEEN(1,999)/10),CHOOSE(RANDBETWEEN(1,4),RANDBETWEEN(1,99999)/1000,RANDBETWEEN(1,9999)/100,RANDBETWEEN(1,999)/10,RANDBETWEEN(1,99))))","v":7},"m²"]
[{"$f":"IF(COUNTIF($B$1:B711,TRUE)=COUNTIF($B$1:B710,TRUE),\"\",COUNTIF($B$1:B711,TRUE))","v":427},{"$f":"IF(Worksheet!$D$10=3,FALSE,Worksheet!$B$14)","v":true},{"$f":"IF(Worksheet!$D$6=1,RANDBETWEEN(1,99),IF(Worksheet!$D$6=2,CHOOSE(RANDBETWEEN(1,2),RANDBETWEEN(1,99),RANDBETWEEN(1,999)/10),CHOOSE(RANDBETWEEN(1,4),RANDBETWEEN(1,99999)/1000,RANDBETWEEN(1,9999)/100,RANDBETWEEN(1,999)/10,RANDBETWEEN(1,99))))","v":85},"cm","=",{"$f":"10*C711","v":850},"mm"]
[{"$f":"IF(COUNTIF($B$1:B712,TRUE)=COUNTIF($B$1:B711,TRUE),\"\",COUNTIF($B$1:B712,TRUE))","v":428},{"$f":"IF(Worksheet!$D$10=3,FALSE,Worksheet!$B$15)","v":true},{"$f":"IF(Worksheet!$D$6=1,RANDBETWEEN(1,99),IF(Worksheet!$D$6=2,CHOOSE(RANDBETWEEN(1,2),RANDBETWEEN(1,99),RANDBETWEEN(1,999)/10),CHOOSE(RANDBETWEEN(1,4),RANDBETWEEN(1,99999)/1000,RANDBETWEEN(1,9999)/100,RANDBETWEEN(1,999)/10,RANDBETWEEN(1,99))))","v":34},"m","=",{"$f":"100*C712","v":3400},"cm"]
[{"$f":"IF(COUNTIF($B$1:B713,TRUE)=COUNTIF($B$1:B712,TRUE),\"\",COUNTIF($B$1:B713,TRUE))","v":429},{"$f":"IF(Worksheet!$D$10=3,FALSE,Worksheet!$B$16)","v":true},{"$f":"IF(Worksheet!$D$6=1,RANDBETWEEN(1,99),IF(Worksheet!$D$6=2,CHOOSE(RANDBETWEEN(1,2),RANDBETWEEN(1,99),RANDBETWEEN(1,999)/10),CHOOSE(RANDBETWEEN(1,4),RANDBETWEEN(1,99999)/1000,RANDBETWEEN(1,9999)/100,RANDBETWEEN(1,999)/10,RANDBETWEEN(1,99))))","v":89},"km","=",{"$f":"1000*C713","v":89000},"m"]
[{"$f":"IF(COUNTIF($B$1:B714,TRUE)=COUNTIF($B$1:B713,TRUE),\"\",COUNTIF($B$1:B714,TRUE))","v":""},{"$f":"IF(Worksheet!$D$10=3,FALSE,Worksheet!$B$17)","v":false},{"$f":"IF(Worksheet!$D$6=1,RANDBETWEEN(1,99),IF(Worksheet!$D$6=2,CHOOSE(RANDBETWEEN(1,2),RANDBETWEEN(1,99),RANDBETWEEN(1,999)/10),CHOOSE(RANDBETWEEN(1,4),RANDBETWEEN(1,99999)/1000,RANDBETWEEN(1,9999)/100,RANDBETWEEN(1,999)/10,RANDBETWEEN(1,99))))","v":22},"m",{"$f":"#REF!","v":{"$error":"#REF!"}},{"$f":"1000*C714","v":22000},"mm"]
[{"$f":"IF(COUNTIF($B$1:B715,TRUE)=COUNTIF($B$1:B714,TRUE),\"\",COUNTIF($B$1:B715,TRUE))","v":""},{"$f":"IF(Worksheet!$D$10=3,FALSE,Worksheet!$B$18)","v":false},{"$f":"IF(Worksheet!$D$6=1,RANDBETWEEN(1,99),IF(Worksheet!$D$6=2,CHOOSE(RANDBETWEEN(1,2),RANDBETWEEN(1,99),RANDBETWEEN(1,999)/10),CHOOSE(RANDBETWEEN(1,4),RANDBETWEEN(1,99999)/1000,RANDBETWEEN(1,9999)/100,RANDBETWEEN(1,999)/10,RANDBETWEEN(1,99))))","v":39},"cm²","=",{"$f":"C715*100","v":3900},"mm²"]
[{"$f":"IF(COUNTIF($B$1:B716,TRUE)=COUNTIF($B$1:B715,TRUE),\"\",COUNTIF($B$1:B716,TRUE))","v":430},{"$f":"IF(Worksheet!$D$10=3,FALSE,Worksheet!$D$14)","v":true},{"$f":"IF(Worksheet!$D$6=1,RANDBETWEEN(1,99),IF(Worksheet!$D$6=2,CHOOSE(RANDBETWEEN(1,2),RANDBETWEEN(1,99),RANDBETWEEN(1,999)/10),CHOOSE(RANDBETWEEN(1,4),RANDBETWEEN(1,99999)/1000,RANDBETWEEN(1,9999)/100,RANDBETWEEN(1,999)/10,RANDBETWEEN(1,99))))","v":70},"kg","=",{"$f":"1000*C716","v":70000},"g"]
[{"$f":"IF(COUNTIF($B$1:B717,TRUE)=COUNTIF($B$1:B716,TRUE),\"\",COUNTIF($B$1:B717,TRUE))","v":431},{"$f":"IF(Worksheet!$D$10=3,FALSE,Worksheet!$D$15)","v":true},{"$f":"IF(Worksheet!$D$6=1,RANDBETWEEN(1,99),IF(Worksheet!$D$6=2,CHOOSE(RANDBETWEEN(1,2),RANDBETWEEN(1,99),RANDBETWEEN(1,999)/10),CHOOSE(RANDBETWEEN(1,4),RANDBETWEEN(1,99999)/1000,RANDBETWEEN(1,9999)/100,RANDBETWEEN(1,999)/10,RANDBETWEEN(1,99))))","v":91},"tonnes","=",{"$f":"1000*C717","v":91000},"kg"]
[{"$f":"IF(COUNTIF($B$1:B718,TRUE)=COUNTIF($B$1:B717,TRUE),\"\",COUNTIF($B$1:B718,TRUE))","v":432},{"$f":"IF(Worksheet!$D$10=3,FALSE,Worksheet!$D$16)","v":true},{"$f":"IF(Worksheet!$D$6=1,RANDBETWEEN(1,99),IF(Worksheet!$D$6=2,CHOOSE(RANDBETWEEN(1,2),RANDBETWEEN(1,99),RANDBETWEEN(1,999)/10),CHOOSE(RANDBETWEEN(1,4),RANDBETWEEN(1,99999)/1000,RANDBETWEEN(1,9999)/100,RANDBETWEEN(1,999)/10,RANDBETWEEN(1,99))))","v":74},"litres","=",{"$f":"1000*C718","v":74000},"ml"]
[{"$f":"IF(COUNTIF($B$1:B719,TRUE)=COUNTIF($B$1:B718,TRUE),\"\",COUNTIF($B$1:B719,TRUE))","v":""},{"$f":"IF(Worksheet!$D$10=3,FALSE,Worksheet!$D$17)","v":false},{"$f":"IF(Worksheet!$D$6=1,RANDBETWEEN(1,99),IF(Worksheet!$D$6=2,CHOOSE(RANDBETWEEN(1,2),RANDBETWEEN(1,99),RANDBETWEEN(1,999)/10),CHOOSE(RANDBETWEEN(1,4),RANDBETWEEN(1,99999)/1000,RANDBETWEEN(1,9999)/100,RANDBETWEEN(1,999)/10,RANDBETWEEN(1,99))))","v":68},"litres","=",{"$f":"1000*C719","v":68000},"cm³"]
[{"$f":"IF(COUNTIF($B$1:B720,TRUE)=COUNTIF($B$1:B719,TRUE),\"\",COUNTIF($B$1:B720,TRUE))","v":""},{"$f":"IF(Worksheet!$D$10=3,FALSE,Worksheet!$D$18)","v":false},{"$f":"IF(Worksheet!$D$6=1,RANDBETWEEN(1,99),IF(Worksheet!$D$6=2,CHOOSE(RANDBETWEEN(1,2),RANDBETWEEN(1,99),RANDBETWEEN(1,999)/10),CHOOSE(RANDBETWEEN(1,4),RANDBETWEEN(1,99999)/1000,RANDBETWEEN(1,9999)/100,RANDBETWEEN(1,999)/10,RANDBETWEEN(1,99))))","v":27},"m²","=",{"$f":"10000*C720","v":270000},"cm²"]
[{"$f":"IF(COUNTIF($B$1:B721,TRUE)=COUNTIF($B$1:B720,TRUE),\"\",COUNTIF($B$1:B721,TRUE))","v":433},{"$f":"IF(Worksheet!$D$10=2,FALSE,Worksheet!$B$14)","v":true},{"$f":"10*F721","v":30},"mm","=",{"$f":"IF(Worksheet!$D$6=1,RANDBETWEEN(1,99),IF(Worksheet!$D$6=2,CHOOSE(RANDBETWEEN(1,2),RANDBETWEEN(1,99),RANDBETWEEN(1,999)/10),CHOOSE(RANDBETWEEN(1,4),RANDBETWEEN(1,99999)/1000,RANDBETWEEN(1,9999)/100,RANDBETWEEN(1,999)/10,RANDBETWEEN(1,99))))","v":3},"cm"]
[{"$f":"IF(COUNTIF($B$1:B722,TRUE)=COUNTIF($B$1:B721,TRUE),\"\",COUNTIF($B$1:B722,TRUE))","v":434},{"$f":"IF(Worksheet!$D$10=2,FALSE,Worksheet!$B$15)","v":true},{"$f":"100*F722","v":5000},"cm","=",{"$f":"IF(Worksheet!$D$6=1,RANDBETWEEN(1,99),IF(Worksheet!$D$6=2,CHOOSE(RANDBETWEEN(1,2),RANDBETWEEN(1,99),RANDBETWEEN(1,999)/10),CHOOSE(RANDBETWEEN(1,4),RANDBETWEEN(1,99999)/1000,RANDBETWEEN(1,9999)/100,RANDBETWEEN(1,999)/10,RANDBETWEEN(1,99))))","v":50},"m"]
[{"$f":"IF(COUNTIF($B$1:B723,TRUE)=COUNTIF($B$1:B722,TRUE),\"\",COUNTIF($B$1:B723,TRUE))","v":435},{"$f":"IF(Worksheet!$D$10=2,FALSE,Worksheet!$B$16)","v":true},{"$f":"1000*F723","v":86000},"m","=",{"$f":"IF(Worksheet!$D$6=1,RANDBETWEEN(1,99),IF(Worksheet!$D$6=2,CHOOSE(RANDBETWEEN(1,2),RANDBETWEEN(1,99),RANDBETWEEN(1,999)/10),CHOOSE(RANDBETWEEN(1,4),RANDBETWEEN(1,99999)/1000,RANDBETWEEN(1,9999)/100,RANDBETWEEN(1,999)/10,RANDBETWEEN(1,99))))","v":86},"km"]
[{"$f":"IF(COUNTIF($B$1:B724,TRUE)=COUNTIF($B$1:B723,TRUE),\"\",COUNTIF($B$1:B724,TRUE))","v":""},{"$f":"IF(Worksheet!$D$10=2,FALSE,Worksheet!$B$17)","v":false},{"$f":"1000*F724","v":83000},"mm","=",{"$f":"IF(Worksheet!$D$6=1,RANDBETWEEN(1,99),IF(Worksheet!$D$6=2,CHOOSE(RANDBETWEEN(1,2),RANDBETWEEN(1,99),RANDBETWEEN(1,999)/10),CHOOSE(RANDBETWEEN(1,4),RANDBETWEEN(1,99999)/1000,RANDBETWEEN(1,9999)/100,RANDBETWEEN(1,999)/10,RANDBETWEEN(1,99))))","v":83},"m"]
[{"$f":"IF(COUNTIF($B$1:B725,TRUE)=COUNTIF($B$1:B724,TRUE),\"\",COUNTIF($B$1:B725,TRUE))","v":""},{"$f":"IF(Worksheet!$D$10=2,FALSE,Worksheet!$B$18)","v":false},{"$f":"100*F725","v":8200},"mm²","=",{"$f":"IF(Worksheet!$D$6=1,RANDBETWEEN(1,99),IF(Worksheet!$D$6=2,CHOOSE(RANDBETWEEN(1,2),RANDBETWEEN(1,99),RANDBETWEEN(1,999)/10),CHOOSE(RANDBETWEEN(1,4),RANDBETWEEN(1,99999)/1000,RANDBETWEEN(1,9999)/100,RANDBETWEEN(1,999)/10,RANDBETWEEN(1,99))))","v":82},"cm²"]
[{"$f":"IF(COUNTIF($B$1:B726,TRUE)=COUNTIF($B$1:B725,TRUE),\"\",COUNTIF($B$1:B726,TRUE))","v":436},{"$f":"IF(Worksheet!$D$10=2,FALSE,Worksheet!$D$14)","v":true},{"$f":"F726*1000","v":51000},"g","=",{"$f":"IF(Worksheet!$D$6=1,RANDBETWEEN(1,99),IF(Worksheet!$D$6=2,CHOOSE(RANDBETWEEN(1,2),RANDBETWEEN(1,99),RANDBETWEEN(1,999)/10),CHOOSE(RANDBETWEEN(1,4),RANDBETWEEN(1,99999)/1000,RANDBETWEEN(1,9999)/100,RANDBETWEEN(1,999)/10,RANDBETWEEN(1,99))))","v":51},"kg"]
[{"$f":"IF(COUNTIF($B$1:B727,TRUE)=COUNTIF($B$1:B726,TRUE),\"\",COUNTIF($B$1:B727,TRUE))","v":437},{"$f":"IF(Worksheet!$D$10=2,FALSE,Worksheet!$D$15)","v":true},{"$f":"F727*1000","v":11000},"kg","=",{"$f":"IF(Worksheet!$D$6=1,RANDBETWEEN(1,99),IF(Worksheet!$D$6=2,CHOOSE(RANDBETWEEN(1,2),RANDBETWEEN(1,99),RANDBETWEEN(1,999)/10),CHOOSE(RANDBETWEEN(1,4),RANDBETWEEN(1,99999)/1000,RANDBETWEEN(1,9999)/100,RANDBETWEEN(1,999)/10,RANDBETWEEN(1,99))))","v":11},"tonnes"]
[{"$f":"IF(COUNTIF($B$1:B728,TRUE)=COUNTIF($B$1:B727,TRUE),\"\",COUNTIF($B$1:B728,TRUE))","v":438},{"$f":"IF(Worksheet!$D$10=2,FALSE,Worksheet!$D$16)","v":true},{"$f":"1000*F728","v":37000},"ml","=",{"$f":"IF(Worksheet!$D$6=1,RANDBETWEEN(1,99),IF(Worksheet!$D$6=2,CHOOSE(RANDBETWEEN(1,2),RANDBETWEEN(1,99),RANDBETWEEN(1,999)/10),CHOOSE(RANDBETWEEN(1,4),RANDBETWEEN(1,99999)/1000,RANDBETWEEN(1,9999)/100,RANDBETWEEN(1,999)/10,RANDBETWEEN(1,99))))","v":37},"litres"]
[{"$f":"IF(COUNTIF($B$1:B729,TRUE)=COUNTIF($B$1:B728,TRUE),\"\",COUNTIF($B$1:B729,TRUE))","v":""},{"$f":"IF(Worksheet!$D$10=2,FALSE,Worksheet!$D$17)","v":false},{"$f":"1000*F729","v":1000},"cm³","=",{"$f":"IF(Worksheet!$D$6=1,RANDBETWEEN(1,99),IF(Worksheet!$D$6=2,CHOOSE(RANDBETWEEN(1,2),RANDBETWEEN(1,99),RANDBETWEEN(1,999)/10),CHOOSE(RANDBETWEEN(1,4),RANDBETWEEN(1,99999)/1000,RANDBETWEEN(1,9999)/100,RANDBETWEEN(1,999)/10,RANDBETWEEN(1,99))))","v":1},"litres"]
[{"$f":"IF(COUNTIF($B$1:B730,TRUE)=COUNTIF($B$1:B729,TRUE),\"\",COUNTIF($B$1:B730,TRUE))","v":""},{"$f":"IF(Worksheet!$D$10=2,FALSE,Worksheet!$D$18)","v":false},{"$f":"10000*F730","v":590000},"cm²","=",{"$f":"IF(Worksheet!$D$6=1,RANDBETWEEN(1,99),IF(Worksheet!$D$6=2,CHOOSE(RANDBETWEEN(1,2),RANDBETWEEN(1,99),RANDBETWEEN(1,999)/10),CHOOSE(RANDBETWEEN(1,4),RANDBETWEEN(1,99999)/1000,RANDBETWEEN(1,9999)/100,RANDBETWEEN(1,999)/10,RANDBETWEEN(1,99))))","v":59},"m²"]
[{"$f":"IF(COUNTIF($B$1:B731,TRUE)=COUNTIF($B$1:B730,TRUE),\"\",COUNTIF($B$1:B731,TRUE))","v":439},{"$f":"IF(Worksheet!$D$10=3,FALSE,Worksheet!$B$14)","v":true},{"$f":"IF(Worksheet!$D$6=1,RANDBETWEEN(1,99),IF(Worksheet!$D$6=2,CHOOSE(RANDBETWEEN(1,2),RANDBETWEEN(1,99),RANDBETWEEN(1,999)/10),CHOOSE(RANDBETWEEN(1,4),RANDBETWEEN(1,99999)/1000,RANDBETWEEN(1,9999)/100,RANDBETWEEN(1,999)/10,RANDBETWEEN(1,99))))","v":98},"cm","=",{"$f":"10*C731","v":980},"mm"]
[{"$f":"IF(COUNTIF($B$1:B732,TRUE)=COUNTIF($B$1:B731,TRUE),\"\",COUNTIF($B$1:B732,TRUE))","v":440},{"$f":"IF(Worksheet!$D$10=3,FALSE,Worksheet!$B$15)","v":true},{"$f":"IF(Worksheet!$D$6=1,RANDBETWEEN(1,99),IF(Worksheet!$D$6=2,CHOOSE(RANDBETWEEN(1,2),RANDBETWEEN(1,99),RANDBETWEEN(1,999)/10),CHOOSE(RANDBETWEEN(1,4),RANDBETWEEN(1,99999)/1000,RANDBETWEEN(1,9999)/100,RANDBETWEEN(1,999)/10,RANDBETWEEN(1,99))))","v":85},"m","=",{"$f":"100*C732","v":8500},"cm"]
[{"$f":"IF(COUNTIF($B$1:B733,TRUE)=COUNTIF($B$1:B732,TRUE),\"\",COUNTIF($B$1:B733,TRUE))","v":441},{"$f":"IF(Worksheet!$D$10=3,FALSE,Worksheet!$B$16)","v":true},{"$f":"IF(Worksheet!$D$6=1,RANDBETWEEN(1,99),IF(Worksheet!$D$6=2,CHOOSE(RANDBETWEEN(1,2),RANDBETWEEN(1,99),RANDBETWEEN(1,999)/10),CHOOSE(RANDBETWEEN(1,4),RANDBETWEEN(1,99999)/1000,RANDBETWEEN(1,9999)/100,RANDBETWEEN(1,999)/10,RANDBETWEEN(1,99))))","v":45},"km","=",{"$f":"1000*C733","v":45000},"m"]
[{"$f":"IF(COUNTIF($B$1:B734,TRUE)=COUNTIF($B$1:B733,TRUE),\"\",COUNTIF($B$1:B734,TRUE))","v":""},{"$f":"IF(Worksheet!$D$10=3,FALSE,Worksheet!$B$17)","v":false},{"$f":"IF(Worksheet!$D$6=1,RANDBETWEEN(1,99),IF(Worksheet!$D$6=2,CHOOSE(RANDBETWEEN(1,2),RANDBETWEEN(1,99),RANDBETWEEN(1,999)/10),CHOOSE(RANDBETWEEN(1,4),RANDBETWEEN(1,99999)/1000,RANDBETWEEN(1,9999)/100,RANDBETWEEN(1,999)/10,RANDBETWEEN(1,99))))","v":94},"m",{"$f":"#REF!","v":{"$error":"#REF!"}},{"$f":"1000*C734","v":94000},"mm"]
[{"$f":"IF(COUNTIF($B$1:B735,TRUE)=COUNTIF($B$1:B734,TRUE),\"\",COUNTIF($B$1:B735,TRUE))","v":""},{"$f":"IF(Worksheet!$D$10=3,FALSE,Worksheet!$B$18)","v":false},{"$f":"IF(Worksheet!$D$6=1,RANDBETWEEN(1,99),IF(Worksheet!$D$6=2,CHOOSE(RANDBETWEEN(1,2),RANDBETWEEN(1,99),RANDBETWEEN(1,999)/10),CHOOSE(RANDBETWEEN(1,4),RANDBETWEEN(1,99999)/1000,RANDBETWEEN(1,9999)/100,RANDBETWEEN(1,999)/10,RANDBETWEEN(1,99))))","v":67},"cm²","=",{"$f":"C735*100","v":6700},"mm²"]
[{"$f":"IF(COUNTIF($B$1:B736,TRUE)=COUNTIF($B$1:B735,TRUE),\"\",COUNTIF($B$1:B736,TRUE))","v":442},{"$f":"IF(Worksheet!$D$10=3,FALSE,Worksheet!$D$14)","v":true},{"$f":"IF(Worksheet!$D$6=1,RANDBETWEEN(1,99),IF(Worksheet!$D$6=2,CHOOSE(RANDBETWEEN(1,2),RANDBETWEEN(1,99),RANDBETWEEN(1,999)/10),CHOOSE(RANDBETWEEN(1,4),RANDBETWEEN(1,99999)/1000,RANDBETWEEN(1,9999)/100,RANDBETWEEN(1,999)/10,RANDBETWEEN(1,99))))","v":86},"kg","=",{"$f":"1000*C736","v":86000},"g"]
[{"$f":"IF(COUNTIF($B$1:B737,TRUE)=COUNTIF($B$1:B736,TRUE),\"\",COUNTIF($B$1:B737,TRUE))","v":443},{"$f":"IF(Worksheet!$D$10=3,FALSE,Worksheet!$D$15)","v":true},{"$f":"IF(Worksheet!$D$6=1,RANDBETWEEN(1,99),IF(Worksheet!$D$6=2,CHOOSE(RANDBETWEEN(1,2),RANDBETWEEN(1,99),RANDBETWEEN(1,999)/10),CHOOSE(RANDBETWEEN(1,4),RANDBETWEEN(1,99999)/1000,RANDBETWEEN(1,9999)/100,RANDBETWEEN(1,999)/10,RANDBETWEEN(1,99))))","v":40},"tonnes","=",{"$f":"1000*C737","v":40000},"kg"]
[{"$f":"IF(COUNTIF($B$1:B738,TRUE)=COUNTIF($B$1:B737,TRUE),\"\",COUNTIF($B$1:B738,TRUE))","v":444},{"$f":"IF(Worksheet!$D$10=3,FALSE,Worksheet!$D$16)","v":true},{"$f":"IF(Worksheet!$D$6=1,RANDBETWEEN(1,99),IF(Worksheet!$D$6=2,CHOOSE(RANDBETWEEN(1,2),RANDBETWEEN(1,99),RANDBETWEEN(1,999)/10),CHOOSE(RANDBETWEEN(1,4),RANDBETWEEN(1,99999)/1000,RANDBETWEEN(1,9999)/100,RANDBETWEEN(1,999)/10,RANDBETWEEN(1,99))))","v":34},"litres","=",{"$f":"1000*C738","v":34000},"ml"]
[{"$f":"IF(COUNTIF($B$1:B739,TRUE)=COUNTIF($B$1:B738,TRUE),\"\",COUNTIF($B$1:B739,TRUE))","v":""},{"$f":"IF(Worksheet!$D$10=3,FALSE,Worksheet!$D$17)","v":false},{"$f":"IF(Worksheet!$D$6=1,RANDBETWEEN(1,99),IF(Worksheet!$D$6=2,CHOOSE(RANDBETWEEN(1,2),RANDBETWEEN(1,99),RANDBETWEEN(1,999)/10),CHOOSE(RANDBETWEEN(1,4),RANDBETWEEN(1,99999)/1000,RANDBETWEEN(1,9999)/100,RANDBETWEEN(1,999)/10,RANDBETWEEN(1,99))))","v":96},"litres","=",{"$f":"1000*C739","v":96000},"cm³"]
[{"$f":"IF(COUNTIF($B$1:B740,TRUE)=COUNTIF($B$1:B739,TRUE),\"\",COUNTIF($B$1:B740,TRUE))","v":""},{"$f":"IF(Worksheet!$D$10=3,FALSE,Worksheet!$D$18)","v":false},{"$f":"IF(Worksheet!$D$6=1,RANDBETWEEN(1,99),IF(Worksheet!$D$6=2,CHOOSE(RANDBETWEEN(1,2),RANDBETWEEN(1,99),RANDBETWEEN(1,999)/10),CHOOSE(RANDBETWEEN(1,4),RANDBETWEEN(1,99999)/1000,RANDBETWEEN(1,9999)/100,RANDBETWEEN(1,999)/10,RANDBETWEEN(1,99))))","v":77},"m²","=",{"$f":"10000*C740","v":770000},"cm²"]
[{"$f":"IF(COUNTIF($B$1:B741,TRUE)=COUNTIF($B$1:B740,TRUE),\"\",COUNTIF($B$1:B741,TRUE))","v":445},{"$f":"IF(Worksheet!$D$10=2,FALSE,Worksheet!$B$14)","v":true},{"$f":"10*F741","v":530},"mm","=",{"$f":"IF(Worksheet!$D$6=1,RANDBETWEEN(1,99),IF(Worksheet!$D$6=2,CHOOSE(RANDBETWEEN(1,2),RANDBETWEEN(1,99),RANDBETWEEN(1,999)/10),CHOOSE(RANDBETWEEN(1,4),RANDBETWEEN(1,99999)/1000,RANDBETWEEN(1,9999)/100,RANDBETWEEN(1,999)/10,RANDBETWEEN(1,99))))","v":53},"cm"]
[{"$f":"IF(COUNTIF($B$1:B742,TRUE)=COUNTIF($B$1:B741,TRUE),\"\",COUNTIF($B$1:B742,TRUE))","v":446},{"$f":"IF(Worksheet!$D$10=2,FALSE,Worksheet!$B$15)","v":true},{"$f":"100*F742","v":3000},"cm","=",{"$f":"IF(Worksheet!$D$6=1,RANDBETWEEN(1,99),IF(Worksheet!$D$6=2,CHOOSE(RANDBETWEEN(1,2),RANDBETWEEN(1,99),RANDBETWEEN(1,999)/10),CHOOSE(RANDBETWEEN(1,4),RANDBETWEEN(1,99999)/1000,RANDBETWEEN(1,9999)/100,RANDBETWEEN(1,999)/10,RANDBETWEEN(1,99))))","v":30},"m"]
[{"$f":"IF(COUNTIF($B$1:B743,TRUE)=COUNTIF($B$1:B742,TRUE),\"\",COUNTIF($B$1:B743,TRUE))","v":447},{"$f":"IF(Worksheet!$D$10=2,FALSE,Worksheet!$B$16)","v":true},{"$f":"1000*F743","v":83000},"m","=",{"$f":"IF(Worksheet!$D$6=1,RANDBETWEEN(1,99),IF(Worksheet!$D$6=2,CHOOSE(RANDBETWEEN(1,2),RANDBETWEEN(1,99),RANDBETWEEN(1,999)/10),CHOOSE(RANDBETWEEN(1,4),RANDBETWEEN(1,99999)/1000,RANDBETWEEN(1,9999)/100,RANDBETWEEN(1,999)/10,RANDBETWEEN(1,99))))","v":83},"km"]
[{"$f":"IF(COUNTIF($B$1:B744,TRUE)=COUNTIF($B$1:B743,TRUE),\"\",COUNTIF($B$1:B744,TRUE))","v":""},{"$f":"IF(Worksheet!$D$10=2,FALSE,Worksheet!$B$17)","v":false},{"$f":"1000*F744","v":53000},"mm","=",{"$f":"IF(Worksheet!$D$6=1,RANDBETWEEN(1,99),IF(Worksheet!$D$6=2,CHOOSE(RANDBETWEEN(1,2),RANDBETWEEN(1,99),RANDBETWEEN(1,999)/10),CHOOSE(RANDBETWEEN(1,4),RANDBETWEEN(1,99999)/1000,RANDBETWEEN(1,9999)/100,RANDBETWEEN(1,999)/10,RANDBETWEEN(1,99))))","v":53},"m"]
[{"$f":"IF(COUNTIF($B$1:B745,TRUE)=COUNTIF($B$1:B744,TRUE),\"\",COUNTIF($B$1:B745,TRUE))","v":""},{"$f":"IF(Worksheet!$D$10=2,FALSE,Worksheet!$B$18)","v":false},{"$f":"100*F745","v":8100},"mm²","=",{"$f":"IF(Worksheet!$D$6=1,RANDBETWEEN(1,99),IF(Worksheet!$D$6=2,CHOOSE(RANDBETWEEN(1,2),RANDBETWEEN(1,99),RANDBETWEEN(1,999)/10),CHOOSE(RANDBETWEEN(1,4),RANDBETWEEN(1,99999)/1000,RANDBETWEEN(1,9999)/100,RANDBETWEEN(1,999)/10,RANDBETWEEN(1,99))))","v":81},"cm²"]
[{"$f":"IF(COUNTIF($B$1:B746,TRUE)=COUNTIF($B$1:B745,TRUE),\"\",COUNTIF($B$1:B746,TRUE))","v":448},{"$f":"IF(Worksheet!$D$10=2,FALSE,Worksheet!$D$14)","v":true},{"$f":"F746*1000","v":50000},"g","=",{"$f":"IF(Worksheet!$D$6=1,RANDBETWEEN(1,99),IF(Worksheet!$D$6=2,CHOOSE(RANDBETWEEN(1,2),RANDBETWEEN(1,99),RANDBETWEEN(1,999)/10),CHOOSE(RANDBETWEEN(1,4),RANDBETWEEN(1,99999)/1000,RANDBETWEEN(1,9999)/100,RANDBETWEEN(1,999)/10,RANDBETWEEN(1,99))))","v":50},"kg"]
[{"$f":"IF(COUNTIF($B$1:B747,TRUE)=COUNTIF($B$1:B746,TRUE),\"\",COUNTIF($B$1:B747,TRUE))","v":449},{"$f":"IF(Worksheet!$D$10=2,FALSE,Worksheet!$D$15)","v":true},{"$f":"F747*1000","v":52000},"kg","=",{"$f":"IF(Worksheet!$D$6=1,RANDBETWEEN(1,99),IF(Worksheet!$D$6=2,CHOOSE(RANDBETWEEN(1,2),RANDBETWEEN(1,99),RANDBETWEEN(1,999)/10),CHOOSE(RANDBETWEEN(1,4),RANDBETWEEN(1,99999)/1000,RANDBETWEEN(1,9999)/100,RANDBETWEEN(1,999)/10,RANDBETWEEN(1,99))))","v":52},"tonnes"]
[{"$f":"IF(COUNTIF($B$1:B748,TRUE)=COUNTIF($B$1:B747,TRUE),\"\",COUNTIF($B$1:B748,TRUE))","v":450},{"$f":"IF(Worksheet!$D$10=2,FALSE,Worksheet!$D$16)","v":true},{"$f":"1000*F748","v":9000},"ml","=",{"$f":"IF(Worksheet!$D$6=1,RANDBETWEEN(1,99),IF(Worksheet!$D$6=2,CHOOSE(RANDBETWEEN(1,2),RANDBETWEEN(1,99),RANDBETWEEN(1,999)/10),CHOOSE(RANDBETWEEN(1,4),RANDBETWEEN(1,99999)/1000,RANDBETWEEN(1,9999)/100,RANDBETWEEN(1,999)/10,RANDBETWEEN(1,99))))","v":9},"litres"]
[{"$f":"IF(COUNTIF($B$1:B749,TRUE)=COUNTIF($B$1:B748,TRUE),\"\",COUNTIF($B$1:B749,TRUE))","v":""},{"$f":"IF(Worksheet!$D$10=2,FALSE,Worksheet!$D$17)","v":false},{"$f":"1000*F749","v":24000},"cm³","=",{"$f":"IF(Worksheet!$D$6=1,RANDBETWEEN(1,99),IF(Worksheet!$D$6=2,CHOOSE(RANDBETWEEN(1,2),RANDBETWEEN(1,99),RANDBETWEEN(1,999)/10),CHOOSE(RANDBETWEEN(1,4),RANDBETWEEN(1,99999)/1000,RANDBETWEEN(1,9999)/100,RANDBETWEEN(1,999)/10,RANDBETWEEN(1,99))))","v":24},"litres"]
[{"$f":"IF(COUNTIF($B$1:B750,TRUE)=COUNTIF($B$1:B749,TRUE),\"\",COUNTIF($B$1:B750,TRUE))","v":""},{"$f":"IF(Worksheet!$D$10=2,FALSE,Worksheet!$D$18)","v":false},{"$f":"10000*F750","v":510000},"cm²","=",{"$f":"IF(Worksheet!$D$6=1,RANDBETWEEN(1,99),IF(Worksheet!$D$6=2,CHOOSE(RANDBETWEEN(1,2),RANDBETWEEN(1,99),RANDBETWEEN(1,999)/10),CHOOSE(RANDBETWEEN(1,4),RANDBETWEEN(1,99999)/1000,RANDBETWEEN(1,9999)/100,RANDBETWEEN(1,999)/10,RANDBETWEEN(1,99))))","v":51},"m²"]
[{"$f":"IF(COUNTIF($B$1:B751,TRUE)=COUNTIF($B$1:B750,TRUE),\"\",COUNTIF($B$1:B751,TRUE))","v":451},{"$f":"IF(Worksheet!$D$10=3,FALSE,Worksheet!$B$14)","v":true},{"$f":"IF(Worksheet!$D$6=1,RANDBETWEEN(1,99),IF(Worksheet!$D$6=2,CHOOSE(RANDBETWEEN(1,2),RANDBETWEEN(1,99),RANDBETWEEN(1,999)/10),CHOOSE(RANDBETWEEN(1,4),RANDBETWEEN(1,99999)/1000,RANDBETWEEN(1,9999)/100,RANDBETWEEN(1,999)/10,RANDBETWEEN(1,99))))","v":18},"cm","=",{"$f":"10*C751","v":180},"mm"]
[{"$f":"IF(COUNTIF($B$1:B752,TRUE)=COUNTIF($B$1:B751,TRUE),\"\",COUNTIF($B$1:B752,TRUE))","v":452},{"$f":"IF(Worksheet!$D$10=3,FALSE,Worksheet!$B$15)","v":true},{"$f":"IF(Worksheet!$D$6=1,RANDBETWEEN(1,99),IF(Worksheet!$D$6=2,CHOOSE(RANDBETWEEN(1,2),RANDBETWEEN(1,99),RANDBETWEEN(1,999)/10),CHOOSE(RANDBETWEEN(1,4),RANDBETWEEN(1,99999)/1000,RANDBETWEEN(1,9999)/100,RANDBETWEEN(1,999)/10,RANDBETWEEN(1,99))))","v":65},"m","=",{"$f":"100*C752","v":6500},"cm"]
[{"$f":"IF(COUNTIF($B$1:B753,TRUE)=COUNTIF($B$1:B752,TRUE),\"\",COUNTIF($B$1:B753,TRUE))","v":453},{"$f":"IF(Worksheet!$D$10=3,FALSE,Worksheet!$B$16)","v":true},{"$f":"IF(Worksheet!$D$6=1,RANDBETWEEN(1,99),IF(Worksheet!$D$6=2,CHOOSE(RANDBETWEEN(1,2),RANDBETWEEN(1,99),RANDBETWEEN(1,999)/10),CHOOSE(RANDBETWEEN(1,4),RANDBETWEEN(1,99999)/1000,RANDBETWEEN(1,9999)/100,RANDBETWEEN(1,999)/10,RANDBETWEEN(1,99))))","v":99},"km","=",{"$f":"1000*C753","v":99000},"m"]
[{"$f":"IF(COUNTIF($B$1:B754,TRUE)=COUNTIF($B$1:B753,TRUE),\"\",COUNTIF($B$1:B754,TRUE))","v":""},{"$f":"IF(Worksheet!$D$10=3,FALSE,Worksheet!$B$17)","v":false},{"$f":"IF(Worksheet!$D$6=1,RANDBETWEEN(1,99),IF(Worksheet!$D$6=2,CHOOSE(RANDBETWEEN(1,2),RANDBETWEEN(1,99),RANDBETWEEN(1,999)/10),CHOOSE(RANDBETWEEN(1,4),RANDBETWEEN(1,99999)/1000,RANDBETWEEN(1,9999)/100,RANDBETWEEN(1,999)/10,RANDBETWEEN(1,99))))","v":46},"m",{"$f":"#REF!","v":{"$error":"#REF!"}},{"$f":"1000*C754","v":46000},"mm"]
[{"$f":"IF(COUNTIF($B$1:B755,TRUE)=COUNTIF($B$1:B754,TRUE),\"\",COUNTIF($B$1:B755,TRUE))","v":""},{"$f":"IF(Worksheet!$D$10=3,FALSE,Worksheet!$B$18)","v":false},{"$f":"IF(Worksheet!$D$6=1,RANDBETWEEN(1,99),IF(Worksheet!$D$6=2,CHOOSE(RANDBETWEEN(1,2),RANDBETWEEN(1,99),RANDBETWEEN(1,999)/10),CHOOSE(RANDBETWEEN(1,4),RANDBETWEEN(1,99999)/1000,RANDBETWEEN(1,9999)/100,RANDBETWEEN(1,999)/10,RANDBETWEEN(1,99))))","v":85},"cm²","=",{"$f":"C755*100","v":8500},"mm²"]
[{"$f":"IF(COUNTIF($B$1:B756,TRUE)=COUNTIF($B$1:B755,TRUE),\"\",COUNTIF($B$1:B756,TRUE))","v":454},{"$f":"IF(Worksheet!$D$10=3,FALSE,Worksheet!$D$14)","v":true},{"$f":"IF(Worksheet!$D$6=1,RANDBETWEEN(1,99),IF(Worksheet!$D$6=2,CHOOSE(RANDBETWEEN(1,2),RANDBETWEEN(1,99),RANDBETWEEN(1,999)/10),CHOOSE(RANDBETWEEN(1,4),RANDBETWEEN(1,99999)/1000,RANDBETWEEN(1,9999)/100,RANDBETWEEN(1,999)/10,RANDBETWEEN(1,99))))","v":41},"kg","=",{"$f":"1000*C756","v":41000},"g"]
[{"$f":"IF(COUNTIF($B$1:B757,TRUE)=COUNTIF($B$1:B756,TRUE),\"\",COUNTIF($B$1:B757,TRUE))","v":455},{"$f":"IF(Worksheet!$D$10=3,FALSE,Worksheet!$D$15)","v":true},{"$f":"IF(Worksheet!$D$6=1,RANDBETWEEN(1,99),IF(Worksheet!$D$6=2,CHOOSE(RANDBETWEEN(1,2),RANDBETWEEN(1,99),RANDBETWEEN(1,999)/10),CHOOSE(RANDBETWEEN(1,4),RANDBETWEEN(1,99999)/1000,RANDBETWEEN(1,9999)/100,RANDBETWEEN(1,999)/10,RANDBETWEEN(1,99))))","v":62},"tonnes","=",{"$f":"1000*C757","v":62000},"kg"]
[{"$f":"IF(COUNTIF($B$1:B758,TRUE)=COUNTIF($B$1:B757,TRUE),\"\",COUNTIF($B$1:B758,TRUE))","v":456},{"$f":"IF(Worksheet!$D$10=3,FALSE,Worksheet!$D$16)","v":true},{"$f":"IF(Worksheet!$D$6=1,RANDBETWEEN(1,99),IF(Worksheet!$D$6=2,CHOOSE(RANDBETWEEN(1,2),RANDBETWEEN(1,99),RANDBETWEEN(1,999)/10),CHOOSE(RANDBETWEEN(1,4),RANDBETWEEN(1,99999)/1000,RANDBETWEEN(1,9999)/100,RANDBETWEEN(1,999)/10,RANDBETWEEN(1,99))))","v":26},"litres","=",{"$f":"1000*C758","v":26000},"ml"]
[{"$f":"IF(COUNTIF($B$1:B759,TRUE)=COUNTIF($B$1:B758,TRUE),\"\",COUNTIF($B$1:B759,TRUE))","v":""},{"$f":"IF(Worksheet!$D$10=3,FALSE,Worksheet!$D$17)","v":false},{"$f":"IF(Worksheet!$D$6=1,RANDBETWEEN(1,99),IF(Worksheet!$D$6=2,CHOOSE(RANDBETWEEN(1,2),RANDBETWEEN(1,99),RANDBETWEEN(1,999)/10),CHOOSE(RANDBETWEEN(1,4),RANDBETWEEN(1,99999)/1000,RANDBETWEEN(1,9999)/100,RANDBETWEEN(1,999)/10,RANDBETWEEN(1,99))))","v":93},"litres","=",{"$f":"1000*C759","v":93000},"cm³"]
[{"$f":"IF(COUNTIF($B$1:B760,TRUE)=COUNTIF($B$1:B759,TRUE),\"\",COUNTIF($B$1:B760,TRUE))","v":""},{"$f":"IF(Worksheet!$D$10=3,FALSE,Worksheet!$D$18)","v":false},{"$f":"IF(Worksheet!$D$6=1,RANDBETWEEN(1,99),IF(Worksheet!$D$6=2,CHOOSE(RANDBETWEEN(1,2),RANDBETWEEN(1,99),RANDBETWEEN(1,999)/10),CHOOSE(RANDBETWEEN(1,4),RANDBETWEEN(1,99999)/1000,RANDBETWEEN(1,9999)/100,RANDBETWEEN(1,999)/10,RANDBETWEEN(1,99))))","v":18},"m²","=",{"$f":"10000*C760","v":180000},"cm²"]
[{"$f":"IF(COUNTIF($B$1:B761,TRUE)=COUNTIF($B$1:B760,TRUE),\"\",COUNTIF($B$1:B761,TRUE))","v":457},{"$f":"IF(Worksheet!$D$10=2,FALSE,Worksheet!$B$14)","v":true},{"$f":"10*F761","v":960},"mm","=",{"$f":"IF(Worksheet!$D$6=1,RANDBETWEEN(1,99),IF(Worksheet!$D$6=2,CHOOSE(RANDBETWEEN(1,2),RANDBETWEEN(1,99),RANDBETWEEN(1,999)/10),CHOOSE(RANDBETWEEN(1,4),RANDBETWEEN(1,99999)/1000,RANDBETWEEN(1,9999)/100,RANDBETWEEN(1,999)/10,RANDBETWEEN(1,99))))","v":96},"cm"]
[{"$f":"IF(COUNTIF($B$1:B762,TRUE)=COUNTIF($B$1:B761,TRUE),\"\",COUNTIF($B$1:B762,TRUE))","v":458},{"$f":"IF(Worksheet!$D$10=2,FALSE,Worksheet!$B$15)","v":true},{"$f":"100*F762","v":7000},"cm","=",{"$f":"IF(Worksheet!$D$6=1,RANDBETWEEN(1,99),IF(Worksheet!$D$6=2,CHOOSE(RANDBETWEEN(1,2),RANDBETWEEN(1,99),RANDBETWEEN(1,999)/10),CHOOSE(RANDBETWEEN(1,4),RANDBETWEEN(1,99999)/1000,RANDBETWEEN(1,9999)/100,RANDBETWEEN(1,999)/10,RANDBETWEEN(1,99))))","v":70},"m"]
[{"$f":"IF(COUNTIF($B$1:B763,TRUE)=COUNTIF($B$1:B762,TRUE),\"\",COUNTIF($B$1:B763,TRUE))","v":459},{"$f":"IF(Worksheet!$D$10=2,FALSE,Worksheet!$B$16)","v":true},{"$f":"1000*F763","v":62000},"m","=",{"$f":"IF(Worksheet!$D$6=1,RANDBETWEEN(1,99),IF(Worksheet!$D$6=2,CHOOSE(RANDBETWEEN(1,2),RANDBETWEEN(1,99),RANDBETWEEN(1,999)/10),CHOOSE(RANDBETWEEN(1,4),RANDBETWEEN(1,99999)/1000,RANDBETWEEN(1,9999)/100,RANDBETWEEN(1,999)/10,RANDBETWEEN(1,99))))","v":62},"km"]
[{"$f":"IF(COUNTIF($B$1:B764,TRUE)=COUNTIF($B$1:B763,TRUE),\"\",COUNTIF($B$1:B764,TRUE))","v":""},{"$f":"IF(Worksheet!$D$10=2,FALSE,Worksheet!$B$17)","v":false},{"$f":"1000*F764","v":69000},"mm","=",{"$f":"IF(Worksheet!$D$6=1,RANDBETWEEN(1,99),IF(Worksheet!$D$6=2,CHOOSE(RANDBETWEEN(1,2),RANDBETWEEN(1,99),RANDBETWEEN(1,999)/10),CHOOSE(RANDBETWEEN(1,4),RANDBETWEEN(1,99999)/1000,RANDBETWEEN(1,9999)/100,RANDBETWEEN(1,999)/10,RANDBETWEEN(1,99))))","v":69},"m"]
[{"$f":"IF(COUNTIF($B$1:B765,TRUE)=COUNTIF($B$1:B764,TRUE),\"\",COUNTIF($B$1:B765,TRUE))","v":""},{"$f":"IF(Worksheet!$D$10=2,FALSE,Worksheet!$B$18)","v":false},{"$f":"100*F765","v":8400},"mm²","=",{"$f":"IF(Worksheet!$D$6=1,RANDBETWEEN(1,99),IF(Worksheet!$D$6=2,CHOOSE(RANDBETWEEN(1,2),RANDBETWEEN(1,99),RANDBETWEEN(1,999)/10),CHOOSE(RANDBETWEEN(1,4),RANDBETWEEN(1,99999)/1000,RANDBETWEEN(1,9999)/100,RANDBETWEEN(1,999)/10,RANDBETWEEN(1,99))))","v":84},"cm²"]
[{"$f":"IF(COUNTIF($B$1:B766,TRUE)=COUNTIF($B$1:B765,TRUE),\"\",COUNTIF($B$1:B766,TRUE))","v":460},{"$f":"IF(Worksheet!$D$10=2,FALSE,Worksheet!$D$14)","v":true},{"$f":"F766*1000","v":45000},"g","=",{"$f":"IF(Worksheet!$D$6=1,RANDBETWEEN(1,99),IF(Worksheet!$D$6=2,CHOOSE(RANDBETWEEN(1,2),RANDBETWEEN(1,99),RANDBETWEEN(1,999)/10),CHOOSE(RANDBETWEEN(1,4),RANDBETWEEN(1,99999)/1000,RANDBETWEEN(1,9999)/100,RANDBETWEEN(1,999)/10,RANDBETWEEN(1,99))))","v":45},"kg"]
[{"$f":"IF(COUNTIF($B$1:B767,TRUE)=COUNTIF($B$1:B766,TRUE),\"\",COUNTIF($B$1:B767,TRUE))","v":461},{"$f":"IF(Worksheet!$D$10=2,FALSE,Worksheet!$D$15)","v":true},{"$f":"F767*1000","v":73000},"kg","=",{"$f":"IF(Worksheet!$D$6=1,RANDBETWEEN(1,99),IF(Worksheet!$D$6=2,CHOOSE(RANDBETWEEN(1,2),RANDBETWEEN(1,99),RANDBETWEEN(1,999)/10),CHOOSE(RANDBETWEEN(1,4),RANDBETWEEN(1,99999)/1000,RANDBETWEEN(1,9999)/100,RANDBETWEEN(1,999)/10,RANDBETWEEN(1,99))))","v":73},"tonnes"]
[{"$f":"IF(COUNTIF($B$1:B768,TRUE)=COUNTIF($B$1:B767,TRUE),\"\",COUNTIF($B$1:B768,TRUE))","v":462},{"$f":"IF(Worksheet!$D$10=2,FALSE,Worksheet!$D$16)","v":true},{"$f":"1000*F768","v":47000},"ml","=",{"$f":"IF(Worksheet!$D$6=1,RANDBETWEEN(1,99),IF(Worksheet!$D$6=2,CHOOSE(RANDBETWEEN(1,2),RANDBETWEEN(1,99),RANDBETWEEN(1,999)/10),CHOOSE(RANDBETWEEN(1,4),RANDBETWEEN(1,99999)/1000,RANDBETWEEN(1,9999)/100,RANDBETWEEN(1,999)/10,RANDBETWEEN(1,99))))","v":47},"litres"]
[{"$f":"IF(COUNTIF($B$1:B769,TRUE)=COUNTIF($B$1:B768,TRUE),\"\",COUNTIF($B$1:B769,TRUE))","v":""},{"$f":"IF(Worksheet!$D$10=2,FALSE,Worksheet!$D$17)","v":false},{"$f":"1000*F769","v":81000},"cm³","=",{"$f":"IF(Worksheet!$D$6=1,RANDBETWEEN(1,99),IF(Worksheet!$D$6=2,CHOOSE(RANDBETWEEN(1,2),RANDBETWEEN(1,99),RANDBETWEEN(1,999)/10),CHOOSE(RANDBETWEEN(1,4),RANDBETWEEN(1,99999)/1000,RANDBETWEEN(1,9999)/100,RANDBETWEEN(1,999)/10,RANDBETWEEN(1,99))))","v":81},"litres"]
[{"$f":"IF(COUNTIF($B$1:B770,TRUE)=COUNTIF($B$1:B769,TRUE),\"\",COUNTIF($B$1:B770,TRUE))","v":""},{"$f":"IF(Worksheet!$D$10=2,FALSE,Worksheet!$D$18)","v":false},{"$f":"10000*F770","v":200000},"cm²","=",{"$f":"IF(Worksheet!$D$6=1,RANDBETWEEN(1,99),IF(Worksheet!$D$6=2,CHOOSE(RANDBETWEEN(1,2),RANDBETWEEN(1,99),RANDBETWEEN(1,999)/10),CHOOSE(RANDBETWEEN(1,4),RANDBETWEEN(1,99999)/1000,RANDBETWEEN(1,9999)/100,RANDBETWEEN(1,999)/10,RANDBETWEEN(1,99))))","v":20},"m²"]
[{"$f":"IF(COUNTIF($B$1:B771,TRUE)=COUNTIF($B$1:B770,TRUE),\"\",COUNTIF($B$1:B771,TRUE))","v":463},{"$f":"IF(Worksheet!$D$10=3,FALSE,Worksheet!$B$14)","v":true},{"$f":"IF(Worksheet!$D$6=1,RANDBETWEEN(1,99),IF(Worksheet!$D$6=2,CHOOSE(RANDBETWEEN(1,2),RANDBETWEEN(1,99),RANDBETWEEN(1,999)/10),CHOOSE(RANDBETWEEN(1,4),RANDBETWEEN(1,99999)/1000,RANDBETWEEN(1,9999)/100,RANDBETWEEN(1,999)/10,RANDBETWEEN(1,99))))","v":63},"cm","=",{"$f":"10*C771","v":630},"mm"]
[{"$f":"IF(COUNTIF($B$1:B772,TRUE)=COUNTIF($B$1:B771,TRUE),\"\",COUNTIF($B$1:B772,TRUE))","v":464},{"$f":"IF(Worksheet!$D$10=3,FALSE,Worksheet!$B$15)","v":true},{"$f":"IF(Worksheet!$D$6=1,RANDBETWEEN(1,99),IF(Worksheet!$D$6=2,CHOOSE(RANDBETWEEN(1,2),RANDBETWEEN(1,99),RANDBETWEEN(1,999)/10),CHOOSE(RANDBETWEEN(1,4),RANDBETWEEN(1,99999)/1000,RANDBETWEEN(1,9999)/100,RANDBETWEEN(1,999)/10,RANDBETWEEN(1,99))))","v":12},"m","=",{"$f":"100*C772","v":1200},"cm"]
[{"$f":"IF(COUNTIF($B$1:B773,TRUE)=COUNTIF($B$1:B772,TRUE),\"\",COUNTIF($B$1:B773,TRUE))","v":465},{"$f":"IF(Worksheet!$D$10=3,FALSE,Worksheet!$B$16)","v":true},{"$f":"IF(Worksheet!$D$6=1,RANDBETWEEN(1,99),IF(Worksheet!$D$6=2,CHOOSE(RANDBETWEEN(1,2),RANDBETWEEN(1,99),RANDBETWEEN(1,999)/10),CHOOSE(RANDBETWEEN(1,4),RANDBETWEEN(1,99999)/1000,RANDBETWEEN(1,9999)/100,RANDBETWEEN(1,999)/10,RANDBETWEEN(1,99))))","v":92},"km","=",{"$f":"1000*C773","v":92000},"m"]
[{"$f":"IF(COUNTIF($B$1:B774,TRUE)=COUNTIF($B$1:B773,TRUE),\"\",COUNTIF($B$1:B774,TRUE))","v":""},{"$f":"IF(Worksheet!$D$10=3,FALSE,Worksheet!$B$17)","v":false},{"$f":"IF(Worksheet!$D$6=1,RANDBETWEEN(1,99),IF(Worksheet!$D$6=2,CHOOSE(RANDBETWEEN(1,2),RANDBETWEEN(1,99),RANDBETWEEN(1,999)/10),CHOOSE(RANDBETWEEN(1,4),RANDBETWEEN(1,99999)/1000,RANDBETWEEN(1,9999)/100,RANDBETWEEN(1,999)/10,RANDBETWEEN(1,99))))","v":84},"m",{"$f":"#REF!","v":{"$error":"#REF!"}},{"$f":"1000*C774","v":84000},"mm"]
[{"$f":"IF(COUNTIF($B$1:B775,TRUE)=COUNTIF($B$1:B774,TRUE),\"\",COUNTIF($B$1:B775,TRUE))","v":""},{"$f":"IF(Worksheet!$D$10=3,FALSE,Worksheet!$B$18)","v":false},{"$f":"IF(Worksheet!$D$6=1,RANDBETWEEN(1,99),IF(Worksheet!$D$6=2,CHOOSE(RANDBETWEEN(1,2),RANDBETWEEN(1,99),RANDBETWEEN(1,999)/10),CHOOSE(RANDBETWEEN(1,4),RANDBETWEEN(1,99999)/1000,RANDBETWEEN(1,9999)/100,RANDBETWEEN(1,999)/10,RANDBETWEEN(1,99))))","v":67},"cm²","=",{"$f":"C775*100","v":6700},"mm²"]
[{"$f":"IF(COUNTIF($B$1:B776,TRUE)=COUNTIF($B$1:B775,TRUE),\"\",COUNTIF($B$1:B776,TRUE))","v":466},{"$f":"IF(Worksheet!$D$10=3,FALSE,Worksheet!$D$14)","v":true},{"$f":"IF(Worksheet!$D$6=1,RANDBETWEEN(1,99),IF(Worksheet!$D$6=2,CHOOSE(RANDBETWEEN(1,2),RANDBETWEEN(1,99),RANDBETWEEN(1,999)/10),CHOOSE(RANDBETWEEN(1,4),RANDBETWEEN(1,99999)/1000,RANDBETWEEN(1,9999)/100,RANDBETWEEN(1,999)/10,RANDBETWEEN(1,99))))","v":2},"kg","=",{"$f":"1000*C776","v":2000},"g"]
[{"$f":"IF(COUNTIF($B$1:B777,TRUE)=COUNTIF($B$1:B776,TRUE),\"\",COUNTIF($B$1:B777,TRUE))","v":467},{"$f":"IF(Worksheet!$D$10=3,FALSE,Worksheet!$D$15)","v":true},{"$f":"IF(Worksheet!$D$6=1,RANDBETWEEN(1,99),IF(Worksheet!$D$6=2,CHOOSE(RANDBETWEEN(1,2),RANDBETWEEN(1,99),RANDBETWEEN(1,999)/10),CHOOSE(RANDBETWEEN(1,4),RANDBETWEEN(1,99999)/1000,RANDBETWEEN(1,9999)/100,RANDBETWEEN(1,999)/10,RANDBETWEEN(1,99))))","v":39},"tonnes","=",{"$f":"1000*C777","v":39000},"kg"]
[{"$f":"IF(COUNTIF($B$1:B778,TRUE)=COUNTIF($B$1:B777,TRUE),\"\",COUNTIF($B$1:B778,TRUE))","v":468},{"$f":"IF(Worksheet!$D$10=3,FALSE,Worksheet!$D$16)","v":true},{"$f":"IF(Worksheet!$D$6=1,RANDBETWEEN(1,99),IF(Worksheet!$D$6=2,CHOOSE(RANDBETWEEN(1,2),RANDBETWEEN(1,99),RANDBETWEEN(1,999)/10),CHOOSE(RANDBETWEEN(1,4),RANDBETWEEN(1,99999)/1000,RANDBETWEEN(1,9999)/100,RANDBETWEEN(1,999)/10,RANDBETWEEN(1,99))))","v":60},"litres","=",{"$f":"1000*C778","v":60000},"ml"]
[{"$f":"IF(COUNTIF($B$1:B779,TRUE)=COUNTIF($B$1:B778,TRUE),\"\",COUNTIF($B$1:B779,TRUE))","v":""},{"$f":"IF(Worksheet!$D$10=3,FALSE,Worksheet!$D$17)","v":false},{"$f":"IF(Worksheet!$D$6=1,RANDBETWEEN(1,99),IF(Worksheet!$D$6=2,CHOOSE(RANDBETWEEN(1,2),RANDBETWEEN(1,99),RANDBETWEEN(1,999)/10),CHOOSE(RANDBETWEEN(1,4),RANDBETWEEN(1,99999)/1000,RANDBETWEEN(1,9999)/100,RANDBETWEEN(1,999)/10,RANDBETWEEN(1,99))))","v":60},"litres","=",{"$f":"1000*C779","v":60000},"cm³"]
[{"$f":"IF(COUNTIF($B$1:B780,TRUE)=COUNTIF($B$1:B779,TRUE),\"\",COUNTIF($B$1:B780,TRUE))","v":""},{"$f":"IF(Worksheet!$D$10=3,FALSE,Worksheet!$D$18)","v":false},{"$f":"IF(Worksheet!$D$6=1,RANDBETWEEN(1,99),IF(Worksheet!$D$6=2,CHOOSE(RANDBETWEEN(1,2),RANDBETWEEN(1,99),RANDBETWEEN(1,999)/10),CHOOSE(RANDBETWEEN(1,4),RANDBETWEEN(1,99999)/1000,RANDBETWEEN(1,9999)/100,RANDBETWEEN(1,999)/10,RANDBETWEEN(1,99))))","v":84},"m²","=",{"$f":"10000*C780","v":840000},"cm²"]
[{"$f":"IF(COUNTIF($B$1:B781,TRUE)=COUNTIF($B$1:B780,TRUE),\"\",COUNTIF($B$1:B781,TRUE))","v":469},{"$f":"IF(Worksheet!$D$10=2,FALSE,Worksheet!$B$14)","v":true},{"$f":"10*F781","v":280},"mm","=",{"$f":"IF(Worksheet!$D$6=1,RANDBETWEEN(1,99),IF(Worksheet!$D$6=2,CHOOSE(RANDBETWEEN(1,2),RANDBETWEEN(1,99),RANDBETWEEN(1,999)/10),CHOOSE(RANDBETWEEN(1,4),RANDBETWEEN(1,99999)/1000,RANDBETWEEN(1,9999)/100,RANDBETWEEN(1,999)/10,RANDBETWEEN(1,99))))","v":28},"cm"]
[{"$f":"IF(COUNTIF($B$1:B782,TRUE)=COUNTIF($B$1:B781,TRUE),\"\",COUNTIF($B$1:B782,TRUE))","v":470},{"$f":"IF(Worksheet!$D$10=2,FALSE,Worksheet!$B$15)","v":true},{"$f":"100*F782","v":2600},"cm","=",{"$f":"IF(Worksheet!$D$6=1,RANDBETWEEN(1,99),IF(Worksheet!$D$6=2,CHOOSE(RANDBETWEEN(1,2),RANDBETWEEN(1,99),RANDBETWEEN(1,999)/10),CHOOSE(RANDBETWEEN(1,4),RANDBETWEEN(1,99999)/1000,RANDBETWEEN(1,9999)/100,RANDBETWEEN(1,999)/10,RANDBETWEEN(1,99))))","v":26},"m"]
[{"$f":"IF(COUNTIF($B$1:B783,TRUE)=COUNTIF($B$1:B782,TRUE),\"\",COUNTIF($B$1:B783,TRUE))","v":471},{"$f":"IF(Worksheet!$D$10=2,FALSE,Worksheet!$B$16)","v":true},{"$f":"1000*F783","v":12000},"m","=",{"$f":"IF(Worksheet!$D$6=1,RANDBETWEEN(1,99),IF(Worksheet!$D$6=2,CHOOSE(RANDBETWEEN(1,2),RANDBETWEEN(1,99),RANDBETWEEN(1,999)/10),CHOOSE(RANDBETWEEN(1,4),RANDBETWEEN(1,99999)/1000,RANDBETWEEN(1,9999)/100,RANDBETWEEN(1,999)/10,RANDBETWEEN(1,99))))","v":12},"km"]
[{"$f":"IF(COUNTIF($B$1:B784,TRUE)=COUNTIF($B$1:B783,TRUE),\"\",COUNTIF($B$1:B784,TRUE))","v":""},{"$f":"IF(Worksheet!$D$10=2,FALSE,Worksheet!$B$17)","v":false},{"$f":"1000*F784","v":32000},"mm","=",{"$f":"IF(Worksheet!$D$6=1,RANDBETWEEN(1,99),IF(Worksheet!$D$6=2,CHOOSE(RANDBETWEEN(1,2),RANDBETWEEN(1,99),RANDBETWEEN(1,999)/10),CHOOSE(RANDBETWEEN(1,4),RANDBETWEEN(1,99999)/1000,RANDBETWEEN(1,9999)/100,RANDBETWEEN(1,999)/10,RANDBETWEEN(1,99))))","v":32},"m"]
[{"$f":"IF(COUNTIF($B$1:B785,TRUE)=COUNTIF($B$1:B784,TRUE),\"\",COUNTIF($B$1:B785,TRUE))","v":""},{"$f":"IF(Worksheet!$D$10=2,FALSE,Worksheet!$B$18)","v":false},{"$f":"100*F785","v":7600},"mm²","=",{"$f":"IF(Worksheet!$D$6=1,RANDBETWEEN(1,99),IF(Worksheet!$D$6=2,CHOOSE(RANDBETWEEN(1,2),RANDBETWEEN(1,99),RANDBETWEEN(1,999)/10),CHOOSE(RANDBETWEEN(1,4),RANDBETWEEN(1,99999)/1000,RANDBETWEEN(1,9999)/100,RANDBETWEEN(1,999)/10,RANDBETWEEN(1,99))))","v":76},"cm²"]
[{"$f":"IF(COUNTIF($B$1:B786,TRUE)=COUNTIF($B$1:B785,TRUE),\"\",COUNTIF($B$1:B786,TRUE))","v":472},{"$f":"IF(Worksheet!$D$10=2,FALSE,Worksheet!$D$14)","v":true},{"$f":"F786*1000","v":14000},"g","=",{"$f":"IF(Worksheet!$D$6=1,RANDBETWEEN(1,99),IF(Worksheet!$D$6=2,CHOOSE(RANDBETWEEN(1,2),RANDBETWEEN(1,99),RANDBETWEEN(1,999)/10),CHOOSE(RANDBETWEEN(1,4),RANDBETWEEN(1,99999)/1000,RANDBETWEEN(1,9999)/100,RANDBETWEEN(1,999)/10,RANDBETWEEN(1,99))))","v":14},"kg"]
[{"$f":"IF(COUNTIF($B$1:B787,TRUE)=COUNTIF($B$1:B786,TRUE),\"\",COUNTIF($B$1:B787,TRUE))","v":473},{"$f":"IF(Worksheet!$D$10=2,FALSE,Worksheet!$D$15)","v":true},{"$f":"F787*1000","v":79000},"kg","=",{"$f":"IF(Worksheet!$D$6=1,RANDBETWEEN(1,99),IF(Worksheet!$D$6=2,CHOOSE(RANDBETWEEN(1,2),RANDBETWEEN(1,99),RANDBETWEEN(1,999)/10),CHOOSE(RANDBETWEEN(1,4),RANDBETWEEN(1,99999)/1000,RANDBETWEEN(1,9999)/100,RANDBETWEEN(1,999)/10,RANDBETWEEN(1,99))))","v":79},"tonnes"]
[{"$f":"IF(COUNTIF($B$1:B788,TRUE)=COUNTIF($B$1:B787,TRUE),\"\",COUNTIF($B$1:B788,TRUE))","v":474},{"$f":"IF(Worksheet!$D$10=2,FALSE,Worksheet!$D$16)","v":true},{"$f":"1000*F788","v":65000},"ml","=",{"$f":"IF(Worksheet!$D$6=1,RANDBETWEEN(1,99),IF(Worksheet!$D$6=2,CHOOSE(RANDBETWEEN(1,2),RANDBETWEEN(1,99),RANDBETWEEN(1,999)/10),CHOOSE(RANDBETWEEN(1,4),RANDBETWEEN(1,99999)/1000,RANDBETWEEN(1,9999)/100,RANDBETWEEN(1,999)/10,RANDBETWEEN(1,99))))","v":65},"litres"]
[{"$f":"IF(COUNTIF($B$1:B789,TRUE)=COUNTIF($B$1:B788,TRUE),\"\",COUNTIF($B$1:B789,TRUE))","v":""},{"$f":"IF(Worksheet!$D$10=2,FALSE,Worksheet!$D$17)","v":false},{"$f":"1000*F789","v":66000},"cm³","=",{"$f":"IF(Worksheet!$D$6=1,RANDBETWEEN(1,99),IF(Worksheet!$D$6=2,CHOOSE(RANDBETWEEN(1,2),RANDBETWEEN(1,99),RANDBETWEEN(1,999)/10),CHOOSE(RANDBETWEEN(1,4),RANDBETWEEN(1,99999)/1000,RANDBETWEEN(1,9999)/100,RANDBETWEEN(1,999)/10,RANDBETWEEN(1,99))))","v":66},"litres"]
[{"$f":"IF(COUNTIF($B$1:B790,TRUE)=COUNTIF($B$1:B789,TRUE),\"\",COUNTIF($B$1:B790,TRUE))","v":""},{"$f":"IF(Worksheet!$D$10=2,FALSE,Worksheet!$D$18)","v":false},{"$f":"10000*F790","v":740000},"cm²","=",{"$f":"IF(Worksheet!$D$6=1,RANDBETWEEN(1,99),IF(Worksheet!$D$6=2,CHOOSE(RANDBETWEEN(1,2),RANDBETWEEN(1,99),RANDBETWEEN(1,999)/10),CHOOSE(RANDBETWEEN(1,4),RANDBETWEEN(1,99999)/1000,RANDBETWEEN(1,9999)/100,RANDBETWEEN(1,999)/10,RANDBETWEEN(1,99))))","v":74},"m²"]
[{"$f":"IF(COUNTIF($B$1:B791,TRUE)=COUNTIF($B$1:B790,TRUE),\"\",COUNTIF($B$1:B791,TRUE))","v":475},{"$f":"IF(Worksheet!$D$10=3,FALSE,Worksheet!$B$14)","v":true},{"$f":"IF(Worksheet!$D$6=1,RANDBETWEEN(1,99),IF(Worksheet!$D$6=2,CHOOSE(RANDBETWEEN(1,2),RANDBETWEEN(1,99),RANDBETWEEN(1,999)/10),CHOOSE(RANDBETWEEN(1,4),RANDBETWEEN(1,99999)/1000,RANDBETWEEN(1,9999)/100,RANDBETWEEN(1,999)/10,RANDBETWEEN(1,99))))","v":66},"cm","=",{"$f":"10*C791","v":660},"mm"]
[{"$f":"IF(COUNTIF($B$1:B792,TRUE)=COUNTIF($B$1:B791,TRUE),\"\",COUNTIF($B$1:B792,TRUE))","v":476},{"$f":"IF(Worksheet!$D$10=3,FALSE,Worksheet!$B$15)","v":true},{"$f":"IF(Worksheet!$D$6=1,RANDBETWEEN(1,99),IF(Worksheet!$D$6=2,CHOOSE(RANDBETWEEN(1,2),RANDBETWEEN(1,99),RANDBETWEEN(1,999)/10),CHOOSE(RANDBETWEEN(1,4),RANDBETWEEN(1,99999)/1000,RANDBETWEEN(1,9999)/100,RANDBETWEEN(1,999)/10,RANDBETWEEN(1,99))))","v":31},"m","=",{"$f":"100*C792","v":3100},"cm"]
[{"$f":"IF(COUNTIF($B$1:B793,TRUE)=COUNTIF($B$1:B792,TRUE),\"\",COUNTIF($B$1:B793,TRUE))","v":477},{"$f":"IF(Worksheet!$D$10=3,FALSE,Worksheet!$B$16)","v":true},{"$f":"IF(Worksheet!$D$6=1,RANDBETWEEN(1,99),IF(Worksheet!$D$6=2,CHOOSE(RANDBETWEEN(1,2),RANDBETWEEN(1,99),RANDBETWEEN(1,999)/10),CHOOSE(RANDBETWEEN(1,4),RANDBETWEEN(1,99999)/1000,RANDBETWEEN(1,9999)/100,RANDBETWEEN(1,999)/10,RANDBETWEEN(1,99))))","v":86},"km","=",{"$f":"1000*C793","v":86000},"m"]
[{"$f":"IF(COUNTIF($B$1:B794,TRUE)=COUNTIF($B$1:B793,TRUE),\"\",COUNTIF($B$1:B794,TRUE))","v":""},{"$f":"IF(Worksheet!$D$10=3,FALSE,Worksheet!$B$17)","v":false},{"$f":"IF(Worksheet!$D$6=1,RANDBETWEEN(1,99),IF(Worksheet!$D$6=2,CHOOSE(RANDBETWEEN(1,2),RANDBETWEEN(1,99),RANDBETWEEN(1,999)/10),CHOOSE(RANDBETWEEN(1,4),RANDBETWEEN(1,99999)/1000,RANDBETWEEN(1,9999)/100,RANDBETWEEN(1,999)/10,RANDBETWEEN(1,99))))","v":33},"m",{"$f":"#REF!","v":{"$error":"#REF!"}},{"$f":"1000*C794","v":33000},"mm"]
[{"$f":"IF(COUNTIF($B$1:B795,TRUE)=COUNTIF($B$1:B794,TRUE),\"\",COUNTIF($B$1:B795,TRUE))","v":""},{"$f":"IF(Worksheet!$D$10=3,FALSE,Worksheet!$B$18)","v":false},{"$f":"IF(Worksheet!$D$6=1,RANDBETWEEN(1,99),IF(Worksheet!$D$6=2,CHOOSE(RANDBETWEEN(1,2),RANDBETWEEN(1,99),RANDBETWEEN(1,999)/10),CHOOSE(RANDBETWEEN(1,4),RANDBETWEEN(1,99999)/1000,RANDBETWEEN(1,9999)/100,RANDBETWEEN(1,999)/10,RANDBETWEEN(1,99))))","v":69},"cm²","=",{"$f":"C795*100","v":6900},"mm²"]
[{"$f":"IF(COUNTIF($B$1:B796,TRUE)=COUNTIF($B$1:B795,TRUE),\"\",COUNTIF($B$1:B796,TRUE))","v":478},{"$f":"IF(Worksheet!$D$10=3,FALSE,Worksheet!$D$14)","v":true},{"$f":"IF(Worksheet!$D$6=1,RANDBETWEEN(1,99),IF(Worksheet!$D$6=2,CHOOSE(RANDBETWEEN(1,2),RANDBETWEEN(1,99),RANDBETWEEN(1,999)/10),CHOOSE(RANDBETWEEN(1,4),RANDBETWEEN(1,99999)/1000,RANDBETWEEN(1,9999)/100,RANDBETWEEN(1,999)/10,RANDBETWEEN(1,99))))","v":80},"kg","=",{"$f":"1000*C796","v":80000},"g"]
[{"$f":"IF(COUNTIF($B$1:B797,TRUE)=COUNTIF($B$1:B796,TRUE),\"\",COUNTIF($B$1:B797,TRUE))","v":479},{"$f":"IF(Worksheet!$D$10=3,FALSE,Worksheet!$D$15)","v":true},{"$f":"IF(Worksheet!$D$6=1,RANDBETWEEN(1,99),IF(Worksheet!$D$6=2,CHOOSE(RANDBETWEEN(1,2),RANDBETWEEN(1,99),RANDBETWEEN(1,999)/10),CHOOSE(RANDBETWEEN(1,4),RANDBETWEEN(1,99999)/1000,RANDBETWEEN(1,9999)/100,RANDBETWEEN(1,999)/10,RANDBETWEEN(1,99))))","v":60},"tonnes","=",{"$f":"1000*C797","v":60000},"kg"]
[{"$f":"IF(COUNTIF($B$1:B798,TRUE)=COUNTIF($B$1:B797,TRUE),\"\",COUNTIF($B$1:B798,TRUE))","v":480},{"$f":"IF(Worksheet!$D$10=3,FALSE,Worksheet!$D$16)","v":true},{"$f":"IF(Worksheet!$D$6=1,RANDBETWEEN(1,99),IF(Worksheet!$D$6=2,CHOOSE(RANDBETWEEN(1,2),RANDBETWEEN(1,99),RANDBETWEEN(1,999)/10),CHOOSE(RANDBETWEEN(1,4),RANDBETWEEN(1,99999)/1000,RANDBETWEEN(1,9999)/100,RANDBETWEEN(1,999)/10,RANDBETWEEN(1,99))))","v":85},"litres","=",{"$f":"1000*C798","v":85000},"ml"]
[{"$f":"IF(COUNTIF($B$1:B799,TRUE)=COUNTIF($B$1:B798,TRUE),\"\",COUNTIF($B$1:B799,TRUE))","v":""},{"$f":"IF(Worksheet!$D$10=3,FALSE,Worksheet!$D$17)","v":false},{"$f":"IF(Worksheet!$D$6=1,RANDBETWEEN(1,99),IF(Worksheet!$D$6=2,CHOOSE(RANDBETWEEN(1,2),RANDBETWEEN(1,99),RANDBETWEEN(1,999)/10),CHOOSE(RANDBETWEEN(1,4),RANDBETWEEN(1,99999)/1000,RANDBETWEEN(1,9999)/100,RANDBETWEEN(1,999)/10,RANDBETWEEN(1,99))))","v":88},"litres","=",{"$f":"1000*C799","v":88000},"cm³"]
[{"$f":"IF(COUNTIF($B$1:B800,TRUE)=COUNTIF($B$1:B799,TRUE),\"\",COUNTIF($B$1:B800,TRUE))","v":""},{"$f":"IF(Worksheet!$D$10=3,FALSE,Worksheet!$D$18)","v":false},{"$f":"IF(Worksheet!$D$6=1,RANDBETWEEN(1,99),IF(Worksheet!$D$6=2,CHOOSE(RANDBETWEEN(1,2),RANDBETWEEN(1,99),RANDBETWEEN(1,999)/10),CHOOSE(RANDBETWEEN(1,4),RANDBETWEEN(1,99999)/1000,RANDBETWEEN(1,9999)/100,RANDBETWEEN(1,999)/10,RANDBETWEEN(1,99))))","v":14},"m²","=",{"$f":"10000*C800","v":140000},"cm²"]
[{"$f":"IF(COUNTIF($B$1:B801,TRUE)=COUNTIF($B$1:B800,TRUE),\"\",COUNTIF($B$1:B801,TRUE))","v":481},{"$f":"IF(Worksheet!$D$10=2,FALSE,Worksheet!$B$14)","v":true},{"$f":"10*F801","v":260},"mm","=",{"$f":"IF(Worksheet!$D$6=1,RANDBETWEEN(1,99),IF(Worksheet!$D$6=2,CHOOSE(RANDBETWEEN(1,2),RANDBETWEEN(1,99),RANDBETWEEN(1,999)/10),CHOOSE(RANDBETWEEN(1,4),RANDBETWEEN(1,99999)/1000,RANDBETWEEN(1,9999)/100,RANDBETWEEN(1,999)/10,RANDBETWEEN(1,99))))","v":26},"cm"]
[{"$f":"IF(COUNTIF($B$1:B802,TRUE)=COUNTIF($B$1:B801,TRUE),\"\",COUNTIF($B$1:B802,TRUE))","v":482},{"$f":"IF(Worksheet!$D$10=2,FALSE,Worksheet!$B$15)","v":true},{"$f":"100*F802","v":7900},"cm","=",{"$f":"IF(Worksheet!$D$6=1,RANDBETWEEN(1,99),IF(Worksheet!$D$6=2,CHOOSE(RANDBETWEEN(1,2),RANDBETWEEN(1,99),RANDBETWEEN(1,999)/10),CHOOSE(RANDBETWEEN(1,4),RANDBETWEEN(1,99999)/1000,RANDBETWEEN(1,9999)/100,RANDBETWEEN(1,999)/10,RANDBETWEEN(1,99))))","v":79},"m"]
[{"$f":"IF(COUNTIF($B$1:B803,TRUE)=COUNTIF($B$1:B802,TRUE),\"\",COUNTIF($B$1:B803,TRUE))","v":483},{"$f":"IF(Worksheet!$D$10=2,FALSE,Worksheet!$B$16)","v":true},{"$f":"1000*F803","v":89000},"m","=",{"$f":"IF(Worksheet!$D$6=1,RANDBETWEEN(1,99),IF(Worksheet!$D$6=2,CHOOSE(RANDBETWEEN(1,2),RANDBETWEEN(1,99),RANDBETWEEN(1,999)/10),CHOOSE(RANDBETWEEN(1,4),RANDBETWEEN(1,99999)/1000,RANDBETWEEN(1,9999)/100,RANDBETWEEN(1,999)/10,RANDBETWEEN(1,99))))","v":89},"km"]
[{"$f":"IF(COUNTIF($B$1:B804,TRUE)=COUNTIF($B$1:B803,TRUE),\"\",COUNTIF($B$1:B804,TRUE))","v":""},{"$f":"IF(Worksheet!$D$10=2,FALSE,Worksheet!$B$17)","v":false},{"$f":"1000*F804","v":73000},"mm","=",{"$f":"IF(Worksheet!$D$6=1,RANDBETWEEN(1,99),IF(Worksheet!$D$6=2,CHOOSE(RANDBETWEEN(1,2),RANDBETWEEN(1,99),RANDBETWEEN(1,999)/10),CHOOSE(RANDBETWEEN(1,4),RANDBETWEEN(1,99999)/1000,RANDBETWEEN(1,9999)/100,RANDBETWEEN(1,999)/10,RANDBETWEEN(1,99))))","v":73},"m"]
[{"$f":"IF(COUNTIF($B$1:B805,TRUE)=COUNTIF($B$1:B804,TRUE),\"\",COUNTIF($B$1:B805,TRUE))","v":""},{"$f":"IF(Worksheet!$D$10=2,FALSE,Worksheet!$B$18)","v":false},{"$f":"100*F805","v":9200},"mm²","=",{"$f":"IF(Worksheet!$D$6=1,RANDBETWEEN(1,99),IF(Worksheet!$D$6=2,CHOOSE(RANDBETWEEN(1,2),RANDBETWEEN(1,99),RANDBETWEEN(1,999)/10),CHOOSE(RANDBETWEEN(1,4),RANDBETWEEN(1,99999)/1000,RANDBETWEEN(1,9999)/100,RANDBETWEEN(1,999)/10,RANDBETWEEN(1,99))))","v":92},"cm²"]
[{"$f":"IF(COUNTIF($B$1:B806,TRUE)=COUNTIF($B$1:B805,TRUE),\"\",COUNTIF($B$1:B806,TRUE))","v":484},{"$f":"IF(Worksheet!$D$10=2,FALSE,Worksheet!$D$14)","v":true},{"$f":"F806*1000","v":48000},"g","=",{"$f":"IF(Worksheet!$D$6=1,RANDBETWEEN(1,99),IF(Worksheet!$D$6=2,CHOOSE(RANDBETWEEN(1,2),RANDBETWEEN(1,99),RANDBETWEEN(1,999)/10),CHOOSE(RANDBETWEEN(1,4),RANDBETWEEN(1,99999)/1000,RANDBETWEEN(1,9999)/100,RANDBETWEEN(1,999)/10,RANDBETWEEN(1,99))))","v":48},"kg"]
[{"$f":"IF(COUNTIF($B$1:B807,TRUE)=COUNTIF($B$1:B806,TRUE),\"\",COUNTIF($B$1:B807,TRUE))","v":485},{"$f":"IF(Worksheet!$D$10=2,FALSE,Worksheet!$D$15)","v":true},{"$f":"F807*1000","v":69000},"kg","=",{"$f":"IF(Worksheet!$D$6=1,RANDBETWEEN(1,99),IF(Worksheet!$D$6=2,CHOOSE(RANDBETWEEN(1,2),RANDBETWEEN(1,99),RANDBETWEEN(1,999)/10),CHOOSE(RANDBETWEEN(1,4),RANDBETWEEN(1,99999)/1000,RANDBETWEEN(1,9999)/100,RANDBETWEEN(1,999)/10,RANDBETWEEN(1,99))))","v":69},"tonnes"]
[{"$f":"IF(COUNTIF($B$1:B808,TRUE)=COUNTIF($B$1:B807,TRUE),\"\",COUNTIF($B$1:B808,TRUE))","v":486},{"$f":"IF(Worksheet!$D$10=2,FALSE,Worksheet!$D$16)","v":true},{"$f":"1000*F808","v":49000},"ml","=",{"$f":"IF(Worksheet!$D$6=1,RANDBETWEEN(1,99),IF(Worksheet!$D$6=2,CHOOSE(RANDBETWEEN(1,2),RANDBETWEEN(1,99),RANDBETWEEN(1,999)/10),CHOOSE(RANDBETWEEN(1,4),RANDBETWEEN(1,99999)/1000,RANDBETWEEN(1,9999)/100,RANDBETWEEN(1,999)/10,RANDBETWEEN(1,99))))","v":49},"litres"]
[{"$f":"IF(COUNTIF($B$1:B809,TRUE)=COUNTIF($B$1:B808,TRUE),\"\",COUNTIF($B$1:B809,TRUE))","v":""},{"$f":"IF(Worksheet!$D$10=2,FALSE,Worksheet!$D$17)","v":false},{"$f":"1000*F809","v":83000},"cm³","=",{"$f":"IF(Worksheet!$D$6=1,RANDBETWEEN(1,99),IF(Worksheet!$D$6=2,CHOOSE(RANDBETWEEN(1,2),RANDBETWEEN(1,99),RANDBETWEEN(1,999)/10),CHOOSE(RANDBETWEEN(1,4),RANDBETWEEN(1,99999)/1000,RANDBETWEEN(1,9999)/100,RANDBETWEEN(1,999)/10,RANDBETWEEN(1,99))))","v":83},"litres"]
[{"$f":"IF(COUNTIF($B$1:B810,TRUE)=COUNTIF($B$1:B809,TRUE),\"\",COUNTIF($B$1:B810,TRUE))","v":""},{"$f":"IF(Worksheet!$D$10=2,FALSE,Worksheet!$D$18)","v":false},{"$f":"10000*F810","v":20000},"cm²","=",{"$f":"IF(Worksheet!$D$6=1,RANDBETWEEN(1,99),IF(Worksheet!$D$6=2,CHOOSE(RANDBETWEEN(1,2),RANDBETWEEN(1,99),RANDBETWEEN(1,999)/10),CHOOSE(RANDBETWEEN(1,4),RANDBETWEEN(1,99999)/1000,RANDBETWEEN(1,9999)/100,RANDBETWEEN(1,999)/10,RANDBETWEEN(1,99))))","v":2},"m²"]
[{"$f":"IF(COUNTIF($B$1:B811,TRUE)=COUNTIF($B$1:B810,TRUE),\"\",COUNTIF($B$1:B811,TRUE))","v":487},{"$f":"IF(Worksheet!$D$10=3,FALSE,Worksheet!$B$14)","v":true},{"$f":"IF(Worksheet!$D$6=1,RANDBETWEEN(1,99),IF(Worksheet!$D$6=2,CHOOSE(RANDBETWEEN(1,2),RANDBETWEEN(1,99),RANDBETWEEN(1,999)/10),CHOOSE(RANDBETWEEN(1,4),RANDBETWEEN(1,99999)/1000,RANDBETWEEN(1,9999)/100,RANDBETWEEN(1,999)/10,RANDBETWEEN(1,99))))","v":27},"cm","=",{"$f":"10*C811","v":270},"mm"]
[{"$f":"IF(COUNTIF($B$1:B812,TRUE)=COUNTIF($B$1:B811,TRUE),\"\",COUNTIF($B$1:B812,TRUE))","v":488},{"$f":"IF(Worksheet!$D$10=3,FALSE,Worksheet!$B$15)","v":true},{"$f":"IF(Worksheet!$D$6=1,RANDBETWEEN(1,99),IF(Worksheet!$D$6=2,CHOOSE(RANDBETWEEN(1,2),RANDBETWEEN(1,99),RANDBETWEEN(1,999)/10),CHOOSE(RANDBETWEEN(1,4),RANDBETWEEN(1,99999)/1000,RANDBETWEEN(1,9999)/100,RANDBETWEEN(1,999)/10,RANDBETWEEN(1,99))))","v":28},"m","=",{"$f":"100*C812","v":2800},"cm"]
[{"$f":"IF(COUNTIF($B$1:B813,TRUE)=COUNTIF($B$1:B812,TRUE),\"\",COUNTIF($B$1:B813,TRUE))","v":489},{"$f":"IF(Worksheet!$D$10=3,FALSE,Worksheet!$B$16)","v":true},{"$f":"IF(Worksheet!$D$6=1,RANDBETWEEN(1,99),IF(Worksheet!$D$6=2,CHOOSE(RANDBETWEEN(1,2),RANDBETWEEN(1,99),RANDBETWEEN(1,999)/10),CHOOSE(RANDBETWEEN(1,4),RANDBETWEEN(1,99999)/1000,RANDBETWEEN(1,9999)/100,RANDBETWEEN(1,999)/10,RANDBETWEEN(1,99))))","v":96},"km","=",{"$f":"1000*C813","v":96000},"m"]
[{"$f":"IF(COUNTIF($B$1:B814,TRUE)=COUNTIF($B$1:B813,TRUE),\"\",COUNTIF($B$1:B814,TRUE))","v":""},{"$f":"IF(Worksheet!$D$10=3,FALSE,Worksheet!$B$17)","v":false},{"$f":"IF(Worksheet!$D$6=1,RANDBETWEEN(1,99),IF(Worksheet!$D$6=2,CHOOSE(RANDBETWEEN(1,2),RANDBETWEEN(1,99),RANDBETWEEN(1,999)/10),CHOOSE(RANDBETWEEN(1,4),RANDBETWEEN(1,99999)/1000,RANDBETWEEN(1,9999)/100,RANDBETWEEN(1,999)/10,RANDBETWEEN(1,99))))","v":9},"m",{"$f":"#REF!","v":{"$error":"#REF!"}},{"$f":"1000*C814","v":9000},"mm"]
[{"$f":"IF(COUNTIF($B$1:B815,TRUE)=COUNTIF($B$1:B814,TRUE),\"\",COUNTIF($B$1:B815,TRUE))","v":""},{"$f":"IF(Worksheet!$D$10=3,FALSE,Worksheet!$B$18)","v":false},{"$f":"IF(Worksheet!$D$6=1,RANDBETWEEN(1,99),IF(Worksheet!$D$6=2,CHOOSE(RANDBETWEEN(1,2),RANDBETWEEN(1,99),RANDBETWEEN(1,999)/10),CHOOSE(RANDBETWEEN(1,4),RANDBETWEEN(1,99999)/1000,RANDBETWEEN(1,9999)/100,RANDBETWEEN(1,999)/10,RANDBETWEEN(1,99))))","v":25},"cm²","=",{"$f":"C815*100","v":2500},"mm²"]
[{"$f":"IF(COUNTIF($B$1:B816,TRUE)=COUNTIF($B$1:B815,TRUE),\"\",COUNTIF($B$1:B816,TRUE))","v":490},{"$f":"IF(Worksheet!$D$10=3,FALSE,Worksheet!$D$14)","v":true},{"$f":"IF(Worksheet!$D$6=1,RANDBETWEEN(1,99),IF(Worksheet!$D$6=2,CHOOSE(RANDBETWEEN(1,2),RANDBETWEEN(1,99),RANDBETWEEN(1,999)/10),CHOOSE(RANDBETWEEN(1,4),RANDBETWEEN(1,99999)/1000,RANDBETWEEN(1,9999)/100,RANDBETWEEN(1,999)/10,RANDBETWEEN(1,99))))","v":82},"kg","=",{"$f":"1000*C816","v":82000},"g"]
[{"$f":"IF(COUNTIF($B$1:B817,TRUE)=COUNTIF($B$1:B816,TRUE),\"\",COUNTIF($B$1:B817,TRUE))","v":491},{"$f":"IF(Worksheet!$D$10=3,FALSE,Worksheet!$D$15)","v":true},{"$f":"IF(Worksheet!$D$6=1,RANDBETWEEN(1,99),IF(Worksheet!$D$6=2,CHOOSE(RANDBETWEEN(1,2),RANDBETWEEN(1,99),RANDBETWEEN(1,999)/10),CHOOSE(RANDBETWEEN(1,4),RANDBETWEEN(1,99999)/1000,RANDBETWEEN(1,9999)/100,RANDBETWEEN(1,999)/10,RANDBETWEEN(1,99))))","v":4},"tonnes","=",{"$f":"1000*C817","v":4000},"kg"]
[{"$f":"IF(COUNTIF($B$1:B818,TRUE)=COUNTIF($B$1:B817,TRUE),\"\",COUNTIF($B$1:B818,TRUE))","v":492},{"$f":"IF(Worksheet!$D$10=3,FALSE,Worksheet!$D$16)","v":true},{"$f":"IF(Worksheet!$D$6=1,RANDBETWEEN(1,99),IF(Worksheet!$D$6=2,CHOOSE(RANDBETWEEN(1,2),RANDBETWEEN(1,99),RANDBETWEEN(1,999)/10),CHOOSE(RANDBETWEEN(1,4),RANDBETWEEN(1,99999)/1000,RANDBETWEEN(1,9999)/100,RANDBETWEEN(1,999)/10,RANDBETWEEN(1,99))))","v":2},"litres","=",{"$f":"1000*C818","v":2000},"ml"]
[{"$f":"IF(COUNTIF($B$1:B819,TRUE)=COUNTIF($B$1:B818,TRUE),\"\",COUNTIF($B$1:B819,TRUE))","v":""},{"$f":"IF(Worksheet!$D$10=3,FALSE,Worksheet!$D$17)","v":false},{"$f":"IF(Worksheet!$D$6=1,RANDBETWEEN(1,99),IF(Worksheet!$D$6=2,CHOOSE(RANDBETWEEN(1,2),RANDBETWEEN(1,99),RANDBETWEEN(1,999)/10),CHOOSE(RANDBETWEEN(1,4),RANDBETWEEN(1,99999)/1000,RANDBETWEEN(1,9999)/100,RANDBETWEEN(1,999)/10,RANDBETWEEN(1,99))))","v":10},"litres","=",{"$f":"1000*C819","v":10000},"cm³"]
[{"$f":"IF(COUNTIF($B$1:B820,TRUE)=COUNTIF($B$1:B819,TRUE),\"\",COUNTIF($B$1:B820,TRUE))","v":""},{"$f":"IF(Worksheet!$D$10=3,FALSE,Worksheet!$D$18)","v":false},{"$f":"IF(Worksheet!$D$6=1,RANDBETWEEN(1,99),IF(Worksheet!$D$6=2,CHOOSE(RANDBETWEEN(1,2),RANDBETWEEN(1,99),RANDBETWEEN(1,999)/10),CHOOSE(RANDBETWEEN(1,4),RANDBETWEEN(1,99999)/1000,RANDBETWEEN(1,9999)/100,RANDBETWEEN(1,999)/10,RANDBETWEEN(1,99))))","v":52},"m²","=",{"$f":"10000*C820","v":520000},"cm²"]
[{"$f":"IF(COUNTIF($B$1:B821,TRUE)=COUNTIF($B$1:B820,TRUE),\"\",COUNTIF($B$1:B821,TRUE))","v":493},{"$f":"IF(Worksheet!$D$10=2,FALSE,Worksheet!$B$14)","v":true},{"$f":"10*F821","v":260},"mm","=",{"$f":"IF(Worksheet!$D$6=1,RANDBETWEEN(1,99),IF(Worksheet!$D$6=2,CHOOSE(RANDBETWEEN(1,2),RANDBETWEEN(1,99),RANDBETWEEN(1,999)/10),CHOOSE(RANDBETWEEN(1,4),RANDBETWEEN(1,99999)/1000,RANDBETWEEN(1,9999)/100,RANDBETWEEN(1,999)/10,RANDBETWEEN(1,99))))","v":26},"cm"]
[{"$f":"IF(COUNTIF($B$1:B822,TRUE)=COUNTIF($B$1:B821,TRUE),\"\",COUNTIF($B$1:B822,TRUE))","v":494},{"$f":"IF(Worksheet!$D$10=2,FALSE,Worksheet!$B$15)","v":true},{"$f":"100*F822","v":600},"cm","=",{"$f":"IF(Worksheet!$D$6=1,RANDBETWEEN(1,99),IF(Worksheet!$D$6=2,CHOOSE(RANDBETWEEN(1,2),RANDBETWEEN(1,99),RANDBETWEEN(1,999)/10),CHOOSE(RANDBETWEEN(1,4),RANDBETWEEN(1,99999)/1000,RANDBETWEEN(1,9999)/100,RANDBETWEEN(1,999)/10,RANDBETWEEN(1,99))))","v":6},"m"]
[{"$f":"IF(COUNTIF($B$1:B823,TRUE)=COUNTIF($B$1:B822,TRUE),\"\",COUNTIF($B$1:B823,TRUE))","v":495},{"$f":"IF(Worksheet!$D$10=2,FALSE,Worksheet!$B$16)","v":true},{"$f":"1000*F823","v":27000},"m","=",{"$f":"IF(Worksheet!$D$6=1,RANDBETWEEN(1,99),IF(Worksheet!$D$6=2,CHOOSE(RANDBETWEEN(1,2),RANDBETWEEN(1,99),RANDBETWEEN(1,999)/10),CHOOSE(RANDBETWEEN(1,4),RANDBETWEEN(1,99999)/1000,RANDBETWEEN(1,9999)/100,RANDBETWEEN(1,999)/10,RANDBETWEEN(1,99))))","v":27},"km"]
[{"$f":"IF(COUNTIF($B$1:B824,TRUE)=COUNTIF($B$1:B823,TRUE),\"\",COUNTIF($B$1:B824,TRUE))","v":""},{"$f":"IF(Worksheet!$D$10=2,FALSE,Worksheet!$B$17)","v":false},{"$f":"1000*F824","v":21000},"mm","=",{"$f":"IF(Worksheet!$D$6=1,RANDBETWEEN(1,99),IF(Worksheet!$D$6=2,CHOOSE(RANDBETWEEN(1,2),RANDBETWEEN(1,99),RANDBETWEEN(1,999)/10),CHOOSE(RANDBETWEEN(1,4),RANDBETWEEN(1,99999)/1000,RANDBETWEEN(1,9999)/100,RANDBETWEEN(1,999)/10,RANDBETWEEN(1,99))))","v":21},"m"]
[{"$f":"IF(COUNTIF($B$1:B825,TRUE)=COUNTIF($B$1:B824,TRUE),\"\",COUNTIF($B$1:B825,TRUE))","v":""},{"$f":"IF(Worksheet!$D$10=2,FALSE,Worksheet!$B$18)","v":false},{"$f":"100*F825","v":8200},"mm²","=",{"$f":"IF(Worksheet!$D$6=1,RANDBETWEEN(1,99),IF(Worksheet!$D$6=2,CHOOSE(RANDBETWEEN(1,2),RANDBETWEEN(1,99),RANDBETWEEN(1,999)/10),CHOOSE(RANDBETWEEN(1,4),RANDBETWEEN(1,99999)/1000,RANDBETWEEN(1,9999)/100,RANDBETWEEN(1,999)/10,RANDBETWEEN(1,99))))","v":82},"cm²"]
[{"$f":"IF(COUNTIF($B$1:B826,TRUE)=COUNTIF($B$1:B825,TRUE),\"\",COUNTIF($B$1:B826,TRUE))","v":496},{"$f":"IF(Worksheet!$D$10=2,FALSE,Worksheet!$D$14)","v":true},{"$f":"F826*1000","v":73000},"g","=",{"$f":"IF(Worksheet!$D$6=1,RANDBETWEEN(1,99),IF(Worksheet!$D$6=2,CHOOSE(RANDBETWEEN(1,2),RANDBETWEEN(1,99),RANDBETWEEN(1,999)/10),CHOOSE(RANDBETWEEN(1,4),RANDBETWEEN(1,99999)/1000,RANDBETWEEN(1,9999)/100,RANDBETWEEN(1,999)/10,RANDBETWEEN(1,99))))","v":73},"kg"]
[{"$f":"IF(COUNTIF($B$1:B827,TRUE)=COUNTIF($B$1:B826,TRUE),\"\",COUNTIF($B$1:B827,TRUE))","v":497},{"$f":"IF(Worksheet!$D$10=2,FALSE,Worksheet!$D$15)","v":true},{"$f":"F827*1000","v":87000},"kg","=",{"$f":"IF(Worksheet!$D$6=1,RANDBETWEEN(1,99),IF(Worksheet!$D$6=2,CHOOSE(RANDBETWEEN(1,2),RANDBETWEEN(1,99),RANDBETWEEN(1,999)/10),CHOOSE(RANDBETWEEN(1,4),RANDBETWEEN(1,99999)/1000,RANDBETWEEN(1,9999)/100,RANDBETWEEN(1,999)/10,RANDBETWEEN(1,99))))","v":87},"tonnes"]
[{"$f":"IF(COUNTIF($B$1:B828,TRUE)=COUNTIF($B$1:B827,TRUE),\"\",COUNTIF($B$1:B828,TRUE))","v":498},{"$f":"IF(Worksheet!$D$10=2,FALSE,Worksheet!$D$16)","v":true},{"$f":"1000*F828","v":85000},"ml","=",{"$f":"IF(Worksheet!$D$6=1,RANDBETWEEN(1,99),IF(Worksheet!$D$6=2,CHOOSE(RANDBETWEEN(1,2),RANDBETWEEN(1,99),RANDBETWEEN(1,999)/10),CHOOSE(RANDBETWEEN(1,4),RANDBETWEEN(1,99999)/1000,RANDBETWEEN(1,9999)/100,RANDBETWEEN(1,999)/10,RANDBETWEEN(1,99))))","v":85},"litres"]
[{"$f":"IF(COUNTIF($B$1:B829,TRUE)=COUNTIF($B$1:B828,TRUE),\"\",COUNTIF($B$1:B829,TRUE))","v":""},{"$f":"IF(Worksheet!$D$10=2,FALSE,Worksheet!$D$17)","v":false},{"$f":"1000*F829","v":66000},"cm³","=",{"$f":"IF(Worksheet!$D$6=1,RANDBETWEEN(1,99),IF(Worksheet!$D$6=2,CHOOSE(RANDBETWEEN(1,2),RANDBETWEEN(1,99),RANDBETWEEN(1,999)/10),CHOOSE(RANDBETWEEN(1,4),RANDBETWEEN(1,99999)/1000,RANDBETWEEN(1,9999)/100,RANDBETWEEN(1,999)/10,RANDBETWEEN(1,99))))","v":66},"litres"]
[{"$f":"IF(COUNTIF($B$1:B830,TRUE)=COUNTIF($B$1:B829,TRUE),\"\",COUNTIF($B$1:B830,TRUE))","v":""},{"$f":"IF(Worksheet!$D$10=2,FALSE,Worksheet!$D$18)","v":false},{"$f":"10000*F830","v":220000},"cm²","=",{"$f":"IF(Worksheet!$D$6=1,RANDBETWEEN(1,99),IF(Worksheet!$D$6=2,CHOOSE(RANDBETWEEN(1,2),RANDBETWEEN(1,99),RANDBETWEEN(1,999)/10),CHOOSE(RANDBETWEEN(1,4),RANDBETWEEN(1,99999)/1000,RANDBETWEEN(1,9999)/100,RANDBETWEEN(1,999)/10,RANDBETWEEN(1,99))))","v":22},"m²"]
[{"$f":"IF(COUNTIF($B$1:B831,TRUE)=COUNTIF($B$1:B830,TRUE),\"\",COUNTIF($B$1:B831,TRUE))","v":499},{"$f":"IF(Worksheet!$D$10=3,FALSE,Worksheet!$B$14)","v":true},{"$f":"IF(Worksheet!$D$6=1,RANDBETWEEN(1,99),IF(Worksheet!$D$6=2,CHOOSE(RANDBETWEEN(1,2),RANDBETWEEN(1,99),RANDBETWEEN(1,999)/10),CHOOSE(RANDBETWEEN(1,4),RANDBETWEEN(1,99999)/1000,RANDBETWEEN(1,9999)/100,RANDBETWEEN(1,999)/10,RANDBETWEEN(1,99))))","v":21},"cm","=",{"$f":"10*C831","v":210},"mm"]
[{"$f":"IF(COUNTIF($B$1:B832,TRUE)=COUNTIF($B$1:B831,TRUE),\"\",COUNTIF($B$1:B832,TRUE))","v":500},{"$f":"IF(Worksheet!$D$10=3,FALSE,Worksheet!$B$15)","v":true},{"$f":"IF(Worksheet!$D$6=1,RANDBETWEEN(1,99),IF(Worksheet!$D$6=2,CHOOSE(RANDBETWEEN(1,2),RANDBETWEEN(1,99),RANDBETWEEN(1,999)/10),CHOOSE(RANDBETWEEN(1,4),RANDBETWEEN(1,99999)/1000,RANDBETWEEN(1,9999)/100,RANDBETWEEN(1,999)/10,RANDBETWEEN(1,99))))","v":1},"m","=",{"$f":"100*C832","v":100},"cm"]
[{"$f":"IF(COUNTIF($B$1:B833,TRUE)=COUNTIF($B$1:B832,TRUE),\"\",COUNTIF($B$1:B833,TRUE))","v":501},{"$f":"IF(Worksheet!$D$10=3,FALSE,Worksheet!$B$16)","v":true},{"$f":"IF(Worksheet!$D$6=1,RANDBETWEEN(1,99),IF(Worksheet!$D$6=2,CHOOSE(RANDBETWEEN(1,2),RANDBETWEEN(1,99),RANDBETWEEN(1,999)/10),CHOOSE(RANDBETWEEN(1,4),RANDBETWEEN(1,99999)/1000,RANDBETWEEN(1,9999)/100,RANDBETWEEN(1,999)/10,RANDBETWEEN(1,99))))","v":17},"km","=",{"$f":"1000*C833","v":17000},"m"]
[{"$f":"IF(COUNTIF($B$1:B834,TRUE)=COUNTIF($B$1:B833,TRUE),\"\",COUNTIF($B$1:B834,TRUE))","v":""},{"$f":"IF(Worksheet!$D$10=3,FALSE,Worksheet!$B$17)","v":false},{"$f":"IF(Worksheet!$D$6=1,RANDBETWEEN(1,99),IF(Worksheet!$D$6=2,CHOOSE(RANDBETWEEN(1,2),RANDBETWEEN(1,99),RANDBETWEEN(1,999)/10),CHOOSE(RANDBETWEEN(1,4),RANDBETWEEN(1,99999)/1000,RANDBETWEEN(1,9999)/100,RANDBETWEEN(1,999)/10,RANDBETWEEN(1,99))))","v":66},"m",{"$f":"#REF!","v":{"$error":"#REF!"}},{"$f":"1000*C834","v":66000},"mm"]
[{"$f":"IF(COUNTIF($B$1:B835,TRUE)=COUNTIF($B$1:B834,TRUE),\"\",COUNTIF($B$1:B835,TRUE))","v":""},{"$f":"IF(Worksheet!$D$10=3,FALSE,Worksheet!$B$18)","v":false},{"$f":"IF(Worksheet!$D$6=1,RANDBETWEEN(1,99),IF(Worksheet!$D$6=2,CHOOSE(RANDBETWEEN(1,2),RANDBETWEEN(1,99),RANDBETWEEN(1,999)/10),CHOOSE(RANDBETWEEN(1,4),RANDBETWEEN(1,99999)/1000,RANDBETWEEN(1,9999)/100,RANDBETWEEN(1,999)/10,RANDBETWEEN(1,99))))","v":95},"cm²","=",{"$f":"C835*100","v":9500},"mm²"]
[{"$f":"IF(COUNTIF($B$1:B836,TRUE)=COUNTIF($B$1:B835,TRUE),\"\",COUNTIF($B$1:B836,TRUE))","v":502},{"$f":"IF(Worksheet!$D$10=3,FALSE,Worksheet!$D$14)","v":true},{"$f":"IF(Worksheet!$D$6=1,RANDBETWEEN(1,99),IF(Worksheet!$D$6=2,CHOOSE(RANDBETWEEN(1,2),RANDBETWEEN(1,99),RANDBETWEEN(1,999)/10),CHOOSE(RANDBETWEEN(1,4),RANDBETWEEN(1,99999)/1000,RANDBETWEEN(1,9999)/100,RANDBETWEEN(1,999)/10,RANDBETWEEN(1,99))))","v":28},"kg","=",{"$f":"1000*C836","v":28000},"g"]
[{"$f":"IF(COUNTIF($B$1:B837,TRUE)=COUNTIF($B$1:B836,TRUE),\"\",COUNTIF($B$1:B837,TRUE))","v":503},{"$f":"IF(Worksheet!$D$10=3,FALSE,Worksheet!$D$15)","v":true},{"$f":"IF(Worksheet!$D$6=1,RANDBETWEEN(1,99),IF(Worksheet!$D$6=2,CHOOSE(RANDBETWEEN(1,2),RANDBETWEEN(1,99),RANDBETWEEN(1,999)/10),CHOOSE(RANDBETWEEN(1,4),RANDBETWEEN(1,99999)/1000,RANDBETWEEN(1,9999)/100,RANDBETWEEN(1,999)/10,RANDBETWEEN(1,99))))","v":25},"tonnes","=",{"$f":"1000*C837","v":25000},"kg"]
[{"$f":"IF(COUNTIF($B$1:B838,TRUE)=COUNTIF($B$1:B837,TRUE),\"\",COUNTIF($B$1:B838,TRUE))","v":504},{"$f":"IF(Worksheet!$D$10=3,FALSE,Worksheet!$D$16)","v":true},{"$f":"IF(Worksheet!$D$6=1,RANDBETWEEN(1,99),IF(Worksheet!$D$6=2,CHOOSE(RANDBETWEEN(1,2),RANDBETWEEN(1,99),RANDBETWEEN(1,999)/10),CHOOSE(RANDBETWEEN(1,4),RANDBETWEEN(1,99999)/1000,RANDBETWEEN(1,9999)/100,RANDBETWEEN(1,999)/10,RANDBETWEEN(1,99))))","v":24},"litres","=",{"$f":"1000*C838","v":24000},"ml"]
[{"$f":"IF(COUNTIF($B$1:B839,TRUE)=COUNTIF($B$1:B838,TRUE),\"\",COUNTIF($B$1:B839,TRUE))","v":""},{"$f":"IF(Worksheet!$D$10=3,FALSE,Worksheet!$D$17)","v":false},{"$f":"IF(Worksheet!$D$6=1,RANDBETWEEN(1,99),IF(Worksheet!$D$6=2,CHOOSE(RANDBETWEEN(1,2),RANDBETWEEN(1,99),RANDBETWEEN(1,999)/10),CHOOSE(RANDBETWEEN(1,4),RANDBETWEEN(1,99999)/1000,RANDBETWEEN(1,9999)/100,RANDBETWEEN(1,999)/10,RANDBETWEEN(1,99))))","v":38},"litres","=",{"$f":"1000*C839","v":38000},"cm³"]
[{"$f":"IF(COUNTIF($B$1:B840,TRUE)=COUNTIF($B$1:B839,TRUE),\"\",COUNTIF($B$1:B840,TRUE))","v":""},{"$f":"IF(Worksheet!$D$10=3,FALSE,Worksheet!$D$18)","v":false},{"$f":"IF(Worksheet!$D$6=1,RANDBETWEEN(1,99),IF(Worksheet!$D$6=2,CHOOSE(RANDBETWEEN(1,2),RANDBETWEEN(1,99),RANDBETWEEN(1,999)/10),CHOOSE(RANDBETWEEN(1,4),RANDBETWEEN(1,99999)/1000,RANDBETWEEN(1,9999)/100,RANDBETWEEN(1,999)/10,RANDBETWEEN(1,99))))","v":36},"m²","=",{"$f":"10000*C840","v":360000},"cm²"]
[{"$f":"IF(COUNTIF($B$1:B841,TRUE)=COUNTIF($B$1:B840,TRUE),\"\",COUNTIF($B$1:B841,TRUE))","v":505},{"$f":"IF(Worksheet!$D$10=2,FALSE,Worksheet!$B$14)","v":true},{"$f":"10*F841","v":290},"mm","=",{"$f":"IF(Worksheet!$D$6=1,RANDBETWEEN(1,99),IF(Worksheet!$D$6=2,CHOOSE(RANDBETWEEN(1,2),RANDBETWEEN(1,99),RANDBETWEEN(1,999)/10),CHOOSE(RANDBETWEEN(1,4),RANDBETWEEN(1,99999)/1000,RANDBETWEEN(1,9999)/100,RANDBETWEEN(1,999)/10,RANDBETWEEN(1,99))))","v":29},"cm"]
[{"$f":"IF(COUNTIF($B$1:B842,TRUE)=COUNTIF($B$1:B841,TRUE),\"\",COUNTIF($B$1:B842,TRUE))","v":506},{"$f":"IF(Worksheet!$D$10=2,FALSE,Worksheet!$B$15)","v":true},{"$f":"100*F842","v":3700},"cm","=",{"$f":"IF(Worksheet!$D$6=1,RANDBETWEEN(1,99),IF(Worksheet!$D$6=2,CHOOSE(RANDBETWEEN(1,2),RANDBETWEEN(1,99),RANDBETWEEN(1,999)/10),CHOOSE(RANDBETWEEN(1,4),RANDBETWEEN(1,99999)/1000,RANDBETWEEN(1,9999)/100,RANDBETWEEN(1,999)/10,RANDBETWEEN(1,99))))","v":37},"m"]
[{"$f":"IF(COUNTIF($B$1:B843,TRUE)=COUNTIF($B$1:B842,TRUE),\"\",COUNTIF($B$1:B843,TRUE))","v":507},{"$f":"IF(Worksheet!$D$10=2,FALSE,Worksheet!$B$16)","v":true},{"$f":"1000*F843","v":13000},"m","=",{"$f":"IF(Worksheet!$D$6=1,RANDBETWEEN(1,99),IF(Worksheet!$D$6=2,CHOOSE(RANDBETWEEN(1,2),RANDBETWEEN(1,99),RANDBETWEEN(1,999)/10),CHOOSE(RANDBETWEEN(1,4),RANDBETWEEN(1,99999)/1000,RANDBETWEEN(1,9999)/100,RANDBETWEEN(1,999)/10,RANDBETWEEN(1,99))))","v":13},"km"]
[{"$f":"IF(COUNTIF($B$1:B844,TRUE)=COUNTIF($B$1:B843,TRUE),\"\",COUNTIF($B$1:B844,TRUE))","v":""},{"$f":"IF(Worksheet!$D$10=2,FALSE,Worksheet!$B$17)","v":false},{"$f":"1000*F844","v":82000},"mm","=",{"$f":"IF(Worksheet!$D$6=1,RANDBETWEEN(1,99),IF(Worksheet!$D$6=2,CHOOSE(RANDBETWEEN(1,2),RANDBETWEEN(1,99),RANDBETWEEN(1,999)/10),CHOOSE(RANDBETWEEN(1,4),RANDBETWEEN(1,99999)/1000,RANDBETWEEN(1,9999)/100,RANDBETWEEN(1,999)/10,RANDBETWEEN(1,99))))","v":82},"m"]
[{"$f":"IF(COUNTIF($B$1:B845,TRUE)=COUNTIF($B$1:B844,TRUE),\"\",COUNTIF($B$1:B845,TRUE))","v":""},{"$f":"IF(Worksheet!$D$10=2,FALSE,Worksheet!$B$18)","v":false},{"$f":"100*F845","v":7700},"mm²","=",{"$f":"IF(Worksheet!$D$6=1,RANDBETWEEN(1,99),IF(Worksheet!$D$6=2,CHOOSE(RANDBETWEEN(1,2),RANDBETWEEN(1,99),RANDBETWEEN(1,999)/10),CHOOSE(RANDBETWEEN(1,4),RANDBETWEEN(1,99999)/1000,RANDBETWEEN(1,9999)/100,RANDBETWEEN(1,999)/10,RANDBETWEEN(1,99))))","v":77},"cm²"]
[{"$f":"IF(COUNTIF($B$1:B846,TRUE)=COUNTIF($B$1:B845,TRUE),\"\",COUNTIF($B$1:B846,TRUE))","v":508},{"$f":"IF(Worksheet!$D$10=2,FALSE,Worksheet!$D$14)","v":true},{"$f":"F846*1000","v":87000},"g","=",{"$f":"IF(Worksheet!$D$6=1,RANDBETWEEN(1,99),IF(Worksheet!$D$6=2,CHOOSE(RANDBETWEEN(1,2),RANDBETWEEN(1,99),RANDBETWEEN(1,999)/10),CHOOSE(RANDBETWEEN(1,4),RANDBETWEEN(1,99999)/1000,RANDBETWEEN(1,9999)/100,RANDBETWEEN(1,999)/10,RANDBETWEEN(1,99))))","v":87},"kg"]
[{"$f":"IF(COUNTIF($B$1:B847,TRUE)=COUNTIF($B$1:B846,TRUE),\"\",COUNTIF($B$1:B847,TRUE))","v":509},{"$f":"IF(Worksheet!$D$10=2,FALSE,Worksheet!$D$15)","v":true},{"$f":"F847*1000","v":90000},"kg","=",{"$f":"IF(Worksheet!$D$6=1,RANDBETWEEN(1,99),IF(Worksheet!$D$6=2,CHOOSE(RANDBETWEEN(1,2),RANDBETWEEN(1,99),RANDBETWEEN(1,999)/10),CHOOSE(RANDBETWEEN(1,4),RANDBETWEEN(1,99999)/1000,RANDBETWEEN(1,9999)/100,RANDBETWEEN(1,999)/10,RANDBETWEEN(1,99))))","v":90},"tonnes"]
[{"$f":"IF(COUNTIF($B$1:B848,TRUE)=COUNTIF($B$1:B847,TRUE),\"\",COUNTIF($B$1:B848,TRUE))","v":510},{"$f":"IF(Worksheet!$D$10=2,FALSE,Worksheet!$D$16)","v":true},{"$f":"1000*F848","v":63000},"ml","=",{"$f":"IF(Worksheet!$D$6=1,RANDBETWEEN(1,99),IF(Worksheet!$D$6=2,CHOOSE(RANDBETWEEN(1,2),RANDBETWEEN(1,99),RANDBETWEEN(1,999)/10),CHOOSE(RANDBETWEEN(1,4),RANDBETWEEN(1,99999)/1000,RANDBETWEEN(1,9999)/100,RANDBETWEEN(1,999)/10,RANDBETWEEN(1,99))))","v":63},"litres"]
[{"$f":"IF(COUNTIF($B$1:B849,TRUE)=COUNTIF($B$1:B848,TRUE),\"\",COUNTIF($B$1:B849,TRUE))","v":""},{"$f":"IF(Worksheet!$D$10=2,FALSE,Worksheet!$D$17)","v":false},{"$f":"1000*F849","v":65000},"cm³","=",{"$f":"IF(Worksheet!$D$6=1,RANDBETWEEN(1,99),IF(Worksheet!$D$6=2,CHOOSE(RANDBETWEEN(1,2),RANDBETWEEN(1,99),RANDBETWEEN(1,999)/10),CHOOSE(RANDBETWEEN(1,4),RANDBETWEEN(1,99999)/1000,RANDBETWEEN(1,9999)/100,RANDBETWEEN(1,999)/10,RANDBETWEEN(1,99))))","v":65},"litres"]
[{"$f":"IF(COUNTIF($B$1:B850,TRUE)=COUNTIF($B$1:B849,TRUE),\"\",COUNTIF($B$1:B850,TRUE))","v":""},{"$f":"IF(Worksheet!$D$10=2,FALSE,Worksheet!$D$18)","v":false},{"$f":"10000*F850","v":640000},"cm²","=",{"$f":"IF(Worksheet!$D$6=1,RANDBETWEEN(1,99),IF(Worksheet!$D$6=2,CHOOSE(RANDBETWEEN(1,2),RANDBETWEEN(1,99),RANDBETWEEN(1,999)/10),CHOOSE(RANDBETWEEN(1,4),RANDBETWEEN(1,99999)/1000,RANDBETWEEN(1,9999)/100,RANDBETWEEN(1,999)/10,RANDBETWEEN(1,99))))","v":64},"m²"]
[{"$f":"IF(COUNTIF($B$1:B851,TRUE)=COUNTIF($B$1:B850,TRUE),\"\",COUNTIF($B$1:B851,TRUE))","v":511},{"$f":"IF(Worksheet!$D$10=3,FALSE,Worksheet!$B$14)","v":true},{"$f":"IF(Worksheet!$D$6=1,RANDBETWEEN(1,99),IF(Worksheet!$D$6=2,CHOOSE(RANDBETWEEN(1,2),RANDBETWEEN(1,99),RANDBETWEEN(1,999)/10),CHOOSE(RANDBETWEEN(1,4),RANDBETWEEN(1,99999)/1000,RANDBETWEEN(1,9999)/100,RANDBETWEEN(1,999)/10,RANDBETWEEN(1,99))))","v":67},"cm","=",{"$f":"10*C851","v":670},"mm"]
[{"$f":"IF(COUNTIF($B$1:B852,TRUE)=COUNTIF($B$1:B851,TRUE),\"\",COUNTIF($B$1:B852,TRUE))","v":512},{"$f":"IF(Worksheet!$D$10=3,FALSE,Worksheet!$B$15)","v":true},{"$f":"IF(Worksheet!$D$6=1,RANDBETWEEN(1,99),IF(Worksheet!$D$6=2,CHOOSE(RANDBETWEEN(1,2),RANDBETWEEN(1,99),RANDBETWEEN(1,999)/10),CHOOSE(RANDBETWEEN(1,4),RANDBETWEEN(1,99999)/1000,RANDBETWEEN(1,9999)/100,RANDBETWEEN(1,999)/10,RANDBETWEEN(1,99))))","v":23},"m","=",{"$f":"100*C852","v":2300},"cm"]
[{"$f":"IF(COUNTIF($B$1:B853,TRUE)=COUNTIF($B$1:B852,TRUE),\"\",COUNTIF($B$1:B853,TRUE))","v":513},{"$f":"IF(Worksheet!$D$10=3,FALSE,Worksheet!$B$16)","v":true},{"$f":"IF(Worksheet!$D$6=1,RANDBETWEEN(1,99),IF(Worksheet!$D$6=2,CHOOSE(RANDBETWEEN(1,2),RANDBETWEEN(1,99),RANDBETWEEN(1,999)/10),CHOOSE(RANDBETWEEN(1,4),RANDBETWEEN(1,99999)/1000,RANDBETWEEN(1,9999)/100,RANDBETWEEN(1,999)/10,RANDBETWEEN(1,99))))","v":18},"km","=",{"$f":"1000*C853","v":18000},"m"]
[{"$f":"IF(COUNTIF($B$1:B854,TRUE)=COUNTIF($B$1:B853,TRUE),\"\",COUNTIF($B$1:B854,TRUE))","v":""},{"$f":"IF(Worksheet!$D$10=3,FALSE,Worksheet!$B$17)","v":false},{"$f":"IF(Worksheet!$D$6=1,RANDBETWEEN(1,99),IF(Worksheet!$D$6=2,CHOOSE(RANDBETWEEN(1,2),RANDBETWEEN(1,99),RANDBETWEEN(1,999)/10),CHOOSE(RANDBETWEEN(1,4),RANDBETWEEN(1,99999)/1000,RANDBETWEEN(1,9999)/100,RANDBETWEEN(1,999)/10,RANDBETWEEN(1,99))))","v":18},"m",{"$f":"#REF!","v":{"$error":"#REF!"}},{"$f":"1000*C854","v":18000},"mm"]
[{"$f":"IF(COUNTIF($B$1:B855,TRUE)=COUNTIF($B$1:B854,TRUE),\"\",COUNTIF($B$1:B855,TRUE))","v":""},{"$f":"IF(Worksheet!$D$10=3,FALSE,Worksheet!$B$18)","v":false},{"$f":"IF(Worksheet!$D$6=1,RANDBETWEEN(1,99),IF(Worksheet!$D$6=2,CHOOSE(RANDBETWEEN(1,2),RANDBETWEEN(1,99),RANDBETWEEN(1,999)/10),CHOOSE(RANDBETWEEN(1,4),RANDBETWEEN(1,99999)/1000,RANDBETWEEN(1,9999)/100,RANDBETWEEN(1,999)/10,RANDBETWEEN(1,99))))","v":56},"cm²","=",{"$f":"C855*100","v":5600},"mm²"]
[{"$f":"IF(COUNTIF($B$1:B856,TRUE)=COUNTIF($B$1:B855,TRUE),\"\",COUNTIF($B$1:B856,TRUE))","v":514},{"$f":"IF(Worksheet!$D$10=3,FALSE,Worksheet!$D$14)","v":true},{"$f":"IF(Worksheet!$D$6=1,RANDBETWEEN(1,99),IF(Worksheet!$D$6=2,CHOOSE(RANDBETWEEN(1,2),RANDBETWEEN(1,99),RANDBETWEEN(1,999)/10),CHOOSE(RANDBETWEEN(1,4),RANDBETWEEN(1,99999)/1000,RANDBETWEEN(1,9999)/100,RANDBETWEEN(1,999)/10,RANDBETWEEN(1,99))))","v":23},"kg","=",{"$f":"1000*C856","v":23000},"g"]
[{"$f":"IF(COUNTIF($B$1:B857,TRUE)=COUNTIF($B$1:B856,TRUE),\"\",COUNTIF($B$1:B857,TRUE))","v":515},{"$f":"IF(Worksheet!$D$10=3,FALSE,Worksheet!$D$15)","v":true},{"$f":"IF(Worksheet!$D$6=1,RANDBETWEEN(1,99),IF(Worksheet!$D$6=2,CHOOSE(RANDBETWEEN(1,2),RANDBETWEEN(1,99),RANDBETWEEN(1,999)/10),CHOOSE(RANDBETWEEN(1,4),RANDBETWEEN(1,99999)/1000,RANDBETWEEN(1,9999)/100,RANDBETWEEN(1,999)/10,RANDBETWEEN(1,99))))","v":50},"tonnes","=",{"$f":"1000*C857","v":50000},"kg"]
[{"$f":"IF(COUNTIF($B$1:B858,TRUE)=COUNTIF($B$1:B857,TRUE),\"\",COUNTIF($B$1:B858,TRUE))","v":516},{"$f":"IF(Worksheet!$D$10=3,FALSE,Worksheet!$D$16)","v":true},{"$f":"IF(Worksheet!$D$6=1,RANDBETWEEN(1,99),IF(Worksheet!$D$6=2,CHOOSE(RANDBETWEEN(1,2),RANDBETWEEN(1,99),RANDBETWEEN(1,999)/10),CHOOSE(RANDBETWEEN(1,4),RANDBETWEEN(1,99999)/1000,RANDBETWEEN(1,9999)/100,RANDBETWEEN(1,999)/10,RANDBETWEEN(1,99))))","v":66},"litres","=",{"$f":"1000*C858","v":66000},"ml"]
[{"$f":"IF(COUNTIF($B$1:B859,TRUE)=COUNTIF($B$1:B858,TRUE),\"\",COUNTIF($B$1:B859,TRUE))","v":""},{"$f":"IF(Worksheet!$D$10=3,FALSE,Worksheet!$D$17)","v":false},{"$f":"IF(Worksheet!$D$6=1,RANDBETWEEN(1,99),IF(Worksheet!$D$6=2,CHOOSE(RANDBETWEEN(1,2),RANDBETWEEN(1,99),RANDBETWEEN(1,999)/10),CHOOSE(RANDBETWEEN(1,4),RANDBETWEEN(1,99999)/1000,RANDBETWEEN(1,9999)/100,RANDBETWEEN(1,999)/10,RANDBETWEEN(1,99))))","v":86},"litres","=",{"$f":"1000*C859","v":86000},"cm³"]
[{"$f":"IF(COUNTIF($B$1:B860,TRUE)=COUNTIF($B$1:B859,TRUE),\"\",COUNTIF($B$1:B860,TRUE))","v":""},{"$f":"IF(Worksheet!$D$10=3,FALSE,Worksheet!$D$18)","v":false},{"$f":"IF(Worksheet!$D$6=1,RANDBETWEEN(1,99),IF(Worksheet!$D$6=2,CHOOSE(RANDBETWEEN(1,2),RANDBETWEEN(1,99),RANDBETWEEN(1,999)/10),CHOOSE(RANDBETWEEN(1,4),RANDBETWEEN(1,99999)/1000,RANDBETWEEN(1,9999)/100,RANDBETWEEN(1,999)/10,RANDBETWEEN(1,99))))","v":17},"m²","=",{"$f":"10000*C860","v":170000},"cm²"]
[{"$f":"IF(COUNTIF($B$1:B861,TRUE)=COUNTIF($B$1:B860,TRUE),\"\",COUNTIF($B$1:B861,TRUE))","v":517},{"$f":"IF(Worksheet!$D$10=2,FALSE,Worksheet!$B$14)","v":true},{"$f":"10*F861","v":960},"mm","=",{"$f":"IF(Worksheet!$D$6=1,RANDBETWEEN(1,99),IF(Worksheet!$D$6=2,CHOOSE(RANDBETWEEN(1,2),RANDBETWEEN(1,99),RANDBETWEEN(1,999)/10),CHOOSE(RANDBETWEEN(1,4),RANDBETWEEN(1,99999)/1000,RANDBETWEEN(1,9999)/100,RANDBETWEEN(1,999)/10,RANDBETWEEN(1,99))))","v":96},"cm"]
[{"$f":"IF(COUNTIF($B$1:B862,TRUE)=COUNTIF($B$1:B861,TRUE),\"\",COUNTIF($B$1:B862,TRUE))","v":518},{"$f":"IF(Worksheet!$D$10=2,FALSE,Worksheet!$B$15)","v":true},{"$f":"100*F862","v":800},"cm","=",{"$f":"IF(Worksheet!$D$6=1,RANDBETWEEN(1,99),IF(Worksheet!$D$6=2,CHOOSE(RANDBETWEEN(1,2),RANDBETWEEN(1,99),RANDBETWEEN(1,999)/10),CHOOSE(RANDBETWEEN(1,4),RANDBETWEEN(1,99999)/1000,RANDBETWEEN(1,9999)/100,RANDBETWEEN(1,999)/10,RANDBETWEEN(1,99))))","v":8},"m"]
[{"$f":"IF(COUNTIF($B$1:B863,TRUE)=COUNTIF($B$1:B862,TRUE),\"\",COUNTIF($B$1:B863,TRUE))","v":519},{"$f":"IF(Worksheet!$D$10=2,FALSE,Worksheet!$B$16)","v":true},{"$f":"1000*F863","v":31000},"m","=",{"$f":"IF(Worksheet!$D$6=1,RANDBETWEEN(1,99),IF(Worksheet!$D$6=2,CHOOSE(RANDBETWEEN(1,2),RANDBETWEEN(1,99),RANDBETWEEN(1,999)/10),CHOOSE(RANDBETWEEN(1,4),RANDBETWEEN(1,99999)/1000,RANDBETWEEN(1,9999)/100,RANDBETWEEN(1,999)/10,RANDBETWEEN(1,99))))","v":31},"km"]
[{"$f":"IF(COUNTIF($B$1:B864,TRUE)=COUNTIF($B$1:B863,TRUE),\"\",COUNTIF($B$1:B864,TRUE))","v":""},{"$f":"IF(Worksheet!$D$10=2,FALSE,Worksheet!$B$17)","v":false},{"$f":"1000*F864","v":18000},"mm","=",{"$f":"IF(Worksheet!$D$6=1,RANDBETWEEN(1,99),IF(Worksheet!$D$6=2,CHOOSE(RANDBETWEEN(1,2),RANDBETWEEN(1,99),RANDBETWEEN(1,999)/10),CHOOSE(RANDBETWEEN(1,4),RANDBETWEEN(1,99999)/1000,RANDBETWEEN(1,9999)/100,RANDBETWEEN(1,999)/10,RANDBETWEEN(1,99))))","v":18},"m"]
[{"$f":"IF(COUNTIF($B$1:B865,TRUE)=COUNTIF($B$1:B864,TRUE),\"\",COUNTIF($B$1:B865,TRUE))","v":""},{"$f":"IF(Worksheet!$D$10=2,FALSE,Worksheet!$B$18)","v":false},{"$f":"100*F865","v":1900},"mm²","=",{"$f":"IF(Worksheet!$D$6=1,RANDBETWEEN(1,99),IF(Worksheet!$D$6=2,CHOOSE(RANDBETWEEN(1,2),RANDBETWEEN(1,99),RANDBETWEEN(1,999)/10),CHOOSE(RANDBETWEEN(1,4),RANDBETWEEN(1,99999)/1000,RANDBETWEEN(1,9999)/100,RANDBETWEEN(1,999)/10,RANDBETWEEN(1,99))))","v":19},"cm²"]
[{"$f":"IF(COUNTIF($B$1:B866,TRUE)=COUNTIF($B$1:B865,TRUE),\"\",COUNTIF($B$1:B866,TRUE))","v":520},{"$f":"IF(Worksheet!$D$10=2,FALSE,Worksheet!$D$14)","v":true},{"$f":"F866*1000","v":42000},"g","=",{"$f":"IF(Worksheet!$D$6=1,RANDBETWEEN(1,99),IF(Worksheet!$D$6=2,CHOOSE(RANDBETWEEN(1,2),RANDBETWEEN(1,99),RANDBETWEEN(1,999)/10),CHOOSE(RANDBETWEEN(1,4),RANDBETWEEN(1,99999)/1000,RANDBETWEEN(1,9999)/100,RANDBETWEEN(1,999)/10,RANDBETWEEN(1,99))))","v":42},"kg"]
[{"$f":"IF(COUNTIF($B$1:B867,TRUE)=COUNTIF($B$1:B866,TRUE),\"\",COUNTIF($B$1:B867,TRUE))","v":521},{"$f":"IF(Worksheet!$D$10=2,FALSE,Worksheet!$D$15)","v":true},{"$f":"F867*1000","v":28000},"kg","=",{"$f":"IF(Worksheet!$D$6=1,RANDBETWEEN(1,99),IF(Worksheet!$D$6=2,CHOOSE(RANDBETWEEN(1,2),RANDBETWEEN(1,99),RANDBETWEEN(1,999)/10),CHOOSE(RANDBETWEEN(1,4),RANDBETWEEN(1,99999)/1000,RANDBETWEEN(1,9999)/100,RANDBETWEEN(1,999)/10,RANDBETWEEN(1,99))))","v":28},"tonnes"]
[{"$f":"IF(COUNTIF($B$1:B868,TRUE)=COUNTIF($B$1:B867,TRUE),\"\",COUNTIF($B$1:B868,TRUE))","v":522},{"$f":"IF(Worksheet!$D$10=2,FALSE,Worksheet!$D$16)","v":true},{"$f":"1000*F868","v":28000},"ml","=",{"$f":"IF(Worksheet!$D$6=1,RANDBETWEEN(1,99),IF(Worksheet!$D$6=2,CHOOSE(RANDBETWEEN(1,2),RANDBETWEEN(1,99),RANDBETWEEN(1,999)/10),CHOOSE(RANDBETWEEN(1,4),RANDBETWEEN(1,99999)/1000,RANDBETWEEN(1,9999)/100,RANDBETWEEN(1,999)/10,RANDBETWEEN(1,99))))","v":28},"litres"]
[{"$f":"IF(COUNTIF($B$1:B869,TRUE)=COUNTIF($B$1:B868,TRUE),\"\",COUNTIF($B$1:B869,TRUE))","v":""},{"$f":"IF(Worksheet!$D$10=2,FALSE,Worksheet!$D$17)","v":false},{"$f":"1000*F869","v":20000},"cm³","=",{"$f":"IF(Worksheet!$D$6=1,RANDBETWEEN(1,99),IF(Worksheet!$D$6=2,CHOOSE(RANDBETWEEN(1,2),RANDBETWEEN(1,99),RANDBETWEEN(1,999)/10),CHOOSE(RANDBETWEEN(1,4),RANDBETWEEN(1,99999)/1000,RANDBETWEEN(1,9999)/100,RANDBETWEEN(1,999)/10,RANDBETWEEN(1,99))))","v":20},"litres"]
[{"$f":"IF(COUNTIF($B$1:B870,TRUE)=COUNTIF($B$1:B869,TRUE),\"\",COUNTIF($B$1:B870,TRUE))","v":""},{"$f":"IF(Worksheet!$D$10=2,FALSE,Worksheet!$D$18)","v":false},{"$f":"10000*F870","v":250000},"cm²","=",{"$f":"IF(Worksheet!$D$6=1,RANDBETWEEN(1,99),IF(Worksheet!$D$6=2,CHOOSE(RANDBETWEEN(1,2),RANDBETWEEN(1,99),RANDBETWEEN(1,999)/10),CHOOSE(RANDBETWEEN(1,4),RANDBETWEEN(1,99999)/1000,RANDBETWEEN(1,9999)/100,RANDBETWEEN(1,999)/10,RANDBETWEEN(1,99))))","v":25},"m²"]
[{"$f":"IF(COUNTIF($B$1:B871,TRUE)=COUNTIF($B$1:B870,TRUE),\"\",COUNTIF($B$1:B871,TRUE))","v":523},{"$f":"IF(Worksheet!$D$10=3,FALSE,Worksheet!$B$14)","v":true},{"$f":"IF(Worksheet!$D$6=1,RANDBETWEEN(1,99),IF(Worksheet!$D$6=2,CHOOSE(RANDBETWEEN(1,2),RANDBETWEEN(1,99),RANDBETWEEN(1,999)/10),CHOOSE(RANDBETWEEN(1,4),RANDBETWEEN(1,99999)/1000,RANDBETWEEN(1,9999)/100,RANDBETWEEN(1,999)/10,RANDBETWEEN(1,99))))","v":69},"cm","=",{"$f":"10*C871","v":690},"mm"]
[{"$f":"IF(COUNTIF($B$1:B872,TRUE)=COUNTIF($B$1:B871,TRUE),\"\",COUNTIF($B$1:B872,TRUE))","v":524},{"$f":"IF(Worksheet!$D$10=3,FALSE,Worksheet!$B$15)","v":true},{"$f":"IF(Worksheet!$D$6=1,RANDBETWEEN(1,99),IF(Worksheet!$D$6=2,CHOOSE(RANDBETWEEN(1,2),RANDBETWEEN(1,99),RANDBETWEEN(1,999)/10),CHOOSE(RANDBETWEEN(1,4),RANDBETWEEN(1,99999)/1000,RANDBETWEEN(1,9999)/100,RANDBETWEEN(1,999)/10,RANDBETWEEN(1,99))))","v":64},"m","=",{"$f":"100*C872","v":6400},"cm"]
[{"$f":"IF(COUNTIF($B$1:B873,TRUE)=COUNTIF($B$1:B872,TRUE),\"\",COUNTIF($B$1:B873,TRUE))","v":525},{"$f":"IF(Worksheet!$D$10=3,FALSE,Worksheet!$B$16)","v":true},{"$f":"IF(Worksheet!$D$6=1,RANDBETWEEN(1,99),IF(Worksheet!$D$6=2,CHOOSE(RANDBETWEEN(1,2),RANDBETWEEN(1,99),RANDBETWEEN(1,999)/10),CHOOSE(RANDBETWEEN(1,4),RANDBETWEEN(1,99999)/1000,RANDBETWEEN(1,9999)/100,RANDBETWEEN(1,999)/10,RANDBETWEEN(1,99))))","v":96},"km","=",{"$f":"1000*C873","v":96000},"m"]
[{"$f":"IF(COUNTIF($B$1:B874,TRUE)=COUNTIF($B$1:B873,TRUE),\"\",COUNTIF($B$1:B874,TRUE))","v":""},{"$f":"IF(Worksheet!$D$10=3,FALSE,Worksheet!$B$17)","v":false},{"$f":"IF(Worksheet!$D$6=1,RANDBETWEEN(1,99),IF(Worksheet!$D$6=2,CHOOSE(RANDBETWEEN(1,2),RANDBETWEEN(1,99),RANDBETWEEN(1,999)/10),CHOOSE(RANDBETWEEN(1,4),RANDBETWEEN(1,99999)/1000,RANDBETWEEN(1,9999)/100,RANDBETWEEN(1,999)/10,RANDBETWEEN(1,99))))","v":6},"m",{"$f":"#REF!","v":{"$error":"#REF!"}},{"$f":"1000*C874","v":6000},"mm"]
[{"$f":"IF(COUNTIF($B$1:B875,TRUE)=COUNTIF($B$1:B874,TRUE),\"\",COUNTIF($B$1:B875,TRUE))","v":""},{"$f":"IF(Worksheet!$D$10=3,FALSE,Worksheet!$B$18)","v":false},{"$f":"IF(Worksheet!$D$6=1,RANDBETWEEN(1,99),IF(Worksheet!$D$6=2,CHOOSE(RANDBETWEEN(1,2),RANDBETWEEN(1,99),RANDBETWEEN(1,999)/10),CHOOSE(RANDBETWEEN(1,4),RANDBETWEEN(1,99999)/1000,RANDBETWEEN(1,9999)/100,RANDBETWEEN(1,999)/10,RANDBETWEEN(1,99))))","v":51},"cm²","=",{"$f":"C875*100","v":5100},"mm²"]
[{"$f":"IF(COUNTIF($B$1:B876,TRUE)=COUNTIF($B$1:B875,TRUE),\"\",COUNTIF($B$1:B876,TRUE))","v":526},{"$f":"IF(Worksheet!$D$10=3,FALSE,Worksheet!$D$14)","v":true},{"$f":"IF(Worksheet!$D$6=1,RANDBETWEEN(1,99),IF(Worksheet!$D$6=2,CHOOSE(RANDBETWEEN(1,2),RANDBETWEEN(1,99),RANDBETWEEN(1,999)/10),CHOOSE(RANDBETWEEN(1,4),RANDBETWEEN(1,99999)/1000,RANDBETWEEN(1,9999)/100,RANDBETWEEN(1,999)/10,RANDBETWEEN(1,99))))","v":30},"kg","=",{"$f":"1000*C876","v":30000},"g"]
[{"$f":"IF(COUNTIF($B$1:B877,TRUE)=COUNTIF($B$1:B876,TRUE),\"\",COUNTIF($B$1:B877,TRUE))","v":527},{"$f":"IF(Worksheet!$D$10=3,FALSE,Worksheet!$D$15)","v":true},{"$f":"IF(Worksheet!$D$6=1,RANDBETWEEN(1,99),IF(Worksheet!$D$6=2,CHOOSE(RANDBETWEEN(1,2),RANDBETWEEN(1,99),RANDBETWEEN(1,999)/10),CHOOSE(RANDBETWEEN(1,4),RANDBETWEEN(1,99999)/1000,RANDBETWEEN(1,9999)/100,RANDBETWEEN(1,999)/10,RANDBETWEEN(1,99))))","v":49},"tonnes","=",{"$f":"1000*C877","v":49000},"kg"]
[{"$f":"IF(COUNTIF($B$1:B878,TRUE)=COUNTIF($B$1:B877,TRUE),\"\",COUNTIF($B$1:B878,TRUE))","v":528},{"$f":"IF(Worksheet!$D$10=3,FALSE,Worksheet!$D$16)","v":true},{"$f":"IF(Worksheet!$D$6=1,RANDBETWEEN(1,99),IF(Worksheet!$D$6=2,CHOOSE(RANDBETWEEN(1,2),RANDBETWEEN(1,99),RANDBETWEEN(1,999)/10),CHOOSE(RANDBETWEEN(1,4),RANDBETWEEN(1,99999)/1000,RANDBETWEEN(1,9999)/100,RANDBETWEEN(1,999)/10,RANDBETWEEN(1,99))))","v":20},"litres","=",{"$f":"1000*C878","v":20000},"ml"]
[{"$f":"IF(COUNTIF($B$1:B879,TRUE)=COUNTIF($B$1:B878,TRUE),\"\",COUNTIF($B$1:B879,TRUE))","v":""},{"$f":"IF(Worksheet!$D$10=3,FALSE,Worksheet!$D$17)","v":false},{"$f":"IF(Worksheet!$D$6=1,RANDBETWEEN(1,99),IF(Worksheet!$D$6=2,CHOOSE(RANDBETWEEN(1,2),RANDBETWEEN(1,99),RANDBETWEEN(1,999)/10),CHOOSE(RANDBETWEEN(1,4),RANDBETWEEN(1,99999)/1000,RANDBETWEEN(1,9999)/100,RANDBETWEEN(1,999)/10,RANDBETWEEN(1,99))))","v":48},"litres","=",{"$f":"1000*C879","v":48000},"cm³"]
[{"$f":"IF(COUNTIF($B$1:B880,TRUE)=COUNTIF($B$1:B879,TRUE),\"\",COUNTIF($B$1:B880,TRUE))","v":""},{"$f":"IF(Worksheet!$D$10=3,FALSE,Worksheet!$D$18)","v":false},{"$f":"IF(Worksheet!$D$6=1,RANDBETWEEN(1,99),IF(Worksheet!$D$6=2,CHOOSE(RANDBETWEEN(1,2),RANDBETWEEN(1,99),RANDBETWEEN(1,999)/10),CHOOSE(RANDBETWEEN(1,4),RANDBETWEEN(1,99999)/1000,RANDBETWEEN(1,9999)/100,RANDBETWEEN(1,999)/10,RANDBETWEEN(1,99))))","v":3},"m²","=",{"$f":"10000*C880","v":30000},"cm²"]
[{"$f":"IF(COUNTIF($B$1:B881,TRUE)=COUNTIF($B$1:B880,TRUE),\"\",COUNTIF($B$1:B881,TRUE))","v":529},{"$f":"IF(Worksheet!$D$10=2,FALSE,Worksheet!$B$14)","v":true},{"$f":"10*F881","v":480},"mm","=",{"$f":"IF(Worksheet!$D$6=1,RANDBETWEEN(1,99),IF(Worksheet!$D$6=2,CHOOSE(RANDBETWEEN(1,2),RANDBETWEEN(1,99),RANDBETWEEN(1,999)/10),CHOOSE(RANDBETWEEN(1,4),RANDBETWEEN(1,99999)/1000,RANDBETWEEN(1,9999)/100,RANDBETWEEN(1,999)/10,RANDBETWEEN(1,99))))","v":48},"cm"]
[{"$f":"IF(COUNTIF($B$1:B882,TRUE)=COUNTIF($B$1:B881,TRUE),\"\",COUNTIF($B$1:B882,TRUE))","v":530},{"$f":"IF(Worksheet!$D$10=2,FALSE,Worksheet!$B$15)","v":true},{"$f":"100*F882","v":5400},"cm","=",{"$f":"IF(Worksheet!$D$6=1,RANDBETWEEN(1,99),IF(Worksheet!$D$6=2,CHOOSE(RANDBETWEEN(1,2),RANDBETWEEN(1,99),RANDBETWEEN(1,999)/10),CHOOSE(RANDBETWEEN(1,4),RANDBETWEEN(1,99999)/1000,RANDBETWEEN(1,9999)/100,RANDBETWEEN(1,999)/10,RANDBETWEEN(1,99))))","v":54},"m"]
[{"$f":"IF(COUNTIF($B$1:B883,TRUE)=COUNTIF($B$1:B882,TRUE),\"\",COUNTIF($B$1:B883,TRUE))","v":531},{"$f":"IF(Worksheet!$D$10=2,FALSE,Worksheet!$B$16)","v":true},{"$f":"1000*F883","v":76000},"m","=",{"$f":"IF(Worksheet!$D$6=1,RANDBETWEEN(1,99),IF(Worksheet!$D$6=2,CHOOSE(RANDBETWEEN(1,2),RANDBETWEEN(1,99),RANDBETWEEN(1,999)/10),CHOOSE(RANDBETWEEN(1,4),RANDBETWEEN(1,99999)/1000,RANDBETWEEN(1,9999)/100,RANDBETWEEN(1,999)/10,RANDBETWEEN(1,99))))","v":76},"km"]
[{"$f":"IF(COUNTIF($B$1:B884,TRUE)=COUNTIF($B$1:B883,TRUE),\"\",COUNTIF($B$1:B884,TRUE))","v":""},{"$f":"IF(Worksheet!$D$10=2,FALSE,Worksheet!$B$17)","v":false},{"$f":"1000*F884","v":68000},"mm","=",{"$f":"IF(Worksheet!$D$6=1,RANDBETWEEN(1,99),IF(Worksheet!$D$6=2,CHOOSE(RANDBETWEEN(1,2),RANDBETWEEN(1,99),RANDBETWEEN(1,999)/10),CHOOSE(RANDBETWEEN(1,4),RANDBETWEEN(1,99999)/1000,RANDBETWEEN(1,9999)/100,RANDBETWEEN(1,999)/10,RANDBETWEEN(1,99))))","v":68},"m"]
[{"$f":"IF(COUNTIF($B$1:B885,TRUE)=COUNTIF($B$1:B884,TRUE),\"\",COUNTIF($B$1:B885,TRUE))","v":""},{"$f":"IF(Worksheet!$D$10=2,FALSE,Worksheet!$B$18)","v":false},{"$f":"100*F885","v":8100},"mm²","=",{"$f":"IF(Worksheet!$D$6=1,RANDBETWEEN(1,99),IF(Worksheet!$D$6=2,CHOOSE(RANDBETWEEN(1,2),RANDBETWEEN(1,99),RANDBETWEEN(1,999)/10),CHOOSE(RANDBETWEEN(1,4),RANDBETWEEN(1,99999)/1000,RANDBETWEEN(1,9999)/100,RANDBETWEEN(1,999)/10,RANDBETWEEN(1,99))))","v":81},"cm²"]
[{"$f":"IF(COUNTIF($B$1:B886,TRUE)=COUNTIF($B$1:B885,TRUE),\"\",COUNTIF($B$1:B886,TRUE))","v":532},{"$f":"IF(Worksheet!$D$10=2,FALSE,Worksheet!$D$14)","v":true},{"$f":"F886*1000","v":34000},"g","=",{"$f":"IF(Worksheet!$D$6=1,RANDBETWEEN(1,99),IF(Worksheet!$D$6=2,CHOOSE(RANDBETWEEN(1,2),RANDBETWEEN(1,99),RANDBETWEEN(1,999)/10),CHOOSE(RANDBETWEEN(1,4),RANDBETWEEN(1,99999)/1000,RANDBETWEEN(1,9999)/100,RANDBETWEEN(1,999)/10,RANDBETWEEN(1,99))))","v":34},"kg"]
[{"$f":"IF(COUNTIF($B$1:B887,TRUE)=COUNTIF($B$1:B886,TRUE),\"\",COUNTIF($B$1:B887,TRUE))","v":533},{"$f":"IF(Worksheet!$D$10=2,FALSE,Worksheet!$D$15)","v":true},{"$f":"F887*1000","v":51000},"kg","=",{"$f":"IF(Worksheet!$D$6=1,RANDBETWEEN(1,99),IF(Worksheet!$D$6=2,CHOOSE(RANDBETWEEN(1,2),RANDBETWEEN(1,99),RANDBETWEEN(1,999)/10),CHOOSE(RANDBETWEEN(1,4),RANDBETWEEN(1,99999)/1000,RANDBETWEEN(1,9999)/100,RANDBETWEEN(1,999)/10,RANDBETWEEN(1,99))))","v":51},"tonnes"]
[{"$f":"IF(COUNTIF($B$1:B888,TRUE)=COUNTIF($B$1:B887,TRUE),\"\",COUNTIF($B$1:B888,TRUE))","v":534},{"$f":"IF(Worksheet!$D$10=2,FALSE,Worksheet!$D$16)","v":true},{"$f":"1000*F888","v":50000},"ml","=",{"$f":"IF(Worksheet!$D$6=1,RANDBETWEEN(1,99),IF(Worksheet!$D$6=2,CHOOSE(RANDBETWEEN(1,2),RANDBETWEEN(1,99),RANDBETWEEN(1,999)/10),CHOOSE(RANDBETWEEN(1,4),RANDBETWEEN(1,99999)/1000,RANDBETWEEN(1,9999)/100,RANDBETWEEN(1,999)/10,RANDBETWEEN(1,99))))","v":50},"litres"]
[{"$f":"IF(COUNTIF($B$1:B889,TRUE)=COUNTIF($B$1:B888,TRUE),\"\",COUNTIF($B$1:B889,TRUE))","v":""},{"$f":"IF(Worksheet!$D$10=2,FALSE,Worksheet!$D$17)","v":false},{"$f":"1000*F889","v":79000},"cm³","=",{"$f":"IF(Worksheet!$D$6=1,RANDBETWEEN(1,99),IF(Worksheet!$D$6=2,CHOOSE(RANDBETWEEN(1,2),RANDBETWEEN(1,99),RANDBETWEEN(1,999)/10),CHOOSE(RANDBETWEEN(1,4),RANDBETWEEN(1,99999)/1000,RANDBETWEEN(1,9999)/100,RANDBETWEEN(1,999)/10,RANDBETWEEN(1,99))))","v":79},"litres"]
[{"$f":"IF(COUNTIF($B$1:B890,TRUE)=COUNTIF($B$1:B889,TRUE),\"\",COUNTIF($B$1:B890,TRUE))","v":""},{"$f":"IF(Worksheet!$D$10=2,FALSE,Worksheet!$D$18)","v":false},{"$f":"10000*F890","v":890000},"cm²","=",{"$f":"IF(Worksheet!$D$6=1,RANDBETWEEN(1,99),IF(Worksheet!$D$6=2,CHOOSE(RANDBETWEEN(1,2),RANDBETWEEN(1,99),RANDBETWEEN(1,999)/10),CHOOSE(RANDBETWEEN(1,4),RANDBETWEEN(1,99999)/1000,RANDBETWEEN(1,9999)/100,RANDBETWEEN(1,999)/10,RANDBETWEEN(1,99))))","v":89},"m²"]
[{"$f":"IF(COUNTIF($B$1:B891,TRUE)=COUNTIF($B$1:B890,TRUE),\"\",COUNTIF($B$1:B891,TRUE))","v":535},{"$f":"IF(Worksheet!$D$10=3,FALSE,Worksheet!$B$14)","v":true},{"$f":"IF(Worksheet!$D$6=1,RANDBETWEEN(1,99),IF(Worksheet!$D$6=2,CHOOSE(RANDBETWEEN(1,2),RANDBETWEEN(1,99),RANDBETWEEN(1,999)/10),CHOOSE(RANDBETWEEN(1,4),RANDBETWEEN(1,99999)/1000,RANDBETWEEN(1,9999)/100,RANDBETWEEN(1,999)/10,RANDBETWEEN(1,99))))","v":13},"cm","=",{"$f":"10*C891","v":130},"mm"]
[{"$f":"IF(COUNTIF($B$1:B892,TRUE)=COUNTIF($B$1:B891,TRUE),\"\",COUNTIF($B$1:B892,TRUE))","v":536},{"$f":"IF(Worksheet!$D$10=3,FALSE,Worksheet!$B$15)","v":true},{"$f":"IF(Worksheet!$D$6=1,RANDBETWEEN(1,99),IF(Worksheet!$D$6=2,CHOOSE(RANDBETWEEN(1,2),RANDBETWEEN(1,99),RANDBETWEEN(1,999)/10),CHOOSE(RANDBETWEEN(1,4),RANDBETWEEN(1,99999)/1000,RANDBETWEEN(1,9999)/100,RANDBETWEEN(1,999)/10,RANDBETWEEN(1,99))))","v":40},"m","=",{"$f":"100*C892","v":4000},"cm"]
[{"$f":"IF(COUNTIF($B$1:B893,TRUE)=COUNTIF($B$1:B892,TRUE),\"\",COUNTIF($B$1:B893,TRUE))","v":537},{"$f":"IF(Worksheet!$D$10=3,FALSE,Worksheet!$B$16)","v":true},{"$f":"IF(Worksheet!$D$6=1,RANDBETWEEN(1,99),IF(Worksheet!$D$6=2,CHOOSE(RANDBETWEEN(1,2),RANDBETWEEN(1,99),RANDBETWEEN(1,999)/10),CHOOSE(RANDBETWEEN(1,4),RANDBETWEEN(1,99999)/1000,RANDBETWEEN(1,9999)/100,RANDBETWEEN(1,999)/10,RANDBETWEEN(1,99))))","v":56},"km","=",{"$f":"1000*C893","v":56000},"m"]
[{"$f":"IF(COUNTIF($B$1:B894,TRUE)=COUNTIF($B$1:B893,TRUE),\"\",COUNTIF($B$1:B894,TRUE))","v":""},{"$f":"IF(Worksheet!$D$10=3,FALSE,Worksheet!$B$17)","v":false},{"$f":"IF(Worksheet!$D$6=1,RANDBETWEEN(1,99),IF(Worksheet!$D$6=2,CHOOSE(RANDBETWEEN(1,2),RANDBETWEEN(1,99),RANDBETWEEN(1,999)/10),CHOOSE(RANDBETWEEN(1,4),RANDBETWEEN(1,99999)/1000,RANDBETWEEN(1,9999)/100,RANDBETWEEN(1,999)/10,RANDBETWEEN(1,99))))","v":35},"m",{"$f":"#REF!","v":{"$error":"#REF!"}},{"$f":"1000*C894","v":35000},"mm"]
[{"$f":"IF(COUNTIF($B$1:B895,TRUE)=COUNTIF($B$1:B894,TRUE),\"\",COUNTIF($B$1:B895,TRUE))","v":""},{"$f":"IF(Worksheet!$D$10=3,FALSE,Worksheet!$B$18)","v":false},{"$f":"IF(Worksheet!$D$6=1,RANDBETWEEN(1,99),IF(Worksheet!$D$6=2,CHOOSE(RANDBETWEEN(1,2),RANDBETWEEN(1,99),RANDBETWEEN(1,999)/10),CHOOSE(RANDBETWEEN(1,4),RANDBETWEEN(1,99999)/1000,RANDBETWEEN(1,9999)/100,RANDBETWEEN(1,999)/10,RANDBETWEEN(1,99))))","v":30},"cm²","=",{"$f":"C895*100","v":3000},"mm²"]
[{"$f":"IF(COUNTIF($B$1:B896,TRUE)=COUNTIF($B$1:B895,TRUE),\"\",COUNTIF($B$1:B896,TRUE))","v":538},{"$f":"IF(Worksheet!$D$10=3,FALSE,Worksheet!$D$14)","v":true},{"$f":"IF(Worksheet!$D$6=1,RANDBETWEEN(1,99),IF(Worksheet!$D$6=2,CHOOSE(RANDBETWEEN(1,2),RANDBETWEEN(1,99),RANDBETWEEN(1,999)/10),CHOOSE(RANDBETWEEN(1,4),RANDBETWEEN(1,99999)/1000,RANDBETWEEN(1,9999)/100,RANDBETWEEN(1,999)/10,RANDBETWEEN(1,99))))","v":69},"kg","=",{"$f":"1000*C896","v":69000},"g"]
[{"$f":"IF(COUNTIF($B$1:B897,TRUE)=COUNTIF($B$1:B896,TRUE),\"\",COUNTIF($B$1:B897,TRUE))","v":539},{"$f":"IF(Worksheet!$D$10=3,FALSE,Worksheet!$D$15)","v":true},{"$f":"IF(Worksheet!$D$6=1,RANDBETWEEN(1,99),IF(Worksheet!$D$6=2,CHOOSE(RANDBETWEEN(1,2),RANDBETWEEN(1,99),RANDBETWEEN(1,999)/10),CHOOSE(RANDBETWEEN(1,4),RANDBETWEEN(1,99999)/1000,RANDBETWEEN(1,9999)/100,RANDBETWEEN(1,999)/10,RANDBETWEEN(1,99))))","v":8},"tonnes","=",{"$f":"1000*C897","v":8000},"kg"]
[{"$f":"IF(COUNTIF($B$1:B898,TRUE)=COUNTIF($B$1:B897,TRUE),\"\",COUNTIF($B$1:B898,TRUE))","v":540},{"$f":"IF(Worksheet!$D$10=3,FALSE,Worksheet!$D$16)","v":true},{"$f":"IF(Worksheet!$D$6=1,RANDBETWEEN(1,99),IF(Worksheet!$D$6=2,CHOOSE(RANDBETWEEN(1,2),RANDBETWEEN(1,99),RANDBETWEEN(1,999)/10),CHOOSE(RANDBETWEEN(1,4),RANDBETWEEN(1,99999)/1000,RANDBETWEEN(1,9999)/100,RANDBETWEEN(1,999)/10,RANDBETWEEN(1,99))))","v":11},"litres","=",{"$f":"1000*C898","v":11000},"ml"]
[{"$f":"IF(COUNTIF($B$1:B899,TRUE)=COUNTIF($B$1:B898,TRUE),\"\",COUNTIF($B$1:B899,TRUE))","v":""},{"$f":"IF(Worksheet!$D$10=3,FALSE,Worksheet!$D$17)","v":false},{"$f":"IF(Worksheet!$D$6=1,RANDBETWEEN(1,99),IF(Worksheet!$D$6=2,CHOOSE(RANDBETWEEN(1,2),RANDBETWEEN(1,99),RANDBETWEEN(1,999)/10),CHOOSE(RANDBETWEEN(1,4),RANDBETWEEN(1,99999)/1000,RANDBETWEEN(1,9999)/100,RANDBETWEEN(1,999)/10,RANDBETWEEN(1,99))))","v":71},"litres","=",{"$f":"1000*C899","v":71000},"cm³"]
[{"$f":"IF(COUNTIF($B$1:B900,TRUE)=COUNTIF($B$1:B899,TRUE),\"\",COUNTIF($B$1:B900,TRUE))","v":""},{"$f":"IF(Worksheet!$D$10=3,FALSE,Worksheet!$D$18)","v":false},{"$f":"IF(Worksheet!$D$6=1,RANDBETWEEN(1,99),IF(Worksheet!$D$6=2,CHOOSE(RANDBETWEEN(1,2),RANDBETWEEN(1,99),RANDBETWEEN(1,999)/10),CHOOSE(RANDBETWEEN(1,4),RANDBETWEEN(1,99999)/1000,RANDBETWEEN(1,9999)/100,RANDBETWEEN(1,999)/10,RANDBETWEEN(1,99))))","v":6},"m²","=",{"$f":"10000*C900","v":60000},"cm²"]
[{"$f":"IF(COUNTIF($B$1:B901,TRUE)=COUNTIF($B$1:B900,TRUE),\"\",COUNTIF($B$1:B901,TRUE))","v":541},{"$f":"IF(Worksheet!$D$10=2,FALSE,Worksheet!$B$14)","v":true},{"$f":"10*F901","v":910},"mm","=",{"$f":"IF(Worksheet!$D$6=1,RANDBETWEEN(1,99),IF(Worksheet!$D$6=2,CHOOSE(RANDBETWEEN(1,2),RANDBETWEEN(1,99),RANDBETWEEN(1,999)/10),CHOOSE(RANDBETWEEN(1,4),RANDBETWEEN(1,99999)/1000,RANDBETWEEN(1,9999)/100,RANDBETWEEN(1,999)/10,RANDBETWEEN(1,99))))","v":91},"cm"]
[{"$f":"IF(COUNTIF($B$1:B902,TRUE)=COUNTIF($B$1:B901,TRUE),\"\",COUNTIF($B$1:B902,TRUE))","v":542},{"$f":"IF(Worksheet!$D$10=2,FALSE,Worksheet!$B$15)","v":true},{"$f":"100*F902","v":2200},"cm","=",{"$f":"IF(Worksheet!$D$6=1,RANDBETWEEN(1,99),IF(Worksheet!$D$6=2,CHOOSE(RANDBETWEEN(1,2),RANDBETWEEN(1,99),RANDBETWEEN(1,999)/10),CHOOSE(RANDBETWEEN(1,4),RANDBETWEEN(1,99999)/1000,RANDBETWEEN(1,9999)/100,RANDBETWEEN(1,999)/10,RANDBETWEEN(1,99))))","v":22},"m"]
[{"$f":"IF(COUNTIF($B$1:B903,TRUE)=COUNTIF($B$1:B902,TRUE),\"\",COUNTIF($B$1:B903,TRUE))","v":543},{"$f":"IF(Worksheet!$D$10=2,FALSE,Worksheet!$B$16)","v":true},{"$f":"1000*F903","v":24000},"m","=",{"$f":"IF(Worksheet!$D$6=1,RANDBETWEEN(1,99),IF(Worksheet!$D$6=2,CHOOSE(RANDBETWEEN(1,2),RANDBETWEEN(1,99),RANDBETWEEN(1,999)/10),CHOOSE(RANDBETWEEN(1,4),RANDBETWEEN(1,99999)/1000,RANDBETWEEN(1,9999)/100,RANDBETWEEN(1,999)/10,RANDBETWEEN(1,99))))","v":24},"km"]
[{"$f":"IF(COUNTIF($B$1:B904,TRUE)=COUNTIF($B$1:B903,TRUE),\"\",COUNTIF($B$1:B904,TRUE))","v":""},{"$f":"IF(Worksheet!$D$10=2,FALSE,Worksheet!$B$17)","v":false},{"$f":"1000*F904","v":17000},"mm","=",{"$f":"IF(Worksheet!$D$6=1,RANDBETWEEN(1,99),IF(Worksheet!$D$6=2,CHOOSE(RANDBETWEEN(1,2),RANDBETWEEN(1,99),RANDBETWEEN(1,999)/10),CHOOSE(RANDBETWEEN(1,4),RANDBETWEEN(1,99999)/1000,RANDBETWEEN(1,9999)/100,RANDBETWEEN(1,999)/10,RANDBETWEEN(1,99))))","v":17},"m"]
[{"$f":"IF(COUNTIF($B$1:B905,TRUE)=COUNTIF($B$1:B904,TRUE),\"\",COUNTIF($B$1:B905,TRUE))","v":""},{"$f":"IF(Worksheet!$D$10=2,FALSE,Worksheet!$B$18)","v":false},{"$f":"100*F905","v":2200},"mm²","=",{"$f":"IF(Worksheet!$D$6=1,RANDBETWEEN(1,99),IF(Worksheet!$D$6=2,CHOOSE(RANDBETWEEN(1,2),RANDBETWEEN(1,99),RANDBETWEEN(1,999)/10),CHOOSE(RANDBETWEEN(1,4),RANDBETWEEN(1,99999)/1000,RANDBETWEEN(1,9999)/100,RANDBETWEEN(1,999)/10,RANDBETWEEN(1,99))))","v":22},"cm²"]
[{"$f":"IF(COUNTIF($B$1:B906,TRUE)=COUNTIF($B$1:B905,TRUE),\"\",COUNTIF($B$1:B906,TRUE))","v":544},{"$f":"IF(Worksheet!$D$10=2,FALSE,Worksheet!$D$14)","v":true},{"$f":"F906*1000","v":99000},"g","=",{"$f":"IF(Worksheet!$D$6=1,RANDBETWEEN(1,99),IF(Worksheet!$D$6=2,CHOOSE(RANDBETWEEN(1,2),RANDBETWEEN(1,99),RANDBETWEEN(1,999)/10),CHOOSE(RANDBETWEEN(1,4),RANDBETWEEN(1,99999)/1000,RANDBETWEEN(1,9999)/100,RANDBETWEEN(1,999)/10,RANDBETWEEN(1,99))))","v":99},"kg"]
[{"$f":"IF(COUNTIF($B$1:B907,TRUE)=COUNTIF($B$1:B906,TRUE),\"\",COUNTIF($B$1:B907,TRUE))","v":545},{"$f":"IF(Worksheet!$D$10=2,FALSE,Worksheet!$D$15)","v":true},{"$f":"F907*1000","v":38000},"kg","=",{"$f":"IF(Worksheet!$D$6=1,RANDBETWEEN(1,99),IF(Worksheet!$D$6=2,CHOOSE(RANDBETWEEN(1,2),RANDBETWEEN(1,99),RANDBETWEEN(1,999)/10),CHOOSE(RANDBETWEEN(1,4),RANDBETWEEN(1,99999)/1000,RANDBETWEEN(1,9999)/100,RANDBETWEEN(1,999)/10,RANDBETWEEN(1,99))))","v":38},"tonnes"]
[{"$f":"IF(COUNTIF($B$1:B908,TRUE)=COUNTIF($B$1:B907,TRUE),\"\",COUNTIF($B$1:B908,TRUE))","v":546},{"$f":"IF(Worksheet!$D$10=2,FALSE,Worksheet!$D$16)","v":true},{"$f":"1000*F908","v":71000},"ml","=",{"$f":"IF(Worksheet!$D$6=1,RANDBETWEEN(1,99),IF(Worksheet!$D$6=2,CHOOSE(RANDBETWEEN(1,2),RANDBETWEEN(1,99),RANDBETWEEN(1,999)/10),CHOOSE(RANDBETWEEN(1,4),RANDBETWEEN(1,99999)/1000,RANDBETWEEN(1,9999)/100,RANDBETWEEN(1,999)/10,RANDBETWEEN(1,99))))","v":71},"litres"]
[{"$f":"IF(COUNTIF($B$1:B909,TRUE)=COUNTIF($B$1:B908,TRUE),\"\",COUNTIF($B$1:B909,TRUE))","v":""},{"$f":"IF(Worksheet!$D$10=2,FALSE,Worksheet!$D$17)","v":false},{"$f":"1000*F909","v":24000},"cm³","=",{"$f":"IF(Worksheet!$D$6=1,RANDBETWEEN(1,99),IF(Worksheet!$D$6=2,CHOOSE(RANDBETWEEN(1,2),RANDBETWEEN(1,99),RANDBETWEEN(1,999)/10),CHOOSE(RANDBETWEEN(1,4),RANDBETWEEN(1,99999)/1000,RANDBETWEEN(1,9999)/100,RANDBETWEEN(1,999)/10,RANDBETWEEN(1,99))))","v":24},"litres"]
[{"$f":"IF(COUNTIF($B$1:B910,TRUE)=COUNTIF($B$1:B909,TRUE),\"\",COUNTIF($B$1:B910,TRUE))","v":""},{"$f":"IF(Worksheet!$D$10=2,FALSE,Worksheet!$D$18)","v":false},{"$f":"10000*F910","v":490000},"cm²","=",{"$f":"IF(Worksheet!$D$6=1,RANDBETWEEN(1,99),IF(Worksheet!$D$6=2,CHOOSE(RANDBETWEEN(1,2),RANDBETWEEN(1,99),RANDBETWEEN(1,999)/10),CHOOSE(RANDBETWEEN(1,4),RANDBETWEEN(1,99999)/1000,RANDBETWEEN(1,9999)/100,RANDBETWEEN(1,999)/10,RANDBETWEEN(1,99))))","v":49},"m²"]
[{"$f":"IF(COUNTIF($B$1:B911,TRUE)=COUNTIF($B$1:B910,TRUE),\"\",COUNTIF($B$1:B911,TRUE))","v":547},{"$f":"IF(Worksheet!$D$10=3,FALSE,Worksheet!$B$14)","v":true},{"$f":"IF(Worksheet!$D$6=1,RANDBETWEEN(1,99),IF(Worksheet!$D$6=2,CHOOSE(RANDBETWEEN(1,2),RANDBETWEEN(1,99),RANDBETWEEN(1,999)/10),CHOOSE(RANDBETWEEN(1,4),RANDBETWEEN(1,99999)/1000,RANDBETWEEN(1,9999)/100,RANDBETWEEN(1,999)/10,RANDBETWEEN(1,99))))","v":1},"cm","=",{"$f":"10*C911","v":10},"mm"]
[{"$f":"IF(COUNTIF($B$1:B912,TRUE)=COUNTIF($B$1:B911,TRUE),\"\",COUNTIF($B$1:B912,TRUE))","v":548},{"$f":"IF(Worksheet!$D$10=3,FALSE,Worksheet!$B$15)","v":true},{"$f":"IF(Worksheet!$D$6=1,RANDBETWEEN(1,99),IF(Worksheet!$D$6=2,CHOOSE(RANDBETWEEN(1,2),RANDBETWEEN(1,99),RANDBETWEEN(1,999)/10),CHOOSE(RANDBETWEEN(1,4),RANDBETWEEN(1,99999)/1000,RANDBETWEEN(1,9999)/100,RANDBETWEEN(1,999)/10,RANDBETWEEN(1,99))))","v":21},"m","=",{"$f":"100*C912","v":2100},"cm"]
[{"$f":"IF(COUNTIF($B$1:B913,TRUE)=COUNTIF($B$1:B912,TRUE),\"\",COUNTIF($B$1:B913,TRUE))","v":549},{"$f":"IF(Worksheet!$D$10=3,FALSE,Worksheet!$B$16)","v":true},{"$f":"IF(Worksheet!$D$6=1,RANDBETWEEN(1,99),IF(Worksheet!$D$6=2,CHOOSE(RANDBETWEEN(1,2),RANDBETWEEN(1,99),RANDBETWEEN(1,999)/10),CHOOSE(RANDBETWEEN(1,4),RANDBETWEEN(1,99999)/1000,RANDBETWEEN(1,9999)/100,RANDBETWEEN(1,999)/10,RANDBETWEEN(1,99))))","v":7},"km","=",{"$f":"1000*C913","v":7000},"m"]
[{"$f":"IF(COUNTIF($B$1:B914,TRUE)=COUNTIF($B$1:B913,TRUE),\"\",COUNTIF($B$1:B914,TRUE))","v":""},{"$f":"IF(Worksheet!$D$10=3,FALSE,Worksheet!$B$17)","v":false},{"$f":"IF(Worksheet!$D$6=1,RANDBETWEEN(1,99),IF(Worksheet!$D$6=2,CHOOSE(RANDBETWEEN(1,2),RANDBETWEEN(1,99),RANDBETWEEN(1,999)/10),CHOOSE(RANDBETWEEN(1,4),RANDBETWEEN(1,99999)/1000,RANDBETWEEN(1,9999)/100,RANDBETWEEN(1,999)/10,RANDBETWEEN(1,99))))","v":22},"m",{"$f":"#REF!","v":{"$error":"#REF!"}},{"$f":"1000*C914","v":22000},"mm"]
[{"$f":"IF(COUNTIF($B$1:B915,TRUE)=COUNTIF($B$1:B914,TRUE),\"\",COUNTIF($B$1:B915,TRUE))","v":""},{"$f":"IF(Worksheet!$D$10=3,FALSE,Worksheet!$B$18)","v":false},{"$f":"IF(Worksheet!$D$6=1,RANDBETWEEN(1,99),IF(Worksheet!$D$6=2,CHOOSE(RANDBETWEEN(1,2),RANDBETWEEN(1,99),RANDBETWEEN(1,999)/10),CHOOSE(RANDBETWEEN(1,4),RANDBETWEEN(1,99999)/1000,RANDBETWEEN(1,9999)/100,RANDBETWEEN(1,999)/10,RANDBETWEEN(1,99))))","v":44},"cm²","=",{"$f":"C915*100","v":4400},"mm²"]
[{"$f":"IF(COUNTIF($B$1:B916,TRUE)=COUNTIF($B$1:B915,TRUE),\"\",COUNTIF($B$1:B916,TRUE))","v":550},{"$f":"IF(Worksheet!$D$10=3,FALSE,Worksheet!$D$14)","v":true},{"$f":"IF(Worksheet!$D$6=1,RANDBETWEEN(1,99),IF(Worksheet!$D$6=2,CHOOSE(RANDBETWEEN(1,2),RANDBETWEEN(1,99),RANDBETWEEN(1,999)/10),CHOOSE(RANDBETWEEN(1,4),RANDBETWEEN(1,99999)/1000,RANDBETWEEN(1,9999)/100,RANDBETWEEN(1,999)/10,RANDBETWEEN(1,99))))","v":11},"kg","=",{"$f":"1000*C916","v":11000},"g"]
[{"$f":"IF(COUNTIF($B$1:B917,TRUE)=COUNTIF($B$1:B916,TRUE),\"\",COUNTIF($B$1:B917,TRUE))","v":551},{"$f":"IF(Worksheet!$D$10=3,FALSE,Worksheet!$D$15)","v":true},{"$f":"IF(Worksheet!$D$6=1,RANDBETWEEN(1,99),IF(Worksheet!$D$6=2,CHOOSE(RANDBETWEEN(1,2),RANDBETWEEN(1,99),RANDBETWEEN(1,999)/10),CHOOSE(RANDBETWEEN(1,4),RANDBETWEEN(1,99999)/1000,RANDBETWEEN(1,9999)/100,RANDBETWEEN(1,999)/10,RANDBETWEEN(1,99))))","v":17},"tonnes","=",{"$f":"1000*C917","v":17000},"kg"]
[{"$f":"IF(COUNTIF($B$1:B918,TRUE)=COUNTIF($B$1:B917,TRUE),\"\",COUNTIF($B$1:B918,TRUE))","v":552},{"$f":"IF(Worksheet!$D$10=3,FALSE,Worksheet!$D$16)","v":true},{"$f":"IF(Worksheet!$D$6=1,RANDBETWEEN(1,99),IF(Worksheet!$D$6=2,CHOOSE(RANDBETWEEN(1,2),RANDBETWEEN(1,99),RANDBETWEEN(1,999)/10),CHOOSE(RANDBETWEEN(1,4),RANDBETWEEN(1,99999)/1000,RANDBETWEEN(1,9999)/100,RANDBETWEEN(1,999)/10,RANDBETWEEN(1,99))))","v":30},"litres","=",{"$f":"1000*C918","v":30000},"ml"]
[{"$f":"IF(COUNTIF($B$1:B919,TRUE)=COUNTIF($B$1:B918,TRUE),\"\",COUNTIF($B$1:B919,TRUE))","v":""},{"$f":"IF(Worksheet!$D$10=3,FALSE,Worksheet!$D$17)","v":false},{"$f":"IF(Worksheet!$D$6=1,RANDBETWEEN(1,99),IF(Worksheet!$D$6=2,CHOOSE(RANDBETWEEN(1,2),RANDBETWEEN(1,99),RANDBETWEEN(1,999)/10),CHOOSE(RANDBETWEEN(1,4),RANDBETWEEN(1,99999)/1000,RANDBETWEEN(1,9999)/100,RANDBETWEEN(1,999)/10,RANDBETWEEN(1,99))))","v":76},"litres","=",{"$f":"1000*C919","v":76000},"cm³"]
[{"$f":"IF(COUNTIF($B$1:B920,TRUE)=COUNTIF($B$1:B919,TRUE),\"\",COUNTIF($B$1:B920,TRUE))","v":""},{"$f":"IF(Worksheet!$D$10=3,FALSE,Worksheet!$D$18)","v":false},{"$f":"IF(Worksheet!$D$6=1,RANDBETWEEN(1,99),IF(Worksheet!$D$6=2,CHOOSE(RANDBETWEEN(1,2),RANDBETWEEN(1,99),RANDBETWEEN(1,999)/10),CHOOSE(RANDBETWEEN(1,4),RANDBETWEEN(1,99999)/1000,RANDBETWEEN(1,9999)/100,RANDBETWEEN(1,999)/10,RANDBETWEEN(1,99))))","v":96},"m²","=",{"$f":"10000*C920","v":960000},"cm²"]
[{"$f":"IF(COUNTIF($B$1:B921,TRUE)=COUNTIF($B$1:B920,TRUE),\"\",COUNTIF($B$1:B921,TRUE))","v":553},{"$f":"IF(Worksheet!$D$10=2,FALSE,Worksheet!$B$14)","v":true},{"$f":"10*F921","v":580},"mm","=",{"$f":"IF(Worksheet!$D$6=1,RANDBETWEEN(1,99),IF(Worksheet!$D$6=2,CHOOSE(RANDBETWEEN(1,2),RANDBETWEEN(1,99),RANDBETWEEN(1,999)/10),CHOOSE(RANDBETWEEN(1,4),RANDBETWEEN(1,99999)/1000,RANDBETWEEN(1,9999)/100,RANDBETWEEN(1,999)/10,RANDBETWEEN(1,99))))","v":58},"cm"]
[{"$f":"IF(COUNTIF($B$1:B922,TRUE)=COUNTIF($B$1:B921,TRUE),\"\",COUNTIF($B$1:B922,TRUE))","v":554},{"$f":"IF(Worksheet!$D$10=2,FALSE,Worksheet!$B$15)","v":true},{"$f":"100*F922","v":200},"cm","=",{"$f":"IF(Worksheet!$D$6=1,RANDBETWEEN(1,99),IF(Worksheet!$D$6=2,CHOOSE(RANDBETWEEN(1,2),RANDBETWEEN(1,99),RANDBETWEEN(1,999)/10),CHOOSE(RANDBETWEEN(1,4),RANDBETWEEN(1,99999)/1000,RANDBETWEEN(1,9999)/100,RANDBETWEEN(1,999)/10,RANDBETWEEN(1,99))))","v":2},"m"]
[{"$f":"IF(COUNTIF($B$1:B923,TRUE)=COUNTIF($B$1:B922,TRUE),\"\",COUNTIF($B$1:B923,TRUE))","v":555},{"$f":"IF(Worksheet!$D$10=2,FALSE,Worksheet!$B$16)","v":true},{"$f":"1000*F923","v":60000},"m","=",{"$f":"IF(Worksheet!$D$6=1,RANDBETWEEN(1,99),IF(Worksheet!$D$6=2,CHOOSE(RANDBETWEEN(1,2),RANDBETWEEN(1,99),RANDBETWEEN(1,999)/10),CHOOSE(RANDBETWEEN(1,4),RANDBETWEEN(1,99999)/1000,RANDBETWEEN(1,9999)/100,RANDBETWEEN(1,999)/10,RANDBETWEEN(1,99))))","v":60},"km"]
[{"$f":"IF(COUNTIF($B$1:B924,TRUE)=COUNTIF($B$1:B923,TRUE),\"\",COUNTIF($B$1:B924,TRUE))","v":""},{"$f":"IF(Worksheet!$D$10=2,FALSE,Worksheet!$B$17)","v":false},{"$f":"1000*F924","v":27000},"mm","=",{"$f":"IF(Worksheet!$D$6=1,RANDBETWEEN(1,99),IF(Worksheet!$D$6=2,CHOOSE(RANDBETWEEN(1,2),RANDBETWEEN(1,99),RANDBETWEEN(1,999)/10),CHOOSE(RANDBETWEEN(1,4),RANDBETWEEN(1,99999)/1000,RANDBETWEEN(1,9999)/100,RANDBETWEEN(1,999)/10,RANDBETWEEN(1,99))))","v":27},"m"]
[{"$f":"IF(COUNTIF($B$1:B925,TRUE)=COUNTIF($B$1:B924,TRUE),\"\",COUNTIF($B$1:B925,TRUE))","v":""},{"$f":"IF(Worksheet!$D$10=2,FALSE,Worksheet!$B$18)","v":false},{"$f":"100*F925","v":2400},"mm²","=",{"$f":"IF(Worksheet!$D$6=1,RANDBETWEEN(1,99),IF(Worksheet!$D$6=2,CHOOSE(RANDBETWEEN(1,2),RANDBETWEEN(1,99),RANDBETWEEN(1,999)/10),CHOOSE(RANDBETWEEN(1,4),RANDBETWEEN(1,99999)/1000,RANDBETWEEN(1,9999)/100,RANDBETWEEN(1,999)/10,RANDBETWEEN(1,99))))","v":24},"cm²"]
[{"$f":"IF(COUNTIF($B$1:B926,TRUE)=COUNTIF($B$1:B925,TRUE),\"\",COUNTIF($B$1:B926,TRUE))","v":556},{"$f":"IF(Worksheet!$D$10=2,FALSE,Worksheet!$D$14)","v":true},{"$f":"F926*1000","v":4000},"g","=",{"$f":"IF(Worksheet!$D$6=1,RANDBETWEEN(1,99),IF(Worksheet!$D$6=2,CHOOSE(RANDBETWEEN(1,2),RANDBETWEEN(1,99),RANDBETWEEN(1,999)/10),CHOOSE(RANDBETWEEN(1,4),RANDBETWEEN(1,99999)/1000,RANDBETWEEN(1,9999)/100,RANDBETWEEN(1,999)/10,RANDBETWEEN(1,99))))","v":4},"kg"]
[{"$f":"IF(COUNTIF($B$1:B927,TRUE)=COUNTIF($B$1:B926,TRUE),\"\",COUNTIF($B$1:B927,TRUE))","v":557},{"$f":"IF(Worksheet!$D$10=2,FALSE,Worksheet!$D$15)","v":true},{"$f":"F927*1000","v":16000},"kg","=",{"$f":"IF(Worksheet!$D$6=1,RANDBETWEEN(1,99),IF(Worksheet!$D$6=2,CHOOSE(RANDBETWEEN(1,2),RANDBETWEEN(1,99),RANDBETWEEN(1,999)/10),CHOOSE(RANDBETWEEN(1,4),RANDBETWEEN(1,99999)/1000,RANDBETWEEN(1,9999)/100,RANDBETWEEN(1,999)/10,RANDBETWEEN(1,99))))","v":16},"tonnes"]
[{"$f":"IF(COUNTIF($B$1:B928,TRUE)=COUNTIF($B$1:B927,TRUE),\"\",COUNTIF($B$1:B928,TRUE))","v":558},{"$f":"IF(Worksheet!$D$10=2,FALSE,Worksheet!$D$16)","v":true},{"$f":"1000*F928","v":89000},"ml","=",{"$f":"IF(Worksheet!$D$6=1,RANDBETWEEN(1,99),IF(Worksheet!$D$6=2,CHOOSE(RANDBETWEEN(1,2),RANDBETWEEN(1,99),RANDBETWEEN(1,999)/10),CHOOSE(RANDBETWEEN(1,4),RANDBETWEEN(1,99999)/1000,RANDBETWEEN(1,9999)/100,RANDBETWEEN(1,999)/10,RANDBETWEEN(1,99))))","v":89},"litres"]
[{"$f":"IF(COUNTIF($B$1:B929,TRUE)=COUNTIF($B$1:B928,TRUE),\"\",COUNTIF($B$1:B929,TRUE))","v":""},{"$f":"IF(Worksheet!$D$10=2,FALSE,Worksheet!$D$17)","v":false},{"$f":"1000*F929","v":93000},"cm³","=",{"$f":"IF(Worksheet!$D$6=1,RANDBETWEEN(1,99),IF(Worksheet!$D$6=2,CHOOSE(RANDBETWEEN(1,2),RANDBETWEEN(1,99),RANDBETWEEN(1,999)/10),CHOOSE(RANDBETWEEN(1,4),RANDBETWEEN(1,99999)/1000,RANDBETWEEN(1,9999)/100,RANDBETWEEN(1,999)/10,RANDBETWEEN(1,99))))","v":93},"litres"]
[{"$f":"IF(COUNTIF($B$1:B930,TRUE)=COUNTIF($B$1:B929,TRUE),\"\",COUNTIF($B$1:B930,TRUE))","v":""},{"$f":"IF(Worksheet!$D$10=2,FALSE,Worksheet!$D$18)","v":false},{"$f":"10000*F930","v":460000},"cm²","=",{"$f":"IF(Worksheet!$D$6=1,RANDBETWEEN(1,99),IF(Worksheet!$D$6=2,CHOOSE(RANDBETWEEN(1,2),RANDBETWEEN(1,99),RANDBETWEEN(1,999)/10),CHOOSE(RANDBETWEEN(1,4),RANDBETWEEN(1,99999)/1000,RANDBETWEEN(1,9999)/100,RANDBETWEEN(1,999)/10,RANDBETWEEN(1,99))))","v":46},"m²"]
[{"$f":"IF(COUNTIF($B$1:B931,TRUE)=COUNTIF($B$1:B930,TRUE),\"\",COUNTIF($B$1:B931,TRUE))","v":559},{"$f":"IF(Worksheet!$D$10=3,FALSE,Worksheet!$B$14)","v":true},{"$f":"IF(Worksheet!$D$6=1,RANDBETWEEN(1,99),IF(Worksheet!$D$6=2,CHOOSE(RANDBETWEEN(1,2),RANDBETWEEN(1,99),RANDBETWEEN(1,999)/10),CHOOSE(RANDBETWEEN(1,4),RANDBETWEEN(1,99999)/1000,RANDBETWEEN(1,9999)/100,RANDBETWEEN(1,999)/10,RANDBETWEEN(1,99))))","v":30},"cm","=",{"$f":"10*C931","v":300},"mm"]
[{"$f":"IF(COUNTIF($B$1:B932,TRUE)=COUNTIF($B$1:B931,TRUE),\"\",COUNTIF($B$1:B932,TRUE))","v":560},{"$f":"IF(Worksheet!$D$10=3,FALSE,Worksheet!$B$15)","v":true},{"$f":"IF(Worksheet!$D$6=1,RANDBETWEEN(1,99),IF(Worksheet!$D$6=2,CHOOSE(RANDBETWEEN(1,2),RANDBETWEEN(1,99),RANDBETWEEN(1,999)/10),CHOOSE(RANDBETWEEN(1,4),RANDBETWEEN(1,99999)/1000,RANDBETWEEN(1,9999)/100,RANDBETWEEN(1,999)/10,RANDBETWEEN(1,99))))","v":36},"m","=",{"$f":"100*C932","v":3600},"cm"]
[{"$f":"IF(COUNTIF($B$1:B933,TRUE)=COUNTIF($B$1:B932,TRUE),\"\",COUNTIF($B$1:B933,TRUE))","v":561},{"$f":"IF(Worksheet!$D$10=3,FALSE,Worksheet!$B$16)","v":true},{"$f":"IF(Worksheet!$D$6=1,RANDBETWEEN(1,99),IF(Worksheet!$D$6=2,CHOOSE(RANDBETWEEN(1,2),RANDBETWEEN(1,99),RANDBETWEEN(1,999)/10),CHOOSE(RANDBETWEEN(1,4),RANDBETWEEN(1,99999)/1000,RANDBETWEEN(1,9999)/100,RANDBETWEEN(1,999)/10,RANDBETWEEN(1,99))))","v":82},"km","=",{"$f":"1000*C933","v":82000},"m"]
[{"$f":"IF(COUNTIF($B$1:B934,TRUE)=COUNTIF($B$1:B933,TRUE),\"\",COUNTIF($B$1:B934,TRUE))","v":""},{"$f":"IF(Worksheet!$D$10=3,FALSE,Worksheet!$B$17)","v":false},{"$f":"IF(Worksheet!$D$6=1,RANDBETWEEN(1,99),IF(Worksheet!$D$6=2,CHOOSE(RANDBETWEEN(1,2),RANDBETWEEN(1,99),RANDBETWEEN(1,999)/10),CHOOSE(RANDBETWEEN(1,4),RANDBETWEEN(1,99999)/1000,RANDBETWEEN(1,9999)/100,RANDBETWEEN(1,999)/10,RANDBETWEEN(1,99))))","v":83},"m",{"$f":"#REF!","v":{"$error":"#REF!"}},{"$f":"1000*C934","v":83000},"mm"]
[{"$f":"IF(COUNTIF($B$1:B935,TRUE)=COUNTIF($B$1:B934,TRUE),\"\",COUNTIF($B$1:B935,TRUE))","v":""},{"$f":"IF(Worksheet!$D$10=3,FALSE,Worksheet!$B$18)","v":false},{"$f":"IF(Worksheet!$D$6=1,RANDBETWEEN(1,99),IF(Worksheet!$D$6=2,CHOOSE(RANDBETWEEN(1,2),RANDBETWEEN(1,99),RANDBETWEEN(1,999)/10),CHOOSE(RANDBETWEEN(1,4),RANDBETWEEN(1,99999)/1000,RANDBETWEEN(1,9999)/100,RANDBETWEEN(1,999)/10,RANDBETWEEN(1,99))))","v":51},"cm²","=",{"$f":"C935*100","v":5100},"mm²"]
[{"$f":"IF(COUNTIF($B$1:B936,TRUE)=COUNTIF($B$1:B935,TRUE),\"\",COUNTIF($B$1:B936,TRUE))","v":562},{"$f":"IF(Worksheet!$D$10=3,FALSE,Worksheet!$D$14)","v":true},{"$f":"IF(Worksheet!$D$6=1,RANDBETWEEN(1,99),IF(Worksheet!$D$6=2,CHOOSE(RANDBETWEEN(1,2),RANDBETWEEN(1,99),RANDBETWEEN(1,999)/10),CHOOSE(RANDBETWEEN(1,4),RANDBETWEEN(1,99999)/1000,RANDBETWEEN(1,9999)/100,RANDBETWEEN(1,999)/10,RANDBETWEEN(1,99))))","v":43},"kg","=",{"$f":"1000*C936","v":43000},"g"]
[{"$f":"IF(COUNTIF($B$1:B937,TRUE)=COUNTIF($B$1:B936,TRUE),\"\",COUNTIF($B$1:B937,TRUE))","v":563},{"$f":"IF(Worksheet!$D$10=3,FALSE,Worksheet!$D$15)","v":true},{"$f":"IF(Worksheet!$D$6=1,RANDBETWEEN(1,99),IF(Worksheet!$D$6=2,CHOOSE(RANDBETWEEN(1,2),RANDBETWEEN(1,99),RANDBETWEEN(1,999)/10),CHOOSE(RANDBETWEEN(1,4),RANDBETWEEN(1,99999)/1000,RANDBETWEEN(1,9999)/100,RANDBETWEEN(1,999)/10,RANDBETWEEN(1,99))))","v":29},"tonnes","=",{"$f":"1000*C937","v":29000},"kg"]
[{"$f":"IF(COUNTIF($B$1:B938,TRUE)=COUNTIF($B$1:B937,TRUE),\"\",COUNTIF($B$1:B938,TRUE))","v":564},{"$f":"IF(Worksheet!$D$10=3,FALSE,Worksheet!$D$16)","v":true},{"$f":"IF(Worksheet!$D$6=1,RANDBETWEEN(1,99),IF(Worksheet!$D$6=2,CHOOSE(RANDBETWEEN(1,2),RANDBETWEEN(1,99),RANDBETWEEN(1,999)/10),CHOOSE(RANDBETWEEN(1,4),RANDBETWEEN(1,99999)/1000,RANDBETWEEN(1,9999)/100,RANDBETWEEN(1,999)/10,RANDBETWEEN(1,99))))","v":25},"litres","=",{"$f":"1000*C938","v":25000},"ml"]
[{"$f":"IF(COUNTIF($B$1:B939,TRUE)=COUNTIF($B$1:B938,TRUE),\"\",COUNTIF($B$1:B939,TRUE))","v":""},{"$f":"IF(Worksheet!$D$10=3,FALSE,Worksheet!$D$17)","v":false},{"$f":"IF(Worksheet!$D$6=1,RANDBETWEEN(1,99),IF(Worksheet!$D$6=2,CHOOSE(RANDBETWEEN(1,2),RANDBETWEEN(1,99),RANDBETWEEN(1,999)/10),CHOOSE(RANDBETWEEN(1,4),RANDBETWEEN(1,99999)/1000,RANDBETWEEN(1,9999)/100,RANDBETWEEN(1,999)/10,RANDBETWEEN(1,99))))","v":41},"litres","=",{"$f":"1000*C939","v":41000},"cm³"]
[{"$f":"IF(COUNTIF($B$1:B940,TRUE)=COUNTIF($B$1:B939,TRUE),\"\",COUNTIF($B$1:B940,TRUE))","v":""},{"$f":"IF(Worksheet!$D$10=3,FALSE,Worksheet!$D$18)","v":false},{"$f":"IF(Worksheet!$D$6=1,RANDBETWEEN(1,99),IF(Worksheet!$D$6=2,CHOOSE(RANDBETWEEN(1,2),RANDBETWEEN(1,99),RANDBETWEEN(1,999)/10),CHOOSE(RANDBETWEEN(1,4),RANDBETWEEN(1,99999)/1000,RANDBETWEEN(1,9999)/100,RANDBETWEEN(1,999)/10,RANDBETWEEN(1,99))))","v":34},"m²","=",{"$f":"10000*C940","v":340000},"cm²"]
[{"$f":"IF(COUNTIF($B$1:B941,TRUE)=COUNTIF($B$1:B940,TRUE),\"\",COUNTIF($B$1:B941,TRUE))","v":565},{"$f":"IF(Worksheet!$D$10=2,FALSE,Worksheet!$B$14)","v":true},{"$f":"10*F941","v":80},"mm","=",{"$f":"IF(Worksheet!$D$6=1,RANDBETWEEN(1,99),IF(Worksheet!$D$6=2,CHOOSE(RANDBETWEEN(1,2),RANDBETWEEN(1,99),RANDBETWEEN(1,999)/10),CHOOSE(RANDBETWEEN(1,4),RANDBETWEEN(1,99999)/1000,RANDBETWEEN(1,9999)/100,RANDBETWEEN(1,999)/10,RANDBETWEEN(1,99))))","v":8},"cm"]
[{"$f":"IF(COUNTIF($B$1:B942,TRUE)=COUNTIF($B$1:B941,TRUE),\"\",COUNTIF($B$1:B942,TRUE))","v":566},{"$f":"IF(Worksheet!$D$10=2,FALSE,Worksheet!$B$15)","v":true},{"$f":"100*F942","v":5700},"cm","=",{"$f":"IF(Worksheet!$D$6=1,RANDBETWEEN(1,99),IF(Worksheet!$D$6=2,CHOOSE(RANDBETWEEN(1,2),RANDBETWEEN(1,99),RANDBETWEEN(1,999)/10),CHOOSE(RANDBETWEEN(1,4),RANDBETWEEN(1,99999)/1000,RANDBETWEEN(1,9999)/100,RANDBETWEEN(1,999)/10,RANDBETWEEN(1,99))))","v":57},"m"]
[{"$f":"IF(COUNTIF($B$1:B943,TRUE)=COUNTIF($B$1:B942,TRUE),\"\",COUNTIF($B$1:B943,TRUE))","v":567},{"$f":"IF(Worksheet!$D$10=2,FALSE,Worksheet!$B$16)","v":true},{"$f":"1000*F943","v":88000},"m","=",{"$f":"IF(Worksheet!$D$6=1,RANDBETWEEN(1,99),IF(Worksheet!$D$6=2,CHOOSE(RANDBETWEEN(1,2),RANDBETWEEN(1,99),RANDBETWEEN(1,999)/10),CHOOSE(RANDBETWEEN(1,4),RANDBETWEEN(1,99999)/1000,RANDBETWEEN(1,9999)/100,RANDBETWEEN(1,999)/10,RANDBETWEEN(1,99))))","v":88},"km"]
[{"$f":"IF(COUNTIF($B$1:B944,TRUE)=COUNTIF($B$1:B943,TRUE),\"\",COUNTIF($B$1:B944,TRUE))","v":""},{"$f":"IF(Worksheet!$D$10=2,FALSE,Worksheet!$B$17)","v":false},{"$f":"1000*F944","v":63000},"mm","=",{"$f":"IF(Worksheet!$D$6=1,RANDBETWEEN(1,99),IF(Worksheet!$D$6=2,CHOOSE(RANDBETWEEN(1,2),RANDBETWEEN(1,99),RANDBETWEEN(1,999)/10),CHOOSE(RANDBETWEEN(1,4),RANDBETWEEN(1,99999)/1000,RANDBETWEEN(1,9999)/100,RANDBETWEEN(1,999)/10,RANDBETWEEN(1,99))))","v":63},"m"]
[{"$f":"IF(COUNTIF($B$1:B945,TRUE)=COUNTIF($B$1:B944,TRUE),\"\",COUNTIF($B$1:B945,TRUE))","v":""},{"$f":"IF(Worksheet!$D$10=2,FALSE,Worksheet!$B$18)","v":false},{"$f":"100*F945","v":8600},"mm²","=",{"$f":"IF(Worksheet!$D$6=1,RANDBETWEEN(1,99),IF(Worksheet!$D$6=2,CHOOSE(RANDBETWEEN(1,2),RANDBETWEEN(1,99),RANDBETWEEN(1,999)/10),CHOOSE(RANDBETWEEN(1,4),RANDBETWEEN(1,99999)/1000,RANDBETWEEN(1,9999)/100,RANDBETWEEN(1,999)/10,RANDBETWEEN(1,99))))","v":86},"cm²"]
[{"$f":"IF(COUNTIF($B$1:B946,TRUE)=COUNTIF($B$1:B945,TRUE),\"\",COUNTIF($B$1:B946,TRUE))","v":568},{"$f":"IF(Worksheet!$D$10=2,FALSE,Worksheet!$D$14)","v":true},{"$f":"F946*1000","v":36000},"g","=",{"$f":"IF(Worksheet!$D$6=1,RANDBETWEEN(1,99),IF(Worksheet!$D$6=2,CHOOSE(RANDBETWEEN(1,2),RANDBETWEEN(1,99),RANDBETWEEN(1,999)/10),CHOOSE(RANDBETWEEN(1,4),RANDBETWEEN(1,99999)/1000,RANDBETWEEN(1,9999)/100,RANDBETWEEN(1,999)/10,RANDBETWEEN(1,99))))","v":36},"kg"]
[{"$f":"IF(COUNTIF($B$1:B947,TRUE)=COUNTIF($B$1:B946,TRUE),\"\",COUNTIF($B$1:B947,TRUE))","v":569},{"$f":"IF(Worksheet!$D$10=2,FALSE,Worksheet!$D$15)","v":true},{"$f":"F947*1000","v":39000},"kg","=",{"$f":"IF(Worksheet!$D$6=1,RANDBETWEEN(1,99),IF(Worksheet!$D$6=2,CHOOSE(RANDBETWEEN(1,2),RANDBETWEEN(1,99),RANDBETWEEN(1,999)/10),CHOOSE(RANDBETWEEN(1,4),RANDBETWEEN(1,99999)/1000,RANDBETWEEN(1,9999)/100,RANDBETWEEN(1,999)/10,RANDBETWEEN(1,99))))","v":39},"tonnes"]
[{"$f":"IF(COUNTIF($B$1:B948,TRUE)=COUNTIF($B$1:B947,TRUE),\"\",COUNTIF($B$1:B948,TRUE))","v":570},{"$f":"IF(Worksheet!$D$10=2,FALSE,Worksheet!$D$16)","v":true},{"$f":"1000*F948","v":51000},"ml","=",{"$f":"IF(Worksheet!$D$6=1,RANDBETWEEN(1,99),IF(Worksheet!$D$6=2,CHOOSE(RANDBETWEEN(1,2),RANDBETWEEN(1,99),RANDBETWEEN(1,999)/10),CHOOSE(RANDBETWEEN(1,4),RANDBETWEEN(1,99999)/1000,RANDBETWEEN(1,9999)/100,RANDBETWEEN(1,999)/10,RANDBETWEEN(1,99))))","v":51},"litres"]
[{"$f":"IF(COUNTIF($B$1:B949,TRUE)=COUNTIF($B$1:B948,TRUE),\"\",COUNTIF($B$1:B949,TRUE))","v":""},{"$f":"IF(Worksheet!$D$10=2,FALSE,Worksheet!$D$17)","v":false},{"$f":"1000*F949","v":57000},"cm³","=",{"$f":"IF(Worksheet!$D$6=1,RANDBETWEEN(1,99),IF(Worksheet!$D$6=2,CHOOSE(RANDBETWEEN(1,2),RANDBETWEEN(1,99),RANDBETWEEN(1,999)/10),CHOOSE(RANDBETWEEN(1,4),RANDBETWEEN(1,99999)/1000,RANDBETWEEN(1,9999)/100,RANDBETWEEN(1,999)/10,RANDBETWEEN(1,99))))","v":57},"litres"]
[{"$f":"IF(COUNTIF($B$1:B950,TRUE)=COUNTIF($B$1:B949,TRUE),\"\",COUNTIF($B$1:B950,TRUE))","v":""},{"$f":"IF(Worksheet!$D$10=2,FALSE,Worksheet!$D$18)","v":false},{"$f":"10000*F950","v":680000},"cm²","=",{"$f":"IF(Worksheet!$D$6=1,RANDBETWEEN(1,99),IF(Worksheet!$D$6=2,CHOOSE(RANDBETWEEN(1,2),RANDBETWEEN(1,99),RANDBETWEEN(1,999)/10),CHOOSE(RANDBETWEEN(1,4),RANDBETWEEN(1,99999)/1000,RANDBETWEEN(1,9999)/100,RANDBETWEEN(1,999)/10,RANDBETWEEN(1,99))))","v":68},"m²"]
[{"$f":"IF(COUNTIF($B$1:B951,TRUE)=COUNTIF($B$1:B950,TRUE),\"\",COUNTIF($B$1:B951,TRUE))","v":571},{"$f":"IF(Worksheet!$D$10=3,FALSE,Worksheet!$B$14)","v":true},{"$f":"IF(Worksheet!$D$6=1,RANDBETWEEN(1,99),IF(Worksheet!$D$6=2,CHOOSE(RANDBETWEEN(1,2),RANDBETWEEN(1,99),RANDBETWEEN(1,999)/10),CHOOSE(RANDBETWEEN(1,4),RANDBETWEEN(1,99999)/1000,RANDBETWEEN(1,9999)/100,RANDBETWEEN(1,999)/10,RANDBETWEEN(1,99))))","v":47},"cm","=",{"$f":"10*C951","v":470},"mm"]
[{"$f":"IF(COUNTIF($B$1:B952,TRUE)=COUNTIF($B$1:B951,TRUE),\"\",COUNTIF($B$1:B952,TRUE))","v":572},{"$f":"IF(Worksheet!$D$10=3,FALSE,Worksheet!$B$15)","v":true},{"$f":"IF(Worksheet!$D$6=1,RANDBETWEEN(1,99),IF(Worksheet!$D$6=2,CHOOSE(RANDBETWEEN(1,2),RANDBETWEEN(1,99),RANDBETWEEN(1,999)/10),CHOOSE(RANDBETWEEN(1,4),RANDBETWEEN(1,99999)/1000,RANDBETWEEN(1,9999)/100,RANDBETWEEN(1,999)/10,RANDBETWEEN(1,99))))","v":7},"m","=",{"$f":"100*C952","v":700},"cm"]
[{"$f":"IF(COUNTIF($B$1:B953,TRUE)=COUNTIF($B$1:B952,TRUE),\"\",COUNTIF($B$1:B953,TRUE))","v":573},{"$f":"IF(Worksheet!$D$10=3,FALSE,Worksheet!$B$16)","v":true},{"$f":"IF(Worksheet!$D$6=1,RANDBETWEEN(1,99),IF(Worksheet!$D$6=2,CHOOSE(RANDBETWEEN(1,2),RANDBETWEEN(1,99),RANDBETWEEN(1,999)/10),CHOOSE(RANDBETWEEN(1,4),RANDBETWEEN(1,99999)/1000,RANDBETWEEN(1,9999)/100,RANDBETWEEN(1,999)/10,RANDBETWEEN(1,99))))","v":74},"km","=",{"$f":"1000*C953","v":74000},"m"]
[{"$f":"IF(COUNTIF($B$1:B954,TRUE)=COUNTIF($B$1:B953,TRUE),\"\",COUNTIF($B$1:B954,TRUE))","v":""},{"$f":"IF(Worksheet!$D$10=3,FALSE,Worksheet!$B$17)","v":false},{"$f":"IF(Worksheet!$D$6=1,RANDBETWEEN(1,99),IF(Worksheet!$D$6=2,CHOOSE(RANDBETWEEN(1,2),RANDBETWEEN(1,99),RANDBETWEEN(1,999)/10),CHOOSE(RANDBETWEEN(1,4),RANDBETWEEN(1,99999)/1000,RANDBETWEEN(1,9999)/100,RANDBETWEEN(1,999)/10,RANDBETWEEN(1,99))))","v":81},"m",{"$f":"#REF!","v":{"$error":"#REF!"}},{"$f":"1000*C954","v":81000},"mm"]
[{"$f":"IF(COUNTIF($B$1:B955,TRUE)=COUNTIF($B$1:B954,TRUE),\"\",COUNTIF($B$1:B955,TRUE))","v":""},{"$f":"IF(Worksheet!$D$10=3,FALSE,Worksheet!$B$18)","v":false},{"$f":"IF(Worksheet!$D$6=1,RANDBETWEEN(1,99),IF(Worksheet!$D$6=2,CHOOSE(RANDBETWEEN(1,2),RANDBETWEEN(1,99),RANDBETWEEN(1,999)/10),CHOOSE(RANDBETWEEN(1,4),RANDBETWEEN(1,99999)/1000,RANDBETWEEN(1,9999)/100,RANDBETWEEN(1,999)/10,RANDBETWEEN(1,99))))","v":84},"cm²","=",{"$f":"C955*100","v":8400},"mm²"]
[{"$f":"IF(COUNTIF($B$1:B956,TRUE)=COUNTIF($B$1:B955,TRUE),\"\",COUNTIF($B$1:B956,TRUE))","v":574},{"$f":"IF(Worksheet!$D$10=3,FALSE,Worksheet!$D$14)","v":true},{"$f":"IF(Worksheet!$D$6=1,RANDBETWEEN(1,99),IF(Worksheet!$D$6=2,CHOOSE(RANDBETWEEN(1,2),RANDBETWEEN(1,99),RANDBETWEEN(1,999)/10),CHOOSE(RANDBETWEEN(1,4),RANDBETWEEN(1,99999)/1000,RANDBETWEEN(1,9999)/100,RANDBETWEEN(1,999)/10,RANDBETWEEN(1,99))))","v":43},"kg","=",{"$f":"1000*C956","v":43000},"g"]
[{"$f":"IF(COUNTIF($B$1:B957,TRUE)=COUNTIF($B$1:B956,TRUE),\"\",COUNTIF($B$1:B957,TRUE))","v":575},{"$f":"IF(Worksheet!$D$10=3,FALSE,Worksheet!$D$15)","v":true},{"$f":"IF(Worksheet!$D$6=1,RANDBETWEEN(1,99),IF(Worksheet!$D$6=2,CHOOSE(RANDBETWEEN(1,2),RANDBETWEEN(1,99),RANDBETWEEN(1,999)/10),CHOOSE(RANDBETWEEN(1,4),RANDBETWEEN(1,99999)/1000,RANDBETWEEN(1,9999)/100,RANDBETWEEN(1,999)/10,RANDBETWEEN(1,99))))","v":94},"tonnes","=",{"$f":"1000*C957","v":94000},"kg"]
[{"$f":"IF(COUNTIF($B$1:B958,TRUE)=COUNTIF($B$1:B957,TRUE),\"\",COUNTIF($B$1:B958,TRUE))","v":576},{"$f":"IF(Worksheet!$D$10=3,FALSE,Worksheet!$D$16)","v":true},{"$f":"IF(Worksheet!$D$6=1,RANDBETWEEN(1,99),IF(Worksheet!$D$6=2,CHOOSE(RANDBETWEEN(1,2),RANDBETWEEN(1,99),RANDBETWEEN(1,999)/10),CHOOSE(RANDBETWEEN(1,4),RANDBETWEEN(1,99999)/1000,RANDBETWEEN(1,9999)/100,RANDBETWEEN(1,999)/10,RANDBETWEEN(1,99))))","v":17},"litres","=",{"$f":"1000*C958","v":17000},"ml"]
[{"$f":"IF(COUNTIF($B$1:B959,TRUE)=COUNTIF($B$1:B958,TRUE),\"\",COUNTIF($B$1:B959,TRUE))","v":""},{"$f":"IF(Worksheet!$D$10=3,FALSE,Worksheet!$D$17)","v":false},{"$f":"IF(Worksheet!$D$6=1,RANDBETWEEN(1,99),IF(Worksheet!$D$6=2,CHOOSE(RANDBETWEEN(1,2),RANDBETWEEN(1,99),RANDBETWEEN(1,999)/10),CHOOSE(RANDBETWEEN(1,4),RANDBETWEEN(1,99999)/1000,RANDBETWEEN(1,9999)/100,RANDBETWEEN(1,999)/10,RANDBETWEEN(1,99))))","v":88},"litres","=",{"$f":"1000*C959","v":88000},"cm³"]
[{"$f":"IF(COUNTIF($B$1:B960,TRUE)=COUNTIF($B$1:B959,TRUE),\"\",COUNTIF($B$1:B960,TRUE))","v":""},{"$f":"IF(Worksheet!$D$10=3,FALSE,Worksheet!$D$18)","v":false},{"$f":"IF(Worksheet!$D$6=1,RANDBETWEEN(1,99),IF(Worksheet!$D$6=2,CHOOSE(RANDBETWEEN(1,2),RANDBETWEEN(1,99),RANDBETWEEN(1,999)/10),CHOOSE(RANDBETWEEN(1,4),RANDBETWEEN(1,99999)/1000,RANDBETWEEN(1,9999)/100,RANDBETWEEN(1,999)/10,RANDBETWEEN(1,99))))","v":9},"m²","=",{"$f":"10000*C960","v":90000},"cm²"]
[{"$f":"IF(COUNTIF($B$1:B961,TRUE)=COUNTIF($B$1:B960,TRUE),\"\",COUNTIF($B$1:B961,TRUE))","v":577},{"$f":"IF(Worksheet!$D$10=2,FALSE,Worksheet!$B$14)","v":true},{"$f":"10*F961","v":100},"mm","=",{"$f":"IF(Worksheet!$D$6=1,RANDBETWEEN(1,99),IF(Worksheet!$D$6=2,CHOOSE(RANDBETWEEN(1,2),RANDBETWEEN(1,99),RANDBETWEEN(1,999)/10),CHOOSE(RANDBETWEEN(1,4),RANDBETWEEN(1,99999)/1000,RANDBETWEEN(1,9999)/100,RANDBETWEEN(1,999)/10,RANDBETWEEN(1,99))))","v":10},"cm"]
[{"$f":"IF(COUNTIF($B$1:B962,TRUE)=COUNTIF($B$1:B961,TRUE),\"\",COUNTIF($B$1:B962,TRUE))","v":578},{"$f":"IF(Worksheet!$D$10=2,FALSE,Worksheet!$B$15)","v":true},{"$f":"100*F962","v":5800},"cm","=",{"$f":"IF(Worksheet!$D$6=1,RANDBETWEEN(1,99),IF(Worksheet!$D$6=2,CHOOSE(RANDBETWEEN(1,2),RANDBETWEEN(1,99),RANDBETWEEN(1,999)/10),CHOOSE(RANDBETWEEN(1,4),RANDBETWEEN(1,99999)/1000,RANDBETWEEN(1,9999)/100,RANDBETWEEN(1,999)/10,RANDBETWEEN(1,99))))","v":58},"m"]
[{"$f":"IF(COUNTIF($B$1:B963,TRUE)=COUNTIF($B$1:B962,TRUE),\"\",COUNTIF($B$1:B963,TRUE))","v":579},{"$f":"IF(Worksheet!$D$10=2,FALSE,Worksheet!$B$16)","v":true},{"$f":"1000*F963","v":43000},"m","=",{"$f":"IF(Worksheet!$D$6=1,RANDBETWEEN(1,99),IF(Worksheet!$D$6=2,CHOOSE(RANDBETWEEN(1,2),RANDBETWEEN(1,99),RANDBETWEEN(1,999)/10),CHOOSE(RANDBETWEEN(1,4),RANDBETWEEN(1,99999)/1000,RANDBETWEEN(1,9999)/100,RANDBETWEEN(1,999)/10,RANDBETWEEN(1,99))))","v":43},"km"]
[{"$f":"IF(COUNTIF($B$1:B964,TRUE)=COUNTIF($B$1:B963,TRUE),\"\",COUNTIF($B$1:B964,TRUE))","v":""},{"$f":"IF(Worksheet!$D$10=2,FALSE,Worksheet!$B$17)","v":false},{"$f":"1000*F964","v":43000},"mm","=",{"$f":"IF(Worksheet!$D$6=1,RANDBETWEEN(1,99),IF(Worksheet!$D$6=2,CHOOSE(RANDBETWEEN(1,2),RANDBETWEEN(1,99),RANDBETWEEN(1,999)/10),CHOOSE(RANDBETWEEN(1,4),RANDBETWEEN(1,99999)/1000,RANDBETWEEN(1,9999)/100,RANDBETWEEN(1,999)/10,RANDBETWEEN(1,99))))","v":43},"m"]
[{"$f":"IF(COUNTIF($B$1:B965,TRUE)=COUNTIF($B$1:B964,TRUE),\"\",COUNTIF($B$1:B965,TRUE))","v":""},{"$f":"IF(Worksheet!$D$10=2,FALSE,Worksheet!$B$18)","v":false},{"$f":"100*F965","v":600},"mm²","=",{"$f":"IF(Worksheet!$D$6=1,RANDBETWEEN(1,99),IF(Worksheet!$D$6=2,CHOOSE(RANDBETWEEN(1,2),RANDBETWEEN(1,99),RANDBETWEEN(1,999)/10),CHOOSE(RANDBETWEEN(1,4),RANDBETWEEN(1,99999)/1000,RANDBETWEEN(1,9999)/100,RANDBETWEEN(1,999)/10,RANDBETWEEN(1,99))))","v":6},"cm²"]
[{"$f":"IF(COUNTIF($B$1:B966,TRUE)=COUNTIF($B$1:B965,TRUE),\"\",COUNTIF($B$1:B966,TRUE))","v":580},{"$f":"IF(Worksheet!$D$10=2,FALSE,Worksheet!$D$14)","v":true},{"$f":"F966*1000","v":30000},"g","=",{"$f":"IF(Worksheet!$D$6=1,RANDBETWEEN(1,99),IF(Worksheet!$D$6=2,CHOOSE(RANDBETWEEN(1,2),RANDBETWEEN(1,99),RANDBETWEEN(1,999)/10),CHOOSE(RANDBETWEEN(1,4),RANDBETWEEN(1,99999)/1000,RANDBETWEEN(1,9999)/100,RANDBETWEEN(1,999)/10,RANDBETWEEN(1,99))))","v":30},"kg"]
[{"$f":"IF(COUNTIF($B$1:B967,TRUE)=COUNTIF($B$1:B966,TRUE),\"\",COUNTIF($B$1:B967,TRUE))","v":581},{"$f":"IF(Worksheet!$D$10=2,FALSE,Worksheet!$D$15)","v":true},{"$f":"F967*1000","v":39000},"kg","=",{"$f":"IF(Worksheet!$D$6=1,RANDBETWEEN(1,99),IF(Worksheet!$D$6=2,CHOOSE(RANDBETWEEN(1,2),RANDBETWEEN(1,99),RANDBETWEEN(1,999)/10),CHOOSE(RANDBETWEEN(1,4),RANDBETWEEN(1,99999)/1000,RANDBETWEEN(1,9999)/100,RANDBETWEEN(1,999)/10,RANDBETWEEN(1,99))))","v":39},"tonnes"]
[{"$f":"IF(COUNTIF($B$1:B968,TRUE)=COUNTIF($B$1:B967,TRUE),\"\",COUNTIF($B$1:B968,TRUE))","v":582},{"$f":"IF(Worksheet!$D$10=2,FALSE,Worksheet!$D$16)","v":true},{"$f":"1000*F968","v":9000},"ml","=",{"$f":"IF(Worksheet!$D$6=1,RANDBETWEEN(1,99),IF(Worksheet!$D$6=2,CHOOSE(RANDBETWEEN(1,2),RANDBETWEEN(1,99),RANDBETWEEN(1,999)/10),CHOOSE(RANDBETWEEN(1,4),RANDBETWEEN(1,99999)/1000,RANDBETWEEN(1,9999)/100,RANDBETWEEN(1,999)/10,RANDBETWEEN(1,99))))","v":9},"litres"]
[{"$f":"IF(COUNTIF($B$1:B969,TRUE)=COUNTIF($B$1:B968,TRUE),\"\",COUNTIF($B$1:B969,TRUE))","v":""},{"$f":"IF(Worksheet!$D$10=2,FALSE,Worksheet!$D$17)","v":false},{"$f":"1000*F969","v":28000},"cm³","=",{"$f":"IF(Worksheet!$D$6=1,RANDBETWEEN(1,99),IF(Worksheet!$D$6=2,CHOOSE(RANDBETWEEN(1,2),RANDBETWEEN(1,99),RANDBETWEEN(1,999)/10),CHOOSE(RANDBETWEEN(1,4),RANDBETWEEN(1,99999)/1000,RANDBETWEEN(1,9999)/100,RANDBETWEEN(1,999)/10,RANDBETWEEN(1,99))))","v":28},"litres"]
[{"$f":"IF(COUNTIF($B$1:B970,TRUE)=COUNTIF($B$1:B969,TRUE),\"\",COUNTIF($B$1:B970,TRUE))","v":""},{"$f":"IF(Worksheet!$D$10=2,FALSE,Worksheet!$D$18)","v":false},{"$f":"10000*F970","v":850000},"cm²","=",{"$f":"IF(Worksheet!$D$6=1,RANDBETWEEN(1,99),IF(Worksheet!$D$6=2,CHOOSE(RANDBETWEEN(1,2),RANDBETWEEN(1,99),RANDBETWEEN(1,999)/10),CHOOSE(RANDBETWEEN(1,4),RANDBETWEEN(1,99999)/1000,RANDBETWEEN(1,9999)/100,RANDBETWEEN(1,999)/10,RANDBETWEEN(1,99))))","v":85},"m²"]
[{"$f":"IF(COUNTIF($B$1:B971,TRUE)=COUNTIF($B$1:B970,TRUE),\"\",COUNTIF($B$1:B971,TRUE))","v":583},{"$f":"IF(Worksheet!$D$10=3,FALSE,Worksheet!$B$14)","v":true},{"$f":"IF(Worksheet!$D$6=1,RANDBETWEEN(1,99),IF(Worksheet!$D$6=2,CHOOSE(RANDBETWEEN(1,2),RANDBETWEEN(1,99),RANDBETWEEN(1,999)/10),CHOOSE(RANDBETWEEN(1,4),RANDBETWEEN(1,99999)/1000,RANDBETWEEN(1,9999)/100,RANDBETWEEN(1,999)/10,RANDBETWEEN(1,99))))","v":2},"cm","=",{"$f":"10*C971","v":20},"mm"]
[{"$f":"IF(COUNTIF($B$1:B972,TRUE)=COUNTIF($B$1:B971,TRUE),\"\",COUNTIF($B$1:B972,TRUE))","v":584},{"$f":"IF(Worksheet!$D$10=3,FALSE,Worksheet!$B$15)","v":true},{"$f":"IF(Worksheet!$D$6=1,RANDBETWEEN(1,99),IF(Worksheet!$D$6=2,CHOOSE(RANDBETWEEN(1,2),RANDBETWEEN(1,99),RANDBETWEEN(1,999)/10),CHOOSE(RANDBETWEEN(1,4),RANDBETWEEN(1,99999)/1000,RANDBETWEEN(1,9999)/100,RANDBETWEEN(1,999)/10,RANDBETWEEN(1,99))))","v":95},"m","=",{"$f":"100*C972","v":9500},"cm"]
[{"$f":"IF(COUNTIF($B$1:B973,TRUE)=COUNTIF($B$1:B972,TRUE),\"\",COUNTIF($B$1:B973,TRUE))","v":585},{"$f":"IF(Worksheet!$D$10=3,FALSE,Worksheet!$B$16)","v":true},{"$f":"IF(Worksheet!$D$6=1,RANDBETWEEN(1,99),IF(Worksheet!$D$6=2,CHOOSE(RANDBETWEEN(1,2),RANDBETWEEN(1,99),RANDBETWEEN(1,999)/10),CHOOSE(RANDBETWEEN(1,4),RANDBETWEEN(1,99999)/1000,RANDBETWEEN(1,9999)/100,RANDBETWEEN(1,999)/10,RANDBETWEEN(1,99))))","v":96},"km","=",{"$f":"1000*C973","v":96000},"m"]
[{"$f":"IF(COUNTIF($B$1:B974,TRUE)=COUNTIF($B$1:B973,TRUE),\"\",COUNTIF($B$1:B974,TRUE))","v":""},{"$f":"IF(Worksheet!$D$10=3,FALSE,Worksheet!$B$17)","v":false},{"$f":"IF(Worksheet!$D$6=1,RANDBETWEEN(1,99),IF(Worksheet!$D$6=2,CHOOSE(RANDBETWEEN(1,2),RANDBETWEEN(1,99),RANDBETWEEN(1,999)/10),CHOOSE(RANDBETWEEN(1,4),RANDBETWEEN(1,99999)/1000,RANDBETWEEN(1,9999)/100,RANDBETWEEN(1,999)/10,RANDBETWEEN(1,99))))","v":38},"m",{"$f":"#REF!","v":{"$error":"#REF!"}},{"$f":"1000*C974","v":38000},"mm"]
[{"$f":"IF(COUNTIF($B$1:B975,TRUE)=COUNTIF($B$1:B974,TRUE),\"\",COUNTIF($B$1:B975,TRUE))","v":""},{"$f":"IF(Worksheet!$D$10=3,FALSE,Worksheet!$B$18)","v":false},{"$f":"IF(Worksheet!$D$6=1,RANDBETWEEN(1,99),IF(Worksheet!$D$6=2,CHOOSE(RANDBETWEEN(1,2),RANDBETWEEN(1,99),RANDBETWEEN(1,999)/10),CHOOSE(RANDBETWEEN(1,4),RANDBETWEEN(1,99999)/1000,RANDBETWEEN(1,9999)/100,RANDBETWEEN(1,999)/10,RANDBETWEEN(1,99))))","v":4},"cm²","=",{"$f":"C975*100","v":400},"mm²"]
[{"$f":"IF(COUNTIF($B$1:B976,TRUE)=COUNTIF($B$1:B975,TRUE),\"\",COUNTIF($B$1:B976,TRUE))","v":586},{"$f":"IF(Worksheet!$D$10=3,FALSE,Worksheet!$D$14)","v":true},{"$f":"IF(Worksheet!$D$6=1,RANDBETWEEN(1,99),IF(Worksheet!$D$6=2,CHOOSE(RANDBETWEEN(1,2),RANDBETWEEN(1,99),RANDBETWEEN(1,999)/10),CHOOSE(RANDBETWEEN(1,4),RANDBETWEEN(1,99999)/1000,RANDBETWEEN(1,9999)/100,RANDBETWEEN(1,999)/10,RANDBETWEEN(1,99))))","v":52},"kg","=",{"$f":"1000*C976","v":52000},"g"]
[{"$f":"IF(COUNTIF($B$1:B977,TRUE)=COUNTIF($B$1:B976,TRUE),\"\",COUNTIF($B$1:B977,TRUE))","v":587},{"$f":"IF(Worksheet!$D$10=3,FALSE,Worksheet!$D$15)","v":true},{"$f":"IF(Worksheet!$D$6=1,RANDBETWEEN(1,99),IF(Worksheet!$D$6=2,CHOOSE(RANDBETWEEN(1,2),RANDBETWEEN(1,99),RANDBETWEEN(1,999)/10),CHOOSE(RANDBETWEEN(1,4),RANDBETWEEN(1,99999)/1000,RANDBETWEEN(1,9999)/100,RANDBETWEEN(1,999)/10,RANDBETWEEN(1,99))))","v":39},"tonnes","=",{"$f":"1000*C977","v":39000},"kg"]
[{"$f":"IF(COUNTIF($B$1:B978,TRUE)=COUNTIF($B$1:B977,TRUE),\"\",COUNTIF($B$1:B978,TRUE))","v":588},{"$f":"IF(Worksheet!$D$10=3,FALSE,Worksheet!$D$16)","v":true},{"$f":"IF(Worksheet!$D$6=1,RANDBETWEEN(1,99),IF(Worksheet!$D$6=2,CHOOSE(RANDBETWEEN(1,2),RANDBETWEEN(1,99),RANDBETWEEN(1,999)/10),CHOOSE(RANDBETWEEN(1,4),RANDBETWEEN(1,99999)/1000,RANDBETWEEN(1,9999)/100,RANDBETWEEN(1,999)/10,RANDBETWEEN(1,99))))","v":92},"litres","=",{"$f":"1000*C978","v":92000},"ml"]
[{"$f":"IF(COUNTIF($B$1:B979,TRUE)=COUNTIF($B$1:B978,TRUE),\"\",COUNTIF($B$1:B979,TRUE))","v":""},{"$f":"IF(Worksheet!$D$10=3,FALSE,Worksheet!$D$17)","v":false},{"$f":"IF(Worksheet!$D$6=1,RANDBETWEEN(1,99),IF(Worksheet!$D$6=2,CHOOSE(RANDBETWEEN(1,2),RANDBETWEEN(1,99),RANDBETWEEN(1,999)/10),CHOOSE(RANDBETWEEN(1,4),RANDBETWEEN(1,99999)/1000,RANDBETWEEN(1,9999)/100,RANDBETWEEN(1,999)/10,RANDBETWEEN(1,99))))","v":35},"litres","=",{"$f":"1000*C979","v":35000},"cm³"]
[{"$f":"IF(COUNTIF($B$1:B980,TRUE)=COUNTIF($B$1:B979,TRUE),\"\",COUNTIF($B$1:B980,TRUE))","v":""},{"$f":"IF(Worksheet!$D$10=3,FALSE,Worksheet!$D$18)","v":false},{"$f":"IF(Worksheet!$D$6=1,RANDBETWEEN(1,99),IF(Worksheet!$D$6=2,CHOOSE(RANDBETWEEN(1,2),RANDBETWEEN(1,99),RANDBETWEEN(1,999)/10),CHOOSE(RANDBETWEEN(1,4),RANDBETWEEN(1,99999)/1000,RANDBETWEEN(1,9999)/100,RANDBETWEEN(1,999)/10,RANDBETWEEN(1,99))))","v":69},"m²","=",{"$f":"10000*C980","v":690000},"cm²"]
[{"$f":"IF(COUNTIF($B$1:B981,TRUE)=COUNTIF($B$1:B980,TRUE),\"\",COUNTIF($B$1:B981,TRUE))","v":589},{"$f":"IF(Worksheet!$D$10=2,FALSE,Worksheet!$B$14)","v":true},{"$f":"10*F981","v":460},"mm","=",{"$f":"IF(Worksheet!$D$6=1,RANDBETWEEN(1,99),IF(Worksheet!$D$6=2,CHOOSE(RANDBETWEEN(1,2),RANDBETWEEN(1,99),RANDBETWEEN(1,999)/10),CHOOSE(RANDBETWEEN(1,4),RANDBETWEEN(1,99999)/1000,RANDBETWEEN(1,9999)/100,RANDBETWEEN(1,999)/10,RANDBETWEEN(1,99))))","v":46},"cm"]
[{"$f":"IF(COUNTIF($B$1:B982,TRUE)=COUNTIF($B$1:B981,TRUE),\"\",COUNTIF($B$1:B982,TRUE))","v":590},{"$f":"IF(Worksheet!$D$10=2,FALSE,Worksheet!$B$15)","v":true},{"$f":"100*F982","v":8400},"cm","=",{"$f":"IF(Worksheet!$D$6=1,RANDBETWEEN(1,99),IF(Worksheet!$D$6=2,CHOOSE(RANDBETWEEN(1,2),RANDBETWEEN(1,99),RANDBETWEEN(1,999)/10),CHOOSE(RANDBETWEEN(1,4),RANDBETWEEN(1,99999)/1000,RANDBETWEEN(1,9999)/100,RANDBETWEEN(1,999)/10,RANDBETWEEN(1,99))))","v":84},"m"]
[{"$f":"IF(COUNTIF($B$1:B983,TRUE)=COUNTIF($B$1:B982,TRUE),\"\",COUNTIF($B$1:B983,TRUE))","v":591},{"$f":"IF(Worksheet!$D$10=2,FALSE,Worksheet!$B$16)","v":true},{"$f":"1000*F983","v":91000},"m","=",{"$f":"IF(Worksheet!$D$6=1,RANDBETWEEN(1,99),IF(Worksheet!$D$6=2,CHOOSE(RANDBETWEEN(1,2),RANDBETWEEN(1,99),RANDBETWEEN(1,999)/10),CHOOSE(RANDBETWEEN(1,4),RANDBETWEEN(1,99999)/1000,RANDBETWEEN(1,9999)/100,RANDBETWEEN(1,999)/10,RANDBETWEEN(1,99))))","v":91},"km"]
[{"$f":"IF(COUNTIF($B$1:B984,TRUE)=COUNTIF($B$1:B983,TRUE),\"\",COUNTIF($B$1:B984,TRUE))","v":""},{"$f":"IF(Worksheet!$D$10=2,FALSE,Worksheet!$B$17)","v":false},{"$f":"1000*F984","v":6000},"mm","=",{"$f":"IF(Worksheet!$D$6=1,RANDBETWEEN(1,99),IF(Worksheet!$D$6=2,CHOOSE(RANDBETWEEN(1,2),RANDBETWEEN(1,99),RANDBETWEEN(1,999)/10),CHOOSE(RANDBETWEEN(1,4),RANDBETWEEN(1,99999)/1000,RANDBETWEEN(1,9999)/100,RANDBETWEEN(1,999)/10,RANDBETWEEN(1,99))))","v":6},"m"]
[{"$f":"IF(COUNTIF($B$1:B985,TRUE)=COUNTIF($B$1:B984,TRUE),\"\",COUNTIF($B$1:B985,TRUE))","v":""},{"$f":"IF(Worksheet!$D$10=2,FALSE,Worksheet!$B$18)","v":false},{"$f":"100*F985","v":4100},"mm²","=",{"$f":"IF(Worksheet!$D$6=1,RANDBETWEEN(1,99),IF(Worksheet!$D$6=2,CHOOSE(RANDBETWEEN(1,2),RANDBETWEEN(1,99),RANDBETWEEN(1,999)/10),CHOOSE(RANDBETWEEN(1,4),RANDBETWEEN(1,99999)/1000,RANDBETWEEN(1,9999)/100,RANDBETWEEN(1,999)/10,RANDBETWEEN(1,99))))","v":41},"cm²"]
[{"$f":"IF(COUNTIF($B$1:B986,TRUE)=COUNTIF($B$1:B985,TRUE),\"\",COUNTIF($B$1:B986,TRUE))","v":592},{"$f":"IF(Worksheet!$D$10=2,FALSE,Worksheet!$D$14)","v":true},{"$f":"F986*1000","v":97000},"g","=",{"$f":"IF(Worksheet!$D$6=1,RANDBETWEEN(1,99),IF(Worksheet!$D$6=2,CHOOSE(RANDBETWEEN(1,2),RANDBETWEEN(1,99),RANDBETWEEN(1,999)/10),CHOOSE(RANDBETWEEN(1,4),RANDBETWEEN(1,99999)/1000,RANDBETWEEN(1,9999)/100,RANDBETWEEN(1,999)/10,RANDBETWEEN(1,99))))","v":97},"kg"]
[{"$f":"IF(COUNTIF($B$1:B987,TRUE)=COUNTIF($B$1:B986,TRUE),\"\",COUNTIF($B$1:B987,TRUE))","v":593},{"$f":"IF(Worksheet!$D$10=2,FALSE,Worksheet!$D$15)","v":true},{"$f":"F987*1000","v":23000},"kg","=",{"$f":"IF(Worksheet!$D$6=1,RANDBETWEEN(1,99),IF(Worksheet!$D$6=2,CHOOSE(RANDBETWEEN(1,2),RANDBETWEEN(1,99),RANDBETWEEN(1,999)/10),CHOOSE(RANDBETWEEN(1,4),RANDBETWEEN(1,99999)/1000,RANDBETWEEN(1,9999)/100,RANDBETWEEN(1,999)/10,RANDBETWEEN(1,99))))","v":23},"tonnes"]
[{"$f":"IF(COUNTIF($B$1:B988,TRUE)=COUNTIF($B$1:B987,TRUE),\"\",COUNTIF($B$1:B988,TRUE))","v":594},{"$f":"IF(Worksheet!$D$10=2,FALSE,Worksheet!$D$16)","v":true},{"$f":"1000*F988","v":93000},"ml","=",{"$f":"IF(Worksheet!$D$6=1,RANDBETWEEN(1,99),IF(Worksheet!$D$6=2,CHOOSE(RANDBETWEEN(1,2),RANDBETWEEN(1,99),RANDBETWEEN(1,999)/10),CHOOSE(RANDBETWEEN(1,4),RANDBETWEEN(1,99999)/1000,RANDBETWEEN(1,9999)/100,RANDBETWEEN(1,999)/10,RANDBETWEEN(1,99))))","v":93},"litres"]
[{"$f":"IF(COUNTIF($B$1:B989,TRUE)=COUNTIF($B$1:B988,TRUE),\"\",COUNTIF($B$1:B989,TRUE))","v":""},{"$f":"IF(Worksheet!$D$10=2,FALSE,Worksheet!$D$17)","v":false},{"$f":"1000*F989","v":58000},"cm³","=",{"$f":"IF(Worksheet!$D$6=1,RANDBETWEEN(1,99),IF(Worksheet!$D$6=2,CHOOSE(RANDBETWEEN(1,2),RANDBETWEEN(1,99),RANDBETWEEN(1,999)/10),CHOOSE(RANDBETWEEN(1,4),RANDBETWEEN(1,99999)/1000,RANDBETWEEN(1,9999)/100,RANDBETWEEN(1,999)/10,RANDBETWEEN(1,99))))","v":58},"litres"]
[{"$f":"IF(COUNTIF($B$1:B990,TRUE)=COUNTIF($B$1:B989,TRUE),\"\",COUNTIF($B$1:B990,TRUE))","v":""},{"$f":"IF(Worksheet!$D$10=2,FALSE,Worksheet!$D$18)","v":false},{"$f":"10000*F990","v":210000},"cm²","=",{"$f":"IF(Worksheet!$D$6=1,RANDBETWEEN(1,99),IF(Worksheet!$D$6=2,CHOOSE(RANDBETWEEN(1,2),RANDBETWEEN(1,99),RANDBETWEEN(1,999)/10),CHOOSE(RANDBETWEEN(1,4),RANDBETWEEN(1,99999)/1000,RANDBETWEEN(1,9999)/100,RANDBETWEEN(1,999)/10,RANDBETWEEN(1,99))))","v":21},"m²"]
[{"$f":"IF(COUNTIF($B$1:B991,TRUE)=COUNTIF($B$1:B990,TRUE),\"\",COUNTIF($B$1:B991,TRUE))","v":595},{"$f":"IF(Worksheet!$D$10=3,FALSE,Worksheet!$B$14)","v":true},{"$f":"IF(Worksheet!$D$6=1,RANDBETWEEN(1,99),IF(Worksheet!$D$6=2,CHOOSE(RANDBETWEEN(1,2),RANDBETWEEN(1,99),RANDBETWEEN(1,999)/10),CHOOSE(RANDBETWEEN(1,4),RANDBETWEEN(1,99999)/1000,RANDBETWEEN(1,9999)/100,RANDBETWEEN(1,999)/10,RANDBETWEEN(1,99))))","v":96},"cm","=",{"$f":"10*C991","v":960},"mm"]
[{"$f":"IF(COUNTIF($B$1:B992,TRUE)=COUNTIF($B$1:B991,TRUE),\"\",COUNTIF($B$1:B992,TRUE))","v":596},{"$f":"IF(Worksheet!$D$10=3,FALSE,Worksheet!$B$15)","v":true},{"$f":"IF(Worksheet!$D$6=1,RANDBETWEEN(1,99),IF(Worksheet!$D$6=2,CHOOSE(RANDBETWEEN(1,2),RANDBETWEEN(1,99),RANDBETWEEN(1,999)/10),CHOOSE(RANDBETWEEN(1,4),RANDBETWEEN(1,99999)/1000,RANDBETWEEN(1,9999)/100,RANDBETWEEN(1,999)/10,RANDBETWEEN(1,99))))","v":64},"m","=",{"$f":"100*C992","v":6400},"cm"]
[{"$f":"IF(COUNTIF($B$1:B993,TRUE)=COUNTIF($B$1:B992,TRUE),\"\",COUNTIF($B$1:B993,TRUE))","v":597},{"$f":"IF(Worksheet!$D$10=3,FALSE,Worksheet!$B$16)","v":true},{"$f":"IF(Worksheet!$D$6=1,RANDBETWEEN(1,99),IF(Worksheet!$D$6=2,CHOOSE(RANDBETWEEN(1,2),RANDBETWEEN(1,99),RANDBETWEEN(1,999)/10),CHOOSE(RANDBETWEEN(1,4),RANDBETWEEN(1,99999)/1000,RANDBETWEEN(1,9999)/100,RANDBETWEEN(1,999)/10,RANDBETWEEN(1,99))))","v":65},"km","=",{"$f":"1000*C993","v":65000},"m"]
[{"$f":"IF(COUNTIF($B$1:B994,TRUE)=COUNTIF($B$1:B993,TRUE),\"\",COUNTIF($B$1:B994,TRUE))","v":""},{"$f":"IF(Worksheet!$D$10=3,FALSE,Worksheet!$B$17)","v":false},{"$f":"IF(Worksheet!$D$6=1,RANDBETWEEN(1,99),IF(Worksheet!$D$6=2,CHOOSE(RANDBETWEEN(1,2),RANDBETWEEN(1,99),RANDBETWEEN(1,999)/10),CHOOSE(RANDBETWEEN(1,4),RANDBETWEEN(1,99999)/1000,RANDBETWEEN(1,9999)/100,RANDBETWEEN(1,999)/10,RANDBETWEEN(1,99))))","v":20},"m",{"$f":"#REF!","v":{"$error":"#REF!"}},{"$f":"1000*C994","v":20000},"mm"]
[{"$f":"IF(COUNTIF($B$1:B995,TRUE)=COUNTIF($B$1:B994,TRUE),\"\",COUNTIF($B$1:B995,TRUE))","v":""},{"$f":"IF(Worksheet!$D$10=3,FALSE,Worksheet!$B$18)","v":false},{"$f":"IF(Worksheet!$D$6=1,RANDBETWEEN(1,99),IF(Worksheet!$D$6=2,CHOOSE(RANDBETWEEN(1,2),RANDBETWEEN(1,99),RANDBETWEEN(1,999)/10),CHOOSE(RANDBETWEEN(1,4),RANDBETWEEN(1,99999)/1000,RANDBETWEEN(1,9999)/100,RANDBETWEEN(1,999)/10,RANDBETWEEN(1,99))))","v":14},"cm²","=",{"$f":"C995*100","v":1400},"mm²"]
[{"$f":"IF(COUNTIF($B$1:B996,TRUE)=COUNTIF($B$1:B995,TRUE),\"\",COUNTIF($B$1:B996,TRUE))","v":598},{"$f":"IF(Worksheet!$D$10=3,FALSE,Worksheet!$D$14)","v":true},{"$f":"IF(Worksheet!$D$6=1,RANDBETWEEN(1,99),IF(Worksheet!$D$6=2,CHOOSE(RANDBETWEEN(1,2),RANDBETWEEN(1,99),RANDBETWEEN(1,999)/10),CHOOSE(RANDBETWEEN(1,4),RANDBETWEEN(1,99999)/1000,RANDBETWEEN(1,9999)/100,RANDBETWEEN(1,999)/10,RANDBETWEEN(1,99))))","v":39},"kg","=",{"$f":"1000*C996","v":39000},"g"]
[{"$f":"IF(COUNTIF($B$1:B997,TRUE)=COUNTIF($B$1:B996,TRUE),\"\",COUNTIF($B$1:B997,TRUE))","v":599},{"$f":"IF(Worksheet!$D$10=3,FALSE,Worksheet!$D$15)","v":true},{"$f":"IF(Worksheet!$D$6=1,RANDBETWEEN(1,99),IF(Worksheet!$D$6=2,CHOOSE(RANDBETWEEN(1,2),RANDBETWEEN(1,99),RANDBETWEEN(1,999)/10),CHOOSE(RANDBETWEEN(1,4),RANDBETWEEN(1,99999)/1000,RANDBETWEEN(1,9999)/100,RANDBETWEEN(1,999)/10,RANDBETWEEN(1,99))))","v":48},"tonnes","=",{"$f":"1000*C997","v":48000},"kg"]
[{"$f":"IF(COUNTIF($B$1:B998,TRUE)=COUNTIF($B$1:B997,TRUE),\"\",COUNTIF($B$1:B998,TRUE))","v":600},{"$f":"IF(Worksheet!$D$10=3,FALSE,Worksheet!$D$16)","v":true},{"$f":"IF(Worksheet!$D$6=1,RANDBETWEEN(1,99),IF(Worksheet!$D$6=2,CHOOSE(RANDBETWEEN(1,2),RANDBETWEEN(1,99),RANDBETWEEN(1,999)/10),CHOOSE(RANDBETWEEN(1,4),RANDBETWEEN(1,99999)/1000,RANDBETWEEN(1,9999)/100,RANDBETWEEN(1,999)/10,RANDBETWEEN(1,99))))","v":75},"litres","=",{"$f":"1000*C998","v":75000},"ml"]
[{"$f":"IF(COUNTIF($B$1:B999,TRUE)=COUNTIF($B$1:B998,TRUE),\"\",COUNTIF($B$1:B999,TRUE))","v":""},{"$f":"IF(Worksheet!$D$10=3,FALSE,Worksheet!$D$17)","v":false},{"$f":"IF(Worksheet!$D$6=1,RANDBETWEEN(1,99),IF(Worksheet!$D$6=2,CHOOSE(RANDBETWEEN(1,2),RANDBETWEEN(1,99),RANDBETWEEN(1,999)/10),CHOOSE(RANDBETWEEN(1,4),RANDBETWEEN(1,99999)/1000,RANDBETWEEN(1,9999)/100,RANDBETWEEN(1,999)/10,RANDBETWEEN(1,99))))","v":10},"litres","=",{"$f":"1000*C999","v":10000},"cm³"]
[{"$f":"IF(COUNTIF($B$1:B1000,TRUE)=COUNTIF($B$1:B999,TRUE),\"\",COUNTIF($B$1:B1000,TRUE))","v":""},{"$f":"IF(Worksheet!$D$10=3,FALSE,Worksheet!$D$18)","v":false},{"$f":"IF(Worksheet!$D$6=1,RANDBETWEEN(1,99),IF(Worksheet!$D$6=2,CHOOSE(RANDBETWEEN(1,2),RANDBETWEEN(1,99),RANDBETWEEN(1,999)/10),CHOOSE(RANDBETWEEN(1,4),RANDBETWEEN(1,99999)/1000,RANDBETWEEN(1,9999)/100,RANDBETWEEN(1,999)/10,RANDBETWEEN(1,99))))","v":98},"m²","=",{"$f":"10000*C1000","v":980000},"cm²"]
[{"$f":"IF(COUNTIF($B$1:B1001,TRUE)=COUNTIF($B$1:B1000,TRUE),\"\",COUNTIF($B$1:B1001,TRUE))","v":601},{"$f":"IF(Worksheet!$D$10=2,FALSE,Worksheet!$B$14)","v":true},{"$f":"10*F1001","v":40},"mm","=",{"$f":"IF(Worksheet!$D$6=1,RANDBETWEEN(1,99),IF(Worksheet!$D$6=2,CHOOSE(RANDBETWEEN(1,2),RANDBETWEEN(1,99),RANDBETWEEN(1,999)/10),CHOOSE(RANDBETWEEN(1,4),RANDBETWEEN(1,99999)/1000,RANDBETWEEN(1,9999)/100,RANDBETWEEN(1,999)/10,RANDBETWEEN(1,99))))","v":4},"cm"]
[{"$f":"IF(COUNTIF($B$1:B1002,TRUE)=COUNTIF($B$1:B1001,TRUE),\"\",COUNTIF($B$1:B1002,TRUE))","v":602},{"$f":"IF(Worksheet!$D$10=2,FALSE,Worksheet!$B$15)","v":true},{"$f":"100*F1002","v":3600},"cm","=",{"$f":"IF(Worksheet!$D$6=1,RANDBETWEEN(1,99),IF(Worksheet!$D$6=2,CHOOSE(RANDBETWEEN(1,2),RANDBETWEEN(1,99),RANDBETWEEN(1,999)/10),CHOOSE(RANDBETWEEN(1,4),RANDBETWEEN(1,99999)/1000,RANDBETWEEN(1,9999)/100,RANDBETWEEN(1,999)/10,RANDBETWEEN(1,99))))","v":36},"m"]
[{"$f":"IF(COUNTIF($B$1:B1003,TRUE)=COUNTIF($B$1:B1002,TRUE),\"\",COUNTIF($B$1:B1003,TRUE))","v":603},{"$f":"IF(Worksheet!$D$10=2,FALSE,Worksheet!$B$16)","v":true},{"$f":"1000*F1003","v":24000},"m","=",{"$f":"IF(Worksheet!$D$6=1,RANDBETWEEN(1,99),IF(Worksheet!$D$6=2,CHOOSE(RANDBETWEEN(1,2),RANDBETWEEN(1,99),RANDBETWEEN(1,999)/10),CHOOSE(RANDBETWEEN(1,4),RANDBETWEEN(1,99999)/1000,RANDBETWEEN(1,9999)/100,RANDBETWEEN(1,999)/10,RANDBETWEEN(1,99))))","v":24},"km"]
[{"$f":"IF(COUNTIF($B$1:B1004,TRUE)=COUNTIF($B$1:B1003,TRUE),\"\",COUNTIF($B$1:B1004,TRUE))","v":""},{"$f":"IF(Worksheet!$D$10=2,FALSE,Worksheet!$B$17)","v":false},{"$f":"1000*F1004","v":58000},"mm","=",{"$f":"IF(Worksheet!$D$6=1,RANDBETWEEN(1,99),IF(Worksheet!$D$6=2,CHOOSE(RANDBETWEEN(1,2),RANDBETWEEN(1,99),RANDBETWEEN(1,999)/10),CHOOSE(RANDBETWEEN(1,4),RANDBETWEEN(1,99999)/1000,RANDBETWEEN(1,9999)/100,RANDBETWEEN(1,999)/10,RANDBETWEEN(1,99))))","v":58},"m"]
[{"$f":"IF(COUNTIF($B$1:B1005,TRUE)=COUNTIF($B$1:B1004,TRUE),\"\",COUNTIF($B$1:B1005,TRUE))","v":""},{"$f":"IF(Worksheet!$D$10=2,FALSE,Worksheet!$B$18)","v":false},{"$f":"100*F1005","v":4600},"mm²","=",{"$f":"IF(Worksheet!$D$6=1,RANDBETWEEN(1,99),IF(Worksheet!$D$6=2,CHOOSE(RANDBETWEEN(1,2),RANDBETWEEN(1,99),RANDBETWEEN(1,999)/10),CHOOSE(RANDBETWEEN(1,4),RANDBETWEEN(1,99999)/1000,RANDBETWEEN(1,9999)/100,RANDBETWEEN(1,999)/10,RANDBETWEEN(1,99))))","v":46},"cm²"]
[{"$f":"IF(COUNTIF($B$1:B1006,TRUE)=COUNTIF($B$1:B1005,TRUE),\"\",COUNTIF($B$1:B1006,TRUE))","v":604},{"$f":"IF(Worksheet!$D$10=2,FALSE,Worksheet!$D$14)","v":true},{"$f":"F1006*1000","v":94000},"g","=",{"$f":"IF(Worksheet!$D$6=1,RANDBETWEEN(1,99),IF(Worksheet!$D$6=2,CHOOSE(RANDBETWEEN(1,2),RANDBETWEEN(1,99),RANDBETWEEN(1,999)/10),CHOOSE(RANDBETWEEN(1,4),RANDBETWEEN(1,99999)/1000,RANDBETWEEN(1,9999)/100,RANDBETWEEN(1,999)/10,RANDBETWEEN(1,99))))","v":94},"kg"]
[{"$f":"IF(COUNTIF($B$1:B1007,TRUE)=COUNTIF($B$1:B1006,TRUE),\"\",COUNTIF($B$1:B1007,TRUE))","v":605},{"$f":"IF(Worksheet!$D$10=2,FALSE,Worksheet!$D$15)","v":true},{"$f":"F1007*1000","v":71000},"kg","=",{"$f":"IF(Worksheet!$D$6=1,RANDBETWEEN(1,99),IF(Worksheet!$D$6=2,CHOOSE(RANDBETWEEN(1,2),RANDBETWEEN(1,99),RANDBETWEEN(1,999)/10),CHOOSE(RANDBETWEEN(1,4),RANDBETWEEN(1,99999)/1000,RANDBETWEEN(1,9999)/100,RANDBETWEEN(1,999)/10,RANDBETWEEN(1,99))))","v":71},"tonnes"]
[{"$f":"IF(COUNTIF($B$1:B1008,TRUE)=COUNTIF($B$1:B1007,TRUE),\"\",COUNTIF($B$1:B1008,TRUE))","v":606},{"$f":"IF(Worksheet!$D$10=2,FALSE,Worksheet!$D$16)","v":true},{"$f":"1000*F1008","v":51000},"ml","=",{"$f":"IF(Worksheet!$D$6=1,RANDBETWEEN(1,99),IF(Worksheet!$D$6=2,CHOOSE(RANDBETWEEN(1,2),RANDBETWEEN(1,99),RANDBETWEEN(1,999)/10),CHOOSE(RANDBETWEEN(1,4),RANDBETWEEN(1,99999)/1000,RANDBETWEEN(1,9999)/100,RANDBETWEEN(1,999)/10,RANDBETWEEN(1,99))))","v":51},"litres"]
[{"$f":"IF(COUNTIF($B$1:B1009,TRUE)=COUNTIF($B$1:B1008,TRUE),\"\",COUNTIF($B$1:B1009,TRUE))","v":""},{"$f":"IF(Worksheet!$D$10=2,FALSE,Worksheet!$D$17)","v":false},{"$f":"1000*F1009","v":38000},"cm³","=",{"$f":"IF(Worksheet!$D$6=1,RANDBETWEEN(1,99),IF(Worksheet!$D$6=2,CHOOSE(RANDBETWEEN(1,2),RANDBETWEEN(1,99),RANDBETWEEN(1,999)/10),CHOOSE(RANDBETWEEN(1,4),RANDBETWEEN(1,99999)/1000,RANDBETWEEN(1,9999)/100,RANDBETWEEN(1,999)/10,RANDBETWEEN(1,99))))","v":38},"litres"]
[{"$f":"IF(COUNTIF($B$1:B1010,TRUE)=COUNTIF($B$1:B1009,TRUE),\"\",COUNTIF($B$1:B1010,TRUE))","v":""},{"$f":"IF(Worksheet!$D$10=2,FALSE,Worksheet!$D$18)","v":false},{"$f":"10000*F1010","v":980000},"cm²","=",{"$f":"IF(Worksheet!$D$6=1,RANDBETWEEN(1,99),IF(Worksheet!$D$6=2,CHOOSE(RANDBETWEEN(1,2),RANDBETWEEN(1,99),RANDBETWEEN(1,999)/10),CHOOSE(RANDBETWEEN(1,4),RANDBETWEEN(1,99999)/1000,RANDBETWEEN(1,9999)/100,RANDBETWEEN(1,999)/10,RANDBETWEEN(1,99))))","v":98},"m²"]
[{"$f":"IF(COUNTIF($B$1:B1011,TRUE)=COUNTIF($B$1:B1010,TRUE),\"\",COUNTIF($B$1:B1011,TRUE))","v":607},{"$f":"IF(Worksheet!$D$10=3,FALSE,Worksheet!$B$14)","v":true},{"$f":"IF(Worksheet!$D$6=1,RANDBETWEEN(1,99),IF(Worksheet!$D$6=2,CHOOSE(RANDBETWEEN(1,2),RANDBETWEEN(1,99),RANDBETWEEN(1,999)/10),CHOOSE(RANDBETWEEN(1,4),RANDBETWEEN(1,99999)/1000,RANDBETWEEN(1,9999)/100,RANDBETWEEN(1,999)/10,RANDBETWEEN(1,99))))","v":21},"cm","=",{"$f":"10*C1011","v":210},"mm"]
[{"$f":"IF(COUNTIF($B$1:B1012,TRUE)=COUNTIF($B$1:B1011,TRUE),\"\",COUNTIF($B$1:B1012,TRUE))","v":608},{"$f":"IF(Worksheet!$D$10=3,FALSE,Worksheet!$B$15)","v":true},{"$f":"IF(Worksheet!$D$6=1,RANDBETWEEN(1,99),IF(Worksheet!$D$6=2,CHOOSE(RANDBETWEEN(1,2),RANDBETWEEN(1,99),RANDBETWEEN(1,999)/10),CHOOSE(RANDBETWEEN(1,4),RANDBETWEEN(1,99999)/1000,RANDBETWEEN(1,9999)/100,RANDBETWEEN(1,999)/10,RANDBETWEEN(1,99))))","v":43},"m","=",{"$f":"100*C1012","v":4300},"cm"]
[{"$f":"IF(COUNTIF($B$1:B1013,TRUE)=COUNTIF($B$1:B1012,TRUE),\"\",COUNTIF($B$1:B1013,TRUE))","v":609},{"$f":"IF(Worksheet!$D$10=3,FALSE,Worksheet!$B$16)","v":true},{"$f":"IF(Worksheet!$D$6=1,RANDBETWEEN(1,99),IF(Worksheet!$D$6=2,CHOOSE(RANDBETWEEN(1,2),RANDBETWEEN(1,99),RANDBETWEEN(1,999)/10),CHOOSE(RANDBETWEEN(1,4),RANDBETWEEN(1,99999)/1000,RANDBETWEEN(1,9999)/100,RANDBETWEEN(1,999)/10,RANDBETWEEN(1,99))))","v":98},"km","=",{"$f":"1000*C1013","v":98000},"m"]
[{"$f":"IF(COUNTIF($B$1:B1014,TRUE)=COUNTIF($B$1:B1013,TRUE),\"\",COUNTIF($B$1:B1014,TRUE))","v":""},{"$f":"IF(Worksheet!$D$10=3,FALSE,Worksheet!$B$17)","v":false},{"$f":"IF(Worksheet!$D$6=1,RANDBETWEEN(1,99),IF(Worksheet!$D$6=2,CHOOSE(RANDBETWEEN(1,2),RANDBETWEEN(1,99),RANDBETWEEN(1,999)/10),CHOOSE(RANDBETWEEN(1,4),RANDBETWEEN(1,99999)/1000,RANDBETWEEN(1,9999)/100,RANDBETWEEN(1,999)/10,RANDBETWEEN(1,99))))","v":39},"m",{"$f":"#REF!","v":{"$error":"#REF!"}},{"$f":"1000*C1014","v":39000},"mm"]
[{"$f":"IF(COUNTIF($B$1:B1015,TRUE)=COUNTIF($B$1:B1014,TRUE),\"\",COUNTIF($B$1:B1015,TRUE))","v":""},{"$f":"IF(Worksheet!$D$10=3,FALSE,Worksheet!$B$18)","v":false},{"$f":"IF(Worksheet!$D$6=1,RANDBETWEEN(1,99),IF(Worksheet!$D$6=2,CHOOSE(RANDBETWEEN(1,2),RANDBETWEEN(1,99),RANDBETWEEN(1,999)/10),CHOOSE(RANDBETWEEN(1,4),RANDBETWEEN(1,99999)/1000,RANDBETWEEN(1,9999)/100,RANDBETWEEN(1,999)/10,RANDBETWEEN(1,99))))","v":24},"cm²","=",{"$f":"C1015*100","v":2400},"mm²"]
[{"$f":"IF(COUNTIF($B$1:B1016,TRUE)=COUNTIF($B$1:B1015,TRUE),\"\",COUNTIF($B$1:B1016,TRUE))","v":610},{"$f":"IF(Worksheet!$D$10=3,FALSE,Worksheet!$D$14)","v":true},{"$f":"IF(Worksheet!$D$6=1,RANDBETWEEN(1,99),IF(Worksheet!$D$6=2,CHOOSE(RANDBETWEEN(1,2),RANDBETWEEN(1,99),RANDBETWEEN(1,999)/10),CHOOSE(RANDBETWEEN(1,4),RANDBETWEEN(1,99999)/1000,RANDBETWEEN(1,9999)/100,RANDBETWEEN(1,999)/10,RANDBETWEEN(1,99))))","v":50},"kg","=",{"$f":"1000*C1016","v":50000},"g"]
[{"$f":"IF(COUNTIF($B$1:B1017,TRUE)=COUNTIF($B$1:B1016,TRUE),\"\",COUNTIF($B$1:B1017,TRUE))","v":611},{"$f":"IF(Worksheet!$D$10=3,FALSE,Worksheet!$D$15)","v":true},{"$f":"IF(Worksheet!$D$6=1,RANDBETWEEN(1,99),IF(Worksheet!$D$6=2,CHOOSE(RANDBETWEEN(1,2),RANDBETWEEN(1,99),RANDBETWEEN(1,999)/10),CHOOSE(RANDBETWEEN(1,4),RANDBETWEEN(1,99999)/1000,RANDBETWEEN(1,9999)/100,RANDBETWEEN(1,999)/10,RANDBETWEEN(1,99))))","v":59},"tonnes","=",{"$f":"1000*C1017","v":59000},"kg"]
[{"$f":"IF(COUNTIF($B$1:B1018,TRUE)=COUNTIF($B$1:B1017,TRUE),\"\",COUNTIF($B$1:B1018,TRUE))","v":612},{"$f":"IF(Worksheet!$D$10=3,FALSE,Worksheet!$D$16)","v":true},{"$f":"IF(Worksheet!$D$6=1,RANDBETWEEN(1,99),IF(Worksheet!$D$6=2,CHOOSE(RANDBETWEEN(1,2),RANDBETWEEN(1,99),RANDBETWEEN(1,999)/10),CHOOSE(RANDBETWEEN(1,4),RANDBETWEEN(1,99999)/1000,RANDBETWEEN(1,9999)/100,RANDBETWEEN(1,999)/10,RANDBETWEEN(1,99))))","v":48},"litres","=",{"$f":"1000*C1018","v":48000},"ml"]
[{"$f":"IF(COUNTIF($B$1:B1019,TRUE)=COUNTIF($B$1:B1018,TRUE),\"\",COUNTIF($B$1:B1019,TRUE))","v":""},{"$f":"IF(Worksheet!$D$10=3,FALSE,Worksheet!$D$17)","v":false},{"$f":"IF(Worksheet!$D$6=1,RANDBETWEEN(1,99),IF(Worksheet!$D$6=2,CHOOSE(RANDBETWEEN(1,2),RANDBETWEEN(1,99),RANDBETWEEN(1,999)/10),CHOOSE(RANDBETWEEN(1,4),RANDBETWEEN(1,99999)/1000,RANDBETWEEN(1,9999)/100,RANDBETWEEN(1,999)/10,RANDBETWEEN(1,99))))","v":86},"litres","=",{"$f":"1000*C1019","v":86000},"cm³"]
[{"$f":"IF(COUNTIF($B$1:B1020,TRUE)=COUNTIF($B$1:B1019,TRUE),\"\",COUNTIF($B$1:B1020,TRUE))","v":""},{"$f":"IF(Worksheet!$D$10=3,FALSE,Worksheet!$D$18)","v":false},{"$f":"IF(Worksheet!$D$6=1,RANDBETWEEN(1,99),IF(Worksheet!$D$6=2,CHOOSE(RANDBETWEEN(1,2),RANDBETWEEN(1,99),RANDBETWEEN(1,999)/10),CHOOSE(RANDBETWEEN(1,4),RANDBETWEEN(1,99999)/1000,RANDBETWEEN(1,9999)/100,RANDBETWEEN(1,999)/10,RANDBETWEEN(1,99))))","v":10},"m²","=",{"$f":"10000*C1020","v":100000},"cm²"]
[{"$f":"IF(COUNTIF($B$1:B1021,TRUE)=COUNTIF($B$1:B1020,TRUE),\"\",COUNTIF($B$1:B1021,TRUE))","v":613},{"$f":"IF(Worksheet!$D$10=2,FALSE,Worksheet!$B$14)","v":true},{"$f":"10*F1021","v":830},"mm","=",{"$f":"IF(Worksheet!$D$6=1,RANDBETWEEN(1,99),IF(Worksheet!$D$6=2,CHOOSE(RANDBETWEEN(1,2),RANDBETWEEN(1,99),RANDBETWEEN(1,999)/10),CHOOSE(RANDBETWEEN(1,4),RANDBETWEEN(1,99999)/1000,RANDBETWEEN(1,9999)/100,RANDBETWEEN(1,999)/10,RANDBETWEEN(1,99))))","v":83},"cm"]
[{"$f":"IF(COUNTIF($B$1:B1022,TRUE)=COUNTIF($B$1:B1021,TRUE),\"\",COUNTIF($B$1:B1022,TRUE))","v":614},{"$f":"IF(Worksheet!$D$10=2,FALSE,Worksheet!$B$15)","v":true},{"$f":"100*F1022","v":200},"cm","=",{"$f":"IF(Worksheet!$D$6=1,RANDBETWEEN(1,99),IF(Worksheet!$D$6=2,CHOOSE(RANDBETWEEN(1,2),RANDBETWEEN(1,99),RANDBETWEEN(1,999)/10),CHOOSE(RANDBETWEEN(1,4),RANDBETWEEN(1,99999)/1000,RANDBETWEEN(1,9999)/100,RANDBETWEEN(1,999)/10,RANDBETWEEN(1,99))))","v":2},"m"]
[{"$f":"IF(COUNTIF($B$1:B1023,TRUE)=COUNTIF($B$1:B1022,TRUE),\"\",COUNTIF($B$1:B1023,TRUE))","v":615},{"$f":"IF(Worksheet!$D$10=2,FALSE,Worksheet!$B$16)","v":true},{"$f":"1000*F1023","v":91000},"m","=",{"$f":"IF(Worksheet!$D$6=1,RANDBETWEEN(1,99),IF(Worksheet!$D$6=2,CHOOSE(RANDBETWEEN(1,2),RANDBETWEEN(1,99),RANDBETWEEN(1,999)/10),CHOOSE(RANDBETWEEN(1,4),RANDBETWEEN(1,99999)/1000,RANDBETWEEN(1,9999)/100,RANDBETWEEN(1,999)/10,RANDBETWEEN(1,99))))","v":91},"km"]
[{"$f":"IF(COUNTIF($B$1:B1024,TRUE)=COUNTIF($B$1:B1023,TRUE),\"\",COUNTIF($B$1:B1024,TRUE))","v":""},{"$f":"IF(Worksheet!$D$10=2,FALSE,Worksheet!$B$17)","v":false},{"$f":"1000*F1024","v":27000},"mm","=",{"$f":"IF(Worksheet!$D$6=1,RANDBETWEEN(1,99),IF(Worksheet!$D$6=2,CHOOSE(RANDBETWEEN(1,2),RANDBETWEEN(1,99),RANDBETWEEN(1,999)/10),CHOOSE(RANDBETWEEN(1,4),RANDBETWEEN(1,99999)/1000,RANDBETWEEN(1,9999)/100,RANDBETWEEN(1,999)/10,RANDBETWEEN(1,99))))","v":27},"m"]
[{"$f":"IF(COUNTIF($B$1:B1025,TRUE)=COUNTIF($B$1:B1024,TRUE),\"\",COUNTIF($B$1:B1025,TRUE))","v":""},{"$f":"IF(Worksheet!$D$10=2,FALSE,Worksheet!$B$18)","v":false},{"$f":"100*F1025","v":200},"mm²","=",{"$f":"IF(Worksheet!$D$6=1,RANDBETWEEN(1,99),IF(Worksheet!$D$6=2,CHOOSE(RANDBETWEEN(1,2),RANDBETWEEN(1,99),RANDBETWEEN(1,999)/10),CHOOSE(RANDBETWEEN(1,4),RANDBETWEEN(1,99999)/1000,RANDBETWEEN(1,9999)/100,RANDBETWEEN(1,999)/10,RANDBETWEEN(1,99))))","v":2},"cm²"]
[{"$f":"IF(COUNTIF($B$1:B1026,TRUE)=COUNTIF($B$1:B1025,TRUE),\"\",COUNTIF($B$1:B1026,TRUE))","v":616},{"$f":"IF(Worksheet!$D$10=2,FALSE,Worksheet!$D$14)","v":true},{"$f":"F1026*1000","v":52000},"g","=",{"$f":"IF(Worksheet!$D$6=1,RANDBETWEEN(1,99),IF(Worksheet!$D$6=2,CHOOSE(RANDBETWEEN(1,2),RANDBETWEEN(1,99),RANDBETWEEN(1,999)/10),CHOOSE(RANDBETWEEN(1,4),RANDBETWEEN(1,99999)/1000,RANDBETWEEN(1,9999)/100,RANDBETWEEN(1,999)/10,RANDBETWEEN(1,99))))","v":52},"kg"]
[{"$f":"IF(COUNTIF($B$1:B1027,TRUE)=COUNTIF($B$1:B1026,TRUE),\"\",COUNTIF($B$1:B1027,TRUE))","v":617},{"$f":"IF(Worksheet!$D$10=2,FALSE,Worksheet!$D$15)","v":true},{"$f":"F1027*1000","v":72000},"kg","=",{"$f":"IF(Worksheet!$D$6=1,RANDBETWEEN(1,99),IF(Worksheet!$D$6=2,CHOOSE(RANDBETWEEN(1,2),RANDBETWEEN(1,99),RANDBETWEEN(1,999)/10),CHOOSE(RANDBETWEEN(1,4),RANDBETWEEN(1,99999)/1000,RANDBETWEEN(1,9999)/100,RANDBETWEEN(1,999)/10,RANDBETWEEN(1,99))))","v":72},"tonnes"]
[{"$f":"IF(COUNTIF($B$1:B1028,TRUE)=COUNTIF($B$1:B1027,TRUE),\"\",COUNTIF($B$1:B1028,TRUE))","v":618},{"$f":"IF(Worksheet!$D$10=2,FALSE,Worksheet!$D$16)","v":true},{"$f":"1000*F1028","v":31000},"ml","=",{"$f":"IF(Worksheet!$D$6=1,RANDBETWEEN(1,99),IF(Worksheet!$D$6=2,CHOOSE(RANDBETWEEN(1,2),RANDBETWEEN(1,99),RANDBETWEEN(1,999)/10),CHOOSE(RANDBETWEEN(1,4),RANDBETWEEN(1,99999)/1000,RANDBETWEEN(1,9999)/100,RANDBETWEEN(1,999)/10,RANDBETWEEN(1,99))))","v":31},"litres"]
[{"$f":"IF(COUNTIF($B$1:B1029,TRUE)=COUNTIF($B$1:B1028,TRUE),\"\",COUNTIF($B$1:B1029,TRUE))","v":""},{"$f":"IF(Worksheet!$D$10=2,FALSE,Worksheet!$D$17)","v":false},{"$f":"1000*F1029","v":9000},"cm³","=",{"$f":"IF(Worksheet!$D$6=1,RANDBETWEEN(1,99),IF(Worksheet!$D$6=2,CHOOSE(RANDBETWEEN(1,2),RANDBETWEEN(1,99),RANDBETWEEN(1,999)/10),CHOOSE(RANDBETWEEN(1,4),RANDBETWEEN(1,99999)/1000,RANDBETWEEN(1,9999)/100,RANDBETWEEN(1,999)/10,RANDBETWEEN(1,99))))","v":9},"litres"]
[{"$f":"IF(COUNTIF($B$1:B1030,TRUE)=COUNTIF($B$1:B1029,TRUE),\"\",COUNTIF($B$1:B1030,TRUE))","v":""},{"$f":"IF(Worksheet!$D$10=2,FALSE,Worksheet!$D$18)","v":false},{"$f":"10000*F1030","v":300000},"cm²","=",{"$f":"IF(Worksheet!$D$6=1,RANDBETWEEN(1,99),IF(Worksheet!$D$6=2,CHOOSE(RANDBETWEEN(1,2),RANDBETWEEN(1,99),RANDBETWEEN(1,999)/10),CHOOSE(RANDBETWEEN(1,4),RANDBETWEEN(1,99999)/1000,RANDBETWEEN(1,9999)/100,RANDBETWEEN(1,999)/10,RANDBETWEEN(1,99))))","v":30},"m²"]
[{"$f":"IF(COUNTIF($B$1:B1031,TRUE)=COUNTIF($B$1:B1030,TRUE),\"\",COUNTIF($B$1:B1031,TRUE))","v":619},{"$f":"IF(Worksheet!$D$10=3,FALSE,Worksheet!$B$14)","v":true},{"$f":"IF(Worksheet!$D$6=1,RANDBETWEEN(1,99),IF(Worksheet!$D$6=2,CHOOSE(RANDBETWEEN(1,2),RANDBETWEEN(1,99),RANDBETWEEN(1,999)/10),CHOOSE(RANDBETWEEN(1,4),RANDBETWEEN(1,99999)/1000,RANDBETWEEN(1,9999)/100,RANDBETWEEN(1,999)/10,RANDBETWEEN(1,99))))","v":79},"cm","=",{"$f":"10*C1031","v":790},"mm"]
[{"$f":"IF(COUNTIF($B$1:B1032,TRUE)=COUNTIF($B$1:B1031,TRUE),\"\",COUNTIF($B$1:B1032,TRUE))","v":620},{"$f":"IF(Worksheet!$D$10=3,FALSE,Worksheet!$B$15)","v":true},{"$f":"IF(Worksheet!$D$6=1,RANDBETWEEN(1,99),IF(Worksheet!$D$6=2,CHOOSE(RANDBETWEEN(1,2),RANDBETWEEN(1,99),RANDBETWEEN(1,999)/10),CHOOSE(RANDBETWEEN(1,4),RANDBETWEEN(1,99999)/1000,RANDBETWEEN(1,9999)/100,RANDBETWEEN(1,999)/10,RANDBETWEEN(1,99))))","v":25},"m","=",{"$f":"100*C1032","v":2500},"cm"]
[{"$f":"IF(COUNTIF($B$1:B1033,TRUE)=COUNTIF($B$1:B1032,TRUE),\"\",COUNTIF($B$1:B1033,TRUE))","v":621},{"$f":"IF(Worksheet!$D$10=3,FALSE,Worksheet!$B$16)","v":true},{"$f":"IF(Worksheet!$D$6=1,RANDBETWEEN(1,99),IF(Worksheet!$D$6=2,CHOOSE(RANDBETWEEN(1,2),RANDBETWEEN(1,99),RANDBETWEEN(1,999)/10),CHOOSE(RANDBETWEEN(1,4),RANDBETWEEN(1,99999)/1000,RANDBETWEEN(1,9999)/100,RANDBETWEEN(1,999)/10,RANDBETWEEN(1,99))))","v":14},"km","=",{"$f":"1000*C1033","v":14000},"m"]
[{"$f":"IF(COUNTIF($B$1:B1034,TRUE)=COUNTIF($B$1:B1033,TRUE),\"\",COUNTIF($B$1:B1034,TRUE))","v":""},{"$f":"IF(Worksheet!$D$10=3,FALSE,Worksheet!$B$17)","v":false},{"$f":"IF(Worksheet!$D$6=1,RANDBETWEEN(1,99),IF(Worksheet!$D$6=2,CHOOSE(RANDBETWEEN(1,2),RANDBETWEEN(1,99),RANDBETWEEN(1,999)/10),CHOOSE(RANDBETWEEN(1,4),RANDBETWEEN(1,99999)/1000,RANDBETWEEN(1,9999)/100,RANDBETWEEN(1,999)/10,RANDBETWEEN(1,99))))","v":89},"m",{"$f":"#REF!","v":{"$error":"#REF!"}},{"$f":"1000*C1034","v":89000},"mm"]
[{"$f":"IF(COUNTIF($B$1:B1035,TRUE)=COUNTIF($B$1:B1034,TRUE),\"\",COUNTIF($B$1:B1035,TRUE))","v":""},{"$f":"IF(Worksheet!$D$10=3,FALSE,Worksheet!$B$18)","v":false},{"$f":"IF(Worksheet!$D$6=1,RANDBETWEEN(1,99),IF(Worksheet!$D$6=2,CHOOSE(RANDBETWEEN(1,2),RANDBETWEEN(1,99),RANDBETWEEN(1,999)/10),CHOOSE(RANDBETWEEN(1,4),RANDBETWEEN(1,99999)/1000,RANDBETWEEN(1,9999)/100,RANDBETWEEN(1,999)/10,RANDBETWEEN(1,99))))","v":25},"cm²","=",{"$f":"C1035*100","v":2500},"mm²"]
[{"$f":"IF(COUNTIF($B$1:B1036,TRUE)=COUNTIF($B$1:B1035,TRUE),\"\",COUNTIF($B$1:B1036,TRUE))","v":622},{"$f":"IF(Worksheet!$D$10=3,FALSE,Worksheet!$D$14)","v":true},{"$f":"IF(Worksheet!$D$6=1,RANDBETWEEN(1,99),IF(Worksheet!$D$6=2,CHOOSE(RANDBETWEEN(1,2),RANDBETWEEN(1,99),RANDBETWEEN(1,999)/10),CHOOSE(RANDBETWEEN(1,4),RANDBETWEEN(1,99999)/1000,RANDBETWEEN(1,9999)/100,RANDBETWEEN(1,999)/10,RANDBETWEEN(1,99))))","v":19},"kg","=",{"$f":"1000*C1036","v":19000},"g"]
[{"$f":"IF(COUNTIF($B$1:B1037,TRUE)=COUNTIF($B$1:B1036,TRUE),\"\",COUNTIF($B$1:B1037,TRUE))","v":623},{"$f":"IF(Worksheet!$D$10=3,FALSE,Worksheet!$D$15)","v":true},{"$f":"IF(Worksheet!$D$6=1,RANDBETWEEN(1,99),IF(Worksheet!$D$6=2,CHOOSE(RANDBETWEEN(1,2),RANDBETWEEN(1,99),RANDBETWEEN(1,999)/10),CHOOSE(RANDBETWEEN(1,4),RANDBETWEEN(1,99999)/1000,RANDBETWEEN(1,9999)/100,RANDBETWEEN(1,999)/10,RANDBETWEEN(1,99))))","v":91},"tonnes","=",{"$f":"1000*C1037","v":91000},"kg"]
[{"$f":"IF(COUNTIF($B$1:B1038,TRUE)=COUNTIF($B$1:B1037,TRUE),\"\",COUNTIF($B$1:B1038,TRUE))","v":624},{"$f":"IF(Worksheet!$D$10=3,FALSE,Worksheet!$D$16)","v":true},{"$f":"IF(Worksheet!$D$6=1,RANDBETWEEN(1,99),IF(Worksheet!$D$6=2,CHOOSE(RANDBETWEEN(1,2),RANDBETWEEN(1,99),RANDBETWEEN(1,999)/10),CHOOSE(RANDBETWEEN(1,4),RANDBETWEEN(1,99999)/1000,RANDBETWEEN(1,9999)/100,RANDBETWEEN(1,999)/10,RANDBETWEEN(1,99))))","v":87},"litres","=",{"$f":"1000*C1038","v":87000},"ml"]
[{"$f":"IF(COUNTIF($B$1:B1039,TRUE)=COUNTIF($B$1:B1038,TRUE),\"\",COUNTIF($B$1:B1039,TRUE))","v":""},{"$f":"IF(Worksheet!$D$10=3,FALSE,Worksheet!$D$17)","v":false},{"$f":"IF(Worksheet!$D$6=1,RANDBETWEEN(1,99),IF(Worksheet!$D$6=2,CHOOSE(RANDBETWEEN(1,2),RANDBETWEEN(1,99),RANDBETWEEN(1,999)/10),CHOOSE(RANDBETWEEN(1,4),RANDBETWEEN(1,99999)/1000,RANDBETWEEN(1,9999)/100,RANDBETWEEN(1,999)/10,RANDBETWEEN(1,99))))","v":91},"litres","=",{"$f":"1000*C1039","v":91000},"cm³"]
[{"$f":"IF(COUNTIF($B$1:B1040,TRUE)=COUNTIF($B$1:B1039,TRUE),\"\",COUNTIF($B$1:B1040,TRUE))","v":""},{"$f":"IF(Worksheet!$D$10=3,FALSE,Worksheet!$D$18)","v":false},{"$f":"IF(Worksheet!$D$6=1,RANDBETWEEN(1,99),IF(Worksheet!$D$6=2,CHOOSE(RANDBETWEEN(1,2),RANDBETWEEN(1,99),RANDBETWEEN(1,999)/10),CHOOSE(RANDBETWEEN(1,4),RANDBETWEEN(1,99999)/1000,RANDBETWEEN(1,9999)/100,RANDBETWEEN(1,999)/10,RANDBETWEEN(1,99))))","v":3},"m²","=",{"$f":"10000*C1040","v":30000},"cm²"]
[{"$f":"IF(COUNTIF($B$1:B1041,TRUE)=COUNTIF($B$1:B1040,TRUE),\"\",COUNTIF($B$1:B1041,TRUE))","v":625},{"$f":"IF(Worksheet!$D$10=2,FALSE,Worksheet!$B$14)","v":true},{"$f":"10*F1041","v":240},"mm","=",{"$f":"IF(Worksheet!$D$6=1,RANDBETWEEN(1,99),IF(Worksheet!$D$6=2,CHOOSE(RANDBETWEEN(1,2),RANDBETWEEN(1,99),RANDBETWEEN(1,999)/10),CHOOSE(RANDBETWEEN(1,4),RANDBETWEEN(1,99999)/1000,RANDBETWEEN(1,9999)/100,RANDBETWEEN(1,999)/10,RANDBETWEEN(1,99))))","v":24},"cm"]
[{"$f":"IF(COUNTIF($B$1:B1042,TRUE)=COUNTIF($B$1:B1041,TRUE),\"\",COUNTIF($B$1:B1042,TRUE))","v":626},{"$f":"IF(Worksheet!$D$10=2,FALSE,Worksheet!$B$15)","v":true},{"$f":"100*F1042","v":6000},"cm","=",{"$f":"IF(Worksheet!$D$6=1,RANDBETWEEN(1,99),IF(Worksheet!$D$6=2,CHOOSE(RANDBETWEEN(1,2),RANDBETWEEN(1,99),RANDBETWEEN(1,999)/10),CHOOSE(RANDBETWEEN(1,4),RANDBETWEEN(1,99999)/1000,RANDBETWEEN(1,9999)/100,RANDBETWEEN(1,999)/10,RANDBETWEEN(1,99))))","v":60},"m"]
[{"$f":"IF(COUNTIF($B$1:B1043,TRUE)=COUNTIF($B$1:B1042,TRUE),\"\",COUNTIF($B$1:B1043,TRUE))","v":627},{"$f":"IF(Worksheet!$D$10=2,FALSE,Worksheet!$B$16)","v":true},{"$f":"1000*F1043","v":50000},"m","=",{"$f":"IF(Worksheet!$D$6=1,RANDBETWEEN(1,99),IF(Worksheet!$D$6=2,CHOOSE(RANDBETWEEN(1,2),RANDBETWEEN(1,99),RANDBETWEEN(1,999)/10),CHOOSE(RANDBETWEEN(1,4),RANDBETWEEN(1,99999)/1000,RANDBETWEEN(1,9999)/100,RANDBETWEEN(1,999)/10,RANDBETWEEN(1,99))))","v":50},"km"]
[{"$f":"IF(COUNTIF($B$1:B1044,TRUE)=COUNTIF($B$1:B1043,TRUE),\"\",COUNTIF($B$1:B1044,TRUE))","v":""},{"$f":"IF(Worksheet!$D$10=2,FALSE,Worksheet!$B$17)","v":false},{"$f":"1000*F1044","v":7000},"mm","=",{"$f":"IF(Worksheet!$D$6=1,RANDBETWEEN(1,99),IF(Worksheet!$D$6=2,CHOOSE(RANDBETWEEN(1,2),RANDBETWEEN(1,99),RANDBETWEEN(1,999)/10),CHOOSE(RANDBETWEEN(1,4),RANDBETWEEN(1,99999)/1000,RANDBETWEEN(1,9999)/100,RANDBETWEEN(1,999)/10,RANDBETWEEN(1,99))))","v":7},"m"]
[{"$f":"IF(COUNTIF($B$1:B1045,TRUE)=COUNTIF($B$1:B1044,TRUE),\"\",COUNTIF($B$1:B1045,TRUE))","v":""},{"$f":"IF(Worksheet!$D$10=2,FALSE,Worksheet!$B$18)","v":false},{"$f":"100*F1045","v":1700},"mm²","=",{"$f":"IF(Worksheet!$D$6=1,RANDBETWEEN(1,99),IF(Worksheet!$D$6=2,CHOOSE(RANDBETWEEN(1,2),RANDBETWEEN(1,99),RANDBETWEEN(1,999)/10),CHOOSE(RANDBETWEEN(1,4),RANDBETWEEN(1,99999)/1000,RANDBETWEEN(1,9999)/100,RANDBETWEEN(1,999)/10,RANDBETWEEN(1,99))))","v":17},"cm²"]
[{"$f":"IF(COUNTIF($B$1:B1046,TRUE)=COUNTIF($B$1:B1045,TRUE),\"\",COUNTIF($B$1:B1046,TRUE))","v":628},{"$f":"IF(Worksheet!$D$10=2,FALSE,Worksheet!$D$14)","v":true},{"$f":"F1046*1000","v":16000},"g","=",{"$f":"IF(Worksheet!$D$6=1,RANDBETWEEN(1,99),IF(Worksheet!$D$6=2,CHOOSE(RANDBETWEEN(1,2),RANDBETWEEN(1,99),RANDBETWEEN(1,999)/10),CHOOSE(RANDBETWEEN(1,4),RANDBETWEEN(1,99999)/1000,RANDBETWEEN(1,9999)/100,RANDBETWEEN(1,999)/10,RANDBETWEEN(1,99))))","v":16},"kg"]
[{"$f":"IF(COUNTIF($B$1:B1047,TRUE)=COUNTIF($B$1:B1046,TRUE),\"\",COUNTIF($B$1:B1047,TRUE))","v":629},{"$f":"IF(Worksheet!$D$10=2,FALSE,Worksheet!$D$15)","v":true},{"$f":"F1047*1000","v":40000},"kg","=",{"$f":"IF(Worksheet!$D$6=1,RANDBETWEEN(1,99),IF(Worksheet!$D$6=2,CHOOSE(RANDBETWEEN(1,2),RANDBETWEEN(1,99),RANDBETWEEN(1,999)/10),CHOOSE(RANDBETWEEN(1,4),RANDBETWEEN(1,99999)/1000,RANDBETWEEN(1,9999)/100,RANDBETWEEN(1,999)/10,RANDBETWEEN(1,99))))","v":40},"tonnes"]
[{"$f":"IF(COUNTIF($B$1:B1048,TRUE)=COUNTIF($B$1:B1047,TRUE),\"\",COUNTIF($B$1:B1048,TRUE))","v":630},{"$f":"IF(Worksheet!$D$10=2,FALSE,Worksheet!$D$16)","v":true},{"$f":"1000*F1048","v":79000},"ml","=",{"$f":"IF(Worksheet!$D$6=1,RANDBETWEEN(1,99),IF(Worksheet!$D$6=2,CHOOSE(RANDBETWEEN(1,2),RANDBETWEEN(1,99),RANDBETWEEN(1,999)/10),CHOOSE(RANDBETWEEN(1,4),RANDBETWEEN(1,99999)/1000,RANDBETWEEN(1,9999)/100,RANDBETWEEN(1,999)/10,RANDBETWEEN(1,99))))","v":79},"litres"]
[{"$f":"IF(COUNTIF($B$1:B1049,TRUE)=COUNTIF($B$1:B1048,TRUE),\"\",COUNTIF($B$1:B1049,TRUE))","v":""},{"$f":"IF(Worksheet!$D$10=2,FALSE,Worksheet!$D$17)","v":false},{"$f":"1000*F1049","v":4000},"cm³","=",{"$f":"IF(Worksheet!$D$6=1,RANDBETWEEN(1,99),IF(Worksheet!$D$6=2,CHOOSE(RANDBETWEEN(1,2),RANDBETWEEN(1,99),RANDBETWEEN(1,999)/10),CHOOSE(RANDBETWEEN(1,4),RANDBETWEEN(1,99999)/1000,RANDBETWEEN(1,9999)/100,RANDBETWEEN(1,999)/10,RANDBETWEEN(1,99))))","v":4},"litres"]
[{"$f":"IF(COUNTIF($B$1:B1050,TRUE)=COUNTIF($B$1:B1049,TRUE),\"\",COUNTIF($B$1:B1050,TRUE))","v":""},{"$f":"IF(Worksheet!$D$10=2,FALSE,Worksheet!$D$18)","v":false},{"$f":"10000*F1050","v":180000},"cm²","=",{"$f":"IF(Worksheet!$D$6=1,RANDBETWEEN(1,99),IF(Worksheet!$D$6=2,CHOOSE(RANDBETWEEN(1,2),RANDBETWEEN(1,99),RANDBETWEEN(1,999)/10),CHOOSE(RANDBETWEEN(1,4),RANDBETWEEN(1,99999)/1000,RANDBETWEEN(1,9999)/100,RANDBETWEEN(1,999)/10,RANDBETWEEN(1,99))))","v":18},"m²"]
[{"$f":"IF(COUNTIF($B$1:B1051,TRUE)=COUNTIF($B$1:B1050,TRUE),\"\",COUNTIF($B$1:B1051,TRUE))","v":631},{"$f":"IF(Worksheet!$D$10=3,FALSE,Worksheet!$B$14)","v":true},{"$f":"IF(Worksheet!$D$6=1,RANDBETWEEN(1,99),IF(Worksheet!$D$6=2,CHOOSE(RANDBETWEEN(1,2),RANDBETWEEN(1,99),RANDBETWEEN(1,999)/10),CHOOSE(RANDBETWEEN(1,4),RANDBETWEEN(1,99999)/1000,RANDBETWEEN(1,9999)/100,RANDBETWEEN(1,999)/10,RANDBETWEEN(1,99))))","v":84},"cm","=",{"$f":"10*C1051","v":840},"mm"]
[{"$f":"IF(COUNTIF($B$1:B1052,TRUE)=COUNTIF($B$1:B1051,TRUE),\"\",COUNTIF($B$1:B1052,TRUE))","v":632},{"$f":"IF(Worksheet!$D$10=3,FALSE,Worksheet!$B$15)","v":true},{"$f":"IF(Worksheet!$D$6=1,RANDBETWEEN(1,99),IF(Worksheet!$D$6=2,CHOOSE(RANDBETWEEN(1,2),RANDBETWEEN(1,99),RANDBETWEEN(1,999)/10),CHOOSE(RANDBETWEEN(1,4),RANDBETWEEN(1,99999)/1000,RANDBETWEEN(1,9999)/100,RANDBETWEEN(1,999)/10,RANDBETWEEN(1,99))))","v":65},"m","=",{"$f":"100*C1052","v":6500},"cm"]
[{"$f":"IF(COUNTIF($B$1:B1053,TRUE)=COUNTIF($B$1:B1052,TRUE),\"\",COUNTIF($B$1:B1053,TRUE))","v":633},{"$f":"IF(Worksheet!$D$10=3,FALSE,Worksheet!$B$16)","v":true},{"$f":"IF(Worksheet!$D$6=1,RANDBETWEEN(1,99),IF(Worksheet!$D$6=2,CHOOSE(RANDBETWEEN(1,2),RANDBETWEEN(1,99),RANDBETWEEN(1,999)/10),CHOOSE(RANDBETWEEN(1,4),RANDBETWEEN(1,99999)/1000,RANDBETWEEN(1,9999)/100,RANDBETWEEN(1,999)/10,RANDBETWEEN(1,99))))","v":74},"km","=",{"$f":"1000*C1053","v":74000},"m"]
[{"$f":"IF(COUNTIF($B$1:B1054,TRUE)=COUNTIF($B$1:B1053,TRUE),\"\",COUNTIF($B$1:B1054,TRUE))","v":""},{"$f":"IF(Worksheet!$D$10=3,FALSE,Worksheet!$B$17)","v":false},{"$f":"IF(Worksheet!$D$6=1,RANDBETWEEN(1,99),IF(Worksheet!$D$6=2,CHOOSE(RANDBETWEEN(1,2),RANDBETWEEN(1,99),RANDBETWEEN(1,999)/10),CHOOSE(RANDBETWEEN(1,4),RANDBETWEEN(1,99999)/1000,RANDBETWEEN(1,9999)/100,RANDBETWEEN(1,999)/10,RANDBETWEEN(1,99))))","v":54},"m",{"$f":"#REF!","v":{"$error":"#REF!"}},{"$f":"1000*C1054","v":54000},"mm"]
[{"$f":"IF(COUNTIF($B$1:B1055,TRUE)=COUNTIF($B$1:B1054,TRUE),\"\",COUNTIF($B$1:B1055,TRUE))","v":""},{"$f":"IF(Worksheet!$D$10=3,FALSE,Worksheet!$B$18)","v":false},{"$f":"IF(Worksheet!$D$6=1,RANDBETWEEN(1,99),IF(Worksheet!$D$6=2,CHOOSE(RANDBETWEEN(1,2),RANDBETWEEN(1,99),RANDBETWEEN(1,999)/10),CHOOSE(RANDBETWEEN(1,4),RANDBETWEEN(1,99999)/1000,RANDBETWEEN(1,9999)/100,RANDBETWEEN(1,999)/10,RANDBETWEEN(1,99))))","v":60},"cm²","=",{"$f":"C1055*100","v":6000},"mm²"]
[{"$f":"IF(COUNTIF($B$1:B1056,TRUE)=COUNTIF($B$1:B1055,TRUE),\"\",COUNTIF($B$1:B1056,TRUE))","v":634},{"$f":"IF(Worksheet!$D$10=3,FALSE,Worksheet!$D$14)","v":true},{"$f":"IF(Worksheet!$D$6=1,RANDBETWEEN(1,99),IF(Worksheet!$D$6=2,CHOOSE(RANDBETWEEN(1,2),RANDBETWEEN(1,99),RANDBETWEEN(1,999)/10),CHOOSE(RANDBETWEEN(1,4),RANDBETWEEN(1,99999)/1000,RANDBETWEEN(1,9999)/100,RANDBETWEEN(1,999)/10,RANDBETWEEN(1,99))))","v":18},"kg","=",{"$f":"1000*C1056","v":18000},"g"]
[{"$f":"IF(COUNTIF($B$1:B1057,TRUE)=COUNTIF($B$1:B1056,TRUE),\"\",COUNTIF($B$1:B1057,TRUE))","v":635},{"$f":"IF(Worksheet!$D$10=3,FALSE,Worksheet!$D$15)","v":true},{"$f":"IF(Worksheet!$D$6=1,RANDBETWEEN(1,99),IF(Worksheet!$D$6=2,CHOOSE(RANDBETWEEN(1,2),RANDBETWEEN(1,99),RANDBETWEEN(1,999)/10),CHOOSE(RANDBETWEEN(1,4),RANDBETWEEN(1,99999)/1000,RANDBETWEEN(1,9999)/100,RANDBETWEEN(1,999)/10,RANDBETWEEN(1,99))))","v":32},"tonnes","=",{"$f":"1000*C1057","v":32000},"kg"]
[{"$f":"IF(COUNTIF($B$1:B1058,TRUE)=COUNTIF($B$1:B1057,TRUE),\"\",COUNTIF($B$1:B1058,TRUE))","v":636},{"$f":"IF(Worksheet!$D$10=3,FALSE,Worksheet!$D$16)","v":true},{"$f":"IF(Worksheet!$D$6=1,RANDBETWEEN(1,99),IF(Worksheet!$D$6=2,CHOOSE(RANDBETWEEN(1,2),RANDBETWEEN(1,99),RANDBETWEEN(1,999)/10),CHOOSE(RANDBETWEEN(1,4),RANDBETWEEN(1,99999)/1000,RANDBETWEEN(1,9999)/100,RANDBETWEEN(1,999)/10,RANDBETWEEN(1,99))))","v":68},"litres","=",{"$f":"1000*C1058","v":68000},"ml"]
[{"$f":"IF(COUNTIF($B$1:B1059,TRUE)=COUNTIF($B$1:B1058,TRUE),\"\",COUNTIF($B$1:B1059,TRUE))","v":""},{"$f":"IF(Worksheet!$D$10=3,FALSE,Worksheet!$D$17)","v":false},{"$f":"IF(Worksheet!$D$6=1,RANDBETWEEN(1,99),IF(Worksheet!$D$6=2,CHOOSE(RANDBETWEEN(1,2),RANDBETWEEN(1,99),RANDBETWEEN(1,999)/10),CHOOSE(RANDBETWEEN(1,4),RANDBETWEEN(1,99999)/1000,RANDBETWEEN(1,9999)/100,RANDBETWEEN(1,999)/10,RANDBETWEEN(1,99))))","v":90},"litres","=",{"$f":"1000*C1059","v":90000},"cm³"]
[{"$f":"IF(COUNTIF($B$1:B1060,TRUE)=COUNTIF($B$1:B1059,TRUE),\"\",COUNTIF($B$1:B1060,TRUE))","v":""},{"$f":"IF(Worksheet!$D$10=3,FALSE,Worksheet!$D$18)","v":false},{"$f":"IF(Worksheet!$D$6=1,RANDBETWEEN(1,99),IF(Worksheet!$D$6=2,CHOOSE(RANDBETWEEN(1,2),RANDBETWEEN(1,99),RANDBETWEEN(1,999)/10),CHOOSE(RANDBETWEEN(1,4),RANDBETWEEN(1,99999)/1000,RANDBETWEEN(1,9999)/100,RANDBETWEEN(1,999)/10,RANDBETWEEN(1,99))))","v":34},"m²","=",{"$f":"10000*C1060","v":340000},"cm²"]
[{"$f":"IF(COUNTIF($B$1:B1061,TRUE)=COUNTIF($B$1:B1060,TRUE),\"\",COUNTIF($B$1:B1061,TRUE))","v":637},{"$f":"IF(Worksheet!$D$10=2,FALSE,Worksheet!$B$14)","v":true},{"$f":"10*F1061","v":330},"mm","=",{"$f":"IF(Worksheet!$D$6=1,RANDBETWEEN(1,99),IF(Worksheet!$D$6=2,CHOOSE(RANDBETWEEN(1,2),RANDBETWEEN(1,99),RANDBETWEEN(1,999)/10),CHOOSE(RANDBETWEEN(1,4),RANDBETWEEN(1,99999)/1000,RANDBETWEEN(1,9999)/100,RANDBETWEEN(1,999)/10,RANDBETWEEN(1,99))))","v":33},"cm"]
[{"$f":"IF(COUNTIF($B$1:B1062,TRUE)=COUNTIF($B$1:B1061,TRUE),\"\",COUNTIF($B$1:B1062,TRUE))","v":638},{"$f":"IF(Worksheet!$D$10=2,FALSE,Worksheet!$B$15)","v":true},{"$f":"100*F1062","v":5800},"cm","=",{"$f":"IF(Worksheet!$D$6=1,RANDBETWEEN(1,99),IF(Worksheet!$D$6=2,CHOOSE(RANDBETWEEN(1,2),RANDBETWEEN(1,99),RANDBETWEEN(1,999)/10),CHOOSE(RANDBETWEEN(1,4),RANDBETWEEN(1,99999)/1000,RANDBETWEEN(1,9999)/100,RANDBETWEEN(1,999)/10,RANDBETWEEN(1,99))))","v":58},"m"]
[{"$f":"IF(COUNTIF($B$1:B1063,TRUE)=COUNTIF($B$1:B1062,TRUE),\"\",COUNTIF($B$1:B1063,TRUE))","v":639},{"$f":"IF(Worksheet!$D$10=2,FALSE,Worksheet!$B$16)","v":true},{"$f":"1000*F1063","v":12000},"m","=",{"$f":"IF(Worksheet!$D$6=1,RANDBETWEEN(1,99),IF(Worksheet!$D$6=2,CHOOSE(RANDBETWEEN(1,2),RANDBETWEEN(1,99),RANDBETWEEN(1,999)/10),CHOOSE(RANDBETWEEN(1,4),RANDBETWEEN(1,99999)/1000,RANDBETWEEN(1,9999)/100,RANDBETWEEN(1,999)/10,RANDBETWEEN(1,99))))","v":12},"km"]
[{"$f":"IF(COUNTIF($B$1:B1064,TRUE)=COUNTIF($B$1:B1063,TRUE),\"\",COUNTIF($B$1:B1064,TRUE))","v":""},{"$f":"IF(Worksheet!$D$10=2,FALSE,Worksheet!$B$17)","v":false},{"$f":"1000*F1064","v":67000},"mm","=",{"$f":"IF(Worksheet!$D$6=1,RANDBETWEEN(1,99),IF(Worksheet!$D$6=2,CHOOSE(RANDBETWEEN(1,2),RANDBETWEEN(1,99),RANDBETWEEN(1,999)/10),CHOOSE(RANDBETWEEN(1,4),RANDBETWEEN(1,99999)/1000,RANDBETWEEN(1,9999)/100,RANDBETWEEN(1,999)/10,RANDBETWEEN(1,99))))","v":67},"m"]
[{"$f":"IF(COUNTIF($B$1:B1065,TRUE)=COUNTIF($B$1:B1064,TRUE),\"\",COUNTIF($B$1:B1065,TRUE))","v":""},{"$f":"IF(Worksheet!$D$10=2,FALSE,Worksheet!$B$18)","v":false},{"$f":"100*F1065","v":1100},"mm²","=",{"$f":"IF(Worksheet!$D$6=1,RANDBETWEEN(1,99),IF(Worksheet!$D$6=2,CHOOSE(RANDBETWEEN(1,2),RANDBETWEEN(1,99),RANDBETWEEN(1,999)/10),CHOOSE(RANDBETWEEN(1,4),RANDBETWEEN(1,99999)/1000,RANDBETWEEN(1,9999)/100,RANDBETWEEN(1,999)/10,RANDBETWEEN(1,99))))","v":11},"cm²"]
[{"$f":"IF(COUNTIF($B$1:B1066,TRUE)=COUNTIF($B$1:B1065,TRUE),\"\",COUNTIF($B$1:B1066,TRUE))","v":640},{"$f":"IF(Worksheet!$D$10=2,FALSE,Worksheet!$D$14)","v":true},{"$f":"F1066*1000","v":34000},"g","=",{"$f":"IF(Worksheet!$D$6=1,RANDBETWEEN(1,99),IF(Worksheet!$D$6=2,CHOOSE(RANDBETWEEN(1,2),RANDBETWEEN(1,99),RANDBETWEEN(1,999)/10),CHOOSE(RANDBETWEEN(1,4),RANDBETWEEN(1,99999)/1000,RANDBETWEEN(1,9999)/100,RANDBETWEEN(1,999)/10,RANDBETWEEN(1,99))))","v":34},"kg"]
[{"$f":"IF(COUNTIF($B$1:B1067,TRUE)=COUNTIF($B$1:B1066,TRUE),\"\",COUNTIF($B$1:B1067,TRUE))","v":641},{"$f":"IF(Worksheet!$D$10=2,FALSE,Worksheet!$D$15)","v":true},{"$f":"F1067*1000","v":5000},"kg","=",{"$f":"IF(Worksheet!$D$6=1,RANDBETWEEN(1,99),IF(Worksheet!$D$6=2,CHOOSE(RANDBETWEEN(1,2),RANDBETWEEN(1,99),RANDBETWEEN(1,999)/10),CHOOSE(RANDBETWEEN(1,4),RANDBETWEEN(1,99999)/1000,RANDBETWEEN(1,9999)/100,RANDBETWEEN(1,999)/10,RANDBETWEEN(1,99))))","v":5},"tonnes"]
[{"$f":"IF(COUNTIF($B$1:B1068,TRUE)=COUNTIF($B$1:B1067,TRUE),\"\",COUNTIF($B$1:B1068,TRUE))","v":642},{"$f":"IF(Worksheet!$D$10=2,FALSE,Worksheet!$D$16)","v":true},{"$f":"1000*F1068","v":25000},"ml","=",{"$f":"IF(Worksheet!$D$6=1,RANDBETWEEN(1,99),IF(Worksheet!$D$6=2,CHOOSE(RANDBETWEEN(1,2),RANDBETWEEN(1,99),RANDBETWEEN(1,999)/10),CHOOSE(RANDBETWEEN(1,4),RANDBETWEEN(1,99999)/1000,RANDBETWEEN(1,9999)/100,RANDBETWEEN(1,999)/10,RANDBETWEEN(1,99))))","v":25},"litres"]
[{"$f":"IF(COUNTIF($B$1:B1069,TRUE)=COUNTIF($B$1:B1068,TRUE),\"\",COUNTIF($B$1:B1069,TRUE))","v":""},{"$f":"IF(Worksheet!$D$10=2,FALSE,Worksheet!$D$17)","v":false},{"$f":"1000*F1069","v":82000},"cm³","=",{"$f":"IF(Worksheet!$D$6=1,RANDBETWEEN(1,99),IF(Worksheet!$D$6=2,CHOOSE(RANDBETWEEN(1,2),RANDBETWEEN(1,99),RANDBETWEEN(1,999)/10),CHOOSE(RANDBETWEEN(1,4),RANDBETWEEN(1,99999)/1000,RANDBETWEEN(1,9999)/100,RANDBETWEEN(1,999)/10,RANDBETWEEN(1,99))))","v":82},"litres"]
[{"$f":"IF(COUNTIF($B$1:B1070,TRUE)=COUNTIF($B$1:B1069,TRUE),\"\",COUNTIF($B$1:B1070,TRUE))","v":""},{"$f":"IF(Worksheet!$D$10=2,FALSE,Worksheet!$D$18)","v":false},{"$f":"10000*F1070","v":110000},"cm²","=",{"$f":"IF(Worksheet!$D$6=1,RANDBETWEEN(1,99),IF(Worksheet!$D$6=2,CHOOSE(RANDBETWEEN(1,2),RANDBETWEEN(1,99),RANDBETWEEN(1,999)/10),CHOOSE(RANDBETWEEN(1,4),RANDBETWEEN(1,99999)/1000,RANDBETWEEN(1,9999)/100,RANDBETWEEN(1,999)/10,RANDBETWEEN(1,99))))","v":11},"m²"]
[{"$f":"IF(COUNTIF($B$1:B1071,TRUE)=COUNTIF($B$1:B1070,TRUE),\"\",COUNTIF($B$1:B1071,TRUE))","v":643},{"$f":"IF(Worksheet!$D$10=3,FALSE,Worksheet!$B$14)","v":true},{"$f":"IF(Worksheet!$D$6=1,RANDBETWEEN(1,99),IF(Worksheet!$D$6=2,CHOOSE(RANDBETWEEN(1,2),RANDBETWEEN(1,99),RANDBETWEEN(1,999)/10),CHOOSE(RANDBETWEEN(1,4),RANDBETWEEN(1,99999)/1000,RANDBETWEEN(1,9999)/100,RANDBETWEEN(1,999)/10,RANDBETWEEN(1,99))))","v":17},"cm","=",{"$f":"10*C1071","v":170},"mm"]
[{"$f":"IF(COUNTIF($B$1:B1072,TRUE)=COUNTIF($B$1:B1071,TRUE),\"\",COUNTIF($B$1:B1072,TRUE))","v":644},{"$f":"IF(Worksheet!$D$10=3,FALSE,Worksheet!$B$15)","v":true},{"$f":"IF(Worksheet!$D$6=1,RANDBETWEEN(1,99),IF(Worksheet!$D$6=2,CHOOSE(RANDBETWEEN(1,2),RANDBETWEEN(1,99),RANDBETWEEN(1,999)/10),CHOOSE(RANDBETWEEN(1,4),RANDBETWEEN(1,99999)/1000,RANDBETWEEN(1,9999)/100,RANDBETWEEN(1,999)/10,RANDBETWEEN(1,99))))","v":11},"m","=",{"$f":"100*C1072","v":1100},"cm"]
[{"$f":"IF(COUNTIF($B$1:B1073,TRUE)=COUNTIF($B$1:B1072,TRUE),\"\",COUNTIF($B$1:B1073,TRUE))","v":645},{"$f":"IF(Worksheet!$D$10=3,FALSE,Worksheet!$B$16)","v":true},{"$f":"IF(Worksheet!$D$6=1,RANDBETWEEN(1,99),IF(Worksheet!$D$6=2,CHOOSE(RANDBETWEEN(1,2),RANDBETWEEN(1,99),RANDBETWEEN(1,999)/10),CHOOSE(RANDBETWEEN(1,4),RANDBETWEEN(1,99999)/1000,RANDBETWEEN(1,9999)/100,RANDBETWEEN(1,999)/10,RANDBETWEEN(1,99))))","v":52},"km","=",{"$f":"1000*C1073","v":52000},"m"]
[{"$f":"IF(COUNTIF($B$1:B1074,TRUE)=COUNTIF($B$1:B1073,TRUE),\"\",COUNTIF($B$1:B1074,TRUE))","v":""},{"$f":"IF(Worksheet!$D$10=3,FALSE,Worksheet!$B$17)","v":false},{"$f":"IF(Worksheet!$D$6=1,RANDBETWEEN(1,99),IF(Worksheet!$D$6=2,CHOOSE(RANDBETWEEN(1,2),RANDBETWEEN(1,99),RANDBETWEEN(1,999)/10),CHOOSE(RANDBETWEEN(1,4),RANDBETWEEN(1,99999)/1000,RANDBETWEEN(1,9999)/100,RANDBETWEEN(1,999)/10,RANDBETWEEN(1,99))))","v":68},"m",{"$f":"#REF!","v":{"$error":"#REF!"}},{"$f":"1000*C1074","v":68000},"mm"]
[{"$f":"IF(COUNTIF($B$1:B1075,TRUE)=COUNTIF($B$1:B1074,TRUE),\"\",COUNTIF($B$1:B1075,TRUE))","v":""},{"$f":"IF(Worksheet!$D$10=3,FALSE,Worksheet!$B$18)","v":false},{"$f":"IF(Worksheet!$D$6=1,RANDBETWEEN(1,99),IF(Worksheet!$D$6=2,CHOOSE(RANDBETWEEN(1,2),RANDBETWEEN(1,99),RANDBETWEEN(1,999)/10),CHOOSE(RANDBETWEEN(1,4),RANDBETWEEN(1,99999)/1000,RANDBETWEEN(1,9999)/100,RANDBETWEEN(1,999)/10,RANDBETWEEN(1,99))))","v":19},"cm²","=",{"$f":"C1075*100","v":1900},"mm²"]
[{"$f":"IF(COUNTIF($B$1:B1076,TRUE)=COUNTIF($B$1:B1075,TRUE),\"\",COUNTIF($B$1:B1076,TRUE))","v":646},{"$f":"IF(Worksheet!$D$10=3,FALSE,Worksheet!$D$14)","v":true},{"$f":"IF(Worksheet!$D$6=1,RANDBETWEEN(1,99),IF(Worksheet!$D$6=2,CHOOSE(RANDBETWEEN(1,2),RANDBETWEEN(1,99),RANDBETWEEN(1,999)/10),CHOOSE(RANDBETWEEN(1,4),RANDBETWEEN(1,99999)/1000,RANDBETWEEN(1,9999)/100,RANDBETWEEN(1,999)/10,RANDBETWEEN(1,99))))","v":78},"kg","=",{"$f":"1000*C1076","v":78000},"g"]
[{"$f":"IF(COUNTIF($B$1:B1077,TRUE)=COUNTIF($B$1:B1076,TRUE),\"\",COUNTIF($B$1:B1077,TRUE))","v":647},{"$f":"IF(Worksheet!$D$10=3,FALSE,Worksheet!$D$15)","v":true},{"$f":"IF(Worksheet!$D$6=1,RANDBETWEEN(1,99),IF(Worksheet!$D$6=2,CHOOSE(RANDBETWEEN(1,2),RANDBETWEEN(1,99),RANDBETWEEN(1,999)/10),CHOOSE(RANDBETWEEN(1,4),RANDBETWEEN(1,99999)/1000,RANDBETWEEN(1,9999)/100,RANDBETWEEN(1,999)/10,RANDBETWEEN(1,99))))","v":22},"tonnes","=",{"$f":"1000*C1077","v":22000},"kg"]
[{"$f":"IF(COUNTIF($B$1:B1078,TRUE)=COUNTIF($B$1:B1077,TRUE),\"\",COUNTIF($B$1:B1078,TRUE))","v":648},{"$f":"IF(Worksheet!$D$10=3,FALSE,Worksheet!$D$16)","v":true},{"$f":"IF(Worksheet!$D$6=1,RANDBETWEEN(1,99),IF(Worksheet!$D$6=2,CHOOSE(RANDBETWEEN(1,2),RANDBETWEEN(1,99),RANDBETWEEN(1,999)/10),CHOOSE(RANDBETWEEN(1,4),RANDBETWEEN(1,99999)/1000,RANDBETWEEN(1,9999)/100,RANDBETWEEN(1,999)/10,RANDBETWEEN(1,99))))","v":73},"litres","=",{"$f":"1000*C1078","v":73000},"ml"]
[{"$f":"IF(COUNTIF($B$1:B1079,TRUE)=COUNTIF($B$1:B1078,TRUE),\"\",COUNTIF($B$1:B1079,TRUE))","v":""},{"$f":"IF(Worksheet!$D$10=3,FALSE,Worksheet!$D$17)","v":false},{"$f":"IF(Worksheet!$D$6=1,RANDBETWEEN(1,99),IF(Worksheet!$D$6=2,CHOOSE(RANDBETWEEN(1,2),RANDBETWEEN(1,99),RANDBETWEEN(1,999)/10),CHOOSE(RANDBETWEEN(1,4),RANDBETWEEN(1,99999)/1000,RANDBETWEEN(1,9999)/100,RANDBETWEEN(1,999)/10,RANDBETWEEN(1,99))))","v":88},"litres","=",{"$f":"1000*C1079","v":88000},"cm³"]
[{"$f":"IF(COUNTIF($B$1:B1080,TRUE)=COUNTIF($B$1:B1079,TRUE),\"\",COUNTIF($B$1:B1080,TRUE))","v":""},{"$f":"IF(Worksheet!$D$10=3,FALSE,Worksheet!$D$18)","v":false},{"$f":"IF(Worksheet!$D$6=1,RANDBETWEEN(1,99),IF(Worksheet!$D$6=2,CHOOSE(RANDBETWEEN(1,2),RANDBETWEEN(1,99),RANDBETWEEN(1,999)/10),CHOOSE(RANDBETWEEN(1,4),RANDBETWEEN(1,99999)/1000,RANDBETWEEN(1,9999)/100,RANDBETWEEN(1,999)/10,RANDBETWEEN(1,99))))","v":71},"m²","=",{"$f":"10000*C1080","v":710000},"cm²"]
[{"$f":"IF(COUNTIF($B$1:B1081,TRUE)=COUNTIF($B$1:B1080,TRUE),\"\",COUNTIF($B$1:B1081,TRUE))","v":649},{"$f":"IF(Worksheet!$D$10=2,FALSE,Worksheet!$B$14)","v":true},{"$f":"10*F1081","v":240},"mm","=",{"$f":"IF(Worksheet!$D$6=1,RANDBETWEEN(1,99),IF(Worksheet!$D$6=2,CHOOSE(RANDBETWEEN(1,2),RANDBETWEEN(1,99),RANDBETWEEN(1,999)/10),CHOOSE(RANDBETWEEN(1,4),RANDBETWEEN(1,99999)/1000,RANDBETWEEN(1,9999)/100,RANDBETWEEN(1,999)/10,RANDBETWEEN(1,99))))","v":24},"cm"]
[{"$f":"IF(COUNTIF($B$1:B1082,TRUE)=COUNTIF($B$1:B1081,TRUE),\"\",COUNTIF($B$1:B1082,TRUE))","v":650},{"$f":"IF(Worksheet!$D$10=2,FALSE,Worksheet!$B$15)","v":true},{"$f":"100*F1082","v":3400},"cm","=",{"$f":"IF(Worksheet!$D$6=1,RANDBETWEEN(1,99),IF(Worksheet!$D$6=2,CHOOSE(RANDBETWEEN(1,2),RANDBETWEEN(1,99),RANDBETWEEN(1,999)/10),CHOOSE(RANDBETWEEN(1,4),RANDBETWEEN(1,99999)/1000,RANDBETWEEN(1,9999)/100,RANDBETWEEN(1,999)/10,RANDBETWEEN(1,99))))","v":34},"m"]
[{"$f":"IF(COUNTIF($B$1:B1083,TRUE)=COUNTIF($B$1:B1082,TRUE),\"\",COUNTIF($B$1:B1083,TRUE))","v":651},{"$f":"IF(Worksheet!$D$10=2,FALSE,Worksheet!$B$16)","v":true},{"$f":"1000*F1083","v":11000},"m","=",{"$f":"IF(Worksheet!$D$6=1,RANDBETWEEN(1,99),IF(Worksheet!$D$6=2,CHOOSE(RANDBETWEEN(1,2),RANDBETWEEN(1,99),RANDBETWEEN(1,999)/10),CHOOSE(RANDBETWEEN(1,4),RANDBETWEEN(1,99999)/1000,RANDBETWEEN(1,9999)/100,RANDBETWEEN(1,999)/10,RANDBETWEEN(1,99))))","v":11},"km"]
[{"$f":"IF(COUNTIF($B$1:B1084,TRUE)=COUNTIF($B$1:B1083,TRUE),\"\",COUNTIF($B$1:B1084,TRUE))","v":""},{"$f":"IF(Worksheet!$D$10=2,FALSE,Worksheet!$B$17)","v":false},{"$f":"1000*F1084","v":22000},"mm","=",{"$f":"IF(Worksheet!$D$6=1,RANDBETWEEN(1,99),IF(Worksheet!$D$6=2,CHOOSE(RANDBETWEEN(1,2),RANDBETWEEN(1,99),RANDBETWEEN(1,999)/10),CHOOSE(RANDBETWEEN(1,4),RANDBETWEEN(1,99999)/1000,RANDBETWEEN(1,9999)/100,RANDBETWEEN(1,999)/10,RANDBETWEEN(1,99))))","v":22},"m"]
[{"$f":"IF(COUNTIF($B$1:B1085,TRUE)=COUNTIF($B$1:B1084,TRUE),\"\",COUNTIF($B$1:B1085,TRUE))","v":""},{"$f":"IF(Worksheet!$D$10=2,FALSE,Worksheet!$B$18)","v":false},{"$f":"100*F1085","v":1500},"mm²","=",{"$f":"IF(Worksheet!$D$6=1,RANDBETWEEN(1,99),IF(Worksheet!$D$6=2,CHOOSE(RANDBETWEEN(1,2),RANDBETWEEN(1,99),RANDBETWEEN(1,999)/10),CHOOSE(RANDBETWEEN(1,4),RANDBETWEEN(1,99999)/1000,RANDBETWEEN(1,9999)/100,RANDBETWEEN(1,999)/10,RANDBETWEEN(1,99))))","v":15},"cm²"]
[{"$f":"IF(COUNTIF($B$1:B1086,TRUE)=COUNTIF($B$1:B1085,TRUE),\"\",COUNTIF($B$1:B1086,TRUE))","v":652},{"$f":"IF(Worksheet!$D$10=2,FALSE,Worksheet!$D$14)","v":true},{"$f":"F1086*1000","v":25000},"g","=",{"$f":"IF(Worksheet!$D$6=1,RANDBETWEEN(1,99),IF(Worksheet!$D$6=2,CHOOSE(RANDBETWEEN(1,2),RANDBETWEEN(1,99),RANDBETWEEN(1,999)/10),CHOOSE(RANDBETWEEN(1,4),RANDBETWEEN(1,99999)/1000,RANDBETWEEN(1,9999)/100,RANDBETWEEN(1,999)/10,RANDBETWEEN(1,99))))","v":25},"kg"]
[{"$f":"IF(COUNTIF($B$1:B1087,TRUE)=COUNTIF($B$1:B1086,TRUE),\"\",COUNTIF($B$1:B1087,TRUE))","v":653},{"$f":"IF(Worksheet!$D$10=2,FALSE,Worksheet!$D$15)","v":true},{"$f":"F1087*1000","v":57000},"kg","=",{"$f":"IF(Worksheet!$D$6=1,RANDBETWEEN(1,99),IF(Worksheet!$D$6=2,CHOOSE(RANDBETWEEN(1,2),RANDBETWEEN(1,99),RANDBETWEEN(1,999)/10),CHOOSE(RANDBETWEEN(1,4),RANDBETWEEN(1,99999)/1000,RANDBETWEEN(1,9999)/100,RANDBETWEEN(1,999)/10,RANDBETWEEN(1,99))))","v":57},"tonnes"]
[{"$f":"IF(COUNTIF($B$1:B1088,TRUE)=COUNTIF($B$1:B1087,TRUE),\"\",COUNTIF($B$1:B1088,TRUE))","v":654},{"$f":"IF(Worksheet!$D$10=2,FALSE,Worksheet!$D$16)","v":true},{"$f":"1000*F1088","v":24000},"ml","=",{"$f":"IF(Worksheet!$D$6=1,RANDBETWEEN(1,99),IF(Worksheet!$D$6=2,CHOOSE(RANDBETWEEN(1,2),RANDBETWEEN(1,99),RANDBETWEEN(1,999)/10),CHOOSE(RANDBETWEEN(1,4),RANDBETWEEN(1,99999)/1000,RANDBETWEEN(1,9999)/100,RANDBETWEEN(1,999)/10,RANDBETWEEN(1,99))))","v":24},"litres"]
[{"$f":"IF(COUNTIF($B$1:B1089,TRUE)=COUNTIF($B$1:B1088,TRUE),\"\",COUNTIF($B$1:B1089,TRUE))","v":""},{"$f":"IF(Worksheet!$D$10=2,FALSE,Worksheet!$D$17)","v":false},{"$f":"1000*F1089","v":57000},"cm³","=",{"$f":"IF(Worksheet!$D$6=1,RANDBETWEEN(1,99),IF(Worksheet!$D$6=2,CHOOSE(RANDBETWEEN(1,2),RANDBETWEEN(1,99),RANDBETWEEN(1,999)/10),CHOOSE(RANDBETWEEN(1,4),RANDBETWEEN(1,99999)/1000,RANDBETWEEN(1,9999)/100,RANDBETWEEN(1,999)/10,RANDBETWEEN(1,99))))","v":57},"litres"]
[{"$f":"IF(COUNTIF($B$1:B1090,TRUE)=COUNTIF($B$1:B1089,TRUE),\"\",COUNTIF($B$1:B1090,TRUE))","v":""},{"$f":"IF(Worksheet!$D$10=2,FALSE,Worksheet!$D$18)","v":false},{"$f":"10000*F1090","v":840000},"cm²","=",{"$f":"IF(Worksheet!$D$6=1,RANDBETWEEN(1,99),IF(Worksheet!$D$6=2,CHOOSE(RANDBETWEEN(1,2),RANDBETWEEN(1,99),RANDBETWEEN(1,999)/10),CHOOSE(RANDBETWEEN(1,4),RANDBETWEEN(1,99999)/1000,RANDBETWEEN(1,9999)/100,RANDBETWEEN(1,999)/10,RANDBETWEEN(1,99))))","v":84},"m²"]
[{"$f":"IF(COUNTIF($B$1:B1091,TRUE)=COUNTIF($B$1:B1090,TRUE),\"\",COUNTIF($B$1:B1091,TRUE))","v":655},{"$f":"IF(Worksheet!$D$10=3,FALSE,Worksheet!$B$14)","v":true},{"$f":"IF(Worksheet!$D$6=1,RANDBETWEEN(1,99),IF(Worksheet!$D$6=2,CHOOSE(RANDBETWEEN(1,2),RANDBETWEEN(1,99),RANDBETWEEN(1,999)/10),CHOOSE(RANDBETWEEN(1,4),RANDBETWEEN(1,99999)/1000,RANDBETWEEN(1,9999)/100,RANDBETWEEN(1,999)/10,RANDBETWEEN(1,99))))","v":95},"cm","=",{"$f":"10*C1091","v":950},"mm"]
[{"$f":"IF(COUNTIF($B$1:B1092,TRUE)=COUNTIF($B$1:B1091,TRUE),\"\",COUNTIF($B$1:B1092,TRUE))","v":656},{"$f":"IF(Worksheet!$D$10=3,FALSE,Worksheet!$B$15)","v":true},{"$f":"IF(Worksheet!$D$6=1,RANDBETWEEN(1,99),IF(Worksheet!$D$6=2,CHOOSE(RANDBETWEEN(1,2),RANDBETWEEN(1,99),RANDBETWEEN(1,999)/10),CHOOSE(RANDBETWEEN(1,4),RANDBETWEEN(1,99999)/1000,RANDBETWEEN(1,9999)/100,RANDBETWEEN(1,999)/10,RANDBETWEEN(1,99))))","v":48},"m","=",{"$f":"100*C1092","v":4800},"cm"]
[{"$f":"IF(COUNTIF($B$1:B1093,TRUE)=COUNTIF($B$1:B1092,TRUE),\"\",COUNTIF($B$1:B1093,TRUE))","v":657},{"$f":"IF(Worksheet!$D$10=3,FALSE,Worksheet!$B$16)","v":true},{"$f":"IF(Worksheet!$D$6=1,RANDBETWEEN(1,99),IF(Worksheet!$D$6=2,CHOOSE(RANDBETWEEN(1,2),RANDBETWEEN(1,99),RANDBETWEEN(1,999)/10),CHOOSE(RANDBETWEEN(1,4),RANDBETWEEN(1,99999)/1000,RANDBETWEEN(1,9999)/100,RANDBETWEEN(1,999)/10,RANDBETWEEN(1,99))))","v":51},"km","=",{"$f":"1000*C1093","v":51000},"m"]
[{"$f":"IF(COUNTIF($B$1:B1094,TRUE)=COUNTIF($B$1:B1093,TRUE),\"\",COUNTIF($B$1:B1094,TRUE))","v":""},{"$f":"IF(Worksheet!$D$10=3,FALSE,Worksheet!$B$17)","v":false},{"$f":"IF(Worksheet!$D$6=1,RANDBETWEEN(1,99),IF(Worksheet!$D$6=2,CHOOSE(RANDBETWEEN(1,2),RANDBETWEEN(1,99),RANDBETWEEN(1,999)/10),CHOOSE(RANDBETWEEN(1,4),RANDBETWEEN(1,99999)/1000,RANDBETWEEN(1,9999)/100,RANDBETWEEN(1,999)/10,RANDBETWEEN(1,99))))","v":23},"m",{"$f":"#REF!","v":{"$error":"#REF!"}},{"$f":"1000*C1094","v":23000},"mm"]
[{"$f":"IF(COUNTIF($B$1:B1095,TRUE)=COUNTIF($B$1:B1094,TRUE),\"\",COUNTIF($B$1:B1095,TRUE))","v":""},{"$f":"IF(Worksheet!$D$10=3,FALSE,Worksheet!$B$18)","v":false},{"$f":"IF(Worksheet!$D$6=1,RANDBETWEEN(1,99),IF(Worksheet!$D$6=2,CHOOSE(RANDBETWEEN(1,2),RANDBETWEEN(1,99),RANDBETWEEN(1,999)/10),CHOOSE(RANDBETWEEN(1,4),RANDBETWEEN(1,99999)/1000,RANDBETWEEN(1,9999)/100,RANDBETWEEN(1,999)/10,RANDBETWEEN(1,99))))","v":47},"cm²","=",{"$f":"C1095*100","v":4700},"mm²"]
[{"$f":"IF(COUNTIF($B$1:B1096,TRUE)=COUNTIF($B$1:B1095,TRUE),\"\",COUNTIF($B$1:B1096,TRUE))","v":658},{"$f":"IF(Worksheet!$D$10=3,FALSE,Worksheet!$D$14)","v":true},{"$f":"IF(Worksheet!$D$6=1,RANDBETWEEN(1,99),IF(Worksheet!$D$6=2,CHOOSE(RANDBETWEEN(1,2),RANDBETWEEN(1,99),RANDBETWEEN(1,999)/10),CHOOSE(RANDBETWEEN(1,4),RANDBETWEEN(1,99999)/1000,RANDBETWEEN(1,9999)/100,RANDBETWEEN(1,999)/10,RANDBETWEEN(1,99))))","v":25},"kg","=",{"$f":"1000*C1096","v":25000},"g"]
[{"$f":"IF(COUNTIF($B$1:B1097,TRUE)=COUNTIF($B$1:B1096,TRUE),\"\",COUNTIF($B$1:B1097,TRUE))","v":659},{"$f":"IF(Worksheet!$D$10=3,FALSE,Worksheet!$D$15)","v":true},{"$f":"IF(Worksheet!$D$6=1,RANDBETWEEN(1,99),IF(Worksheet!$D$6=2,CHOOSE(RANDBETWEEN(1,2),RANDBETWEEN(1,99),RANDBETWEEN(1,999)/10),CHOOSE(RANDBETWEEN(1,4),RANDBETWEEN(1,99999)/1000,RANDBETWEEN(1,9999)/100,RANDBETWEEN(1,999)/10,RANDBETWEEN(1,99))))","v":86},"tonnes","=",{"$f":"1000*C1097","v":86000},"kg"]
[{"$f":"IF(COUNTIF($B$1:B1098,TRUE)=COUNTIF($B$1:B1097,TRUE),\"\",COUNTIF($B$1:B1098,TRUE))","v":660},{"$f":"IF(Worksheet!$D$10=3,FALSE,Worksheet!$D$16)","v":true},{"$f":"IF(Worksheet!$D$6=1,RANDBETWEEN(1,99),IF(Worksheet!$D$6=2,CHOOSE(RANDBETWEEN(1,2),RANDBETWEEN(1,99),RANDBETWEEN(1,999)/10),CHOOSE(RANDBETWEEN(1,4),RANDBETWEEN(1,99999)/1000,RANDBETWEEN(1,9999)/100,RANDBETWEEN(1,999)/10,RANDBETWEEN(1,99))))","v":89},"litres","=",{"$f":"1000*C1098","v":89000},"ml"]
[{"$f":"IF(COUNTIF($B$1:B1099,TRUE)=COUNTIF($B$1:B1098,TRUE),\"\",COUNTIF($B$1:B1099,TRUE))","v":""},{"$f":"IF(Worksheet!$D$10=3,FALSE,Worksheet!$D$17)","v":false},{"$f":"IF(Worksheet!$D$6=1,RANDBETWEEN(1,99),IF(Worksheet!$D$6=2,CHOOSE(RANDBETWEEN(1,2),RANDBETWEEN(1,99),RANDBETWEEN(1,999)/10),CHOOSE(RANDBETWEEN(1,4),RANDBETWEEN(1,99999)/1000,RANDBETWEEN(1,9999)/100,RANDBETWEEN(1,999)/10,RANDBETWEEN(1,99))))","v":71},"litres","=",{"$f":"1000*C1099","v":71000},"cm³"]
[{"$f":"IF(COUNTIF($B$1:B1100,TRUE)=COUNTIF($B$1:B1099,TRUE),\"\",COUNTIF($B$1:B1100,TRUE))","v":""},{"$f":"IF(Worksheet!$D$10=3,FALSE,Worksheet!$D$18)","v":false},{"$f":"IF(Worksheet!$D$6=1,RANDBETWEEN(1,99),IF(Worksheet!$D$6=2,CHOOSE(RANDBETWEEN(1,2),RANDBETWEEN(1,99),RANDBETWEEN(1,999)/10),CHOOSE(RANDBETWEEN(1,4),RANDBETWEEN(1,99999)/1000,RANDBETWEEN(1,9999)/100,RANDBETWEEN(1,999)/10,RANDBETWEEN(1,99))))","v":24},"m²","=",{"$f":"10000*C1100","v":240000},"cm²"]
[{"$f":"IF(COUNTIF($B$1:B1101,TRUE)=COUNTIF($B$1:B1100,TRUE),\"\",COUNTIF($B$1:B1101,TRUE))","v":661},{"$f":"IF(Worksheet!$D$10=2,FALSE,Worksheet!$B$14)","v":true},{"$f":"10*F1101","v":350},"mm","=",{"$f":"IF(Worksheet!$D$6=1,RANDBETWEEN(1,99),IF(Worksheet!$D$6=2,CHOOSE(RANDBETWEEN(1,2),RANDBETWEEN(1,99),RANDBETWEEN(1,999)/10),CHOOSE(RANDBETWEEN(1,4),RANDBETWEEN(1,99999)/1000,RANDBETWEEN(1,9999)/100,RANDBETWEEN(1,999)/10,RANDBETWEEN(1,99))))","v":35},"cm"]
[{"$f":"IF(COUNTIF($B$1:B1102,TRUE)=COUNTIF($B$1:B1101,TRUE),\"\",COUNTIF($B$1:B1102,TRUE))","v":662},{"$f":"IF(Worksheet!$D$10=2,FALSE,Worksheet!$B$15)","v":true},{"$f":"100*F1102","v":4200},"cm","=",{"$f":"IF(Worksheet!$D$6=1,RANDBETWEEN(1,99),IF(Worksheet!$D$6=2,CHOOSE(RANDBETWEEN(1,2),RANDBETWEEN(1,99),RANDBETWEEN(1,999)/10),CHOOSE(RANDBETWEEN(1,4),RANDBETWEEN(1,99999)/1000,RANDBETWEEN(1,9999)/100,RANDBETWEEN(1,999)/10,RANDBETWEEN(1,99))))","v":42},"m"]
[{"$f":"IF(COUNTIF($B$1:B1103,TRUE)=COUNTIF($B$1:B1102,TRUE),\"\",COUNTIF($B$1:B1103,TRUE))","v":663},{"$f":"IF(Worksheet!$D$10=2,FALSE,Worksheet!$B$16)","v":true},{"$f":"1000*F1103","v":11000},"m","=",{"$f":"IF(Worksheet!$D$6=1,RANDBETWEEN(1,99),IF(Worksheet!$D$6=2,CHOOSE(RANDBETWEEN(1,2),RANDBETWEEN(1,99),RANDBETWEEN(1,999)/10),CHOOSE(RANDBETWEEN(1,4),RANDBETWEEN(1,99999)/1000,RANDBETWEEN(1,9999)/100,RANDBETWEEN(1,999)/10,RANDBETWEEN(1,99))))","v":11},"km"]
[{"$f":"IF(COUNTIF($B$1:B1104,TRUE)=COUNTIF($B$1:B1103,TRUE),\"\",COUNTIF($B$1:B1104,TRUE))","v":""},{"$f":"IF(Worksheet!$D$10=2,FALSE,Worksheet!$B$17)","v":false},{"$f":"1000*F1104","v":73000},"mm","=",{"$f":"IF(Worksheet!$D$6=1,RANDBETWEEN(1,99),IF(Worksheet!$D$6=2,CHOOSE(RANDBETWEEN(1,2),RANDBETWEEN(1,99),RANDBETWEEN(1,999)/10),CHOOSE(RANDBETWEEN(1,4),RANDBETWEEN(1,99999)/1000,RANDBETWEEN(1,9999)/100,RANDBETWEEN(1,999)/10,RANDBETWEEN(1,99))))","v":73},"m"]
[{"$f":"IF(COUNTIF($B$1:B1105,TRUE)=COUNTIF($B$1:B1104,TRUE),\"\",COUNTIF($B$1:B1105,TRUE))","v":""},{"$f":"IF(Worksheet!$D$10=2,FALSE,Worksheet!$B$18)","v":false},{"$f":"100*F1105","v":8500},"mm²","=",{"$f":"IF(Worksheet!$D$6=1,RANDBETWEEN(1,99),IF(Worksheet!$D$6=2,CHOOSE(RANDBETWEEN(1,2),RANDBETWEEN(1,99),RANDBETWEEN(1,999)/10),CHOOSE(RANDBETWEEN(1,4),RANDBETWEEN(1,99999)/1000,RANDBETWEEN(1,9999)/100,RANDBETWEEN(1,999)/10,RANDBETWEEN(1,99))))","v":85},"cm²"]
[{"$f":"IF(COUNTIF($B$1:B1106,TRUE)=COUNTIF($B$1:B1105,TRUE),\"\",COUNTIF($B$1:B1106,TRUE))","v":664},{"$f":"IF(Worksheet!$D$10=2,FALSE,Worksheet!$D$14)","v":true},{"$f":"F1106*1000","v":58000},"g","=",{"$f":"IF(Worksheet!$D$6=1,RANDBETWEEN(1,99),IF(Worksheet!$D$6=2,CHOOSE(RANDBETWEEN(1,2),RANDBETWEEN(1,99),RANDBETWEEN(1,999)/10),CHOOSE(RANDBETWEEN(1,4),RANDBETWEEN(1,99999)/1000,RANDBETWEEN(1,9999)/100,RANDBETWEEN(1,999)/10,RANDBETWEEN(1,99))))","v":58},"kg"]
[{"$f":"IF(COUNTIF($B$1:B1107,TRUE)=COUNTIF($B$1:B1106,TRUE),\"\",COUNTIF($B$1:B1107,TRUE))","v":665},{"$f":"IF(Worksheet!$D$10=2,FALSE,Worksheet!$D$15)","v":true},{"$f":"F1107*1000","v":44000},"kg","=",{"$f":"IF(Worksheet!$D$6=1,RANDBETWEEN(1,99),IF(Worksheet!$D$6=2,CHOOSE(RANDBETWEEN(1,2),RANDBETWEEN(1,99),RANDBETWEEN(1,999)/10),CHOOSE(RANDBETWEEN(1,4),RANDBETWEEN(1,99999)/1000,RANDBETWEEN(1,9999)/100,RANDBETWEEN(1,999)/10,RANDBETWEEN(1,99))))","v":44},"tonnes"]
[{"$f":"IF(COUNTIF($B$1:B1108,TRUE)=COUNTIF($B$1:B1107,TRUE),\"\",COUNTIF($B$1:B1108,TRUE))","v":666},{"$f":"IF(Worksheet!$D$10=2,FALSE,Worksheet!$D$16)","v":true},{"$f":"1000*F1108","v":15000},"ml","=",{"$f":"IF(Worksheet!$D$6=1,RANDBETWEEN(1,99),IF(Worksheet!$D$6=2,CHOOSE(RANDBETWEEN(1,2),RANDBETWEEN(1,99),RANDBETWEEN(1,999)/10),CHOOSE(RANDBETWEEN(1,4),RANDBETWEEN(1,99999)/1000,RANDBETWEEN(1,9999)/100,RANDBETWEEN(1,999)/10,RANDBETWEEN(1,99))))","v":15},"litres"]
[{"$f":"IF(COUNTIF($B$1:B1109,TRUE)=COUNTIF($B$1:B1108,TRUE),\"\",COUNTIF($B$1:B1109,TRUE))","v":""},{"$f":"IF(Worksheet!$D$10=2,FALSE,Worksheet!$D$17)","v":false},{"$f":"1000*F1109","v":34000},"cm³","=",{"$f":"IF(Worksheet!$D$6=1,RANDBETWEEN(1,99),IF(Worksheet!$D$6=2,CHOOSE(RANDBETWEEN(1,2),RANDBETWEEN(1,99),RANDBETWEEN(1,999)/10),CHOOSE(RANDBETWEEN(1,4),RANDBETWEEN(1,99999)/1000,RANDBETWEEN(1,9999)/100,RANDBETWEEN(1,999)/10,RANDBETWEEN(1,99))))","v":34},"litres"]
[{"$f":"IF(COUNTIF($B$1:B1110,TRUE)=COUNTIF($B$1:B1109,TRUE),\"\",COUNTIF($B$1:B1110,TRUE))","v":""},{"$f":"IF(Worksheet!$D$10=2,FALSE,Worksheet!$D$18)","v":false},{"$f":"10000*F1110","v":950000},"cm²","=",{"$f":"IF(Worksheet!$D$6=1,RANDBETWEEN(1,99),IF(Worksheet!$D$6=2,CHOOSE(RANDBETWEEN(1,2),RANDBETWEEN(1,99),RANDBETWEEN(1,999)/10),CHOOSE(RANDBETWEEN(1,4),RANDBETWEEN(1,99999)/1000,RANDBETWEEN(1,9999)/100,RANDBETWEEN(1,999)/10,RANDBETWEEN(1,99))))","v":95},"m²"]
[{"$f":"IF(COUNTIF($B$1:B1111,TRUE)=COUNTIF($B$1:B1110,TRUE),\"\",COUNTIF($B$1:B1111,TRUE))","v":667},{"$f":"IF(Worksheet!$D$10=3,FALSE,Worksheet!$B$14)","v":true},{"$f":"IF(Worksheet!$D$6=1,RANDBETWEEN(1,99),IF(Worksheet!$D$6=2,CHOOSE(RANDBETWEEN(1,2),RANDBETWEEN(1,99),RANDBETWEEN(1,999)/10),CHOOSE(RANDBETWEEN(1,4),RANDBETWEEN(1,99999)/1000,RANDBETWEEN(1,9999)/100,RANDBETWEEN(1,999)/10,RANDBETWEEN(1,99))))","v":20},"cm","=",{"$f":"10*C1111","v":200},"mm"]
[{"$f":"IF(COUNTIF($B$1:B1112,TRUE)=COUNTIF($B$1:B1111,TRUE),\"\",COUNTIF($B$1:B1112,TRUE))","v":668},{"$f":"IF(Worksheet!$D$10=3,FALSE,Worksheet!$B$15)","v":true},{"$f":"IF(Worksheet!$D$6=1,RANDBETWEEN(1,99),IF(Worksheet!$D$6=2,CHOOSE(RANDBETWEEN(1,2),RANDBETWEEN(1,99),RANDBETWEEN(1,999)/10),CHOOSE(RANDBETWEEN(1,4),RANDBETWEEN(1,99999)/1000,RANDBETWEEN(1,9999)/100,RANDBETWEEN(1,999)/10,RANDBETWEEN(1,99))))","v":13},"m","=",{"$f":"100*C1112","v":1300},"cm"]
[{"$f":"IF(COUNTIF($B$1:B1113,TRUE)=COUNTIF($B$1:B1112,TRUE),\"\",COUNTIF($B$1:B1113,TRUE))","v":669},{"$f":"IF(Worksheet!$D$10=3,FALSE,Worksheet!$B$16)","v":true},{"$f":"IF(Worksheet!$D$6=1,RANDBETWEEN(1,99),IF(Worksheet!$D$6=2,CHOOSE(RANDBETWEEN(1,2),RANDBETWEEN(1,99),RANDBETWEEN(1,999)/10),CHOOSE(RANDBETWEEN(1,4),RANDBETWEEN(1,99999)/1000,RANDBETWEEN(1,9999)/100,RANDBETWEEN(1,999)/10,RANDBETWEEN(1,99))))","v":4},"km","=",{"$f":"1000*C1113","v":4000},"m"]
[{"$f":"IF(COUNTIF($B$1:B1114,TRUE)=COUNTIF($B$1:B1113,TRUE),\"\",COUNTIF($B$1:B1114,TRUE))","v":""},{"$f":"IF(Worksheet!$D$10=3,FALSE,Worksheet!$B$17)","v":false},{"$f":"IF(Worksheet!$D$6=1,RANDBETWEEN(1,99),IF(Worksheet!$D$6=2,CHOOSE(RANDBETWEEN(1,2),RANDBETWEEN(1,99),RANDBETWEEN(1,999)/10),CHOOSE(RANDBETWEEN(1,4),RANDBETWEEN(1,99999)/1000,RANDBETWEEN(1,9999)/100,RANDBETWEEN(1,999)/10,RANDBETWEEN(1,99))))","v":54},"m",{"$f":"#REF!","v":{"$error":"#REF!"}},{"$f":"1000*C1114","v":54000},"mm"]
[{"$f":"IF(COUNTIF($B$1:B1115,TRUE)=COUNTIF($B$1:B1114,TRUE),\"\",COUNTIF($B$1:B1115,TRUE))","v":""},{"$f":"IF(Worksheet!$D$10=3,FALSE,Worksheet!$B$18)","v":false},{"$f":"IF(Worksheet!$D$6=1,RANDBETWEEN(1,99),IF(Worksheet!$D$6=2,CHOOSE(RANDBETWEEN(1,2),RANDBETWEEN(1,99),RANDBETWEEN(1,999)/10),CHOOSE(RANDBETWEEN(1,4),RANDBETWEEN(1,99999)/1000,RANDBETWEEN(1,9999)/100,RANDBETWEEN(1,999)/10,RANDBETWEEN(1,99))))","v":77},"cm²","=",{"$f":"C1115*100","v":7700},"mm²"]
[{"$f":"IF(COUNTIF($B$1:B1116,TRUE)=COUNTIF($B$1:B1115,TRUE),\"\",COUNTIF($B$1:B1116,TRUE))","v":670},{"$f":"IF(Worksheet!$D$10=3,FALSE,Worksheet!$D$14)","v":true},{"$f":"IF(Worksheet!$D$6=1,RANDBETWEEN(1,99),IF(Worksheet!$D$6=2,CHOOSE(RANDBETWEEN(1,2),RANDBETWEEN(1,99),RANDBETWEEN(1,999)/10),CHOOSE(RANDBETWEEN(1,4),RANDBETWEEN(1,99999)/1000,RANDBETWEEN(1,9999)/100,RANDBETWEEN(1,999)/10,RANDBETWEEN(1,99))))","v":97},"kg","=",{"$f":"1000*C1116","v":97000},"g"]
[{"$f":"IF(COUNTIF($B$1:B1117,TRUE)=COUNTIF($B$1:B1116,TRUE),\"\",COUNTIF($B$1:B1117,TRUE))","v":671},{"$f":"IF(Worksheet!$D$10=3,FALSE,Worksheet!$D$15)","v":true},{"$f":"IF(Worksheet!$D$6=1,RANDBETWEEN(1,99),IF(Worksheet!$D$6=2,CHOOSE(RANDBETWEEN(1,2),RANDBETWEEN(1,99),RANDBETWEEN(1,999)/10),CHOOSE(RANDBETWEEN(1,4),RANDBETWEEN(1,99999)/1000,RANDBETWEEN(1,9999)/100,RANDBETWEEN(1,999)/10,RANDBETWEEN(1,99))))","v":15},"tonnes","=",{"$f":"1000*C1117","v":15000},"kg"]
[{"$f":"IF(COUNTIF($B$1:B1118,TRUE)=COUNTIF($B$1:B1117,TRUE),\"\",COUNTIF($B$1:B1118,TRUE))","v":672},{"$f":"IF(Worksheet!$D$10=3,FALSE,Worksheet!$D$16)","v":true},{"$f":"IF(Worksheet!$D$6=1,RANDBETWEEN(1,99),IF(Worksheet!$D$6=2,CHOOSE(RANDBETWEEN(1,2),RANDBETWEEN(1,99),RANDBETWEEN(1,999)/10),CHOOSE(RANDBETWEEN(1,4),RANDBETWEEN(1,99999)/1000,RANDBETWEEN(1,9999)/100,RANDBETWEEN(1,999)/10,RANDBETWEEN(1,99))))","v":80},"litres","=",{"$f":"1000*C1118","v":80000},"ml"]
[{"$f":"IF(COUNTIF($B$1:B1119,TRUE)=COUNTIF($B$1:B1118,TRUE),\"\",COUNTIF($B$1:B1119,TRUE))","v":""},{"$f":"IF(Worksheet!$D$10=3,FALSE,Worksheet!$D$17)","v":false},{"$f":"IF(Worksheet!$D$6=1,RANDBETWEEN(1,99),IF(Worksheet!$D$6=2,CHOOSE(RANDBETWEEN(1,2),RANDBETWEEN(1,99),RANDBETWEEN(1,999)/10),CHOOSE(RANDBETWEEN(1,4),RANDBETWEEN(1,99999)/1000,RANDBETWEEN(1,9999)/100,RANDBETWEEN(1,999)/10,RANDBETWEEN(1,99))))","v":74},"litres","=",{"$f":"1000*C1119","v":74000},"cm³"]
[{"$f":"IF(COUNTIF($B$1:B1120,TRUE)=COUNTIF($B$1:B1119,TRUE),\"\",COUNTIF($B$1:B1120,TRUE))","v":""},{"$f":"IF(Worksheet!$D$10=3,FALSE,Worksheet!$D$18)","v":false},{"$f":"IF(Worksheet!$D$6=1,RANDBETWEEN(1,99),IF(Worksheet!$D$6=2,CHOOSE(RANDBETWEEN(1,2),RANDBETWEEN(1,99),RANDBETWEEN(1,999)/10),CHOOSE(RANDBETWEEN(1,4),RANDBETWEEN(1,99999)/1000,RANDBETWEEN(1,9999)/100,RANDBETWEEN(1,999)/10,RANDBETWEEN(1,99))))","v":17},"m²","=",{"$f":"10000*C1120","v":170000},"cm²"]
[{"$f":"IF(COUNTIF($B$1:B1121,TRUE)=COUNTIF($B$1:B1120,TRUE),\"\",COUNTIF($B$1:B1121,TRUE))","v":673},{"$f":"IF(Worksheet!$D$10=2,FALSE,Worksheet!$B$14)","v":true},{"$f":"10*F1121","v":330},"mm","=",{"$f":"IF(Worksheet!$D$6=1,RANDBETWEEN(1,99),IF(Worksheet!$D$6=2,CHOOSE(RANDBETWEEN(1,2),RANDBETWEEN(1,99),RANDBETWEEN(1,999)/10),CHOOSE(RANDBETWEEN(1,4),RANDBETWEEN(1,99999)/1000,RANDBETWEEN(1,9999)/100,RANDBETWEEN(1,999)/10,RANDBETWEEN(1,99))))","v":33},"cm"]
[{"$f":"IF(COUNTIF($B$1:B1122,TRUE)=COUNTIF($B$1:B1121,TRUE),\"\",COUNTIF($B$1:B1122,TRUE))","v":674},{"$f":"IF(Worksheet!$D$10=2,FALSE,Worksheet!$B$15)","v":true},{"$f":"100*F1122","v":5600},"cm","=",{"$f":"IF(Worksheet!$D$6=1,RANDBETWEEN(1,99),IF(Worksheet!$D$6=2,CHOOSE(RANDBETWEEN(1,2),RANDBETWEEN(1,99),RANDBETWEEN(1,999)/10),CHOOSE(RANDBETWEEN(1,4),RANDBETWEEN(1,99999)/1000,RANDBETWEEN(1,9999)/100,RANDBETWEEN(1,999)/10,RANDBETWEEN(1,99))))","v":56},"m"]
[{"$f":"IF(COUNTIF($B$1:B1123,TRUE)=COUNTIF($B$1:B1122,TRUE),\"\",COUNTIF($B$1:B1123,TRUE))","v":675},{"$f":"IF(Worksheet!$D$10=2,FALSE,Worksheet!$B$16)","v":true},{"$f":"1000*F1123","v":29000},"m","=",{"$f":"IF(Worksheet!$D$6=1,RANDBETWEEN(1,99),IF(Worksheet!$D$6=2,CHOOSE(RANDBETWEEN(1,2),RANDBETWEEN(1,99),RANDBETWEEN(1,999)/10),CHOOSE(RANDBETWEEN(1,4),RANDBETWEEN(1,99999)/1000,RANDBETWEEN(1,9999)/100,RANDBETWEEN(1,999)/10,RANDBETWEEN(1,99))))","v":29},"km"]
[{"$f":"IF(COUNTIF($B$1:B1124,TRUE)=COUNTIF($B$1:B1123,TRUE),\"\",COUNTIF($B$1:B1124,TRUE))","v":""},{"$f":"IF(Worksheet!$D$10=2,FALSE,Worksheet!$B$17)","v":false},{"$f":"1000*F1124","v":13000},"mm","=",{"$f":"IF(Worksheet!$D$6=1,RANDBETWEEN(1,99),IF(Worksheet!$D$6=2,CHOOSE(RANDBETWEEN(1,2),RANDBETWEEN(1,99),RANDBETWEEN(1,999)/10),CHOOSE(RANDBETWEEN(1,4),RANDBETWEEN(1,99999)/1000,RANDBETWEEN(1,9999)/100,RANDBETWEEN(1,999)/10,RANDBETWEEN(1,99))))","v":13},"m"]
[{"$f":"IF(COUNTIF($B$1:B1125,TRUE)=COUNTIF($B$1:B1124,TRUE),\"\",COUNTIF($B$1:B1125,TRUE))","v":""},{"$f":"IF(Worksheet!$D$10=2,FALSE,Worksheet!$B$18)","v":false},{"$f":"100*F1125","v":5600},"mm²","=",{"$f":"IF(Worksheet!$D$6=1,RANDBETWEEN(1,99),IF(Worksheet!$D$6=2,CHOOSE(RANDBETWEEN(1,2),RANDBETWEEN(1,99),RANDBETWEEN(1,999)/10),CHOOSE(RANDBETWEEN(1,4),RANDBETWEEN(1,99999)/1000,RANDBETWEEN(1,9999)/100,RANDBETWEEN(1,999)/10,RANDBETWEEN(1,99))))","v":56},"cm²"]
[{"$f":"IF(COUNTIF($B$1:B1126,TRUE)=COUNTIF($B$1:B1125,TRUE),\"\",COUNTIF($B$1:B1126,TRUE))","v":676},{"$f":"IF(Worksheet!$D$10=2,FALSE,Worksheet!$D$14)","v":true},{"$f":"F1126*1000","v":53000},"g","=",{"$f":"IF(Worksheet!$D$6=1,RANDBETWEEN(1,99),IF(Worksheet!$D$6=2,CHOOSE(RANDBETWEEN(1,2),RANDBETWEEN(1,99),RANDBETWEEN(1,999)/10),CHOOSE(RANDBETWEEN(1,4),RANDBETWEEN(1,99999)/1000,RANDBETWEEN(1,9999)/100,RANDBETWEEN(1,999)/10,RANDBETWEEN(1,99))))","v":53},"kg"]
[{"$f":"IF(COUNTIF($B$1:B1127,TRUE)=COUNTIF($B$1:B1126,TRUE),\"\",COUNTIF($B$1:B1127,TRUE))","v":677},{"$f":"IF(Worksheet!$D$10=2,FALSE,Worksheet!$D$15)","v":true},{"$f":"F1127*1000","v":24000},"kg","=",{"$f":"IF(Worksheet!$D$6=1,RANDBETWEEN(1,99),IF(Worksheet!$D$6=2,CHOOSE(RANDBETWEEN(1,2),RANDBETWEEN(1,99),RANDBETWEEN(1,999)/10),CHOOSE(RANDBETWEEN(1,4),RANDBETWEEN(1,99999)/1000,RANDBETWEEN(1,9999)/100,RANDBETWEEN(1,999)/10,RANDBETWEEN(1,99))))","v":24},"tonnes"]
[{"$f":"IF(COUNTIF($B$1:B1128,TRUE)=COUNTIF($B$1:B1127,TRUE),\"\",COUNTIF($B$1:B1128,TRUE))","v":678},{"$f":"IF(Worksheet!$D$10=2,FALSE,Worksheet!$D$16)","v":true},{"$f":"1000*F1128","v":26000},"ml","=",{"$f":"IF(Worksheet!$D$6=1,RANDBETWEEN(1,99),IF(Worksheet!$D$6=2,CHOOSE(RANDBETWEEN(1,2),RANDBETWEEN(1,99),RANDBETWEEN(1,999)/10),CHOOSE(RANDBETWEEN(1,4),RANDBETWEEN(1,99999)/1000,RANDBETWEEN(1,9999)/100,RANDBETWEEN(1,999)/10,RANDBETWEEN(1,99))))","v":26},"litres"]
[{"$f":"IF(COUNTIF($B$1:B1129,TRUE)=COUNTIF($B$1:B1128,TRUE),\"\",COUNTIF($B$1:B1129,TRUE))","v":""},{"$f":"IF(Worksheet!$D$10=2,FALSE,Worksheet!$D$17)","v":false},{"$f":"1000*F1129","v":52000},"cm³","=",{"$f":"IF(Worksheet!$D$6=1,RANDBETWEEN(1,99),IF(Worksheet!$D$6=2,CHOOSE(RANDBETWEEN(1,2),RANDBETWEEN(1,99),RANDBETWEEN(1,999)/10),CHOOSE(RANDBETWEEN(1,4),RANDBETWEEN(1,99999)/1000,RANDBETWEEN(1,9999)/100,RANDBETWEEN(1,999)/10,RANDBETWEEN(1,99))))","v":52},"litres"]
[{"$f":"IF(COUNTIF($B$1:B1130,TRUE)=COUNTIF($B$1:B1129,TRUE),\"\",COUNTIF($B$1:B1130,TRUE))","v":""},{"$f":"IF(Worksheet!$D$10=2,FALSE,Worksheet!$D$18)","v":false},{"$f":"10000*F1130","v":660000},"cm²","=",{"$f":"IF(Worksheet!$D$6=1,RANDBETWEEN(1,99),IF(Worksheet!$D$6=2,CHOOSE(RANDBETWEEN(1,2),RANDBETWEEN(1,99),RANDBETWEEN(1,999)/10),CHOOSE(RANDBETWEEN(1,4),RANDBETWEEN(1,99999)/1000,RANDBETWEEN(1,9999)/100,RANDBETWEEN(1,999)/10,RANDBETWEEN(1,99))))","v":66},"m²"]
[{"$f":"IF(COUNTIF($B$1:B1131,TRUE)=COUNTIF($B$1:B1130,TRUE),\"\",COUNTIF($B$1:B1131,TRUE))","v":679},{"$f":"IF(Worksheet!$D$10=3,FALSE,Worksheet!$B$14)","v":true},{"$f":"IF(Worksheet!$D$6=1,RANDBETWEEN(1,99),IF(Worksheet!$D$6=2,CHOOSE(RANDBETWEEN(1,2),RANDBETWEEN(1,99),RANDBETWEEN(1,999)/10),CHOOSE(RANDBETWEEN(1,4),RANDBETWEEN(1,99999)/1000,RANDBETWEEN(1,9999)/100,RANDBETWEEN(1,999)/10,RANDBETWEEN(1,99))))","v":31},"cm","=",{"$f":"10*C1131","v":310},"mm"]
[{"$f":"IF(COUNTIF($B$1:B1132,TRUE)=COUNTIF($B$1:B1131,TRUE),\"\",COUNTIF($B$1:B1132,TRUE))","v":680},{"$f":"IF(Worksheet!$D$10=3,FALSE,Worksheet!$B$15)","v":true},{"$f":"IF(Worksheet!$D$6=1,RANDBETWEEN(1,99),IF(Worksheet!$D$6=2,CHOOSE(RANDBETWEEN(1,2),RANDBETWEEN(1,99),RANDBETWEEN(1,999)/10),CHOOSE(RANDBETWEEN(1,4),RANDBETWEEN(1,99999)/1000,RANDBETWEEN(1,9999)/100,RANDBETWEEN(1,999)/10,RANDBETWEEN(1,99))))","v":69},"m","=",{"$f":"100*C1132","v":6900},"cm"]
[{"$f":"IF(COUNTIF($B$1:B1133,TRUE)=COUNTIF($B$1:B1132,TRUE),\"\",COUNTIF($B$1:B1133,TRUE))","v":681},{"$f":"IF(Worksheet!$D$10=3,FALSE,Worksheet!$B$16)","v":true},{"$f":"IF(Worksheet!$D$6=1,RANDBETWEEN(1,99),IF(Worksheet!$D$6=2,CHOOSE(RANDBETWEEN(1,2),RANDBETWEEN(1,99),RANDBETWEEN(1,999)/10),CHOOSE(RANDBETWEEN(1,4),RANDBETWEEN(1,99999)/1000,RANDBETWEEN(1,9999)/100,RANDBETWEEN(1,999)/10,RANDBETWEEN(1,99))))","v":94},"km","=",{"$f":"1000*C1133","v":94000},"m"]
[{"$f":"IF(COUNTIF($B$1:B1134,TRUE)=COUNTIF($B$1:B1133,TRUE),\"\",COUNTIF($B$1:B1134,TRUE))","v":""},{"$f":"IF(Worksheet!$D$10=3,FALSE,Worksheet!$B$17)","v":false},{"$f":"IF(Worksheet!$D$6=1,RANDBETWEEN(1,99),IF(Worksheet!$D$6=2,CHOOSE(RANDBETWEEN(1,2),RANDBETWEEN(1,99),RANDBETWEEN(1,999)/10),CHOOSE(RANDBETWEEN(1,4),RANDBETWEEN(1,99999)/1000,RANDBETWEEN(1,9999)/100,RANDBETWEEN(1,999)/10,RANDBETWEEN(1,99))))","v":90},"m",{"$f":"#REF!","v":{"$error":"#REF!"}},{"$f":"1000*C1134","v":90000},"mm"]
[{"$f":"IF(COUNTIF($B$1:B1135,TRUE)=COUNTIF($B$1:B1134,TRUE),\"\",COUNTIF($B$1:B1135,TRUE))","v":""},{"$f":"IF(Worksheet!$D$10=3,FALSE,Worksheet!$B$18)","v":false},{"$f":"IF(Worksheet!$D$6=1,RANDBETWEEN(1,99),IF(Worksheet!$D$6=2,CHOOSE(RANDBETWEEN(1,2),RANDBETWEEN(1,99),RANDBETWEEN(1,999)/10),CHOOSE(RANDBETWEEN(1,4),RANDBETWEEN(1,99999)/1000,RANDBETWEEN(1,9999)/100,RANDBETWEEN(1,999)/10,RANDBETWEEN(1,99))))","v":49},"cm²","=",{"$f":"C1135*100","v":4900},"mm²"]
[{"$f":"IF(COUNTIF($B$1:B1136,TRUE)=COUNTIF($B$1:B1135,TRUE),\"\",COUNTIF($B$1:B1136,TRUE))","v":682},{"$f":"IF(Worksheet!$D$10=3,FALSE,Worksheet!$D$14)","v":true},{"$f":"IF(Worksheet!$D$6=1,RANDBETWEEN(1,99),IF(Worksheet!$D$6=2,CHOOSE(RANDBETWEEN(1,2),RANDBETWEEN(1,99),RANDBETWEEN(1,999)/10),CHOOSE(RANDBETWEEN(1,4),RANDBETWEEN(1,99999)/1000,RANDBETWEEN(1,9999)/100,RANDBETWEEN(1,999)/10,RANDBETWEEN(1,99))))","v":92},"kg","=",{"$f":"1000*C1136","v":92000},"g"]
[{"$f":"IF(COUNTIF($B$1:B1137,TRUE)=COUNTIF($B$1:B1136,TRUE),\"\",COUNTIF($B$1:B1137,TRUE))","v":683},{"$f":"IF(Worksheet!$D$10=3,FALSE,Worksheet!$D$15)","v":true},{"$f":"IF(Worksheet!$D$6=1,RANDBETWEEN(1,99),IF(Worksheet!$D$6=2,CHOOSE(RANDBETWEEN(1,2),RANDBETWEEN(1,99),RANDBETWEEN(1,999)/10),CHOOSE(RANDBETWEEN(1,4),RANDBETWEEN(1,99999)/1000,RANDBETWEEN(1,9999)/100,RANDBETWEEN(1,999)/10,RANDBETWEEN(1,99))))","v":49},"tonnes","=",{"$f":"1000*C1137","v":49000},"kg"]
[{"$f":"IF(COUNTIF($B$1:B1138,TRUE)=COUNTIF($B$1:B1137,TRUE),\"\",COUNTIF($B$1:B1138,TRUE))","v":684},{"$f":"IF(Worksheet!$D$10=3,FALSE,Worksheet!$D$16)","v":true},{"$f":"IF(Worksheet!$D$6=1,RANDBETWEEN(1,99),IF(Worksheet!$D$6=2,CHOOSE(RANDBETWEEN(1,2),RANDBETWEEN(1,99),RANDBETWEEN(1,999)/10),CHOOSE(RANDBETWEEN(1,4),RANDBETWEEN(1,99999)/1000,RANDBETWEEN(1,9999)/100,RANDBETWEEN(1,999)/10,RANDBETWEEN(1,99))))","v":29},"litres","=",{"$f":"1000*C1138","v":29000},"ml"]
[{"$f":"IF(COUNTIF($B$1:B1139,TRUE)=COUNTIF($B$1:B1138,TRUE),\"\",COUNTIF($B$1:B1139,TRUE))","v":""},{"$f":"IF(Worksheet!$D$10=3,FALSE,Worksheet!$D$17)","v":false},{"$f":"IF(Worksheet!$D$6=1,RANDBETWEEN(1,99),IF(Worksheet!$D$6=2,CHOOSE(RANDBETWEEN(1,2),RANDBETWEEN(1,99),RANDBETWEEN(1,999)/10),CHOOSE(RANDBETWEEN(1,4),RANDBETWEEN(1,99999)/1000,RANDBETWEEN(1,9999)/100,RANDBETWEEN(1,999)/10,RANDBETWEEN(1,99))))","v":94},"litres","=",{"$f":"1000*C1139","v":94000},"cm³"]
[{"$f":"IF(COUNTIF($B$1:B1140,TRUE)=COUNTIF($B$1:B1139,TRUE),\"\",COUNTIF($B$1:B1140,TRUE))","v":""},{"$f":"IF(Worksheet!$D$10=3,FALSE,Worksheet!$D$18)","v":false},{"$f":"IF(Worksheet!$D$6=1,RANDBETWEEN(1,99),IF(Worksheet!$D$6=2,CHOOSE(RANDBETWEEN(1,2),RANDBETWEEN(1,99),RANDBETWEEN(1,999)/10),CHOOSE(RANDBETWEEN(1,4),RANDBETWEEN(1,99999)/1000,RANDBETWEEN(1,9999)/100,RANDBETWEEN(1,999)/10,RANDBETWEEN(1,99))))","v":91},"m²","=",{"$f":"10000*C1140","v":910000},"cm²"]
[{"$f":"IF(COUNTIF($B$1:B1141,TRUE)=COUNTIF($B$1:B1140,TRUE),\"\",COUNTIF($B$1:B1141,TRUE))","v":685},{"$f":"IF(Worksheet!$D$10=2,FALSE,Worksheet!$B$14)","v":true},{"$f":"10*F1141","v":510},"mm","=",{"$f":"IF(Worksheet!$D$6=1,RANDBETWEEN(1,99),IF(Worksheet!$D$6=2,CHOOSE(RANDBETWEEN(1,2),RANDBETWEEN(1,99),RANDBETWEEN(1,999)/10),CHOOSE(RANDBETWEEN(1,4),RANDBETWEEN(1,99999)/1000,RANDBETWEEN(1,9999)/100,RANDBETWEEN(1,999)/10,RANDBETWEEN(1,99))))","v":51},"cm"]
[{"$f":"IF(COUNTIF($B$1:B1142,TRUE)=COUNTIF($B$1:B1141,TRUE),\"\",COUNTIF($B$1:B1142,TRUE))","v":686},{"$f":"IF(Worksheet!$D$10=2,FALSE,Worksheet!$B$15)","v":true},{"$f":"100*F1142","v":1100},"cm","=",{"$f":"IF(Worksheet!$D$6=1,RANDBETWEEN(1,99),IF(Worksheet!$D$6=2,CHOOSE(RANDBETWEEN(1,2),RANDBETWEEN(1,99),RANDBETWEEN(1,999)/10),CHOOSE(RANDBETWEEN(1,4),RANDBETWEEN(1,99999)/1000,RANDBETWEEN(1,9999)/100,RANDBETWEEN(1,999)/10,RANDBETWEEN(1,99))))","v":11},"m"]
[{"$f":"IF(COUNTIF($B$1:B1143,TRUE)=COUNTIF($B$1:B1142,TRUE),\"\",COUNTIF($B$1:B1143,TRUE))","v":687},{"$f":"IF(Worksheet!$D$10=2,FALSE,Worksheet!$B$16)","v":true},{"$f":"1000*F1143","v":54000},"m","=",{"$f":"IF(Worksheet!$D$6=1,RANDBETWEEN(1,99),IF(Worksheet!$D$6=2,CHOOSE(RANDBETWEEN(1,2),RANDBETWEEN(1,99),RANDBETWEEN(1,999)/10),CHOOSE(RANDBETWEEN(1,4),RANDBETWEEN(1,99999)/1000,RANDBETWEEN(1,9999)/100,RANDBETWEEN(1,999)/10,RANDBETWEEN(1,99))))","v":54},"km"]
[{"$f":"IF(COUNTIF($B$1:B1144,TRUE)=COUNTIF($B$1:B1143,TRUE),\"\",COUNTIF($B$1:B1144,TRUE))","v":""},{"$f":"IF(Worksheet!$D$10=2,FALSE,Worksheet!$B$17)","v":false},{"$f":"1000*F1144","v":97000},"mm","=",{"$f":"IF(Worksheet!$D$6=1,RANDBETWEEN(1,99),IF(Worksheet!$D$6=2,CHOOSE(RANDBETWEEN(1,2),RANDBETWEEN(1,99),RANDBETWEEN(1,999)/10),CHOOSE(RANDBETWEEN(1,4),RANDBETWEEN(1,99999)/1000,RANDBETWEEN(1,9999)/100,RANDBETWEEN(1,999)/10,RANDBETWEEN(1,99))))","v":97},"m"]
[{"$f":"IF(COUNTIF($B$1:B1145,TRUE)=COUNTIF($B$1:B1144,TRUE),\"\",COUNTIF($B$1:B1145,TRUE))","v":""},{"$f":"IF(Worksheet!$D$10=2,FALSE,Worksheet!$B$18)","v":false},{"$f":"100*F1145","v":3600},"mm²","=",{"$f":"IF(Worksheet!$D$6=1,RANDBETWEEN(1,99),IF(Worksheet!$D$6=2,CHOOSE(RANDBETWEEN(1,2),RANDBETWEEN(1,99),RANDBETWEEN(1,999)/10),CHOOSE(RANDBETWEEN(1,4),RANDBETWEEN(1,99999)/1000,RANDBETWEEN(1,9999)/100,RANDBETWEEN(1,999)/10,RANDBETWEEN(1,99))))","v":36},"cm²"]
[{"$f":"IF(COUNTIF($B$1:B1146,TRUE)=COUNTIF($B$1:B1145,TRUE),\"\",COUNTIF($B$1:B1146,TRUE))","v":688},{"$f":"IF(Worksheet!$D$10=2,FALSE,Worksheet!$D$14)","v":true},{"$f":"F1146*1000","v":34000},"g","=",{"$f":"IF(Worksheet!$D$6=1,RANDBETWEEN(1,99),IF(Worksheet!$D$6=2,CHOOSE(RANDBETWEEN(1,2),RANDBETWEEN(1,99),RANDBETWEEN(1,999)/10),CHOOSE(RANDBETWEEN(1,4),RANDBETWEEN(1,99999)/1000,RANDBETWEEN(1,9999)/100,RANDBETWEEN(1,999)/10,RANDBETWEEN(1,99))))","v":34},"kg"]
[{"$f":"IF(COUNTIF($B$1:B1147,TRUE)=COUNTIF($B$1:B1146,TRUE),\"\",COUNTIF($B$1:B1147,TRUE))","v":689},{"$f":"IF(Worksheet!$D$10=2,FALSE,Worksheet!$D$15)","v":true},{"$f":"F1147*1000","v":25000},"kg","=",{"$f":"IF(Worksheet!$D$6=1,RANDBETWEEN(1,99),IF(Worksheet!$D$6=2,CHOOSE(RANDBETWEEN(1,2),RANDBETWEEN(1,99),RANDBETWEEN(1,999)/10),CHOOSE(RANDBETWEEN(1,4),RANDBETWEEN(1,99999)/1000,RANDBETWEEN(1,9999)/100,RANDBETWEEN(1,999)/10,RANDBETWEEN(1,99))))","v":25},"tonnes"]
[{"$f":"IF(COUNTIF($B$1:B1148,TRUE)=COUNTIF($B$1:B1147,TRUE),\"\",COUNTIF($B$1:B1148,TRUE))","v":690},{"$f":"IF(Worksheet!$D$10=2,FALSE,Worksheet!$D$16)","v":true},{"$f":"1000*F1148","v":11000},"ml","=",{"$f":"IF(Worksheet!$D$6=1,RANDBETWEEN(1,99),IF(Worksheet!$D$6=2,CHOOSE(RANDBETWEEN(1,2),RANDBETWEEN(1,99),RANDBETWEEN(1,999)/10),CHOOSE(RANDBETWEEN(1,4),RANDBETWEEN(1,99999)/1000,RANDBETWEEN(1,9999)/100,RANDBETWEEN(1,999)/10,RANDBETWEEN(1,99))))","v":11},"litres"]
[{"$f":"IF(COUNTIF($B$1:B1149,TRUE)=COUNTIF($B$1:B1148,TRUE),\"\",COUNTIF($B$1:B1149,TRUE))","v":""},{"$f":"IF(Worksheet!$D$10=2,FALSE,Worksheet!$D$17)","v":false},{"$f":"1000*F1149","v":54000},"cm³","=",{"$f":"IF(Worksheet!$D$6=1,RANDBETWEEN(1,99),IF(Worksheet!$D$6=2,CHOOSE(RANDBETWEEN(1,2),RANDBETWEEN(1,99),RANDBETWEEN(1,999)/10),CHOOSE(RANDBETWEEN(1,4),RANDBETWEEN(1,99999)/1000,RANDBETWEEN(1,9999)/100,RANDBETWEEN(1,999)/10,RANDBETWEEN(1,99))))","v":54},"litres"]
[{"$f":"IF(COUNTIF($B$1:B1150,TRUE)=COUNTIF($B$1:B1149,TRUE),\"\",COUNTIF($B$1:B1150,TRUE))","v":""},{"$f":"IF(Worksheet!$D$10=2,FALSE,Worksheet!$D$18)","v":false},{"$f":"10000*F1150","v":10000},"cm²","=",{"$f":"IF(Worksheet!$D$6=1,RANDBETWEEN(1,99),IF(Worksheet!$D$6=2,CHOOSE(RANDBETWEEN(1,2),RANDBETWEEN(1,99),RANDBETWEEN(1,999)/10),CHOOSE(RANDBETWEEN(1,4),RANDBETWEEN(1,99999)/1000,RANDBETWEEN(1,9999)/100,RANDBETWEEN(1,999)/10,RANDBETWEEN(1,99))))","v":1},"m²"]
[{"$f":"IF(COUNTIF($B$1:B1151,TRUE)=COUNTIF($B$1:B1150,TRUE),\"\",COUNTIF($B$1:B1151,TRUE))","v":691},{"$f":"IF(Worksheet!$D$10=3,FALSE,Worksheet!$B$14)","v":true},{"$f":"IF(Worksheet!$D$6=1,RANDBETWEEN(1,99),IF(Worksheet!$D$6=2,CHOOSE(RANDBETWEEN(1,2),RANDBETWEEN(1,99),RANDBETWEEN(1,999)/10),CHOOSE(RANDBETWEEN(1,4),RANDBETWEEN(1,99999)/1000,RANDBETWEEN(1,9999)/100,RANDBETWEEN(1,999)/10,RANDBETWEEN(1,99))))","v":91},"cm","=",{"$f":"10*C1151","v":910},"mm"]
[{"$f":"IF(COUNTIF($B$1:B1152,TRUE)=COUNTIF($B$1:B1151,TRUE),\"\",COUNTIF($B$1:B1152,TRUE))","v":692},{"$f":"IF(Worksheet!$D$10=3,FALSE,Worksheet!$B$15)","v":true},{"$f":"IF(Worksheet!$D$6=1,RANDBETWEEN(1,99),IF(Worksheet!$D$6=2,CHOOSE(RANDBETWEEN(1,2),RANDBETWEEN(1,99),RANDBETWEEN(1,999)/10),CHOOSE(RANDBETWEEN(1,4),RANDBETWEEN(1,99999)/1000,RANDBETWEEN(1,9999)/100,RANDBETWEEN(1,999)/10,RANDBETWEEN(1,99))))","v":75},"m","=",{"$f":"100*C1152","v":7500},"cm"]
[{"$f":"IF(COUNTIF($B$1:B1153,TRUE)=COUNTIF($B$1:B1152,TRUE),\"\",COUNTIF($B$1:B1153,TRUE))","v":693},{"$f":"IF(Worksheet!$D$10=3,FALSE,Worksheet!$B$16)","v":true},{"$f":"IF(Worksheet!$D$6=1,RANDBETWEEN(1,99),IF(Worksheet!$D$6=2,CHOOSE(RANDBETWEEN(1,2),RANDBETWEEN(1,99),RANDBETWEEN(1,999)/10),CHOOSE(RANDBETWEEN(1,4),RANDBETWEEN(1,99999)/1000,RANDBETWEEN(1,9999)/100,RANDBETWEEN(1,999)/10,RANDBETWEEN(1,99))))","v":88},"km","=",{"$f":"1000*C1153","v":88000},"m"]
[{"$f":"IF(COUNTIF($B$1:B1154,TRUE)=COUNTIF($B$1:B1153,TRUE),\"\",COUNTIF($B$1:B1154,TRUE))","v":""},{"$f":"IF(Worksheet!$D$10=3,FALSE,Worksheet!$B$17)","v":false},{"$f":"IF(Worksheet!$D$6=1,RANDBETWEEN(1,99),IF(Worksheet!$D$6=2,CHOOSE(RANDBETWEEN(1,2),RANDBETWEEN(1,99),RANDBETWEEN(1,999)/10),CHOOSE(RANDBETWEEN(1,4),RANDBETWEEN(1,99999)/1000,RANDBETWEEN(1,9999)/100,RANDBETWEEN(1,999)/10,RANDBETWEEN(1,99))))","v":90},"m",{"$f":"#REF!","v":{"$error":"#REF!"}},{"$f":"1000*C1154","v":90000},"mm"]
[{"$f":"IF(COUNTIF($B$1:B1155,TRUE)=COUNTIF($B$1:B1154,TRUE),\"\",COUNTIF($B$1:B1155,TRUE))","v":""},{"$f":"IF(Worksheet!$D$10=3,FALSE,Worksheet!$B$18)","v":false},{"$f":"IF(Worksheet!$D$6=1,RANDBETWEEN(1,99),IF(Worksheet!$D$6=2,CHOOSE(RANDBETWEEN(1,2),RANDBETWEEN(1,99),RANDBETWEEN(1,999)/10),CHOOSE(RANDBETWEEN(1,4),RANDBETWEEN(1,99999)/1000,RANDBETWEEN(1,9999)/100,RANDBETWEEN(1,999)/10,RANDBETWEEN(1,99))))","v":47},"cm²","=",{"$f":"C1155*100","v":4700},"mm²"]
[{"$f":"IF(COUNTIF($B$1:B1156,TRUE)=COUNTIF($B$1:B1155,TRUE),\"\",COUNTIF($B$1:B1156,TRUE))","v":694},{"$f":"IF(Worksheet!$D$10=3,FALSE,Worksheet!$D$14)","v":true},{"$f":"IF(Worksheet!$D$6=1,RANDBETWEEN(1,99),IF(Worksheet!$D$6=2,CHOOSE(RANDBETWEEN(1,2),RANDBETWEEN(1,99),RANDBETWEEN(1,999)/10),CHOOSE(RANDBETWEEN(1,4),RANDBETWEEN(1,99999)/1000,RANDBETWEEN(1,9999)/100,RANDBETWEEN(1,999)/10,RANDBETWEEN(1,99))))","v":32},"kg","=",{"$f":"1000*C1156","v":32000},"g"]
[{"$f":"IF(COUNTIF($B$1:B1157,TRUE)=COUNTIF($B$1:B1156,TRUE),\"\",COUNTIF($B$1:B1157,TRUE))","v":695},{"$f":"IF(Worksheet!$D$10=3,FALSE,Worksheet!$D$15)","v":true},{"$f":"IF(Worksheet!$D$6=1,RANDBETWEEN(1,99),IF(Worksheet!$D$6=2,CHOOSE(RANDBETWEEN(1,2),RANDBETWEEN(1,99),RANDBETWEEN(1,999)/10),CHOOSE(RANDBETWEEN(1,4),RANDBETWEEN(1,99999)/1000,RANDBETWEEN(1,9999)/100,RANDBETWEEN(1,999)/10,RANDBETWEEN(1,99))))","v":96},"tonnes","=",{"$f":"1000*C1157","v":96000},"kg"]
[{"$f":"IF(COUNTIF($B$1:B1158,TRUE)=COUNTIF($B$1:B1157,TRUE),\"\",COUNTIF($B$1:B1158,TRUE))","v":696},{"$f":"IF(Worksheet!$D$10=3,FALSE,Worksheet!$D$16)","v":true},{"$f":"IF(Worksheet!$D$6=1,RANDBETWEEN(1,99),IF(Worksheet!$D$6=2,CHOOSE(RANDBETWEEN(1,2),RANDBETWEEN(1,99),RANDBETWEEN(1,999)/10),CHOOSE(RANDBETWEEN(1,4),RANDBETWEEN(1,99999)/1000,RANDBETWEEN(1,9999)/100,RANDBETWEEN(1,999)/10,RANDBETWEEN(1,99))))","v":40},"litres","=",{"$f":"1000*C1158","v":40000},"ml"]
[{"$f":"IF(COUNTIF($B$1:B1159,TRUE)=COUNTIF($B$1:B1158,TRUE),\"\",COUNTIF($B$1:B1159,TRUE))","v":""},{"$f":"IF(Worksheet!$D$10=3,FALSE,Worksheet!$D$17)","v":false},{"$f":"IF(Worksheet!$D$6=1,RANDBETWEEN(1,99),IF(Worksheet!$D$6=2,CHOOSE(RANDBETWEEN(1,2),RANDBETWEEN(1,99),RANDBETWEEN(1,999)/10),CHOOSE(RANDBETWEEN(1,4),RANDBETWEEN(1,99999)/1000,RANDBETWEEN(1,9999)/100,RANDBETWEEN(1,999)/10,RANDBETWEEN(1,99))))","v":91},"litres","=",{"$f":"1000*C1159","v":91000},"cm³"]
[{"$f":"IF(COUNTIF($B$1:B1160,TRUE)=COUNTIF($B$1:B1159,TRUE),\"\",COUNTIF($B$1:B1160,TRUE))","v":""},{"$f":"IF(Worksheet!$D$10=3,FALSE,Worksheet!$D$18)","v":false},{"$f":"IF(Worksheet!$D$6=1,RANDBETWEEN(1,99),IF(Worksheet!$D$6=2,CHOOSE(RANDBETWEEN(1,2),RANDBETWEEN(1,99),RANDBETWEEN(1,999)/10),CHOOSE(RANDBETWEEN(1,4),RANDBETWEEN(1,99999)/1000,RANDBETWEEN(1,9999)/100,RANDBETWEEN(1,999)/10,RANDBETWEEN(1,99))))","v":91},"m²","=",{"$f":"10000*C1160","v":910000},"cm²"]
[{"$f":"IF(COUNTIF($B$1:B1161,TRUE)=COUNTIF($B$1:B1160,TRUE),\"\",COUNTIF($B$1:B1161,TRUE))","v":697},{"$f":"IF(Worksheet!$D$10=2,FALSE,Worksheet!$B$14)","v":true},{"$f":"10*F1161","v":50},"mm","=",{"$f":"IF(Worksheet!$D$6=1,RANDBETWEEN(1,99),IF(Worksheet!$D$6=2,CHOOSE(RANDBETWEEN(1,2),RANDBETWEEN(1,99),RANDBETWEEN(1,999)/10),CHOOSE(RANDBETWEEN(1,4),RANDBETWEEN(1,99999)/1000,RANDBETWEEN(1,9999)/100,RANDBETWEEN(1,999)/10,RANDBETWEEN(1,99))))","v":5},"cm"]
[{"$f":"IF(COUNTIF($B$1:B1162,TRUE)=COUNTIF($B$1:B1161,TRUE),\"\",COUNTIF($B$1:B1162,TRUE))","v":698},{"$f":"IF(Worksheet!$D$10=2,FALSE,Worksheet!$B$15)","v":true},{"$f":"100*F1162","v":6700},"cm","=",{"$f":"IF(Worksheet!$D$6=1,RANDBETWEEN(1,99),IF(Worksheet!$D$6=2,CHOOSE(RANDBETWEEN(1,2),RANDBETWEEN(1,99),RANDBETWEEN(1,999)/10),CHOOSE(RANDBETWEEN(1,4),RANDBETWEEN(1,99999)/1000,RANDBETWEEN(1,9999)/100,RANDBETWEEN(1,999)/10,RANDBETWEEN(1,99))))","v":67},"m"]
[{"$f":"IF(COUNTIF($B$1:B1163,TRUE)=COUNTIF($B$1:B1162,TRUE),\"\",COUNTIF($B$1:B1163,TRUE))","v":699},{"$f":"IF(Worksheet!$D$10=2,FALSE,Worksheet!$B$16)","v":true},{"$f":"1000*F1163","v":65000},"m","=",{"$f":"IF(Worksheet!$D$6=1,RANDBETWEEN(1,99),IF(Worksheet!$D$6=2,CHOOSE(RANDBETWEEN(1,2),RANDBETWEEN(1,99),RANDBETWEEN(1,999)/10),CHOOSE(RANDBETWEEN(1,4),RANDBETWEEN(1,99999)/1000,RANDBETWEEN(1,9999)/100,RANDBETWEEN(1,999)/10,RANDBETWEEN(1,99))))","v":65},"km"]
[{"$f":"IF(COUNTIF($B$1:B1164,TRUE)=COUNTIF($B$1:B1163,TRUE),\"\",COUNTIF($B$1:B1164,TRUE))","v":""},{"$f":"IF(Worksheet!$D$10=2,FALSE,Worksheet!$B$17)","v":false},{"$f":"1000*F1164","v":27000},"mm","=",{"$f":"IF(Worksheet!$D$6=1,RANDBETWEEN(1,99),IF(Worksheet!$D$6=2,CHOOSE(RANDBETWEEN(1,2),RANDBETWEEN(1,99),RANDBETWEEN(1,999)/10),CHOOSE(RANDBETWEEN(1,4),RANDBETWEEN(1,99999)/1000,RANDBETWEEN(1,9999)/100,RANDBETWEEN(1,999)/10,RANDBETWEEN(1,99))))","v":27},"m"]
[{"$f":"IF(COUNTIF($B$1:B1165,TRUE)=COUNTIF($B$1:B1164,TRUE),\"\",COUNTIF($B$1:B1165,TRUE))","v":""},{"$f":"IF(Worksheet!$D$10=2,FALSE,Worksheet!$B$18)","v":false},{"$f":"100*F1165","v":2700},"mm²","=",{"$f":"IF(Worksheet!$D$6=1,RANDBETWEEN(1,99),IF(Worksheet!$D$6=2,CHOOSE(RANDBETWEEN(1,2),RANDBETWEEN(1,99),RANDBETWEEN(1,999)/10),CHOOSE(RANDBETWEEN(1,4),RANDBETWEEN(1,99999)/1000,RANDBETWEEN(1,9999)/100,RANDBETWEEN(1,999)/10,RANDBETWEEN(1,99))))","v":27},"cm²"]
[{"$f":"IF(COUNTIF($B$1:B1166,TRUE)=COUNTIF($B$1:B1165,TRUE),\"\",COUNTIF($B$1:B1166,TRUE))","v":700},{"$f":"IF(Worksheet!$D$10=2,FALSE,Worksheet!$D$14)","v":true},{"$f":"F1166*1000","v":47000},"g","=",{"$f":"IF(Worksheet!$D$6=1,RANDBETWEEN(1,99),IF(Worksheet!$D$6=2,CHOOSE(RANDBETWEEN(1,2),RANDBETWEEN(1,99),RANDBETWEEN(1,999)/10),CHOOSE(RANDBETWEEN(1,4),RANDBETWEEN(1,99999)/1000,RANDBETWEEN(1,9999)/100,RANDBETWEEN(1,999)/10,RANDBETWEEN(1,99))))","v":47},"kg"]
[{"$f":"IF(COUNTIF($B$1:B1167,TRUE)=COUNTIF($B$1:B1166,TRUE),\"\",COUNTIF($B$1:B1167,TRUE))","v":701},{"$f":"IF(Worksheet!$D$10=2,FALSE,Worksheet!$D$15)","v":true},{"$f":"F1167*1000","v":6000},"kg","=",{"$f":"IF(Worksheet!$D$6=1,RANDBETWEEN(1,99),IF(Worksheet!$D$6=2,CHOOSE(RANDBETWEEN(1,2),RANDBETWEEN(1,99),RANDBETWEEN(1,999)/10),CHOOSE(RANDBETWEEN(1,4),RANDBETWEEN(1,99999)/1000,RANDBETWEEN(1,9999)/100,RANDBETWEEN(1,999)/10,RANDBETWEEN(1,99))))","v":6},"tonnes"]
[{"$f":"IF(COUNTIF($B$1:B1168,TRUE)=COUNTIF($B$1:B1167,TRUE),\"\",COUNTIF($B$1:B1168,TRUE))","v":702},{"$f":"IF(Worksheet!$D$10=2,FALSE,Worksheet!$D$16)","v":true},{"$f":"1000*F1168","v":12000},"ml","=",{"$f":"IF(Worksheet!$D$6=1,RANDBETWEEN(1,99),IF(Worksheet!$D$6=2,CHOOSE(RANDBETWEEN(1,2),RANDBETWEEN(1,99),RANDBETWEEN(1,999)/10),CHOOSE(RANDBETWEEN(1,4),RANDBETWEEN(1,99999)/1000,RANDBETWEEN(1,9999)/100,RANDBETWEEN(1,999)/10,RANDBETWEEN(1,99))))","v":12},"litres"]
[{"$f":"IF(COUNTIF($B$1:B1169,TRUE)=COUNTIF($B$1:B1168,TRUE),\"\",COUNTIF($B$1:B1169,TRUE))","v":""},{"$f":"IF(Worksheet!$D$10=2,FALSE,Worksheet!$D$17)","v":false},{"$f":"1000*F1169","v":95000},"cm³","=",{"$f":"IF(Worksheet!$D$6=1,RANDBETWEEN(1,99),IF(Worksheet!$D$6=2,CHOOSE(RANDBETWEEN(1,2),RANDBETWEEN(1,99),RANDBETWEEN(1,999)/10),CHOOSE(RANDBETWEEN(1,4),RANDBETWEEN(1,99999)/1000,RANDBETWEEN(1,9999)/100,RANDBETWEEN(1,999)/10,RANDBETWEEN(1,99))))","v":95},"litres"]
[{"$f":"IF(COUNTIF($B$1:B1170,TRUE)=COUNTIF($B$1:B1169,TRUE),\"\",COUNTIF($B$1:B1170,TRUE))","v":""},{"$f":"IF(Worksheet!$D$10=2,FALSE,Worksheet!$D$18)","v":false},{"$f":"10000*F1170","v":770000},"cm²","=",{"$f":"IF(Worksheet!$D$6=1,RANDBETWEEN(1,99),IF(Worksheet!$D$6=2,CHOOSE(RANDBETWEEN(1,2),RANDBETWEEN(1,99),RANDBETWEEN(1,999)/10),CHOOSE(RANDBETWEEN(1,4),RANDBETWEEN(1,99999)/1000,RANDBETWEEN(1,9999)/100,RANDBETWEEN(1,999)/10,RANDBETWEEN(1,99))))","v":77},"m²"]
[{"$f":"IF(COUNTIF($B$1:B1171,TRUE)=COUNTIF($B$1:B1170,TRUE),\"\",COUNTIF($B$1:B1171,TRUE))","v":703},{"$f":"IF(Worksheet!$D$10=3,FALSE,Worksheet!$B$14)","v":true},{"$f":"IF(Worksheet!$D$6=1,RANDBETWEEN(1,99),IF(Worksheet!$D$6=2,CHOOSE(RANDBETWEEN(1,2),RANDBETWEEN(1,99),RANDBETWEEN(1,999)/10),CHOOSE(RANDBETWEEN(1,4),RANDBETWEEN(1,99999)/1000,RANDBETWEEN(1,9999)/100,RANDBETWEEN(1,999)/10,RANDBETWEEN(1,99))))","v":13},"cm","=",{"$f":"10*C1171","v":130},"mm"]
[{"$f":"IF(COUNTIF($B$1:B1172,TRUE)=COUNTIF($B$1:B1171,TRUE),\"\",COUNTIF($B$1:B1172,TRUE))","v":704},{"$f":"IF(Worksheet!$D$10=3,FALSE,Worksheet!$B$15)","v":true},{"$f":"IF(Worksheet!$D$6=1,RANDBETWEEN(1,99),IF(Worksheet!$D$6=2,CHOOSE(RANDBETWEEN(1,2),RANDBETWEEN(1,99),RANDBETWEEN(1,999)/10),CHOOSE(RANDBETWEEN(1,4),RANDBETWEEN(1,99999)/1000,RANDBETWEEN(1,9999)/100,RANDBETWEEN(1,999)/10,RANDBETWEEN(1,99))))","v":77},"m","=",{"$f":"100*C1172","v":7700},"cm"]
[{"$f":"IF(COUNTIF($B$1:B1173,TRUE)=COUNTIF($B$1:B1172,TRUE),\"\",COUNTIF($B$1:B1173,TRUE))","v":705},{"$f":"IF(Worksheet!$D$10=3,FALSE,Worksheet!$B$16)","v":true},{"$f":"IF(Worksheet!$D$6=1,RANDBETWEEN(1,99),IF(Worksheet!$D$6=2,CHOOSE(RANDBETWEEN(1,2),RANDBETWEEN(1,99),RANDBETWEEN(1,999)/10),CHOOSE(RANDBETWEEN(1,4),RANDBETWEEN(1,99999)/1000,RANDBETWEEN(1,9999)/100,RANDBETWEEN(1,999)/10,RANDBETWEEN(1,99))))","v":81},"km","=",{"$f":"1000*C1173","v":81000},"m"]
[{"$f":"IF(COUNTIF($B$1:B1174,TRUE)=COUNTIF($B$1:B1173,TRUE),\"\",COUNTIF($B$1:B1174,TRUE))","v":""},{"$f":"IF(Worksheet!$D$10=3,FALSE,Worksheet!$B$17)","v":false},{"$f":"IF(Worksheet!$D$6=1,RANDBETWEEN(1,99),IF(Worksheet!$D$6=2,CHOOSE(RANDBETWEEN(1,2),RANDBETWEEN(1,99),RANDBETWEEN(1,999)/10),CHOOSE(RANDBETWEEN(1,4),RANDBETWEEN(1,99999)/1000,RANDBETWEEN(1,9999)/100,RANDBETWEEN(1,999)/10,RANDBETWEEN(1,99))))","v":83},"m",{"$f":"#REF!","v":{"$error":"#REF!"}},{"$f":"1000*C1174","v":83000},"mm"]
[{"$f":"IF(COUNTIF($B$1:B1175,TRUE)=COUNTIF($B$1:B1174,TRUE),\"\",COUNTIF($B$1:B1175,TRUE))","v":""},{"$f":"IF(Worksheet!$D$10=3,FALSE,Worksheet!$B$18)","v":false},{"$f":"IF(Worksheet!$D$6=1,RANDBETWEEN(1,99),IF(Worksheet!$D$6=2,CHOOSE(RANDBETWEEN(1,2),RANDBETWEEN(1,99),RANDBETWEEN(1,999)/10),CHOOSE(RANDBETWEEN(1,4),RANDBETWEEN(1,99999)/1000,RANDBETWEEN(1,9999)/100,RANDBETWEEN(1,999)/10,RANDBETWEEN(1,99))))","v":37},"cm²","=",{"$f":"C1175*100","v":3700},"mm²"]
[{"$f":"IF(COUNTIF($B$1:B1176,TRUE)=COUNTIF($B$1:B1175,TRUE),\"\",COUNTIF($B$1:B1176,TRUE))","v":706},{"$f":"IF(Worksheet!$D$10=3,FALSE,Worksheet!$D$14)","v":true},{"$f":"IF(Worksheet!$D$6=1,RANDBETWEEN(1,99),IF(Worksheet!$D$6=2,CHOOSE(RANDBETWEEN(1,2),RANDBETWEEN(1,99),RANDBETWEEN(1,999)/10),CHOOSE(RANDBETWEEN(1,4),RANDBETWEEN(1,99999)/1000,RANDBETWEEN(1,9999)/100,RANDBETWEEN(1,999)/10,RANDBETWEEN(1,99))))","v":58},"kg","=",{"$f":"1000*C1176","v":58000},"g"]
[{"$f":"IF(COUNTIF($B$1:B1177,TRUE)=COUNTIF($B$1:B1176,TRUE),\"\",COUNTIF($B$1:B1177,TRUE))","v":707},{"$f":"IF(Worksheet!$D$10=3,FALSE,Worksheet!$D$15)","v":true},{"$f":"IF(Worksheet!$D$6=1,RANDBETWEEN(1,99),IF(Worksheet!$D$6=2,CHOOSE(RANDBETWEEN(1,2),RANDBETWEEN(1,99),RANDBETWEEN(1,999)/10),CHOOSE(RANDBETWEEN(1,4),RANDBETWEEN(1,99999)/1000,RANDBETWEEN(1,9999)/100,RANDBETWEEN(1,999)/10,RANDBETWEEN(1,99))))","v":2},"tonnes","=",{"$f":"1000*C1177","v":2000},"kg"]
[{"$f":"IF(COUNTIF($B$1:B1178,TRUE)=COUNTIF($B$1:B1177,TRUE),\"\",COUNTIF($B$1:B1178,TRUE))","v":708},{"$f":"IF(Worksheet!$D$10=3,FALSE,Worksheet!$D$16)","v":true},{"$f":"IF(Worksheet!$D$6=1,RANDBETWEEN(1,99),IF(Worksheet!$D$6=2,CHOOSE(RANDBETWEEN(1,2),RANDBETWEEN(1,99),RANDBETWEEN(1,999)/10),CHOOSE(RANDBETWEEN(1,4),RANDBETWEEN(1,99999)/1000,RANDBETWEEN(1,9999)/100,RANDBETWEEN(1,999)/10,RANDBETWEEN(1,99))))","v":89},"litres","=",{"$f":"1000*C1178","v":89000},"ml"]
[{"$f":"IF(COUNTIF($B$1:B1179,TRUE)=COUNTIF($B$1:B1178,TRUE),\"\",COUNTIF($B$1:B1179,TRUE))","v":""},{"$f":"IF(Worksheet!$D$10=3,FALSE,Worksheet!$D$17)","v":false},{"$f":"IF(Worksheet!$D$6=1,RANDBETWEEN(1,99),IF(Worksheet!$D$6=2,CHOOSE(RANDBETWEEN(1,2),RANDBETWEEN(1,99),RANDBETWEEN(1,999)/10),CHOOSE(RANDBETWEEN(1,4),RANDBETWEEN(1,99999)/1000,RANDBETWEEN(1,9999)/100,RANDBETWEEN(1,999)/10,RANDBETWEEN(1,99))))","v":41},"litres","=",{"$f":"1000*C1179","v":41000},"cm³"]
[{"$f":"IF(COUNTIF($B$1:B1180,TRUE)=COUNTIF($B$1:B1179,TRUE),\"\",COUNTIF($B$1:B1180,TRUE))","v":""},{"$f":"IF(Worksheet!$D$10=3,FALSE,Worksheet!$D$18)","v":false},{"$f":"IF(Worksheet!$D$6=1,RANDBETWEEN(1,99),IF(Worksheet!$D$6=2,CHOOSE(RANDBETWEEN(1,2),RANDBETWEEN(1,99),RANDBETWEEN(1,999)/10),CHOOSE(RANDBETWEEN(1,4),RANDBETWEEN(1,99999)/1000,RANDBETWEEN(1,9999)/100,RANDBETWEEN(1,999)/10,RANDBETWEEN(1,99))))","v":10},"m²","=",{"$f":"10000*C1180","v":100000},"cm²"]
[{"$f":"IF(COUNTIF($B$1:B1181,TRUE)=COUNTIF($B$1:B1180,TRUE),\"\",COUNTIF($B$1:B1181,TRUE))","v":709},{"$f":"IF(Worksheet!$D$10=2,FALSE,Worksheet!$B$14)","v":true},{"$f":"10*F1181","v":560},"mm","=",{"$f":"IF(Worksheet!$D$6=1,RANDBETWEEN(1,99),IF(Worksheet!$D$6=2,CHOOSE(RANDBETWEEN(1,2),RANDBETWEEN(1,99),RANDBETWEEN(1,999)/10),CHOOSE(RANDBETWEEN(1,4),RANDBETWEEN(1,99999)/1000,RANDBETWEEN(1,9999)/100,RANDBETWEEN(1,999)/10,RANDBETWEEN(1,99))))","v":56},"cm"]
[{"$f":"IF(COUNTIF($B$1:B1182,TRUE)=COUNTIF($B$1:B1181,TRUE),\"\",COUNTIF($B$1:B1182,TRUE))","v":710},{"$f":"IF(Worksheet!$D$10=2,FALSE,Worksheet!$B$15)","v":true},{"$f":"100*F1182","v":6500},"cm","=",{"$f":"IF(Worksheet!$D$6=1,RANDBETWEEN(1,99),IF(Worksheet!$D$6=2,CHOOSE(RANDBETWEEN(1,2),RANDBETWEEN(1,99),RANDBETWEEN(1,999)/10),CHOOSE(RANDBETWEEN(1,4),RANDBETWEEN(1,99999)/1000,RANDBETWEEN(1,9999)/100,RANDBETWEEN(1,999)/10,RANDBETWEEN(1,99))))","v":65},"m"]
[{"$f":"IF(COUNTIF($B$1:B1183,TRUE)=COUNTIF($B$1:B1182,TRUE),\"\",COUNTIF($B$1:B1183,TRUE))","v":711},{"$f":"IF(Worksheet!$D$10=2,FALSE,Worksheet!$B$16)","v":true},{"$f":"1000*F1183","v":28000},"m","=",{"$f":"IF(Worksheet!$D$6=1,RANDBETWEEN(1,99),IF(Worksheet!$D$6=2,CHOOSE(RANDBETWEEN(1,2),RANDBETWEEN(1,99),RANDBETWEEN(1,999)/10),CHOOSE(RANDBETWEEN(1,4),RANDBETWEEN(1,99999)/1000,RANDBETWEEN(1,9999)/100,RANDBETWEEN(1,999)/10,RANDBETWEEN(1,99))))","v":28},"km"]
[{"$f":"IF(COUNTIF($B$1:B1184,TRUE)=COUNTIF($B$1:B1183,TRUE),\"\",COUNTIF($B$1:B1184,TRUE))","v":""},{"$f":"IF(Worksheet!$D$10=2,FALSE,Worksheet!$B$17)","v":false},{"$f":"1000*F1184","v":27000},"mm","=",{"$f":"IF(Worksheet!$D$6=1,RANDBETWEEN(1,99),IF(Worksheet!$D$6=2,CHOOSE(RANDBETWEEN(1,2),RANDBETWEEN(1,99),RANDBETWEEN(1,999)/10),CHOOSE(RANDBETWEEN(1,4),RANDBETWEEN(1,99999)/1000,RANDBETWEEN(1,9999)/100,RANDBETWEEN(1,999)/10,RANDBETWEEN(1,99))))","v":27},"m"]
[{"$f":"IF(COUNTIF($B$1:B1185,TRUE)=COUNTIF($B$1:B1184,TRUE),\"\",COUNTIF($B$1:B1185,TRUE))","v":""},{"$f":"IF(Worksheet!$D$10=2,FALSE,Worksheet!$B$18)","v":false},{"$f":"100*F1185","v":100},"mm²","=",{"$f":"IF(Worksheet!$D$6=1,RANDBETWEEN(1,99),IF(Worksheet!$D$6=2,CHOOSE(RANDBETWEEN(1,2),RANDBETWEEN(1,99),RANDBETWEEN(1,999)/10),CHOOSE(RANDBETWEEN(1,4),RANDBETWEEN(1,99999)/1000,RANDBETWEEN(1,9999)/100,RANDBETWEEN(1,999)/10,RANDBETWEEN(1,99))))","v":1},"cm²"]
[{"$f":"IF(COUNTIF($B$1:B1186,TRUE)=COUNTIF($B$1:B1185,TRUE),\"\",COUNTIF($B$1:B1186,TRUE))","v":712},{"$f":"IF(Worksheet!$D$10=2,FALSE,Worksheet!$D$14)","v":true},{"$f":"F1186*1000","v":94000},"g","=",{"$f":"IF(Worksheet!$D$6=1,RANDBETWEEN(1,99),IF(Worksheet!$D$6=2,CHOOSE(RANDBETWEEN(1,2),RANDBETWEEN(1,99),RANDBETWEEN(1,999)/10),CHOOSE(RANDBETWEEN(1,4),RANDBETWEEN(1,99999)/1000,RANDBETWEEN(1,9999)/100,RANDBETWEEN(1,999)/10,RANDBETWEEN(1,99))))","v":94},"kg"]
[{"$f":"IF(COUNTIF($B$1:B1187,TRUE)=COUNTIF($B$1:B1186,TRUE),\"\",COUNTIF($B$1:B1187,TRUE))","v":713},{"$f":"IF(Worksheet!$D$10=2,FALSE,Worksheet!$D$15)","v":true},{"$f":"F1187*1000","v":33000},"kg","=",{"$f":"IF(Worksheet!$D$6=1,RANDBETWEEN(1,99),IF(Worksheet!$D$6=2,CHOOSE(RANDBETWEEN(1,2),RANDBETWEEN(1,99),RANDBETWEEN(1,999)/10),CHOOSE(RANDBETWEEN(1,4),RANDBETWEEN(1,99999)/1000,RANDBETWEEN(1,9999)/100,RANDBETWEEN(1,999)/10,RANDBETWEEN(1,99))))","v":33},"tonnes"]
[{"$f":"IF(COUNTIF($B$1:B1188,TRUE)=COUNTIF($B$1:B1187,TRUE),\"\",COUNTIF($B$1:B1188,TRUE))","v":714},{"$f":"IF(Worksheet!$D$10=2,FALSE,Worksheet!$D$16)","v":true},{"$f":"1000*F1188","v":95000},"ml","=",{"$f":"IF(Worksheet!$D$6=1,RANDBETWEEN(1,99),IF(Worksheet!$D$6=2,CHOOSE(RANDBETWEEN(1,2),RANDBETWEEN(1,99),RANDBETWEEN(1,999)/10),CHOOSE(RANDBETWEEN(1,4),RANDBETWEEN(1,99999)/1000,RANDBETWEEN(1,9999)/100,RANDBETWEEN(1,999)/10,RANDBETWEEN(1,99))))","v":95},"litres"]
[{"$f":"IF(COUNTIF($B$1:B1189,TRUE)=COUNTIF($B$1:B1188,TRUE),\"\",COUNTIF($B$1:B1189,TRUE))","v":""},{"$f":"IF(Worksheet!$D$10=2,FALSE,Worksheet!$D$17)","v":false},{"$f":"1000*F1189","v":39000},"cm³","=",{"$f":"IF(Worksheet!$D$6=1,RANDBETWEEN(1,99),IF(Worksheet!$D$6=2,CHOOSE(RANDBETWEEN(1,2),RANDBETWEEN(1,99),RANDBETWEEN(1,999)/10),CHOOSE(RANDBETWEEN(1,4),RANDBETWEEN(1,99999)/1000,RANDBETWEEN(1,9999)/100,RANDBETWEEN(1,999)/10,RANDBETWEEN(1,99))))","v":39},"litres"]
[{"$f":"IF(COUNTIF($B$1:B1190,TRUE)=COUNTIF($B$1:B1189,TRUE),\"\",COUNTIF($B$1:B1190,TRUE))","v":""},{"$f":"IF(Worksheet!$D$10=2,FALSE,Worksheet!$D$18)","v":false},{"$f":"10000*F1190","v":350000},"cm²","=",{"$f":"IF(Worksheet!$D$6=1,RANDBETWEEN(1,99),IF(Worksheet!$D$6=2,CHOOSE(RANDBETWEEN(1,2),RANDBETWEEN(1,99),RANDBETWEEN(1,999)/10),CHOOSE(RANDBETWEEN(1,4),RANDBETWEEN(1,99999)/1000,RANDBETWEEN(1,9999)/100,RANDBETWEEN(1,999)/10,RANDBETWEEN(1,99))))","v":35},"m²"]
[{"$f":"IF(COUNTIF($B$1:B1191,TRUE)=COUNTIF($B$1:B1190,TRUE),\"\",COUNTIF($B$1:B1191,TRUE))","v":715},{"$f":"IF(Worksheet!$D$10=3,FALSE,Worksheet!$B$14)","v":true},{"$f":"IF(Worksheet!$D$6=1,RANDBETWEEN(1,99),IF(Worksheet!$D$6=2,CHOOSE(RANDBETWEEN(1,2),RANDBETWEEN(1,99),RANDBETWEEN(1,999)/10),CHOOSE(RANDBETWEEN(1,4),RANDBETWEEN(1,99999)/1000,RANDBETWEEN(1,9999)/100,RANDBETWEEN(1,999)/10,RANDBETWEEN(1,99))))","v":11},"cm","=",{"$f":"10*C1191","v":110},"mm"]
[{"$f":"IF(COUNTIF($B$1:B1192,TRUE)=COUNTIF($B$1:B1191,TRUE),\"\",COUNTIF($B$1:B1192,TRUE))","v":716},{"$f":"IF(Worksheet!$D$10=3,FALSE,Worksheet!$B$15)","v":true},{"$f":"IF(Worksheet!$D$6=1,RANDBETWEEN(1,99),IF(Worksheet!$D$6=2,CHOOSE(RANDBETWEEN(1,2),RANDBETWEEN(1,99),RANDBETWEEN(1,999)/10),CHOOSE(RANDBETWEEN(1,4),RANDBETWEEN(1,99999)/1000,RANDBETWEEN(1,9999)/100,RANDBETWEEN(1,999)/10,RANDBETWEEN(1,99))))","v":51},"m","=",{"$f":"100*C1192","v":5100},"cm"]
[{"$f":"IF(COUNTIF($B$1:B1193,TRUE)=COUNTIF($B$1:B1192,TRUE),\"\",COUNTIF($B$1:B1193,TRUE))","v":717},{"$f":"IF(Worksheet!$D$10=3,FALSE,Worksheet!$B$16)","v":true},{"$f":"IF(Worksheet!$D$6=1,RANDBETWEEN(1,99),IF(Worksheet!$D$6=2,CHOOSE(RANDBETWEEN(1,2),RANDBETWEEN(1,99),RANDBETWEEN(1,999)/10),CHOOSE(RANDBETWEEN(1,4),RANDBETWEEN(1,99999)/1000,RANDBETWEEN(1,9999)/100,RANDBETWEEN(1,999)/10,RANDBETWEEN(1,99))))","v":42},"km","=",{"$f":"1000*C1193","v":42000},"m"]
[{"$f":"IF(COUNTIF($B$1:B1194,TRUE)=COUNTIF($B$1:B1193,TRUE),\"\",COUNTIF($B$1:B1194,TRUE))","v":""},{"$f":"IF(Worksheet!$D$10=3,FALSE,Worksheet!$B$17)","v":false},{"$f":"IF(Worksheet!$D$6=1,RANDBETWEEN(1,99),IF(Worksheet!$D$6=2,CHOOSE(RANDBETWEEN(1,2),RANDBETWEEN(1,99),RANDBETWEEN(1,999)/10),CHOOSE(RANDBETWEEN(1,4),RANDBETWEEN(1,99999)/1000,RANDBETWEEN(1,9999)/100,RANDBETWEEN(1,999)/10,RANDBETWEEN(1,99))))","v":43},"m",{"$f":"#REF!","v":{"$error":"#REF!"}},{"$f":"1000*C1194","v":43000},"mm"]
[{"$f":"IF(COUNTIF($B$1:B1195,TRUE)=COUNTIF($B$1:B1194,TRUE),\"\",COUNTIF($B$1:B1195,TRUE))","v":""},{"$f":"IF(Worksheet!$D$10=3,FALSE,Worksheet!$B$18)","v":false},{"$f":"IF(Worksheet!$D$6=1,RANDBETWEEN(1,99),IF(Worksheet!$D$6=2,CHOOSE(RANDBETWEEN(1,2),RANDBETWEEN(1,99),RANDBETWEEN(1,999)/10),CHOOSE(RANDBETWEEN(1,4),RANDBETWEEN(1,99999)/1000,RANDBETWEEN(1,9999)/100,RANDBETWEEN(1,999)/10,RANDBETWEEN(1,99))))","v":69},"cm²","=",{"$f":"C1195*100","v":6900},"mm²"]
[{"$f":"IF(COUNTIF($B$1:B1196,TRUE)=COUNTIF($B$1:B1195,TRUE),\"\",COUNTIF($B$1:B1196,TRUE))","v":718},{"$f":"IF(Worksheet!$D$10=3,FALSE,Worksheet!$D$14)","v":true},{"$f":"IF(Worksheet!$D$6=1,RANDBETWEEN(1,99),IF(Worksheet!$D$6=2,CHOOSE(RANDBETWEEN(1,2),RANDBETWEEN(1,99),RANDBETWEEN(1,999)/10),CHOOSE(RANDBETWEEN(1,4),RANDBETWEEN(1,99999)/1000,RANDBETWEEN(1,9999)/100,RANDBETWEEN(1,999)/10,RANDBETWEEN(1,99))))","v":83},"kg","=",{"$f":"1000*C1196","v":83000},"g"]
[{"$f":"IF(COUNTIF($B$1:B1197,TRUE)=COUNTIF($B$1:B1196,TRUE),\"\",COUNTIF($B$1:B1197,TRUE))","v":719},{"$f":"IF(Worksheet!$D$10=3,FALSE,Worksheet!$D$15)","v":true},{"$f":"IF(Worksheet!$D$6=1,RANDBETWEEN(1,99),IF(Worksheet!$D$6=2,CHOOSE(RANDBETWEEN(1,2),RANDBETWEEN(1,99),RANDBETWEEN(1,999)/10),CHOOSE(RANDBETWEEN(1,4),RANDBETWEEN(1,99999)/1000,RANDBETWEEN(1,9999)/100,RANDBETWEEN(1,999)/10,RANDBETWEEN(1,99))))","v":93},"tonnes","=",{"$f":"1000*C1197","v":93000},"kg"]
[{"$f":"IF(COUNTIF($B$1:B1198,TRUE)=COUNTIF($B$1:B1197,TRUE),\"\",COUNTIF($B$1:B1198,TRUE))","v":720},{"$f":"IF(Worksheet!$D$10=3,FALSE,Worksheet!$D$16)","v":true},{"$f":"IF(Worksheet!$D$6=1,RANDBETWEEN(1,99),IF(Worksheet!$D$6=2,CHOOSE(RANDBETWEEN(1,2),RANDBETWEEN(1,99),RANDBETWEEN(1,999)/10),CHOOSE(RANDBETWEEN(1,4),RANDBETWEEN(1,99999)/1000,RANDBETWEEN(1,9999)/100,RANDBETWEEN(1,999)/10,RANDBETWEEN(1,99))))","v":66},"litres","=",{"$f":"1000*C1198","v":66000},"ml"]
[{"$f":"IF(COUNTIF($B$1:B1199,TRUE)=COUNTIF($B$1:B1198,TRUE),\"\",COUNTIF($B$1:B1199,TRUE))","v":""},{"$f":"IF(Worksheet!$D$10=3,FALSE,Worksheet!$D$17)","v":false},{"$f":"IF(Worksheet!$D$6=1,RANDBETWEEN(1,99),IF(Worksheet!$D$6=2,CHOOSE(RANDBETWEEN(1,2),RANDBETWEEN(1,99),RANDBETWEEN(1,999)/10),CHOOSE(RANDBETWEEN(1,4),RANDBETWEEN(1,99999)/1000,RANDBETWEEN(1,9999)/100,RANDBETWEEN(1,999)/10,RANDBETWEEN(1,99))))","v":61},"litres","=",{"$f":"1000*C1199","v":61000},"cm³"]
[{"$f":"IF(COUNTIF($B$1:B1200,TRUE)=COUNTIF($B$1:B1199,TRUE),\"\",COUNTIF($B$1:B1200,TRUE))","v":""},{"$f":"IF(Worksheet!$D$10=3,FALSE,Worksheet!$D$18)","v":false},{"$f":"IF(Worksheet!$D$6=1,RANDBETWEEN(1,99),IF(Worksheet!$D$6=2,CHOOSE(RANDBETWEEN(1,2),RANDBETWEEN(1,99),RANDBETWEEN(1,999)/10),CHOOSE(RANDBETWEEN(1,4),RANDBETWEEN(1,99999)/1000,RANDBETWEEN(1,9999)/100,RANDBETWEEN(1,999)/10,RANDBETWEEN(1,99))))","v":39},"m²","=",{"$f":"10000*C1200","v":390000},"cm²"]
[{"$f":"IF(COUNTIF($B$1:B1201,TRUE)=COUNTIF($B$1:B1200,TRUE),\"\",COUNTIF($B$1:B1201,TRUE))","v":721},{"$f":"IF(Worksheet!$D$10=2,FALSE,Worksheet!$B$14)","v":true},{"$f":"10*F1201","v":520},"mm","=",{"$f":"IF(Worksheet!$D$6=1,RANDBETWEEN(1,99),IF(Worksheet!$D$6=2,CHOOSE(RANDBETWEEN(1,2),RANDBETWEEN(1,99),RANDBETWEEN(1,999)/10),CHOOSE(RANDBETWEEN(1,4),RANDBETWEEN(1,99999)/1000,RANDBETWEEN(1,9999)/100,RANDBETWEEN(1,999)/10,RANDBETWEEN(1,99))))","v":52},"cm"]
[{"$f":"IF(COUNTIF($B$1:B1202,TRUE)=COUNTIF($B$1:B1201,TRUE),\"\",COUNTIF($B$1:B1202,TRUE))","v":722},{"$f":"IF(Worksheet!$D$10=2,FALSE,Worksheet!$B$15)","v":true},{"$f":"100*F1202","v":7500},"cm","=",{"$f":"IF(Worksheet!$D$6=1,RANDBETWEEN(1,99),IF(Worksheet!$D$6=2,CHOOSE(RANDBETWEEN(1,2),RANDBETWEEN(1,99),RANDBETWEEN(1,999)/10),CHOOSE(RANDBETWEEN(1,4),RANDBETWEEN(1,99999)/1000,RANDBETWEEN(1,9999)/100,RANDBETWEEN(1,999)/10,RANDBETWEEN(1,99))))","v":75},"m"]
[{"$f":"IF(COUNTIF($B$1:B1203,TRUE)=COUNTIF($B$1:B1202,TRUE),\"\",COUNTIF($B$1:B1203,TRUE))","v":723},{"$f":"IF(Worksheet!$D$10=2,FALSE,Worksheet!$B$16)","v":true},{"$f":"1000*F1203","v":42000},"m","=",{"$f":"IF(Worksheet!$D$6=1,RANDBETWEEN(1,99),IF(Worksheet!$D$6=2,CHOOSE(RANDBETWEEN(1,2),RANDBETWEEN(1,99),RANDBETWEEN(1,999)/10),CHOOSE(RANDBETWEEN(1,4),RANDBETWEEN(1,99999)/1000,RANDBETWEEN(1,9999)/100,RANDBETWEEN(1,999)/10,RANDBETWEEN(1,99))))","v":42},"km"]
[{"$f":"IF(COUNTIF($B$1:B1204,TRUE)=COUNTIF($B$1:B1203,TRUE),\"\",COUNTIF($B$1:B1204,TRUE))","v":""},{"$f":"IF(Worksheet!$D$10=2,FALSE,Worksheet!$B$17)","v":false},{"$f":"1000*F1204","v":69000},"mm","=",{"$f":"IF(Worksheet!$D$6=1,RANDBETWEEN(1,99),IF(Worksheet!$D$6=2,CHOOSE(RANDBETWEEN(1,2),RANDBETWEEN(1,99),RANDBETWEEN(1,999)/10),CHOOSE(RANDBETWEEN(1,4),RANDBETWEEN(1,99999)/1000,RANDBETWEEN(1,9999)/100,RANDBETWEEN(1,999)/10,RANDBETWEEN(1,99))))","v":69},"m"]
[{"$f":"IF(COUNTIF($B$1:B1205,TRUE)=COUNTIF($B$1:B1204,TRUE),\"\",COUNTIF($B$1:B1205,TRUE))","v":""},{"$f":"IF(Worksheet!$D$10=2,FALSE,Worksheet!$B$18)","v":false},{"$f":"100*F1205","v":600},"mm²","=",{"$f":"IF(Worksheet!$D$6=1,RANDBETWEEN(1,99),IF(Worksheet!$D$6=2,CHOOSE(RANDBETWEEN(1,2),RANDBETWEEN(1,99),RANDBETWEEN(1,999)/10),CHOOSE(RANDBETWEEN(1,4),RANDBETWEEN(1,99999)/1000,RANDBETWEEN(1,9999)/100,RANDBETWEEN(1,999)/10,RANDBETWEEN(1,99))))","v":6},"cm²"]
[{"$f":"IF(COUNTIF($B$1:B1206,TRUE)=COUNTIF($B$1:B1205,TRUE),\"\",COUNTIF($B$1:B1206,TRUE))","v":724},{"$f":"IF(Worksheet!$D$10=2,FALSE,Worksheet!$D$14)","v":true},{"$f":"F1206*1000","v":97000},"g","=",{"$f":"IF(Worksheet!$D$6=1,RANDBETWEEN(1,99),IF(Worksheet!$D$6=2,CHOOSE(RANDBETWEEN(1,2),RANDBETWEEN(1,99),RANDBETWEEN(1,999)/10),CHOOSE(RANDBETWEEN(1,4),RANDBETWEEN(1,99999)/1000,RANDBETWEEN(1,9999)/100,RANDBETWEEN(1,999)/10,RANDBETWEEN(1,99))))","v":97},"kg"]
[{"$f":"IF(COUNTIF($B$1:B1207,TRUE)=COUNTIF($B$1:B1206,TRUE),\"\",COUNTIF($B$1:B1207,TRUE))","v":725},{"$f":"IF(Worksheet!$D$10=2,FALSE,Worksheet!$D$15)","v":true},{"$f":"F1207*1000","v":19000},"kg","=",{"$f":"IF(Worksheet!$D$6=1,RANDBETWEEN(1,99),IF(Worksheet!$D$6=2,CHOOSE(RANDBETWEEN(1,2),RANDBETWEEN(1,99),RANDBETWEEN(1,999)/10),CHOOSE(RANDBETWEEN(1,4),RANDBETWEEN(1,99999)/1000,RANDBETWEEN(1,9999)/100,RANDBETWEEN(1,999)/10,RANDBETWEEN(1,99))))","v":19},"tonnes"]
[{"$f":"IF(COUNTIF($B$1:B1208,TRUE)=COUNTIF($B$1:B1207,TRUE),\"\",COUNTIF($B$1:B1208,TRUE))","v":726},{"$f":"IF(Worksheet!$D$10=2,FALSE,Worksheet!$D$16)","v":true},{"$f":"1000*F1208","v":26000},"ml","=",{"$f":"IF(Worksheet!$D$6=1,RANDBETWEEN(1,99),IF(Worksheet!$D$6=2,CHOOSE(RANDBETWEEN(1,2),RANDBETWEEN(1,99),RANDBETWEEN(1,999)/10),CHOOSE(RANDBETWEEN(1,4),RANDBETWEEN(1,99999)/1000,RANDBETWEEN(1,9999)/100,RANDBETWEEN(1,999)/10,RANDBETWEEN(1,99))))","v":26},"litres"]
[{"$f":"IF(COUNTIF($B$1:B1209,TRUE)=COUNTIF($B$1:B1208,TRUE),\"\",COUNTIF($B$1:B1209,TRUE))","v":""},{"$f":"IF(Worksheet!$D$10=2,FALSE,Worksheet!$D$17)","v":false},{"$f":"1000*F1209","v":57000},"cm³","=",{"$f":"IF(Worksheet!$D$6=1,RANDBETWEEN(1,99),IF(Worksheet!$D$6=2,CHOOSE(RANDBETWEEN(1,2),RANDBETWEEN(1,99),RANDBETWEEN(1,999)/10),CHOOSE(RANDBETWEEN(1,4),RANDBETWEEN(1,99999)/1000,RANDBETWEEN(1,9999)/100,RANDBETWEEN(1,999)/10,RANDBETWEEN(1,99))))","v":57},"litres"]
[{"$f":"IF(COUNTIF($B$1:B1210,TRUE)=COUNTIF($B$1:B1209,TRUE),\"\",COUNTIF($B$1:B1210,TRUE))","v":""},{"$f":"IF(Worksheet!$D$10=2,FALSE,Worksheet!$D$18)","v":false},{"$f":"10000*F1210","v":80000},"cm²","=",{"$f":"IF(Worksheet!$D$6=1,RANDBETWEEN(1,99),IF(Worksheet!$D$6=2,CHOOSE(RANDBETWEEN(1,2),RANDBETWEEN(1,99),RANDBETWEEN(1,999)/10),CHOOSE(RANDBETWEEN(1,4),RANDBETWEEN(1,99999)/1000,RANDBETWEEN(1,9999)/100,RANDBETWEEN(1,999)/10,RANDBETWEEN(1,99))))","v":8},"m²"]
[{"$f":"IF(COUNTIF($B$1:B1211,TRUE)=COUNTIF($B$1:B1210,TRUE),\"\",COUNTIF($B$1:B1211,TRUE))","v":727},{"$f":"IF(Worksheet!$D$10=3,FALSE,Worksheet!$B$14)","v":true},{"$f":"IF(Worksheet!$D$6=1,RANDBETWEEN(1,99),IF(Worksheet!$D$6=2,CHOOSE(RANDBETWEEN(1,2),RANDBETWEEN(1,99),RANDBETWEEN(1,999)/10),CHOOSE(RANDBETWEEN(1,4),RANDBETWEEN(1,99999)/1000,RANDBETWEEN(1,9999)/100,RANDBETWEEN(1,999)/10,RANDBETWEEN(1,99))))","v":44},"cm","=",{"$f":"10*C1211","v":440},"mm"]
[{"$f":"IF(COUNTIF($B$1:B1212,TRUE)=COUNTIF($B$1:B1211,TRUE),\"\",COUNTIF($B$1:B1212,TRUE))","v":728},{"$f":"IF(Worksheet!$D$10=3,FALSE,Worksheet!$B$15)","v":true},{"$f":"IF(Worksheet!$D$6=1,RANDBETWEEN(1,99),IF(Worksheet!$D$6=2,CHOOSE(RANDBETWEEN(1,2),RANDBETWEEN(1,99),RANDBETWEEN(1,999)/10),CHOOSE(RANDBETWEEN(1,4),RANDBETWEEN(1,99999)/1000,RANDBETWEEN(1,9999)/100,RANDBETWEEN(1,999)/10,RANDBETWEEN(1,99))))","v":98},"m","=",{"$f":"100*C1212","v":9800},"cm"]
[{"$f":"IF(COUNTIF($B$1:B1213,TRUE)=COUNTIF($B$1:B1212,TRUE),\"\",COUNTIF($B$1:B1213,TRUE))","v":729},{"$f":"IF(Worksheet!$D$10=3,FALSE,Worksheet!$B$16)","v":true},{"$f":"IF(Worksheet!$D$6=1,RANDBETWEEN(1,99),IF(Worksheet!$D$6=2,CHOOSE(RANDBETWEEN(1,2),RANDBETWEEN(1,99),RANDBETWEEN(1,999)/10),CHOOSE(RANDBETWEEN(1,4),RANDBETWEEN(1,99999)/1000,RANDBETWEEN(1,9999)/100,RANDBETWEEN(1,999)/10,RANDBETWEEN(1,99))))","v":63},"km","=",{"$f":"1000*C1213","v":63000},"m"]
[{"$f":"IF(COUNTIF($B$1:B1214,TRUE)=COUNTIF($B$1:B1213,TRUE),\"\",COUNTIF($B$1:B1214,TRUE))","v":""},{"$f":"IF(Worksheet!$D$10=3,FALSE,Worksheet!$B$17)","v":false},{"$f":"IF(Worksheet!$D$6=1,RANDBETWEEN(1,99),IF(Worksheet!$D$6=2,CHOOSE(RANDBETWEEN(1,2),RANDBETWEEN(1,99),RANDBETWEEN(1,999)/10),CHOOSE(RANDBETWEEN(1,4),RANDBETWEEN(1,99999)/1000,RANDBETWEEN(1,9999)/100,RANDBETWEEN(1,999)/10,RANDBETWEEN(1,99))))","v":7},"m",{"$f":"#REF!","v":{"$error":"#REF!"}},{"$f":"1000*C1214","v":7000},"mm"]
[{"$f":"IF(COUNTIF($B$1:B1215,TRUE)=COUNTIF($B$1:B1214,TRUE),\"\",COUNTIF($B$1:B1215,TRUE))","v":""},{"$f":"IF(Worksheet!$D$10=3,FALSE,Worksheet!$B$18)","v":false},{"$f":"IF(Worksheet!$D$6=1,RANDBETWEEN(1,99),IF(Worksheet!$D$6=2,CHOOSE(RANDBETWEEN(1,2),RANDBETWEEN(1,99),RANDBETWEEN(1,999)/10),CHOOSE(RANDBETWEEN(1,4),RANDBETWEEN(1,99999)/1000,RANDBETWEEN(1,9999)/100,RANDBETWEEN(1,999)/10,RANDBETWEEN(1,99))))","v":68},"cm²","=",{"$f":"C1215*100","v":6800},"mm²"]
[{"$f":"IF(COUNTIF($B$1:B1216,TRUE)=COUNTIF($B$1:B1215,TRUE),\"\",COUNTIF($B$1:B1216,TRUE))","v":730},{"$f":"IF(Worksheet!$D$10=3,FALSE,Worksheet!$D$14)","v":true},{"$f":"IF(Worksheet!$D$6=1,RANDBETWEEN(1,99),IF(Worksheet!$D$6=2,CHOOSE(RANDBETWEEN(1,2),RANDBETWEEN(1,99),RANDBETWEEN(1,999)/10),CHOOSE(RANDBETWEEN(1,4),RANDBETWEEN(1,99999)/1000,RANDBETWEEN(1,9999)/100,RANDBETWEEN(1,999)/10,RANDBETWEEN(1,99))))","v":6},"kg","=",{"$f":"1000*C1216","v":6000},"g"]
[{"$f":"IF(COUNTIF($B$1:B1217,TRUE)=COUNTIF($B$1:B1216,TRUE),\"\",COUNTIF($B$1:B1217,TRUE))","v":731},{"$f":"IF(Worksheet!$D$10=3,FALSE,Worksheet!$D$15)","v":true},{"$f":"IF(Worksheet!$D$6=1,RANDBETWEEN(1,99),IF(Worksheet!$D$6=2,CHOOSE(RANDBETWEEN(1,2),RANDBETWEEN(1,99),RANDBETWEEN(1,999)/10),CHOOSE(RANDBETWEEN(1,4),RANDBETWEEN(1,99999)/1000,RANDBETWEEN(1,9999)/100,RANDBETWEEN(1,999)/10,RANDBETWEEN(1,99))))","v":6},"tonnes","=",{"$f":"1000*C1217","v":6000},"kg"]
[{"$f":"IF(COUNTIF($B$1:B1218,TRUE)=COUNTIF($B$1:B1217,TRUE),\"\",COUNTIF($B$1:B1218,TRUE))","v":732},{"$f":"IF(Worksheet!$D$10=3,FALSE,Worksheet!$D$16)","v":true},{"$f":"IF(Worksheet!$D$6=1,RANDBETWEEN(1,99),IF(Worksheet!$D$6=2,CHOOSE(RANDBETWEEN(1,2),RANDBETWEEN(1,99),RANDBETWEEN(1,999)/10),CHOOSE(RANDBETWEEN(1,4),RANDBETWEEN(1,99999)/1000,RANDBETWEEN(1,9999)/100,RANDBETWEEN(1,999)/10,RANDBETWEEN(1,99))))","v":24},"litres","=",{"$f":"1000*C1218","v":24000},"ml"]
[{"$f":"IF(COUNTIF($B$1:B1219,TRUE)=COUNTIF($B$1:B1218,TRUE),\"\",COUNTIF($B$1:B1219,TRUE))","v":""},{"$f":"IF(Worksheet!$D$10=3,FALSE,Worksheet!$D$17)","v":false},{"$f":"IF(Worksheet!$D$6=1,RANDBETWEEN(1,99),IF(Worksheet!$D$6=2,CHOOSE(RANDBETWEEN(1,2),RANDBETWEEN(1,99),RANDBETWEEN(1,999)/10),CHOOSE(RANDBETWEEN(1,4),RANDBETWEEN(1,99999)/1000,RANDBETWEEN(1,9999)/100,RANDBETWEEN(1,999)/10,RANDBETWEEN(1,99))))","v":84},"litres","=",{"$f":"1000*C1219","v":84000},"cm³"]
[{"$f":"IF(COUNTIF($B$1:B1220,TRUE)=COUNTIF($B$1:B1219,TRUE),\"\",COUNTIF($B$1:B1220,TRUE))","v":""},{"$f":"IF(Worksheet!$D$10=3,FALSE,Worksheet!$D$18)","v":false},{"$f":"IF(Worksheet!$D$6=1,RANDBETWEEN(1,99),IF(Worksheet!$D$6=2,CHOOSE(RANDBETWEEN(1,2),RANDBETWEEN(1,99),RANDBETWEEN(1,999)/10),CHOOSE(RANDBETWEEN(1,4),RANDBETWEEN(1,99999)/1000,RANDBETWEEN(1,9999)/100,RANDBETWEEN(1,999)/10,RANDBETWEEN(1,99))))","v":21},"m²","=",{"$f":"10000*C1220","v":210000},"cm²"]
[{"$f":"IF(COUNTIF($B$1:B1221,TRUE)=COUNTIF($B$1:B1220,TRUE),\"\",COUNTIF($B$1:B1221,TRUE))","v":733},{"$f":"IF(Worksheet!$D$10=2,FALSE,Worksheet!$B$14)","v":true},{"$f":"10*F1221","v":110},"mm","=",{"$f":"IF(Worksheet!$D$6=1,RANDBETWEEN(1,99),IF(Worksheet!$D$6=2,CHOOSE(RANDBETWEEN(1,2),RANDBETWEEN(1,99),RANDBETWEEN(1,999)/10),CHOOSE(RANDBETWEEN(1,4),RANDBETWEEN(1,99999)/1000,RANDBETWEEN(1,9999)/100,RANDBETWEEN(1,999)/10,RANDBETWEEN(1,99))))","v":11},"cm"]
[{"$f":"IF(COUNTIF($B$1:B1222,TRUE)=COUNTIF($B$1:B1221,TRUE),\"\",COUNTIF($B$1:B1222,TRUE))","v":734},{"$f":"IF(Worksheet!$D$10=2,FALSE,Worksheet!$B$15)","v":true},{"$f":"100*F1222","v":1600},"cm","=",{"$f":"IF(Worksheet!$D$6=1,RANDBETWEEN(1,99),IF(Worksheet!$D$6=2,CHOOSE(RANDBETWEEN(1,2),RANDBETWEEN(1,99),RANDBETWEEN(1,999)/10),CHOOSE(RANDBETWEEN(1,4),RANDBETWEEN(1,99999)/1000,RANDBETWEEN(1,9999)/100,RANDBETWEEN(1,999)/10,RANDBETWEEN(1,99))))","v":16},"m"]
[{"$f":"IF(COUNTIF($B$1:B1223,TRUE)=COUNTIF($B$1:B1222,TRUE),\"\",COUNTIF($B$1:B1223,TRUE))","v":735},{"$f":"IF(Worksheet!$D$10=2,FALSE,Worksheet!$B$16)","v":true},{"$f":"1000*F1223","v":55000},"m","=",{"$f":"IF(Worksheet!$D$6=1,RANDBETWEEN(1,99),IF(Worksheet!$D$6=2,CHOOSE(RANDBETWEEN(1,2),RANDBETWEEN(1,99),RANDBETWEEN(1,999)/10),CHOOSE(RANDBETWEEN(1,4),RANDBETWEEN(1,99999)/1000,RANDBETWEEN(1,9999)/100,RANDBETWEEN(1,999)/10,RANDBETWEEN(1,99))))","v":55},"km"]
[{"$f":"IF(COUNTIF($B$1:B1224,TRUE)=COUNTIF($B$1:B1223,TRUE),\"\",COUNTIF($B$1:B1224,TRUE))","v":""},{"$f":"IF(Worksheet!$D$10=2,FALSE,Worksheet!$B$17)","v":false},{"$f":"1000*F1224","v":9000},"mm","=",{"$f":"IF(Worksheet!$D$6=1,RANDBETWEEN(1,99),IF(Worksheet!$D$6=2,CHOOSE(RANDBETWEEN(1,2),RANDBETWEEN(1,99),RANDBETWEEN(1,999)/10),CHOOSE(RANDBETWEEN(1,4),RANDBETWEEN(1,99999)/1000,RANDBETWEEN(1,9999)/100,RANDBETWEEN(1,999)/10,RANDBETWEEN(1,99))))","v":9},"m"]
[{"$f":"IF(COUNTIF($B$1:B1225,TRUE)=COUNTIF($B$1:B1224,TRUE),\"\",COUNTIF($B$1:B1225,TRUE))","v":""},{"$f":"IF(Worksheet!$D$10=2,FALSE,Worksheet!$B$18)","v":false},{"$f":"100*F1225","v":4500},"mm²","=",{"$f":"IF(Worksheet!$D$6=1,RANDBETWEEN(1,99),IF(Worksheet!$D$6=2,CHOOSE(RANDBETWEEN(1,2),RANDBETWEEN(1,99),RANDBETWEEN(1,999)/10),CHOOSE(RANDBETWEEN(1,4),RANDBETWEEN(1,99999)/1000,RANDBETWEEN(1,9999)/100,RANDBETWEEN(1,999)/10,RANDBETWEEN(1,99))))","v":45},"cm²"]
[{"$f":"IF(COUNTIF($B$1:B1226,TRUE)=COUNTIF($B$1:B1225,TRUE),\"\",COUNTIF($B$1:B1226,TRUE))","v":736},{"$f":"IF(Worksheet!$D$10=2,FALSE,Worksheet!$D$14)","v":true},{"$f":"F1226*1000","v":83000},"g","=",{"$f":"IF(Worksheet!$D$6=1,RANDBETWEEN(1,99),IF(Worksheet!$D$6=2,CHOOSE(RANDBETWEEN(1,2),RANDBETWEEN(1,99),RANDBETWEEN(1,999)/10),CHOOSE(RANDBETWEEN(1,4),RANDBETWEEN(1,99999)/1000,RANDBETWEEN(1,9999)/100,RANDBETWEEN(1,999)/10,RANDBETWEEN(1,99))))","v":83},"kg"]
[{"$f":"IF(COUNTIF($B$1:B1227,TRUE)=COUNTIF($B$1:B1226,TRUE),\"\",COUNTIF($B$1:B1227,TRUE))","v":737},{"$f":"IF(Worksheet!$D$10=2,FALSE,Worksheet!$D$15)","v":true},{"$f":"F1227*1000","v":28000},"kg","=",{"$f":"IF(Worksheet!$D$6=1,RANDBETWEEN(1,99),IF(Worksheet!$D$6=2,CHOOSE(RANDBETWEEN(1,2),RANDBETWEEN(1,99),RANDBETWEEN(1,999)/10),CHOOSE(RANDBETWEEN(1,4),RANDBETWEEN(1,99999)/1000,RANDBETWEEN(1,9999)/100,RANDBETWEEN(1,999)/10,RANDBETWEEN(1,99))))","v":28},"tonnes"]
[{"$f":"IF(COUNTIF($B$1:B1228,TRUE)=COUNTIF($B$1:B1227,TRUE),\"\",COUNTIF($B$1:B1228,TRUE))","v":738},{"$f":"IF(Worksheet!$D$10=2,FALSE,Worksheet!$D$16)","v":true},{"$f":"1000*F1228","v":65000},"ml","=",{"$f":"IF(Worksheet!$D$6=1,RANDBETWEEN(1,99),IF(Worksheet!$D$6=2,CHOOSE(RANDBETWEEN(1,2),RANDBETWEEN(1,99),RANDBETWEEN(1,999)/10),CHOOSE(RANDBETWEEN(1,4),RANDBETWEEN(1,99999)/1000,RANDBETWEEN(1,9999)/100,RANDBETWEEN(1,999)/10,RANDBETWEEN(1,99))))","v":65},"litres"]
[{"$f":"IF(COUNTIF($B$1:B1229,TRUE)=COUNTIF($B$1:B1228,TRUE),\"\",COUNTIF($B$1:B1229,TRUE))","v":""},{"$f":"IF(Worksheet!$D$10=2,FALSE,Worksheet!$D$17)","v":false},{"$f":"1000*F1229","v":97000},"cm³","=",{"$f":"IF(Worksheet!$D$6=1,RANDBETWEEN(1,99),IF(Worksheet!$D$6=2,CHOOSE(RANDBETWEEN(1,2),RANDBETWEEN(1,99),RANDBETWEEN(1,999)/10),CHOOSE(RANDBETWEEN(1,4),RANDBETWEEN(1,99999)/1000,RANDBETWEEN(1,9999)/100,RANDBETWEEN(1,999)/10,RANDBETWEEN(1,99))))","v":97},"litres"]
[{"$f":"IF(COUNTIF($B$1:B1230,TRUE)=COUNTIF($B$1:B1229,TRUE),\"\",COUNTIF($B$1:B1230,TRUE))","v":""},{"$f":"IF(Worksheet!$D$10=2,FALSE,Worksheet!$D$18)","v":false},{"$f":"10000*F1230","v":880000},"cm²","=",{"$f":"IF(Worksheet!$D$6=1,RANDBETWEEN(1,99),IF(Worksheet!$D$6=2,CHOOSE(RANDBETWEEN(1,2),RANDBETWEEN(1,99),RANDBETWEEN(1,999)/10),CHOOSE(RANDBETWEEN(1,4),RANDBETWEEN(1,99999)/1000,RANDBETWEEN(1,9999)/100,RANDBETWEEN(1,999)/10,RANDBETWEEN(1,99))))","v":88},"m²"]
[{"$f":"IF(COUNTIF($B$1:B1231,TRUE)=COUNTIF($B$1:B1230,TRUE),\"\",COUNTIF($B$1:B1231,TRUE))","v":739},{"$f":"IF(Worksheet!$D$10=3,FALSE,Worksheet!$B$14)","v":true},{"$f":"IF(Worksheet!$D$6=1,RANDBETWEEN(1,99),IF(Worksheet!$D$6=2,CHOOSE(RANDBETWEEN(1,2),RANDBETWEEN(1,99),RANDBETWEEN(1,999)/10),CHOOSE(RANDBETWEEN(1,4),RANDBETWEEN(1,99999)/1000,RANDBETWEEN(1,9999)/100,RANDBETWEEN(1,999)/10,RANDBETWEEN(1,99))))","v":19},"cm","=",{"$f":"10*C1231","v":190},"mm"]
[{"$f":"IF(COUNTIF($B$1:B1232,TRUE)=COUNTIF($B$1:B1231,TRUE),\"\",COUNTIF($B$1:B1232,TRUE))","v":740},{"$f":"IF(Worksheet!$D$10=3,FALSE,Worksheet!$B$15)","v":true},{"$f":"IF(Worksheet!$D$6=1,RANDBETWEEN(1,99),IF(Worksheet!$D$6=2,CHOOSE(RANDBETWEEN(1,2),RANDBETWEEN(1,99),RANDBETWEEN(1,999)/10),CHOOSE(RANDBETWEEN(1,4),RANDBETWEEN(1,99999)/1000,RANDBETWEEN(1,9999)/100,RANDBETWEEN(1,999)/10,RANDBETWEEN(1,99))))","v":62},"m","=",{"$f":"100*C1232","v":6200},"cm"]
[{"$f":"IF(COUNTIF($B$1:B1233,TRUE)=COUNTIF($B$1:B1232,TRUE),\"\",COUNTIF($B$1:B1233,TRUE))","v":741},{"$f":"IF(Worksheet!$D$10=3,FALSE,Worksheet!$B$16)","v":true},{"$f":"IF(Worksheet!$D$6=1,RANDBETWEEN(1,99),IF(Worksheet!$D$6=2,CHOOSE(RANDBETWEEN(1,2),RANDBETWEEN(1,99),RANDBETWEEN(1,999)/10),CHOOSE(RANDBETWEEN(1,4),RANDBETWEEN(1,99999)/1000,RANDBETWEEN(1,9999)/100,RANDBETWEEN(1,999)/10,RANDBETWEEN(1,99))))","v":31},"km","=",{"$f":"1000*C1233","v":31000},"m"]
[{"$f":"IF(COUNTIF($B$1:B1234,TRUE)=COUNTIF($B$1:B1233,TRUE),\"\",COUNTIF($B$1:B1234,TRUE))","v":""},{"$f":"IF(Worksheet!$D$10=3,FALSE,Worksheet!$B$17)","v":false},{"$f":"IF(Worksheet!$D$6=1,RANDBETWEEN(1,99),IF(Worksheet!$D$6=2,CHOOSE(RANDBETWEEN(1,2),RANDBETWEEN(1,99),RANDBETWEEN(1,999)/10),CHOOSE(RANDBETWEEN(1,4),RANDBETWEEN(1,99999)/1000,RANDBETWEEN(1,9999)/100,RANDBETWEEN(1,999)/10,RANDBETWEEN(1,99))))","v":32},"m",{"$f":"#REF!","v":{"$error":"#REF!"}},{"$f":"1000*C1234","v":32000},"mm"]
[{"$f":"IF(COUNTIF($B$1:B1235,TRUE)=COUNTIF($B$1:B1234,TRUE),\"\",COUNTIF($B$1:B1235,TRUE))","v":""},{"$f":"IF(Worksheet!$D$10=3,FALSE,Worksheet!$B$18)","v":false},{"$f":"IF(Worksheet!$D$6=1,RANDBETWEEN(1,99),IF(Worksheet!$D$6=2,CHOOSE(RANDBETWEEN(1,2),RANDBETWEEN(1,99),RANDBETWEEN(1,999)/10),CHOOSE(RANDBETWEEN(1,4),RANDBETWEEN(1,99999)/1000,RANDBETWEEN(1,9999)/100,RANDBETWEEN(1,999)/10,RANDBETWEEN(1,99))))","v":98},"cm²","=",{"$f":"C1235*100","v":9800},"mm²"]
[{"$f":"IF(COUNTIF($B$1:B1236,TRUE)=COUNTIF($B$1:B1235,TRUE),\"\",COUNTIF($B$1:B1236,TRUE))","v":742},{"$f":"IF(Worksheet!$D$10=3,FALSE,Worksheet!$D$14)","v":true},{"$f":"IF(Worksheet!$D$6=1,RANDBETWEEN(1,99),IF(Worksheet!$D$6=2,CHOOSE(RANDBETWEEN(1,2),RANDBETWEEN(1,99),RANDBETWEEN(1,999)/10),CHOOSE(RANDBETWEEN(1,4),RANDBETWEEN(1,99999)/1000,RANDBETWEEN(1,9999)/100,RANDBETWEEN(1,999)/10,RANDBETWEEN(1,99))))","v":49},"kg","=",{"$f":"1000*C1236","v":49000},"g"]
[{"$f":"IF(COUNTIF($B$1:B1237,TRUE)=COUNTIF($B$1:B1236,TRUE),\"\",COUNTIF($B$1:B1237,TRUE))","v":743},{"$f":"IF(Worksheet!$D$10=3,FALSE,Worksheet!$D$15)","v":true},{"$f":"IF(Worksheet!$D$6=1,RANDBETWEEN(1,99),IF(Worksheet!$D$6=2,CHOOSE(RANDBETWEEN(1,2),RANDBETWEEN(1,99),RANDBETWEEN(1,999)/10),CHOOSE(RANDBETWEEN(1,4),RANDBETWEEN(1,99999)/1000,RANDBETWEEN(1,9999)/100,RANDBETWEEN(1,999)/10,RANDBETWEEN(1,99))))","v":31},"tonnes","=",{"$f":"1000*C1237","v":31000},"kg"]
[{"$f":"IF(COUNTIF($B$1:B1238,TRUE)=COUNTIF($B$1:B1237,TRUE),\"\",COUNTIF($B$1:B1238,TRUE))","v":744},{"$f":"IF(Worksheet!$D$10=3,FALSE,Worksheet!$D$16)","v":true},{"$f":"IF(Worksheet!$D$6=1,RANDBETWEEN(1,99),IF(Worksheet!$D$6=2,CHOOSE(RANDBETWEEN(1,2),RANDBETWEEN(1,99),RANDBETWEEN(1,999)/10),CHOOSE(RANDBETWEEN(1,4),RANDBETWEEN(1,99999)/1000,RANDBETWEEN(1,9999)/100,RANDBETWEEN(1,999)/10,RANDBETWEEN(1,99))))","v":46},"litres","=",{"$f":"1000*C1238","v":46000},"ml"]
[{"$f":"IF(COUNTIF($B$1:B1239,TRUE)=COUNTIF($B$1:B1238,TRUE),\"\",COUNTIF($B$1:B1239,TRUE))","v":""},{"$f":"IF(Worksheet!$D$10=3,FALSE,Worksheet!$D$17)","v":false},{"$f":"IF(Worksheet!$D$6=1,RANDBETWEEN(1,99),IF(Worksheet!$D$6=2,CHOOSE(RANDBETWEEN(1,2),RANDBETWEEN(1,99),RANDBETWEEN(1,999)/10),CHOOSE(RANDBETWEEN(1,4),RANDBETWEEN(1,99999)/1000,RANDBETWEEN(1,9999)/100,RANDBETWEEN(1,999)/10,RANDBETWEEN(1,99))))","v":85},"litres","=",{"$f":"1000*C1239","v":85000},"cm³"]
[{"$f":"IF(COUNTIF($B$1:B1240,TRUE)=COUNTIF($B$1:B1239,TRUE),\"\",COUNTIF($B$1:B1240,TRUE))","v":""},{"$f":"IF(Worksheet!$D$10=3,FALSE,Worksheet!$D$18)","v":false},{"$f":"IF(Worksheet!$D$6=1,RANDBETWEEN(1,99),IF(Worksheet!$D$6=2,CHOOSE(RANDBETWEEN(1,2),RANDBETWEEN(1,99),RANDBETWEEN(1,999)/10),CHOOSE(RANDBETWEEN(1,4),RANDBETWEEN(1,99999)/1000,RANDBETWEEN(1,9999)/100,RANDBETWEEN(1,999)/10,RANDBETWEEN(1,99))))","v":41},"m²","=",{"$f":"10000*C1240","v":410000},"cm²"]
[{"$f":"IF(COUNTIF($B$1:B1241,TRUE)=COUNTIF($B$1:B1240,TRUE),\"\",COUNTIF($B$1:B1241,TRUE))","v":745},{"$f":"IF(Worksheet!$D$10=2,FALSE,Worksheet!$B$14)","v":true},{"$f":"10*F1241","v":630},"mm","=",{"$f":"IF(Worksheet!$D$6=1,RANDBETWEEN(1,99),IF(Worksheet!$D$6=2,CHOOSE(RANDBETWEEN(1,2),RANDBETWEEN(1,99),RANDBETWEEN(1,999)/10),CHOOSE(RANDBETWEEN(1,4),RANDBETWEEN(1,99999)/1000,RANDBETWEEN(1,9999)/100,RANDBETWEEN(1,999)/10,RANDBETWEEN(1,99))))","v":63},"cm"]
[{"$f":"IF(COUNTIF($B$1:B1242,TRUE)=COUNTIF($B$1:B1241,TRUE),\"\",COUNTIF($B$1:B1242,TRUE))","v":746},{"$f":"IF(Worksheet!$D$10=2,FALSE,Worksheet!$B$15)","v":true},{"$f":"100*F1242","v":4000},"cm","=",{"$f":"IF(Worksheet!$D$6=1,RANDBETWEEN(1,99),IF(Worksheet!$D$6=2,CHOOSE(RANDBETWEEN(1,2),RANDBETWEEN(1,99),RANDBETWEEN(1,999)/10),CHOOSE(RANDBETWEEN(1,4),RANDBETWEEN(1,99999)/1000,RANDBETWEEN(1,9999)/100,RANDBETWEEN(1,999)/10,RANDBETWEEN(1,99))))","v":40},"m"]
[{"$f":"IF(COUNTIF($B$1:B1243,TRUE)=COUNTIF($B$1:B1242,TRUE),\"\",COUNTIF($B$1:B1243,TRUE))","v":747},{"$f":"IF(Worksheet!$D$10=2,FALSE,Worksheet!$B$16)","v":true},{"$f":"1000*F1243","v":95000},"m","=",{"$f":"IF(Worksheet!$D$6=1,RANDBETWEEN(1,99),IF(Worksheet!$D$6=2,CHOOSE(RANDBETWEEN(1,2),RANDBETWEEN(1,99),RANDBETWEEN(1,999)/10),CHOOSE(RANDBETWEEN(1,4),RANDBETWEEN(1,99999)/1000,RANDBETWEEN(1,9999)/100,RANDBETWEEN(1,999)/10,RANDBETWEEN(1,99))))","v":95},"km"]
[{"$f":"IF(COUNTIF($B$1:B1244,TRUE)=COUNTIF($B$1:B1243,TRUE),\"\",COUNTIF($B$1:B1244,TRUE))","v":""},{"$f":"IF(Worksheet!$D$10=2,FALSE,Worksheet!$B$17)","v":false},{"$f":"1000*F1244","v":94000},"mm","=",{"$f":"IF(Worksheet!$D$6=1,RANDBETWEEN(1,99),IF(Worksheet!$D$6=2,CHOOSE(RANDBETWEEN(1,2),RANDBETWEEN(1,99),RANDBETWEEN(1,999)/10),CHOOSE(RANDBETWEEN(1,4),RANDBETWEEN(1,99999)/1000,RANDBETWEEN(1,9999)/100,RANDBETWEEN(1,999)/10,RANDBETWEEN(1,99))))","v":94},"m"]
[{"$f":"IF(COUNTIF($B$1:B1245,TRUE)=COUNTIF($B$1:B1244,TRUE),\"\",COUNTIF($B$1:B1245,TRUE))","v":""},{"$f":"IF(Worksheet!$D$10=2,FALSE,Worksheet!$B$18)","v":false},{"$f":"100*F1245","v":8400},"mm²","=",{"$f":"IF(Worksheet!$D$6=1,RANDBETWEEN(1,99),IF(Worksheet!$D$6=2,CHOOSE(RANDBETWEEN(1,2),RANDBETWEEN(1,99),RANDBETWEEN(1,999)/10),CHOOSE(RANDBETWEEN(1,4),RANDBETWEEN(1,99999)/1000,RANDBETWEEN(1,9999)/100,RANDBETWEEN(1,999)/10,RANDBETWEEN(1,99))))","v":84},"cm²"]
[{"$f":"IF(COUNTIF($B$1:B1246,TRUE)=COUNTIF($B$1:B1245,TRUE),\"\",COUNTIF($B$1:B1246,TRUE))","v":748},{"$f":"IF(Worksheet!$D$10=2,FALSE,Worksheet!$D$14)","v":true},{"$f":"F1246*1000","v":71000},"g","=",{"$f":"IF(Worksheet!$D$6=1,RANDBETWEEN(1,99),IF(Worksheet!$D$6=2,CHOOSE(RANDBETWEEN(1,2),RANDBETWEEN(1,99),RANDBETWEEN(1,999)/10),CHOOSE(RANDBETWEEN(1,4),RANDBETWEEN(1,99999)/1000,RANDBETWEEN(1,9999)/100,RANDBETWEEN(1,999)/10,RANDBETWEEN(1,99))))","v":71},"kg"]
[{"$f":"IF(COUNTIF($B$1:B1247,TRUE)=COUNTIF($B$1:B1246,TRUE),\"\",COUNTIF($B$1:B1247,TRUE))","v":749},{"$f":"IF(Worksheet!$D$10=2,FALSE,Worksheet!$D$15)","v":true},{"$f":"F1247*1000","v":6000},"kg","=",{"$f":"IF(Worksheet!$D$6=1,RANDBETWEEN(1,99),IF(Worksheet!$D$6=2,CHOOSE(RANDBETWEEN(1,2),RANDBETWEEN(1,99),RANDBETWEEN(1,999)/10),CHOOSE(RANDBETWEEN(1,4),RANDBETWEEN(1,99999)/1000,RANDBETWEEN(1,9999)/100,RANDBETWEEN(1,999)/10,RANDBETWEEN(1,99))))","v":6},"tonnes"]
[{"$f":"IF(COUNTIF($B$1:B1248,TRUE)=COUNTIF($B$1:B1247,TRUE),\"\",COUNTIF($B$1:B1248,TRUE))","v":750},{"$f":"IF(Worksheet!$D$10=2,FALSE,Worksheet!$D$16)","v":true},{"$f":"1000*F1248","v":20000},"ml","=",{"$f":"IF(Worksheet!$D$6=1,RANDBETWEEN(1,99),IF(Worksheet!$D$6=2,CHOOSE(RANDBETWEEN(1,2),RANDBETWEEN(1,99),RANDBETWEEN(1,999)/10),CHOOSE(RANDBETWEEN(1,4),RANDBETWEEN(1,99999)/1000,RANDBETWEEN(1,9999)/100,RANDBETWEEN(1,999)/10,RANDBETWEEN(1,99))))","v":20},"litres"]
[{"$f":"IF(COUNTIF($B$1:B1249,TRUE)=COUNTIF($B$1:B1248,TRUE),\"\",COUNTIF($B$1:B1249,TRUE))","v":""},{"$f":"IF(Worksheet!$D$10=2,FALSE,Worksheet!$D$17)","v":false},{"$f":"1000*F1249","v":59000},"cm³","=",{"$f":"IF(Worksheet!$D$6=1,RANDBETWEEN(1,99),IF(Worksheet!$D$6=2,CHOOSE(RANDBETWEEN(1,2),RANDBETWEEN(1,99),RANDBETWEEN(1,999)/10),CHOOSE(RANDBETWEEN(1,4),RANDBETWEEN(1,99999)/1000,RANDBETWEEN(1,9999)/100,RANDBETWEEN(1,999)/10,RANDBETWEEN(1,99))))","v":59},"litres"]
[{"$f":"IF(COUNTIF($B$1:B1250,TRUE)=COUNTIF($B$1:B1249,TRUE),\"\",COUNTIF($B$1:B1250,TRUE))","v":""},{"$f":"IF(Worksheet!$D$10=2,FALSE,Worksheet!$D$18)","v":false},{"$f":"10000*F1250","v":370000},"cm²","=",{"$f":"IF(Worksheet!$D$6=1,RANDBETWEEN(1,99),IF(Worksheet!$D$6=2,CHOOSE(RANDBETWEEN(1,2),RANDBETWEEN(1,99),RANDBETWEEN(1,999)/10),CHOOSE(RANDBETWEEN(1,4),RANDBETWEEN(1,99999)/1000,RANDBETWEEN(1,9999)/100,RANDBETWEEN(1,999)/10,RANDBETWEEN(1,99))))","v":37},"m²"]
[{"$f":"IF(COUNTIF($B$1:B1251,TRUE)=COUNTIF($B$1:B1250,TRUE),\"\",COUNTIF($B$1:B1251,TRUE))","v":751},{"$f":"IF(Worksheet!$D$10=3,FALSE,Worksheet!$B$14)","v":true},{"$f":"IF(Worksheet!$D$6=1,RANDBETWEEN(1,99),IF(Worksheet!$D$6=2,CHOOSE(RANDBETWEEN(1,2),RANDBETWEEN(1,99),RANDBETWEEN(1,999)/10),CHOOSE(RANDBETWEEN(1,4),RANDBETWEEN(1,99999)/1000,RANDBETWEEN(1,9999)/100,RANDBETWEEN(1,999)/10,RANDBETWEEN(1,99))))","v":67},"cm","=",{"$f":"10*C1251","v":670},"mm"]
[{"$f":"IF(COUNTIF($B$1:B1252,TRUE)=COUNTIF($B$1:B1251,TRUE),\"\",COUNTIF($B$1:B1252,TRUE))","v":752},{"$f":"IF(Worksheet!$D$10=3,FALSE,Worksheet!$B$15)","v":true},{"$f":"IF(Worksheet!$D$6=1,RANDBETWEEN(1,99),IF(Worksheet!$D$6=2,CHOOSE(RANDBETWEEN(1,2),RANDBETWEEN(1,99),RANDBETWEEN(1,999)/10),CHOOSE(RANDBETWEEN(1,4),RANDBETWEEN(1,99999)/1000,RANDBETWEEN(1,9999)/100,RANDBETWEEN(1,999)/10,RANDBETWEEN(1,99))))","v":74},"m","=",{"$f":"100*C1252","v":7400},"cm"]
[{"$f":"IF(COUNTIF($B$1:B1253,TRUE)=COUNTIF($B$1:B1252,TRUE),\"\",COUNTIF($B$1:B1253,TRUE))","v":753},{"$f":"IF(Worksheet!$D$10=3,FALSE,Worksheet!$B$16)","v":true},{"$f":"IF(Worksheet!$D$6=1,RANDBETWEEN(1,99),IF(Worksheet!$D$6=2,CHOOSE(RANDBETWEEN(1,2),RANDBETWEEN(1,99),RANDBETWEEN(1,999)/10),CHOOSE(RANDBETWEEN(1,4),RANDBETWEEN(1,99999)/1000,RANDBETWEEN(1,9999)/100,RANDBETWEEN(1,999)/10,RANDBETWEEN(1,99))))","v":14},"km","=",{"$f":"1000*C1253","v":14000},"m"]
[{"$f":"IF(COUNTIF($B$1:B1254,TRUE)=COUNTIF($B$1:B1253,TRUE),\"\",COUNTIF($B$1:B1254,TRUE))","v":""},{"$f":"IF(Worksheet!$D$10=3,FALSE,Worksheet!$B$17)","v":false},{"$f":"IF(Worksheet!$D$6=1,RANDBETWEEN(1,99),IF(Worksheet!$D$6=2,CHOOSE(RANDBETWEEN(1,2),RANDBETWEEN(1,99),RANDBETWEEN(1,999)/10),CHOOSE(RANDBETWEEN(1,4),RANDBETWEEN(1,99999)/1000,RANDBETWEEN(1,9999)/100,RANDBETWEEN(1,999)/10,RANDBETWEEN(1,99))))","v":74},"m",{"$f":"#REF!","v":{"$error":"#REF!"}},{"$f":"1000*C1254","v":74000},"mm"]
[{"$f":"IF(COUNTIF($B$1:B1255,TRUE)=COUNTIF($B$1:B1254,TRUE),\"\",COUNTIF($B$1:B1255,TRUE))","v":""},{"$f":"IF(Worksheet!$D$10=3,FALSE,Worksheet!$B$18)","v":false},{"$f":"IF(Worksheet!$D$6=1,RANDBETWEEN(1,99),IF(Worksheet!$D$6=2,CHOOSE(RANDBETWEEN(1,2),RANDBETWEEN(1,99),RANDBETWEEN(1,999)/10),CHOOSE(RANDBETWEEN(1,4),RANDBETWEEN(1,99999)/1000,RANDBETWEEN(1,9999)/100,RANDBETWEEN(1,999)/10,RANDBETWEEN(1,99))))","v":20},"cm²","=",{"$f":"C1255*100","v":2000},"mm²"]
[{"$f":"IF(COUNTIF($B$1:B1256,TRUE)=COUNTIF($B$1:B1255,TRUE),\"\",COUNTIF($B$1:B1256,TRUE))","v":754},{"$f":"IF(Worksheet!$D$10=3,FALSE,Worksheet!$D$14)","v":true},{"$f":"IF(Worksheet!$D$6=1,RANDBETWEEN(1,99),IF(Worksheet!$D$6=2,CHOOSE(RANDBETWEEN(1,2),RANDBETWEEN(1,99),RANDBETWEEN(1,999)/10),CHOOSE(RANDBETWEEN(1,4),RANDBETWEEN(1,99999)/1000,RANDBETWEEN(1,9999)/100,RANDBETWEEN(1,999)/10,RANDBETWEEN(1,99))))","v":93},"kg","=",{"$f":"1000*C1256","v":93000},"g"]
[{"$f":"IF(COUNTIF($B$1:B1257,TRUE)=COUNTIF($B$1:B1256,TRUE),\"\",COUNTIF($B$1:B1257,TRUE))","v":755},{"$f":"IF(Worksheet!$D$10=3,FALSE,Worksheet!$D$15)","v":true},{"$f":"IF(Worksheet!$D$6=1,RANDBETWEEN(1,99),IF(Worksheet!$D$6=2,CHOOSE(RANDBETWEEN(1,2),RANDBETWEEN(1,99),RANDBETWEEN(1,999)/10),CHOOSE(RANDBETWEEN(1,4),RANDBETWEEN(1,99999)/1000,RANDBETWEEN(1,9999)/100,RANDBETWEEN(1,999)/10,RANDBETWEEN(1,99))))","v":88},"tonnes","=",{"$f":"1000*C1257","v":88000},"kg"]
[{"$f":"IF(COUNTIF($B$1:B1258,TRUE)=COUNTIF($B$1:B1257,TRUE),\"\",COUNTIF($B$1:B1258,TRUE))","v":756},{"$f":"IF(Worksheet!$D$10=3,FALSE,Worksheet!$D$16)","v":true},{"$f":"IF(Worksheet!$D$6=1,RANDBETWEEN(1,99),IF(Worksheet!$D$6=2,CHOOSE(RANDBETWEEN(1,2),RANDBETWEEN(1,99),RANDBETWEEN(1,999)/10),CHOOSE(RANDBETWEEN(1,4),RANDBETWEEN(1,99999)/1000,RANDBETWEEN(1,9999)/100,RANDBETWEEN(1,999)/10,RANDBETWEEN(1,99))))","v":77},"litres","=",{"$f":"1000*C1258","v":77000},"ml"]
[{"$f":"IF(COUNTIF($B$1:B1259,TRUE)=COUNTIF($B$1:B1258,TRUE),\"\",COUNTIF($B$1:B1259,TRUE))","v":""},{"$f":"IF(Worksheet!$D$10=3,FALSE,Worksheet!$D$17)","v":false},{"$f":"IF(Worksheet!$D$6=1,RANDBETWEEN(1,99),IF(Worksheet!$D$6=2,CHOOSE(RANDBETWEEN(1,2),RANDBETWEEN(1,99),RANDBETWEEN(1,999)/10),CHOOSE(RANDBETWEEN(1,4),RANDBETWEEN(1,99999)/1000,RANDBETWEEN(1,9999)/100,RANDBETWEEN(1,999)/10,RANDBETWEEN(1,99))))","v":90},"litres","=",{"$f":"1000*C1259","v":90000},"cm³"]
[{"$f":"IF(COUNTIF($B$1:B1260,TRUE)=COUNTIF($B$1:B1259,TRUE),\"\",COUNTIF($B$1:B1260,TRUE))","v":""},{"$f":"IF(Worksheet!$D$10=3,FALSE,Worksheet!$D$18)","v":false},{"$f":"IF(Worksheet!$D$6=1,RANDBETWEEN(1,99),IF(Worksheet!$D$6=2,CHOOSE(RANDBETWEEN(1,2),RANDBETWEEN(1,99),RANDBETWEEN(1,999)/10),CHOOSE(RANDBETWEEN(1,4),RANDBETWEEN(1,99999)/1000,RANDBETWEEN(1,9999)/100,RANDBETWEEN(1,999)/10,RANDBETWEEN(1,99))))","v":83},"m²","=",{"$f":"10000*C1260","v":830000},"cm²"]
[{"$f":"IF(COUNTIF($B$1:B1261,TRUE)=COUNTIF($B$1:B1260,TRUE),\"\",COUNTIF($B$1:B1261,TRUE))","v":757},{"$f":"IF(Worksheet!$D$10=2,FALSE,Worksheet!$B$14)","v":true},{"$f":"10*F1261","v":900},"mm","=",{"$f":"IF(Worksheet!$D$6=1,RANDBETWEEN(1,99),IF(Worksheet!$D$6=2,CHOOSE(RANDBETWEEN(1,2),RANDBETWEEN(1,99),RANDBETWEEN(1,999)/10),CHOOSE(RANDBETWEEN(1,4),RANDBETWEEN(1,99999)/1000,RANDBETWEEN(1,9999)/100,RANDBETWEEN(1,999)/10,RANDBETWEEN(1,99))))","v":90},"cm"]
[{"$f":"IF(COUNTIF($B$1:B1262,TRUE)=COUNTIF($B$1:B1261,TRUE),\"\",COUNTIF($B$1:B1262,TRUE))","v":758},{"$f":"IF(Worksheet!$D$10=2,FALSE,Worksheet!$B$15)","v":true},{"$f":"100*F1262","v":5000},"cm","=",{"$f":"IF(Worksheet!$D$6=1,RANDBETWEEN(1,99),IF(Worksheet!$D$6=2,CHOOSE(RANDBETWEEN(1,2),RANDBETWEEN(1,99),RANDBETWEEN(1,999)/10),CHOOSE(RANDBETWEEN(1,4),RANDBETWEEN(1,99999)/1000,RANDBETWEEN(1,9999)/100,RANDBETWEEN(1,999)/10,RANDBETWEEN(1,99))))","v":50},"m"]
[{"$f":"IF(COUNTIF($B$1:B1263,TRUE)=COUNTIF($B$1:B1262,TRUE),\"\",COUNTIF($B$1:B1263,TRUE))","v":759},{"$f":"IF(Worksheet!$D$10=2,FALSE,Worksheet!$B$16)","v":true},{"$f":"1000*F1263","v":28000},"m","=",{"$f":"IF(Worksheet!$D$6=1,RANDBETWEEN(1,99),IF(Worksheet!$D$6=2,CHOOSE(RANDBETWEEN(1,2),RANDBETWEEN(1,99),RANDBETWEEN(1,999)/10),CHOOSE(RANDBETWEEN(1,4),RANDBETWEEN(1,99999)/1000,RANDBETWEEN(1,9999)/100,RANDBETWEEN(1,999)/10,RANDBETWEEN(1,99))))","v":28},"km"]
[{"$f":"IF(COUNTIF($B$1:B1264,TRUE)=COUNTIF($B$1:B1263,TRUE),\"\",COUNTIF($B$1:B1264,TRUE))","v":""},{"$f":"IF(Worksheet!$D$10=2,FALSE,Worksheet!$B$17)","v":false},{"$f":"1000*F1264","v":28000},"mm","=",{"$f":"IF(Worksheet!$D$6=1,RANDBETWEEN(1,99),IF(Worksheet!$D$6=2,CHOOSE(RANDBETWEEN(1,2),RANDBETWEEN(1,99),RANDBETWEEN(1,999)/10),CHOOSE(RANDBETWEEN(1,4),RANDBETWEEN(1,99999)/1000,RANDBETWEEN(1,9999)/100,RANDBETWEEN(1,999)/10,RANDBETWEEN(1,99))))","v":28},"m"]
[{"$f":"IF(COUNTIF($B$1:B1265,TRUE)=COUNTIF($B$1:B1264,TRUE),\"\",COUNTIF($B$1:B1265,TRUE))","v":""},{"$f":"IF(Worksheet!$D$10=2,FALSE,Worksheet!$B$18)","v":false},{"$f":"100*F1265","v":6500},"mm²","=",{"$f":"IF(Worksheet!$D$6=1,RANDBETWEEN(1,99),IF(Worksheet!$D$6=2,CHOOSE(RANDBETWEEN(1,2),RANDBETWEEN(1,99),RANDBETWEEN(1,999)/10),CHOOSE(RANDBETWEEN(1,4),RANDBETWEEN(1,99999)/1000,RANDBETWEEN(1,9999)/100,RANDBETWEEN(1,999)/10,RANDBETWEEN(1,99))))","v":65},"cm²"]
[{"$f":"IF(COUNTIF($B$1:B1266,TRUE)=COUNTIF($B$1:B1265,TRUE),\"\",COUNTIF($B$1:B1266,TRUE))","v":760},{"$f":"IF(Worksheet!$D$10=2,FALSE,Worksheet!$D$14)","v":true},{"$f":"F1266*1000","v":51000},"g","=",{"$f":"IF(Worksheet!$D$6=1,RANDBETWEEN(1,99),IF(Worksheet!$D$6=2,CHOOSE(RANDBETWEEN(1,2),RANDBETWEEN(1,99),RANDBETWEEN(1,999)/10),CHOOSE(RANDBETWEEN(1,4),RANDBETWEEN(1,99999)/1000,RANDBETWEEN(1,9999)/100,RANDBETWEEN(1,999)/10,RANDBETWEEN(1,99))))","v":51},"kg"]
[{"$f":"IF(COUNTIF($B$1:B1267,TRUE)=COUNTIF($B$1:B1266,TRUE),\"\",COUNTIF($B$1:B1267,TRUE))","v":761},{"$f":"IF(Worksheet!$D$10=2,FALSE,Worksheet!$D$15)","v":true},{"$f":"F1267*1000","v":64000},"kg","=",{"$f":"IF(Worksheet!$D$6=1,RANDBETWEEN(1,99),IF(Worksheet!$D$6=2,CHOOSE(RANDBETWEEN(1,2),RANDBETWEEN(1,99),RANDBETWEEN(1,999)/10),CHOOSE(RANDBETWEEN(1,4),RANDBETWEEN(1,99999)/1000,RANDBETWEEN(1,9999)/100,RANDBETWEEN(1,999)/10,RANDBETWEEN(1,99))))","v":64},"tonnes"]
[{"$f":"IF(COUNTIF($B$1:B1268,TRUE)=COUNTIF($B$1:B1267,TRUE),\"\",COUNTIF($B$1:B1268,TRUE))","v":762},{"$f":"IF(Worksheet!$D$10=2,FALSE,Worksheet!$D$16)","v":true},{"$f":"1000*F1268","v":28000},"ml","=",{"$f":"IF(Worksheet!$D$6=1,RANDBETWEEN(1,99),IF(Worksheet!$D$6=2,CHOOSE(RANDBETWEEN(1,2),RANDBETWEEN(1,99),RANDBETWEEN(1,999)/10),CHOOSE(RANDBETWEEN(1,4),RANDBETWEEN(1,99999)/1000,RANDBETWEEN(1,9999)/100,RANDBETWEEN(1,999)/10,RANDBETWEEN(1,99))))","v":28},"litres"]
[{"$f":"IF(COUNTIF($B$1:B1269,TRUE)=COUNTIF($B$1:B1268,TRUE),\"\",COUNTIF($B$1:B1269,TRUE))","v":""},{"$f":"IF(Worksheet!$D$10=2,FALSE,Worksheet!$D$17)","v":false},{"$f":"1000*F1269","v":83000},"cm³","=",{"$f":"IF(Worksheet!$D$6=1,RANDBETWEEN(1,99),IF(Worksheet!$D$6=2,CHOOSE(RANDBETWEEN(1,2),RANDBETWEEN(1,99),RANDBETWEEN(1,999)/10),CHOOSE(RANDBETWEEN(1,4),RANDBETWEEN(1,99999)/1000,RANDBETWEEN(1,9999)/100,RANDBETWEEN(1,999)/10,RANDBETWEEN(1,99))))","v":83},"litres"]
[{"$f":"IF(COUNTIF($B$1:B1270,TRUE)=COUNTIF($B$1:B1269,TRUE),\"\",COUNTIF($B$1:B1270,TRUE))","v":""},{"$f":"IF(Worksheet!$D$10=2,FALSE,Worksheet!$D$18)","v":false},{"$f":"10000*F1270","v":200000},"cm²","=",{"$f":"IF(Worksheet!$D$6=1,RANDBETWEEN(1,99),IF(Worksheet!$D$6=2,CHOOSE(RANDBETWEEN(1,2),RANDBETWEEN(1,99),RANDBETWEEN(1,999)/10),CHOOSE(RANDBETWEEN(1,4),RANDBETWEEN(1,99999)/1000,RANDBETWEEN(1,9999)/100,RANDBETWEEN(1,999)/10,RANDBETWEEN(1,99))))","v":20},"m²"]
[{"$f":"IF(COUNTIF($B$1:B1271,TRUE)=COUNTIF($B$1:B1270,TRUE),\"\",COUNTIF($B$1:B1271,TRUE))","v":763},{"$f":"IF(Worksheet!$D$10=3,FALSE,Worksheet!$B$14)","v":true},{"$f":"IF(Worksheet!$D$6=1,RANDBETWEEN(1,99),IF(Worksheet!$D$6=2,CHOOSE(RANDBETWEEN(1,2),RANDBETWEEN(1,99),RANDBETWEEN(1,999)/10),CHOOSE(RANDBETWEEN(1,4),RANDBETWEEN(1,99999)/1000,RANDBETWEEN(1,9999)/100,RANDBETWEEN(1,999)/10,RANDBETWEEN(1,99))))","v":88},"cm","=",{"$f":"10*C1271","v":880},"mm"]
[{"$f":"IF(COUNTIF($B$1:B1272,TRUE)=COUNTIF($B$1:B1271,TRUE),\"\",COUNTIF($B$1:B1272,TRUE))","v":764},{"$f":"IF(Worksheet!$D$10=3,FALSE,Worksheet!$B$15)","v":true},{"$f":"IF(Worksheet!$D$6=1,RANDBETWEEN(1,99),IF(Worksheet!$D$6=2,CHOOSE(RANDBETWEEN(1,2),RANDBETWEEN(1,99),RANDBETWEEN(1,999)/10),CHOOSE(RANDBETWEEN(1,4),RANDBETWEEN(1,99999)/1000,RANDBETWEEN(1,9999)/100,RANDBETWEEN(1,999)/10,RANDBETWEEN(1,99))))","v":68},"m","=",{"$f":"100*C1272","v":6800},"cm"]
[{"$f":"IF(COUNTIF($B$1:B1273,TRUE)=COUNTIF($B$1:B1272,TRUE),\"\",COUNTIF($B$1:B1273,TRUE))","v":765},{"$f":"IF(Worksheet!$D$10=3,FALSE,Worksheet!$B$16)","v":true},{"$f":"IF(Worksheet!$D$6=1,RANDBETWEEN(1,99),IF(Worksheet!$D$6=2,CHOOSE(RANDBETWEEN(1,2),RANDBETWEEN(1,99),RANDBETWEEN(1,999)/10),CHOOSE(RANDBETWEEN(1,4),RANDBETWEEN(1,99999)/1000,RANDBETWEEN(1,9999)/100,RANDBETWEEN(1,999)/10,RANDBETWEEN(1,99))))","v":32},"km","=",{"$f":"1000*C1273","v":32000},"m"]
[{"$f":"IF(COUNTIF($B$1:B1274,TRUE)=COUNTIF($B$1:B1273,TRUE),\"\",COUNTIF($B$1:B1274,TRUE))","v":""},{"$f":"IF(Worksheet!$D$10=3,FALSE,Worksheet!$B$17)","v":false},{"$f":"IF(Worksheet!$D$6=1,RANDBETWEEN(1,99),IF(Worksheet!$D$6=2,CHOOSE(RANDBETWEEN(1,2),RANDBETWEEN(1,99),RANDBETWEEN(1,999)/10),CHOOSE(RANDBETWEEN(1,4),RANDBETWEEN(1,99999)/1000,RANDBETWEEN(1,9999)/100,RANDBETWEEN(1,999)/10,RANDBETWEEN(1,99))))","v":65},"m",{"$f":"#REF!","v":{"$error":"#REF!"}},{"$f":"1000*C1274","v":65000},"mm"]
[{"$f":"IF(COUNTIF($B$1:B1275,TRUE)=COUNTIF($B$1:B1274,TRUE),\"\",COUNTIF($B$1:B1275,TRUE))","v":""},{"$f":"IF(Worksheet!$D$10=3,FALSE,Worksheet!$B$18)","v":false},{"$f":"IF(Worksheet!$D$6=1,RANDBETWEEN(1,99),IF(Worksheet!$D$6=2,CHOOSE(RANDBETWEEN(1,2),RANDBETWEEN(1,99),RANDBETWEEN(1,999)/10),CHOOSE(RANDBETWEEN(1,4),RANDBETWEEN(1,99999)/1000,RANDBETWEEN(1,9999)/100,RANDBETWEEN(1,999)/10,RANDBETWEEN(1,99))))","v":39},"cm²","=",{"$f":"C1275*100","v":3900},"mm²"]
[{"$f":"IF(COUNTIF($B$1:B1276,TRUE)=COUNTIF($B$1:B1275,TRUE),\"\",COUNTIF($B$1:B1276,TRUE))","v":766},{"$f":"IF(Worksheet!$D$10=3,FALSE,Worksheet!$D$14)","v":true},{"$f":"IF(Worksheet!$D$6=1,RANDBETWEEN(1,99),IF(Worksheet!$D$6=2,CHOOSE(RANDBETWEEN(1,2),RANDBETWEEN(1,99),RANDBETWEEN(1,999)/10),CHOOSE(RANDBETWEEN(1,4),RANDBETWEEN(1,99999)/1000,RANDBETWEEN(1,9999)/100,RANDBETWEEN(1,999)/10,RANDBETWEEN(1,99))))","v":36},"kg","=",{"$f":"1000*C1276","v":36000},"g"]
[{"$f":"IF(COUNTIF($B$1:B1277,TRUE)=COUNTIF($B$1:B1276,TRUE),\"\",COUNTIF($B$1:B1277,TRUE))","v":767},{"$f":"IF(Worksheet!$D$10=3,FALSE,Worksheet!$D$15)","v":true},{"$f":"IF(Worksheet!$D$6=1,RANDBETWEEN(1,99),IF(Worksheet!$D$6=2,CHOOSE(RANDBETWEEN(1,2),RANDBETWEEN(1,99),RANDBETWEEN(1,999)/10),CHOOSE(RANDBETWEEN(1,4),RANDBETWEEN(1,99999)/1000,RANDBETWEEN(1,9999)/100,RANDBETWEEN(1,999)/10,RANDBETWEEN(1,99))))","v":34},"tonnes","=",{"$f":"1000*C1277","v":34000},"kg"]
[{"$f":"IF(COUNTIF($B$1:B1278,TRUE)=COUNTIF($B$1:B1277,TRUE),\"\",COUNTIF($B$1:B1278,TRUE))","v":768},{"$f":"IF(Worksheet!$D$10=3,FALSE,Worksheet!$D$16)","v":true},{"$f":"IF(Worksheet!$D$6=1,RANDBETWEEN(1,99),IF(Worksheet!$D$6=2,CHOOSE(RANDBETWEEN(1,2),RANDBETWEEN(1,99),RANDBETWEEN(1,999)/10),CHOOSE(RANDBETWEEN(1,4),RANDBETWEEN(1,99999)/1000,RANDBETWEEN(1,9999)/100,RANDBETWEEN(1,999)/10,RANDBETWEEN(1,99))))","v":97},"litres","=",{"$f":"1000*C1278","v":97000},"ml"]
[{"$f":"IF(COUNTIF($B$1:B1279,TRUE)=COUNTIF($B$1:B1278,TRUE),\"\",COUNTIF($B$1:B1279,TRUE))","v":""},{"$f":"IF(Worksheet!$D$10=3,FALSE,Worksheet!$D$17)","v":false},{"$f":"IF(Worksheet!$D$6=1,RANDBETWEEN(1,99),IF(Worksheet!$D$6=2,CHOOSE(RANDBETWEEN(1,2),RANDBETWEEN(1,99),RANDBETWEEN(1,999)/10),CHOOSE(RANDBETWEEN(1,4),RANDBETWEEN(1,99999)/1000,RANDBETWEEN(1,9999)/100,RANDBETWEEN(1,999)/10,RANDBETWEEN(1,99))))","v":52},"litres","=",{"$f":"1000*C1279","v":52000},"cm³"]
[{"$f":"IF(COUNTIF($B$1:B1280,TRUE)=COUNTIF($B$1:B1279,TRUE),\"\",COUNTIF($B$1:B1280,TRUE))","v":""},{"$f":"IF(Worksheet!$D$10=3,FALSE,Worksheet!$D$18)","v":false},{"$f":"IF(Worksheet!$D$6=1,RANDBETWEEN(1,99),IF(Worksheet!$D$6=2,CHOOSE(RANDBETWEEN(1,2),RANDBETWEEN(1,99),RANDBETWEEN(1,999)/10),CHOOSE(RANDBETWEEN(1,4),RANDBETWEEN(1,99999)/1000,RANDBETWEEN(1,9999)/100,RANDBETWEEN(1,999)/10,RANDBETWEEN(1,99))))","v":62},"m²","=",{"$f":"10000*C1280","v":620000},"cm²"]
[{"$f":"IF(COUNTIF($B$1:B1281,TRUE)=COUNTIF($B$1:B1280,TRUE),\"\",COUNTIF($B$1:B1281,TRUE))","v":769},{"$f":"IF(Worksheet!$D$10=2,FALSE,Worksheet!$B$14)","v":true},{"$f":"10*F1281","v":960},"mm","=",{"$f":"IF(Worksheet!$D$6=1,RANDBETWEEN(1,99),IF(Worksheet!$D$6=2,CHOOSE(RANDBETWEEN(1,2),RANDBETWEEN(1,99),RANDBETWEEN(1,999)/10),CHOOSE(RANDBETWEEN(1,4),RANDBETWEEN(1,99999)/1000,RANDBETWEEN(1,9999)/100,RANDBETWEEN(1,999)/10,RANDBETWEEN(1,99))))","v":96},"cm"]
[{"$f":"IF(COUNTIF($B$1:B1282,TRUE)=COUNTIF($B$1:B1281,TRUE),\"\",COUNTIF($B$1:B1282,TRUE))","v":770},{"$f":"IF(Worksheet!$D$10=2,FALSE,Worksheet!$B$15)","v":true},{"$f":"100*F1282","v":5400},"cm","=",{"$f":"IF(Worksheet!$D$6=1,RANDBETWEEN(1,99),IF(Worksheet!$D$6=2,CHOOSE(RANDBETWEEN(1,2),RANDBETWEEN(1,99),RANDBETWEEN(1,999)/10),CHOOSE(RANDBETWEEN(1,4),RANDBETWEEN(1,99999)/1000,RANDBETWEEN(1,9999)/100,RANDBETWEEN(1,999)/10,RANDBETWEEN(1,99))))","v":54},"m"]
[{"$f":"IF(COUNTIF($B$1:B1283,TRUE)=COUNTIF($B$1:B1282,TRUE),\"\",COUNTIF($B$1:B1283,TRUE))","v":771},{"$f":"IF(Worksheet!$D$10=2,FALSE,Worksheet!$B$16)","v":true},{"$f":"1000*F1283","v":57000},"m","=",{"$f":"IF(Worksheet!$D$6=1,RANDBETWEEN(1,99),IF(Worksheet!$D$6=2,CHOOSE(RANDBETWEEN(1,2),RANDBETWEEN(1,99),RANDBETWEEN(1,999)/10),CHOOSE(RANDBETWEEN(1,4),RANDBETWEEN(1,99999)/1000,RANDBETWEEN(1,9999)/100,RANDBETWEEN(1,999)/10,RANDBETWEEN(1,99))))","v":57},"km"]
[{"$f":"IF(COUNTIF($B$1:B1284,TRUE)=COUNTIF($B$1:B1283,TRUE),\"\",COUNTIF($B$1:B1284,TRUE))","v":""},{"$f":"IF(Worksheet!$D$10=2,FALSE,Worksheet!$B$17)","v":false},{"$f":"1000*F1284","v":24000},"mm","=",{"$f":"IF(Worksheet!$D$6=1,RANDBETWEEN(1,99),IF(Worksheet!$D$6=2,CHOOSE(RANDBETWEEN(1,2),RANDBETWEEN(1,99),RANDBETWEEN(1,999)/10),CHOOSE(RANDBETWEEN(1,4),RANDBETWEEN(1,99999)/1000,RANDBETWEEN(1,9999)/100,RANDBETWEEN(1,999)/10,RANDBETWEEN(1,99))))","v":24},"m"]
[{"$f":"IF(COUNTIF($B$1:B1285,TRUE)=COUNTIF($B$1:B1284,TRUE),\"\",COUNTIF($B$1:B1285,TRUE))","v":""},{"$f":"IF(Worksheet!$D$10=2,FALSE,Worksheet!$B$18)","v":false},{"$f":"100*F1285","v":2300},"mm²","=",{"$f":"IF(Worksheet!$D$6=1,RANDBETWEEN(1,99),IF(Worksheet!$D$6=2,CHOOSE(RANDBETWEEN(1,2),RANDBETWEEN(1,99),RANDBETWEEN(1,999)/10),CHOOSE(RANDBETWEEN(1,4),RANDBETWEEN(1,99999)/1000,RANDBETWEEN(1,9999)/100,RANDBETWEEN(1,999)/10,RANDBETWEEN(1,99))))","v":23},"cm²"]
[{"$f":"IF(COUNTIF($B$1:B1286,TRUE)=COUNTIF($B$1:B1285,TRUE),\"\",COUNTIF($B$1:B1286,TRUE))","v":772},{"$f":"IF(Worksheet!$D$10=2,FALSE,Worksheet!$D$14)","v":true},{"$f":"F1286*1000","v":1000},"g","=",{"$f":"IF(Worksheet!$D$6=1,RANDBETWEEN(1,99),IF(Worksheet!$D$6=2,CHOOSE(RANDBETWEEN(1,2),RANDBETWEEN(1,99),RANDBETWEEN(1,999)/10),CHOOSE(RANDBETWEEN(1,4),RANDBETWEEN(1,99999)/1000,RANDBETWEEN(1,9999)/100,RANDBETWEEN(1,999)/10,RANDBETWEEN(1,99))))","v":1},"kg"]
[{"$f":"IF(COUNTIF($B$1:B1287,TRUE)=COUNTIF($B$1:B1286,TRUE),\"\",COUNTIF($B$1:B1287,TRUE))","v":773},{"$f":"IF(Worksheet!$D$10=2,FALSE,Worksheet!$D$15)","v":true},{"$f":"F1287*1000","v":14000},"kg","=",{"$f":"IF(Worksheet!$D$6=1,RANDBETWEEN(1,99),IF(Worksheet!$D$6=2,CHOOSE(RANDBETWEEN(1,2),RANDBETWEEN(1,99),RANDBETWEEN(1,999)/10),CHOOSE(RANDBETWEEN(1,4),RANDBETWEEN(1,99999)/1000,RANDBETWEEN(1,9999)/100,RANDBETWEEN(1,999)/10,RANDBETWEEN(1,99))))","v":14},"tonnes"]
[{"$f":"IF(COUNTIF($B$1:B1288,TRUE)=COUNTIF($B$1:B1287,TRUE),\"\",COUNTIF($B$1:B1288,TRUE))","v":774},{"$f":"IF(Worksheet!$D$10=2,FALSE,Worksheet!$D$16)","v":true},{"$f":"1000*F1288","v":20000},"ml","=",{"$f":"IF(Worksheet!$D$6=1,RANDBETWEEN(1,99),IF(Worksheet!$D$6=2,CHOOSE(RANDBETWEEN(1,2),RANDBETWEEN(1,99),RANDBETWEEN(1,999)/10),CHOOSE(RANDBETWEEN(1,4),RANDBETWEEN(1,99999)/1000,RANDBETWEEN(1,9999)/100,RANDBETWEEN(1,999)/10,RANDBETWEEN(1,99))))","v":20},"litres"]
[{"$f":"IF(COUNTIF($B$1:B1289,TRUE)=COUNTIF($B$1:B1288,TRUE),\"\",COUNTIF($B$1:B1289,TRUE))","v":""},{"$f":"IF(Worksheet!$D$10=2,FALSE,Worksheet!$D$17)","v":false},{"$f":"1000*F1289","v":99000},"cm³","=",{"$f":"IF(Worksheet!$D$6=1,RANDBETWEEN(1,99),IF(Worksheet!$D$6=2,CHOOSE(RANDBETWEEN(1,2),RANDBETWEEN(1,99),RANDBETWEEN(1,999)/10),CHOOSE(RANDBETWEEN(1,4),RANDBETWEEN(1,99999)/1000,RANDBETWEEN(1,9999)/100,RANDBETWEEN(1,999)/10,RANDBETWEEN(1,99))))","v":99},"litres"]
[{"$f":"IF(COUNTIF($B$1:B1290,TRUE)=COUNTIF($B$1:B1289,TRUE),\"\",COUNTIF($B$1:B1290,TRUE))","v":""},{"$f":"IF(Worksheet!$D$10=2,FALSE,Worksheet!$D$18)","v":false},{"$f":"10000*F1290","v":220000},"cm²","=",{"$f":"IF(Worksheet!$D$6=1,RANDBETWEEN(1,99),IF(Worksheet!$D$6=2,CHOOSE(RANDBETWEEN(1,2),RANDBETWEEN(1,99),RANDBETWEEN(1,999)/10),CHOOSE(RANDBETWEEN(1,4),RANDBETWEEN(1,99999)/1000,RANDBETWEEN(1,9999)/100,RANDBETWEEN(1,999)/10,RANDBETWEEN(1,99))))","v":22},"m²"]
[{"$f":"IF(COUNTIF($B$1:B1291,TRUE)=COUNTIF($B$1:B1290,TRUE),\"\",COUNTIF($B$1:B1291,TRUE))","v":775},{"$f":"IF(Worksheet!$D$10=3,FALSE,Worksheet!$B$14)","v":true},{"$f":"IF(Worksheet!$D$6=1,RANDBETWEEN(1,99),IF(Worksheet!$D$6=2,CHOOSE(RANDBETWEEN(1,2),RANDBETWEEN(1,99),RANDBETWEEN(1,999)/10),CHOOSE(RANDBETWEEN(1,4),RANDBETWEEN(1,99999)/1000,RANDBETWEEN(1,9999)/100,RANDBETWEEN(1,999)/10,RANDBETWEEN(1,99))))","v":48},"cm","=",{"$f":"10*C1291","v":480},"mm"]
[{"$f":"IF(COUNTIF($B$1:B1292,TRUE)=COUNTIF($B$1:B1291,TRUE),\"\",COUNTIF($B$1:B1292,TRUE))","v":776},{"$f":"IF(Worksheet!$D$10=3,FALSE,Worksheet!$B$15)","v":true},{"$f":"IF(Worksheet!$D$6=1,RANDBETWEEN(1,99),IF(Worksheet!$D$6=2,CHOOSE(RANDBETWEEN(1,2),RANDBETWEEN(1,99),RANDBETWEEN(1,999)/10),CHOOSE(RANDBETWEEN(1,4),RANDBETWEEN(1,99999)/1000,RANDBETWEEN(1,9999)/100,RANDBETWEEN(1,999)/10,RANDBETWEEN(1,99))))","v":12},"m","=",{"$f":"100*C1292","v":1200},"cm"]
[{"$f":"IF(COUNTIF($B$1:B1293,TRUE)=COUNTIF($B$1:B1292,TRUE),\"\",COUNTIF($B$1:B1293,TRUE))","v":777},{"$f":"IF(Worksheet!$D$10=3,FALSE,Worksheet!$B$16)","v":true},{"$f":"IF(Worksheet!$D$6=1,RANDBETWEEN(1,99),IF(Worksheet!$D$6=2,CHOOSE(RANDBETWEEN(1,2),RANDBETWEEN(1,99),RANDBETWEEN(1,999)/10),CHOOSE(RANDBETWEEN(1,4),RANDBETWEEN(1,99999)/1000,RANDBETWEEN(1,9999)/100,RANDBETWEEN(1,999)/10,RANDBETWEEN(1,99))))","v":87},"km","=",{"$f":"1000*C1293","v":87000},"m"]
[{"$f":"IF(COUNTIF($B$1:B1294,TRUE)=COUNTIF($B$1:B1293,TRUE),\"\",COUNTIF($B$1:B1294,TRUE))","v":""},{"$f":"IF(Worksheet!$D$10=3,FALSE,Worksheet!$B$17)","v":false},{"$f":"IF(Worksheet!$D$6=1,RANDBETWEEN(1,99),IF(Worksheet!$D$6=2,CHOOSE(RANDBETWEEN(1,2),RANDBETWEEN(1,99),RANDBETWEEN(1,999)/10),CHOOSE(RANDBETWEEN(1,4),RANDBETWEEN(1,99999)/1000,RANDBETWEEN(1,9999)/100,RANDBETWEEN(1,999)/10,RANDBETWEEN(1,99))))","v":39},"m",{"$f":"#REF!","v":{"$error":"#REF!"}},{"$f":"1000*C1294","v":39000},"mm"]
[{"$f":"IF(COUNTIF($B$1:B1295,TRUE)=COUNTIF($B$1:B1294,TRUE),\"\",COUNTIF($B$1:B1295,TRUE))","v":""},{"$f":"IF(Worksheet!$D$10=3,FALSE,Worksheet!$B$18)","v":false},{"$f":"IF(Worksheet!$D$6=1,RANDBETWEEN(1,99),IF(Worksheet!$D$6=2,CHOOSE(RANDBETWEEN(1,2),RANDBETWEEN(1,99),RANDBETWEEN(1,999)/10),CHOOSE(RANDBETWEEN(1,4),RANDBETWEEN(1,99999)/1000,RANDBETWEEN(1,9999)/100,RANDBETWEEN(1,999)/10,RANDBETWEEN(1,99))))","v":44},"cm²","=",{"$f":"C1295*100","v":4400},"mm²"]
[{"$f":"IF(COUNTIF($B$1:B1296,TRUE)=COUNTIF($B$1:B1295,TRUE),\"\",COUNTIF($B$1:B1296,TRUE))","v":778},{"$f":"IF(Worksheet!$D$10=3,FALSE,Worksheet!$D$14)","v":true},{"$f":"IF(Worksheet!$D$6=1,RANDBETWEEN(1,99),IF(Worksheet!$D$6=2,CHOOSE(RANDBETWEEN(1,2),RANDBETWEEN(1,99),RANDBETWEEN(1,999)/10),CHOOSE(RANDBETWEEN(1,4),RANDBETWEEN(1,99999)/1000,RANDBETWEEN(1,9999)/100,RANDBETWEEN(1,999)/10,RANDBETWEEN(1,99))))","v":23},"kg","=",{"$f":"1000*C1296","v":23000},"g"]
[{"$f":"IF(COUNTIF($B$1:B1297,TRUE)=COUNTIF($B$1:B1296,TRUE),\"\",COUNTIF($B$1:B1297,TRUE))","v":779},{"$f":"IF(Worksheet!$D$10=3,FALSE,Worksheet!$D$15)","v":true},{"$f":"IF(Worksheet!$D$6=1,RANDBETWEEN(1,99),IF(Worksheet!$D$6=2,CHOOSE(RANDBETWEEN(1,2),RANDBETWEEN(1,99),RANDBETWEEN(1,999)/10),CHOOSE(RANDBETWEEN(1,4),RANDBETWEEN(1,99999)/1000,RANDBETWEEN(1,9999)/100,RANDBETWEEN(1,999)/10,RANDBETWEEN(1,99))))","v":5},"tonnes","=",{"$f":"1000*C1297","v":5000},"kg"]
[{"$f":"IF(COUNTIF($B$1:B1298,TRUE)=COUNTIF($B$1:B1297,TRUE),\"\",COUNTIF($B$1:B1298,TRUE))","v":780},{"$f":"IF(Worksheet!$D$10=3,FALSE,Worksheet!$D$16)","v":true},{"$f":"IF(Worksheet!$D$6=1,RANDBETWEEN(1,99),IF(Worksheet!$D$6=2,CHOOSE(RANDBETWEEN(1,2),RANDBETWEEN(1,99),RANDBETWEEN(1,999)/10),CHOOSE(RANDBETWEEN(1,4),RANDBETWEEN(1,99999)/1000,RANDBETWEEN(1,9999)/100,RANDBETWEEN(1,999)/10,RANDBETWEEN(1,99))))","v":79},"litres","=",{"$f":"1000*C1298","v":79000},"ml"]
[{"$f":"IF(COUNTIF($B$1:B1299,TRUE)=COUNTIF($B$1:B1298,TRUE),\"\",COUNTIF($B$1:B1299,TRUE))","v":""},{"$f":"IF(Worksheet!$D$10=3,FALSE,Worksheet!$D$17)","v":false},{"$f":"IF(Worksheet!$D$6=1,RANDBETWEEN(1,99),IF(Worksheet!$D$6=2,CHOOSE(RANDBETWEEN(1,2),RANDBETWEEN(1,99),RANDBETWEEN(1,999)/10),CHOOSE(RANDBETWEEN(1,4),RANDBETWEEN(1,99999)/1000,RANDBETWEEN(1,9999)/100,RANDBETWEEN(1,999)/10,RANDBETWEEN(1,99))))","v":66},"litres","=",{"$f":"1000*C1299","v":66000},"cm³"]
[{"$f":"IF(COUNTIF($B$1:B1300,TRUE)=COUNTIF($B$1:B1299,TRUE),\"\",COUNTIF($B$1:B1300,TRUE))","v":""},{"$f":"IF(Worksheet!$D$10=3,FALSE,Worksheet!$D$18)","v":false},{"$f":"IF(Worksheet!$D$6=1,RANDBETWEEN(1,99),IF(Worksheet!$D$6=2,CHOOSE(RANDBETWEEN(1,2),RANDBETWEEN(1,99),RANDBETWEEN(1,999)/10),CHOOSE(RANDBETWEEN(1,4),RANDBETWEEN(1,99999)/1000,RANDBETWEEN(1,9999)/100,RANDBETWEEN(1,999)/10,RANDBETWEEN(1,99))))","v":25},"m²","=",{"$f":"10000*C1300","v":250000},"cm²"]
[{"$f":"IF(COUNTIF($B$1:B1301,TRUE)=COUNTIF($B$1:B1300,TRUE),\"\",COUNTIF($B$1:B1301,TRUE))","v":781},{"$f":"IF(Worksheet!$D$10=2,FALSE,Worksheet!$B$14)","v":true},{"$f":"10*F1301","v":20},"mm","=",{"$f":"IF(Worksheet!$D$6=1,RANDBETWEEN(1,99),IF(Worksheet!$D$6=2,CHOOSE(RANDBETWEEN(1,2),RANDBETWEEN(1,99),RANDBETWEEN(1,999)/10),CHOOSE(RANDBETWEEN(1,4),RANDBETWEEN(1,99999)/1000,RANDBETWEEN(1,9999)/100,RANDBETWEEN(1,999)/10,RANDBETWEEN(1,99))))","v":2},"cm"]
[{"$f":"IF(COUNTIF($B$1:B1302,TRUE)=COUNTIF($B$1:B1301,TRUE),\"\",COUNTIF($B$1:B1302,TRUE))","v":782},{"$f":"IF(Worksheet!$D$10=2,FALSE,Worksheet!$B$15)","v":true},{"$f":"100*F1302","v":4800},"cm","=",{"$f":"IF(Worksheet!$D$6=1,RANDBETWEEN(1,99),IF(Worksheet!$D$6=2,CHOOSE(RANDBETWEEN(1,2),RANDBETWEEN(1,99),RANDBETWEEN(1,999)/10),CHOOSE(RANDBETWEEN(1,4),RANDBETWEEN(1,99999)/1000,RANDBETWEEN(1,9999)/100,RANDBETWEEN(1,999)/10,RANDBETWEEN(1,99))))","v":48},"m"]
[{"$f":"IF(COUNTIF($B$1:B1303,TRUE)=COUNTIF($B$1:B1302,TRUE),\"\",COUNTIF($B$1:B1303,TRUE))","v":783},{"$f":"IF(Worksheet!$D$10=2,FALSE,Worksheet!$B$16)","v":true},{"$f":"1000*F1303","v":63000},"m","=",{"$f":"IF(Worksheet!$D$6=1,RANDBETWEEN(1,99),IF(Worksheet!$D$6=2,CHOOSE(RANDBETWEEN(1,2),RANDBETWEEN(1,99),RANDBETWEEN(1,999)/10),CHOOSE(RANDBETWEEN(1,4),RANDBETWEEN(1,99999)/1000,RANDBETWEEN(1,9999)/100,RANDBETWEEN(1,999)/10,RANDBETWEEN(1,99))))","v":63},"km"]
[{"$f":"IF(COUNTIF($B$1:B1304,TRUE)=COUNTIF($B$1:B1303,TRUE),\"\",COUNTIF($B$1:B1304,TRUE))","v":""},{"$f":"IF(Worksheet!$D$10=2,FALSE,Worksheet!$B$17)","v":false},{"$f":"1000*F1304","v":22000},"mm","=",{"$f":"IF(Worksheet!$D$6=1,RANDBETWEEN(1,99),IF(Worksheet!$D$6=2,CHOOSE(RANDBETWEEN(1,2),RANDBETWEEN(1,99),RANDBETWEEN(1,999)/10),CHOOSE(RANDBETWEEN(1,4),RANDBETWEEN(1,99999)/1000,RANDBETWEEN(1,9999)/100,RANDBETWEEN(1,999)/10,RANDBETWEEN(1,99))))","v":22},"m"]
[{"$f":"IF(COUNTIF($B$1:B1305,TRUE)=COUNTIF($B$1:B1304,TRUE),\"\",COUNTIF($B$1:B1305,TRUE))","v":""},{"$f":"IF(Worksheet!$D$10=2,FALSE,Worksheet!$B$18)","v":false},{"$f":"100*F1305","v":8200},"mm²","=",{"$f":"IF(Worksheet!$D$6=1,RANDBETWEEN(1,99),IF(Worksheet!$D$6=2,CHOOSE(RANDBETWEEN(1,2),RANDBETWEEN(1,99),RANDBETWEEN(1,999)/10),CHOOSE(RANDBETWEEN(1,4),RANDBETWEEN(1,99999)/1000,RANDBETWEEN(1,9999)/100,RANDBETWEEN(1,999)/10,RANDBETWEEN(1,99))))","v":82},"cm²"]
[{"$f":"IF(COUNTIF($B$1:B1306,TRUE)=COUNTIF($B$1:B1305,TRUE),\"\",COUNTIF($B$1:B1306,TRUE))","v":784},{"$f":"IF(Worksheet!$D$10=2,FALSE,Worksheet!$D$14)","v":true},{"$f":"F1306*1000","v":11000},"g","=",{"$f":"IF(Worksheet!$D$6=1,RANDBETWEEN(1,99),IF(Worksheet!$D$6=2,CHOOSE(RANDBETWEEN(1,2),RANDBETWEEN(1,99),RANDBETWEEN(1,999)/10),CHOOSE(RANDBETWEEN(1,4),RANDBETWEEN(1,99999)/1000,RANDBETWEEN(1,9999)/100,RANDBETWEEN(1,999)/10,RANDBETWEEN(1,99))))","v":11},"kg"]
[{"$f":"IF(COUNTIF($B$1:B1307,TRUE)=COUNTIF($B$1:B1306,TRUE),\"\",COUNTIF($B$1:B1307,TRUE))","v":785},{"$f":"IF(Worksheet!$D$10=2,FALSE,Worksheet!$D$15)","v":true},{"$f":"F1307*1000","v":6000},"kg","=",{"$f":"IF(Worksheet!$D$6=1,RANDBETWEEN(1,99),IF(Worksheet!$D$6=2,CHOOSE(RANDBETWEEN(1,2),RANDBETWEEN(1,99),RANDBETWEEN(1,999)/10),CHOOSE(RANDBETWEEN(1,4),RANDBETWEEN(1,99999)/1000,RANDBETWEEN(1,9999)/100,RANDBETWEEN(1,999)/10,RANDBETWEEN(1,99))))","v":6},"tonnes"]
[{"$f":"IF(COUNTIF($B$1:B1308,TRUE)=COUNTIF($B$1:B1307,TRUE),\"\",COUNTIF($B$1:B1308,TRUE))","v":786},{"$f":"IF(Worksheet!$D$10=2,FALSE,Worksheet!$D$16)","v":true},{"$f":"1000*F1308","v":30000},"ml","=",{"$f":"IF(Worksheet!$D$6=1,RANDBETWEEN(1,99),IF(Worksheet!$D$6=2,CHOOSE(RANDBETWEEN(1,2),RANDBETWEEN(1,99),RANDBETWEEN(1,999)/10),CHOOSE(RANDBETWEEN(1,4),RANDBETWEEN(1,99999)/1000,RANDBETWEEN(1,9999)/100,RANDBETWEEN(1,999)/10,RANDBETWEEN(1,99))))","v":30},"litres"]
[{"$f":"IF(COUNTIF($B$1:B1309,TRUE)=COUNTIF($B$1:B1308,TRUE),\"\",COUNTIF($B$1:B1309,TRUE))","v":""},{"$f":"IF(Worksheet!$D$10=2,FALSE,Worksheet!$D$17)","v":false},{"$f":"1000*F1309","v":77000},"cm³","=",{"$f":"IF(Worksheet!$D$6=1,RANDBETWEEN(1,99),IF(Worksheet!$D$6=2,CHOOSE(RANDBETWEEN(1,2),RANDBETWEEN(1,99),RANDBETWEEN(1,999)/10),CHOOSE(RANDBETWEEN(1,4),RANDBETWEEN(1,99999)/1000,RANDBETWEEN(1,9999)/100,RANDBETWEEN(1,999)/10,RANDBETWEEN(1,99))))","v":77},"litres"]
[{"$f":"IF(COUNTIF($B$1:B1310,TRUE)=COUNTIF($B$1:B1309,TRUE),\"\",COUNTIF($B$1:B1310,TRUE))","v":""},{"$f":"IF(Worksheet!$D$10=2,FALSE,Worksheet!$D$18)","v":false},{"$f":"10000*F1310","v":380000},"cm²","=",{"$f":"IF(Worksheet!$D$6=1,RANDBETWEEN(1,99),IF(Worksheet!$D$6=2,CHOOSE(RANDBETWEEN(1,2),RANDBETWEEN(1,99),RANDBETWEEN(1,999)/10),CHOOSE(RANDBETWEEN(1,4),RANDBETWEEN(1,99999)/1000,RANDBETWEEN(1,9999)/100,RANDBETWEEN(1,999)/10,RANDBETWEEN(1,99))))","v":38},"m²"]
[{"$f":"IF(COUNTIF($B$1:B1311,TRUE)=COUNTIF($B$1:B1310,TRUE),\"\",COUNTIF($B$1:B1311,TRUE))","v":787},{"$f":"IF(Worksheet!$D$10=3,FALSE,Worksheet!$B$14)","v":true},{"$f":"IF(Worksheet!$D$6=1,RANDBETWEEN(1,99),IF(Worksheet!$D$6=2,CHOOSE(RANDBETWEEN(1,2),RANDBETWEEN(1,99),RANDBETWEEN(1,999)/10),CHOOSE(RANDBETWEEN(1,4),RANDBETWEEN(1,99999)/1000,RANDBETWEEN(1,9999)/100,RANDBETWEEN(1,999)/10,RANDBETWEEN(1,99))))","v":25},"cm","=",{"$f":"10*C1311","v":250},"mm"]
[{"$f":"IF(COUNTIF($B$1:B1312,TRUE)=COUNTIF($B$1:B1311,TRUE),\"\",COUNTIF($B$1:B1312,TRUE))","v":788},{"$f":"IF(Worksheet!$D$10=3,FALSE,Worksheet!$B$15)","v":true},{"$f":"IF(Worksheet!$D$6=1,RANDBETWEEN(1,99),IF(Worksheet!$D$6=2,CHOOSE(RANDBETWEEN(1,2),RANDBETWEEN(1,99),RANDBETWEEN(1,999)/10),CHOOSE(RANDBETWEEN(1,4),RANDBETWEEN(1,99999)/1000,RANDBETWEEN(1,9999)/100,RANDBETWEEN(1,999)/10,RANDBETWEEN(1,99))))","v":62},"m","=",{"$f":"100*C1312","v":6200},"cm"]
[{"$f":"IF(COUNTIF($B$1:B1313,TRUE)=COUNTIF($B$1:B1312,TRUE),\"\",COUNTIF($B$1:B1313,TRUE))","v":789},{"$f":"IF(Worksheet!$D$10=3,FALSE,Worksheet!$B$16)","v":true},{"$f":"IF(Worksheet!$D$6=1,RANDBETWEEN(1,99),IF(Worksheet!$D$6=2,CHOOSE(RANDBETWEEN(1,2),RANDBETWEEN(1,99),RANDBETWEEN(1,999)/10),CHOOSE(RANDBETWEEN(1,4),RANDBETWEEN(1,99999)/1000,RANDBETWEEN(1,9999)/100,RANDBETWEEN(1,999)/10,RANDBETWEEN(1,99))))","v":80},"km","=",{"$f":"1000*C1313","v":80000},"m"]
[{"$f":"IF(COUNTIF($B$1:B1314,TRUE)=COUNTIF($B$1:B1313,TRUE),\"\",COUNTIF($B$1:B1314,TRUE))","v":""},{"$f":"IF(Worksheet!$D$10=3,FALSE,Worksheet!$B$17)","v":false},{"$f":"IF(Worksheet!$D$6=1,RANDBETWEEN(1,99),IF(Worksheet!$D$6=2,CHOOSE(RANDBETWEEN(1,2),RANDBETWEEN(1,99),RANDBETWEEN(1,999)/10),CHOOSE(RANDBETWEEN(1,4),RANDBETWEEN(1,99999)/1000,RANDBETWEEN(1,9999)/100,RANDBETWEEN(1,999)/10,RANDBETWEEN(1,99))))","v":31},"m",{"$f":"#REF!","v":{"$error":"#REF!"}},{"$f":"1000*C1314","v":31000},"mm"]
[{"$f":"IF(COUNTIF($B$1:B1315,TRUE)=COUNTIF($B$1:B1314,TRUE),\"\",COUNTIF($B$1:B1315,TRUE))","v":""},{"$f":"IF(Worksheet!$D$10=3,FALSE,Worksheet!$B$18)","v":false},{"$f":"IF(Worksheet!$D$6=1,RANDBETWEEN(1,99),IF(Worksheet!$D$6=2,CHOOSE(RANDBETWEEN(1,2),RANDBETWEEN(1,99),RANDBETWEEN(1,999)/10),CHOOSE(RANDBETWEEN(1,4),RANDBETWEEN(1,99999)/1000,RANDBETWEEN(1,9999)/100,RANDBETWEEN(1,999)/10,RANDBETWEEN(1,99))))","v":16},"cm²","=",{"$f":"C1315*100","v":1600},"mm²"]
[{"$f":"IF(COUNTIF($B$1:B1316,TRUE)=COUNTIF($B$1:B1315,TRUE),\"\",COUNTIF($B$1:B1316,TRUE))","v":790},{"$f":"IF(Worksheet!$D$10=3,FALSE,Worksheet!$D$14)","v":true},{"$f":"IF(Worksheet!$D$6=1,RANDBETWEEN(1,99),IF(Worksheet!$D$6=2,CHOOSE(RANDBETWEEN(1,2),RANDBETWEEN(1,99),RANDBETWEEN(1,999)/10),CHOOSE(RANDBETWEEN(1,4),RANDBETWEEN(1,99999)/1000,RANDBETWEEN(1,9999)/100,RANDBETWEEN(1,999)/10,RANDBETWEEN(1,99))))","v":97},"kg","=",{"$f":"1000*C1316","v":97000},"g"]
[{"$f":"IF(COUNTIF($B$1:B1317,TRUE)=COUNTIF($B$1:B1316,TRUE),\"\",COUNTIF($B$1:B1317,TRUE))","v":791},{"$f":"IF(Worksheet!$D$10=3,FALSE,Worksheet!$D$15)","v":true},{"$f":"IF(Worksheet!$D$6=1,RANDBETWEEN(1,99),IF(Worksheet!$D$6=2,CHOOSE(RANDBETWEEN(1,2),RANDBETWEEN(1,99),RANDBETWEEN(1,999)/10),CHOOSE(RANDBETWEEN(1,4),RANDBETWEEN(1,99999)/1000,RANDBETWEEN(1,9999)/100,RANDBETWEEN(1,999)/10,RANDBETWEEN(1,99))))","v":18},"tonnes","=",{"$f":"1000*C1317","v":18000},"kg"]
[{"$f":"IF(COUNTIF($B$1:B1318,TRUE)=COUNTIF($B$1:B1317,TRUE),\"\",COUNTIF($B$1:B1318,TRUE))","v":792},{"$f":"IF(Worksheet!$D$10=3,FALSE,Worksheet!$D$16)","v":true},{"$f":"IF(Worksheet!$D$6=1,RANDBETWEEN(1,99),IF(Worksheet!$D$6=2,CHOOSE(RANDBETWEEN(1,2),RANDBETWEEN(1,99),RANDBETWEEN(1,999)/10),CHOOSE(RANDBETWEEN(1,4),RANDBETWEEN(1,99999)/1000,RANDBETWEEN(1,9999)/100,RANDBETWEEN(1,999)/10,RANDBETWEEN(1,99))))","v":50},"litres","=",{"$f":"1000*C1318","v":50000},"ml"]
[{"$f":"IF(COUNTIF($B$1:B1319,TRUE)=COUNTIF($B$1:B1318,TRUE),\"\",COUNTIF($B$1:B1319,TRUE))","v":""},{"$f":"IF(Worksheet!$D$10=3,FALSE,Worksheet!$D$17)","v":false},{"$f":"IF(Worksheet!$D$6=1,RANDBETWEEN(1,99),IF(Worksheet!$D$6=2,CHOOSE(RANDBETWEEN(1,2),RANDBETWEEN(1,99),RANDBETWEEN(1,999)/10),CHOOSE(RANDBETWEEN(1,4),RANDBETWEEN(1,99999)/1000,RANDBETWEEN(1,9999)/100,RANDBETWEEN(1,999)/10,RANDBETWEEN(1,99))))","v":5},"litres","=",{"$f":"1000*C1319","v":5000},"cm³"]
[{"$f":"IF(COUNTIF($B$1:B1320,TRUE)=COUNTIF($B$1:B1319,TRUE),\"\",COUNTIF($B$1:B1320,TRUE))","v":""},{"$f":"IF(Worksheet!$D$10=3,FALSE,Worksheet!$D$18)","v":false},{"$f":"IF(Worksheet!$D$6=1,RANDBETWEEN(1,99),IF(Worksheet!$D$6=2,CHOOSE(RANDBETWEEN(1,2),RANDBETWEEN(1,99),RANDBETWEEN(1,999)/10),CHOOSE(RANDBETWEEN(1,4),RANDBETWEEN(1,99999)/1000,RANDBETWEEN(1,9999)/100,RANDBETWEEN(1,999)/10,RANDBETWEEN(1,99))))","v":65},"m²","=",{"$f":"10000*C1320","v":650000},"cm²"]
[{"$f":"IF(COUNTIF($B$1:B1321,TRUE)=COUNTIF($B$1:B1320,TRUE),\"\",COUNTIF($B$1:B1321,TRUE))","v":793},{"$f":"IF(Worksheet!$D$10=2,FALSE,Worksheet!$B$14)","v":true},{"$f":"10*F1321","v":630},"mm","=",{"$f":"IF(Worksheet!$D$6=1,RANDBETWEEN(1,99),IF(Worksheet!$D$6=2,CHOOSE(RANDBETWEEN(1,2),RANDBETWEEN(1,99),RANDBETWEEN(1,999)/10),CHOOSE(RANDBETWEEN(1,4),RANDBETWEEN(1,99999)/1000,RANDBETWEEN(1,9999)/100,RANDBETWEEN(1,999)/10,RANDBETWEEN(1,99))))","v":63},"cm"]
[{"$f":"IF(COUNTIF($B$1:B1322,TRUE)=COUNTIF($B$1:B1321,TRUE),\"\",COUNTIF($B$1:B1322,TRUE))","v":794},{"$f":"IF(Worksheet!$D$10=2,FALSE,Worksheet!$B$15)","v":true},{"$f":"100*F1322","v":700},"cm","=",{"$f":"IF(Worksheet!$D$6=1,RANDBETWEEN(1,99),IF(Worksheet!$D$6=2,CHOOSE(RANDBETWEEN(1,2),RANDBETWEEN(1,99),RANDBETWEEN(1,999)/10),CHOOSE(RANDBETWEEN(1,4),RANDBETWEEN(1,99999)/1000,RANDBETWEEN(1,9999)/100,RANDBETWEEN(1,999)/10,RANDBETWEEN(1,99))))","v":7},"m"]
[{"$f":"IF(COUNTIF($B$1:B1323,TRUE)=COUNTIF($B$1:B1322,TRUE),\"\",COUNTIF($B$1:B1323,TRUE))","v":795},{"$f":"IF(Worksheet!$D$10=2,FALSE,Worksheet!$B$16)","v":true},{"$f":"1000*F1323","v":57000},"m","=",{"$f":"IF(Worksheet!$D$6=1,RANDBETWEEN(1,99),IF(Worksheet!$D$6=2,CHOOSE(RANDBETWEEN(1,2),RANDBETWEEN(1,99),RANDBETWEEN(1,999)/10),CHOOSE(RANDBETWEEN(1,4),RANDBETWEEN(1,99999)/1000,RANDBETWEEN(1,9999)/100,RANDBETWEEN(1,999)/10,RANDBETWEEN(1,99))))","v":57},"km"]
[{"$f":"IF(COUNTIF($B$1:B1324,TRUE)=COUNTIF($B$1:B1323,TRUE),\"\",COUNTIF($B$1:B1324,TRUE))","v":""},{"$f":"IF(Worksheet!$D$10=2,FALSE,Worksheet!$B$17)","v":false},{"$f":"1000*F1324","v":81000},"mm","=",{"$f":"IF(Worksheet!$D$6=1,RANDBETWEEN(1,99),IF(Worksheet!$D$6=2,CHOOSE(RANDBETWEEN(1,2),RANDBETWEEN(1,99),RANDBETWEEN(1,999)/10),CHOOSE(RANDBETWEEN(1,4),RANDBETWEEN(1,99999)/1000,RANDBETWEEN(1,9999)/100,RANDBETWEEN(1,999)/10,RANDBETWEEN(1,99))))","v":81},"m"]
[{"$f":"IF(COUNTIF($B$1:B1325,TRUE)=COUNTIF($B$1:B1324,TRUE),\"\",COUNTIF($B$1:B1325,TRUE))","v":""},{"$f":"IF(Worksheet!$D$10=2,FALSE,Worksheet!$B$18)","v":false},{"$f":"100*F1325","v":1900},"mm²","=",{"$f":"IF(Worksheet!$D$6=1,RANDBETWEEN(1,99),IF(Worksheet!$D$6=2,CHOOSE(RANDBETWEEN(1,2),RANDBETWEEN(1,99),RANDBETWEEN(1,999)/10),CHOOSE(RANDBETWEEN(1,4),RANDBETWEEN(1,99999)/1000,RANDBETWEEN(1,9999)/100,RANDBETWEEN(1,999)/10,RANDBETWEEN(1,99))))","v":19},"cm²"]
[{"$f":"IF(COUNTIF($B$1:B1326,TRUE)=COUNTIF($B$1:B1325,TRUE),\"\",COUNTIF($B$1:B1326,TRUE))","v":796},{"$f":"IF(Worksheet!$D$10=2,FALSE,Worksheet!$D$14)","v":true},{"$f":"F1326*1000","v":98000},"g","=",{"$f":"IF(Worksheet!$D$6=1,RANDBETWEEN(1,99),IF(Worksheet!$D$6=2,CHOOSE(RANDBETWEEN(1,2),RANDBETWEEN(1,99),RANDBETWEEN(1,999)/10),CHOOSE(RANDBETWEEN(1,4),RANDBETWEEN(1,99999)/1000,RANDBETWEEN(1,9999)/100,RANDBETWEEN(1,999)/10,RANDBETWEEN(1,99))))","v":98},"kg"]
[{"$f":"IF(COUNTIF($B$1:B1327,TRUE)=COUNTIF($B$1:B1326,TRUE),\"\",COUNTIF($B$1:B1327,TRUE))","v":797},{"$f":"IF(Worksheet!$D$10=2,FALSE,Worksheet!$D$15)","v":true},{"$f":"F1327*1000","v":32000},"kg","=",{"$f":"IF(Worksheet!$D$6=1,RANDBETWEEN(1,99),IF(Worksheet!$D$6=2,CHOOSE(RANDBETWEEN(1,2),RANDBETWEEN(1,99),RANDBETWEEN(1,999)/10),CHOOSE(RANDBETWEEN(1,4),RANDBETWEEN(1,99999)/1000,RANDBETWEEN(1,9999)/100,RANDBETWEEN(1,999)/10,RANDBETWEEN(1,99))))","v":32},"tonnes"]
[{"$f":"IF(COUNTIF($B$1:B1328,TRUE)=COUNTIF($B$1:B1327,TRUE),\"\",COUNTIF($B$1:B1328,TRUE))","v":798},{"$f":"IF(Worksheet!$D$10=2,FALSE,Worksheet!$D$16)","v":true},{"$f":"1000*F1328","v":63000},"ml","=",{"$f":"IF(Worksheet!$D$6=1,RANDBETWEEN(1,99),IF(Worksheet!$D$6=2,CHOOSE(RANDBETWEEN(1,2),RANDBETWEEN(1,99),RANDBETWEEN(1,999)/10),CHOOSE(RANDBETWEEN(1,4),RANDBETWEEN(1,99999)/1000,RANDBETWEEN(1,9999)/100,RANDBETWEEN(1,999)/10,RANDBETWEEN(1,99))))","v":63},"litres"]
[{"$f":"IF(COUNTIF($B$1:B1329,TRUE)=COUNTIF($B$1:B1328,TRUE),\"\",COUNTIF($B$1:B1329,TRUE))","v":""},{"$f":"IF(Worksheet!$D$10=2,FALSE,Worksheet!$D$17)","v":false},{"$f":"1000*F1329","v":18000},"cm³","=",{"$f":"IF(Worksheet!$D$6=1,RANDBETWEEN(1,99),IF(Worksheet!$D$6=2,CHOOSE(RANDBETWEEN(1,2),RANDBETWEEN(1,99),RANDBETWEEN(1,999)/10),CHOOSE(RANDBETWEEN(1,4),RANDBETWEEN(1,99999)/1000,RANDBETWEEN(1,9999)/100,RANDBETWEEN(1,999)/10,RANDBETWEEN(1,99))))","v":18},"litres"]
[{"$f":"IF(COUNTIF($B$1:B1330,TRUE)=COUNTIF($B$1:B1329,TRUE),\"\",COUNTIF($B$1:B1330,TRUE))","v":""},{"$f":"IF(Worksheet!$D$10=2,FALSE,Worksheet!$D$18)","v":false},{"$f":"10000*F1330","v":230000},"cm²","=",{"$f":"IF(Worksheet!$D$6=1,RANDBETWEEN(1,99),IF(Worksheet!$D$6=2,CHOOSE(RANDBETWEEN(1,2),RANDBETWEEN(1,99),RANDBETWEEN(1,999)/10),CHOOSE(RANDBETWEEN(1,4),RANDBETWEEN(1,99999)/1000,RANDBETWEEN(1,9999)/100,RANDBETWEEN(1,999)/10,RANDBETWEEN(1,99))))","v":23},"m²"]
[{"$f":"IF(COUNTIF($B$1:B1331,TRUE)=COUNTIF($B$1:B1330,TRUE),\"\",COUNTIF($B$1:B1331,TRUE))","v":799},{"$f":"IF(Worksheet!$D$10=3,FALSE,Worksheet!$B$14)","v":true},{"$f":"IF(Worksheet!$D$6=1,RANDBETWEEN(1,99),IF(Worksheet!$D$6=2,CHOOSE(RANDBETWEEN(1,2),RANDBETWEEN(1,99),RANDBETWEEN(1,999)/10),CHOOSE(RANDBETWEEN(1,4),RANDBETWEEN(1,99999)/1000,RANDBETWEEN(1,9999)/100,RANDBETWEEN(1,999)/10,RANDBETWEEN(1,99))))","v":42},"cm","=",{"$f":"10*C1331","v":420},"mm"]
[{"$f":"IF(COUNTIF($B$1:B1332,TRUE)=COUNTIF($B$1:B1331,TRUE),\"\",COUNTIF($B$1:B1332,TRUE))","v":800},{"$f":"IF(Worksheet!$D$10=3,FALSE,Worksheet!$B$15)","v":true},{"$f":"IF(Worksheet!$D$6=1,RANDBETWEEN(1,99),IF(Worksheet!$D$6=2,CHOOSE(RANDBETWEEN(1,2),RANDBETWEEN(1,99),RANDBETWEEN(1,999)/10),CHOOSE(RANDBETWEEN(1,4),RANDBETWEEN(1,99999)/1000,RANDBETWEEN(1,9999)/100,RANDBETWEEN(1,999)/10,RANDBETWEEN(1,99))))","v":27},"m","=",{"$f":"100*C1332","v":2700},"cm"]
[{"$f":"IF(COUNTIF($B$1:B1333,TRUE)=COUNTIF($B$1:B1332,TRUE),\"\",COUNTIF($B$1:B1333,TRUE))","v":801},{"$f":"IF(Worksheet!$D$10=3,FALSE,Worksheet!$B$16)","v":true},{"$f":"IF(Worksheet!$D$6=1,RANDBETWEEN(1,99),IF(Worksheet!$D$6=2,CHOOSE(RANDBETWEEN(1,2),RANDBETWEEN(1,99),RANDBETWEEN(1,999)/10),CHOOSE(RANDBETWEEN(1,4),RANDBETWEEN(1,99999)/1000,RANDBETWEEN(1,9999)/100,RANDBETWEEN(1,999)/10,RANDBETWEEN(1,99))))","v":65},"km","=",{"$f":"1000*C1333","v":65000},"m"]
[{"$f":"IF(COUNTIF($B$1:B1334,TRUE)=COUNTIF($B$1:B1333,TRUE),\"\",COUNTIF($B$1:B1334,TRUE))","v":""},{"$f":"IF(Worksheet!$D$10=3,FALSE,Worksheet!$B$17)","v":false},{"$f":"IF(Worksheet!$D$6=1,RANDBETWEEN(1,99),IF(Worksheet!$D$6=2,CHOOSE(RANDBETWEEN(1,2),RANDBETWEEN(1,99),RANDBETWEEN(1,999)/10),CHOOSE(RANDBETWEEN(1,4),RANDBETWEEN(1,99999)/1000,RANDBETWEEN(1,9999)/100,RANDBETWEEN(1,999)/10,RANDBETWEEN(1,99))))","v":31},"m",{"$f":"#REF!","v":{"$error":"#REF!"}},{"$f":"1000*C1334","v":31000},"mm"]
[{"$f":"IF(COUNTIF($B$1:B1335,TRUE)=COUNTIF($B$1:B1334,TRUE),\"\",COUNTIF($B$1:B1335,TRUE))","v":""},{"$f":"IF(Worksheet!$D$10=3,FALSE,Worksheet!$B$18)","v":false},{"$f":"IF(Worksheet!$D$6=1,RANDBETWEEN(1,99),IF(Worksheet!$D$6=2,CHOOSE(RANDBETWEEN(1,2),RANDBETWEEN(1,99),RANDBETWEEN(1,999)/10),CHOOSE(RANDBETWEEN(1,4),RANDBETWEEN(1,99999)/1000,RANDBETWEEN(1,9999)/100,RANDBETWEEN(1,999)/10,RANDBETWEEN(1,99))))","v":9},"cm²","=",{"$f":"C1335*100","v":900},"mm²"]
[{"$f":"IF(COUNTIF($B$1:B1336,TRUE)=COUNTIF($B$1:B1335,TRUE),\"\",COUNTIF($B$1:B1336,TRUE))","v":802},{"$f":"IF(Worksheet!$D$10=3,FALSE,Worksheet!$D$14)","v":true},{"$f":"IF(Worksheet!$D$6=1,RANDBETWEEN(1,99),IF(Worksheet!$D$6=2,CHOOSE(RANDBETWEEN(1,2),RANDBETWEEN(1,99),RANDBETWEEN(1,999)/10),CHOOSE(RANDBETWEEN(1,4),RANDBETWEEN(1,99999)/1000,RANDBETWEEN(1,9999)/100,RANDBETWEEN(1,999)/10,RANDBETWEEN(1,99))))","v":32},"kg","=",{"$f":"1000*C1336","v":32000},"g"]
[{"$f":"IF(COUNTIF($B$1:B1337,TRUE)=COUNTIF($B$1:B1336,TRUE),\"\",COUNTIF($B$1:B1337,TRUE))","v":803},{"$f":"IF(Worksheet!$D$10=3,FALSE,Worksheet!$D$15)","v":true},{"$f":"IF(Worksheet!$D$6=1,RANDBETWEEN(1,99),IF(Worksheet!$D$6=2,CHOOSE(RANDBETWEEN(1,2),RANDBETWEEN(1,99),RANDBETWEEN(1,999)/10),CHOOSE(RANDBETWEEN(1,4),RANDBETWEEN(1,99999)/1000,RANDBETWEEN(1,9999)/100,RANDBETWEEN(1,999)/10,RANDBETWEEN(1,99))))","v":89},"tonnes","=",{"$f":"1000*C1337","v":89000},"kg"]
[{"$f":"IF(COUNTIF($B$1:B1338,TRUE)=COUNTIF($B$1:B1337,TRUE),\"\",COUNTIF($B$1:B1338,TRUE))","v":804},{"$f":"IF(Worksheet!$D$10=3,FALSE,Worksheet!$D$16)","v":true},{"$f":"IF(Worksheet!$D$6=1,RANDBETWEEN(1,99),IF(Worksheet!$D$6=2,CHOOSE(RANDBETWEEN(1,2),RANDBETWEEN(1,99),RANDBETWEEN(1,999)/10),CHOOSE(RANDBETWEEN(1,4),RANDBETWEEN(1,99999)/1000,RANDBETWEEN(1,9999)/100,RANDBETWEEN(1,999)/10,RANDBETWEEN(1,99))))","v":83},"litres","=",{"$f":"1000*C1338","v":83000},"ml"]
[{"$f":"IF(COUNTIF($B$1:B1339,TRUE)=COUNTIF($B$1:B1338,TRUE),\"\",COUNTIF($B$1:B1339,TRUE))","v":""},{"$f":"IF(Worksheet!$D$10=3,FALSE,Worksheet!$D$17)","v":false},{"$f":"IF(Worksheet!$D$6=1,RANDBETWEEN(1,99),IF(Worksheet!$D$6=2,CHOOSE(RANDBETWEEN(1,2),RANDBETWEEN(1,99),RANDBETWEEN(1,999)/10),CHOOSE(RANDBETWEEN(1,4),RANDBETWEEN(1,99999)/1000,RANDBETWEEN(1,9999)/100,RANDBETWEEN(1,999)/10,RANDBETWEEN(1,99))))","v":30},"litres","=",{"$f":"1000*C1339","v":30000},"cm³"]
[{"$f":"IF(COUNTIF($B$1:B1340,TRUE)=COUNTIF($B$1:B1339,TRUE),\"\",COUNTIF($B$1:B1340,TRUE))","v":""},{"$f":"IF(Worksheet!$D$10=3,FALSE,Worksheet!$D$18)","v":false},{"$f":"IF(Worksheet!$D$6=1,RANDBETWEEN(1,99),IF(Worksheet!$D$6=2,CHOOSE(RANDBETWEEN(1,2),RANDBETWEEN(1,99),RANDBETWEEN(1,999)/10),CHOOSE(RANDBETWEEN(1,4),RANDBETWEEN(1,99999)/1000,RANDBETWEEN(1,9999)/100,RANDBETWEEN(1,999)/10,RANDBETWEEN(1,99))))","v":58},"m²","=",{"$f":"10000*C1340","v":580000},"cm²"]
[{"$f":"IF(COUNTIF($B$1:B1341,TRUE)=COUNTIF($B$1:B1340,TRUE),\"\",COUNTIF($B$1:B1341,TRUE))","v":805},{"$f":"IF(Worksheet!$D$10=2,FALSE,Worksheet!$B$14)","v":true},{"$f":"10*F1341","v":520},"mm","=",{"$f":"IF(Worksheet!$D$6=1,RANDBETWEEN(1,99),IF(Worksheet!$D$6=2,CHOOSE(RANDBETWEEN(1,2),RANDBETWEEN(1,99),RANDBETWEEN(1,999)/10),CHOOSE(RANDBETWEEN(1,4),RANDBETWEEN(1,99999)/1000,RANDBETWEEN(1,9999)/100,RANDBETWEEN(1,999)/10,RANDBETWEEN(1,99))))","v":52},"cm"]
[{"$f":"IF(COUNTIF($B$1:B1342,TRUE)=COUNTIF($B$1:B1341,TRUE),\"\",COUNTIF($B$1:B1342,TRUE))","v":806},{"$f":"IF(Worksheet!$D$10=2,FALSE,Worksheet!$B$15)","v":true},{"$f":"100*F1342","v":5200},"cm","=",{"$f":"IF(Worksheet!$D$6=1,RANDBETWEEN(1,99),IF(Worksheet!$D$6=2,CHOOSE(RANDBETWEEN(1,2),RANDBETWEEN(1,99),RANDBETWEEN(1,999)/10),CHOOSE(RANDBETWEEN(1,4),RANDBETWEEN(1,99999)/1000,RANDBETWEEN(1,9999)/100,RANDBETWEEN(1,999)/10,RANDBETWEEN(1,99))))","v":52},"m"]
[{"$f":"IF(COUNTIF($B$1:B1343,TRUE)=COUNTIF($B$1:B1342,TRUE),\"\",COUNTIF($B$1:B1343,TRUE))","v":807},{"$f":"IF(Worksheet!$D$10=2,FALSE,Worksheet!$B$16)","v":true},{"$f":"1000*F1343","v":90000},"m","=",{"$f":"IF(Worksheet!$D$6=1,RANDBETWEEN(1,99),IF(Worksheet!$D$6=2,CHOOSE(RANDBETWEEN(1,2),RANDBETWEEN(1,99),RANDBETWEEN(1,999)/10),CHOOSE(RANDBETWEEN(1,4),RANDBETWEEN(1,99999)/1000,RANDBETWEEN(1,9999)/100,RANDBETWEEN(1,999)/10,RANDBETWEEN(1,99))))","v":90},"km"]
[{"$f":"IF(COUNTIF($B$1:B1344,TRUE)=COUNTIF($B$1:B1343,TRUE),\"\",COUNTIF($B$1:B1344,TRUE))","v":""},{"$f":"IF(Worksheet!$D$10=2,FALSE,Worksheet!$B$17)","v":false},{"$f":"1000*F1344","v":75000},"mm","=",{"$f":"IF(Worksheet!$D$6=1,RANDBETWEEN(1,99),IF(Worksheet!$D$6=2,CHOOSE(RANDBETWEEN(1,2),RANDBETWEEN(1,99),RANDBETWEEN(1,999)/10),CHOOSE(RANDBETWEEN(1,4),RANDBETWEEN(1,99999)/1000,RANDBETWEEN(1,9999)/100,RANDBETWEEN(1,999)/10,RANDBETWEEN(1,99))))","v":75},"m"]
[{"$f":"IF(COUNTIF($B$1:B1345,TRUE)=COUNTIF($B$1:B1344,TRUE),\"\",COUNTIF($B$1:B1345,TRUE))","v":""},{"$f":"IF(Worksheet!$D$10=2,FALSE,Worksheet!$B$18)","v":false},{"$f":"100*F1345","v":3800},"mm²","=",{"$f":"IF(Worksheet!$D$6=1,RANDBETWEEN(1,99),IF(Worksheet!$D$6=2,CHOOSE(RANDBETWEEN(1,2),RANDBETWEEN(1,99),RANDBETWEEN(1,999)/10),CHOOSE(RANDBETWEEN(1,4),RANDBETWEEN(1,99999)/1000,RANDBETWEEN(1,9999)/100,RANDBETWEEN(1,999)/10,RANDBETWEEN(1,99))))","v":38},"cm²"]
[{"$f":"IF(COUNTIF($B$1:B1346,TRUE)=COUNTIF($B$1:B1345,TRUE),\"\",COUNTIF($B$1:B1346,TRUE))","v":808},{"$f":"IF(Worksheet!$D$10=2,FALSE,Worksheet!$D$14)","v":true},{"$f":"F1346*1000","v":15000},"g","=",{"$f":"IF(Worksheet!$D$6=1,RANDBETWEEN(1,99),IF(Worksheet!$D$6=2,CHOOSE(RANDBETWEEN(1,2),RANDBETWEEN(1,99),RANDBETWEEN(1,999)/10),CHOOSE(RANDBETWEEN(1,4),RANDBETWEEN(1,99999)/1000,RANDBETWEEN(1,9999)/100,RANDBETWEEN(1,999)/10,RANDBETWEEN(1,99))))","v":15},"kg"]
[{"$f":"IF(COUNTIF($B$1:B1347,TRUE)=COUNTIF($B$1:B1346,TRUE),\"\",COUNTIF($B$1:B1347,TRUE))","v":809},{"$f":"IF(Worksheet!$D$10=2,FALSE,Worksheet!$D$15)","v":true},{"$f":"F1347*1000","v":31000},"kg","=",{"$f":"IF(Worksheet!$D$6=1,RANDBETWEEN(1,99),IF(Worksheet!$D$6=2,CHOOSE(RANDBETWEEN(1,2),RANDBETWEEN(1,99),RANDBETWEEN(1,999)/10),CHOOSE(RANDBETWEEN(1,4),RANDBETWEEN(1,99999)/1000,RANDBETWEEN(1,9999)/100,RANDBETWEEN(1,999)/10,RANDBETWEEN(1,99))))","v":31},"tonnes"]
[{"$f":"IF(COUNTIF($B$1:B1348,TRUE)=COUNTIF($B$1:B1347,TRUE),\"\",COUNTIF($B$1:B1348,TRUE))","v":810},{"$f":"IF(Worksheet!$D$10=2,FALSE,Worksheet!$D$16)","v":true},{"$f":"1000*F1348","v":88000},"ml","=",{"$f":"IF(Worksheet!$D$6=1,RANDBETWEEN(1,99),IF(Worksheet!$D$6=2,CHOOSE(RANDBETWEEN(1,2),RANDBETWEEN(1,99),RANDBETWEEN(1,999)/10),CHOOSE(RANDBETWEEN(1,4),RANDBETWEEN(1,99999)/1000,RANDBETWEEN(1,9999)/100,RANDBETWEEN(1,999)/10,RANDBETWEEN(1,99))))","v":88},"litres"]
[{"$f":"IF(COUNTIF($B$1:B1349,TRUE)=COUNTIF($B$1:B1348,TRUE),\"\",COUNTIF($B$1:B1349,TRUE))","v":""},{"$f":"IF(Worksheet!$D$10=2,FALSE,Worksheet!$D$17)","v":false},{"$f":"1000*F1349","v":11000},"cm³","=",{"$f":"IF(Worksheet!$D$6=1,RANDBETWEEN(1,99),IF(Worksheet!$D$6=2,CHOOSE(RANDBETWEEN(1,2),RANDBETWEEN(1,99),RANDBETWEEN(1,999)/10),CHOOSE(RANDBETWEEN(1,4),RANDBETWEEN(1,99999)/1000,RANDBETWEEN(1,9999)/100,RANDBETWEEN(1,999)/10,RANDBETWEEN(1,99))))","v":11},"litres"]
[{"$f":"IF(COUNTIF($B$1:B1350,TRUE)=COUNTIF($B$1:B1349,TRUE),\"\",COUNTIF($B$1:B1350,TRUE))","v":""},{"$f":"IF(Worksheet!$D$10=2,FALSE,Worksheet!$D$18)","v":false},{"$f":"10000*F1350","v":500000},"cm²","=",{"$f":"IF(Worksheet!$D$6=1,RANDBETWEEN(1,99),IF(Worksheet!$D$6=2,CHOOSE(RANDBETWEEN(1,2),RANDBETWEEN(1,99),RANDBETWEEN(1,999)/10),CHOOSE(RANDBETWEEN(1,4),RANDBETWEEN(1,99999)/1000,RANDBETWEEN(1,9999)/100,RANDBETWEEN(1,999)/10,RANDBETWEEN(1,99))))","v":50},"m²"]
[{"$f":"IF(COUNTIF($B$1:B1351,TRUE)=COUNTIF($B$1:B1350,TRUE),\"\",COUNTIF($B$1:B1351,TRUE))","v":811},{"$f":"IF(Worksheet!$D$10=3,FALSE,Worksheet!$B$14)","v":true},{"$f":"IF(Worksheet!$D$6=1,RANDBETWEEN(1,99),IF(Worksheet!$D$6=2,CHOOSE(RANDBETWEEN(1,2),RANDBETWEEN(1,99),RANDBETWEEN(1,999)/10),CHOOSE(RANDBETWEEN(1,4),RANDBETWEEN(1,99999)/1000,RANDBETWEEN(1,9999)/100,RANDBETWEEN(1,999)/10,RANDBETWEEN(1,99))))","v":88},"cm","=",{"$f":"10*C1351","v":880},"mm"]
[{"$f":"IF(COUNTIF($B$1:B1352,TRUE)=COUNTIF($B$1:B1351,TRUE),\"\",COUNTIF($B$1:B1352,TRUE))","v":812},{"$f":"IF(Worksheet!$D$10=3,FALSE,Worksheet!$B$15)","v":true},{"$f":"IF(Worksheet!$D$6=1,RANDBETWEEN(1,99),IF(Worksheet!$D$6=2,CHOOSE(RANDBETWEEN(1,2),RANDBETWEEN(1,99),RANDBETWEEN(1,999)/10),CHOOSE(RANDBETWEEN(1,4),RANDBETWEEN(1,99999)/1000,RANDBETWEEN(1,9999)/100,RANDBETWEEN(1,999)/10,RANDBETWEEN(1,99))))","v":50},"m","=",{"$f":"100*C1352","v":5000},"cm"]
[{"$f":"IF(COUNTIF($B$1:B1353,TRUE)=COUNTIF($B$1:B1352,TRUE),\"\",COUNTIF($B$1:B1353,TRUE))","v":813},{"$f":"IF(Worksheet!$D$10=3,FALSE,Worksheet!$B$16)","v":true},{"$f":"IF(Worksheet!$D$6=1,RANDBETWEEN(1,99),IF(Worksheet!$D$6=2,CHOOSE(RANDBETWEEN(1,2),RANDBETWEEN(1,99),RANDBETWEEN(1,999)/10),CHOOSE(RANDBETWEEN(1,4),RANDBETWEEN(1,99999)/1000,RANDBETWEEN(1,9999)/100,RANDBETWEEN(1,999)/10,RANDBETWEEN(1,99))))","v":61},"km","=",{"$f":"1000*C1353","v":61000},"m"]
[{"$f":"IF(COUNTIF($B$1:B1354,TRUE)=COUNTIF($B$1:B1353,TRUE),\"\",COUNTIF($B$1:B1354,TRUE))","v":""},{"$f":"IF(Worksheet!$D$10=3,FALSE,Worksheet!$B$17)","v":false},{"$f":"IF(Worksheet!$D$6=1,RANDBETWEEN(1,99),IF(Worksheet!$D$6=2,CHOOSE(RANDBETWEEN(1,2),RANDBETWEEN(1,99),RANDBETWEEN(1,999)/10),CHOOSE(RANDBETWEEN(1,4),RANDBETWEEN(1,99999)/1000,RANDBETWEEN(1,9999)/100,RANDBETWEEN(1,999)/10,RANDBETWEEN(1,99))))","v":84},"m",{"$f":"#REF!","v":{"$error":"#REF!"}},{"$f":"1000*C1354","v":84000},"mm"]
[{"$f":"IF(COUNTIF($B$1:B1355,TRUE)=COUNTIF($B$1:B1354,TRUE),\"\",COUNTIF($B$1:B1355,TRUE))","v":""},{"$f":"IF(Worksheet!$D$10=3,FALSE,Worksheet!$B$18)","v":false},{"$f":"IF(Worksheet!$D$6=1,RANDBETWEEN(1,99),IF(Worksheet!$D$6=2,CHOOSE(RANDBETWEEN(1,2),RANDBETWEEN(1,99),RANDBETWEEN(1,999)/10),CHOOSE(RANDBETWEEN(1,4),RANDBETWEEN(1,99999)/1000,RANDBETWEEN(1,9999)/100,RANDBETWEEN(1,999)/10,RANDBETWEEN(1,99))))","v":13},"cm²","=",{"$f":"C1355*100","v":1300},"mm²"]
[{"$f":"IF(COUNTIF($B$1:B1356,TRUE)=COUNTIF($B$1:B1355,TRUE),\"\",COUNTIF($B$1:B1356,TRUE))","v":814},{"$f":"IF(Worksheet!$D$10=3,FALSE,Worksheet!$D$14)","v":true},{"$f":"IF(Worksheet!$D$6=1,RANDBETWEEN(1,99),IF(Worksheet!$D$6=2,CHOOSE(RANDBETWEEN(1,2),RANDBETWEEN(1,99),RANDBETWEEN(1,999)/10),CHOOSE(RANDBETWEEN(1,4),RANDBETWEEN(1,99999)/1000,RANDBETWEEN(1,9999)/100,RANDBETWEEN(1,999)/10,RANDBETWEEN(1,99))))","v":2},"kg","=",{"$f":"1000*C1356","v":2000},"g"]
[{"$f":"IF(COUNTIF($B$1:B1357,TRUE)=COUNTIF($B$1:B1356,TRUE),\"\",COUNTIF($B$1:B1357,TRUE))","v":815},{"$f":"IF(Worksheet!$D$10=3,FALSE,Worksheet!$D$15)","v":true},{"$f":"IF(Worksheet!$D$6=1,RANDBETWEEN(1,99),IF(Worksheet!$D$6=2,CHOOSE(RANDBETWEEN(1,2),RANDBETWEEN(1,99),RANDBETWEEN(1,999)/10),CHOOSE(RANDBETWEEN(1,4),RANDBETWEEN(1,99999)/1000,RANDBETWEEN(1,9999)/100,RANDBETWEEN(1,999)/10,RANDBETWEEN(1,99))))","v":14},"tonnes","=",{"$f":"1000*C1357","v":14000},"kg"]
[{"$f":"IF(COUNTIF($B$1:B1358,TRUE)=COUNTIF($B$1:B1357,TRUE),\"\",COUNTIF($B$1:B1358,TRUE))","v":816},{"$f":"IF(Worksheet!$D$10=3,FALSE,Worksheet!$D$16)","v":true},{"$f":"IF(Worksheet!$D$6=1,RANDBETWEEN(1,99),IF(Worksheet!$D$6=2,CHOOSE(RANDBETWEEN(1,2),RANDBETWEEN(1,99),RANDBETWEEN(1,999)/10),CHOOSE(RANDBETWEEN(1,4),RANDBETWEEN(1,99999)/1000,RANDBETWEEN(1,9999)/100,RANDBETWEEN(1,999)/10,RANDBETWEEN(1,99))))","v":86},"litres","=",{"$f":"1000*C1358","v":86000},"ml"]
[{"$f":"IF(COUNTIF($B$1:B1359,TRUE)=COUNTIF($B$1:B1358,TRUE),\"\",COUNTIF($B$1:B1359,TRUE))","v":""},{"$f":"IF(Worksheet!$D$10=3,FALSE,Worksheet!$D$17)","v":false},{"$f":"IF(Worksheet!$D$6=1,RANDBETWEEN(1,99),IF(Worksheet!$D$6=2,CHOOSE(RANDBETWEEN(1,2),RANDBETWEEN(1,99),RANDBETWEEN(1,999)/10),CHOOSE(RANDBETWEEN(1,4),RANDBETWEEN(1,99999)/1000,RANDBETWEEN(1,9999)/100,RANDBETWEEN(1,999)/10,RANDBETWEEN(1,99))))","v":86},"litres","=",{"$f":"1000*C1359","v":86000},"cm³"]
[{"$f":"IF(COUNTIF($B$1:B1360,TRUE)=COUNTIF($B$1:B1359,TRUE),\"\",COUNTIF($B$1:B1360,TRUE))","v":""},{"$f":"IF(Worksheet!$D$10=3,FALSE,Worksheet!$D$18)","v":false},{"$f":"IF(Worksheet!$D$6=1,RANDBETWEEN(1,99),IF(Worksheet!$D$6=2,CHOOSE(RANDBETWEEN(1,2),RANDBETWEEN(1,99),RANDBETWEEN(1,999)/10),CHOOSE(RANDBETWEEN(1,4),RANDBETWEEN(1,99999)/1000,RANDBETWEEN(1,9999)/100,RANDBETWEEN(1,999)/10,RANDBETWEEN(1,99))))","v":91},"m²","=",{"$f":"10000*C1360","v":910000},"cm²"]
[{"$f":"IF(COUNTIF($B$1:B1361,TRUE)=COUNTIF($B$1:B1360,TRUE),\"\",COUNTIF($B$1:B1361,TRUE))","v":817},{"$f":"IF(Worksheet!$D$10=2,FALSE,Worksheet!$B$14)","v":true},{"$f":"10*F1361","v":430},"mm","=",{"$f":"IF(Worksheet!$D$6=1,RANDBETWEEN(1,99),IF(Worksheet!$D$6=2,CHOOSE(RANDBETWEEN(1,2),RANDBETWEEN(1,99),RANDBETWEEN(1,999)/10),CHOOSE(RANDBETWEEN(1,4),RANDBETWEEN(1,99999)/1000,RANDBETWEEN(1,9999)/100,RANDBETWEEN(1,999)/10,RANDBETWEEN(1,99))))","v":43},"cm"]
[{"$f":"IF(COUNTIF($B$1:B1362,TRUE)=COUNTIF($B$1:B1361,TRUE),\"\",COUNTIF($B$1:B1362,TRUE))","v":818},{"$f":"IF(Worksheet!$D$10=2,FALSE,Worksheet!$B$15)","v":true},{"$f":"100*F1362","v":5000},"cm","=",{"$f":"IF(Worksheet!$D$6=1,RANDBETWEEN(1,99),IF(Worksheet!$D$6=2,CHOOSE(RANDBETWEEN(1,2),RANDBETWEEN(1,99),RANDBETWEEN(1,999)/10),CHOOSE(RANDBETWEEN(1,4),RANDBETWEEN(1,99999)/1000,RANDBETWEEN(1,9999)/100,RANDBETWEEN(1,999)/10,RANDBETWEEN(1,99))))","v":50},"m"]
[{"$f":"IF(COUNTIF($B$1:B1363,TRUE)=COUNTIF($B$1:B1362,TRUE),\"\",COUNTIF($B$1:B1363,TRUE))","v":819},{"$f":"IF(Worksheet!$D$10=2,FALSE,Worksheet!$B$16)","v":true},{"$f":"1000*F1363","v":83000},"m","=",{"$f":"IF(Worksheet!$D$6=1,RANDBETWEEN(1,99),IF(Worksheet!$D$6=2,CHOOSE(RANDBETWEEN(1,2),RANDBETWEEN(1,99),RANDBETWEEN(1,999)/10),CHOOSE(RANDBETWEEN(1,4),RANDBETWEEN(1,99999)/1000,RANDBETWEEN(1,9999)/100,RANDBETWEEN(1,999)/10,RANDBETWEEN(1,99))))","v":83},"km"]
[{"$f":"IF(COUNTIF($B$1:B1364,TRUE)=COUNTIF($B$1:B1363,TRUE),\"\",COUNTIF($B$1:B1364,TRUE))","v":""},{"$f":"IF(Worksheet!$D$10=2,FALSE,Worksheet!$B$17)","v":false},{"$f":"1000*F1364","v":82000},"mm","=",{"$f":"IF(Worksheet!$D$6=1,RANDBETWEEN(1,99),IF(Worksheet!$D$6=2,CHOOSE(RANDBETWEEN(1,2),RANDBETWEEN(1,99),RANDBETWEEN(1,999)/10),CHOOSE(RANDBETWEEN(1,4),RANDBETWEEN(1,99999)/1000,RANDBETWEEN(1,9999)/100,RANDBETWEEN(1,999)/10,RANDBETWEEN(1,99))))","v":82},"m"]
[{"$f":"IF(COUNTIF($B$1:B1365,TRUE)=COUNTIF($B$1:B1364,TRUE),\"\",COUNTIF($B$1:B1365,TRUE))","v":""},{"$f":"IF(Worksheet!$D$10=2,FALSE,Worksheet!$B$18)","v":false},{"$f":"100*F1365","v":1400},"mm²","=",{"$f":"IF(Worksheet!$D$6=1,RANDBETWEEN(1,99),IF(Worksheet!$D$6=2,CHOOSE(RANDBETWEEN(1,2),RANDBETWEEN(1,99),RANDBETWEEN(1,999)/10),CHOOSE(RANDBETWEEN(1,4),RANDBETWEEN(1,99999)/1000,RANDBETWEEN(1,9999)/100,RANDBETWEEN(1,999)/10,RANDBETWEEN(1,99))))","v":14},"cm²"]
[{"$f":"IF(COUNTIF($B$1:B1366,TRUE)=COUNTIF($B$1:B1365,TRUE),\"\",COUNTIF($B$1:B1366,TRUE))","v":820},{"$f":"IF(Worksheet!$D$10=2,FALSE,Worksheet!$D$14)","v":true},{"$f":"F1366*1000","v":54000},"g","=",{"$f":"IF(Worksheet!$D$6=1,RANDBETWEEN(1,99),IF(Worksheet!$D$6=2,CHOOSE(RANDBETWEEN(1,2),RANDBETWEEN(1,99),RANDBETWEEN(1,999)/10),CHOOSE(RANDBETWEEN(1,4),RANDBETWEEN(1,99999)/1000,RANDBETWEEN(1,9999)/100,RANDBETWEEN(1,999)/10,RANDBETWEEN(1,99))))","v":54},"kg"]
[{"$f":"IF(COUNTIF($B$1:B1367,TRUE)=COUNTIF($B$1:B1366,TRUE),\"\",COUNTIF($B$1:B1367,TRUE))","v":821},{"$f":"IF(Worksheet!$D$10=2,FALSE,Worksheet!$D$15)","v":true},{"$f":"F1367*1000","v":12000},"kg","=",{"$f":"IF(Worksheet!$D$6=1,RANDBETWEEN(1,99),IF(Worksheet!$D$6=2,CHOOSE(RANDBETWEEN(1,2),RANDBETWEEN(1,99),RANDBETWEEN(1,999)/10),CHOOSE(RANDBETWEEN(1,4),RANDBETWEEN(1,99999)/1000,RANDBETWEEN(1,9999)/100,RANDBETWEEN(1,999)/10,RANDBETWEEN(1,99))))","v":12},"tonnes"]
[{"$f":"IF(COUNTIF($B$1:B1368,TRUE)=COUNTIF($B$1:B1367,TRUE),\"\",COUNTIF($B$1:B1368,TRUE))","v":822},{"$f":"IF(Worksheet!$D$10=2,FALSE,Worksheet!$D$16)","v":true},{"$f":"1000*F1368","v":7000},"ml","=",{"$f":"IF(Worksheet!$D$6=1,RANDBETWEEN(1,99),IF(Worksheet!$D$6=2,CHOOSE(RANDBETWEEN(1,2),RANDBETWEEN(1,99),RANDBETWEEN(1,999)/10),CHOOSE(RANDBETWEEN(1,4),RANDBETWEEN(1,99999)/1000,RANDBETWEEN(1,9999)/100,RANDBETWEEN(1,999)/10,RANDBETWEEN(1,99))))","v":7},"litres"]
[{"$f":"IF(COUNTIF($B$1:B1369,TRUE)=COUNTIF($B$1:B1368,TRUE),\"\",COUNTIF($B$1:B1369,TRUE))","v":""},{"$f":"IF(Worksheet!$D$10=2,FALSE,Worksheet!$D$17)","v":false},{"$f":"1000*F1369","v":75000},"cm³","=",{"$f":"IF(Worksheet!$D$6=1,RANDBETWEEN(1,99),IF(Worksheet!$D$6=2,CHOOSE(RANDBETWEEN(1,2),RANDBETWEEN(1,99),RANDBETWEEN(1,999)/10),CHOOSE(RANDBETWEEN(1,4),RANDBETWEEN(1,99999)/1000,RANDBETWEEN(1,9999)/100,RANDBETWEEN(1,999)/10,RANDBETWEEN(1,99))))","v":75},"litres"]
[{"$f":"IF(COUNTIF($B$1:B1370,TRUE)=COUNTIF($B$1:B1369,TRUE),\"\",COUNTIF($B$1:B1370,TRUE))","v":""},{"$f":"IF(Worksheet!$D$10=2,FALSE,Worksheet!$D$18)","v":false},{"$f":"10000*F1370","v":450000},"cm²","=",{"$f":"IF(Worksheet!$D$6=1,RANDBETWEEN(1,99),IF(Worksheet!$D$6=2,CHOOSE(RANDBETWEEN(1,2),RANDBETWEEN(1,99),RANDBETWEEN(1,999)/10),CHOOSE(RANDBETWEEN(1,4),RANDBETWEEN(1,99999)/1000,RANDBETWEEN(1,9999)/100,RANDBETWEEN(1,999)/10,RANDBETWEEN(1,99))))","v":45},"m²"]
[{"$f":"IF(COUNTIF($B$1:B1371,TRUE)=COUNTIF($B$1:B1370,TRUE),\"\",COUNTIF($B$1:B1371,TRUE))","v":823},{"$f":"IF(Worksheet!$D$10=3,FALSE,Worksheet!$B$14)","v":true},{"$f":"IF(Worksheet!$D$6=1,RANDBETWEEN(1,99),IF(Worksheet!$D$6=2,CHOOSE(RANDBETWEEN(1,2),RANDBETWEEN(1,99),RANDBETWEEN(1,999)/10),CHOOSE(RANDBETWEEN(1,4),RANDBETWEEN(1,99999)/1000,RANDBETWEEN(1,9999)/100,RANDBETWEEN(1,999)/10,RANDBETWEEN(1,99))))","v":57},"cm","=",{"$f":"10*C1371","v":570},"mm"]
[{"$f":"IF(COUNTIF($B$1:B1372,TRUE)=COUNTIF($B$1:B1371,TRUE),\"\",COUNTIF($B$1:B1372,TRUE))","v":824},{"$f":"IF(Worksheet!$D$10=3,FALSE,Worksheet!$B$15)","v":true},{"$f":"IF(Worksheet!$D$6=1,RANDBETWEEN(1,99),IF(Worksheet!$D$6=2,CHOOSE(RANDBETWEEN(1,2),RANDBETWEEN(1,99),RANDBETWEEN(1,999)/10),CHOOSE(RANDBETWEEN(1,4),RANDBETWEEN(1,99999)/1000,RANDBETWEEN(1,9999)/100,RANDBETWEEN(1,999)/10,RANDBETWEEN(1,99))))","v":42},"m","=",{"$f":"100*C1372","v":4200},"cm"]
[{"$f":"IF(COUNTIF($B$1:B1373,TRUE)=COUNTIF($B$1:B1372,TRUE),\"\",COUNTIF($B$1:B1373,TRUE))","v":825},{"$f":"IF(Worksheet!$D$10=3,FALSE,Worksheet!$B$16)","v":true},{"$f":"IF(Worksheet!$D$6=1,RANDBETWEEN(1,99),IF(Worksheet!$D$6=2,CHOOSE(RANDBETWEEN(1,2),RANDBETWEEN(1,99),RANDBETWEEN(1,999)/10),CHOOSE(RANDBETWEEN(1,4),RANDBETWEEN(1,99999)/1000,RANDBETWEEN(1,9999)/100,RANDBETWEEN(1,999)/10,RANDBETWEEN(1,99))))","v":61},"km","=",{"$f":"1000*C1373","v":61000},"m"]
[{"$f":"IF(COUNTIF($B$1:B1374,TRUE)=COUNTIF($B$1:B1373,TRUE),\"\",COUNTIF($B$1:B1374,TRUE))","v":""},{"$f":"IF(Worksheet!$D$10=3,FALSE,Worksheet!$B$17)","v":false},{"$f":"IF(Worksheet!$D$6=1,RANDBETWEEN(1,99),IF(Worksheet!$D$6=2,CHOOSE(RANDBETWEEN(1,2),RANDBETWEEN(1,99),RANDBETWEEN(1,999)/10),CHOOSE(RANDBETWEEN(1,4),RANDBETWEEN(1,99999)/1000,RANDBETWEEN(1,9999)/100,RANDBETWEEN(1,999)/10,RANDBETWEEN(1,99))))","v":22},"m",{"$f":"#REF!","v":{"$error":"#REF!"}},{"$f":"1000*C1374","v":22000},"mm"]
[{"$f":"IF(COUNTIF($B$1:B1375,TRUE)=COUNTIF($B$1:B1374,TRUE),\"\",COUNTIF($B$1:B1375,TRUE))","v":""},{"$f":"IF(Worksheet!$D$10=3,FALSE,Worksheet!$B$18)","v":false},{"$f":"IF(Worksheet!$D$6=1,RANDBETWEEN(1,99),IF(Worksheet!$D$6=2,CHOOSE(RANDBETWEEN(1,2),RANDBETWEEN(1,99),RANDBETWEEN(1,999)/10),CHOOSE(RANDBETWEEN(1,4),RANDBETWEEN(1,99999)/1000,RANDBETWEEN(1,9999)/100,RANDBETWEEN(1,999)/10,RANDBETWEEN(1,99))))","v":53},"cm²","=",{"$f":"C1375*100","v":5300},"mm²"]
[{"$f":"IF(COUNTIF($B$1:B1376,TRUE)=COUNTIF($B$1:B1375,TRUE),\"\",COUNTIF($B$1:B1376,TRUE))","v":826},{"$f":"IF(Worksheet!$D$10=3,FALSE,Worksheet!$D$14)","v":true},{"$f":"IF(Worksheet!$D$6=1,RANDBETWEEN(1,99),IF(Worksheet!$D$6=2,CHOOSE(RANDBETWEEN(1,2),RANDBETWEEN(1,99),RANDBETWEEN(1,999)/10),CHOOSE(RANDBETWEEN(1,4),RANDBETWEEN(1,99999)/1000,RANDBETWEEN(1,9999)/100,RANDBETWEEN(1,999)/10,RANDBETWEEN(1,99))))","v":75},"kg","=",{"$f":"1000*C1376","v":75000},"g"]
[{"$f":"IF(COUNTIF($B$1:B1377,TRUE)=COUNTIF($B$1:B1376,TRUE),\"\",COUNTIF($B$1:B1377,TRUE))","v":827},{"$f":"IF(Worksheet!$D$10=3,FALSE,Worksheet!$D$15)","v":true},{"$f":"IF(Worksheet!$D$6=1,RANDBETWEEN(1,99),IF(Worksheet!$D$6=2,CHOOSE(RANDBETWEEN(1,2),RANDBETWEEN(1,99),RANDBETWEEN(1,999)/10),CHOOSE(RANDBETWEEN(1,4),RANDBETWEEN(1,99999)/1000,RANDBETWEEN(1,9999)/100,RANDBETWEEN(1,999)/10,RANDBETWEEN(1,99))))","v":66},"tonnes","=",{"$f":"1000*C1377","v":66000},"kg"]
[{"$f":"IF(COUNTIF($B$1:B1378,TRUE)=COUNTIF($B$1:B1377,TRUE),\"\",COUNTIF($B$1:B1378,TRUE))","v":828},{"$f":"IF(Worksheet!$D$10=3,FALSE,Worksheet!$D$16)","v":true},{"$f":"IF(Worksheet!$D$6=1,RANDBETWEEN(1,99),IF(Worksheet!$D$6=2,CHOOSE(RANDBETWEEN(1,2),RANDBETWEEN(1,99),RANDBETWEEN(1,999)/10),CHOOSE(RANDBETWEEN(1,4),RANDBETWEEN(1,99999)/1000,RANDBETWEEN(1,9999)/100,RANDBETWEEN(1,999)/10,RANDBETWEEN(1,99))))","v":37},"litres","=",{"$f":"1000*C1378","v":37000},"ml"]
[{"$f":"IF(COUNTIF($B$1:B1379,TRUE)=COUNTIF($B$1:B1378,TRUE),\"\",COUNTIF($B$1:B1379,TRUE))","v":""},{"$f":"IF(Worksheet!$D$10=3,FALSE,Worksheet!$D$17)","v":false},{"$f":"IF(Worksheet!$D$6=1,RANDBETWEEN(1,99),IF(Worksheet!$D$6=2,CHOOSE(RANDBETWEEN(1,2),RANDBETWEEN(1,99),RANDBETWEEN(1,999)/10),CHOOSE(RANDBETWEEN(1,4),RANDBETWEEN(1,99999)/1000,RANDBETWEEN(1,9999)/100,RANDBETWEEN(1,999)/10,RANDBETWEEN(1,99))))","v":30},"litres","=",{"$f":"1000*C1379","v":30000},"cm³"]
[{"$f":"IF(COUNTIF($B$1:B1380,TRUE)=COUNTIF($B$1:B1379,TRUE),\"\",COUNTIF($B$1:B1380,TRUE))","v":""},{"$f":"IF(Worksheet!$D$10=3,FALSE,Worksheet!$D$18)","v":false},{"$f":"IF(Worksheet!$D$6=1,RANDBETWEEN(1,99),IF(Worksheet!$D$6=2,CHOOSE(RANDBETWEEN(1,2),RANDBETWEEN(1,99),RANDBETWEEN(1,999)/10),CHOOSE(RANDBETWEEN(1,4),RANDBETWEEN(1,99999)/1000,RANDBETWEEN(1,9999)/100,RANDBETWEEN(1,999)/10,RANDBETWEEN(1,99))))","v":13},"m²","=",{"$f":"10000*C1380","v":130000},"cm²"]
[{"$f":"IF(COUNTIF($B$1:B1381,TRUE)=COUNTIF($B$1:B1380,TRUE),\"\",COUNTIF($B$1:B1381,TRUE))","v":829},{"$f":"IF(Worksheet!$D$10=2,FALSE,Worksheet!$B$14)","v":true},{"$f":"10*F1381","v":530},"mm","=",{"$f":"IF(Worksheet!$D$6=1,RANDBETWEEN(1,99),IF(Worksheet!$D$6=2,CHOOSE(RANDBETWEEN(1,2),RANDBETWEEN(1,99),RANDBETWEEN(1,999)/10),CHOOSE(RANDBETWEEN(1,4),RANDBETWEEN(1,99999)/1000,RANDBETWEEN(1,9999)/100,RANDBETWEEN(1,999)/10,RANDBETWEEN(1,99))))","v":53},"cm"]
[{"$f":"IF(COUNTIF($B$1:B1382,TRUE)=COUNTIF($B$1:B1381,TRUE),\"\",COUNTIF($B$1:B1382,TRUE))","v":830},{"$f":"IF(Worksheet!$D$10=2,FALSE,Worksheet!$B$15)","v":true},{"$f":"100*F1382","v":200},"cm","=",{"$f":"IF(Worksheet!$D$6=1,RANDBETWEEN(1,99),IF(Worksheet!$D$6=2,CHOOSE(RANDBETWEEN(1,2),RANDBETWEEN(1,99),RANDBETWEEN(1,999)/10),CHOOSE(RANDBETWEEN(1,4),RANDBETWEEN(1,99999)/1000,RANDBETWEEN(1,9999)/100,RANDBETWEEN(1,999)/10,RANDBETWEEN(1,99))))","v":2},"m"]
[{"$f":"IF(COUNTIF($B$1:B1383,TRUE)=COUNTIF($B$1:B1382,TRUE),\"\",COUNTIF($B$1:B1383,TRUE))","v":831},{"$f":"IF(Worksheet!$D$10=2,FALSE,Worksheet!$B$16)","v":true},{"$f":"1000*F1383","v":66000},"m","=",{"$f":"IF(Worksheet!$D$6=1,RANDBETWEEN(1,99),IF(Worksheet!$D$6=2,CHOOSE(RANDBETWEEN(1,2),RANDBETWEEN(1,99),RANDBETWEEN(1,999)/10),CHOOSE(RANDBETWEEN(1,4),RANDBETWEEN(1,99999)/1000,RANDBETWEEN(1,9999)/100,RANDBETWEEN(1,999)/10,RANDBETWEEN(1,99))))","v":66},"km"]
[{"$f":"IF(COUNTIF($B$1:B1384,TRUE)=COUNTIF($B$1:B1383,TRUE),\"\",COUNTIF($B$1:B1384,TRUE))","v":""},{"$f":"IF(Worksheet!$D$10=2,FALSE,Worksheet!$B$17)","v":false},{"$f":"1000*F1384","v":55000},"mm","=",{"$f":"IF(Worksheet!$D$6=1,RANDBETWEEN(1,99),IF(Worksheet!$D$6=2,CHOOSE(RANDBETWEEN(1,2),RANDBETWEEN(1,99),RANDBETWEEN(1,999)/10),CHOOSE(RANDBETWEEN(1,4),RANDBETWEEN(1,99999)/1000,RANDBETWEEN(1,9999)/100,RANDBETWEEN(1,999)/10,RANDBETWEEN(1,99))))","v":55},"m"]
[{"$f":"IF(COUNTIF($B$1:B1385,TRUE)=COUNTIF($B$1:B1384,TRUE),\"\",COUNTIF($B$1:B1385,TRUE))","v":""},{"$f":"IF(Worksheet!$D$10=2,FALSE,Worksheet!$B$18)","v":false},{"$f":"100*F1385","v":5400},"mm²","=",{"$f":"IF(Worksheet!$D$6=1,RANDBETWEEN(1,99),IF(Worksheet!$D$6=2,CHOOSE(RANDBETWEEN(1,2),RANDBETWEEN(1,99),RANDBETWEEN(1,999)/10),CHOOSE(RANDBETWEEN(1,4),RANDBETWEEN(1,99999)/1000,RANDBETWEEN(1,9999)/100,RANDBETWEEN(1,999)/10,RANDBETWEEN(1,99))))","v":54},"cm²"]
[{"$f":"IF(COUNTIF($B$1:B1386,TRUE)=COUNTIF($B$1:B1385,TRUE),\"\",COUNTIF($B$1:B1386,TRUE))","v":832},{"$f":"IF(Worksheet!$D$10=2,FALSE,Worksheet!$D$14)","v":true},{"$f":"F1386*1000","v":3000},"g","=",{"$f":"IF(Worksheet!$D$6=1,RANDBETWEEN(1,99),IF(Worksheet!$D$6=2,CHOOSE(RANDBETWEEN(1,2),RANDBETWEEN(1,99),RANDBETWEEN(1,999)/10),CHOOSE(RANDBETWEEN(1,4),RANDBETWEEN(1,99999)/1000,RANDBETWEEN(1,9999)/100,RANDBETWEEN(1,999)/10,RANDBETWEEN(1,99))))","v":3},"kg"]
[{"$f":"IF(COUNTIF($B$1:B1387,TRUE)=COUNTIF($B$1:B1386,TRUE),\"\",COUNTIF($B$1:B1387,TRUE))","v":833},{"$f":"IF(Worksheet!$D$10=2,FALSE,Worksheet!$D$15)","v":true},{"$f":"F1387*1000","v":96000},"kg","=",{"$f":"IF(Worksheet!$D$6=1,RANDBETWEEN(1,99),IF(Worksheet!$D$6=2,CHOOSE(RANDBETWEEN(1,2),RANDBETWEEN(1,99),RANDBETWEEN(1,999)/10),CHOOSE(RANDBETWEEN(1,4),RANDBETWEEN(1,99999)/1000,RANDBETWEEN(1,9999)/100,RANDBETWEEN(1,999)/10,RANDBETWEEN(1,99))))","v":96},"tonnes"]
[{"$f":"IF(COUNTIF($B$1:B1388,TRUE)=COUNTIF($B$1:B1387,TRUE),\"\",COUNTIF($B$1:B1388,TRUE))","v":834},{"$f":"IF(Worksheet!$D$10=2,FALSE,Worksheet!$D$16)","v":true},{"$f":"1000*F1388","v":35000},"ml","=",{"$f":"IF(Worksheet!$D$6=1,RANDBETWEEN(1,99),IF(Worksheet!$D$6=2,CHOOSE(RANDBETWEEN(1,2),RANDBETWEEN(1,99),RANDBETWEEN(1,999)/10),CHOOSE(RANDBETWEEN(1,4),RANDBETWEEN(1,99999)/1000,RANDBETWEEN(1,9999)/100,RANDBETWEEN(1,999)/10,RANDBETWEEN(1,99))))","v":35},"litres"]
[{"$f":"IF(COUNTIF($B$1:B1389,TRUE)=COUNTIF($B$1:B1388,TRUE),\"\",COUNTIF($B$1:B1389,TRUE))","v":""},{"$f":"IF(Worksheet!$D$10=2,FALSE,Worksheet!$D$17)","v":false},{"$f":"1000*F1389","v":65000},"cm³","=",{"$f":"IF(Worksheet!$D$6=1,RANDBETWEEN(1,99),IF(Worksheet!$D$6=2,CHOOSE(RANDBETWEEN(1,2),RANDBETWEEN(1,99),RANDBETWEEN(1,999)/10),CHOOSE(RANDBETWEEN(1,4),RANDBETWEEN(1,99999)/1000,RANDBETWEEN(1,9999)/100,RANDBETWEEN(1,999)/10,RANDBETWEEN(1,99))))","v":65},"litres"]
[{"$f":"IF(COUNTIF($B$1:B1390,TRUE)=COUNTIF($B$1:B1389,TRUE),\"\",COUNTIF($B$1:B1390,TRUE))","v":""},{"$f":"IF(Worksheet!$D$10=2,FALSE,Worksheet!$D$18)","v":false},{"$f":"10000*F1390","v":280000},"cm²","=",{"$f":"IF(Worksheet!$D$6=1,RANDBETWEEN(1,99),IF(Worksheet!$D$6=2,CHOOSE(RANDBETWEEN(1,2),RANDBETWEEN(1,99),RANDBETWEEN(1,999)/10),CHOOSE(RANDBETWEEN(1,4),RANDBETWEEN(1,99999)/1000,RANDBETWEEN(1,9999)/100,RANDBETWEEN(1,999)/10,RANDBETWEEN(1,99))))","v":28},"m²"]
[{"$f":"IF(COUNTIF($B$1:B1391,TRUE)=COUNTIF($B$1:B1390,TRUE),\"\",COUNTIF($B$1:B1391,TRUE))","v":835},{"$f":"IF(Worksheet!$D$10=3,FALSE,Worksheet!$B$14)","v":true},{"$f":"IF(Worksheet!$D$6=1,RANDBETWEEN(1,99),IF(Worksheet!$D$6=2,CHOOSE(RANDBETWEEN(1,2),RANDBETWEEN(1,99),RANDBETWEEN(1,999)/10),CHOOSE(RANDBETWEEN(1,4),RANDBETWEEN(1,99999)/1000,RANDBETWEEN(1,9999)/100,RANDBETWEEN(1,999)/10,RANDBETWEEN(1,99))))","v":33},"cm","=",{"$f":"10*C1391","v":330},"mm"]
[{"$f":"IF(COUNTIF($B$1:B1392,TRUE)=COUNTIF($B$1:B1391,TRUE),\"\",COUNTIF($B$1:B1392,TRUE))","v":836},{"$f":"IF(Worksheet!$D$10=3,FALSE,Worksheet!$B$15)","v":true},{"$f":"IF(Worksheet!$D$6=1,RANDBETWEEN(1,99),IF(Worksheet!$D$6=2,CHOOSE(RANDBETWEEN(1,2),RANDBETWEEN(1,99),RANDBETWEEN(1,999)/10),CHOOSE(RANDBETWEEN(1,4),RANDBETWEEN(1,99999)/1000,RANDBETWEEN(1,9999)/100,RANDBETWEEN(1,999)/10,RANDBETWEEN(1,99))))","v":60},"m","=",{"$f":"100*C1392","v":6000},"cm"]
[{"$f":"IF(COUNTIF($B$1:B1393,TRUE)=COUNTIF($B$1:B1392,TRUE),\"\",COUNTIF($B$1:B1393,TRUE))","v":837},{"$f":"IF(Worksheet!$D$10=3,FALSE,Worksheet!$B$16)","v":true},{"$f":"IF(Worksheet!$D$6=1,RANDBETWEEN(1,99),IF(Worksheet!$D$6=2,CHOOSE(RANDBETWEEN(1,2),RANDBETWEEN(1,99),RANDBETWEEN(1,999)/10),CHOOSE(RANDBETWEEN(1,4),RANDBETWEEN(1,99999)/1000,RANDBETWEEN(1,9999)/100,RANDBETWEEN(1,999)/10,RANDBETWEEN(1,99))))","v":39},"km","=",{"$f":"1000*C1393","v":39000},"m"]
[{"$f":"IF(COUNTIF($B$1:B1394,TRUE)=COUNTIF($B$1:B1393,TRUE),\"\",COUNTIF($B$1:B1394,TRUE))","v":""},{"$f":"IF(Worksheet!$D$10=3,FALSE,Worksheet!$B$17)","v":false},{"$f":"IF(Worksheet!$D$6=1,RANDBETWEEN(1,99),IF(Worksheet!$D$6=2,CHOOSE(RANDBETWEEN(1,2),RANDBETWEEN(1,99),RANDBETWEEN(1,999)/10),CHOOSE(RANDBETWEEN(1,4),RANDBETWEEN(1,99999)/1000,RANDBETWEEN(1,9999)/100,RANDBETWEEN(1,999)/10,RANDBETWEEN(1,99))))","v":92},"m",{"$f":"#REF!","v":{"$error":"#REF!"}},{"$f":"1000*C1394","v":92000},"mm"]
[{"$f":"IF(COUNTIF($B$1:B1395,TRUE)=COUNTIF($B$1:B1394,TRUE),\"\",COUNTIF($B$1:B1395,TRUE))","v":""},{"$f":"IF(Worksheet!$D$10=3,FALSE,Worksheet!$B$18)","v":false},{"$f":"IF(Worksheet!$D$6=1,RANDBETWEEN(1,99),IF(Worksheet!$D$6=2,CHOOSE(RANDBETWEEN(1,2),RANDBETWEEN(1,99),RANDBETWEEN(1,999)/10),CHOOSE(RANDBETWEEN(1,4),RANDBETWEEN(1,99999)/1000,RANDBETWEEN(1,9999)/100,RANDBETWEEN(1,999)/10,RANDBETWEEN(1,99))))","v":59},"cm²","=",{"$f":"C1395*100","v":5900},"mm²"]
[{"$f":"IF(COUNTIF($B$1:B1396,TRUE)=COUNTIF($B$1:B1395,TRUE),\"\",COUNTIF($B$1:B1396,TRUE))","v":838},{"$f":"IF(Worksheet!$D$10=3,FALSE,Worksheet!$D$14)","v":true},{"$f":"IF(Worksheet!$D$6=1,RANDBETWEEN(1,99),IF(Worksheet!$D$6=2,CHOOSE(RANDBETWEEN(1,2),RANDBETWEEN(1,99),RANDBETWEEN(1,999)/10),CHOOSE(RANDBETWEEN(1,4),RANDBETWEEN(1,99999)/1000,RANDBETWEEN(1,9999)/100,RANDBETWEEN(1,999)/10,RANDBETWEEN(1,99))))","v":96},"kg","=",{"$f":"1000*C1396","v":96000},"g"]
[{"$f":"IF(COUNTIF($B$1:B1397,TRUE)=COUNTIF($B$1:B1396,TRUE),\"\",COUNTIF($B$1:B1397,TRUE))","v":839},{"$f":"IF(Worksheet!$D$10=3,FALSE,Worksheet!$D$15)","v":true},{"$f":"IF(Worksheet!$D$6=1,RANDBETWEEN(1,99),IF(Worksheet!$D$6=2,CHOOSE(RANDBETWEEN(1,2),RANDBETWEEN(1,99),RANDBETWEEN(1,999)/10),CHOOSE(RANDBETWEEN(1,4),RANDBETWEEN(1,99999)/1000,RANDBETWEEN(1,9999)/100,RANDBETWEEN(1,999)/10,RANDBETWEEN(1,99))))","v":96},"tonnes","=",{"$f":"1000*C1397","v":96000},"kg"]
[{"$f":"IF(COUNTIF($B$1:B1398,TRUE)=COUNTIF($B$1:B1397,TRUE),\"\",COUNTIF($B$1:B1398,TRUE))","v":840},{"$f":"IF(Worksheet!$D$10=3,FALSE,Worksheet!$D$16)","v":true},{"$f":"IF(Worksheet!$D$6=1,RANDBETWEEN(1,99),IF(Worksheet!$D$6=2,CHOOSE(RANDBETWEEN(1,2),RANDBETWEEN(1,99),RANDBETWEEN(1,999)/10),CHOOSE(RANDBETWEEN(1,4),RANDBETWEEN(1,99999)/1000,RANDBETWEEN(1,9999)/100,RANDBETWEEN(1,999)/10,RANDBETWEEN(1,99))))","v":13},"litres","=",{"$f":"1000*C1398","v":13000},"ml"]
[{"$f":"IF(COUNTIF($B$1:B1399,TRUE)=COUNTIF($B$1:B1398,TRUE),\"\",COUNTIF($B$1:B1399,TRUE))","v":""},{"$f":"IF(Worksheet!$D$10=3,FALSE,Worksheet!$D$17)","v":false},{"$f":"IF(Worksheet!$D$6=1,RANDBETWEEN(1,99),IF(Worksheet!$D$6=2,CHOOSE(RANDBETWEEN(1,2),RANDBETWEEN(1,99),RANDBETWEEN(1,999)/10),CHOOSE(RANDBETWEEN(1,4),RANDBETWEEN(1,99999)/1000,RANDBETWEEN(1,9999)/100,RANDBETWEEN(1,999)/10,RANDBETWEEN(1,99))))","v":64},"litres","=",{"$f":"1000*C1399","v":64000},"cm³"]
[{"$f":"IF(COUNTIF($B$1:B1400,TRUE)=COUNTIF($B$1:B1399,TRUE),\"\",COUNTIF($B$1:B1400,TRUE))","v":""},{"$f":"IF(Worksheet!$D$10=3,FALSE,Worksheet!$D$18)","v":false},{"$f":"IF(Worksheet!$D$6=1,RANDBETWEEN(1,99),IF(Worksheet!$D$6=2,CHOOSE(RANDBETWEEN(1,2),RANDBETWEEN(1,99),RANDBETWEEN(1,999)/10),CHOOSE(RANDBETWEEN(1,4),RANDBETWEEN(1,99999)/1000,RANDBETWEEN(1,9999)/100,RANDBETWEEN(1,999)/10,RANDBETWEEN(1,99))))","v":99},"m²","=",{"$f":"10000*C1400","v":990000},"cm²"]
[{"$f":"IF(COUNTIF($B$1:B1401,TRUE)=COUNTIF($B$1:B1400,TRUE),\"\",COUNTIF($B$1:B1401,TRUE))","v":841},{"$f":"IF(Worksheet!$D$10=2,FALSE,Worksheet!$B$14)","v":true},{"$f":"10*F1401","v":410},"mm","=",{"$f":"IF(Worksheet!$D$6=1,RANDBETWEEN(1,99),IF(Worksheet!$D$6=2,CHOOSE(RANDBETWEEN(1,2),RANDBETWEEN(1,99),RANDBETWEEN(1,999)/10),CHOOSE(RANDBETWEEN(1,4),RANDBETWEEN(1,99999)/1000,RANDBETWEEN(1,9999)/100,RANDBETWEEN(1,999)/10,RANDBETWEEN(1,99))))","v":41},"cm"]
[{"$f":"IF(COUNTIF($B$1:B1402,TRUE)=COUNTIF($B$1:B1401,TRUE),\"\",COUNTIF($B$1:B1402,TRUE))","v":842},{"$f":"IF(Worksheet!$D$10=2,FALSE,Worksheet!$B$15)","v":true},{"$f":"100*F1402","v":5500},"cm","=",{"$f":"IF(Worksheet!$D$6=1,RANDBETWEEN(1,99),IF(Worksheet!$D$6=2,CHOOSE(RANDBETWEEN(1,2),RANDBETWEEN(1,99),RANDBETWEEN(1,999)/10),CHOOSE(RANDBETWEEN(1,4),RANDBETWEEN(1,99999)/1000,RANDBETWEEN(1,9999)/100,RANDBETWEEN(1,999)/10,RANDBETWEEN(1,99))))","v":55},"m"]
[{"$f":"IF(COUNTIF($B$1:B1403,TRUE)=COUNTIF($B$1:B1402,TRUE),\"\",COUNTIF($B$1:B1403,TRUE))","v":843},{"$f":"IF(Worksheet!$D$10=2,FALSE,Worksheet!$B$16)","v":true},{"$f":"1000*F1403","v":48000},"m","=",{"$f":"IF(Worksheet!$D$6=1,RANDBETWEEN(1,99),IF(Worksheet!$D$6=2,CHOOSE(RANDBETWEEN(1,2),RANDBETWEEN(1,99),RANDBETWEEN(1,999)/10),CHOOSE(RANDBETWEEN(1,4),RANDBETWEEN(1,99999)/1000,RANDBETWEEN(1,9999)/100,RANDBETWEEN(1,999)/10,RANDBETWEEN(1,99))))","v":48},"km"]
[{"$f":"IF(COUNTIF($B$1:B1404,TRUE)=COUNTIF($B$1:B1403,TRUE),\"\",COUNTIF($B$1:B1404,TRUE))","v":""},{"$f":"IF(Worksheet!$D$10=2,FALSE,Worksheet!$B$17)","v":false},{"$f":"1000*F1404","v":56000},"mm","=",{"$f":"IF(Worksheet!$D$6=1,RANDBETWEEN(1,99),IF(Worksheet!$D$6=2,CHOOSE(RANDBETWEEN(1,2),RANDBETWEEN(1,99),RANDBETWEEN(1,999)/10),CHOOSE(RANDBETWEEN(1,4),RANDBETWEEN(1,99999)/1000,RANDBETWEEN(1,9999)/100,RANDBETWEEN(1,999)/10,RANDBETWEEN(1,99))))","v":56},"m"]
[{"$f":"IF(COUNTIF($B$1:B1405,TRUE)=COUNTIF($B$1:B1404,TRUE),\"\",COUNTIF($B$1:B1405,TRUE))","v":""},{"$f":"IF(Worksheet!$D$10=2,FALSE,Worksheet!$B$18)","v":false},{"$f":"100*F1405","v":6800},"mm²","=",{"$f":"IF(Worksheet!$D$6=1,RANDBETWEEN(1,99),IF(Worksheet!$D$6=2,CHOOSE(RANDBETWEEN(1,2),RANDBETWEEN(1,99),RANDBETWEEN(1,999)/10),CHOOSE(RANDBETWEEN(1,4),RANDBETWEEN(1,99999)/1000,RANDBETWEEN(1,9999)/100,RANDBETWEEN(1,999)/10,RANDBETWEEN(1,99))))","v":68},"cm²"]
[{"$f":"IF(COUNTIF($B$1:B1406,TRUE)=COUNTIF($B$1:B1405,TRUE),\"\",COUNTIF($B$1:B1406,TRUE))","v":844},{"$f":"IF(Worksheet!$D$10=2,FALSE,Worksheet!$D$14)","v":true},{"$f":"F1406*1000","v":61000},"g","=",{"$f":"IF(Worksheet!$D$6=1,RANDBETWEEN(1,99),IF(Worksheet!$D$6=2,CHOOSE(RANDBETWEEN(1,2),RANDBETWEEN(1,99),RANDBETWEEN(1,999)/10),CHOOSE(RANDBETWEEN(1,4),RANDBETWEEN(1,99999)/1000,RANDBETWEEN(1,9999)/100,RANDBETWEEN(1,999)/10,RANDBETWEEN(1,99))))","v":61},"kg"]
[{"$f":"IF(COUNTIF($B$1:B1407,TRUE)=COUNTIF($B$1:B1406,TRUE),\"\",COUNTIF($B$1:B1407,TRUE))","v":845},{"$f":"IF(Worksheet!$D$10=2,FALSE,Worksheet!$D$15)","v":true},{"$f":"F1407*1000","v":62000},"kg","=",{"$f":"IF(Worksheet!$D$6=1,RANDBETWEEN(1,99),IF(Worksheet!$D$6=2,CHOOSE(RANDBETWEEN(1,2),RANDBETWEEN(1,99),RANDBETWEEN(1,999)/10),CHOOSE(RANDBETWEEN(1,4),RANDBETWEEN(1,99999)/1000,RANDBETWEEN(1,9999)/100,RANDBETWEEN(1,999)/10,RANDBETWEEN(1,99))))","v":62},"tonnes"]
[{"$f":"IF(COUNTIF($B$1:B1408,TRUE)=COUNTIF($B$1:B1407,TRUE),\"\",COUNTIF($B$1:B1408,TRUE))","v":846},{"$f":"IF(Worksheet!$D$10=2,FALSE,Worksheet!$D$16)","v":true},{"$f":"1000*F1408","v":35000},"ml","=",{"$f":"IF(Worksheet!$D$6=1,RANDBETWEEN(1,99),IF(Worksheet!$D$6=2,CHOOSE(RANDBETWEEN(1,2),RANDBETWEEN(1,99),RANDBETWEEN(1,999)/10),CHOOSE(RANDBETWEEN(1,4),RANDBETWEEN(1,99999)/1000,RANDBETWEEN(1,9999)/100,RANDBETWEEN(1,999)/10,RANDBETWEEN(1,99))))","v":35},"litres"]
[{"$f":"IF(COUNTIF($B$1:B1409,TRUE)=COUNTIF($B$1:B1408,TRUE),\"\",COUNTIF($B$1:B1409,TRUE))","v":""},{"$f":"IF(Worksheet!$D$10=2,FALSE,Worksheet!$D$17)","v":false},{"$f":"1000*F1409","v":54000},"cm³","=",{"$f":"IF(Worksheet!$D$6=1,RANDBETWEEN(1,99),IF(Worksheet!$D$6=2,CHOOSE(RANDBETWEEN(1,2),RANDBETWEEN(1,99),RANDBETWEEN(1,999)/10),CHOOSE(RANDBETWEEN(1,4),RANDBETWEEN(1,99999)/1000,RANDBETWEEN(1,9999)/100,RANDBETWEEN(1,999)/10,RANDBETWEEN(1,99))))","v":54},"litres"]
[{"$f":"IF(COUNTIF($B$1:B1410,TRUE)=COUNTIF($B$1:B1409,TRUE),\"\",COUNTIF($B$1:B1410,TRUE))","v":""},{"$f":"IF(Worksheet!$D$10=2,FALSE,Worksheet!$D$18)","v":false},{"$f":"10000*F1410","v":810000},"cm²","=",{"$f":"IF(Worksheet!$D$6=1,RANDBETWEEN(1,99),IF(Worksheet!$D$6=2,CHOOSE(RANDBETWEEN(1,2),RANDBETWEEN(1,99),RANDBETWEEN(1,999)/10),CHOOSE(RANDBETWEEN(1,4),RANDBETWEEN(1,99999)/1000,RANDBETWEEN(1,9999)/100,RANDBETWEEN(1,999)/10,RANDBETWEEN(1,99))))","v":81},"m²"]
[{"$f":"IF(COUNTIF($B$1:B1411,TRUE)=COUNTIF($B$1:B1410,TRUE),\"\",COUNTIF($B$1:B1411,TRUE))","v":847},{"$f":"IF(Worksheet!$D$10=3,FALSE,Worksheet!$B$14)","v":true},{"$f":"IF(Worksheet!$D$6=1,RANDBETWEEN(1,99),IF(Worksheet!$D$6=2,CHOOSE(RANDBETWEEN(1,2),RANDBETWEEN(1,99),RANDBETWEEN(1,999)/10),CHOOSE(RANDBETWEEN(1,4),RANDBETWEEN(1,99999)/1000,RANDBETWEEN(1,9999)/100,RANDBETWEEN(1,999)/10,RANDBETWEEN(1,99))))","v":62},"cm","=",{"$f":"10*C1411","v":620},"mm"]
[{"$f":"IF(COUNTIF($B$1:B1412,TRUE)=COUNTIF($B$1:B1411,TRUE),\"\",COUNTIF($B$1:B1412,TRUE))","v":848},{"$f":"IF(Worksheet!$D$10=3,FALSE,Worksheet!$B$15)","v":true},{"$f":"IF(Worksheet!$D$6=1,RANDBETWEEN(1,99),IF(Worksheet!$D$6=2,CHOOSE(RANDBETWEEN(1,2),RANDBETWEEN(1,99),RANDBETWEEN(1,999)/10),CHOOSE(RANDBETWEEN(1,4),RANDBETWEEN(1,99999)/1000,RANDBETWEEN(1,9999)/100,RANDBETWEEN(1,999)/10,RANDBETWEEN(1,99))))","v":30},"m","=",{"$f":"100*C1412","v":3000},"cm"]
[{"$f":"IF(COUNTIF($B$1:B1413,TRUE)=COUNTIF($B$1:B1412,TRUE),\"\",COUNTIF($B$1:B1413,TRUE))","v":849},{"$f":"IF(Worksheet!$D$10=3,FALSE,Worksheet!$B$16)","v":true},{"$f":"IF(Worksheet!$D$6=1,RANDBETWEEN(1,99),IF(Worksheet!$D$6=2,CHOOSE(RANDBETWEEN(1,2),RANDBETWEEN(1,99),RANDBETWEEN(1,999)/10),CHOOSE(RANDBETWEEN(1,4),RANDBETWEEN(1,99999)/1000,RANDBETWEEN(1,9999)/100,RANDBETWEEN(1,999)/10,RANDBETWEEN(1,99))))","v":36},"km","=",{"$f":"1000*C1413","v":36000},"m"]
[{"$f":"IF(COUNTIF($B$1:B1414,TRUE)=COUNTIF($B$1:B1413,TRUE),\"\",COUNTIF($B$1:B1414,TRUE))","v":""},{"$f":"IF(Worksheet!$D$10=3,FALSE,Worksheet!$B$17)","v":false},{"$f":"IF(Worksheet!$D$6=1,RANDBETWEEN(1,99),IF(Worksheet!$D$6=2,CHOOSE(RANDBETWEEN(1,2),RANDBETWEEN(1,99),RANDBETWEEN(1,999)/10),CHOOSE(RANDBETWEEN(1,4),RANDBETWEEN(1,99999)/1000,RANDBETWEEN(1,9999)/100,RANDBETWEEN(1,999)/10,RANDBETWEEN(1,99))))","v":99},"m",{"$f":"#REF!","v":{"$error":"#REF!"}},{"$f":"1000*C1414","v":99000},"mm"]
[{"$f":"IF(COUNTIF($B$1:B1415,TRUE)=COUNTIF($B$1:B1414,TRUE),\"\",COUNTIF($B$1:B1415,TRUE))","v":""},{"$f":"IF(Worksheet!$D$10=3,FALSE,Worksheet!$B$18)","v":false},{"$f":"IF(Worksheet!$D$6=1,RANDBETWEEN(1,99),IF(Worksheet!$D$6=2,CHOOSE(RANDBETWEEN(1,2),RANDBETWEEN(1,99),RANDBETWEEN(1,999)/10),CHOOSE(RANDBETWEEN(1,4),RANDBETWEEN(1,99999)/1000,RANDBETWEEN(1,9999)/100,RANDBETWEEN(1,999)/10,RANDBETWEEN(1,99))))","v":4},"cm²","=",{"$f":"C1415*100","v":400},"mm²"]
[{"$f":"IF(COUNTIF($B$1:B1416,TRUE)=COUNTIF($B$1:B1415,TRUE),\"\",COUNTIF($B$1:B1416,TRUE))","v":850},{"$f":"IF(Worksheet!$D$10=3,FALSE,Worksheet!$D$14)","v":true},{"$f":"IF(Worksheet!$D$6=1,RANDBETWEEN(1,99),IF(Worksheet!$D$6=2,CHOOSE(RANDBETWEEN(1,2),RANDBETWEEN(1,99),RANDBETWEEN(1,999)/10),CHOOSE(RANDBETWEEN(1,4),RANDBETWEEN(1,99999)/1000,RANDBETWEEN(1,9999)/100,RANDBETWEEN(1,999)/10,RANDBETWEEN(1,99))))","v":24},"kg","=",{"$f":"1000*C1416","v":24000},"g"]
[{"$f":"IF(COUNTIF($B$1:B1417,TRUE)=COUNTIF($B$1:B1416,TRUE),\"\",COUNTIF($B$1:B1417,TRUE))","v":851},{"$f":"IF(Worksheet!$D$10=3,FALSE,Worksheet!$D$15)","v":true},{"$f":"IF(Worksheet!$D$6=1,RANDBETWEEN(1,99),IF(Worksheet!$D$6=2,CHOOSE(RANDBETWEEN(1,2),RANDBETWEEN(1,99),RANDBETWEEN(1,999)/10),CHOOSE(RANDBETWEEN(1,4),RANDBETWEEN(1,99999)/1000,RANDBETWEEN(1,9999)/100,RANDBETWEEN(1,999)/10,RANDBETWEEN(1,99))))","v":60},"tonnes","=",{"$f":"1000*C1417","v":60000},"kg"]
[{"$f":"IF(COUNTIF($B$1:B1418,TRUE)=COUNTIF($B$1:B1417,TRUE),\"\",COUNTIF($B$1:B1418,TRUE))","v":852},{"$f":"IF(Worksheet!$D$10=3,FALSE,Worksheet!$D$16)","v":true},{"$f":"IF(Worksheet!$D$6=1,RANDBETWEEN(1,99),IF(Worksheet!$D$6=2,CHOOSE(RANDBETWEEN(1,2),RANDBETWEEN(1,99),RANDBETWEEN(1,999)/10),CHOOSE(RANDBETWEEN(1,4),RANDBETWEEN(1,99999)/1000,RANDBETWEEN(1,9999)/100,RANDBETWEEN(1,999)/10,RANDBETWEEN(1,99))))","v":26},"litres","=",{"$f":"1000*C1418","v":26000},"ml"]
[{"$f":"IF(COUNTIF($B$1:B1419,TRUE)=COUNTIF($B$1:B1418,TRUE),\"\",COUNTIF($B$1:B1419,TRUE))","v":""},{"$f":"IF(Worksheet!$D$10=3,FALSE,Worksheet!$D$17)","v":false},{"$f":"IF(Worksheet!$D$6=1,RANDBETWEEN(1,99),IF(Worksheet!$D$6=2,CHOOSE(RANDBETWEEN(1,2),RANDBETWEEN(1,99),RANDBETWEEN(1,999)/10),CHOOSE(RANDBETWEEN(1,4),RANDBETWEEN(1,99999)/1000,RANDBETWEEN(1,9999)/100,RANDBETWEEN(1,999)/10,RANDBETWEEN(1,99))))","v":9},"litres","=",{"$f":"1000*C1419","v":9000},"cm³"]
[{"$f":"IF(COUNTIF($B$1:B1420,TRUE)=COUNTIF($B$1:B1419,TRUE),\"\",COUNTIF($B$1:B1420,TRUE))","v":""},{"$f":"IF(Worksheet!$D$10=3,FALSE,Worksheet!$D$18)","v":false},{"$f":"IF(Worksheet!$D$6=1,RANDBETWEEN(1,99),IF(Worksheet!$D$6=2,CHOOSE(RANDBETWEEN(1,2),RANDBETWEEN(1,99),RANDBETWEEN(1,999)/10),CHOOSE(RANDBETWEEN(1,4),RANDBETWEEN(1,99999)/1000,RANDBETWEEN(1,9999)/100,RANDBETWEEN(1,999)/10,RANDBETWEEN(1,99))))","v":12},"m²","=",{"$f":"10000*C1420","v":120000},"cm²"]
[{"$f":"IF(COUNTIF($B$1:B1421,TRUE)=COUNTIF($B$1:B1420,TRUE),\"\",COUNTIF($B$1:B1421,TRUE))","v":853},{"$f":"IF(Worksheet!$D$10=2,FALSE,Worksheet!$B$14)","v":true},{"$f":"10*F1421","v":270},"mm","=",{"$f":"IF(Worksheet!$D$6=1,RANDBETWEEN(1,99),IF(Worksheet!$D$6=2,CHOOSE(RANDBETWEEN(1,2),RANDBETWEEN(1,99),RANDBETWEEN(1,999)/10),CHOOSE(RANDBETWEEN(1,4),RANDBETWEEN(1,99999)/1000,RANDBETWEEN(1,9999)/100,RANDBETWEEN(1,999)/10,RANDBETWEEN(1,99))))","v":27},"cm"]
[{"$f":"IF(COUNTIF($B$1:B1422,TRUE)=COUNTIF($B$1:B1421,TRUE),\"\",COUNTIF($B$1:B1422,TRUE))","v":854},{"$f":"IF(Worksheet!$D$10=2,FALSE,Worksheet!$B$15)","v":true},{"$f":"100*F1422","v":8400},"cm","=",{"$f":"IF(Worksheet!$D$6=1,RANDBETWEEN(1,99),IF(Worksheet!$D$6=2,CHOOSE(RANDBETWEEN(1,2),RANDBETWEEN(1,99),RANDBETWEEN(1,999)/10),CHOOSE(RANDBETWEEN(1,4),RANDBETWEEN(1,99999)/1000,RANDBETWEEN(1,9999)/100,RANDBETWEEN(1,999)/10,RANDBETWEEN(1,99))))","v":84},"m"]
[{"$f":"IF(COUNTIF($B$1:B1423,TRUE)=COUNTIF($B$1:B1422,TRUE),\"\",COUNTIF($B$1:B1423,TRUE))","v":855},{"$f":"IF(Worksheet!$D$10=2,FALSE,Worksheet!$B$16)","v":true},{"$f":"1000*F1423","v":34000},"m","=",{"$f":"IF(Worksheet!$D$6=1,RANDBETWEEN(1,99),IF(Worksheet!$D$6=2,CHOOSE(RANDBETWEEN(1,2),RANDBETWEEN(1,99),RANDBETWEEN(1,999)/10),CHOOSE(RANDBETWEEN(1,4),RANDBETWEEN(1,99999)/1000,RANDBETWEEN(1,9999)/100,RANDBETWEEN(1,999)/10,RANDBETWEEN(1,99))))","v":34},"km"]
[{"$f":"IF(COUNTIF($B$1:B1424,TRUE)=COUNTIF($B$1:B1423,TRUE),\"\",COUNTIF($B$1:B1424,TRUE))","v":""},{"$f":"IF(Worksheet!$D$10=2,FALSE,Worksheet!$B$17)","v":false},{"$f":"1000*F1424","v":80000},"mm","=",{"$f":"IF(Worksheet!$D$6=1,RANDBETWEEN(1,99),IF(Worksheet!$D$6=2,CHOOSE(RANDBETWEEN(1,2),RANDBETWEEN(1,99),RANDBETWEEN(1,999)/10),CHOOSE(RANDBETWEEN(1,4),RANDBETWEEN(1,99999)/1000,RANDBETWEEN(1,9999)/100,RANDBETWEEN(1,999)/10,RANDBETWEEN(1,99))))","v":80},"m"]
[{"$f":"IF(COUNTIF($B$1:B1425,TRUE)=COUNTIF($B$1:B1424,TRUE),\"\",COUNTIF($B$1:B1425,TRUE))","v":""},{"$f":"IF(Worksheet!$D$10=2,FALSE,Worksheet!$B$18)","v":false},{"$f":"100*F1425","v":2800},"mm²","=",{"$f":"IF(Worksheet!$D$6=1,RANDBETWEEN(1,99),IF(Worksheet!$D$6=2,CHOOSE(RANDBETWEEN(1,2),RANDBETWEEN(1,99),RANDBETWEEN(1,999)/10),CHOOSE(RANDBETWEEN(1,4),RANDBETWEEN(1,99999)/1000,RANDBETWEEN(1,9999)/100,RANDBETWEEN(1,999)/10,RANDBETWEEN(1,99))))","v":28},"cm²"]
[{"$f":"IF(COUNTIF($B$1:B1426,TRUE)=COUNTIF($B$1:B1425,TRUE),\"\",COUNTIF($B$1:B1426,TRUE))","v":856},{"$f":"IF(Worksheet!$D$10=2,FALSE,Worksheet!$D$14)","v":true},{"$f":"F1426*1000","v":58000},"g","=",{"$f":"IF(Worksheet!$D$6=1,RANDBETWEEN(1,99),IF(Worksheet!$D$6=2,CHOOSE(RANDBETWEEN(1,2),RANDBETWEEN(1,99),RANDBETWEEN(1,999)/10),CHOOSE(RANDBETWEEN(1,4),RANDBETWEEN(1,99999)/1000,RANDBETWEEN(1,9999)/100,RANDBETWEEN(1,999)/10,RANDBETWEEN(1,99))))","v":58},"kg"]
[{"$f":"IF(COUNTIF($B$1:B1427,TRUE)=COUNTIF($B$1:B1426,TRUE),\"\",COUNTIF($B$1:B1427,TRUE))","v":857},{"$f":"IF(Worksheet!$D$10=2,FALSE,Worksheet!$D$15)","v":true},{"$f":"F1427*1000","v":42000},"kg","=",{"$f":"IF(Worksheet!$D$6=1,RANDBETWEEN(1,99),IF(Worksheet!$D$6=2,CHOOSE(RANDBETWEEN(1,2),RANDBETWEEN(1,99),RANDBETWEEN(1,999)/10),CHOOSE(RANDBETWEEN(1,4),RANDBETWEEN(1,99999)/1000,RANDBETWEEN(1,9999)/100,RANDBETWEEN(1,999)/10,RANDBETWEEN(1,99))))","v":42},"tonnes"]
[{"$f":"IF(COUNTIF($B$1:B1428,TRUE)=COUNTIF($B$1:B1427,TRUE),\"\",COUNTIF($B$1:B1428,TRUE))","v":858},{"$f":"IF(Worksheet!$D$10=2,FALSE,Worksheet!$D$16)","v":true},{"$f":"1000*F1428","v":59000},"ml","=",{"$f":"IF(Worksheet!$D$6=1,RANDBETWEEN(1,99),IF(Worksheet!$D$6=2,CHOOSE(RANDBETWEEN(1,2),RANDBETWEEN(1,99),RANDBETWEEN(1,999)/10),CHOOSE(RANDBETWEEN(1,4),RANDBETWEEN(1,99999)/1000,RANDBETWEEN(1,9999)/100,RANDBETWEEN(1,999)/10,RANDBETWEEN(1,99))))","v":59},"litres"]
[{"$f":"IF(COUNTIF($B$1:B1429,TRUE)=COUNTIF($B$1:B1428,TRUE),\"\",COUNTIF($B$1:B1429,TRUE))","v":""},{"$f":"IF(Worksheet!$D$10=2,FALSE,Worksheet!$D$17)","v":false},{"$f":"1000*F1429","v":40000},"cm³","=",{"$f":"IF(Worksheet!$D$6=1,RANDBETWEEN(1,99),IF(Worksheet!$D$6=2,CHOOSE(RANDBETWEEN(1,2),RANDBETWEEN(1,99),RANDBETWEEN(1,999)/10),CHOOSE(RANDBETWEEN(1,4),RANDBETWEEN(1,99999)/1000,RANDBETWEEN(1,9999)/100,RANDBETWEEN(1,999)/10,RANDBETWEEN(1,99))))","v":40},"litres"]
[{"$f":"IF(COUNTIF($B$1:B1430,TRUE)=COUNTIF($B$1:B1429,TRUE),\"\",COUNTIF($B$1:B1430,TRUE))","v":""},{"$f":"IF(Worksheet!$D$10=2,FALSE,Worksheet!$D$18)","v":false},{"$f":"10000*F1430","v":210000},"cm²","=",{"$f":"IF(Worksheet!$D$6=1,RANDBETWEEN(1,99),IF(Worksheet!$D$6=2,CHOOSE(RANDBETWEEN(1,2),RANDBETWEEN(1,99),RANDBETWEEN(1,999)/10),CHOOSE(RANDBETWEEN(1,4),RANDBETWEEN(1,99999)/1000,RANDBETWEEN(1,9999)/100,RANDBETWEEN(1,999)/10,RANDBETWEEN(1,99))))","v":21},"m²"]
[{"$f":"IF(COUNTIF($B$1:B1431,TRUE)=COUNTIF($B$1:B1430,TRUE),\"\",COUNTIF($B$1:B1431,TRUE))","v":859},{"$f":"IF(Worksheet!$D$10=3,FALSE,Worksheet!$B$14)","v":true},{"$f":"IF(Worksheet!$D$6=1,RANDBETWEEN(1,99),IF(Worksheet!$D$6=2,CHOOSE(RANDBETWEEN(1,2),RANDBETWEEN(1,99),RANDBETWEEN(1,999)/10),CHOOSE(RANDBETWEEN(1,4),RANDBETWEEN(1,99999)/1000,RANDBETWEEN(1,9999)/100,RANDBETWEEN(1,999)/10,RANDBETWEEN(1,99))))","v":78},"cm","=",{"$f":"10*C1431","v":780},"mm"]
[{"$f":"IF(COUNTIF($B$1:B1432,TRUE)=COUNTIF($B$1:B1431,TRUE),\"\",COUNTIF($B$1:B1432,TRUE))","v":860},{"$f":"IF(Worksheet!$D$10=3,FALSE,Worksheet!$B$15)","v":true},{"$f":"IF(Worksheet!$D$6=1,RANDBETWEEN(1,99),IF(Worksheet!$D$6=2,CHOOSE(RANDBETWEEN(1,2),RANDBETWEEN(1,99),RANDBETWEEN(1,999)/10),CHOOSE(RANDBETWEEN(1,4),RANDBETWEEN(1,99999)/1000,RANDBETWEEN(1,9999)/100,RANDBETWEEN(1,999)/10,RANDBETWEEN(1,99))))","v":66},"m","=",{"$f":"100*C1432","v":6600},"cm"]
[{"$f":"IF(COUNTIF($B$1:B1433,TRUE)=COUNTIF($B$1:B1432,TRUE),\"\",COUNTIF($B$1:B1433,TRUE))","v":861},{"$f":"IF(Worksheet!$D$10=3,FALSE,Worksheet!$B$16)","v":true},{"$f":"IF(Worksheet!$D$6=1,RANDBETWEEN(1,99),IF(Worksheet!$D$6=2,CHOOSE(RANDBETWEEN(1,2),RANDBETWEEN(1,99),RANDBETWEEN(1,999)/10),CHOOSE(RANDBETWEEN(1,4),RANDBETWEEN(1,99999)/1000,RANDBETWEEN(1,9999)/100,RANDBETWEEN(1,999)/10,RANDBETWEEN(1,99))))","v":43},"km","=",{"$f":"1000*C1433","v":43000},"m"]
[{"$f":"IF(COUNTIF($B$1:B1434,TRUE)=COUNTIF($B$1:B1433,TRUE),\"\",COUNTIF($B$1:B1434,TRUE))","v":""},{"$f":"IF(Worksheet!$D$10=3,FALSE,Worksheet!$B$17)","v":false},{"$f":"IF(Worksheet!$D$6=1,RANDBETWEEN(1,99),IF(Worksheet!$D$6=2,CHOOSE(RANDBETWEEN(1,2),RANDBETWEEN(1,99),RANDBETWEEN(1,999)/10),CHOOSE(RANDBETWEEN(1,4),RANDBETWEEN(1,99999)/1000,RANDBETWEEN(1,9999)/100,RANDBETWEEN(1,999)/10,RANDBETWEEN(1,99))))","v":42},"m",{"$f":"#REF!","v":{"$error":"#REF!"}},{"$f":"1000*C1434","v":42000},"mm"]
[{"$f":"IF(COUNTIF($B$1:B1435,TRUE)=COUNTIF($B$1:B1434,TRUE),\"\",COUNTIF($B$1:B1435,TRUE))","v":""},{"$f":"IF(Worksheet!$D$10=3,FALSE,Worksheet!$B$18)","v":false},{"$f":"IF(Worksheet!$D$6=1,RANDBETWEEN(1,99),IF(Worksheet!$D$6=2,CHOOSE(RANDBETWEEN(1,2),RANDBETWEEN(1,99),RANDBETWEEN(1,999)/10),CHOOSE(RANDBETWEEN(1,4),RANDBETWEEN(1,99999)/1000,RANDBETWEEN(1,9999)/100,RANDBETWEEN(1,999)/10,RANDBETWEEN(1,99))))","v":89},"cm²","=",{"$f":"C1435*100","v":8900},"mm²"]
[{"$f":"IF(COUNTIF($B$1:B1436,TRUE)=COUNTIF($B$1:B1435,TRUE),\"\",COUNTIF($B$1:B1436,TRUE))","v":862},{"$f":"IF(Worksheet!$D$10=3,FALSE,Worksheet!$D$14)","v":true},{"$f":"IF(Worksheet!$D$6=1,RANDBETWEEN(1,99),IF(Worksheet!$D$6=2,CHOOSE(RANDBETWEEN(1,2),RANDBETWEEN(1,99),RANDBETWEEN(1,999)/10),CHOOSE(RANDBETWEEN(1,4),RANDBETWEEN(1,99999)/1000,RANDBETWEEN(1,9999)/100,RANDBETWEEN(1,999)/10,RANDBETWEEN(1,99))))","v":20},"kg","=",{"$f":"1000*C1436","v":20000},"g"]
[{"$f":"IF(COUNTIF($B$1:B1437,TRUE)=COUNTIF($B$1:B1436,TRUE),\"\",COUNTIF($B$1:B1437,TRUE))","v":863},{"$f":"IF(Worksheet!$D$10=3,FALSE,Worksheet!$D$15)","v":true},{"$f":"IF(Worksheet!$D$6=1,RANDBETWEEN(1,99),IF(Worksheet!$D$6=2,CHOOSE(RANDBETWEEN(1,2),RANDBETWEEN(1,99),RANDBETWEEN(1,999)/10),CHOOSE(RANDBETWEEN(1,4),RANDBETWEEN(1,99999)/1000,RANDBETWEEN(1,9999)/100,RANDBETWEEN(1,999)/10,RANDBETWEEN(1,99))))","v":30},"tonnes","=",{"$f":"1000*C1437","v":30000},"kg"]
[{"$f":"IF(COUNTIF($B$1:B1438,TRUE)=COUNTIF($B$1:B1437,TRUE),\"\",COUNTIF($B$1:B1438,TRUE))","v":864},{"$f":"IF(Worksheet!$D$10=3,FALSE,Worksheet!$D$16)","v":true},{"$f":"IF(Worksheet!$D$6=1,RANDBETWEEN(1,99),IF(Worksheet!$D$6=2,CHOOSE(RANDBETWEEN(1,2),RANDBETWEEN(1,99),RANDBETWEEN(1,999)/10),CHOOSE(RANDBETWEEN(1,4),RANDBETWEEN(1,99999)/1000,RANDBETWEEN(1,9999)/100,RANDBETWEEN(1,999)/10,RANDBETWEEN(1,99))))","v":52},"litres","=",{"$f":"1000*C1438","v":52000},"ml"]
[{"$f":"IF(COUNTIF($B$1:B1439,TRUE)=COUNTIF($B$1:B1438,TRUE),\"\",COUNTIF($B$1:B1439,TRUE))","v":""},{"$f":"IF(Worksheet!$D$10=3,FALSE,Worksheet!$D$17)","v":false},{"$f":"IF(Worksheet!$D$6=1,RANDBETWEEN(1,99),IF(Worksheet!$D$6=2,CHOOSE(RANDBETWEEN(1,2),RANDBETWEEN(1,99),RANDBETWEEN(1,999)/10),CHOOSE(RANDBETWEEN(1,4),RANDBETWEEN(1,99999)/1000,RANDBETWEEN(1,9999)/100,RANDBETWEEN(1,999)/10,RANDBETWEEN(1,99))))","v":46},"litres","=",{"$f":"1000*C1439","v":46000},"cm³"]
[{"$f":"IF(COUNTIF($B$1:B1440,TRUE)=COUNTIF($B$1:B1439,TRUE),\"\",COUNTIF($B$1:B1440,TRUE))","v":""},{"$f":"IF(Worksheet!$D$10=3,FALSE,Worksheet!$D$18)","v":false},{"$f":"IF(Worksheet!$D$6=1,RANDBETWEEN(1,99),IF(Worksheet!$D$6=2,CHOOSE(RANDBETWEEN(1,2),RANDBETWEEN(1,99),RANDBETWEEN(1,999)/10),CHOOSE(RANDBETWEEN(1,4),RANDBETWEEN(1,99999)/1000,RANDBETWEEN(1,9999)/100,RANDBETWEEN(1,999)/10,RANDBETWEEN(1,99))))","v":73},"m²","=",{"$f":"10000*C1440","v":730000},"cm²"]
[{"$f":"IF(COUNTIF($B$1:B1441,TRUE)=COUNTIF($B$1:B1440,TRUE),\"\",COUNTIF($B$1:B1441,TRUE))","v":865},{"$f":"IF(Worksheet!$D$10=2,FALSE,Worksheet!$B$14)","v":true},{"$f":"10*F1441","v":540},"mm","=",{"$f":"IF(Worksheet!$D$6=1,RANDBETWEEN(1,99),IF(Worksheet!$D$6=2,CHOOSE(RANDBETWEEN(1,2),RANDBETWEEN(1,99),RANDBETWEEN(1,999)/10),CHOOSE(RANDBETWEEN(1,4),RANDBETWEEN(1,99999)/1000,RANDBETWEEN(1,9999)/100,RANDBETWEEN(1,999)/10,RANDBETWEEN(1,99))))","v":54},"cm"]
[{"$f":"IF(COUNTIF($B$1:B1442,TRUE)=COUNTIF($B$1:B1441,TRUE),\"\",COUNTIF($B$1:B1442,TRUE))","v":866},{"$f":"IF(Worksheet!$D$10=2,FALSE,Worksheet!$B$15)","v":true},{"$f":"100*F1442","v":9400},"cm","=",{"$f":"IF(Worksheet!$D$6=1,RANDBETWEEN(1,99),IF(Worksheet!$D$6=2,CHOOSE(RANDBETWEEN(1,2),RANDBETWEEN(1,99),RANDBETWEEN(1,999)/10),CHOOSE(RANDBETWEEN(1,4),RANDBETWEEN(1,99999)/1000,RANDBETWEEN(1,9999)/100,RANDBETWEEN(1,999)/10,RANDBETWEEN(1,99))))","v":94},"m"]
[{"$f":"IF(COUNTIF($B$1:B1443,TRUE)=COUNTIF($B$1:B1442,TRUE),\"\",COUNTIF($B$1:B1443,TRUE))","v":867},{"$f":"IF(Worksheet!$D$10=2,FALSE,Worksheet!$B$16)","v":true},{"$f":"1000*F1443","v":65000},"m","=",{"$f":"IF(Worksheet!$D$6=1,RANDBETWEEN(1,99),IF(Worksheet!$D$6=2,CHOOSE(RANDBETWEEN(1,2),RANDBETWEEN(1,99),RANDBETWEEN(1,999)/10),CHOOSE(RANDBETWEEN(1,4),RANDBETWEEN(1,99999)/1000,RANDBETWEEN(1,9999)/100,RANDBETWEEN(1,999)/10,RANDBETWEEN(1,99))))","v":65},"km"]
[{"$f":"IF(COUNTIF($B$1:B1444,TRUE)=COUNTIF($B$1:B1443,TRUE),\"\",COUNTIF($B$1:B1444,TRUE))","v":""},{"$f":"IF(Worksheet!$D$10=2,FALSE,Worksheet!$B$17)","v":false},{"$f":"1000*F1444","v":30000},"mm","=",{"$f":"IF(Worksheet!$D$6=1,RANDBETWEEN(1,99),IF(Worksheet!$D$6=2,CHOOSE(RANDBETWEEN(1,2),RANDBETWEEN(1,99),RANDBETWEEN(1,999)/10),CHOOSE(RANDBETWEEN(1,4),RANDBETWEEN(1,99999)/1000,RANDBETWEEN(1,9999)/100,RANDBETWEEN(1,999)/10,RANDBETWEEN(1,99))))","v":30},"m"]
[{"$f":"IF(COUNTIF($B$1:B1445,TRUE)=COUNTIF($B$1:B1444,TRUE),\"\",COUNTIF($B$1:B1445,TRUE))","v":""},{"$f":"IF(Worksheet!$D$10=2,FALSE,Worksheet!$B$18)","v":false},{"$f":"100*F1445","v":6200},"mm²","=",{"$f":"IF(Worksheet!$D$6=1,RANDBETWEEN(1,99),IF(Worksheet!$D$6=2,CHOOSE(RANDBETWEEN(1,2),RANDBETWEEN(1,99),RANDBETWEEN(1,999)/10),CHOOSE(RANDBETWEEN(1,4),RANDBETWEEN(1,99999)/1000,RANDBETWEEN(1,9999)/100,RANDBETWEEN(1,999)/10,RANDBETWEEN(1,99))))","v":62},"cm²"]
[{"$f":"IF(COUNTIF($B$1:B1446,TRUE)=COUNTIF($B$1:B1445,TRUE),\"\",COUNTIF($B$1:B1446,TRUE))","v":868},{"$f":"IF(Worksheet!$D$10=2,FALSE,Worksheet!$D$14)","v":true},{"$f":"F1446*1000","v":14000},"g","=",{"$f":"IF(Worksheet!$D$6=1,RANDBETWEEN(1,99),IF(Worksheet!$D$6=2,CHOOSE(RANDBETWEEN(1,2),RANDBETWEEN(1,99),RANDBETWEEN(1,999)/10),CHOOSE(RANDBETWEEN(1,4),RANDBETWEEN(1,99999)/1000,RANDBETWEEN(1,9999)/100,RANDBETWEEN(1,999)/10,RANDBETWEEN(1,99))))","v":14},"kg"]
[{"$f":"IF(COUNTIF($B$1:B1447,TRUE)=COUNTIF($B$1:B1446,TRUE),\"\",COUNTIF($B$1:B1447,TRUE))","v":869},{"$f":"IF(Worksheet!$D$10=2,FALSE,Worksheet!$D$15)","v":true},{"$f":"F1447*1000","v":62000},"kg","=",{"$f":"IF(Worksheet!$D$6=1,RANDBETWEEN(1,99),IF(Worksheet!$D$6=2,CHOOSE(RANDBETWEEN(1,2),RANDBETWEEN(1,99),RANDBETWEEN(1,999)/10),CHOOSE(RANDBETWEEN(1,4),RANDBETWEEN(1,99999)/1000,RANDBETWEEN(1,9999)/100,RANDBETWEEN(1,999)/10,RANDBETWEEN(1,99))))","v":62},"tonnes"]
[{"$f":"IF(COUNTIF($B$1:B1448,TRUE)=COUNTIF($B$1:B1447,TRUE),\"\",COUNTIF($B$1:B1448,TRUE))","v":870},{"$f":"IF(Worksheet!$D$10=2,FALSE,Worksheet!$D$16)","v":true},{"$f":"1000*F1448","v":67000},"ml","=",{"$f":"IF(Worksheet!$D$6=1,RANDBETWEEN(1,99),IF(Worksheet!$D$6=2,CHOOSE(RANDBETWEEN(1,2),RANDBETWEEN(1,99),RANDBETWEEN(1,999)/10),CHOOSE(RANDBETWEEN(1,4),RANDBETWEEN(1,99999)/1000,RANDBETWEEN(1,9999)/100,RANDBETWEEN(1,999)/10,RANDBETWEEN(1,99))))","v":67},"litres"]
[{"$f":"IF(COUNTIF($B$1:B1449,TRUE)=COUNTIF($B$1:B1448,TRUE),\"\",COUNTIF($B$1:B1449,TRUE))","v":""},{"$f":"IF(Worksheet!$D$10=2,FALSE,Worksheet!$D$17)","v":false},{"$f":"1000*F1449","v":15000},"cm³","=",{"$f":"IF(Worksheet!$D$6=1,RANDBETWEEN(1,99),IF(Worksheet!$D$6=2,CHOOSE(RANDBETWEEN(1,2),RANDBETWEEN(1,99),RANDBETWEEN(1,999)/10),CHOOSE(RANDBETWEEN(1,4),RANDBETWEEN(1,99999)/1000,RANDBETWEEN(1,9999)/100,RANDBETWEEN(1,999)/10,RANDBETWEEN(1,99))))","v":15},"litres"]
[{"$f":"IF(COUNTIF($B$1:B1450,TRUE)=COUNTIF($B$1:B1449,TRUE),\"\",COUNTIF($B$1:B1450,TRUE))","v":""},{"$f":"IF(Worksheet!$D$10=2,FALSE,Worksheet!$D$18)","v":false},{"$f":"10000*F1450","v":580000},"cm²","=",{"$f":"IF(Worksheet!$D$6=1,RANDBETWEEN(1,99),IF(Worksheet!$D$6=2,CHOOSE(RANDBETWEEN(1,2),RANDBETWEEN(1,99),RANDBETWEEN(1,999)/10),CHOOSE(RANDBETWEEN(1,4),RANDBETWEEN(1,99999)/1000,RANDBETWEEN(1,9999)/100,RANDBETWEEN(1,999)/10,RANDBETWEEN(1,99))))","v":58},"m²"]
[{"$f":"IF(COUNTIF($B$1:B1451,TRUE)=COUNTIF($B$1:B1450,TRUE),\"\",COUNTIF($B$1:B1451,TRUE))","v":871},{"$f":"IF(Worksheet!$D$10=3,FALSE,Worksheet!$B$14)","v":true},{"$f":"IF(Worksheet!$D$6=1,RANDBETWEEN(1,99),IF(Worksheet!$D$6=2,CHOOSE(RANDBETWEEN(1,2),RANDBETWEEN(1,99),RANDBETWEEN(1,999)/10),CHOOSE(RANDBETWEEN(1,4),RANDBETWEEN(1,99999)/1000,RANDBETWEEN(1,9999)/100,RANDBETWEEN(1,999)/10,RANDBETWEEN(1,99))))","v":26},"cm","=",{"$f":"10*C1451","v":260},"mm"]
[{"$f":"IF(COUNTIF($B$1:B1452,TRUE)=COUNTIF($B$1:B1451,TRUE),\"\",COUNTIF($B$1:B1452,TRUE))","v":872},{"$f":"IF(Worksheet!$D$10=3,FALSE,Worksheet!$B$15)","v":true},{"$f":"IF(Worksheet!$D$6=1,RANDBETWEEN(1,99),IF(Worksheet!$D$6=2,CHOOSE(RANDBETWEEN(1,2),RANDBETWEEN(1,99),RANDBETWEEN(1,999)/10),CHOOSE(RANDBETWEEN(1,4),RANDBETWEEN(1,99999)/1000,RANDBETWEEN(1,9999)/100,RANDBETWEEN(1,999)/10,RANDBETWEEN(1,99))))","v":54},"m","=",{"$f":"100*C1452","v":5400},"cm"]
[{"$f":"IF(COUNTIF($B$1:B1453,TRUE)=COUNTIF($B$1:B1452,TRUE),\"\",COUNTIF($B$1:B1453,TRUE))","v":873},{"$f":"IF(Worksheet!$D$10=3,FALSE,Worksheet!$B$16)","v":true},{"$f":"IF(Worksheet!$D$6=1,RANDBETWEEN(1,99),IF(Worksheet!$D$6=2,CHOOSE(RANDBETWEEN(1,2),RANDBETWEEN(1,99),RANDBETWEEN(1,999)/10),CHOOSE(RANDBETWEEN(1,4),RANDBETWEEN(1,99999)/1000,RANDBETWEEN(1,9999)/100,RANDBETWEEN(1,999)/10,RANDBETWEEN(1,99))))","v":67},"km","=",{"$f":"1000*C1453","v":67000},"m"]
[{"$f":"IF(COUNTIF($B$1:B1454,TRUE)=COUNTIF($B$1:B1453,TRUE),\"\",COUNTIF($B$1:B1454,TRUE))","v":""},{"$f":"IF(Worksheet!$D$10=3,FALSE,Worksheet!$B$17)","v":false},{"$f":"IF(Worksheet!$D$6=1,RANDBETWEEN(1,99),IF(Worksheet!$D$6=2,CHOOSE(RANDBETWEEN(1,2),RANDBETWEEN(1,99),RANDBETWEEN(1,999)/10),CHOOSE(RANDBETWEEN(1,4),RANDBETWEEN(1,99999)/1000,RANDBETWEEN(1,9999)/100,RANDBETWEEN(1,999)/10,RANDBETWEEN(1,99))))","v":31},"m",{"$f":"#REF!","v":{"$error":"#REF!"}},{"$f":"1000*C1454","v":31000},"mm"]
[{"$f":"IF(COUNTIF($B$1:B1455,TRUE)=COUNTIF($B$1:B1454,TRUE),\"\",COUNTIF($B$1:B1455,TRUE))","v":""},{"$f":"IF(Worksheet!$D$10=3,FALSE,Worksheet!$B$18)","v":false},{"$f":"IF(Worksheet!$D$6=1,RANDBETWEEN(1,99),IF(Worksheet!$D$6=2,CHOOSE(RANDBETWEEN(1,2),RANDBETWEEN(1,99),RANDBETWEEN(1,999)/10),CHOOSE(RANDBETWEEN(1,4),RANDBETWEEN(1,99999)/1000,RANDBETWEEN(1,9999)/100,RANDBETWEEN(1,999)/10,RANDBETWEEN(1,99))))","v":1},"cm²","=",{"$f":"C1455*100","v":100},"mm²"]
[{"$f":"IF(COUNTIF($B$1:B1456,TRUE)=COUNTIF($B$1:B1455,TRUE),\"\",COUNTIF($B$1:B1456,TRUE))","v":874},{"$f":"IF(Worksheet!$D$10=3,FALSE,Worksheet!$D$14)","v":true},{"$f":"IF(Worksheet!$D$6=1,RANDBETWEEN(1,99),IF(Worksheet!$D$6=2,CHOOSE(RANDBETWEEN(1,2),RANDBETWEEN(1,99),RANDBETWEEN(1,999)/10),CHOOSE(RANDBETWEEN(1,4),RANDBETWEEN(1,99999)/1000,RANDBETWEEN(1,9999)/100,RANDBETWEEN(1,999)/10,RANDBETWEEN(1,99))))","v":43},"kg","=",{"$f":"1000*C1456","v":43000},"g"]
[{"$f":"IF(COUNTIF($B$1:B1457,TRUE)=COUNTIF($B$1:B1456,TRUE),\"\",COUNTIF($B$1:B1457,TRUE))","v":875},{"$f":"IF(Worksheet!$D$10=3,FALSE,Worksheet!$D$15)","v":true},{"$f":"IF(Worksheet!$D$6=1,RANDBETWEEN(1,99),IF(Worksheet!$D$6=2,CHOOSE(RANDBETWEEN(1,2),RANDBETWEEN(1,99),RANDBETWEEN(1,999)/10),CHOOSE(RANDBETWEEN(1,4),RANDBETWEEN(1,99999)/1000,RANDBETWEEN(1,9999)/100,RANDBETWEEN(1,999)/10,RANDBETWEEN(1,99))))","v":44},"tonnes","=",{"$f":"1000*C1457","v":44000},"kg"]
[{"$f":"IF(COUNTIF($B$1:B1458,TRUE)=COUNTIF($B$1:B1457,TRUE),\"\",COUNTIF($B$1:B1458,TRUE))","v":876},{"$f":"IF(Worksheet!$D$10=3,FALSE,Worksheet!$D$16)","v":true},{"$f":"IF(Worksheet!$D$6=1,RANDBETWEEN(1,99),IF(Worksheet!$D$6=2,CHOOSE(RANDBETWEEN(1,2),RANDBETWEEN(1,99),RANDBETWEEN(1,999)/10),CHOOSE(RANDBETWEEN(1,4),RANDBETWEEN(1,99999)/1000,RANDBETWEEN(1,9999)/100,RANDBETWEEN(1,999)/10,RANDBETWEEN(1,99))))","v":29},"litres","=",{"$f":"1000*C1458","v":29000},"ml"]
[{"$f":"IF(COUNTIF($B$1:B1459,TRUE)=COUNTIF($B$1:B1458,TRUE),\"\",COUNTIF($B$1:B1459,TRUE))","v":""},{"$f":"IF(Worksheet!$D$10=3,FALSE,Worksheet!$D$17)","v":false},{"$f":"IF(Worksheet!$D$6=1,RANDBETWEEN(1,99),IF(Worksheet!$D$6=2,CHOOSE(RANDBETWEEN(1,2),RANDBETWEEN(1,99),RANDBETWEEN(1,999)/10),CHOOSE(RANDBETWEEN(1,4),RANDBETWEEN(1,99999)/1000,RANDBETWEEN(1,9999)/100,RANDBETWEEN(1,999)/10,RANDBETWEEN(1,99))))","v":21},"litres","=",{"$f":"1000*C1459","v":21000},"cm³"]
[{"$f":"IF(COUNTIF($B$1:B1460,TRUE)=COUNTIF($B$1:B1459,TRUE),\"\",COUNTIF($B$1:B1460,TRUE))","v":""},{"$f":"IF(Worksheet!$D$10=3,FALSE,Worksheet!$D$18)","v":false},{"$f":"IF(Worksheet!$D$6=1,RANDBETWEEN(1,99),IF(Worksheet!$D$6=2,CHOOSE(RANDBETWEEN(1,2),RANDBETWEEN(1,99),RANDBETWEEN(1,999)/10),CHOOSE(RANDBETWEEN(1,4),RANDBETWEEN(1,99999)/1000,RANDBETWEEN(1,9999)/100,RANDBETWEEN(1,999)/10,RANDBETWEEN(1,99))))","v":2},"m²","=",{"$f":"10000*C1460","v":20000},"cm²"]
[{"$f":"IF(COUNTIF($B$1:B1461,TRUE)=COUNTIF($B$1:B1460,TRUE),\"\",COUNTIF($B$1:B1461,TRUE))","v":877},{"$f":"IF(Worksheet!$D$10=2,FALSE,Worksheet!$B$14)","v":true},{"$f":"10*F1461","v":490},"mm","=",{"$f":"IF(Worksheet!$D$6=1,RANDBETWEEN(1,99),IF(Worksheet!$D$6=2,CHOOSE(RANDBETWEEN(1,2),RANDBETWEEN(1,99),RANDBETWEEN(1,999)/10),CHOOSE(RANDBETWEEN(1,4),RANDBETWEEN(1,99999)/1000,RANDBETWEEN(1,9999)/100,RANDBETWEEN(1,999)/10,RANDBETWEEN(1,99))))","v":49},"cm"]
[{"$f":"IF(COUNTIF($B$1:B1462,TRUE)=COUNTIF($B$1:B1461,TRUE),\"\",COUNTIF($B$1:B1462,TRUE))","v":878},{"$f":"IF(Worksheet!$D$10=2,FALSE,Worksheet!$B$15)","v":true},{"$f":"100*F1462","v":3000},"cm","=",{"$f":"IF(Worksheet!$D$6=1,RANDBETWEEN(1,99),IF(Worksheet!$D$6=2,CHOOSE(RANDBETWEEN(1,2),RANDBETWEEN(1,99),RANDBETWEEN(1,999)/10),CHOOSE(RANDBETWEEN(1,4),RANDBETWEEN(1,99999)/1000,RANDBETWEEN(1,9999)/100,RANDBETWEEN(1,999)/10,RANDBETWEEN(1,99))))","v":30},"m"]
[{"$f":"IF(COUNTIF($B$1:B1463,TRUE)=COUNTIF($B$1:B1462,TRUE),\"\",COUNTIF($B$1:B1463,TRUE))","v":879},{"$f":"IF(Worksheet!$D$10=2,FALSE,Worksheet!$B$16)","v":true},{"$f":"1000*F1463","v":15000},"m","=",{"$f":"IF(Worksheet!$D$6=1,RANDBETWEEN(1,99),IF(Worksheet!$D$6=2,CHOOSE(RANDBETWEEN(1,2),RANDBETWEEN(1,99),RANDBETWEEN(1,999)/10),CHOOSE(RANDBETWEEN(1,4),RANDBETWEEN(1,99999)/1000,RANDBETWEEN(1,9999)/100,RANDBETWEEN(1,999)/10,RANDBETWEEN(1,99))))","v":15},"km"]
[{"$f":"IF(COUNTIF($B$1:B1464,TRUE)=COUNTIF($B$1:B1463,TRUE),\"\",COUNTIF($B$1:B1464,TRUE))","v":""},{"$f":"IF(Worksheet!$D$10=2,FALSE,Worksheet!$B$17)","v":false},{"$f":"1000*F1464","v":50000},"mm","=",{"$f":"IF(Worksheet!$D$6=1,RANDBETWEEN(1,99),IF(Worksheet!$D$6=2,CHOOSE(RANDBETWEEN(1,2),RANDBETWEEN(1,99),RANDBETWEEN(1,999)/10),CHOOSE(RANDBETWEEN(1,4),RANDBETWEEN(1,99999)/1000,RANDBETWEEN(1,9999)/100,RANDBETWEEN(1,999)/10,RANDBETWEEN(1,99))))","v":50},"m"]
[{"$f":"IF(COUNTIF($B$1:B1465,TRUE)=COUNTIF($B$1:B1464,TRUE),\"\",COUNTIF($B$1:B1465,TRUE))","v":""},{"$f":"IF(Worksheet!$D$10=2,FALSE,Worksheet!$B$18)","v":false},{"$f":"100*F1465","v":6600},"mm²","=",{"$f":"IF(Worksheet!$D$6=1,RANDBETWEEN(1,99),IF(Worksheet!$D$6=2,CHOOSE(RANDBETWEEN(1,2),RANDBETWEEN(1,99),RANDBETWEEN(1,999)/10),CHOOSE(RANDBETWEEN(1,4),RANDBETWEEN(1,99999)/1000,RANDBETWEEN(1,9999)/100,RANDBETWEEN(1,999)/10,RANDBETWEEN(1,99))))","v":66},"cm²"]
[{"$f":"IF(COUNTIF($B$1:B1466,TRUE)=COUNTIF($B$1:B1465,TRUE),\"\",COUNTIF($B$1:B1466,TRUE))","v":880},{"$f":"IF(Worksheet!$D$10=2,FALSE,Worksheet!$D$14)","v":true},{"$f":"F1466*1000","v":50000},"g","=",{"$f":"IF(Worksheet!$D$6=1,RANDBETWEEN(1,99),IF(Worksheet!$D$6=2,CHOOSE(RANDBETWEEN(1,2),RANDBETWEEN(1,99),RANDBETWEEN(1,999)/10),CHOOSE(RANDBETWEEN(1,4),RANDBETWEEN(1,99999)/1000,RANDBETWEEN(1,9999)/100,RANDBETWEEN(1,999)/10,RANDBETWEEN(1,99))))","v":50},"kg"]
[{"$f":"IF(COUNTIF($B$1:B1467,TRUE)=COUNTIF($B$1:B1466,TRUE),\"\",COUNTIF($B$1:B1467,TRUE))","v":881},{"$f":"IF(Worksheet!$D$10=2,FALSE,Worksheet!$D$15)","v":true},{"$f":"F1467*1000","v":46000},"kg","=",{"$f":"IF(Worksheet!$D$6=1,RANDBETWEEN(1,99),IF(Worksheet!$D$6=2,CHOOSE(RANDBETWEEN(1,2),RANDBETWEEN(1,99),RANDBETWEEN(1,999)/10),CHOOSE(RANDBETWEEN(1,4),RANDBETWEEN(1,99999)/1000,RANDBETWEEN(1,9999)/100,RANDBETWEEN(1,999)/10,RANDBETWEEN(1,99))))","v":46},"tonnes"]
[{"$f":"IF(COUNTIF($B$1:B1468,TRUE)=COUNTIF($B$1:B1467,TRUE),\"\",COUNTIF($B$1:B1468,TRUE))","v":882},{"$f":"IF(Worksheet!$D$10=2,FALSE,Worksheet!$D$16)","v":true},{"$f":"1000*F1468","v":27000},"ml","=",{"$f":"IF(Worksheet!$D$6=1,RANDBETWEEN(1,99),IF(Worksheet!$D$6=2,CHOOSE(RANDBETWEEN(1,2),RANDBETWEEN(1,99),RANDBETWEEN(1,999)/10),CHOOSE(RANDBETWEEN(1,4),RANDBETWEEN(1,99999)/1000,RANDBETWEEN(1,9999)/100,RANDBETWEEN(1,999)/10,RANDBETWEEN(1,99))))","v":27},"litres"]
[{"$f":"IF(COUNTIF($B$1:B1469,TRUE)=COUNTIF($B$1:B1468,TRUE),\"\",COUNTIF($B$1:B1469,TRUE))","v":""},{"$f":"IF(Worksheet!$D$10=2,FALSE,Worksheet!$D$17)","v":false},{"$f":"1000*F1469","v":96000},"cm³","=",{"$f":"IF(Worksheet!$D$6=1,RANDBETWEEN(1,99),IF(Worksheet!$D$6=2,CHOOSE(RANDBETWEEN(1,2),RANDBETWEEN(1,99),RANDBETWEEN(1,999)/10),CHOOSE(RANDBETWEEN(1,4),RANDBETWEEN(1,99999)/1000,RANDBETWEEN(1,9999)/100,RANDBETWEEN(1,999)/10,RANDBETWEEN(1,99))))","v":96},"litres"]
[{"$f":"IF(COUNTIF($B$1:B1470,TRUE)=COUNTIF($B$1:B1469,TRUE),\"\",COUNTIF($B$1:B1470,TRUE))","v":""},{"$f":"IF(Worksheet!$D$10=2,FALSE,Worksheet!$D$18)","v":false},{"$f":"10000*F1470","v":890000},"cm²","=",{"$f":"IF(Worksheet!$D$6=1,RANDBETWEEN(1,99),IF(Worksheet!$D$6=2,CHOOSE(RANDBETWEEN(1,2),RANDBETWEEN(1,99),RANDBETWEEN(1,999)/10),CHOOSE(RANDBETWEEN(1,4),RANDBETWEEN(1,99999)/1000,RANDBETWEEN(1,9999)/100,RANDBETWEEN(1,999)/10,RANDBETWEEN(1,99))))","v":89},"m²"]
[{"$f":"IF(COUNTIF($B$1:B1471,TRUE)=COUNTIF($B$1:B1470,TRUE),\"\",COUNTIF($B$1:B1471,TRUE))","v":883},{"$f":"IF(Worksheet!$D$10=3,FALSE,Worksheet!$B$14)","v":true},{"$f":"IF(Worksheet!$D$6=1,RANDBETWEEN(1,99),IF(Worksheet!$D$6=2,CHOOSE(RANDBETWEEN(1,2),RANDBETWEEN(1,99),RANDBETWEEN(1,999)/10),CHOOSE(RANDBETWEEN(1,4),RANDBETWEEN(1,99999)/1000,RANDBETWEEN(1,9999)/100,RANDBETWEEN(1,999)/10,RANDBETWEEN(1,99))))","v":67},"cm","=",{"$f":"10*C1471","v":670},"mm"]
[{"$f":"IF(COUNTIF($B$1:B1472,TRUE)=COUNTIF($B$1:B1471,TRUE),\"\",COUNTIF($B$1:B1472,TRUE))","v":884},{"$f":"IF(Worksheet!$D$10=3,FALSE,Worksheet!$B$15)","v":true},{"$f":"IF(Worksheet!$D$6=1,RANDBETWEEN(1,99),IF(Worksheet!$D$6=2,CHOOSE(RANDBETWEEN(1,2),RANDBETWEEN(1,99),RANDBETWEEN(1,999)/10),CHOOSE(RANDBETWEEN(1,4),RANDBETWEEN(1,99999)/1000,RANDBETWEEN(1,9999)/100,RANDBETWEEN(1,999)/10,RANDBETWEEN(1,99))))","v":60},"m","=",{"$f":"100*C1472","v":6000},"cm"]
[{"$f":"IF(COUNTIF($B$1:B1473,TRUE)=COUNTIF($B$1:B1472,TRUE),\"\",COUNTIF($B$1:B1473,TRUE))","v":885},{"$f":"IF(Worksheet!$D$10=3,FALSE,Worksheet!$B$16)","v":true},{"$f":"IF(Worksheet!$D$6=1,RANDBETWEEN(1,99),IF(Worksheet!$D$6=2,CHOOSE(RANDBETWEEN(1,2),RANDBETWEEN(1,99),RANDBETWEEN(1,999)/10),CHOOSE(RANDBETWEEN(1,4),RANDBETWEEN(1,99999)/1000,RANDBETWEEN(1,9999)/100,RANDBETWEEN(1,999)/10,RANDBETWEEN(1,99))))","v":64},"km","=",{"$f":"1000*C1473","v":64000},"m"]
[{"$f":"IF(COUNTIF($B$1:B1474,TRUE)=COUNTIF($B$1:B1473,TRUE),\"\",COUNTIF($B$1:B1474,TRUE))","v":""},{"$f":"IF(Worksheet!$D$10=3,FALSE,Worksheet!$B$17)","v":false},{"$f":"IF(Worksheet!$D$6=1,RANDBETWEEN(1,99),IF(Worksheet!$D$6=2,CHOOSE(RANDBETWEEN(1,2),RANDBETWEEN(1,99),RANDBETWEEN(1,999)/10),CHOOSE(RANDBETWEEN(1,4),RANDBETWEEN(1,99999)/1000,RANDBETWEEN(1,9999)/100,RANDBETWEEN(1,999)/10,RANDBETWEEN(1,99))))","v":80},"m",{"$f":"#REF!","v":{"$error":"#REF!"}},{"$f":"1000*C1474","v":80000},"mm"]
[{"$f":"IF(COUNTIF($B$1:B1475,TRUE)=COUNTIF($B$1:B1474,TRUE),\"\",COUNTIF($B$1:B1475,TRUE))","v":""},{"$f":"IF(Worksheet!$D$10=3,FALSE,Worksheet!$B$18)","v":false},{"$f":"IF(Worksheet!$D$6=1,RANDBETWEEN(1,99),IF(Worksheet!$D$6=2,CHOOSE(RANDBETWEEN(1,2),RANDBETWEEN(1,99),RANDBETWEEN(1,999)/10),CHOOSE(RANDBETWEEN(1,4),RANDBETWEEN(1,99999)/1000,RANDBETWEEN(1,9999)/100,RANDBETWEEN(1,999)/10,RANDBETWEEN(1,99))))","v":37},"cm²","=",{"$f":"C1475*100","v":3700},"mm²"]
[{"$f":"IF(COUNTIF($B$1:B1476,TRUE)=COUNTIF($B$1:B1475,TRUE),\"\",COUNTIF($B$1:B1476,TRUE))","v":886},{"$f":"IF(Worksheet!$D$10=3,FALSE,Worksheet!$D$14)","v":true},{"$f":"IF(Worksheet!$D$6=1,RANDBETWEEN(1,99),IF(Worksheet!$D$6=2,CHOOSE(RANDBETWEEN(1,2),RANDBETWEEN(1,99),RANDBETWEEN(1,999)/10),CHOOSE(RANDBETWEEN(1,4),RANDBETWEEN(1,99999)/1000,RANDBETWEEN(1,9999)/100,RANDBETWEEN(1,999)/10,RANDBETWEEN(1,99))))","v":29},"kg","=",{"$f":"1000*C1476","v":29000},"g"]
[{"$f":"IF(COUNTIF($B$1:B1477,TRUE)=COUNTIF($B$1:B1476,TRUE),\"\",COUNTIF($B$1:B1477,TRUE))","v":887},{"$f":"IF(Worksheet!$D$10=3,FALSE,Worksheet!$D$15)","v":true},{"$f":"IF(Worksheet!$D$6=1,RANDBETWEEN(1,99),IF(Worksheet!$D$6=2,CHOOSE(RANDBETWEEN(1,2),RANDBETWEEN(1,99),RANDBETWEEN(1,999)/10),CHOOSE(RANDBETWEEN(1,4),RANDBETWEEN(1,99999)/1000,RANDBETWEEN(1,9999)/100,RANDBETWEEN(1,999)/10,RANDBETWEEN(1,99))))","v":63},"tonnes","=",{"$f":"1000*C1477","v":63000},"kg"]
[{"$f":"IF(COUNTIF($B$1:B1478,TRUE)=COUNTIF($B$1:B1477,TRUE),\"\",COUNTIF($B$1:B1478,TRUE))","v":888},{"$f":"IF(Worksheet!$D$10=3,FALSE,Worksheet!$D$16)","v":true},{"$f":"IF(Worksheet!$D$6=1,RANDBETWEEN(1,99),IF(Worksheet!$D$6=2,CHOOSE(RANDBETWEEN(1,2),RANDBETWEEN(1,99),RANDBETWEEN(1,999)/10),CHOOSE(RANDBETWEEN(1,4),RANDBETWEEN(1,99999)/1000,RANDBETWEEN(1,9999)/100,RANDBETWEEN(1,999)/10,RANDBETWEEN(1,99))))","v":90},"litres","=",{"$f":"1000*C1478","v":90000},"ml"]
[{"$f":"IF(COUNTIF($B$1:B1479,TRUE)=COUNTIF($B$1:B1478,TRUE),\"\",COUNTIF($B$1:B1479,TRUE))","v":""},{"$f":"IF(Worksheet!$D$10=3,FALSE,Worksheet!$D$17)","v":false},{"$f":"IF(Worksheet!$D$6=1,RANDBETWEEN(1,99),IF(Worksheet!$D$6=2,CHOOSE(RANDBETWEEN(1,2),RANDBETWEEN(1,99),RANDBETWEEN(1,999)/10),CHOOSE(RANDBETWEEN(1,4),RANDBETWEEN(1,99999)/1000,RANDBETWEEN(1,9999)/100,RANDBETWEEN(1,999)/10,RANDBETWEEN(1,99))))","v":24},"litres","=",{"$f":"1000*C1479","v":24000},"cm³"]
[{"$f":"IF(COUNTIF($B$1:B1480,TRUE)=COUNTIF($B$1:B1479,TRUE),\"\",COUNTIF($B$1:B1480,TRUE))","v":""},{"$f":"IF(Worksheet!$D$10=3,FALSE,Worksheet!$D$18)","v":false},{"$f":"IF(Worksheet!$D$6=1,RANDBETWEEN(1,99),IF(Worksheet!$D$6=2,CHOOSE(RANDBETWEEN(1,2),RANDBETWEEN(1,99),RANDBETWEEN(1,999)/10),CHOOSE(RANDBETWEEN(1,4),RANDBETWEEN(1,99999)/1000,RANDBETWEEN(1,9999)/100,RANDBETWEEN(1,999)/10,RANDBETWEEN(1,99))))","v":83},"m²","=",{"$f":"10000*C1480","v":830000},"cm²"]
[{"$f":"IF(COUNTIF($B$1:B1481,TRUE)=COUNTIF($B$1:B1480,TRUE),\"\",COUNTIF($B$1:B1481,TRUE))","v":889},{"$f":"IF(Worksheet!$D$10=2,FALSE,Worksheet!$B$14)","v":true},{"$f":"10*F1481","v":30},"mm","=",{"$f":"IF(Worksheet!$D$6=1,RANDBETWEEN(1,99),IF(Worksheet!$D$6=2,CHOOSE(RANDBETWEEN(1,2),RANDBETWEEN(1,99),RANDBETWEEN(1,999)/10),CHOOSE(RANDBETWEEN(1,4),RANDBETWEEN(1,99999)/1000,RANDBETWEEN(1,9999)/100,RANDBETWEEN(1,999)/10,RANDBETWEEN(1,99))))","v":3},"cm"]
[{"$f":"IF(COUNTIF($B$1:B1482,TRUE)=COUNTIF($B$1:B1481,TRUE),\"\",COUNTIF($B$1:B1482,TRUE))","v":890},{"$f":"IF(Worksheet!$D$10=2,FALSE,Worksheet!$B$15)","v":true},{"$f":"100*F1482","v":2000},"cm","=",{"$f":"IF(Worksheet!$D$6=1,RANDBETWEEN(1,99),IF(Worksheet!$D$6=2,CHOOSE(RANDBETWEEN(1,2),RANDBETWEEN(1,99),RANDBETWEEN(1,999)/10),CHOOSE(RANDBETWEEN(1,4),RANDBETWEEN(1,99999)/1000,RANDBETWEEN(1,9999)/100,RANDBETWEEN(1,999)/10,RANDBETWEEN(1,99))))","v":20},"m"]
[{"$f":"IF(COUNTIF($B$1:B1483,TRUE)=COUNTIF($B$1:B1482,TRUE),\"\",COUNTIF($B$1:B1483,TRUE))","v":891},{"$f":"IF(Worksheet!$D$10=2,FALSE,Worksheet!$B$16)","v":true},{"$f":"1000*F1483","v":94000},"m","=",{"$f":"IF(Worksheet!$D$6=1,RANDBETWEEN(1,99),IF(Worksheet!$D$6=2,CHOOSE(RANDBETWEEN(1,2),RANDBETWEEN(1,99),RANDBETWEEN(1,999)/10),CHOOSE(RANDBETWEEN(1,4),RANDBETWEEN(1,99999)/1000,RANDBETWEEN(1,9999)/100,RANDBETWEEN(1,999)/10,RANDBETWEEN(1,99))))","v":94},"km"]
[{"$f":"IF(COUNTIF($B$1:B1484,TRUE)=COUNTIF($B$1:B1483,TRUE),\"\",COUNTIF($B$1:B1484,TRUE))","v":""},{"$f":"IF(Worksheet!$D$10=2,FALSE,Worksheet!$B$17)","v":false},{"$f":"1000*F1484","v":76000},"mm","=",{"$f":"IF(Worksheet!$D$6=1,RANDBETWEEN(1,99),IF(Worksheet!$D$6=2,CHOOSE(RANDBETWEEN(1,2),RANDBETWEEN(1,99),RANDBETWEEN(1,999)/10),CHOOSE(RANDBETWEEN(1,4),RANDBETWEEN(1,99999)/1000,RANDBETWEEN(1,9999)/100,RANDBETWEEN(1,999)/10,RANDBETWEEN(1,99))))","v":76},"m"]
[{"$f":"IF(COUNTIF($B$1:B1485,TRUE)=COUNTIF($B$1:B1484,TRUE),\"\",COUNTIF($B$1:B1485,TRUE))","v":""},{"$f":"IF(Worksheet!$D$10=2,FALSE,Worksheet!$B$18)","v":false},{"$f":"100*F1485","v":1200},"mm²","=",{"$f":"IF(Worksheet!$D$6=1,RANDBETWEEN(1,99),IF(Worksheet!$D$6=2,CHOOSE(RANDBETWEEN(1,2),RANDBETWEEN(1,99),RANDBETWEEN(1,999)/10),CHOOSE(RANDBETWEEN(1,4),RANDBETWEEN(1,99999)/1000,RANDBETWEEN(1,9999)/100,RANDBETWEEN(1,999)/10,RANDBETWEEN(1,99))))","v":12},"cm²"]
[{"$f":"IF(COUNTIF($B$1:B1486,TRUE)=COUNTIF($B$1:B1485,TRUE),\"\",COUNTIF($B$1:B1486,TRUE))","v":892},{"$f":"IF(Worksheet!$D$10=2,FALSE,Worksheet!$D$14)","v":true},{"$f":"F1486*1000","v":1000},"g","=",{"$f":"IF(Worksheet!$D$6=1,RANDBETWEEN(1,99),IF(Worksheet!$D$6=2,CHOOSE(RANDBETWEEN(1,2),RANDBETWEEN(1,99),RANDBETWEEN(1,999)/10),CHOOSE(RANDBETWEEN(1,4),RANDBETWEEN(1,99999)/1000,RANDBETWEEN(1,9999)/100,RANDBETWEEN(1,999)/10,RANDBETWEEN(1,99))))","v":1},"kg"]
[{"$f":"IF(COUNTIF($B$1:B1487,TRUE)=COUNTIF($B$1:B1486,TRUE),\"\",COUNTIF($B$1:B1487,TRUE))","v":893},{"$f":"IF(Worksheet!$D$10=2,FALSE,Worksheet!$D$15)","v":true},{"$f":"F1487*1000","v":52000},"kg","=",{"$f":"IF(Worksheet!$D$6=1,RANDBETWEEN(1,99),IF(Worksheet!$D$6=2,CHOOSE(RANDBETWEEN(1,2),RANDBETWEEN(1,99),RANDBETWEEN(1,999)/10),CHOOSE(RANDBETWEEN(1,4),RANDBETWEEN(1,99999)/1000,RANDBETWEEN(1,9999)/100,RANDBETWEEN(1,999)/10,RANDBETWEEN(1,99))))","v":52},"tonnes"]
[{"$f":"IF(COUNTIF($B$1:B1488,TRUE)=COUNTIF($B$1:B1487,TRUE),\"\",COUNTIF($B$1:B1488,TRUE))","v":894},{"$f":"IF(Worksheet!$D$10=2,FALSE,Worksheet!$D$16)","v":true},{"$f":"1000*F1488","v":35000},"ml","=",{"$f":"IF(Worksheet!$D$6=1,RANDBETWEEN(1,99),IF(Worksheet!$D$6=2,CHOOSE(RANDBETWEEN(1,2),RANDBETWEEN(1,99),RANDBETWEEN(1,999)/10),CHOOSE(RANDBETWEEN(1,4),RANDBETWEEN(1,99999)/1000,RANDBETWEEN(1,9999)/100,RANDBETWEEN(1,999)/10,RANDBETWEEN(1,99))))","v":35},"litres"]
[{"$f":"IF(COUNTIF($B$1:B1489,TRUE)=COUNTIF($B$1:B1488,TRUE),\"\",COUNTIF($B$1:B1489,TRUE))","v":""},{"$f":"IF(Worksheet!$D$10=2,FALSE,Worksheet!$D$17)","v":false},{"$f":"1000*F1489","v":11000},"cm³","=",{"$f":"IF(Worksheet!$D$6=1,RANDBETWEEN(1,99),IF(Worksheet!$D$6=2,CHOOSE(RANDBETWEEN(1,2),RANDBETWEEN(1,99),RANDBETWEEN(1,999)/10),CHOOSE(RANDBETWEEN(1,4),RANDBETWEEN(1,99999)/1000,RANDBETWEEN(1,9999)/100,RANDBETWEEN(1,999)/10,RANDBETWEEN(1,99))))","v":11},"litres"]
[{"$f":"IF(COUNTIF($B$1:B1490,TRUE)=COUNTIF($B$1:B1489,TRUE),\"\",COUNTIF($B$1:B1490,TRUE))","v":""},{"$f":"IF(Worksheet!$D$10=2,FALSE,Worksheet!$D$18)","v":false},{"$f":"10000*F1490","v":100000},"cm²","=",{"$f":"IF(Worksheet!$D$6=1,RANDBETWEEN(1,99),IF(Worksheet!$D$6=2,CHOOSE(RANDBETWEEN(1,2),RANDBETWEEN(1,99),RANDBETWEEN(1,999)/10),CHOOSE(RANDBETWEEN(1,4),RANDBETWEEN(1,99999)/1000,RANDBETWEEN(1,9999)/100,RANDBETWEEN(1,999)/10,RANDBETWEEN(1,99))))","v":10},"m²"]
[{"$f":"IF(COUNTIF($B$1:B1491,TRUE)=COUNTIF($B$1:B1490,TRUE),\"\",COUNTIF($B$1:B1491,TRUE))","v":895},{"$f":"IF(Worksheet!$D$10=3,FALSE,Worksheet!$B$14)","v":true},{"$f":"IF(Worksheet!$D$6=1,RANDBETWEEN(1,99),IF(Worksheet!$D$6=2,CHOOSE(RANDBETWEEN(1,2),RANDBETWEEN(1,99),RANDBETWEEN(1,999)/10),CHOOSE(RANDBETWEEN(1,4),RANDBETWEEN(1,99999)/1000,RANDBETWEEN(1,9999)/100,RANDBETWEEN(1,999)/10,RANDBETWEEN(1,99))))","v":95},"cm","=",{"$f":"10*C1491","v":950},"mm"]
[{"$f":"IF(COUNTIF($B$1:B1492,TRUE)=COUNTIF($B$1:B1491,TRUE),\"\",COUNTIF($B$1:B1492,TRUE))","v":896},{"$f":"IF(Worksheet!$D$10=3,FALSE,Worksheet!$B$15)","v":true},{"$f":"IF(Worksheet!$D$6=1,RANDBETWEEN(1,99),IF(Worksheet!$D$6=2,CHOOSE(RANDBETWEEN(1,2),RANDBETWEEN(1,99),RANDBETWEEN(1,999)/10),CHOOSE(RANDBETWEEN(1,4),RANDBETWEEN(1,99999)/1000,RANDBETWEEN(1,9999)/100,RANDBETWEEN(1,999)/10,RANDBETWEEN(1,99))))","v":89},"m","=",{"$f":"100*C1492","v":8900},"cm"]
[{"$f":"IF(COUNTIF($B$1:B1493,TRUE)=COUNTIF($B$1:B1492,TRUE),\"\",COUNTIF($B$1:B1493,TRUE))","v":897},{"$f":"IF(Worksheet!$D$10=3,FALSE,Worksheet!$B$16)","v":true},{"$f":"IF(Worksheet!$D$6=1,RANDBETWEEN(1,99),IF(Worksheet!$D$6=2,CHOOSE(RANDBETWEEN(1,2),RANDBETWEEN(1,99),RANDBETWEEN(1,999)/10),CHOOSE(RANDBETWEEN(1,4),RANDBETWEEN(1,99999)/1000,RANDBETWEEN(1,9999)/100,RANDBETWEEN(1,999)/10,RANDBETWEEN(1,99))))","v":56},"km","=",{"$f":"1000*C1493","v":56000},"m"]
[{"$f":"IF(COUNTIF($B$1:B1494,TRUE)=COUNTIF($B$1:B1493,TRUE),\"\",COUNTIF($B$1:B1494,TRUE))","v":""},{"$f":"IF(Worksheet!$D$10=3,FALSE,Worksheet!$B$17)","v":false},{"$f":"IF(Worksheet!$D$6=1,RANDBETWEEN(1,99),IF(Worksheet!$D$6=2,CHOOSE(RANDBETWEEN(1,2),RANDBETWEEN(1,99),RANDBETWEEN(1,999)/10),CHOOSE(RANDBETWEEN(1,4),RANDBETWEEN(1,99999)/1000,RANDBETWEEN(1,9999)/100,RANDBETWEEN(1,999)/10,RANDBETWEEN(1,99))))","v":79},"m",{"$f":"#REF!","v":{"$error":"#REF!"}},{"$f":"1000*C1494","v":79000},"mm"]
[{"$f":"IF(COUNTIF($B$1:B1495,TRUE)=COUNTIF($B$1:B1494,TRUE),\"\",COUNTIF($B$1:B1495,TRUE))","v":""},{"$f":"IF(Worksheet!$D$10=3,FALSE,Worksheet!$B$18)","v":false},{"$f":"IF(Worksheet!$D$6=1,RANDBETWEEN(1,99),IF(Worksheet!$D$6=2,CHOOSE(RANDBETWEEN(1,2),RANDBETWEEN(1,99),RANDBETWEEN(1,999)/10),CHOOSE(RANDBETWEEN(1,4),RANDBETWEEN(1,99999)/1000,RANDBETWEEN(1,9999)/100,RANDBETWEEN(1,999)/10,RANDBETWEEN(1,99))))","v":43},"cm²","=",{"$f":"C1495*100","v":4300},"mm²"]
[{"$f":"IF(COUNTIF($B$1:B1496,TRUE)=COUNTIF($B$1:B1495,TRUE),\"\",COUNTIF($B$1:B1496,TRUE))","v":898},{"$f":"IF(Worksheet!$D$10=3,FALSE,Worksheet!$D$14)","v":true},{"$f":"IF(Worksheet!$D$6=1,RANDBETWEEN(1,99),IF(Worksheet!$D$6=2,CHOOSE(RANDBETWEEN(1,2),RANDBETWEEN(1,99),RANDBETWEEN(1,999)/10),CHOOSE(RANDBETWEEN(1,4),RANDBETWEEN(1,99999)/1000,RANDBETWEEN(1,9999)/100,RANDBETWEEN(1,999)/10,RANDBETWEEN(1,99))))","v":54},"kg","=",{"$f":"1000*C1496","v":54000},"g"]
[{"$f":"IF(COUNTIF($B$1:B1497,TRUE)=COUNTIF($B$1:B1496,TRUE),\"\",COUNTIF($B$1:B1497,TRUE))","v":899},{"$f":"IF(Worksheet!$D$10=3,FALSE,Worksheet!$D$15)","v":true},{"$f":"IF(Worksheet!$D$6=1,RANDBETWEEN(1,99),IF(Worksheet!$D$6=2,CHOOSE(RANDBETWEEN(1,2),RANDBETWEEN(1,99),RANDBETWEEN(1,999)/10),CHOOSE(RANDBETWEEN(1,4),RANDBETWEEN(1,99999)/1000,RANDBETWEEN(1,9999)/100,RANDBETWEEN(1,999)/10,RANDBETWEEN(1,99))))","v":26},"tonnes","=",{"$f":"1000*C1497","v":26000},"kg"]
[{"$f":"IF(COUNTIF($B$1:B1498,TRUE)=COUNTIF($B$1:B1497,TRUE),\"\",COUNTIF($B$1:B1498,TRUE))","v":900},{"$f":"IF(Worksheet!$D$10=3,FALSE,Worksheet!$D$16)","v":true},{"$f":"IF(Worksheet!$D$6=1,RANDBETWEEN(1,99),IF(Worksheet!$D$6=2,CHOOSE(RANDBETWEEN(1,2),RANDBETWEEN(1,99),RANDBETWEEN(1,999)/10),CHOOSE(RANDBETWEEN(1,4),RANDBETWEEN(1,99999)/1000,RANDBETWEEN(1,9999)/100,RANDBETWEEN(1,999)/10,RANDBETWEEN(1,99))))","v":25},"litres","=",{"$f":"1000*C1498","v":25000},"ml"]
[{"$f":"IF(COUNTIF($B$1:B1499,TRUE)=COUNTIF($B$1:B1498,TRUE),\"\",COUNTIF($B$1:B1499,TRUE))","v":""},{"$f":"IF(Worksheet!$D$10=3,FALSE,Worksheet!$D$17)","v":false},{"$f":"IF(Worksheet!$D$6=1,RANDBETWEEN(1,99),IF(Worksheet!$D$6=2,CHOOSE(RANDBETWEEN(1,2),RANDBETWEEN(1,99),RANDBETWEEN(1,999)/10),CHOOSE(RANDBETWEEN(1,4),RANDBETWEEN(1,99999)/1000,RANDBETWEEN(1,9999)/100,RANDBETWEEN(1,999)/10,RANDBETWEEN(1,99))))","v":32},"litres","=",{"$f":"1000*C1499","v":32000},"cm³"]
[{"$f":"IF(COUNTIF($B$1:B1500,TRUE)=COUNTIF($B$1:B1499,TRUE),\"\",COUNTIF($B$1:B1500,TRUE))","v":""},{"$f":"IF(Worksheet!$D$10=3,FALSE,Worksheet!$D$18)","v":false},{"$f":"IF(Worksheet!$D$6=1,RANDBETWEEN(1,99),IF(Worksheet!$D$6=2,CHOOSE(RANDBETWEEN(1,2),RANDBETWEEN(1,99),RANDBETWEEN(1,999)/10),CHOOSE(RANDBETWEEN(1,4),RANDBETWEEN(1,99999)/1000,RANDBETWEEN(1,9999)/100,RANDBETWEEN(1,999)/10,RANDBETWEEN(1,99))))","v":17},"m²","=",{"$f":"10000*C1500","v":170000},"cm²"]
[{"$f":"IF(COUNTIF($B$1:B1501,TRUE)=COUNTIF($B$1:B1500,TRUE),\"\",COUNTIF($B$1:B1501,TRUE))","v":901},{"$f":"IF(Worksheet!$D$10=2,FALSE,Worksheet!$B$14)","v":true},{"$f":"10*F1501","v":210},"mm","=",{"$f":"IF(Worksheet!$D$6=1,RANDBETWEEN(1,99),IF(Worksheet!$D$6=2,CHOOSE(RANDBETWEEN(1,2),RANDBETWEEN(1,99),RANDBETWEEN(1,999)/10),CHOOSE(RANDBETWEEN(1,4),RANDBETWEEN(1,99999)/1000,RANDBETWEEN(1,9999)/100,RANDBETWEEN(1,999)/10,RANDBETWEEN(1,99))))","v":21},"cm"]
[{"$f":"IF(COUNTIF($B$1:B1502,TRUE)=COUNTIF($B$1:B1501,TRUE),\"\",COUNTIF($B$1:B1502,TRUE))","v":902},{"$f":"IF(Worksheet!$D$10=2,FALSE,Worksheet!$B$15)","v":true},{"$f":"100*F1502","v":1800},"cm","=",{"$f":"IF(Worksheet!$D$6=1,RANDBETWEEN(1,99),IF(Worksheet!$D$6=2,CHOOSE(RANDBETWEEN(1,2),RANDBETWEEN(1,99),RANDBETWEEN(1,999)/10),CHOOSE(RANDBETWEEN(1,4),RANDBETWEEN(1,99999)/1000,RANDBETWEEN(1,9999)/100,RANDBETWEEN(1,999)/10,RANDBETWEEN(1,99))))","v":18},"m"]
[{"$f":"IF(COUNTIF($B$1:B1503,TRUE)=COUNTIF($B$1:B1502,TRUE),\"\",COUNTIF($B$1:B1503,TRUE))","v":903},{"$f":"IF(Worksheet!$D$10=2,FALSE,Worksheet!$B$16)","v":true},{"$f":"1000*F1503","v":8000},"m","=",{"$f":"IF(Worksheet!$D$6=1,RANDBETWEEN(1,99),IF(Worksheet!$D$6=2,CHOOSE(RANDBETWEEN(1,2),RANDBETWEEN(1,99),RANDBETWEEN(1,999)/10),CHOOSE(RANDBETWEEN(1,4),RANDBETWEEN(1,99999)/1000,RANDBETWEEN(1,9999)/100,RANDBETWEEN(1,999)/10,RANDBETWEEN(1,99))))","v":8},"km"]
[{"$f":"IF(COUNTIF($B$1:B1504,TRUE)=COUNTIF($B$1:B1503,TRUE),\"\",COUNTIF($B$1:B1504,TRUE))","v":""},{"$f":"IF(Worksheet!$D$10=2,FALSE,Worksheet!$B$17)","v":false},{"$f":"1000*F1504","v":69000},"mm","=",{"$f":"IF(Worksheet!$D$6=1,RANDBETWEEN(1,99),IF(Worksheet!$D$6=2,CHOOSE(RANDBETWEEN(1,2),RANDBETWEEN(1,99),RANDBETWEEN(1,999)/10),CHOOSE(RANDBETWEEN(1,4),RANDBETWEEN(1,99999)/1000,RANDBETWEEN(1,9999)/100,RANDBETWEEN(1,999)/10,RANDBETWEEN(1,99))))","v":69},"m"]
[{"$f":"IF(COUNTIF($B$1:B1505,TRUE)=COUNTIF($B$1:B1504,TRUE),\"\",COUNTIF($B$1:B1505,TRUE))","v":""},{"$f":"IF(Worksheet!$D$10=2,FALSE,Worksheet!$B$18)","v":false},{"$f":"100*F1505","v":6400},"mm²","=",{"$f":"IF(Worksheet!$D$6=1,RANDBETWEEN(1,99),IF(Worksheet!$D$6=2,CHOOSE(RANDBETWEEN(1,2),RANDBETWEEN(1,99),RANDBETWEEN(1,999)/10),CHOOSE(RANDBETWEEN(1,4),RANDBETWEEN(1,99999)/1000,RANDBETWEEN(1,9999)/100,RANDBETWEEN(1,999)/10,RANDBETWEEN(1,99))))","v":64},"cm²"]
[{"$f":"IF(COUNTIF($B$1:B1506,TRUE)=COUNTIF($B$1:B1505,TRUE),\"\",COUNTIF($B$1:B1506,TRUE))","v":904},{"$f":"IF(Worksheet!$D$10=2,FALSE,Worksheet!$D$14)","v":true},{"$f":"F1506*1000","v":58000},"g","=",{"$f":"IF(Worksheet!$D$6=1,RANDBETWEEN(1,99),IF(Worksheet!$D$6=2,CHOOSE(RANDBETWEEN(1,2),RANDBETWEEN(1,99),RANDBETWEEN(1,999)/10),CHOOSE(RANDBETWEEN(1,4),RANDBETWEEN(1,99999)/1000,RANDBETWEEN(1,9999)/100,RANDBETWEEN(1,999)/10,RANDBETWEEN(1,99))))","v":58},"kg"]
[{"$f":"IF(COUNTIF($B$1:B1507,TRUE)=COUNTIF($B$1:B1506,TRUE),\"\",COUNTIF($B$1:B1507,TRUE))","v":905},{"$f":"IF(Worksheet!$D$10=2,FALSE,Worksheet!$D$15)","v":true},{"$f":"F1507*1000","v":70000},"kg","=",{"$f":"IF(Worksheet!$D$6=1,RANDBETWEEN(1,99),IF(Worksheet!$D$6=2,CHOOSE(RANDBETWEEN(1,2),RANDBETWEEN(1,99),RANDBETWEEN(1,999)/10),CHOOSE(RANDBETWEEN(1,4),RANDBETWEEN(1,99999)/1000,RANDBETWEEN(1,9999)/100,RANDBETWEEN(1,999)/10,RANDBETWEEN(1,99))))","v":70},"tonnes"]
[{"$f":"IF(COUNTIF($B$1:B1508,TRUE)=COUNTIF($B$1:B1507,TRUE),\"\",COUNTIF($B$1:B1508,TRUE))","v":906},{"$f":"IF(Worksheet!$D$10=2,FALSE,Worksheet!$D$16)","v":true},{"$f":"1000*F1508","v":60000},"ml","=",{"$f":"IF(Worksheet!$D$6=1,RANDBETWEEN(1,99),IF(Worksheet!$D$6=2,CHOOSE(RANDBETWEEN(1,2),RANDBETWEEN(1,99),RANDBETWEEN(1,999)/10),CHOOSE(RANDBETWEEN(1,4),RANDBETWEEN(1,99999)/1000,RANDBETWEEN(1,9999)/100,RANDBETWEEN(1,999)/10,RANDBETWEEN(1,99))))","v":60},"litres"]
[{"$f":"IF(COUNTIF($B$1:B1509,TRUE)=COUNTIF($B$1:B1508,TRUE),\"\",COUNTIF($B$1:B1509,TRUE))","v":""},{"$f":"IF(Worksheet!$D$10=2,FALSE,Worksheet!$D$17)","v":false},{"$f":"1000*F1509","v":95000},"cm³","=",{"$f":"IF(Worksheet!$D$6=1,RANDBETWEEN(1,99),IF(Worksheet!$D$6=2,CHOOSE(RANDBETWEEN(1,2),RANDBETWEEN(1,99),RANDBETWEEN(1,999)/10),CHOOSE(RANDBETWEEN(1,4),RANDBETWEEN(1,99999)/1000,RANDBETWEEN(1,9999)/100,RANDBETWEEN(1,999)/10,RANDBETWEEN(1,99))))","v":95},"litres"]
[{"$f":"IF(COUNTIF($B$1:B1510,TRUE)=COUNTIF($B$1:B1509,TRUE),\"\",COUNTIF($B$1:B1510,TRUE))","v":""},{"$f":"IF(Worksheet!$D$10=2,FALSE,Worksheet!$D$18)","v":false},{"$f":"10000*F1510","v":250000},"cm²","=",{"$f":"IF(Worksheet!$D$6=1,RANDBETWEEN(1,99),IF(Worksheet!$D$6=2,CHOOSE(RANDBETWEEN(1,2),RANDBETWEEN(1,99),RANDBETWEEN(1,999)/10),CHOOSE(RANDBETWEEN(1,4),RANDBETWEEN(1,99999)/1000,RANDBETWEEN(1,9999)/100,RANDBETWEEN(1,999)/10,RANDBETWEEN(1,99))))","v":25},"m²"]
[{"$f":"IF(COUNTIF($B$1:B1511,TRUE)=COUNTIF($B$1:B1510,TRUE),\"\",COUNTIF($B$1:B1511,TRUE))","v":907},{"$f":"IF(Worksheet!$D$10=3,FALSE,Worksheet!$B$14)","v":true},{"$f":"IF(Worksheet!$D$6=1,RANDBETWEEN(1,99),IF(Worksheet!$D$6=2,CHOOSE(RANDBETWEEN(1,2),RANDBETWEEN(1,99),RANDBETWEEN(1,999)/10),CHOOSE(RANDBETWEEN(1,4),RANDBETWEEN(1,99999)/1000,RANDBETWEEN(1,9999)/100,RANDBETWEEN(1,999)/10,RANDBETWEEN(1,99))))","v":96},"cm","=",{"$f":"10*C1511","v":960},"mm"]
[{"$f":"IF(COUNTIF($B$1:B1512,TRUE)=COUNTIF($B$1:B1511,TRUE),\"\",COUNTIF($B$1:B1512,TRUE))","v":908},{"$f":"IF(Worksheet!$D$10=3,FALSE,Worksheet!$B$15)","v":true},{"$f":"IF(Worksheet!$D$6=1,RANDBETWEEN(1,99),IF(Worksheet!$D$6=2,CHOOSE(RANDBETWEEN(1,2),RANDBETWEEN(1,99),RANDBETWEEN(1,999)/10),CHOOSE(RANDBETWEEN(1,4),RANDBETWEEN(1,99999)/1000,RANDBETWEEN(1,9999)/100,RANDBETWEEN(1,999)/10,RANDBETWEEN(1,99))))","v":74},"m","=",{"$f":"100*C1512","v":7400},"cm"]
[{"$f":"IF(COUNTIF($B$1:B1513,TRUE)=COUNTIF($B$1:B1512,TRUE),\"\",COUNTIF($B$1:B1513,TRUE))","v":909},{"$f":"IF(Worksheet!$D$10=3,FALSE,Worksheet!$B$16)","v":true},{"$f":"IF(Worksheet!$D$6=1,RANDBETWEEN(1,99),IF(Worksheet!$D$6=2,CHOOSE(RANDBETWEEN(1,2),RANDBETWEEN(1,99),RANDBETWEEN(1,999)/10),CHOOSE(RANDBETWEEN(1,4),RANDBETWEEN(1,99999)/1000,RANDBETWEEN(1,9999)/100,RANDBETWEEN(1,999)/10,RANDBETWEEN(1,99))))","v":64},"km","=",{"$f":"1000*C1513","v":64000},"m"]
[{"$f":"IF(COUNTIF($B$1:B1514,TRUE)=COUNTIF($B$1:B1513,TRUE),\"\",COUNTIF($B$1:B1514,TRUE))","v":""},{"$f":"IF(Worksheet!$D$10=3,FALSE,Worksheet!$B$17)","v":false},{"$f":"IF(Worksheet!$D$6=1,RANDBETWEEN(1,99),IF(Worksheet!$D$6=2,CHOOSE(RANDBETWEEN(1,2),RANDBETWEEN(1,99),RANDBETWEEN(1,999)/10),CHOOSE(RANDBETWEEN(1,4),RANDBETWEEN(1,99999)/1000,RANDBETWEEN(1,9999)/100,RANDBETWEEN(1,999)/10,RANDBETWEEN(1,99))))","v":92},"m",{"$f":"#REF!","v":{"$error":"#REF!"}},{"$f":"1000*C1514","v":92000},"mm"]
[{"$f":"IF(COUNTIF($B$1:B1515,TRUE)=COUNTIF($B$1:B1514,TRUE),\"\",COUNTIF($B$1:B1515,TRUE))","v":""},{"$f":"IF(Worksheet!$D$10=3,FALSE,Worksheet!$B$18)","v":false},{"$f":"IF(Worksheet!$D$6=1,RANDBETWEEN(1,99),IF(Worksheet!$D$6=2,CHOOSE(RANDBETWEEN(1,2),RANDBETWEEN(1,99),RANDBETWEEN(1,999)/10),CHOOSE(RANDBETWEEN(1,4),RANDBETWEEN(1,99999)/1000,RANDBETWEEN(1,9999)/100,RANDBETWEEN(1,999)/10,RANDBETWEEN(1,99))))","v":67},"cm²","=",{"$f":"C1515*100","v":6700},"mm²"]
[{"$f":"IF(COUNTIF($B$1:B1516,TRUE)=COUNTIF($B$1:B1515,TRUE),\"\",COUNTIF($B$1:B1516,TRUE))","v":910},{"$f":"IF(Worksheet!$D$10=3,FALSE,Worksheet!$D$14)","v":true},{"$f":"IF(Worksheet!$D$6=1,RANDBETWEEN(1,99),IF(Worksheet!$D$6=2,CHOOSE(RANDBETWEEN(1,2),RANDBETWEEN(1,99),RANDBETWEEN(1,999)/10),CHOOSE(RANDBETWEEN(1,4),RANDBETWEEN(1,99999)/1000,RANDBETWEEN(1,9999)/100,RANDBETWEEN(1,999)/10,RANDBETWEEN(1,99))))","v":43},"kg","=",{"$f":"1000*C1516","v":43000},"g"]
[{"$f":"IF(COUNTIF($B$1:B1517,TRUE)=COUNTIF($B$1:B1516,TRUE),\"\",COUNTIF($B$1:B1517,TRUE))","v":911},{"$f":"IF(Worksheet!$D$10=3,FALSE,Worksheet!$D$15)","v":true},{"$f":"IF(Worksheet!$D$6=1,RANDBETWEEN(1,99),IF(Worksheet!$D$6=2,CHOOSE(RANDBETWEEN(1,2),RANDBETWEEN(1,99),RANDBETWEEN(1,999)/10),CHOOSE(RANDBETWEEN(1,4),RANDBETWEEN(1,99999)/1000,RANDBETWEEN(1,9999)/100,RANDBETWEEN(1,999)/10,RANDBETWEEN(1,99))))","v":73},"tonnes","=",{"$f":"1000*C1517","v":73000},"kg"]
[{"$f":"IF(COUNTIF($B$1:B1518,TRUE)=COUNTIF($B$1:B1517,TRUE),\"\",COUNTIF($B$1:B1518,TRUE))","v":912},{"$f":"IF(Worksheet!$D$10=3,FALSE,Worksheet!$D$16)","v":true},{"$f":"IF(Worksheet!$D$6=1,RANDBETWEEN(1,99),IF(Worksheet!$D$6=2,CHOOSE(RANDBETWEEN(1,2),RANDBETWEEN(1,99),RANDBETWEEN(1,999)/10),CHOOSE(RANDBETWEEN(1,4),RANDBETWEEN(1,99999)/1000,RANDBETWEEN(1,9999)/100,RANDBETWEEN(1,999)/10,RANDBETWEEN(1,99))))","v":25},"litres","=",{"$f":"1000*C1518","v":25000},"ml"]
[{"$f":"IF(COUNTIF($B$1:B1519,TRUE)=COUNTIF($B$1:B1518,TRUE),\"\",COUNTIF($B$1:B1519,TRUE))","v":""},{"$f":"IF(Worksheet!$D$10=3,FALSE,Worksheet!$D$17)","v":false},{"$f":"IF(Worksheet!$D$6=1,RANDBETWEEN(1,99),IF(Worksheet!$D$6=2,CHOOSE(RANDBETWEEN(1,2),RANDBETWEEN(1,99),RANDBETWEEN(1,999)/10),CHOOSE(RANDBETWEEN(1,4),RANDBETWEEN(1,99999)/1000,RANDBETWEEN(1,9999)/100,RANDBETWEEN(1,999)/10,RANDBETWEEN(1,99))))","v":70},"litres","=",{"$f":"1000*C1519","v":70000},"cm³"]
[{"$f":"IF(COUNTIF($B$1:B1520,TRUE)=COUNTIF($B$1:B1519,TRUE),\"\",COUNTIF($B$1:B1520,TRUE))","v":""},{"$f":"IF(Worksheet!$D$10=3,FALSE,Worksheet!$D$18)","v":false},{"$f":"IF(Worksheet!$D$6=1,RANDBETWEEN(1,99),IF(Worksheet!$D$6=2,CHOOSE(RANDBETWEEN(1,2),RANDBETWEEN(1,99),RANDBETWEEN(1,999)/10),CHOOSE(RANDBETWEEN(1,4),RANDBETWEEN(1,99999)/1000,RANDBETWEEN(1,9999)/100,RANDBETWEEN(1,999)/10,RANDBETWEEN(1,99))))","v":88},"m²","=",{"$f":"10000*C1520","v":880000},"cm²"]
[{"$f":"IF(COUNTIF($B$1:B1521,TRUE)=COUNTIF($B$1:B1520,TRUE),\"\",COUNTIF($B$1:B1521,TRUE))","v":913},{"$f":"IF(Worksheet!$D$10=2,FALSE,Worksheet!$B$14)","v":true},{"$f":"10*F1521","v":880},"mm","=",{"$f":"IF(Worksheet!$D$6=1,RANDBETWEEN(1,99),IF(Worksheet!$D$6=2,CHOOSE(RANDBETWEEN(1,2),RANDBETWEEN(1,99),RANDBETWEEN(1,999)/10),CHOOSE(RANDBETWEEN(1,4),RANDBETWEEN(1,99999)/1000,RANDBETWEEN(1,9999)/100,RANDBETWEEN(1,999)/10,RANDBETWEEN(1,99))))","v":88},"cm"]
[{"$f":"IF(COUNTIF($B$1:B1522,TRUE)=COUNTIF($B$1:B1521,TRUE),\"\",COUNTIF($B$1:B1522,TRUE))","v":914},{"$f":"IF(Worksheet!$D$10=2,FALSE,Worksheet!$B$15)","v":true},{"$f":"100*F1522","v":4300},"cm","=",{"$f":"IF(Worksheet!$D$6=1,RANDBETWEEN(1,99),IF(Worksheet!$D$6=2,CHOOSE(RANDBETWEEN(1,2),RANDBETWEEN(1,99),RANDBETWEEN(1,999)/10),CHOOSE(RANDBETWEEN(1,4),RANDBETWEEN(1,99999)/1000,RANDBETWEEN(1,9999)/100,RANDBETWEEN(1,999)/10,RANDBETWEEN(1,99))))","v":43},"m"]
[{"$f":"IF(COUNTIF($B$1:B1523,TRUE)=COUNTIF($B$1:B1522,TRUE),\"\",COUNTIF($B$1:B1523,TRUE))","v":915},{"$f":"IF(Worksheet!$D$10=2,FALSE,Worksheet!$B$16)","v":true},{"$f":"1000*F1523","v":99000},"m","=",{"$f":"IF(Worksheet!$D$6=1,RANDBETWEEN(1,99),IF(Worksheet!$D$6=2,CHOOSE(RANDBETWEEN(1,2),RANDBETWEEN(1,99),RANDBETWEEN(1,999)/10),CHOOSE(RANDBETWEEN(1,4),RANDBETWEEN(1,99999)/1000,RANDBETWEEN(1,9999)/100,RANDBETWEEN(1,999)/10,RANDBETWEEN(1,99))))","v":99},"km"]
[{"$f":"IF(COUNTIF($B$1:B1524,TRUE)=COUNTIF($B$1:B1523,TRUE),\"\",COUNTIF($B$1:B1524,TRUE))","v":""},{"$f":"IF(Worksheet!$D$10=2,FALSE,Worksheet!$B$17)","v":false},{"$f":"1000*F1524","v":66000},"mm","=",{"$f":"IF(Worksheet!$D$6=1,RANDBETWEEN(1,99),IF(Worksheet!$D$6=2,CHOOSE(RANDBETWEEN(1,2),RANDBETWEEN(1,99),RANDBETWEEN(1,999)/10),CHOOSE(RANDBETWEEN(1,4),RANDBETWEEN(1,99999)/1000,RANDBETWEEN(1,9999)/100,RANDBETWEEN(1,999)/10,RANDBETWEEN(1,99))))","v":66},"m"]
[{"$f":"IF(COUNTIF($B$1:B1525,TRUE)=COUNTIF($B$1:B1524,TRUE),\"\",COUNTIF($B$1:B1525,TRUE))","v":""},{"$f":"IF(Worksheet!$D$10=2,FALSE,Worksheet!$B$18)","v":false},{"$f":"100*F1525","v":400},"mm²","=",{"$f":"IF(Worksheet!$D$6=1,RANDBETWEEN(1,99),IF(Worksheet!$D$6=2,CHOOSE(RANDBETWEEN(1,2),RANDBETWEEN(1,99),RANDBETWEEN(1,999)/10),CHOOSE(RANDBETWEEN(1,4),RANDBETWEEN(1,99999)/1000,RANDBETWEEN(1,9999)/100,RANDBETWEEN(1,999)/10,RANDBETWEEN(1,99))))","v":4},"cm²"]
[{"$f":"IF(COUNTIF($B$1:B1526,TRUE)=COUNTIF($B$1:B1525,TRUE),\"\",COUNTIF($B$1:B1526,TRUE))","v":916},{"$f":"IF(Worksheet!$D$10=2,FALSE,Worksheet!$D$14)","v":true},{"$f":"F1526*1000","v":1000},"g","=",{"$f":"IF(Worksheet!$D$6=1,RANDBETWEEN(1,99),IF(Worksheet!$D$6=2,CHOOSE(RANDBETWEEN(1,2),RANDBETWEEN(1,99),RANDBETWEEN(1,999)/10),CHOOSE(RANDBETWEEN(1,4),RANDBETWEEN(1,99999)/1000,RANDBETWEEN(1,9999)/100,RANDBETWEEN(1,999)/10,RANDBETWEEN(1,99))))","v":1},"kg"]
[{"$f":"IF(COUNTIF($B$1:B1527,TRUE)=COUNTIF($B$1:B1526,TRUE),\"\",COUNTIF($B$1:B1527,TRUE))","v":917},{"$f":"IF(Worksheet!$D$10=2,FALSE,Worksheet!$D$15)","v":true},{"$f":"F1527*1000","v":59000},"kg","=",{"$f":"IF(Worksheet!$D$6=1,RANDBETWEEN(1,99),IF(Worksheet!$D$6=2,CHOOSE(RANDBETWEEN(1,2),RANDBETWEEN(1,99),RANDBETWEEN(1,999)/10),CHOOSE(RANDBETWEEN(1,4),RANDBETWEEN(1,99999)/1000,RANDBETWEEN(1,9999)/100,RANDBETWEEN(1,999)/10,RANDBETWEEN(1,99))))","v":59},"tonnes"]
[{"$f":"IF(COUNTIF($B$1:B1528,TRUE)=COUNTIF($B$1:B1527,TRUE),\"\",COUNTIF($B$1:B1528,TRUE))","v":918},{"$f":"IF(Worksheet!$D$10=2,FALSE,Worksheet!$D$16)","v":true},{"$f":"1000*F1528","v":56000},"ml","=",{"$f":"IF(Worksheet!$D$6=1,RANDBETWEEN(1,99),IF(Worksheet!$D$6=2,CHOOSE(RANDBETWEEN(1,2),RANDBETWEEN(1,99),RANDBETWEEN(1,999)/10),CHOOSE(RANDBETWEEN(1,4),RANDBETWEEN(1,99999)/1000,RANDBETWEEN(1,9999)/100,RANDBETWEEN(1,999)/10,RANDBETWEEN(1,99))))","v":56},"litres"]
[{"$f":"IF(COUNTIF($B$1:B1529,TRUE)=COUNTIF($B$1:B1528,TRUE),\"\",COUNTIF($B$1:B1529,TRUE))","v":""},{"$f":"IF(Worksheet!$D$10=2,FALSE,Worksheet!$D$17)","v":false},{"$f":"1000*F1529","v":83000},"cm³","=",{"$f":"IF(Worksheet!$D$6=1,RANDBETWEEN(1,99),IF(Worksheet!$D$6=2,CHOOSE(RANDBETWEEN(1,2),RANDBETWEEN(1,99),RANDBETWEEN(1,999)/10),CHOOSE(RANDBETWEEN(1,4),RANDBETWEEN(1,99999)/1000,RANDBETWEEN(1,9999)/100,RANDBETWEEN(1,999)/10,RANDBETWEEN(1,99))))","v":83},"litres"]
[{"$f":"IF(COUNTIF($B$1:B1530,TRUE)=COUNTIF($B$1:B1529,TRUE),\"\",COUNTIF($B$1:B1530,TRUE))","v":""},{"$f":"IF(Worksheet!$D$10=2,FALSE,Worksheet!$D$18)","v":false},{"$f":"10000*F1530","v":240000},"cm²","=",{"$f":"IF(Worksheet!$D$6=1,RANDBETWEEN(1,99),IF(Worksheet!$D$6=2,CHOOSE(RANDBETWEEN(1,2),RANDBETWEEN(1,99),RANDBETWEEN(1,999)/10),CHOOSE(RANDBETWEEN(1,4),RANDBETWEEN(1,99999)/1000,RANDBETWEEN(1,9999)/100,RANDBETWEEN(1,999)/10,RANDBETWEEN(1,99))))","v":24},"m²"]
[{"$f":"IF(COUNTIF($B$1:B1531,TRUE)=COUNTIF($B$1:B1530,TRUE),\"\",COUNTIF($B$1:B1531,TRUE))","v":919},{"$f":"IF(Worksheet!$D$10=3,FALSE,Worksheet!$B$14)","v":true},{"$f":"IF(Worksheet!$D$6=1,RANDBETWEEN(1,99),IF(Worksheet!$D$6=2,CHOOSE(RANDBETWEEN(1,2),RANDBETWEEN(1,99),RANDBETWEEN(1,999)/10),CHOOSE(RANDBETWEEN(1,4),RANDBETWEEN(1,99999)/1000,RANDBETWEEN(1,9999)/100,RANDBETWEEN(1,999)/10,RANDBETWEEN(1,99))))","v":38},"cm","=",{"$f":"10*C1531","v":380},"mm"]
[{"$f":"IF(COUNTIF($B$1:B1532,TRUE)=COUNTIF($B$1:B1531,TRUE),\"\",COUNTIF($B$1:B1532,TRUE))","v":920},{"$f":"IF(Worksheet!$D$10=3,FALSE,Worksheet!$B$15)","v":true},{"$f":"IF(Worksheet!$D$6=1,RANDBETWEEN(1,99),IF(Worksheet!$D$6=2,CHOOSE(RANDBETWEEN(1,2),RANDBETWEEN(1,99),RANDBETWEEN(1,999)/10),CHOOSE(RANDBETWEEN(1,4),RANDBETWEEN(1,99999)/1000,RANDBETWEEN(1,9999)/100,RANDBETWEEN(1,999)/10,RANDBETWEEN(1,99))))","v":17},"m","=",{"$f":"100*C1532","v":1700},"cm"]
[{"$f":"IF(COUNTIF($B$1:B1533,TRUE)=COUNTIF($B$1:B1532,TRUE),\"\",COUNTIF($B$1:B1533,TRUE))","v":921},{"$f":"IF(Worksheet!$D$10=3,FALSE,Worksheet!$B$16)","v":true},{"$f":"IF(Worksheet!$D$6=1,RANDBETWEEN(1,99),IF(Worksheet!$D$6=2,CHOOSE(RANDBETWEEN(1,2),RANDBETWEEN(1,99),RANDBETWEEN(1,999)/10),CHOOSE(RANDBETWEEN(1,4),RANDBETWEEN(1,99999)/1000,RANDBETWEEN(1,9999)/100,RANDBETWEEN(1,999)/10,RANDBETWEEN(1,99))))","v":50},"km","=",{"$f":"1000*C1533","v":50000},"m"]
[{"$f":"IF(COUNTIF($B$1:B1534,TRUE)=COUNTIF($B$1:B1533,TRUE),\"\",COUNTIF($B$1:B1534,TRUE))","v":""},{"$f":"IF(Worksheet!$D$10=3,FALSE,Worksheet!$B$17)","v":false},{"$f":"IF(Worksheet!$D$6=1,RANDBETWEEN(1,99),IF(Worksheet!$D$6=2,CHOOSE(RANDBETWEEN(1,2),RANDBETWEEN(1,99),RANDBETWEEN(1,999)/10),CHOOSE(RANDBETWEEN(1,4),RANDBETWEEN(1,99999)/1000,RANDBETWEEN(1,9999)/100,RANDBETWEEN(1,999)/10,RANDBETWEEN(1,99))))","v":44},"m",{"$f":"#REF!","v":{"$error":"#REF!"}},{"$f":"1000*C1534","v":44000},"mm"]
[{"$f":"IF(COUNTIF($B$1:B1535,TRUE)=COUNTIF($B$1:B1534,TRUE),\"\",COUNTIF($B$1:B1535,TRUE))","v":""},{"$f":"IF(Worksheet!$D$10=3,FALSE,Worksheet!$B$18)","v":false},{"$f":"IF(Worksheet!$D$6=1,RANDBETWEEN(1,99),IF(Worksheet!$D$6=2,CHOOSE(RANDBETWEEN(1,2),RANDBETWEEN(1,99),RANDBETWEEN(1,999)/10),CHOOSE(RANDBETWEEN(1,4),RANDBETWEEN(1,99999)/1000,RANDBETWEEN(1,9999)/100,RANDBETWEEN(1,999)/10,RANDBETWEEN(1,99))))","v":69},"cm²","=",{"$f":"C1535*100","v":6900},"mm²"]
[{"$f":"IF(COUNTIF($B$1:B1536,TRUE)=COUNTIF($B$1:B1535,TRUE),\"\",COUNTIF($B$1:B1536,TRUE))","v":922},{"$f":"IF(Worksheet!$D$10=3,FALSE,Worksheet!$D$14)","v":true},{"$f":"IF(Worksheet!$D$6=1,RANDBETWEEN(1,99),IF(Worksheet!$D$6=2,CHOOSE(RANDBETWEEN(1,2),RANDBETWEEN(1,99),RANDBETWEEN(1,999)/10),CHOOSE(RANDBETWEEN(1,4),RANDBETWEEN(1,99999)/1000,RANDBETWEEN(1,9999)/100,RANDBETWEEN(1,999)/10,RANDBETWEEN(1,99))))","v":59},"kg","=",{"$f":"1000*C1536","v":59000},"g"]
[{"$f":"IF(COUNTIF($B$1:B1537,TRUE)=COUNTIF($B$1:B1536,TRUE),\"\",COUNTIF($B$1:B1537,TRUE))","v":923},{"$f":"IF(Worksheet!$D$10=3,FALSE,Worksheet!$D$15)","v":true},{"$f":"IF(Worksheet!$D$6=1,RANDBETWEEN(1,99),IF(Worksheet!$D$6=2,CHOOSE(RANDBETWEEN(1,2),RANDBETWEEN(1,99),RANDBETWEEN(1,999)/10),CHOOSE(RANDBETWEEN(1,4),RANDBETWEEN(1,99999)/1000,RANDBETWEEN(1,9999)/100,RANDBETWEEN(1,999)/10,RANDBETWEEN(1,99))))","v":40},"tonnes","=",{"$f":"1000*C1537","v":40000},"kg"]
[{"$f":"IF(COUNTIF($B$1:B1538,TRUE)=COUNTIF($B$1:B1537,TRUE),\"\",COUNTIF($B$1:B1538,TRUE))","v":924},{"$f":"IF(Worksheet!$D$10=3,FALSE,Worksheet!$D$16)","v":true},{"$f":"IF(Worksheet!$D$6=1,RANDBETWEEN(1,99),IF(Worksheet!$D$6=2,CHOOSE(RANDBETWEEN(1,2),RANDBETWEEN(1,99),RANDBETWEEN(1,999)/10),CHOOSE(RANDBETWEEN(1,4),RANDBETWEEN(1,99999)/1000,RANDBETWEEN(1,9999)/100,RANDBETWEEN(1,999)/10,RANDBETWEEN(1,99))))","v":86},"litres","=",{"$f":"1000*C1538","v":86000},"ml"]
[{"$f":"IF(COUNTIF($B$1:B1539,TRUE)=COUNTIF($B$1:B1538,TRUE),\"\",COUNTIF($B$1:B1539,TRUE))","v":""},{"$f":"IF(Worksheet!$D$10=3,FALSE,Worksheet!$D$17)","v":false},{"$f":"IF(Worksheet!$D$6=1,RANDBETWEEN(1,99),IF(Worksheet!$D$6=2,CHOOSE(RANDBETWEEN(1,2),RANDBETWEEN(1,99),RANDBETWEEN(1,999)/10),CHOOSE(RANDBETWEEN(1,4),RANDBETWEEN(1,99999)/1000,RANDBETWEEN(1,9999)/100,RANDBETWEEN(1,999)/10,RANDBETWEEN(1,99))))","v":18},"litres","=",{"$f":"1000*C1539","v":18000},"cm³"]
[{"$f":"IF(COUNTIF($B$1:B1540,TRUE)=COUNTIF($B$1:B1539,TRUE),\"\",COUNTIF($B$1:B1540,TRUE))","v":""},{"$f":"IF(Worksheet!$D$10=3,FALSE,Worksheet!$D$18)","v":false},{"$f":"IF(Worksheet!$D$6=1,RANDBETWEEN(1,99),IF(Worksheet!$D$6=2,CHOOSE(RANDBETWEEN(1,2),RANDBETWEEN(1,99),RANDBETWEEN(1,999)/10),CHOOSE(RANDBETWEEN(1,4),RANDBETWEEN(1,99999)/1000,RANDBETWEEN(1,9999)/100,RANDBETWEEN(1,999)/10,RANDBETWEEN(1,99))))","v":37},"m²","=",{"$f":"10000*C1540","v":370000},"cm²"]
[{"$f":"IF(COUNTIF($B$1:B1541,TRUE)=COUNTIF($B$1:B1540,TRUE),\"\",COUNTIF($B$1:B1541,TRUE))","v":925},{"$f":"IF(Worksheet!$D$10=2,FALSE,Worksheet!$B$14)","v":true},{"$f":"10*F1541","v":960},"mm","=",{"$f":"IF(Worksheet!$D$6=1,RANDBETWEEN(1,99),IF(Worksheet!$D$6=2,CHOOSE(RANDBETWEEN(1,2),RANDBETWEEN(1,99),RANDBETWEEN(1,999)/10),CHOOSE(RANDBETWEEN(1,4),RANDBETWEEN(1,99999)/1000,RANDBETWEEN(1,9999)/100,RANDBETWEEN(1,999)/10,RANDBETWEEN(1,99))))","v":96},"cm"]
[{"$f":"IF(COUNTIF($B$1:B1542,TRUE)=COUNTIF($B$1:B1541,TRUE),\"\",COUNTIF($B$1:B1542,TRUE))","v":926},{"$f":"IF(Worksheet!$D$10=2,FALSE,Worksheet!$B$15)","v":true},{"$f":"100*F1542","v":3700},"cm","=",{"$f":"IF(Worksheet!$D$6=1,RANDBETWEEN(1,99),IF(Worksheet!$D$6=2,CHOOSE(RANDBETWEEN(1,2),RANDBETWEEN(1,99),RANDBETWEEN(1,999)/10),CHOOSE(RANDBETWEEN(1,4),RANDBETWEEN(1,99999)/1000,RANDBETWEEN(1,9999)/100,RANDBETWEEN(1,999)/10,RANDBETWEEN(1,99))))","v":37},"m"]
[{"$f":"IF(COUNTIF($B$1:B1543,TRUE)=COUNTIF($B$1:B1542,TRUE),\"\",COUNTIF($B$1:B1543,TRUE))","v":927},{"$f":"IF(Worksheet!$D$10=2,FALSE,Worksheet!$B$16)","v":true},{"$f":"1000*F1543","v":64000},"m","=",{"$f":"IF(Worksheet!$D$6=1,RANDBETWEEN(1,99),IF(Worksheet!$D$6=2,CHOOSE(RANDBETWEEN(1,2),RANDBETWEEN(1,99),RANDBETWEEN(1,999)/10),CHOOSE(RANDBETWEEN(1,4),RANDBETWEEN(1,99999)/1000,RANDBETWEEN(1,9999)/100,RANDBETWEEN(1,999)/10,RANDBETWEEN(1,99))))","v":64},"km"]
[{"$f":"IF(COUNTIF($B$1:B1544,TRUE)=COUNTIF($B$1:B1543,TRUE),\"\",COUNTIF($B$1:B1544,TRUE))","v":""},{"$f":"IF(Worksheet!$D$10=2,FALSE,Worksheet!$B$17)","v":false},{"$f":"1000*F1544","v":70000},"mm","=",{"$f":"IF(Worksheet!$D$6=1,RANDBETWEEN(1,99),IF(Worksheet!$D$6=2,CHOOSE(RANDBETWEEN(1,2),RANDBETWEEN(1,99),RANDBETWEEN(1,999)/10),CHOOSE(RANDBETWEEN(1,4),RANDBETWEEN(1,99999)/1000,RANDBETWEEN(1,9999)/100,RANDBETWEEN(1,999)/10,RANDBETWEEN(1,99))))","v":70},"m"]
[{"$f":"IF(COUNTIF($B$1:B1545,TRUE)=COUNTIF($B$1:B1544,TRUE),\"\",COUNTIF($B$1:B1545,TRUE))","v":""},{"$f":"IF(Worksheet!$D$10=2,FALSE,Worksheet!$B$18)","v":false},{"$f":"100*F1545","v":2700},"mm²","=",{"$f":"IF(Worksheet!$D$6=1,RANDBETWEEN(1,99),IF(Worksheet!$D$6=2,CHOOSE(RANDBETWEEN(1,2),RANDBETWEEN(1,99),RANDBETWEEN(1,999)/10),CHOOSE(RANDBETWEEN(1,4),RANDBETWEEN(1,99999)/1000,RANDBETWEEN(1,9999)/100,RANDBETWEEN(1,999)/10,RANDBETWEEN(1,99))))","v":27},"cm²"]
[{"$f":"IF(COUNTIF($B$1:B1546,TRUE)=COUNTIF($B$1:B1545,TRUE),\"\",COUNTIF($B$1:B1546,TRUE))","v":928},{"$f":"IF(Worksheet!$D$10=2,FALSE,Worksheet!$D$14)","v":true},{"$f":"F1546*1000","v":32000},"g","=",{"$f":"IF(Worksheet!$D$6=1,RANDBETWEEN(1,99),IF(Worksheet!$D$6=2,CHOOSE(RANDBETWEEN(1,2),RANDBETWEEN(1,99),RANDBETWEEN(1,999)/10),CHOOSE(RANDBETWEEN(1,4),RANDBETWEEN(1,99999)/1000,RANDBETWEEN(1,9999)/100,RANDBETWEEN(1,999)/10,RANDBETWEEN(1,99))))","v":32},"kg"]
[{"$f":"IF(COUNTIF($B$1:B1547,TRUE)=COUNTIF($B$1:B1546,TRUE),\"\",COUNTIF($B$1:B1547,TRUE))","v":929},{"$f":"IF(Worksheet!$D$10=2,FALSE,Worksheet!$D$15)","v":true},{"$f":"F1547*1000","v":71000},"kg","=",{"$f":"IF(Worksheet!$D$6=1,RANDBETWEEN(1,99),IF(Worksheet!$D$6=2,CHOOSE(RANDBETWEEN(1,2),RANDBETWEEN(1,99),RANDBETWEEN(1,999)/10),CHOOSE(RANDBETWEEN(1,4),RANDBETWEEN(1,99999)/1000,RANDBETWEEN(1,9999)/100,RANDBETWEEN(1,999)/10,RANDBETWEEN(1,99))))","v":71},"tonnes"]
[{"$f":"IF(COUNTIF($B$1:B1548,TRUE)=COUNTIF($B$1:B1547,TRUE),\"\",COUNTIF($B$1:B1548,TRUE))","v":930},{"$f":"IF(Worksheet!$D$10=2,FALSE,Worksheet!$D$16)","v":true},{"$f":"1000*F1548","v":81000},"ml","=",{"$f":"IF(Worksheet!$D$6=1,RANDBETWEEN(1,99),IF(Worksheet!$D$6=2,CHOOSE(RANDBETWEEN(1,2),RANDBETWEEN(1,99),RANDBETWEEN(1,999)/10),CHOOSE(RANDBETWEEN(1,4),RANDBETWEEN(1,99999)/1000,RANDBETWEEN(1,9999)/100,RANDBETWEEN(1,999)/10,RANDBETWEEN(1,99))))","v":81},"litres"]
[{"$f":"IF(COUNTIF($B$1:B1549,TRUE)=COUNTIF($B$1:B1548,TRUE),\"\",COUNTIF($B$1:B1549,TRUE))","v":""},{"$f":"IF(Worksheet!$D$10=2,FALSE,Worksheet!$D$17)","v":false},{"$f":"1000*F1549","v":10000},"cm³","=",{"$f":"IF(Worksheet!$D$6=1,RANDBETWEEN(1,99),IF(Worksheet!$D$6=2,CHOOSE(RANDBETWEEN(1,2),RANDBETWEEN(1,99),RANDBETWEEN(1,999)/10),CHOOSE(RANDBETWEEN(1,4),RANDBETWEEN(1,99999)/1000,RANDBETWEEN(1,9999)/100,RANDBETWEEN(1,999)/10,RANDBETWEEN(1,99))))","v":10},"litres"]
[{"$f":"IF(COUNTIF($B$1:B1550,TRUE)=COUNTIF($B$1:B1549,TRUE),\"\",COUNTIF($B$1:B1550,TRUE))","v":""},{"$f":"IF(Worksheet!$D$10=2,FALSE,Worksheet!$D$18)","v":false},{"$f":"10000*F1550","v":850000},"cm²","=",{"$f":"IF(Worksheet!$D$6=1,RANDBETWEEN(1,99),IF(Worksheet!$D$6=2,CHOOSE(RANDBETWEEN(1,2),RANDBETWEEN(1,99),RANDBETWEEN(1,999)/10),CHOOSE(RANDBETWEEN(1,4),RANDBETWEEN(1,99999)/1000,RANDBETWEEN(1,9999)/100,RANDBETWEEN(1,999)/10,RANDBETWEEN(1,99))))","v":85},"m²"]
[{"$f":"IF(COUNTIF($B$1:B1551,TRUE)=COUNTIF($B$1:B1550,TRUE),\"\",COUNTIF($B$1:B1551,TRUE))","v":931},{"$f":"IF(Worksheet!$D$10=3,FALSE,Worksheet!$B$14)","v":true},{"$f":"IF(Worksheet!$D$6=1,RANDBETWEEN(1,99),IF(Worksheet!$D$6=2,CHOOSE(RANDBETWEEN(1,2),RANDBETWEEN(1,99),RANDBETWEEN(1,999)/10),CHOOSE(RANDBETWEEN(1,4),RANDBETWEEN(1,99999)/1000,RANDBETWEEN(1,9999)/100,RANDBETWEEN(1,999)/10,RANDBETWEEN(1,99))))","v":19},"cm","=",{"$f":"10*C1551","v":190},"mm"]
[{"$f":"IF(COUNTIF($B$1:B1552,TRUE)=COUNTIF($B$1:B1551,TRUE),\"\",COUNTIF($B$1:B1552,TRUE))","v":932},{"$f":"IF(Worksheet!$D$10=3,FALSE,Worksheet!$B$15)","v":true},{"$f":"IF(Worksheet!$D$6=1,RANDBETWEEN(1,99),IF(Worksheet!$D$6=2,CHOOSE(RANDBETWEEN(1,2),RANDBETWEEN(1,99),RANDBETWEEN(1,999)/10),CHOOSE(RANDBETWEEN(1,4),RANDBETWEEN(1,99999)/1000,RANDBETWEEN(1,9999)/100,RANDBETWEEN(1,999)/10,RANDBETWEEN(1,99))))","v":11},"m","=",{"$f":"100*C1552","v":1100},"cm"]
[{"$f":"IF(COUNTIF($B$1:B1553,TRUE)=COUNTIF($B$1:B1552,TRUE),\"\",COUNTIF($B$1:B1553,TRUE))","v":933},{"$f":"IF(Worksheet!$D$10=3,FALSE,Worksheet!$B$16)","v":true},{"$f":"IF(Worksheet!$D$6=1,RANDBETWEEN(1,99),IF(Worksheet!$D$6=2,CHOOSE(RANDBETWEEN(1,2),RANDBETWEEN(1,99),RANDBETWEEN(1,999)/10),CHOOSE(RANDBETWEEN(1,4),RANDBETWEEN(1,99999)/1000,RANDBETWEEN(1,9999)/100,RANDBETWEEN(1,999)/10,RANDBETWEEN(1,99))))","v":13},"km","=",{"$f":"1000*C1553","v":13000},"m"]
[{"$f":"IF(COUNTIF($B$1:B1554,TRUE)=COUNTIF($B$1:B1553,TRUE),\"\",COUNTIF($B$1:B1554,TRUE))","v":""},{"$f":"IF(Worksheet!$D$10=3,FALSE,Worksheet!$B$17)","v":false},{"$f":"IF(Worksheet!$D$6=1,RANDBETWEEN(1,99),IF(Worksheet!$D$6=2,CHOOSE(RANDBETWEEN(1,2),RANDBETWEEN(1,99),RANDBETWEEN(1,999)/10),CHOOSE(RANDBETWEEN(1,4),RANDBETWEEN(1,99999)/1000,RANDBETWEEN(1,9999)/100,RANDBETWEEN(1,999)/10,RANDBETWEEN(1,99))))","v":75},"m",{"$f":"#REF!","v":{"$error":"#REF!"}},{"$f":"1000*C1554","v":75000},"mm"]
[{"$f":"IF(COUNTIF($B$1:B1555,TRUE)=COUNTIF($B$1:B1554,TRUE),\"\",COUNTIF($B$1:B1555,TRUE))","v":""},{"$f":"IF(Worksheet!$D$10=3,FALSE,Worksheet!$B$18)","v":false},{"$f":"IF(Worksheet!$D$6=1,RANDBETWEEN(1,99),IF(Worksheet!$D$6=2,CHOOSE(RANDBETWEEN(1,2),RANDBETWEEN(1,99),RANDBETWEEN(1,999)/10),CHOOSE(RANDBETWEEN(1,4),RANDBETWEEN(1,99999)/1000,RANDBETWEEN(1,9999)/100,RANDBETWEEN(1,999)/10,RANDBETWEEN(1,99))))","v":37},"cm²","=",{"$f":"C1555*100","v":3700},"mm²"]
[{"$f":"IF(COUNTIF($B$1:B1556,TRUE)=COUNTIF($B$1:B1555,TRUE),\"\",COUNTIF($B$1:B1556,TRUE))","v":934},{"$f":"IF(Worksheet!$D$10=3,FALSE,Worksheet!$D$14)","v":true},{"$f":"IF(Worksheet!$D$6=1,RANDBETWEEN(1,99),IF(Worksheet!$D$6=2,CHOOSE(RANDBETWEEN(1,2),RANDBETWEEN(1,99),RANDBETWEEN(1,999)/10),CHOOSE(RANDBETWEEN(1,4),RANDBETWEEN(1,99999)/1000,RANDBETWEEN(1,9999)/100,RANDBETWEEN(1,999)/10,RANDBETWEEN(1,99))))","v":37},"kg","=",{"$f":"1000*C1556","v":37000},"g"]
[{"$f":"IF(COUNTIF($B$1:B1557,TRUE)=COUNTIF($B$1:B1556,TRUE),\"\",COUNTIF($B$1:B1557,TRUE))","v":935},{"$f":"IF(Worksheet!$D$10=3,FALSE,Worksheet!$D$15)","v":true},{"$f":"IF(Worksheet!$D$6=1,RANDBETWEEN(1,99),IF(Worksheet!$D$6=2,CHOOSE(RANDBETWEEN(1,2),RANDBETWEEN(1,99),RANDBETWEEN(1,999)/10),CHOOSE(RANDBETWEEN(1,4),RANDBETWEEN(1,99999)/1000,RANDBETWEEN(1,9999)/100,RANDBETWEEN(1,999)/10,RANDBETWEEN(1,99))))","v":84},"tonnes","=",{"$f":"1000*C1557","v":84000},"kg"]
[{"$f":"IF(COUNTIF($B$1:B1558,TRUE)=COUNTIF($B$1:B1557,TRUE),\"\",COUNTIF($B$1:B1558,TRUE))","v":936},{"$f":"IF(Worksheet!$D$10=3,FALSE,Worksheet!$D$16)","v":true},{"$f":"IF(Worksheet!$D$6=1,RANDBETWEEN(1,99),IF(Worksheet!$D$6=2,CHOOSE(RANDBETWEEN(1,2),RANDBETWEEN(1,99),RANDBETWEEN(1,999)/10),CHOOSE(RANDBETWEEN(1,4),RANDBETWEEN(1,99999)/1000,RANDBETWEEN(1,9999)/100,RANDBETWEEN(1,999)/10,RANDBETWEEN(1,99))))","v":22},"litres","=",{"$f":"1000*C1558","v":22000},"ml"]
[{"$f":"IF(COUNTIF($B$1:B1559,TRUE)=COUNTIF($B$1:B1558,TRUE),\"\",COUNTIF($B$1:B1559,TRUE))","v":""},{"$f":"IF(Worksheet!$D$10=3,FALSE,Worksheet!$D$17)","v":false},{"$f":"IF(Worksheet!$D$6=1,RANDBETWEEN(1,99),IF(Worksheet!$D$6=2,CHOOSE(RANDBETWEEN(1,2),RANDBETWEEN(1,99),RANDBETWEEN(1,999)/10),CHOOSE(RANDBETWEEN(1,4),RANDBETWEEN(1,99999)/1000,RANDBETWEEN(1,9999)/100,RANDBETWEEN(1,999)/10,RANDBETWEEN(1,99))))","v":32},"litres","=",{"$f":"1000*C1559","v":32000},"cm³"]
[{"$f":"IF(COUNTIF($B$1:B1560,TRUE)=COUNTIF($B$1:B1559,TRUE),\"\",COUNTIF($B$1:B1560,TRUE))","v":""},{"$f":"IF(Worksheet!$D$10=3,FALSE,Worksheet!$D$18)","v":false},{"$f":"IF(Worksheet!$D$6=1,RANDBETWEEN(1,99),IF(Worksheet!$D$6=2,CHOOSE(RANDBETWEEN(1,2),RANDBETWEEN(1,99),RANDBETWEEN(1,999)/10),CHOOSE(RANDBETWEEN(1,4),RANDBETWEEN(1,99999)/1000,RANDBETWEEN(1,9999)/100,RANDBETWEEN(1,999)/10,RANDBETWEEN(1,99))))","v":94},"m²","=",{"$f":"10000*C1560","v":940000},"cm²"]
[{"$f":"IF(COUNTIF($B$1:B1561,TRUE)=COUNTIF($B$1:B1560,TRUE),\"\",COUNTIF($B$1:B1561,TRUE))","v":937},{"$f":"IF(Worksheet!$D$10=2,FALSE,Worksheet!$B$14)","v":true},{"$f":"10*F1561","v":730},"mm","=",{"$f":"IF(Worksheet!$D$6=1,RANDBETWEEN(1,99),IF(Worksheet!$D$6=2,CHOOSE(RANDBETWEEN(1,2),RANDBETWEEN(1,99),RANDBETWEEN(1,999)/10),CHOOSE(RANDBETWEEN(1,4),RANDBETWEEN(1,99999)/1000,RANDBETWEEN(1,9999)/100,RANDBETWEEN(1,999)/10,RANDBETWEEN(1,99))))","v":73},"cm"]
[{"$f":"IF(COUNTIF($B$1:B1562,TRUE)=COUNTIF($B$1:B1561,TRUE),\"\",COUNTIF($B$1:B1562,TRUE))","v":938},{"$f":"IF(Worksheet!$D$10=2,FALSE,Worksheet!$B$15)","v":true},{"$f":"100*F1562","v":2600},"cm","=",{"$f":"IF(Worksheet!$D$6=1,RANDBETWEEN(1,99),IF(Worksheet!$D$6=2,CHOOSE(RANDBETWEEN(1,2),RANDBETWEEN(1,99),RANDBETWEEN(1,999)/10),CHOOSE(RANDBETWEEN(1,4),RANDBETWEEN(1,99999)/1000,RANDBETWEEN(1,9999)/100,RANDBETWEEN(1,999)/10,RANDBETWEEN(1,99))))","v":26},"m"]
[{"$f":"IF(COUNTIF($B$1:B1563,TRUE)=COUNTIF($B$1:B1562,TRUE),\"\",COUNTIF($B$1:B1563,TRUE))","v":939},{"$f":"IF(Worksheet!$D$10=2,FALSE,Worksheet!$B$16)","v":true},{"$f":"1000*F1563","v":7000},"m","=",{"$f":"IF(Worksheet!$D$6=1,RANDBETWEEN(1,99),IF(Worksheet!$D$6=2,CHOOSE(RANDBETWEEN(1,2),RANDBETWEEN(1,99),RANDBETWEEN(1,999)/10),CHOOSE(RANDBETWEEN(1,4),RANDBETWEEN(1,99999)/1000,RANDBETWEEN(1,9999)/100,RANDBETWEEN(1,999)/10,RANDBETWEEN(1,99))))","v":7},"km"]
[{"$f":"IF(COUNTIF($B$1:B1564,TRUE)=COUNTIF($B$1:B1563,TRUE),\"\",COUNTIF($B$1:B1564,TRUE))","v":""},{"$f":"IF(Worksheet!$D$10=2,FALSE,Worksheet!$B$17)","v":false},{"$f":"1000*F1564","v":66000},"mm","=",{"$f":"IF(Worksheet!$D$6=1,RANDBETWEEN(1,99),IF(Worksheet!$D$6=2,CHOOSE(RANDBETWEEN(1,2),RANDBETWEEN(1,99),RANDBETWEEN(1,999)/10),CHOOSE(RANDBETWEEN(1,4),RANDBETWEEN(1,99999)/1000,RANDBETWEEN(1,9999)/100,RANDBETWEEN(1,999)/10,RANDBETWEEN(1,99))))","v":66},"m"]
[{"$f":"IF(COUNTIF($B$1:B1565,TRUE)=COUNTIF($B$1:B1564,TRUE),\"\",COUNTIF($B$1:B1565,TRUE))","v":""},{"$f":"IF(Worksheet!$D$10=2,FALSE,Worksheet!$B$18)","v":false},{"$f":"100*F1565","v":5500},"mm²","=",{"$f":"IF(Worksheet!$D$6=1,RANDBETWEEN(1,99),IF(Worksheet!$D$6=2,CHOOSE(RANDBETWEEN(1,2),RANDBETWEEN(1,99),RANDBETWEEN(1,999)/10),CHOOSE(RANDBETWEEN(1,4),RANDBETWEEN(1,99999)/1000,RANDBETWEEN(1,9999)/100,RANDBETWEEN(1,999)/10,RANDBETWEEN(1,99))))","v":55},"cm²"]
[{"$f":"IF(COUNTIF($B$1:B1566,TRUE)=COUNTIF($B$1:B1565,TRUE),\"\",COUNTIF($B$1:B1566,TRUE))","v":940},{"$f":"IF(Worksheet!$D$10=2,FALSE,Worksheet!$D$14)","v":true},{"$f":"F1566*1000","v":3000},"g","=",{"$f":"IF(Worksheet!$D$6=1,RANDBETWEEN(1,99),IF(Worksheet!$D$6=2,CHOOSE(RANDBETWEEN(1,2),RANDBETWEEN(1,99),RANDBETWEEN(1,999)/10),CHOOSE(RANDBETWEEN(1,4),RANDBETWEEN(1,99999)/1000,RANDBETWEEN(1,9999)/100,RANDBETWEEN(1,999)/10,RANDBETWEEN(1,99))))","v":3},"kg"]
[{"$f":"IF(COUNTIF($B$1:B1567,TRUE)=COUNTIF($B$1:B1566,TRUE),\"\",COUNTIF($B$1:B1567,TRUE))","v":941},{"$f":"IF(Worksheet!$D$10=2,FALSE,Worksheet!$D$15)","v":true},{"$f":"F1567*1000","v":61000},"kg","=",{"$f":"IF(Worksheet!$D$6=1,RANDBETWEEN(1,99),IF(Worksheet!$D$6=2,CHOOSE(RANDBETWEEN(1,2),RANDBETWEEN(1,99),RANDBETWEEN(1,999)/10),CHOOSE(RANDBETWEEN(1,4),RANDBETWEEN(1,99999)/1000,RANDBETWEEN(1,9999)/100,RANDBETWEEN(1,999)/10,RANDBETWEEN(1,99))))","v":61},"tonnes"]
[{"$f":"IF(COUNTIF($B$1:B1568,TRUE)=COUNTIF($B$1:B1567,TRUE),\"\",COUNTIF($B$1:B1568,TRUE))","v":942},{"$f":"IF(Worksheet!$D$10=2,FALSE,Worksheet!$D$16)","v":true},{"$f":"1000*F1568","v":62000},"ml","=",{"$f":"IF(Worksheet!$D$6=1,RANDBETWEEN(1,99),IF(Worksheet!$D$6=2,CHOOSE(RANDBETWEEN(1,2),RANDBETWEEN(1,99),RANDBETWEEN(1,999)/10),CHOOSE(RANDBETWEEN(1,4),RANDBETWEEN(1,99999)/1000,RANDBETWEEN(1,9999)/100,RANDBETWEEN(1,999)/10,RANDBETWEEN(1,99))))","v":62},"litres"]
[{"$f":"IF(COUNTIF($B$1:B1569,TRUE)=COUNTIF($B$1:B1568,TRUE),\"\",COUNTIF($B$1:B1569,TRUE))","v":""},{"$f":"IF(Worksheet!$D$10=2,FALSE,Worksheet!$D$17)","v":false},{"$f":"1000*F1569","v":47000},"cm³","=",{"$f":"IF(Worksheet!$D$6=1,RANDBETWEEN(1,99),IF(Worksheet!$D$6=2,CHOOSE(RANDBETWEEN(1,2),RANDBETWEEN(1,99),RANDBETWEEN(1,999)/10),CHOOSE(RANDBETWEEN(1,4),RANDBETWEEN(1,99999)/1000,RANDBETWEEN(1,9999)/100,RANDBETWEEN(1,999)/10,RANDBETWEEN(1,99))))","v":47},"litres"]
[{"$f":"IF(COUNTIF($B$1:B1570,TRUE)=COUNTIF($B$1:B1569,TRUE),\"\",COUNTIF($B$1:B1570,TRUE))","v":""},{"$f":"IF(Worksheet!$D$10=2,FALSE,Worksheet!$D$18)","v":false},{"$f":"10000*F1570","v":520000},"cm²","=",{"$f":"IF(Worksheet!$D$6=1,RANDBETWEEN(1,99),IF(Worksheet!$D$6=2,CHOOSE(RANDBETWEEN(1,2),RANDBETWEEN(1,99),RANDBETWEEN(1,999)/10),CHOOSE(RANDBETWEEN(1,4),RANDBETWEEN(1,99999)/1000,RANDBETWEEN(1,9999)/100,RANDBETWEEN(1,999)/10,RANDBETWEEN(1,99))))","v":52},"m²"]
[{"$f":"IF(COUNTIF($B$1:B1571,TRUE)=COUNTIF($B$1:B1570,TRUE),\"\",COUNTIF($B$1:B1571,TRUE))","v":943},{"$f":"IF(Worksheet!$D$10=3,FALSE,Worksheet!$B$14)","v":true},{"$f":"IF(Worksheet!$D$6=1,RANDBETWEEN(1,99),IF(Worksheet!$D$6=2,CHOOSE(RANDBETWEEN(1,2),RANDBETWEEN(1,99),RANDBETWEEN(1,999)/10),CHOOSE(RANDBETWEEN(1,4),RANDBETWEEN(1,99999)/1000,RANDBETWEEN(1,9999)/100,RANDBETWEEN(1,999)/10,RANDBETWEEN(1,99))))","v":35},"cm","=",{"$f":"10*C1571","v":350},"mm"]
[{"$f":"IF(COUNTIF($B$1:B1572,TRUE)=COUNTIF($B$1:B1571,TRUE),\"\",COUNTIF($B$1:B1572,TRUE))","v":944},{"$f":"IF(Worksheet!$D$10=3,FALSE,Worksheet!$B$15)","v":true},{"$f":"IF(Worksheet!$D$6=1,RANDBETWEEN(1,99),IF(Worksheet!$D$6=2,CHOOSE(RANDBETWEEN(1,2),RANDBETWEEN(1,99),RANDBETWEEN(1,999)/10),CHOOSE(RANDBETWEEN(1,4),RANDBETWEEN(1,99999)/1000,RANDBETWEEN(1,9999)/100,RANDBETWEEN(1,999)/10,RANDBETWEEN(1,99))))","v":47},"m","=",{"$f":"100*C1572","v":4700},"cm"]
[{"$f":"IF(COUNTIF($B$1:B1573,TRUE)=COUNTIF($B$1:B1572,TRUE),\"\",COUNTIF($B$1:B1573,TRUE))","v":945},{"$f":"IF(Worksheet!$D$10=3,FALSE,Worksheet!$B$16)","v":true},{"$f":"IF(Worksheet!$D$6=1,RANDBETWEEN(1,99),IF(Worksheet!$D$6=2,CHOOSE(RANDBETWEEN(1,2),RANDBETWEEN(1,99),RANDBETWEEN(1,999)/10),CHOOSE(RANDBETWEEN(1,4),RANDBETWEEN(1,99999)/1000,RANDBETWEEN(1,9999)/100,RANDBETWEEN(1,999)/10,RANDBETWEEN(1,99))))","v":90},"km","=",{"$f":"1000*C1573","v":90000},"m"]
[{"$f":"IF(COUNTIF($B$1:B1574,TRUE)=COUNTIF($B$1:B1573,TRUE),\"\",COUNTIF($B$1:B1574,TRUE))","v":""},{"$f":"IF(Worksheet!$D$10=3,FALSE,Worksheet!$B$17)","v":false},{"$f":"IF(Worksheet!$D$6=1,RANDBETWEEN(1,99),IF(Worksheet!$D$6=2,CHOOSE(RANDBETWEEN(1,2),RANDBETWEEN(1,99),RANDBETWEEN(1,999)/10),CHOOSE(RANDBETWEEN(1,4),RANDBETWEEN(1,99999)/1000,RANDBETWEEN(1,9999)/100,RANDBETWEEN(1,999)/10,RANDBETWEEN(1,99))))","v":68},"m",{"$f":"#REF!","v":{"$error":"#REF!"}},{"$f":"1000*C1574","v":68000},"mm"]
[{"$f":"IF(COUNTIF($B$1:B1575,TRUE)=COUNTIF($B$1:B1574,TRUE),\"\",COUNTIF($B$1:B1575,TRUE))","v":""},{"$f":"IF(Worksheet!$D$10=3,FALSE,Worksheet!$B$18)","v":false},{"$f":"IF(Worksheet!$D$6=1,RANDBETWEEN(1,99),IF(Worksheet!$D$6=2,CHOOSE(RANDBETWEEN(1,2),RANDBETWEEN(1,99),RANDBETWEEN(1,999)/10),CHOOSE(RANDBETWEEN(1,4),RANDBETWEEN(1,99999)/1000,RANDBETWEEN(1,9999)/100,RANDBETWEEN(1,999)/10,RANDBETWEEN(1,99))))","v":32},"cm²","=",{"$f":"C1575*100","v":3200},"mm²"]
[{"$f":"IF(COUNTIF($B$1:B1576,TRUE)=COUNTIF($B$1:B1575,TRUE),\"\",COUNTIF($B$1:B1576,TRUE))","v":946},{"$f":"IF(Worksheet!$D$10=3,FALSE,Worksheet!$D$14)","v":true},{"$f":"IF(Worksheet!$D$6=1,RANDBETWEEN(1,99),IF(Worksheet!$D$6=2,CHOOSE(RANDBETWEEN(1,2),RANDBETWEEN(1,99),RANDBETWEEN(1,999)/10),CHOOSE(RANDBETWEEN(1,4),RANDBETWEEN(1,99999)/1000,RANDBETWEEN(1,9999)/100,RANDBETWEEN(1,999)/10,RANDBETWEEN(1,99))))","v":1},"kg","=",{"$f":"1000*C1576","v":1000},"g"]
[{"$f":"IF(COUNTIF($B$1:B1577,TRUE)=COUNTIF($B$1:B1576,TRUE),\"\",COUNTIF($B$1:B1577,TRUE))","v":947},{"$f":"IF(Worksheet!$D$10=3,FALSE,Worksheet!$D$15)","v":true},{"$f":"IF(Worksheet!$D$6=1,RANDBETWEEN(1,99),IF(Worksheet!$D$6=2,CHOOSE(RANDBETWEEN(1,2),RANDBETWEEN(1,99),RANDBETWEEN(1,999)/10),CHOOSE(RANDBETWEEN(1,4),RANDBETWEEN(1,99999)/1000,RANDBETWEEN(1,9999)/100,RANDBETWEEN(1,999)/10,RANDBETWEEN(1,99))))","v":56},"tonnes","=",{"$f":"1000*C1577","v":56000},"kg"]
[{"$f":"IF(COUNTIF($B$1:B1578,TRUE)=COUNTIF($B$1:B1577,TRUE),\"\",COUNTIF($B$1:B1578,TRUE))","v":948},{"$f":"IF(Worksheet!$D$10=3,FALSE,Worksheet!$D$16)","v":true},{"$f":"IF(Worksheet!$D$6=1,RANDBETWEEN(1,99),IF(Worksheet!$D$6=2,CHOOSE(RANDBETWEEN(1,2),RANDBETWEEN(1,99),RANDBETWEEN(1,999)/10),CHOOSE(RANDBETWEEN(1,4),RANDBETWEEN(1,99999)/1000,RANDBETWEEN(1,9999)/100,RANDBETWEEN(1,999)/10,RANDBETWEEN(1,99))))","v":60},"litres","=",{"$f":"1000*C1578","v":60000},"ml"]
[{"$f":"IF(COUNTIF($B$1:B1579,TRUE)=COUNTIF($B$1:B1578,TRUE),\"\",COUNTIF($B$1:B1579,TRUE))","v":""},{"$f":"IF(Worksheet!$D$10=3,FALSE,Worksheet!$D$17)","v":false},{"$f":"IF(Worksheet!$D$6=1,RANDBETWEEN(1,99),IF(Worksheet!$D$6=2,CHOOSE(RANDBETWEEN(1,2),RANDBETWEEN(1,99),RANDBETWEEN(1,999)/10),CHOOSE(RANDBETWEEN(1,4),RANDBETWEEN(1,99999)/1000,RANDBETWEEN(1,9999)/100,RANDBETWEEN(1,999)/10,RANDBETWEEN(1,99))))","v":60},"litres","=",{"$f":"1000*C1579","v":60000},"cm³"]
[{"$f":"IF(COUNTIF($B$1:B1580,TRUE)=COUNTIF($B$1:B1579,TRUE),\"\",COUNTIF($B$1:B1580,TRUE))","v":""},{"$f":"IF(Worksheet!$D$10=3,FALSE,Worksheet!$D$18)","v":false},{"$f":"IF(Worksheet!$D$6=1,RANDBETWEEN(1,99),IF(Worksheet!$D$6=2,CHOOSE(RANDBETWEEN(1,2),RANDBETWEEN(1,99),RANDBETWEEN(1,999)/10),CHOOSE(RANDBETWEEN(1,4),RANDBETWEEN(1,99999)/1000,RANDBETWEEN(1,9999)/100,RANDBETWEEN(1,999)/10,RANDBETWEEN(1,99))))","v":32},"m²","=",{"$f":"10000*C1580","v":320000},"cm²"]
[{"$f":"IF(COUNTIF($B$1:B1581,TRUE)=COUNTIF($B$1:B1580,TRUE),\"\",COUNTIF($B$1:B1581,TRUE))","v":949},{"$f":"IF(Worksheet!$D$10=2,FALSE,Worksheet!$B$14)","v":true},{"$f":"10*F1581","v":460},"mm","=",{"$f":"IF(Worksheet!$D$6=1,RANDBETWEEN(1,99),IF(Worksheet!$D$6=2,CHOOSE(RANDBETWEEN(1,2),RANDBETWEEN(1,99),RANDBETWEEN(1,999)/10),CHOOSE(RANDBETWEEN(1,4),RANDBETWEEN(1,99999)/1000,RANDBETWEEN(1,9999)/100,RANDBETWEEN(1,999)/10,RANDBETWEEN(1,99))))","v":46},"cm"]
[{"$f":"IF(COUNTIF($B$1:B1582,TRUE)=COUNTIF($B$1:B1581,TRUE),\"\",COUNTIF($B$1:B1582,TRUE))","v":950},{"$f":"IF(Worksheet!$D$10=2,FALSE,Worksheet!$B$15)","v":true},{"$f":"100*F1582","v":6800},"cm","=",{"$f":"IF(Worksheet!$D$6=1,RANDBETWEEN(1,99),IF(Worksheet!$D$6=2,CHOOSE(RANDBETWEEN(1,2),RANDBETWEEN(1,99),RANDBETWEEN(1,999)/10),CHOOSE(RANDBETWEEN(1,4),RANDBETWEEN(1,99999)/1000,RANDBETWEEN(1,9999)/100,RANDBETWEEN(1,999)/10,RANDBETWEEN(1,99))))","v":68},"m"]
[{"$f":"IF(COUNTIF($B$1:B1583,TRUE)=COUNTIF($B$1:B1582,TRUE),\"\",COUNTIF($B$1:B1583,TRUE))","v":951},{"$f":"IF(Worksheet!$D$10=2,FALSE,Worksheet!$B$16)","v":true},{"$f":"1000*F1583","v":68000},"m","=",{"$f":"IF(Worksheet!$D$6=1,RANDBETWEEN(1,99),IF(Worksheet!$D$6=2,CHOOSE(RANDBETWEEN(1,2),RANDBETWEEN(1,99),RANDBETWEEN(1,999)/10),CHOOSE(RANDBETWEEN(1,4),RANDBETWEEN(1,99999)/1000,RANDBETWEEN(1,9999)/100,RANDBETWEEN(1,999)/10,RANDBETWEEN(1,99))))","v":68},"km"]
[{"$f":"IF(COUNTIF($B$1:B1584,TRUE)=COUNTIF($B$1:B1583,TRUE),\"\",COUNTIF($B$1:B1584,TRUE))","v":""},{"$f":"IF(Worksheet!$D$10=2,FALSE,Worksheet!$B$17)","v":false},{"$f":"1000*F1584","v":32000},"mm","=",{"$f":"IF(Worksheet!$D$6=1,RANDBETWEEN(1,99),IF(Worksheet!$D$6=2,CHOOSE(RANDBETWEEN(1,2),RANDBETWEEN(1,99),RANDBETWEEN(1,999)/10),CHOOSE(RANDBETWEEN(1,4),RANDBETWEEN(1,99999)/1000,RANDBETWEEN(1,9999)/100,RANDBETWEEN(1,999)/10,RANDBETWEEN(1,99))))","v":32},"m"]
[{"$f":"IF(COUNTIF($B$1:B1585,TRUE)=COUNTIF($B$1:B1584,TRUE),\"\",COUNTIF($B$1:B1585,TRUE))","v":""},{"$f":"IF(Worksheet!$D$10=2,FALSE,Worksheet!$B$18)","v":false},{"$f":"100*F1585","v":3700},"mm²","=",{"$f":"IF(Worksheet!$D$6=1,RANDBETWEEN(1,99),IF(Worksheet!$D$6=2,CHOOSE(RANDBETWEEN(1,2),RANDBETWEEN(1,99),RANDBETWEEN(1,999)/10),CHOOSE(RANDBETWEEN(1,4),RANDBETWEEN(1,99999)/1000,RANDBETWEEN(1,9999)/100,RANDBETWEEN(1,999)/10,RANDBETWEEN(1,99))))","v":37},"cm²"]
[{"$f":"IF(COUNTIF($B$1:B1586,TRUE)=COUNTIF($B$1:B1585,TRUE),\"\",COUNTIF($B$1:B1586,TRUE))","v":952},{"$f":"IF(Worksheet!$D$10=2,FALSE,Worksheet!$D$14)","v":true},{"$f":"F1586*1000","v":61000},"g","=",{"$f":"IF(Worksheet!$D$6=1,RANDBETWEEN(1,99),IF(Worksheet!$D$6=2,CHOOSE(RANDBETWEEN(1,2),RANDBETWEEN(1,99),RANDBETWEEN(1,999)/10),CHOOSE(RANDBETWEEN(1,4),RANDBETWEEN(1,99999)/1000,RANDBETWEEN(1,9999)/100,RANDBETWEEN(1,999)/10,RANDBETWEEN(1,99))))","v":61},"kg"]
[{"$f":"IF(COUNTIF($B$1:B1587,TRUE)=COUNTIF($B$1:B1586,TRUE),\"\",COUNTIF($B$1:B1587,TRUE))","v":953},{"$f":"IF(Worksheet!$D$10=2,FALSE,Worksheet!$D$15)","v":true},{"$f":"F1587*1000","v":33000},"kg","=",{"$f":"IF(Worksheet!$D$6=1,RANDBETWEEN(1,99),IF(Worksheet!$D$6=2,CHOOSE(RANDBETWEEN(1,2),RANDBETWEEN(1,99),RANDBETWEEN(1,999)/10),CHOOSE(RANDBETWEEN(1,4),RANDBETWEEN(1,99999)/1000,RANDBETWEEN(1,9999)/100,RANDBETWEEN(1,999)/10,RANDBETWEEN(1,99))))","v":33},"tonnes"]
[{"$f":"IF(COUNTIF($B$1:B1588,TRUE)=COUNTIF($B$1:B1587,TRUE),\"\",COUNTIF($B$1:B1588,TRUE))","v":954},{"$f":"IF(Worksheet!$D$10=2,FALSE,Worksheet!$D$16)","v":true},{"$f":"1000*F1588","v":91000},"ml","=",{"$f":"IF(Worksheet!$D$6=1,RANDBETWEEN(1,99),IF(Worksheet!$D$6=2,CHOOSE(RANDBETWEEN(1,2),RANDBETWEEN(1,99),RANDBETWEEN(1,999)/10),CHOOSE(RANDBETWEEN(1,4),RANDBETWEEN(1,99999)/1000,RANDBETWEEN(1,9999)/100,RANDBETWEEN(1,999)/10,RANDBETWEEN(1,99))))","v":91},"litres"]
[{"$f":"IF(COUNTIF($B$1:B1589,TRUE)=COUNTIF($B$1:B1588,TRUE),\"\",COUNTIF($B$1:B1589,TRUE))","v":""},{"$f":"IF(Worksheet!$D$10=2,FALSE,Worksheet!$D$17)","v":false},{"$f":"1000*F1589","v":26000},"cm³","=",{"$f":"IF(Worksheet!$D$6=1,RANDBETWEEN(1,99),IF(Worksheet!$D$6=2,CHOOSE(RANDBETWEEN(1,2),RANDBETWEEN(1,99),RANDBETWEEN(1,999)/10),CHOOSE(RANDBETWEEN(1,4),RANDBETWEEN(1,99999)/1000,RANDBETWEEN(1,9999)/100,RANDBETWEEN(1,999)/10,RANDBETWEEN(1,99))))","v":26},"litres"]
[{"$f":"IF(COUNTIF($B$1:B1590,TRUE)=COUNTIF($B$1:B1589,TRUE),\"\",COUNTIF($B$1:B1590,TRUE))","v":""},{"$f":"IF(Worksheet!$D$10=2,FALSE,Worksheet!$D$18)","v":false},{"$f":"10000*F1590","v":310000},"cm²","=",{"$f":"IF(Worksheet!$D$6=1,RANDBETWEEN(1,99),IF(Worksheet!$D$6=2,CHOOSE(RANDBETWEEN(1,2),RANDBETWEEN(1,99),RANDBETWEEN(1,999)/10),CHOOSE(RANDBETWEEN(1,4),RANDBETWEEN(1,99999)/1000,RANDBETWEEN(1,9999)/100,RANDBETWEEN(1,999)/10,RANDBETWEEN(1,99))))","v":31},"m²"]
[{"$f":"IF(COUNTIF($B$1:B1591,TRUE)=COUNTIF($B$1:B1590,TRUE),\"\",COUNTIF($B$1:B1591,TRUE))","v":955},{"$f":"IF(Worksheet!$D$10=3,FALSE,Worksheet!$B$14)","v":true},{"$f":"IF(Worksheet!$D$6=1,RANDBETWEEN(1,99),IF(Worksheet!$D$6=2,CHOOSE(RANDBETWEEN(1,2),RANDBETWEEN(1,99),RANDBETWEEN(1,999)/10),CHOOSE(RANDBETWEEN(1,4),RANDBETWEEN(1,99999)/1000,RANDBETWEEN(1,9999)/100,RANDBETWEEN(1,999)/10,RANDBETWEEN(1,99))))","v":40},"cm","=",{"$f":"10*C1591","v":400},"mm"]
[{"$f":"IF(COUNTIF($B$1:B1592,TRUE)=COUNTIF($B$1:B1591,TRUE),\"\",COUNTIF($B$1:B1592,TRUE))","v":956},{"$f":"IF(Worksheet!$D$10=3,FALSE,Worksheet!$B$15)","v":true},{"$f":"IF(Worksheet!$D$6=1,RANDBETWEEN(1,99),IF(Worksheet!$D$6=2,CHOOSE(RANDBETWEEN(1,2),RANDBETWEEN(1,99),RANDBETWEEN(1,999)/10),CHOOSE(RANDBETWEEN(1,4),RANDBETWEEN(1,99999)/1000,RANDBETWEEN(1,9999)/100,RANDBETWEEN(1,999)/10,RANDBETWEEN(1,99))))","v":44},"m","=",{"$f":"100*C1592","v":4400},"cm"]
[{"$f":"IF(COUNTIF($B$1:B1593,TRUE)=COUNTIF($B$1:B1592,TRUE),\"\",COUNTIF($B$1:B1593,TRUE))","v":957},{"$f":"IF(Worksheet!$D$10=3,FALSE,Worksheet!$B$16)","v":true},{"$f":"IF(Worksheet!$D$6=1,RANDBETWEEN(1,99),IF(Worksheet!$D$6=2,CHOOSE(RANDBETWEEN(1,2),RANDBETWEEN(1,99),RANDBETWEEN(1,999)/10),CHOOSE(RANDBETWEEN(1,4),RANDBETWEEN(1,99999)/1000,RANDBETWEEN(1,9999)/100,RANDBETWEEN(1,999)/10,RANDBETWEEN(1,99))))","v":74},"km","=",{"$f":"1000*C1593","v":74000},"m"]
[{"$f":"IF(COUNTIF($B$1:B1594,TRUE)=COUNTIF($B$1:B1593,TRUE),\"\",COUNTIF($B$1:B1594,TRUE))","v":""},{"$f":"IF(Worksheet!$D$10=3,FALSE,Worksheet!$B$17)","v":false},{"$f":"IF(Worksheet!$D$6=1,RANDBETWEEN(1,99),IF(Worksheet!$D$6=2,CHOOSE(RANDBETWEEN(1,2),RANDBETWEEN(1,99),RANDBETWEEN(1,999)/10),CHOOSE(RANDBETWEEN(1,4),RANDBETWEEN(1,99999)/1000,RANDBETWEEN(1,9999)/100,RANDBETWEEN(1,999)/10,RANDBETWEEN(1,99))))","v":46},"m",{"$f":"#REF!","v":{"$error":"#REF!"}},{"$f":"1000*C1594","v":46000},"mm"]
[{"$f":"IF(COUNTIF($B$1:B1595,TRUE)=COUNTIF($B$1:B1594,TRUE),\"\",COUNTIF($B$1:B1595,TRUE))","v":""},{"$f":"IF(Worksheet!$D$10=3,FALSE,Worksheet!$B$18)","v":false},{"$f":"IF(Worksheet!$D$6=1,RANDBETWEEN(1,99),IF(Worksheet!$D$6=2,CHOOSE(RANDBETWEEN(1,2),RANDBETWEEN(1,99),RANDBETWEEN(1,999)/10),CHOOSE(RANDBETWEEN(1,4),RANDBETWEEN(1,99999)/1000,RANDBETWEEN(1,9999)/100,RANDBETWEEN(1,999)/10,RANDBETWEEN(1,99))))","v":2},"cm²","=",{"$f":"C1595*100","v":200},"mm²"]
[{"$f":"IF(COUNTIF($B$1:B1596,TRUE)=COUNTIF($B$1:B1595,TRUE),\"\",COUNTIF($B$1:B1596,TRUE))","v":958},{"$f":"IF(Worksheet!$D$10=3,FALSE,Worksheet!$D$14)","v":true},{"$f":"IF(Worksheet!$D$6=1,RANDBETWEEN(1,99),IF(Worksheet!$D$6=2,CHOOSE(RANDBETWEEN(1,2),RANDBETWEEN(1,99),RANDBETWEEN(1,999)/10),CHOOSE(RANDBETWEEN(1,4),RANDBETWEEN(1,99999)/1000,RANDBETWEEN(1,9999)/100,RANDBETWEEN(1,999)/10,RANDBETWEEN(1,99))))","v":57},"kg","=",{"$f":"1000*C1596","v":57000},"g"]
[{"$f":"IF(COUNTIF($B$1:B1597,TRUE)=COUNTIF($B$1:B1596,TRUE),\"\",COUNTIF($B$1:B1597,TRUE))","v":959},{"$f":"IF(Worksheet!$D$10=3,FALSE,Worksheet!$D$15)","v":true},{"$f":"IF(Worksheet!$D$6=1,RANDBETWEEN(1,99),IF(Worksheet!$D$6=2,CHOOSE(RANDBETWEEN(1,2),RANDBETWEEN(1,99),RANDBETWEEN(1,999)/10),CHOOSE(RANDBETWEEN(1,4),RANDBETWEEN(1,99999)/1000,RANDBETWEEN(1,9999)/100,RANDBETWEEN(1,999)/10,RANDBETWEEN(1,99))))","v":26},"tonnes","=",{"$f":"1000*C1597","v":26000},"kg"]
[{"$f":"IF(COUNTIF($B$1:B1598,TRUE)=COUNTIF($B$1:B1597,TRUE),\"\",COUNTIF($B$1:B1598,TRUE))","v":960},{"$f":"IF(Worksheet!$D$10=3,FALSE,Worksheet!$D$16)","v":true},{"$f":"IF(Worksheet!$D$6=1,RANDBETWEEN(1,99),IF(Worksheet!$D$6=2,CHOOSE(RANDBETWEEN(1,2),RANDBETWEEN(1,99),RANDBETWEEN(1,999)/10),CHOOSE(RANDBETWEEN(1,4),RANDBETWEEN(1,99999)/1000,RANDBETWEEN(1,9999)/100,RANDBETWEEN(1,999)/10,RANDBETWEEN(1,99))))","v":49},"litres","=",{"$f":"1000*C1598","v":49000},"ml"]
[{"$f":"IF(COUNTIF($B$1:B1599,TRUE)=COUNTIF($B$1:B1598,TRUE),\"\",COUNTIF($B$1:B1599,TRUE))","v":""},{"$f":"IF(Worksheet!$D$10=3,FALSE,Worksheet!$D$17)","v":false},{"$f":"IF(Worksheet!$D$6=1,RANDBETWEEN(1,99),IF(Worksheet!$D$6=2,CHOOSE(RANDBETWEEN(1,2),RANDBETWEEN(1,99),RANDBETWEEN(1,999)/10),CHOOSE(RANDBETWEEN(1,4),RANDBETWEEN(1,99999)/1000,RANDBETWEEN(1,9999)/100,RANDBETWEEN(1,999)/10,RANDBETWEEN(1,99))))","v":8},"litres","=",{"$f":"1000*C1599","v":8000},"cm³"]
[{"$f":"IF(COUNTIF($B$1:B1600,TRUE)=COUNTIF($B$1:B1599,TRUE),\"\",COUNTIF($B$1:B1600,TRUE))","v":""},{"$f":"IF(Worksheet!$D$10=3,FALSE,Worksheet!$D$18)","v":false},{"$f":"IF(Worksheet!$D$6=1,RANDBETWEEN(1,99),IF(Worksheet!$D$6=2,CHOOSE(RANDBETWEEN(1,2),RANDBETWEEN(1,99),RANDBETWEEN(1,999)/10),CHOOSE(RANDBETWEEN(1,4),RANDBETWEEN(1,99999)/1000,RANDBETWEEN(1,9999)/100,RANDBETWEEN(1,999)/10,RANDBETWEEN(1,99))))","v":99},"m²","=",{"$f":"10000*C1600","v":990000},"cm²"]
[{"$f":"IF(COUNTIF($B$1:B1601,TRUE)=COUNTIF($B$1:B1600,TRUE),\"\",COUNTIF($B$1:B1601,TRUE))","v":961},{"$f":"IF(Worksheet!$D$10=2,FALSE,Worksheet!$B$14)","v":true},{"$f":"10*F1601","v":630},"mm","=",{"$f":"IF(Worksheet!$D$6=1,RANDBETWEEN(1,99),IF(Worksheet!$D$6=2,CHOOSE(RANDBETWEEN(1,2),RANDBETWEEN(1,99),RANDBETWEEN(1,999)/10),CHOOSE(RANDBETWEEN(1,4),RANDBETWEEN(1,99999)/1000,RANDBETWEEN(1,9999)/100,RANDBETWEEN(1,999)/10,RANDBETWEEN(1,99))))","v":63},"cm"]
[{"$f":"IF(COUNTIF($B$1:B1602,TRUE)=COUNTIF($B$1:B1601,TRUE),\"\",COUNTIF($B$1:B1602,TRUE))","v":962},{"$f":"IF(Worksheet!$D$10=2,FALSE,Worksheet!$B$15)","v":true},{"$f":"100*F1602","v":3800},"cm","=",{"$f":"IF(Worksheet!$D$6=1,RANDBETWEEN(1,99),IF(Worksheet!$D$6=2,CHOOSE(RANDBETWEEN(1,2),RANDBETWEEN(1,99),RANDBETWEEN(1,999)/10),CHOOSE(RANDBETWEEN(1,4),RANDBETWEEN(1,99999)/1000,RANDBETWEEN(1,9999)/100,RANDBETWEEN(1,999)/10,RANDBETWEEN(1,99))))","v":38},"m"]
[{"$f":"IF(COUNTIF($B$1:B1603,TRUE)=COUNTIF($B$1:B1602,TRUE),\"\",COUNTIF($B$1:B1603,TRUE))","v":963},{"$f":"IF(Worksheet!$D$10=2,FALSE,Worksheet!$B$16)","v":true},{"$f":"1000*F1603","v":30000},"m","=",{"$f":"IF(Worksheet!$D$6=1,RANDBETWEEN(1,99),IF(Worksheet!$D$6=2,CHOOSE(RANDBETWEEN(1,2),RANDBETWEEN(1,99),RANDBETWEEN(1,999)/10),CHOOSE(RANDBETWEEN(1,4),RANDBETWEEN(1,99999)/1000,RANDBETWEEN(1,9999)/100,RANDBETWEEN(1,999)/10,RANDBETWEEN(1,99))))","v":30},"km"]
[{"$f":"IF(COUNTIF($B$1:B1604,TRUE)=COUNTIF($B$1:B1603,TRUE),\"\",COUNTIF($B$1:B1604,TRUE))","v":""},{"$f":"IF(Worksheet!$D$10=2,FALSE,Worksheet!$B$17)","v":false},{"$f":"1000*F1604","v":21000},"mm","=",{"$f":"IF(Worksheet!$D$6=1,RANDBETWEEN(1,99),IF(Worksheet!$D$6=2,CHOOSE(RANDBETWEEN(1,2),RANDBETWEEN(1,99),RANDBETWEEN(1,999)/10),CHOOSE(RANDBETWEEN(1,4),RANDBETWEEN(1,99999)/1000,RANDBETWEEN(1,9999)/100,RANDBETWEEN(1,999)/10,RANDBETWEEN(1,99))))","v":21},"m"]
[{"$f":"IF(COUNTIF($B$1:B1605,TRUE)=COUNTIF($B$1:B1604,TRUE),\"\",COUNTIF($B$1:B1605,TRUE))","v":""},{"$f":"IF(Worksheet!$D$10=2,FALSE,Worksheet!$B$18)","v":false},{"$f":"100*F1605","v":8600},"mm²","=",{"$f":"IF(Worksheet!$D$6=1,RANDBETWEEN(1,99),IF(Worksheet!$D$6=2,CHOOSE(RANDBETWEEN(1,2),RANDBETWEEN(1,99),RANDBETWEEN(1,999)/10),CHOOSE(RANDBETWEEN(1,4),RANDBETWEEN(1,99999)/1000,RANDBETWEEN(1,9999)/100,RANDBETWEEN(1,999)/10,RANDBETWEEN(1,99))))","v":86},"cm²"]
[{"$f":"IF(COUNTIF($B$1:B1606,TRUE)=COUNTIF($B$1:B1605,TRUE),\"\",COUNTIF($B$1:B1606,TRUE))","v":964},{"$f":"IF(Worksheet!$D$10=2,FALSE,Worksheet!$D$14)","v":true},{"$f":"F1606*1000","v":41000},"g","=",{"$f":"IF(Worksheet!$D$6=1,RANDBETWEEN(1,99),IF(Worksheet!$D$6=2,CHOOSE(RANDBETWEEN(1,2),RANDBETWEEN(1,99),RANDBETWEEN(1,999)/10),CHOOSE(RANDBETWEEN(1,4),RANDBETWEEN(1,99999)/1000,RANDBETWEEN(1,9999)/100,RANDBETWEEN(1,999)/10,RANDBETWEEN(1,99))))","v":41},"kg"]
[{"$f":"IF(COUNTIF($B$1:B1607,TRUE)=COUNTIF($B$1:B1606,TRUE),\"\",COUNTIF($B$1:B1607,TRUE))","v":965},{"$f":"IF(Worksheet!$D$10=2,FALSE,Worksheet!$D$15)","v":true},{"$f":"F1607*1000","v":54000},"kg","=",{"$f":"IF(Worksheet!$D$6=1,RANDBETWEEN(1,99),IF(Worksheet!$D$6=2,CHOOSE(RANDBETWEEN(1,2),RANDBETWEEN(1,99),RANDBETWEEN(1,999)/10),CHOOSE(RANDBETWEEN(1,4),RANDBETWEEN(1,99999)/1000,RANDBETWEEN(1,9999)/100,RANDBETWEEN(1,999)/10,RANDBETWEEN(1,99))))","v":54},"tonnes"]
[{"$f":"IF(COUNTIF($B$1:B1608,TRUE)=COUNTIF($B$1:B1607,TRUE),\"\",COUNTIF($B$1:B1608,TRUE))","v":966},{"$f":"IF(Worksheet!$D$10=2,FALSE,Worksheet!$D$16)","v":true},{"$f":"1000*F1608","v":61000},"ml","=",{"$f":"IF(Worksheet!$D$6=1,RANDBETWEEN(1,99),IF(Worksheet!$D$6=2,CHOOSE(RANDBETWEEN(1,2),RANDBETWEEN(1,99),RANDBETWEEN(1,999)/10),CHOOSE(RANDBETWEEN(1,4),RANDBETWEEN(1,99999)/1000,RANDBETWEEN(1,9999)/100,RANDBETWEEN(1,999)/10,RANDBETWEEN(1,99))))","v":61},"litres"]
[{"$f":"IF(COUNTIF($B$1:B1609,TRUE)=COUNTIF($B$1:B1608,TRUE),\"\",COUNTIF($B$1:B1609,TRUE))","v":""},{"$f":"IF(Worksheet!$D$10=2,FALSE,Worksheet!$D$17)","v":false},{"$f":"1000*F1609","v":72000},"cm³","=",{"$f":"IF(Worksheet!$D$6=1,RANDBETWEEN(1,99),IF(Worksheet!$D$6=2,CHOOSE(RANDBETWEEN(1,2),RANDBETWEEN(1,99),RANDBETWEEN(1,999)/10),CHOOSE(RANDBETWEEN(1,4),RANDBETWEEN(1,99999)/1000,RANDBETWEEN(1,9999)/100,RANDBETWEEN(1,999)/10,RANDBETWEEN(1,99))))","v":72},"litres"]
[{"$f":"IF(COUNTIF($B$1:B1610,TRUE)=COUNTIF($B$1:B1609,TRUE),\"\",COUNTIF($B$1:B1610,TRUE))","v":""},{"$f":"IF(Worksheet!$D$10=2,FALSE,Worksheet!$D$18)","v":false},{"$f":"10000*F1610","v":340000},"cm²","=",{"$f":"IF(Worksheet!$D$6=1,RANDBETWEEN(1,99),IF(Worksheet!$D$6=2,CHOOSE(RANDBETWEEN(1,2),RANDBETWEEN(1,99),RANDBETWEEN(1,999)/10),CHOOSE(RANDBETWEEN(1,4),RANDBETWEEN(1,99999)/1000,RANDBETWEEN(1,9999)/100,RANDBETWEEN(1,999)/10,RANDBETWEEN(1,99))))","v":34},"m²"]
[{"$f":"IF(COUNTIF($B$1:B1611,TRUE)=COUNTIF($B$1:B1610,TRUE),\"\",COUNTIF($B$1:B1611,TRUE))","v":967},{"$f":"IF(Worksheet!$D$10=3,FALSE,Worksheet!$B$14)","v":true},{"$f":"IF(Worksheet!$D$6=1,RANDBETWEEN(1,99),IF(Worksheet!$D$6=2,CHOOSE(RANDBETWEEN(1,2),RANDBETWEEN(1,99),RANDBETWEEN(1,999)/10),CHOOSE(RANDBETWEEN(1,4),RANDBETWEEN(1,99999)/1000,RANDBETWEEN(1,9999)/100,RANDBETWEEN(1,999)/10,RANDBETWEEN(1,99))))","v":30},"cm","=",{"$f":"10*C1611","v":300},"mm"]
[{"$f":"IF(COUNTIF($B$1:B1612,TRUE)=COUNTIF($B$1:B1611,TRUE),\"\",COUNTIF($B$1:B1612,TRUE))","v":968},{"$f":"IF(Worksheet!$D$10=3,FALSE,Worksheet!$B$15)","v":true},{"$f":"IF(Worksheet!$D$6=1,RANDBETWEEN(1,99),IF(Worksheet!$D$6=2,CHOOSE(RANDBETWEEN(1,2),RANDBETWEEN(1,99),RANDBETWEEN(1,999)/10),CHOOSE(RANDBETWEEN(1,4),RANDBETWEEN(1,99999)/1000,RANDBETWEEN(1,9999)/100,RANDBETWEEN(1,999)/10,RANDBETWEEN(1,99))))","v":27},"m","=",{"$f":"100*C1612","v":2700},"cm"]
[{"$f":"IF(COUNTIF($B$1:B1613,TRUE)=COUNTIF($B$1:B1612,TRUE),\"\",COUNTIF($B$1:B1613,TRUE))","v":969},{"$f":"IF(Worksheet!$D$10=3,FALSE,Worksheet!$B$16)","v":true},{"$f":"IF(Worksheet!$D$6=1,RANDBETWEEN(1,99),IF(Worksheet!$D$6=2,CHOOSE(RANDBETWEEN(1,2),RANDBETWEEN(1,99),RANDBETWEEN(1,999)/10),CHOOSE(RANDBETWEEN(1,4),RANDBETWEEN(1,99999)/1000,RANDBETWEEN(1,9999)/100,RANDBETWEEN(1,999)/10,RANDBETWEEN(1,99))))","v":20},"km","=",{"$f":"1000*C1613","v":20000},"m"]
[{"$f":"IF(COUNTIF($B$1:B1614,TRUE)=COUNTIF($B$1:B1613,TRUE),\"\",COUNTIF($B$1:B1614,TRUE))","v":""},{"$f":"IF(Worksheet!$D$10=3,FALSE,Worksheet!$B$17)","v":false},{"$f":"IF(Worksheet!$D$6=1,RANDBETWEEN(1,99),IF(Worksheet!$D$6=2,CHOOSE(RANDBETWEEN(1,2),RANDBETWEEN(1,99),RANDBETWEEN(1,999)/10),CHOOSE(RANDBETWEEN(1,4),RANDBETWEEN(1,99999)/1000,RANDBETWEEN(1,9999)/100,RANDBETWEEN(1,999)/10,RANDBETWEEN(1,99))))","v":75},"m",{"$f":"#REF!","v":{"$error":"#REF!"}},{"$f":"1000*C1614","v":75000},"mm"]
[{"$f":"IF(COUNTIF($B$1:B1615,TRUE)=COUNTIF($B$1:B1614,TRUE),\"\",COUNTIF($B$1:B1615,TRUE))","v":""},{"$f":"IF(Worksheet!$D$10=3,FALSE,Worksheet!$B$18)","v":false},{"$f":"IF(Worksheet!$D$6=1,RANDBETWEEN(1,99),IF(Worksheet!$D$6=2,CHOOSE(RANDBETWEEN(1,2),RANDBETWEEN(1,99),RANDBETWEEN(1,999)/10),CHOOSE(RANDBETWEEN(1,4),RANDBETWEEN(1,99999)/1000,RANDBETWEEN(1,9999)/100,RANDBETWEEN(1,999)/10,RANDBETWEEN(1,99))))","v":86},"cm²","=",{"$f":"C1615*100","v":8600},"mm²"]
[{"$f":"IF(COUNTIF($B$1:B1616,TRUE)=COUNTIF($B$1:B1615,TRUE),\"\",COUNTIF($B$1:B1616,TRUE))","v":970},{"$f":"IF(Worksheet!$D$10=3,FALSE,Worksheet!$D$14)","v":true},{"$f":"IF(Worksheet!$D$6=1,RANDBETWEEN(1,99),IF(Worksheet!$D$6=2,CHOOSE(RANDBETWEEN(1,2),RANDBETWEEN(1,99),RANDBETWEEN(1,999)/10),CHOOSE(RANDBETWEEN(1,4),RANDBETWEEN(1,99999)/1000,RANDBETWEEN(1,9999)/100,RANDBETWEEN(1,999)/10,RANDBETWEEN(1,99))))","v":8},"kg","=",{"$f":"1000*C1616","v":8000},"g"]
[{"$f":"IF(COUNTIF($B$1:B1617,TRUE)=COUNTIF($B$1:B1616,TRUE),\"\",COUNTIF($B$1:B1617,TRUE))","v":971},{"$f":"IF(Worksheet!$D$10=3,FALSE,Worksheet!$D$15)","v":true},{"$f":"IF(Worksheet!$D$6=1,RANDBETWEEN(1,99),IF(Worksheet!$D$6=2,CHOOSE(RANDBETWEEN(1,2),RANDBETWEEN(1,99),RANDBETWEEN(1,999)/10),CHOOSE(RANDBETWEEN(1,4),RANDBETWEEN(1,99999)/1000,RANDBETWEEN(1,9999)/100,RANDBETWEEN(1,999)/10,RANDBETWEEN(1,99))))","v":73},"tonnes","=",{"$f":"1000*C1617","v":73000},"kg"]
[{"$f":"IF(COUNTIF($B$1:B1618,TRUE)=COUNTIF($B$1:B1617,TRUE),\"\",COUNTIF($B$1:B1618,TRUE))","v":972},{"$f":"IF(Worksheet!$D$10=3,FALSE,Worksheet!$D$16)","v":true},{"$f":"IF(Worksheet!$D$6=1,RANDBETWEEN(1,99),IF(Worksheet!$D$6=2,CHOOSE(RANDBETWEEN(1,2),RANDBETWEEN(1,99),RANDBETWEEN(1,999)/10),CHOOSE(RANDBETWEEN(1,4),RANDBETWEEN(1,99999)/1000,RANDBETWEEN(1,9999)/100,RANDBETWEEN(1,999)/10,RANDBETWEEN(1,99))))","v":34},"litres","=",{"$f":"1000*C1618","v":34000},"ml"]
[{"$f":"IF(COUNTIF($B$1:B1619,TRUE)=COUNTIF($B$1:B1618,TRUE),\"\",COUNTIF($B$1:B1619,TRUE))","v":""},{"$f":"IF(Worksheet!$D$10=3,FALSE,Worksheet!$D$17)","v":false},{"$f":"IF(Worksheet!$D$6=1,RANDBETWEEN(1,99),IF(Worksheet!$D$6=2,CHOOSE(RANDBETWEEN(1,2),RANDBETWEEN(1,99),RANDBETWEEN(1,999)/10),CHOOSE(RANDBETWEEN(1,4),RANDBETWEEN(1,99999)/1000,RANDBETWEEN(1,9999)/100,RANDBETWEEN(1,999)/10,RANDBETWEEN(1,99))))","v":30},"litres","=",{"$f":"1000*C1619","v":30000},"cm³"]
[{"$f":"IF(COUNTIF($B$1:B1620,TRUE)=COUNTIF($B$1:B1619,TRUE),\"\",COUNTIF($B$1:B1620,TRUE))","v":""},{"$f":"IF(Worksheet!$D$10=3,FALSE,Worksheet!$D$18)","v":false},{"$f":"IF(Worksheet!$D$6=1,RANDBETWEEN(1,99),IF(Worksheet!$D$6=2,CHOOSE(RANDBETWEEN(1,2),RANDBETWEEN(1,99),RANDBETWEEN(1,999)/10),CHOOSE(RANDBETWEEN(1,4),RANDBETWEEN(1,99999)/1000,RANDBETWEEN(1,9999)/100,RANDBETWEEN(1,999)/10,RANDBETWEEN(1,99))))","v":28},"m²","=",{"$f":"10000*C1620","v":280000},"cm²"]
[{"$f":"IF(COUNTIF($B$1:B1621,TRUE)=COUNTIF($B$1:B1620,TRUE),\"\",COUNTIF($B$1:B1621,TRUE))","v":973},{"$f":"IF(Worksheet!$D$10=2,FALSE,Worksheet!$B$14)","v":true},{"$f":"10*F1621","v":860},"mm","=",{"$f":"IF(Worksheet!$D$6=1,RANDBETWEEN(1,99),IF(Worksheet!$D$6=2,CHOOSE(RANDBETWEEN(1,2),RANDBETWEEN(1,99),RANDBETWEEN(1,999)/10),CHOOSE(RANDBETWEEN(1,4),RANDBETWEEN(1,99999)/1000,RANDBETWEEN(1,9999)/100,RANDBETWEEN(1,999)/10,RANDBETWEEN(1,99))))","v":86},"cm"]
[{"$f":"IF(COUNTIF($B$1:B1622,TRUE)=COUNTIF($B$1:B1621,TRUE),\"\",COUNTIF($B$1:B1622,TRUE))","v":974},{"$f":"IF(Worksheet!$D$10=2,FALSE,Worksheet!$B$15)","v":true},{"$f":"100*F1622","v":1500},"cm","=",{"$f":"IF(Worksheet!$D$6=1,RANDBETWEEN(1,99),IF(Worksheet!$D$6=2,CHOOSE(RANDBETWEEN(1,2),RANDBETWEEN(1,99),RANDBETWEEN(1,999)/10),CHOOSE(RANDBETWEEN(1,4),RANDBETWEEN(1,99999)/1000,RANDBETWEEN(1,9999)/100,RANDBETWEEN(1,999)/10,RANDBETWEEN(1,99))))","v":15},"m"]
[{"$f":"IF(COUNTIF($B$1:B1623,TRUE)=COUNTIF($B$1:B1622,TRUE),\"\",COUNTIF($B$1:B1623,TRUE))","v":975},{"$f":"IF(Worksheet!$D$10=2,FALSE,Worksheet!$B$16)","v":true},{"$f":"1000*F1623","v":9000},"m","=",{"$f":"IF(Worksheet!$D$6=1,RANDBETWEEN(1,99),IF(Worksheet!$D$6=2,CHOOSE(RANDBETWEEN(1,2),RANDBETWEEN(1,99),RANDBETWEEN(1,999)/10),CHOOSE(RANDBETWEEN(1,4),RANDBETWEEN(1,99999)/1000,RANDBETWEEN(1,9999)/100,RANDBETWEEN(1,999)/10,RANDBETWEEN(1,99))))","v":9},"km"]
[{"$f":"IF(COUNTIF($B$1:B1624,TRUE)=COUNTIF($B$1:B1623,TRUE),\"\",COUNTIF($B$1:B1624,TRUE))","v":""},{"$f":"IF(Worksheet!$D$10=2,FALSE,Worksheet!$B$17)","v":false},{"$f":"1000*F1624","v":34000},"mm","=",{"$f":"IF(Worksheet!$D$6=1,RANDBETWEEN(1,99),IF(Worksheet!$D$6=2,CHOOSE(RANDBETWEEN(1,2),RANDBETWEEN(1,99),RANDBETWEEN(1,999)/10),CHOOSE(RANDBETWEEN(1,4),RANDBETWEEN(1,99999)/1000,RANDBETWEEN(1,9999)/100,RANDBETWEEN(1,999)/10,RANDBETWEEN(1,99))))","v":34},"m"]
[{"$f":"IF(COUNTIF($B$1:B1625,TRUE)=COUNTIF($B$1:B1624,TRUE),\"\",COUNTIF($B$1:B1625,TRUE))","v":""},{"$f":"IF(Worksheet!$D$10=2,FALSE,Worksheet!$B$18)","v":false},{"$f":"100*F1625","v":8500},"mm²","=",{"$f":"IF(Worksheet!$D$6=1,RANDBETWEEN(1,99),IF(Worksheet!$D$6=2,CHOOSE(RANDBETWEEN(1,2),RANDBETWEEN(1,99),RANDBETWEEN(1,999)/10),CHOOSE(RANDBETWEEN(1,4),RANDBETWEEN(1,99999)/1000,RANDBETWEEN(1,9999)/100,RANDBETWEEN(1,999)/10,RANDBETWEEN(1,99))))","v":85},"cm²"]
[{"$f":"IF(COUNTIF($B$1:B1626,TRUE)=COUNTIF($B$1:B1625,TRUE),\"\",COUNTIF($B$1:B1626,TRUE))","v":976},{"$f":"IF(Worksheet!$D$10=2,FALSE,Worksheet!$D$14)","v":true},{"$f":"F1626*1000","v":63000},"g","=",{"$f":"IF(Worksheet!$D$6=1,RANDBETWEEN(1,99),IF(Worksheet!$D$6=2,CHOOSE(RANDBETWEEN(1,2),RANDBETWEEN(1,99),RANDBETWEEN(1,999)/10),CHOOSE(RANDBETWEEN(1,4),RANDBETWEEN(1,99999)/1000,RANDBETWEEN(1,9999)/100,RANDBETWEEN(1,999)/10,RANDBETWEEN(1,99))))","v":63},"kg"]
[{"$f":"IF(COUNTIF($B$1:B1627,TRUE)=COUNTIF($B$1:B1626,TRUE),\"\",COUNTIF($B$1:B1627,TRUE))","v":977},{"$f":"IF(Worksheet!$D$10=2,FALSE,Worksheet!$D$15)","v":true},{"$f":"F1627*1000","v":37000},"kg","=",{"$f":"IF(Worksheet!$D$6=1,RANDBETWEEN(1,99),IF(Worksheet!$D$6=2,CHOOSE(RANDBETWEEN(1,2),RANDBETWEEN(1,99),RANDBETWEEN(1,999)/10),CHOOSE(RANDBETWEEN(1,4),RANDBETWEEN(1,99999)/1000,RANDBETWEEN(1,9999)/100,RANDBETWEEN(1,999)/10,RANDBETWEEN(1,99))))","v":37},"tonnes"]
[{"$f":"IF(COUNTIF($B$1:B1628,TRUE)=COUNTIF($B$1:B1627,TRUE),\"\",COUNTIF($B$1:B1628,TRUE))","v":978},{"$f":"IF(Worksheet!$D$10=2,FALSE,Worksheet!$D$16)","v":true},{"$f":"1000*F1628","v":83000},"ml","=",{"$f":"IF(Worksheet!$D$6=1,RANDBETWEEN(1,99),IF(Worksheet!$D$6=2,CHOOSE(RANDBETWEEN(1,2),RANDBETWEEN(1,99),RANDBETWEEN(1,999)/10),CHOOSE(RANDBETWEEN(1,4),RANDBETWEEN(1,99999)/1000,RANDBETWEEN(1,9999)/100,RANDBETWEEN(1,999)/10,RANDBETWEEN(1,99))))","v":83},"litres"]
[{"$f":"IF(COUNTIF($B$1:B1629,TRUE)=COUNTIF($B$1:B1628,TRUE),\"\",COUNTIF($B$1:B1629,TRUE))","v":""},{"$f":"IF(Worksheet!$D$10=2,FALSE,Worksheet!$D$17)","v":false},{"$f":"1000*F1629","v":46000},"cm³","=",{"$f":"IF(Worksheet!$D$6=1,RANDBETWEEN(1,99),IF(Worksheet!$D$6=2,CHOOSE(RANDBETWEEN(1,2),RANDBETWEEN(1,99),RANDBETWEEN(1,999)/10),CHOOSE(RANDBETWEEN(1,4),RANDBETWEEN(1,99999)/1000,RANDBETWEEN(1,9999)/100,RANDBETWEEN(1,999)/10,RANDBETWEEN(1,99))))","v":46},"litres"]
[{"$f":"IF(COUNTIF($B$1:B1630,TRUE)=COUNTIF($B$1:B1629,TRUE),\"\",COUNTIF($B$1:B1630,TRUE))","v":""},{"$f":"IF(Worksheet!$D$10=2,FALSE,Worksheet!$D$18)","v":false},{"$f":"10000*F1630","v":190000},"cm²","=",{"$f":"IF(Worksheet!$D$6=1,RANDBETWEEN(1,99),IF(Worksheet!$D$6=2,CHOOSE(RANDBETWEEN(1,2),RANDBETWEEN(1,99),RANDBETWEEN(1,999)/10),CHOOSE(RANDBETWEEN(1,4),RANDBETWEEN(1,99999)/1000,RANDBETWEEN(1,9999)/100,RANDBETWEEN(1,999)/10,RANDBETWEEN(1,99))))","v":19},"m²"]
[{"$f":"IF(COUNTIF($B$1:B1631,TRUE)=COUNTIF($B$1:B1630,TRUE),\"\",COUNTIF($B$1:B1631,TRUE))","v":979},{"$f":"IF(Worksheet!$D$10=3,FALSE,Worksheet!$B$14)","v":true},{"$f":"IF(Worksheet!$D$6=1,RANDBETWEEN(1,99),IF(Worksheet!$D$6=2,CHOOSE(RANDBETWEEN(1,2),RANDBETWEEN(1,99),RANDBETWEEN(1,999)/10),CHOOSE(RANDBETWEEN(1,4),RANDBETWEEN(1,99999)/1000,RANDBETWEEN(1,9999)/100,RANDBETWEEN(1,999)/10,RANDBETWEEN(1,99))))","v":92},"cm","=",{"$f":"10*C1631","v":920},"mm"]
[{"$f":"IF(COUNTIF($B$1:B1632,TRUE)=COUNTIF($B$1:B1631,TRUE),\"\",COUNTIF($B$1:B1632,TRUE))","v":980},{"$f":"IF(Worksheet!$D$10=3,FALSE,Worksheet!$B$15)","v":true},{"$f":"IF(Worksheet!$D$6=1,RANDBETWEEN(1,99),IF(Worksheet!$D$6=2,CHOOSE(RANDBETWEEN(1,2),RANDBETWEEN(1,99),RANDBETWEEN(1,999)/10),CHOOSE(RANDBETWEEN(1,4),RANDBETWEEN(1,99999)/1000,RANDBETWEEN(1,9999)/100,RANDBETWEEN(1,999)/10,RANDBETWEEN(1,99))))","v":66},"m","=",{"$f":"100*C1632","v":6600},"cm"]
[{"$f":"IF(COUNTIF($B$1:B1633,TRUE)=COUNTIF($B$1:B1632,TRUE),\"\",COUNTIF($B$1:B1633,TRUE))","v":981},{"$f":"IF(Worksheet!$D$10=3,FALSE,Worksheet!$B$16)","v":true},{"$f":"IF(Worksheet!$D$6=1,RANDBETWEEN(1,99),IF(Worksheet!$D$6=2,CHOOSE(RANDBETWEEN(1,2),RANDBETWEEN(1,99),RANDBETWEEN(1,999)/10),CHOOSE(RANDBETWEEN(1,4),RANDBETWEEN(1,99999)/1000,RANDBETWEEN(1,9999)/100,RANDBETWEEN(1,999)/10,RANDBETWEEN(1,99))))","v":31},"km","=",{"$f":"1000*C1633","v":31000},"m"]
[{"$f":"IF(COUNTIF($B$1:B1634,TRUE)=COUNTIF($B$1:B1633,TRUE),\"\",COUNTIF($B$1:B1634,TRUE))","v":""},{"$f":"IF(Worksheet!$D$10=3,FALSE,Worksheet!$B$17)","v":false},{"$f":"IF(Worksheet!$D$6=1,RANDBETWEEN(1,99),IF(Worksheet!$D$6=2,CHOOSE(RANDBETWEEN(1,2),RANDBETWEEN(1,99),RANDBETWEEN(1,999)/10),CHOOSE(RANDBETWEEN(1,4),RANDBETWEEN(1,99999)/1000,RANDBETWEEN(1,9999)/100,RANDBETWEEN(1,999)/10,RANDBETWEEN(1,99))))","v":52},"m",{"$f":"#REF!","v":{"$error":"#REF!"}},{"$f":"1000*C1634","v":52000},"mm"]
[{"$f":"IF(COUNTIF($B$1:B1635,TRUE)=COUNTIF($B$1:B1634,TRUE),\"\",COUNTIF($B$1:B1635,TRUE))","v":""},{"$f":"IF(Worksheet!$D$10=3,FALSE,Worksheet!$B$18)","v":false},{"$f":"IF(Worksheet!$D$6=1,RANDBETWEEN(1,99),IF(Worksheet!$D$6=2,CHOOSE(RANDBETWEEN(1,2),RANDBETWEEN(1,99),RANDBETWEEN(1,999)/10),CHOOSE(RANDBETWEEN(1,4),RANDBETWEEN(1,99999)/1000,RANDBETWEEN(1,9999)/100,RANDBETWEEN(1,999)/10,RANDBETWEEN(1,99))))","v":88},"cm²","=",{"$f":"C1635*100","v":8800},"mm²"]
[{"$f":"IF(COUNTIF($B$1:B1636,TRUE)=COUNTIF($B$1:B1635,TRUE),\"\",COUNTIF($B$1:B1636,TRUE))","v":982},{"$f":"IF(Worksheet!$D$10=3,FALSE,Worksheet!$D$14)","v":true},{"$f":"IF(Worksheet!$D$6=1,RANDBETWEEN(1,99),IF(Worksheet!$D$6=2,CHOOSE(RANDBETWEEN(1,2),RANDBETWEEN(1,99),RANDBETWEEN(1,999)/10),CHOOSE(RANDBETWEEN(1,4),RANDBETWEEN(1,99999)/1000,RANDBETWEEN(1,9999)/100,RANDBETWEEN(1,999)/10,RANDBETWEEN(1,99))))","v":40},"kg","=",{"$f":"1000*C1636","v":40000},"g"]
[{"$f":"IF(COUNTIF($B$1:B1637,TRUE)=COUNTIF($B$1:B1636,TRUE),\"\",COUNTIF($B$1:B1637,TRUE))","v":983},{"$f":"IF(Worksheet!$D$10=3,FALSE,Worksheet!$D$15)","v":true},{"$f":"IF(Worksheet!$D$6=1,RANDBETWEEN(1,99),IF(Worksheet!$D$6=2,CHOOSE(RANDBETWEEN(1,2),RANDBETWEEN(1,99),RANDBETWEEN(1,999)/10),CHOOSE(RANDBETWEEN(1,4),RANDBETWEEN(1,99999)/1000,RANDBETWEEN(1,9999)/100,RANDBETWEEN(1,999)/10,RANDBETWEEN(1,99))))","v":80},"tonnes","=",{"$f":"1000*C1637","v":80000},"kg"]
[{"$f":"IF(COUNTIF($B$1:B1638,TRUE)=COUNTIF($B$1:B1637,TRUE),\"\",COUNTIF($B$1:B1638,TRUE))","v":984},{"$f":"IF(Worksheet!$D$10=3,FALSE,Worksheet!$D$16)","v":true},{"$f":"IF(Worksheet!$D$6=1,RANDBETWEEN(1,99),IF(Worksheet!$D$6=2,CHOOSE(RANDBETWEEN(1,2),RANDBETWEEN(1,99),RANDBETWEEN(1,999)/10),CHOOSE(RANDBETWEEN(1,4),RANDBETWEEN(1,99999)/1000,RANDBETWEEN(1,9999)/100,RANDBETWEEN(1,999)/10,RANDBETWEEN(1,99))))","v":68},"litres","=",{"$f":"1000*C1638","v":68000},"ml"]
[{"$f":"IF(COUNTIF($B$1:B1639,TRUE)=COUNTIF($B$1:B1638,TRUE),\"\",COUNTIF($B$1:B1639,TRUE))","v":""},{"$f":"IF(Worksheet!$D$10=3,FALSE,Worksheet!$D$17)","v":false},{"$f":"IF(Worksheet!$D$6=1,RANDBETWEEN(1,99),IF(Worksheet!$D$6=2,CHOOSE(RANDBETWEEN(1,2),RANDBETWEEN(1,99),RANDBETWEEN(1,999)/10),CHOOSE(RANDBETWEEN(1,4),RANDBETWEEN(1,99999)/1000,RANDBETWEEN(1,9999)/100,RANDBETWEEN(1,999)/10,RANDBETWEEN(1,99))))","v":10},"litres","=",{"$f":"1000*C1639","v":10000},"cm³"]
[{"$f":"IF(COUNTIF($B$1:B1640,TRUE)=COUNTIF($B$1:B1639,TRUE),\"\",COUNTIF($B$1:B1640,TRUE))","v":""},{"$f":"IF(Worksheet!$D$10=3,FALSE,Worksheet!$D$18)","v":false},{"$f":"IF(Worksheet!$D$6=1,RANDBETWEEN(1,99),IF(Worksheet!$D$6=2,CHOOSE(RANDBETWEEN(1,2),RANDBETWEEN(1,99),RANDBETWEEN(1,999)/10),CHOOSE(RANDBETWEEN(1,4),RANDBETWEEN(1,99999)/1000,RANDBETWEEN(1,9999)/100,RANDBETWEEN(1,999)/10,RANDBETWEEN(1,99))))","v":9},"m²","=",{"$f":"10000*C1640","v":90000},"cm²"]
[{"$f":"IF(COUNTIF($B$1:B1641,TRUE)=COUNTIF($B$1:B1640,TRUE),\"\",COUNTIF($B$1:B1641,TRUE))","v":985},{"$f":"IF(Worksheet!$D$10=2,FALSE,Worksheet!$B$14)","v":true},{"$f":"10*F1641","v":470},"mm","=",{"$f":"IF(Worksheet!$D$6=1,RANDBETWEEN(1,99),IF(Worksheet!$D$6=2,CHOOSE(RANDBETWEEN(1,2),RANDBETWEEN(1,99),RANDBETWEEN(1,999)/10),CHOOSE(RANDBETWEEN(1,4),RANDBETWEEN(1,99999)/1000,RANDBETWEEN(1,9999)/100,RANDBETWEEN(1,999)/10,RANDBETWEEN(1,99))))","v":47},"cm"]
[{"$f":"IF(COUNTIF($B$1:B1642,TRUE)=COUNTIF($B$1:B1641,TRUE),\"\",COUNTIF($B$1:B1642,TRUE))","v":986},{"$f":"IF(Worksheet!$D$10=2,FALSE,Worksheet!$B$15)","v":true},{"$f":"100*F1642","v":1300},"cm","=",{"$f":"IF(Worksheet!$D$6=1,RANDBETWEEN(1,99),IF(Worksheet!$D$6=2,CHOOSE(RANDBETWEEN(1,2),RANDBETWEEN(1,99),RANDBETWEEN(1,999)/10),CHOOSE(RANDBETWEEN(1,4),RANDBETWEEN(1,99999)/1000,RANDBETWEEN(1,9999)/100,RANDBETWEEN(1,999)/10,RANDBETWEEN(1,99))))","v":13},"m"]
[{"$f":"IF(COUNTIF($B$1:B1643,TRUE)=COUNTIF($B$1:B1642,TRUE),\"\",COUNTIF($B$1:B1643,TRUE))","v":987},{"$f":"IF(Worksheet!$D$10=2,FALSE,Worksheet!$B$16)","v":true},{"$f":"1000*F1643","v":38000},"m","=",{"$f":"IF(Worksheet!$D$6=1,RANDBETWEEN(1,99),IF(Worksheet!$D$6=2,CHOOSE(RANDBETWEEN(1,2),RANDBETWEEN(1,99),RANDBETWEEN(1,999)/10),CHOOSE(RANDBETWEEN(1,4),RANDBETWEEN(1,99999)/1000,RANDBETWEEN(1,9999)/100,RANDBETWEEN(1,999)/10,RANDBETWEEN(1,99))))","v":38},"km"]
[{"$f":"IF(COUNTIF($B$1:B1644,TRUE)=COUNTIF($B$1:B1643,TRUE),\"\",COUNTIF($B$1:B1644,TRUE))","v":""},{"$f":"IF(Worksheet!$D$10=2,FALSE,Worksheet!$B$17)","v":false},{"$f":"1000*F1644","v":56000},"mm","=",{"$f":"IF(Worksheet!$D$6=1,RANDBETWEEN(1,99),IF(Worksheet!$D$6=2,CHOOSE(RANDBETWEEN(1,2),RANDBETWEEN(1,99),RANDBETWEEN(1,999)/10),CHOOSE(RANDBETWEEN(1,4),RANDBETWEEN(1,99999)/1000,RANDBETWEEN(1,9999)/100,RANDBETWEEN(1,999)/10,RANDBETWEEN(1,99))))","v":56},"m"]
[{"$f":"IF(COUNTIF($B$1:B1645,TRUE)=COUNTIF($B$1:B1644,TRUE),\"\",COUNTIF($B$1:B1645,TRUE))","v":""},{"$f":"IF(Worksheet!$D$10=2,FALSE,Worksheet!$B$18)","v":false},{"$f":"100*F1645","v":5500},"mm²","=",{"$f":"IF(Worksheet!$D$6=1,RANDBETWEEN(1,99),IF(Worksheet!$D$6=2,CHOOSE(RANDBETWEEN(1,2),RANDBETWEEN(1,99),RANDBETWEEN(1,999)/10),CHOOSE(RANDBETWEEN(1,4),RANDBETWEEN(1,99999)/1000,RANDBETWEEN(1,9999)/100,RANDBETWEEN(1,999)/10,RANDBETWEEN(1,99))))","v":55},"cm²"]
[{"$f":"IF(COUNTIF($B$1:B1646,TRUE)=COUNTIF($B$1:B1645,TRUE),\"\",COUNTIF($B$1:B1646,TRUE))","v":988},{"$f":"IF(Worksheet!$D$10=2,FALSE,Worksheet!$D$14)","v":true},{"$f":"F1646*1000","v":32000},"g","=",{"$f":"IF(Worksheet!$D$6=1,RANDBETWEEN(1,99),IF(Worksheet!$D$6=2,CHOOSE(RANDBETWEEN(1,2),RANDBETWEEN(1,99),RANDBETWEEN(1,999)/10),CHOOSE(RANDBETWEEN(1,4),RANDBETWEEN(1,99999)/1000,RANDBETWEEN(1,9999)/100,RANDBETWEEN(1,999)/10,RANDBETWEEN(1,99))))","v":32},"kg"]
[{"$f":"IF(COUNTIF($B$1:B1647,TRUE)=COUNTIF($B$1:B1646,TRUE),\"\",COUNTIF($B$1:B1647,TRUE))","v":989},{"$f":"IF(Worksheet!$D$10=2,FALSE,Worksheet!$D$15)","v":true},{"$f":"F1647*1000","v":51000},"kg","=",{"$f":"IF(Worksheet!$D$6=1,RANDBETWEEN(1,99),IF(Worksheet!$D$6=2,CHOOSE(RANDBETWEEN(1,2),RANDBETWEEN(1,99),RANDBETWEEN(1,999)/10),CHOOSE(RANDBETWEEN(1,4),RANDBETWEEN(1,99999)/1000,RANDBETWEEN(1,9999)/100,RANDBETWEEN(1,999)/10,RANDBETWEEN(1,99))))","v":51},"tonnes"]
[{"$f":"IF(COUNTIF($B$1:B1648,TRUE)=COUNTIF($B$1:B1647,TRUE),\"\",COUNTIF($B$1:B1648,TRUE))","v":990},{"$f":"IF(Worksheet!$D$10=2,FALSE,Worksheet!$D$16)","v":true},{"$f":"1000*F1648","v":14000},"ml","=",{"$f":"IF(Worksheet!$D$6=1,RANDBETWEEN(1,99),IF(Worksheet!$D$6=2,CHOOSE(RANDBETWEEN(1,2),RANDBETWEEN(1,99),RANDBETWEEN(1,999)/10),CHOOSE(RANDBETWEEN(1,4),RANDBETWEEN(1,99999)/1000,RANDBETWEEN(1,9999)/100,RANDBETWEEN(1,999)/10,RANDBETWEEN(1,99))))","v":14},"litres"]
[{"$f":"IF(COUNTIF($B$1:B1649,TRUE)=COUNTIF($B$1:B1648,TRUE),\"\",COUNTIF($B$1:B1649,TRUE))","v":""},{"$f":"IF(Worksheet!$D$10=2,FALSE,Worksheet!$D$17)","v":false},{"$f":"1000*F1649","v":44000},"cm³","=",{"$f":"IF(Worksheet!$D$6=1,RANDBETWEEN(1,99),IF(Worksheet!$D$6=2,CHOOSE(RANDBETWEEN(1,2),RANDBETWEEN(1,99),RANDBETWEEN(1,999)/10),CHOOSE(RANDBETWEEN(1,4),RANDBETWEEN(1,99999)/1000,RANDBETWEEN(1,9999)/100,RANDBETWEEN(1,999)/10,RANDBETWEEN(1,99))))","v":44},"litres"]
[{"$f":"IF(COUNTIF($B$1:B1650,TRUE)=COUNTIF($B$1:B1649,TRUE),\"\",COUNTIF($B$1:B1650,TRUE))","v":""},{"$f":"IF(Worksheet!$D$10=2,FALSE,Worksheet!$D$18)","v":false},{"$f":"10000*F1650","v":350000},"cm²","=",{"$f":"IF(Worksheet!$D$6=1,RANDBETWEEN(1,99),IF(Worksheet!$D$6=2,CHOOSE(RANDBETWEEN(1,2),RANDBETWEEN(1,99),RANDBETWEEN(1,999)/10),CHOOSE(RANDBETWEEN(1,4),RANDBETWEEN(1,99999)/1000,RANDBETWEEN(1,9999)/100,RANDBETWEEN(1,999)/10,RANDBETWEEN(1,99))))","v":35},"m²"]
[{"$f":"IF(COUNTIF($B$1:B1651,TRUE)=COUNTIF($B$1:B1650,TRUE),\"\",COUNTIF($B$1:B1651,TRUE))","v":991},{"$f":"IF(Worksheet!$D$10=3,FALSE,Worksheet!$B$14)","v":true},{"$f":"IF(Worksheet!$D$6=1,RANDBETWEEN(1,99),IF(Worksheet!$D$6=2,CHOOSE(RANDBETWEEN(1,2),RANDBETWEEN(1,99),RANDBETWEEN(1,999)/10),CHOOSE(RANDBETWEEN(1,4),RANDBETWEEN(1,99999)/1000,RANDBETWEEN(1,9999)/100,RANDBETWEEN(1,999)/10,RANDBETWEEN(1,99))))","v":63},"cm","=",{"$f":"10*C1651","v":630},"mm"]
[{"$f":"IF(COUNTIF($B$1:B1652,TRUE)=COUNTIF($B$1:B1651,TRUE),\"\",COUNTIF($B$1:B1652,TRUE))","v":992},{"$f":"IF(Worksheet!$D$10=3,FALSE,Worksheet!$B$15)","v":true},{"$f":"IF(Worksheet!$D$6=1,RANDBETWEEN(1,99),IF(Worksheet!$D$6=2,CHOOSE(RANDBETWEEN(1,2),RANDBETWEEN(1,99),RANDBETWEEN(1,999)/10),CHOOSE(RANDBETWEEN(1,4),RANDBETWEEN(1,99999)/1000,RANDBETWEEN(1,9999)/100,RANDBETWEEN(1,999)/10,RANDBETWEEN(1,99))))","v":68},"m","=",{"$f":"100*C1652","v":6800},"cm"]
[{"$f":"IF(COUNTIF($B$1:B1653,TRUE)=COUNTIF($B$1:B1652,TRUE),\"\",COUNTIF($B$1:B1653,TRUE))","v":993},{"$f":"IF(Worksheet!$D$10=3,FALSE,Worksheet!$B$16)","v":true},{"$f":"IF(Worksheet!$D$6=1,RANDBETWEEN(1,99),IF(Worksheet!$D$6=2,CHOOSE(RANDBETWEEN(1,2),RANDBETWEEN(1,99),RANDBETWEEN(1,999)/10),CHOOSE(RANDBETWEEN(1,4),RANDBETWEEN(1,99999)/1000,RANDBETWEEN(1,9999)/100,RANDBETWEEN(1,999)/10,RANDBETWEEN(1,99))))","v":81},"km","=",{"$f":"1000*C1653","v":81000},"m"]
[{"$f":"IF(COUNTIF($B$1:B1654,TRUE)=COUNTIF($B$1:B1653,TRUE),\"\",COUNTIF($B$1:B1654,TRUE))","v":""},{"$f":"IF(Worksheet!$D$10=3,FALSE,Worksheet!$B$17)","v":false},{"$f":"IF(Worksheet!$D$6=1,RANDBETWEEN(1,99),IF(Worksheet!$D$6=2,CHOOSE(RANDBETWEEN(1,2),RANDBETWEEN(1,99),RANDBETWEEN(1,999)/10),CHOOSE(RANDBETWEEN(1,4),RANDBETWEEN(1,99999)/1000,RANDBETWEEN(1,9999)/100,RANDBETWEEN(1,999)/10,RANDBETWEEN(1,99))))","v":3},"m",{"$f":"#REF!","v":{"$error":"#REF!"}},{"$f":"1000*C1654","v":3000},"mm"]
[{"$f":"IF(COUNTIF($B$1:B1655,TRUE)=COUNTIF($B$1:B1654,TRUE),\"\",COUNTIF($B$1:B1655,TRUE))","v":""},{"$f":"IF(Worksheet!$D$10=3,FALSE,Worksheet!$B$18)","v":false},{"$f":"IF(Worksheet!$D$6=1,RANDBETWEEN(1,99),IF(Worksheet!$D$6=2,CHOOSE(RANDBETWEEN(1,2),RANDBETWEEN(1,99),RANDBETWEEN(1,999)/10),CHOOSE(RANDBETWEEN(1,4),RANDBETWEEN(1,99999)/1000,RANDBETWEEN(1,9999)/100,RANDBETWEEN(1,999)/10,RANDBETWEEN(1,99))))","v":10},"cm²","=",{"$f":"C1655*100","v":1000},"mm²"]
[{"$f":"IF(COUNTIF($B$1:B1656,TRUE)=COUNTIF($B$1:B1655,TRUE),\"\",COUNTIF($B$1:B1656,TRUE))","v":994},{"$f":"IF(Worksheet!$D$10=3,FALSE,Worksheet!$D$14)","v":true},{"$f":"IF(Worksheet!$D$6=1,RANDBETWEEN(1,99),IF(Worksheet!$D$6=2,CHOOSE(RANDBETWEEN(1,2),RANDBETWEEN(1,99),RANDBETWEEN(1,999)/10),CHOOSE(RANDBETWEEN(1,4),RANDBETWEEN(1,99999)/1000,RANDBETWEEN(1,9999)/100,RANDBETWEEN(1,999)/10,RANDBETWEEN(1,99))))","v":65},"kg","=",{"$f":"1000*C1656","v":65000},"g"]
[{"$f":"IF(COUNTIF($B$1:B1657,TRUE)=COUNTIF($B$1:B1656,TRUE),\"\",COUNTIF($B$1:B1657,TRUE))","v":995},{"$f":"IF(Worksheet!$D$10=3,FALSE,Worksheet!$D$15)","v":true},{"$f":"IF(Worksheet!$D$6=1,RANDBETWEEN(1,99),IF(Worksheet!$D$6=2,CHOOSE(RANDBETWEEN(1,2),RANDBETWEEN(1,99),RANDBETWEEN(1,999)/10),CHOOSE(RANDBETWEEN(1,4),RANDBETWEEN(1,99999)/1000,RANDBETWEEN(1,9999)/100,RANDBETWEEN(1,999)/10,RANDBETWEEN(1,99))))","v":13},"tonnes","=",{"$f":"1000*C1657","v":13000},"kg"]
[{"$f":"IF(COUNTIF($B$1:B1658,TRUE)=COUNTIF($B$1:B1657,TRUE),\"\",COUNTIF($B$1:B1658,TRUE))","v":996},{"$f":"IF(Worksheet!$D$10=3,FALSE,Worksheet!$D$16)","v":true},{"$f":"IF(Worksheet!$D$6=1,RANDBETWEEN(1,99),IF(Worksheet!$D$6=2,CHOOSE(RANDBETWEEN(1,2),RANDBETWEEN(1,99),RANDBETWEEN(1,999)/10),CHOOSE(RANDBETWEEN(1,4),RANDBETWEEN(1,99999)/1000,RANDBETWEEN(1,9999)/100,RANDBETWEEN(1,999)/10,RANDBETWEEN(1,99))))","v":32},"litres","=",{"$f":"1000*C1658","v":32000},"ml"]
[{"$f":"IF(COUNTIF($B$1:B1659,TRUE)=COUNTIF($B$1:B1658,TRUE),\"\",COUNTIF($B$1:B1659,TRUE))","v":""},{"$f":"IF(Worksheet!$D$10=3,FALSE,Worksheet!$D$17)","v":false},{"$f":"IF(Worksheet!$D$6=1,RANDBETWEEN(1,99),IF(Worksheet!$D$6=2,CHOOSE(RANDBETWEEN(1,2),RANDBETWEEN(1,99),RANDBETWEEN(1,999)/10),CHOOSE(RANDBETWEEN(1,4),RANDBETWEEN(1,99999)/1000,RANDBETWEEN(1,9999)/100,RANDBETWEEN(1,999)/10,RANDBETWEEN(1,99))))","v":94},"litres","=",{"$f":"1000*C1659","v":94000},"cm³"]
[{"$f":"IF(COUNTIF($B$1:B1660,TRUE)=COUNTIF($B$1:B1659,TRUE),\"\",COUNTIF($B$1:B1660,TRUE))","v":""},{"$f":"IF(Worksheet!$D$10=3,FALSE,Worksheet!$D$18)","v":false},{"$f":"IF(Worksheet!$D$6=1,RANDBETWEEN(1,99),IF(Worksheet!$D$6=2,CHOOSE(RANDBETWEEN(1,2),RANDBETWEEN(1,99),RANDBETWEEN(1,999)/10),CHOOSE(RANDBETWEEN(1,4),RANDBETWEEN(1,99999)/1000,RANDBETWEEN(1,9999)/100,RANDBETWEEN(1,999)/10,RANDBETWEEN(1,99))))","v":49},"m²","=",{"$f":"10000*C1660","v":490000},"cm²"]
[{"$f":"IF(COUNTIF($B$1:B1661,TRUE)=COUNTIF($B$1:B1660,TRUE),\"\",COUNTIF($B$1:B1661,TRUE))","v":997},{"$f":"IF(Worksheet!$D$10=2,FALSE,Worksheet!$B$14)","v":true},{"$f":"10*F1661","v":610},"mm","=",{"$f":"IF(Worksheet!$D$6=1,RANDBETWEEN(1,99),IF(Worksheet!$D$6=2,CHOOSE(RANDBETWEEN(1,2),RANDBETWEEN(1,99),RANDBETWEEN(1,999)/10),CHOOSE(RANDBETWEEN(1,4),RANDBETWEEN(1,99999)/1000,RANDBETWEEN(1,9999)/100,RANDBETWEEN(1,999)/10,RANDBETWEEN(1,99))))","v":61},"cm"]
[{"$f":"IF(COUNTIF($B$1:B1662,TRUE)=COUNTIF($B$1:B1661,TRUE),\"\",COUNTIF($B$1:B1662,TRUE))","v":998},{"$f":"IF(Worksheet!$D$10=2,FALSE,Worksheet!$B$15)","v":true},{"$f":"100*F1662","v":4800},"cm","=",{"$f":"IF(Worksheet!$D$6=1,RANDBETWEEN(1,99),IF(Worksheet!$D$6=2,CHOOSE(RANDBETWEEN(1,2),RANDBETWEEN(1,99),RANDBETWEEN(1,999)/10),CHOOSE(RANDBETWEEN(1,4),RANDBETWEEN(1,99999)/1000,RANDBETWEEN(1,9999)/100,RANDBETWEEN(1,999)/10,RANDBETWEEN(1,99))))","v":48},"m"]
[{"$f":"IF(COUNTIF($B$1:B1663,TRUE)=COUNTIF($B$1:B1662,TRUE),\"\",COUNTIF($B$1:B1663,TRUE))","v":999},{"$f":"IF(Worksheet!$D$10=2,FALSE,Worksheet!$B$16)","v":true},{"$f":"1000*F1663","v":61000},"m","=",{"$f":"IF(Worksheet!$D$6=1,RANDBETWEEN(1,99),IF(Worksheet!$D$6=2,CHOOSE(RANDBETWEEN(1,2),RANDBETWEEN(1,99),RANDBETWEEN(1,999)/10),CHOOSE(RANDBETWEEN(1,4),RANDBETWEEN(1,99999)/1000,RANDBETWEEN(1,9999)/100,RANDBETWEEN(1,999)/10,RANDBETWEEN(1,99))))","v":61},"km"]
[{"$f":"IF(COUNTIF($B$1:B1664,TRUE)=COUNTIF($B$1:B1663,TRUE),\"\",COUNTIF($B$1:B1664,TRUE))","v":""},{"$f":"IF(Worksheet!$D$10=2,FALSE,Worksheet!$B$17)","v":false},{"$f":"1000*F1664","v":90000},"mm","=",{"$f":"IF(Worksheet!$D$6=1,RANDBETWEEN(1,99),IF(Worksheet!$D$6=2,CHOOSE(RANDBETWEEN(1,2),RANDBETWEEN(1,99),RANDBETWEEN(1,999)/10),CHOOSE(RANDBETWEEN(1,4),RANDBETWEEN(1,99999)/1000,RANDBETWEEN(1,9999)/100,RANDBETWEEN(1,999)/10,RANDBETWEEN(1,99))))","v":90},"m"]
[{"$f":"IF(COUNTIF($B$1:B1665,TRUE)=COUNTIF($B$1:B1664,TRUE),\"\",COUNTIF($B$1:B1665,TRUE))","v":""},{"$f":"IF(Worksheet!$D$10=2,FALSE,Worksheet!$B$18)","v":false},{"$f":"100*F1665","v":100},"mm²","=",{"$f":"IF(Worksheet!$D$6=1,RANDBETWEEN(1,99),IF(Worksheet!$D$6=2,CHOOSE(RANDBETWEEN(1,2),RANDBETWEEN(1,99),RANDBETWEEN(1,999)/10),CHOOSE(RANDBETWEEN(1,4),RANDBETWEEN(1,99999)/1000,RANDBETWEEN(1,9999)/100,RANDBETWEEN(1,999)/10,RANDBETWEEN(1,99))))","v":1},"cm²"]
[{"$f":"IF(COUNTIF($B$1:B1666,TRUE)=COUNTIF($B$1:B1665,TRUE),\"\",COUNTIF($B$1:B1666,TRUE))","v":1000},{"$f":"IF(Worksheet!$D$10=2,FALSE,Worksheet!$D$14)","v":true},{"$f":"F1666*1000","v":22000},"g","=",{"$f":"IF(Worksheet!$D$6=1,RANDBETWEEN(1,99),IF(Worksheet!$D$6=2,CHOOSE(RANDBETWEEN(1,2),RANDBETWEEN(1,99),RANDBETWEEN(1,999)/10),CHOOSE(RANDBETWEEN(1,4),RANDBETWEEN(1,99999)/1000,RANDBETWEEN(1,9999)/100,RANDBETWEEN(1,999)/10,RANDBETWEEN(1,99))))","v":22},"kg"]
[{"$f":"IF(COUNTIF($B$1:B1667,TRUE)=COUNTIF($B$1:B1666,TRUE),\"\",COUNTIF($B$1:B1667,TRUE))","v":1001},{"$f":"IF(Worksheet!$D$10=2,FALSE,Worksheet!$D$15)","v":true},{"$f":"F1667*1000","v":74000},"kg","=",{"$f":"IF(Worksheet!$D$6=1,RANDBETWEEN(1,99),IF(Worksheet!$D$6=2,CHOOSE(RANDBETWEEN(1,2),RANDBETWEEN(1,99),RANDBETWEEN(1,999)/10),CHOOSE(RANDBETWEEN(1,4),RANDBETWEEN(1,99999)/1000,RANDBETWEEN(1,9999)/100,RANDBETWEEN(1,999)/10,RANDBETWEEN(1,99))))","v":74},"tonnes"]
[{"$f":"IF(COUNTIF($B$1:B1668,TRUE)=COUNTIF($B$1:B1667,TRUE),\"\",COUNTIF($B$1:B1668,TRUE))","v":1002},{"$f":"IF(Worksheet!$D$10=2,FALSE,Worksheet!$D$16)","v":true},{"$f":"1000*F1668","v":65000},"ml","=",{"$f":"IF(Worksheet!$D$6=1,RANDBETWEEN(1,99),IF(Worksheet!$D$6=2,CHOOSE(RANDBETWEEN(1,2),RANDBETWEEN(1,99),RANDBETWEEN(1,999)/10),CHOOSE(RANDBETWEEN(1,4),RANDBETWEEN(1,99999)/1000,RANDBETWEEN(1,9999)/100,RANDBETWEEN(1,999)/10,RANDBETWEEN(1,99))))","v":65},"litres"]
[{"$f":"IF(COUNTIF($B$1:B1669,TRUE)=COUNTIF($B$1:B1668,TRUE),\"\",COUNTIF($B$1:B1669,TRUE))","v":""},{"$f":"IF(Worksheet!$D$10=2,FALSE,Worksheet!$D$17)","v":false},{"$f":"1000*F1669","v":5000},"cm³","=",{"$f":"IF(Worksheet!$D$6=1,RANDBETWEEN(1,99),IF(Worksheet!$D$6=2,CHOOSE(RANDBETWEEN(1,2),RANDBETWEEN(1,99),RANDBETWEEN(1,999)/10),CHOOSE(RANDBETWEEN(1,4),RANDBETWEEN(1,99999)/1000,RANDBETWEEN(1,9999)/100,RANDBETWEEN(1,999)/10,RANDBETWEEN(1,99))))","v":5},"litres"]
[{"$f":"IF(COUNTIF($B$1:B1670,TRUE)=COUNTIF($B$1:B1669,TRUE),\"\",COUNTIF($B$1:B1670,TRUE))","v":""},{"$f":"IF(Worksheet!$D$10=2,FALSE,Worksheet!$D$18)","v":false},{"$f":"10000*F1670","v":770000},"cm²","=",{"$f":"IF(Worksheet!$D$6=1,RANDBETWEEN(1,99),IF(Worksheet!$D$6=2,CHOOSE(RANDBETWEEN(1,2),RANDBETWEEN(1,99),RANDBETWEEN(1,999)/10),CHOOSE(RANDBETWEEN(1,4),RANDBETWEEN(1,99999)/1000,RANDBETWEEN(1,9999)/100,RANDBETWEEN(1,999)/10,RANDBETWEEN(1,99))))","v":77},"m²"]
[{"$f":"IF(COUNTIF($B$1:B1671,TRUE)=COUNTIF($B$1:B1670,TRUE),\"\",COUNTIF($B$1:B1671,TRUE))","v":1003},{"$f":"IF(Worksheet!$D$10=3,FALSE,Worksheet!$B$14)","v":true},{"$f":"IF(Worksheet!$D$6=1,RANDBETWEEN(1,99),IF(Worksheet!$D$6=2,CHOOSE(RANDBETWEEN(1,2),RANDBETWEEN(1,99),RANDBETWEEN(1,999)/10),CHOOSE(RANDBETWEEN(1,4),RANDBETWEEN(1,99999)/1000,RANDBETWEEN(1,9999)/100,RANDBETWEEN(1,999)/10,RANDBETWEEN(1,99))))","v":62},"cm","=",{"$f":"10*C1671","v":620},"mm"]
[{"$f":"IF(COUNTIF($B$1:B1672,TRUE)=COUNTIF($B$1:B1671,TRUE),\"\",COUNTIF($B$1:B1672,TRUE))","v":1004},{"$f":"IF(Worksheet!$D$10=3,FALSE,Worksheet!$B$15)","v":true},{"$f":"IF(Worksheet!$D$6=1,RANDBETWEEN(1,99),IF(Worksheet!$D$6=2,CHOOSE(RANDBETWEEN(1,2),RANDBETWEEN(1,99),RANDBETWEEN(1,999)/10),CHOOSE(RANDBETWEEN(1,4),RANDBETWEEN(1,99999)/1000,RANDBETWEEN(1,9999)/100,RANDBETWEEN(1,999)/10,RANDBETWEEN(1,99))))","v":95},"m","=",{"$f":"100*C1672","v":9500},"cm"]
[{"$f":"IF(COUNTIF($B$1:B1673,TRUE)=COUNTIF($B$1:B1672,TRUE),\"\",COUNTIF($B$1:B1673,TRUE))","v":1005},{"$f":"IF(Worksheet!$D$10=3,FALSE,Worksheet!$B$16)","v":true},{"$f":"IF(Worksheet!$D$6=1,RANDBETWEEN(1,99),IF(Worksheet!$D$6=2,CHOOSE(RANDBETWEEN(1,2),RANDBETWEEN(1,99),RANDBETWEEN(1,999)/10),CHOOSE(RANDBETWEEN(1,4),RANDBETWEEN(1,99999)/1000,RANDBETWEEN(1,9999)/100,RANDBETWEEN(1,999)/10,RANDBETWEEN(1,99))))","v":20},"km","=",{"$f":"1000*C1673","v":20000},"m"]
[{"$f":"IF(COUNTIF($B$1:B1674,TRUE)=COUNTIF($B$1:B1673,TRUE),\"\",COUNTIF($B$1:B1674,TRUE))","v":""},{"$f":"IF(Worksheet!$D$10=3,FALSE,Worksheet!$B$17)","v":false},{"$f":"IF(Worksheet!$D$6=1,RANDBETWEEN(1,99),IF(Worksheet!$D$6=2,CHOOSE(RANDBETWEEN(1,2),RANDBETWEEN(1,99),RANDBETWEEN(1,999)/10),CHOOSE(RANDBETWEEN(1,4),RANDBETWEEN(1,99999)/1000,RANDBETWEEN(1,9999)/100,RANDBETWEEN(1,999)/10,RANDBETWEEN(1,99))))","v":66},"m",{"$f":"#REF!","v":{"$error":"#REF!"}},{"$f":"1000*C1674","v":66000},"mm"]
[{"$f":"IF(COUNTIF($B$1:B1675,TRUE)=COUNTIF($B$1:B1674,TRUE),\"\",COUNTIF($B$1:B1675,TRUE))","v":""},{"$f":"IF(Worksheet!$D$10=3,FALSE,Worksheet!$B$18)","v":false},{"$f":"IF(Worksheet!$D$6=1,RANDBETWEEN(1,99),IF(Worksheet!$D$6=2,CHOOSE(RANDBETWEEN(1,2),RANDBETWEEN(1,99),RANDBETWEEN(1,999)/10),CHOOSE(RANDBETWEEN(1,4),RANDBETWEEN(1,99999)/1000,RANDBETWEEN(1,9999)/100,RANDBETWEEN(1,999)/10,RANDBETWEEN(1,99))))","v":23},"cm²","=",{"$f":"C1675*100","v":2300},"mm²"]
[{"$f":"IF(COUNTIF($B$1:B1676,TRUE)=COUNTIF($B$1:B1675,TRUE),\"\",COUNTIF($B$1:B1676,TRUE))","v":1006},{"$f":"IF(Worksheet!$D$10=3,FALSE,Worksheet!$D$14)","v":true},{"$f":"IF(Worksheet!$D$6=1,RANDBETWEEN(1,99),IF(Worksheet!$D$6=2,CHOOSE(RANDBETWEEN(1,2),RANDBETWEEN(1,99),RANDBETWEEN(1,999)/10),CHOOSE(RANDBETWEEN(1,4),RANDBETWEEN(1,99999)/1000,RANDBETWEEN(1,9999)/100,RANDBETWEEN(1,999)/10,RANDBETWEEN(1,99))))","v":37},"kg","=",{"$f":"1000*C1676","v":37000},"g"]
[{"$f":"IF(COUNTIF($B$1:B1677,TRUE)=COUNTIF($B$1:B1676,TRUE),\"\",COUNTIF($B$1:B1677,TRUE))","v":1007},{"$f":"IF(Worksheet!$D$10=3,FALSE,Worksheet!$D$15)","v":true},{"$f":"IF(Worksheet!$D$6=1,RANDBETWEEN(1,99),IF(Worksheet!$D$6=2,CHOOSE(RANDBETWEEN(1,2),RANDBETWEEN(1,99),RANDBETWEEN(1,999)/10),CHOOSE(RANDBETWEEN(1,4),RANDBETWEEN(1,99999)/1000,RANDBETWEEN(1,9999)/100,RANDBETWEEN(1,999)/10,RANDBETWEEN(1,99))))","v":95},"tonnes","=",{"$f":"1000*C1677","v":95000},"kg"]
[{"$f":"IF(COUNTIF($B$1:B1678,TRUE)=COUNTIF($B$1:B1677,TRUE),\"\",COUNTIF($B$1:B1678,TRUE))","v":1008},{"$f":"IF(Worksheet!$D$10=3,FALSE,Worksheet!$D$16)","v":true},{"$f":"IF(Worksheet!$D$6=1,RANDBETWEEN(1,99),IF(Worksheet!$D$6=2,CHOOSE(RANDBETWEEN(1,2),RANDBETWEEN(1,99),RANDBETWEEN(1,999)/10),CHOOSE(RANDBETWEEN(1,4),RANDBETWEEN(1,99999)/1000,RANDBETWEEN(1,9999)/100,RANDBETWEEN(1,999)/10,RANDBETWEEN(1,99))))","v":36},"litres","=",{"$f":"1000*C1678","v":36000},"ml"]
[{"$f":"IF(COUNTIF($B$1:B1679,TRUE)=COUNTIF($B$1:B1678,TRUE),\"\",COUNTIF($B$1:B1679,TRUE))","v":""},{"$f":"IF(Worksheet!$D$10=3,FALSE,Worksheet!$D$17)","v":false},{"$f":"IF(Worksheet!$D$6=1,RANDBETWEEN(1,99),IF(Worksheet!$D$6=2,CHOOSE(RANDBETWEEN(1,2),RANDBETWEEN(1,99),RANDBETWEEN(1,999)/10),CHOOSE(RANDBETWEEN(1,4),RANDBETWEEN(1,99999)/1000,RANDBETWEEN(1,9999)/100,RANDBETWEEN(1,999)/10,RANDBETWEEN(1,99))))","v":68},"litres","=",{"$f":"1000*C1679","v":68000},"cm³"]
[{"$f":"IF(COUNTIF($B$1:B1680,TRUE)=COUNTIF($B$1:B1679,TRUE),\"\",COUNTIF($B$1:B1680,TRUE))","v":""},{"$f":"IF(Worksheet!$D$10=3,FALSE,Worksheet!$D$18)","v":false},{"$f":"IF(Worksheet!$D$6=1,RANDBETWEEN(1,99),IF(Worksheet!$D$6=2,CHOOSE(RANDBETWEEN(1,2),RANDBETWEEN(1,99),RANDBETWEEN(1,999)/10),CHOOSE(RANDBETWEEN(1,4),RANDBETWEEN(1,99999)/1000,RANDBETWEEN(1,9999)/100,RANDBETWEEN(1,999)/10,RANDBETWEEN(1,99))))","v":94},"m²","=",{"$f":"10000*C1680","v":940000},"cm²"]
[{"$f":"IF(COUNTIF($B$1:B1681,TRUE)=COUNTIF($B$1:B1680,TRUE),\"\",COUNTIF($B$1:B1681,TRUE))","v":1009},{"$f":"IF(Worksheet!$D$10=2,FALSE,Worksheet!$B$14)","v":true},{"$f":"10*F1681","v":750},"mm","=",{"$f":"IF(Worksheet!$D$6=1,RANDBETWEEN(1,99),IF(Worksheet!$D$6=2,CHOOSE(RANDBETWEEN(1,2),RANDBETWEEN(1,99),RANDBETWEEN(1,999)/10),CHOOSE(RANDBETWEEN(1,4),RANDBETWEEN(1,99999)/1000,RANDBETWEEN(1,9999)/100,RANDBETWEEN(1,999)/10,RANDBETWEEN(1,99))))","v":75},"cm"]
[{"$f":"IF(COUNTIF($B$1:B1682,TRUE)=COUNTIF($B$1:B1681,TRUE),\"\",COUNTIF($B$1:B1682,TRUE))","v":1010},{"$f":"IF(Worksheet!$D$10=2,FALSE,Worksheet!$B$15)","v":true},{"$f":"100*F1682","v":5200},"cm","=",{"$f":"IF(Worksheet!$D$6=1,RANDBETWEEN(1,99),IF(Worksheet!$D$6=2,CHOOSE(RANDBETWEEN(1,2),RANDBETWEEN(1,99),RANDBETWEEN(1,999)/10),CHOOSE(RANDBETWEEN(1,4),RANDBETWEEN(1,99999)/1000,RANDBETWEEN(1,9999)/100,RANDBETWEEN(1,999)/10,RANDBETWEEN(1,99))))","v":52},"m"]
[{"$f":"IF(COUNTIF($B$1:B1683,TRUE)=COUNTIF($B$1:B1682,TRUE),\"\",COUNTIF($B$1:B1683,TRUE))","v":1011},{"$f":"IF(Worksheet!$D$10=2,FALSE,Worksheet!$B$16)","v":true},{"$f":"1000*F1683","v":94000},"m","=",{"$f":"IF(Worksheet!$D$6=1,RANDBETWEEN(1,99),IF(Worksheet!$D$6=2,CHOOSE(RANDBETWEEN(1,2),RANDBETWEEN(1,99),RANDBETWEEN(1,999)/10),CHOOSE(RANDBETWEEN(1,4),RANDBETWEEN(1,99999)/1000,RANDBETWEEN(1,9999)/100,RANDBETWEEN(1,999)/10,RANDBETWEEN(1,99))))","v":94},"km"]
[{"$f":"IF(COUNTIF($B$1:B1684,TRUE)=COUNTIF($B$1:B1683,TRUE),\"\",COUNTIF($B$1:B1684,TRUE))","v":""},{"$f":"IF(Worksheet!$D$10=2,FALSE,Worksheet!$B$17)","v":false},{"$f":"1000*F1684","v":52000},"mm","=",{"$f":"IF(Worksheet!$D$6=1,RANDBETWEEN(1,99),IF(Worksheet!$D$6=2,CHOOSE(RANDBETWEEN(1,2),RANDBETWEEN(1,99),RANDBETWEEN(1,999)/10),CHOOSE(RANDBETWEEN(1,4),RANDBETWEEN(1,99999)/1000,RANDBETWEEN(1,9999)/100,RANDBETWEEN(1,999)/10,RANDBETWEEN(1,99))))","v":52},"m"]
[{"$f":"IF(COUNTIF($B$1:B1685,TRUE)=COUNTIF($B$1:B1684,TRUE),\"\",COUNTIF($B$1:B1685,TRUE))","v":""},{"$f":"IF(Worksheet!$D$10=2,FALSE,Worksheet!$B$18)","v":false},{"$f":"100*F1685","v":2800},"mm²","=",{"$f":"IF(Worksheet!$D$6=1,RANDBETWEEN(1,99),IF(Worksheet!$D$6=2,CHOOSE(RANDBETWEEN(1,2),RANDBETWEEN(1,99),RANDBETWEEN(1,999)/10),CHOOSE(RANDBETWEEN(1,4),RANDBETWEEN(1,99999)/1000,RANDBETWEEN(1,9999)/100,RANDBETWEEN(1,999)/10,RANDBETWEEN(1,99))))","v":28},"cm²"]
[{"$f":"IF(COUNTIF($B$1:B1686,TRUE)=COUNTIF($B$1:B1685,TRUE),\"\",COUNTIF($B$1:B1686,TRUE))","v":1012},{"$f":"IF(Worksheet!$D$10=2,FALSE,Worksheet!$D$14)","v":true},{"$f":"F1686*1000","v":57000},"g","=",{"$f":"IF(Worksheet!$D$6=1,RANDBETWEEN(1,99),IF(Worksheet!$D$6=2,CHOOSE(RANDBETWEEN(1,2),RANDBETWEEN(1,99),RANDBETWEEN(1,999)/10),CHOOSE(RANDBETWEEN(1,4),RANDBETWEEN(1,99999)/1000,RANDBETWEEN(1,9999)/100,RANDBETWEEN(1,999)/10,RANDBETWEEN(1,99))))","v":57},"kg"]
[{"$f":"IF(COUNTIF($B$1:B1687,TRUE)=COUNTIF($B$1:B1686,TRUE),\"\",COUNTIF($B$1:B1687,TRUE))","v":1013},{"$f":"IF(Worksheet!$D$10=2,FALSE,Worksheet!$D$15)","v":true},{"$f":"F1687*1000","v":58000},"kg","=",{"$f":"IF(Worksheet!$D$6=1,RANDBETWEEN(1,99),IF(Worksheet!$D$6=2,CHOOSE(RANDBETWEEN(1,2),RANDBETWEEN(1,99),RANDBETWEEN(1,999)/10),CHOOSE(RANDBETWEEN(1,4),RANDBETWEEN(1,99999)/1000,RANDBETWEEN(1,9999)/100,RANDBETWEEN(1,999)/10,RANDBETWEEN(1,99))))","v":58},"tonnes"]
[{"$f":"IF(COUNTIF($B$1:B1688,TRUE)=COUNTIF($B$1:B1687,TRUE),\"\",COUNTIF($B$1:B1688,TRUE))","v":1014},{"$f":"IF(Worksheet!$D$10=2,FALSE,Worksheet!$D$16)","v":true},{"$f":"1000*F1688","v":48000},"ml","=",{"$f":"IF(Worksheet!$D$6=1,RANDBETWEEN(1,99),IF(Worksheet!$D$6=2,CHOOSE(RANDBETWEEN(1,2),RANDBETWEEN(1,99),RANDBETWEEN(1,999)/10),CHOOSE(RANDBETWEEN(1,4),RANDBETWEEN(1,99999)/1000,RANDBETWEEN(1,9999)/100,RANDBETWEEN(1,999)/10,RANDBETWEEN(1,99))))","v":48},"litres"]
[{"$f":"IF(COUNTIF($B$1:B1689,TRUE)=COUNTIF($B$1:B1688,TRUE),\"\",COUNTIF($B$1:B1689,TRUE))","v":""},{"$f":"IF(Worksheet!$D$10=2,FALSE,Worksheet!$D$17)","v":false},{"$f":"1000*F1689","v":47000},"cm³","=",{"$f":"IF(Worksheet!$D$6=1,RANDBETWEEN(1,99),IF(Worksheet!$D$6=2,CHOOSE(RANDBETWEEN(1,2),RANDBETWEEN(1,99),RANDBETWEEN(1,999)/10),CHOOSE(RANDBETWEEN(1,4),RANDBETWEEN(1,99999)/1000,RANDBETWEEN(1,9999)/100,RANDBETWEEN(1,999)/10,RANDBETWEEN(1,99))))","v":47},"litres"]
[{"$f":"IF(COUNTIF($B$1:B1690,TRUE)=COUNTIF($B$1:B1689,TRUE),\"\",COUNTIF($B$1:B1690,TRUE))","v":""},{"$f":"IF(Worksheet!$D$10=2,FALSE,Worksheet!$D$18)","v":false},{"$f":"10000*F1690","v":220000},"cm²","=",{"$f":"IF(Worksheet!$D$6=1,RANDBETWEEN(1,99),IF(Worksheet!$D$6=2,CHOOSE(RANDBETWEEN(1,2),RANDBETWEEN(1,99),RANDBETWEEN(1,999)/10),CHOOSE(RANDBETWEEN(1,4),RANDBETWEEN(1,99999)/1000,RANDBETWEEN(1,9999)/100,RANDBETWEEN(1,999)/10,RANDBETWEEN(1,99))))","v":22},"m²"]
[{"$f":"IF(COUNTIF($B$1:B1691,TRUE)=COUNTIF($B$1:B1690,TRUE),\"\",COUNTIF($B$1:B1691,TRUE))","v":1015},{"$f":"IF(Worksheet!$D$10=3,FALSE,Worksheet!$B$14)","v":true},{"$f":"IF(Worksheet!$D$6=1,RANDBETWEEN(1,99),IF(Worksheet!$D$6=2,CHOOSE(RANDBETWEEN(1,2),RANDBETWEEN(1,99),RANDBETWEEN(1,999)/10),CHOOSE(RANDBETWEEN(1,4),RANDBETWEEN(1,99999)/1000,RANDBETWEEN(1,9999)/100,RANDBETWEEN(1,999)/10,RANDBETWEEN(1,99))))","v":16},"cm","=",{"$f":"10*C1691","v":160},"mm"]
[{"$f":"IF(COUNTIF($B$1:B1692,TRUE)=COUNTIF($B$1:B1691,TRUE),\"\",COUNTIF($B$1:B1692,TRUE))","v":1016},{"$f":"IF(Worksheet!$D$10=3,FALSE,Worksheet!$B$15)","v":true},{"$f":"IF(Worksheet!$D$6=1,RANDBETWEEN(1,99),IF(Worksheet!$D$6=2,CHOOSE(RANDBETWEEN(1,2),RANDBETWEEN(1,99),RANDBETWEEN(1,999)/10),CHOOSE(RANDBETWEEN(1,4),RANDBETWEEN(1,99999)/1000,RANDBETWEEN(1,9999)/100,RANDBETWEEN(1,999)/10,RANDBETWEEN(1,99))))","v":72},"m","=",{"$f":"100*C1692","v":7200},"cm"]
[{"$f":"IF(COUNTIF($B$1:B1693,TRUE)=COUNTIF($B$1:B1692,TRUE),\"\",COUNTIF($B$1:B1693,TRUE))","v":1017},{"$f":"IF(Worksheet!$D$10=3,FALSE,Worksheet!$B$16)","v":true},{"$f":"IF(Worksheet!$D$6=1,RANDBETWEEN(1,99),IF(Worksheet!$D$6=2,CHOOSE(RANDBETWEEN(1,2),RANDBETWEEN(1,99),RANDBETWEEN(1,999)/10),CHOOSE(RANDBETWEEN(1,4),RANDBETWEEN(1,99999)/1000,RANDBETWEEN(1,9999)/100,RANDBETWEEN(1,999)/10,RANDBETWEEN(1,99))))","v":28},"km","=",{"$f":"1000*C1693","v":28000},"m"]
[{"$f":"IF(COUNTIF($B$1:B1694,TRUE)=COUNTIF($B$1:B1693,TRUE),\"\",COUNTIF($B$1:B1694,TRUE))","v":""},{"$f":"IF(Worksheet!$D$10=3,FALSE,Worksheet!$B$17)","v":false},{"$f":"IF(Worksheet!$D$6=1,RANDBETWEEN(1,99),IF(Worksheet!$D$6=2,CHOOSE(RANDBETWEEN(1,2),RANDBETWEEN(1,99),RANDBETWEEN(1,999)/10),CHOOSE(RANDBETWEEN(1,4),RANDBETWEEN(1,99999)/1000,RANDBETWEEN(1,9999)/100,RANDBETWEEN(1,999)/10,RANDBETWEEN(1,99))))","v":99},"m",{"$f":"#REF!","v":{"$error":"#REF!"}},{"$f":"1000*C1694","v":99000},"mm"]
[{"$f":"IF(COUNTIF($B$1:B1695,TRUE)=COUNTIF($B$1:B1694,TRUE),\"\",COUNTIF($B$1:B1695,TRUE))","v":""},{"$f":"IF(Worksheet!$D$10=3,FALSE,Worksheet!$B$18)","v":false},{"$f":"IF(Worksheet!$D$6=1,RANDBETWEEN(1,99),IF(Worksheet!$D$6=2,CHOOSE(RANDBETWEEN(1,2),RANDBETWEEN(1,99),RANDBETWEEN(1,999)/10),CHOOSE(RANDBETWEEN(1,4),RANDBETWEEN(1,99999)/1000,RANDBETWEEN(1,9999)/100,RANDBETWEEN(1,999)/10,RANDBETWEEN(1,99))))","v":22},"cm²","=",{"$f":"C1695*100","v":2200},"mm²"]
[{"$f":"IF(COUNTIF($B$1:B1696,TRUE)=COUNTIF($B$1:B1695,TRUE),\"\",COUNTIF($B$1:B1696,TRUE))","v":1018},{"$f":"IF(Worksheet!$D$10=3,FALSE,Worksheet!$D$14)","v":true},{"$f":"IF(Worksheet!$D$6=1,RANDBETWEEN(1,99),IF(Worksheet!$D$6=2,CHOOSE(RANDBETWEEN(1,2),RANDBETWEEN(1,99),RANDBETWEEN(1,999)/10),CHOOSE(RANDBETWEEN(1,4),RANDBETWEEN(1,99999)/1000,RANDBETWEEN(1,9999)/100,RANDBETWEEN(1,999)/10,RANDBETWEEN(1,99))))","v":19},"kg","=",{"$f":"1000*C1696","v":19000},"g"]
[{"$f":"IF(COUNTIF($B$1:B1697,TRUE)=COUNTIF($B$1:B1696,TRUE),\"\",COUNTIF($B$1:B1697,TRUE))","v":1019},{"$f":"IF(Worksheet!$D$10=3,FALSE,Worksheet!$D$15)","v":true},{"$f":"IF(Worksheet!$D$6=1,RANDBETWEEN(1,99),IF(Worksheet!$D$6=2,CHOOSE(RANDBETWEEN(1,2),RANDBETWEEN(1,99),RANDBETWEEN(1,999)/10),CHOOSE(RANDBETWEEN(1,4),RANDBETWEEN(1,99999)/1000,RANDBETWEEN(1,9999)/100,RANDBETWEEN(1,999)/10,RANDBETWEEN(1,99))))","v":87},"tonnes","=",{"$f":"1000*C1697","v":87000},"kg"]
[{"$f":"IF(COUNTIF($B$1:B1698,TRUE)=COUNTIF($B$1:B1697,TRUE),\"\",COUNTIF($B$1:B1698,TRUE))","v":1020},{"$f":"IF(Worksheet!$D$10=3,FALSE,Worksheet!$D$16)","v":true},{"$f":"IF(Worksheet!$D$6=1,RANDBETWEEN(1,99),IF(Worksheet!$D$6=2,CHOOSE(RANDBETWEEN(1,2),RANDBETWEEN(1,99),RANDBETWEEN(1,999)/10),CHOOSE(RANDBETWEEN(1,4),RANDBETWEEN(1,99999)/1000,RANDBETWEEN(1,9999)/100,RANDBETWEEN(1,999)/10,RANDBETWEEN(1,99))))","v":32},"litres","=",{"$f":"1000*C1698","v":32000},"ml"]
[{"$f":"IF(COUNTIF($B$1:B1699,TRUE)=COUNTIF($B$1:B1698,TRUE),\"\",COUNTIF($B$1:B1699,TRUE))","v":""},{"$f":"IF(Worksheet!$D$10=3,FALSE,Worksheet!$D$17)","v":false},{"$f":"IF(Worksheet!$D$6=1,RANDBETWEEN(1,99),IF(Worksheet!$D$6=2,CHOOSE(RANDBETWEEN(1,2),RANDBETWEEN(1,99),RANDBETWEEN(1,999)/10),CHOOSE(RANDBETWEEN(1,4),RANDBETWEEN(1,99999)/1000,RANDBETWEEN(1,9999)/100,RANDBETWEEN(1,999)/10,RANDBETWEEN(1,99))))","v":81},"litres","=",{"$f":"1000*C1699","v":81000},"cm³"]
[{"$f":"IF(COUNTIF($B$1:B1700,TRUE)=COUNTIF($B$1:B1699,TRUE),\"\",COUNTIF($B$1:B1700,TRUE))","v":""},{"$f":"IF(Worksheet!$D$10=3,FALSE,Worksheet!$D$18)","v":false},{"$f":"IF(Worksheet!$D$6=1,RANDBETWEEN(1,99),IF(Worksheet!$D$6=2,CHOOSE(RANDBETWEEN(1,2),RANDBETWEEN(1,99),RANDBETWEEN(1,999)/10),CHOOSE(RANDBETWEEN(1,4),RANDBETWEEN(1,99999)/1000,RANDBETWEEN(1,9999)/100,RANDBETWEEN(1,999)/10,RANDBETWEEN(1,99))))","v":25},"m²","=",{"$f":"10000*C1700","v":250000},"cm²"]
[{"$f":"IF(COUNTIF($B$1:B1701,TRUE)=COUNTIF($B$1:B1700,TRUE),\"\",COUNTIF($B$1:B1701,TRUE))","v":1021},{"$f":"IF(Worksheet!$D$10=2,FALSE,Worksheet!$B$14)","v":true},{"$f":"10*F1701","v":190},"mm","=",{"$f":"IF(Worksheet!$D$6=1,RANDBETWEEN(1,99),IF(Worksheet!$D$6=2,CHOOSE(RANDBETWEEN(1,2),RANDBETWEEN(1,99),RANDBETWEEN(1,999)/10),CHOOSE(RANDBETWEEN(1,4),RANDBETWEEN(1,99999)/1000,RANDBETWEEN(1,9999)/100,RANDBETWEEN(1,999)/10,RANDBETWEEN(1,99))))","v":19},"cm"]
[{"$f":"IF(COUNTIF($B$1:B1702,TRUE)=COUNTIF($B$1:B1701,TRUE),\"\",COUNTIF($B$1:B1702,TRUE))","v":1022},{"$f":"IF(Worksheet!$D$10=2,FALSE,Worksheet!$B$15)","v":true},{"$f":"100*F1702","v":2200},"cm","=",{"$f":"IF(Worksheet!$D$6=1,RANDBETWEEN(1,99),IF(Worksheet!$D$6=2,CHOOSE(RANDBETWEEN(1,2),RANDBETWEEN(1,99),RANDBETWEEN(1,999)/10),CHOOSE(RANDBETWEEN(1,4),RANDBETWEEN(1,99999)/1000,RANDBETWEEN(1,9999)/100,RANDBETWEEN(1,999)/10,RANDBETWEEN(1,99))))","v":22},"m"]
[{"$f":"IF(COUNTIF($B$1:B1703,TRUE)=COUNTIF($B$1:B1702,TRUE),\"\",COUNTIF($B$1:B1703,TRUE))","v":1023},{"$f":"IF(Worksheet!$D$10=2,FALSE,Worksheet!$B$16)","v":true},{"$f":"1000*F1703","v":14000},"m","=",{"$f":"IF(Worksheet!$D$6=1,RANDBETWEEN(1,99),IF(Worksheet!$D$6=2,CHOOSE(RANDBETWEEN(1,2),RANDBETWEEN(1,99),RANDBETWEEN(1,999)/10),CHOOSE(RANDBETWEEN(1,4),RANDBETWEEN(1,99999)/1000,RANDBETWEEN(1,9999)/100,RANDBETWEEN(1,999)/10,RANDBETWEEN(1,99))))","v":14},"km"]
[{"$f":"IF(COUNTIF($B$1:B1704,TRUE)=COUNTIF($B$1:B1703,TRUE),\"\",COUNTIF($B$1:B1704,TRUE))","v":""},{"$f":"IF(Worksheet!$D$10=2,FALSE,Worksheet!$B$17)","v":false},{"$f":"1000*F1704","v":67000},"mm","=",{"$f":"IF(Worksheet!$D$6=1,RANDBETWEEN(1,99),IF(Worksheet!$D$6=2,CHOOSE(RANDBETWEEN(1,2),RANDBETWEEN(1,99),RANDBETWEEN(1,999)/10),CHOOSE(RANDBETWEEN(1,4),RANDBETWEEN(1,99999)/1000,RANDBETWEEN(1,9999)/100,RANDBETWEEN(1,999)/10,RANDBETWEEN(1,99))))","v":67},"m"]
[{"$f":"IF(COUNTIF($B$1:B1705,TRUE)=COUNTIF($B$1:B1704,TRUE),\"\",COUNTIF($B$1:B1705,TRUE))","v":""},{"$f":"IF(Worksheet!$D$10=2,FALSE,Worksheet!$B$18)","v":false},{"$f":"100*F1705","v":8200},"mm²","=",{"$f":"IF(Worksheet!$D$6=1,RANDBETWEEN(1,99),IF(Worksheet!$D$6=2,CHOOSE(RANDBETWEEN(1,2),RANDBETWEEN(1,99),RANDBETWEEN(1,999)/10),CHOOSE(RANDBETWEEN(1,4),RANDBETWEEN(1,99999)/1000,RANDBETWEEN(1,9999)/100,RANDBETWEEN(1,999)/10,RANDBETWEEN(1,99))))","v":82},"cm²"]
[{"$f":"IF(COUNTIF($B$1:B1706,TRUE)=COUNTIF($B$1:B1705,TRUE),\"\",COUNTIF($B$1:B1706,TRUE))","v":1024},{"$f":"IF(Worksheet!$D$10=2,FALSE,Worksheet!$D$14)","v":true},{"$f":"F1706*1000","v":59000},"g","=",{"$f":"IF(Worksheet!$D$6=1,RANDBETWEEN(1,99),IF(Worksheet!$D$6=2,CHOOSE(RANDBETWEEN(1,2),RANDBETWEEN(1,99),RANDBETWEEN(1,999)/10),CHOOSE(RANDBETWEEN(1,4),RANDBETWEEN(1,99999)/1000,RANDBETWEEN(1,9999)/100,RANDBETWEEN(1,999)/10,RANDBETWEEN(1,99))))","v":59},"kg"]
[{"$f":"IF(COUNTIF($B$1:B1707,TRUE)=COUNTIF($B$1:B1706,TRUE),\"\",COUNTIF($B$1:B1707,TRUE))","v":1025},{"$f":"IF(Worksheet!$D$10=2,FALSE,Worksheet!$D$15)","v":true},{"$f":"F1707*1000","v":83000},"kg","=",{"$f":"IF(Worksheet!$D$6=1,RANDBETWEEN(1,99),IF(Worksheet!$D$6=2,CHOOSE(RANDBETWEEN(1,2),RANDBETWEEN(1,99),RANDBETWEEN(1,999)/10),CHOOSE(RANDBETWEEN(1,4),RANDBETWEEN(1,99999)/1000,RANDBETWEEN(1,9999)/100,RANDBETWEEN(1,999)/10,RANDBETWEEN(1,99))))","v":83},"tonnes"]
[{"$f":"IF(COUNTIF($B$1:B1708,TRUE)=COUNTIF($B$1:B1707,TRUE),\"\",COUNTIF($B$1:B1708,TRUE))","v":1026},{"$f":"IF(Worksheet!$D$10=2,FALSE,Worksheet!$D$16)","v":true},{"$f":"1000*F1708","v":9000},"ml","=",{"$f":"IF(Worksheet!$D$6=1,RANDBETWEEN(1,99),IF(Worksheet!$D$6=2,CHOOSE(RANDBETWEEN(1,2),RANDBETWEEN(1,99),RANDBETWEEN(1,999)/10),CHOOSE(RANDBETWEEN(1,4),RANDBETWEEN(1,99999)/1000,RANDBETWEEN(1,9999)/100,RANDBETWEEN(1,999)/10,RANDBETWEEN(1,99))))","v":9},"litres"]
[{"$f":"IF(COUNTIF($B$1:B1709,TRUE)=COUNTIF($B$1:B1708,TRUE),\"\",COUNTIF($B$1:B1709,TRUE))","v":""},{"$f":"IF(Worksheet!$D$10=2,FALSE,Worksheet!$D$17)","v":false},{"$f":"1000*F1709","v":29000},"cm³","=",{"$f":"IF(Worksheet!$D$6=1,RANDBETWEEN(1,99),IF(Worksheet!$D$6=2,CHOOSE(RANDBETWEEN(1,2),RANDBETWEEN(1,99),RANDBETWEEN(1,999)/10),CHOOSE(RANDBETWEEN(1,4),RANDBETWEEN(1,99999)/1000,RANDBETWEEN(1,9999)/100,RANDBETWEEN(1,999)/10,RANDBETWEEN(1,99))))","v":29},"litres"]
[{"$f":"IF(COUNTIF($B$1:B1710,TRUE)=COUNTIF($B$1:B1709,TRUE),\"\",COUNTIF($B$1:B1710,TRUE))","v":""},{"$f":"IF(Worksheet!$D$10=2,FALSE,Worksheet!$D$18)","v":false},{"$f":"10000*F1710","v":800000},"cm²","=",{"$f":"IF(Worksheet!$D$6=1,RANDBETWEEN(1,99),IF(Worksheet!$D$6=2,CHOOSE(RANDBETWEEN(1,2),RANDBETWEEN(1,99),RANDBETWEEN(1,999)/10),CHOOSE(RANDBETWEEN(1,4),RANDBETWEEN(1,99999)/1000,RANDBETWEEN(1,9999)/100,RANDBETWEEN(1,999)/10,RANDBETWEEN(1,99))))","v":80},"m²"]
[{"$f":"IF(COUNTIF($B$1:B1711,TRUE)=COUNTIF($B$1:B1710,TRUE),\"\",COUNTIF($B$1:B1711,TRUE))","v":1027},{"$f":"IF(Worksheet!$D$10=3,FALSE,Worksheet!$B$14)","v":true},{"$f":"IF(Worksheet!$D$6=1,RANDBETWEEN(1,99),IF(Worksheet!$D$6=2,CHOOSE(RANDBETWEEN(1,2),RANDBETWEEN(1,99),RANDBETWEEN(1,999)/10),CHOOSE(RANDBETWEEN(1,4),RANDBETWEEN(1,99999)/1000,RANDBETWEEN(1,9999)/100,RANDBETWEEN(1,999)/10,RANDBETWEEN(1,99))))","v":88},"cm","=",{"$f":"10*C1711","v":880},"mm"]
[{"$f":"IF(COUNTIF($B$1:B1712,TRUE)=COUNTIF($B$1:B1711,TRUE),\"\",COUNTIF($B$1:B1712,TRUE))","v":1028},{"$f":"IF(Worksheet!$D$10=3,FALSE,Worksheet!$B$15)","v":true},{"$f":"IF(Worksheet!$D$6=1,RANDBETWEEN(1,99),IF(Worksheet!$D$6=2,CHOOSE(RANDBETWEEN(1,2),RANDBETWEEN(1,99),RANDBETWEEN(1,999)/10),CHOOSE(RANDBETWEEN(1,4),RANDBETWEEN(1,99999)/1000,RANDBETWEEN(1,9999)/100,RANDBETWEEN(1,999)/10,RANDBETWEEN(1,99))))","v":25},"m","=",{"$f":"100*C1712","v":2500},"cm"]
[{"$f":"IF(COUNTIF($B$1:B1713,TRUE)=COUNTIF($B$1:B1712,TRUE),\"\",COUNTIF($B$1:B1713,TRUE))","v":1029},{"$f":"IF(Worksheet!$D$10=3,FALSE,Worksheet!$B$16)","v":true},{"$f":"IF(Worksheet!$D$6=1,RANDBETWEEN(1,99),IF(Worksheet!$D$6=2,CHOOSE(RANDBETWEEN(1,2),RANDBETWEEN(1,99),RANDBETWEEN(1,999)/10),CHOOSE(RANDBETWEEN(1,4),RANDBETWEEN(1,99999)/1000,RANDBETWEEN(1,9999)/100,RANDBETWEEN(1,999)/10,RANDBETWEEN(1,99))))","v":60},"km","=",{"$f":"1000*C1713","v":60000},"m"]
[{"$f":"IF(COUNTIF($B$1:B1714,TRUE)=COUNTIF($B$1:B1713,TRUE),\"\",COUNTIF($B$1:B1714,TRUE))","v":""},{"$f":"IF(Worksheet!$D$10=3,FALSE,Worksheet!$B$17)","v":false},{"$f":"IF(Worksheet!$D$6=1,RANDBETWEEN(1,99),IF(Worksheet!$D$6=2,CHOOSE(RANDBETWEEN(1,2),RANDBETWEEN(1,99),RANDBETWEEN(1,999)/10),CHOOSE(RANDBETWEEN(1,4),RANDBETWEEN(1,99999)/1000,RANDBETWEEN(1,9999)/100,RANDBETWEEN(1,999)/10,RANDBETWEEN(1,99))))","v":47},"m",{"$f":"#REF!","v":{"$error":"#REF!"}},{"$f":"1000*C1714","v":47000},"mm"]
[{"$f":"IF(COUNTIF($B$1:B1715,TRUE)=COUNTIF($B$1:B1714,TRUE),\"\",COUNTIF($B$1:B1715,TRUE))","v":""},{"$f":"IF(Worksheet!$D$10=3,FALSE,Worksheet!$B$18)","v":false},{"$f":"IF(Worksheet!$D$6=1,RANDBETWEEN(1,99),IF(Worksheet!$D$6=2,CHOOSE(RANDBETWEEN(1,2),RANDBETWEEN(1,99),RANDBETWEEN(1,999)/10),CHOOSE(RANDBETWEEN(1,4),RANDBETWEEN(1,99999)/1000,RANDBETWEEN(1,9999)/100,RANDBETWEEN(1,999)/10,RANDBETWEEN(1,99))))","v":78},"cm²","=",{"$f":"C1715*100","v":7800},"mm²"]
[{"$f":"IF(COUNTIF($B$1:B1716,TRUE)=COUNTIF($B$1:B1715,TRUE),\"\",COUNTIF($B$1:B1716,TRUE))","v":1030},{"$f":"IF(Worksheet!$D$10=3,FALSE,Worksheet!$D$14)","v":true},{"$f":"IF(Worksheet!$D$6=1,RANDBETWEEN(1,99),IF(Worksheet!$D$6=2,CHOOSE(RANDBETWEEN(1,2),RANDBETWEEN(1,99),RANDBETWEEN(1,999)/10),CHOOSE(RANDBETWEEN(1,4),RANDBETWEEN(1,99999)/1000,RANDBETWEEN(1,9999)/100,RANDBETWEEN(1,999)/10,RANDBETWEEN(1,99))))","v":17},"kg","=",{"$f":"1000*C1716","v":17000},"g"]
[{"$f":"IF(COUNTIF($B$1:B1717,TRUE)=COUNTIF($B$1:B1716,TRUE),\"\",COUNTIF($B$1:B1717,TRUE))","v":1031},{"$f":"IF(Worksheet!$D$10=3,FALSE,Worksheet!$D$15)","v":true},{"$f":"IF(Worksheet!$D$6=1,RANDBETWEEN(1,99),IF(Worksheet!$D$6=2,CHOOSE(RANDBETWEEN(1,2),RANDBETWEEN(1,99),RANDBETWEEN(1,999)/10),CHOOSE(RANDBETWEEN(1,4),RANDBETWEEN(1,99999)/1000,RANDBETWEEN(1,9999)/100,RANDBETWEEN(1,999)/10,RANDBETWEEN(1,99))))","v":20},"tonnes","=",{"$f":"1000*C1717","v":20000},"kg"]
[{"$f":"IF(COUNTIF($B$1:B1718,TRUE)=COUNTIF($B$1:B1717,TRUE),\"\",COUNTIF($B$1:B1718,TRUE))","v":1032},{"$f":"IF(Worksheet!$D$10=3,FALSE,Worksheet!$D$16)","v":true},{"$f":"IF(Worksheet!$D$6=1,RANDBETWEEN(1,99),IF(Worksheet!$D$6=2,CHOOSE(RANDBETWEEN(1,2),RANDBETWEEN(1,99),RANDBETWEEN(1,999)/10),CHOOSE(RANDBETWEEN(1,4),RANDBETWEEN(1,99999)/1000,RANDBETWEEN(1,9999)/100,RANDBETWEEN(1,999)/10,RANDBETWEEN(1,99))))","v":34},"litres","=",{"$f":"1000*C1718","v":34000},"ml"]
[{"$f":"IF(COUNTIF($B$1:B1719,TRUE)=COUNTIF($B$1:B1718,TRUE),\"\",COUNTIF($B$1:B1719,TRUE))","v":""},{"$f":"IF(Worksheet!$D$10=3,FALSE,Worksheet!$D$17)","v":false},{"$f":"IF(Worksheet!$D$6=1,RANDBETWEEN(1,99),IF(Worksheet!$D$6=2,CHOOSE(RANDBETWEEN(1,2),RANDBETWEEN(1,99),RANDBETWEEN(1,999)/10),CHOOSE(RANDBETWEEN(1,4),RANDBETWEEN(1,99999)/1000,RANDBETWEEN(1,9999)/100,RANDBETWEEN(1,999)/10,RANDBETWEEN(1,99))))","v":54},"litres","=",{"$f":"1000*C1719","v":54000},"cm³"]
[{"$f":"IF(COUNTIF($B$1:B1720,TRUE)=COUNTIF($B$1:B1719,TRUE),\"\",COUNTIF($B$1:B1720,TRUE))","v":""},{"$f":"IF(Worksheet!$D$10=3,FALSE,Worksheet!$D$18)","v":false},{"$f":"IF(Worksheet!$D$6=1,RANDBETWEEN(1,99),IF(Worksheet!$D$6=2,CHOOSE(RANDBETWEEN(1,2),RANDBETWEEN(1,99),RANDBETWEEN(1,999)/10),CHOOSE(RANDBETWEEN(1,4),RANDBETWEEN(1,99999)/1000,RANDBETWEEN(1,9999)/100,RANDBETWEEN(1,999)/10,RANDBETWEEN(1,99))))","v":56},"m²","=",{"$f":"10000*C1720","v":560000},"cm²"]
[{"$f":"IF(COUNTIF($B$1:B1721,TRUE)=COUNTIF($B$1:B1720,TRUE),\"\",COUNTIF($B$1:B1721,TRUE))","v":1033},{"$f":"IF(Worksheet!$D$10=2,FALSE,Worksheet!$B$14)","v":true},{"$f":"10*F1721","v":70},"mm","=",{"$f":"IF(Worksheet!$D$6=1,RANDBETWEEN(1,99),IF(Worksheet!$D$6=2,CHOOSE(RANDBETWEEN(1,2),RANDBETWEEN(1,99),RANDBETWEEN(1,999)/10),CHOOSE(RANDBETWEEN(1,4),RANDBETWEEN(1,99999)/1000,RANDBETWEEN(1,9999)/100,RANDBETWEEN(1,999)/10,RANDBETWEEN(1,99))))","v":7},"cm"]
[{"$f":"IF(COUNTIF($B$1:B1722,TRUE)=COUNTIF($B$1:B1721,TRUE),\"\",COUNTIF($B$1:B1722,TRUE))","v":1034},{"$f":"IF(Worksheet!$D$10=2,FALSE,Worksheet!$B$15)","v":true},{"$f":"100*F1722","v":7400},"cm","=",{"$f":"IF(Worksheet!$D$6=1,RANDBETWEEN(1,99),IF(Worksheet!$D$6=2,CHOOSE(RANDBETWEEN(1,2),RANDBETWEEN(1,99),RANDBETWEEN(1,999)/10),CHOOSE(RANDBETWEEN(1,4),RANDBETWEEN(1,99999)/1000,RANDBETWEEN(1,9999)/100,RANDBETWEEN(1,999)/10,RANDBETWEEN(1,99))))","v":74},"m"]
[{"$f":"IF(COUNTIF($B$1:B1723,TRUE)=COUNTIF($B$1:B1722,TRUE),\"\",COUNTIF($B$1:B1723,TRUE))","v":1035},{"$f":"IF(Worksheet!$D$10=2,FALSE,Worksheet!$B$16)","v":true},{"$f":"1000*F1723","v":71000},"m","=",{"$f":"IF(Worksheet!$D$6=1,RANDBETWEEN(1,99),IF(Worksheet!$D$6=2,CHOOSE(RANDBETWEEN(1,2),RANDBETWEEN(1,99),RANDBETWEEN(1,999)/10),CHOOSE(RANDBETWEEN(1,4),RANDBETWEEN(1,99999)/1000,RANDBETWEEN(1,9999)/100,RANDBETWEEN(1,999)/10,RANDBETWEEN(1,99))))","v":71},"km"]
[{"$f":"IF(COUNTIF($B$1:B1724,TRUE)=COUNTIF($B$1:B1723,TRUE),\"\",COUNTIF($B$1:B1724,TRUE))","v":""},{"$f":"IF(Worksheet!$D$10=2,FALSE,Worksheet!$B$17)","v":false},{"$f":"1000*F1724","v":2000},"mm","=",{"$f":"IF(Worksheet!$D$6=1,RANDBETWEEN(1,99),IF(Worksheet!$D$6=2,CHOOSE(RANDBETWEEN(1,2),RANDBETWEEN(1,99),RANDBETWEEN(1,999)/10),CHOOSE(RANDBETWEEN(1,4),RANDBETWEEN(1,99999)/1000,RANDBETWEEN(1,9999)/100,RANDBETWEEN(1,999)/10,RANDBETWEEN(1,99))))","v":2},"m"]
[{"$f":"IF(COUNTIF($B$1:B1725,TRUE)=COUNTIF($B$1:B1724,TRUE),\"\",COUNTIF($B$1:B1725,TRUE))","v":""},{"$f":"IF(Worksheet!$D$10=2,FALSE,Worksheet!$B$18)","v":false},{"$f":"100*F1725","v":1300},"mm²","=",{"$f":"IF(Worksheet!$D$6=1,RANDBETWEEN(1,99),IF(Worksheet!$D$6=2,CHOOSE(RANDBETWEEN(1,2),RANDBETWEEN(1,99),RANDBETWEEN(1,999)/10),CHOOSE(RANDBETWEEN(1,4),RANDBETWEEN(1,99999)/1000,RANDBETWEEN(1,9999)/100,RANDBETWEEN(1,999)/10,RANDBETWEEN(1,99))))","v":13},"cm²"]
[{"$f":"IF(COUNTIF($B$1:B1726,TRUE)=COUNTIF($B$1:B1725,TRUE),\"\",COUNTIF($B$1:B1726,TRUE))","v":1036},{"$f":"IF(Worksheet!$D$10=2,FALSE,Worksheet!$D$14)","v":true},{"$f":"F1726*1000","v":77000},"g","=",{"$f":"IF(Worksheet!$D$6=1,RANDBETWEEN(1,99),IF(Worksheet!$D$6=2,CHOOSE(RANDBETWEEN(1,2),RANDBETWEEN(1,99),RANDBETWEEN(1,999)/10),CHOOSE(RANDBETWEEN(1,4),RANDBETWEEN(1,99999)/1000,RANDBETWEEN(1,9999)/100,RANDBETWEEN(1,999)/10,RANDBETWEEN(1,99))))","v":77},"kg"]
[{"$f":"IF(COUNTIF($B$1:B1727,TRUE)=COUNTIF($B$1:B1726,TRUE),\"\",COUNTIF($B$1:B1727,TRUE))","v":1037},{"$f":"IF(Worksheet!$D$10=2,FALSE,Worksheet!$D$15)","v":true},{"$f":"F1727*1000","v":51000},"kg","=",{"$f":"IF(Worksheet!$D$6=1,RANDBETWEEN(1,99),IF(Worksheet!$D$6=2,CHOOSE(RANDBETWEEN(1,2),RANDBETWEEN(1,99),RANDBETWEEN(1,999)/10),CHOOSE(RANDBETWEEN(1,4),RANDBETWEEN(1,99999)/1000,RANDBETWEEN(1,9999)/100,RANDBETWEEN(1,999)/10,RANDBETWEEN(1,99))))","v":51},"tonnes"]
[{"$f":"IF(COUNTIF($B$1:B1728,TRUE)=COUNTIF($B$1:B1727,TRUE),\"\",COUNTIF($B$1:B1728,TRUE))","v":1038},{"$f":"IF(Worksheet!$D$10=2,FALSE,Worksheet!$D$16)","v":true},{"$f":"1000*F1728","v":91000},"ml","=",{"$f":"IF(Worksheet!$D$6=1,RANDBETWEEN(1,99),IF(Worksheet!$D$6=2,CHOOSE(RANDBETWEEN(1,2),RANDBETWEEN(1,99),RANDBETWEEN(1,999)/10),CHOOSE(RANDBETWEEN(1,4),RANDBETWEEN(1,99999)/1000,RANDBETWEEN(1,9999)/100,RANDBETWEEN(1,999)/10,RANDBETWEEN(1,99))))","v":91},"litres"]
[{"$f":"IF(COUNTIF($B$1:B1729,TRUE)=COUNTIF($B$1:B1728,TRUE),\"\",COUNTIF($B$1:B1729,TRUE))","v":""},{"$f":"IF(Worksheet!$D$10=2,FALSE,Worksheet!$D$17)","v":false},{"$f":"1000*F1729","v":91000},"cm³","=",{"$f":"IF(Worksheet!$D$6=1,RANDBETWEEN(1,99),IF(Worksheet!$D$6=2,CHOOSE(RANDBETWEEN(1,2),RANDBETWEEN(1,99),RANDBETWEEN(1,999)/10),CHOOSE(RANDBETWEEN(1,4),RANDBETWEEN(1,99999)/1000,RANDBETWEEN(1,9999)/100,RANDBETWEEN(1,999)/10,RANDBETWEEN(1,99))))","v":91},"litres"]
[{"$f":"IF(COUNTIF($B$1:B1730,TRUE)=COUNTIF($B$1:B1729,TRUE),\"\",COUNTIF($B$1:B1730,TRUE))","v":""},{"$f":"IF(Worksheet!$D$10=2,FALSE,Worksheet!$D$18)","v":false},{"$f":"10000*F1730","v":670000},"cm²","=",{"$f":"IF(Worksheet!$D$6=1,RANDBETWEEN(1,99),IF(Worksheet!$D$6=2,CHOOSE(RANDBETWEEN(1,2),RANDBETWEEN(1,99),RANDBETWEEN(1,999)/10),CHOOSE(RANDBETWEEN(1,4),RANDBETWEEN(1,99999)/1000,RANDBETWEEN(1,9999)/100,RANDBETWEEN(1,999)/10,RANDBETWEEN(1,99))))","v":67},"m²"]
[{"$f":"IF(COUNTIF($B$1:B1731,TRUE)=COUNTIF($B$1:B1730,TRUE),\"\",COUNTIF($B$1:B1731,TRUE))","v":1039},{"$f":"IF(Worksheet!$D$10=3,FALSE,Worksheet!$B$14)","v":true},{"$f":"IF(Worksheet!$D$6=1,RANDBETWEEN(1,99),IF(Worksheet!$D$6=2,CHOOSE(RANDBETWEEN(1,2),RANDBETWEEN(1,99),RANDBETWEEN(1,999)/10),CHOOSE(RANDBETWEEN(1,4),RANDBETWEEN(1,99999)/1000,RANDBETWEEN(1,9999)/100,RANDBETWEEN(1,999)/10,RANDBETWEEN(1,99))))","v":79},"cm","=",{"$f":"10*C1731","v":790},"mm"]
[{"$f":"IF(COUNTIF($B$1:B1732,TRUE)=COUNTIF($B$1:B1731,TRUE),\"\",COUNTIF($B$1:B1732,TRUE))","v":1040},{"$f":"IF(Worksheet!$D$10=3,FALSE,Worksheet!$B$15)","v":true},{"$f":"IF(Worksheet!$D$6=1,RANDBETWEEN(1,99),IF(Worksheet!$D$6=2,CHOOSE(RANDBETWEEN(1,2),RANDBETWEEN(1,99),RANDBETWEEN(1,999)/10),CHOOSE(RANDBETWEEN(1,4),RANDBETWEEN(1,99999)/1000,RANDBETWEEN(1,9999)/100,RANDBETWEEN(1,999)/10,RANDBETWEEN(1,99))))","v":57},"m","=",{"$f":"100*C1732","v":5700},"cm"]
[{"$f":"IF(COUNTIF($B$1:B1733,TRUE)=COUNTIF($B$1:B1732,TRUE),\"\",COUNTIF($B$1:B1733,TRUE))","v":1041},{"$f":"IF(Worksheet!$D$10=3,FALSE,Worksheet!$B$16)","v":true},{"$f":"IF(Worksheet!$D$6=1,RANDBETWEEN(1,99),IF(Worksheet!$D$6=2,CHOOSE(RANDBETWEEN(1,2),RANDBETWEEN(1,99),RANDBETWEEN(1,999)/10),CHOOSE(RANDBETWEEN(1,4),RANDBETWEEN(1,99999)/1000,RANDBETWEEN(1,9999)/100,RANDBETWEEN(1,999)/10,RANDBETWEEN(1,99))))","v":45},"km","=",{"$f":"1000*C1733","v":45000},"m"]
[{"$f":"IF(COUNTIF($B$1:B1734,TRUE)=COUNTIF($B$1:B1733,TRUE),\"\",COUNTIF($B$1:B1734,TRUE))","v":""},{"$f":"IF(Worksheet!$D$10=3,FALSE,Worksheet!$B$17)","v":false},{"$f":"IF(Worksheet!$D$6=1,RANDBETWEEN(1,99),IF(Worksheet!$D$6=2,CHOOSE(RANDBETWEEN(1,2),RANDBETWEEN(1,99),RANDBETWEEN(1,999)/10),CHOOSE(RANDBETWEEN(1,4),RANDBETWEEN(1,99999)/1000,RANDBETWEEN(1,9999)/100,RANDBETWEEN(1,999)/10,RANDBETWEEN(1,99))))","v":93},"m",{"$f":"#REF!","v":{"$error":"#REF!"}},{"$f":"1000*C1734","v":93000},"mm"]
[{"$f":"IF(COUNTIF($B$1:B1735,TRUE)=COUNTIF($B$1:B1734,TRUE),\"\",COUNTIF($B$1:B1735,TRUE))","v":""},{"$f":"IF(Worksheet!$D$10=3,FALSE,Worksheet!$B$18)","v":false},{"$f":"IF(Worksheet!$D$6=1,RANDBETWEEN(1,99),IF(Worksheet!$D$6=2,CHOOSE(RANDBETWEEN(1,2),RANDBETWEEN(1,99),RANDBETWEEN(1,999)/10),CHOOSE(RANDBETWEEN(1,4),RANDBETWEEN(1,99999)/1000,RANDBETWEEN(1,9999)/100,RANDBETWEEN(1,999)/10,RANDBETWEEN(1,99))))","v":81},"cm²","=",{"$f":"C1735*100","v":8100},"mm²"]
[{"$f":"IF(COUNTIF($B$1:B1736,TRUE)=COUNTIF($B$1:B1735,TRUE),\"\",COUNTIF($B$1:B1736,TRUE))","v":1042},{"$f":"IF(Worksheet!$D$10=3,FALSE,Worksheet!$D$14)","v":true},{"$f":"IF(Worksheet!$D$6=1,RANDBETWEEN(1,99),IF(Worksheet!$D$6=2,CHOOSE(RANDBETWEEN(1,2),RANDBETWEEN(1,99),RANDBETWEEN(1,999)/10),CHOOSE(RANDBETWEEN(1,4),RANDBETWEEN(1,99999)/1000,RANDBETWEEN(1,9999)/100,RANDBETWEEN(1,999)/10,RANDBETWEEN(1,99))))","v":88},"kg","=",{"$f":"1000*C1736","v":88000},"g"]
[{"$f":"IF(COUNTIF($B$1:B1737,TRUE)=COUNTIF($B$1:B1736,TRUE),\"\",COUNTIF($B$1:B1737,TRUE))","v":1043},{"$f":"IF(Worksheet!$D$10=3,FALSE,Worksheet!$D$15)","v":true},{"$f":"IF(Worksheet!$D$6=1,RANDBETWEEN(1,99),IF(Worksheet!$D$6=2,CHOOSE(RANDBETWEEN(1,2),RANDBETWEEN(1,99),RANDBETWEEN(1,999)/10),CHOOSE(RANDBETWEEN(1,4),RANDBETWEEN(1,99999)/1000,RANDBETWEEN(1,9999)/100,RANDBETWEEN(1,999)/10,RANDBETWEEN(1,99))))","v":76},"tonnes","=",{"$f":"1000*C1737","v":76000},"kg"]
[{"$f":"IF(COUNTIF($B$1:B1738,TRUE)=COUNTIF($B$1:B1737,TRUE),\"\",COUNTIF($B$1:B1738,TRUE))","v":1044},{"$f":"IF(Worksheet!$D$10=3,FALSE,Worksheet!$D$16)","v":true},{"$f":"IF(Worksheet!$D$6=1,RANDBETWEEN(1,99),IF(Worksheet!$D$6=2,CHOOSE(RANDBETWEEN(1,2),RANDBETWEEN(1,99),RANDBETWEEN(1,999)/10),CHOOSE(RANDBETWEEN(1,4),RANDBETWEEN(1,99999)/1000,RANDBETWEEN(1,9999)/100,RANDBETWEEN(1,999)/10,RANDBETWEEN(1,99))))","v":25},"litres","=",{"$f":"1000*C1738","v":25000},"ml"]
[{"$f":"IF(COUNTIF($B$1:B1739,TRUE)=COUNTIF($B$1:B1738,TRUE),\"\",COUNTIF($B$1:B1739,TRUE))","v":""},{"$f":"IF(Worksheet!$D$10=3,FALSE,Worksheet!$D$17)","v":false},{"$f":"IF(Worksheet!$D$6=1,RANDBETWEEN(1,99),IF(Worksheet!$D$6=2,CHOOSE(RANDBETWEEN(1,2),RANDBETWEEN(1,99),RANDBETWEEN(1,999)/10),CHOOSE(RANDBETWEEN(1,4),RANDBETWEEN(1,99999)/1000,RANDBETWEEN(1,9999)/100,RANDBETWEEN(1,999)/10,RANDBETWEEN(1,99))))","v":96},"litres","=",{"$f":"1000*C1739","v":96000},"cm³"]
[{"$f":"IF(COUNTIF($B$1:B1740,TRUE)=COUNTIF($B$1:B1739,TRUE),\"\",COUNTIF($B$1:B1740,TRUE))","v":""},{"$f":"IF(Worksheet!$D$10=3,FALSE,Worksheet!$D$18)","v":false},{"$f":"IF(Worksheet!$D$6=1,RANDBETWEEN(1,99),IF(Worksheet!$D$6=2,CHOOSE(RANDBETWEEN(1,2),RANDBETWEEN(1,99),RANDBETWEEN(1,999)/10),CHOOSE(RANDBETWEEN(1,4),RANDBETWEEN(1,99999)/1000,RANDBETWEEN(1,9999)/100,RANDBETWEEN(1,999)/10,RANDBETWEEN(1,99))))","v":85},"m²","=",{"$f":"10000*C1740","v":850000},"cm²"]
[{"$f":"IF(COUNTIF($B$1:B1741,TRUE)=COUNTIF($B$1:B1740,TRUE),\"\",COUNTIF($B$1:B1741,TRUE))","v":1045},{"$f":"IF(Worksheet!$D$10=2,FALSE,Worksheet!$B$14)","v":true},{"$f":"10*F1741","v":850},"mm","=",{"$f":"IF(Worksheet!$D$6=1,RANDBETWEEN(1,99),IF(Worksheet!$D$6=2,CHOOSE(RANDBETWEEN(1,2),RANDBETWEEN(1,99),RANDBETWEEN(1,999)/10),CHOOSE(RANDBETWEEN(1,4),RANDBETWEEN(1,99999)/1000,RANDBETWEEN(1,9999)/100,RANDBETWEEN(1,999)/10,RANDBETWEEN(1,99))))","v":85},"cm"]
[{"$f":"IF(COUNTIF($B$1:B1742,TRUE)=COUNTIF($B$1:B1741,TRUE),\"\",COUNTIF($B$1:B1742,TRUE))","v":1046},{"$f":"IF(Worksheet!$D$10=2,FALSE,Worksheet!$B$15)","v":true},{"$f":"100*F1742","v":1700},"cm","=",{"$f":"IF(Worksheet!$D$6=1,RANDBETWEEN(1,99),IF(Worksheet!$D$6=2,CHOOSE(RANDBETWEEN(1,2),RANDBETWEEN(1,99),RANDBETWEEN(1,999)/10),CHOOSE(RANDBETWEEN(1,4),RANDBETWEEN(1,99999)/1000,RANDBETWEEN(1,9999)/100,RANDBETWEEN(1,999)/10,RANDBETWEEN(1,99))))","v":17},"m"]
[{"$f":"IF(COUNTIF($B$1:B1743,TRUE)=COUNTIF($B$1:B1742,TRUE),\"\",COUNTIF($B$1:B1743,TRUE))","v":1047},{"$f":"IF(Worksheet!$D$10=2,FALSE,Worksheet!$B$16)","v":true},{"$f":"1000*F1743","v":93000},"m","=",{"$f":"IF(Worksheet!$D$6=1,RANDBETWEEN(1,99),IF(Worksheet!$D$6=2,CHOOSE(RANDBETWEEN(1,2),RANDBETWEEN(1,99),RANDBETWEEN(1,999)/10),CHOOSE(RANDBETWEEN(1,4),RANDBETWEEN(1,99999)/1000,RANDBETWEEN(1,9999)/100,RANDBETWEEN(1,999)/10,RANDBETWEEN(1,99))))","v":93},"km"]
[{"$f":"IF(COUNTIF($B$1:B1744,TRUE)=COUNTIF($B$1:B1743,TRUE),\"\",COUNTIF($B$1:B1744,TRUE))","v":""},{"$f":"IF(Worksheet!$D$10=2,FALSE,Worksheet!$B$17)","v":false},{"$f":"1000*F1744","v":39000},"mm","=",{"$f":"IF(Worksheet!$D$6=1,RANDBETWEEN(1,99),IF(Worksheet!$D$6=2,CHOOSE(RANDBETWEEN(1,2),RANDBETWEEN(1,99),RANDBETWEEN(1,999)/10),CHOOSE(RANDBETWEEN(1,4),RANDBETWEEN(1,99999)/1000,RANDBETWEEN(1,9999)/100,RANDBETWEEN(1,999)/10,RANDBETWEEN(1,99))))","v":39},"m"]
[{"$f":"IF(COUNTIF($B$1:B1745,TRUE)=COUNTIF($B$1:B1744,TRUE),\"\",COUNTIF($B$1:B1745,TRUE))","v":""},{"$f":"IF(Worksheet!$D$10=2,FALSE,Worksheet!$B$18)","v":false},{"$f":"100*F1745","v":700},"mm²","=",{"$f":"IF(Worksheet!$D$6=1,RANDBETWEEN(1,99),IF(Worksheet!$D$6=2,CHOOSE(RANDBETWEEN(1,2),RANDBETWEEN(1,99),RANDBETWEEN(1,999)/10),CHOOSE(RANDBETWEEN(1,4),RANDBETWEEN(1,99999)/1000,RANDBETWEEN(1,9999)/100,RANDBETWEEN(1,999)/10,RANDBETWEEN(1,99))))","v":7},"cm²"]
[{"$f":"IF(COUNTIF($B$1:B1746,TRUE)=COUNTIF($B$1:B1745,TRUE),\"\",COUNTIF($B$1:B1746,TRUE))","v":1048},{"$f":"IF(Worksheet!$D$10=2,FALSE,Worksheet!$D$14)","v":true},{"$f":"F1746*1000","v":97000},"g","=",{"$f":"IF(Worksheet!$D$6=1,RANDBETWEEN(1,99),IF(Worksheet!$D$6=2,CHOOSE(RANDBETWEEN(1,2),RANDBETWEEN(1,99),RANDBETWEEN(1,999)/10),CHOOSE(RANDBETWEEN(1,4),RANDBETWEEN(1,99999)/1000,RANDBETWEEN(1,9999)/100,RANDBETWEEN(1,999)/10,RANDBETWEEN(1,99))))","v":97},"kg"]
[{"$f":"IF(COUNTIF($B$1:B1747,TRUE)=COUNTIF($B$1:B1746,TRUE),\"\",COUNTIF($B$1:B1747,TRUE))","v":1049},{"$f":"IF(Worksheet!$D$10=2,FALSE,Worksheet!$D$15)","v":true},{"$f":"F1747*1000","v":89000},"kg","=",{"$f":"IF(Worksheet!$D$6=1,RANDBETWEEN(1,99),IF(Worksheet!$D$6=2,CHOOSE(RANDBETWEEN(1,2),RANDBETWEEN(1,99),RANDBETWEEN(1,999)/10),CHOOSE(RANDBETWEEN(1,4),RANDBETWEEN(1,99999)/1000,RANDBETWEEN(1,9999)/100,RANDBETWEEN(1,999)/10,RANDBETWEEN(1,99))))","v":89},"tonnes"]
[{"$f":"IF(COUNTIF($B$1:B1748,TRUE)=COUNTIF($B$1:B1747,TRUE),\"\",COUNTIF($B$1:B1748,TRUE))","v":1050},{"$f":"IF(Worksheet!$D$10=2,FALSE,Worksheet!$D$16)","v":true},{"$f":"1000*F1748","v":82000},"ml","=",{"$f":"IF(Worksheet!$D$6=1,RANDBETWEEN(1,99),IF(Worksheet!$D$6=2,CHOOSE(RANDBETWEEN(1,2),RANDBETWEEN(1,99),RANDBETWEEN(1,999)/10),CHOOSE(RANDBETWEEN(1,4),RANDBETWEEN(1,99999)/1000,RANDBETWEEN(1,9999)/100,RANDBETWEEN(1,999)/10,RANDBETWEEN(1,99))))","v":82},"litres"]
[{"$f":"IF(COUNTIF($B$1:B1749,TRUE)=COUNTIF($B$1:B1748,TRUE),\"\",COUNTIF($B$1:B1749,TRUE))","v":""},{"$f":"IF(Worksheet!$D$10=2,FALSE,Worksheet!$D$17)","v":false},{"$f":"1000*F1749","v":34000},"cm³","=",{"$f":"IF(Worksheet!$D$6=1,RANDBETWEEN(1,99),IF(Worksheet!$D$6=2,CHOOSE(RANDBETWEEN(1,2),RANDBETWEEN(1,99),RANDBETWEEN(1,999)/10),CHOOSE(RANDBETWEEN(1,4),RANDBETWEEN(1,99999)/1000,RANDBETWEEN(1,9999)/100,RANDBETWEEN(1,999)/10,RANDBETWEEN(1,99))))","v":34},"litres"]
[{"$f":"IF(COUNTIF($B$1:B1750,TRUE)=COUNTIF($B$1:B1749,TRUE),\"\",COUNTIF($B$1:B1750,TRUE))","v":""},{"$f":"IF(Worksheet!$D$10=2,FALSE,Worksheet!$D$18)","v":false},{"$f":"10000*F1750","v":990000},"cm²","=",{"$f":"IF(Worksheet!$D$6=1,RANDBETWEEN(1,99),IF(Worksheet!$D$6=2,CHOOSE(RANDBETWEEN(1,2),RANDBETWEEN(1,99),RANDBETWEEN(1,999)/10),CHOOSE(RANDBETWEEN(1,4),RANDBETWEEN(1,99999)/1000,RANDBETWEEN(1,9999)/100,RANDBETWEEN(1,999)/10,RANDBETWEEN(1,99))))","v":99},"m²"]
[{"$f":"IF(COUNTIF($B$1:B1751,TRUE)=COUNTIF($B$1:B1750,TRUE),\"\",COUNTIF($B$1:B1751,TRUE))","v":1051},{"$f":"IF(Worksheet!$D$10=3,FALSE,Worksheet!$B$14)","v":true},{"$f":"IF(Worksheet!$D$6=1,RANDBETWEEN(1,99),IF(Worksheet!$D$6=2,CHOOSE(RANDBETWEEN(1,2),RANDBETWEEN(1,99),RANDBETWEEN(1,999)/10),CHOOSE(RANDBETWEEN(1,4),RANDBETWEEN(1,99999)/1000,RANDBETWEEN(1,9999)/100,RANDBETWEEN(1,999)/10,RANDBETWEEN(1,99))))","v":56},"cm","=",{"$f":"10*C1751","v":560},"mm"]
[{"$f":"IF(COUNTIF($B$1:B1752,TRUE)=COUNTIF($B$1:B1751,TRUE),\"\",COUNTIF($B$1:B1752,TRUE))","v":1052},{"$f":"IF(Worksheet!$D$10=3,FALSE,Worksheet!$B$15)","v":true},{"$f":"IF(Worksheet!$D$6=1,RANDBETWEEN(1,99),IF(Worksheet!$D$6=2,CHOOSE(RANDBETWEEN(1,2),RANDBETWEEN(1,99),RANDBETWEEN(1,999)/10),CHOOSE(RANDBETWEEN(1,4),RANDBETWEEN(1,99999)/1000,RANDBETWEEN(1,9999)/100,RANDBETWEEN(1,999)/10,RANDBETWEEN(1,99))))","v":87},"m","=",{"$f":"100*C1752","v":8700},"cm"]
[{"$f":"IF(COUNTIF($B$1:B1753,TRUE)=COUNTIF($B$1:B1752,TRUE),\"\",COUNTIF($B$1:B1753,TRUE))","v":1053},{"$f":"IF(Worksheet!$D$10=3,FALSE,Worksheet!$B$16)","v":true},{"$f":"IF(Worksheet!$D$6=1,RANDBETWEEN(1,99),IF(Worksheet!$D$6=2,CHOOSE(RANDBETWEEN(1,2),RANDBETWEEN(1,99),RANDBETWEEN(1,999)/10),CHOOSE(RANDBETWEEN(1,4),RANDBETWEEN(1,99999)/1000,RANDBETWEEN(1,9999)/100,RANDBETWEEN(1,999)/10,RANDBETWEEN(1,99))))","v":51},"km","=",{"$f":"1000*C1753","v":51000},"m"]
[{"$f":"IF(COUNTIF($B$1:B1754,TRUE)=COUNTIF($B$1:B1753,TRUE),\"\",COUNTIF($B$1:B1754,TRUE))","v":""},{"$f":"IF(Worksheet!$D$10=3,FALSE,Worksheet!$B$17)","v":false},{"$f":"IF(Worksheet!$D$6=1,RANDBETWEEN(1,99),IF(Worksheet!$D$6=2,CHOOSE(RANDBETWEEN(1,2),RANDBETWEEN(1,99),RANDBETWEEN(1,999)/10),CHOOSE(RANDBETWEEN(1,4),RANDBETWEEN(1,99999)/1000,RANDBETWEEN(1,9999)/100,RANDBETWEEN(1,999)/10,RANDBETWEEN(1,99))))","v":64},"m",{"$f":"#REF!","v":{"$error":"#REF!"}},{"$f":"1000*C1754","v":64000},"mm"]
[{"$f":"IF(COUNTIF($B$1:B1755,TRUE)=COUNTIF($B$1:B1754,TRUE),\"\",COUNTIF($B$1:B1755,TRUE))","v":""},{"$f":"IF(Worksheet!$D$10=3,FALSE,Worksheet!$B$18)","v":false},{"$f":"IF(Worksheet!$D$6=1,RANDBETWEEN(1,99),IF(Worksheet!$D$6=2,CHOOSE(RANDBETWEEN(1,2),RANDBETWEEN(1,99),RANDBETWEEN(1,999)/10),CHOOSE(RANDBETWEEN(1,4),RANDBETWEEN(1,99999)/1000,RANDBETWEEN(1,9999)/100,RANDBETWEEN(1,999)/10,RANDBETWEEN(1,99))))","v":81},"cm²","=",{"$f":"C1755*100","v":8100},"mm²"]
[{"$f":"IF(COUNTIF($B$1:B1756,TRUE)=COUNTIF($B$1:B1755,TRUE),\"\",COUNTIF($B$1:B1756,TRUE))","v":1054},{"$f":"IF(Worksheet!$D$10=3,FALSE,Worksheet!$D$14)","v":true},{"$f":"IF(Worksheet!$D$6=1,RANDBETWEEN(1,99),IF(Worksheet!$D$6=2,CHOOSE(RANDBETWEEN(1,2),RANDBETWEEN(1,99),RANDBETWEEN(1,999)/10),CHOOSE(RANDBETWEEN(1,4),RANDBETWEEN(1,99999)/1000,RANDBETWEEN(1,9999)/100,RANDBETWEEN(1,999)/10,RANDBETWEEN(1,99))))","v":64},"kg","=",{"$f":"1000*C1756","v":64000},"g"]
[{"$f":"IF(COUNTIF($B$1:B1757,TRUE)=COUNTIF($B$1:B1756,TRUE),\"\",COUNTIF($B$1:B1757,TRUE))","v":1055},{"$f":"IF(Worksheet!$D$10=3,FALSE,Worksheet!$D$15)","v":true},{"$f":"IF(Worksheet!$D$6=1,RANDBETWEEN(1,99),IF(Worksheet!$D$6=2,CHOOSE(RANDBETWEEN(1,2),RANDBETWEEN(1,99),RANDBETWEEN(1,999)/10),CHOOSE(RANDBETWEEN(1,4),RANDBETWEEN(1,99999)/1000,RANDBETWEEN(1,9999)/100,RANDBETWEEN(1,999)/10,RANDBETWEEN(1,99))))","v":79},"tonnes","=",{"$f":"1000*C1757","v":79000},"kg"]
[{"$f":"IF(COUNTIF($B$1:B1758,TRUE)=COUNTIF($B$1:B1757,TRUE),\"\",COUNTIF($B$1:B1758,TRUE))","v":1056},{"$f":"IF(Worksheet!$D$10=3,FALSE,Worksheet!$D$16)","v":true},{"$f":"IF(Worksheet!$D$6=1,RANDBETWEEN(1,99),IF(Worksheet!$D$6=2,CHOOSE(RANDBETWEEN(1,2),RANDBETWEEN(1,99),RANDBETWEEN(1,999)/10),CHOOSE(RANDBETWEEN(1,4),RANDBETWEEN(1,99999)/1000,RANDBETWEEN(1,9999)/100,RANDBETWEEN(1,999)/10,RANDBETWEEN(1,99))))","v":45},"litres","=",{"$f":"1000*C1758","v":45000},"ml"]
[{"$f":"IF(COUNTIF($B$1:B1759,TRUE)=COUNTIF($B$1:B1758,TRUE),\"\",COUNTIF($B$1:B1759,TRUE))","v":""},{"$f":"IF(Worksheet!$D$10=3,FALSE,Worksheet!$D$17)","v":false},{"$f":"IF(Worksheet!$D$6=1,RANDBETWEEN(1,99),IF(Worksheet!$D$6=2,CHOOSE(RANDBETWEEN(1,2),RANDBETWEEN(1,99),RANDBETWEEN(1,999)/10),CHOOSE(RANDBETWEEN(1,4),RANDBETWEEN(1,99999)/1000,RANDBETWEEN(1,9999)/100,RANDBETWEEN(1,999)/10,RANDBETWEEN(1,99))))","v":13},"litres","=",{"$f":"1000*C1759","v":13000},"cm³"]
[{"$f":"IF(COUNTIF($B$1:B1760,TRUE)=COUNTIF($B$1:B1759,TRUE),\"\",COUNTIF($B$1:B1760,TRUE))","v":""},{"$f":"IF(Worksheet!$D$10=3,FALSE,Worksheet!$D$18)","v":false},{"$f":"IF(Worksheet!$D$6=1,RANDBETWEEN(1,99),IF(Worksheet!$D$6=2,CHOOSE(RANDBETWEEN(1,2),RANDBETWEEN(1,99),RANDBETWEEN(1,999)/10),CHOOSE(RANDBETWEEN(1,4),RANDBETWEEN(1,99999)/1000,RANDBETWEEN(1,9999)/100,RANDBETWEEN(1,999)/10,RANDBETWEEN(1,99))))","v":73},"m²","=",{"$f":"10000*C1760","v":730000},"cm²"]
[{"$f":"IF(COUNTIF($B$1:B1761,TRUE)=COUNTIF($B$1:B1760,TRUE),\"\",COUNTIF($B$1:B1761,TRUE))","v":1057},{"$f":"IF(Worksheet!$D$10=2,FALSE,Worksheet!$B$14)","v":true},{"$f":"10*F1761","v":100},"mm","=",{"$f":"IF(Worksheet!$D$6=1,RANDBETWEEN(1,99),IF(Worksheet!$D$6=2,CHOOSE(RANDBETWEEN(1,2),RANDBETWEEN(1,99),RANDBETWEEN(1,999)/10),CHOOSE(RANDBETWEEN(1,4),RANDBETWEEN(1,99999)/1000,RANDBETWEEN(1,9999)/100,RANDBETWEEN(1,999)/10,RANDBETWEEN(1,99))))","v":10},"cm"]
[{"$f":"IF(COUNTIF($B$1:B1762,TRUE)=COUNTIF($B$1:B1761,TRUE),\"\",COUNTIF($B$1:B1762,TRUE))","v":1058},{"$f":"IF(Worksheet!$D$10=2,FALSE,Worksheet!$B$15)","v":true},{"$f":"100*F1762","v":5100},"cm","=",{"$f":"IF(Worksheet!$D$6=1,RANDBETWEEN(1,99),IF(Worksheet!$D$6=2,CHOOSE(RANDBETWEEN(1,2),RANDBETWEEN(1,99),RANDBETWEEN(1,999)/10),CHOOSE(RANDBETWEEN(1,4),RANDBETWEEN(1,99999)/1000,RANDBETWEEN(1,9999)/100,RANDBETWEEN(1,999)/10,RANDBETWEEN(1,99))))","v":51},"m"]
[{"$f":"IF(COUNTIF($B$1:B1763,TRUE)=COUNTIF($B$1:B1762,TRUE),\"\",COUNTIF($B$1:B1763,TRUE))","v":1059},{"$f":"IF(Worksheet!$D$10=2,FALSE,Worksheet!$B$16)","v":true},{"$f":"1000*F1763","v":13000},"m","=",{"$f":"IF(Worksheet!$D$6=1,RANDBETWEEN(1,99),IF(Worksheet!$D$6=2,CHOOSE(RANDBETWEEN(1,2),RANDBETWEEN(1,99),RANDBETWEEN(1,999)/10),CHOOSE(RANDBETWEEN(1,4),RANDBETWEEN(1,99999)/1000,RANDBETWEEN(1,9999)/100,RANDBETWEEN(1,999)/10,RANDBETWEEN(1,99))))","v":13},"km"]
[{"$f":"IF(COUNTIF($B$1:B1764,TRUE)=COUNTIF($B$1:B1763,TRUE),\"\",COUNTIF($B$1:B1764,TRUE))","v":""},{"$f":"IF(Worksheet!$D$10=2,FALSE,Worksheet!$B$17)","v":false},{"$f":"1000*F1764","v":10000},"mm","=",{"$f":"IF(Worksheet!$D$6=1,RANDBETWEEN(1,99),IF(Worksheet!$D$6=2,CHOOSE(RANDBETWEEN(1,2),RANDBETWEEN(1,99),RANDBETWEEN(1,999)/10),CHOOSE(RANDBETWEEN(1,4),RANDBETWEEN(1,99999)/1000,RANDBETWEEN(1,9999)/100,RANDBETWEEN(1,999)/10,RANDBETWEEN(1,99))))","v":10},"m"]
[{"$f":"IF(COUNTIF($B$1:B1765,TRUE)=COUNTIF($B$1:B1764,TRUE),\"\",COUNTIF($B$1:B1765,TRUE))","v":""},{"$f":"IF(Worksheet!$D$10=2,FALSE,Worksheet!$B$18)","v":false},{"$f":"100*F1765","v":4500},"mm²","=",{"$f":"IF(Worksheet!$D$6=1,RANDBETWEEN(1,99),IF(Worksheet!$D$6=2,CHOOSE(RANDBETWEEN(1,2),RANDBETWEEN(1,99),RANDBETWEEN(1,999)/10),CHOOSE(RANDBETWEEN(1,4),RANDBETWEEN(1,99999)/1000,RANDBETWEEN(1,9999)/100,RANDBETWEEN(1,999)/10,RANDBETWEEN(1,99))))","v":45},"cm²"]
[{"$f":"IF(COUNTIF($B$1:B1766,TRUE)=COUNTIF($B$1:B1765,TRUE),\"\",COUNTIF($B$1:B1766,TRUE))","v":1060},{"$f":"IF(Worksheet!$D$10=2,FALSE,Worksheet!$D$14)","v":true},{"$f":"F1766*1000","v":72000},"g","=",{"$f":"IF(Worksheet!$D$6=1,RANDBETWEEN(1,99),IF(Worksheet!$D$6=2,CHOOSE(RANDBETWEEN(1,2),RANDBETWEEN(1,99),RANDBETWEEN(1,999)/10),CHOOSE(RANDBETWEEN(1,4),RANDBETWEEN(1,99999)/1000,RANDBETWEEN(1,9999)/100,RANDBETWEEN(1,999)/10,RANDBETWEEN(1,99))))","v":72},"kg"]
[{"$f":"IF(COUNTIF($B$1:B1767,TRUE)=COUNTIF($B$1:B1766,TRUE),\"\",COUNTIF($B$1:B1767,TRUE))","v":1061},{"$f":"IF(Worksheet!$D$10=2,FALSE,Worksheet!$D$15)","v":true},{"$f":"F1767*1000","v":31000},"kg","=",{"$f":"IF(Worksheet!$D$6=1,RANDBETWEEN(1,99),IF(Worksheet!$D$6=2,CHOOSE(RANDBETWEEN(1,2),RANDBETWEEN(1,99),RANDBETWEEN(1,999)/10),CHOOSE(RANDBETWEEN(1,4),RANDBETWEEN(1,99999)/1000,RANDBETWEEN(1,9999)/100,RANDBETWEEN(1,999)/10,RANDBETWEEN(1,99))))","v":31},"tonnes"]
[{"$f":"IF(COUNTIF($B$1:B1768,TRUE)=COUNTIF($B$1:B1767,TRUE),\"\",COUNTIF($B$1:B1768,TRUE))","v":1062},{"$f":"IF(Worksheet!$D$10=2,FALSE,Worksheet!$D$16)","v":true},{"$f":"1000*F1768","v":94000},"ml","=",{"$f":"IF(Worksheet!$D$6=1,RANDBETWEEN(1,99),IF(Worksheet!$D$6=2,CHOOSE(RANDBETWEEN(1,2),RANDBETWEEN(1,99),RANDBETWEEN(1,999)/10),CHOOSE(RANDBETWEEN(1,4),RANDBETWEEN(1,99999)/1000,RANDBETWEEN(1,9999)/100,RANDBETWEEN(1,999)/10,RANDBETWEEN(1,99))))","v":94},"litres"]
[{"$f":"IF(COUNTIF($B$1:B1769,TRUE)=COUNTIF($B$1:B1768,TRUE),\"\",COUNTIF($B$1:B1769,TRUE))","v":""},{"$f":"IF(Worksheet!$D$10=2,FALSE,Worksheet!$D$17)","v":false},{"$f":"1000*F1769","v":69000},"cm³","=",{"$f":"IF(Worksheet!$D$6=1,RANDBETWEEN(1,99),IF(Worksheet!$D$6=2,CHOOSE(RANDBETWEEN(1,2),RANDBETWEEN(1,99),RANDBETWEEN(1,999)/10),CHOOSE(RANDBETWEEN(1,4),RANDBETWEEN(1,99999)/1000,RANDBETWEEN(1,9999)/100,RANDBETWEEN(1,999)/10,RANDBETWEEN(1,99))))","v":69},"litres"]
[{"$f":"IF(COUNTIF($B$1:B1770,TRUE)=COUNTIF($B$1:B1769,TRUE),\"\",COUNTIF($B$1:B1770,TRUE))","v":""},{"$f":"IF(Worksheet!$D$10=2,FALSE,Worksheet!$D$18)","v":false},{"$f":"10000*F1770","v":450000},"cm²","=",{"$f":"IF(Worksheet!$D$6=1,RANDBETWEEN(1,99),IF(Worksheet!$D$6=2,CHOOSE(RANDBETWEEN(1,2),RANDBETWEEN(1,99),RANDBETWEEN(1,999)/10),CHOOSE(RANDBETWEEN(1,4),RANDBETWEEN(1,99999)/1000,RANDBETWEEN(1,9999)/100,RANDBETWEEN(1,999)/10,RANDBETWEEN(1,99))))","v":45},"m²"]
[{"$f":"IF(COUNTIF($B$1:B1771,TRUE)=COUNTIF($B$1:B1770,TRUE),\"\",COUNTIF($B$1:B1771,TRUE))","v":1063},{"$f":"IF(Worksheet!$D$10=3,FALSE,Worksheet!$B$14)","v":true},{"$f":"IF(Worksheet!$D$6=1,RANDBETWEEN(1,99),IF(Worksheet!$D$6=2,CHOOSE(RANDBETWEEN(1,2),RANDBETWEEN(1,99),RANDBETWEEN(1,999)/10),CHOOSE(RANDBETWEEN(1,4),RANDBETWEEN(1,99999)/1000,RANDBETWEEN(1,9999)/100,RANDBETWEEN(1,999)/10,RANDBETWEEN(1,99))))","v":27},"cm","=",{"$f":"10*C1771","v":270},"mm"]
[{"$f":"IF(COUNTIF($B$1:B1772,TRUE)=COUNTIF($B$1:B1771,TRUE),\"\",COUNTIF($B$1:B1772,TRUE))","v":1064},{"$f":"IF(Worksheet!$D$10=3,FALSE,Worksheet!$B$15)","v":true},{"$f":"IF(Worksheet!$D$6=1,RANDBETWEEN(1,99),IF(Worksheet!$D$6=2,CHOOSE(RANDBETWEEN(1,2),RANDBETWEEN(1,99),RANDBETWEEN(1,999)/10),CHOOSE(RANDBETWEEN(1,4),RANDBETWEEN(1,99999)/1000,RANDBETWEEN(1,9999)/100,RANDBETWEEN(1,999)/10,RANDBETWEEN(1,99))))","v":87},"m","=",{"$f":"100*C1772","v":8700},"cm"]
[{"$f":"IF(COUNTIF($B$1:B1773,TRUE)=COUNTIF($B$1:B1772,TRUE),\"\",COUNTIF($B$1:B1773,TRUE))","v":1065},{"$f":"IF(Worksheet!$D$10=3,FALSE,Worksheet!$B$16)","v":true},{"$f":"IF(Worksheet!$D$6=1,RANDBETWEEN(1,99),IF(Worksheet!$D$6=2,CHOOSE(RANDBETWEEN(1,2),RANDBETWEEN(1,99),RANDBETWEEN(1,999)/10),CHOOSE(RANDBETWEEN(1,4),RANDBETWEEN(1,99999)/1000,RANDBETWEEN(1,9999)/100,RANDBETWEEN(1,999)/10,RANDBETWEEN(1,99))))","v":10},"km","=",{"$f":"1000*C1773","v":10000},"m"]
[{"$f":"IF(COUNTIF($B$1:B1774,TRUE)=COUNTIF($B$1:B1773,TRUE),\"\",COUNTIF($B$1:B1774,TRUE))","v":""},{"$f":"IF(Worksheet!$D$10=3,FALSE,Worksheet!$B$17)","v":false},{"$f":"IF(Worksheet!$D$6=1,RANDBETWEEN(1,99),IF(Worksheet!$D$6=2,CHOOSE(RANDBETWEEN(1,2),RANDBETWEEN(1,99),RANDBETWEEN(1,999)/10),CHOOSE(RANDBETWEEN(1,4),RANDBETWEEN(1,99999)/1000,RANDBETWEEN(1,9999)/100,RANDBETWEEN(1,999)/10,RANDBETWEEN(1,99))))","v":93},"m",{"$f":"#REF!","v":{"$error":"#REF!"}},{"$f":"1000*C1774","v":93000},"mm"]
[{"$f":"IF(COUNTIF($B$1:B1775,TRUE)=COUNTIF($B$1:B1774,TRUE),\"\",COUNTIF($B$1:B1775,TRUE))","v":""},{"$f":"IF(Worksheet!$D$10=3,FALSE,Worksheet!$B$18)","v":false},{"$f":"IF(Worksheet!$D$6=1,RANDBETWEEN(1,99),IF(Worksheet!$D$6=2,CHOOSE(RANDBETWEEN(1,2),RANDBETWEEN(1,99),RANDBETWEEN(1,999)/10),CHOOSE(RANDBETWEEN(1,4),RANDBETWEEN(1,99999)/1000,RANDBETWEEN(1,9999)/100,RANDBETWEEN(1,999)/10,RANDBETWEEN(1,99))))","v":88},"cm²","=",{"$f":"C1775*100","v":8800},"mm²"]
[{"$f":"IF(COUNTIF($B$1:B1776,TRUE)=COUNTIF($B$1:B1775,TRUE),\"\",COUNTIF($B$1:B1776,TRUE))","v":1066},{"$f":"IF(Worksheet!$D$10=3,FALSE,Worksheet!$D$14)","v":true},{"$f":"IF(Worksheet!$D$6=1,RANDBETWEEN(1,99),IF(Worksheet!$D$6=2,CHOOSE(RANDBETWEEN(1,2),RANDBETWEEN(1,99),RANDBETWEEN(1,999)/10),CHOOSE(RANDBETWEEN(1,4),RANDBETWEEN(1,99999)/1000,RANDBETWEEN(1,9999)/100,RANDBETWEEN(1,999)/10,RANDBETWEEN(1,99))))","v":25},"kg","=",{"$f":"1000*C1776","v":25000},"g"]
[{"$f":"IF(COUNTIF($B$1:B1777,TRUE)=COUNTIF($B$1:B1776,TRUE),\"\",COUNTIF($B$1:B1777,TRUE))","v":1067},{"$f":"IF(Worksheet!$D$10=3,FALSE,Worksheet!$D$15)","v":true},{"$f":"IF(Worksheet!$D$6=1,RANDBETWEEN(1,99),IF(Worksheet!$D$6=2,CHOOSE(RANDBETWEEN(1,2),RANDBETWEEN(1,99),RANDBETWEEN(1,999)/10),CHOOSE(RANDBETWEEN(1,4),RANDBETWEEN(1,99999)/1000,RANDBETWEEN(1,9999)/100,RANDBETWEEN(1,999)/10,RANDBETWEEN(1,99))))","v":58},"tonnes","=",{"$f":"1000*C1777","v":58000},"kg"]
[{"$f":"IF(COUNTIF($B$1:B1778,TRUE)=COUNTIF($B$1:B1777,TRUE),\"\",COUNTIF($B$1:B1778,TRUE))","v":1068},{"$f":"IF(Worksheet!$D$10=3,FALSE,Worksheet!$D$16)","v":true},{"$f":"IF(Worksheet!$D$6=1,RANDBETWEEN(1,99),IF(Worksheet!$D$6=2,CHOOSE(RANDBETWEEN(1,2),RANDBETWEEN(1,99),RANDBETWEEN(1,999)/10),CHOOSE(RANDBETWEEN(1,4),RANDBETWEEN(1,99999)/1000,RANDBETWEEN(1,9999)/100,RANDBETWEEN(1,999)/10,RANDBETWEEN(1,99))))","v":61},"litres","=",{"$f":"1000*C1778","v":61000},"ml"]
[{"$f":"IF(COUNTIF($B$1:B1779,TRUE)=COUNTIF($B$1:B1778,TRUE),\"\",COUNTIF($B$1:B1779,TRUE))","v":""},{"$f":"IF(Worksheet!$D$10=3,FALSE,Worksheet!$D$17)","v":false},{"$f":"IF(Worksheet!$D$6=1,RANDBETWEEN(1,99),IF(Worksheet!$D$6=2,CHOOSE(RANDBETWEEN(1,2),RANDBETWEEN(1,99),RANDBETWEEN(1,999)/10),CHOOSE(RANDBETWEEN(1,4),RANDBETWEEN(1,99999)/1000,RANDBETWEEN(1,9999)/100,RANDBETWEEN(1,999)/10,RANDBETWEEN(1,99))))","v":50},"litres","=",{"$f":"1000*C1779","v":50000},"cm³"]
[{"$f":"IF(COUNTIF($B$1:B1780,TRUE)=COUNTIF($B$1:B1779,TRUE),\"\",COUNTIF($B$1:B1780,TRUE))","v":""},{"$f":"IF(Worksheet!$D$10=3,FALSE,Worksheet!$D$18)","v":false},{"$f":"IF(Worksheet!$D$6=1,RANDBETWEEN(1,99),IF(Worksheet!$D$6=2,CHOOSE(RANDBETWEEN(1,2),RANDBETWEEN(1,99),RANDBETWEEN(1,999)/10),CHOOSE(RANDBETWEEN(1,4),RANDBETWEEN(1,99999)/1000,RANDBETWEEN(1,9999)/100,RANDBETWEEN(1,999)/10,RANDBETWEEN(1,99))))","v":29},"m²","=",{"$f":"10000*C1780","v":290000},"cm²"]
[{"$f":"IF(COUNTIF($B$1:B1781,TRUE)=COUNTIF($B$1:B1780,TRUE),\"\",COUNTIF($B$1:B1781,TRUE))","v":1069},{"$f":"IF(Worksheet!$D$10=2,FALSE,Worksheet!$B$14)","v":true},{"$f":"10*F1781","v":290},"mm","=",{"$f":"IF(Worksheet!$D$6=1,RANDBETWEEN(1,99),IF(Worksheet!$D$6=2,CHOOSE(RANDBETWEEN(1,2),RANDBETWEEN(1,99),RANDBETWEEN(1,999)/10),CHOOSE(RANDBETWEEN(1,4),RANDBETWEEN(1,99999)/1000,RANDBETWEEN(1,9999)/100,RANDBETWEEN(1,999)/10,RANDBETWEEN(1,99))))","v":29},"cm"]
[{"$f":"IF(COUNTIF($B$1:B1782,TRUE)=COUNTIF($B$1:B1781,TRUE),\"\",COUNTIF($B$1:B1782,TRUE))","v":1070},{"$f":"IF(Worksheet!$D$10=2,FALSE,Worksheet!$B$15)","v":true},{"$f":"100*F1782","v":200},"cm","=",{"$f":"IF(Worksheet!$D$6=1,RANDBETWEEN(1,99),IF(Worksheet!$D$6=2,CHOOSE(RANDBETWEEN(1,2),RANDBETWEEN(1,99),RANDBETWEEN(1,999)/10),CHOOSE(RANDBETWEEN(1,4),RANDBETWEEN(1,99999)/1000,RANDBETWEEN(1,9999)/100,RANDBETWEEN(1,999)/10,RANDBETWEEN(1,99))))","v":2},"m"]
[{"$f":"IF(COUNTIF($B$1:B1783,TRUE)=COUNTIF($B$1:B1782,TRUE),\"\",COUNTIF($B$1:B1783,TRUE))","v":1071},{"$f":"IF(Worksheet!$D$10=2,FALSE,Worksheet!$B$16)","v":true},{"$f":"1000*F1783","v":15000},"m","=",{"$f":"IF(Worksheet!$D$6=1,RANDBETWEEN(1,99),IF(Worksheet!$D$6=2,CHOOSE(RANDBETWEEN(1,2),RANDBETWEEN(1,99),RANDBETWEEN(1,999)/10),CHOOSE(RANDBETWEEN(1,4),RANDBETWEEN(1,99999)/1000,RANDBETWEEN(1,9999)/100,RANDBETWEEN(1,999)/10,RANDBETWEEN(1,99))))","v":15},"km"]
[{"$f":"IF(COUNTIF($B$1:B1784,TRUE)=COUNTIF($B$1:B1783,TRUE),\"\",COUNTIF($B$1:B1784,TRUE))","v":""},{"$f":"IF(Worksheet!$D$10=2,FALSE,Worksheet!$B$17)","v":false},{"$f":"1000*F1784","v":91000},"mm","=",{"$f":"IF(Worksheet!$D$6=1,RANDBETWEEN(1,99),IF(Worksheet!$D$6=2,CHOOSE(RANDBETWEEN(1,2),RANDBETWEEN(1,99),RANDBETWEEN(1,999)/10),CHOOSE(RANDBETWEEN(1,4),RANDBETWEEN(1,99999)/1000,RANDBETWEEN(1,9999)/100,RANDBETWEEN(1,999)/10,RANDBETWEEN(1,99))))","v":91},"m"]
[{"$f":"IF(COUNTIF($B$1:B1785,TRUE)=COUNTIF($B$1:B1784,TRUE),\"\",COUNTIF($B$1:B1785,TRUE))","v":""},{"$f":"IF(Worksheet!$D$10=2,FALSE,Worksheet!$B$18)","v":false},{"$f":"100*F1785","v":9100},"mm²","=",{"$f":"IF(Worksheet!$D$6=1,RANDBETWEEN(1,99),IF(Worksheet!$D$6=2,CHOOSE(RANDBETWEEN(1,2),RANDBETWEEN(1,99),RANDBETWEEN(1,999)/10),CHOOSE(RANDBETWEEN(1,4),RANDBETWEEN(1,99999)/1000,RANDBETWEEN(1,9999)/100,RANDBETWEEN(1,999)/10,RANDBETWEEN(1,99))))","v":91},"cm²"]
[{"$f":"IF(COUNTIF($B$1:B1786,TRUE)=COUNTIF($B$1:B1785,TRUE),\"\",COUNTIF($B$1:B1786,TRUE))","v":1072},{"$f":"IF(Worksheet!$D$10=2,FALSE,Worksheet!$D$14)","v":true},{"$f":"F1786*1000","v":61000},"g","=",{"$f":"IF(Worksheet!$D$6=1,RANDBETWEEN(1,99),IF(Worksheet!$D$6=2,CHOOSE(RANDBETWEEN(1,2),RANDBETWEEN(1,99),RANDBETWEEN(1,999)/10),CHOOSE(RANDBETWEEN(1,4),RANDBETWEEN(1,99999)/1000,RANDBETWEEN(1,9999)/100,RANDBETWEEN(1,999)/10,RANDBETWEEN(1,99))))","v":61},"kg"]
[{"$f":"IF(COUNTIF($B$1:B1787,TRUE)=COUNTIF($B$1:B1786,TRUE),\"\",COUNTIF($B$1:B1787,TRUE))","v":1073},{"$f":"IF(Worksheet!$D$10=2,FALSE,Worksheet!$D$15)","v":true},{"$f":"F1787*1000","v":17000},"kg","=",{"$f":"IF(Worksheet!$D$6=1,RANDBETWEEN(1,99),IF(Worksheet!$D$6=2,CHOOSE(RANDBETWEEN(1,2),RANDBETWEEN(1,99),RANDBETWEEN(1,999)/10),CHOOSE(RANDBETWEEN(1,4),RANDBETWEEN(1,99999)/1000,RANDBETWEEN(1,9999)/100,RANDBETWEEN(1,999)/10,RANDBETWEEN(1,99))))","v":17},"tonnes"]
[{"$f":"IF(COUNTIF($B$1:B1788,TRUE)=COUNTIF($B$1:B1787,TRUE),\"\",COUNTIF($B$1:B1788,TRUE))","v":1074},{"$f":"IF(Worksheet!$D$10=2,FALSE,Worksheet!$D$16)","v":true},{"$f":"1000*F1788","v":28000},"ml","=",{"$f":"IF(Worksheet!$D$6=1,RANDBETWEEN(1,99),IF(Worksheet!$D$6=2,CHOOSE(RANDBETWEEN(1,2),RANDBETWEEN(1,99),RANDBETWEEN(1,999)/10),CHOOSE(RANDBETWEEN(1,4),RANDBETWEEN(1,99999)/1000,RANDBETWEEN(1,9999)/100,RANDBETWEEN(1,999)/10,RANDBETWEEN(1,99))))","v":28},"litres"]
[{"$f":"IF(COUNTIF($B$1:B1789,TRUE)=COUNTIF($B$1:B1788,TRUE),\"\",COUNTIF($B$1:B1789,TRUE))","v":""},{"$f":"IF(Worksheet!$D$10=2,FALSE,Worksheet!$D$17)","v":false},{"$f":"1000*F1789","v":60000},"cm³","=",{"$f":"IF(Worksheet!$D$6=1,RANDBETWEEN(1,99),IF(Worksheet!$D$6=2,CHOOSE(RANDBETWEEN(1,2),RANDBETWEEN(1,99),RANDBETWEEN(1,999)/10),CHOOSE(RANDBETWEEN(1,4),RANDBETWEEN(1,99999)/1000,RANDBETWEEN(1,9999)/100,RANDBETWEEN(1,999)/10,RANDBETWEEN(1,99))))","v":60},"litres"]
[{"$f":"IF(COUNTIF($B$1:B1790,TRUE)=COUNTIF($B$1:B1789,TRUE),\"\",COUNTIF($B$1:B1790,TRUE))","v":""},{"$f":"IF(Worksheet!$D$10=2,FALSE,Worksheet!$D$18)","v":false},{"$f":"10000*F1790","v":440000},"cm²","=",{"$f":"IF(Worksheet!$D$6=1,RANDBETWEEN(1,99),IF(Worksheet!$D$6=2,CHOOSE(RANDBETWEEN(1,2),RANDBETWEEN(1,99),RANDBETWEEN(1,999)/10),CHOOSE(RANDBETWEEN(1,4),RANDBETWEEN(1,99999)/1000,RANDBETWEEN(1,9999)/100,RANDBETWEEN(1,999)/10,RANDBETWEEN(1,99))))","v":44},"m²"]
[{"$f":"IF(COUNTIF($B$1:B1791,TRUE)=COUNTIF($B$1:B1790,TRUE),\"\",COUNTIF($B$1:B1791,TRUE))","v":1075},{"$f":"IF(Worksheet!$D$10=3,FALSE,Worksheet!$B$14)","v":true},{"$f":"IF(Worksheet!$D$6=1,RANDBETWEEN(1,99),IF(Worksheet!$D$6=2,CHOOSE(RANDBETWEEN(1,2),RANDBETWEEN(1,99),RANDBETWEEN(1,999)/10),CHOOSE(RANDBETWEEN(1,4),RANDBETWEEN(1,99999)/1000,RANDBETWEEN(1,9999)/100,RANDBETWEEN(1,999)/10,RANDBETWEEN(1,99))))","v":10},"cm","=",{"$f":"10*C1791","v":100},"mm"]
[{"$f":"IF(COUNTIF($B$1:B1792,TRUE)=COUNTIF($B$1:B1791,TRUE),\"\",COUNTIF($B$1:B1792,TRUE))","v":1076},{"$f":"IF(Worksheet!$D$10=3,FALSE,Worksheet!$B$15)","v":true},{"$f":"IF(Worksheet!$D$6=1,RANDBETWEEN(1,99),IF(Worksheet!$D$6=2,CHOOSE(RANDBETWEEN(1,2),RANDBETWEEN(1,99),RANDBETWEEN(1,999)/10),CHOOSE(RANDBETWEEN(1,4),RANDBETWEEN(1,99999)/1000,RANDBETWEEN(1,9999)/100,RANDBETWEEN(1,999)/10,RANDBETWEEN(1,99))))","v":10},"m","=",{"$f":"100*C1792","v":1000},"cm"]
[{"$f":"IF(COUNTIF($B$1:B1793,TRUE)=COUNTIF($B$1:B1792,TRUE),\"\",COUNTIF($B$1:B1793,TRUE))","v":1077},{"$f":"IF(Worksheet!$D$10=3,FALSE,Worksheet!$B$16)","v":true},{"$f":"IF(Worksheet!$D$6=1,RANDBETWEEN(1,99),IF(Worksheet!$D$6=2,CHOOSE(RANDBETWEEN(1,2),RANDBETWEEN(1,99),RANDBETWEEN(1,999)/10),CHOOSE(RANDBETWEEN(1,4),RANDBETWEEN(1,99999)/1000,RANDBETWEEN(1,9999)/100,RANDBETWEEN(1,999)/10,RANDBETWEEN(1,99))))","v":84},"km","=",{"$f":"1000*C1793","v":84000},"m"]
[{"$f":"IF(COUNTIF($B$1:B1794,TRUE)=COUNTIF($B$1:B1793,TRUE),\"\",COUNTIF($B$1:B1794,TRUE))","v":""},{"$f":"IF(Worksheet!$D$10=3,FALSE,Worksheet!$B$17)","v":false},{"$f":"IF(Worksheet!$D$6=1,RANDBETWEEN(1,99),IF(Worksheet!$D$6=2,CHOOSE(RANDBETWEEN(1,2),RANDBETWEEN(1,99),RANDBETWEEN(1,999)/10),CHOOSE(RANDBETWEEN(1,4),RANDBETWEEN(1,99999)/1000,RANDBETWEEN(1,9999)/100,RANDBETWEEN(1,999)/10,RANDBETWEEN(1,99))))","v":67},"m",{"$f":"#REF!","v":{"$error":"#REF!"}},{"$f":"1000*C1794","v":67000},"mm"]
[{"$f":"IF(COUNTIF($B$1:B1795,TRUE)=COUNTIF($B$1:B1794,TRUE),\"\",COUNTIF($B$1:B1795,TRUE))","v":""},{"$f":"IF(Worksheet!$D$10=3,FALSE,Worksheet!$B$18)","v":false},{"$f":"IF(Worksheet!$D$6=1,RANDBETWEEN(1,99),IF(Worksheet!$D$6=2,CHOOSE(RANDBETWEEN(1,2),RANDBETWEEN(1,99),RANDBETWEEN(1,999)/10),CHOOSE(RANDBETWEEN(1,4),RANDBETWEEN(1,99999)/1000,RANDBETWEEN(1,9999)/100,RANDBETWEEN(1,999)/10,RANDBETWEEN(1,99))))","v":68},"cm²","=",{"$f":"C1795*100","v":6800},"mm²"]
[{"$f":"IF(COUNTIF($B$1:B1796,TRUE)=COUNTIF($B$1:B1795,TRUE),\"\",COUNTIF($B$1:B1796,TRUE))","v":1078},{"$f":"IF(Worksheet!$D$10=3,FALSE,Worksheet!$D$14)","v":true},{"$f":"IF(Worksheet!$D$6=1,RANDBETWEEN(1,99),IF(Worksheet!$D$6=2,CHOOSE(RANDBETWEEN(1,2),RANDBETWEEN(1,99),RANDBETWEEN(1,999)/10),CHOOSE(RANDBETWEEN(1,4),RANDBETWEEN(1,99999)/1000,RANDBETWEEN(1,9999)/100,RANDBETWEEN(1,999)/10,RANDBETWEEN(1,99))))","v":23},"kg","=",{"$f":"1000*C1796","v":23000},"g"]
[{"$f":"IF(COUNTIF($B$1:B1797,TRUE)=COUNTIF($B$1:B1796,TRUE),\"\",COUNTIF($B$1:B1797,TRUE))","v":1079},{"$f":"IF(Worksheet!$D$10=3,FALSE,Worksheet!$D$15)","v":true},{"$f":"IF(Worksheet!$D$6=1,RANDBETWEEN(1,99),IF(Worksheet!$D$6=2,CHOOSE(RANDBETWEEN(1,2),RANDBETWEEN(1,99),RANDBETWEEN(1,999)/10),CHOOSE(RANDBETWEEN(1,4),RANDBETWEEN(1,99999)/1000,RANDBETWEEN(1,9999)/100,RANDBETWEEN(1,999)/10,RANDBETWEEN(1,99))))","v":80},"tonnes","=",{"$f":"1000*C1797","v":80000},"kg"]
[{"$f":"IF(COUNTIF($B$1:B1798,TRUE)=COUNTIF($B$1:B1797,TRUE),\"\",COUNTIF($B$1:B1798,TRUE))","v":1080},{"$f":"IF(Worksheet!$D$10=3,FALSE,Worksheet!$D$16)","v":true},{"$f":"IF(Worksheet!$D$6=1,RANDBETWEEN(1,99),IF(Worksheet!$D$6=2,CHOOSE(RANDBETWEEN(1,2),RANDBETWEEN(1,99),RANDBETWEEN(1,999)/10),CHOOSE(RANDBETWEEN(1,4),RANDBETWEEN(1,99999)/1000,RANDBETWEEN(1,9999)/100,RANDBETWEEN(1,999)/10,RANDBETWEEN(1,99))))","v":71},"litres","=",{"$f":"1000*C1798","v":71000},"ml"]
[{"$f":"IF(COUNTIF($B$1:B1799,TRUE)=COUNTIF($B$1:B1798,TRUE),\"\",COUNTIF($B$1:B1799,TRUE))","v":""},{"$f":"IF(Worksheet!$D$10=3,FALSE,Worksheet!$D$17)","v":false},{"$f":"IF(Worksheet!$D$6=1,RANDBETWEEN(1,99),IF(Worksheet!$D$6=2,CHOOSE(RANDBETWEEN(1,2),RANDBETWEEN(1,99),RANDBETWEEN(1,999)/10),CHOOSE(RANDBETWEEN(1,4),RANDBETWEEN(1,99999)/1000,RANDBETWEEN(1,9999)/100,RANDBETWEEN(1,999)/10,RANDBETWEEN(1,99))))","v":68},"litres","=",{"$f":"1000*C1799","v":68000},"cm³"]
[{"$f":"IF(COUNTIF($B$1:B1800,TRUE)=COUNTIF($B$1:B1799,TRUE),\"\",COUNTIF($B$1:B1800,TRUE))","v":""},{"$f":"IF(Worksheet!$D$10=3,FALSE,Worksheet!$D$18)","v":false},{"$f":"IF(Worksheet!$D$6=1,RANDBETWEEN(1,99),IF(Worksheet!$D$6=2,CHOOSE(RANDBETWEEN(1,2),RANDBETWEEN(1,99),RANDBETWEEN(1,999)/10),CHOOSE(RANDBETWEEN(1,4),RANDBETWEEN(1,99999)/1000,RANDBETWEEN(1,9999)/100,RANDBETWEEN(1,999)/10,RANDBETWEEN(1,99))))","v":29},"m²","=",{"$f":"10000*C1800","v":290000},"cm²"]
[{"$f":"IF(COUNTIF($B$1:B1801,TRUE)=COUNTIF($B$1:B1800,TRUE),\"\",COUNTIF($B$1:B1801,TRUE))","v":1081},{"$f":"IF(Worksheet!$D$10=2,FALSE,Worksheet!$B$14)","v":true},{"$f":"10*F1801","v":950},"mm","=",{"$f":"IF(Worksheet!$D$6=1,RANDBETWEEN(1,99),IF(Worksheet!$D$6=2,CHOOSE(RANDBETWEEN(1,2),RANDBETWEEN(1,99),RANDBETWEEN(1,999)/10),CHOOSE(RANDBETWEEN(1,4),RANDBETWEEN(1,99999)/1000,RANDBETWEEN(1,9999)/100,RANDBETWEEN(1,999)/10,RANDBETWEEN(1,99))))","v":95},"cm"]
[{"$f":"IF(COUNTIF($B$1:B1802,TRUE)=COUNTIF($B$1:B1801,TRUE),\"\",COUNTIF($B$1:B1802,TRUE))","v":1082},{"$f":"IF(Worksheet!$D$10=2,FALSE,Worksheet!$B$15)","v":true},{"$f":"100*F1802","v":4900},"cm","=",{"$f":"IF(Worksheet!$D$6=1,RANDBETWEEN(1,99),IF(Worksheet!$D$6=2,CHOOSE(RANDBETWEEN(1,2),RANDBETWEEN(1,99),RANDBETWEEN(1,999)/10),CHOOSE(RANDBETWEEN(1,4),RANDBETWEEN(1,99999)/1000,RANDBETWEEN(1,9999)/100,RANDBETWEEN(1,999)/10,RANDBETWEEN(1,99))))","v":49},"m"]
[{"$f":"IF(COUNTIF($B$1:B1803,TRUE)=COUNTIF($B$1:B1802,TRUE),\"\",COUNTIF($B$1:B1803,TRUE))","v":1083},{"$f":"IF(Worksheet!$D$10=2,FALSE,Worksheet!$B$16)","v":true},{"$f":"1000*F1803","v":66000},"m","=",{"$f":"IF(Worksheet!$D$6=1,RANDBETWEEN(1,99),IF(Worksheet!$D$6=2,CHOOSE(RANDBETWEEN(1,2),RANDBETWEEN(1,99),RANDBETWEEN(1,999)/10),CHOOSE(RANDBETWEEN(1,4),RANDBETWEEN(1,99999)/1000,RANDBETWEEN(1,9999)/100,RANDBETWEEN(1,999)/10,RANDBETWEEN(1,99))))","v":66},"km"]
[{"$f":"IF(COUNTIF($B$1:B1804,TRUE)=COUNTIF($B$1:B1803,TRUE),\"\",COUNTIF($B$1:B1804,TRUE))","v":""},{"$f":"IF(Worksheet!$D$10=2,FALSE,Worksheet!$B$17)","v":false},{"$f":"1000*F1804","v":66000},"mm","=",{"$f":"IF(Worksheet!$D$6=1,RANDBETWEEN(1,99),IF(Worksheet!$D$6=2,CHOOSE(RANDBETWEEN(1,2),RANDBETWEEN(1,99),RANDBETWEEN(1,999)/10),CHOOSE(RANDBETWEEN(1,4),RANDBETWEEN(1,99999)/1000,RANDBETWEEN(1,9999)/100,RANDBETWEEN(1,999)/10,RANDBETWEEN(1,99))))","v":66},"m"]
[{"$f":"IF(COUNTIF($B$1:B1805,TRUE)=COUNTIF($B$1:B1804,TRUE),\"\",COUNTIF($B$1:B1805,TRUE))","v":""},{"$f":"IF(Worksheet!$D$10=2,FALSE,Worksheet!$B$18)","v":false},{"$f":"100*F1805","v":3000},"mm²","=",{"$f":"IF(Worksheet!$D$6=1,RANDBETWEEN(1,99),IF(Worksheet!$D$6=2,CHOOSE(RANDBETWEEN(1,2),RANDBETWEEN(1,99),RANDBETWEEN(1,999)/10),CHOOSE(RANDBETWEEN(1,4),RANDBETWEEN(1,99999)/1000,RANDBETWEEN(1,9999)/100,RANDBETWEEN(1,999)/10,RANDBETWEEN(1,99))))","v":30},"cm²"]
[{"$f":"IF(COUNTIF($B$1:B1806,TRUE)=COUNTIF($B$1:B1805,TRUE),\"\",COUNTIF($B$1:B1806,TRUE))","v":1084},{"$f":"IF(Worksheet!$D$10=2,FALSE,Worksheet!$D$14)","v":true},{"$f":"F1806*1000","v":36000},"g","=",{"$f":"IF(Worksheet!$D$6=1,RANDBETWEEN(1,99),IF(Worksheet!$D$6=2,CHOOSE(RANDBETWEEN(1,2),RANDBETWEEN(1,99),RANDBETWEEN(1,999)/10),CHOOSE(RANDBETWEEN(1,4),RANDBETWEEN(1,99999)/1000,RANDBETWEEN(1,9999)/100,RANDBETWEEN(1,999)/10,RANDBETWEEN(1,99))))","v":36},"kg"]
[{"$f":"IF(COUNTIF($B$1:B1807,TRUE)=COUNTIF($B$1:B1806,TRUE),\"\",COUNTIF($B$1:B1807,TRUE))","v":1085},{"$f":"IF(Worksheet!$D$10=2,FALSE,Worksheet!$D$15)","v":true},{"$f":"F1807*1000","v":14000},"kg","=",{"$f":"IF(Worksheet!$D$6=1,RANDBETWEEN(1,99),IF(Worksheet!$D$6=2,CHOOSE(RANDBETWEEN(1,2),RANDBETWEEN(1,99),RANDBETWEEN(1,999)/10),CHOOSE(RANDBETWEEN(1,4),RANDBETWEEN(1,99999)/1000,RANDBETWEEN(1,9999)/100,RANDBETWEEN(1,999)/10,RANDBETWEEN(1,99))))","v":14},"tonnes"]
[{"$f":"IF(COUNTIF($B$1:B1808,TRUE)=COUNTIF($B$1:B1807,TRUE),\"\",COUNTIF($B$1:B1808,TRUE))","v":1086},{"$f":"IF(Worksheet!$D$10=2,FALSE,Worksheet!$D$16)","v":true},{"$f":"1000*F1808","v":14000},"ml","=",{"$f":"IF(Worksheet!$D$6=1,RANDBETWEEN(1,99),IF(Worksheet!$D$6=2,CHOOSE(RANDBETWEEN(1,2),RANDBETWEEN(1,99),RANDBETWEEN(1,999)/10),CHOOSE(RANDBETWEEN(1,4),RANDBETWEEN(1,99999)/1000,RANDBETWEEN(1,9999)/100,RANDBETWEEN(1,999)/10,RANDBETWEEN(1,99))))","v":14},"litres"]
[{"$f":"IF(COUNTIF($B$1:B1809,TRUE)=COUNTIF($B$1:B1808,TRUE),\"\",COUNTIF($B$1:B1809,TRUE))","v":""},{"$f":"IF(Worksheet!$D$10=2,FALSE,Worksheet!$D$17)","v":false},{"$f":"1000*F1809","v":46000},"cm³","=",{"$f":"IF(Worksheet!$D$6=1,RANDBETWEEN(1,99),IF(Worksheet!$D$6=2,CHOOSE(RANDBETWEEN(1,2),RANDBETWEEN(1,99),RANDBETWEEN(1,999)/10),CHOOSE(RANDBETWEEN(1,4),RANDBETWEEN(1,99999)/1000,RANDBETWEEN(1,9999)/100,RANDBETWEEN(1,999)/10,RANDBETWEEN(1,99))))","v":46},"litres"]
[{"$f":"IF(COUNTIF($B$1:B1810,TRUE)=COUNTIF($B$1:B1809,TRUE),\"\",COUNTIF($B$1:B1810,TRUE))","v":""},{"$f":"IF(Worksheet!$D$10=2,FALSE,Worksheet!$D$18)","v":false},{"$f":"10000*F1810","v":320000},"cm²","=",{"$f":"IF(Worksheet!$D$6=1,RANDBETWEEN(1,99),IF(Worksheet!$D$6=2,CHOOSE(RANDBETWEEN(1,2),RANDBETWEEN(1,99),RANDBETWEEN(1,999)/10),CHOOSE(RANDBETWEEN(1,4),RANDBETWEEN(1,99999)/1000,RANDBETWEEN(1,9999)/100,RANDBETWEEN(1,999)/10,RANDBETWEEN(1,99))))","v":32},"m²"]
[{"$f":"IF(COUNTIF($B$1:B1811,TRUE)=COUNTIF($B$1:B1810,TRUE),\"\",COUNTIF($B$1:B1811,TRUE))","v":1087},{"$f":"IF(Worksheet!$D$10=3,FALSE,Worksheet!$B$14)","v":true},{"$f":"IF(Worksheet!$D$6=1,RANDBETWEEN(1,99),IF(Worksheet!$D$6=2,CHOOSE(RANDBETWEEN(1,2),RANDBETWEEN(1,99),RANDBETWEEN(1,999)/10),CHOOSE(RANDBETWEEN(1,4),RANDBETWEEN(1,99999)/1000,RANDBETWEEN(1,9999)/100,RANDBETWEEN(1,999)/10,RANDBETWEEN(1,99))))","v":59},"cm","=",{"$f":"10*C1811","v":590},"mm"]
[{"$f":"IF(COUNTIF($B$1:B1812,TRUE)=COUNTIF($B$1:B1811,TRUE),\"\",COUNTIF($B$1:B1812,TRUE))","v":1088},{"$f":"IF(Worksheet!$D$10=3,FALSE,Worksheet!$B$15)","v":true},{"$f":"IF(Worksheet!$D$6=1,RANDBETWEEN(1,99),IF(Worksheet!$D$6=2,CHOOSE(RANDBETWEEN(1,2),RANDBETWEEN(1,99),RANDBETWEEN(1,999)/10),CHOOSE(RANDBETWEEN(1,4),RANDBETWEEN(1,99999)/1000,RANDBETWEEN(1,9999)/100,RANDBETWEEN(1,999)/10,RANDBETWEEN(1,99))))","v":98},"m","=",{"$f":"100*C1812","v":9800},"cm"]
[{"$f":"IF(COUNTIF($B$1:B1813,TRUE)=COUNTIF($B$1:B1812,TRUE),\"\",COUNTIF($B$1:B1813,TRUE))","v":1089},{"$f":"IF(Worksheet!$D$10=3,FALSE,Worksheet!$B$16)","v":true},{"$f":"IF(Worksheet!$D$6=1,RANDBETWEEN(1,99),IF(Worksheet!$D$6=2,CHOOSE(RANDBETWEEN(1,2),RANDBETWEEN(1,99),RANDBETWEEN(1,999)/10),CHOOSE(RANDBETWEEN(1,4),RANDBETWEEN(1,99999)/1000,RANDBETWEEN(1,9999)/100,RANDBETWEEN(1,999)/10,RANDBETWEEN(1,99))))","v":22},"km","=",{"$f":"1000*C1813","v":22000},"m"]
[{"$f":"IF(COUNTIF($B$1:B1814,TRUE)=COUNTIF($B$1:B1813,TRUE),\"\",COUNTIF($B$1:B1814,TRUE))","v":""},{"$f":"IF(Worksheet!$D$10=3,FALSE,Worksheet!$B$17)","v":false},{"$f":"IF(Worksheet!$D$6=1,RANDBETWEEN(1,99),IF(Worksheet!$D$6=2,CHOOSE(RANDBETWEEN(1,2),RANDBETWEEN(1,99),RANDBETWEEN(1,999)/10),CHOOSE(RANDBETWEEN(1,4),RANDBETWEEN(1,99999)/1000,RANDBETWEEN(1,9999)/100,RANDBETWEEN(1,999)/10,RANDBETWEEN(1,99))))","v":65},"m",{"$f":"#REF!","v":{"$error":"#REF!"}},{"$f":"1000*C1814","v":65000},"mm"]
[{"$f":"IF(COUNTIF($B$1:B1815,TRUE)=COUNTIF($B$1:B1814,TRUE),\"\",COUNTIF($B$1:B1815,TRUE))","v":""},{"$f":"IF(Worksheet!$D$10=3,FALSE,Worksheet!$B$18)","v":false},{"$f":"IF(Worksheet!$D$6=1,RANDBETWEEN(1,99),IF(Worksheet!$D$6=2,CHOOSE(RANDBETWEEN(1,2),RANDBETWEEN(1,99),RANDBETWEEN(1,999)/10),CHOOSE(RANDBETWEEN(1,4),RANDBETWEEN(1,99999)/1000,RANDBETWEEN(1,9999)/100,RANDBETWEEN(1,999)/10,RANDBETWEEN(1,99))))","v":47},"cm²","=",{"$f":"C1815*100","v":4700},"mm²"]
[{"$f":"IF(COUNTIF($B$1:B1816,TRUE)=COUNTIF($B$1:B1815,TRUE),\"\",COUNTIF($B$1:B1816,TRUE))","v":1090},{"$f":"IF(Worksheet!$D$10=3,FALSE,Worksheet!$D$14)","v":true},{"$f":"IF(Worksheet!$D$6=1,RANDBETWEEN(1,99),IF(Worksheet!$D$6=2,CHOOSE(RANDBETWEEN(1,2),RANDBETWEEN(1,99),RANDBETWEEN(1,999)/10),CHOOSE(RANDBETWEEN(1,4),RANDBETWEEN(1,99999)/1000,RANDBETWEEN(1,9999)/100,RANDBETWEEN(1,999)/10,RANDBETWEEN(1,99))))","v":12},"kg","=",{"$f":"1000*C1816","v":12000},"g"]
[{"$f":"IF(COUNTIF($B$1:B1817,TRUE)=COUNTIF($B$1:B1816,TRUE),\"\",COUNTIF($B$1:B1817,TRUE))","v":1091},{"$f":"IF(Worksheet!$D$10=3,FALSE,Worksheet!$D$15)","v":true},{"$f":"IF(Worksheet!$D$6=1,RANDBETWEEN(1,99),IF(Worksheet!$D$6=2,CHOOSE(RANDBETWEEN(1,2),RANDBETWEEN(1,99),RANDBETWEEN(1,999)/10),CHOOSE(RANDBETWEEN(1,4),RANDBETWEEN(1,99999)/1000,RANDBETWEEN(1,9999)/100,RANDBETWEEN(1,999)/10,RANDBETWEEN(1,99))))","v":29},"tonnes","=",{"$f":"1000*C1817","v":29000},"kg"]
[{"$f":"IF(COUNTIF($B$1:B1818,TRUE)=COUNTIF($B$1:B1817,TRUE),\"\",COUNTIF($B$1:B1818,TRUE))","v":1092},{"$f":"IF(Worksheet!$D$10=3,FALSE,Worksheet!$D$16)","v":true},{"$f":"IF(Worksheet!$D$6=1,RANDBETWEEN(1,99),IF(Worksheet!$D$6=2,CHOOSE(RANDBETWEEN(1,2),RANDBETWEEN(1,99),RANDBETWEEN(1,999)/10),CHOOSE(RANDBETWEEN(1,4),RANDBETWEEN(1,99999)/1000,RANDBETWEEN(1,9999)/100,RANDBETWEEN(1,999)/10,RANDBETWEEN(1,99))))","v":16},"litres","=",{"$f":"1000*C1818","v":16000},"ml"]
[{"$f":"IF(COUNTIF($B$1:B1819,TRUE)=COUNTIF($B$1:B1818,TRUE),\"\",COUNTIF($B$1:B1819,TRUE))","v":""},{"$f":"IF(Worksheet!$D$10=3,FALSE,Worksheet!$D$17)","v":false},{"$f":"IF(Worksheet!$D$6=1,RANDBETWEEN(1,99),IF(Worksheet!$D$6=2,CHOOSE(RANDBETWEEN(1,2),RANDBETWEEN(1,99),RANDBETWEEN(1,999)/10),CHOOSE(RANDBETWEEN(1,4),RANDBETWEEN(1,99999)/1000,RANDBETWEEN(1,9999)/100,RANDBETWEEN(1,999)/10,RANDBETWEEN(1,99))))","v":59},"litres","=",{"$f":"1000*C1819","v":59000},"cm³"]
[{"$f":"IF(COUNTIF($B$1:B1820,TRUE)=COUNTIF($B$1:B1819,TRUE),\"\",COUNTIF($B$1:B1820,TRUE))","v":""},{"$f":"IF(Worksheet!$D$10=3,FALSE,Worksheet!$D$18)","v":false},{"$f":"IF(Worksheet!$D$6=1,RANDBETWEEN(1,99),IF(Worksheet!$D$6=2,CHOOSE(RANDBETWEEN(1,2),RANDBETWEEN(1,99),RANDBETWEEN(1,999)/10),CHOOSE(RANDBETWEEN(1,4),RANDBETWEEN(1,99999)/1000,RANDBETWEEN(1,9999)/100,RANDBETWEEN(1,999)/10,RANDBETWEEN(1,99))))","v":50},"m²","=",{"$f":"10000*C1820","v":500000},"cm²"]
[{"$f":"IF(COUNTIF($B$1:B1821,TRUE)=COUNTIF($B$1:B1820,TRUE),\"\",COUNTIF($B$1:B1821,TRUE))","v":1093},{"$f":"IF(Worksheet!$D$10=2,FALSE,Worksheet!$B$14)","v":true},{"$f":"10*F1821","v":500},"mm","=",{"$f":"IF(Worksheet!$D$6=1,RANDBETWEEN(1,99),IF(Worksheet!$D$6=2,CHOOSE(RANDBETWEEN(1,2),RANDBETWEEN(1,99),RANDBETWEEN(1,999)/10),CHOOSE(RANDBETWEEN(1,4),RANDBETWEEN(1,99999)/1000,RANDBETWEEN(1,9999)/100,RANDBETWEEN(1,999)/10,RANDBETWEEN(1,99))))","v":50},"cm"]
[{"$f":"IF(COUNTIF($B$1:B1822,TRUE)=COUNTIF($B$1:B1821,TRUE),\"\",COUNTIF($B$1:B1822,TRUE))","v":1094},{"$f":"IF(Worksheet!$D$10=2,FALSE,Worksheet!$B$15)","v":true},{"$f":"100*F1822","v":9900},"cm","=",{"$f":"IF(Worksheet!$D$6=1,RANDBETWEEN(1,99),IF(Worksheet!$D$6=2,CHOOSE(RANDBETWEEN(1,2),RANDBETWEEN(1,99),RANDBETWEEN(1,999)/10),CHOOSE(RANDBETWEEN(1,4),RANDBETWEEN(1,99999)/1000,RANDBETWEEN(1,9999)/100,RANDBETWEEN(1,999)/10,RANDBETWEEN(1,99))))","v":99},"m"]
[{"$f":"IF(COUNTIF($B$1:B1823,TRUE)=COUNTIF($B$1:B1822,TRUE),\"\",COUNTIF($B$1:B1823,TRUE))","v":1095},{"$f":"IF(Worksheet!$D$10=2,FALSE,Worksheet!$B$16)","v":true},{"$f":"1000*F1823","v":71000},"m","=",{"$f":"IF(Worksheet!$D$6=1,RANDBETWEEN(1,99),IF(Worksheet!$D$6=2,CHOOSE(RANDBETWEEN(1,2),RANDBETWEEN(1,99),RANDBETWEEN(1,999)/10),CHOOSE(RANDBETWEEN(1,4),RANDBETWEEN(1,99999)/1000,RANDBETWEEN(1,9999)/100,RANDBETWEEN(1,999)/10,RANDBETWEEN(1,99))))","v":71},"km"]
[{"$f":"IF(COUNTIF($B$1:B1824,TRUE)=COUNTIF($B$1:B1823,TRUE),\"\",COUNTIF($B$1:B1824,TRUE))","v":""},{"$f":"IF(Worksheet!$D$10=2,FALSE,Worksheet!$B$17)","v":false},{"$f":"1000*F1824","v":85000},"mm","=",{"$f":"IF(Worksheet!$D$6=1,RANDBETWEEN(1,99),IF(Worksheet!$D$6=2,CHOOSE(RANDBETWEEN(1,2),RANDBETWEEN(1,99),RANDBETWEEN(1,999)/10),CHOOSE(RANDBETWEEN(1,4),RANDBETWEEN(1,99999)/1000,RANDBETWEEN(1,9999)/100,RANDBETWEEN(1,999)/10,RANDBETWEEN(1,99))))","v":85},"m"]
[{"$f":"IF(COUNTIF($B$1:B1825,TRUE)=COUNTIF($B$1:B1824,TRUE),\"\",COUNTIF($B$1:B1825,TRUE))","v":""},{"$f":"IF(Worksheet!$D$10=2,FALSE,Worksheet!$B$18)","v":false},{"$f":"100*F1825","v":5900},"mm²","=",{"$f":"IF(Worksheet!$D$6=1,RANDBETWEEN(1,99),IF(Worksheet!$D$6=2,CHOOSE(RANDBETWEEN(1,2),RANDBETWEEN(1,99),RANDBETWEEN(1,999)/10),CHOOSE(RANDBETWEEN(1,4),RANDBETWEEN(1,99999)/1000,RANDBETWEEN(1,9999)/100,RANDBETWEEN(1,999)/10,RANDBETWEEN(1,99))))","v":59},"cm²"]
[{"$f":"IF(COUNTIF($B$1:B1826,TRUE)=COUNTIF($B$1:B1825,TRUE),\"\",COUNTIF($B$1:B1826,TRUE))","v":1096},{"$f":"IF(Worksheet!$D$10=2,FALSE,Worksheet!$D$14)","v":true},{"$f":"F1826*1000","v":88000},"g","=",{"$f":"IF(Worksheet!$D$6=1,RANDBETWEEN(1,99),IF(Worksheet!$D$6=2,CHOOSE(RANDBETWEEN(1,2),RANDBETWEEN(1,99),RANDBETWEEN(1,999)/10),CHOOSE(RANDBETWEEN(1,4),RANDBETWEEN(1,99999)/1000,RANDBETWEEN(1,9999)/100,RANDBETWEEN(1,999)/10,RANDBETWEEN(1,99))))","v":88},"kg"]
[{"$f":"IF(COUNTIF($B$1:B1827,TRUE)=COUNTIF($B$1:B1826,TRUE),\"\",COUNTIF($B$1:B1827,TRUE))","v":1097},{"$f":"IF(Worksheet!$D$10=2,FALSE,Worksheet!$D$15)","v":true},{"$f":"F1827*1000","v":75000},"kg","=",{"$f":"IF(Worksheet!$D$6=1,RANDBETWEEN(1,99),IF(Worksheet!$D$6=2,CHOOSE(RANDBETWEEN(1,2),RANDBETWEEN(1,99),RANDBETWEEN(1,999)/10),CHOOSE(RANDBETWEEN(1,4),RANDBETWEEN(1,99999)/1000,RANDBETWEEN(1,9999)/100,RANDBETWEEN(1,999)/10,RANDBETWEEN(1,99))))","v":75},"tonnes"]
[{"$f":"IF(COUNTIF($B$1:B1828,TRUE)=COUNTIF($B$1:B1827,TRUE),\"\",COUNTIF($B$1:B1828,TRUE))","v":1098},{"$f":"IF(Worksheet!$D$10=2,FALSE,Worksheet!$D$16)","v":true},{"$f":"1000*F1828","v":60000},"ml","=",{"$f":"IF(Worksheet!$D$6=1,RANDBETWEEN(1,99),IF(Worksheet!$D$6=2,CHOOSE(RANDBETWEEN(1,2),RANDBETWEEN(1,99),RANDBETWEEN(1,999)/10),CHOOSE(RANDBETWEEN(1,4),RANDBETWEEN(1,99999)/1000,RANDBETWEEN(1,9999)/100,RANDBETWEEN(1,999)/10,RANDBETWEEN(1,99))))","v":60},"litres"]
[{"$f":"IF(COUNTIF($B$1:B1829,TRUE)=COUNTIF($B$1:B1828,TRUE),\"\",COUNTIF($B$1:B1829,TRUE))","v":""},{"$f":"IF(Worksheet!$D$10=2,FALSE,Worksheet!$D$17)","v":false},{"$f":"1000*F1829","v":73000},"cm³","=",{"$f":"IF(Worksheet!$D$6=1,RANDBETWEEN(1,99),IF(Worksheet!$D$6=2,CHOOSE(RANDBETWEEN(1,2),RANDBETWEEN(1,99),RANDBETWEEN(1,999)/10),CHOOSE(RANDBETWEEN(1,4),RANDBETWEEN(1,99999)/1000,RANDBETWEEN(1,9999)/100,RANDBETWEEN(1,999)/10,RANDBETWEEN(1,99))))","v":73},"litres"]
[{"$f":"IF(COUNTIF($B$1:B1830,TRUE)=COUNTIF($B$1:B1829,TRUE),\"\",COUNTIF($B$1:B1830,TRUE))","v":""},{"$f":"IF(Worksheet!$D$10=2,FALSE,Worksheet!$D$18)","v":false},{"$f":"10000*F1830","v":20000},"cm²","=",{"$f":"IF(Worksheet!$D$6=1,RANDBETWEEN(1,99),IF(Worksheet!$D$6=2,CHOOSE(RANDBETWEEN(1,2),RANDBETWEEN(1,99),RANDBETWEEN(1,999)/10),CHOOSE(RANDBETWEEN(1,4),RANDBETWEEN(1,99999)/1000,RANDBETWEEN(1,9999)/100,RANDBETWEEN(1,999)/10,RANDBETWEEN(1,99))))","v":2},"m²"]
[{"$f":"IF(COUNTIF($B$1:B1831,TRUE)=COUNTIF($B$1:B1830,TRUE),\"\",COUNTIF($B$1:B1831,TRUE))","v":1099},{"$f":"IF(Worksheet!$D$10=3,FALSE,Worksheet!$B$14)","v":true},{"$f":"IF(Worksheet!$D$6=1,RANDBETWEEN(1,99),IF(Worksheet!$D$6=2,CHOOSE(RANDBETWEEN(1,2),RANDBETWEEN(1,99),RANDBETWEEN(1,999)/10),CHOOSE(RANDBETWEEN(1,4),RANDBETWEEN(1,99999)/1000,RANDBETWEEN(1,9999)/100,RANDBETWEEN(1,999)/10,RANDBETWEEN(1,99))))","v":79},"cm","=",{"$f":"10*C1831","v":790},"mm"]
[{"$f":"IF(COUNTIF($B$1:B1832,TRUE)=COUNTIF($B$1:B1831,TRUE),\"\",COUNTIF($B$1:B1832,TRUE))","v":1100},{"$f":"IF(Worksheet!$D$10=3,FALSE,Worksheet!$B$15)","v":true},{"$f":"IF(Worksheet!$D$6=1,RANDBETWEEN(1,99),IF(Worksheet!$D$6=2,CHOOSE(RANDBETWEEN(1,2),RANDBETWEEN(1,99),RANDBETWEEN(1,999)/10),CHOOSE(RANDBETWEEN(1,4),RANDBETWEEN(1,99999)/1000,RANDBETWEEN(1,9999)/100,RANDBETWEEN(1,999)/10,RANDBETWEEN(1,99))))","v":88},"m","=",{"$f":"100*C1832","v":8800},"cm"]
[{"$f":"IF(COUNTIF($B$1:B1833,TRUE)=COUNTIF($B$1:B1832,TRUE),\"\",COUNTIF($B$1:B1833,TRUE))","v":1101},{"$f":"IF(Worksheet!$D$10=3,FALSE,Worksheet!$B$16)","v":true},{"$f":"IF(Worksheet!$D$6=1,RANDBETWEEN(1,99),IF(Worksheet!$D$6=2,CHOOSE(RANDBETWEEN(1,2),RANDBETWEEN(1,99),RANDBETWEEN(1,999)/10),CHOOSE(RANDBETWEEN(1,4),RANDBETWEEN(1,99999)/1000,RANDBETWEEN(1,9999)/100,RANDBETWEEN(1,999)/10,RANDBETWEEN(1,99))))","v":7},"km","=",{"$f":"1000*C1833","v":7000},"m"]
[{"$f":"IF(COUNTIF($B$1:B1834,TRUE)=COUNTIF($B$1:B1833,TRUE),\"\",COUNTIF($B$1:B1834,TRUE))","v":""},{"$f":"IF(Worksheet!$D$10=3,FALSE,Worksheet!$B$17)","v":false},{"$f":"IF(Worksheet!$D$6=1,RANDBETWEEN(1,99),IF(Worksheet!$D$6=2,CHOOSE(RANDBETWEEN(1,2),RANDBETWEEN(1,99),RANDBETWEEN(1,999)/10),CHOOSE(RANDBETWEEN(1,4),RANDBETWEEN(1,99999)/1000,RANDBETWEEN(1,9999)/100,RANDBETWEEN(1,999)/10,RANDBETWEEN(1,99))))","v":40},"m",{"$f":"#REF!","v":{"$error":"#REF!"}},{"$f":"1000*C1834","v":40000},"mm"]
[{"$f":"IF(COUNTIF($B$1:B1835,TRUE)=COUNTIF($B$1:B1834,TRUE),\"\",COUNTIF($B$1:B1835,TRUE))","v":""},{"$f":"IF(Worksheet!$D$10=3,FALSE,Worksheet!$B$18)","v":false},{"$f":"IF(Worksheet!$D$6=1,RANDBETWEEN(1,99),IF(Worksheet!$D$6=2,CHOOSE(RANDBETWEEN(1,2),RANDBETWEEN(1,99),RANDBETWEEN(1,999)/10),CHOOSE(RANDBETWEEN(1,4),RANDBETWEEN(1,99999)/1000,RANDBETWEEN(1,9999)/100,RANDBETWEEN(1,999)/10,RANDBETWEEN(1,99))))","v":70},"cm²","=",{"$f":"C1835*100","v":7000},"mm²"]
[{"$f":"IF(COUNTIF($B$1:B1836,TRUE)=COUNTIF($B$1:B1835,TRUE),\"\",COUNTIF($B$1:B1836,TRUE))","v":1102},{"$f":"IF(Worksheet!$D$10=3,FALSE,Worksheet!$D$14)","v":true},{"$f":"IF(Worksheet!$D$6=1,RANDBETWEEN(1,99),IF(Worksheet!$D$6=2,CHOOSE(RANDBETWEEN(1,2),RANDBETWEEN(1,99),RANDBETWEEN(1,999)/10),CHOOSE(RANDBETWEEN(1,4),RANDBETWEEN(1,99999)/1000,RANDBETWEEN(1,9999)/100,RANDBETWEEN(1,999)/10,RANDBETWEEN(1,99))))","v":1},"kg","=",{"$f":"1000*C1836","v":1000},"g"]
[{"$f":"IF(COUNTIF($B$1:B1837,TRUE)=COUNTIF($B$1:B1836,TRUE),\"\",COUNTIF($B$1:B1837,TRUE))","v":1103},{"$f":"IF(Worksheet!$D$10=3,FALSE,Worksheet!$D$15)","v":true},{"$f":"IF(Worksheet!$D$6=1,RANDBETWEEN(1,99),IF(Worksheet!$D$6=2,CHOOSE(RANDBETWEEN(1,2),RANDBETWEEN(1,99),RANDBETWEEN(1,999)/10),CHOOSE(RANDBETWEEN(1,4),RANDBETWEEN(1,99999)/1000,RANDBETWEEN(1,9999)/100,RANDBETWEEN(1,999)/10,RANDBETWEEN(1,99))))","v":19},"tonnes","=",{"$f":"1000*C1837","v":19000},"kg"]
[{"$f":"IF(COUNTIF($B$1:B1838,TRUE)=COUNTIF($B$1:B1837,TRUE),\"\",COUNTIF($B$1:B1838,TRUE))","v":1104},{"$f":"IF(Worksheet!$D$10=3,FALSE,Worksheet!$D$16)","v":true},{"$f":"IF(Worksheet!$D$6=1,RANDBETWEEN(1,99),IF(Worksheet!$D$6=2,CHOOSE(RANDBETWEEN(1,2),RANDBETWEEN(1,99),RANDBETWEEN(1,999)/10),CHOOSE(RANDBETWEEN(1,4),RANDBETWEEN(1,99999)/1000,RANDBETWEEN(1,9999)/100,RANDBETWEEN(1,999)/10,RANDBETWEEN(1,99))))","v":77},"litres","=",{"$f":"1000*C1838","v":77000},"ml"]
[{"$f":"IF(COUNTIF($B$1:B1839,TRUE)=COUNTIF($B$1:B1838,TRUE),\"\",COUNTIF($B$1:B1839,TRUE))","v":""},{"$f":"IF(Worksheet!$D$10=3,FALSE,Worksheet!$D$17)","v":false},{"$f":"IF(Worksheet!$D$6=1,RANDBETWEEN(1,99),IF(Worksheet!$D$6=2,CHOOSE(RANDBETWEEN(1,2),RANDBETWEEN(1,99),RANDBETWEEN(1,999)/10),CHOOSE(RANDBETWEEN(1,4),RANDBETWEEN(1,99999)/1000,RANDBETWEEN(1,9999)/100,RANDBETWEEN(1,999)/10,RANDBETWEEN(1,99))))","v":23},"litres","=",{"$f":"1000*C1839","v":23000},"cm³"]
[{"$f":"IF(COUNTIF($B$1:B1840,TRUE)=COUNTIF($B$1:B1839,TRUE),\"\",COUNTIF($B$1:B1840,TRUE))","v":""},{"$f":"IF(Worksheet!$D$10=3,FALSE,Worksheet!$D$18)","v":false},{"$f":"IF(Worksheet!$D$6=1,RANDBETWEEN(1,99),IF(Worksheet!$D$6=2,CHOOSE(RANDBETWEEN(1,2),RANDBETWEEN(1,99),RANDBETWEEN(1,999)/10),CHOOSE(RANDBETWEEN(1,4),RANDBETWEEN(1,99999)/1000,RANDBETWEEN(1,9999)/100,RANDBETWEEN(1,999)/10,RANDBETWEEN(1,99))))","v":13},"m²","=",{"$f":"10000*C1840","v":130000},"cm²"]
[{"$f":"IF(COUNTIF($B$1:B1841,TRUE)=COUNTIF($B$1:B1840,TRUE),\"\",COUNTIF($B$1:B1841,TRUE))","v":1105},{"$f":"IF(Worksheet!$D$10=2,FALSE,Worksheet!$B$14)","v":true},{"$f":"10*F1841","v":480},"mm","=",{"$f":"IF(Worksheet!$D$6=1,RANDBETWEEN(1,99),IF(Worksheet!$D$6=2,CHOOSE(RANDBETWEEN(1,2),RANDBETWEEN(1,99),RANDBETWEEN(1,999)/10),CHOOSE(RANDBETWEEN(1,4),RANDBETWEEN(1,99999)/1000,RANDBETWEEN(1,9999)/100,RANDBETWEEN(1,999)/10,RANDBETWEEN(1,99))))","v":48},"cm"]
[{"$f":"IF(COUNTIF($B$1:B1842,TRUE)=COUNTIF($B$1:B1841,TRUE),\"\",COUNTIF($B$1:B1842,TRUE))","v":1106},{"$f":"IF(Worksheet!$D$10=2,FALSE,Worksheet!$B$15)","v":true},{"$f":"100*F1842","v":2000},"cm","=",{"$f":"IF(Worksheet!$D$6=1,RANDBETWEEN(1,99),IF(Worksheet!$D$6=2,CHOOSE(RANDBETWEEN(1,2),RANDBETWEEN(1,99),RANDBETWEEN(1,999)/10),CHOOSE(RANDBETWEEN(1,4),RANDBETWEEN(1,99999)/1000,RANDBETWEEN(1,9999)/100,RANDBETWEEN(1,999)/10,RANDBETWEEN(1,99))))","v":20},"m"]
[{"$f":"IF(COUNTIF($B$1:B1843,TRUE)=COUNTIF($B$1:B1842,TRUE),\"\",COUNTIF($B$1:B1843,TRUE))","v":1107},{"$f":"IF(Worksheet!$D$10=2,FALSE,Worksheet!$B$16)","v":true},{"$f":"1000*F1843","v":94000},"m","=",{"$f":"IF(Worksheet!$D$6=1,RANDBETWEEN(1,99),IF(Worksheet!$D$6=2,CHOOSE(RANDBETWEEN(1,2),RANDBETWEEN(1,99),RANDBETWEEN(1,999)/10),CHOOSE(RANDBETWEEN(1,4),RANDBETWEEN(1,99999)/1000,RANDBETWEEN(1,9999)/100,RANDBETWEEN(1,999)/10,RANDBETWEEN(1,99))))","v":94},"km"]
[{"$f":"IF(COUNTIF($B$1:B1844,TRUE)=COUNTIF($B$1:B1843,TRUE),\"\",COUNTIF($B$1:B1844,TRUE))","v":""},{"$f":"IF(Worksheet!$D$10=2,FALSE,Worksheet!$B$17)","v":false},{"$f":"1000*F1844","v":72000},"mm","=",{"$f":"IF(Worksheet!$D$6=1,RANDBETWEEN(1,99),IF(Worksheet!$D$6=2,CHOOSE(RANDBETWEEN(1,2),RANDBETWEEN(1,99),RANDBETWEEN(1,999)/10),CHOOSE(RANDBETWEEN(1,4),RANDBETWEEN(1,99999)/1000,RANDBETWEEN(1,9999)/100,RANDBETWEEN(1,999)/10,RANDBETWEEN(1,99))))","v":72},"m"]
[{"$f":"IF(COUNTIF($B$1:B1845,TRUE)=COUNTIF($B$1:B1844,TRUE),\"\",COUNTIF($B$1:B1845,TRUE))","v":""},{"$f":"IF(Worksheet!$D$10=2,FALSE,Worksheet!$B$18)","v":false},{"$f":"100*F1845","v":700},"mm²","=",{"$f":"IF(Worksheet!$D$6=1,RANDBETWEEN(1,99),IF(Worksheet!$D$6=2,CHOOSE(RANDBETWEEN(1,2),RANDBETWEEN(1,99),RANDBETWEEN(1,999)/10),CHOOSE(RANDBETWEEN(1,4),RANDBETWEEN(1,99999)/1000,RANDBETWEEN(1,9999)/100,RANDBETWEEN(1,999)/10,RANDBETWEEN(1,99))))","v":7},"cm²"]
[{"$f":"IF(COUNTIF($B$1:B1846,TRUE)=COUNTIF($B$1:B1845,TRUE),\"\",COUNTIF($B$1:B1846,TRUE))","v":1108},{"$f":"IF(Worksheet!$D$10=2,FALSE,Worksheet!$D$14)","v":true},{"$f":"F1846*1000","v":98000},"g","=",{"$f":"IF(Worksheet!$D$6=1,RANDBETWEEN(1,99),IF(Worksheet!$D$6=2,CHOOSE(RANDBETWEEN(1,2),RANDBETWEEN(1,99),RANDBETWEEN(1,999)/10),CHOOSE(RANDBETWEEN(1,4),RANDBETWEEN(1,99999)/1000,RANDBETWEEN(1,9999)/100,RANDBETWEEN(1,999)/10,RANDBETWEEN(1,99))))","v":98},"kg"]
[{"$f":"IF(COUNTIF($B$1:B1847,TRUE)=COUNTIF($B$1:B1846,TRUE),\"\",COUNTIF($B$1:B1847,TRUE))","v":1109},{"$f":"IF(Worksheet!$D$10=2,FALSE,Worksheet!$D$15)","v":true},{"$f":"F1847*1000","v":25000},"kg","=",{"$f":"IF(Worksheet!$D$6=1,RANDBETWEEN(1,99),IF(Worksheet!$D$6=2,CHOOSE(RANDBETWEEN(1,2),RANDBETWEEN(1,99),RANDBETWEEN(1,999)/10),CHOOSE(RANDBETWEEN(1,4),RANDBETWEEN(1,99999)/1000,RANDBETWEEN(1,9999)/100,RANDBETWEEN(1,999)/10,RANDBETWEEN(1,99))))","v":25},"tonnes"]
[{"$f":"IF(COUNTIF($B$1:B1848,TRUE)=COUNTIF($B$1:B1847,TRUE),\"\",COUNTIF($B$1:B1848,TRUE))","v":1110},{"$f":"IF(Worksheet!$D$10=2,FALSE,Worksheet!$D$16)","v":true},{"$f":"1000*F1848","v":60000},"ml","=",{"$f":"IF(Worksheet!$D$6=1,RANDBETWEEN(1,99),IF(Worksheet!$D$6=2,CHOOSE(RANDBETWEEN(1,2),RANDBETWEEN(1,99),RANDBETWEEN(1,999)/10),CHOOSE(RANDBETWEEN(1,4),RANDBETWEEN(1,99999)/1000,RANDBETWEEN(1,9999)/100,RANDBETWEEN(1,999)/10,RANDBETWEEN(1,99))))","v":60},"litres"]
[{"$f":"IF(COUNTIF($B$1:B1849,TRUE)=COUNTIF($B$1:B1848,TRUE),\"\",COUNTIF($B$1:B1849,TRUE))","v":""},{"$f":"IF(Worksheet!$D$10=2,FALSE,Worksheet!$D$17)","v":false},{"$f":"1000*F1849","v":8000},"cm³","=",{"$f":"IF(Worksheet!$D$6=1,RANDBETWEEN(1,99),IF(Worksheet!$D$6=2,CHOOSE(RANDBETWEEN(1,2),RANDBETWEEN(1,99),RANDBETWEEN(1,999)/10),CHOOSE(RANDBETWEEN(1,4),RANDBETWEEN(1,99999)/1000,RANDBETWEEN(1,9999)/100,RANDBETWEEN(1,999)/10,RANDBETWEEN(1,99))))","v":8},"litres"]
[{"$f":"IF(COUNTIF($B$1:B1850,TRUE)=COUNTIF($B$1:B1849,TRUE),\"\",COUNTIF($B$1:B1850,TRUE))","v":""},{"$f":"IF(Worksheet!$D$10=2,FALSE,Worksheet!$D$18)","v":false},{"$f":"10000*F1850","v":650000},"cm²","=",{"$f":"IF(Worksheet!$D$6=1,RANDBETWEEN(1,99),IF(Worksheet!$D$6=2,CHOOSE(RANDBETWEEN(1,2),RANDBETWEEN(1,99),RANDBETWEEN(1,999)/10),CHOOSE(RANDBETWEEN(1,4),RANDBETWEEN(1,99999)/1000,RANDBETWEEN(1,9999)/100,RANDBETWEEN(1,999)/10,RANDBETWEEN(1,99))))","v":65},"m²"]
[{"$f":"IF(COUNTIF($B$1:B1851,TRUE)=COUNTIF($B$1:B1850,TRUE),\"\",COUNTIF($B$1:B1851,TRUE))","v":1111},{"$f":"IF(Worksheet!$D$10=3,FALSE,Worksheet!$B$14)","v":true},{"$f":"IF(Worksheet!$D$6=1,RANDBETWEEN(1,99),IF(Worksheet!$D$6=2,CHOOSE(RANDBETWEEN(1,2),RANDBETWEEN(1,99),RANDBETWEEN(1,999)/10),CHOOSE(RANDBETWEEN(1,4),RANDBETWEEN(1,99999)/1000,RANDBETWEEN(1,9999)/100,RANDBETWEEN(1,999)/10,RANDBETWEEN(1,99))))","v":55},"cm","=",{"$f":"10*C1851","v":550},"mm"]
[{"$f":"IF(COUNTIF($B$1:B1852,TRUE)=COUNTIF($B$1:B1851,TRUE),\"\",COUNTIF($B$1:B1852,TRUE))","v":1112},{"$f":"IF(Worksheet!$D$10=3,FALSE,Worksheet!$B$15)","v":true},{"$f":"IF(Worksheet!$D$6=1,RANDBETWEEN(1,99),IF(Worksheet!$D$6=2,CHOOSE(RANDBETWEEN(1,2),RANDBETWEEN(1,99),RANDBETWEEN(1,999)/10),CHOOSE(RANDBETWEEN(1,4),RANDBETWEEN(1,99999)/1000,RANDBETWEEN(1,9999)/100,RANDBETWEEN(1,999)/10,RANDBETWEEN(1,99))))","v":81},"m","=",{"$f":"100*C1852","v":8100},"cm"]
[{"$f":"IF(COUNTIF($B$1:B1853,TRUE)=COUNTIF($B$1:B1852,TRUE),\"\",COUNTIF($B$1:B1853,TRUE))","v":1113},{"$f":"IF(Worksheet!$D$10=3,FALSE,Worksheet!$B$16)","v":true},{"$f":"IF(Worksheet!$D$6=1,RANDBETWEEN(1,99),IF(Worksheet!$D$6=2,CHOOSE(RANDBETWEEN(1,2),RANDBETWEEN(1,99),RANDBETWEEN(1,999)/10),CHOOSE(RANDBETWEEN(1,4),RANDBETWEEN(1,99999)/1000,RANDBETWEEN(1,9999)/100,RANDBETWEEN(1,999)/10,RANDBETWEEN(1,99))))","v":82},"km","=",{"$f":"1000*C1853","v":82000},"m"]
[{"$f":"IF(COUNTIF($B$1:B1854,TRUE)=COUNTIF($B$1:B1853,TRUE),\"\",COUNTIF($B$1:B1854,TRUE))","v":""},{"$f":"IF(Worksheet!$D$10=3,FALSE,Worksheet!$B$17)","v":false},{"$f":"IF(Worksheet!$D$6=1,RANDBETWEEN(1,99),IF(Worksheet!$D$6=2,CHOOSE(RANDBETWEEN(1,2),RANDBETWEEN(1,99),RANDBETWEEN(1,999)/10),CHOOSE(RANDBETWEEN(1,4),RANDBETWEEN(1,99999)/1000,RANDBETWEEN(1,9999)/100,RANDBETWEEN(1,999)/10,RANDBETWEEN(1,99))))","v":32},"m",{"$f":"#REF!","v":{"$error":"#REF!"}},{"$f":"1000*C1854","v":32000},"mm"]
[{"$f":"IF(COUNTIF($B$1:B1855,TRUE)=COUNTIF($B$1:B1854,TRUE),\"\",COUNTIF($B$1:B1855,TRUE))","v":""},{"$f":"IF(Worksheet!$D$10=3,FALSE,Worksheet!$B$18)","v":false},{"$f":"IF(Worksheet!$D$6=1,RANDBETWEEN(1,99),IF(Worksheet!$D$6=2,CHOOSE(RANDBETWEEN(1,2),RANDBETWEEN(1,99),RANDBETWEEN(1,999)/10),CHOOSE(RANDBETWEEN(1,4),RANDBETWEEN(1,99999)/1000,RANDBETWEEN(1,9999)/100,RANDBETWEEN(1,999)/10,RANDBETWEEN(1,99))))","v":21},"cm²","=",{"$f":"C1855*100","v":2100},"mm²"]
[{"$f":"IF(COUNTIF($B$1:B1856,TRUE)=COUNTIF($B$1:B1855,TRUE),\"\",COUNTIF($B$1:B1856,TRUE))","v":1114},{"$f":"IF(Worksheet!$D$10=3,FALSE,Worksheet!$D$14)","v":true},{"$f":"IF(Worksheet!$D$6=1,RANDBETWEEN(1,99),IF(Worksheet!$D$6=2,CHOOSE(RANDBETWEEN(1,2),RANDBETWEEN(1,99),RANDBETWEEN(1,999)/10),CHOOSE(RANDBETWEEN(1,4),RANDBETWEEN(1,99999)/1000,RANDBETWEEN(1,9999)/100,RANDBETWEEN(1,999)/10,RANDBETWEEN(1,99))))","v":68},"kg","=",{"$f":"1000*C1856","v":68000},"g"]
[{"$f":"IF(COUNTIF($B$1:B1857,TRUE)=COUNTIF($B$1:B1856,TRUE),\"\",COUNTIF($B$1:B1857,TRUE))","v":1115},{"$f":"IF(Worksheet!$D$10=3,FALSE,Worksheet!$D$15)","v":true},{"$f":"IF(Worksheet!$D$6=1,RANDBETWEEN(1,99),IF(Worksheet!$D$6=2,CHOOSE(RANDBETWEEN(1,2),RANDBETWEEN(1,99),RANDBETWEEN(1,999)/10),CHOOSE(RANDBETWEEN(1,4),RANDBETWEEN(1,99999)/1000,RANDBETWEEN(1,9999)/100,RANDBETWEEN(1,999)/10,RANDBETWEEN(1,99))))","v":86},"tonnes","=",{"$f":"1000*C1857","v":86000},"kg"]
[{"$f":"IF(COUNTIF($B$1:B1858,TRUE)=COUNTIF($B$1:B1857,TRUE),\"\",COUNTIF($B$1:B1858,TRUE))","v":1116},{"$f":"IF(Worksheet!$D$10=3,FALSE,Worksheet!$D$16)","v":true},{"$f":"IF(Worksheet!$D$6=1,RANDBETWEEN(1,99),IF(Worksheet!$D$6=2,CHOOSE(RANDBETWEEN(1,2),RANDBETWEEN(1,99),RANDBETWEEN(1,999)/10),CHOOSE(RANDBETWEEN(1,4),RANDBETWEEN(1,99999)/1000,RANDBETWEEN(1,9999)/100,RANDBETWEEN(1,999)/10,RANDBETWEEN(1,99))))","v":52},"litres","=",{"$f":"1000*C1858","v":52000},"ml"]
[{"$f":"IF(COUNTIF($B$1:B1859,TRUE)=COUNTIF($B$1:B1858,TRUE),\"\",COUNTIF($B$1:B1859,TRUE))","v":""},{"$f":"IF(Worksheet!$D$10=3,FALSE,Worksheet!$D$17)","v":false},{"$f":"IF(Worksheet!$D$6=1,RANDBETWEEN(1,99),IF(Worksheet!$D$6=2,CHOOSE(RANDBETWEEN(1,2),RANDBETWEEN(1,99),RANDBETWEEN(1,999)/10),CHOOSE(RANDBETWEEN(1,4),RANDBETWEEN(1,99999)/1000,RANDBETWEEN(1,9999)/100,RANDBETWEEN(1,999)/10,RANDBETWEEN(1,99))))","v":19},"litres","=",{"$f":"1000*C1859","v":19000},"cm³"]
[{"$f":"IF(COUNTIF($B$1:B1860,TRUE)=COUNTIF($B$1:B1859,TRUE),\"\",COUNTIF($B$1:B1860,TRUE))","v":""},{"$f":"IF(Worksheet!$D$10=3,FALSE,Worksheet!$D$18)","v":false},{"$f":"IF(Worksheet!$D$6=1,RANDBETWEEN(1,99),IF(Worksheet!$D$6=2,CHOOSE(RANDBETWEEN(1,2),RANDBETWEEN(1,99),RANDBETWEEN(1,999)/10),CHOOSE(RANDBETWEEN(1,4),RANDBETWEEN(1,99999)/1000,RANDBETWEEN(1,9999)/100,RANDBETWEEN(1,999)/10,RANDBETWEEN(1,99))))","v":46},"m²","=",{"$f":"10000*C1860","v":460000},"cm²"]
[{"$f":"IF(COUNTIF($B$1:B1861,TRUE)=COUNTIF($B$1:B1860,TRUE),\"\",COUNTIF($B$1:B1861,TRUE))","v":1117},{"$f":"IF(Worksheet!$D$10=2,FALSE,Worksheet!$B$14)","v":true},{"$f":"10*F1861","v":60},"mm","=",{"$f":"IF(Worksheet!$D$6=1,RANDBETWEEN(1,99),IF(Worksheet!$D$6=2,CHOOSE(RANDBETWEEN(1,2),RANDBETWEEN(1,99),RANDBETWEEN(1,999)/10),CHOOSE(RANDBETWEEN(1,4),RANDBETWEEN(1,99999)/1000,RANDBETWEEN(1,9999)/100,RANDBETWEEN(1,999)/10,RANDBETWEEN(1,99))))","v":6},"cm"]
[{"$f":"IF(COUNTIF($B$1:B1862,TRUE)=COUNTIF($B$1:B1861,TRUE),\"\",COUNTIF($B$1:B1862,TRUE))","v":1118},{"$f":"IF(Worksheet!$D$10=2,FALSE,Worksheet!$B$15)","v":true},{"$f":"100*F1862","v":6100},"cm","=",{"$f":"IF(Worksheet!$D$6=1,RANDBETWEEN(1,99),IF(Worksheet!$D$6=2,CHOOSE(RANDBETWEEN(1,2),RANDBETWEEN(1,99),RANDBETWEEN(1,999)/10),CHOOSE(RANDBETWEEN(1,4),RANDBETWEEN(1,99999)/1000,RANDBETWEEN(1,9999)/100,RANDBETWEEN(1,999)/10,RANDBETWEEN(1,99))))","v":61},"m"]
[{"$f":"IF(COUNTIF($B$1:B1863,TRUE)=COUNTIF($B$1:B1862,TRUE),\"\",COUNTIF($B$1:B1863,TRUE))","v":1119},{"$f":"IF(Worksheet!$D$10=2,FALSE,Worksheet!$B$16)","v":true},{"$f":"1000*F1863","v":98000},"m","=",{"$f":"IF(Worksheet!$D$6=1,RANDBETWEEN(1,99),IF(Worksheet!$D$6=2,CHOOSE(RANDBETWEEN(1,2),RANDBETWEEN(1,99),RANDBETWEEN(1,999)/10),CHOOSE(RANDBETWEEN(1,4),RANDBETWEEN(1,99999)/1000,RANDBETWEEN(1,9999)/100,RANDBETWEEN(1,999)/10,RANDBETWEEN(1,99))))","v":98},"km"]
[{"$f":"IF(COUNTIF($B$1:B1864,TRUE)=COUNTIF($B$1:B1863,TRUE),\"\",COUNTIF($B$1:B1864,TRUE))","v":""},{"$f":"IF(Worksheet!$D$10=2,FALSE,Worksheet!$B$17)","v":false},{"$f":"1000*F1864","v":52000},"mm","=",{"$f":"IF(Worksheet!$D$6=1,RANDBETWEEN(1,99),IF(Worksheet!$D$6=2,CHOOSE(RANDBETWEEN(1,2),RANDBETWEEN(1,99),RANDBETWEEN(1,999)/10),CHOOSE(RANDBETWEEN(1,4),RANDBETWEEN(1,99999)/1000,RANDBETWEEN(1,9999)/100,RANDBETWEEN(1,999)/10,RANDBETWEEN(1,99))))","v":52},"m"]
[{"$f":"IF(COUNTIF($B$1:B1865,TRUE)=COUNTIF($B$1:B1864,TRUE),\"\",COUNTIF($B$1:B1865,TRUE))","v":""},{"$f":"IF(Worksheet!$D$10=2,FALSE,Worksheet!$B$18)","v":false},{"$f":"100*F1865","v":8400},"mm²","=",{"$f":"IF(Worksheet!$D$6=1,RANDBETWEEN(1,99),IF(Worksheet!$D$6=2,CHOOSE(RANDBETWEEN(1,2),RANDBETWEEN(1,99),RANDBETWEEN(1,999)/10),CHOOSE(RANDBETWEEN(1,4),RANDBETWEEN(1,99999)/1000,RANDBETWEEN(1,9999)/100,RANDBETWEEN(1,999)/10,RANDBETWEEN(1,99))))","v":84},"cm²"]
[{"$f":"IF(COUNTIF($B$1:B1866,TRUE)=COUNTIF($B$1:B1865,TRUE),\"\",COUNTIF($B$1:B1866,TRUE))","v":1120},{"$f":"IF(Worksheet!$D$10=2,FALSE,Worksheet!$D$14)","v":true},{"$f":"F1866*1000","v":66000},"g","=",{"$f":"IF(Worksheet!$D$6=1,RANDBETWEEN(1,99),IF(Worksheet!$D$6=2,CHOOSE(RANDBETWEEN(1,2),RANDBETWEEN(1,99),RANDBETWEEN(1,999)/10),CHOOSE(RANDBETWEEN(1,4),RANDBETWEEN(1,99999)/1000,RANDBETWEEN(1,9999)/100,RANDBETWEEN(1,999)/10,RANDBETWEEN(1,99))))","v":66},"kg"]
[{"$f":"IF(COUNTIF($B$1:B1867,TRUE)=COUNTIF($B$1:B1866,TRUE),\"\",COUNTIF($B$1:B1867,TRUE))","v":1121},{"$f":"IF(Worksheet!$D$10=2,FALSE,Worksheet!$D$15)","v":true},{"$f":"F1867*1000","v":9000},"kg","=",{"$f":"IF(Worksheet!$D$6=1,RANDBETWEEN(1,99),IF(Worksheet!$D$6=2,CHOOSE(RANDBETWEEN(1,2),RANDBETWEEN(1,99),RANDBETWEEN(1,999)/10),CHOOSE(RANDBETWEEN(1,4),RANDBETWEEN(1,99999)/1000,RANDBETWEEN(1,9999)/100,RANDBETWEEN(1,999)/10,RANDBETWEEN(1,99))))","v":9},"tonnes"]
[{"$f":"IF(COUNTIF($B$1:B1868,TRUE)=COUNTIF($B$1:B1867,TRUE),\"\",COUNTIF($B$1:B1868,TRUE))","v":1122},{"$f":"IF(Worksheet!$D$10=2,FALSE,Worksheet!$D$16)","v":true},{"$f":"1000*F1868","v":29000},"ml","=",{"$f":"IF(Worksheet!$D$6=1,RANDBETWEEN(1,99),IF(Worksheet!$D$6=2,CHOOSE(RANDBETWEEN(1,2),RANDBETWEEN(1,99),RANDBETWEEN(1,999)/10),CHOOSE(RANDBETWEEN(1,4),RANDBETWEEN(1,99999)/1000,RANDBETWEEN(1,9999)/100,RANDBETWEEN(1,999)/10,RANDBETWEEN(1,99))))","v":29},"litres"]
[{"$f":"IF(COUNTIF($B$1:B1869,TRUE)=COUNTIF($B$1:B1868,TRUE),\"\",COUNTIF($B$1:B1869,TRUE))","v":""},{"$f":"IF(Worksheet!$D$10=2,FALSE,Worksheet!$D$17)","v":false},{"$f":"1000*F1869","v":65000},"cm³","=",{"$f":"IF(Worksheet!$D$6=1,RANDBETWEEN(1,99),IF(Worksheet!$D$6=2,CHOOSE(RANDBETWEEN(1,2),RANDBETWEEN(1,99),RANDBETWEEN(1,999)/10),CHOOSE(RANDBETWEEN(1,4),RANDBETWEEN(1,99999)/1000,RANDBETWEEN(1,9999)/100,RANDBETWEEN(1,999)/10,RANDBETWEEN(1,99))))","v":65},"litres"]
[{"$f":"IF(COUNTIF($B$1:B1870,TRUE)=COUNTIF($B$1:B1869,TRUE),\"\",COUNTIF($B$1:B1870,TRUE))","v":""},{"$f":"IF(Worksheet!$D$10=2,FALSE,Worksheet!$D$18)","v":false},{"$f":"10000*F1870","v":990000},"cm²","=",{"$f":"IF(Worksheet!$D$6=1,RANDBETWEEN(1,99),IF(Worksheet!$D$6=2,CHOOSE(RANDBETWEEN(1,2),RANDBETWEEN(1,99),RANDBETWEEN(1,999)/10),CHOOSE(RANDBETWEEN(1,4),RANDBETWEEN(1,99999)/1000,RANDBETWEEN(1,9999)/100,RANDBETWEEN(1,999)/10,RANDBETWEEN(1,99))))","v":99},"m²"]
[{"$f":"IF(COUNTIF($B$1:B1871,TRUE)=COUNTIF($B$1:B1870,TRUE),\"\",COUNTIF($B$1:B1871,TRUE))","v":1123},{"$f":"IF(Worksheet!$D$10=3,FALSE,Worksheet!$B$14)","v":true},{"$f":"IF(Worksheet!$D$6=1,RANDBETWEEN(1,99),IF(Worksheet!$D$6=2,CHOOSE(RANDBETWEEN(1,2),RANDBETWEEN(1,99),RANDBETWEEN(1,999)/10),CHOOSE(RANDBETWEEN(1,4),RANDBETWEEN(1,99999)/1000,RANDBETWEEN(1,9999)/100,RANDBETWEEN(1,999)/10,RANDBETWEEN(1,99))))","v":48},"cm","=",{"$f":"10*C1871","v":480},"mm"]
[{"$f":"IF(COUNTIF($B$1:B1872,TRUE)=COUNTIF($B$1:B1871,TRUE),\"\",COUNTIF($B$1:B1872,TRUE))","v":1124},{"$f":"IF(Worksheet!$D$10=3,FALSE,Worksheet!$B$15)","v":true},{"$f":"IF(Worksheet!$D$6=1,RANDBETWEEN(1,99),IF(Worksheet!$D$6=2,CHOOSE(RANDBETWEEN(1,2),RANDBETWEEN(1,99),RANDBETWEEN(1,999)/10),CHOOSE(RANDBETWEEN(1,4),RANDBETWEEN(1,99999)/1000,RANDBETWEEN(1,9999)/100,RANDBETWEEN(1,999)/10,RANDBETWEEN(1,99))))","v":64},"m","=",{"$f":"100*C1872","v":6400},"cm"]
[{"$f":"IF(COUNTIF($B$1:B1873,TRUE)=COUNTIF($B$1:B1872,TRUE),\"\",COUNTIF($B$1:B1873,TRUE))","v":1125},{"$f":"IF(Worksheet!$D$10=3,FALSE,Worksheet!$B$16)","v":true},{"$f":"IF(Worksheet!$D$6=1,RANDBETWEEN(1,99),IF(Worksheet!$D$6=2,CHOOSE(RANDBETWEEN(1,2),RANDBETWEEN(1,99),RANDBETWEEN(1,999)/10),CHOOSE(RANDBETWEEN(1,4),RANDBETWEEN(1,99999)/1000,RANDBETWEEN(1,9999)/100,RANDBETWEEN(1,999)/10,RANDBETWEEN(1,99))))","v":18},"km","=",{"$f":"1000*C1873","v":18000},"m"]
[{"$f":"IF(COUNTIF($B$1:B1874,TRUE)=COUNTIF($B$1:B1873,TRUE),\"\",COUNTIF($B$1:B1874,TRUE))","v":""},{"$f":"IF(Worksheet!$D$10=3,FALSE,Worksheet!$B$17)","v":false},{"$f":"IF(Worksheet!$D$6=1,RANDBETWEEN(1,99),IF(Worksheet!$D$6=2,CHOOSE(RANDBETWEEN(1,2),RANDBETWEEN(1,99),RANDBETWEEN(1,999)/10),CHOOSE(RANDBETWEEN(1,4),RANDBETWEEN(1,99999)/1000,RANDBETWEEN(1,9999)/100,RANDBETWEEN(1,999)/10,RANDBETWEEN(1,99))))","v":11},"m",{"$f":"#REF!","v":{"$error":"#REF!"}},{"$f":"1000*C1874","v":11000},"mm"]
[{"$f":"IF(COUNTIF($B$1:B1875,TRUE)=COUNTIF($B$1:B1874,TRUE),\"\",COUNTIF($B$1:B1875,TRUE))","v":""},{"$f":"IF(Worksheet!$D$10=3,FALSE,Worksheet!$B$18)","v":false},{"$f":"IF(Worksheet!$D$6=1,RANDBETWEEN(1,99),IF(Worksheet!$D$6=2,CHOOSE(RANDBETWEEN(1,2),RANDBETWEEN(1,99),RANDBETWEEN(1,999)/10),CHOOSE(RANDBETWEEN(1,4),RANDBETWEEN(1,99999)/1000,RANDBETWEEN(1,9999)/100,RANDBETWEEN(1,999)/10,RANDBETWEEN(1,99))))","v":57},"cm²","=",{"$f":"C1875*100","v":5700},"mm²"]
[{"$f":"IF(COUNTIF($B$1:B1876,TRUE)=COUNTIF($B$1:B1875,TRUE),\"\",COUNTIF($B$1:B1876,TRUE))","v":1126},{"$f":"IF(Worksheet!$D$10=3,FALSE,Worksheet!$D$14)","v":true},{"$f":"IF(Worksheet!$D$6=1,RANDBETWEEN(1,99),IF(Worksheet!$D$6=2,CHOOSE(RANDBETWEEN(1,2),RANDBETWEEN(1,99),RANDBETWEEN(1,999)/10),CHOOSE(RANDBETWEEN(1,4),RANDBETWEEN(1,99999)/1000,RANDBETWEEN(1,9999)/100,RANDBETWEEN(1,999)/10,RANDBETWEEN(1,99))))","v":6},"kg","=",{"$f":"1000*C1876","v":6000},"g"]
[{"$f":"IF(COUNTIF($B$1:B1877,TRUE)=COUNTIF($B$1:B1876,TRUE),\"\",COUNTIF($B$1:B1877,TRUE))","v":1127},{"$f":"IF(Worksheet!$D$10=3,FALSE,Worksheet!$D$15)","v":true},{"$f":"IF(Worksheet!$D$6=1,RANDBETWEEN(1,99),IF(Worksheet!$D$6=2,CHOOSE(RANDBETWEEN(1,2),RANDBETWEEN(1,99),RANDBETWEEN(1,999)/10),CHOOSE(RANDBETWEEN(1,4),RANDBETWEEN(1,99999)/1000,RANDBETWEEN(1,9999)/100,RANDBETWEEN(1,999)/10,RANDBETWEEN(1,99))))","v":84},"tonnes","=",{"$f":"1000*C1877","v":84000},"kg"]
[{"$f":"IF(COUNTIF($B$1:B1878,TRUE)=COUNTIF($B$1:B1877,TRUE),\"\",COUNTIF($B$1:B1878,TRUE))","v":1128},{"$f":"IF(Worksheet!$D$10=3,FALSE,Worksheet!$D$16)","v":true},{"$f":"IF(Worksheet!$D$6=1,RANDBETWEEN(1,99),IF(Worksheet!$D$6=2,CHOOSE(RANDBETWEEN(1,2),RANDBETWEEN(1,99),RANDBETWEEN(1,999)/10),CHOOSE(RANDBETWEEN(1,4),RANDBETWEEN(1,99999)/1000,RANDBETWEEN(1,9999)/100,RANDBETWEEN(1,999)/10,RANDBETWEEN(1,99))))","v":24},"litres","=",{"$f":"1000*C1878","v":24000},"ml"]
[{"$f":"IF(COUNTIF($B$1:B1879,TRUE)=COUNTIF($B$1:B1878,TRUE),\"\",COUNTIF($B$1:B1879,TRUE))","v":""},{"$f":"IF(Worksheet!$D$10=3,FALSE,Worksheet!$D$17)","v":false},{"$f":"IF(Worksheet!$D$6=1,RANDBETWEEN(1,99),IF(Worksheet!$D$6=2,CHOOSE(RANDBETWEEN(1,2),RANDBETWEEN(1,99),RANDBETWEEN(1,999)/10),CHOOSE(RANDBETWEEN(1,4),RANDBETWEEN(1,99999)/1000,RANDBETWEEN(1,9999)/100,RANDBETWEEN(1,999)/10,RANDBETWEEN(1,99))))","v":50},"litres","=",{"$f":"1000*C1879","v":50000},"cm³"]
[{"$f":"IF(COUNTIF($B$1:B1880,TRUE)=COUNTIF($B$1:B1879,TRUE),\"\",COUNTIF($B$1:B1880,TRUE))","v":""},{"$f":"IF(Worksheet!$D$10=3,FALSE,Worksheet!$D$18)","v":false},{"$f":"IF(Worksheet!$D$6=1,RANDBETWEEN(1,99),IF(Worksheet!$D$6=2,CHOOSE(RANDBETWEEN(1,2),RANDBETWEEN(1,99),RANDBETWEEN(1,999)/10),CHOOSE(RANDBETWEEN(1,4),RANDBETWEEN(1,99999)/1000,RANDBETWEEN(1,9999)/100,RANDBETWEEN(1,999)/10,RANDBETWEEN(1,99))))","v":37},"m²","=",{"$f":"10000*C1880","v":370000},"cm²"]
[{"$f":"IF(COUNTIF($B$1:B1881,TRUE)=COUNTIF($B$1:B1880,TRUE),\"\",COUNTIF($B$1:B1881,TRUE))","v":1129},{"$f":"IF(Worksheet!$D$10=2,FALSE,Worksheet!$B$14)","v":true},{"$f":"10*F1881","v":140},"mm","=",{"$f":"IF(Worksheet!$D$6=1,RANDBETWEEN(1,99),IF(Worksheet!$D$6=2,CHOOSE(RANDBETWEEN(1,2),RANDBETWEEN(1,99),RANDBETWEEN(1,999)/10),CHOOSE(RANDBETWEEN(1,4),RANDBETWEEN(1,99999)/1000,RANDBETWEEN(1,9999)/100,RANDBETWEEN(1,999)/10,RANDBETWEEN(1,99))))","v":14},"cm"]
[{"$f":"IF(COUNTIF($B$1:B1882,TRUE)=COUNTIF($B$1:B1881,TRUE),\"\",COUNTIF($B$1:B1882,TRUE))","v":1130},{"$f":"IF(Worksheet!$D$10=2,FALSE,Worksheet!$B$15)","v":true},{"$f":"100*F1882","v":1200},"cm","=",{"$f":"IF(Worksheet!$D$6=1,RANDBETWEEN(1,99),IF(Worksheet!$D$6=2,CHOOSE(RANDBETWEEN(1,2),RANDBETWEEN(1,99),RANDBETWEEN(1,999)/10),CHOOSE(RANDBETWEEN(1,4),RANDBETWEEN(1,99999)/1000,RANDBETWEEN(1,9999)/100,RANDBETWEEN(1,999)/10,RANDBETWEEN(1,99))))","v":12},"m"]
[{"$f":"IF(COUNTIF($B$1:B1883,TRUE)=COUNTIF($B$1:B1882,TRUE),\"\",COUNTIF($B$1:B1883,TRUE))","v":1131},{"$f":"IF(Worksheet!$D$10=2,FALSE,Worksheet!$B$16)","v":true},{"$f":"1000*F1883","v":20000},"m","=",{"$f":"IF(Worksheet!$D$6=1,RANDBETWEEN(1,99),IF(Worksheet!$D$6=2,CHOOSE(RANDBETWEEN(1,2),RANDBETWEEN(1,99),RANDBETWEEN(1,999)/10),CHOOSE(RANDBETWEEN(1,4),RANDBETWEEN(1,99999)/1000,RANDBETWEEN(1,9999)/100,RANDBETWEEN(1,999)/10,RANDBETWEEN(1,99))))","v":20},"km"]
[{"$f":"IF(COUNTIF($B$1:B1884,TRUE)=COUNTIF($B$1:B1883,TRUE),\"\",COUNTIF($B$1:B1884,TRUE))","v":""},{"$f":"IF(Worksheet!$D$10=2,FALSE,Worksheet!$B$17)","v":false},{"$f":"1000*F1884","v":57000},"mm","=",{"$f":"IF(Worksheet!$D$6=1,RANDBETWEEN(1,99),IF(Worksheet!$D$6=2,CHOOSE(RANDBETWEEN(1,2),RANDBETWEEN(1,99),RANDBETWEEN(1,999)/10),CHOOSE(RANDBETWEEN(1,4),RANDBETWEEN(1,99999)/1000,RANDBETWEEN(1,9999)/100,RANDBETWEEN(1,999)/10,RANDBETWEEN(1,99))))","v":57},"m"]
[{"$f":"IF(COUNTIF($B$1:B1885,TRUE)=COUNTIF($B$1:B1884,TRUE),\"\",COUNTIF($B$1:B1885,TRUE))","v":""},{"$f":"IF(Worksheet!$D$10=2,FALSE,Worksheet!$B$18)","v":false},{"$f":"100*F1885","v":8200},"mm²","=",{"$f":"IF(Worksheet!$D$6=1,RANDBETWEEN(1,99),IF(Worksheet!$D$6=2,CHOOSE(RANDBETWEEN(1,2),RANDBETWEEN(1,99),RANDBETWEEN(1,999)/10),CHOOSE(RANDBETWEEN(1,4),RANDBETWEEN(1,99999)/1000,RANDBETWEEN(1,9999)/100,RANDBETWEEN(1,999)/10,RANDBETWEEN(1,99))))","v":82},"cm²"]
[{"$f":"IF(COUNTIF($B$1:B1886,TRUE)=COUNTIF($B$1:B1885,TRUE),\"\",COUNTIF($B$1:B1886,TRUE))","v":1132},{"$f":"IF(Worksheet!$D$10=2,FALSE,Worksheet!$D$14)","v":true},{"$f":"F1886*1000","v":62000},"g","=",{"$f":"IF(Worksheet!$D$6=1,RANDBETWEEN(1,99),IF(Worksheet!$D$6=2,CHOOSE(RANDBETWEEN(1,2),RANDBETWEEN(1,99),RANDBETWEEN(1,999)/10),CHOOSE(RANDBETWEEN(1,4),RANDBETWEEN(1,99999)/1000,RANDBETWEEN(1,9999)/100,RANDBETWEEN(1,999)/10,RANDBETWEEN(1,99))))","v":62},"kg"]
[{"$f":"IF(COUNTIF($B$1:B1887,TRUE)=COUNTIF($B$1:B1886,TRUE),\"\",COUNTIF($B$1:B1887,TRUE))","v":1133},{"$f":"IF(Worksheet!$D$10=2,FALSE,Worksheet!$D$15)","v":true},{"$f":"F1887*1000","v":80000},"kg","=",{"$f":"IF(Worksheet!$D$6=1,RANDBETWEEN(1,99),IF(Worksheet!$D$6=2,CHOOSE(RANDBETWEEN(1,2),RANDBETWEEN(1,99),RANDBETWEEN(1,999)/10),CHOOSE(RANDBETWEEN(1,4),RANDBETWEEN(1,99999)/1000,RANDBETWEEN(1,9999)/100,RANDBETWEEN(1,999)/10,RANDBETWEEN(1,99))))","v":80},"tonnes"]
[{"$f":"IF(COUNTIF($B$1:B1888,TRUE)=COUNTIF($B$1:B1887,TRUE),\"\",COUNTIF($B$1:B1888,TRUE))","v":1134},{"$f":"IF(Worksheet!$D$10=2,FALSE,Worksheet!$D$16)","v":true},{"$f":"1000*F1888","v":85000},"ml","=",{"$f":"IF(Worksheet!$D$6=1,RANDBETWEEN(1,99),IF(Worksheet!$D$6=2,CHOOSE(RANDBETWEEN(1,2),RANDBETWEEN(1,99),RANDBETWEEN(1,999)/10),CHOOSE(RANDBETWEEN(1,4),RANDBETWEEN(1,99999)/1000,RANDBETWEEN(1,9999)/100,RANDBETWEEN(1,999)/10,RANDBETWEEN(1,99))))","v":85},"litres"]
[{"$f":"IF(COUNTIF($B$1:B1889,TRUE)=COUNTIF($B$1:B1888,TRUE),\"\",COUNTIF($B$1:B1889,TRUE))","v":""},{"$f":"IF(Worksheet!$D$10=2,FALSE,Worksheet!$D$17)","v":false},{"$f":"1000*F1889","v":3000},"cm³","=",{"$f":"IF(Worksheet!$D$6=1,RANDBETWEEN(1,99),IF(Worksheet!$D$6=2,CHOOSE(RANDBETWEEN(1,2),RANDBETWEEN(1,99),RANDBETWEEN(1,999)/10),CHOOSE(RANDBETWEEN(1,4),RANDBETWEEN(1,99999)/1000,RANDBETWEEN(1,9999)/100,RANDBETWEEN(1,999)/10,RANDBETWEEN(1,99))))","v":3},"litres"]
[{"$f":"IF(COUNTIF($B$1:B1890,TRUE)=COUNTIF($B$1:B1889,TRUE),\"\",COUNTIF($B$1:B1890,TRUE))","v":""},{"$f":"IF(Worksheet!$D$10=2,FALSE,Worksheet!$D$18)","v":false},{"$f":"10000*F1890","v":450000},"cm²","=",{"$f":"IF(Worksheet!$D$6=1,RANDBETWEEN(1,99),IF(Worksheet!$D$6=2,CHOOSE(RANDBETWEEN(1,2),RANDBETWEEN(1,99),RANDBETWEEN(1,999)/10),CHOOSE(RANDBETWEEN(1,4),RANDBETWEEN(1,99999)/1000,RANDBETWEEN(1,9999)/100,RANDBETWEEN(1,999)/10,RANDBETWEEN(1,99))))","v":45},"m²"]
[{"$f":"IF(COUNTIF($B$1:B1891,TRUE)=COUNTIF($B$1:B1890,TRUE),\"\",COUNTIF($B$1:B1891,TRUE))","v":1135},{"$f":"IF(Worksheet!$D$10=3,FALSE,Worksheet!$B$14)","v":true},{"$f":"IF(Worksheet!$D$6=1,RANDBETWEEN(1,99),IF(Worksheet!$D$6=2,CHOOSE(RANDBETWEEN(1,2),RANDBETWEEN(1,99),RANDBETWEEN(1,999)/10),CHOOSE(RANDBETWEEN(1,4),RANDBETWEEN(1,99999)/1000,RANDBETWEEN(1,9999)/100,RANDBETWEEN(1,999)/10,RANDBETWEEN(1,99))))","v":62},"cm","=",{"$f":"10*C1891","v":620},"mm"]
[{"$f":"IF(COUNTIF($B$1:B1892,TRUE)=COUNTIF($B$1:B1891,TRUE),\"\",COUNTIF($B$1:B1892,TRUE))","v":1136},{"$f":"IF(Worksheet!$D$10=3,FALSE,Worksheet!$B$15)","v":true},{"$f":"IF(Worksheet!$D$6=1,RANDBETWEEN(1,99),IF(Worksheet!$D$6=2,CHOOSE(RANDBETWEEN(1,2),RANDBETWEEN(1,99),RANDBETWEEN(1,999)/10),CHOOSE(RANDBETWEEN(1,4),RANDBETWEEN(1,99999)/1000,RANDBETWEEN(1,9999)/100,RANDBETWEEN(1,999)/10,RANDBETWEEN(1,99))))","v":13},"m","=",{"$f":"100*C1892","v":1300},"cm"]
[{"$f":"IF(COUNTIF($B$1:B1893,TRUE)=COUNTIF($B$1:B1892,TRUE),\"\",COUNTIF($B$1:B1893,TRUE))","v":1137},{"$f":"IF(Worksheet!$D$10=3,FALSE,Worksheet!$B$16)","v":true},{"$f":"IF(Worksheet!$D$6=1,RANDBETWEEN(1,99),IF(Worksheet!$D$6=2,CHOOSE(RANDBETWEEN(1,2),RANDBETWEEN(1,99),RANDBETWEEN(1,999)/10),CHOOSE(RANDBETWEEN(1,4),RANDBETWEEN(1,99999)/1000,RANDBETWEEN(1,9999)/100,RANDBETWEEN(1,999)/10,RANDBETWEEN(1,99))))","v":28},"km","=",{"$f":"1000*C1893","v":28000},"m"]
[{"$f":"IF(COUNTIF($B$1:B1894,TRUE)=COUNTIF($B$1:B1893,TRUE),\"\",COUNTIF($B$1:B1894,TRUE))","v":""},{"$f":"IF(Worksheet!$D$10=3,FALSE,Worksheet!$B$17)","v":false},{"$f":"IF(Worksheet!$D$6=1,RANDBETWEEN(1,99),IF(Worksheet!$D$6=2,CHOOSE(RANDBETWEEN(1,2),RANDBETWEEN(1,99),RANDBETWEEN(1,999)/10),CHOOSE(RANDBETWEEN(1,4),RANDBETWEEN(1,99999)/1000,RANDBETWEEN(1,9999)/100,RANDBETWEEN(1,999)/10,RANDBETWEEN(1,99))))","v":90},"m",{"$f":"#REF!","v":{"$error":"#REF!"}},{"$f":"1000*C1894","v":90000},"mm"]
[{"$f":"IF(COUNTIF($B$1:B1895,TRUE)=COUNTIF($B$1:B1894,TRUE),\"\",COUNTIF($B$1:B1895,TRUE))","v":""},{"$f":"IF(Worksheet!$D$10=3,FALSE,Worksheet!$B$18)","v":false},{"$f":"IF(Worksheet!$D$6=1,RANDBETWEEN(1,99),IF(Worksheet!$D$6=2,CHOOSE(RANDBETWEEN(1,2),RANDBETWEEN(1,99),RANDBETWEEN(1,999)/10),CHOOSE(RANDBETWEEN(1,4),RANDBETWEEN(1,99999)/1000,RANDBETWEEN(1,9999)/100,RANDBETWEEN(1,999)/10,RANDBETWEEN(1,99))))","v":16},"cm²","=",{"$f":"C1895*100","v":1600},"mm²"]
[{"$f":"IF(COUNTIF($B$1:B1896,TRUE)=COUNTIF($B$1:B1895,TRUE),\"\",COUNTIF($B$1:B1896,TRUE))","v":1138},{"$f":"IF(Worksheet!$D$10=3,FALSE,Worksheet!$D$14)","v":true},{"$f":"IF(Worksheet!$D$6=1,RANDBETWEEN(1,99),IF(Worksheet!$D$6=2,CHOOSE(RANDBETWEEN(1,2),RANDBETWEEN(1,99),RANDBETWEEN(1,999)/10),CHOOSE(RANDBETWEEN(1,4),RANDBETWEEN(1,99999)/1000,RANDBETWEEN(1,9999)/100,RANDBETWEEN(1,999)/10,RANDBETWEEN(1,99))))","v":27},"kg","=",{"$f":"1000*C1896","v":27000},"g"]
[{"$f":"IF(COUNTIF($B$1:B1897,TRUE)=COUNTIF($B$1:B1896,TRUE),\"\",COUNTIF($B$1:B1897,TRUE))","v":1139},{"$f":"IF(Worksheet!$D$10=3,FALSE,Worksheet!$D$15)","v":true},{"$f":"IF(Worksheet!$D$6=1,RANDBETWEEN(1,99),IF(Worksheet!$D$6=2,CHOOSE(RANDBETWEEN(1,2),RANDBETWEEN(1,99),RANDBETWEEN(1,999)/10),CHOOSE(RANDBETWEEN(1,4),RANDBETWEEN(1,99999)/1000,RANDBETWEEN(1,9999)/100,RANDBETWEEN(1,999)/10,RANDBETWEEN(1,99))))","v":80},"tonnes","=",{"$f":"1000*C1897","v":80000},"kg"]
[{"$f":"IF(COUNTIF($B$1:B1898,TRUE)=COUNTIF($B$1:B1897,TRUE),\"\",COUNTIF($B$1:B1898,TRUE))","v":1140},{"$f":"IF(Worksheet!$D$10=3,FALSE,Worksheet!$D$16)","v":true},{"$f":"IF(Worksheet!$D$6=1,RANDBETWEEN(1,99),IF(Worksheet!$D$6=2,CHOOSE(RANDBETWEEN(1,2),RANDBETWEEN(1,99),RANDBETWEEN(1,999)/10),CHOOSE(RANDBETWEEN(1,4),RANDBETWEEN(1,99999)/1000,RANDBETWEEN(1,9999)/100,RANDBETWEEN(1,999)/10,RANDBETWEEN(1,99))))","v":98},"litres","=",{"$f":"1000*C1898","v":98000},"ml"]
[{"$f":"IF(COUNTIF($B$1:B1899,TRUE)=COUNTIF($B$1:B1898,TRUE),\"\",COUNTIF($B$1:B1899,TRUE))","v":""},{"$f":"IF(Worksheet!$D$10=3,FALSE,Worksheet!$D$17)","v":false},{"$f":"IF(Worksheet!$D$6=1,RANDBETWEEN(1,99),IF(Worksheet!$D$6=2,CHOOSE(RANDBETWEEN(1,2),RANDBETWEEN(1,99),RANDBETWEEN(1,999)/10),CHOOSE(RANDBETWEEN(1,4),RANDBETWEEN(1,99999)/1000,RANDBETWEEN(1,9999)/100,RANDBETWEEN(1,999)/10,RANDBETWEEN(1,99))))","v":50},"litres","=",{"$f":"1000*C1899","v":50000},"cm³"]
[{"$f":"IF(COUNTIF($B$1:B1900,TRUE)=COUNTIF($B$1:B1899,TRUE),\"\",COUNTIF($B$1:B1900,TRUE))","v":""},{"$f":"IF(Worksheet!$D$10=3,FALSE,Worksheet!$D$18)","v":false},{"$f":"IF(Worksheet!$D$6=1,RANDBETWEEN(1,99),IF(Worksheet!$D$6=2,CHOOSE(RANDBETWEEN(1,2),RANDBETWEEN(1,99),RANDBETWEEN(1,999)/10),CHOOSE(RANDBETWEEN(1,4),RANDBETWEEN(1,99999)/1000,RANDBETWEEN(1,9999)/100,RANDBETWEEN(1,999)/10,RANDBETWEEN(1,99))))","v":22},"m²","=",{"$f":"10000*C1900","v":220000},"cm²"]
[{"$f":"IF(COUNTIF($B$1:B1901,TRUE)=COUNTIF($B$1:B1900,TRUE),\"\",COUNTIF($B$1:B1901,TRUE))","v":1141},{"$f":"IF(Worksheet!$D$10=2,FALSE,Worksheet!$B$14)","v":true},{"$f":"10*F1901","v":630},"mm","=",{"$f":"IF(Worksheet!$D$6=1,RANDBETWEEN(1,99),IF(Worksheet!$D$6=2,CHOOSE(RANDBETWEEN(1,2),RANDBETWEEN(1,99),RANDBETWEEN(1,999)/10),CHOOSE(RANDBETWEEN(1,4),RANDBETWEEN(1,99999)/1000,RANDBETWEEN(1,9999)/100,RANDBETWEEN(1,999)/10,RANDBETWEEN(1,99))))","v":63},"cm"]
[{"$f":"IF(COUNTIF($B$1:B1902,TRUE)=COUNTIF($B$1:B1901,TRUE),\"\",COUNTIF($B$1:B1902,TRUE))","v":1142},{"$f":"IF(Worksheet!$D$10=2,FALSE,Worksheet!$B$15)","v":true},{"$f":"100*F1902","v":9200},"cm","=",{"$f":"IF(Worksheet!$D$6=1,RANDBETWEEN(1,99),IF(Worksheet!$D$6=2,CHOOSE(RANDBETWEEN(1,2),RANDBETWEEN(1,99),RANDBETWEEN(1,999)/10),CHOOSE(RANDBETWEEN(1,4),RANDBETWEEN(1,99999)/1000,RANDBETWEEN(1,9999)/100,RANDBETWEEN(1,999)/10,RANDBETWEEN(1,99))))","v":92},"m"]
[{"$f":"IF(COUNTIF($B$1:B1903,TRUE)=COUNTIF($B$1:B1902,TRUE),\"\",COUNTIF($B$1:B1903,TRUE))","v":1143},{"$f":"IF(Worksheet!$D$10=2,FALSE,Worksheet!$B$16)","v":true},{"$f":"1000*F1903","v":88000},"m","=",{"$f":"IF(Worksheet!$D$6=1,RANDBETWEEN(1,99),IF(Worksheet!$D$6=2,CHOOSE(RANDBETWEEN(1,2),RANDBETWEEN(1,99),RANDBETWEEN(1,999)/10),CHOOSE(RANDBETWEEN(1,4),RANDBETWEEN(1,99999)/1000,RANDBETWEEN(1,9999)/100,RANDBETWEEN(1,999)/10,RANDBETWEEN(1,99))))","v":88},"km"]
[{"$f":"IF(COUNTIF($B$1:B1904,TRUE)=COUNTIF($B$1:B1903,TRUE),\"\",COUNTIF($B$1:B1904,TRUE))","v":""},{"$f":"IF(Worksheet!$D$10=2,FALSE,Worksheet!$B$17)","v":false},{"$f":"1000*F1904","v":55000},"mm","=",{"$f":"IF(Worksheet!$D$6=1,RANDBETWEEN(1,99),IF(Worksheet!$D$6=2,CHOOSE(RANDBETWEEN(1,2),RANDBETWEEN(1,99),RANDBETWEEN(1,999)/10),CHOOSE(RANDBETWEEN(1,4),RANDBETWEEN(1,99999)/1000,RANDBETWEEN(1,9999)/100,RANDBETWEEN(1,999)/10,RANDBETWEEN(1,99))))","v":55},"m"]
[{"$f":"IF(COUNTIF($B$1:B1905,TRUE)=COUNTIF($B$1:B1904,TRUE),\"\",COUNTIF($B$1:B1905,TRUE))","v":""},{"$f":"IF(Worksheet!$D$10=2,FALSE,Worksheet!$B$18)","v":false},{"$f":"100*F1905","v":6700},"mm²","=",{"$f":"IF(Worksheet!$D$6=1,RANDBETWEEN(1,99),IF(Worksheet!$D$6=2,CHOOSE(RANDBETWEEN(1,2),RANDBETWEEN(1,99),RANDBETWEEN(1,999)/10),CHOOSE(RANDBETWEEN(1,4),RANDBETWEEN(1,99999)/1000,RANDBETWEEN(1,9999)/100,RANDBETWEEN(1,999)/10,RANDBETWEEN(1,99))))","v":67},"cm²"]
[{"$f":"IF(COUNTIF($B$1:B1906,TRUE)=COUNTIF($B$1:B1905,TRUE),\"\",COUNTIF($B$1:B1906,TRUE))","v":1144},{"$f":"IF(Worksheet!$D$10=2,FALSE,Worksheet!$D$14)","v":true},{"$f":"F1906*1000","v":88000},"g","=",{"$f":"IF(Worksheet!$D$6=1,RANDBETWEEN(1,99),IF(Worksheet!$D$6=2,CHOOSE(RANDBETWEEN(1,2),RANDBETWEEN(1,99),RANDBETWEEN(1,999)/10),CHOOSE(RANDBETWEEN(1,4),RANDBETWEEN(1,99999)/1000,RANDBETWEEN(1,9999)/100,RANDBETWEEN(1,999)/10,RANDBETWEEN(1,99))))","v":88},"kg"]
[{"$f":"IF(COUNTIF($B$1:B1907,TRUE)=COUNTIF($B$1:B1906,TRUE),\"\",COUNTIF($B$1:B1907,TRUE))","v":1145},{"$f":"IF(Worksheet!$D$10=2,FALSE,Worksheet!$D$15)","v":true},{"$f":"F1907*1000","v":16000},"kg","=",{"$f":"IF(Worksheet!$D$6=1,RANDBETWEEN(1,99),IF(Worksheet!$D$6=2,CHOOSE(RANDBETWEEN(1,2),RANDBETWEEN(1,99),RANDBETWEEN(1,999)/10),CHOOSE(RANDBETWEEN(1,4),RANDBETWEEN(1,99999)/1000,RANDBETWEEN(1,9999)/100,RANDBETWEEN(1,999)/10,RANDBETWEEN(1,99))))","v":16},"tonnes"]
[{"$f":"IF(COUNTIF($B$1:B1908,TRUE)=COUNTIF($B$1:B1907,TRUE),\"\",COUNTIF($B$1:B1908,TRUE))","v":1146},{"$f":"IF(Worksheet!$D$10=2,FALSE,Worksheet!$D$16)","v":true},{"$f":"1000*F1908","v":18000},"ml","=",{"$f":"IF(Worksheet!$D$6=1,RANDBETWEEN(1,99),IF(Worksheet!$D$6=2,CHOOSE(RANDBETWEEN(1,2),RANDBETWEEN(1,99),RANDBETWEEN(1,999)/10),CHOOSE(RANDBETWEEN(1,4),RANDBETWEEN(1,99999)/1000,RANDBETWEEN(1,9999)/100,RANDBETWEEN(1,999)/10,RANDBETWEEN(1,99))))","v":18},"litres"]
[{"$f":"IF(COUNTIF($B$1:B1909,TRUE)=COUNTIF($B$1:B1908,TRUE),\"\",COUNTIF($B$1:B1909,TRUE))","v":""},{"$f":"IF(Worksheet!$D$10=2,FALSE,Worksheet!$D$17)","v":false},{"$f":"1000*F1909","v":57000},"cm³","=",{"$f":"IF(Worksheet!$D$6=1,RANDBETWEEN(1,99),IF(Worksheet!$D$6=2,CHOOSE(RANDBETWEEN(1,2),RANDBETWEEN(1,99),RANDBETWEEN(1,999)/10),CHOOSE(RANDBETWEEN(1,4),RANDBETWEEN(1,99999)/1000,RANDBETWEEN(1,9999)/100,RANDBETWEEN(1,999)/10,RANDBETWEEN(1,99))))","v":57},"litres"]
[{"$f":"IF(COUNTIF($B$1:B1910,TRUE)=COUNTIF($B$1:B1909,TRUE),\"\",COUNTIF($B$1:B1910,TRUE))","v":""},{"$f":"IF(Worksheet!$D$10=2,FALSE,Worksheet!$D$18)","v":false},{"$f":"10000*F1910","v":870000},"cm²","=",{"$f":"IF(Worksheet!$D$6=1,RANDBETWEEN(1,99),IF(Worksheet!$D$6=2,CHOOSE(RANDBETWEEN(1,2),RANDBETWEEN(1,99),RANDBETWEEN(1,999)/10),CHOOSE(RANDBETWEEN(1,4),RANDBETWEEN(1,99999)/1000,RANDBETWEEN(1,9999)/100,RANDBETWEEN(1,999)/10,RANDBETWEEN(1,99))))","v":87},"m²"]
[{"$f":"IF(COUNTIF($B$1:B1911,TRUE)=COUNTIF($B$1:B1910,TRUE),\"\",COUNTIF($B$1:B1911,TRUE))","v":1147},{"$f":"IF(Worksheet!$D$10=3,FALSE,Worksheet!$B$14)","v":true},{"$f":"IF(Worksheet!$D$6=1,RANDBETWEEN(1,99),IF(Worksheet!$D$6=2,CHOOSE(RANDBETWEEN(1,2),RANDBETWEEN(1,99),RANDBETWEEN(1,999)/10),CHOOSE(RANDBETWEEN(1,4),RANDBETWEEN(1,99999)/1000,RANDBETWEEN(1,9999)/100,RANDBETWEEN(1,999)/10,RANDBETWEEN(1,99))))","v":56},"cm","=",{"$f":"10*C1911","v":560},"mm"]
[{"$f":"IF(COUNTIF($B$1:B1912,TRUE)=COUNTIF($B$1:B1911,TRUE),\"\",COUNTIF($B$1:B1912,TRUE))","v":1148},{"$f":"IF(Worksheet!$D$10=3,FALSE,Worksheet!$B$15)","v":true},{"$f":"IF(Worksheet!$D$6=1,RANDBETWEEN(1,99),IF(Worksheet!$D$6=2,CHOOSE(RANDBETWEEN(1,2),RANDBETWEEN(1,99),RANDBETWEEN(1,999)/10),CHOOSE(RANDBETWEEN(1,4),RANDBETWEEN(1,99999)/1000,RANDBETWEEN(1,9999)/100,RANDBETWEEN(1,999)/10,RANDBETWEEN(1,99))))","v":72},"m","=",{"$f":"100*C1912","v":7200},"cm"]
[{"$f":"IF(COUNTIF($B$1:B1913,TRUE)=COUNTIF($B$1:B1912,TRUE),\"\",COUNTIF($B$1:B1913,TRUE))","v":1149},{"$f":"IF(Worksheet!$D$10=3,FALSE,Worksheet!$B$16)","v":true},{"$f":"IF(Worksheet!$D$6=1,RANDBETWEEN(1,99),IF(Worksheet!$D$6=2,CHOOSE(RANDBETWEEN(1,2),RANDBETWEEN(1,99),RANDBETWEEN(1,999)/10),CHOOSE(RANDBETWEEN(1,4),RANDBETWEEN(1,99999)/1000,RANDBETWEEN(1,9999)/100,RANDBETWEEN(1,999)/10,RANDBETWEEN(1,99))))","v":74},"km","=",{"$f":"1000*C1913","v":74000},"m"]
[{"$f":"IF(COUNTIF($B$1:B1914,TRUE)=COUNTIF($B$1:B1913,TRUE),\"\",COUNTIF($B$1:B1914,TRUE))","v":""},{"$f":"IF(Worksheet!$D$10=3,FALSE,Worksheet!$B$17)","v":false},{"$f":"IF(Worksheet!$D$6=1,RANDBETWEEN(1,99),IF(Worksheet!$D$6=2,CHOOSE(RANDBETWEEN(1,2),RANDBETWEEN(1,99),RANDBETWEEN(1,999)/10),CHOOSE(RANDBETWEEN(1,4),RANDBETWEEN(1,99999)/1000,RANDBETWEEN(1,9999)/100,RANDBETWEEN(1,999)/10,RANDBETWEEN(1,99))))","v":80},"m",{"$f":"#REF!","v":{"$error":"#REF!"}},{"$f":"1000*C1914","v":80000},"mm"]
[{"$f":"IF(COUNTIF($B$1:B1915,TRUE)=COUNTIF($B$1:B1914,TRUE),\"\",COUNTIF($B$1:B1915,TRUE))","v":""},{"$f":"IF(Worksheet!$D$10=3,FALSE,Worksheet!$B$18)","v":false},{"$f":"IF(Worksheet!$D$6=1,RANDBETWEEN(1,99),IF(Worksheet!$D$6=2,CHOOSE(RANDBETWEEN(1,2),RANDBETWEEN(1,99),RANDBETWEEN(1,999)/10),CHOOSE(RANDBETWEEN(1,4),RANDBETWEEN(1,99999)/1000,RANDBETWEEN(1,9999)/100,RANDBETWEEN(1,999)/10,RANDBETWEEN(1,99))))","v":75},"cm²","=",{"$f":"C1915*100","v":7500},"mm²"]
[{"$f":"IF(COUNTIF($B$1:B1916,TRUE)=COUNTIF($B$1:B1915,TRUE),\"\",COUNTIF($B$1:B1916,TRUE))","v":1150},{"$f":"IF(Worksheet!$D$10=3,FALSE,Worksheet!$D$14)","v":true},{"$f":"IF(Worksheet!$D$6=1,RANDBETWEEN(1,99),IF(Worksheet!$D$6=2,CHOOSE(RANDBETWEEN(1,2),RANDBETWEEN(1,99),RANDBETWEEN(1,999)/10),CHOOSE(RANDBETWEEN(1,4),RANDBETWEEN(1,99999)/1000,RANDBETWEEN(1,9999)/100,RANDBETWEEN(1,999)/10,RANDBETWEEN(1,99))))","v":80},"kg","=",{"$f":"1000*C1916","v":80000},"g"]
[{"$f":"IF(COUNTIF($B$1:B1917,TRUE)=COUNTIF($B$1:B1916,TRUE),\"\",COUNTIF($B$1:B1917,TRUE))","v":1151},{"$f":"IF(Worksheet!$D$10=3,FALSE,Worksheet!$D$15)","v":true},{"$f":"IF(Worksheet!$D$6=1,RANDBETWEEN(1,99),IF(Worksheet!$D$6=2,CHOOSE(RANDBETWEEN(1,2),RANDBETWEEN(1,99),RANDBETWEEN(1,999)/10),CHOOSE(RANDBETWEEN(1,4),RANDBETWEEN(1,99999)/1000,RANDBETWEEN(1,9999)/100,RANDBETWEEN(1,999)/10,RANDBETWEEN(1,99))))","v":83},"tonnes","=",{"$f":"1000*C1917","v":83000},"kg"]
[{"$f":"IF(COUNTIF($B$1:B1918,TRUE)=COUNTIF($B$1:B1917,TRUE),\"\",COUNTIF($B$1:B1918,TRUE))","v":1152},{"$f":"IF(Worksheet!$D$10=3,FALSE,Worksheet!$D$16)","v":true},{"$f":"IF(Worksheet!$D$6=1,RANDBETWEEN(1,99),IF(Worksheet!$D$6=2,CHOOSE(RANDBETWEEN(1,2),RANDBETWEEN(1,99),RANDBETWEEN(1,999)/10),CHOOSE(RANDBETWEEN(1,4),RANDBETWEEN(1,99999)/1000,RANDBETWEEN(1,9999)/100,RANDBETWEEN(1,999)/10,RANDBETWEEN(1,99))))","v":28},"litres","=",{"$f":"1000*C1918","v":28000},"ml"]
[{"$f":"IF(COUNTIF($B$1:B1919,TRUE)=COUNTIF($B$1:B1918,TRUE),\"\",COUNTIF($B$1:B1919,TRUE))","v":""},{"$f":"IF(Worksheet!$D$10=3,FALSE,Worksheet!$D$17)","v":false},{"$f":"IF(Worksheet!$D$6=1,RANDBETWEEN(1,99),IF(Worksheet!$D$6=2,CHOOSE(RANDBETWEEN(1,2),RANDBETWEEN(1,99),RANDBETWEEN(1,999)/10),CHOOSE(RANDBETWEEN(1,4),RANDBETWEEN(1,99999)/1000,RANDBETWEEN(1,9999)/100,RANDBETWEEN(1,999)/10,RANDBETWEEN(1,99))))","v":87},"litres","=",{"$f":"1000*C1919","v":87000},"cm³"]
[{"$f":"IF(COUNTIF($B$1:B1920,TRUE)=COUNTIF($B$1:B1919,TRUE),\"\",COUNTIF($B$1:B1920,TRUE))","v":""},{"$f":"IF(Worksheet!$D$10=3,FALSE,Worksheet!$D$18)","v":false},{"$f":"IF(Worksheet!$D$6=1,RANDBETWEEN(1,99),IF(Worksheet!$D$6=2,CHOOSE(RANDBETWEEN(1,2),RANDBETWEEN(1,99),RANDBETWEEN(1,999)/10),CHOOSE(RANDBETWEEN(1,4),RANDBETWEEN(1,99999)/1000,RANDBETWEEN(1,9999)/100,RANDBETWEEN(1,999)/10,RANDBETWEEN(1,99))))","v":56},"m²","=",{"$f":"10000*C1920","v":560000},"cm²"]
[{"$f":"IF(COUNTIF($B$1:B1921,TRUE)=COUNTIF($B$1:B1920,TRUE),\"\",COUNTIF($B$1:B1921,TRUE))","v":1153},{"$f":"IF(Worksheet!$D$10=2,FALSE,Worksheet!$B$14)","v":true},{"$f":"10*F1921","v":910},"mm","=",{"$f":"IF(Worksheet!$D$6=1,RANDBETWEEN(1,99),IF(Worksheet!$D$6=2,CHOOSE(RANDBETWEEN(1,2),RANDBETWEEN(1,99),RANDBETWEEN(1,999)/10),CHOOSE(RANDBETWEEN(1,4),RANDBETWEEN(1,99999)/1000,RANDBETWEEN(1,9999)/100,RANDBETWEEN(1,999)/10,RANDBETWEEN(1,99))))","v":91},"cm"]
[{"$f":"IF(COUNTIF($B$1:B1922,TRUE)=COUNTIF($B$1:B1921,TRUE),\"\",COUNTIF($B$1:B1922,TRUE))","v":1154},{"$f":"IF(Worksheet!$D$10=2,FALSE,Worksheet!$B$15)","v":true},{"$f":"100*F1922","v":5900},"cm","=",{"$f":"IF(Worksheet!$D$6=1,RANDBETWEEN(1,99),IF(Worksheet!$D$6=2,CHOOSE(RANDBETWEEN(1,2),RANDBETWEEN(1,99),RANDBETWEEN(1,999)/10),CHOOSE(RANDBETWEEN(1,4),RANDBETWEEN(1,99999)/1000,RANDBETWEEN(1,9999)/100,RANDBETWEEN(1,999)/10,RANDBETWEEN(1,99))))","v":59},"m"]
[{"$f":"IF(COUNTIF($B$1:B1923,TRUE)=COUNTIF($B$1:B1922,TRUE),\"\",COUNTIF($B$1:B1923,TRUE))","v":1155},{"$f":"IF(Worksheet!$D$10=2,FALSE,Worksheet!$B$16)","v":true},{"$f":"1000*F1923","v":28000},"m","=",{"$f":"IF(Worksheet!$D$6=1,RANDBETWEEN(1,99),IF(Worksheet!$D$6=2,CHOOSE(RANDBETWEEN(1,2),RANDBETWEEN(1,99),RANDBETWEEN(1,999)/10),CHOOSE(RANDBETWEEN(1,4),RANDBETWEEN(1,99999)/1000,RANDBETWEEN(1,9999)/100,RANDBETWEEN(1,999)/10,RANDBETWEEN(1,99))))","v":28},"km"]
[{"$f":"IF(COUNTIF($B$1:B1924,TRUE)=COUNTIF($B$1:B1923,TRUE),\"\",COUNTIF($B$1:B1924,TRUE))","v":""},{"$f":"IF(Worksheet!$D$10=2,FALSE,Worksheet!$B$17)","v":false},{"$f":"1000*F1924","v":47000},"mm","=",{"$f":"IF(Worksheet!$D$6=1,RANDBETWEEN(1,99),IF(Worksheet!$D$6=2,CHOOSE(RANDBETWEEN(1,2),RANDBETWEEN(1,99),RANDBETWEEN(1,999)/10),CHOOSE(RANDBETWEEN(1,4),RANDBETWEEN(1,99999)/1000,RANDBETWEEN(1,9999)/100,RANDBETWEEN(1,999)/10,RANDBETWEEN(1,99))))","v":47},"m"]
[{"$f":"IF(COUNTIF($B$1:B1925,TRUE)=COUNTIF($B$1:B1924,TRUE),\"\",COUNTIF($B$1:B1925,TRUE))","v":""},{"$f":"IF(Worksheet!$D$10=2,FALSE,Worksheet!$B$18)","v":false},{"$f":"100*F1925","v":4000},"mm²","=",{"$f":"IF(Worksheet!$D$6=1,RANDBETWEEN(1,99),IF(Worksheet!$D$6=2,CHOOSE(RANDBETWEEN(1,2),RANDBETWEEN(1,99),RANDBETWEEN(1,999)/10),CHOOSE(RANDBETWEEN(1,4),RANDBETWEEN(1,99999)/1000,RANDBETWEEN(1,9999)/100,RANDBETWEEN(1,999)/10,RANDBETWEEN(1,99))))","v":40},"cm²"]
[{"$f":"IF(COUNTIF($B$1:B1926,TRUE)=COUNTIF($B$1:B1925,TRUE),\"\",COUNTIF($B$1:B1926,TRUE))","v":1156},{"$f":"IF(Worksheet!$D$10=2,FALSE,Worksheet!$D$14)","v":true},{"$f":"F1926*1000","v":34000},"g","=",{"$f":"IF(Worksheet!$D$6=1,RANDBETWEEN(1,99),IF(Worksheet!$D$6=2,CHOOSE(RANDBETWEEN(1,2),RANDBETWEEN(1,99),RANDBETWEEN(1,999)/10),CHOOSE(RANDBETWEEN(1,4),RANDBETWEEN(1,99999)/1000,RANDBETWEEN(1,9999)/100,RANDBETWEEN(1,999)/10,RANDBETWEEN(1,99))))","v":34},"kg"]
[{"$f":"IF(COUNTIF($B$1:B1927,TRUE)=COUNTIF($B$1:B1926,TRUE),\"\",COUNTIF($B$1:B1927,TRUE))","v":1157},{"$f":"IF(Worksheet!$D$10=2,FALSE,Worksheet!$D$15)","v":true},{"$f":"F1927*1000","v":27000},"kg","=",{"$f":"IF(Worksheet!$D$6=1,RANDBETWEEN(1,99),IF(Worksheet!$D$6=2,CHOOSE(RANDBETWEEN(1,2),RANDBETWEEN(1,99),RANDBETWEEN(1,999)/10),CHOOSE(RANDBETWEEN(1,4),RANDBETWEEN(1,99999)/1000,RANDBETWEEN(1,9999)/100,RANDBETWEEN(1,999)/10,RANDBETWEEN(1,99))))","v":27},"tonnes"]
[{"$f":"IF(COUNTIF($B$1:B1928,TRUE)=COUNTIF($B$1:B1927,TRUE),\"\",COUNTIF($B$1:B1928,TRUE))","v":1158},{"$f":"IF(Worksheet!$D$10=2,FALSE,Worksheet!$D$16)","v":true},{"$f":"1000*F1928","v":17000},"ml","=",{"$f":"IF(Worksheet!$D$6=1,RANDBETWEEN(1,99),IF(Worksheet!$D$6=2,CHOOSE(RANDBETWEEN(1,2),RANDBETWEEN(1,99),RANDBETWEEN(1,999)/10),CHOOSE(RANDBETWEEN(1,4),RANDBETWEEN(1,99999)/1000,RANDBETWEEN(1,9999)/100,RANDBETWEEN(1,999)/10,RANDBETWEEN(1,99))))","v":17},"litres"]
[{"$f":"IF(COUNTIF($B$1:B1929,TRUE)=COUNTIF($B$1:B1928,TRUE),\"\",COUNTIF($B$1:B1929,TRUE))","v":""},{"$f":"IF(Worksheet!$D$10=2,FALSE,Worksheet!$D$17)","v":false},{"$f":"1000*F1929","v":64000},"cm³","=",{"$f":"IF(Worksheet!$D$6=1,RANDBETWEEN(1,99),IF(Worksheet!$D$6=2,CHOOSE(RANDBETWEEN(1,2),RANDBETWEEN(1,99),RANDBETWEEN(1,999)/10),CHOOSE(RANDBETWEEN(1,4),RANDBETWEEN(1,99999)/1000,RANDBETWEEN(1,9999)/100,RANDBETWEEN(1,999)/10,RANDBETWEEN(1,99))))","v":64},"litres"]
[{"$f":"IF(COUNTIF($B$1:B1930,TRUE)=COUNTIF($B$1:B1929,TRUE),\"\",COUNTIF($B$1:B1930,TRUE))","v":""},{"$f":"IF(Worksheet!$D$10=2,FALSE,Worksheet!$D$18)","v":false},{"$f":"10000*F1930","v":200000},"cm²","=",{"$f":"IF(Worksheet!$D$6=1,RANDBETWEEN(1,99),IF(Worksheet!$D$6=2,CHOOSE(RANDBETWEEN(1,2),RANDBETWEEN(1,99),RANDBETWEEN(1,999)/10),CHOOSE(RANDBETWEEN(1,4),RANDBETWEEN(1,99999)/1000,RANDBETWEEN(1,9999)/100,RANDBETWEEN(1,999)/10,RANDBETWEEN(1,99))))","v":20},"m²"]
[{"$f":"IF(COUNTIF($B$1:B1931,TRUE)=COUNTIF($B$1:B1930,TRUE),\"\",COUNTIF($B$1:B1931,TRUE))","v":1159},{"$f":"IF(Worksheet!$D$10=3,FALSE,Worksheet!$B$14)","v":true},{"$f":"IF(Worksheet!$D$6=1,RANDBETWEEN(1,99),IF(Worksheet!$D$6=2,CHOOSE(RANDBETWEEN(1,2),RANDBETWEEN(1,99),RANDBETWEEN(1,999)/10),CHOOSE(RANDBETWEEN(1,4),RANDBETWEEN(1,99999)/1000,RANDBETWEEN(1,9999)/100,RANDBETWEEN(1,999)/10,RANDBETWEEN(1,99))))","v":81},"cm","=",{"$f":"10*C1931","v":810},"mm"]
[{"$f":"IF(COUNTIF($B$1:B1932,TRUE)=COUNTIF($B$1:B1931,TRUE),\"\",COUNTIF($B$1:B1932,TRUE))","v":1160},{"$f":"IF(Worksheet!$D$10=3,FALSE,Worksheet!$B$15)","v":true},{"$f":"IF(Worksheet!$D$6=1,RANDBETWEEN(1,99),IF(Worksheet!$D$6=2,CHOOSE(RANDBETWEEN(1,2),RANDBETWEEN(1,99),RANDBETWEEN(1,999)/10),CHOOSE(RANDBETWEEN(1,4),RANDBETWEEN(1,99999)/1000,RANDBETWEEN(1,9999)/100,RANDBETWEEN(1,999)/10,RANDBETWEEN(1,99))))","v":21},"m","=",{"$f":"100*C1932","v":2100},"cm"]
[{"$f":"IF(COUNTIF($B$1:B1933,TRUE)=COUNTIF($B$1:B1932,TRUE),\"\",COUNTIF($B$1:B1933,TRUE))","v":1161},{"$f":"IF(Worksheet!$D$10=3,FALSE,Worksheet!$B$16)","v":true},{"$f":"IF(Worksheet!$D$6=1,RANDBETWEEN(1,99),IF(Worksheet!$D$6=2,CHOOSE(RANDBETWEEN(1,2),RANDBETWEEN(1,99),RANDBETWEEN(1,999)/10),CHOOSE(RANDBETWEEN(1,4),RANDBETWEEN(1,99999)/1000,RANDBETWEEN(1,9999)/100,RANDBETWEEN(1,999)/10,RANDBETWEEN(1,99))))","v":59},"km","=",{"$f":"1000*C1933","v":59000},"m"]
[{"$f":"IF(COUNTIF($B$1:B1934,TRUE)=COUNTIF($B$1:B1933,TRUE),\"\",COUNTIF($B$1:B1934,TRUE))","v":""},{"$f":"IF(Worksheet!$D$10=3,FALSE,Worksheet!$B$17)","v":false},{"$f":"IF(Worksheet!$D$6=1,RANDBETWEEN(1,99),IF(Worksheet!$D$6=2,CHOOSE(RANDBETWEEN(1,2),RANDBETWEEN(1,99),RANDBETWEEN(1,999)/10),CHOOSE(RANDBETWEEN(1,4),RANDBETWEEN(1,99999)/1000,RANDBETWEEN(1,9999)/100,RANDBETWEEN(1,999)/10,RANDBETWEEN(1,99))))","v":83},"m",{"$f":"#REF!","v":{"$error":"#REF!"}},{"$f":"1000*C1934","v":83000},"mm"]
[{"$f":"IF(COUNTIF($B$1:B1935,TRUE)=COUNTIF($B$1:B1934,TRUE),\"\",COUNTIF($B$1:B1935,TRUE))","v":""},{"$f":"IF(Worksheet!$D$10=3,FALSE,Worksheet!$B$18)","v":false},{"$f":"IF(Worksheet!$D$6=1,RANDBETWEEN(1,99),IF(Worksheet!$D$6=2,CHOOSE(RANDBETWEEN(1,2),RANDBETWEEN(1,99),RANDBETWEEN(1,999)/10),CHOOSE(RANDBETWEEN(1,4),RANDBETWEEN(1,99999)/1000,RANDBETWEEN(1,9999)/100,RANDBETWEEN(1,999)/10,RANDBETWEEN(1,99))))","v":19},"cm²","=",{"$f":"C1935*100","v":1900},"mm²"]
[{"$f":"IF(COUNTIF($B$1:B1936,TRUE)=COUNTIF($B$1:B1935,TRUE),\"\",COUNTIF($B$1:B1936,TRUE))","v":1162},{"$f":"IF(Worksheet!$D$10=3,FALSE,Worksheet!$D$14)","v":true},{"$f":"IF(Worksheet!$D$6=1,RANDBETWEEN(1,99),IF(Worksheet!$D$6=2,CHOOSE(RANDBETWEEN(1,2),RANDBETWEEN(1,99),RANDBETWEEN(1,999)/10),CHOOSE(RANDBETWEEN(1,4),RANDBETWEEN(1,99999)/1000,RANDBETWEEN(1,9999)/100,RANDBETWEEN(1,999)/10,RANDBETWEEN(1,99))))","v":36},"kg","=",{"$f":"1000*C1936","v":36000},"g"]
[{"$f":"IF(COUNTIF($B$1:B1937,TRUE)=COUNTIF($B$1:B1936,TRUE),\"\",COUNTIF($B$1:B1937,TRUE))","v":1163},{"$f":"IF(Worksheet!$D$10=3,FALSE,Worksheet!$D$15)","v":true},{"$f":"IF(Worksheet!$D$6=1,RANDBETWEEN(1,99),IF(Worksheet!$D$6=2,CHOOSE(RANDBETWEEN(1,2),RANDBETWEEN(1,99),RANDBETWEEN(1,999)/10),CHOOSE(RANDBETWEEN(1,4),RANDBETWEEN(1,99999)/1000,RANDBETWEEN(1,9999)/100,RANDBETWEEN(1,999)/10,RANDBETWEEN(1,99))))","v":28},"tonnes","=",{"$f":"1000*C1937","v":28000},"kg"]
[{"$f":"IF(COUNTIF($B$1:B1938,TRUE)=COUNTIF($B$1:B1937,TRUE),\"\",COUNTIF($B$1:B1938,TRUE))","v":1164},{"$f":"IF(Worksheet!$D$10=3,FALSE,Worksheet!$D$16)","v":true},{"$f":"IF(Worksheet!$D$6=1,RANDBETWEEN(1,99),IF(Worksheet!$D$6=2,CHOOSE(RANDBETWEEN(1,2),RANDBETWEEN(1,99),RANDBETWEEN(1,999)/10),CHOOSE(RANDBETWEEN(1,4),RANDBETWEEN(1,99999)/1000,RANDBETWEEN(1,9999)/100,RANDBETWEEN(1,999)/10,RANDBETWEEN(1,99))))","v":51},"litres","=",{"$f":"1000*C1938","v":51000},"ml"]
[{"$f":"IF(COUNTIF($B$1:B1939,TRUE)=COUNTIF($B$1:B1938,TRUE),\"\",COUNTIF($B$1:B1939,TRUE))","v":""},{"$f":"IF(Worksheet!$D$10=3,FALSE,Worksheet!$D$17)","v":false},{"$f":"IF(Worksheet!$D$6=1,RANDBETWEEN(1,99),IF(Worksheet!$D$6=2,CHOOSE(RANDBETWEEN(1,2),RANDBETWEEN(1,99),RANDBETWEEN(1,999)/10),CHOOSE(RANDBETWEEN(1,4),RANDBETWEEN(1,99999)/1000,RANDBETWEEN(1,9999)/100,RANDBETWEEN(1,999)/10,RANDBETWEEN(1,99))))","v":80},"litres","=",{"$f":"1000*C1939","v":80000},"cm³"]
[{"$f":"IF(COUNTIF($B$1:B1940,TRUE)=COUNTIF($B$1:B1939,TRUE),\"\",COUNTIF($B$1:B1940,TRUE))","v":""},{"$f":"IF(Worksheet!$D$10=3,FALSE,Worksheet!$D$18)","v":false},{"$f":"IF(Worksheet!$D$6=1,RANDBETWEEN(1,99),IF(Worksheet!$D$6=2,CHOOSE(RANDBETWEEN(1,2),RANDBETWEEN(1,99),RANDBETWEEN(1,999)/10),CHOOSE(RANDBETWEEN(1,4),RANDBETWEEN(1,99999)/1000,RANDBETWEEN(1,9999)/100,RANDBETWEEN(1,999)/10,RANDBETWEEN(1,99))))","v":36},"m²","=",{"$f":"10000*C1940","v":360000},"cm²"]
[{"$f":"IF(COUNTIF($B$1:B1941,TRUE)=COUNTIF($B$1:B1940,TRUE),\"\",COUNTIF($B$1:B1941,TRUE))","v":1165},{"$f":"IF(Worksheet!$D$10=2,FALSE,Worksheet!$B$14)","v":true},{"$f":"10*F1941","v":820},"mm","=",{"$f":"IF(Worksheet!$D$6=1,RANDBETWEEN(1,99),IF(Worksheet!$D$6=2,CHOOSE(RANDBETWEEN(1,2),RANDBETWEEN(1,99),RANDBETWEEN(1,999)/10),CHOOSE(RANDBETWEEN(1,4),RANDBETWEEN(1,99999)/1000,RANDBETWEEN(1,9999)/100,RANDBETWEEN(1,999)/10,RANDBETWEEN(1,99))))","v":82},"cm"]
[{"$f":"IF(COUNTIF($B$1:B1942,TRUE)=COUNTIF($B$1:B1941,TRUE),\"\",COUNTIF($B$1:B1942,TRUE))","v":1166},{"$f":"IF(Worksheet!$D$10=2,FALSE,Worksheet!$B$15)","v":true},{"$f":"100*F1942","v":5100},"cm","=",{"$f":"IF(Worksheet!$D$6=1,RANDBETWEEN(1,99),IF(Worksheet!$D$6=2,CHOOSE(RANDBETWEEN(1,2),RANDBETWEEN(1,99),RANDBETWEEN(1,999)/10),CHOOSE(RANDBETWEEN(1,4),RANDBETWEEN(1,99999)/1000,RANDBETWEEN(1,9999)/100,RANDBETWEEN(1,999)/10,RANDBETWEEN(1,99))))","v":51},"m"]
[{"$f":"IF(COUNTIF($B$1:B1943,TRUE)=COUNTIF($B$1:B1942,TRUE),\"\",COUNTIF($B$1:B1943,TRUE))","v":1167},{"$f":"IF(Worksheet!$D$10=2,FALSE,Worksheet!$B$16)","v":true},{"$f":"1000*F1943","v":83000},"m","=",{"$f":"IF(Worksheet!$D$6=1,RANDBETWEEN(1,99),IF(Worksheet!$D$6=2,CHOOSE(RANDBETWEEN(1,2),RANDBETWEEN(1,99),RANDBETWEEN(1,999)/10),CHOOSE(RANDBETWEEN(1,4),RANDBETWEEN(1,99999)/1000,RANDBETWEEN(1,9999)/100,RANDBETWEEN(1,999)/10,RANDBETWEEN(1,99))))","v":83},"km"]
[{"$f":"IF(COUNTIF($B$1:B1944,TRUE)=COUNTIF($B$1:B1943,TRUE),\"\",COUNTIF($B$1:B1944,TRUE))","v":""},{"$f":"IF(Worksheet!$D$10=2,FALSE,Worksheet!$B$17)","v":false},{"$f":"1000*F1944","v":97000},"mm","=",{"$f":"IF(Worksheet!$D$6=1,RANDBETWEEN(1,99),IF(Worksheet!$D$6=2,CHOOSE(RANDBETWEEN(1,2),RANDBETWEEN(1,99),RANDBETWEEN(1,999)/10),CHOOSE(RANDBETWEEN(1,4),RANDBETWEEN(1,99999)/1000,RANDBETWEEN(1,9999)/100,RANDBETWEEN(1,999)/10,RANDBETWEEN(1,99))))","v":97},"m"]
[{"$f":"IF(COUNTIF($B$1:B1945,TRUE)=COUNTIF($B$1:B1944,TRUE),\"\",COUNTIF($B$1:B1945,TRUE))","v":""},{"$f":"IF(Worksheet!$D$10=2,FALSE,Worksheet!$B$18)","v":false},{"$f":"100*F1945","v":1600},"mm²","=",{"$f":"IF(Worksheet!$D$6=1,RANDBETWEEN(1,99),IF(Worksheet!$D$6=2,CHOOSE(RANDBETWEEN(1,2),RANDBETWEEN(1,99),RANDBETWEEN(1,999)/10),CHOOSE(RANDBETWEEN(1,4),RANDBETWEEN(1,99999)/1000,RANDBETWEEN(1,9999)/100,RANDBETWEEN(1,999)/10,RANDBETWEEN(1,99))))","v":16},"cm²"]
[{"$f":"IF(COUNTIF($B$1:B1946,TRUE)=COUNTIF($B$1:B1945,TRUE),\"\",COUNTIF($B$1:B1946,TRUE))","v":1168},{"$f":"IF(Worksheet!$D$10=2,FALSE,Worksheet!$D$14)","v":true},{"$f":"F1946*1000","v":80000},"g","=",{"$f":"IF(Worksheet!$D$6=1,RANDBETWEEN(1,99),IF(Worksheet!$D$6=2,CHOOSE(RANDBETWEEN(1,2),RANDBETWEEN(1,99),RANDBETWEEN(1,999)/10),CHOOSE(RANDBETWEEN(1,4),RANDBETWEEN(1,99999)/1000,RANDBETWEEN(1,9999)/100,RANDBETWEEN(1,999)/10,RANDBETWEEN(1,99))))","v":80},"kg"]
[{"$f":"IF(COUNTIF($B$1:B1947,TRUE)=COUNTIF($B$1:B1946,TRUE),\"\",COUNTIF($B$1:B1947,TRUE))","v":1169},{"$f":"IF(Worksheet!$D$10=2,FALSE,Worksheet!$D$15)","v":true},{"$f":"F1947*1000","v":34000},"kg","=",{"$f":"IF(Worksheet!$D$6=1,RANDBETWEEN(1,99),IF(Worksheet!$D$6=2,CHOOSE(RANDBETWEEN(1,2),RANDBETWEEN(1,99),RANDBETWEEN(1,999)/10),CHOOSE(RANDBETWEEN(1,4),RANDBETWEEN(1,99999)/1000,RANDBETWEEN(1,9999)/100,RANDBETWEEN(1,999)/10,RANDBETWEEN(1,99))))","v":34},"tonnes"]
[{"$f":"IF(COUNTIF($B$1:B1948,TRUE)=COUNTIF($B$1:B1947,TRUE),\"\",COUNTIF($B$1:B1948,TRUE))","v":1170},{"$f":"IF(Worksheet!$D$10=2,FALSE,Worksheet!$D$16)","v":true},{"$f":"1000*F1948","v":12000},"ml","=",{"$f":"IF(Worksheet!$D$6=1,RANDBETWEEN(1,99),IF(Worksheet!$D$6=2,CHOOSE(RANDBETWEEN(1,2),RANDBETWEEN(1,99),RANDBETWEEN(1,999)/10),CHOOSE(RANDBETWEEN(1,4),RANDBETWEEN(1,99999)/1000,RANDBETWEEN(1,9999)/100,RANDBETWEEN(1,999)/10,RANDBETWEEN(1,99))))","v":12},"litres"]
[{"$f":"IF(COUNTIF($B$1:B1949,TRUE)=COUNTIF($B$1:B1948,TRUE),\"\",COUNTIF($B$1:B1949,TRUE))","v":""},{"$f":"IF(Worksheet!$D$10=2,FALSE,Worksheet!$D$17)","v":false},{"$f":"1000*F1949","v":40000},"cm³","=",{"$f":"IF(Worksheet!$D$6=1,RANDBETWEEN(1,99),IF(Worksheet!$D$6=2,CHOOSE(RANDBETWEEN(1,2),RANDBETWEEN(1,99),RANDBETWEEN(1,999)/10),CHOOSE(RANDBETWEEN(1,4),RANDBETWEEN(1,99999)/1000,RANDBETWEEN(1,9999)/100,RANDBETWEEN(1,999)/10,RANDBETWEEN(1,99))))","v":40},"litres"]
[{"$f":"IF(COUNTIF($B$1:B1950,TRUE)=COUNTIF($B$1:B1949,TRUE),\"\",COUNTIF($B$1:B1950,TRUE))","v":""},{"$f":"IF(Worksheet!$D$10=2,FALSE,Worksheet!$D$18)","v":false},{"$f":"10000*F1950","v":810000},"cm²","=",{"$f":"IF(Worksheet!$D$6=1,RANDBETWEEN(1,99),IF(Worksheet!$D$6=2,CHOOSE(RANDBETWEEN(1,2),RANDBETWEEN(1,99),RANDBETWEEN(1,999)/10),CHOOSE(RANDBETWEEN(1,4),RANDBETWEEN(1,99999)/1000,RANDBETWEEN(1,9999)/100,RANDBETWEEN(1,999)/10,RANDBETWEEN(1,99))))","v":81},"m²"]
[{"$f":"IF(COUNTIF($B$1:B1951,TRUE)=COUNTIF($B$1:B1950,TRUE),\"\",COUNTIF($B$1:B1951,TRUE))","v":1171},{"$f":"IF(Worksheet!$D$10=3,FALSE,Worksheet!$B$14)","v":true},{"$f":"IF(Worksheet!$D$6=1,RANDBETWEEN(1,99),IF(Worksheet!$D$6=2,CHOOSE(RANDBETWEEN(1,2),RANDBETWEEN(1,99),RANDBETWEEN(1,999)/10),CHOOSE(RANDBETWEEN(1,4),RANDBETWEEN(1,99999)/1000,RANDBETWEEN(1,9999)/100,RANDBETWEEN(1,999)/10,RANDBETWEEN(1,99))))","v":37},"cm","=",{"$f":"10*C1951","v":370},"mm"]
[{"$f":"IF(COUNTIF($B$1:B1952,TRUE)=COUNTIF($B$1:B1951,TRUE),\"\",COUNTIF($B$1:B1952,TRUE))","v":1172},{"$f":"IF(Worksheet!$D$10=3,FALSE,Worksheet!$B$15)","v":true},{"$f":"IF(Worksheet!$D$6=1,RANDBETWEEN(1,99),IF(Worksheet!$D$6=2,CHOOSE(RANDBETWEEN(1,2),RANDBETWEEN(1,99),RANDBETWEEN(1,999)/10),CHOOSE(RANDBETWEEN(1,4),RANDBETWEEN(1,99999)/1000,RANDBETWEEN(1,9999)/100,RANDBETWEEN(1,999)/10,RANDBETWEEN(1,99))))","v":25},"m","=",{"$f":"100*C1952","v":2500},"cm"]
[{"$f":"IF(COUNTIF($B$1:B1953,TRUE)=COUNTIF($B$1:B1952,TRUE),\"\",COUNTIF($B$1:B1953,TRUE))","v":1173},{"$f":"IF(Worksheet!$D$10=3,FALSE,Worksheet!$B$16)","v":true},{"$f":"IF(Worksheet!$D$6=1,RANDBETWEEN(1,99),IF(Worksheet!$D$6=2,CHOOSE(RANDBETWEEN(1,2),RANDBETWEEN(1,99),RANDBETWEEN(1,999)/10),CHOOSE(RANDBETWEEN(1,4),RANDBETWEEN(1,99999)/1000,RANDBETWEEN(1,9999)/100,RANDBETWEEN(1,999)/10,RANDBETWEEN(1,99))))","v":10},"km","=",{"$f":"1000*C1953","v":10000},"m"]
[{"$f":"IF(COUNTIF($B$1:B1954,TRUE)=COUNTIF($B$1:B1953,TRUE),\"\",COUNTIF($B$1:B1954,TRUE))","v":""},{"$f":"IF(Worksheet!$D$10=3,FALSE,Worksheet!$B$17)","v":false},{"$f":"IF(Worksheet!$D$6=1,RANDBETWEEN(1,99),IF(Worksheet!$D$6=2,CHOOSE(RANDBETWEEN(1,2),RANDBETWEEN(1,99),RANDBETWEEN(1,999)/10),CHOOSE(RANDBETWEEN(1,4),RANDBETWEEN(1,99999)/1000,RANDBETWEEN(1,9999)/100,RANDBETWEEN(1,999)/10,RANDBETWEEN(1,99))))","v":10},"m",{"$f":"#REF!","v":{"$error":"#REF!"}},{"$f":"1000*C1954","v":10000},"mm"]
[{"$f":"IF(COUNTIF($B$1:B1955,TRUE)=COUNTIF($B$1:B1954,TRUE),\"\",COUNTIF($B$1:B1955,TRUE))","v":""},{"$f":"IF(Worksheet!$D$10=3,FALSE,Worksheet!$B$18)","v":false},{"$f":"IF(Worksheet!$D$6=1,RANDBETWEEN(1,99),IF(Worksheet!$D$6=2,CHOOSE(RANDBETWEEN(1,2),RANDBETWEEN(1,99),RANDBETWEEN(1,999)/10),CHOOSE(RANDBETWEEN(1,4),RANDBETWEEN(1,99999)/1000,RANDBETWEEN(1,9999)/100,RANDBETWEEN(1,999)/10,RANDBETWEEN(1,99))))","v":21},"cm²","=",{"$f":"C1955*100","v":2100},"mm²"]
[{"$f":"IF(COUNTIF($B$1:B1956,TRUE)=COUNTIF($B$1:B1955,TRUE),\"\",COUNTIF($B$1:B1956,TRUE))","v":1174},{"$f":"IF(Worksheet!$D$10=3,FALSE,Worksheet!$D$14)","v":true},{"$f":"IF(Worksheet!$D$6=1,RANDBETWEEN(1,99),IF(Worksheet!$D$6=2,CHOOSE(RANDBETWEEN(1,2),RANDBETWEEN(1,99),RANDBETWEEN(1,999)/10),CHOOSE(RANDBETWEEN(1,4),RANDBETWEEN(1,99999)/1000,RANDBETWEEN(1,9999)/100,RANDBETWEEN(1,999)/10,RANDBETWEEN(1,99))))","v":29},"kg","=",{"$f":"1000*C1956","v":29000},"g"]
[{"$f":"IF(COUNTIF($B$1:B1957,TRUE)=COUNTIF($B$1:B1956,TRUE),\"\",COUNTIF($B$1:B1957,TRUE))","v":1175},{"$f":"IF(Worksheet!$D$10=3,FALSE,Worksheet!$D$15)","v":true},{"$f":"IF(Worksheet!$D$6=1,RANDBETWEEN(1,99),IF(Worksheet!$D$6=2,CHOOSE(RANDBETWEEN(1,2),RANDBETWEEN(1,99),RANDBETWEEN(1,999)/10),CHOOSE(RANDBETWEEN(1,4),RANDBETWEEN(1,99999)/1000,RANDBETWEEN(1,9999)/100,RANDBETWEEN(1,999)/10,RANDBETWEEN(1,99))))","v":4},"tonnes","=",{"$f":"1000*C1957","v":4000},"kg"]
[{"$f":"IF(COUNTIF($B$1:B1958,TRUE)=COUNTIF($B$1:B1957,TRUE),\"\",COUNTIF($B$1:B1958,TRUE))","v":1176},{"$f":"IF(Worksheet!$D$10=3,FALSE,Worksheet!$D$16)","v":true},{"$f":"IF(Worksheet!$D$6=1,RANDBETWEEN(1,99),IF(Worksheet!$D$6=2,CHOOSE(RANDBETWEEN(1,2),RANDBETWEEN(1,99),RANDBETWEEN(1,999)/10),CHOOSE(RANDBETWEEN(1,4),RANDBETWEEN(1,99999)/1000,RANDBETWEEN(1,9999)/100,RANDBETWEEN(1,999)/10,RANDBETWEEN(1,99))))","v":88},"litres","=",{"$f":"1000*C1958","v":88000},"ml"]
[{"$f":"IF(COUNTIF($B$1:B1959,TRUE)=COUNTIF($B$1:B1958,TRUE),\"\",COUNTIF($B$1:B1959,TRUE))","v":""},{"$f":"IF(Worksheet!$D$10=3,FALSE,Worksheet!$D$17)","v":false},{"$f":"IF(Worksheet!$D$6=1,RANDBETWEEN(1,99),IF(Worksheet!$D$6=2,CHOOSE(RANDBETWEEN(1,2),RANDBETWEEN(1,99),RANDBETWEEN(1,999)/10),CHOOSE(RANDBETWEEN(1,4),RANDBETWEEN(1,99999)/1000,RANDBETWEEN(1,9999)/100,RANDBETWEEN(1,999)/10,RANDBETWEEN(1,99))))","v":50},"litres","=",{"$f":"1000*C1959","v":50000},"cm³"]
[{"$f":"IF(COUNTIF($B$1:B1960,TRUE)=COUNTIF($B$1:B1959,TRUE),\"\",COUNTIF($B$1:B1960,TRUE))","v":""},{"$f":"IF(Worksheet!$D$10=3,FALSE,Worksheet!$D$18)","v":false},{"$f":"IF(Worksheet!$D$6=1,RANDBETWEEN(1,99),IF(Worksheet!$D$6=2,CHOOSE(RANDBETWEEN(1,2),RANDBETWEEN(1,99),RANDBETWEEN(1,999)/10),CHOOSE(RANDBETWEEN(1,4),RANDBETWEEN(1,99999)/1000,RANDBETWEEN(1,9999)/100,RANDBETWEEN(1,999)/10,RANDBETWEEN(1,99))))","v":17},"m²","=",{"$f":"10000*C1960","v":170000},"cm²"]
[{"$f":"IF(COUNTIF($B$1:B1961,TRUE)=COUNTIF($B$1:B1960,TRUE),\"\",COUNTIF($B$1:B1961,TRUE))","v":1177},{"$f":"IF(Worksheet!$D$10=2,FALSE,Worksheet!$B$14)","v":true},{"$f":"10*F1961","v":740},"mm","=",{"$f":"IF(Worksheet!$D$6=1,RANDBETWEEN(1,99),IF(Worksheet!$D$6=2,CHOOSE(RANDBETWEEN(1,2),RANDBETWEEN(1,99),RANDBETWEEN(1,999)/10),CHOOSE(RANDBETWEEN(1,4),RANDBETWEEN(1,99999)/1000,RANDBETWEEN(1,9999)/100,RANDBETWEEN(1,999)/10,RANDBETWEEN(1,99))))","v":74},"cm"]
[{"$f":"IF(COUNTIF($B$1:B1962,TRUE)=COUNTIF($B$1:B1961,TRUE),\"\",COUNTIF($B$1:B1962,TRUE))","v":1178},{"$f":"IF(Worksheet!$D$10=2,FALSE,Worksheet!$B$15)","v":true},{"$f":"100*F1962","v":9900},"cm","=",{"$f":"IF(Worksheet!$D$6=1,RANDBETWEEN(1,99),IF(Worksheet!$D$6=2,CHOOSE(RANDBETWEEN(1,2),RANDBETWEEN(1,99),RANDBETWEEN(1,999)/10),CHOOSE(RANDBETWEEN(1,4),RANDBETWEEN(1,99999)/1000,RANDBETWEEN(1,9999)/100,RANDBETWEEN(1,999)/10,RANDBETWEEN(1,99))))","v":99},"m"]
[{"$f":"IF(COUNTIF($B$1:B1963,TRUE)=COUNTIF($B$1:B1962,TRUE),\"\",COUNTIF($B$1:B1963,TRUE))","v":1179},{"$f":"IF(Worksheet!$D$10=2,FALSE,Worksheet!$B$16)","v":true},{"$f":"1000*F1963","v":12000},"m","=",{"$f":"IF(Worksheet!$D$6=1,RANDBETWEEN(1,99),IF(Worksheet!$D$6=2,CHOOSE(RANDBETWEEN(1,2),RANDBETWEEN(1,99),RANDBETWEEN(1,999)/10),CHOOSE(RANDBETWEEN(1,4),RANDBETWEEN(1,99999)/1000,RANDBETWEEN(1,9999)/100,RANDBETWEEN(1,999)/10,RANDBETWEEN(1,99))))","v":12},"km"]
[{"$f":"IF(COUNTIF($B$1:B1964,TRUE)=COUNTIF($B$1:B1963,TRUE),\"\",COUNTIF($B$1:B1964,TRUE))","v":""},{"$f":"IF(Worksheet!$D$10=2,FALSE,Worksheet!$B$17)","v":false},{"$f":"1000*F1964","v":93000},"mm","=",{"$f":"IF(Worksheet!$D$6=1,RANDBETWEEN(1,99),IF(Worksheet!$D$6=2,CHOOSE(RANDBETWEEN(1,2),RANDBETWEEN(1,99),RANDBETWEEN(1,999)/10),CHOOSE(RANDBETWEEN(1,4),RANDBETWEEN(1,99999)/1000,RANDBETWEEN(1,9999)/100,RANDBETWEEN(1,999)/10,RANDBETWEEN(1,99))))","v":93},"m"]
[{"$f":"IF(COUNTIF($B$1:B1965,TRUE)=COUNTIF($B$1:B1964,TRUE),\"\",COUNTIF($B$1:B1965,TRUE))","v":""},{"$f":"IF(Worksheet!$D$10=2,FALSE,Worksheet!$B$18)","v":false},{"$f":"100*F1965","v":5900},"mm²","=",{"$f":"IF(Worksheet!$D$6=1,RANDBETWEEN(1,99),IF(Worksheet!$D$6=2,CHOOSE(RANDBETWEEN(1,2),RANDBETWEEN(1,99),RANDBETWEEN(1,999)/10),CHOOSE(RANDBETWEEN(1,4),RANDBETWEEN(1,99999)/1000,RANDBETWEEN(1,9999)/100,RANDBETWEEN(1,999)/10,RANDBETWEEN(1,99))))","v":59},"cm²"]
[{"$f":"IF(COUNTIF($B$1:B1966,TRUE)=COUNTIF($B$1:B1965,TRUE),\"\",COUNTIF($B$1:B1966,TRUE))","v":1180},{"$f":"IF(Worksheet!$D$10=2,FALSE,Worksheet!$D$14)","v":true},{"$f":"F1966*1000","v":73000},"g","=",{"$f":"IF(Worksheet!$D$6=1,RANDBETWEEN(1,99),IF(Worksheet!$D$6=2,CHOOSE(RANDBETWEEN(1,2),RANDBETWEEN(1,99),RANDBETWEEN(1,999)/10),CHOOSE(RANDBETWEEN(1,4),RANDBETWEEN(1,99999)/1000,RANDBETWEEN(1,9999)/100,RANDBETWEEN(1,999)/10,RANDBETWEEN(1,99))))","v":73},"kg"]
[{"$f":"IF(COUNTIF($B$1:B1967,TRUE)=COUNTIF($B$1:B1966,TRUE),\"\",COUNTIF($B$1:B1967,TRUE))","v":1181},{"$f":"IF(Worksheet!$D$10=2,FALSE,Worksheet!$D$15)","v":true},{"$f":"F1967*1000","v":42000},"kg","=",{"$f":"IF(Worksheet!$D$6=1,RANDBETWEEN(1,99),IF(Worksheet!$D$6=2,CHOOSE(RANDBETWEEN(1,2),RANDBETWEEN(1,99),RANDBETWEEN(1,999)/10),CHOOSE(RANDBETWEEN(1,4),RANDBETWEEN(1,99999)/1000,RANDBETWEEN(1,9999)/100,RANDBETWEEN(1,999)/10,RANDBETWEEN(1,99))))","v":42},"tonnes"]
[{"$f":"IF(COUNTIF($B$1:B1968,TRUE)=COUNTIF($B$1:B1967,TRUE),\"\",COUNTIF($B$1:B1968,TRUE))","v":1182},{"$f":"IF(Worksheet!$D$10=2,FALSE,Worksheet!$D$16)","v":true},{"$f":"1000*F1968","v":52000},"ml","=",{"$f":"IF(Worksheet!$D$6=1,RANDBETWEEN(1,99),IF(Worksheet!$D$6=2,CHOOSE(RANDBETWEEN(1,2),RANDBETWEEN(1,99),RANDBETWEEN(1,999)/10),CHOOSE(RANDBETWEEN(1,4),RANDBETWEEN(1,99999)/1000,RANDBETWEEN(1,9999)/100,RANDBETWEEN(1,999)/10,RANDBETWEEN(1,99))))","v":52},"litres"]
[{"$f":"IF(COUNTIF($B$1:B1969,TRUE)=COUNTIF($B$1:B1968,TRUE),\"\",COUNTIF($B$1:B1969,TRUE))","v":""},{"$f":"IF(Worksheet!$D$10=2,FALSE,Worksheet!$D$17)","v":false},{"$f":"1000*F1969","v":77000},"cm³","=",{"$f":"IF(Worksheet!$D$6=1,RANDBETWEEN(1,99),IF(Worksheet!$D$6=2,CHOOSE(RANDBETWEEN(1,2),RANDBETWEEN(1,99),RANDBETWEEN(1,999)/10),CHOOSE(RANDBETWEEN(1,4),RANDBETWEEN(1,99999)/1000,RANDBETWEEN(1,9999)/100,RANDBETWEEN(1,999)/10,RANDBETWEEN(1,99))))","v":77},"litres"]
[{"$f":"IF(COUNTIF($B$1:B1970,TRUE)=COUNTIF($B$1:B1969,TRUE),\"\",COUNTIF($B$1:B1970,TRUE))","v":""},{"$f":"IF(Worksheet!$D$10=2,FALSE,Worksheet!$D$18)","v":false},{"$f":"10000*F1970","v":890000},"cm²","=",{"$f":"IF(Worksheet!$D$6=1,RANDBETWEEN(1,99),IF(Worksheet!$D$6=2,CHOOSE(RANDBETWEEN(1,2),RANDBETWEEN(1,99),RANDBETWEEN(1,999)/10),CHOOSE(RANDBETWEEN(1,4),RANDBETWEEN(1,99999)/1000,RANDBETWEEN(1,9999)/100,RANDBETWEEN(1,999)/10,RANDBETWEEN(1,99))))","v":89},"m²"]
[{"$f":"IF(COUNTIF($B$1:B1971,TRUE)=COUNTIF($B$1:B1970,TRUE),\"\",COUNTIF($B$1:B1971,TRUE))","v":1183},{"$f":"IF(Worksheet!$D$10=3,FALSE,Worksheet!$B$14)","v":true},{"$f":"IF(Worksheet!$D$6=1,RANDBETWEEN(1,99),IF(Worksheet!$D$6=2,CHOOSE(RANDBETWEEN(1,2),RANDBETWEEN(1,99),RANDBETWEEN(1,999)/10),CHOOSE(RANDBETWEEN(1,4),RANDBETWEEN(1,99999)/1000,RANDBETWEEN(1,9999)/100,RANDBETWEEN(1,999)/10,RANDBETWEEN(1,99))))","v":98},"cm","=",{"$f":"10*C1971","v":980},"mm"]
[{"$f":"IF(COUNTIF($B$1:B1972,TRUE)=COUNTIF($B$1:B1971,TRUE),\"\",COUNTIF($B$1:B1972,TRUE))","v":1184},{"$f":"IF(Worksheet!$D$10=3,FALSE,Worksheet!$B$15)","v":true},{"$f":"IF(Worksheet!$D$6=1,RANDBETWEEN(1,99),IF(Worksheet!$D$6=2,CHOOSE(RANDBETWEEN(1,2),RANDBETWEEN(1,99),RANDBETWEEN(1,999)/10),CHOOSE(RANDBETWEEN(1,4),RANDBETWEEN(1,99999)/1000,RANDBETWEEN(1,9999)/100,RANDBETWEEN(1,999)/10,RANDBETWEEN(1,99))))","v":26},"m","=",{"$f":"100*C1972","v":2600},"cm"]
[{"$f":"IF(COUNTIF($B$1:B1973,TRUE)=COUNTIF($B$1:B1972,TRUE),\"\",COUNTIF($B$1:B1973,TRUE))","v":1185},{"$f":"IF(Worksheet!$D$10=3,FALSE,Worksheet!$B$16)","v":true},{"$f":"IF(Worksheet!$D$6=1,RANDBETWEEN(1,99),IF(Worksheet!$D$6=2,CHOOSE(RANDBETWEEN(1,2),RANDBETWEEN(1,99),RANDBETWEEN(1,999)/10),CHOOSE(RANDBETWEEN(1,4),RANDBETWEEN(1,99999)/1000,RANDBETWEEN(1,9999)/100,RANDBETWEEN(1,999)/10,RANDBETWEEN(1,99))))","v":77},"km","=",{"$f":"1000*C1973","v":77000},"m"]
[{"$f":"IF(COUNTIF($B$1:B1974,TRUE)=COUNTIF($B$1:B1973,TRUE),\"\",COUNTIF($B$1:B1974,TRUE))","v":""},{"$f":"IF(Worksheet!$D$10=3,FALSE,Worksheet!$B$17)","v":false},{"$f":"IF(Worksheet!$D$6=1,RANDBETWEEN(1,99),IF(Worksheet!$D$6=2,CHOOSE(RANDBETWEEN(1,2),RANDBETWEEN(1,99),RANDBETWEEN(1,999)/10),CHOOSE(RANDBETWEEN(1,4),RANDBETWEEN(1,99999)/1000,RANDBETWEEN(1,9999)/100,RANDBETWEEN(1,999)/10,RANDBETWEEN(1,99))))","v":74},"m",{"$f":"#REF!","v":{"$error":"#REF!"}},{"$f":"1000*C1974","v":74000},"mm"]
[{"$f":"IF(COUNTIF($B$1:B1975,TRUE)=COUNTIF($B$1:B1974,TRUE),\"\",COUNTIF($B$1:B1975,TRUE))","v":""},{"$f":"IF(Worksheet!$D$10=3,FALSE,Worksheet!$B$18)","v":false},{"$f":"IF(Worksheet!$D$6=1,RANDBETWEEN(1,99),IF(Worksheet!$D$6=2,CHOOSE(RANDBETWEEN(1,2),RANDBETWEEN(1,99),RANDBETWEEN(1,999)/10),CHOOSE(RANDBETWEEN(1,4),RANDBETWEEN(1,99999)/1000,RANDBETWEEN(1,9999)/100,RANDBETWEEN(1,999)/10,RANDBETWEEN(1,99))))","v":32},"cm²","=",{"$f":"C1975*100","v":3200},"mm²"]
[{"$f":"IF(COUNTIF($B$1:B1976,TRUE)=COUNTIF($B$1:B1975,TRUE),\"\",COUNTIF($B$1:B1976,TRUE))","v":1186},{"$f":"IF(Worksheet!$D$10=3,FALSE,Worksheet!$D$14)","v":true},{"$f":"IF(Worksheet!$D$6=1,RANDBETWEEN(1,99),IF(Worksheet!$D$6=2,CHOOSE(RANDBETWEEN(1,2),RANDBETWEEN(1,99),RANDBETWEEN(1,999)/10),CHOOSE(RANDBETWEEN(1,4),RANDBETWEEN(1,99999)/1000,RANDBETWEEN(1,9999)/100,RANDBETWEEN(1,999)/10,RANDBETWEEN(1,99))))","v":83},"kg","=",{"$f":"1000*C1976","v":83000},"g"]
[{"$f":"IF(COUNTIF($B$1:B1977,TRUE)=COUNTIF($B$1:B1976,TRUE),\"\",COUNTIF($B$1:B1977,TRUE))","v":1187},{"$f":"IF(Worksheet!$D$10=3,FALSE,Worksheet!$D$15)","v":true},{"$f":"IF(Worksheet!$D$6=1,RANDBETWEEN(1,99),IF(Worksheet!$D$6=2,CHOOSE(RANDBETWEEN(1,2),RANDBETWEEN(1,99),RANDBETWEEN(1,999)/10),CHOOSE(RANDBETWEEN(1,4),RANDBETWEEN(1,99999)/1000,RANDBETWEEN(1,9999)/100,RANDBETWEEN(1,999)/10,RANDBETWEEN(1,99))))","v":89},"tonnes","=",{"$f":"1000*C1977","v":89000},"kg"]
[{"$f":"IF(COUNTIF($B$1:B1978,TRUE)=COUNTIF($B$1:B1977,TRUE),\"\",COUNTIF($B$1:B1978,TRUE))","v":1188},{"$f":"IF(Worksheet!$D$10=3,FALSE,Worksheet!$D$16)","v":true},{"$f":"IF(Worksheet!$D$6=1,RANDBETWEEN(1,99),IF(Worksheet!$D$6=2,CHOOSE(RANDBETWEEN(1,2),RANDBETWEEN(1,99),RANDBETWEEN(1,999)/10),CHOOSE(RANDBETWEEN(1,4),RANDBETWEEN(1,99999)/1000,RANDBETWEEN(1,9999)/100,RANDBETWEEN(1,999)/10,RANDBETWEEN(1,99))))","v":47},"litres","=",{"$f":"1000*C1978","v":47000},"ml"]
[{"$f":"IF(COUNTIF($B$1:B1979,TRUE)=COUNTIF($B$1:B1978,TRUE),\"\",COUNTIF($B$1:B1979,TRUE))","v":""},{"$f":"IF(Worksheet!$D$10=3,FALSE,Worksheet!$D$17)","v":false},{"$f":"IF(Worksheet!$D$6=1,RANDBETWEEN(1,99),IF(Worksheet!$D$6=2,CHOOSE(RANDBETWEEN(1,2),RANDBETWEEN(1,99),RANDBETWEEN(1,999)/10),CHOOSE(RANDBETWEEN(1,4),RANDBETWEEN(1,99999)/1000,RANDBETWEEN(1,9999)/100,RANDBETWEEN(1,999)/10,RANDBETWEEN(1,99))))","v":59},"litres","=",{"$f":"1000*C1979","v":59000},"cm³"]
[{"$f":"IF(COUNTIF($B$1:B1980,TRUE)=COUNTIF($B$1:B1979,TRUE),\"\",COUNTIF($B$1:B1980,TRUE))","v":""},{"$f":"IF(Worksheet!$D$10=3,FALSE,Worksheet!$D$18)","v":false},{"$f":"IF(Worksheet!$D$6=1,RANDBETWEEN(1,99),IF(Worksheet!$D$6=2,CHOOSE(RANDBETWEEN(1,2),RANDBETWEEN(1,99),RANDBETWEEN(1,999)/10),CHOOSE(RANDBETWEEN(1,4),RANDBETWEEN(1,99999)/1000,RANDBETWEEN(1,9999)/100,RANDBETWEEN(1,999)/10,RANDBETWEEN(1,99))))","v":4},"m²","=",{"$f":"10000*C1980","v":40000},"cm²"]
[{"$f":"IF(COUNTIF($B$1:B1981,TRUE)=COUNTIF($B$1:B1980,TRUE),\"\",COUNTIF($B$1:B1981,TRUE))","v":1189},{"$f":"IF(Worksheet!$D$10=2,FALSE,Worksheet!$B$14)","v":true},{"$f":"10*F1981","v":900},"mm","=",{"$f":"IF(Worksheet!$D$6=1,RANDBETWEEN(1,99),IF(Worksheet!$D$6=2,CHOOSE(RANDBETWEEN(1,2),RANDBETWEEN(1,99),RANDBETWEEN(1,999)/10),CHOOSE(RANDBETWEEN(1,4),RANDBETWEEN(1,99999)/1000,RANDBETWEEN(1,9999)/100,RANDBETWEEN(1,999)/10,RANDBETWEEN(1,99))))","v":90},"cm"]
[{"$f":"IF(COUNTIF($B$1:B1982,TRUE)=COUNTIF($B$1:B1981,TRUE),\"\",COUNTIF($B$1:B1982,TRUE))","v":1190},{"$f":"IF(Worksheet!$D$10=2,FALSE,Worksheet!$B$15)","v":true},{"$f":"100*F1982","v":2500},"cm","=",{"$f":"IF(Worksheet!$D$6=1,RANDBETWEEN(1,99),IF(Worksheet!$D$6=2,CHOOSE(RANDBETWEEN(1,2),RANDBETWEEN(1,99),RANDBETWEEN(1,999)/10),CHOOSE(RANDBETWEEN(1,4),RANDBETWEEN(1,99999)/1000,RANDBETWEEN(1,9999)/100,RANDBETWEEN(1,999)/10,RANDBETWEEN(1,99))))","v":25},"m"]
[{"$f":"IF(COUNTIF($B$1:B1983,TRUE)=COUNTIF($B$1:B1982,TRUE),\"\",COUNTIF($B$1:B1983,TRUE))","v":1191},{"$f":"IF(Worksheet!$D$10=2,FALSE,Worksheet!$B$16)","v":true},{"$f":"1000*F1983","v":16000},"m","=",{"$f":"IF(Worksheet!$D$6=1,RANDBETWEEN(1,99),IF(Worksheet!$D$6=2,CHOOSE(RANDBETWEEN(1,2),RANDBETWEEN(1,99),RANDBETWEEN(1,999)/10),CHOOSE(RANDBETWEEN(1,4),RANDBETWEEN(1,99999)/1000,RANDBETWEEN(1,9999)/100,RANDBETWEEN(1,999)/10,RANDBETWEEN(1,99))))","v":16},"km"]
[{"$f":"IF(COUNTIF($B$1:B1984,TRUE)=COUNTIF($B$1:B1983,TRUE),\"\",COUNTIF($B$1:B1984,TRUE))","v":""},{"$f":"IF(Worksheet!$D$10=2,FALSE,Worksheet!$B$17)","v":false},{"$f":"1000*F1984","v":8000},"mm","=",{"$f":"IF(Worksheet!$D$6=1,RANDBETWEEN(1,99),IF(Worksheet!$D$6=2,CHOOSE(RANDBETWEEN(1,2),RANDBETWEEN(1,99),RANDBETWEEN(1,999)/10),CHOOSE(RANDBETWEEN(1,4),RANDBETWEEN(1,99999)/1000,RANDBETWEEN(1,9999)/100,RANDBETWEEN(1,999)/10,RANDBETWEEN(1,99))))","v":8},"m"]
[{"$f":"IF(COUNTIF($B$1:B1985,TRUE)=COUNTIF($B$1:B1984,TRUE),\"\",COUNTIF($B$1:B1985,TRUE))","v":""},{"$f":"IF(Worksheet!$D$10=2,FALSE,Worksheet!$B$18)","v":false},{"$f":"100*F1985","v":1700},"mm²","=",{"$f":"IF(Worksheet!$D$6=1,RANDBETWEEN(1,99),IF(Worksheet!$D$6=2,CHOOSE(RANDBETWEEN(1,2),RANDBETWEEN(1,99),RANDBETWEEN(1,999)/10),CHOOSE(RANDBETWEEN(1,4),RANDBETWEEN(1,99999)/1000,RANDBETWEEN(1,9999)/100,RANDBETWEEN(1,999)/10,RANDBETWEEN(1,99))))","v":17},"cm²"]
[{"$f":"IF(COUNTIF($B$1:B1986,TRUE)=COUNTIF($B$1:B1985,TRUE),\"\",COUNTIF($B$1:B1986,TRUE))","v":1192},{"$f":"IF(Worksheet!$D$10=2,FALSE,Worksheet!$D$14)","v":true},{"$f":"F1986*1000","v":50000},"g","=",{"$f":"IF(Worksheet!$D$6=1,RANDBETWEEN(1,99),IF(Worksheet!$D$6=2,CHOOSE(RANDBETWEEN(1,2),RANDBETWEEN(1,99),RANDBETWEEN(1,999)/10),CHOOSE(RANDBETWEEN(1,4),RANDBETWEEN(1,99999)/1000,RANDBETWEEN(1,9999)/100,RANDBETWEEN(1,999)/10,RANDBETWEEN(1,99))))","v":50},"kg"]
[{"$f":"IF(COUNTIF($B$1:B1987,TRUE)=COUNTIF($B$1:B1986,TRUE),\"\",COUNTIF($B$1:B1987,TRUE))","v":1193},{"$f":"IF(Worksheet!$D$10=2,FALSE,Worksheet!$D$15)","v":true},{"$f":"F1987*1000","v":57000},"kg","=",{"$f":"IF(Worksheet!$D$6=1,RANDBETWEEN(1,99),IF(Worksheet!$D$6=2,CHOOSE(RANDBETWEEN(1,2),RANDBETWEEN(1,99),RANDBETWEEN(1,999)/10),CHOOSE(RANDBETWEEN(1,4),RANDBETWEEN(1,99999)/1000,RANDBETWEEN(1,9999)/100,RANDBETWEEN(1,999)/10,RANDBETWEEN(1,99))))","v":57},"tonnes"]
[{"$f":"IF(COUNTIF($B$1:B1988,TRUE)=COUNTIF($B$1:B1987,TRUE),\"\",COUNTIF($B$1:B1988,TRUE))","v":1194},{"$f":"IF(Worksheet!$D$10=2,FALSE,Worksheet!$D$16)","v":true},{"$f":"1000*F1988","v":73000},"ml","=",{"$f":"IF(Worksheet!$D$6=1,RANDBETWEEN(1,99),IF(Worksheet!$D$6=2,CHOOSE(RANDBETWEEN(1,2),RANDBETWEEN(1,99),RANDBETWEEN(1,999)/10),CHOOSE(RANDBETWEEN(1,4),RANDBETWEEN(1,99999)/1000,RANDBETWEEN(1,9999)/100,RANDBETWEEN(1,999)/10,RANDBETWEEN(1,99))))","v":73},"litres"]
[{"$f":"IF(COUNTIF($B$1:B1989,TRUE)=COUNTIF($B$1:B1988,TRUE),\"\",COUNTIF($B$1:B1989,TRUE))","v":""},{"$f":"IF(Worksheet!$D$10=2,FALSE,Worksheet!$D$17)","v":false},{"$f":"1000*F1989","v":81000},"cm³","=",{"$f":"IF(Worksheet!$D$6=1,RANDBETWEEN(1,99),IF(Worksheet!$D$6=2,CHOOSE(RANDBETWEEN(1,2),RANDBETWEEN(1,99),RANDBETWEEN(1,999)/10),CHOOSE(RANDBETWEEN(1,4),RANDBETWEEN(1,99999)/1000,RANDBETWEEN(1,9999)/100,RANDBETWEEN(1,999)/10,RANDBETWEEN(1,99))))","v":81},"litres"]
[{"$f":"IF(COUNTIF($B$1:B1990,TRUE)=COUNTIF($B$1:B1989,TRUE),\"\",COUNTIF($B$1:B1990,TRUE))","v":""},{"$f":"IF(Worksheet!$D$10=2,FALSE,Worksheet!$D$18)","v":false},{"$f":"10000*F1990","v":800000},"cm²","=",{"$f":"IF(Worksheet!$D$6=1,RANDBETWEEN(1,99),IF(Worksheet!$D$6=2,CHOOSE(RANDBETWEEN(1,2),RANDBETWEEN(1,99),RANDBETWEEN(1,999)/10),CHOOSE(RANDBETWEEN(1,4),RANDBETWEEN(1,99999)/1000,RANDBETWEEN(1,9999)/100,RANDBETWEEN(1,999)/10,RANDBETWEEN(1,99))))","v":80},"m²"]
[{"$f":"IF(COUNTIF($B$1:B1991,TRUE)=COUNTIF($B$1:B1990,TRUE),\"\",COUNTIF($B$1:B1991,TRUE))","v":1195},{"$f":"IF(Worksheet!$D$10=3,FALSE,Worksheet!$B$14)","v":true},{"$f":"IF(Worksheet!$D$6=1,RANDBETWEEN(1,99),IF(Worksheet!$D$6=2,CHOOSE(RANDBETWEEN(1,2),RANDBETWEEN(1,99),RANDBETWEEN(1,999)/10),CHOOSE(RANDBETWEEN(1,4),RANDBETWEEN(1,99999)/1000,RANDBETWEEN(1,9999)/100,RANDBETWEEN(1,999)/10,RANDBETWEEN(1,99))))","v":70},"cm","=",{"$f":"10*C1991","v":700},"mm"]
[{"$f":"IF(COUNTIF($B$1:B1992,TRUE)=COUNTIF($B$1:B1991,TRUE),\"\",COUNTIF($B$1:B1992,TRUE))","v":1196},{"$f":"IF(Worksheet!$D$10=3,FALSE,Worksheet!$B$15)","v":true},{"$f":"IF(Worksheet!$D$6=1,RANDBETWEEN(1,99),IF(Worksheet!$D$6=2,CHOOSE(RANDBETWEEN(1,2),RANDBETWEEN(1,99),RANDBETWEEN(1,999)/10),CHOOSE(RANDBETWEEN(1,4),RANDBETWEEN(1,99999)/1000,RANDBETWEEN(1,9999)/100,RANDBETWEEN(1,999)/10,RANDBETWEEN(1,99))))","v":88},"m","=",{"$f":"100*C1992","v":8800},"cm"]
[{"$f":"IF(COUNTIF($B$1:B1993,TRUE)=COUNTIF($B$1:B1992,TRUE),\"\",COUNTIF($B$1:B1993,TRUE))","v":1197},{"$f":"IF(Worksheet!$D$10=3,FALSE,Worksheet!$B$16)","v":true},{"$f":"IF(Worksheet!$D$6=1,RANDBETWEEN(1,99),IF(Worksheet!$D$6=2,CHOOSE(RANDBETWEEN(1,2),RANDBETWEEN(1,99),RANDBETWEEN(1,999)/10),CHOOSE(RANDBETWEEN(1,4),RANDBETWEEN(1,99999)/1000,RANDBETWEEN(1,9999)/100,RANDBETWEEN(1,999)/10,RANDBETWEEN(1,99))))","v":45},"km","=",{"$f":"1000*C1993","v":45000},"m"]
[{"$f":"IF(COUNTIF($B$1:B1994,TRUE)=COUNTIF($B$1:B1993,TRUE),\"\",COUNTIF($B$1:B1994,TRUE))","v":""},{"$f":"IF(Worksheet!$D$10=3,FALSE,Worksheet!$B$17)","v":false},{"$f":"IF(Worksheet!$D$6=1,RANDBETWEEN(1,99),IF(Worksheet!$D$6=2,CHOOSE(RANDBETWEEN(1,2),RANDBETWEEN(1,99),RANDBETWEEN(1,999)/10),CHOOSE(RANDBETWEEN(1,4),RANDBETWEEN(1,99999)/1000,RANDBETWEEN(1,9999)/100,RANDBETWEEN(1,999)/10,RANDBETWEEN(1,99))))","v":66},"m",{"$f":"#REF!","v":{"$error":"#REF!"}},{"$f":"1000*C1994","v":66000},"mm"]
[{"$f":"IF(COUNTIF($B$1:B1995,TRUE)=COUNTIF($B$1:B1994,TRUE),\"\",COUNTIF($B$1:B1995,TRUE))","v":""},{"$f":"IF(Worksheet!$D$10=3,FALSE,Worksheet!$B$18)","v":false},{"$f":"IF(Worksheet!$D$6=1,RANDBETWEEN(1,99),IF(Worksheet!$D$6=2,CHOOSE(RANDBETWEEN(1,2),RANDBETWEEN(1,99),RANDBETWEEN(1,999)/10),CHOOSE(RANDBETWEEN(1,4),RANDBETWEEN(1,99999)/1000,RANDBETWEEN(1,9999)/100,RANDBETWEEN(1,999)/10,RANDBETWEEN(1,99))))","v":54},"cm²","=",{"$f":"C1995*100","v":5400},"mm²"]
[{"$f":"IF(COUNTIF($B$1:B1996,TRUE)=COUNTIF($B$1:B1995,TRUE),\"\",COUNTIF($B$1:B1996,TRUE))","v":1198},{"$f":"IF(Worksheet!$D$10=3,FALSE,Worksheet!$D$14)","v":true},{"$f":"IF(Worksheet!$D$6=1,RANDBETWEEN(1,99),IF(Worksheet!$D$6=2,CHOOSE(RANDBETWEEN(1,2),RANDBETWEEN(1,99),RANDBETWEEN(1,999)/10),CHOOSE(RANDBETWEEN(1,4),RANDBETWEEN(1,99999)/1000,RANDBETWEEN(1,9999)/100,RANDBETWEEN(1,999)/10,RANDBETWEEN(1,99))))","v":33},"kg","=",{"$f":"1000*C1996","v":33000},"g"]
[{"$f":"IF(COUNTIF($B$1:B1997,TRUE)=COUNTIF($B$1:B1996,TRUE),\"\",COUNTIF($B$1:B1997,TRUE))","v":1199},{"$f":"IF(Worksheet!$D$10=3,FALSE,Worksheet!$D$15)","v":true},{"$f":"IF(Worksheet!$D$6=1,RANDBETWEEN(1,99),IF(Worksheet!$D$6=2,CHOOSE(RANDBETWEEN(1,2),RANDBETWEEN(1,99),RANDBETWEEN(1,999)/10),CHOOSE(RANDBETWEEN(1,4),RANDBETWEEN(1,99999)/1000,RANDBETWEEN(1,9999)/100,RANDBETWEEN(1,999)/10,RANDBETWEEN(1,99))))","v":86},"tonnes","=",{"$f":"1000*C1997","v":86000},"kg"]
[{"$f":"IF(COUNTIF($B$1:B1998,TRUE)=COUNTIF($B$1:B1997,TRUE),\"\",COUNTIF($B$1:B1998,TRUE))","v":1200},{"$f":"IF(Worksheet!$D$10=3,FALSE,Worksheet!$D$16)","v":true},{"$f":"IF(Worksheet!$D$6=1,RANDBETWEEN(1,99),IF(Worksheet!$D$6=2,CHOOSE(RANDBETWEEN(1,2),RANDBETWEEN(1,99),RANDBETWEEN(1,999)/10),CHOOSE(RANDBETWEEN(1,4),RANDBETWEEN(1,99999)/1000,RANDBETWEEN(1,9999)/100,RANDBETWEEN(1,999)/10,RANDBETWEEN(1,99))))","v":95},"litres","=",{"$f":"1000*C1998","v":95000},"ml"]
[{"$f":"IF(COUNTIF($B$1:B1999,TRUE)=COUNTIF($B$1:B1998,TRUE),\"\",COUNTIF($B$1:B1999,TRUE))","v":""},{"$f":"IF(Worksheet!$D$10=3,FALSE,Worksheet!$D$17)","v":false},{"$f":"IF(Worksheet!$D$6=1,RANDBETWEEN(1,99),IF(Worksheet!$D$6=2,CHOOSE(RANDBETWEEN(1,2),RANDBETWEEN(1,99),RANDBETWEEN(1,999)/10),CHOOSE(RANDBETWEEN(1,4),RANDBETWEEN(1,99999)/1000,RANDBETWEEN(1,9999)/100,RANDBETWEEN(1,999)/10,RANDBETWEEN(1,99))))","v":57},"litres","=",{"$f":"1000*C1999","v":57000},"cm³"]
[{"$f":"IF(COUNTIF($B$1:B2000,TRUE)=COUNTIF($B$1:B1999,TRUE),\"\",COUNTIF($B$1:B2000,TRUE))","v":""},{"$f":"IF(Worksheet!$D$10=3,FALSE,Worksheet!$D$18)","v":false},{"$f":"IF(Worksheet!$D$6=1,RANDBETWEEN(1,99),IF(Worksheet!$D$6=2,CHOOSE(RANDBETWEEN(1,2),RANDBETWEEN(1,99),RANDBETWEEN(1,999)/10),CHOOSE(RANDBETWEEN(1,4),RANDBETWEEN(1,99999)/1000,RANDBETWEEN(1,9999)/100,RANDBETWEEN(1,999)/10,RANDBETWEEN(1,99))))","v":13},"m²","=",{"$f":"10000*C2000","v":130000},"cm²"]
[{"$f":"IF(COUNTIF($B$1:B2001,TRUE)=COUNTIF($B$1:B2000,TRUE),\"\",COUNTIF($B$1:B2001,TRUE))","v":1201},{"$f":"IF(Worksheet!$D$10=2,FALSE,Worksheet!$B$14)","v":true},{"$f":"10*F2001","v":370},"mm","=",{"$f":"IF(Worksheet!$D$6=1,RANDBETWEEN(1,99),IF(Worksheet!$D$6=2,CHOOSE(RANDBETWEEN(1,2),RANDBETWEEN(1,99),RANDBETWEEN(1,999)/10),CHOOSE(RANDBETWEEN(1,4),RANDBETWEEN(1,99999)/1000,RANDBETWEEN(1,9999)/100,RANDBETWEEN(1,999)/10,RANDBETWEEN(1,99))))","v":37},"cm"]
[{"$f":"IF(COUNTIF($B$1:B2002,TRUE)=COUNTIF($B$1:B2001,TRUE),\"\",COUNTIF($B$1:B2002,TRUE))","v":1202},{"$f":"IF(Worksheet!$D$10=2,FALSE,Worksheet!$B$15)","v":true},{"$f":"100*F2002","v":5500},"cm","=",{"$f":"IF(Worksheet!$D$6=1,RANDBETWEEN(1,99),IF(Worksheet!$D$6=2,CHOOSE(RANDBETWEEN(1,2),RANDBETWEEN(1,99),RANDBETWEEN(1,999)/10),CHOOSE(RANDBETWEEN(1,4),RANDBETWEEN(1,99999)/1000,RANDBETWEEN(1,9999)/100,RANDBETWEEN(1,999)/10,RANDBETWEEN(1,99))))","v":55},"m"]
[{"$f":"IF(COUNTIF($B$1:B2003,TRUE)=COUNTIF($B$1:B2002,TRUE),\"\",COUNTIF($B$1:B2003,TRUE))","v":1203},{"$f":"IF(Worksheet!$D$10=2,FALSE,Worksheet!$B$16)","v":true},{"$f":"1000*F2003","v":43000},"m","=",{"$f":"IF(Worksheet!$D$6=1,RANDBETWEEN(1,99),IF(Worksheet!$D$6=2,CHOOSE(RANDBETWEEN(1,2),RANDBETWEEN(1,99),RANDBETWEEN(1,999)/10),CHOOSE(RANDBETWEEN(1,4),RANDBETWEEN(1,99999)/1000,RANDBETWEEN(1,9999)/100,RANDBETWEEN(1,999)/10,RANDBETWEEN(1,99))))","v":43},"km"]
[{"$f":"IF(COUNTIF($B$1:B2004,TRUE)=COUNTIF($B$1:B2003,TRUE),\"\",COUNTIF($B$1:B2004,TRUE))","v":""},{"$f":"IF(Worksheet!$D$10=2,FALSE,Worksheet!$B$17)","v":false},{"$f":"1000*F2004","v":79000},"mm","=",{"$f":"IF(Worksheet!$D$6=1,RANDBETWEEN(1,99),IF(Worksheet!$D$6=2,CHOOSE(RANDBETWEEN(1,2),RANDBETWEEN(1,99),RANDBETWEEN(1,999)/10),CHOOSE(RANDBETWEEN(1,4),RANDBETWEEN(1,99999)/1000,RANDBETWEEN(1,9999)/100,RANDBETWEEN(1,999)/10,RANDBETWEEN(1,99))))","v":79},"m"]
[{"$f":"IF(COUNTIF($B$1:B2005,TRUE)=COUNTIF($B$1:B2004,TRUE),\"\",COUNTIF($B$1:B2005,TRUE))","v":""},{"$f":"IF(Worksheet!$D$10=2,FALSE,Worksheet!$B$18)","v":false},{"$f":"100*F2005","v":700},"mm²","=",{"$f":"IF(Worksheet!$D$6=1,RANDBETWEEN(1,99),IF(Worksheet!$D$6=2,CHOOSE(RANDBETWEEN(1,2),RANDBETWEEN(1,99),RANDBETWEEN(1,999)/10),CHOOSE(RANDBETWEEN(1,4),RANDBETWEEN(1,99999)/1000,RANDBETWEEN(1,9999)/100,RANDBETWEEN(1,999)/10,RANDBETWEEN(1,99))))","v":7},"cm²"]
[{"$f":"IF(COUNTIF($B$1:B2006,TRUE)=COUNTIF($B$1:B2005,TRUE),\"\",COUNTIF($B$1:B2006,TRUE))","v":1204},{"$f":"IF(Worksheet!$D$10=2,FALSE,Worksheet!$D$14)","v":true},{"$f":"F2006*1000","v":53000},"g","=",{"$f":"IF(Worksheet!$D$6=1,RANDBETWEEN(1,99),IF(Worksheet!$D$6=2,CHOOSE(RANDBETWEEN(1,2),RANDBETWEEN(1,99),RANDBETWEEN(1,999)/10),CHOOSE(RANDBETWEEN(1,4),RANDBETWEEN(1,99999)/1000,RANDBETWEEN(1,9999)/100,RANDBETWEEN(1,999)/10,RANDBETWEEN(1,99))))","v":53},"kg"]
[{"$f":"IF(COUNTIF($B$1:B2007,TRUE)=COUNTIF($B$1:B2006,TRUE),\"\",COUNTIF($B$1:B2007,TRUE))","v":1205},{"$f":"IF(Worksheet!$D$10=2,FALSE,Worksheet!$D$15)","v":true},{"$f":"F2007*1000","v":73000},"kg","=",{"$f":"IF(Worksheet!$D$6=1,RANDBETWEEN(1,99),IF(Worksheet!$D$6=2,CHOOSE(RANDBETWEEN(1,2),RANDBETWEEN(1,99),RANDBETWEEN(1,999)/10),CHOOSE(RANDBETWEEN(1,4),RANDBETWEEN(1,99999)/1000,RANDBETWEEN(1,9999)/100,RANDBETWEEN(1,999)/10,RANDBETWEEN(1,99))))","v":73},"tonnes"]
[{"$f":"IF(COUNTIF($B$1:B2008,TRUE)=COUNTIF($B$1:B2007,TRUE),\"\",COUNTIF($B$1:B2008,TRUE))","v":1206},{"$f":"IF(Worksheet!$D$10=2,FALSE,Worksheet!$D$16)","v":true},{"$f":"1000*F2008","v":36000},"ml","=",{"$f":"IF(Worksheet!$D$6=1,RANDBETWEEN(1,99),IF(Worksheet!$D$6=2,CHOOSE(RANDBETWEEN(1,2),RANDBETWEEN(1,99),RANDBETWEEN(1,999)/10),CHOOSE(RANDBETWEEN(1,4),RANDBETWEEN(1,99999)/1000,RANDBETWEEN(1,9999)/100,RANDBETWEEN(1,999)/10,RANDBETWEEN(1,99))))","v":36},"litres"]
[{"$f":"IF(COUNTIF($B$1:B2009,TRUE)=COUNTIF($B$1:B2008,TRUE),\"\",COUNTIF($B$1:B2009,TRUE))","v":""},{"$f":"IF(Worksheet!$D$10=2,FALSE,Worksheet!$D$17)","v":false},{"$f":"1000*F2009","v":1000},"cm³","=",{"$f":"IF(Worksheet!$D$6=1,RANDBETWEEN(1,99),IF(Worksheet!$D$6=2,CHOOSE(RANDBETWEEN(1,2),RANDBETWEEN(1,99),RANDBETWEEN(1,999)/10),CHOOSE(RANDBETWEEN(1,4),RANDBETWEEN(1,99999)/1000,RANDBETWEEN(1,9999)/100,RANDBETWEEN(1,999)/10,RANDBETWEEN(1,99))))","v":1},"litres"]
[{"$f":"IF(COUNTIF($B$1:B2010,TRUE)=COUNTIF($B$1:B2009,TRUE),\"\",COUNTIF($B$1:B2010,TRUE))","v":""},{"$f":"IF(Worksheet!$D$10=2,FALSE,Worksheet!$D$18)","v":false},{"$f":"10000*F2010","v":830000},"cm²","=",{"$f":"IF(Worksheet!$D$6=1,RANDBETWEEN(1,99),IF(Worksheet!$D$6=2,CHOOSE(RANDBETWEEN(1,2),RANDBETWEEN(1,99),RANDBETWEEN(1,999)/10),CHOOSE(RANDBETWEEN(1,4),RANDBETWEEN(1,99999)/1000,RANDBETWEEN(1,9999)/100,RANDBETWEEN(1,999)/10,RANDBETWEEN(1,99))))","v":83},"m²"]
[{"$f":"IF(COUNTIF($B$1:B2011,TRUE)=COUNTIF($B$1:B2010,TRUE),\"\",COUNTIF($B$1:B2011,TRUE))","v":1207},{"$f":"IF(Worksheet!$D$10=3,FALSE,Worksheet!$B$14)","v":true},{"$f":"IF(Worksheet!$D$6=1,RANDBETWEEN(1,99),IF(Worksheet!$D$6=2,CHOOSE(RANDBETWEEN(1,2),RANDBETWEEN(1,99),RANDBETWEEN(1,999)/10),CHOOSE(RANDBETWEEN(1,4),RANDBETWEEN(1,99999)/1000,RANDBETWEEN(1,9999)/100,RANDBETWEEN(1,999)/10,RANDBETWEEN(1,99))))","v":81},"cm","=",{"$f":"10*C2011","v":810},"mm"]
[{"$f":"IF(COUNTIF($B$1:B2012,TRUE)=COUNTIF($B$1:B2011,TRUE),\"\",COUNTIF($B$1:B2012,TRUE))","v":1208},{"$f":"IF(Worksheet!$D$10=3,FALSE,Worksheet!$B$15)","v":true},{"$f":"IF(Worksheet!$D$6=1,RANDBETWEEN(1,99),IF(Worksheet!$D$6=2,CHOOSE(RANDBETWEEN(1,2),RANDBETWEEN(1,99),RANDBETWEEN(1,999)/10),CHOOSE(RANDBETWEEN(1,4),RANDBETWEEN(1,99999)/1000,RANDBETWEEN(1,9999)/100,RANDBETWEEN(1,999)/10,RANDBETWEEN(1,99))))","v":17},"m","=",{"$f":"100*C2012","v":1700},"cm"]
[{"$f":"IF(COUNTIF($B$1:B2013,TRUE)=COUNTIF($B$1:B2012,TRUE),\"\",COUNTIF($B$1:B2013,TRUE))","v":1209},{"$f":"IF(Worksheet!$D$10=3,FALSE,Worksheet!$B$16)","v":true},{"$f":"IF(Worksheet!$D$6=1,RANDBETWEEN(1,99),IF(Worksheet!$D$6=2,CHOOSE(RANDBETWEEN(1,2),RANDBETWEEN(1,99),RANDBETWEEN(1,999)/10),CHOOSE(RANDBETWEEN(1,4),RANDBETWEEN(1,99999)/1000,RANDBETWEEN(1,9999)/100,RANDBETWEEN(1,999)/10,RANDBETWEEN(1,99))))","v":53},"km","=",{"$f":"1000*C2013","v":53000},"m"]
[{"$f":"IF(COUNTIF($B$1:B2014,TRUE)=COUNTIF($B$1:B2013,TRUE),\"\",COUNTIF($B$1:B2014,TRUE))","v":""},{"$f":"IF(Worksheet!$D$10=3,FALSE,Worksheet!$B$17)","v":false},{"$f":"IF(Worksheet!$D$6=1,RANDBETWEEN(1,99),IF(Worksheet!$D$6=2,CHOOSE(RANDBETWEEN(1,2),RANDBETWEEN(1,99),RANDBETWEEN(1,999)/10),CHOOSE(RANDBETWEEN(1,4),RANDBETWEEN(1,99999)/1000,RANDBETWEEN(1,9999)/100,RANDBETWEEN(1,999)/10,RANDBETWEEN(1,99))))","v":46},"m",{"$f":"#REF!","v":{"$error":"#REF!"}},{"$f":"1000*C2014","v":46000},"mm"]
[{"$f":"IF(COUNTIF($B$1:B2015,TRUE)=COUNTIF($B$1:B2014,TRUE),\"\",COUNTIF($B$1:B2015,TRUE))","v":""},{"$f":"IF(Worksheet!$D$10=3,FALSE,Worksheet!$B$18)","v":false},{"$f":"IF(Worksheet!$D$6=1,RANDBETWEEN(1,99),IF(Worksheet!$D$6=2,CHOOSE(RANDBETWEEN(1,2),RANDBETWEEN(1,99),RANDBETWEEN(1,999)/10),CHOOSE(RANDBETWEEN(1,4),RANDBETWEEN(1,99999)/1000,RANDBETWEEN(1,9999)/100,RANDBETWEEN(1,999)/10,RANDBETWEEN(1,99))))","v":96},"cm²","=",{"$f":"C2015*100","v":9600},"mm²"]
[{"$f":"IF(COUNTIF($B$1:B2016,TRUE)=COUNTIF($B$1:B2015,TRUE),\"\",COUNTIF($B$1:B2016,TRUE))","v":1210},{"$f":"IF(Worksheet!$D$10=3,FALSE,Worksheet!$D$14)","v":true},{"$f":"IF(Worksheet!$D$6=1,RANDBETWEEN(1,99),IF(Worksheet!$D$6=2,CHOOSE(RANDBETWEEN(1,2),RANDBETWEEN(1,99),RANDBETWEEN(1,999)/10),CHOOSE(RANDBETWEEN(1,4),RANDBETWEEN(1,99999)/1000,RANDBETWEEN(1,9999)/100,RANDBETWEEN(1,999)/10,RANDBETWEEN(1,99))))","v":88},"kg","=",{"$f":"1000*C2016","v":88000},"g"]
[{"$f":"IF(COUNTIF($B$1:B2017,TRUE)=COUNTIF($B$1:B2016,TRUE),\"\",COUNTIF($B$1:B2017,TRUE))","v":1211},{"$f":"IF(Worksheet!$D$10=3,FALSE,Worksheet!$D$15)","v":true},{"$f":"IF(Worksheet!$D$6=1,RANDBETWEEN(1,99),IF(Worksheet!$D$6=2,CHOOSE(RANDBETWEEN(1,2),RANDBETWEEN(1,99),RANDBETWEEN(1,999)/10),CHOOSE(RANDBETWEEN(1,4),RANDBETWEEN(1,99999)/1000,RANDBETWEEN(1,9999)/100,RANDBETWEEN(1,999)/10,RANDBETWEEN(1,99))))","v":27},"tonnes","=",{"$f":"1000*C2017","v":27000},"kg"]
[{"$f":"IF(COUNTIF($B$1:B2018,TRUE)=COUNTIF($B$1:B2017,TRUE),\"\",COUNTIF($B$1:B2018,TRUE))","v":1212},{"$f":"IF(Worksheet!$D$10=3,FALSE,Worksheet!$D$16)","v":true},{"$f":"IF(Worksheet!$D$6=1,RANDBETWEEN(1,99),IF(Worksheet!$D$6=2,CHOOSE(RANDBETWEEN(1,2),RANDBETWEEN(1,99),RANDBETWEEN(1,999)/10),CHOOSE(RANDBETWEEN(1,4),RANDBETWEEN(1,99999)/1000,RANDBETWEEN(1,9999)/100,RANDBETWEEN(1,999)/10,RANDBETWEEN(1,99))))","v":15},"litres","=",{"$f":"1000*C2018","v":15000},"ml"]
[{"$f":"IF(COUNTIF($B$1:B2019,TRUE)=COUNTIF($B$1:B2018,TRUE),\"\",COUNTIF($B$1:B2019,TRUE))","v":""},{"$f":"IF(Worksheet!$D$10=3,FALSE,Worksheet!$D$17)","v":false},{"$f":"IF(Worksheet!$D$6=1,RANDBETWEEN(1,99),IF(Worksheet!$D$6=2,CHOOSE(RANDBETWEEN(1,2),RANDBETWEEN(1,99),RANDBETWEEN(1,999)/10),CHOOSE(RANDBETWEEN(1,4),RANDBETWEEN(1,99999)/1000,RANDBETWEEN(1,9999)/100,RANDBETWEEN(1,999)/10,RANDBETWEEN(1,99))))","v":8},"litres","=",{"$f":"1000*C2019","v":8000},"cm³"]
[{"$f":"IF(COUNTIF($B$1:B2020,TRUE)=COUNTIF($B$1:B2019,TRUE),\"\",COUNTIF($B$1:B2020,TRUE))","v":""},{"$f":"IF(Worksheet!$D$10=3,FALSE,Worksheet!$D$18)","v":false},{"$f":"IF(Worksheet!$D$6=1,RANDBETWEEN(1,99),IF(Worksheet!$D$6=2,CHOOSE(RANDBETWEEN(1,2),RANDBETWEEN(1,99),RANDBETWEEN(1,999)/10),CHOOSE(RANDBETWEEN(1,4),RANDBETWEEN(1,99999)/1000,RANDBETWEEN(1,9999)/100,RANDBETWEEN(1,999)/10,RANDBETWEEN(1,99))))","v":86},"m²","=",{"$f":"10000*C2020","v":860000},"cm²"]
[{"$f":"IF(COUNTIF($B$1:B2021,TRUE)=COUNTIF($B$1:B2020,TRUE),\"\",COUNTIF($B$1:B2021,TRUE))","v":1213},{"$f":"IF(Worksheet!$D$10=2,FALSE,Worksheet!$B$14)","v":true},{"$f":"10*F2021","v":950},"mm","=",{"$f":"IF(Worksheet!$D$6=1,RANDBETWEEN(1,99),IF(Worksheet!$D$6=2,CHOOSE(RANDBETWEEN(1,2),RANDBETWEEN(1,99),RANDBETWEEN(1,999)/10),CHOOSE(RANDBETWEEN(1,4),RANDBETWEEN(1,99999)/1000,RANDBETWEEN(1,9999)/100,RANDBETWEEN(1,999)/10,RANDBETWEEN(1,99))))","v":95},"cm"]
[{"$f":"IF(COUNTIF($B$1:B2022,TRUE)=COUNTIF($B$1:B2021,TRUE),\"\",COUNTIF($B$1:B2022,TRUE))","v":1214},{"$f":"IF(Worksheet!$D$10=2,FALSE,Worksheet!$B$15)","v":true},{"$f":"100*F2022","v":9200},"cm","=",{"$f":"IF(Worksheet!$D$6=1,RANDBETWEEN(1,99),IF(Worksheet!$D$6=2,CHOOSE(RANDBETWEEN(1,2),RANDBETWEEN(1,99),RANDBETWEEN(1,999)/10),CHOOSE(RANDBETWEEN(1,4),RANDBETWEEN(1,99999)/1000,RANDBETWEEN(1,9999)/100,RANDBETWEEN(1,999)/10,RANDBETWEEN(1,99))))","v":92},"m"]
[{"$f":"IF(COUNTIF($B$1:B2023,TRUE)=COUNTIF($B$1:B2022,TRUE),\"\",COUNTIF($B$1:B2023,TRUE))","v":1215},{"$f":"IF(Worksheet!$D$10=2,FALSE,Worksheet!$B$16)","v":true},{"$f":"1000*F2023","v":55000},"m","=",{"$f":"IF(Worksheet!$D$6=1,RANDBETWEEN(1,99),IF(Worksheet!$D$6=2,CHOOSE(RANDBETWEEN(1,2),RANDBETWEEN(1,99),RANDBETWEEN(1,999)/10),CHOOSE(RANDBETWEEN(1,4),RANDBETWEEN(1,99999)/1000,RANDBETWEEN(1,9999)/100,RANDBETWEEN(1,999)/10,RANDBETWEEN(1,99))))","v":55},"km"]
[{"$f":"IF(COUNTIF($B$1:B2024,TRUE)=COUNTIF($B$1:B2023,TRUE),\"\",COUNTIF($B$1:B2024,TRUE))","v":""},{"$f":"IF(Worksheet!$D$10=2,FALSE,Worksheet!$B$17)","v":false},{"$f":"1000*F2024","v":22000},"mm","=",{"$f":"IF(Worksheet!$D$6=1,RANDBETWEEN(1,99),IF(Worksheet!$D$6=2,CHOOSE(RANDBETWEEN(1,2),RANDBETWEEN(1,99),RANDBETWEEN(1,999)/10),CHOOSE(RANDBETWEEN(1,4),RANDBETWEEN(1,99999)/1000,RANDBETWEEN(1,9999)/100,RANDBETWEEN(1,999)/10,RANDBETWEEN(1,99))))","v":22},"m"]
[{"$f":"IF(COUNTIF($B$1:B2025,TRUE)=COUNTIF($B$1:B2024,TRUE),\"\",COUNTIF($B$1:B2025,TRUE))","v":""},{"$f":"IF(Worksheet!$D$10=2,FALSE,Worksheet!$B$18)","v":false},{"$f":"100*F2025","v":400},"mm²","=",{"$f":"IF(Worksheet!$D$6=1,RANDBETWEEN(1,99),IF(Worksheet!$D$6=2,CHOOSE(RANDBETWEEN(1,2),RANDBETWEEN(1,99),RANDBETWEEN(1,999)/10),CHOOSE(RANDBETWEEN(1,4),RANDBETWEEN(1,99999)/1000,RANDBETWEEN(1,9999)/100,RANDBETWEEN(1,999)/10,RANDBETWEEN(1,99))))","v":4},"cm²"]
[{"$f":"IF(COUNTIF($B$1:B2026,TRUE)=COUNTIF($B$1:B2025,TRUE),\"\",COUNTIF($B$1:B2026,TRUE))","v":1216},{"$f":"IF(Worksheet!$D$10=2,FALSE,Worksheet!$D$14)","v":true},{"$f":"F2026*1000","v":89000},"g","=",{"$f":"IF(Worksheet!$D$6=1,RANDBETWEEN(1,99),IF(Worksheet!$D$6=2,CHOOSE(RANDBETWEEN(1,2),RANDBETWEEN(1,99),RANDBETWEEN(1,999)/10),CHOOSE(RANDBETWEEN(1,4),RANDBETWEEN(1,99999)/1000,RANDBETWEEN(1,9999)/100,RANDBETWEEN(1,999)/10,RANDBETWEEN(1,99))))","v":89},"kg"]
[{"$f":"IF(COUNTIF($B$1:B2027,TRUE)=COUNTIF($B$1:B2026,TRUE),\"\",COUNTIF($B$1:B2027,TRUE))","v":1217},{"$f":"IF(Worksheet!$D$10=2,FALSE,Worksheet!$D$15)","v":true},{"$f":"F2027*1000","v":2000},"kg","=",{"$f":"IF(Worksheet!$D$6=1,RANDBETWEEN(1,99),IF(Worksheet!$D$6=2,CHOOSE(RANDBETWEEN(1,2),RANDBETWEEN(1,99),RANDBETWEEN(1,999)/10),CHOOSE(RANDBETWEEN(1,4),RANDBETWEEN(1,99999)/1000,RANDBETWEEN(1,9999)/100,RANDBETWEEN(1,999)/10,RANDBETWEEN(1,99))))","v":2},"tonnes"]
[{"$f":"IF(COUNTIF($B$1:B2028,TRUE)=COUNTIF($B$1:B2027,TRUE),\"\",COUNTIF($B$1:B2028,TRUE))","v":1218},{"$f":"IF(Worksheet!$D$10=2,FALSE,Worksheet!$D$16)","v":true},{"$f":"1000*F2028","v":91000},"ml","=",{"$f":"IF(Worksheet!$D$6=1,RANDBETWEEN(1,99),IF(Worksheet!$D$6=2,CHOOSE(RANDBETWEEN(1,2),RANDBETWEEN(1,99),RANDBETWEEN(1,999)/10),CHOOSE(RANDBETWEEN(1,4),RANDBETWEEN(1,99999)/1000,RANDBETWEEN(1,9999)/100,RANDBETWEEN(1,999)/10,RANDBETWEEN(1,99))))","v":91},"litres"]
[{"$f":"IF(COUNTIF($B$1:B2029,TRUE)=COUNTIF($B$1:B2028,TRUE),\"\",COUNTIF($B$1:B2029,TRUE))","v":""},{"$f":"IF(Worksheet!$D$10=2,FALSE,Worksheet!$D$17)","v":false},{"$f":"1000*F2029","v":76000},"cm³","=",{"$f":"IF(Worksheet!$D$6=1,RANDBETWEEN(1,99),IF(Worksheet!$D$6=2,CHOOSE(RANDBETWEEN(1,2),RANDBETWEEN(1,99),RANDBETWEEN(1,999)/10),CHOOSE(RANDBETWEEN(1,4),RANDBETWEEN(1,99999)/1000,RANDBETWEEN(1,9999)/100,RANDBETWEEN(1,999)/10,RANDBETWEEN(1,99))))","v":76},"litres"]
[{"$f":"IF(COUNTIF($B$1:B2030,TRUE)=COUNTIF($B$1:B2029,TRUE),\"\",COUNTIF($B$1:B2030,TRUE))","v":""},{"$f":"IF(Worksheet!$D$10=2,FALSE,Worksheet!$D$18)","v":false},{"$f":"10000*F2030","v":30000},"cm²","=",{"$f":"IF(Worksheet!$D$6=1,RANDBETWEEN(1,99),IF(Worksheet!$D$6=2,CHOOSE(RANDBETWEEN(1,2),RANDBETWEEN(1,99),RANDBETWEEN(1,999)/10),CHOOSE(RANDBETWEEN(1,4),RANDBETWEEN(1,99999)/1000,RANDBETWEEN(1,9999)/100,RANDBETWEEN(1,999)/10,RANDBETWEEN(1,99))))","v":3},"m²"]
[{"$f":"IF(COUNTIF($B$1:B2031,TRUE)=COUNTIF($B$1:B2030,TRUE),\"\",COUNTIF($B$1:B2031,TRUE))","v":1219},{"$f":"IF(Worksheet!$D$10=3,FALSE,Worksheet!$B$14)","v":true},{"$f":"IF(Worksheet!$D$6=1,RANDBETWEEN(1,99),IF(Worksheet!$D$6=2,CHOOSE(RANDBETWEEN(1,2),RANDBETWEEN(1,99),RANDBETWEEN(1,999)/10),CHOOSE(RANDBETWEEN(1,4),RANDBETWEEN(1,99999)/1000,RANDBETWEEN(1,9999)/100,RANDBETWEEN(1,999)/10,RANDBETWEEN(1,99))))","v":35},"cm","=",{"$f":"10*C2031","v":350},"mm"]
[{"$f":"IF(COUNTIF($B$1:B2032,TRUE)=COUNTIF($B$1:B2031,TRUE),\"\",COUNTIF($B$1:B2032,TRUE))","v":1220},{"$f":"IF(Worksheet!$D$10=3,FALSE,Worksheet!$B$15)","v":true},{"$f":"IF(Worksheet!$D$6=1,RANDBETWEEN(1,99),IF(Worksheet!$D$6=2,CHOOSE(RANDBETWEEN(1,2),RANDBETWEEN(1,99),RANDBETWEEN(1,999)/10),CHOOSE(RANDBETWEEN(1,4),RANDBETWEEN(1,99999)/1000,RANDBETWEEN(1,9999)/100,RANDBETWEEN(1,999)/10,RANDBETWEEN(1,99))))","v":19},"m","=",{"$f":"100*C2032","v":1900},"cm"]
[{"$f":"IF(COUNTIF($B$1:B2033,TRUE)=COUNTIF($B$1:B2032,TRUE),\"\",COUNTIF($B$1:B2033,TRUE))","v":1221},{"$f":"IF(Worksheet!$D$10=3,FALSE,Worksheet!$B$16)","v":true},{"$f":"IF(Worksheet!$D$6=1,RANDBETWEEN(1,99),IF(Worksheet!$D$6=2,CHOOSE(RANDBETWEEN(1,2),RANDBETWEEN(1,99),RANDBETWEEN(1,999)/10),CHOOSE(RANDBETWEEN(1,4),RANDBETWEEN(1,99999)/1000,RANDBETWEEN(1,9999)/100,RANDBETWEEN(1,999)/10,RANDBETWEEN(1,99))))","v":41},"km","=",{"$f":"1000*C2033","v":41000},"m"]
[{"$f":"IF(COUNTIF($B$1:B2034,TRUE)=COUNTIF($B$1:B2033,TRUE),\"\",COUNTIF($B$1:B2034,TRUE))","v":""},{"$f":"IF(Worksheet!$D$10=3,FALSE,Worksheet!$B$17)","v":false},{"$f":"IF(Worksheet!$D$6=1,RANDBETWEEN(1,99),IF(Worksheet!$D$6=2,CHOOSE(RANDBETWEEN(1,2),RANDBETWEEN(1,99),RANDBETWEEN(1,999)/10),CHOOSE(RANDBETWEEN(1,4),RANDBETWEEN(1,99999)/1000,RANDBETWEEN(1,9999)/100,RANDBETWEEN(1,999)/10,RANDBETWEEN(1,99))))","v":83},"m",{"$f":"#REF!","v":{"$error":"#REF!"}},{"$f":"1000*C2034","v":83000},"mm"]
[{"$f":"IF(COUNTIF($B$1:B2035,TRUE)=COUNTIF($B$1:B2034,TRUE),\"\",COUNTIF($B$1:B2035,TRUE))","v":""},{"$f":"IF(Worksheet!$D$10=3,FALSE,Worksheet!$B$18)","v":false},{"$f":"IF(Worksheet!$D$6=1,RANDBETWEEN(1,99),IF(Worksheet!$D$6=2,CHOOSE(RANDBETWEEN(1,2),RANDBETWEEN(1,99),RANDBETWEEN(1,999)/10),CHOOSE(RANDBETWEEN(1,4),RANDBETWEEN(1,99999)/1000,RANDBETWEEN(1,9999)/100,RANDBETWEEN(1,999)/10,RANDBETWEEN(1,99))))","v":68},"cm²","=",{"$f":"C2035*100","v":6800},"mm²"]
[{"$f":"IF(COUNTIF($B$1:B2036,TRUE)=COUNTIF($B$1:B2035,TRUE),\"\",COUNTIF($B$1:B2036,TRUE))","v":1222},{"$f":"IF(Worksheet!$D$10=3,FALSE,Worksheet!$D$14)","v":true},{"$f":"IF(Worksheet!$D$6=1,RANDBETWEEN(1,99),IF(Worksheet!$D$6=2,CHOOSE(RANDBETWEEN(1,2),RANDBETWEEN(1,99),RANDBETWEEN(1,999)/10),CHOOSE(RANDBETWEEN(1,4),RANDBETWEEN(1,99999)/1000,RANDBETWEEN(1,9999)/100,RANDBETWEEN(1,999)/10,RANDBETWEEN(1,99))))","v":5},"kg","=",{"$f":"1000*C2036","v":5000},"g"]
[{"$f":"IF(COUNTIF($B$1:B2037,TRUE)=COUNTIF($B$1:B2036,TRUE),\"\",COUNTIF($B$1:B2037,TRUE))","v":1223},{"$f":"IF(Worksheet!$D$10=3,FALSE,Worksheet!$D$15)","v":true},{"$f":"IF(Worksheet!$D$6=1,RANDBETWEEN(1,99),IF(Worksheet!$D$6=2,CHOOSE(RANDBETWEEN(1,2),RANDBETWEEN(1,99),RANDBETWEEN(1,999)/10),CHOOSE(RANDBETWEEN(1,4),RANDBETWEEN(1,99999)/1000,RANDBETWEEN(1,9999)/100,RANDBETWEEN(1,999)/10,RANDBETWEEN(1,99))))","v":85},"tonnes","=",{"$f":"1000*C2037","v":85000},"kg"]
[{"$f":"IF(COUNTIF($B$1:B2038,TRUE)=COUNTIF($B$1:B2037,TRUE),\"\",COUNTIF($B$1:B2038,TRUE))","v":1224},{"$f":"IF(Worksheet!$D$10=3,FALSE,Worksheet!$D$16)","v":true},{"$f":"IF(Worksheet!$D$6=1,RANDBETWEEN(1,99),IF(Worksheet!$D$6=2,CHOOSE(RANDBETWEEN(1,2),RANDBETWEEN(1,99),RANDBETWEEN(1,999)/10),CHOOSE(RANDBETWEEN(1,4),RANDBETWEEN(1,99999)/1000,RANDBETWEEN(1,9999)/100,RANDBETWEEN(1,999)/10,RANDBETWEEN(1,99))))","v":35},"litres","=",{"$f":"1000*C2038","v":35000},"ml"]
[{"$f":"IF(COUNTIF($B$1:B2039,TRUE)=COUNTIF($B$1:B2038,TRUE),\"\",COUNTIF($B$1:B2039,TRUE))","v":""},{"$f":"IF(Worksheet!$D$10=3,FALSE,Worksheet!$D$17)","v":false},{"$f":"IF(Worksheet!$D$6=1,RANDBETWEEN(1,99),IF(Worksheet!$D$6=2,CHOOSE(RANDBETWEEN(1,2),RANDBETWEEN(1,99),RANDBETWEEN(1,999)/10),CHOOSE(RANDBETWEEN(1,4),RANDBETWEEN(1,99999)/1000,RANDBETWEEN(1,9999)/100,RANDBETWEEN(1,999)/10,RANDBETWEEN(1,99))))","v":54},"litres","=",{"$f":"1000*C2039","v":54000},"cm³"]
[{"$f":"IF(COUNTIF($B$1:B2040,TRUE)=COUNTIF($B$1:B2039,TRUE),\"\",COUNTIF($B$1:B2040,TRUE))","v":""},{"$f":"IF(Worksheet!$D$10=3,FALSE,Worksheet!$D$18)","v":false},{"$f":"IF(Worksheet!$D$6=1,RANDBETWEEN(1,99),IF(Worksheet!$D$6=2,CHOOSE(RANDBETWEEN(1,2),RANDBETWEEN(1,99),RANDBETWEEN(1,999)/10),CHOOSE(RANDBETWEEN(1,4),RANDBETWEEN(1,99999)/1000,RANDBETWEEN(1,9999)/100,RANDBETWEEN(1,999)/10,RANDBETWEEN(1,99))))","v":42},"m²","=",{"$f":"10000*C2040","v":420000},"cm²"]
[{"$f":"IF(COUNTIF($B$1:B2041,TRUE)=COUNTIF($B$1:B2040,TRUE),\"\",COUNTIF($B$1:B2041,TRUE))","v":1225},{"$f":"IF(Worksheet!$D$10=2,FALSE,Worksheet!$B$14)","v":true},{"$f":"10*F2041","v":730},"mm","=",{"$f":"IF(Worksheet!$D$6=1,RANDBETWEEN(1,99),IF(Worksheet!$D$6=2,CHOOSE(RANDBETWEEN(1,2),RANDBETWEEN(1,99),RANDBETWEEN(1,999)/10),CHOOSE(RANDBETWEEN(1,4),RANDBETWEEN(1,99999)/1000,RANDBETWEEN(1,9999)/100,RANDBETWEEN(1,999)/10,RANDBETWEEN(1,99))))","v":73},"cm"]
[{"$f":"IF(COUNTIF($B$1:B2042,TRUE)=COUNTIF($B$1:B2041,TRUE),\"\",COUNTIF($B$1:B2042,TRUE))","v":1226},{"$f":"IF(Worksheet!$D$10=2,FALSE,Worksheet!$B$15)","v":true},{"$f":"100*F2042","v":600},"cm","=",{"$f":"IF(Worksheet!$D$6=1,RANDBETWEEN(1,99),IF(Worksheet!$D$6=2,CHOOSE(RANDBETWEEN(1,2),RANDBETWEEN(1,99),RANDBETWEEN(1,999)/10),CHOOSE(RANDBETWEEN(1,4),RANDBETWEEN(1,99999)/1000,RANDBETWEEN(1,9999)/100,RANDBETWEEN(1,999)/10,RANDBETWEEN(1,99))))","v":6},"m"]
[{"$f":"IF(COUNTIF($B$1:B2043,TRUE)=COUNTIF($B$1:B2042,TRUE),\"\",COUNTIF($B$1:B2043,TRUE))","v":1227},{"$f":"IF(Worksheet!$D$10=2,FALSE,Worksheet!$B$16)","v":true},{"$f":"1000*F2043","v":36000},"m","=",{"$f":"IF(Worksheet!$D$6=1,RANDBETWEEN(1,99),IF(Worksheet!$D$6=2,CHOOSE(RANDBETWEEN(1,2),RANDBETWEEN(1,99),RANDBETWEEN(1,999)/10),CHOOSE(RANDBETWEEN(1,4),RANDBETWEEN(1,99999)/1000,RANDBETWEEN(1,9999)/100,RANDBETWEEN(1,999)/10,RANDBETWEEN(1,99))))","v":36},"km"]
[{"$f":"IF(COUNTIF($B$1:B2044,TRUE)=COUNTIF($B$1:B2043,TRUE),\"\",COUNTIF($B$1:B2044,TRUE))","v":""},{"$f":"IF(Worksheet!$D$10=2,FALSE,Worksheet!$B$17)","v":false},{"$f":"1000*F2044","v":57000},"mm","=",{"$f":"IF(Worksheet!$D$6=1,RANDBETWEEN(1,99),IF(Worksheet!$D$6=2,CHOOSE(RANDBETWEEN(1,2),RANDBETWEEN(1,99),RANDBETWEEN(1,999)/10),CHOOSE(RANDBETWEEN(1,4),RANDBETWEEN(1,99999)/1000,RANDBETWEEN(1,9999)/100,RANDBETWEEN(1,999)/10,RANDBETWEEN(1,99))))","v":57},"m"]
[{"$f":"IF(COUNTIF($B$1:B2045,TRUE)=COUNTIF($B$1:B2044,TRUE),\"\",COUNTIF($B$1:B2045,TRUE))","v":""},{"$f":"IF(Worksheet!$D$10=2,FALSE,Worksheet!$B$18)","v":false},{"$f":"100*F2045","v":500},"mm²","=",{"$f":"IF(Worksheet!$D$6=1,RANDBETWEEN(1,99),IF(Worksheet!$D$6=2,CHOOSE(RANDBETWEEN(1,2),RANDBETWEEN(1,99),RANDBETWEEN(1,999)/10),CHOOSE(RANDBETWEEN(1,4),RANDBETWEEN(1,99999)/1000,RANDBETWEEN(1,9999)/100,RANDBETWEEN(1,999)/10,RANDBETWEEN(1,99))))","v":5},"cm²"]
[{"$f":"IF(COUNTIF($B$1:B2046,TRUE)=COUNTIF($B$1:B2045,TRUE),\"\",COUNTIF($B$1:B2046,TRUE))","v":1228},{"$f":"IF(Worksheet!$D$10=2,FALSE,Worksheet!$D$14)","v":true},{"$f":"F2046*1000","v":88000},"g","=",{"$f":"IF(Worksheet!$D$6=1,RANDBETWEEN(1,99),IF(Worksheet!$D$6=2,CHOOSE(RANDBETWEEN(1,2),RANDBETWEEN(1,99),RANDBETWEEN(1,999)/10),CHOOSE(RANDBETWEEN(1,4),RANDBETWEEN(1,99999)/1000,RANDBETWEEN(1,9999)/100,RANDBETWEEN(1,999)/10,RANDBETWEEN(1,99))))","v":88},"kg"]
[{"$f":"IF(COUNTIF($B$1:B2047,TRUE)=COUNTIF($B$1:B2046,TRUE),\"\",COUNTIF($B$1:B2047,TRUE))","v":1229},{"$f":"IF(Worksheet!$D$10=2,FALSE,Worksheet!$D$15)","v":true},{"$f":"F2047*1000","v":9000},"kg","=",{"$f":"IF(Worksheet!$D$6=1,RANDBETWEEN(1,99),IF(Worksheet!$D$6=2,CHOOSE(RANDBETWEEN(1,2),RANDBETWEEN(1,99),RANDBETWEEN(1,999)/10),CHOOSE(RANDBETWEEN(1,4),RANDBETWEEN(1,99999)/1000,RANDBETWEEN(1,9999)/100,RANDBETWEEN(1,999)/10,RANDBETWEEN(1,99))))","v":9},"tonnes"]
[{"$f":"IF(COUNTIF($B$1:B2048,TRUE)=COUNTIF($B$1:B2047,TRUE),\"\",COUNTIF($B$1:B2048,TRUE))","v":1230},{"$f":"IF(Worksheet!$D$10=2,FALSE,Worksheet!$D$16)","v":true},{"$f":"1000*F2048","v":56000},"ml","=",{"$f":"IF(Worksheet!$D$6=1,RANDBETWEEN(1,99),IF(Worksheet!$D$6=2,CHOOSE(RANDBETWEEN(1,2),RANDBETWEEN(1,99),RANDBETWEEN(1,999)/10),CHOOSE(RANDBETWEEN(1,4),RANDBETWEEN(1,99999)/1000,RANDBETWEEN(1,9999)/100,RANDBETWEEN(1,999)/10,RANDBETWEEN(1,99))))","v":56},"litres"]
[{"$f":"IF(COUNTIF($B$1:B2049,TRUE)=COUNTIF($B$1:B2048,TRUE),\"\",COUNTIF($B$1:B2049,TRUE))","v":""},{"$f":"IF(Worksheet!$D$10=2,FALSE,Worksheet!$D$17)","v":false},{"$f":"1000*F2049","v":25000},"cm³","=",{"$f":"IF(Worksheet!$D$6=1,RANDBETWEEN(1,99),IF(Worksheet!$D$6=2,CHOOSE(RANDBETWEEN(1,2),RANDBETWEEN(1,99),RANDBETWEEN(1,999)/10),CHOOSE(RANDBETWEEN(1,4),RANDBETWEEN(1,99999)/1000,RANDBETWEEN(1,9999)/100,RANDBETWEEN(1,999)/10,RANDBETWEEN(1,99))))","v":25},"litres"]
[{"$f":"IF(COUNTIF($B$1:B2050,TRUE)=COUNTIF($B$1:B2049,TRUE),\"\",COUNTIF($B$1:B2050,TRUE))","v":""},{"$f":"IF(Worksheet!$D$10=2,FALSE,Worksheet!$D$18)","v":false},{"$f":"10000*F2050","v":650000},"cm²","=",{"$f":"IF(Worksheet!$D$6=1,RANDBETWEEN(1,99),IF(Worksheet!$D$6=2,CHOOSE(RANDBETWEEN(1,2),RANDBETWEEN(1,99),RANDBETWEEN(1,999)/10),CHOOSE(RANDBETWEEN(1,4),RANDBETWEEN(1,99999)/1000,RANDBETWEEN(1,9999)/100,RANDBETWEEN(1,999)/10,RANDBETWEEN(1,99))))","v":65},"m²"]
[{"$f":"IF(COUNTIF($B$1:B2051,TRUE)=COUNTIF($B$1:B2050,TRUE),\"\",COUNTIF($B$1:B2051,TRUE))","v":1231},{"$f":"IF(Worksheet!$D$10=3,FALSE,Worksheet!$B$14)","v":true},{"$f":"IF(Worksheet!$D$6=1,RANDBETWEEN(1,99),IF(Worksheet!$D$6=2,CHOOSE(RANDBETWEEN(1,2),RANDBETWEEN(1,99),RANDBETWEEN(1,999)/10),CHOOSE(RANDBETWEEN(1,4),RANDBETWEEN(1,99999)/1000,RANDBETWEEN(1,9999)/100,RANDBETWEEN(1,999)/10,RANDBETWEEN(1,99))))","v":94},"cm","=",{"$f":"10*C2051","v":940},"mm"]
[{"$f":"IF(COUNTIF($B$1:B2052,TRUE)=COUNTIF($B$1:B2051,TRUE),\"\",COUNTIF($B$1:B2052,TRUE))","v":1232},{"$f":"IF(Worksheet!$D$10=3,FALSE,Worksheet!$B$15)","v":true},{"$f":"IF(Worksheet!$D$6=1,RANDBETWEEN(1,99),IF(Worksheet!$D$6=2,CHOOSE(RANDBETWEEN(1,2),RANDBETWEEN(1,99),RANDBETWEEN(1,999)/10),CHOOSE(RANDBETWEEN(1,4),RANDBETWEEN(1,99999)/1000,RANDBETWEEN(1,9999)/100,RANDBETWEEN(1,999)/10,RANDBETWEEN(1,99))))","v":70},"m","=",{"$f":"100*C2052","v":7000},"cm"]
[{"$f":"IF(COUNTIF($B$1:B2053,TRUE)=COUNTIF($B$1:B2052,TRUE),\"\",COUNTIF($B$1:B2053,TRUE))","v":1233},{"$f":"IF(Worksheet!$D$10=3,FALSE,Worksheet!$B$16)","v":true},{"$f":"IF(Worksheet!$D$6=1,RANDBETWEEN(1,99),IF(Worksheet!$D$6=2,CHOOSE(RANDBETWEEN(1,2),RANDBETWEEN(1,99),RANDBETWEEN(1,999)/10),CHOOSE(RANDBETWEEN(1,4),RANDBETWEEN(1,99999)/1000,RANDBETWEEN(1,9999)/100,RANDBETWEEN(1,999)/10,RANDBETWEEN(1,99))))","v":96},"km","=",{"$f":"1000*C2053","v":96000},"m"]
[{"$f":"IF(COUNTIF($B$1:B2054,TRUE)=COUNTIF($B$1:B2053,TRUE),\"\",COUNTIF($B$1:B2054,TRUE))","v":""},{"$f":"IF(Worksheet!$D$10=3,FALSE,Worksheet!$B$17)","v":false},{"$f":"IF(Worksheet!$D$6=1,RANDBETWEEN(1,99),IF(Worksheet!$D$6=2,CHOOSE(RANDBETWEEN(1,2),RANDBETWEEN(1,99),RANDBETWEEN(1,999)/10),CHOOSE(RANDBETWEEN(1,4),RANDBETWEEN(1,99999)/1000,RANDBETWEEN(1,9999)/100,RANDBETWEEN(1,999)/10,RANDBETWEEN(1,99))))","v":25},"m",{"$f":"#REF!","v":{"$error":"#REF!"}},{"$f":"1000*C2054","v":25000},"mm"]
[{"$f":"IF(COUNTIF($B$1:B2055,TRUE)=COUNTIF($B$1:B2054,TRUE),\"\",COUNTIF($B$1:B2055,TRUE))","v":""},{"$f":"IF(Worksheet!$D$10=3,FALSE,Worksheet!$B$18)","v":false},{"$f":"IF(Worksheet!$D$6=1,RANDBETWEEN(1,99),IF(Worksheet!$D$6=2,CHOOSE(RANDBETWEEN(1,2),RANDBETWEEN(1,99),RANDBETWEEN(1,999)/10),CHOOSE(RANDBETWEEN(1,4),RANDBETWEEN(1,99999)/1000,RANDBETWEEN(1,9999)/100,RANDBETWEEN(1,999)/10,RANDBETWEEN(1,99))))","v":11},"cm²","=",{"$f":"C2055*100","v":1100},"mm²"]
[{"$f":"IF(COUNTIF($B$1:B2056,TRUE)=COUNTIF($B$1:B2055,TRUE),\"\",COUNTIF($B$1:B2056,TRUE))","v":1234},{"$f":"IF(Worksheet!$D$10=3,FALSE,Worksheet!$D$14)","v":true},{"$f":"IF(Worksheet!$D$6=1,RANDBETWEEN(1,99),IF(Worksheet!$D$6=2,CHOOSE(RANDBETWEEN(1,2),RANDBETWEEN(1,99),RANDBETWEEN(1,999)/10),CHOOSE(RANDBETWEEN(1,4),RANDBETWEEN(1,99999)/1000,RANDBETWEEN(1,9999)/100,RANDBETWEEN(1,999)/10,RANDBETWEEN(1,99))))","v":91},"kg","=",{"$f":"1000*C2056","v":91000},"g"]
[{"$f":"IF(COUNTIF($B$1:B2057,TRUE)=COUNTIF($B$1:B2056,TRUE),\"\",COUNTIF($B$1:B2057,TRUE))","v":1235},{"$f":"IF(Worksheet!$D$10=3,FALSE,Worksheet!$D$15)","v":true},{"$f":"IF(Worksheet!$D$6=1,RANDBETWEEN(1,99),IF(Worksheet!$D$6=2,CHOOSE(RANDBETWEEN(1,2),RANDBETWEEN(1,99),RANDBETWEEN(1,999)/10),CHOOSE(RANDBETWEEN(1,4),RANDBETWEEN(1,99999)/1000,RANDBETWEEN(1,9999)/100,RANDBETWEEN(1,999)/10,RANDBETWEEN(1,99))))","v":35},"tonnes","=",{"$f":"1000*C2057","v":35000},"kg"]
[{"$f":"IF(COUNTIF($B$1:B2058,TRUE)=COUNTIF($B$1:B2057,TRUE),\"\",COUNTIF($B$1:B2058,TRUE))","v":1236},{"$f":"IF(Worksheet!$D$10=3,FALSE,Worksheet!$D$16)","v":true},{"$f":"IF(Worksheet!$D$6=1,RANDBETWEEN(1,99),IF(Worksheet!$D$6=2,CHOOSE(RANDBETWEEN(1,2),RANDBETWEEN(1,99),RANDBETWEEN(1,999)/10),CHOOSE(RANDBETWEEN(1,4),RANDBETWEEN(1,99999)/1000,RANDBETWEEN(1,9999)/100,RANDBETWEEN(1,999)/10,RANDBETWEEN(1,99))))","v":28},"litres","=",{"$f":"1000*C2058","v":28000},"ml"]
[{"$f":"IF(COUNTIF($B$1:B2059,TRUE)=COUNTIF($B$1:B2058,TRUE),\"\",COUNTIF($B$1:B2059,TRUE))","v":""},{"$f":"IF(Worksheet!$D$10=3,FALSE,Worksheet!$D$17)","v":false},{"$f":"IF(Worksheet!$D$6=1,RANDBETWEEN(1,99),IF(Worksheet!$D$6=2,CHOOSE(RANDBETWEEN(1,2),RANDBETWEEN(1,99),RANDBETWEEN(1,999)/10),CHOOSE(RANDBETWEEN(1,4),RANDBETWEEN(1,99999)/1000,RANDBETWEEN(1,9999)/100,RANDBETWEEN(1,999)/10,RANDBETWEEN(1,99))))","v":96},"litres","=",{"$f":"1000*C2059","v":96000},"cm³"]
[{"$f":"IF(COUNTIF($B$1:B2060,TRUE)=COUNTIF($B$1:B2059,TRUE),\"\",COUNTIF($B$1:B2060,TRUE))","v":""},{"$f":"IF(Worksheet!$D$10=3,FALSE,Worksheet!$D$18)","v":false},{"$f":"IF(Worksheet!$D$6=1,RANDBETWEEN(1,99),IF(Worksheet!$D$6=2,CHOOSE(RANDBETWEEN(1,2),RANDBETWEEN(1,99),RANDBETWEEN(1,999)/10),CHOOSE(RANDBETWEEN(1,4),RANDBETWEEN(1,99999)/1000,RANDBETWEEN(1,9999)/100,RANDBETWEEN(1,999)/10,RANDBETWEEN(1,99))))","v":90},"m²","=",{"$f":"10000*C2060","v":900000},"cm²"]
[{"$f":"IF(COUNTIF($B$1:B2061,TRUE)=COUNTIF($B$1:B2060,TRUE),\"\",COUNTIF($B$1:B2061,TRUE))","v":1237},{"$f":"IF(Worksheet!$D$10=2,FALSE,Worksheet!$B$14)","v":true},{"$f":"10*F2061","v":810},"mm","=",{"$f":"IF(Worksheet!$D$6=1,RANDBETWEEN(1,99),IF(Worksheet!$D$6=2,CHOOSE(RANDBETWEEN(1,2),RANDBETWEEN(1,99),RANDBETWEEN(1,999)/10),CHOOSE(RANDBETWEEN(1,4),RANDBETWEEN(1,99999)/1000,RANDBETWEEN(1,9999)/100,RANDBETWEEN(1,999)/10,RANDBETWEEN(1,99))))","v":81},"cm"]
[{"$f":"IF(COUNTIF($B$1:B2062,TRUE)=COUNTIF($B$1:B2061,TRUE),\"\",COUNTIF($B$1:B2062,TRUE))","v":1238},{"$f":"IF(Worksheet!$D$10=2,FALSE,Worksheet!$B$15)","v":true},{"$f":"100*F2062","v":8600},"cm","=",{"$f":"IF(Worksheet!$D$6=1,RANDBETWEEN(1,99),IF(Worksheet!$D$6=2,CHOOSE(RANDBETWEEN(1,2),RANDBETWEEN(1,99),RANDBETWEEN(1,999)/10),CHOOSE(RANDBETWEEN(1,4),RANDBETWEEN(1,99999)/1000,RANDBETWEEN(1,9999)/100,RANDBETWEEN(1,999)/10,RANDBETWEEN(1,99))))","v":86},"m"]
[{"$f":"IF(COUNTIF($B$1:B2063,TRUE)=COUNTIF($B$1:B2062,TRUE),\"\",COUNTIF($B$1:B2063,TRUE))","v":1239},{"$f":"IF(Worksheet!$D$10=2,FALSE,Worksheet!$B$16)","v":true},{"$f":"1000*F2063","v":18000},"m","=",{"$f":"IF(Worksheet!$D$6=1,RANDBETWEEN(1,99),IF(Worksheet!$D$6=2,CHOOSE(RANDBETWEEN(1,2),RANDBETWEEN(1,99),RANDBETWEEN(1,999)/10),CHOOSE(RANDBETWEEN(1,4),RANDBETWEEN(1,99999)/1000,RANDBETWEEN(1,9999)/100,RANDBETWEEN(1,999)/10,RANDBETWEEN(1,99))))","v":18},"km"]
[{"$f":"IF(COUNTIF($B$1:B2064,TRUE)=COUNTIF($B$1:B2063,TRUE),\"\",COUNTIF($B$1:B2064,TRUE))","v":""},{"$f":"IF(Worksheet!$D$10=2,FALSE,Worksheet!$B$17)","v":false},{"$f":"1000*F2064","v":58000},"mm","=",{"$f":"IF(Worksheet!$D$6=1,RANDBETWEEN(1,99),IF(Worksheet!$D$6=2,CHOOSE(RANDBETWEEN(1,2),RANDBETWEEN(1,99),RANDBETWEEN(1,999)/10),CHOOSE(RANDBETWEEN(1,4),RANDBETWEEN(1,99999)/1000,RANDBETWEEN(1,9999)/100,RANDBETWEEN(1,999)/10,RANDBETWEEN(1,99))))","v":58},"m"]
[{"$f":"IF(COUNTIF($B$1:B2065,TRUE)=COUNTIF($B$1:B2064,TRUE),\"\",COUNTIF($B$1:B2065,TRUE))","v":""},{"$f":"IF(Worksheet!$D$10=2,FALSE,Worksheet!$B$18)","v":false},{"$f":"100*F2065","v":8500},"mm²","=",{"$f":"IF(Worksheet!$D$6=1,RANDBETWEEN(1,99),IF(Worksheet!$D$6=2,CHOOSE(RANDBETWEEN(1,2),RANDBETWEEN(1,99),RANDBETWEEN(1,999)/10),CHOOSE(RANDBETWEEN(1,4),RANDBETWEEN(1,99999)/1000,RANDBETWEEN(1,9999)/100,RANDBETWEEN(1,999)/10,RANDBETWEEN(1,99))))","v":85},"cm²"]
[{"$f":"IF(COUNTIF($B$1:B2066,TRUE)=COUNTIF($B$1:B2065,TRUE),\"\",COUNTIF($B$1:B2066,TRUE))","v":1240},{"$f":"IF(Worksheet!$D$10=2,FALSE,Worksheet!$D$14)","v":true},{"$f":"F2066*1000","v":51000},"g","=",{"$f":"IF(Worksheet!$D$6=1,RANDBETWEEN(1,99),IF(Worksheet!$D$6=2,CHOOSE(RANDBETWEEN(1,2),RANDBETWEEN(1,99),RANDBETWEEN(1,999)/10),CHOOSE(RANDBETWEEN(1,4),RANDBETWEEN(1,99999)/1000,RANDBETWEEN(1,9999)/100,RANDBETWEEN(1,999)/10,RANDBETWEEN(1,99))))","v":51},"kg"]
[{"$f":"IF(COUNTIF($B$1:B2067,TRUE)=COUNTIF($B$1:B2066,TRUE),\"\",COUNTIF($B$1:B2067,TRUE))","v":1241},{"$f":"IF(Worksheet!$D$10=2,FALSE,Worksheet!$D$15)","v":true},{"$f":"F2067*1000","v":22000},"kg","=",{"$f":"IF(Worksheet!$D$6=1,RANDBETWEEN(1,99),IF(Worksheet!$D$6=2,CHOOSE(RANDBETWEEN(1,2),RANDBETWEEN(1,99),RANDBETWEEN(1,999)/10),CHOOSE(RANDBETWEEN(1,4),RANDBETWEEN(1,99999)/1000,RANDBETWEEN(1,9999)/100,RANDBETWEEN(1,999)/10,RANDBETWEEN(1,99))))","v":22},"tonnes"]
[{"$f":"IF(COUNTIF($B$1:B2068,TRUE)=COUNTIF($B$1:B2067,TRUE),\"\",COUNTIF($B$1:B2068,TRUE))","v":1242},{"$f":"IF(Worksheet!$D$10=2,FALSE,Worksheet!$D$16)","v":true},{"$f":"1000*F2068","v":9000},"ml","=",{"$f":"IF(Worksheet!$D$6=1,RANDBETWEEN(1,99),IF(Worksheet!$D$6=2,CHOOSE(RANDBETWEEN(1,2),RANDBETWEEN(1,99),RANDBETWEEN(1,999)/10),CHOOSE(RANDBETWEEN(1,4),RANDBETWEEN(1,99999)/1000,RANDBETWEEN(1,9999)/100,RANDBETWEEN(1,999)/10,RANDBETWEEN(1,99))))","v":9},"litres"]
[{"$f":"IF(COUNTIF($B$1:B2069,TRUE)=COUNTIF($B$1:B2068,TRUE),\"\",COUNTIF($B$1:B2069,TRUE))","v":""},{"$f":"IF(Worksheet!$D$10=2,FALSE,Worksheet!$D$17)","v":false},{"$f":"1000*F2069","v":98000},"cm³","=",{"$f":"IF(Worksheet!$D$6=1,RANDBETWEEN(1,99),IF(Worksheet!$D$6=2,CHOOSE(RANDBETWEEN(1,2),RANDBETWEEN(1,99),RANDBETWEEN(1,999)/10),CHOOSE(RANDBETWEEN(1,4),RANDBETWEEN(1,99999)/1000,RANDBETWEEN(1,9999)/100,RANDBETWEEN(1,999)/10,RANDBETWEEN(1,99))))","v":98},"litres"]
[{"$f":"IF(COUNTIF($B$1:B2070,TRUE)=COUNTIF($B$1:B2069,TRUE),\"\",COUNTIF($B$1:B2070,TRUE))","v":""},{"$f":"IF(Worksheet!$D$10=2,FALSE,Worksheet!$D$18)","v":false},{"$f":"10000*F2070","v":260000},"cm²","=",{"$f":"IF(Worksheet!$D$6=1,RANDBETWEEN(1,99),IF(Worksheet!$D$6=2,CHOOSE(RANDBETWEEN(1,2),RANDBETWEEN(1,99),RANDBETWEEN(1,999)/10),CHOOSE(RANDBETWEEN(1,4),RANDBETWEEN(1,99999)/1000,RANDBETWEEN(1,9999)/100,RANDBETWEEN(1,999)/10,RANDBETWEEN(1,99))))","v":26},"m²"]
[{"$f":"IF(COUNTIF($B$1:B2071,TRUE)=COUNTIF($B$1:B2070,TRUE),\"\",COUNTIF($B$1:B2071,TRUE))","v":1243},{"$f":"IF(Worksheet!$D$10=3,FALSE,Worksheet!$B$14)","v":true},{"$f":"IF(Worksheet!$D$6=1,RANDBETWEEN(1,99),IF(Worksheet!$D$6=2,CHOOSE(RANDBETWEEN(1,2),RANDBETWEEN(1,99),RANDBETWEEN(1,999)/10),CHOOSE(RANDBETWEEN(1,4),RANDBETWEEN(1,99999)/1000,RANDBETWEEN(1,9999)/100,RANDBETWEEN(1,999)/10,RANDBETWEEN(1,99))))","v":37},"cm","=",{"$f":"10*C2071","v":370},"mm"]
[{"$f":"IF(COUNTIF($B$1:B2072,TRUE)=COUNTIF($B$1:B2071,TRUE),\"\",COUNTIF($B$1:B2072,TRUE))","v":1244},{"$f":"IF(Worksheet!$D$10=3,FALSE,Worksheet!$B$15)","v":true},{"$f":"IF(Worksheet!$D$6=1,RANDBETWEEN(1,99),IF(Worksheet!$D$6=2,CHOOSE(RANDBETWEEN(1,2),RANDBETWEEN(1,99),RANDBETWEEN(1,999)/10),CHOOSE(RANDBETWEEN(1,4),RANDBETWEEN(1,99999)/1000,RANDBETWEEN(1,9999)/100,RANDBETWEEN(1,999)/10,RANDBETWEEN(1,99))))","v":63},"m","=",{"$f":"100*C2072","v":6300},"cm"]
[{"$f":"IF(COUNTIF($B$1:B2073,TRUE)=COUNTIF($B$1:B2072,TRUE),\"\",COUNTIF($B$1:B2073,TRUE))","v":1245},{"$f":"IF(Worksheet!$D$10=3,FALSE,Worksheet!$B$16)","v":true},{"$f":"IF(Worksheet!$D$6=1,RANDBETWEEN(1,99),IF(Worksheet!$D$6=2,CHOOSE(RANDBETWEEN(1,2),RANDBETWEEN(1,99),RANDBETWEEN(1,999)/10),CHOOSE(RANDBETWEEN(1,4),RANDBETWEEN(1,99999)/1000,RANDBETWEEN(1,9999)/100,RANDBETWEEN(1,999)/10,RANDBETWEEN(1,99))))","v":29},"km","=",{"$f":"1000*C2073","v":29000},"m"]
[{"$f":"IF(COUNTIF($B$1:B2074,TRUE)=COUNTIF($B$1:B2073,TRUE),\"\",COUNTIF($B$1:B2074,TRUE))","v":""},{"$f":"IF(Worksheet!$D$10=3,FALSE,Worksheet!$B$17)","v":false},{"$f":"IF(Worksheet!$D$6=1,RANDBETWEEN(1,99),IF(Worksheet!$D$6=2,CHOOSE(RANDBETWEEN(1,2),RANDBETWEEN(1,99),RANDBETWEEN(1,999)/10),CHOOSE(RANDBETWEEN(1,4),RANDBETWEEN(1,99999)/1000,RANDBETWEEN(1,9999)/100,RANDBETWEEN(1,999)/10,RANDBETWEEN(1,99))))","v":76},"m",{"$f":"#REF!","v":{"$error":"#REF!"}},{"$f":"1000*C2074","v":76000},"mm"]
[{"$f":"IF(COUNTIF($B$1:B2075,TRUE)=COUNTIF($B$1:B2074,TRUE),\"\",COUNTIF($B$1:B2075,TRUE))","v":""},{"$f":"IF(Worksheet!$D$10=3,FALSE,Worksheet!$B$18)","v":false},{"$f":"IF(Worksheet!$D$6=1,RANDBETWEEN(1,99),IF(Worksheet!$D$6=2,CHOOSE(RANDBETWEEN(1,2),RANDBETWEEN(1,99),RANDBETWEEN(1,999)/10),CHOOSE(RANDBETWEEN(1,4),RANDBETWEEN(1,99999)/1000,RANDBETWEEN(1,9999)/100,RANDBETWEEN(1,999)/10,RANDBETWEEN(1,99))))","v":14},"cm²","=",{"$f":"C2075*100","v":1400},"mm²"]
[{"$f":"IF(COUNTIF($B$1:B2076,TRUE)=COUNTIF($B$1:B2075,TRUE),\"\",COUNTIF($B$1:B2076,TRUE))","v":1246},{"$f":"IF(Worksheet!$D$10=3,FALSE,Worksheet!$D$14)","v":true},{"$f":"IF(Worksheet!$D$6=1,RANDBETWEEN(1,99),IF(Worksheet!$D$6=2,CHOOSE(RANDBETWEEN(1,2),RANDBETWEEN(1,99),RANDBETWEEN(1,999)/10),CHOOSE(RANDBETWEEN(1,4),RANDBETWEEN(1,99999)/1000,RANDBETWEEN(1,9999)/100,RANDBETWEEN(1,999)/10,RANDBETWEEN(1,99))))","v":18},"kg","=",{"$f":"1000*C2076","v":18000},"g"]
[{"$f":"IF(COUNTIF($B$1:B2077,TRUE)=COUNTIF($B$1:B2076,TRUE),\"\",COUNTIF($B$1:B2077,TRUE))","v":1247},{"$f":"IF(Worksheet!$D$10=3,FALSE,Worksheet!$D$15)","v":true},{"$f":"IF(Worksheet!$D$6=1,RANDBETWEEN(1,99),IF(Worksheet!$D$6=2,CHOOSE(RANDBETWEEN(1,2),RANDBETWEEN(1,99),RANDBETWEEN(1,999)/10),CHOOSE(RANDBETWEEN(1,4),RANDBETWEEN(1,99999)/1000,RANDBETWEEN(1,9999)/100,RANDBETWEEN(1,999)/10,RANDBETWEEN(1,99))))","v":72},"tonnes","=",{"$f":"1000*C2077","v":72000},"kg"]
[{"$f":"IF(COUNTIF($B$1:B2078,TRUE)=COUNTIF($B$1:B2077,TRUE),\"\",COUNTIF($B$1:B2078,TRUE))","v":1248},{"$f":"IF(Worksheet!$D$10=3,FALSE,Worksheet!$D$16)","v":true},{"$f":"IF(Worksheet!$D$6=1,RANDBETWEEN(1,99),IF(Worksheet!$D$6=2,CHOOSE(RANDBETWEEN(1,2),RANDBETWEEN(1,99),RANDBETWEEN(1,999)/10),CHOOSE(RANDBETWEEN(1,4),RANDBETWEEN(1,99999)/1000,RANDBETWEEN(1,9999)/100,RANDBETWEEN(1,999)/10,RANDBETWEEN(1,99))))","v":86},"litres","=",{"$f":"1000*C2078","v":86000},"ml"]
[{"$f":"IF(COUNTIF($B$1:B2079,TRUE)=COUNTIF($B$1:B2078,TRUE),\"\",COUNTIF($B$1:B2079,TRUE))","v":""},{"$f":"IF(Worksheet!$D$10=3,FALSE,Worksheet!$D$17)","v":false},{"$f":"IF(Worksheet!$D$6=1,RANDBETWEEN(1,99),IF(Worksheet!$D$6=2,CHOOSE(RANDBETWEEN(1,2),RANDBETWEEN(1,99),RANDBETWEEN(1,999)/10),CHOOSE(RANDBETWEEN(1,4),RANDBETWEEN(1,99999)/1000,RANDBETWEEN(1,9999)/100,RANDBETWEEN(1,999)/10,RANDBETWEEN(1,99))))","v":39},"litres","=",{"$f":"1000*C2079","v":39000},"cm³"]
[{"$f":"IF(COUNTIF($B$1:B2080,TRUE)=COUNTIF($B$1:B2079,TRUE),\"\",COUNTIF($B$1:B2080,TRUE))","v":""},{"$f":"IF(Worksheet!$D$10=3,FALSE,Worksheet!$D$18)","v":false},{"$f":"IF(Worksheet!$D$6=1,RANDBETWEEN(1,99),IF(Worksheet!$D$6=2,CHOOSE(RANDBETWEEN(1,2),RANDBETWEEN(1,99),RANDBETWEEN(1,999)/10),CHOOSE(RANDBETWEEN(1,4),RANDBETWEEN(1,99999)/1000,RANDBETWEEN(1,9999)/100,RANDBETWEEN(1,999)/10,RANDBETWEEN(1,99))))","v":77},"m²","=",{"$f":"10000*C2080","v":770000},"cm²"]
[{"$f":"IF(COUNTIF($B$1:B2081,TRUE)=COUNTIF($B$1:B2080,TRUE),\"\",COUNTIF($B$1:B2081,TRUE))","v":1249},{"$f":"IF(Worksheet!$D$10=2,FALSE,Worksheet!$B$14)","v":true},{"$f":"10*F2081","v":60},"mm","=",{"$f":"IF(Worksheet!$D$6=1,RANDBETWEEN(1,99),IF(Worksheet!$D$6=2,CHOOSE(RANDBETWEEN(1,2),RANDBETWEEN(1,99),RANDBETWEEN(1,999)/10),CHOOSE(RANDBETWEEN(1,4),RANDBETWEEN(1,99999)/1000,RANDBETWEEN(1,9999)/100,RANDBETWEEN(1,999)/10,RANDBETWEEN(1,99))))","v":6},"cm"]
[{"$f":"IF(COUNTIF($B$1:B2082,TRUE)=COUNTIF($B$1:B2081,TRUE),\"\",COUNTIF($B$1:B2082,TRUE))","v":1250},{"$f":"IF(Worksheet!$D$10=2,FALSE,Worksheet!$B$15)","v":true},{"$f":"100*F2082","v":3300},"cm","=",{"$f":"IF(Worksheet!$D$6=1,RANDBETWEEN(1,99),IF(Worksheet!$D$6=2,CHOOSE(RANDBETWEEN(1,2),RANDBETWEEN(1,99),RANDBETWEEN(1,999)/10),CHOOSE(RANDBETWEEN(1,4),RANDBETWEEN(1,99999)/1000,RANDBETWEEN(1,9999)/100,RANDBETWEEN(1,999)/10,RANDBETWEEN(1,99))))","v":33},"m"]
[{"$f":"IF(COUNTIF($B$1:B2083,TRUE)=COUNTIF($B$1:B2082,TRUE),\"\",COUNTIF($B$1:B2083,TRUE))","v":1251},{"$f":"IF(Worksheet!$D$10=2,FALSE,Worksheet!$B$16)","v":true},{"$f":"1000*F2083","v":74000},"m","=",{"$f":"IF(Worksheet!$D$6=1,RANDBETWEEN(1,99),IF(Worksheet!$D$6=2,CHOOSE(RANDBETWEEN(1,2),RANDBETWEEN(1,99),RANDBETWEEN(1,999)/10),CHOOSE(RANDBETWEEN(1,4),RANDBETWEEN(1,99999)/1000,RANDBETWEEN(1,9999)/100,RANDBETWEEN(1,999)/10,RANDBETWEEN(1,99))))","v":74},"km"]
[{"$f":"IF(COUNTIF($B$1:B2084,TRUE)=COUNTIF($B$1:B2083,TRUE),\"\",COUNTIF($B$1:B2084,TRUE))","v":""},{"$f":"IF(Worksheet!$D$10=2,FALSE,Worksheet!$B$17)","v":false},{"$f":"1000*F2084","v":88000},"mm","=",{"$f":"IF(Worksheet!$D$6=1,RANDBETWEEN(1,99),IF(Worksheet!$D$6=2,CHOOSE(RANDBETWEEN(1,2),RANDBETWEEN(1,99),RANDBETWEEN(1,999)/10),CHOOSE(RANDBETWEEN(1,4),RANDBETWEEN(1,99999)/1000,RANDBETWEEN(1,9999)/100,RANDBETWEEN(1,999)/10,RANDBETWEEN(1,99))))","v":88},"m"]
[{"$f":"IF(COUNTIF($B$1:B2085,TRUE)=COUNTIF($B$1:B2084,TRUE),\"\",COUNTIF($B$1:B2085,TRUE))","v":""},{"$f":"IF(Worksheet!$D$10=2,FALSE,Worksheet!$B$18)","v":false},{"$f":"100*F2085","v":1000},"mm²","=",{"$f":"IF(Worksheet!$D$6=1,RANDBETWEEN(1,99),IF(Worksheet!$D$6=2,CHOOSE(RANDBETWEEN(1,2),RANDBETWEEN(1,99),RANDBETWEEN(1,999)/10),CHOOSE(RANDBETWEEN(1,4),RANDBETWEEN(1,99999)/1000,RANDBETWEEN(1,9999)/100,RANDBETWEEN(1,999)/10,RANDBETWEEN(1,99))))","v":10},"cm²"]
[{"$f":"IF(COUNTIF($B$1:B2086,TRUE)=COUNTIF($B$1:B2085,TRUE),\"\",COUNTIF($B$1:B2086,TRUE))","v":1252},{"$f":"IF(Worksheet!$D$10=2,FALSE,Worksheet!$D$14)","v":true},{"$f":"F2086*1000","v":38000},"g","=",{"$f":"IF(Worksheet!$D$6=1,RANDBETWEEN(1,99),IF(Worksheet!$D$6=2,CHOOSE(RANDBETWEEN(1,2),RANDBETWEEN(1,99),RANDBETWEEN(1,999)/10),CHOOSE(RANDBETWEEN(1,4),RANDBETWEEN(1,99999)/1000,RANDBETWEEN(1,9999)/100,RANDBETWEEN(1,999)/10,RANDBETWEEN(1,99))))","v":38},"kg"]
[{"$f":"IF(COUNTIF($B$1:B2087,TRUE)=COUNTIF($B$1:B2086,TRUE),\"\",COUNTIF($B$1:B2087,TRUE))","v":1253},{"$f":"IF(Worksheet!$D$10=2,FALSE,Worksheet!$D$15)","v":true},{"$f":"F2087*1000","v":26000},"kg","=",{"$f":"IF(Worksheet!$D$6=1,RANDBETWEEN(1,99),IF(Worksheet!$D$6=2,CHOOSE(RANDBETWEEN(1,2),RANDBETWEEN(1,99),RANDBETWEEN(1,999)/10),CHOOSE(RANDBETWEEN(1,4),RANDBETWEEN(1,99999)/1000,RANDBETWEEN(1,9999)/100,RANDBETWEEN(1,999)/10,RANDBETWEEN(1,99))))","v":26},"tonnes"]
[{"$f":"IF(COUNTIF($B$1:B2088,TRUE)=COUNTIF($B$1:B2087,TRUE),\"\",COUNTIF($B$1:B2088,TRUE))","v":1254},{"$f":"IF(Worksheet!$D$10=2,FALSE,Worksheet!$D$16)","v":true},{"$f":"1000*F2088","v":78000},"ml","=",{"$f":"IF(Worksheet!$D$6=1,RANDBETWEEN(1,99),IF(Worksheet!$D$6=2,CHOOSE(RANDBETWEEN(1,2),RANDBETWEEN(1,99),RANDBETWEEN(1,999)/10),CHOOSE(RANDBETWEEN(1,4),RANDBETWEEN(1,99999)/1000,RANDBETWEEN(1,9999)/100,RANDBETWEEN(1,999)/10,RANDBETWEEN(1,99))))","v":78},"litres"]
[{"$f":"IF(COUNTIF($B$1:B2089,TRUE)=COUNTIF($B$1:B2088,TRUE),\"\",COUNTIF($B$1:B2089,TRUE))","v":""},{"$f":"IF(Worksheet!$D$10=2,FALSE,Worksheet!$D$17)","v":false},{"$f":"1000*F2089","v":13000},"cm³","=",{"$f":"IF(Worksheet!$D$6=1,RANDBETWEEN(1,99),IF(Worksheet!$D$6=2,CHOOSE(RANDBETWEEN(1,2),RANDBETWEEN(1,99),RANDBETWEEN(1,999)/10),CHOOSE(RANDBETWEEN(1,4),RANDBETWEEN(1,99999)/1000,RANDBETWEEN(1,9999)/100,RANDBETWEEN(1,999)/10,RANDBETWEEN(1,99))))","v":13},"litres"]
[{"$f":"IF(COUNTIF($B$1:B2090,TRUE)=COUNTIF($B$1:B2089,TRUE),\"\",COUNTIF($B$1:B2090,TRUE))","v":""},{"$f":"IF(Worksheet!$D$10=2,FALSE,Worksheet!$D$18)","v":false},{"$f":"10000*F2090","v":80000},"cm²","=",{"$f":"IF(Worksheet!$D$6=1,RANDBETWEEN(1,99),IF(Worksheet!$D$6=2,CHOOSE(RANDBETWEEN(1,2),RANDBETWEEN(1,99),RANDBETWEEN(1,999)/10),CHOOSE(RANDBETWEEN(1,4),RANDBETWEEN(1,99999)/1000,RANDBETWEEN(1,9999)/100,RANDBETWEEN(1,999)/10,RANDBETWEEN(1,99))))","v":8},"m²"]
[{"$f":"IF(COUNTIF($B$1:B2091,TRUE)=COUNTIF($B$1:B2090,TRUE),\"\",COUNTIF($B$1:B2091,TRUE))","v":1255},{"$f":"IF(Worksheet!$D$10=3,FALSE,Worksheet!$B$14)","v":true},{"$f":"IF(Worksheet!$D$6=1,RANDBETWEEN(1,99),IF(Worksheet!$D$6=2,CHOOSE(RANDBETWEEN(1,2),RANDBETWEEN(1,99),RANDBETWEEN(1,999)/10),CHOOSE(RANDBETWEEN(1,4),RANDBETWEEN(1,99999)/1000,RANDBETWEEN(1,9999)/100,RANDBETWEEN(1,999)/10,RANDBETWEEN(1,99))))","v":45},"cm","=",{"$f":"10*C2091","v":450},"mm"]
[{"$f":"IF(COUNTIF($B$1:B2092,TRUE)=COUNTIF($B$1:B2091,TRUE),\"\",COUNTIF($B$1:B2092,TRUE))","v":1256},{"$f":"IF(Worksheet!$D$10=3,FALSE,Worksheet!$B$15)","v":true},{"$f":"IF(Worksheet!$D$6=1,RANDBETWEEN(1,99),IF(Worksheet!$D$6=2,CHOOSE(RANDBETWEEN(1,2),RANDBETWEEN(1,99),RANDBETWEEN(1,999)/10),CHOOSE(RANDBETWEEN(1,4),RANDBETWEEN(1,99999)/1000,RANDBETWEEN(1,9999)/100,RANDBETWEEN(1,999)/10,RANDBETWEEN(1,99))))","v":3},"m","=",{"$f":"100*C2092","v":300},"cm"]
[{"$f":"IF(COUNTIF($B$1:B2093,TRUE)=COUNTIF($B$1:B2092,TRUE),\"\",COUNTIF($B$1:B2093,TRUE))","v":1257},{"$f":"IF(Worksheet!$D$10=3,FALSE,Worksheet!$B$16)","v":true},{"$f":"IF(Worksheet!$D$6=1,RANDBETWEEN(1,99),IF(Worksheet!$D$6=2,CHOOSE(RANDBETWEEN(1,2),RANDBETWEEN(1,99),RANDBETWEEN(1,999)/10),CHOOSE(RANDBETWEEN(1,4),RANDBETWEEN(1,99999)/1000,RANDBETWEEN(1,9999)/100,RANDBETWEEN(1,999)/10,RANDBETWEEN(1,99))))","v":11},"km","=",{"$f":"1000*C2093","v":11000},"m"]
[{"$f":"IF(COUNTIF($B$1:B2094,TRUE)=COUNTIF($B$1:B2093,TRUE),\"\",COUNTIF($B$1:B2094,TRUE))","v":""},{"$f":"IF(Worksheet!$D$10=3,FALSE,Worksheet!$B$17)","v":false},{"$f":"IF(Worksheet!$D$6=1,RANDBETWEEN(1,99),IF(Worksheet!$D$6=2,CHOOSE(RANDBETWEEN(1,2),RANDBETWEEN(1,99),RANDBETWEEN(1,999)/10),CHOOSE(RANDBETWEEN(1,4),RANDBETWEEN(1,99999)/1000,RANDBETWEEN(1,9999)/100,RANDBETWEEN(1,999)/10,RANDBETWEEN(1,99))))","v":35},"m",{"$f":"#REF!","v":{"$error":"#REF!"}},{"$f":"1000*C2094","v":35000},"mm"]
[{"$f":"IF(COUNTIF($B$1:B2095,TRUE)=COUNTIF($B$1:B2094,TRUE),\"\",COUNTIF($B$1:B2095,TRUE))","v":""},{"$f":"IF(Worksheet!$D$10=3,FALSE,Worksheet!$B$18)","v":false},{"$f":"IF(Worksheet!$D$6=1,RANDBETWEEN(1,99),IF(Worksheet!$D$6=2,CHOOSE(RANDBETWEEN(1,2),RANDBETWEEN(1,99),RANDBETWEEN(1,999)/10),CHOOSE(RANDBETWEEN(1,4),RANDBETWEEN(1,99999)/1000,RANDBETWEEN(1,9999)/100,RANDBETWEEN(1,999)/10,RANDBETWEEN(1,99))))","v":12},"cm²","=",{"$f":"C2095*100","v":1200},"mm²"]
[{"$f":"IF(COUNTIF($B$1:B2096,TRUE)=COUNTIF($B$1:B2095,TRUE),\"\",COUNTIF($B$1:B2096,TRUE))","v":1258},{"$f":"IF(Worksheet!$D$10=3,FALSE,Worksheet!$D$14)","v":true},{"$f":"IF(Worksheet!$D$6=1,RANDBETWEEN(1,99),IF(Worksheet!$D$6=2,CHOOSE(RANDBETWEEN(1,2),RANDBETWEEN(1,99),RANDBETWEEN(1,999)/10),CHOOSE(RANDBETWEEN(1,4),RANDBETWEEN(1,99999)/1000,RANDBETWEEN(1,9999)/100,RANDBETWEEN(1,999)/10,RANDBETWEEN(1,99))))","v":75},"kg","=",{"$f":"1000*C2096","v":75000},"g"]
[{"$f":"IF(COUNTIF($B$1:B2097,TRUE)=COUNTIF($B$1:B2096,TRUE),\"\",COUNTIF($B$1:B2097,TRUE))","v":1259},{"$f":"IF(Worksheet!$D$10=3,FALSE,Worksheet!$D$15)","v":true},{"$f":"IF(Worksheet!$D$6=1,RANDBETWEEN(1,99),IF(Worksheet!$D$6=2,CHOOSE(RANDBETWEEN(1,2),RANDBETWEEN(1,99),RANDBETWEEN(1,999)/10),CHOOSE(RANDBETWEEN(1,4),RANDBETWEEN(1,99999)/1000,RANDBETWEEN(1,9999)/100,RANDBETWEEN(1,999)/10,RANDBETWEEN(1,99))))","v":28},"tonnes","=",{"$f":"1000*C2097","v":28000},"kg"]
[{"$f":"IF(COUNTIF($B$1:B2098,TRUE)=COUNTIF($B$1:B2097,TRUE),\"\",COUNTIF($B$1:B2098,TRUE))","v":1260},{"$f":"IF(Worksheet!$D$10=3,FALSE,Worksheet!$D$16)","v":true},{"$f":"IF(Worksheet!$D$6=1,RANDBETWEEN(1,99),IF(Worksheet!$D$6=2,CHOOSE(RANDBETWEEN(1,2),RANDBETWEEN(1,99),RANDBETWEEN(1,999)/10),CHOOSE(RANDBETWEEN(1,4),RANDBETWEEN(1,99999)/1000,RANDBETWEEN(1,9999)/100,RANDBETWEEN(1,999)/10,RANDBETWEEN(1,99))))","v":40},"litres","=",{"$f":"1000*C2098","v":40000},"ml"]
[{"$f":"IF(COUNTIF($B$1:B2099,TRUE)=COUNTIF($B$1:B2098,TRUE),\"\",COUNTIF($B$1:B2099,TRUE))","v":""},{"$f":"IF(Worksheet!$D$10=3,FALSE,Worksheet!$D$17)","v":false},{"$f":"IF(Worksheet!$D$6=1,RANDBETWEEN(1,99),IF(Worksheet!$D$6=2,CHOOSE(RANDBETWEEN(1,2),RANDBETWEEN(1,99),RANDBETWEEN(1,999)/10),CHOOSE(RANDBETWEEN(1,4),RANDBETWEEN(1,99999)/1000,RANDBETWEEN(1,9999)/100,RANDBETWEEN(1,999)/10,RANDBETWEEN(1,99))))","v":26},"litres","=",{"$f":"1000*C2099","v":26000},"cm³"]
[{"$f":"IF(COUNTIF($B$1:B2100,TRUE)=COUNTIF($B$1:B2099,TRUE),\"\",COUNTIF($B$1:B2100,TRUE))","v":""},{"$f":"IF(Worksheet!$D$10=3,FALSE,Worksheet!$D$18)","v":false},{"$f":"IF(Worksheet!$D$6=1,RANDBETWEEN(1,99),IF(Worksheet!$D$6=2,CHOOSE(RANDBETWEEN(1,2),RANDBETWEEN(1,99),RANDBETWEEN(1,999)/10),CHOOSE(RANDBETWEEN(1,4),RANDBETWEEN(1,99999)/1000,RANDBETWEEN(1,9999)/100,RANDBETWEEN(1,999)/10,RANDBETWEEN(1,99))))","v":50},"m²","=",{"$f":"10000*C2100","v":500000},"cm²"]
[{"$f":"IF(COUNTIF($B$1:B2101,TRUE)=COUNTIF($B$1:B2100,TRUE),\"\",COUNTIF($B$1:B2101,TRUE))","v":1261},{"$f":"IF(Worksheet!$D$10=2,FALSE,Worksheet!$B$14)","v":true},{"$f":"10*F2101","v":250},"mm","=",{"$f":"IF(Worksheet!$D$6=1,RANDBETWEEN(1,99),IF(Worksheet!$D$6=2,CHOOSE(RANDBETWEEN(1,2),RANDBETWEEN(1,99),RANDBETWEEN(1,999)/10),CHOOSE(RANDBETWEEN(1,4),RANDBETWEEN(1,99999)/1000,RANDBETWEEN(1,9999)/100,RANDBETWEEN(1,999)/10,RANDBETWEEN(1,99))))","v":25},"cm"]
[{"$f":"IF(COUNTIF($B$1:B2102,TRUE)=COUNTIF($B$1:B2101,TRUE),\"\",COUNTIF($B$1:B2102,TRUE))","v":1262},{"$f":"IF(Worksheet!$D$10=2,FALSE,Worksheet!$B$15)","v":true},{"$f":"100*F2102","v":3100},"cm","=",{"$f":"IF(Worksheet!$D$6=1,RANDBETWEEN(1,99),IF(Worksheet!$D$6=2,CHOOSE(RANDBETWEEN(1,2),RANDBETWEEN(1,99),RANDBETWEEN(1,999)/10),CHOOSE(RANDBETWEEN(1,4),RANDBETWEEN(1,99999)/1000,RANDBETWEEN(1,9999)/100,RANDBETWEEN(1,999)/10,RANDBETWEEN(1,99))))","v":31},"m"]
[{"$f":"IF(COUNTIF($B$1:B2103,TRUE)=COUNTIF($B$1:B2102,TRUE),\"\",COUNTIF($B$1:B2103,TRUE))","v":1263},{"$f":"IF(Worksheet!$D$10=2,FALSE,Worksheet!$B$16)","v":true},{"$f":"1000*F2103","v":58000},"m","=",{"$f":"IF(Worksheet!$D$6=1,RANDBETWEEN(1,99),IF(Worksheet!$D$6=2,CHOOSE(RANDBETWEEN(1,2),RANDBETWEEN(1,99),RANDBETWEEN(1,999)/10),CHOOSE(RANDBETWEEN(1,4),RANDBETWEEN(1,99999)/1000,RANDBETWEEN(1,9999)/100,RANDBETWEEN(1,999)/10,RANDBETWEEN(1,99))))","v":58},"km"]
[{"$f":"IF(COUNTIF($B$1:B2104,TRUE)=COUNTIF($B$1:B2103,TRUE),\"\",COUNTIF($B$1:B2104,TRUE))","v":""},{"$f":"IF(Worksheet!$D$10=2,FALSE,Worksheet!$B$17)","v":false},{"$f":"1000*F2104","v":3000},"mm","=",{"$f":"IF(Worksheet!$D$6=1,RANDBETWEEN(1,99),IF(Worksheet!$D$6=2,CHOOSE(RANDBETWEEN(1,2),RANDBETWEEN(1,99),RANDBETWEEN(1,999)/10),CHOOSE(RANDBETWEEN(1,4),RANDBETWEEN(1,99999)/1000,RANDBETWEEN(1,9999)/100,RANDBETWEEN(1,999)/10,RANDBETWEEN(1,99))))","v":3},"m"]
[{"$f":"IF(COUNTIF($B$1:B2105,TRUE)=COUNTIF($B$1:B2104,TRUE),\"\",COUNTIF($B$1:B2105,TRUE))","v":""},{"$f":"IF(Worksheet!$D$10=2,FALSE,Worksheet!$B$18)","v":false},{"$f":"100*F2105","v":900},"mm²","=",{"$f":"IF(Worksheet!$D$6=1,RANDBETWEEN(1,99),IF(Worksheet!$D$6=2,CHOOSE(RANDBETWEEN(1,2),RANDBETWEEN(1,99),RANDBETWEEN(1,999)/10),CHOOSE(RANDBETWEEN(1,4),RANDBETWEEN(1,99999)/1000,RANDBETWEEN(1,9999)/100,RANDBETWEEN(1,999)/10,RANDBETWEEN(1,99))))","v":9},"cm²"]
[{"$f":"IF(COUNTIF($B$1:B2106,TRUE)=COUNTIF($B$1:B2105,TRUE),\"\",COUNTIF($B$1:B2106,TRUE))","v":1264},{"$f":"IF(Worksheet!$D$10=2,FALSE,Worksheet!$D$14)","v":true},{"$f":"F2106*1000","v":5000},"g","=",{"$f":"IF(Worksheet!$D$6=1,RANDBETWEEN(1,99),IF(Worksheet!$D$6=2,CHOOSE(RANDBETWEEN(1,2),RANDBETWEEN(1,99),RANDBETWEEN(1,999)/10),CHOOSE(RANDBETWEEN(1,4),RANDBETWEEN(1,99999)/1000,RANDBETWEEN(1,9999)/100,RANDBETWEEN(1,999)/10,RANDBETWEEN(1,99))))","v":5},"kg"]
[{"$f":"IF(COUNTIF($B$1:B2107,TRUE)=COUNTIF($B$1:B2106,TRUE),\"\",COUNTIF($B$1:B2107,TRUE))","v":1265},{"$f":"IF(Worksheet!$D$10=2,FALSE,Worksheet!$D$15)","v":true},{"$f":"F2107*1000","v":88000},"kg","=",{"$f":"IF(Worksheet!$D$6=1,RANDBETWEEN(1,99),IF(Worksheet!$D$6=2,CHOOSE(RANDBETWEEN(1,2),RANDBETWEEN(1,99),RANDBETWEEN(1,999)/10),CHOOSE(RANDBETWEEN(1,4),RANDBETWEEN(1,99999)/1000,RANDBETWEEN(1,9999)/100,RANDBETWEEN(1,999)/10,RANDBETWEEN(1,99))))","v":88},"tonnes"]
[{"$f":"IF(COUNTIF($B$1:B2108,TRUE)=COUNTIF($B$1:B2107,TRUE),\"\",COUNTIF($B$1:B2108,TRUE))","v":1266},{"$f":"IF(Worksheet!$D$10=2,FALSE,Worksheet!$D$16)","v":true},{"$f":"1000*F2108","v":83000},"ml","=",{"$f":"IF(Worksheet!$D$6=1,RANDBETWEEN(1,99),IF(Worksheet!$D$6=2,CHOOSE(RANDBETWEEN(1,2),RANDBETWEEN(1,99),RANDBETWEEN(1,999)/10),CHOOSE(RANDBETWEEN(1,4),RANDBETWEEN(1,99999)/1000,RANDBETWEEN(1,9999)/100,RANDBETWEEN(1,999)/10,RANDBETWEEN(1,99))))","v":83},"litres"]
[{"$f":"IF(COUNTIF($B$1:B2109,TRUE)=COUNTIF($B$1:B2108,TRUE),\"\",COUNTIF($B$1:B2109,TRUE))","v":""},{"$f":"IF(Worksheet!$D$10=2,FALSE,Worksheet!$D$17)","v":false},{"$f":"1000*F2109","v":72000},"cm³","=",{"$f":"IF(Worksheet!$D$6=1,RANDBETWEEN(1,99),IF(Worksheet!$D$6=2,CHOOSE(RANDBETWEEN(1,2),RANDBETWEEN(1,99),RANDBETWEEN(1,999)/10),CHOOSE(RANDBETWEEN(1,4),RANDBETWEEN(1,99999)/1000,RANDBETWEEN(1,9999)/100,RANDBETWEEN(1,999)/10,RANDBETWEEN(1,99))))","v":72},"litres"]
[{"$f":"IF(COUNTIF($B$1:B2110,TRUE)=COUNTIF($B$1:B2109,TRUE),\"\",COUNTIF($B$1:B2110,TRUE))","v":""},{"$f":"IF(Worksheet!$D$10=2,FALSE,Worksheet!$D$18)","v":false},{"$f":"10000*F2110","v":800000},"cm²","=",{"$f":"IF(Worksheet!$D$6=1,RANDBETWEEN(1,99),IF(Worksheet!$D$6=2,CHOOSE(RANDBETWEEN(1,2),RANDBETWEEN(1,99),RANDBETWEEN(1,999)/10),CHOOSE(RANDBETWEEN(1,4),RANDBETWEEN(1,99999)/1000,RANDBETWEEN(1,9999)/100,RANDBETWEEN(1,999)/10,RANDBETWEEN(1,99))))","v":80},"m²"]
[{"$f":"IF(COUNTIF($B$1:B2111,TRUE)=COUNTIF($B$1:B2110,TRUE),\"\",COUNTIF($B$1:B2111,TRUE))","v":1267},{"$f":"IF(Worksheet!$D$10=3,FALSE,Worksheet!$B$14)","v":true},{"$f":"IF(Worksheet!$D$6=1,RANDBETWEEN(1,99),IF(Worksheet!$D$6=2,CHOOSE(RANDBETWEEN(1,2),RANDBETWEEN(1,99),RANDBETWEEN(1,999)/10),CHOOSE(RANDBETWEEN(1,4),RANDBETWEEN(1,99999)/1000,RANDBETWEEN(1,9999)/100,RANDBETWEEN(1,999)/10,RANDBETWEEN(1,99))))","v":65},"cm","=",{"$f":"10*C2111","v":650},"mm"]
[{"$f":"IF(COUNTIF($B$1:B2112,TRUE)=COUNTIF($B$1:B2111,TRUE),\"\",COUNTIF($B$1:B2112,TRUE))","v":1268},{"$f":"IF(Worksheet!$D$10=3,FALSE,Worksheet!$B$15)","v":true},{"$f":"IF(Worksheet!$D$6=1,RANDBETWEEN(1,99),IF(Worksheet!$D$6=2,CHOOSE(RANDBETWEEN(1,2),RANDBETWEEN(1,99),RANDBETWEEN(1,999)/10),CHOOSE(RANDBETWEEN(1,4),RANDBETWEEN(1,99999)/1000,RANDBETWEEN(1,9999)/100,RANDBETWEEN(1,999)/10,RANDBETWEEN(1,99))))","v":25},"m","=",{"$f":"100*C2112","v":2500},"cm"]
[{"$f":"IF(COUNTIF($B$1:B2113,TRUE)=COUNTIF($B$1:B2112,TRUE),\"\",COUNTIF($B$1:B2113,TRUE))","v":1269},{"$f":"IF(Worksheet!$D$10=3,FALSE,Worksheet!$B$16)","v":true},{"$f":"IF(Worksheet!$D$6=1,RANDBETWEEN(1,99),IF(Worksheet!$D$6=2,CHOOSE(RANDBETWEEN(1,2),RANDBETWEEN(1,99),RANDBETWEEN(1,999)/10),CHOOSE(RANDBETWEEN(1,4),RANDBETWEEN(1,99999)/1000,RANDBETWEEN(1,9999)/100,RANDBETWEEN(1,999)/10,RANDBETWEEN(1,99))))","v":31},"km","=",{"$f":"1000*C2113","v":31000},"m"]
[{"$f":"IF(COUNTIF($B$1:B2114,TRUE)=COUNTIF($B$1:B2113,TRUE),\"\",COUNTIF($B$1:B2114,TRUE))","v":""},{"$f":"IF(Worksheet!$D$10=3,FALSE,Worksheet!$B$17)","v":false},{"$f":"IF(Worksheet!$D$6=1,RANDBETWEEN(1,99),IF(Worksheet!$D$6=2,CHOOSE(RANDBETWEEN(1,2),RANDBETWEEN(1,99),RANDBETWEEN(1,999)/10),CHOOSE(RANDBETWEEN(1,4),RANDBETWEEN(1,99999)/1000,RANDBETWEEN(1,9999)/100,RANDBETWEEN(1,999)/10,RANDBETWEEN(1,99))))","v":7},"m",{"$f":"#REF!","v":{"$error":"#REF!"}},{"$f":"1000*C2114","v":7000},"mm"]
[{"$f":"IF(COUNTIF($B$1:B2115,TRUE)=COUNTIF($B$1:B2114,TRUE),\"\",COUNTIF($B$1:B2115,TRUE))","v":""},{"$f":"IF(Worksheet!$D$10=3,FALSE,Worksheet!$B$18)","v":false},{"$f":"IF(Worksheet!$D$6=1,RANDBETWEEN(1,99),IF(Worksheet!$D$6=2,CHOOSE(RANDBETWEEN(1,2),RANDBETWEEN(1,99),RANDBETWEEN(1,999)/10),CHOOSE(RANDBETWEEN(1,4),RANDBETWEEN(1,99999)/1000,RANDBETWEEN(1,9999)/100,RANDBETWEEN(1,999)/10,RANDBETWEEN(1,99))))","v":59},"cm²","=",{"$f":"C2115*100","v":5900},"mm²"]
[{"$f":"IF(COUNTIF($B$1:B2116,TRUE)=COUNTIF($B$1:B2115,TRUE),\"\",COUNTIF($B$1:B2116,TRUE))","v":1270},{"$f":"IF(Worksheet!$D$10=3,FALSE,Worksheet!$D$14)","v":true},{"$f":"IF(Worksheet!$D$6=1,RANDBETWEEN(1,99),IF(Worksheet!$D$6=2,CHOOSE(RANDBETWEEN(1,2),RANDBETWEEN(1,99),RANDBETWEEN(1,999)/10),CHOOSE(RANDBETWEEN(1,4),RANDBETWEEN(1,99999)/1000,RANDBETWEEN(1,9999)/100,RANDBETWEEN(1,999)/10,RANDBETWEEN(1,99))))","v":20},"kg","=",{"$f":"1000*C2116","v":20000},"g"]
[{"$f":"IF(COUNTIF($B$1:B2117,TRUE)=COUNTIF($B$1:B2116,TRUE),\"\",COUNTIF($B$1:B2117,TRUE))","v":1271},{"$f":"IF(Worksheet!$D$10=3,FALSE,Worksheet!$D$15)","v":true},{"$f":"IF(Worksheet!$D$6=1,RANDBETWEEN(1,99),IF(Worksheet!$D$6=2,CHOOSE(RANDBETWEEN(1,2),RANDBETWEEN(1,99),RANDBETWEEN(1,999)/10),CHOOSE(RANDBETWEEN(1,4),RANDBETWEEN(1,99999)/1000,RANDBETWEEN(1,9999)/100,RANDBETWEEN(1,999)/10,RANDBETWEEN(1,99))))","v":65},"tonnes","=",{"$f":"1000*C2117","v":65000},"kg"]
[{"$f":"IF(COUNTIF($B$1:B2118,TRUE)=COUNTIF($B$1:B2117,TRUE),\"\",COUNTIF($B$1:B2118,TRUE))","v":1272},{"$f":"IF(Worksheet!$D$10=3,FALSE,Worksheet!$D$16)","v":true},{"$f":"IF(Worksheet!$D$6=1,RANDBETWEEN(1,99),IF(Worksheet!$D$6=2,CHOOSE(RANDBETWEEN(1,2),RANDBETWEEN(1,99),RANDBETWEEN(1,999)/10),CHOOSE(RANDBETWEEN(1,4),RANDBETWEEN(1,99999)/1000,RANDBETWEEN(1,9999)/100,RANDBETWEEN(1,999)/10,RANDBETWEEN(1,99))))","v":73},"litres","=",{"$f":"1000*C2118","v":73000},"ml"]
[{"$f":"IF(COUNTIF($B$1:B2119,TRUE)=COUNTIF($B$1:B2118,TRUE),\"\",COUNTIF($B$1:B2119,TRUE))","v":""},{"$f":"IF(Worksheet!$D$10=3,FALSE,Worksheet!$D$17)","v":false},{"$f":"IF(Worksheet!$D$6=1,RANDBETWEEN(1,99),IF(Worksheet!$D$6=2,CHOOSE(RANDBETWEEN(1,2),RANDBETWEEN(1,99),RANDBETWEEN(1,999)/10),CHOOSE(RANDBETWEEN(1,4),RANDBETWEEN(1,99999)/1000,RANDBETWEEN(1,9999)/100,RANDBETWEEN(1,999)/10,RANDBETWEEN(1,99))))","v":39},"litres","=",{"$f":"1000*C2119","v":39000},"cm³"]
[{"$f":"IF(COUNTIF($B$1:B2120,TRUE)=COUNTIF($B$1:B2119,TRUE),\"\",COUNTIF($B$1:B2120,TRUE))","v":""},{"$f":"IF(Worksheet!$D$10=3,FALSE,Worksheet!$D$18)","v":false},{"$f":"IF(Worksheet!$D$6=1,RANDBETWEEN(1,99),IF(Worksheet!$D$6=2,CHOOSE(RANDBETWEEN(1,2),RANDBETWEEN(1,99),RANDBETWEEN(1,999)/10),CHOOSE(RANDBETWEEN(1,4),RANDBETWEEN(1,99999)/1000,RANDBETWEEN(1,9999)/100,RANDBETWEEN(1,999)/10,RANDBETWEEN(1,99))))","v":74},"m²","=",{"$f":"10000*C2120","v":740000},"cm²"]
[{"$f":"IF(COUNTIF($B$1:B2121,TRUE)=COUNTIF($B$1:B2120,TRUE),\"\",COUNTIF($B$1:B2121,TRUE))","v":1273},{"$f":"IF(Worksheet!$D$10=2,FALSE,Worksheet!$B$14)","v":true},{"$f":"10*F2121","v":150},"mm","=",{"$f":"IF(Worksheet!$D$6=1,RANDBETWEEN(1,99),IF(Worksheet!$D$6=2,CHOOSE(RANDBETWEEN(1,2),RANDBETWEEN(1,99),RANDBETWEEN(1,999)/10),CHOOSE(RANDBETWEEN(1,4),RANDBETWEEN(1,99999)/1000,RANDBETWEEN(1,9999)/100,RANDBETWEEN(1,999)/10,RANDBETWEEN(1,99))))","v":15},"cm"]
[{"$f":"IF(COUNTIF($B$1:B2122,TRUE)=COUNTIF($B$1:B2121,TRUE),\"\",COUNTIF($B$1:B2122,TRUE))","v":1274},{"$f":"IF(Worksheet!$D$10=2,FALSE,Worksheet!$B$15)","v":true},{"$f":"100*F2122","v":5100},"cm","=",{"$f":"IF(Worksheet!$D$6=1,RANDBETWEEN(1,99),IF(Worksheet!$D$6=2,CHOOSE(RANDBETWEEN(1,2),RANDBETWEEN(1,99),RANDBETWEEN(1,999)/10),CHOOSE(RANDBETWEEN(1,4),RANDBETWEEN(1,99999)/1000,RANDBETWEEN(1,9999)/100,RANDBETWEEN(1,999)/10,RANDBETWEEN(1,99))))","v":51},"m"]
[{"$f":"IF(COUNTIF($B$1:B2123,TRUE)=COUNTIF($B$1:B2122,TRUE),\"\",COUNTIF($B$1:B2123,TRUE))","v":1275},{"$f":"IF(Worksheet!$D$10=2,FALSE,Worksheet!$B$16)","v":true},{"$f":"1000*F2123","v":26000},"m","=",{"$f":"IF(Worksheet!$D$6=1,RANDBETWEEN(1,99),IF(Worksheet!$D$6=2,CHOOSE(RANDBETWEEN(1,2),RANDBETWEEN(1,99),RANDBETWEEN(1,999)/10),CHOOSE(RANDBETWEEN(1,4),RANDBETWEEN(1,99999)/1000,RANDBETWEEN(1,9999)/100,RANDBETWEEN(1,999)/10,RANDBETWEEN(1,99))))","v":26},"km"]
[{"$f":"IF(COUNTIF($B$1:B2124,TRUE)=COUNTIF($B$1:B2123,TRUE),\"\",COUNTIF($B$1:B2124,TRUE))","v":""},{"$f":"IF(Worksheet!$D$10=2,FALSE,Worksheet!$B$17)","v":false},{"$f":"1000*F2124","v":27000},"mm","=",{"$f":"IF(Worksheet!$D$6=1,RANDBETWEEN(1,99),IF(Worksheet!$D$6=2,CHOOSE(RANDBETWEEN(1,2),RANDBETWEEN(1,99),RANDBETWEEN(1,999)/10),CHOOSE(RANDBETWEEN(1,4),RANDBETWEEN(1,99999)/1000,RANDBETWEEN(1,9999)/100,RANDBETWEEN(1,999)/10,RANDBETWEEN(1,99))))","v":27},"m"]
[{"$f":"IF(COUNTIF($B$1:B2125,TRUE)=COUNTIF($B$1:B2124,TRUE),\"\",COUNTIF($B$1:B2125,TRUE))","v":""},{"$f":"IF(Worksheet!$D$10=2,FALSE,Worksheet!$B$18)","v":false},{"$f":"100*F2125","v":3000},"mm²","=",{"$f":"IF(Worksheet!$D$6=1,RANDBETWEEN(1,99),IF(Worksheet!$D$6=2,CHOOSE(RANDBETWEEN(1,2),RANDBETWEEN(1,99),RANDBETWEEN(1,999)/10),CHOOSE(RANDBETWEEN(1,4),RANDBETWEEN(1,99999)/1000,RANDBETWEEN(1,9999)/100,RANDBETWEEN(1,999)/10,RANDBETWEEN(1,99))))","v":30},"cm²"]
[{"$f":"IF(COUNTIF($B$1:B2126,TRUE)=COUNTIF($B$1:B2125,TRUE),\"\",COUNTIF($B$1:B2126,TRUE))","v":1276},{"$f":"IF(Worksheet!$D$10=2,FALSE,Worksheet!$D$14)","v":true},{"$f":"F2126*1000","v":72000},"g","=",{"$f":"IF(Worksheet!$D$6=1,RANDBETWEEN(1,99),IF(Worksheet!$D$6=2,CHOOSE(RANDBETWEEN(1,2),RANDBETWEEN(1,99),RANDBETWEEN(1,999)/10),CHOOSE(RANDBETWEEN(1,4),RANDBETWEEN(1,99999)/1000,RANDBETWEEN(1,9999)/100,RANDBETWEEN(1,999)/10,RANDBETWEEN(1,99))))","v":72},"kg"]
[{"$f":"IF(COUNTIF($B$1:B2127,TRUE)=COUNTIF($B$1:B2126,TRUE),\"\",COUNTIF($B$1:B2127,TRUE))","v":1277},{"$f":"IF(Worksheet!$D$10=2,FALSE,Worksheet!$D$15)","v":true},{"$f":"F2127*1000","v":58000},"kg","=",{"$f":"IF(Worksheet!$D$6=1,RANDBETWEEN(1,99),IF(Worksheet!$D$6=2,CHOOSE(RANDBETWEEN(1,2),RANDBETWEEN(1,99),RANDBETWEEN(1,999)/10),CHOOSE(RANDBETWEEN(1,4),RANDBETWEEN(1,99999)/1000,RANDBETWEEN(1,9999)/100,RANDBETWEEN(1,999)/10,RANDBETWEEN(1,99))))","v":58},"tonnes"]
[{"$f":"IF(COUNTIF($B$1:B2128,TRUE)=COUNTIF($B$1:B2127,TRUE),\"\",COUNTIF($B$1:B2128,TRUE))","v":1278},{"$f":"IF(Worksheet!$D$10=2,FALSE,Worksheet!$D$16)","v":true},{"$f":"1000*F2128","v":36000},"ml","=",{"$f":"IF(Worksheet!$D$6=1,RANDBETWEEN(1,99),IF(Worksheet!$D$6=2,CHOOSE(RANDBETWEEN(1,2),RANDBETWEEN(1,99),RANDBETWEEN(1,999)/10),CHOOSE(RANDBETWEEN(1,4),RANDBETWEEN(1,99999)/1000,RANDBETWEEN(1,9999)/100,RANDBETWEEN(1,999)/10,RANDBETWEEN(1,99))))","v":36},"litres"]
[{"$f":"IF(COUNTIF($B$1:B2129,TRUE)=COUNTIF($B$1:B2128,TRUE),\"\",COUNTIF($B$1:B2129,TRUE))","v":""},{"$f":"IF(Worksheet!$D$10=2,FALSE,Worksheet!$D$17)","v":false},{"$f":"1000*F2129","v":14000},"cm³","=",{"$f":"IF(Worksheet!$D$6=1,RANDBETWEEN(1,99),IF(Worksheet!$D$6=2,CHOOSE(RANDBETWEEN(1,2),RANDBETWEEN(1,99),RANDBETWEEN(1,999)/10),CHOOSE(RANDBETWEEN(1,4),RANDBETWEEN(1,99999)/1000,RANDBETWEEN(1,9999)/100,RANDBETWEEN(1,999)/10,RANDBETWEEN(1,99))))","v":14},"litres"]
[{"$f":"IF(COUNTIF($B$1:B2130,TRUE)=COUNTIF($B$1:B2129,TRUE),\"\",COUNTIF($B$1:B2130,TRUE))","v":""},{"$f":"IF(Worksheet!$D$10=2,FALSE,Worksheet!$D$18)","v":false},{"$f":"10000*F2130","v":760000},"cm²","=",{"$f":"IF(Worksheet!$D$6=1,RANDBETWEEN(1,99),IF(Worksheet!$D$6=2,CHOOSE(RANDBETWEEN(1,2),RANDBETWEEN(1,99),RANDBETWEEN(1,999)/10),CHOOSE(RANDBETWEEN(1,4),RANDBETWEEN(1,99999)/1000,RANDBETWEEN(1,9999)/100,RANDBETWEEN(1,999)/10,RANDBETWEEN(1,99))))","v":76},"m²"]
[{"$f":"IF(COUNTIF($B$1:B2131,TRUE)=COUNTIF($B$1:B2130,TRUE),\"\",COUNTIF($B$1:B2131,TRUE))","v":1279},{"$f":"IF(Worksheet!$D$10=3,FALSE,Worksheet!$B$14)","v":true},{"$f":"IF(Worksheet!$D$6=1,RANDBETWEEN(1,99),IF(Worksheet!$D$6=2,CHOOSE(RANDBETWEEN(1,2),RANDBETWEEN(1,99),RANDBETWEEN(1,999)/10),CHOOSE(RANDBETWEEN(1,4),RANDBETWEEN(1,99999)/1000,RANDBETWEEN(1,9999)/100,RANDBETWEEN(1,999)/10,RANDBETWEEN(1,99))))","v":83},"cm","=",{"$f":"10*C2131","v":830},"mm"]
[{"$f":"IF(COUNTIF($B$1:B2132,TRUE)=COUNTIF($B$1:B2131,TRUE),\"\",COUNTIF($B$1:B2132,TRUE))","v":1280},{"$f":"IF(Worksheet!$D$10=3,FALSE,Worksheet!$B$15)","v":true},{"$f":"IF(Worksheet!$D$6=1,RANDBETWEEN(1,99),IF(Worksheet!$D$6=2,CHOOSE(RANDBETWEEN(1,2),RANDBETWEEN(1,99),RANDBETWEEN(1,999)/10),CHOOSE(RANDBETWEEN(1,4),RANDBETWEEN(1,99999)/1000,RANDBETWEEN(1,9999)/100,RANDBETWEEN(1,999)/10,RANDBETWEEN(1,99))))","v":35},"m","=",{"$f":"100*C2132","v":3500},"cm"]
[{"$f":"IF(COUNTIF($B$1:B2133,TRUE)=COUNTIF($B$1:B2132,TRUE),\"\",COUNTIF($B$1:B2133,TRUE))","v":1281},{"$f":"IF(Worksheet!$D$10=3,FALSE,Worksheet!$B$16)","v":true},{"$f":"IF(Worksheet!$D$6=1,RANDBETWEEN(1,99),IF(Worksheet!$D$6=2,CHOOSE(RANDBETWEEN(1,2),RANDBETWEEN(1,99),RANDBETWEEN(1,999)/10),CHOOSE(RANDBETWEEN(1,4),RANDBETWEEN(1,99999)/1000,RANDBETWEEN(1,9999)/100,RANDBETWEEN(1,999)/10,RANDBETWEEN(1,99))))","v":44},"km","=",{"$f":"1000*C2133","v":44000},"m"]
[{"$f":"IF(COUNTIF($B$1:B2134,TRUE)=COUNTIF($B$1:B2133,TRUE),\"\",COUNTIF($B$1:B2134,TRUE))","v":""},{"$f":"IF(Worksheet!$D$10=3,FALSE,Worksheet!$B$17)","v":false},{"$f":"IF(Worksheet!$D$6=1,RANDBETWEEN(1,99),IF(Worksheet!$D$6=2,CHOOSE(RANDBETWEEN(1,2),RANDBETWEEN(1,99),RANDBETWEEN(1,999)/10),CHOOSE(RANDBETWEEN(1,4),RANDBETWEEN(1,99999)/1000,RANDBETWEEN(1,9999)/100,RANDBETWEEN(1,999)/10,RANDBETWEEN(1,99))))","v":40},"m",{"$f":"#REF!","v":{"$error":"#REF!"}},{"$f":"1000*C2134","v":40000},"mm"]
[{"$f":"IF(COUNTIF($B$1:B2135,TRUE)=COUNTIF($B$1:B2134,TRUE),\"\",COUNTIF($B$1:B2135,TRUE))","v":""},{"$f":"IF(Worksheet!$D$10=3,FALSE,Worksheet!$B$18)","v":false},{"$f":"IF(Worksheet!$D$6=1,RANDBETWEEN(1,99),IF(Worksheet!$D$6=2,CHOOSE(RANDBETWEEN(1,2),RANDBETWEEN(1,99),RANDBETWEEN(1,999)/10),CHOOSE(RANDBETWEEN(1,4),RANDBETWEEN(1,99999)/1000,RANDBETWEEN(1,9999)/100,RANDBETWEEN(1,999)/10,RANDBETWEEN(1,99))))","v":50},"cm²","=",{"$f":"C2135*100","v":5000},"mm²"]
[{"$f":"IF(COUNTIF($B$1:B2136,TRUE)=COUNTIF($B$1:B2135,TRUE),\"\",COUNTIF($B$1:B2136,TRUE))","v":1282},{"$f":"IF(Worksheet!$D$10=3,FALSE,Worksheet!$D$14)","v":true},{"$f":"IF(Worksheet!$D$6=1,RANDBETWEEN(1,99),IF(Worksheet!$D$6=2,CHOOSE(RANDBETWEEN(1,2),RANDBETWEEN(1,99),RANDBETWEEN(1,999)/10),CHOOSE(RANDBETWEEN(1,4),RANDBETWEEN(1,99999)/1000,RANDBETWEEN(1,9999)/100,RANDBETWEEN(1,999)/10,RANDBETWEEN(1,99))))","v":54},"kg","=",{"$f":"1000*C2136","v":54000},"g"]
[{"$f":"IF(COUNTIF($B$1:B2137,TRUE)=COUNTIF($B$1:B2136,TRUE),\"\",COUNTIF($B$1:B2137,TRUE))","v":1283},{"$f":"IF(Worksheet!$D$10=3,FALSE,Worksheet!$D$15)","v":true},{"$f":"IF(Worksheet!$D$6=1,RANDBETWEEN(1,99),IF(Worksheet!$D$6=2,CHOOSE(RANDBETWEEN(1,2),RANDBETWEEN(1,99),RANDBETWEEN(1,999)/10),CHOOSE(RANDBETWEEN(1,4),RANDBETWEEN(1,99999)/1000,RANDBETWEEN(1,9999)/100,RANDBETWEEN(1,999)/10,RANDBETWEEN(1,99))))","v":33},"tonnes","=",{"$f":"1000*C2137","v":33000},"kg"]
[{"$f":"IF(COUNTIF($B$1:B2138,TRUE)=COUNTIF($B$1:B2137,TRUE),\"\",COUNTIF($B$1:B2138,TRUE))","v":1284},{"$f":"IF(Worksheet!$D$10=3,FALSE,Worksheet!$D$16)","v":true},{"$f":"IF(Worksheet!$D$6=1,RANDBETWEEN(1,99),IF(Worksheet!$D$6=2,CHOOSE(RANDBETWEEN(1,2),RANDBETWEEN(1,99),RANDBETWEEN(1,999)/10),CHOOSE(RANDBETWEEN(1,4),RANDBETWEEN(1,99999)/1000,RANDBETWEEN(1,9999)/100,RANDBETWEEN(1,999)/10,RANDBETWEEN(1,99))))","v":23},"litres","=",{"$f":"1000*C2138","v":23000},"ml"]
[{"$f":"IF(COUNTIF($B$1:B2139,TRUE)=COUNTIF($B$1:B2138,TRUE),\"\",COUNTIF($B$1:B2139,TRUE))","v":""},{"$f":"IF(Worksheet!$D$10=3,FALSE,Worksheet!$D$17)","v":false},{"$f":"IF(Worksheet!$D$6=1,RANDBETWEEN(1,99),IF(Worksheet!$D$6=2,CHOOSE(RANDBETWEEN(1,2),RANDBETWEEN(1,99),RANDBETWEEN(1,999)/10),CHOOSE(RANDBETWEEN(1,4),RANDBETWEEN(1,99999)/1000,RANDBETWEEN(1,9999)/100,RANDBETWEEN(1,999)/10,RANDBETWEEN(1,99))))","v":1},"litres","=",{"$f":"1000*C2139","v":1000},"cm³"]
[{"$f":"IF(COUNTIF($B$1:B2140,TRUE)=COUNTIF($B$1:B2139,TRUE),\"\",COUNTIF($B$1:B2140,TRUE))","v":""},{"$f":"IF(Worksheet!$D$10=3,FALSE,Worksheet!$D$18)","v":false},{"$f":"IF(Worksheet!$D$6=1,RANDBETWEEN(1,99),IF(Worksheet!$D$6=2,CHOOSE(RANDBETWEEN(1,2),RANDBETWEEN(1,99),RANDBETWEEN(1,999)/10),CHOOSE(RANDBETWEEN(1,4),RANDBETWEEN(1,99999)/1000,RANDBETWEEN(1,9999)/100,RANDBETWEEN(1,999)/10,RANDBETWEEN(1,99))))","v":31},"m²","=",{"$f":"10000*C2140","v":310000},"cm²"]
[{"$f":"IF(COUNTIF($B$1:B2141,TRUE)=COUNTIF($B$1:B2140,TRUE),\"\",COUNTIF($B$1:B2141,TRUE))","v":1285},{"$f":"IF(Worksheet!$D$10=2,FALSE,Worksheet!$B$14)","v":true},{"$f":"10*F2141","v":860},"mm","=",{"$f":"IF(Worksheet!$D$6=1,RANDBETWEEN(1,99),IF(Worksheet!$D$6=2,CHOOSE(RANDBETWEEN(1,2),RANDBETWEEN(1,99),RANDBETWEEN(1,999)/10),CHOOSE(RANDBETWEEN(1,4),RANDBETWEEN(1,99999)/1000,RANDBETWEEN(1,9999)/100,RANDBETWEEN(1,999)/10,RANDBETWEEN(1,99))))","v":86},"cm"]
[{"$f":"IF(COUNTIF($B$1:B2142,TRUE)=COUNTIF($B$1:B2141,TRUE),\"\",COUNTIF($B$1:B2142,TRUE))","v":1286},{"$f":"IF(Worksheet!$D$10=2,FALSE,Worksheet!$B$15)","v":true},{"$f":"100*F2142","v":2800},"cm","=",{"$f":"IF(Worksheet!$D$6=1,RANDBETWEEN(1,99),IF(Worksheet!$D$6=2,CHOOSE(RANDBETWEEN(1,2),RANDBETWEEN(1,99),RANDBETWEEN(1,999)/10),CHOOSE(RANDBETWEEN(1,4),RANDBETWEEN(1,99999)/1000,RANDBETWEEN(1,9999)/100,RANDBETWEEN(1,999)/10,RANDBETWEEN(1,99))))","v":28},"m"]
[{"$f":"IF(COUNTIF($B$1:B2143,TRUE)=COUNTIF($B$1:B2142,TRUE),\"\",COUNTIF($B$1:B2143,TRUE))","v":1287},{"$f":"IF(Worksheet!$D$10=2,FALSE,Worksheet!$B$16)","v":true},{"$f":"1000*F2143","v":73000},"m","=",{"$f":"IF(Worksheet!$D$6=1,RANDBETWEEN(1,99),IF(Worksheet!$D$6=2,CHOOSE(RANDBETWEEN(1,2),RANDBETWEEN(1,99),RANDBETWEEN(1,999)/10),CHOOSE(RANDBETWEEN(1,4),RANDBETWEEN(1,99999)/1000,RANDBETWEEN(1,9999)/100,RANDBETWEEN(1,999)/10,RANDBETWEEN(1,99))))","v":73},"km"]
[{"$f":"IF(COUNTIF($B$1:B2144,TRUE)=COUNTIF($B$1:B2143,TRUE),\"\",COUNTIF($B$1:B2144,TRUE))","v":""},{"$f":"IF(Worksheet!$D$10=2,FALSE,Worksheet!$B$17)","v":false},{"$f":"1000*F2144","v":31000},"mm","=",{"$f":"IF(Worksheet!$D$6=1,RANDBETWEEN(1,99),IF(Worksheet!$D$6=2,CHOOSE(RANDBETWEEN(1,2),RANDBETWEEN(1,99),RANDBETWEEN(1,999)/10),CHOOSE(RANDBETWEEN(1,4),RANDBETWEEN(1,99999)/1000,RANDBETWEEN(1,9999)/100,RANDBETWEEN(1,999)/10,RANDBETWEEN(1,99))))","v":31},"m"]
[{"$f":"IF(COUNTIF($B$1:B2145,TRUE)=COUNTIF($B$1:B2144,TRUE),\"\",COUNTIF($B$1:B2145,TRUE))","v":""},{"$f":"IF(Worksheet!$D$10=2,FALSE,Worksheet!$B$18)","v":false},{"$f":"100*F2145","v":8000},"mm²","=",{"$f":"IF(Worksheet!$D$6=1,RANDBETWEEN(1,99),IF(Worksheet!$D$6=2,CHOOSE(RANDBETWEEN(1,2),RANDBETWEEN(1,99),RANDBETWEEN(1,999)/10),CHOOSE(RANDBETWEEN(1,4),RANDBETWEEN(1,99999)/1000,RANDBETWEEN(1,9999)/100,RANDBETWEEN(1,999)/10,RANDBETWEEN(1,99))))","v":80},"cm²"]
[{"$f":"IF(COUNTIF($B$1:B2146,TRUE)=COUNTIF($B$1:B2145,TRUE),\"\",COUNTIF($B$1:B2146,TRUE))","v":1288},{"$f":"IF(Worksheet!$D$10=2,FALSE,Worksheet!$D$14)","v":true},{"$f":"F2146*1000","v":80000},"g","=",{"$f":"IF(Worksheet!$D$6=1,RANDBETWEEN(1,99),IF(Worksheet!$D$6=2,CHOOSE(RANDBETWEEN(1,2),RANDBETWEEN(1,99),RANDBETWEEN(1,999)/10),CHOOSE(RANDBETWEEN(1,4),RANDBETWEEN(1,99999)/1000,RANDBETWEEN(1,9999)/100,RANDBETWEEN(1,999)/10,RANDBETWEEN(1,99))))","v":80},"kg"]
[{"$f":"IF(COUNTIF($B$1:B2147,TRUE)=COUNTIF($B$1:B2146,TRUE),\"\",COUNTIF($B$1:B2147,TRUE))","v":1289},{"$f":"IF(Worksheet!$D$10=2,FALSE,Worksheet!$D$15)","v":true},{"$f":"F2147*1000","v":93000},"kg","=",{"$f":"IF(Worksheet!$D$6=1,RANDBETWEEN(1,99),IF(Worksheet!$D$6=2,CHOOSE(RANDBETWEEN(1,2),RANDBETWEEN(1,99),RANDBETWEEN(1,999)/10),CHOOSE(RANDBETWEEN(1,4),RANDBETWEEN(1,99999)/1000,RANDBETWEEN(1,9999)/100,RANDBETWEEN(1,999)/10,RANDBETWEEN(1,99))))","v":93},"tonnes"]
[{"$f":"IF(COUNTIF($B$1:B2148,TRUE)=COUNTIF($B$1:B2147,TRUE),\"\",COUNTIF($B$1:B2148,TRUE))","v":1290},{"$f":"IF(Worksheet!$D$10=2,FALSE,Worksheet!$D$16)","v":true},{"$f":"1000*F2148","v":60000},"ml","=",{"$f":"IF(Worksheet!$D$6=1,RANDBETWEEN(1,99),IF(Worksheet!$D$6=2,CHOOSE(RANDBETWEEN(1,2),RANDBETWEEN(1,99),RANDBETWEEN(1,999)/10),CHOOSE(RANDBETWEEN(1,4),RANDBETWEEN(1,99999)/1000,RANDBETWEEN(1,9999)/100,RANDBETWEEN(1,999)/10,RANDBETWEEN(1,99))))","v":60},"litres"]
[{"$f":"IF(COUNTIF($B$1:B2149,TRUE)=COUNTIF($B$1:B2148,TRUE),\"\",COUNTIF($B$1:B2149,TRUE))","v":""},{"$f":"IF(Worksheet!$D$10=2,FALSE,Worksheet!$D$17)","v":false},{"$f":"1000*F2149","v":80000},"cm³","=",{"$f":"IF(Worksheet!$D$6=1,RANDBETWEEN(1,99),IF(Worksheet!$D$6=2,CHOOSE(RANDBETWEEN(1,2),RANDBETWEEN(1,99),RANDBETWEEN(1,999)/10),CHOOSE(RANDBETWEEN(1,4),RANDBETWEEN(1,99999)/1000,RANDBETWEEN(1,9999)/100,RANDBETWEEN(1,999)/10,RANDBETWEEN(1,99))))","v":80},"litres"]
[{"$f":"IF(COUNTIF($B$1:B2150,TRUE)=COUNTIF($B$1:B2149,TRUE),\"\",COUNTIF($B$1:B2150,TRUE))","v":""},{"$f":"IF(Worksheet!$D$10=2,FALSE,Worksheet!$D$18)","v":false},{"$f":"10000*F2150","v":490000},"cm²","=",{"$f":"IF(Worksheet!$D$6=1,RANDBETWEEN(1,99),IF(Worksheet!$D$6=2,CHOOSE(RANDBETWEEN(1,2),RANDBETWEEN(1,99),RANDBETWEEN(1,999)/10),CHOOSE(RANDBETWEEN(1,4),RANDBETWEEN(1,99999)/1000,RANDBETWEEN(1,9999)/100,RANDBETWEEN(1,999)/10,RANDBETWEEN(1,99))))","v":49},"m²"]
[{"$f":"IF(COUNTIF($B$1:B2151,TRUE)=COUNTIF($B$1:B2150,TRUE),\"\",COUNTIF($B$1:B2151,TRUE))","v":1291},{"$f":"IF(Worksheet!$D$10=3,FALSE,Worksheet!$B$14)","v":true},{"$f":"IF(Worksheet!$D$6=1,RANDBETWEEN(1,99),IF(Worksheet!$D$6=2,CHOOSE(RANDBETWEEN(1,2),RANDBETWEEN(1,99),RANDBETWEEN(1,999)/10),CHOOSE(RANDBETWEEN(1,4),RANDBETWEEN(1,99999)/1000,RANDBETWEEN(1,9999)/100,RANDBETWEEN(1,999)/10,RANDBETWEEN(1,99))))","v":9},"cm","=",{"$f":"10*C2151","v":90},"mm"]
[{"$f":"IF(COUNTIF($B$1:B2152,TRUE)=COUNTIF($B$1:B2151,TRUE),\"\",COUNTIF($B$1:B2152,TRUE))","v":1292},{"$f":"IF(Worksheet!$D$10=3,FALSE,Worksheet!$B$15)","v":true},{"$f":"IF(Worksheet!$D$6=1,RANDBETWEEN(1,99),IF(Worksheet!$D$6=2,CHOOSE(RANDBETWEEN(1,2),RANDBETWEEN(1,99),RANDBETWEEN(1,999)/10),CHOOSE(RANDBETWEEN(1,4),RANDBETWEEN(1,99999)/1000,RANDBETWEEN(1,9999)/100,RANDBETWEEN(1,999)/10,RANDBETWEEN(1,99))))","v":78},"m","=",{"$f":"100*C2152","v":7800},"cm"]
[{"$f":"IF(COUNTIF($B$1:B2153,TRUE)=COUNTIF($B$1:B2152,TRUE),\"\",COUNTIF($B$1:B2153,TRUE))","v":1293},{"$f":"IF(Worksheet!$D$10=3,FALSE,Worksheet!$B$16)","v":true},{"$f":"IF(Worksheet!$D$6=1,RANDBETWEEN(1,99),IF(Worksheet!$D$6=2,CHOOSE(RANDBETWEEN(1,2),RANDBETWEEN(1,99),RANDBETWEEN(1,999)/10),CHOOSE(RANDBETWEEN(1,4),RANDBETWEEN(1,99999)/1000,RANDBETWEEN(1,9999)/100,RANDBETWEEN(1,999)/10,RANDBETWEEN(1,99))))","v":87},"km","=",{"$f":"1000*C2153","v":87000},"m"]
[{"$f":"IF(COUNTIF($B$1:B2154,TRUE)=COUNTIF($B$1:B2153,TRUE),\"\",COUNTIF($B$1:B2154,TRUE))","v":""},{"$f":"IF(Worksheet!$D$10=3,FALSE,Worksheet!$B$17)","v":false},{"$f":"IF(Worksheet!$D$6=1,RANDBETWEEN(1,99),IF(Worksheet!$D$6=2,CHOOSE(RANDBETWEEN(1,2),RANDBETWEEN(1,99),RANDBETWEEN(1,999)/10),CHOOSE(RANDBETWEEN(1,4),RANDBETWEEN(1,99999)/1000,RANDBETWEEN(1,9999)/100,RANDBETWEEN(1,999)/10,RANDBETWEEN(1,99))))","v":47},"m",{"$f":"#REF!","v":{"$error":"#REF!"}},{"$f":"1000*C2154","v":47000},"mm"]
[{"$f":"IF(COUNTIF($B$1:B2155,TRUE)=COUNTIF($B$1:B2154,TRUE),\"\",COUNTIF($B$1:B2155,TRUE))","v":""},{"$f":"IF(Worksheet!$D$10=3,FALSE,Worksheet!$B$18)","v":false},{"$f":"IF(Worksheet!$D$6=1,RANDBETWEEN(1,99),IF(Worksheet!$D$6=2,CHOOSE(RANDBETWEEN(1,2),RANDBETWEEN(1,99),RANDBETWEEN(1,999)/10),CHOOSE(RANDBETWEEN(1,4),RANDBETWEEN(1,99999)/1000,RANDBETWEEN(1,9999)/100,RANDBETWEEN(1,999)/10,RANDBETWEEN(1,99))))","v":98},"cm²","=",{"$f":"C2155*100","v":9800},"mm²"]
[{"$f":"IF(COUNTIF($B$1:B2156,TRUE)=COUNTIF($B$1:B2155,TRUE),\"\",COUNTIF($B$1:B2156,TRUE))","v":1294},{"$f":"IF(Worksheet!$D$10=3,FALSE,Worksheet!$D$14)","v":true},{"$f":"IF(Worksheet!$D$6=1,RANDBETWEEN(1,99),IF(Worksheet!$D$6=2,CHOOSE(RANDBETWEEN(1,2),RANDBETWEEN(1,99),RANDBETWEEN(1,999)/10),CHOOSE(RANDBETWEEN(1,4),RANDBETWEEN(1,99999)/1000,RANDBETWEEN(1,9999)/100,RANDBETWEEN(1,999)/10,RANDBETWEEN(1,99))))","v":39},"kg","=",{"$f":"1000*C2156","v":39000},"g"]
[{"$f":"IF(COUNTIF($B$1:B2157,TRUE)=COUNTIF($B$1:B2156,TRUE),\"\",COUNTIF($B$1:B2157,TRUE))","v":1295},{"$f":"IF(Worksheet!$D$10=3,FALSE,Worksheet!$D$15)","v":true},{"$f":"IF(Worksheet!$D$6=1,RANDBETWEEN(1,99),IF(Worksheet!$D$6=2,CHOOSE(RANDBETWEEN(1,2),RANDBETWEEN(1,99),RANDBETWEEN(1,999)/10),CHOOSE(RANDBETWEEN(1,4),RANDBETWEEN(1,99999)/1000,RANDBETWEEN(1,9999)/100,RANDBETWEEN(1,999)/10,RANDBETWEEN(1,99))))","v":88},"tonnes","=",{"$f":"1000*C2157","v":88000},"kg"]
[{"$f":"IF(COUNTIF($B$1:B2158,TRUE)=COUNTIF($B$1:B2157,TRUE),\"\",COUNTIF($B$1:B2158,TRUE))","v":1296},{"$f":"IF(Worksheet!$D$10=3,FALSE,Worksheet!$D$16)","v":true},{"$f":"IF(Worksheet!$D$6=1,RANDBETWEEN(1,99),IF(Worksheet!$D$6=2,CHOOSE(RANDBETWEEN(1,2),RANDBETWEEN(1,99),RANDBETWEEN(1,999)/10),CHOOSE(RANDBETWEEN(1,4),RANDBETWEEN(1,99999)/1000,RANDBETWEEN(1,9999)/100,RANDBETWEEN(1,999)/10,RANDBETWEEN(1,99))))","v":70},"litres","=",{"$f":"1000*C2158","v":70000},"ml"]
[{"$f":"IF(COUNTIF($B$1:B2159,TRUE)=COUNTIF($B$1:B2158,TRUE),\"\",COUNTIF($B$1:B2159,TRUE))","v":""},{"$f":"IF(Worksheet!$D$10=3,FALSE,Worksheet!$D$17)","v":false},{"$f":"IF(Worksheet!$D$6=1,RANDBETWEEN(1,99),IF(Worksheet!$D$6=2,CHOOSE(RANDBETWEEN(1,2),RANDBETWEEN(1,99),RANDBETWEEN(1,999)/10),CHOOSE(RANDBETWEEN(1,4),RANDBETWEEN(1,99999)/1000,RANDBETWEEN(1,9999)/100,RANDBETWEEN(1,999)/10,RANDBETWEEN(1,99))))","v":79},"litres","=",{"$f":"1000*C2159","v":79000},"cm³"]
[{"$f":"IF(COUNTIF($B$1:B2160,TRUE)=COUNTIF($B$1:B2159,TRUE),\"\",COUNTIF($B$1:B2160,TRUE))","v":""},{"$f":"IF(Worksheet!$D$10=3,FALSE,Worksheet!$D$18)","v":false},{"$f":"IF(Worksheet!$D$6=1,RANDBETWEEN(1,99),IF(Worksheet!$D$6=2,CHOOSE(RANDBETWEEN(1,2),RANDBETWEEN(1,99),RANDBETWEEN(1,999)/10),CHOOSE(RANDBETWEEN(1,4),RANDBETWEEN(1,99999)/1000,RANDBETWEEN(1,9999)/100,RANDBETWEEN(1,999)/10,RANDBETWEEN(1,99))))","v":54},"m²","=",{"$f":"10000*C2160","v":540000},"cm²"]
[{"$f":"IF(COUNTIF($B$1:B2161,TRUE)=COUNTIF($B$1:B2160,TRUE),\"\",COUNTIF($B$1:B2161,TRUE))","v":1297},{"$f":"IF(Worksheet!$D$10=2,FALSE,Worksheet!$B$14)","v":true},{"$f":"10*F2161","v":30},"mm","=",{"$f":"IF(Worksheet!$D$6=1,RANDBETWEEN(1,99),IF(Worksheet!$D$6=2,CHOOSE(RANDBETWEEN(1,2),RANDBETWEEN(1,99),RANDBETWEEN(1,999)/10),CHOOSE(RANDBETWEEN(1,4),RANDBETWEEN(1,99999)/1000,RANDBETWEEN(1,9999)/100,RANDBETWEEN(1,999)/10,RANDBETWEEN(1,99))))","v":3},"cm"]
[{"$f":"IF(COUNTIF($B$1:B2162,TRUE)=COUNTIF($B$1:B2161,TRUE),\"\",COUNTIF($B$1:B2162,TRUE))","v":1298},{"$f":"IF(Worksheet!$D$10=2,FALSE,Worksheet!$B$15)","v":true},{"$f":"100*F2162","v":5800},"cm","=",{"$f":"IF(Worksheet!$D$6=1,RANDBETWEEN(1,99),IF(Worksheet!$D$6=2,CHOOSE(RANDBETWEEN(1,2),RANDBETWEEN(1,99),RANDBETWEEN(1,999)/10),CHOOSE(RANDBETWEEN(1,4),RANDBETWEEN(1,99999)/1000,RANDBETWEEN(1,9999)/100,RANDBETWEEN(1,999)/10,RANDBETWEEN(1,99))))","v":58},"m"]
[{"$f":"IF(COUNTIF($B$1:B2163,TRUE)=COUNTIF($B$1:B2162,TRUE),\"\",COUNTIF($B$1:B2163,TRUE))","v":1299},{"$f":"IF(Worksheet!$D$10=2,FALSE,Worksheet!$B$16)","v":true},{"$f":"1000*F2163","v":78000},"m","=",{"$f":"IF(Worksheet!$D$6=1,RANDBETWEEN(1,99),IF(Worksheet!$D$6=2,CHOOSE(RANDBETWEEN(1,2),RANDBETWEEN(1,99),RANDBETWEEN(1,999)/10),CHOOSE(RANDBETWEEN(1,4),RANDBETWEEN(1,99999)/1000,RANDBETWEEN(1,9999)/100,RANDBETWEEN(1,999)/10,RANDBETWEEN(1,99))))","v":78},"km"]
[{"$f":"IF(COUNTIF($B$1:B2164,TRUE)=COUNTIF($B$1:B2163,TRUE),\"\",COUNTIF($B$1:B2164,TRUE))","v":""},{"$f":"IF(Worksheet!$D$10=2,FALSE,Worksheet!$B$17)","v":false},{"$f":"1000*F2164","v":71000},"mm","=",{"$f":"IF(Worksheet!$D$6=1,RANDBETWEEN(1,99),IF(Worksheet!$D$6=2,CHOOSE(RANDBETWEEN(1,2),RANDBETWEEN(1,99),RANDBETWEEN(1,999)/10),CHOOSE(RANDBETWEEN(1,4),RANDBETWEEN(1,99999)/1000,RANDBETWEEN(1,9999)/100,RANDBETWEEN(1,999)/10,RANDBETWEEN(1,99))))","v":71},"m"]
[{"$f":"IF(COUNTIF($B$1:B2165,TRUE)=COUNTIF($B$1:B2164,TRUE),\"\",COUNTIF($B$1:B2165,TRUE))","v":""},{"$f":"IF(Worksheet!$D$10=2,FALSE,Worksheet!$B$18)","v":false},{"$f":"100*F2165","v":8500},"mm²","=",{"$f":"IF(Worksheet!$D$6=1,RANDBETWEEN(1,99),IF(Worksheet!$D$6=2,CHOOSE(RANDBETWEEN(1,2),RANDBETWEEN(1,99),RANDBETWEEN(1,999)/10),CHOOSE(RANDBETWEEN(1,4),RANDBETWEEN(1,99999)/1000,RANDBETWEEN(1,9999)/100,RANDBETWEEN(1,999)/10,RANDBETWEEN(1,99))))","v":85},"cm²"]
[{"$f":"IF(COUNTIF($B$1:B2166,TRUE)=COUNTIF($B$1:B2165,TRUE),\"\",COUNTIF($B$1:B2166,TRUE))","v":1300},{"$f":"IF(Worksheet!$D$10=2,FALSE,Worksheet!$D$14)","v":true},{"$f":"F2166*1000","v":80000},"g","=",{"$f":"IF(Worksheet!$D$6=1,RANDBETWEEN(1,99),IF(Worksheet!$D$6=2,CHOOSE(RANDBETWEEN(1,2),RANDBETWEEN(1,99),RANDBETWEEN(1,999)/10),CHOOSE(RANDBETWEEN(1,4),RANDBETWEEN(1,99999)/1000,RANDBETWEEN(1,9999)/100,RANDBETWEEN(1,999)/10,RANDBETWEEN(1,99))))","v":80},"kg"]
[{"$f":"IF(COUNTIF($B$1:B2167,TRUE)=COUNTIF($B$1:B2166,TRUE),\"\",COUNTIF($B$1:B2167,TRUE))","v":1301},{"$f":"IF(Worksheet!$D$10=2,FALSE,Worksheet!$D$15)","v":true},{"$f":"F2167*1000","v":57000},"kg","=",{"$f":"IF(Worksheet!$D$6=1,RANDBETWEEN(1,99),IF(Worksheet!$D$6=2,CHOOSE(RANDBETWEEN(1,2),RANDBETWEEN(1,99),RANDBETWEEN(1,999)/10),CHOOSE(RANDBETWEEN(1,4),RANDBETWEEN(1,99999)/1000,RANDBETWEEN(1,9999)/100,RANDBETWEEN(1,999)/10,RANDBETWEEN(1,99))))","v":57},"tonnes"]
[{"$f":"IF(COUNTIF($B$1:B2168,TRUE)=COUNTIF($B$1:B2167,TRUE),\"\",COUNTIF($B$1:B2168,TRUE))","v":1302},{"$f":"IF(Worksheet!$D$10=2,FALSE,Worksheet!$D$16)","v":true},{"$f":"1000*F2168","v":75000},"ml","=",{"$f":"IF(Worksheet!$D$6=1,RANDBETWEEN(1,99),IF(Worksheet!$D$6=2,CHOOSE(RANDBETWEEN(1,2),RANDBETWEEN(1,99),RANDBETWEEN(1,999)/10),CHOOSE(RANDBETWEEN(1,4),RANDBETWEEN(1,99999)/1000,RANDBETWEEN(1,9999)/100,RANDBETWEEN(1,999)/10,RANDBETWEEN(1,99))))","v":75},"litres"]
[{"$f":"IF(COUNTIF($B$1:B2169,TRUE)=COUNTIF($B$1:B2168,TRUE),\"\",COUNTIF($B$1:B2169,TRUE))","v":""},{"$f":"IF(Worksheet!$D$10=2,FALSE,Worksheet!$D$17)","v":false},{"$f":"1000*F2169","v":94000},"cm³","=",{"$f":"IF(Worksheet!$D$6=1,RANDBETWEEN(1,99),IF(Worksheet!$D$6=2,CHOOSE(RANDBETWEEN(1,2),RANDBETWEEN(1,99),RANDBETWEEN(1,999)/10),CHOOSE(RANDBETWEEN(1,4),RANDBETWEEN(1,99999)/1000,RANDBETWEEN(1,9999)/100,RANDBETWEEN(1,999)/10,RANDBETWEEN(1,99))))","v":94},"litres"]
[{"$f":"IF(COUNTIF($B$1:B2170,TRUE)=COUNTIF($B$1:B2169,TRUE),\"\",COUNTIF($B$1:B2170,TRUE))","v":""},{"$f":"IF(Worksheet!$D$10=2,FALSE,Worksheet!$D$18)","v":false},{"$f":"10000*F2170","v":360000},"cm²","=",{"$f":"IF(Worksheet!$D$6=1,RANDBETWEEN(1,99),IF(Worksheet!$D$6=2,CHOOSE(RANDBETWEEN(1,2),RANDBETWEEN(1,99),RANDBETWEEN(1,999)/10),CHOOSE(RANDBETWEEN(1,4),RANDBETWEEN(1,99999)/1000,RANDBETWEEN(1,9999)/100,RANDBETWEEN(1,999)/10,RANDBETWEEN(1,99))))","v":36},"m²"]
[{"$f":"IF(COUNTIF($B$1:B2171,TRUE)=COUNTIF($B$1:B2170,TRUE),\"\",COUNTIF($B$1:B2171,TRUE))","v":1303},{"$f":"IF(Worksheet!$D$10=3,FALSE,Worksheet!$B$14)","v":true},{"$f":"IF(Worksheet!$D$6=1,RANDBETWEEN(1,99),IF(Worksheet!$D$6=2,CHOOSE(RANDBETWEEN(1,2),RANDBETWEEN(1,99),RANDBETWEEN(1,999)/10),CHOOSE(RANDBETWEEN(1,4),RANDBETWEEN(1,99999)/1000,RANDBETWEEN(1,9999)/100,RANDBETWEEN(1,999)/10,RANDBETWEEN(1,99))))","v":7},"cm","=",{"$f":"10*C2171","v":70},"mm"]
[{"$f":"IF(COUNTIF($B$1:B2172,TRUE)=COUNTIF($B$1:B2171,TRUE),\"\",COUNTIF($B$1:B2172,TRUE))","v":1304},{"$f":"IF(Worksheet!$D$10=3,FALSE,Worksheet!$B$15)","v":true},{"$f":"IF(Worksheet!$D$6=1,RANDBETWEEN(1,99),IF(Worksheet!$D$6=2,CHOOSE(RANDBETWEEN(1,2),RANDBETWEEN(1,99),RANDBETWEEN(1,999)/10),CHOOSE(RANDBETWEEN(1,4),RANDBETWEEN(1,99999)/1000,RANDBETWEEN(1,9999)/100,RANDBETWEEN(1,999)/10,RANDBETWEEN(1,99))))","v":86},"m","=",{"$f":"100*C2172","v":8600},"cm"]
[{"$f":"IF(COUNTIF($B$1:B2173,TRUE)=COUNTIF($B$1:B2172,TRUE),\"\",COUNTIF($B$1:B2173,TRUE))","v":1305},{"$f":"IF(Worksheet!$D$10=3,FALSE,Worksheet!$B$16)","v":true},{"$f":"IF(Worksheet!$D$6=1,RANDBETWEEN(1,99),IF(Worksheet!$D$6=2,CHOOSE(RANDBETWEEN(1,2),RANDBETWEEN(1,99),RANDBETWEEN(1,999)/10),CHOOSE(RANDBETWEEN(1,4),RANDBETWEEN(1,99999)/1000,RANDBETWEEN(1,9999)/100,RANDBETWEEN(1,999)/10,RANDBETWEEN(1,99))))","v":93},"km","=",{"$f":"1000*C2173","v":93000},"m"]
[{"$f":"IF(COUNTIF($B$1:B2174,TRUE)=COUNTIF($B$1:B2173,TRUE),\"\",COUNTIF($B$1:B2174,TRUE))","v":""},{"$f":"IF(Worksheet!$D$10=3,FALSE,Worksheet!$B$17)","v":false},{"$f":"IF(Worksheet!$D$6=1,RANDBETWEEN(1,99),IF(Worksheet!$D$6=2,CHOOSE(RANDBETWEEN(1,2),RANDBETWEEN(1,99),RANDBETWEEN(1,999)/10),CHOOSE(RANDBETWEEN(1,4),RANDBETWEEN(1,99999)/1000,RANDBETWEEN(1,9999)/100,RANDBETWEEN(1,999)/10,RANDBETWEEN(1,99))))","v":35},"m",{"$f":"#REF!","v":{"$error":"#REF!"}},{"$f":"1000*C2174","v":35000},"mm"]
[{"$f":"IF(COUNTIF($B$1:B2175,TRUE)=COUNTIF($B$1:B2174,TRUE),\"\",COUNTIF($B$1:B2175,TRUE))","v":""},{"$f":"IF(Worksheet!$D$10=3,FALSE,Worksheet!$B$18)","v":false},{"$f":"IF(Worksheet!$D$6=1,RANDBETWEEN(1,99),IF(Worksheet!$D$6=2,CHOOSE(RANDBETWEEN(1,2),RANDBETWEEN(1,99),RANDBETWEEN(1,999)/10),CHOOSE(RANDBETWEEN(1,4),RANDBETWEEN(1,99999)/1000,RANDBETWEEN(1,9999)/100,RANDBETWEEN(1,999)/10,RANDBETWEEN(1,99))))","v":78},"cm²","=",{"$f":"C2175*100","v":7800},"mm²"]
[{"$f":"IF(COUNTIF($B$1:B2176,TRUE)=COUNTIF($B$1:B2175,TRUE),\"\",COUNTIF($B$1:B2176,TRUE))","v":1306},{"$f":"IF(Worksheet!$D$10=3,FALSE,Worksheet!$D$14)","v":true},{"$f":"IF(Worksheet!$D$6=1,RANDBETWEEN(1,99),IF(Worksheet!$D$6=2,CHOOSE(RANDBETWEEN(1,2),RANDBETWEEN(1,99),RANDBETWEEN(1,999)/10),CHOOSE(RANDBETWEEN(1,4),RANDBETWEEN(1,99999)/1000,RANDBETWEEN(1,9999)/100,RANDBETWEEN(1,999)/10,RANDBETWEEN(1,99))))","v":36},"kg","=",{"$f":"1000*C2176","v":36000},"g"]
[{"$f":"IF(COUNTIF($B$1:B2177,TRUE)=COUNTIF($B$1:B2176,TRUE),\"\",COUNTIF($B$1:B2177,TRUE))","v":1307},{"$f":"IF(Worksheet!$D$10=3,FALSE,Worksheet!$D$15)","v":true},{"$f":"IF(Worksheet!$D$6=1,RANDBETWEEN(1,99),IF(Worksheet!$D$6=2,CHOOSE(RANDBETWEEN(1,2),RANDBETWEEN(1,99),RANDBETWEEN(1,999)/10),CHOOSE(RANDBETWEEN(1,4),RANDBETWEEN(1,99999)/1000,RANDBETWEEN(1,9999)/100,RANDBETWEEN(1,999)/10,RANDBETWEEN(1,99))))","v":11},"tonnes","=",{"$f":"1000*C2177","v":11000},"kg"]
[{"$f":"IF(COUNTIF($B$1:B2178,TRUE)=COUNTIF($B$1:B2177,TRUE),\"\",COUNTIF($B$1:B2178,TRUE))","v":1308},{"$f":"IF(Worksheet!$D$10=3,FALSE,Worksheet!$D$16)","v":true},{"$f":"IF(Worksheet!$D$6=1,RANDBETWEEN(1,99),IF(Worksheet!$D$6=2,CHOOSE(RANDBETWEEN(1,2),RANDBETWEEN(1,99),RANDBETWEEN(1,999)/10),CHOOSE(RANDBETWEEN(1,4),RANDBETWEEN(1,99999)/1000,RANDBETWEEN(1,9999)/100,RANDBETWEEN(1,999)/10,RANDBETWEEN(1,99))))","v":39},"litres","=",{"$f":"1000*C2178","v":39000},"ml"]
[{"$f":"IF(COUNTIF($B$1:B2179,TRUE)=COUNTIF($B$1:B2178,TRUE),\"\",COUNTIF($B$1:B2179,TRUE))","v":""},{"$f":"IF(Worksheet!$D$10=3,FALSE,Worksheet!$D$17)","v":false},{"$f":"IF(Worksheet!$D$6=1,RANDBETWEEN(1,99),IF(Worksheet!$D$6=2,CHOOSE(RANDBETWEEN(1,2),RANDBETWEEN(1,99),RANDBETWEEN(1,999)/10),CHOOSE(RANDBETWEEN(1,4),RANDBETWEEN(1,99999)/1000,RANDBETWEEN(1,9999)/100,RANDBETWEEN(1,999)/10,RANDBETWEEN(1,99))))","v":40},"litres","=",{"$f":"1000*C2179","v":40000},"cm³"]
[{"$f":"IF(COUNTIF($B$1:B2180,TRUE)=COUNTIF($B$1:B2179,TRUE),\"\",COUNTIF($B$1:B2180,TRUE))","v":""},{"$f":"IF(Worksheet!$D$10=3,FALSE,Worksheet!$D$18)","v":false},{"$f":"IF(Worksheet!$D$6=1,RANDBETWEEN(1,99),IF(Worksheet!$D$6=2,CHOOSE(RANDBETWEEN(1,2),RANDBETWEEN(1,99),RANDBETWEEN(1,999)/10),CHOOSE(RANDBETWEEN(1,4),RANDBETWEEN(1,99999)/1000,RANDBETWEEN(1,9999)/100,RANDBETWEEN(1,999)/10,RANDBETWEEN(1,99))))","v":61},"m²","=",{"$f":"10000*C2180","v":610000},"cm²"]
[{"$f":"IF(COUNTIF($B$1:B2181,TRUE)=COUNTIF($B$1:B2180,TRUE),\"\",COUNTIF($B$1:B2181,TRUE))","v":1309},{"$f":"IF(Worksheet!$D$10=2,FALSE,Worksheet!$B$14)","v":true},{"$f":"10*F2181","v":500},"mm","=",{"$f":"IF(Worksheet!$D$6=1,RANDBETWEEN(1,99),IF(Worksheet!$D$6=2,CHOOSE(RANDBETWEEN(1,2),RANDBETWEEN(1,99),RANDBETWEEN(1,999)/10),CHOOSE(RANDBETWEEN(1,4),RANDBETWEEN(1,99999)/1000,RANDBETWEEN(1,9999)/100,RANDBETWEEN(1,999)/10,RANDBETWEEN(1,99))))","v":50},"cm"]
[{"$f":"IF(COUNTIF($B$1:B2182,TRUE)=COUNTIF($B$1:B2181,TRUE),\"\",COUNTIF($B$1:B2182,TRUE))","v":1310},{"$f":"IF(Worksheet!$D$10=2,FALSE,Worksheet!$B$15)","v":true},{"$f":"100*F2182","v":6700},"cm","=",{"$f":"IF(Worksheet!$D$6=1,RANDBETWEEN(1,99),IF(Worksheet!$D$6=2,CHOOSE(RANDBETWEEN(1,2),RANDBETWEEN(1,99),RANDBETWEEN(1,999)/10),CHOOSE(RANDBETWEEN(1,4),RANDBETWEEN(1,99999)/1000,RANDBETWEEN(1,9999)/100,RANDBETWEEN(1,999)/10,RANDBETWEEN(1,99))))","v":67},"m"]
[{"$f":"IF(COUNTIF($B$1:B2183,TRUE)=COUNTIF($B$1:B2182,TRUE),\"\",COUNTIF($B$1:B2183,TRUE))","v":1311},{"$f":"IF(Worksheet!$D$10=2,FALSE,Worksheet!$B$16)","v":true},{"$f":"1000*F2183","v":34000},"m","=",{"$f":"IF(Worksheet!$D$6=1,RANDBETWEEN(1,99),IF(Worksheet!$D$6=2,CHOOSE(RANDBETWEEN(1,2),RANDBETWEEN(1,99),RANDBETWEEN(1,999)/10),CHOOSE(RANDBETWEEN(1,4),RANDBETWEEN(1,99999)/1000,RANDBETWEEN(1,9999)/100,RANDBETWEEN(1,999)/10,RANDBETWEEN(1,99))))","v":34},"km"]
[{"$f":"IF(COUNTIF($B$1:B2184,TRUE)=COUNTIF($B$1:B2183,TRUE),\"\",COUNTIF($B$1:B2184,TRUE))","v":""},{"$f":"IF(Worksheet!$D$10=2,FALSE,Worksheet!$B$17)","v":false},{"$f":"1000*F2184","v":47000},"mm","=",{"$f":"IF(Worksheet!$D$6=1,RANDBETWEEN(1,99),IF(Worksheet!$D$6=2,CHOOSE(RANDBETWEEN(1,2),RANDBETWEEN(1,99),RANDBETWEEN(1,999)/10),CHOOSE(RANDBETWEEN(1,4),RANDBETWEEN(1,99999)/1000,RANDBETWEEN(1,9999)/100,RANDBETWEEN(1,999)/10,RANDBETWEEN(1,99))))","v":47},"m"]
[{"$f":"IF(COUNTIF($B$1:B2185,TRUE)=COUNTIF($B$1:B2184,TRUE),\"\",COUNTIF($B$1:B2185,TRUE))","v":""},{"$f":"IF(Worksheet!$D$10=2,FALSE,Worksheet!$B$18)","v":false},{"$f":"100*F2185","v":3800},"mm²","=",{"$f":"IF(Worksheet!$D$6=1,RANDBETWEEN(1,99),IF(Worksheet!$D$6=2,CHOOSE(RANDBETWEEN(1,2),RANDBETWEEN(1,99),RANDBETWEEN(1,999)/10),CHOOSE(RANDBETWEEN(1,4),RANDBETWEEN(1,99999)/1000,RANDBETWEEN(1,9999)/100,RANDBETWEEN(1,999)/10,RANDBETWEEN(1,99))))","v":38},"cm²"]
[{"$f":"IF(COUNTIF($B$1:B2186,TRUE)=COUNTIF($B$1:B2185,TRUE),\"\",COUNTIF($B$1:B2186,TRUE))","v":1312},{"$f":"IF(Worksheet!$D$10=2,FALSE,Worksheet!$D$14)","v":true},{"$f":"F2186*1000","v":59000},"g","=",{"$f":"IF(Worksheet!$D$6=1,RANDBETWEEN(1,99),IF(Worksheet!$D$6=2,CHOOSE(RANDBETWEEN(1,2),RANDBETWEEN(1,99),RANDBETWEEN(1,999)/10),CHOOSE(RANDBETWEEN(1,4),RANDBETWEEN(1,99999)/1000,RANDBETWEEN(1,9999)/100,RANDBETWEEN(1,999)/10,RANDBETWEEN(1,99))))","v":59},"kg"]
[{"$f":"IF(COUNTIF($B$1:B2187,TRUE)=COUNTIF($B$1:B2186,TRUE),\"\",COUNTIF($B$1:B2187,TRUE))","v":1313},{"$f":"IF(Worksheet!$D$10=2,FALSE,Worksheet!$D$15)","v":true},{"$f":"F2187*1000","v":72000},"kg","=",{"$f":"IF(Worksheet!$D$6=1,RANDBETWEEN(1,99),IF(Worksheet!$D$6=2,CHOOSE(RANDBETWEEN(1,2),RANDBETWEEN(1,99),RANDBETWEEN(1,999)/10),CHOOSE(RANDBETWEEN(1,4),RANDBETWEEN(1,99999)/1000,RANDBETWEEN(1,9999)/100,RANDBETWEEN(1,999)/10,RANDBETWEEN(1,99))))","v":72},"tonnes"]
[{"$f":"IF(COUNTIF($B$1:B2188,TRUE)=COUNTIF($B$1:B2187,TRUE),\"\",COUNTIF($B$1:B2188,TRUE))","v":1314},{"$f":"IF(Worksheet!$D$10=2,FALSE,Worksheet!$D$16)","v":true},{"$f":"1000*F2188","v":32000},"ml","=",{"$f":"IF(Worksheet!$D$6=1,RANDBETWEEN(1,99),IF(Worksheet!$D$6=2,CHOOSE(RANDBETWEEN(1,2),RANDBETWEEN(1,99),RANDBETWEEN(1,999)/10),CHOOSE(RANDBETWEEN(1,4),RANDBETWEEN(1,99999)/1000,RANDBETWEEN(1,9999)/100,RANDBETWEEN(1,999)/10,RANDBETWEEN(1,99))))","v":32},"litres"]
[{"$f":"IF(COUNTIF($B$1:B2189,TRUE)=COUNTIF($B$1:B2188,TRUE),\"\",COUNTIF($B$1:B2189,TRUE))","v":""},{"$f":"IF(Worksheet!$D$10=2,FALSE,Worksheet!$D$17)","v":false},{"$f":"1000*F2189","v":98000},"cm³","=",{"$f":"IF(Worksheet!$D$6=1,RANDBETWEEN(1,99),IF(Worksheet!$D$6=2,CHOOSE(RANDBETWEEN(1,2),RANDBETWEEN(1,99),RANDBETWEEN(1,999)/10),CHOOSE(RANDBETWEEN(1,4),RANDBETWEEN(1,99999)/1000,RANDBETWEEN(1,9999)/100,RANDBETWEEN(1,999)/10,RANDBETWEEN(1,99))))","v":98},"litres"]
[{"$f":"IF(COUNTIF($B$1:B2190,TRUE)=COUNTIF($B$1:B2189,TRUE),\"\",COUNTIF($B$1:B2190,TRUE))","v":""},{"$f":"IF(Worksheet!$D$10=2,FALSE,Worksheet!$D$18)","v":false},{"$f":"10000*F2190","v":270000},"cm²","=",{"$f":"IF(Worksheet!$D$6=1,RANDBETWEEN(1,99),IF(Worksheet!$D$6=2,CHOOSE(RANDBETWEEN(1,2),RANDBETWEEN(1,99),RANDBETWEEN(1,999)/10),CHOOSE(RANDBETWEEN(1,4),RANDBETWEEN(1,99999)/1000,RANDBETWEEN(1,9999)/100,RANDBETWEEN(1,999)/10,RANDBETWEEN(1,99))))","v":27},"m²"]
[{"$f":"IF(COUNTIF($B$1:B2191,TRUE)=COUNTIF($B$1:B2190,TRUE),\"\",COUNTIF($B$1:B2191,TRUE))","v":1315},{"$f":"IF(Worksheet!$D$10=3,FALSE,Worksheet!$B$14)","v":true},{"$f":"IF(Worksheet!$D$6=1,RANDBETWEEN(1,99),IF(Worksheet!$D$6=2,CHOOSE(RANDBETWEEN(1,2),RANDBETWEEN(1,99),RANDBETWEEN(1,999)/10),CHOOSE(RANDBETWEEN(1,4),RANDBETWEEN(1,99999)/1000,RANDBETWEEN(1,9999)/100,RANDBETWEEN(1,999)/10,RANDBETWEEN(1,99))))","v":94},"cm","=",{"$f":"10*C2191","v":940},"mm"]
[{"$f":"IF(COUNTIF($B$1:B2192,TRUE)=COUNTIF($B$1:B2191,TRUE),\"\",COUNTIF($B$1:B2192,TRUE))","v":1316},{"$f":"IF(Worksheet!$D$10=3,FALSE,Worksheet!$B$15)","v":true},{"$f":"IF(Worksheet!$D$6=1,RANDBETWEEN(1,99),IF(Worksheet!$D$6=2,CHOOSE(RANDBETWEEN(1,2),RANDBETWEEN(1,99),RANDBETWEEN(1,999)/10),CHOOSE(RANDBETWEEN(1,4),RANDBETWEEN(1,99999)/1000,RANDBETWEEN(1,9999)/100,RANDBETWEEN(1,999)/10,RANDBETWEEN(1,99))))","v":89},"m","=",{"$f":"100*C2192","v":8900},"cm"]
[{"$f":"IF(COUNTIF($B$1:B2193,TRUE)=COUNTIF($B$1:B2192,TRUE),\"\",COUNTIF($B$1:B2193,TRUE))","v":1317},{"$f":"IF(Worksheet!$D$10=3,FALSE,Worksheet!$B$16)","v":true},{"$f":"IF(Worksheet!$D$6=1,RANDBETWEEN(1,99),IF(Worksheet!$D$6=2,CHOOSE(RANDBETWEEN(1,2),RANDBETWEEN(1,99),RANDBETWEEN(1,999)/10),CHOOSE(RANDBETWEEN(1,4),RANDBETWEEN(1,99999)/1000,RANDBETWEEN(1,9999)/100,RANDBETWEEN(1,999)/10,RANDBETWEEN(1,99))))","v":94},"km","=",{"$f":"1000*C2193","v":94000},"m"]
[{"$f":"IF(COUNTIF($B$1:B2194,TRUE)=COUNTIF($B$1:B2193,TRUE),\"\",COUNTIF($B$1:B2194,TRUE))","v":""},{"$f":"IF(Worksheet!$D$10=3,FALSE,Worksheet!$B$17)","v":false},{"$f":"IF(Worksheet!$D$6=1,RANDBETWEEN(1,99),IF(Worksheet!$D$6=2,CHOOSE(RANDBETWEEN(1,2),RANDBETWEEN(1,99),RANDBETWEEN(1,999)/10),CHOOSE(RANDBETWEEN(1,4),RANDBETWEEN(1,99999)/1000,RANDBETWEEN(1,9999)/100,RANDBETWEEN(1,999)/10,RANDBETWEEN(1,99))))","v":93},"m",{"$f":"#REF!","v":{"$error":"#REF!"}},{"$f":"1000*C2194","v":93000},"mm"]
[{"$f":"IF(COUNTIF($B$1:B2195,TRUE)=COUNTIF($B$1:B2194,TRUE),\"\",COUNTIF($B$1:B2195,TRUE))","v":""},{"$f":"IF(Worksheet!$D$10=3,FALSE,Worksheet!$B$18)","v":false},{"$f":"IF(Worksheet!$D$6=1,RANDBETWEEN(1,99),IF(Worksheet!$D$6=2,CHOOSE(RANDBETWEEN(1,2),RANDBETWEEN(1,99),RANDBETWEEN(1,999)/10),CHOOSE(RANDBETWEEN(1,4),RANDBETWEEN(1,99999)/1000,RANDBETWEEN(1,9999)/100,RANDBETWEEN(1,999)/10,RANDBETWEEN(1,99))))","v":20},"cm²","=",{"$f":"C2195*100","v":2000},"mm²"]
[{"$f":"IF(COUNTIF($B$1:B2196,TRUE)=COUNTIF($B$1:B2195,TRUE),\"\",COUNTIF($B$1:B2196,TRUE))","v":1318},{"$f":"IF(Worksheet!$D$10=3,FALSE,Worksheet!$D$14)","v":true},{"$f":"IF(Worksheet!$D$6=1,RANDBETWEEN(1,99),IF(Worksheet!$D$6=2,CHOOSE(RANDBETWEEN(1,2),RANDBETWEEN(1,99),RANDBETWEEN(1,999)/10),CHOOSE(RANDBETWEEN(1,4),RANDBETWEEN(1,99999)/1000,RANDBETWEEN(1,9999)/100,RANDBETWEEN(1,999)/10,RANDBETWEEN(1,99))))","v":2},"kg","=",{"$f":"1000*C2196","v":2000},"g"]
[{"$f":"IF(COUNTIF($B$1:B2197,TRUE)=COUNTIF($B$1:B2196,TRUE),\"\",COUNTIF($B$1:B2197,TRUE))","v":1319},{"$f":"IF(Worksheet!$D$10=3,FALSE,Worksheet!$D$15)","v":true},{"$f":"IF(Worksheet!$D$6=1,RANDBETWEEN(1,99),IF(Worksheet!$D$6=2,CHOOSE(RANDBETWEEN(1,2),RANDBETWEEN(1,99),RANDBETWEEN(1,999)/10),CHOOSE(RANDBETWEEN(1,4),RANDBETWEEN(1,99999)/1000,RANDBETWEEN(1,9999)/100,RANDBETWEEN(1,999)/10,RANDBETWEEN(1,99))))","v":94},"tonnes","=",{"$f":"1000*C2197","v":94000},"kg"]
[{"$f":"IF(COUNTIF($B$1:B2198,TRUE)=COUNTIF($B$1:B2197,TRUE),\"\",COUNTIF($B$1:B2198,TRUE))","v":1320},{"$f":"IF(Worksheet!$D$10=3,FALSE,Worksheet!$D$16)","v":true},{"$f":"IF(Worksheet!$D$6=1,RANDBETWEEN(1,99),IF(Worksheet!$D$6=2,CHOOSE(RANDBETWEEN(1,2),RANDBETWEEN(1,99),RANDBETWEEN(1,999)/10),CHOOSE(RANDBETWEEN(1,4),RANDBETWEEN(1,99999)/1000,RANDBETWEEN(1,9999)/100,RANDBETWEEN(1,999)/10,RANDBETWEEN(1,99))))","v":12},"litres","=",{"$f":"1000*C2198","v":12000},"ml"]
[{"$f":"IF(COUNTIF($B$1:B2199,TRUE)=COUNTIF($B$1:B2198,TRUE),\"\",COUNTIF($B$1:B2199,TRUE))","v":""},{"$f":"IF(Worksheet!$D$10=3,FALSE,Worksheet!$D$17)","v":false},{"$f":"IF(Worksheet!$D$6=1,RANDBETWEEN(1,99),IF(Worksheet!$D$6=2,CHOOSE(RANDBETWEEN(1,2),RANDBETWEEN(1,99),RANDBETWEEN(1,999)/10),CHOOSE(RANDBETWEEN(1,4),RANDBETWEEN(1,99999)/1000,RANDBETWEEN(1,9999)/100,RANDBETWEEN(1,999)/10,RANDBETWEEN(1,99))))","v":43},"litres","=",{"$f":"1000*C2199","v":43000},"cm³"]
[{"$f":"IF(COUNTIF($B$1:B2200,TRUE)=COUNTIF($B$1:B2199,TRUE),\"\",COUNTIF($B$1:B2200,TRUE))","v":""},{"$f":"IF(Worksheet!$D$10=3,FALSE,Worksheet!$D$18)","v":false},{"$f":"IF(Worksheet!$D$6=1,RANDBETWEEN(1,99),IF(Worksheet!$D$6=2,CHOOSE(RANDBETWEEN(1,2),RANDBETWEEN(1,99),RANDBETWEEN(1,999)/10),CHOOSE(RANDBETWEEN(1,4),RANDBETWEEN(1,99999)/1000,RANDBETWEEN(1,9999)/100,RANDBETWEEN(1,999)/10,RANDBETWEEN(1,99))))","v":56},"m²","=",{"$f":"10000*C2200","v":560000},"cm²"]
[{"$f":"IF(COUNTIF($B$1:B2201,TRUE)=COUNTIF($B$1:B2200,TRUE),\"\",COUNTIF($B$1:B2201,TRUE))","v":1321},{"$f":"IF(Worksheet!$D$10=2,FALSE,Worksheet!$B$14)","v":true},{"$f":"10*F2201","v":10},"mm","=",{"$f":"IF(Worksheet!$D$6=1,RANDBETWEEN(1,99),IF(Worksheet!$D$6=2,CHOOSE(RANDBETWEEN(1,2),RANDBETWEEN(1,99),RANDBETWEEN(1,999)/10),CHOOSE(RANDBETWEEN(1,4),RANDBETWEEN(1,99999)/1000,RANDBETWEEN(1,9999)/100,RANDBETWEEN(1,999)/10,RANDBETWEEN(1,99))))","v":1},"cm"]
[{"$f":"IF(COUNTIF($B$1:B2202,TRUE)=COUNTIF($B$1:B2201,TRUE),\"\",COUNTIF($B$1:B2202,TRUE))","v":1322},{"$f":"IF(Worksheet!$D$10=2,FALSE,Worksheet!$B$15)","v":true},{"$f":"100*F2202","v":3400},"cm","=",{"$f":"IF(Worksheet!$D$6=1,RANDBETWEEN(1,99),IF(Worksheet!$D$6=2,CHOOSE(RANDBETWEEN(1,2),RANDBETWEEN(1,99),RANDBETWEEN(1,999)/10),CHOOSE(RANDBETWEEN(1,4),RANDBETWEEN(1,99999)/1000,RANDBETWEEN(1,9999)/100,RANDBETWEEN(1,999)/10,RANDBETWEEN(1,99))))","v":34},"m"]
[{"$f":"IF(COUNTIF($B$1:B2203,TRUE)=COUNTIF($B$1:B2202,TRUE),\"\",COUNTIF($B$1:B2203,TRUE))","v":1323},{"$f":"IF(Worksheet!$D$10=2,FALSE,Worksheet!$B$16)","v":true},{"$f":"1000*F2203","v":42000},"m","=",{"$f":"IF(Worksheet!$D$6=1,RANDBETWEEN(1,99),IF(Worksheet!$D$6=2,CHOOSE(RANDBETWEEN(1,2),RANDBETWEEN(1,99),RANDBETWEEN(1,999)/10),CHOOSE(RANDBETWEEN(1,4),RANDBETWEEN(1,99999)/1000,RANDBETWEEN(1,9999)/100,RANDBETWEEN(1,999)/10,RANDBETWEEN(1,99))))","v":42},"km"]
[{"$f":"IF(COUNTIF($B$1:B2204,TRUE)=COUNTIF($B$1:B2203,TRUE),\"\",COUNTIF($B$1:B2204,TRUE))","v":""},{"$f":"IF(Worksheet!$D$10=2,FALSE,Worksheet!$B$17)","v":false},{"$f":"1000*F2204","v":25000},"mm","=",{"$f":"IF(Worksheet!$D$6=1,RANDBETWEEN(1,99),IF(Worksheet!$D$6=2,CHOOSE(RANDBETWEEN(1,2),RANDBETWEEN(1,99),RANDBETWEEN(1,999)/10),CHOOSE(RANDBETWEEN(1,4),RANDBETWEEN(1,99999)/1000,RANDBETWEEN(1,9999)/100,RANDBETWEEN(1,999)/10,RANDBETWEEN(1,99))))","v":25},"m"]
[{"$f":"IF(COUNTIF($B$1:B2205,TRUE)=COUNTIF($B$1:B2204,TRUE),\"\",COUNTIF($B$1:B2205,TRUE))","v":""},{"$f":"IF(Worksheet!$D$10=2,FALSE,Worksheet!$B$18)","v":false},{"$f":"100*F2205","v":4100},"mm²","=",{"$f":"IF(Worksheet!$D$6=1,RANDBETWEEN(1,99),IF(Worksheet!$D$6=2,CHOOSE(RANDBETWEEN(1,2),RANDBETWEEN(1,99),RANDBETWEEN(1,999)/10),CHOOSE(RANDBETWEEN(1,4),RANDBETWEEN(1,99999)/1000,RANDBETWEEN(1,9999)/100,RANDBETWEEN(1,999)/10,RANDBETWEEN(1,99))))","v":41},"cm²"]
[{"$f":"IF(COUNTIF($B$1:B2206,TRUE)=COUNTIF($B$1:B2205,TRUE),\"\",COUNTIF($B$1:B2206,TRUE))","v":1324},{"$f":"IF(Worksheet!$D$10=2,FALSE,Worksheet!$D$14)","v":true},{"$f":"F2206*1000","v":66000},"g","=",{"$f":"IF(Worksheet!$D$6=1,RANDBETWEEN(1,99),IF(Worksheet!$D$6=2,CHOOSE(RANDBETWEEN(1,2),RANDBETWEEN(1,99),RANDBETWEEN(1,999)/10),CHOOSE(RANDBETWEEN(1,4),RANDBETWEEN(1,99999)/1000,RANDBETWEEN(1,9999)/100,RANDBETWEEN(1,999)/10,RANDBETWEEN(1,99))))","v":66},"kg"]
[{"$f":"IF(COUNTIF($B$1:B2207,TRUE)=COUNTIF($B$1:B2206,TRUE),\"\",COUNTIF($B$1:B2207,TRUE))","v":1325},{"$f":"IF(Worksheet!$D$10=2,FALSE,Worksheet!$D$15)","v":true},{"$f":"F2207*1000","v":72000},"kg","=",{"$f":"IF(Worksheet!$D$6=1,RANDBETWEEN(1,99),IF(Worksheet!$D$6=2,CHOOSE(RANDBETWEEN(1,2),RANDBETWEEN(1,99),RANDBETWEEN(1,999)/10),CHOOSE(RANDBETWEEN(1,4),RANDBETWEEN(1,99999)/1000,RANDBETWEEN(1,9999)/100,RANDBETWEEN(1,999)/10,RANDBETWEEN(1,99))))","v":72},"tonnes"]
[{"$f":"IF(COUNTIF($B$1:B2208,TRUE)=COUNTIF($B$1:B2207,TRUE),\"\",COUNTIF($B$1:B2208,TRUE))","v":1326},{"$f":"IF(Worksheet!$D$10=2,FALSE,Worksheet!$D$16)","v":true},{"$f":"1000*F2208","v":80000},"ml","=",{"$f":"IF(Worksheet!$D$6=1,RANDBETWEEN(1,99),IF(Worksheet!$D$6=2,CHOOSE(RANDBETWEEN(1,2),RANDBETWEEN(1,99),RANDBETWEEN(1,999)/10),CHOOSE(RANDBETWEEN(1,4),RANDBETWEEN(1,99999)/1000,RANDBETWEEN(1,9999)/100,RANDBETWEEN(1,999)/10,RANDBETWEEN(1,99))))","v":80},"litres"]
[{"$f":"IF(COUNTIF($B$1:B2209,TRUE)=COUNTIF($B$1:B2208,TRUE),\"\",COUNTIF($B$1:B2209,TRUE))","v":""},{"$f":"IF(Worksheet!$D$10=2,FALSE,Worksheet!$D$17)","v":false},{"$f":"1000*F2209","v":47000},"cm³","=",{"$f":"IF(Worksheet!$D$6=1,RANDBETWEEN(1,99),IF(Worksheet!$D$6=2,CHOOSE(RANDBETWEEN(1,2),RANDBETWEEN(1,99),RANDBETWEEN(1,999)/10),CHOOSE(RANDBETWEEN(1,4),RANDBETWEEN(1,99999)/1000,RANDBETWEEN(1,9999)/100,RANDBETWEEN(1,999)/10,RANDBETWEEN(1,99))))","v":47},"litres"]
[{"$f":"IF(COUNTIF($B$1:B2210,TRUE)=COUNTIF($B$1:B2209,TRUE),\"\",COUNTIF($B$1:B2210,TRUE))","v":""},{"$f":"IF(Worksheet!$D$10=2,FALSE,Worksheet!$D$18)","v":false},{"$f":"10000*F2210","v":560000},"cm²","=",{"$f":"IF(Worksheet!$D$6=1,RANDBETWEEN(1,99),IF(Worksheet!$D$6=2,CHOOSE(RANDBETWEEN(1,2),RANDBETWEEN(1,99),RANDBETWEEN(1,999)/10),CHOOSE(RANDBETWEEN(1,4),RANDBETWEEN(1,99999)/1000,RANDBETWEEN(1,9999)/100,RANDBETWEEN(1,999)/10,RANDBETWEEN(1,99))))","v":56},"m²"]
[{"$f":"IF(COUNTIF($B$1:B2211,TRUE)=COUNTIF($B$1:B2210,TRUE),\"\",COUNTIF($B$1:B2211,TRUE))","v":1327},{"$f":"IF(Worksheet!$D$10=3,FALSE,Worksheet!$B$14)","v":true},{"$f":"IF(Worksheet!$D$6=1,RANDBETWEEN(1,99),IF(Worksheet!$D$6=2,CHOOSE(RANDBETWEEN(1,2),RANDBETWEEN(1,99),RANDBETWEEN(1,999)/10),CHOOSE(RANDBETWEEN(1,4),RANDBETWEEN(1,99999)/1000,RANDBETWEEN(1,9999)/100,RANDBETWEEN(1,999)/10,RANDBETWEEN(1,99))))","v":13},"cm","=",{"$f":"10*C2211","v":130},"mm"]
[{"$f":"IF(COUNTIF($B$1:B2212,TRUE)=COUNTIF($B$1:B2211,TRUE),\"\",COUNTIF($B$1:B2212,TRUE))","v":1328},{"$f":"IF(Worksheet!$D$10=3,FALSE,Worksheet!$B$15)","v":true},{"$f":"IF(Worksheet!$D$6=1,RANDBETWEEN(1,99),IF(Worksheet!$D$6=2,CHOOSE(RANDBETWEEN(1,2),RANDBETWEEN(1,99),RANDBETWEEN(1,999)/10),CHOOSE(RANDBETWEEN(1,4),RANDBETWEEN(1,99999)/1000,RANDBETWEEN(1,9999)/100,RANDBETWEEN(1,999)/10,RANDBETWEEN(1,99))))","v":37},"m","=",{"$f":"100*C2212","v":3700},"cm"]
[{"$f":"IF(COUNTIF($B$1:B2213,TRUE)=COUNTIF($B$1:B2212,TRUE),\"\",COUNTIF($B$1:B2213,TRUE))","v":1329},{"$f":"IF(Worksheet!$D$10=3,FALSE,Worksheet!$B$16)","v":true},{"$f":"IF(Worksheet!$D$6=1,RANDBETWEEN(1,99),IF(Worksheet!$D$6=2,CHOOSE(RANDBETWEEN(1,2),RANDBETWEEN(1,99),RANDBETWEEN(1,999)/10),CHOOSE(RANDBETWEEN(1,4),RANDBETWEEN(1,99999)/1000,RANDBETWEEN(1,9999)/100,RANDBETWEEN(1,999)/10,RANDBETWEEN(1,99))))","v":22},"km","=",{"$f":"1000*C2213","v":22000},"m"]
[{"$f":"IF(COUNTIF($B$1:B2214,TRUE)=COUNTIF($B$1:B2213,TRUE),\"\",COUNTIF($B$1:B2214,TRUE))","v":""},{"$f":"IF(Worksheet!$D$10=3,FALSE,Worksheet!$B$17)","v":false},{"$f":"IF(Worksheet!$D$6=1,RANDBETWEEN(1,99),IF(Worksheet!$D$6=2,CHOOSE(RANDBETWEEN(1,2),RANDBETWEEN(1,99),RANDBETWEEN(1,999)/10),CHOOSE(RANDBETWEEN(1,4),RANDBETWEEN(1,99999)/1000,RANDBETWEEN(1,9999)/100,RANDBETWEEN(1,999)/10,RANDBETWEEN(1,99))))","v":82},"m",{"$f":"#REF!","v":{"$error":"#REF!"}},{"$f":"1000*C2214","v":82000},"mm"]
[{"$f":"IF(COUNTIF($B$1:B2215,TRUE)=COUNTIF($B$1:B2214,TRUE),\"\",COUNTIF($B$1:B2215,TRUE))","v":""},{"$f":"IF(Worksheet!$D$10=3,FALSE,Worksheet!$B$18)","v":false},{"$f":"IF(Worksheet!$D$6=1,RANDBETWEEN(1,99),IF(Worksheet!$D$6=2,CHOOSE(RANDBETWEEN(1,2),RANDBETWEEN(1,99),RANDBETWEEN(1,999)/10),CHOOSE(RANDBETWEEN(1,4),RANDBETWEEN(1,99999)/1000,RANDBETWEEN(1,9999)/100,RANDBETWEEN(1,999)/10,RANDBETWEEN(1,99))))","v":50},"cm²","=",{"$f":"C2215*100","v":5000},"mm²"]
[{"$f":"IF(COUNTIF($B$1:B2216,TRUE)=COUNTIF($B$1:B2215,TRUE),\"\",COUNTIF($B$1:B2216,TRUE))","v":1330},{"$f":"IF(Worksheet!$D$10=3,FALSE,Worksheet!$D$14)","v":true},{"$f":"IF(Worksheet!$D$6=1,RANDBETWEEN(1,99),IF(Worksheet!$D$6=2,CHOOSE(RANDBETWEEN(1,2),RANDBETWEEN(1,99),RANDBETWEEN(1,999)/10),CHOOSE(RANDBETWEEN(1,4),RANDBETWEEN(1,99999)/1000,RANDBETWEEN(1,9999)/100,RANDBETWEEN(1,999)/10,RANDBETWEEN(1,99))))","v":3},"kg","=",{"$f":"1000*C2216","v":3000},"g"]
[{"$f":"IF(COUNTIF($B$1:B2217,TRUE)=COUNTIF($B$1:B2216,TRUE),\"\",COUNTIF($B$1:B2217,TRUE))","v":1331},{"$f":"IF(Worksheet!$D$10=3,FALSE,Worksheet!$D$15)","v":true},{"$f":"IF(Worksheet!$D$6=1,RANDBETWEEN(1,99),IF(Worksheet!$D$6=2,CHOOSE(RANDBETWEEN(1,2),RANDBETWEEN(1,99),RANDBETWEEN(1,999)/10),CHOOSE(RANDBETWEEN(1,4),RANDBETWEEN(1,99999)/1000,RANDBETWEEN(1,9999)/100,RANDBETWEEN(1,999)/10,RANDBETWEEN(1,99))))","v":13},"tonnes","=",{"$f":"1000*C2217","v":13000},"kg"]
[{"$f":"IF(COUNTIF($B$1:B2218,TRUE)=COUNTIF($B$1:B2217,TRUE),\"\",COUNTIF($B$1:B2218,TRUE))","v":1332},{"$f":"IF(Worksheet!$D$10=3,FALSE,Worksheet!$D$16)","v":true},{"$f":"IF(Worksheet!$D$6=1,RANDBETWEEN(1,99),IF(Worksheet!$D$6=2,CHOOSE(RANDBETWEEN(1,2),RANDBETWEEN(1,99),RANDBETWEEN(1,999)/10),CHOOSE(RANDBETWEEN(1,4),RANDBETWEEN(1,99999)/1000,RANDBETWEEN(1,9999)/100,RANDBETWEEN(1,999)/10,RANDBETWEEN(1,99))))","v":9},"litres","=",{"$f":"1000*C2218","v":9000},"ml"]
[{"$f":"IF(COUNTIF($B$1:B2219,TRUE)=COUNTIF($B$1:B2218,TRUE),\"\",COUNTIF($B$1:B2219,TRUE))","v":""},{"$f":"IF(Worksheet!$D$10=3,FALSE,Worksheet!$D$17)","v":false},{"$f":"IF(Worksheet!$D$6=1,RANDBETWEEN(1,99),IF(Worksheet!$D$6=2,CHOOSE(RANDBETWEEN(1,2),RANDBETWEEN(1,99),RANDBETWEEN(1,999)/10),CHOOSE(RANDBETWEEN(1,4),RANDBETWEEN(1,99999)/1000,RANDBETWEEN(1,9999)/100,RANDBETWEEN(1,999)/10,RANDBETWEEN(1,99))))","v":26},"litres","=",{"$f":"1000*C2219","v":26000},"cm³"]
[{"$f":"IF(COUNTIF($B$1:B2220,TRUE)=COUNTIF($B$1:B2219,TRUE),\"\",COUNTIF($B$1:B2220,TRUE))","v":""},{"$f":"IF(Worksheet!$D$10=3,FALSE,Worksheet!$D$18)","v":false},{"$f":"IF(Worksheet!$D$6=1,RANDBETWEEN(1,99),IF(Worksheet!$D$6=2,CHOOSE(RANDBETWEEN(1,2),RANDBETWEEN(1,99),RANDBETWEEN(1,999)/10),CHOOSE(RANDBETWEEN(1,4),RANDBETWEEN(1,99999)/1000,RANDBETWEEN(1,9999)/100,RANDBETWEEN(1,999)/10,RANDBETWEEN(1,99))))","v":86},"m²","=",{"$f":"10000*C2220","v":860000},"cm²"]
[{"$f":"IF(COUNTIF($B$1:B2221,TRUE)=COUNTIF($B$1:B2220,TRUE),\"\",COUNTIF($B$1:B2221,TRUE))","v":1333},{"$f":"IF(Worksheet!$D$10=2,FALSE,Worksheet!$B$14)","v":true},{"$f":"10*F2221","v":40},"mm","=",{"$f":"IF(Worksheet!$D$6=1,RANDBETWEEN(1,99),IF(Worksheet!$D$6=2,CHOOSE(RANDBETWEEN(1,2),RANDBETWEEN(1,99),RANDBETWEEN(1,999)/10),CHOOSE(RANDBETWEEN(1,4),RANDBETWEEN(1,99999)/1000,RANDBETWEEN(1,9999)/100,RANDBETWEEN(1,999)/10,RANDBETWEEN(1,99))))","v":4},"cm"]
[{"$f":"IF(COUNTIF($B$1:B2222,TRUE)=COUNTIF($B$1:B2221,TRUE),\"\",COUNTIF($B$1:B2222,TRUE))","v":1334},{"$f":"IF(Worksheet!$D$10=2,FALSE,Worksheet!$B$15)","v":true},{"$f":"100*F2222","v":5600},"cm","=",{"$f":"IF(Worksheet!$D$6=1,RANDBETWEEN(1,99),IF(Worksheet!$D$6=2,CHOOSE(RANDBETWEEN(1,2),RANDBETWEEN(1,99),RANDBETWEEN(1,999)/10),CHOOSE(RANDBETWEEN(1,4),RANDBETWEEN(1,99999)/1000,RANDBETWEEN(1,9999)/100,RANDBETWEEN(1,999)/10,RANDBETWEEN(1,99))))","v":56},"m"]
[{"$f":"IF(COUNTIF($B$1:B2223,TRUE)=COUNTIF($B$1:B2222,TRUE),\"\",COUNTIF($B$1:B2223,TRUE))","v":1335},{"$f":"IF(Worksheet!$D$10=2,FALSE,Worksheet!$B$16)","v":true},{"$f":"1000*F2223","v":10000},"m","=",{"$f":"IF(Worksheet!$D$6=1,RANDBETWEEN(1,99),IF(Worksheet!$D$6=2,CHOOSE(RANDBETWEEN(1,2),RANDBETWEEN(1,99),RANDBETWEEN(1,999)/10),CHOOSE(RANDBETWEEN(1,4),RANDBETWEEN(1,99999)/1000,RANDBETWEEN(1,9999)/100,RANDBETWEEN(1,999)/10,RANDBETWEEN(1,99))))","v":10},"km"]
[{"$f":"IF(COUNTIF($B$1:B2224,TRUE)=COUNTIF($B$1:B2223,TRUE),\"\",COUNTIF($B$1:B2224,TRUE))","v":""},{"$f":"IF(Worksheet!$D$10=2,FALSE,Worksheet!$B$17)","v":false},{"$f":"1000*F2224","v":50000},"mm","=",{"$f":"IF(Worksheet!$D$6=1,RANDBETWEEN(1,99),IF(Worksheet!$D$6=2,CHOOSE(RANDBETWEEN(1,2),RANDBETWEEN(1,99),RANDBETWEEN(1,999)/10),CHOOSE(RANDBETWEEN(1,4),RANDBETWEEN(1,99999)/1000,RANDBETWEEN(1,9999)/100,RANDBETWEEN(1,999)/10,RANDBETWEEN(1,99))))","v":50},"m"]
[{"$f":"IF(COUNTIF($B$1:B2225,TRUE)=COUNTIF($B$1:B2224,TRUE),\"\",COUNTIF($B$1:B2225,TRUE))","v":""},{"$f":"IF(Worksheet!$D$10=2,FALSE,Worksheet!$B$18)","v":false},{"$f":"100*F2225","v":6600},"mm²","=",{"$f":"IF(Worksheet!$D$6=1,RANDBETWEEN(1,99),IF(Worksheet!$D$6=2,CHOOSE(RANDBETWEEN(1,2),RANDBETWEEN(1,99),RANDBETWEEN(1,999)/10),CHOOSE(RANDBETWEEN(1,4),RANDBETWEEN(1,99999)/1000,RANDBETWEEN(1,9999)/100,RANDBETWEEN(1,999)/10,RANDBETWEEN(1,99))))","v":66},"cm²"]
[{"$f":"IF(COUNTIF($B$1:B2226,TRUE)=COUNTIF($B$1:B2225,TRUE),\"\",COUNTIF($B$1:B2226,TRUE))","v":1336},{"$f":"IF(Worksheet!$D$10=2,FALSE,Worksheet!$D$14)","v":true},{"$f":"F2226*1000","v":2000},"g","=",{"$f":"IF(Worksheet!$D$6=1,RANDBETWEEN(1,99),IF(Worksheet!$D$6=2,CHOOSE(RANDBETWEEN(1,2),RANDBETWEEN(1,99),RANDBETWEEN(1,999)/10),CHOOSE(RANDBETWEEN(1,4),RANDBETWEEN(1,99999)/1000,RANDBETWEEN(1,9999)/100,RANDBETWEEN(1,999)/10,RANDBETWEEN(1,99))))","v":2},"kg"]
[{"$f":"IF(COUNTIF($B$1:B2227,TRUE)=COUNTIF($B$1:B2226,TRUE),\"\",COUNTIF($B$1:B2227,TRUE))","v":1337},{"$f":"IF(Worksheet!$D$10=2,FALSE,Worksheet!$D$15)","v":true},{"$f":"F2227*1000","v":85000},"kg","=",{"$f":"IF(Worksheet!$D$6=1,RANDBETWEEN(1,99),IF(Worksheet!$D$6=2,CHOOSE(RANDBETWEEN(1,2),RANDBETWEEN(1,99),RANDBETWEEN(1,999)/10),CHOOSE(RANDBETWEEN(1,4),RANDBETWEEN(1,99999)/1000,RANDBETWEEN(1,9999)/100,RANDBETWEEN(1,999)/10,RANDBETWEEN(1,99))))","v":85},"tonnes"]
[{"$f":"IF(COUNTIF($B$1:B2228,TRUE)=COUNTIF($B$1:B2227,TRUE),\"\",COUNTIF($B$1:B2228,TRUE))","v":1338},{"$f":"IF(Worksheet!$D$10=2,FALSE,Worksheet!$D$16)","v":true},{"$f":"1000*F2228","v":78000},"ml","=",{"$f":"IF(Worksheet!$D$6=1,RANDBETWEEN(1,99),IF(Worksheet!$D$6=2,CHOOSE(RANDBETWEEN(1,2),RANDBETWEEN(1,99),RANDBETWEEN(1,999)/10),CHOOSE(RANDBETWEEN(1,4),RANDBETWEEN(1,99999)/1000,RANDBETWEEN(1,9999)/100,RANDBETWEEN(1,999)/10,RANDBETWEEN(1,99))))","v":78},"litres"]
[{"$f":"IF(COUNTIF($B$1:B2229,TRUE)=COUNTIF($B$1:B2228,TRUE),\"\",COUNTIF($B$1:B2229,TRUE))","v":""},{"$f":"IF(Worksheet!$D$10=2,FALSE,Worksheet!$D$17)","v":false},{"$f":"1000*F2229","v":44000},"cm³","=",{"$f":"IF(Worksheet!$D$6=1,RANDBETWEEN(1,99),IF(Worksheet!$D$6=2,CHOOSE(RANDBETWEEN(1,2),RANDBETWEEN(1,99),RANDBETWEEN(1,999)/10),CHOOSE(RANDBETWEEN(1,4),RANDBETWEEN(1,99999)/1000,RANDBETWEEN(1,9999)/100,RANDBETWEEN(1,999)/10,RANDBETWEEN(1,99))))","v":44},"litres"]
[{"$f":"IF(COUNTIF($B$1:B2230,TRUE)=COUNTIF($B$1:B2229,TRUE),\"\",COUNTIF($B$1:B2230,TRUE))","v":""},{"$f":"IF(Worksheet!$D$10=2,FALSE,Worksheet!$D$18)","v":false},{"$f":"10000*F2230","v":670000},"cm²","=",{"$f":"IF(Worksheet!$D$6=1,RANDBETWEEN(1,99),IF(Worksheet!$D$6=2,CHOOSE(RANDBETWEEN(1,2),RANDBETWEEN(1,99),RANDBETWEEN(1,999)/10),CHOOSE(RANDBETWEEN(1,4),RANDBETWEEN(1,99999)/1000,RANDBETWEEN(1,9999)/100,RANDBETWEEN(1,999)/10,RANDBETWEEN(1,99))))","v":67},"m²"]
[{"$f":"IF(COUNTIF($B$1:B2231,TRUE)=COUNTIF($B$1:B2230,TRUE),\"\",COUNTIF($B$1:B2231,TRUE))","v":1339},{"$f":"IF(Worksheet!$D$10=3,FALSE,Worksheet!$B$14)","v":true},{"$f":"IF(Worksheet!$D$6=1,RANDBETWEEN(1,99),IF(Worksheet!$D$6=2,CHOOSE(RANDBETWEEN(1,2),RANDBETWEEN(1,99),RANDBETWEEN(1,999)/10),CHOOSE(RANDBETWEEN(1,4),RANDBETWEEN(1,99999)/1000,RANDBETWEEN(1,9999)/100,RANDBETWEEN(1,999)/10,RANDBETWEEN(1,99))))","v":2},"cm","=",{"$f":"10*C2231","v":20},"mm"]
[{"$f":"IF(COUNTIF($B$1:B2232,TRUE)=COUNTIF($B$1:B2231,TRUE),\"\",COUNTIF($B$1:B2232,TRUE))","v":1340},{"$f":"IF(Worksheet!$D$10=3,FALSE,Worksheet!$B$15)","v":true},{"$f":"IF(Worksheet!$D$6=1,RANDBETWEEN(1,99),IF(Worksheet!$D$6=2,CHOOSE(RANDBETWEEN(1,2),RANDBETWEEN(1,99),RANDBETWEEN(1,999)/10),CHOOSE(RANDBETWEEN(1,4),RANDBETWEEN(1,99999)/1000,RANDBETWEEN(1,9999)/100,RANDBETWEEN(1,999)/10,RANDBETWEEN(1,99))))","v":55},"m","=",{"$f":"100*C2232","v":5500},"cm"]
[{"$f":"IF(COUNTIF($B$1:B2233,TRUE)=COUNTIF($B$1:B2232,TRUE),\"\",COUNTIF($B$1:B2233,TRUE))","v":1341},{"$f":"IF(Worksheet!$D$10=3,FALSE,Worksheet!$B$16)","v":true},{"$f":"IF(Worksheet!$D$6=1,RANDBETWEEN(1,99),IF(Worksheet!$D$6=2,CHOOSE(RANDBETWEEN(1,2),RANDBETWEEN(1,99),RANDBETWEEN(1,999)/10),CHOOSE(RANDBETWEEN(1,4),RANDBETWEEN(1,99999)/1000,RANDBETWEEN(1,9999)/100,RANDBETWEEN(1,999)/10,RANDBETWEEN(1,99))))","v":63},"km","=",{"$f":"1000*C2233","v":63000},"m"]
[{"$f":"IF(COUNTIF($B$1:B2234,TRUE)=COUNTIF($B$1:B2233,TRUE),\"\",COUNTIF($B$1:B2234,TRUE))","v":""},{"$f":"IF(Worksheet!$D$10=3,FALSE,Worksheet!$B$17)","v":false},{"$f":"IF(Worksheet!$D$6=1,RANDBETWEEN(1,99),IF(Worksheet!$D$6=2,CHOOSE(RANDBETWEEN(1,2),RANDBETWEEN(1,99),RANDBETWEEN(1,999)/10),CHOOSE(RANDBETWEEN(1,4),RANDBETWEEN(1,99999)/1000,RANDBETWEEN(1,9999)/100,RANDBETWEEN(1,999)/10,RANDBETWEEN(1,99))))","v":97},"m",{"$f":"#REF!","v":{"$error":"#REF!"}},{"$f":"1000*C2234","v":97000},"mm"]
[{"$f":"IF(COUNTIF($B$1:B2235,TRUE)=COUNTIF($B$1:B2234,TRUE),\"\",COUNTIF($B$1:B2235,TRUE))","v":""},{"$f":"IF(Worksheet!$D$10=3,FALSE,Worksheet!$B$18)","v":false},{"$f":"IF(Worksheet!$D$6=1,RANDBETWEEN(1,99),IF(Worksheet!$D$6=2,CHOOSE(RANDBETWEEN(1,2),RANDBETWEEN(1,99),RANDBETWEEN(1,999)/10),CHOOSE(RANDBETWEEN(1,4),RANDBETWEEN(1,99999)/1000,RANDBETWEEN(1,9999)/100,RANDBETWEEN(1,999)/10,RANDBETWEEN(1,99))))","v":28},"cm²","=",{"$f":"C2235*100","v":2800},"mm²"]
[{"$f":"IF(COUNTIF($B$1:B2236,TRUE)=COUNTIF($B$1:B2235,TRUE),\"\",COUNTIF($B$1:B2236,TRUE))","v":1342},{"$f":"IF(Worksheet!$D$10=3,FALSE,Worksheet!$D$14)","v":true},{"$f":"IF(Worksheet!$D$6=1,RANDBETWEEN(1,99),IF(Worksheet!$D$6=2,CHOOSE(RANDBETWEEN(1,2),RANDBETWEEN(1,99),RANDBETWEEN(1,999)/10),CHOOSE(RANDBETWEEN(1,4),RANDBETWEEN(1,99999)/1000,RANDBETWEEN(1,9999)/100,RANDBETWEEN(1,999)/10,RANDBETWEEN(1,99))))","v":1},"kg","=",{"$f":"1000*C2236","v":1000},"g"]
[{"$f":"IF(COUNTIF($B$1:B2237,TRUE)=COUNTIF($B$1:B2236,TRUE),\"\",COUNTIF($B$1:B2237,TRUE))","v":1343},{"$f":"IF(Worksheet!$D$10=3,FALSE,Worksheet!$D$15)","v":true},{"$f":"IF(Worksheet!$D$6=1,RANDBETWEEN(1,99),IF(Worksheet!$D$6=2,CHOOSE(RANDBETWEEN(1,2),RANDBETWEEN(1,99),RANDBETWEEN(1,999)/10),CHOOSE(RANDBETWEEN(1,4),RANDBETWEEN(1,99999)/1000,RANDBETWEEN(1,9999)/100,RANDBETWEEN(1,999)/10,RANDBETWEEN(1,99))))","v":64},"tonnes","=",{"$f":"1000*C2237","v":64000},"kg"]
[{"$f":"IF(COUNTIF($B$1:B2238,TRUE)=COUNTIF($B$1:B2237,TRUE),\"\",COUNTIF($B$1:B2238,TRUE))","v":1344},{"$f":"IF(Worksheet!$D$10=3,FALSE,Worksheet!$D$16)","v":true},{"$f":"IF(Worksheet!$D$6=1,RANDBETWEEN(1,99),IF(Worksheet!$D$6=2,CHOOSE(RANDBETWEEN(1,2),RANDBETWEEN(1,99),RANDBETWEEN(1,999)/10),CHOOSE(RANDBETWEEN(1,4),RANDBETWEEN(1,99999)/1000,RANDBETWEEN(1,9999)/100,RANDBETWEEN(1,999)/10,RANDBETWEEN(1,99))))","v":86},"litres","=",{"$f":"1000*C2238","v":86000},"ml"]
[{"$f":"IF(COUNTIF($B$1:B2239,TRUE)=COUNTIF($B$1:B2238,TRUE),\"\",COUNTIF($B$1:B2239,TRUE))","v":""},{"$f":"IF(Worksheet!$D$10=3,FALSE,Worksheet!$D$17)","v":false},{"$f":"IF(Worksheet!$D$6=1,RANDBETWEEN(1,99),IF(Worksheet!$D$6=2,CHOOSE(RANDBETWEEN(1,2),RANDBETWEEN(1,99),RANDBETWEEN(1,999)/10),CHOOSE(RANDBETWEEN(1,4),RANDBETWEEN(1,99999)/1000,RANDBETWEEN(1,9999)/100,RANDBETWEEN(1,999)/10,RANDBETWEEN(1,99))))","v":58},"litres","=",{"$f":"1000*C2239","v":58000},"cm³"]
[{"$f":"IF(COUNTIF($B$1:B2240,TRUE)=COUNTIF($B$1:B2239,TRUE),\"\",COUNTIF($B$1:B2240,TRUE))","v":""},{"$f":"IF(Worksheet!$D$10=3,FALSE,Worksheet!$D$18)","v":false},{"$f":"IF(Worksheet!$D$6=1,RANDBETWEEN(1,99),IF(Worksheet!$D$6=2,CHOOSE(RANDBETWEEN(1,2),RANDBETWEEN(1,99),RANDBETWEEN(1,999)/10),CHOOSE(RANDBETWEEN(1,4),RANDBETWEEN(1,99999)/1000,RANDBETWEEN(1,9999)/100,RANDBETWEEN(1,999)/10,RANDBETWEEN(1,99))))","v":34},"m²","=",{"$f":"10000*C2240","v":340000},"cm²"]
[{"$f":"IF(COUNTIF($B$1:B2241,TRUE)=COUNTIF($B$1:B2240,TRUE),\"\",COUNTIF($B$1:B2241,TRUE))","v":1345},{"$f":"IF(Worksheet!$D$10=2,FALSE,Worksheet!$B$14)","v":true},{"$f":"10*F2241","v":390},"mm","=",{"$f":"IF(Worksheet!$D$6=1,RANDBETWEEN(1,99),IF(Worksheet!$D$6=2,CHOOSE(RANDBETWEEN(1,2),RANDBETWEEN(1,99),RANDBETWEEN(1,999)/10),CHOOSE(RANDBETWEEN(1,4),RANDBETWEEN(1,99999)/1000,RANDBETWEEN(1,9999)/100,RANDBETWEEN(1,999)/10,RANDBETWEEN(1,99))))","v":39},"cm"]
[{"$f":"IF(COUNTIF($B$1:B2242,TRUE)=COUNTIF($B$1:B2241,TRUE),\"\",COUNTIF($B$1:B2242,TRUE))","v":1346},{"$f":"IF(Worksheet!$D$10=2,FALSE,Worksheet!$B$15)","v":true},{"$f":"100*F2242","v":9600},"cm","=",{"$f":"IF(Worksheet!$D$6=1,RANDBETWEEN(1,99),IF(Worksheet!$D$6=2,CHOOSE(RANDBETWEEN(1,2),RANDBETWEEN(1,99),RANDBETWEEN(1,999)/10),CHOOSE(RANDBETWEEN(1,4),RANDBETWEEN(1,99999)/1000,RANDBETWEEN(1,9999)/100,RANDBETWEEN(1,999)/10,RANDBETWEEN(1,99))))","v":96},"m"]
[{"$f":"IF(COUNTIF($B$1:B2243,TRUE)=COUNTIF($B$1:B2242,TRUE),\"\",COUNTIF($B$1:B2243,TRUE))","v":1347},{"$f":"IF(Worksheet!$D$10=2,FALSE,Worksheet!$B$16)","v":true},{"$f":"1000*F2243","v":29000},"m","=",{"$f":"IF(Worksheet!$D$6=1,RANDBETWEEN(1,99),IF(Worksheet!$D$6=2,CHOOSE(RANDBETWEEN(1,2),RANDBETWEEN(1,99),RANDBETWEEN(1,999)/10),CHOOSE(RANDBETWEEN(1,4),RANDBETWEEN(1,99999)/1000,RANDBETWEEN(1,9999)/100,RANDBETWEEN(1,999)/10,RANDBETWEEN(1,99))))","v":29},"km"]
[{"$f":"IF(COUNTIF($B$1:B2244,TRUE)=COUNTIF($B$1:B2243,TRUE),\"\",COUNTIF($B$1:B2244,TRUE))","v":""},{"$f":"IF(Worksheet!$D$10=2,FALSE,Worksheet!$B$17)","v":false},{"$f":"1000*F2244","v":91000},"mm","=",{"$f":"IF(Worksheet!$D$6=1,RANDBETWEEN(1,99),IF(Worksheet!$D$6=2,CHOOSE(RANDBETWEEN(1,2),RANDBETWEEN(1,99),RANDBETWEEN(1,999)/10),CHOOSE(RANDBETWEEN(1,4),RANDBETWEEN(1,99999)/1000,RANDBETWEEN(1,9999)/100,RANDBETWEEN(1,999)/10,RANDBETWEEN(1,99))))","v":91},"m"]
[{"$f":"IF(COUNTIF($B$1:B2245,TRUE)=COUNTIF($B$1:B2244,TRUE),\"\",COUNTIF($B$1:B2245,TRUE))","v":""},{"$f":"IF(Worksheet!$D$10=2,FALSE,Worksheet!$B$18)","v":false},{"$f":"100*F2245","v":4200},"mm²","=",{"$f":"IF(Worksheet!$D$6=1,RANDBETWEEN(1,99),IF(Worksheet!$D$6=2,CHOOSE(RANDBETWEEN(1,2),RANDBETWEEN(1,99),RANDBETWEEN(1,999)/10),CHOOSE(RANDBETWEEN(1,4),RANDBETWEEN(1,99999)/1000,RANDBETWEEN(1,9999)/100,RANDBETWEEN(1,999)/10,RANDBETWEEN(1,99))))","v":42},"cm²"]
[{"$f":"IF(COUNTIF($B$1:B2246,TRUE)=COUNTIF($B$1:B2245,TRUE),\"\",COUNTIF($B$1:B2246,TRUE))","v":1348},{"$f":"IF(Worksheet!$D$10=2,FALSE,Worksheet!$D$14)","v":true},{"$f":"F2246*1000","v":2000},"g","=",{"$f":"IF(Worksheet!$D$6=1,RANDBETWEEN(1,99),IF(Worksheet!$D$6=2,CHOOSE(RANDBETWEEN(1,2),RANDBETWEEN(1,99),RANDBETWEEN(1,999)/10),CHOOSE(RANDBETWEEN(1,4),RANDBETWEEN(1,99999)/1000,RANDBETWEEN(1,9999)/100,RANDBETWEEN(1,999)/10,RANDBETWEEN(1,99))))","v":2},"kg"]
[{"$f":"IF(COUNTIF($B$1:B2247,TRUE)=COUNTIF($B$1:B2246,TRUE),\"\",COUNTIF($B$1:B2247,TRUE))","v":1349},{"$f":"IF(Worksheet!$D$10=2,FALSE,Worksheet!$D$15)","v":true},{"$f":"F2247*1000","v":44000},"kg","=",{"$f":"IF(Worksheet!$D$6=1,RANDBETWEEN(1,99),IF(Worksheet!$D$6=2,CHOOSE(RANDBETWEEN(1,2),RANDBETWEEN(1,99),RANDBETWEEN(1,999)/10),CHOOSE(RANDBETWEEN(1,4),RANDBETWEEN(1,99999)/1000,RANDBETWEEN(1,9999)/100,RANDBETWEEN(1,999)/10,RANDBETWEEN(1,99))))","v":44},"tonnes"]
[{"$f":"IF(COUNTIF($B$1:B2248,TRUE)=COUNTIF($B$1:B2247,TRUE),\"\",COUNTIF($B$1:B2248,TRUE))","v":1350},{"$f":"IF(Worksheet!$D$10=2,FALSE,Worksheet!$D$16)","v":true},{"$f":"1000*F2248","v":96000},"ml","=",{"$f":"IF(Worksheet!$D$6=1,RANDBETWEEN(1,99),IF(Worksheet!$D$6=2,CHOOSE(RANDBETWEEN(1,2),RANDBETWEEN(1,99),RANDBETWEEN(1,999)/10),CHOOSE(RANDBETWEEN(1,4),RANDBETWEEN(1,99999)/1000,RANDBETWEEN(1,9999)/100,RANDBETWEEN(1,999)/10,RANDBETWEEN(1,99))))","v":96},"litres"]
[{"$f":"IF(COUNTIF($B$1:B2249,TRUE)=COUNTIF($B$1:B2248,TRUE),\"\",COUNTIF($B$1:B2249,TRUE))","v":""},{"$f":"IF(Worksheet!$D$10=2,FALSE,Worksheet!$D$17)","v":false},{"$f":"1000*F2249","v":65000},"cm³","=",{"$f":"IF(Worksheet!$D$6=1,RANDBETWEEN(1,99),IF(Worksheet!$D$6=2,CHOOSE(RANDBETWEEN(1,2),RANDBETWEEN(1,99),RANDBETWEEN(1,999)/10),CHOOSE(RANDBETWEEN(1,4),RANDBETWEEN(1,99999)/1000,RANDBETWEEN(1,9999)/100,RANDBETWEEN(1,999)/10,RANDBETWEEN(1,99))))","v":65},"litres"]
[{"$f":"IF(COUNTIF($B$1:B2250,TRUE)=COUNTIF($B$1:B2249,TRUE),\"\",COUNTIF($B$1:B2250,TRUE))","v":""},{"$f":"IF(Worksheet!$D$10=2,FALSE,Worksheet!$D$18)","v":false},{"$f":"10000*F2250","v":70000},"cm²","=",{"$f":"IF(Worksheet!$D$6=1,RANDBETWEEN(1,99),IF(Worksheet!$D$6=2,CHOOSE(RANDBETWEEN(1,2),RANDBETWEEN(1,99),RANDBETWEEN(1,999)/10),CHOOSE(RANDBETWEEN(1,4),RANDBETWEEN(1,99999)/1000,RANDBETWEEN(1,9999)/100,RANDBETWEEN(1,999)/10,RANDBETWEEN(1,99))))","v":7},"m²"]
[{"$f":"IF(COUNTIF($B$1:B2251,TRUE)=COUNTIF($B$1:B2250,TRUE),\"\",COUNTIF($B$1:B2251,TRUE))","v":1351},{"$f":"IF(Worksheet!$D$10=3,FALSE,Worksheet!$B$14)","v":true},{"$f":"IF(Worksheet!$D$6=1,RANDBETWEEN(1,99),IF(Worksheet!$D$6=2,CHOOSE(RANDBETWEEN(1,2),RANDBETWEEN(1,99),RANDBETWEEN(1,999)/10),CHOOSE(RANDBETWEEN(1,4),RANDBETWEEN(1,99999)/1000,RANDBETWEEN(1,9999)/100,RANDBETWEEN(1,999)/10,RANDBETWEEN(1,99))))","v":22},"cm","=",{"$f":"10*C2251","v":220},"mm"]
[{"$f":"IF(COUNTIF($B$1:B2252,TRUE)=COUNTIF($B$1:B2251,TRUE),\"\",COUNTIF($B$1:B2252,TRUE))","v":1352},{"$f":"IF(Worksheet!$D$10=3,FALSE,Worksheet!$B$15)","v":true},{"$f":"IF(Worksheet!$D$6=1,RANDBETWEEN(1,99),IF(Worksheet!$D$6=2,CHOOSE(RANDBETWEEN(1,2),RANDBETWEEN(1,99),RANDBETWEEN(1,999)/10),CHOOSE(RANDBETWEEN(1,4),RANDBETWEEN(1,99999)/1000,RANDBETWEEN(1,9999)/100,RANDBETWEEN(1,999)/10,RANDBETWEEN(1,99))))","v":31},"m","=",{"$f":"100*C2252","v":3100},"cm"]
[{"$f":"IF(COUNTIF($B$1:B2253,TRUE)=COUNTIF($B$1:B2252,TRUE),\"\",COUNTIF($B$1:B2253,TRUE))","v":1353},{"$f":"IF(Worksheet!$D$10=3,FALSE,Worksheet!$B$16)","v":true},{"$f":"IF(Worksheet!$D$6=1,RANDBETWEEN(1,99),IF(Worksheet!$D$6=2,CHOOSE(RANDBETWEEN(1,2),RANDBETWEEN(1,99),RANDBETWEEN(1,999)/10),CHOOSE(RANDBETWEEN(1,4),RANDBETWEEN(1,99999)/1000,RANDBETWEEN(1,9999)/100,RANDBETWEEN(1,999)/10,RANDBETWEEN(1,99))))","v":62},"km","=",{"$f":"1000*C2253","v":62000},"m"]
[{"$f":"IF(COUNTIF($B$1:B2254,TRUE)=COUNTIF($B$1:B2253,TRUE),\"\",COUNTIF($B$1:B2254,TRUE))","v":""},{"$f":"IF(Worksheet!$D$10=3,FALSE,Worksheet!$B$17)","v":false},{"$f":"IF(Worksheet!$D$6=1,RANDBETWEEN(1,99),IF(Worksheet!$D$6=2,CHOOSE(RANDBETWEEN(1,2),RANDBETWEEN(1,99),RANDBETWEEN(1,999)/10),CHOOSE(RANDBETWEEN(1,4),RANDBETWEEN(1,99999)/1000,RANDBETWEEN(1,9999)/100,RANDBETWEEN(1,999)/10,RANDBETWEEN(1,99))))","v":45},"m",{"$f":"#REF!","v":{"$error":"#REF!"}},{"$f":"1000*C2254","v":45000},"mm"]
[{"$f":"IF(COUNTIF($B$1:B2255,TRUE)=COUNTIF($B$1:B2254,TRUE),\"\",COUNTIF($B$1:B2255,TRUE))","v":""},{"$f":"IF(Worksheet!$D$10=3,FALSE,Worksheet!$B$18)","v":false},{"$f":"IF(Worksheet!$D$6=1,RANDBETWEEN(1,99),IF(Worksheet!$D$6=2,CHOOSE(RANDBETWEEN(1,2),RANDBETWEEN(1,99),RANDBETWEEN(1,999)/10),CHOOSE(RANDBETWEEN(1,4),RANDBETWEEN(1,99999)/1000,RANDBETWEEN(1,9999)/100,RANDBETWEEN(1,999)/10,RANDBETWEEN(1,99))))","v":84},"cm²","=",{"$f":"C2255*100","v":8400},"mm²"]
[{"$f":"IF(COUNTIF($B$1:B2256,TRUE)=COUNTIF($B$1:B2255,TRUE),\"\",COUNTIF($B$1:B2256,TRUE))","v":1354},{"$f":"IF(Worksheet!$D$10=3,FALSE,Worksheet!$D$14)","v":true},{"$f":"IF(Worksheet!$D$6=1,RANDBETWEEN(1,99),IF(Worksheet!$D$6=2,CHOOSE(RANDBETWEEN(1,2),RANDBETWEEN(1,99),RANDBETWEEN(1,999)/10),CHOOSE(RANDBETWEEN(1,4),RANDBETWEEN(1,99999)/1000,RANDBETWEEN(1,9999)/100,RANDBETWEEN(1,999)/10,RANDBETWEEN(1,99))))","v":22},"kg","=",{"$f":"1000*C2256","v":22000},"g"]
[{"$f":"IF(COUNTIF($B$1:B2257,TRUE)=COUNTIF($B$1:B2256,TRUE),\"\",COUNTIF($B$1:B2257,TRUE))","v":1355},{"$f":"IF(Worksheet!$D$10=3,FALSE,Worksheet!$D$15)","v":true},{"$f":"IF(Worksheet!$D$6=1,RANDBETWEEN(1,99),IF(Worksheet!$D$6=2,CHOOSE(RANDBETWEEN(1,2),RANDBETWEEN(1,99),RANDBETWEEN(1,999)/10),CHOOSE(RANDBETWEEN(1,4),RANDBETWEEN(1,99999)/1000,RANDBETWEEN(1,9999)/100,RANDBETWEEN(1,999)/10,RANDBETWEEN(1,99))))","v":18},"tonnes","=",{"$f":"1000*C2257","v":18000},"kg"]
[{"$f":"IF(COUNTIF($B$1:B2258,TRUE)=COUNTIF($B$1:B2257,TRUE),\"\",COUNTIF($B$1:B2258,TRUE))","v":1356},{"$f":"IF(Worksheet!$D$10=3,FALSE,Worksheet!$D$16)","v":true},{"$f":"IF(Worksheet!$D$6=1,RANDBETWEEN(1,99),IF(Worksheet!$D$6=2,CHOOSE(RANDBETWEEN(1,2),RANDBETWEEN(1,99),RANDBETWEEN(1,999)/10),CHOOSE(RANDBETWEEN(1,4),RANDBETWEEN(1,99999)/1000,RANDBETWEEN(1,9999)/100,RANDBETWEEN(1,999)/10,RANDBETWEEN(1,99))))","v":72},"litres","=",{"$f":"1000*C2258","v":72000},"ml"]
[{"$f":"IF(COUNTIF($B$1:B2259,TRUE)=COUNTIF($B$1:B2258,TRUE),\"\",COUNTIF($B$1:B2259,TRUE))","v":""},{"$f":"IF(Worksheet!$D$10=3,FALSE,Worksheet!$D$17)","v":false},{"$f":"IF(Worksheet!$D$6=1,RANDBETWEEN(1,99),IF(Worksheet!$D$6=2,CHOOSE(RANDBETWEEN(1,2),RANDBETWEEN(1,99),RANDBETWEEN(1,999)/10),CHOOSE(RANDBETWEEN(1,4),RANDBETWEEN(1,99999)/1000,RANDBETWEEN(1,9999)/100,RANDBETWEEN(1,999)/10,RANDBETWEEN(1,99))))","v":84},"litres","=",{"$f":"1000*C2259","v":84000},"cm³"]
[{"$f":"IF(COUNTIF($B$1:B2260,TRUE)=COUNTIF($B$1:B2259,TRUE),\"\",COUNTIF($B$1:B2260,TRUE))","v":""},{"$f":"IF(Worksheet!$D$10=3,FALSE,Worksheet!$D$18)","v":false},{"$f":"IF(Worksheet!$D$6=1,RANDBETWEEN(1,99),IF(Worksheet!$D$6=2,CHOOSE(RANDBETWEEN(1,2),RANDBETWEEN(1,99),RANDBETWEEN(1,999)/10),CHOOSE(RANDBETWEEN(1,4),RANDBETWEEN(1,99999)/1000,RANDBETWEEN(1,9999)/100,RANDBETWEEN(1,999)/10,RANDBETWEEN(1,99))))","v":21},"m²","=",{"$f":"10000*C2260","v":210000},"cm²"]
[{"$f":"IF(COUNTIF($B$1:B2261,TRUE)=COUNTIF($B$1:B2260,TRUE),\"\",COUNTIF($B$1:B2261,TRUE))","v":1357},{"$f":"IF(Worksheet!$D$10=2,FALSE,Worksheet!$B$14)","v":true},{"$f":"10*F2261","v":850},"mm","=",{"$f":"IF(Worksheet!$D$6=1,RANDBETWEEN(1,99),IF(Worksheet!$D$6=2,CHOOSE(RANDBETWEEN(1,2),RANDBETWEEN(1,99),RANDBETWEEN(1,999)/10),CHOOSE(RANDBETWEEN(1,4),RANDBETWEEN(1,99999)/1000,RANDBETWEEN(1,9999)/100,RANDBETWEEN(1,999)/10,RANDBETWEEN(1,99))))","v":85},"cm"]
[{"$f":"IF(COUNTIF($B$1:B2262,TRUE)=COUNTIF($B$1:B2261,TRUE),\"\",COUNTIF($B$1:B2262,TRUE))","v":1358},{"$f":"IF(Worksheet!$D$10=2,FALSE,Worksheet!$B$15)","v":true},{"$f":"100*F2262","v":2700},"cm","=",{"$f":"IF(Worksheet!$D$6=1,RANDBETWEEN(1,99),IF(Worksheet!$D$6=2,CHOOSE(RANDBETWEEN(1,2),RANDBETWEEN(1,99),RANDBETWEEN(1,999)/10),CHOOSE(RANDBETWEEN(1,4),RANDBETWEEN(1,99999)/1000,RANDBETWEEN(1,9999)/100,RANDBETWEEN(1,999)/10,RANDBETWEEN(1,99))))","v":27},"m"]
[{"$f":"IF(COUNTIF($B$1:B2263,TRUE)=COUNTIF($B$1:B2262,TRUE),\"\",COUNTIF($B$1:B2263,TRUE))","v":1359},{"$f":"IF(Worksheet!$D$10=2,FALSE,Worksheet!$B$16)","v":true},{"$f":"1000*F2263","v":32000},"m","=",{"$f":"IF(Worksheet!$D$6=1,RANDBETWEEN(1,99),IF(Worksheet!$D$6=2,CHOOSE(RANDBETWEEN(1,2),RANDBETWEEN(1,99),RANDBETWEEN(1,999)/10),CHOOSE(RANDBETWEEN(1,4),RANDBETWEEN(1,99999)/1000,RANDBETWEEN(1,9999)/100,RANDBETWEEN(1,999)/10,RANDBETWEEN(1,99))))","v":32},"km"]
[{"$f":"IF(COUNTIF($B$1:B2264,TRUE)=COUNTIF($B$1:B2263,TRUE),\"\",COUNTIF($B$1:B2264,TRUE))","v":""},{"$f":"IF(Worksheet!$D$10=2,FALSE,Worksheet!$B$17)","v":false},{"$f":"1000*F2264","v":13000},"mm","=",{"$f":"IF(Worksheet!$D$6=1,RANDBETWEEN(1,99),IF(Worksheet!$D$6=2,CHOOSE(RANDBETWEEN(1,2),RANDBETWEEN(1,99),RANDBETWEEN(1,999)/10),CHOOSE(RANDBETWEEN(1,4),RANDBETWEEN(1,99999)/1000,RANDBETWEEN(1,9999)/100,RANDBETWEEN(1,999)/10,RANDBETWEEN(1,99))))","v":13},"m"]
[{"$f":"IF(COUNTIF($B$1:B2265,TRUE)=COUNTIF($B$1:B2264,TRUE),\"\",COUNTIF($B$1:B2265,TRUE))","v":""},{"$f":"IF(Worksheet!$D$10=2,FALSE,Worksheet!$B$18)","v":false},{"$f":"100*F2265","v":6300},"mm²","=",{"$f":"IF(Worksheet!$D$6=1,RANDBETWEEN(1,99),IF(Worksheet!$D$6=2,CHOOSE(RANDBETWEEN(1,2),RANDBETWEEN(1,99),RANDBETWEEN(1,999)/10),CHOOSE(RANDBETWEEN(1,4),RANDBETWEEN(1,99999)/1000,RANDBETWEEN(1,9999)/100,RANDBETWEEN(1,999)/10,RANDBETWEEN(1,99))))","v":63},"cm²"]
[{"$f":"IF(COUNTIF($B$1:B2266,TRUE)=COUNTIF($B$1:B2265,TRUE),\"\",COUNTIF($B$1:B2266,TRUE))","v":1360},{"$f":"IF(Worksheet!$D$10=2,FALSE,Worksheet!$D$14)","v":true},{"$f":"F2266*1000","v":5000},"g","=",{"$f":"IF(Worksheet!$D$6=1,RANDBETWEEN(1,99),IF(Worksheet!$D$6=2,CHOOSE(RANDBETWEEN(1,2),RANDBETWEEN(1,99),RANDBETWEEN(1,999)/10),CHOOSE(RANDBETWEEN(1,4),RANDBETWEEN(1,99999)/1000,RANDBETWEEN(1,9999)/100,RANDBETWEEN(1,999)/10,RANDBETWEEN(1,99))))","v":5},"kg"]
[{"$f":"IF(COUNTIF($B$1:B2267,TRUE)=COUNTIF($B$1:B2266,TRUE),\"\",COUNTIF($B$1:B2267,TRUE))","v":1361},{"$f":"IF(Worksheet!$D$10=2,FALSE,Worksheet!$D$15)","v":true},{"$f":"F2267*1000","v":2000},"kg","=",{"$f":"IF(Worksheet!$D$6=1,RANDBETWEEN(1,99),IF(Worksheet!$D$6=2,CHOOSE(RANDBETWEEN(1,2),RANDBETWEEN(1,99),RANDBETWEEN(1,999)/10),CHOOSE(RANDBETWEEN(1,4),RANDBETWEEN(1,99999)/1000,RANDBETWEEN(1,9999)/100,RANDBETWEEN(1,999)/10,RANDBETWEEN(1,99))))","v":2},"tonnes"]
[{"$f":"IF(COUNTIF($B$1:B2268,TRUE)=COUNTIF($B$1:B2267,TRUE),\"\",COUNTIF($B$1:B2268,TRUE))","v":1362},{"$f":"IF(Worksheet!$D$10=2,FALSE,Worksheet!$D$16)","v":true},{"$f":"1000*F2268","v":85000},"ml","=",{"$f":"IF(Worksheet!$D$6=1,RANDBETWEEN(1,99),IF(Worksheet!$D$6=2,CHOOSE(RANDBETWEEN(1,2),RANDBETWEEN(1,99),RANDBETWEEN(1,999)/10),CHOOSE(RANDBETWEEN(1,4),RANDBETWEEN(1,99999)/1000,RANDBETWEEN(1,9999)/100,RANDBETWEEN(1,999)/10,RANDBETWEEN(1,99))))","v":85},"litres"]
[{"$f":"IF(COUNTIF($B$1:B2269,TRUE)=COUNTIF($B$1:B2268,TRUE),\"\",COUNTIF($B$1:B2269,TRUE))","v":""},{"$f":"IF(Worksheet!$D$10=2,FALSE,Worksheet!$D$17)","v":false},{"$f":"1000*F2269","v":28000},"cm³","=",{"$f":"IF(Worksheet!$D$6=1,RANDBETWEEN(1,99),IF(Worksheet!$D$6=2,CHOOSE(RANDBETWEEN(1,2),RANDBETWEEN(1,99),RANDBETWEEN(1,999)/10),CHOOSE(RANDBETWEEN(1,4),RANDBETWEEN(1,99999)/1000,RANDBETWEEN(1,9999)/100,RANDBETWEEN(1,999)/10,RANDBETWEEN(1,99))))","v":28},"litres"]
[{"$f":"IF(COUNTIF($B$1:B2270,TRUE)=COUNTIF($B$1:B2269,TRUE),\"\",COUNTIF($B$1:B2270,TRUE))","v":""},{"$f":"IF(Worksheet!$D$10=2,FALSE,Worksheet!$D$18)","v":false},{"$f":"10000*F2270","v":660000},"cm²","=",{"$f":"IF(Worksheet!$D$6=1,RANDBETWEEN(1,99),IF(Worksheet!$D$6=2,CHOOSE(RANDBETWEEN(1,2),RANDBETWEEN(1,99),RANDBETWEEN(1,999)/10),CHOOSE(RANDBETWEEN(1,4),RANDBETWEEN(1,99999)/1000,RANDBETWEEN(1,9999)/100,RANDBETWEEN(1,999)/10,RANDBETWEEN(1,99))))","v":66},"m²"]
[{"$f":"IF(COUNTIF($B$1:B2271,TRUE)=COUNTIF($B$1:B2270,TRUE),\"\",COUNTIF($B$1:B2271,TRUE))","v":1363},{"$f":"IF(Worksheet!$D$10=3,FALSE,Worksheet!$B$14)","v":true},{"$f":"IF(Worksheet!$D$6=1,RANDBETWEEN(1,99),IF(Worksheet!$D$6=2,CHOOSE(RANDBETWEEN(1,2),RANDBETWEEN(1,99),RANDBETWEEN(1,999)/10),CHOOSE(RANDBETWEEN(1,4),RANDBETWEEN(1,99999)/1000,RANDBETWEEN(1,9999)/100,RANDBETWEEN(1,999)/10,RANDBETWEEN(1,99))))","v":97},"cm","=",{"$f":"10*C2271","v":970},"mm"]
[{"$f":"IF(COUNTIF($B$1:B2272,TRUE)=COUNTIF($B$1:B2271,TRUE),\"\",COUNTIF($B$1:B2272,TRUE))","v":1364},{"$f":"IF(Worksheet!$D$10=3,FALSE,Worksheet!$B$15)","v":true},{"$f":"IF(Worksheet!$D$6=1,RANDBETWEEN(1,99),IF(Worksheet!$D$6=2,CHOOSE(RANDBETWEEN(1,2),RANDBETWEEN(1,99),RANDBETWEEN(1,999)/10),CHOOSE(RANDBETWEEN(1,4),RANDBETWEEN(1,99999)/1000,RANDBETWEEN(1,9999)/100,RANDBETWEEN(1,999)/10,RANDBETWEEN(1,99))))","v":53},"m","=",{"$f":"100*C2272","v":5300},"cm"]
[{"$f":"IF(COUNTIF($B$1:B2273,TRUE)=COUNTIF($B$1:B2272,TRUE),\"\",COUNTIF($B$1:B2273,TRUE))","v":1365},{"$f":"IF(Worksheet!$D$10=3,FALSE,Worksheet!$B$16)","v":true},{"$f":"IF(Worksheet!$D$6=1,RANDBETWEEN(1,99),IF(Worksheet!$D$6=2,CHOOSE(RANDBETWEEN(1,2),RANDBETWEEN(1,99),RANDBETWEEN(1,999)/10),CHOOSE(RANDBETWEEN(1,4),RANDBETWEEN(1,99999)/1000,RANDBETWEEN(1,9999)/100,RANDBETWEEN(1,999)/10,RANDBETWEEN(1,99))))","v":13},"km","=",{"$f":"1000*C2273","v":13000},"m"]
[{"$f":"IF(COUNTIF($B$1:B2274,TRUE)=COUNTIF($B$1:B2273,TRUE),\"\",COUNTIF($B$1:B2274,TRUE))","v":""},{"$f":"IF(Worksheet!$D$10=3,FALSE,Worksheet!$B$17)","v":false},{"$f":"IF(Worksheet!$D$6=1,RANDBETWEEN(1,99),IF(Worksheet!$D$6=2,CHOOSE(RANDBETWEEN(1,2),RANDBETWEEN(1,99),RANDBETWEEN(1,999)/10),CHOOSE(RANDBETWEEN(1,4),RANDBETWEEN(1,99999)/1000,RANDBETWEEN(1,9999)/100,RANDBETWEEN(1,999)/10,RANDBETWEEN(1,99))))","v":55},"m",{"$f":"#REF!","v":{"$error":"#REF!"}},{"$f":"1000*C2274","v":55000},"mm"]
[{"$f":"IF(COUNTIF($B$1:B2275,TRUE)=COUNTIF($B$1:B2274,TRUE),\"\",COUNTIF($B$1:B2275,TRUE))","v":""},{"$f":"IF(Worksheet!$D$10=3,FALSE,Worksheet!$B$18)","v":false},{"$f":"IF(Worksheet!$D$6=1,RANDBETWEEN(1,99),IF(Worksheet!$D$6=2,CHOOSE(RANDBETWEEN(1,2),RANDBETWEEN(1,99),RANDBETWEEN(1,999)/10),CHOOSE(RANDBETWEEN(1,4),RANDBETWEEN(1,99999)/1000,RANDBETWEEN(1,9999)/100,RANDBETWEEN(1,999)/10,RANDBETWEEN(1,99))))","v":1},"cm²","=",{"$f":"C2275*100","v":100},"mm²"]
[{"$f":"IF(COUNTIF($B$1:B2276,TRUE)=COUNTIF($B$1:B2275,TRUE),\"\",COUNTIF($B$1:B2276,TRUE))","v":1366},{"$f":"IF(Worksheet!$D$10=3,FALSE,Worksheet!$D$14)","v":true},{"$f":"IF(Worksheet!$D$6=1,RANDBETWEEN(1,99),IF(Worksheet!$D$6=2,CHOOSE(RANDBETWEEN(1,2),RANDBETWEEN(1,99),RANDBETWEEN(1,999)/10),CHOOSE(RANDBETWEEN(1,4),RANDBETWEEN(1,99999)/1000,RANDBETWEEN(1,9999)/100,RANDBETWEEN(1,999)/10,RANDBETWEEN(1,99))))","v":62},"kg","=",{"$f":"1000*C2276","v":62000},"g"]
[{"$f":"IF(COUNTIF($B$1:B2277,TRUE)=COUNTIF($B$1:B2276,TRUE),\"\",COUNTIF($B$1:B2277,TRUE))","v":1367},{"$f":"IF(Worksheet!$D$10=3,FALSE,Worksheet!$D$15)","v":true},{"$f":"IF(Worksheet!$D$6=1,RANDBETWEEN(1,99),IF(Worksheet!$D$6=2,CHOOSE(RANDBETWEEN(1,2),RANDBETWEEN(1,99),RANDBETWEEN(1,999)/10),CHOOSE(RANDBETWEEN(1,4),RANDBETWEEN(1,99999)/1000,RANDBETWEEN(1,9999)/100,RANDBETWEEN(1,999)/10,RANDBETWEEN(1,99))))","v":39},"tonnes","=",{"$f":"1000*C2277","v":39000},"kg"]
[{"$f":"IF(COUNTIF($B$1:B2278,TRUE)=COUNTIF($B$1:B2277,TRUE),\"\",COUNTIF($B$1:B2278,TRUE))","v":1368},{"$f":"IF(Worksheet!$D$10=3,FALSE,Worksheet!$D$16)","v":true},{"$f":"IF(Worksheet!$D$6=1,RANDBETWEEN(1,99),IF(Worksheet!$D$6=2,CHOOSE(RANDBETWEEN(1,2),RANDBETWEEN(1,99),RANDBETWEEN(1,999)/10),CHOOSE(RANDBETWEEN(1,4),RANDBETWEEN(1,99999)/1000,RANDBETWEEN(1,9999)/100,RANDBETWEEN(1,999)/10,RANDBETWEEN(1,99))))","v":59},"litres","=",{"$f":"1000*C2278","v":59000},"ml"]
[{"$f":"IF(COUNTIF($B$1:B2279,TRUE)=COUNTIF($B$1:B2278,TRUE),\"\",COUNTIF($B$1:B2279,TRUE))","v":""},{"$f":"IF(Worksheet!$D$10=3,FALSE,Worksheet!$D$17)","v":false},{"$f":"IF(Worksheet!$D$6=1,RANDBETWEEN(1,99),IF(Worksheet!$D$6=2,CHOOSE(RANDBETWEEN(1,2),RANDBETWEEN(1,99),RANDBETWEEN(1,999)/10),CHOOSE(RANDBETWEEN(1,4),RANDBETWEEN(1,99999)/1000,RANDBETWEEN(1,9999)/100,RANDBETWEEN(1,999)/10,RANDBETWEEN(1,99))))","v":52},"litres","=",{"$f":"1000*C2279","v":52000},"cm³"]
[{"$f":"IF(COUNTIF($B$1:B2280,TRUE)=COUNTIF($B$1:B2279,TRUE),\"\",COUNTIF($B$1:B2280,TRUE))","v":""},{"$f":"IF(Worksheet!$D$10=3,FALSE,Worksheet!$D$18)","v":false},{"$f":"IF(Worksheet!$D$6=1,RANDBETWEEN(1,99),IF(Worksheet!$D$6=2,CHOOSE(RANDBETWEEN(1,2),RANDBETWEEN(1,99),RANDBETWEEN(1,999)/10),CHOOSE(RANDBETWEEN(1,4),RANDBETWEEN(1,99999)/1000,RANDBETWEEN(1,9999)/100,RANDBETWEEN(1,999)/10,RANDBETWEEN(1,99))))","v":14},"m²","=",{"$f":"10000*C2280","v":140000},"cm²"]
[{"$f":"IF(COUNTIF($B$1:B2281,TRUE)=COUNTIF($B$1:B2280,TRUE),\"\",COUNTIF($B$1:B2281,TRUE))","v":1369},{"$f":"IF(Worksheet!$D$10=2,FALSE,Worksheet!$B$14)","v":true},{"$f":"10*F2281","v":700},"mm","=",{"$f":"IF(Worksheet!$D$6=1,RANDBETWEEN(1,99),IF(Worksheet!$D$6=2,CHOOSE(RANDBETWEEN(1,2),RANDBETWEEN(1,99),RANDBETWEEN(1,999)/10),CHOOSE(RANDBETWEEN(1,4),RANDBETWEEN(1,99999)/1000,RANDBETWEEN(1,9999)/100,RANDBETWEEN(1,999)/10,RANDBETWEEN(1,99))))","v":70},"cm"]
[{"$f":"IF(COUNTIF($B$1:B2282,TRUE)=COUNTIF($B$1:B2281,TRUE),\"\",COUNTIF($B$1:B2282,TRUE))","v":1370},{"$f":"IF(Worksheet!$D$10=2,FALSE,Worksheet!$B$15)","v":true},{"$f":"100*F2282","v":5300},"cm","=",{"$f":"IF(Worksheet!$D$6=1,RANDBETWEEN(1,99),IF(Worksheet!$D$6=2,CHOOSE(RANDBETWEEN(1,2),RANDBETWEEN(1,99),RANDBETWEEN(1,999)/10),CHOOSE(RANDBETWEEN(1,4),RANDBETWEEN(1,99999)/1000,RANDBETWEEN(1,9999)/100,RANDBETWEEN(1,999)/10,RANDBETWEEN(1,99))))","v":53},"m"]
[{"$f":"IF(COUNTIF($B$1:B2283,TRUE)=COUNTIF($B$1:B2282,TRUE),\"\",COUNTIF($B$1:B2283,TRUE))","v":1371},{"$f":"IF(Worksheet!$D$10=2,FALSE,Worksheet!$B$16)","v":true},{"$f":"1000*F2283","v":31000},"m","=",{"$f":"IF(Worksheet!$D$6=1,RANDBETWEEN(1,99),IF(Worksheet!$D$6=2,CHOOSE(RANDBETWEEN(1,2),RANDBETWEEN(1,99),RANDBETWEEN(1,999)/10),CHOOSE(RANDBETWEEN(1,4),RANDBETWEEN(1,99999)/1000,RANDBETWEEN(1,9999)/100,RANDBETWEEN(1,999)/10,RANDBETWEEN(1,99))))","v":31},"km"]
[{"$f":"IF(COUNTIF($B$1:B2284,TRUE)=COUNTIF($B$1:B2283,TRUE),\"\",COUNTIF($B$1:B2284,TRUE))","v":""},{"$f":"IF(Worksheet!$D$10=2,FALSE,Worksheet!$B$17)","v":false},{"$f":"1000*F2284","v":99000},"mm","=",{"$f":"IF(Worksheet!$D$6=1,RANDBETWEEN(1,99),IF(Worksheet!$D$6=2,CHOOSE(RANDBETWEEN(1,2),RANDBETWEEN(1,99),RANDBETWEEN(1,999)/10),CHOOSE(RANDBETWEEN(1,4),RANDBETWEEN(1,99999)/1000,RANDBETWEEN(1,9999)/100,RANDBETWEEN(1,999)/10,RANDBETWEEN(1,99))))","v":99},"m"]
[{"$f":"IF(COUNTIF($B$1:B2285,TRUE)=COUNTIF($B$1:B2284,TRUE),\"\",COUNTIF($B$1:B2285,TRUE))","v":""},{"$f":"IF(Worksheet!$D$10=2,FALSE,Worksheet!$B$18)","v":false},{"$f":"100*F2285","v":4700},"mm²","=",{"$f":"IF(Worksheet!$D$6=1,RANDBETWEEN(1,99),IF(Worksheet!$D$6=2,CHOOSE(RANDBETWEEN(1,2),RANDBETWEEN(1,99),RANDBETWEEN(1,999)/10),CHOOSE(RANDBETWEEN(1,4),RANDBETWEEN(1,99999)/1000,RANDBETWEEN(1,9999)/100,RANDBETWEEN(1,999)/10,RANDBETWEEN(1,99))))","v":47},"cm²"]
[{"$f":"IF(COUNTIF($B$1:B2286,TRUE)=COUNTIF($B$1:B2285,TRUE),\"\",COUNTIF($B$1:B2286,TRUE))","v":1372},{"$f":"IF(Worksheet!$D$10=2,FALSE,Worksheet!$D$14)","v":true},{"$f":"F2286*1000","v":2000},"g","=",{"$f":"IF(Worksheet!$D$6=1,RANDBETWEEN(1,99),IF(Worksheet!$D$6=2,CHOOSE(RANDBETWEEN(1,2),RANDBETWEEN(1,99),RANDBETWEEN(1,999)/10),CHOOSE(RANDBETWEEN(1,4),RANDBETWEEN(1,99999)/1000,RANDBETWEEN(1,9999)/100,RANDBETWEEN(1,999)/10,RANDBETWEEN(1,99))))","v":2},"kg"]
[{"$f":"IF(COUNTIF($B$1:B2287,TRUE)=COUNTIF($B$1:B2286,TRUE),\"\",COUNTIF($B$1:B2287,TRUE))","v":1373},{"$f":"IF(Worksheet!$D$10=2,FALSE,Worksheet!$D$15)","v":true},{"$f":"F2287*1000","v":29000},"kg","=",{"$f":"IF(Worksheet!$D$6=1,RANDBETWEEN(1,99),IF(Worksheet!$D$6=2,CHOOSE(RANDBETWEEN(1,2),RANDBETWEEN(1,99),RANDBETWEEN(1,999)/10),CHOOSE(RANDBETWEEN(1,4),RANDBETWEEN(1,99999)/1000,RANDBETWEEN(1,9999)/100,RANDBETWEEN(1,999)/10,RANDBETWEEN(1,99))))","v":29},"tonnes"]
[{"$f":"IF(COUNTIF($B$1:B2288,TRUE)=COUNTIF($B$1:B2287,TRUE),\"\",COUNTIF($B$1:B2288,TRUE))","v":1374},{"$f":"IF(Worksheet!$D$10=2,FALSE,Worksheet!$D$16)","v":true},{"$f":"1000*F2288","v":90000},"ml","=",{"$f":"IF(Worksheet!$D$6=1,RANDBETWEEN(1,99),IF(Worksheet!$D$6=2,CHOOSE(RANDBETWEEN(1,2),RANDBETWEEN(1,99),RANDBETWEEN(1,999)/10),CHOOSE(RANDBETWEEN(1,4),RANDBETWEEN(1,99999)/1000,RANDBETWEEN(1,9999)/100,RANDBETWEEN(1,999)/10,RANDBETWEEN(1,99))))","v":90},"litres"]
[{"$f":"IF(COUNTIF($B$1:B2289,TRUE)=COUNTIF($B$1:B2288,TRUE),\"\",COUNTIF($B$1:B2289,TRUE))","v":""},{"$f":"IF(Worksheet!$D$10=2,FALSE,Worksheet!$D$17)","v":false},{"$f":"1000*F2289","v":77000},"cm³","=",{"$f":"IF(Worksheet!$D$6=1,RANDBETWEEN(1,99),IF(Worksheet!$D$6=2,CHOOSE(RANDBETWEEN(1,2),RANDBETWEEN(1,99),RANDBETWEEN(1,999)/10),CHOOSE(RANDBETWEEN(1,4),RANDBETWEEN(1,99999)/1000,RANDBETWEEN(1,9999)/100,RANDBETWEEN(1,999)/10,RANDBETWEEN(1,99))))","v":77},"litres"]
[{"$f":"IF(COUNTIF($B$1:B2290,TRUE)=COUNTIF($B$1:B2289,TRUE),\"\",COUNTIF($B$1:B2290,TRUE))","v":""},{"$f":"IF(Worksheet!$D$10=2,FALSE,Worksheet!$D$18)","v":false},{"$f":"10000*F2290","v":30000},"cm²","=",{"$f":"IF(Worksheet!$D$6=1,RANDBETWEEN(1,99),IF(Worksheet!$D$6=2,CHOOSE(RANDBETWEEN(1,2),RANDBETWEEN(1,99),RANDBETWEEN(1,999)/10),CHOOSE(RANDBETWEEN(1,4),RANDBETWEEN(1,99999)/1000,RANDBETWEEN(1,9999)/100,RANDBETWEEN(1,999)/10,RANDBETWEEN(1,99))))","v":3},"m²"]
[{"$f":"IF(COUNTIF($B$1:B2291,TRUE)=COUNTIF($B$1:B2290,TRUE),\"\",COUNTIF($B$1:B2291,TRUE))","v":1375},{"$f":"IF(Worksheet!$D$10=3,FALSE,Worksheet!$B$14)","v":true},{"$f":"IF(Worksheet!$D$6=1,RANDBETWEEN(1,99),IF(Worksheet!$D$6=2,CHOOSE(RANDBETWEEN(1,2),RANDBETWEEN(1,99),RANDBETWEEN(1,999)/10),CHOOSE(RANDBETWEEN(1,4),RANDBETWEEN(1,99999)/1000,RANDBETWEEN(1,9999)/100,RANDBETWEEN(1,999)/10,RANDBETWEEN(1,99))))","v":98},"cm","=",{"$f":"10*C2291","v":980},"mm"]
[{"$f":"IF(COUNTIF($B$1:B2292,TRUE)=COUNTIF($B$1:B2291,TRUE),\"\",COUNTIF($B$1:B2292,TRUE))","v":1376},{"$f":"IF(Worksheet!$D$10=3,FALSE,Worksheet!$B$15)","v":true},{"$f":"IF(Worksheet!$D$6=1,RANDBETWEEN(1,99),IF(Worksheet!$D$6=2,CHOOSE(RANDBETWEEN(1,2),RANDBETWEEN(1,99),RANDBETWEEN(1,999)/10),CHOOSE(RANDBETWEEN(1,4),RANDBETWEEN(1,99999)/1000,RANDBETWEEN(1,9999)/100,RANDBETWEEN(1,999)/10,RANDBETWEEN(1,99))))","v":27},"m","=",{"$f":"100*C2292","v":2700},"cm"]
[{"$f":"IF(COUNTIF($B$1:B2293,TRUE)=COUNTIF($B$1:B2292,TRUE),\"\",COUNTIF($B$1:B2293,TRUE))","v":1377},{"$f":"IF(Worksheet!$D$10=3,FALSE,Worksheet!$B$16)","v":true},{"$f":"IF(Worksheet!$D$6=1,RANDBETWEEN(1,99),IF(Worksheet!$D$6=2,CHOOSE(RANDBETWEEN(1,2),RANDBETWEEN(1,99),RANDBETWEEN(1,999)/10),CHOOSE(RANDBETWEEN(1,4),RANDBETWEEN(1,99999)/1000,RANDBETWEEN(1,9999)/100,RANDBETWEEN(1,999)/10,RANDBETWEEN(1,99))))","v":36},"km","=",{"$f":"1000*C2293","v":36000},"m"]
[{"$f":"IF(COUNTIF($B$1:B2294,TRUE)=COUNTIF($B$1:B2293,TRUE),\"\",COUNTIF($B$1:B2294,TRUE))","v":""},{"$f":"IF(Worksheet!$D$10=3,FALSE,Worksheet!$B$17)","v":false},{"$f":"IF(Worksheet!$D$6=1,RANDBETWEEN(1,99),IF(Worksheet!$D$6=2,CHOOSE(RANDBETWEEN(1,2),RANDBETWEEN(1,99),RANDBETWEEN(1,999)/10),CHOOSE(RANDBETWEEN(1,4),RANDBETWEEN(1,99999)/1000,RANDBETWEEN(1,9999)/100,RANDBETWEEN(1,999)/10,RANDBETWEEN(1,99))))","v":36},"m",{"$f":"#REF!","v":{"$error":"#REF!"}},{"$f":"1000*C2294","v":36000},"mm"]
[{"$f":"IF(COUNTIF($B$1:B2295,TRUE)=COUNTIF($B$1:B2294,TRUE),\"\",COUNTIF($B$1:B2295,TRUE))","v":""},{"$f":"IF(Worksheet!$D$10=3,FALSE,Worksheet!$B$18)","v":false},{"$f":"IF(Worksheet!$D$6=1,RANDBETWEEN(1,99),IF(Worksheet!$D$6=2,CHOOSE(RANDBETWEEN(1,2),RANDBETWEEN(1,99),RANDBETWEEN(1,999)/10),CHOOSE(RANDBETWEEN(1,4),RANDBETWEEN(1,99999)/1000,RANDBETWEEN(1,9999)/100,RANDBETWEEN(1,999)/10,RANDBETWEEN(1,99))))","v":23},"cm²","=",{"$f":"C2295*100","v":2300},"mm²"]
[{"$f":"IF(COUNTIF($B$1:B2296,TRUE)=COUNTIF($B$1:B2295,TRUE),\"\",COUNTIF($B$1:B2296,TRUE))","v":1378},{"$f":"IF(Worksheet!$D$10=3,FALSE,Worksheet!$D$14)","v":true},{"$f":"IF(Worksheet!$D$6=1,RANDBETWEEN(1,99),IF(Worksheet!$D$6=2,CHOOSE(RANDBETWEEN(1,2),RANDBETWEEN(1,99),RANDBETWEEN(1,999)/10),CHOOSE(RANDBETWEEN(1,4),RANDBETWEEN(1,99999)/1000,RANDBETWEEN(1,9999)/100,RANDBETWEEN(1,999)/10,RANDBETWEEN(1,99))))","v":95},"kg","=",{"$f":"1000*C2296","v":95000},"g"]
[{"$f":"IF(COUNTIF($B$1:B2297,TRUE)=COUNTIF($B$1:B2296,TRUE),\"\",COUNTIF($B$1:B2297,TRUE))","v":1379},{"$f":"IF(Worksheet!$D$10=3,FALSE,Worksheet!$D$15)","v":true},{"$f":"IF(Worksheet!$D$6=1,RANDBETWEEN(1,99),IF(Worksheet!$D$6=2,CHOOSE(RANDBETWEEN(1,2),RANDBETWEEN(1,99),RANDBETWEEN(1,999)/10),CHOOSE(RANDBETWEEN(1,4),RANDBETWEEN(1,99999)/1000,RANDBETWEEN(1,9999)/100,RANDBETWEEN(1,999)/10,RANDBETWEEN(1,99))))","v":11},"tonnes","=",{"$f":"1000*C2297","v":11000},"kg"]
[{"$f":"IF(COUNTIF($B$1:B2298,TRUE)=COUNTIF($B$1:B2297,TRUE),\"\",COUNTIF($B$1:B2298,TRUE))","v":1380},{"$f":"IF(Worksheet!$D$10=3,FALSE,Worksheet!$D$16)","v":true},{"$f":"IF(Worksheet!$D$6=1,RANDBETWEEN(1,99),IF(Worksheet!$D$6=2,CHOOSE(RANDBETWEEN(1,2),RANDBETWEEN(1,99),RANDBETWEEN(1,999)/10),CHOOSE(RANDBETWEEN(1,4),RANDBETWEEN(1,99999)/1000,RANDBETWEEN(1,9999)/100,RANDBETWEEN(1,999)/10,RANDBETWEEN(1,99))))","v":4},"litres","=",{"$f":"1000*C2298","v":4000},"ml"]
[{"$f":"IF(COUNTIF($B$1:B2299,TRUE)=COUNTIF($B$1:B2298,TRUE),\"\",COUNTIF($B$1:B2299,TRUE))","v":""},{"$f":"IF(Worksheet!$D$10=3,FALSE,Worksheet!$D$17)","v":false},{"$f":"IF(Worksheet!$D$6=1,RANDBETWEEN(1,99),IF(Worksheet!$D$6=2,CHOOSE(RANDBETWEEN(1,2),RANDBETWEEN(1,99),RANDBETWEEN(1,999)/10),CHOOSE(RANDBETWEEN(1,4),RANDBETWEEN(1,99999)/1000,RANDBETWEEN(1,9999)/100,RANDBETWEEN(1,999)/10,RANDBETWEEN(1,99))))","v":23},"litres","=",{"$f":"1000*C2299","v":23000},"cm³"]
[{"$f":"IF(COUNTIF($B$1:B2300,TRUE)=COUNTIF($B$1:B2299,TRUE),\"\",COUNTIF($B$1:B2300,TRUE))","v":""},{"$f":"IF(Worksheet!$D$10=3,FALSE,Worksheet!$D$18)","v":false},{"$f":"IF(Worksheet!$D$6=1,RANDBETWEEN(1,99),IF(Worksheet!$D$6=2,CHOOSE(RANDBETWEEN(1,2),RANDBETWEEN(1,99),RANDBETWEEN(1,999)/10),CHOOSE(RANDBETWEEN(1,4),RANDBETWEEN(1,99999)/1000,RANDBETWEEN(1,9999)/100,RANDBETWEEN(1,999)/10,RANDBETWEEN(1,99))))","v":86},"m²","=",{"$f":"10000*C2300","v":860000},"cm²"]
[{"$f":"IF(COUNTIF($B$1:B2301,TRUE)=COUNTIF($B$1:B2300,TRUE),\"\",COUNTIF($B$1:B2301,TRUE))","v":1381},{"$f":"IF(Worksheet!$D$10=2,FALSE,Worksheet!$B$14)","v":true},{"$f":"10*F2301","v":720},"mm","=",{"$f":"IF(Worksheet!$D$6=1,RANDBETWEEN(1,99),IF(Worksheet!$D$6=2,CHOOSE(RANDBETWEEN(1,2),RANDBETWEEN(1,99),RANDBETWEEN(1,999)/10),CHOOSE(RANDBETWEEN(1,4),RANDBETWEEN(1,99999)/1000,RANDBETWEEN(1,9999)/100,RANDBETWEEN(1,999)/10,RANDBETWEEN(1,99))))","v":72},"cm"]
[{"$f":"IF(COUNTIF($B$1:B2302,TRUE)=COUNTIF($B$1:B2301,TRUE),\"\",COUNTIF($B$1:B2302,TRUE))","v":1382},{"$f":"IF(Worksheet!$D$10=2,FALSE,Worksheet!$B$15)","v":true},{"$f":"100*F2302","v":4300},"cm","=",{"$f":"IF(Worksheet!$D$6=1,RANDBETWEEN(1,99),IF(Worksheet!$D$6=2,CHOOSE(RANDBETWEEN(1,2),RANDBETWEEN(1,99),RANDBETWEEN(1,999)/10),CHOOSE(RANDBETWEEN(1,4),RANDBETWEEN(1,99999)/1000,RANDBETWEEN(1,9999)/100,RANDBETWEEN(1,999)/10,RANDBETWEEN(1,99))))","v":43},"m"]
[{"$f":"IF(COUNTIF($B$1:B2303,TRUE)=COUNTIF($B$1:B2302,TRUE),\"\",COUNTIF($B$1:B2303,TRUE))","v":1383},{"$f":"IF(Worksheet!$D$10=2,FALSE,Worksheet!$B$16)","v":true},{"$f":"1000*F2303","v":65000},"m","=",{"$f":"IF(Worksheet!$D$6=1,RANDBETWEEN(1,99),IF(Worksheet!$D$6=2,CHOOSE(RANDBETWEEN(1,2),RANDBETWEEN(1,99),RANDBETWEEN(1,999)/10),CHOOSE(RANDBETWEEN(1,4),RANDBETWEEN(1,99999)/1000,RANDBETWEEN(1,9999)/100,RANDBETWEEN(1,999)/10,RANDBETWEEN(1,99))))","v":65},"km"]
[{"$f":"IF(COUNTIF($B$1:B2304,TRUE)=COUNTIF($B$1:B2303,TRUE),\"\",COUNTIF($B$1:B2304,TRUE))","v":""},{"$f":"IF(Worksheet!$D$10=2,FALSE,Worksheet!$B$17)","v":false},{"$f":"1000*F2304","v":25000},"mm","=",{"$f":"IF(Worksheet!$D$6=1,RANDBETWEEN(1,99),IF(Worksheet!$D$6=2,CHOOSE(RANDBETWEEN(1,2),RANDBETWEEN(1,99),RANDBETWEEN(1,999)/10),CHOOSE(RANDBETWEEN(1,4),RANDBETWEEN(1,99999)/1000,RANDBETWEEN(1,9999)/100,RANDBETWEEN(1,999)/10,RANDBETWEEN(1,99))))","v":25},"m"]
[{"$f":"IF(COUNTIF($B$1:B2305,TRUE)=COUNTIF($B$1:B2304,TRUE),\"\",COUNTIF($B$1:B2305,TRUE))","v":""},{"$f":"IF(Worksheet!$D$10=2,FALSE,Worksheet!$B$18)","v":false},{"$f":"100*F2305","v":3000},"mm²","=",{"$f":"IF(Worksheet!$D$6=1,RANDBETWEEN(1,99),IF(Worksheet!$D$6=2,CHOOSE(RANDBETWEEN(1,2),RANDBETWEEN(1,99),RANDBETWEEN(1,999)/10),CHOOSE(RANDBETWEEN(1,4),RANDBETWEEN(1,99999)/1000,RANDBETWEEN(1,9999)/100,RANDBETWEEN(1,999)/10,RANDBETWEEN(1,99))))","v":30},"cm²"]
[{"$f":"IF(COUNTIF($B$1:B2306,TRUE)=COUNTIF($B$1:B2305,TRUE),\"\",COUNTIF($B$1:B2306,TRUE))","v":1384},{"$f":"IF(Worksheet!$D$10=2,FALSE,Worksheet!$D$14)","v":true},{"$f":"F2306*1000","v":54000},"g","=",{"$f":"IF(Worksheet!$D$6=1,RANDBETWEEN(1,99),IF(Worksheet!$D$6=2,CHOOSE(RANDBETWEEN(1,2),RANDBETWEEN(1,99),RANDBETWEEN(1,999)/10),CHOOSE(RANDBETWEEN(1,4),RANDBETWEEN(1,99999)/1000,RANDBETWEEN(1,9999)/100,RANDBETWEEN(1,999)/10,RANDBETWEEN(1,99))))","v":54},"kg"]
[{"$f":"IF(COUNTIF($B$1:B2307,TRUE)=COUNTIF($B$1:B2306,TRUE),\"\",COUNTIF($B$1:B2307,TRUE))","v":1385},{"$f":"IF(Worksheet!$D$10=2,FALSE,Worksheet!$D$15)","v":true},{"$f":"F2307*1000","v":25000},"kg","=",{"$f":"IF(Worksheet!$D$6=1,RANDBETWEEN(1,99),IF(Worksheet!$D$6=2,CHOOSE(RANDBETWEEN(1,2),RANDBETWEEN(1,99),RANDBETWEEN(1,999)/10),CHOOSE(RANDBETWEEN(1,4),RANDBETWEEN(1,99999)/1000,RANDBETWEEN(1,9999)/100,RANDBETWEEN(1,999)/10,RANDBETWEEN(1,99))))","v":25},"tonnes"]
[{"$f":"IF(COUNTIF($B$1:B2308,TRUE)=COUNTIF($B$1:B2307,TRUE),\"\",COUNTIF($B$1:B2308,TRUE))","v":1386},{"$f":"IF(Worksheet!$D$10=2,FALSE,Worksheet!$D$16)","v":true},{"$f":"1000*F2308","v":29000},"ml","=",{"$f":"IF(Worksheet!$D$6=1,RANDBETWEEN(1,99),IF(Worksheet!$D$6=2,CHOOSE(RANDBETWEEN(1,2),RANDBETWEEN(1,99),RANDBETWEEN(1,999)/10),CHOOSE(RANDBETWEEN(1,4),RANDBETWEEN(1,99999)/1000,RANDBETWEEN(1,9999)/100,RANDBETWEEN(1,999)/10,RANDBETWEEN(1,99))))","v":29},"litres"]
[{"$f":"IF(COUNTIF($B$1:B2309,TRUE)=COUNTIF($B$1:B2308,TRUE),\"\",COUNTIF($B$1:B2309,TRUE))","v":""},{"$f":"IF(Worksheet!$D$10=2,FALSE,Worksheet!$D$17)","v":false},{"$f":"1000*F2309","v":9000},"cm³","=",{"$f":"IF(Worksheet!$D$6=1,RANDBETWEEN(1,99),IF(Worksheet!$D$6=2,CHOOSE(RANDBETWEEN(1,2),RANDBETWEEN(1,99),RANDBETWEEN(1,999)/10),CHOOSE(RANDBETWEEN(1,4),RANDBETWEEN(1,99999)/1000,RANDBETWEEN(1,9999)/100,RANDBETWEEN(1,999)/10,RANDBETWEEN(1,99))))","v":9},"litres"]
[{"$f":"IF(COUNTIF($B$1:B2310,TRUE)=COUNTIF($B$1:B2309,TRUE),\"\",COUNTIF($B$1:B2310,TRUE))","v":""},{"$f":"IF(Worksheet!$D$10=2,FALSE,Worksheet!$D$18)","v":false},{"$f":"10000*F2310","v":980000},"cm²","=",{"$f":"IF(Worksheet!$D$6=1,RANDBETWEEN(1,99),IF(Worksheet!$D$6=2,CHOOSE(RANDBETWEEN(1,2),RANDBETWEEN(1,99),RANDBETWEEN(1,999)/10),CHOOSE(RANDBETWEEN(1,4),RANDBETWEEN(1,99999)/1000,RANDBETWEEN(1,9999)/100,RANDBETWEEN(1,999)/10,RANDBETWEEN(1,99))))","v":98},"m²"]
[{"$f":"IF(COUNTIF($B$1:B2311,TRUE)=COUNTIF($B$1:B2310,TRUE),\"\",COUNTIF($B$1:B2311,TRUE))","v":1387},{"$f":"IF(Worksheet!$D$10=3,FALSE,Worksheet!$B$14)","v":true},{"$f":"IF(Worksheet!$D$6=1,RANDBETWEEN(1,99),IF(Worksheet!$D$6=2,CHOOSE(RANDBETWEEN(1,2),RANDBETWEEN(1,99),RANDBETWEEN(1,999)/10),CHOOSE(RANDBETWEEN(1,4),RANDBETWEEN(1,99999)/1000,RANDBETWEEN(1,9999)/100,RANDBETWEEN(1,999)/10,RANDBETWEEN(1,99))))","v":51},"cm","=",{"$f":"10*C2311","v":510},"mm"]
[{"$f":"IF(COUNTIF($B$1:B2312,TRUE)=COUNTIF($B$1:B2311,TRUE),\"\",COUNTIF($B$1:B2312,TRUE))","v":1388},{"$f":"IF(Worksheet!$D$10=3,FALSE,Worksheet!$B$15)","v":true},{"$f":"IF(Worksheet!$D$6=1,RANDBETWEEN(1,99),IF(Worksheet!$D$6=2,CHOOSE(RANDBETWEEN(1,2),RANDBETWEEN(1,99),RANDBETWEEN(1,999)/10),CHOOSE(RANDBETWEEN(1,4),RANDBETWEEN(1,99999)/1000,RANDBETWEEN(1,9999)/100,RANDBETWEEN(1,999)/10,RANDBETWEEN(1,99))))","v":26},"m","=",{"$f":"100*C2312","v":2600},"cm"]
[{"$f":"IF(COUNTIF($B$1:B2313,TRUE)=COUNTIF($B$1:B2312,TRUE),\"\",COUNTIF($B$1:B2313,TRUE))","v":1389},{"$f":"IF(Worksheet!$D$10=3,FALSE,Worksheet!$B$16)","v":true},{"$f":"IF(Worksheet!$D$6=1,RANDBETWEEN(1,99),IF(Worksheet!$D$6=2,CHOOSE(RANDBETWEEN(1,2),RANDBETWEEN(1,99),RANDBETWEEN(1,999)/10),CHOOSE(RANDBETWEEN(1,4),RANDBETWEEN(1,99999)/1000,RANDBETWEEN(1,9999)/100,RANDBETWEEN(1,999)/10,RANDBETWEEN(1,99))))","v":66},"km","=",{"$f":"1000*C2313","v":66000},"m"]
[{"$f":"IF(COUNTIF($B$1:B2314,TRUE)=COUNTIF($B$1:B2313,TRUE),\"\",COUNTIF($B$1:B2314,TRUE))","v":""},{"$f":"IF(Worksheet!$D$10=3,FALSE,Worksheet!$B$17)","v":false},{"$f":"IF(Worksheet!$D$6=1,RANDBETWEEN(1,99),IF(Worksheet!$D$6=2,CHOOSE(RANDBETWEEN(1,2),RANDBETWEEN(1,99),RANDBETWEEN(1,999)/10),CHOOSE(RANDBETWEEN(1,4),RANDBETWEEN(1,99999)/1000,RANDBETWEEN(1,9999)/100,RANDBETWEEN(1,999)/10,RANDBETWEEN(1,99))))","v":3},"m",{"$f":"#REF!","v":{"$error":"#REF!"}},{"$f":"1000*C2314","v":3000},"mm"]
[{"$f":"IF(COUNTIF($B$1:B2315,TRUE)=COUNTIF($B$1:B2314,TRUE),\"\",COUNTIF($B$1:B2315,TRUE))","v":""},{"$f":"IF(Worksheet!$D$10=3,FALSE,Worksheet!$B$18)","v":false},{"$f":"IF(Worksheet!$D$6=1,RANDBETWEEN(1,99),IF(Worksheet!$D$6=2,CHOOSE(RANDBETWEEN(1,2),RANDBETWEEN(1,99),RANDBETWEEN(1,999)/10),CHOOSE(RANDBETWEEN(1,4),RANDBETWEEN(1,99999)/1000,RANDBETWEEN(1,9999)/100,RANDBETWEEN(1,999)/10,RANDBETWEEN(1,99))))","v":34},"cm²","=",{"$f":"C2315*100","v":3400},"mm²"]
[{"$f":"IF(COUNTIF($B$1:B2316,TRUE)=COUNTIF($B$1:B2315,TRUE),\"\",COUNTIF($B$1:B2316,TRUE))","v":1390},{"$f":"IF(Worksheet!$D$10=3,FALSE,Worksheet!$D$14)","v":true},{"$f":"IF(Worksheet!$D$6=1,RANDBETWEEN(1,99),IF(Worksheet!$D$6=2,CHOOSE(RANDBETWEEN(1,2),RANDBETWEEN(1,99),RANDBETWEEN(1,999)/10),CHOOSE(RANDBETWEEN(1,4),RANDBETWEEN(1,99999)/1000,RANDBETWEEN(1,9999)/100,RANDBETWEEN(1,999)/10,RANDBETWEEN(1,99))))","v":90},"kg","=",{"$f":"1000*C2316","v":90000},"g"]
[{"$f":"IF(COUNTIF($B$1:B2317,TRUE)=COUNTIF($B$1:B2316,TRUE),\"\",COUNTIF($B$1:B2317,TRUE))","v":1391},{"$f":"IF(Worksheet!$D$10=3,FALSE,Worksheet!$D$15)","v":true},{"$f":"IF(Worksheet!$D$6=1,RANDBETWEEN(1,99),IF(Worksheet!$D$6=2,CHOOSE(RANDBETWEEN(1,2),RANDBETWEEN(1,99),RANDBETWEEN(1,999)/10),CHOOSE(RANDBETWEEN(1,4),RANDBETWEEN(1,99999)/1000,RANDBETWEEN(1,9999)/100,RANDBETWEEN(1,999)/10,RANDBETWEEN(1,99))))","v":7},"tonnes","=",{"$f":"1000*C2317","v":7000},"kg"]
[{"$f":"IF(COUNTIF($B$1:B2318,TRUE)=COUNTIF($B$1:B2317,TRUE),\"\",COUNTIF($B$1:B2318,TRUE))","v":1392},{"$f":"IF(Worksheet!$D$10=3,FALSE,Worksheet!$D$16)","v":true},{"$f":"IF(Worksheet!$D$6=1,RANDBETWEEN(1,99),IF(Worksheet!$D$6=2,CHOOSE(RANDBETWEEN(1,2),RANDBETWEEN(1,99),RANDBETWEEN(1,999)/10),CHOOSE(RANDBETWEEN(1,4),RANDBETWEEN(1,99999)/1000,RANDBETWEEN(1,9999)/100,RANDBETWEEN(1,999)/10,RANDBETWEEN(1,99))))","v":83},"litres","=",{"$f":"1000*C2318","v":83000},"ml"]
[{"$f":"IF(COUNTIF($B$1:B2319,TRUE)=COUNTIF($B$1:B2318,TRUE),\"\",COUNTIF($B$1:B2319,TRUE))","v":""},{"$f":"IF(Worksheet!$D$10=3,FALSE,Worksheet!$D$17)","v":false},{"$f":"IF(Worksheet!$D$6=1,RANDBETWEEN(1,99),IF(Worksheet!$D$6=2,CHOOSE(RANDBETWEEN(1,2),RANDBETWEEN(1,99),RANDBETWEEN(1,999)/10),CHOOSE(RANDBETWEEN(1,4),RANDBETWEEN(1,99999)/1000,RANDBETWEEN(1,9999)/100,RANDBETWEEN(1,999)/10,RANDBETWEEN(1,99))))","v":85},"litres","=",{"$f":"1000*C2319","v":85000},"cm³"]
[{"$f":"IF(COUNTIF($B$1:B2320,TRUE)=COUNTIF($B$1:B2319,TRUE),\"\",COUNTIF($B$1:B2320,TRUE))","v":""},{"$f":"IF(Worksheet!$D$10=3,FALSE,Worksheet!$D$18)","v":false},{"$f":"IF(Worksheet!$D$6=1,RANDBETWEEN(1,99),IF(Worksheet!$D$6=2,CHOOSE(RANDBETWEEN(1,2),RANDBETWEEN(1,99),RANDBETWEEN(1,999)/10),CHOOSE(RANDBETWEEN(1,4),RANDBETWEEN(1,99999)/1000,RANDBETWEEN(1,9999)/100,RANDBETWEEN(1,999)/10,RANDBETWEEN(1,99))))","v":30},"m²","=",{"$f":"10000*C2320","v":300000},"cm²"]
[{"$f":"IF(COUNTIF($B$1:B2321,TRUE)=COUNTIF($B$1:B2320,TRUE),\"\",COUNTIF($B$1:B2321,TRUE))","v":1393},{"$f":"IF(Worksheet!$D$10=2,FALSE,Worksheet!$B$14)","v":true},{"$f":"10*F2321","v":70},"mm","=",{"$f":"IF(Worksheet!$D$6=1,RANDBETWEEN(1,99),IF(Worksheet!$D$6=2,CHOOSE(RANDBETWEEN(1,2),RANDBETWEEN(1,99),RANDBETWEEN(1,999)/10),CHOOSE(RANDBETWEEN(1,4),RANDBETWEEN(1,99999)/1000,RANDBETWEEN(1,9999)/100,RANDBETWEEN(1,999)/10,RANDBETWEEN(1,99))))","v":7},"cm"]
[{"$f":"IF(COUNTIF($B$1:B2322,TRUE)=COUNTIF($B$1:B2321,TRUE),\"\",COUNTIF($B$1:B2322,TRUE))","v":1394},{"$f":"IF(Worksheet!$D$10=2,FALSE,Worksheet!$B$15)","v":true},{"$f":"100*F2322","v":2000},"cm","=",{"$f":"IF(Worksheet!$D$6=1,RANDBETWEEN(1,99),IF(Worksheet!$D$6=2,CHOOSE(RANDBETWEEN(1,2),RANDBETWEEN(1,99),RANDBETWEEN(1,999)/10),CHOOSE(RANDBETWEEN(1,4),RANDBETWEEN(1,99999)/1000,RANDBETWEEN(1,9999)/100,RANDBETWEEN(1,999)/10,RANDBETWEEN(1,99))))","v":20},"m"]
[{"$f":"IF(COUNTIF($B$1:B2323,TRUE)=COUNTIF($B$1:B2322,TRUE),\"\",COUNTIF($B$1:B2323,TRUE))","v":1395},{"$f":"IF(Worksheet!$D$10=2,FALSE,Worksheet!$B$16)","v":true},{"$f":"1000*F2323","v":69000},"m","=",{"$f":"IF(Worksheet!$D$6=1,RANDBETWEEN(1,99),IF(Worksheet!$D$6=2,CHOOSE(RANDBETWEEN(1,2),RANDBETWEEN(1,99),RANDBETWEEN(1,999)/10),CHOOSE(RANDBETWEEN(1,4),RANDBETWEEN(1,99999)/1000,RANDBETWEEN(1,9999)/100,RANDBETWEEN(1,999)/10,RANDBETWEEN(1,99))))","v":69},"km"]
[{"$f":"IF(COUNTIF($B$1:B2324,TRUE)=COUNTIF($B$1:B2323,TRUE),\"\",COUNTIF($B$1:B2324,TRUE))","v":""},{"$f":"IF(Worksheet!$D$10=2,FALSE,Worksheet!$B$17)","v":false},{"$f":"1000*F2324","v":50000},"mm","=",{"$f":"IF(Worksheet!$D$6=1,RANDBETWEEN(1,99),IF(Worksheet!$D$6=2,CHOOSE(RANDBETWEEN(1,2),RANDBETWEEN(1,99),RANDBETWEEN(1,999)/10),CHOOSE(RANDBETWEEN(1,4),RANDBETWEEN(1,99999)/1000,RANDBETWEEN(1,9999)/100,RANDBETWEEN(1,999)/10,RANDBETWEEN(1,99))))","v":50},"m"]
[{"$f":"IF(COUNTIF($B$1:B2325,TRUE)=COUNTIF($B$1:B2324,TRUE),\"\",COUNTIF($B$1:B2325,TRUE))","v":""},{"$f":"IF(Worksheet!$D$10=2,FALSE,Worksheet!$B$18)","v":false},{"$f":"100*F2325","v":9500},"mm²","=",{"$f":"IF(Worksheet!$D$6=1,RANDBETWEEN(1,99),IF(Worksheet!$D$6=2,CHOOSE(RANDBETWEEN(1,2),RANDBETWEEN(1,99),RANDBETWEEN(1,999)/10),CHOOSE(RANDBETWEEN(1,4),RANDBETWEEN(1,99999)/1000,RANDBETWEEN(1,9999)/100,RANDBETWEEN(1,999)/10,RANDBETWEEN(1,99))))","v":95},"cm²"]
[{"$f":"IF(COUNTIF($B$1:B2326,TRUE)=COUNTIF($B$1:B2325,TRUE),\"\",COUNTIF($B$1:B2326,TRUE))","v":1396},{"$f":"IF(Worksheet!$D$10=2,FALSE,Worksheet!$D$14)","v":true},{"$f":"F2326*1000","v":97000},"g","=",{"$f":"IF(Worksheet!$D$6=1,RANDBETWEEN(1,99),IF(Worksheet!$D$6=2,CHOOSE(RANDBETWEEN(1,2),RANDBETWEEN(1,99),RANDBETWEEN(1,999)/10),CHOOSE(RANDBETWEEN(1,4),RANDBETWEEN(1,99999)/1000,RANDBETWEEN(1,9999)/100,RANDBETWEEN(1,999)/10,RANDBETWEEN(1,99))))","v":97},"kg"]
[{"$f":"IF(COUNTIF($B$1:B2327,TRUE)=COUNTIF($B$1:B2326,TRUE),\"\",COUNTIF($B$1:B2327,TRUE))","v":1397},{"$f":"IF(Worksheet!$D$10=2,FALSE,Worksheet!$D$15)","v":true},{"$f":"F2327*1000","v":31000},"kg","=",{"$f":"IF(Worksheet!$D$6=1,RANDBETWEEN(1,99),IF(Worksheet!$D$6=2,CHOOSE(RANDBETWEEN(1,2),RANDBETWEEN(1,99),RANDBETWEEN(1,999)/10),CHOOSE(RANDBETWEEN(1,4),RANDBETWEEN(1,99999)/1000,RANDBETWEEN(1,9999)/100,RANDBETWEEN(1,999)/10,RANDBETWEEN(1,99))))","v":31},"tonnes"]
[{"$f":"IF(COUNTIF($B$1:B2328,TRUE)=COUNTIF($B$1:B2327,TRUE),\"\",COUNTIF($B$1:B2328,TRUE))","v":1398},{"$f":"IF(Worksheet!$D$10=2,FALSE,Worksheet!$D$16)","v":true},{"$f":"1000*F2328","v":11000},"ml","=",{"$f":"IF(Worksheet!$D$6=1,RANDBETWEEN(1,99),IF(Worksheet!$D$6=2,CHOOSE(RANDBETWEEN(1,2),RANDBETWEEN(1,99),RANDBETWEEN(1,999)/10),CHOOSE(RANDBETWEEN(1,4),RANDBETWEEN(1,99999)/1000,RANDBETWEEN(1,9999)/100,RANDBETWEEN(1,999)/10,RANDBETWEEN(1,99))))","v":11},"litres"]
[{"$f":"IF(COUNTIF($B$1:B2329,TRUE)=COUNTIF($B$1:B2328,TRUE),\"\",COUNTIF($B$1:B2329,TRUE))","v":""},{"$f":"IF(Worksheet!$D$10=2,FALSE,Worksheet!$D$17)","v":false},{"$f":"1000*F2329","v":35000},"cm³","=",{"$f":"IF(Worksheet!$D$6=1,RANDBETWEEN(1,99),IF(Worksheet!$D$6=2,CHOOSE(RANDBETWEEN(1,2),RANDBETWEEN(1,99),RANDBETWEEN(1,999)/10),CHOOSE(RANDBETWEEN(1,4),RANDBETWEEN(1,99999)/1000,RANDBETWEEN(1,9999)/100,RANDBETWEEN(1,999)/10,RANDBETWEEN(1,99))))","v":35},"litres"]
[{"$f":"IF(COUNTIF($B$1:B2330,TRUE)=COUNTIF($B$1:B2329,TRUE),\"\",COUNTIF($B$1:B2330,TRUE))","v":""},{"$f":"IF(Worksheet!$D$10=2,FALSE,Worksheet!$D$18)","v":false},{"$f":"10000*F2330","v":710000},"cm²","=",{"$f":"IF(Worksheet!$D$6=1,RANDBETWEEN(1,99),IF(Worksheet!$D$6=2,CHOOSE(RANDBETWEEN(1,2),RANDBETWEEN(1,99),RANDBETWEEN(1,999)/10),CHOOSE(RANDBETWEEN(1,4),RANDBETWEEN(1,99999)/1000,RANDBETWEEN(1,9999)/100,RANDBETWEEN(1,999)/10,RANDBETWEEN(1,99))))","v":71},"m²"]
[{"$f":"IF(COUNTIF($B$1:B2331,TRUE)=COUNTIF($B$1:B2330,TRUE),\"\",COUNTIF($B$1:B2331,TRUE))","v":1399},{"$f":"IF(Worksheet!$D$10=3,FALSE,Worksheet!$B$14)","v":true},{"$f":"IF(Worksheet!$D$6=1,RANDBETWEEN(1,99),IF(Worksheet!$D$6=2,CHOOSE(RANDBETWEEN(1,2),RANDBETWEEN(1,99),RANDBETWEEN(1,999)/10),CHOOSE(RANDBETWEEN(1,4),RANDBETWEEN(1,99999)/1000,RANDBETWEEN(1,9999)/100,RANDBETWEEN(1,999)/10,RANDBETWEEN(1,99))))","v":91},"cm","=",{"$f":"10*C2331","v":910},"mm"]
[{"$f":"IF(COUNTIF($B$1:B2332,TRUE)=COUNTIF($B$1:B2331,TRUE),\"\",COUNTIF($B$1:B2332,TRUE))","v":1400},{"$f":"IF(Worksheet!$D$10=3,FALSE,Worksheet!$B$15)","v":true},{"$f":"IF(Worksheet!$D$6=1,RANDBETWEEN(1,99),IF(Worksheet!$D$6=2,CHOOSE(RANDBETWEEN(1,2),RANDBETWEEN(1,99),RANDBETWEEN(1,999)/10),CHOOSE(RANDBETWEEN(1,4),RANDBETWEEN(1,99999)/1000,RANDBETWEEN(1,9999)/100,RANDBETWEEN(1,999)/10,RANDBETWEEN(1,99))))","v":95},"m","=",{"$f":"100*C2332","v":9500},"cm"]
[{"$f":"IF(COUNTIF($B$1:B2333,TRUE)=COUNTIF($B$1:B2332,TRUE),\"\",COUNTIF($B$1:B2333,TRUE))","v":1401},{"$f":"IF(Worksheet!$D$10=3,FALSE,Worksheet!$B$16)","v":true},{"$f":"IF(Worksheet!$D$6=1,RANDBETWEEN(1,99),IF(Worksheet!$D$6=2,CHOOSE(RANDBETWEEN(1,2),RANDBETWEEN(1,99),RANDBETWEEN(1,999)/10),CHOOSE(RANDBETWEEN(1,4),RANDBETWEEN(1,99999)/1000,RANDBETWEEN(1,9999)/100,RANDBETWEEN(1,999)/10,RANDBETWEEN(1,99))))","v":79},"km","=",{"$f":"1000*C2333","v":79000},"m"]
[{"$f":"IF(COUNTIF($B$1:B2334,TRUE)=COUNTIF($B$1:B2333,TRUE),\"\",COUNTIF($B$1:B2334,TRUE))","v":""},{"$f":"IF(Worksheet!$D$10=3,FALSE,Worksheet!$B$17)","v":false},{"$f":"IF(Worksheet!$D$6=1,RANDBETWEEN(1,99),IF(Worksheet!$D$6=2,CHOOSE(RANDBETWEEN(1,2),RANDBETWEEN(1,99),RANDBETWEEN(1,999)/10),CHOOSE(RANDBETWEEN(1,4),RANDBETWEEN(1,99999)/1000,RANDBETWEEN(1,9999)/100,RANDBETWEEN(1,999)/10,RANDBETWEEN(1,99))))","v":21},"m",{"$f":"#REF!","v":{"$error":"#REF!"}},{"$f":"1000*C2334","v":21000},"mm"]
[{"$f":"IF(COUNTIF($B$1:B2335,TRUE)=COUNTIF($B$1:B2334,TRUE),\"\",COUNTIF($B$1:B2335,TRUE))","v":""},{"$f":"IF(Worksheet!$D$10=3,FALSE,Worksheet!$B$18)","v":false},{"$f":"IF(Worksheet!$D$6=1,RANDBETWEEN(1,99),IF(Worksheet!$D$6=2,CHOOSE(RANDBETWEEN(1,2),RANDBETWEEN(1,99),RANDBETWEEN(1,999)/10),CHOOSE(RANDBETWEEN(1,4),RANDBETWEEN(1,99999)/1000,RANDBETWEEN(1,9999)/100,RANDBETWEEN(1,999)/10,RANDBETWEEN(1,99))))","v":71},"cm²","=",{"$f":"C2335*100","v":7100},"mm²"]
[{"$f":"IF(COUNTIF($B$1:B2336,TRUE)=COUNTIF($B$1:B2335,TRUE),\"\",COUNTIF($B$1:B2336,TRUE))","v":1402},{"$f":"IF(Worksheet!$D$10=3,FALSE,Worksheet!$D$14)","v":true},{"$f":"IF(Worksheet!$D$6=1,RANDBETWEEN(1,99),IF(Worksheet!$D$6=2,CHOOSE(RANDBETWEEN(1,2),RANDBETWEEN(1,99),RANDBETWEEN(1,999)/10),CHOOSE(RANDBETWEEN(1,4),RANDBETWEEN(1,99999)/1000,RANDBETWEEN(1,9999)/100,RANDBETWEEN(1,999)/10,RANDBETWEEN(1,99))))","v":54},"kg","=",{"$f":"1000*C2336","v":54000},"g"]
[{"$f":"IF(COUNTIF($B$1:B2337,TRUE)=COUNTIF($B$1:B2336,TRUE),\"\",COUNTIF($B$1:B2337,TRUE))","v":1403},{"$f":"IF(Worksheet!$D$10=3,FALSE,Worksheet!$D$15)","v":true},{"$f":"IF(Worksheet!$D$6=1,RANDBETWEEN(1,99),IF(Worksheet!$D$6=2,CHOOSE(RANDBETWEEN(1,2),RANDBETWEEN(1,99),RANDBETWEEN(1,999)/10),CHOOSE(RANDBETWEEN(1,4),RANDBETWEEN(1,99999)/1000,RANDBETWEEN(1,9999)/100,RANDBETWEEN(1,999)/10,RANDBETWEEN(1,99))))","v":1},"tonnes","=",{"$f":"1000*C2337","v":1000},"kg"]
[{"$f":"IF(COUNTIF($B$1:B2338,TRUE)=COUNTIF($B$1:B2337,TRUE),\"\",COUNTIF($B$1:B2338,TRUE))","v":1404},{"$f":"IF(Worksheet!$D$10=3,FALSE,Worksheet!$D$16)","v":true},{"$f":"IF(Worksheet!$D$6=1,RANDBETWEEN(1,99),IF(Worksheet!$D$6=2,CHOOSE(RANDBETWEEN(1,2),RANDBETWEEN(1,99),RANDBETWEEN(1,999)/10),CHOOSE(RANDBETWEEN(1,4),RANDBETWEEN(1,99999)/1000,RANDBETWEEN(1,9999)/100,RANDBETWEEN(1,999)/10,RANDBETWEEN(1,99))))","v":55},"litres","=",{"$f":"1000*C2338","v":55000},"ml"]
[{"$f":"IF(COUNTIF($B$1:B2339,TRUE)=COUNTIF($B$1:B2338,TRUE),\"\",COUNTIF($B$1:B2339,TRUE))","v":""},{"$f":"IF(Worksheet!$D$10=3,FALSE,Worksheet!$D$17)","v":false},{"$f":"IF(Worksheet!$D$6=1,RANDBETWEEN(1,99),IF(Worksheet!$D$6=2,CHOOSE(RANDBETWEEN(1,2),RANDBETWEEN(1,99),RANDBETWEEN(1,999)/10),CHOOSE(RANDBETWEEN(1,4),RANDBETWEEN(1,99999)/1000,RANDBETWEEN(1,9999)/100,RANDBETWEEN(1,999)/10,RANDBETWEEN(1,99))))","v":47},"litres","=",{"$f":"1000*C2339","v":47000},"cm³"]
[{"$f":"IF(COUNTIF($B$1:B2340,TRUE)=COUNTIF($B$1:B2339,TRUE),\"\",COUNTIF($B$1:B2340,TRUE))","v":""},{"$f":"IF(Worksheet!$D$10=3,FALSE,Worksheet!$D$18)","v":false},{"$f":"IF(Worksheet!$D$6=1,RANDBETWEEN(1,99),IF(Worksheet!$D$6=2,CHOOSE(RANDBETWEEN(1,2),RANDBETWEEN(1,99),RANDBETWEEN(1,999)/10),CHOOSE(RANDBETWEEN(1,4),RANDBETWEEN(1,99999)/1000,RANDBETWEEN(1,9999)/100,RANDBETWEEN(1,999)/10,RANDBETWEEN(1,99))))","v":75},"m²","=",{"$f":"10000*C2340","v":750000},"cm²"]
[{"$f":"IF(COUNTIF($B$1:B2341,TRUE)=COUNTIF($B$1:B2340,TRUE),\"\",COUNTIF($B$1:B2341,TRUE))","v":1405},{"$f":"IF(Worksheet!$D$10=2,FALSE,Worksheet!$B$14)","v":true},{"$f":"10*F2341","v":270},"mm","=",{"$f":"IF(Worksheet!$D$6=1,RANDBETWEEN(1,99),IF(Worksheet!$D$6=2,CHOOSE(RANDBETWEEN(1,2),RANDBETWEEN(1,99),RANDBETWEEN(1,999)/10),CHOOSE(RANDBETWEEN(1,4),RANDBETWEEN(1,99999)/1000,RANDBETWEEN(1,9999)/100,RANDBETWEEN(1,999)/10,RANDBETWEEN(1,99))))","v":27},"cm"]
[{"$f":"IF(COUNTIF($B$1:B2342,TRUE)=COUNTIF($B$1:B2341,TRUE),\"\",COUNTIF($B$1:B2342,TRUE))","v":1406},{"$f":"IF(Worksheet!$D$10=2,FALSE,Worksheet!$B$15)","v":true},{"$f":"100*F2342","v":1300},"cm","=",{"$f":"IF(Worksheet!$D$6=1,RANDBETWEEN(1,99),IF(Worksheet!$D$6=2,CHOOSE(RANDBETWEEN(1,2),RANDBETWEEN(1,99),RANDBETWEEN(1,999)/10),CHOOSE(RANDBETWEEN(1,4),RANDBETWEEN(1,99999)/1000,RANDBETWEEN(1,9999)/100,RANDBETWEEN(1,999)/10,RANDBETWEEN(1,99))))","v":13},"m"]
[{"$f":"IF(COUNTIF($B$1:B2343,TRUE)=COUNTIF($B$1:B2342,TRUE),\"\",COUNTIF($B$1:B2343,TRUE))","v":1407},{"$f":"IF(Worksheet!$D$10=2,FALSE,Worksheet!$B$16)","v":true},{"$f":"1000*F2343","v":54000},"m","=",{"$f":"IF(Worksheet!$D$6=1,RANDBETWEEN(1,99),IF(Worksheet!$D$6=2,CHOOSE(RANDBETWEEN(1,2),RANDBETWEEN(1,99),RANDBETWEEN(1,999)/10),CHOOSE(RANDBETWEEN(1,4),RANDBETWEEN(1,99999)/1000,RANDBETWEEN(1,9999)/100,RANDBETWEEN(1,999)/10,RANDBETWEEN(1,99))))","v":54},"km"]
[{"$f":"IF(COUNTIF($B$1:B2344,TRUE)=COUNTIF($B$1:B2343,TRUE),\"\",COUNTIF($B$1:B2344,TRUE))","v":""},{"$f":"IF(Worksheet!$D$10=2,FALSE,Worksheet!$B$17)","v":false},{"$f":"1000*F2344","v":5000},"mm","=",{"$f":"IF(Worksheet!$D$6=1,RANDBETWEEN(1,99),IF(Worksheet!$D$6=2,CHOOSE(RANDBETWEEN(1,2),RANDBETWEEN(1,99),RANDBETWEEN(1,999)/10),CHOOSE(RANDBETWEEN(1,4),RANDBETWEEN(1,99999)/1000,RANDBETWEEN(1,9999)/100,RANDBETWEEN(1,999)/10,RANDBETWEEN(1,99))))","v":5},"m"]
[{"$f":"IF(COUNTIF($B$1:B2345,TRUE)=COUNTIF($B$1:B2344,TRUE),\"\",COUNTIF($B$1:B2345,TRUE))","v":""},{"$f":"IF(Worksheet!$D$10=2,FALSE,Worksheet!$B$18)","v":false},{"$f":"100*F2345","v":9600},"mm²","=",{"$f":"IF(Worksheet!$D$6=1,RANDBETWEEN(1,99),IF(Worksheet!$D$6=2,CHOOSE(RANDBETWEEN(1,2),RANDBETWEEN(1,99),RANDBETWEEN(1,999)/10),CHOOSE(RANDBETWEEN(1,4),RANDBETWEEN(1,99999)/1000,RANDBETWEEN(1,9999)/100,RANDBETWEEN(1,999)/10,RANDBETWEEN(1,99))))","v":96},"cm²"]
[{"$f":"IF(COUNTIF($B$1:B2346,TRUE)=COUNTIF($B$1:B2345,TRUE),\"\",COUNTIF($B$1:B2346,TRUE))","v":1408},{"$f":"IF(Worksheet!$D$10=2,FALSE,Worksheet!$D$14)","v":true},{"$f":"F2346*1000","v":79000},"g","=",{"$f":"IF(Worksheet!$D$6=1,RANDBETWEEN(1,99),IF(Worksheet!$D$6=2,CHOOSE(RANDBETWEEN(1,2),RANDBETWEEN(1,99),RANDBETWEEN(1,999)/10),CHOOSE(RANDBETWEEN(1,4),RANDBETWEEN(1,99999)/1000,RANDBETWEEN(1,9999)/100,RANDBETWEEN(1,999)/10,RANDBETWEEN(1,99))))","v":79},"kg"]
[{"$f":"IF(COUNTIF($B$1:B2347,TRUE)=COUNTIF($B$1:B2346,TRUE),\"\",COUNTIF($B$1:B2347,TRUE))","v":1409},{"$f":"IF(Worksheet!$D$10=2,FALSE,Worksheet!$D$15)","v":true},{"$f":"F2347*1000","v":49000},"kg","=",{"$f":"IF(Worksheet!$D$6=1,RANDBETWEEN(1,99),IF(Worksheet!$D$6=2,CHOOSE(RANDBETWEEN(1,2),RANDBETWEEN(1,99),RANDBETWEEN(1,999)/10),CHOOSE(RANDBETWEEN(1,4),RANDBETWEEN(1,99999)/1000,RANDBETWEEN(1,9999)/100,RANDBETWEEN(1,999)/10,RANDBETWEEN(1,99))))","v":49},"tonnes"]
[{"$f":"IF(COUNTIF($B$1:B2348,TRUE)=COUNTIF($B$1:B2347,TRUE),\"\",COUNTIF($B$1:B2348,TRUE))","v":1410},{"$f":"IF(Worksheet!$D$10=2,FALSE,Worksheet!$D$16)","v":true},{"$f":"1000*F2348","v":72000},"ml","=",{"$f":"IF(Worksheet!$D$6=1,RANDBETWEEN(1,99),IF(Worksheet!$D$6=2,CHOOSE(RANDBETWEEN(1,2),RANDBETWEEN(1,99),RANDBETWEEN(1,999)/10),CHOOSE(RANDBETWEEN(1,4),RANDBETWEEN(1,99999)/1000,RANDBETWEEN(1,9999)/100,RANDBETWEEN(1,999)/10,RANDBETWEEN(1,99))))","v":72},"litres"]
[{"$f":"IF(COUNTIF($B$1:B2349,TRUE)=COUNTIF($B$1:B2348,TRUE),\"\",COUNTIF($B$1:B2349,TRUE))","v":""},{"$f":"IF(Worksheet!$D$10=2,FALSE,Worksheet!$D$17)","v":false},{"$f":"1000*F2349","v":2000},"cm³","=",{"$f":"IF(Worksheet!$D$6=1,RANDBETWEEN(1,99),IF(Worksheet!$D$6=2,CHOOSE(RANDBETWEEN(1,2),RANDBETWEEN(1,99),RANDBETWEEN(1,999)/10),CHOOSE(RANDBETWEEN(1,4),RANDBETWEEN(1,99999)/1000,RANDBETWEEN(1,9999)/100,RANDBETWEEN(1,999)/10,RANDBETWEEN(1,99))))","v":2},"litres"]
[{"$f":"IF(COUNTIF($B$1:B2350,TRUE)=COUNTIF($B$1:B2349,TRUE),\"\",COUNTIF($B$1:B2350,TRUE))","v":""},{"$f":"IF(Worksheet!$D$10=2,FALSE,Worksheet!$D$18)","v":false},{"$f":"10000*F2350","v":320000},"cm²","=",{"$f":"IF(Worksheet!$D$6=1,RANDBETWEEN(1,99),IF(Worksheet!$D$6=2,CHOOSE(RANDBETWEEN(1,2),RANDBETWEEN(1,99),RANDBETWEEN(1,999)/10),CHOOSE(RANDBETWEEN(1,4),RANDBETWEEN(1,99999)/1000,RANDBETWEEN(1,9999)/100,RANDBETWEEN(1,999)/10,RANDBETWEEN(1,99))))","v":32},"m²"]
[{"$f":"IF(COUNTIF($B$1:B2351,TRUE)=COUNTIF($B$1:B2350,TRUE),\"\",COUNTIF($B$1:B2351,TRUE))","v":1411},{"$f":"IF(Worksheet!$D$10=3,FALSE,Worksheet!$B$14)","v":true},{"$f":"IF(Worksheet!$D$6=1,RANDBETWEEN(1,99),IF(Worksheet!$D$6=2,CHOOSE(RANDBETWEEN(1,2),RANDBETWEEN(1,99),RANDBETWEEN(1,999)/10),CHOOSE(RANDBETWEEN(1,4),RANDBETWEEN(1,99999)/1000,RANDBETWEEN(1,9999)/100,RANDBETWEEN(1,999)/10,RANDBETWEEN(1,99))))","v":10},"cm","=",{"$f":"10*C2351","v":100},"mm"]
[{"$f":"IF(COUNTIF($B$1:B2352,TRUE)=COUNTIF($B$1:B2351,TRUE),\"\",COUNTIF($B$1:B2352,TRUE))","v":1412},{"$f":"IF(Worksheet!$D$10=3,FALSE,Worksheet!$B$15)","v":true},{"$f":"IF(Worksheet!$D$6=1,RANDBETWEEN(1,99),IF(Worksheet!$D$6=2,CHOOSE(RANDBETWEEN(1,2),RANDBETWEEN(1,99),RANDBETWEEN(1,999)/10),CHOOSE(RANDBETWEEN(1,4),RANDBETWEEN(1,99999)/1000,RANDBETWEEN(1,9999)/100,RANDBETWEEN(1,999)/10,RANDBETWEEN(1,99))))","v":43},"m","=",{"$f":"100*C2352","v":4300},"cm"]
[{"$f":"IF(COUNTIF($B$1:B2353,TRUE)=COUNTIF($B$1:B2352,TRUE),\"\",COUNTIF($B$1:B2353,TRUE))","v":1413},{"$f":"IF(Worksheet!$D$10=3,FALSE,Worksheet!$B$16)","v":true},{"$f":"IF(Worksheet!$D$6=1,RANDBETWEEN(1,99),IF(Worksheet!$D$6=2,CHOOSE(RANDBETWEEN(1,2),RANDBETWEEN(1,99),RANDBETWEEN(1,999)/10),CHOOSE(RANDBETWEEN(1,4),RANDBETWEEN(1,99999)/1000,RANDBETWEEN(1,9999)/100,RANDBETWEEN(1,999)/10,RANDBETWEEN(1,99))))","v":46},"km","=",{"$f":"1000*C2353","v":46000},"m"]
[{"$f":"IF(COUNTIF($B$1:B2354,TRUE)=COUNTIF($B$1:B2353,TRUE),\"\",COUNTIF($B$1:B2354,TRUE))","v":""},{"$f":"IF(Worksheet!$D$10=3,FALSE,Worksheet!$B$17)","v":false},{"$f":"IF(Worksheet!$D$6=1,RANDBETWEEN(1,99),IF(Worksheet!$D$6=2,CHOOSE(RANDBETWEEN(1,2),RANDBETWEEN(1,99),RANDBETWEEN(1,999)/10),CHOOSE(RANDBETWEEN(1,4),RANDBETWEEN(1,99999)/1000,RANDBETWEEN(1,9999)/100,RANDBETWEEN(1,999)/10,RANDBETWEEN(1,99))))","v":25},"m",{"$f":"#REF!","v":{"$error":"#REF!"}},{"$f":"1000*C2354","v":25000},"mm"]
[{"$f":"IF(COUNTIF($B$1:B2355,TRUE)=COUNTIF($B$1:B2354,TRUE),\"\",COUNTIF($B$1:B2355,TRUE))","v":""},{"$f":"IF(Worksheet!$D$10=3,FALSE,Worksheet!$B$18)","v":false},{"$f":"IF(Worksheet!$D$6=1,RANDBETWEEN(1,99),IF(Worksheet!$D$6=2,CHOOSE(RANDBETWEEN(1,2),RANDBETWEEN(1,99),RANDBETWEEN(1,999)/10),CHOOSE(RANDBETWEEN(1,4),RANDBETWEEN(1,99999)/1000,RANDBETWEEN(1,9999)/100,RANDBETWEEN(1,999)/10,RANDBETWEEN(1,99))))","v":66},"cm²","=",{"$f":"C2355*100","v":6600},"mm²"]
[{"$f":"IF(COUNTIF($B$1:B2356,TRUE)=COUNTIF($B$1:B2355,TRUE),\"\",COUNTIF($B$1:B2356,TRUE))","v":1414},{"$f":"IF(Worksheet!$D$10=3,FALSE,Worksheet!$D$14)","v":true},{"$f":"IF(Worksheet!$D$6=1,RANDBETWEEN(1,99),IF(Worksheet!$D$6=2,CHOOSE(RANDBETWEEN(1,2),RANDBETWEEN(1,99),RANDBETWEEN(1,999)/10),CHOOSE(RANDBETWEEN(1,4),RANDBETWEEN(1,99999)/1000,RANDBETWEEN(1,9999)/100,RANDBETWEEN(1,999)/10,RANDBETWEEN(1,99))))","v":96},"kg","=",{"$f":"1000*C2356","v":96000},"g"]
[{"$f":"IF(COUNTIF($B$1:B2357,TRUE)=COUNTIF($B$1:B2356,TRUE),\"\",COUNTIF($B$1:B2357,TRUE))","v":1415},{"$f":"IF(Worksheet!$D$10=3,FALSE,Worksheet!$D$15)","v":true},{"$f":"IF(Worksheet!$D$6=1,RANDBETWEEN(1,99),IF(Worksheet!$D$6=2,CHOOSE(RANDBETWEEN(1,2),RANDBETWEEN(1,99),RANDBETWEEN(1,999)/10),CHOOSE(RANDBETWEEN(1,4),RANDBETWEEN(1,99999)/1000,RANDBETWEEN(1,9999)/100,RANDBETWEEN(1,999)/10,RANDBETWEEN(1,99))))","v":82},"tonnes","=",{"$f":"1000*C2357","v":82000},"kg"]
[{"$f":"IF(COUNTIF($B$1:B2358,TRUE)=COUNTIF($B$1:B2357,TRUE),\"\",COUNTIF($B$1:B2358,TRUE))","v":1416},{"$f":"IF(Worksheet!$D$10=3,FALSE,Worksheet!$D$16)","v":true},{"$f":"IF(Worksheet!$D$6=1,RANDBETWEEN(1,99),IF(Worksheet!$D$6=2,CHOOSE(RANDBETWEEN(1,2),RANDBETWEEN(1,99),RANDBETWEEN(1,999)/10),CHOOSE(RANDBETWEEN(1,4),RANDBETWEEN(1,99999)/1000,RANDBETWEEN(1,9999)/100,RANDBETWEEN(1,999)/10,RANDBETWEEN(1,99))))","v":69},"litres","=",{"$f":"1000*C2358","v":69000},"ml"]
[{"$f":"IF(COUNTIF($B$1:B2359,TRUE)=COUNTIF($B$1:B2358,TRUE),\"\",COUNTIF($B$1:B2359,TRUE))","v":""},{"$f":"IF(Worksheet!$D$10=3,FALSE,Worksheet!$D$17)","v":false},{"$f":"IF(Worksheet!$D$6=1,RANDBETWEEN(1,99),IF(Worksheet!$D$6=2,CHOOSE(RANDBETWEEN(1,2),RANDBETWEEN(1,99),RANDBETWEEN(1,999)/10),CHOOSE(RANDBETWEEN(1,4),RANDBETWEEN(1,99999)/1000,RANDBETWEEN(1,9999)/100,RANDBETWEEN(1,999)/10,RANDBETWEEN(1,99))))","v":65},"litres","=",{"$f":"1000*C2359","v":65000},"cm³"]
[{"$f":"IF(COUNTIF($B$1:B2360,TRUE)=COUNTIF($B$1:B2359,TRUE),\"\",COUNTIF($B$1:B2360,TRUE))","v":""},{"$f":"IF(Worksheet!$D$10=3,FALSE,Worksheet!$D$18)","v":false},{"$f":"IF(Worksheet!$D$6=1,RANDBETWEEN(1,99),IF(Worksheet!$D$6=2,CHOOSE(RANDBETWEEN(1,2),RANDBETWEEN(1,99),RANDBETWEEN(1,999)/10),CHOOSE(RANDBETWEEN(1,4),RANDBETWEEN(1,99999)/1000,RANDBETWEEN(1,9999)/100,RANDBETWEEN(1,999)/10,RANDBETWEEN(1,99))))","v":70},"m²","=",{"$f":"10000*C2360","v":700000},"cm²"]
[{"$f":"IF(COUNTIF($B$1:B2361,TRUE)=COUNTIF($B$1:B2360,TRUE),\"\",COUNTIF($B$1:B2361,TRUE))","v":1417},{"$f":"IF(Worksheet!$D$10=2,FALSE,Worksheet!$B$14)","v":true},{"$f":"10*F2361","v":940},"mm","=",{"$f":"IF(Worksheet!$D$6=1,RANDBETWEEN(1,99),IF(Worksheet!$D$6=2,CHOOSE(RANDBETWEEN(1,2),RANDBETWEEN(1,99),RANDBETWEEN(1,999)/10),CHOOSE(RANDBETWEEN(1,4),RANDBETWEEN(1,99999)/1000,RANDBETWEEN(1,9999)/100,RANDBETWEEN(1,999)/10,RANDBETWEEN(1,99))))","v":94},"cm"]
[{"$f":"IF(COUNTIF($B$1:B2362,TRUE)=COUNTIF($B$1:B2361,TRUE),\"\",COUNTIF($B$1:B2362,TRUE))","v":1418},{"$f":"IF(Worksheet!$D$10=2,FALSE,Worksheet!$B$15)","v":true},{"$f":"100*F2362","v":700},"cm","=",{"$f":"IF(Worksheet!$D$6=1,RANDBETWEEN(1,99),IF(Worksheet!$D$6=2,CHOOSE(RANDBETWEEN(1,2),RANDBETWEEN(1,99),RANDBETWEEN(1,999)/10),CHOOSE(RANDBETWEEN(1,4),RANDBETWEEN(1,99999)/1000,RANDBETWEEN(1,9999)/100,RANDBETWEEN(1,999)/10,RANDBETWEEN(1,99))))","v":7},"m"]
[{"$f":"IF(COUNTIF($B$1:B2363,TRUE)=COUNTIF($B$1:B2362,TRUE),\"\",COUNTIF($B$1:B2363,TRUE))","v":1419},{"$f":"IF(Worksheet!$D$10=2,FALSE,Worksheet!$B$16)","v":true},{"$f":"1000*F2363","v":42000},"m","=",{"$f":"IF(Worksheet!$D$6=1,RANDBETWEEN(1,99),IF(Worksheet!$D$6=2,CHOOSE(RANDBETWEEN(1,2),RANDBETWEEN(1,99),RANDBETWEEN(1,999)/10),CHOOSE(RANDBETWEEN(1,4),RANDBETWEEN(1,99999)/1000,RANDBETWEEN(1,9999)/100,RANDBETWEEN(1,999)/10,RANDBETWEEN(1,99))))","v":42},"km"]
[{"$f":"IF(COUNTIF($B$1:B2364,TRUE)=COUNTIF($B$1:B2363,TRUE),\"\",COUNTIF($B$1:B2364,TRUE))","v":""},{"$f":"IF(Worksheet!$D$10=2,FALSE,Worksheet!$B$17)","v":false},{"$f":"1000*F2364","v":83000},"mm","=",{"$f":"IF(Worksheet!$D$6=1,RANDBETWEEN(1,99),IF(Worksheet!$D$6=2,CHOOSE(RANDBETWEEN(1,2),RANDBETWEEN(1,99),RANDBETWEEN(1,999)/10),CHOOSE(RANDBETWEEN(1,4),RANDBETWEEN(1,99999)/1000,RANDBETWEEN(1,9999)/100,RANDBETWEEN(1,999)/10,RANDBETWEEN(1,99))))","v":83},"m"]
[{"$f":"IF(COUNTIF($B$1:B2365,TRUE)=COUNTIF($B$1:B2364,TRUE),\"\",COUNTIF($B$1:B2365,TRUE))","v":""},{"$f":"IF(Worksheet!$D$10=2,FALSE,Worksheet!$B$18)","v":false},{"$f":"100*F2365","v":4500},"mm²","=",{"$f":"IF(Worksheet!$D$6=1,RANDBETWEEN(1,99),IF(Worksheet!$D$6=2,CHOOSE(RANDBETWEEN(1,2),RANDBETWEEN(1,99),RANDBETWEEN(1,999)/10),CHOOSE(RANDBETWEEN(1,4),RANDBETWEEN(1,99999)/1000,RANDBETWEEN(1,9999)/100,RANDBETWEEN(1,999)/10,RANDBETWEEN(1,99))))","v":45},"cm²"]
[{"$f":"IF(COUNTIF($B$1:B2366,TRUE)=COUNTIF($B$1:B2365,TRUE),\"\",COUNTIF($B$1:B2366,TRUE))","v":1420},{"$f":"IF(Worksheet!$D$10=2,FALSE,Worksheet!$D$14)","v":true},{"$f":"F2366*1000","v":55000},"g","=",{"$f":"IF(Worksheet!$D$6=1,RANDBETWEEN(1,99),IF(Worksheet!$D$6=2,CHOOSE(RANDBETWEEN(1,2),RANDBETWEEN(1,99),RANDBETWEEN(1,999)/10),CHOOSE(RANDBETWEEN(1,4),RANDBETWEEN(1,99999)/1000,RANDBETWEEN(1,9999)/100,RANDBETWEEN(1,999)/10,RANDBETWEEN(1,99))))","v":55},"kg"]
[{"$f":"IF(COUNTIF($B$1:B2367,TRUE)=COUNTIF($B$1:B2366,TRUE),\"\",COUNTIF($B$1:B2367,TRUE))","v":1421},{"$f":"IF(Worksheet!$D$10=2,FALSE,Worksheet!$D$15)","v":true},{"$f":"F2367*1000","v":95000},"kg","=",{"$f":"IF(Worksheet!$D$6=1,RANDBETWEEN(1,99),IF(Worksheet!$D$6=2,CHOOSE(RANDBETWEEN(1,2),RANDBETWEEN(1,99),RANDBETWEEN(1,999)/10),CHOOSE(RANDBETWEEN(1,4),RANDBETWEEN(1,99999)/1000,RANDBETWEEN(1,9999)/100,RANDBETWEEN(1,999)/10,RANDBETWEEN(1,99))))","v":95},"tonnes"]
[{"$f":"IF(COUNTIF($B$1:B2368,TRUE)=COUNTIF($B$1:B2367,TRUE),\"\",COUNTIF($B$1:B2368,TRUE))","v":1422},{"$f":"IF(Worksheet!$D$10=2,FALSE,Worksheet!$D$16)","v":true},{"$f":"1000*F2368","v":89000},"ml","=",{"$f":"IF(Worksheet!$D$6=1,RANDBETWEEN(1,99),IF(Worksheet!$D$6=2,CHOOSE(RANDBETWEEN(1,2),RANDBETWEEN(1,99),RANDBETWEEN(1,999)/10),CHOOSE(RANDBETWEEN(1,4),RANDBETWEEN(1,99999)/1000,RANDBETWEEN(1,9999)/100,RANDBETWEEN(1,999)/10,RANDBETWEEN(1,99))))","v":89},"litres"]
[{"$f":"IF(COUNTIF($B$1:B2369,TRUE)=COUNTIF($B$1:B2368,TRUE),\"\",COUNTIF($B$1:B2369,TRUE))","v":""},{"$f":"IF(Worksheet!$D$10=2,FALSE,Worksheet!$D$17)","v":false},{"$f":"1000*F2369","v":69000},"cm³","=",{"$f":"IF(Worksheet!$D$6=1,RANDBETWEEN(1,99),IF(Worksheet!$D$6=2,CHOOSE(RANDBETWEEN(1,2),RANDBETWEEN(1,99),RANDBETWEEN(1,999)/10),CHOOSE(RANDBETWEEN(1,4),RANDBETWEEN(1,99999)/1000,RANDBETWEEN(1,9999)/100,RANDBETWEEN(1,999)/10,RANDBETWEEN(1,99))))","v":69},"litres"]
[{"$f":"IF(COUNTIF($B$1:B2370,TRUE)=COUNTIF($B$1:B2369,TRUE),\"\",COUNTIF($B$1:B2370,TRUE))","v":""},{"$f":"IF(Worksheet!$D$10=2,FALSE,Worksheet!$D$18)","v":false},{"$f":"10000*F2370","v":440000},"cm²","=",{"$f":"IF(Worksheet!$D$6=1,RANDBETWEEN(1,99),IF(Worksheet!$D$6=2,CHOOSE(RANDBETWEEN(1,2),RANDBETWEEN(1,99),RANDBETWEEN(1,999)/10),CHOOSE(RANDBETWEEN(1,4),RANDBETWEEN(1,99999)/1000,RANDBETWEEN(1,9999)/100,RANDBETWEEN(1,999)/10,RANDBETWEEN(1,99))))","v":44},"m²"]
[{"$f":"IF(COUNTIF($B$1:B2371,TRUE)=COUNTIF($B$1:B2370,TRUE),\"\",COUNTIF($B$1:B2371,TRUE))","v":1423},{"$f":"IF(Worksheet!$D$10=3,FALSE,Worksheet!$B$14)","v":true},{"$f":"IF(Worksheet!$D$6=1,RANDBETWEEN(1,99),IF(Worksheet!$D$6=2,CHOOSE(RANDBETWEEN(1,2),RANDBETWEEN(1,99),RANDBETWEEN(1,999)/10),CHOOSE(RANDBETWEEN(1,4),RANDBETWEEN(1,99999)/1000,RANDBETWEEN(1,9999)/100,RANDBETWEEN(1,999)/10,RANDBETWEEN(1,99))))","v":98},"cm","=",{"$f":"10*C2371","v":980},"mm"]
[{"$f":"IF(COUNTIF($B$1:B2372,TRUE)=COUNTIF($B$1:B2371,TRUE),\"\",COUNTIF($B$1:B2372,TRUE))","v":1424},{"$f":"IF(Worksheet!$D$10=3,FALSE,Worksheet!$B$15)","v":true},{"$f":"IF(Worksheet!$D$6=1,RANDBETWEEN(1,99),IF(Worksheet!$D$6=2,CHOOSE(RANDBETWEEN(1,2),RANDBETWEEN(1,99),RANDBETWEEN(1,999)/10),CHOOSE(RANDBETWEEN(1,4),RANDBETWEEN(1,99999)/1000,RANDBETWEEN(1,9999)/100,RANDBETWEEN(1,999)/10,RANDBETWEEN(1,99))))","v":35},"m","=",{"$f":"100*C2372","v":3500},"cm"]
[{"$f":"IF(COUNTIF($B$1:B2373,TRUE)=COUNTIF($B$1:B2372,TRUE),\"\",COUNTIF($B$1:B2373,TRUE))","v":1425},{"$f":"IF(Worksheet!$D$10=3,FALSE,Worksheet!$B$16)","v":true},{"$f":"IF(Worksheet!$D$6=1,RANDBETWEEN(1,99),IF(Worksheet!$D$6=2,CHOOSE(RANDBETWEEN(1,2),RANDBETWEEN(1,99),RANDBETWEEN(1,999)/10),CHOOSE(RANDBETWEEN(1,4),RANDBETWEEN(1,99999)/1000,RANDBETWEEN(1,9999)/100,RANDBETWEEN(1,999)/10,RANDBETWEEN(1,99))))","v":51},"km","=",{"$f":"1000*C2373","v":51000},"m"]
[{"$f":"IF(COUNTIF($B$1:B2374,TRUE)=COUNTIF($B$1:B2373,TRUE),\"\",COUNTIF($B$1:B2374,TRUE))","v":""},{"$f":"IF(Worksheet!$D$10=3,FALSE,Worksheet!$B$17)","v":false},{"$f":"IF(Worksheet!$D$6=1,RANDBETWEEN(1,99),IF(Worksheet!$D$6=2,CHOOSE(RANDBETWEEN(1,2),RANDBETWEEN(1,99),RANDBETWEEN(1,999)/10),CHOOSE(RANDBETWEEN(1,4),RANDBETWEEN(1,99999)/1000,RANDBETWEEN(1,9999)/100,RANDBETWEEN(1,999)/10,RANDBETWEEN(1,99))))","v":9},"m",{"$f":"#REF!","v":{"$error":"#REF!"}},{"$f":"1000*C2374","v":9000},"mm"]
[{"$f":"IF(COUNTIF($B$1:B2375,TRUE)=COUNTIF($B$1:B2374,TRUE),\"\",COUNTIF($B$1:B2375,TRUE))","v":""},{"$f":"IF(Worksheet!$D$10=3,FALSE,Worksheet!$B$18)","v":false},{"$f":"IF(Worksheet!$D$6=1,RANDBETWEEN(1,99),IF(Worksheet!$D$6=2,CHOOSE(RANDBETWEEN(1,2),RANDBETWEEN(1,99),RANDBETWEEN(1,999)/10),CHOOSE(RANDBETWEEN(1,4),RANDBETWEEN(1,99999)/1000,RANDBETWEEN(1,9999)/100,RANDBETWEEN(1,999)/10,RANDBETWEEN(1,99))))","v":63},"cm²","=",{"$f":"C2375*100","v":6300},"mm²"]
[{"$f":"IF(COUNTIF($B$1:B2376,TRUE)=COUNTIF($B$1:B2375,TRUE),\"\",COUNTIF($B$1:B2376,TRUE))","v":1426},{"$f":"IF(Worksheet!$D$10=3,FALSE,Worksheet!$D$14)","v":true},{"$f":"IF(Worksheet!$D$6=1,RANDBETWEEN(1,99),IF(Worksheet!$D$6=2,CHOOSE(RANDBETWEEN(1,2),RANDBETWEEN(1,99),RANDBETWEEN(1,999)/10),CHOOSE(RANDBETWEEN(1,4),RANDBETWEEN(1,99999)/1000,RANDBETWEEN(1,9999)/100,RANDBETWEEN(1,999)/10,RANDBETWEEN(1,99))))","v":10},"kg","=",{"$f":"1000*C2376","v":10000},"g"]
[{"$f":"IF(COUNTIF($B$1:B2377,TRUE)=COUNTIF($B$1:B2376,TRUE),\"\",COUNTIF($B$1:B2377,TRUE))","v":1427},{"$f":"IF(Worksheet!$D$10=3,FALSE,Worksheet!$D$15)","v":true},{"$f":"IF(Worksheet!$D$6=1,RANDBETWEEN(1,99),IF(Worksheet!$D$6=2,CHOOSE(RANDBETWEEN(1,2),RANDBETWEEN(1,99),RANDBETWEEN(1,999)/10),CHOOSE(RANDBETWEEN(1,4),RANDBETWEEN(1,99999)/1000,RANDBETWEEN(1,9999)/100,RANDBETWEEN(1,999)/10,RANDBETWEEN(1,99))))","v":33},"tonnes","=",{"$f":"1000*C2377","v":33000},"kg"]
[{"$f":"IF(COUNTIF($B$1:B2378,TRUE)=COUNTIF($B$1:B2377,TRUE),\"\",COUNTIF($B$1:B2378,TRUE))","v":1428},{"$f":"IF(Worksheet!$D$10=3,FALSE,Worksheet!$D$16)","v":true},{"$f":"IF(Worksheet!$D$6=1,RANDBETWEEN(1,99),IF(Worksheet!$D$6=2,CHOOSE(RANDBETWEEN(1,2),RANDBETWEEN(1,99),RANDBETWEEN(1,999)/10),CHOOSE(RANDBETWEEN(1,4),RANDBETWEEN(1,99999)/1000,RANDBETWEEN(1,9999)/100,RANDBETWEEN(1,999)/10,RANDBETWEEN(1,99))))","v":96},"litres","=",{"$f":"1000*C2378","v":96000},"ml"]
[{"$f":"IF(COUNTIF($B$1:B2379,TRUE)=COUNTIF($B$1:B2378,TRUE),\"\",COUNTIF($B$1:B2379,TRUE))","v":""},{"$f":"IF(Worksheet!$D$10=3,FALSE,Worksheet!$D$17)","v":false},{"$f":"IF(Worksheet!$D$6=1,RANDBETWEEN(1,99),IF(Worksheet!$D$6=2,CHOOSE(RANDBETWEEN(1,2),RANDBETWEEN(1,99),RANDBETWEEN(1,999)/10),CHOOSE(RANDBETWEEN(1,4),RANDBETWEEN(1,99999)/1000,RANDBETWEEN(1,9999)/100,RANDBETWEEN(1,999)/10,RANDBETWEEN(1,99))))","v":4},"litres","=",{"$f":"1000*C2379","v":4000},"cm³"]
[{"$f":"IF(COUNTIF($B$1:B2380,TRUE)=COUNTIF($B$1:B2379,TRUE),\"\",COUNTIF($B$1:B2380,TRUE))","v":""},{"$f":"IF(Worksheet!$D$10=3,FALSE,Worksheet!$D$18)","v":false},{"$f":"IF(Worksheet!$D$6=1,RANDBETWEEN(1,99),IF(Worksheet!$D$6=2,CHOOSE(RANDBETWEEN(1,2),RANDBETWEEN(1,99),RANDBETWEEN(1,999)/10),CHOOSE(RANDBETWEEN(1,4),RANDBETWEEN(1,99999)/1000,RANDBETWEEN(1,9999)/100,RANDBETWEEN(1,999)/10,RANDBETWEEN(1,99))))","v":68},"m²","=",{"$f":"10000*C2380","v":680000},"cm²"]
[{"$f":"IF(COUNTIF($B$1:B2381,TRUE)=COUNTIF($B$1:B2380,TRUE),\"\",COUNTIF($B$1:B2381,TRUE))","v":1429},{"$f":"IF(Worksheet!$D$10=2,FALSE,Worksheet!$B$14)","v":true},{"$f":"10*F2381","v":890},"mm","=",{"$f":"IF(Worksheet!$D$6=1,RANDBETWEEN(1,99),IF(Worksheet!$D$6=2,CHOOSE(RANDBETWEEN(1,2),RANDBETWEEN(1,99),RANDBETWEEN(1,999)/10),CHOOSE(RANDBETWEEN(1,4),RANDBETWEEN(1,99999)/1000,RANDBETWEEN(1,9999)/100,RANDBETWEEN(1,999)/10,RANDBETWEEN(1,99))))","v":89},"cm"]
[{"$f":"IF(COUNTIF($B$1:B2382,TRUE)=COUNTIF($B$1:B2381,TRUE),\"\",COUNTIF($B$1:B2382,TRUE))","v":1430},{"$f":"IF(Worksheet!$D$10=2,FALSE,Worksheet!$B$15)","v":true},{"$f":"100*F2382","v":900},"cm","=",{"$f":"IF(Worksheet!$D$6=1,RANDBETWEEN(1,99),IF(Worksheet!$D$6=2,CHOOSE(RANDBETWEEN(1,2),RANDBETWEEN(1,99),RANDBETWEEN(1,999)/10),CHOOSE(RANDBETWEEN(1,4),RANDBETWEEN(1,99999)/1000,RANDBETWEEN(1,9999)/100,RANDBETWEEN(1,999)/10,RANDBETWEEN(1,99))))","v":9},"m"]
[{"$f":"IF(COUNTIF($B$1:B2383,TRUE)=COUNTIF($B$1:B2382,TRUE),\"\",COUNTIF($B$1:B2383,TRUE))","v":1431},{"$f":"IF(Worksheet!$D$10=2,FALSE,Worksheet!$B$16)","v":true},{"$f":"1000*F2383","v":44000},"m","=",{"$f":"IF(Worksheet!$D$6=1,RANDBETWEEN(1,99),IF(Worksheet!$D$6=2,CHOOSE(RANDBETWEEN(1,2),RANDBETWEEN(1,99),RANDBETWEEN(1,999)/10),CHOOSE(RANDBETWEEN(1,4),RANDBETWEEN(1,99999)/1000,RANDBETWEEN(1,9999)/100,RANDBETWEEN(1,999)/10,RANDBETWEEN(1,99))))","v":44},"km"]
[{"$f":"IF(COUNTIF($B$1:B2384,TRUE)=COUNTIF($B$1:B2383,TRUE),\"\",COUNTIF($B$1:B2384,TRUE))","v":""},{"$f":"IF(Worksheet!$D$10=2,FALSE,Worksheet!$B$17)","v":false},{"$f":"1000*F2384","v":92000},"mm","=",{"$f":"IF(Worksheet!$D$6=1,RANDBETWEEN(1,99),IF(Worksheet!$D$6=2,CHOOSE(RANDBETWEEN(1,2),RANDBETWEEN(1,99),RANDBETWEEN(1,999)/10),CHOOSE(RANDBETWEEN(1,4),RANDBETWEEN(1,99999)/1000,RANDBETWEEN(1,9999)/100,RANDBETWEEN(1,999)/10,RANDBETWEEN(1,99))))","v":92},"m"]
[{"$f":"IF(COUNTIF($B$1:B2385,TRUE)=COUNTIF($B$1:B2384,TRUE),\"\",COUNTIF($B$1:B2385,TRUE))","v":""},{"$f":"IF(Worksheet!$D$10=2,FALSE,Worksheet!$B$18)","v":false},{"$f":"100*F2385","v":2000},"mm²","=",{"$f":"IF(Worksheet!$D$6=1,RANDBETWEEN(1,99),IF(Worksheet!$D$6=2,CHOOSE(RANDBETWEEN(1,2),RANDBETWEEN(1,99),RANDBETWEEN(1,999)/10),CHOOSE(RANDBETWEEN(1,4),RANDBETWEEN(1,99999)/1000,RANDBETWEEN(1,9999)/100,RANDBETWEEN(1,999)/10,RANDBETWEEN(1,99))))","v":20},"cm²"]
[{"$f":"IF(COUNTIF($B$1:B2386,TRUE)=COUNTIF($B$1:B2385,TRUE),\"\",COUNTIF($B$1:B2386,TRUE))","v":1432},{"$f":"IF(Worksheet!$D$10=2,FALSE,Worksheet!$D$14)","v":true},{"$f":"F2386*1000","v":24000},"g","=",{"$f":"IF(Worksheet!$D$6=1,RANDBETWEEN(1,99),IF(Worksheet!$D$6=2,CHOOSE(RANDBETWEEN(1,2),RANDBETWEEN(1,99),RANDBETWEEN(1,999)/10),CHOOSE(RANDBETWEEN(1,4),RANDBETWEEN(1,99999)/1000,RANDBETWEEN(1,9999)/100,RANDBETWEEN(1,999)/10,RANDBETWEEN(1,99))))","v":24},"kg"]
[{"$f":"IF(COUNTIF($B$1:B2387,TRUE)=COUNTIF($B$1:B2386,TRUE),\"\",COUNTIF($B$1:B2387,TRUE))","v":1433},{"$f":"IF(Worksheet!$D$10=2,FALSE,Worksheet!$D$15)","v":true},{"$f":"F2387*1000","v":91000},"kg","=",{"$f":"IF(Worksheet!$D$6=1,RANDBETWEEN(1,99),IF(Worksheet!$D$6=2,CHOOSE(RANDBETWEEN(1,2),RANDBETWEEN(1,99),RANDBETWEEN(1,999)/10),CHOOSE(RANDBETWEEN(1,4),RANDBETWEEN(1,99999)/1000,RANDBETWEEN(1,9999)/100,RANDBETWEEN(1,999)/10,RANDBETWEEN(1,99))))","v":91},"tonnes"]
[{"$f":"IF(COUNTIF($B$1:B2388,TRUE)=COUNTIF($B$1:B2387,TRUE),\"\",COUNTIF($B$1:B2388,TRUE))","v":1434},{"$f":"IF(Worksheet!$D$10=2,FALSE,Worksheet!$D$16)","v":true},{"$f":"1000*F2388","v":23000},"ml","=",{"$f":"IF(Worksheet!$D$6=1,RANDBETWEEN(1,99),IF(Worksheet!$D$6=2,CHOOSE(RANDBETWEEN(1,2),RANDBETWEEN(1,99),RANDBETWEEN(1,999)/10),CHOOSE(RANDBETWEEN(1,4),RANDBETWEEN(1,99999)/1000,RANDBETWEEN(1,9999)/100,RANDBETWEEN(1,999)/10,RANDBETWEEN(1,99))))","v":23},"litres"]
[{"$f":"IF(COUNTIF($B$1:B2389,TRUE)=COUNTIF($B$1:B2388,TRUE),\"\",COUNTIF($B$1:B2389,TRUE))","v":""},{"$f":"IF(Worksheet!$D$10=2,FALSE,Worksheet!$D$17)","v":false},{"$f":"1000*F2389","v":47000},"cm³","=",{"$f":"IF(Worksheet!$D$6=1,RANDBETWEEN(1,99),IF(Worksheet!$D$6=2,CHOOSE(RANDBETWEEN(1,2),RANDBETWEEN(1,99),RANDBETWEEN(1,999)/10),CHOOSE(RANDBETWEEN(1,4),RANDBETWEEN(1,99999)/1000,RANDBETWEEN(1,9999)/100,RANDBETWEEN(1,999)/10,RANDBETWEEN(1,99))))","v":47},"litres"]
[{"$f":"IF(COUNTIF($B$1:B2390,TRUE)=COUNTIF($B$1:B2389,TRUE),\"\",COUNTIF($B$1:B2390,TRUE))","v":""},{"$f":"IF(Worksheet!$D$10=2,FALSE,Worksheet!$D$18)","v":false},{"$f":"10000*F2390","v":760000},"cm²","=",{"$f":"IF(Worksheet!$D$6=1,RANDBETWEEN(1,99),IF(Worksheet!$D$6=2,CHOOSE(RANDBETWEEN(1,2),RANDBETWEEN(1,99),RANDBETWEEN(1,999)/10),CHOOSE(RANDBETWEEN(1,4),RANDBETWEEN(1,99999)/1000,RANDBETWEEN(1,9999)/100,RANDBETWEEN(1,999)/10,RANDBETWEEN(1,99))))","v":76},"m²"]
[{"$f":"IF(COUNTIF($B$1:B2391,TRUE)=COUNTIF($B$1:B2390,TRUE),\"\",COUNTIF($B$1:B2391,TRUE))","v":1435},{"$f":"IF(Worksheet!$D$10=3,FALSE,Worksheet!$B$14)","v":true},{"$f":"IF(Worksheet!$D$6=1,RANDBETWEEN(1,99),IF(Worksheet!$D$6=2,CHOOSE(RANDBETWEEN(1,2),RANDBETWEEN(1,99),RANDBETWEEN(1,999)/10),CHOOSE(RANDBETWEEN(1,4),RANDBETWEEN(1,99999)/1000,RANDBETWEEN(1,9999)/100,RANDBETWEEN(1,999)/10,RANDBETWEEN(1,99))))","v":37},"cm","=",{"$f":"10*C2391","v":370},"mm"]
[{"$f":"IF(COUNTIF($B$1:B2392,TRUE)=COUNTIF($B$1:B2391,TRUE),\"\",COUNTIF($B$1:B2392,TRUE))","v":1436},{"$f":"IF(Worksheet!$D$10=3,FALSE,Worksheet!$B$15)","v":true},{"$f":"IF(Worksheet!$D$6=1,RANDBETWEEN(1,99),IF(Worksheet!$D$6=2,CHOOSE(RANDBETWEEN(1,2),RANDBETWEEN(1,99),RANDBETWEEN(1,999)/10),CHOOSE(RANDBETWEEN(1,4),RANDBETWEEN(1,99999)/1000,RANDBETWEEN(1,9999)/100,RANDBETWEEN(1,999)/10,RANDBETWEEN(1,99))))","v":77},"m","=",{"$f":"100*C2392","v":7700},"cm"]
[{"$f":"IF(COUNTIF($B$1:B2393,TRUE)=COUNTIF($B$1:B2392,TRUE),\"\",COUNTIF($B$1:B2393,TRUE))","v":1437},{"$f":"IF(Worksheet!$D$10=3,FALSE,Worksheet!$B$16)","v":true},{"$f":"IF(Worksheet!$D$6=1,RANDBETWEEN(1,99),IF(Worksheet!$D$6=2,CHOOSE(RANDBETWEEN(1,2),RANDBETWEEN(1,99),RANDBETWEEN(1,999)/10),CHOOSE(RANDBETWEEN(1,4),RANDBETWEEN(1,99999)/1000,RANDBETWEEN(1,9999)/100,RANDBETWEEN(1,999)/10,RANDBETWEEN(1,99))))","v":3},"km","=",{"$f":"1000*C2393","v":3000},"m"]
[{"$f":"IF(COUNTIF($B$1:B2394,TRUE)=COUNTIF($B$1:B2393,TRUE),\"\",COUNTIF($B$1:B2394,TRUE))","v":""},{"$f":"IF(Worksheet!$D$10=3,FALSE,Worksheet!$B$17)","v":false},{"$f":"IF(Worksheet!$D$6=1,RANDBETWEEN(1,99),IF(Worksheet!$D$6=2,CHOOSE(RANDBETWEEN(1,2),RANDBETWEEN(1,99),RANDBETWEEN(1,999)/10),CHOOSE(RANDBETWEEN(1,4),RANDBETWEEN(1,99999)/1000,RANDBETWEEN(1,9999)/100,RANDBETWEEN(1,999)/10,RANDBETWEEN(1,99))))","v":13},"m",{"$f":"#REF!","v":{"$error":"#REF!"}},{"$f":"1000*C2394","v":13000},"mm"]
[{"$f":"IF(COUNTIF($B$1:B2395,TRUE)=COUNTIF($B$1:B2394,TRUE),\"\",COUNTIF($B$1:B2395,TRUE))","v":""},{"$f":"IF(Worksheet!$D$10=3,FALSE,Worksheet!$B$18)","v":false},{"$f":"IF(Worksheet!$D$6=1,RANDBETWEEN(1,99),IF(Worksheet!$D$6=2,CHOOSE(RANDBETWEEN(1,2),RANDBETWEEN(1,99),RANDBETWEEN(1,999)/10),CHOOSE(RANDBETWEEN(1,4),RANDBETWEEN(1,99999)/1000,RANDBETWEEN(1,9999)/100,RANDBETWEEN(1,999)/10,RANDBETWEEN(1,99))))","v":42},"cm²","=",{"$f":"C2395*100","v":4200},"mm²"]
[{"$f":"IF(COUNTIF($B$1:B2396,TRUE)=COUNTIF($B$1:B2395,TRUE),\"\",COUNTIF($B$1:B2396,TRUE))","v":1438},{"$f":"IF(Worksheet!$D$10=3,FALSE,Worksheet!$D$14)","v":true},{"$f":"IF(Worksheet!$D$6=1,RANDBETWEEN(1,99),IF(Worksheet!$D$6=2,CHOOSE(RANDBETWEEN(1,2),RANDBETWEEN(1,99),RANDBETWEEN(1,999)/10),CHOOSE(RANDBETWEEN(1,4),RANDBETWEEN(1,99999)/1000,RANDBETWEEN(1,9999)/100,RANDBETWEEN(1,999)/10,RANDBETWEEN(1,99))))","v":62},"kg","=",{"$f":"1000*C2396","v":62000},"g"]
[{"$f":"IF(COUNTIF($B$1:B2397,TRUE)=COUNTIF($B$1:B2396,TRUE),\"\",COUNTIF($B$1:B2397,TRUE))","v":1439},{"$f":"IF(Worksheet!$D$10=3,FALSE,Worksheet!$D$15)","v":true},{"$f":"IF(Worksheet!$D$6=1,RANDBETWEEN(1,99),IF(Worksheet!$D$6=2,CHOOSE(RANDBETWEEN(1,2),RANDBETWEEN(1,99),RANDBETWEEN(1,999)/10),CHOOSE(RANDBETWEEN(1,4),RANDBETWEEN(1,99999)/1000,RANDBETWEEN(1,9999)/100,RANDBETWEEN(1,999)/10,RANDBETWEEN(1,99))))","v":24},"tonnes","=",{"$f":"1000*C2397","v":24000},"kg"]
[{"$f":"IF(COUNTIF($B$1:B2398,TRUE)=COUNTIF($B$1:B2397,TRUE),\"\",COUNTIF($B$1:B2398,TRUE))","v":1440},{"$f":"IF(Worksheet!$D$10=3,FALSE,Worksheet!$D$16)","v":true},{"$f":"IF(Worksheet!$D$6=1,RANDBETWEEN(1,99),IF(Worksheet!$D$6=2,CHOOSE(RANDBETWEEN(1,2),RANDBETWEEN(1,99),RANDBETWEEN(1,999)/10),CHOOSE(RANDBETWEEN(1,4),RANDBETWEEN(1,99999)/1000,RANDBETWEEN(1,9999)/100,RANDBETWEEN(1,999)/10,RANDBETWEEN(1,99))))","v":55},"litres","=",{"$f":"1000*C2398","v":55000},"ml"]
[{"$f":"IF(COUNTIF($B$1:B2399,TRUE)=COUNTIF($B$1:B2398,TRUE),\"\",COUNTIF($B$1:B2399,TRUE))","v":""},{"$f":"IF(Worksheet!$D$10=3,FALSE,Worksheet!$D$17)","v":false},{"$f":"IF(Worksheet!$D$6=1,RANDBETWEEN(1,99),IF(Worksheet!$D$6=2,CHOOSE(RANDBETWEEN(1,2),RANDBETWEEN(1,99),RANDBETWEEN(1,999)/10),CHOOSE(RANDBETWEEN(1,4),RANDBETWEEN(1,99999)/1000,RANDBETWEEN(1,9999)/100,RANDBETWEEN(1,999)/10,RANDBETWEEN(1,99))))","v":28},"litres","=",{"$f":"1000*C2399","v":28000},"cm³"]
[{"$f":"IF(COUNTIF($B$1:B2400,TRUE)=COUNTIF($B$1:B2399,TRUE),\"\",COUNTIF($B$1:B2400,TRUE))","v":""},{"$f":"IF(Worksheet!$D$10=3,FALSE,Worksheet!$D$18)","v":false},{"$f":"IF(Worksheet!$D$6=1,RANDBETWEEN(1,99),IF(Worksheet!$D$6=2,CHOOSE(RANDBETWEEN(1,2),RANDBETWEEN(1,99),RANDBETWEEN(1,999)/10),CHOOSE(RANDBETWEEN(1,4),RANDBETWEEN(1,99999)/1000,RANDBETWEEN(1,9999)/100,RANDBETWEEN(1,999)/10,RANDBETWEEN(1,99))))","v":45},"m²","=",{"$f":"10000*C2400","v":450000},"cm²"]
[{"$f":"IF(COUNTIF($B$1:B2401,TRUE)=COUNTIF($B$1:B2400,TRUE),\"\",COUNTIF($B$1:B2401,TRUE))","v":1441},{"$f":"IF(Worksheet!$D$10=2,FALSE,Worksheet!$B$14)","v":true},{"$f":"10*F2401","v":950},"mm","=",{"$f":"IF(Worksheet!$D$6=1,RANDBETWEEN(1,99),IF(Worksheet!$D$6=2,CHOOSE(RANDBETWEEN(1,2),RANDBETWEEN(1,99),RANDBETWEEN(1,999)/10),CHOOSE(RANDBETWEEN(1,4),RANDBETWEEN(1,99999)/1000,RANDBETWEEN(1,9999)/100,RANDBETWEEN(1,999)/10,RANDBETWEEN(1,99))))","v":95},"cm"]
[{"$f":"IF(COUNTIF($B$1:B2402,TRUE)=COUNTIF($B$1:B2401,TRUE),\"\",COUNTIF($B$1:B2402,TRUE))","v":1442},{"$f":"IF(Worksheet!$D$10=2,FALSE,Worksheet!$B$15)","v":true},{"$f":"100*F2402","v":8400},"cm","=",{"$f":"IF(Worksheet!$D$6=1,RANDBETWEEN(1,99),IF(Worksheet!$D$6=2,CHOOSE(RANDBETWEEN(1,2),RANDBETWEEN(1,99),RANDBETWEEN(1,999)/10),CHOOSE(RANDBETWEEN(1,4),RANDBETWEEN(1,99999)/1000,RANDBETWEEN(1,9999)/100,RANDBETWEEN(1,999)/10,RANDBETWEEN(1,99))))","v":84},"m"]
[{"$f":"IF(COUNTIF($B$1:B2403,TRUE)=COUNTIF($B$1:B2402,TRUE),\"\",COUNTIF($B$1:B2403,TRUE))","v":1443},{"$f":"IF(Worksheet!$D$10=2,FALSE,Worksheet!$B$16)","v":true},{"$f":"1000*F2403","v":74000},"m","=",{"$f":"IF(Worksheet!$D$6=1,RANDBETWEEN(1,99),IF(Worksheet!$D$6=2,CHOOSE(RANDBETWEEN(1,2),RANDBETWEEN(1,99),RANDBETWEEN(1,999)/10),CHOOSE(RANDBETWEEN(1,4),RANDBETWEEN(1,99999)/1000,RANDBETWEEN(1,9999)/100,RANDBETWEEN(1,999)/10,RANDBETWEEN(1,99))))","v":74},"km"]
[{"$f":"IF(COUNTIF($B$1:B2404,TRUE)=COUNTIF($B$1:B2403,TRUE),\"\",COUNTIF($B$1:B2404,TRUE))","v":""},{"$f":"IF(Worksheet!$D$10=2,FALSE,Worksheet!$B$17)","v":false},{"$f":"1000*F2404","v":16000},"mm","=",{"$f":"IF(Worksheet!$D$6=1,RANDBETWEEN(1,99),IF(Worksheet!$D$6=2,CHOOSE(RANDBETWEEN(1,2),RANDBETWEEN(1,99),RANDBETWEEN(1,999)/10),CHOOSE(RANDBETWEEN(1,4),RANDBETWEEN(1,99999)/1000,RANDBETWEEN(1,9999)/100,RANDBETWEEN(1,999)/10,RANDBETWEEN(1,99))))","v":16},"m"]
[{"$f":"IF(COUNTIF($B$1:B2405,TRUE)=COUNTIF($B$1:B2404,TRUE),\"\",COUNTIF($B$1:B2405,TRUE))","v":""},{"$f":"IF(Worksheet!$D$10=2,FALSE,Worksheet!$B$18)","v":false},{"$f":"100*F2405","v":1600},"mm²","=",{"$f":"IF(Worksheet!$D$6=1,RANDBETWEEN(1,99),IF(Worksheet!$D$6=2,CHOOSE(RANDBETWEEN(1,2),RANDBETWEEN(1,99),RANDBETWEEN(1,999)/10),CHOOSE(RANDBETWEEN(1,4),RANDBETWEEN(1,99999)/1000,RANDBETWEEN(1,9999)/100,RANDBETWEEN(1,999)/10,RANDBETWEEN(1,99))))","v":16},"cm²"]
[{"$f":"IF(COUNTIF($B$1:B2406,TRUE)=COUNTIF($B$1:B2405,TRUE),\"\",COUNTIF($B$1:B2406,TRUE))","v":1444},{"$f":"IF(Worksheet!$D$10=2,FALSE,Worksheet!$D$14)","v":true},{"$f":"F2406*1000","v":17000},"g","=",{"$f":"IF(Worksheet!$D$6=1,RANDBETWEEN(1,99),IF(Worksheet!$D$6=2,CHOOSE(RANDBETWEEN(1,2),RANDBETWEEN(1,99),RANDBETWEEN(1,999)/10),CHOOSE(RANDBETWEEN(1,4),RANDBETWEEN(1,99999)/1000,RANDBETWEEN(1,9999)/100,RANDBETWEEN(1,999)/10,RANDBETWEEN(1,99))))","v":17},"kg"]
[{"$f":"IF(COUNTIF($B$1:B2407,TRUE)=COUNTIF($B$1:B2406,TRUE),\"\",COUNTIF($B$1:B2407,TRUE))","v":1445},{"$f":"IF(Worksheet!$D$10=2,FALSE,Worksheet!$D$15)","v":true},{"$f":"F2407*1000","v":81000},"kg","=",{"$f":"IF(Worksheet!$D$6=1,RANDBETWEEN(1,99),IF(Worksheet!$D$6=2,CHOOSE(RANDBETWEEN(1,2),RANDBETWEEN(1,99),RANDBETWEEN(1,999)/10),CHOOSE(RANDBETWEEN(1,4),RANDBETWEEN(1,99999)/1000,RANDBETWEEN(1,9999)/100,RANDBETWEEN(1,999)/10,RANDBETWEEN(1,99))))","v":81},"tonnes"]
[{"$f":"IF(COUNTIF($B$1:B2408,TRUE)=COUNTIF($B$1:B2407,TRUE),\"\",COUNTIF($B$1:B2408,TRUE))","v":1446},{"$f":"IF(Worksheet!$D$10=2,FALSE,Worksheet!$D$16)","v":true},{"$f":"1000*F2408","v":60000},"ml","=",{"$f":"IF(Worksheet!$D$6=1,RANDBETWEEN(1,99),IF(Worksheet!$D$6=2,CHOOSE(RANDBETWEEN(1,2),RANDBETWEEN(1,99),RANDBETWEEN(1,999)/10),CHOOSE(RANDBETWEEN(1,4),RANDBETWEEN(1,99999)/1000,RANDBETWEEN(1,9999)/100,RANDBETWEEN(1,999)/10,RANDBETWEEN(1,99))))","v":60},"litres"]
[{"$f":"IF(COUNTIF($B$1:B2409,TRUE)=COUNTIF($B$1:B2408,TRUE),\"\",COUNTIF($B$1:B2409,TRUE))","v":""},{"$f":"IF(Worksheet!$D$10=2,FALSE,Worksheet!$D$17)","v":false},{"$f":"1000*F2409","v":69000},"cm³","=",{"$f":"IF(Worksheet!$D$6=1,RANDBETWEEN(1,99),IF(Worksheet!$D$6=2,CHOOSE(RANDBETWEEN(1,2),RANDBETWEEN(1,99),RANDBETWEEN(1,999)/10),CHOOSE(RANDBETWEEN(1,4),RANDBETWEEN(1,99999)/1000,RANDBETWEEN(1,9999)/100,RANDBETWEEN(1,999)/10,RANDBETWEEN(1,99))))","v":69},"litres"]
[{"$f":"IF(COUNTIF($B$1:B2410,TRUE)=COUNTIF($B$1:B2409,TRUE),\"\",COUNTIF($B$1:B2410,TRUE))","v":""},{"$f":"IF(Worksheet!$D$10=2,FALSE,Worksheet!$D$18)","v":false},{"$f":"10000*F2410","v":530000},"cm²","=",{"$f":"IF(Worksheet!$D$6=1,RANDBETWEEN(1,99),IF(Worksheet!$D$6=2,CHOOSE(RANDBETWEEN(1,2),RANDBETWEEN(1,99),RANDBETWEEN(1,999)/10),CHOOSE(RANDBETWEEN(1,4),RANDBETWEEN(1,99999)/1000,RANDBETWEEN(1,9999)/100,RANDBETWEEN(1,999)/10,RANDBETWEEN(1,99))))","v":53},"m²"]
[{"$f":"IF(COUNTIF($B$1:B2411,TRUE)=COUNTIF($B$1:B2410,TRUE),\"\",COUNTIF($B$1:B2411,TRUE))","v":1447},{"$f":"IF(Worksheet!$D$10=3,FALSE,Worksheet!$B$14)","v":true},{"$f":"IF(Worksheet!$D$6=1,RANDBETWEEN(1,99),IF(Worksheet!$D$6=2,CHOOSE(RANDBETWEEN(1,2),RANDBETWEEN(1,99),RANDBETWEEN(1,999)/10),CHOOSE(RANDBETWEEN(1,4),RANDBETWEEN(1,99999)/1000,RANDBETWEEN(1,9999)/100,RANDBETWEEN(1,999)/10,RANDBETWEEN(1,99))))","v":34},"cm","=",{"$f":"10*C2411","v":340},"mm"]
[{"$f":"IF(COUNTIF($B$1:B2412,TRUE)=COUNTIF($B$1:B2411,TRUE),\"\",COUNTIF($B$1:B2412,TRUE))","v":1448},{"$f":"IF(Worksheet!$D$10=3,FALSE,Worksheet!$B$15)","v":true},{"$f":"IF(Worksheet!$D$6=1,RANDBETWEEN(1,99),IF(Worksheet!$D$6=2,CHOOSE(RANDBETWEEN(1,2),RANDBETWEEN(1,99),RANDBETWEEN(1,999)/10),CHOOSE(RANDBETWEEN(1,4),RANDBETWEEN(1,99999)/1000,RANDBETWEEN(1,9999)/100,RANDBETWEEN(1,999)/10,RANDBETWEEN(1,99))))","v":63},"m","=",{"$f":"100*C2412","v":6300},"cm"]
[{"$f":"IF(COUNTIF($B$1:B2413,TRUE)=COUNTIF($B$1:B2412,TRUE),\"\",COUNTIF($B$1:B2413,TRUE))","v":1449},{"$f":"IF(Worksheet!$D$10=3,FALSE,Worksheet!$B$16)","v":true},{"$f":"IF(Worksheet!$D$6=1,RANDBETWEEN(1,99),IF(Worksheet!$D$6=2,CHOOSE(RANDBETWEEN(1,2),RANDBETWEEN(1,99),RANDBETWEEN(1,999)/10),CHOOSE(RANDBETWEEN(1,4),RANDBETWEEN(1,99999)/1000,RANDBETWEEN(1,9999)/100,RANDBETWEEN(1,999)/10,RANDBETWEEN(1,99))))","v":63},"km","=",{"$f":"1000*C2413","v":63000},"m"]
[{"$f":"IF(COUNTIF($B$1:B2414,TRUE)=COUNTIF($B$1:B2413,TRUE),\"\",COUNTIF($B$1:B2414,TRUE))","v":""},{"$f":"IF(Worksheet!$D$10=3,FALSE,Worksheet!$B$17)","v":false},{"$f":"IF(Worksheet!$D$6=1,RANDBETWEEN(1,99),IF(Worksheet!$D$6=2,CHOOSE(RANDBETWEEN(1,2),RANDBETWEEN(1,99),RANDBETWEEN(1,999)/10),CHOOSE(RANDBETWEEN(1,4),RANDBETWEEN(1,99999)/1000,RANDBETWEEN(1,9999)/100,RANDBETWEEN(1,999)/10,RANDBETWEEN(1,99))))","v":98},"m",{"$f":"#REF!","v":{"$error":"#REF!"}},{"$f":"1000*C2414","v":98000},"mm"]
[{"$f":"IF(COUNTIF($B$1:B2415,TRUE)=COUNTIF($B$1:B2414,TRUE),\"\",COUNTIF($B$1:B2415,TRUE))","v":""},{"$f":"IF(Worksheet!$D$10=3,FALSE,Worksheet!$B$18)","v":false},{"$f":"IF(Worksheet!$D$6=1,RANDBETWEEN(1,99),IF(Worksheet!$D$6=2,CHOOSE(RANDBETWEEN(1,2),RANDBETWEEN(1,99),RANDBETWEEN(1,999)/10),CHOOSE(RANDBETWEEN(1,4),RANDBETWEEN(1,99999)/1000,RANDBETWEEN(1,9999)/100,RANDBETWEEN(1,999)/10,RANDBETWEEN(1,99))))","v":12},"cm²","=",{"$f":"C2415*100","v":1200},"mm²"]
[{"$f":"IF(COUNTIF($B$1:B2416,TRUE)=COUNTIF($B$1:B2415,TRUE),\"\",COUNTIF($B$1:B2416,TRUE))","v":1450},{"$f":"IF(Worksheet!$D$10=3,FALSE,Worksheet!$D$14)","v":true},{"$f":"IF(Worksheet!$D$6=1,RANDBETWEEN(1,99),IF(Worksheet!$D$6=2,CHOOSE(RANDBETWEEN(1,2),RANDBETWEEN(1,99),RANDBETWEEN(1,999)/10),CHOOSE(RANDBETWEEN(1,4),RANDBETWEEN(1,99999)/1000,RANDBETWEEN(1,9999)/100,RANDBETWEEN(1,999)/10,RANDBETWEEN(1,99))))","v":17},"kg","=",{"$f":"1000*C2416","v":17000},"g"]
[{"$f":"IF(COUNTIF($B$1:B2417,TRUE)=COUNTIF($B$1:B2416,TRUE),\"\",COUNTIF($B$1:B2417,TRUE))","v":1451},{"$f":"IF(Worksheet!$D$10=3,FALSE,Worksheet!$D$15)","v":true},{"$f":"IF(Worksheet!$D$6=1,RANDBETWEEN(1,99),IF(Worksheet!$D$6=2,CHOOSE(RANDBETWEEN(1,2),RANDBETWEEN(1,99),RANDBETWEEN(1,999)/10),CHOOSE(RANDBETWEEN(1,4),RANDBETWEEN(1,99999)/1000,RANDBETWEEN(1,9999)/100,RANDBETWEEN(1,999)/10,RANDBETWEEN(1,99))))","v":49},"tonnes","=",{"$f":"1000*C2417","v":49000},"kg"]
[{"$f":"IF(COUNTIF($B$1:B2418,TRUE)=COUNTIF($B$1:B2417,TRUE),\"\",COUNTIF($B$1:B2418,TRUE))","v":1452},{"$f":"IF(Worksheet!$D$10=3,FALSE,Worksheet!$D$16)","v":true},{"$f":"IF(Worksheet!$D$6=1,RANDBETWEEN(1,99),IF(Worksheet!$D$6=2,CHOOSE(RANDBETWEEN(1,2),RANDBETWEEN(1,99),RANDBETWEEN(1,999)/10),CHOOSE(RANDBETWEEN(1,4),RANDBETWEEN(1,99999)/1000,RANDBETWEEN(1,9999)/100,RANDBETWEEN(1,999)/10,RANDBETWEEN(1,99))))","v":13},"litres","=",{"$f":"1000*C2418","v":13000},"ml"]
[{"$f":"IF(COUNTIF($B$1:B2419,TRUE)=COUNTIF($B$1:B2418,TRUE),\"\",COUNTIF($B$1:B2419,TRUE))","v":""},{"$f":"IF(Worksheet!$D$10=3,FALSE,Worksheet!$D$17)","v":false},{"$f":"IF(Worksheet!$D$6=1,RANDBETWEEN(1,99),IF(Worksheet!$D$6=2,CHOOSE(RANDBETWEEN(1,2),RANDBETWEEN(1,99),RANDBETWEEN(1,999)/10),CHOOSE(RANDBETWEEN(1,4),RANDBETWEEN(1,99999)/1000,RANDBETWEEN(1,9999)/100,RANDBETWEEN(1,999)/10,RANDBETWEEN(1,99))))","v":35},"litres","=",{"$f":"1000*C2419","v":35000},"cm³"]
[{"$f":"IF(COUNTIF($B$1:B2420,TRUE)=COUNTIF($B$1:B2419,TRUE),\"\",COUNTIF($B$1:B2420,TRUE))","v":""},{"$f":"IF(Worksheet!$D$10=3,FALSE,Worksheet!$D$18)","v":false},{"$f":"IF(Worksheet!$D$6=1,RANDBETWEEN(1,99),IF(Worksheet!$D$6=2,CHOOSE(RANDBETWEEN(1,2),RANDBETWEEN(1,99),RANDBETWEEN(1,999)/10),CHOOSE(RANDBETWEEN(1,4),RANDBETWEEN(1,99999)/1000,RANDBETWEEN(1,9999)/100,RANDBETWEEN(1,999)/10,RANDBETWEEN(1,99))))","v":44},"m²","=",{"$f":"10000*C2420","v":440000},"cm²"]
[{"$f":"IF(COUNTIF($B$1:B2421,TRUE)=COUNTIF($B$1:B2420,TRUE),\"\",COUNTIF($B$1:B2421,TRUE))","v":1453},{"$f":"IF(Worksheet!$D$10=2,FALSE,Worksheet!$B$14)","v":true},{"$f":"10*F2421","v":750},"mm","=",{"$f":"IF(Worksheet!$D$6=1,RANDBETWEEN(1,99),IF(Worksheet!$D$6=2,CHOOSE(RANDBETWEEN(1,2),RANDBETWEEN(1,99),RANDBETWEEN(1,999)/10),CHOOSE(RANDBETWEEN(1,4),RANDBETWEEN(1,99999)/1000,RANDBETWEEN(1,9999)/100,RANDBETWEEN(1,999)/10,RANDBETWEEN(1,99))))","v":75},"cm"]
[{"$f":"IF(COUNTIF($B$1:B2422,TRUE)=COUNTIF($B$1:B2421,TRUE),\"\",COUNTIF($B$1:B2422,TRUE))","v":1454},{"$f":"IF(Worksheet!$D$10=2,FALSE,Worksheet!$B$15)","v":true},{"$f":"100*F2422","v":8600},"cm","=",{"$f":"IF(Worksheet!$D$6=1,RANDBETWEEN(1,99),IF(Worksheet!$D$6=2,CHOOSE(RANDBETWEEN(1,2),RANDBETWEEN(1,99),RANDBETWEEN(1,999)/10),CHOOSE(RANDBETWEEN(1,4),RANDBETWEEN(1,99999)/1000,RANDBETWEEN(1,9999)/100,RANDBETWEEN(1,999)/10,RANDBETWEEN(1,99))))","v":86},"m"]
[{"$f":"IF(COUNTIF($B$1:B2423,TRUE)=COUNTIF($B$1:B2422,TRUE),\"\",COUNTIF($B$1:B2423,TRUE))","v":1455},{"$f":"IF(Worksheet!$D$10=2,FALSE,Worksheet!$B$16)","v":true},{"$f":"1000*F2423","v":93000},"m","=",{"$f":"IF(Worksheet!$D$6=1,RANDBETWEEN(1,99),IF(Worksheet!$D$6=2,CHOOSE(RANDBETWEEN(1,2),RANDBETWEEN(1,99),RANDBETWEEN(1,999)/10),CHOOSE(RANDBETWEEN(1,4),RANDBETWEEN(1,99999)/1000,RANDBETWEEN(1,9999)/100,RANDBETWEEN(1,999)/10,RANDBETWEEN(1,99))))","v":93},"km"]
[{"$f":"IF(COUNTIF($B$1:B2424,TRUE)=COUNTIF($B$1:B2423,TRUE),\"\",COUNTIF($B$1:B2424,TRUE))","v":""},{"$f":"IF(Worksheet!$D$10=2,FALSE,Worksheet!$B$17)","v":false},{"$f":"1000*F2424","v":1000},"mm","=",{"$f":"IF(Worksheet!$D$6=1,RANDBETWEEN(1,99),IF(Worksheet!$D$6=2,CHOOSE(RANDBETWEEN(1,2),RANDBETWEEN(1,99),RANDBETWEEN(1,999)/10),CHOOSE(RANDBETWEEN(1,4),RANDBETWEEN(1,99999)/1000,RANDBETWEEN(1,9999)/100,RANDBETWEEN(1,999)/10,RANDBETWEEN(1,99))))","v":1},"m"]
[{"$f":"IF(COUNTIF($B$1:B2425,TRUE)=COUNTIF($B$1:B2424,TRUE),\"\",COUNTIF($B$1:B2425,TRUE))","v":""},{"$f":"IF(Worksheet!$D$10=2,FALSE,Worksheet!$B$18)","v":false},{"$f":"100*F2425","v":5400},"mm²","=",{"$f":"IF(Worksheet!$D$6=1,RANDBETWEEN(1,99),IF(Worksheet!$D$6=2,CHOOSE(RANDBETWEEN(1,2),RANDBETWEEN(1,99),RANDBETWEEN(1,999)/10),CHOOSE(RANDBETWEEN(1,4),RANDBETWEEN(1,99999)/1000,RANDBETWEEN(1,9999)/100,RANDBETWEEN(1,999)/10,RANDBETWEEN(1,99))))","v":54},"cm²"]
[{"$f":"IF(COUNTIF($B$1:B2426,TRUE)=COUNTIF($B$1:B2425,TRUE),\"\",COUNTIF($B$1:B2426,TRUE))","v":1456},{"$f":"IF(Worksheet!$D$10=2,FALSE,Worksheet!$D$14)","v":true},{"$f":"F2426*1000","v":16000},"g","=",{"$f":"IF(Worksheet!$D$6=1,RANDBETWEEN(1,99),IF(Worksheet!$D$6=2,CHOOSE(RANDBETWEEN(1,2),RANDBETWEEN(1,99),RANDBETWEEN(1,999)/10),CHOOSE(RANDBETWEEN(1,4),RANDBETWEEN(1,99999)/1000,RANDBETWEEN(1,9999)/100,RANDBETWEEN(1,999)/10,RANDBETWEEN(1,99))))","v":16},"kg"]
[{"$f":"IF(COUNTIF($B$1:B2427,TRUE)=COUNTIF($B$1:B2426,TRUE),\"\",COUNTIF($B$1:B2427,TRUE))","v":1457},{"$f":"IF(Worksheet!$D$10=2,FALSE,Worksheet!$D$15)","v":true},{"$f":"F2427*1000","v":3000},"kg","=",{"$f":"IF(Worksheet!$D$6=1,RANDBETWEEN(1,99),IF(Worksheet!$D$6=2,CHOOSE(RANDBETWEEN(1,2),RANDBETWEEN(1,99),RANDBETWEEN(1,999)/10),CHOOSE(RANDBETWEEN(1,4),RANDBETWEEN(1,99999)/1000,RANDBETWEEN(1,9999)/100,RANDBETWEEN(1,999)/10,RANDBETWEEN(1,99))))","v":3},"tonnes"]
[{"$f":"IF(COUNTIF($B$1:B2428,TRUE)=COUNTIF($B$1:B2427,TRUE),\"\",COUNTIF($B$1:B2428,TRUE))","v":1458},{"$f":"IF(Worksheet!$D$10=2,FALSE,Worksheet!$D$16)","v":true},{"$f":"1000*F2428","v":29000},"ml","=",{"$f":"IF(Worksheet!$D$6=1,RANDBETWEEN(1,99),IF(Worksheet!$D$6=2,CHOOSE(RANDBETWEEN(1,2),RANDBETWEEN(1,99),RANDBETWEEN(1,999)/10),CHOOSE(RANDBETWEEN(1,4),RANDBETWEEN(1,99999)/1000,RANDBETWEEN(1,9999)/100,RANDBETWEEN(1,999)/10,RANDBETWEEN(1,99))))","v":29},"litres"]
[{"$f":"IF(COUNTIF($B$1:B2429,TRUE)=COUNTIF($B$1:B2428,TRUE),\"\",COUNTIF($B$1:B2429,TRUE))","v":""},{"$f":"IF(Worksheet!$D$10=2,FALSE,Worksheet!$D$17)","v":false},{"$f":"1000*F2429","v":46000},"cm³","=",{"$f":"IF(Worksheet!$D$6=1,RANDBETWEEN(1,99),IF(Worksheet!$D$6=2,CHOOSE(RANDBETWEEN(1,2),RANDBETWEEN(1,99),RANDBETWEEN(1,999)/10),CHOOSE(RANDBETWEEN(1,4),RANDBETWEEN(1,99999)/1000,RANDBETWEEN(1,9999)/100,RANDBETWEEN(1,999)/10,RANDBETWEEN(1,99))))","v":46},"litres"]
[{"$f":"IF(COUNTIF($B$1:B2430,TRUE)=COUNTIF($B$1:B2429,TRUE),\"\",COUNTIF($B$1:B2430,TRUE))","v":""},{"$f":"IF(Worksheet!$D$10=2,FALSE,Worksheet!$D$18)","v":false},{"$f":"10000*F2430","v":140000},"cm²","=",{"$f":"IF(Worksheet!$D$6=1,RANDBETWEEN(1,99),IF(Worksheet!$D$6=2,CHOOSE(RANDBETWEEN(1,2),RANDBETWEEN(1,99),RANDBETWEEN(1,999)/10),CHOOSE(RANDBETWEEN(1,4),RANDBETWEEN(1,99999)/1000,RANDBETWEEN(1,9999)/100,RANDBETWEEN(1,999)/10,RANDBETWEEN(1,99))))","v":14},"m²"]
[{"$f":"IF(COUNTIF($B$1:B2431,TRUE)=COUNTIF($B$1:B2430,TRUE),\"\",COUNTIF($B$1:B2431,TRUE))","v":1459},{"$f":"IF(Worksheet!$D$10=3,FALSE,Worksheet!$B$14)","v":true},{"$f":"IF(Worksheet!$D$6=1,RANDBETWEEN(1,99),IF(Worksheet!$D$6=2,CHOOSE(RANDBETWEEN(1,2),RANDBETWEEN(1,99),RANDBETWEEN(1,999)/10),CHOOSE(RANDBETWEEN(1,4),RANDBETWEEN(1,99999)/1000,RANDBETWEEN(1,9999)/100,RANDBETWEEN(1,999)/10,RANDBETWEEN(1,99))))","v":35},"cm","=",{"$f":"10*C2431","v":350},"mm"]
[{"$f":"IF(COUNTIF($B$1:B2432,TRUE)=COUNTIF($B$1:B2431,TRUE),\"\",COUNTIF($B$1:B2432,TRUE))","v":1460},{"$f":"IF(Worksheet!$D$10=3,FALSE,Worksheet!$B$15)","v":true},{"$f":"IF(Worksheet!$D$6=1,RANDBETWEEN(1,99),IF(Worksheet!$D$6=2,CHOOSE(RANDBETWEEN(1,2),RANDBETWEEN(1,99),RANDBETWEEN(1,999)/10),CHOOSE(RANDBETWEEN(1,4),RANDBETWEEN(1,99999)/1000,RANDBETWEEN(1,9999)/100,RANDBETWEEN(1,999)/10,RANDBETWEEN(1,99))))","v":79},"m","=",{"$f":"100*C2432","v":7900},"cm"]
[{"$f":"IF(COUNTIF($B$1:B2433,TRUE)=COUNTIF($B$1:B2432,TRUE),\"\",COUNTIF($B$1:B2433,TRUE))","v":1461},{"$f":"IF(Worksheet!$D$10=3,FALSE,Worksheet!$B$16)","v":true},{"$f":"IF(Worksheet!$D$6=1,RANDBETWEEN(1,99),IF(Worksheet!$D$6=2,CHOOSE(RANDBETWEEN(1,2),RANDBETWEEN(1,99),RANDBETWEEN(1,999)/10),CHOOSE(RANDBETWEEN(1,4),RANDBETWEEN(1,99999)/1000,RANDBETWEEN(1,9999)/100,RANDBETWEEN(1,999)/10,RANDBETWEEN(1,99))))","v":72},"km","=",{"$f":"1000*C2433","v":72000},"m"]
[{"$f":"IF(COUNTIF($B$1:B2434,TRUE)=COUNTIF($B$1:B2433,TRUE),\"\",COUNTIF($B$1:B2434,TRUE))","v":""},{"$f":"IF(Worksheet!$D$10=3,FALSE,Worksheet!$B$17)","v":false},{"$f":"IF(Worksheet!$D$6=1,RANDBETWEEN(1,99),IF(Worksheet!$D$6=2,CHOOSE(RANDBETWEEN(1,2),RANDBETWEEN(1,99),RANDBETWEEN(1,999)/10),CHOOSE(RANDBETWEEN(1,4),RANDBETWEEN(1,99999)/1000,RANDBETWEEN(1,9999)/100,RANDBETWEEN(1,999)/10,RANDBETWEEN(1,99))))","v":77},"m",{"$f":"#REF!","v":{"$error":"#REF!"}},{"$f":"1000*C2434","v":77000},"mm"]
[{"$f":"IF(COUNTIF($B$1:B2435,TRUE)=COUNTIF($B$1:B2434,TRUE),\"\",COUNTIF($B$1:B2435,TRUE))","v":""},{"$f":"IF(Worksheet!$D$10=3,FALSE,Worksheet!$B$18)","v":false},{"$f":"IF(Worksheet!$D$6=1,RANDBETWEEN(1,99),IF(Worksheet!$D$6=2,CHOOSE(RANDBETWEEN(1,2),RANDBETWEEN(1,99),RANDBETWEEN(1,999)/10),CHOOSE(RANDBETWEEN(1,4),RANDBETWEEN(1,99999)/1000,RANDBETWEEN(1,9999)/100,RANDBETWEEN(1,999)/10,RANDBETWEEN(1,99))))","v":75},"cm²","=",{"$f":"C2435*100","v":7500},"mm²"]
[{"$f":"IF(COUNTIF($B$1:B2436,TRUE)=COUNTIF($B$1:B2435,TRUE),\"\",COUNTIF($B$1:B2436,TRUE))","v":1462},{"$f":"IF(Worksheet!$D$10=3,FALSE,Worksheet!$D$14)","v":true},{"$f":"IF(Worksheet!$D$6=1,RANDBETWEEN(1,99),IF(Worksheet!$D$6=2,CHOOSE(RANDBETWEEN(1,2),RANDBETWEEN(1,99),RANDBETWEEN(1,999)/10),CHOOSE(RANDBETWEEN(1,4),RANDBETWEEN(1,99999)/1000,RANDBETWEEN(1,9999)/100,RANDBETWEEN(1,999)/10,RANDBETWEEN(1,99))))","v":55},"kg","=",{"$f":"1000*C2436","v":55000},"g"]
[{"$f":"IF(COUNTIF($B$1:B2437,TRUE)=COUNTIF($B$1:B2436,TRUE),\"\",COUNTIF($B$1:B2437,TRUE))","v":1463},{"$f":"IF(Worksheet!$D$10=3,FALSE,Worksheet!$D$15)","v":true},{"$f":"IF(Worksheet!$D$6=1,RANDBETWEEN(1,99),IF(Worksheet!$D$6=2,CHOOSE(RANDBETWEEN(1,2),RANDBETWEEN(1,99),RANDBETWEEN(1,999)/10),CHOOSE(RANDBETWEEN(1,4),RANDBETWEEN(1,99999)/1000,RANDBETWEEN(1,9999)/100,RANDBETWEEN(1,999)/10,RANDBETWEEN(1,99))))","v":11},"tonnes","=",{"$f":"1000*C2437","v":11000},"kg"]
[{"$f":"IF(COUNTIF($B$1:B2438,TRUE)=COUNTIF($B$1:B2437,TRUE),\"\",COUNTIF($B$1:B2438,TRUE))","v":1464},{"$f":"IF(Worksheet!$D$10=3,FALSE,Worksheet!$D$16)","v":true},{"$f":"IF(Worksheet!$D$6=1,RANDBETWEEN(1,99),IF(Worksheet!$D$6=2,CHOOSE(RANDBETWEEN(1,2),RANDBETWEEN(1,99),RANDBETWEEN(1,999)/10),CHOOSE(RANDBETWEEN(1,4),RANDBETWEEN(1,99999)/1000,RANDBETWEEN(1,9999)/100,RANDBETWEEN(1,999)/10,RANDBETWEEN(1,99))))","v":88},"litres","=",{"$f":"1000*C2438","v":88000},"ml"]
[{"$f":"IF(COUNTIF($B$1:B2439,TRUE)=COUNTIF($B$1:B2438,TRUE),\"\",COUNTIF($B$1:B2439,TRUE))","v":""},{"$f":"IF(Worksheet!$D$10=3,FALSE,Worksheet!$D$17)","v":false},{"$f":"IF(Worksheet!$D$6=1,RANDBETWEEN(1,99),IF(Worksheet!$D$6=2,CHOOSE(RANDBETWEEN(1,2),RANDBETWEEN(1,99),RANDBETWEEN(1,999)/10),CHOOSE(RANDBETWEEN(1,4),RANDBETWEEN(1,99999)/1000,RANDBETWEEN(1,9999)/100,RANDBETWEEN(1,999)/10,RANDBETWEEN(1,99))))","v":39},"litres","=",{"$f":"1000*C2439","v":39000},"cm³"]
[{"$f":"IF(COUNTIF($B$1:B2440,TRUE)=COUNTIF($B$1:B2439,TRUE),\"\",COUNTIF($B$1:B2440,TRUE))","v":""},{"$f":"IF(Worksheet!$D$10=3,FALSE,Worksheet!$D$18)","v":false},{"$f":"IF(Worksheet!$D$6=1,RANDBETWEEN(1,99),IF(Worksheet!$D$6=2,CHOOSE(RANDBETWEEN(1,2),RANDBETWEEN(1,99),RANDBETWEEN(1,999)/10),CHOOSE(RANDBETWEEN(1,4),RANDBETWEEN(1,99999)/1000,RANDBETWEEN(1,9999)/100,RANDBETWEEN(1,999)/10,RANDBETWEEN(1,99))))","v":89},"m²","=",{"$f":"10000*C2440","v":890000},"cm²"]
[{"$f":"IF(COUNTIF($B$1:B2441,TRUE)=COUNTIF($B$1:B2440,TRUE),\"\",COUNTIF($B$1:B2441,TRUE))","v":1465},{"$f":"IF(Worksheet!$D$10=2,FALSE,Worksheet!$B$14)","v":true},{"$f":"10*F2441","v":320},"mm","=",{"$f":"IF(Worksheet!$D$6=1,RANDBETWEEN(1,99),IF(Worksheet!$D$6=2,CHOOSE(RANDBETWEEN(1,2),RANDBETWEEN(1,99),RANDBETWEEN(1,999)/10),CHOOSE(RANDBETWEEN(1,4),RANDBETWEEN(1,99999)/1000,RANDBETWEEN(1,9999)/100,RANDBETWEEN(1,999)/10,RANDBETWEEN(1,99))))","v":32},"cm"]
[{"$f":"IF(COUNTIF($B$1:B2442,TRUE)=COUNTIF($B$1:B2441,TRUE),\"\",COUNTIF($B$1:B2442,TRUE))","v":1466},{"$f":"IF(Worksheet!$D$10=2,FALSE,Worksheet!$B$15)","v":true},{"$f":"100*F2442","v":4000},"cm","=",{"$f":"IF(Worksheet!$D$6=1,RANDBETWEEN(1,99),IF(Worksheet!$D$6=2,CHOOSE(RANDBETWEEN(1,2),RANDBETWEEN(1,99),RANDBETWEEN(1,999)/10),CHOOSE(RANDBETWEEN(1,4),RANDBETWEEN(1,99999)/1000,RANDBETWEEN(1,9999)/100,RANDBETWEEN(1,999)/10,RANDBETWEEN(1,99))))","v":40},"m"]
[{"$f":"IF(COUNTIF($B$1:B2443,TRUE)=COUNTIF($B$1:B2442,TRUE),\"\",COUNTIF($B$1:B2443,TRUE))","v":1467},{"$f":"IF(Worksheet!$D$10=2,FALSE,Worksheet!$B$16)","v":true},{"$f":"1000*F2443","v":34000},"m","=",{"$f":"IF(Worksheet!$D$6=1,RANDBETWEEN(1,99),IF(Worksheet!$D$6=2,CHOOSE(RANDBETWEEN(1,2),RANDBETWEEN(1,99),RANDBETWEEN(1,999)/10),CHOOSE(RANDBETWEEN(1,4),RANDBETWEEN(1,99999)/1000,RANDBETWEEN(1,9999)/100,RANDBETWEEN(1,999)/10,RANDBETWEEN(1,99))))","v":34},"km"]
[{"$f":"IF(COUNTIF($B$1:B2444,TRUE)=COUNTIF($B$1:B2443,TRUE),\"\",COUNTIF($B$1:B2444,TRUE))","v":""},{"$f":"IF(Worksheet!$D$10=2,FALSE,Worksheet!$B$17)","v":false},{"$f":"1000*F2444","v":45000},"mm","=",{"$f":"IF(Worksheet!$D$6=1,RANDBETWEEN(1,99),IF(Worksheet!$D$6=2,CHOOSE(RANDBETWEEN(1,2),RANDBETWEEN(1,99),RANDBETWEEN(1,999)/10),CHOOSE(RANDBETWEEN(1,4),RANDBETWEEN(1,99999)/1000,RANDBETWEEN(1,9999)/100,RANDBETWEEN(1,999)/10,RANDBETWEEN(1,99))))","v":45},"m"]
[{"$f":"IF(COUNTIF($B$1:B2445,TRUE)=COUNTIF($B$1:B2444,TRUE),\"\",COUNTIF($B$1:B2445,TRUE))","v":""},{"$f":"IF(Worksheet!$D$10=2,FALSE,Worksheet!$B$18)","v":false},{"$f":"100*F2445","v":1400},"mm²","=",{"$f":"IF(Worksheet!$D$6=1,RANDBETWEEN(1,99),IF(Worksheet!$D$6=2,CHOOSE(RANDBETWEEN(1,2),RANDBETWEEN(1,99),RANDBETWEEN(1,999)/10),CHOOSE(RANDBETWEEN(1,4),RANDBETWEEN(1,99999)/1000,RANDBETWEEN(1,9999)/100,RANDBETWEEN(1,999)/10,RANDBETWEEN(1,99))))","v":14},"cm²"]
[{"$f":"IF(COUNTIF($B$1:B2446,TRUE)=COUNTIF($B$1:B2445,TRUE),\"\",COUNTIF($B$1:B2446,TRUE))","v":1468},{"$f":"IF(Worksheet!$D$10=2,FALSE,Worksheet!$D$14)","v":true},{"$f":"F2446*1000","v":57000},"g","=",{"$f":"IF(Worksheet!$D$6=1,RANDBETWEEN(1,99),IF(Worksheet!$D$6=2,CHOOSE(RANDBETWEEN(1,2),RANDBETWEEN(1,99),RANDBETWEEN(1,999)/10),CHOOSE(RANDBETWEEN(1,4),RANDBETWEEN(1,99999)/1000,RANDBETWEEN(1,9999)/100,RANDBETWEEN(1,999)/10,RANDBETWEEN(1,99))))","v":57},"kg"]
[{"$f":"IF(COUNTIF($B$1:B2447,TRUE)=COUNTIF($B$1:B2446,TRUE),\"\",COUNTIF($B$1:B2447,TRUE))","v":1469},{"$f":"IF(Worksheet!$D$10=2,FALSE,Worksheet!$D$15)","v":true},{"$f":"F2447*1000","v":67000},"kg","=",{"$f":"IF(Worksheet!$D$6=1,RANDBETWEEN(1,99),IF(Worksheet!$D$6=2,CHOOSE(RANDBETWEEN(1,2),RANDBETWEEN(1,99),RANDBETWEEN(1,999)/10),CHOOSE(RANDBETWEEN(1,4),RANDBETWEEN(1,99999)/1000,RANDBETWEEN(1,9999)/100,RANDBETWEEN(1,999)/10,RANDBETWEEN(1,99))))","v":67},"tonnes"]
[{"$f":"IF(COUNTIF($B$1:B2448,TRUE)=COUNTIF($B$1:B2447,TRUE),\"\",COUNTIF($B$1:B2448,TRUE))","v":1470},{"$f":"IF(Worksheet!$D$10=2,FALSE,Worksheet!$D$16)","v":true},{"$f":"1000*F2448","v":34000},"ml","=",{"$f":"IF(Worksheet!$D$6=1,RANDBETWEEN(1,99),IF(Worksheet!$D$6=2,CHOOSE(RANDBETWEEN(1,2),RANDBETWEEN(1,99),RANDBETWEEN(1,999)/10),CHOOSE(RANDBETWEEN(1,4),RANDBETWEEN(1,99999)/1000,RANDBETWEEN(1,9999)/100,RANDBETWEEN(1,999)/10,RANDBETWEEN(1,99))))","v":34},"litres"]
[{"$f":"IF(COUNTIF($B$1:B2449,TRUE)=COUNTIF($B$1:B2448,TRUE),\"\",COUNTIF($B$1:B2449,TRUE))","v":""},{"$f":"IF(Worksheet!$D$10=2,FALSE,Worksheet!$D$17)","v":false},{"$f":"1000*F2449","v":36000},"cm³","=",{"$f":"IF(Worksheet!$D$6=1,RANDBETWEEN(1,99),IF(Worksheet!$D$6=2,CHOOSE(RANDBETWEEN(1,2),RANDBETWEEN(1,99),RANDBETWEEN(1,999)/10),CHOOSE(RANDBETWEEN(1,4),RANDBETWEEN(1,99999)/1000,RANDBETWEEN(1,9999)/100,RANDBETWEEN(1,999)/10,RANDBETWEEN(1,99))))","v":36},"litres"]
[{"$f":"IF(COUNTIF($B$1:B2450,TRUE)=COUNTIF($B$1:B2449,TRUE),\"\",COUNTIF($B$1:B2450,TRUE))","v":""},{"$f":"IF(Worksheet!$D$10=2,FALSE,Worksheet!$D$18)","v":false},{"$f":"10000*F2450","v":970000},"cm²","=",{"$f":"IF(Worksheet!$D$6=1,RANDBETWEEN(1,99),IF(Worksheet!$D$6=2,CHOOSE(RANDBETWEEN(1,2),RANDBETWEEN(1,99),RANDBETWEEN(1,999)/10),CHOOSE(RANDBETWEEN(1,4),RANDBETWEEN(1,99999)/1000,RANDBETWEEN(1,9999)/100,RANDBETWEEN(1,999)/10,RANDBETWEEN(1,99))))","v":97},"m²"]
[{"$f":"IF(COUNTIF($B$1:B2451,TRUE)=COUNTIF($B$1:B2450,TRUE),\"\",COUNTIF($B$1:B2451,TRUE))","v":1471},{"$f":"IF(Worksheet!$D$10=3,FALSE,Worksheet!$B$14)","v":true},{"$f":"IF(Worksheet!$D$6=1,RANDBETWEEN(1,99),IF(Worksheet!$D$6=2,CHOOSE(RANDBETWEEN(1,2),RANDBETWEEN(1,99),RANDBETWEEN(1,999)/10),CHOOSE(RANDBETWEEN(1,4),RANDBETWEEN(1,99999)/1000,RANDBETWEEN(1,9999)/100,RANDBETWEEN(1,999)/10,RANDBETWEEN(1,99))))","v":69},"cm","=",{"$f":"10*C2451","v":690},"mm"]
[{"$f":"IF(COUNTIF($B$1:B2452,TRUE)=COUNTIF($B$1:B2451,TRUE),\"\",COUNTIF($B$1:B2452,TRUE))","v":1472},{"$f":"IF(Worksheet!$D$10=3,FALSE,Worksheet!$B$15)","v":true},{"$f":"IF(Worksheet!$D$6=1,RANDBETWEEN(1,99),IF(Worksheet!$D$6=2,CHOOSE(RANDBETWEEN(1,2),RANDBETWEEN(1,99),RANDBETWEEN(1,999)/10),CHOOSE(RANDBETWEEN(1,4),RANDBETWEEN(1,99999)/1000,RANDBETWEEN(1,9999)/100,RANDBETWEEN(1,999)/10,RANDBETWEEN(1,99))))","v":96},"m","=",{"$f":"100*C2452","v":9600},"cm"]
[{"$f":"IF(COUNTIF($B$1:B2453,TRUE)=COUNTIF($B$1:B2452,TRUE),\"\",COUNTIF($B$1:B2453,TRUE))","v":1473},{"$f":"IF(Worksheet!$D$10=3,FALSE,Worksheet!$B$16)","v":true},{"$f":"IF(Worksheet!$D$6=1,RANDBETWEEN(1,99),IF(Worksheet!$D$6=2,CHOOSE(RANDBETWEEN(1,2),RANDBETWEEN(1,99),RANDBETWEEN(1,999)/10),CHOOSE(RANDBETWEEN(1,4),RANDBETWEEN(1,99999)/1000,RANDBETWEEN(1,9999)/100,RANDBETWEEN(1,999)/10,RANDBETWEEN(1,99))))","v":34},"km","=",{"$f":"1000*C2453","v":34000},"m"]
[{"$f":"IF(COUNTIF($B$1:B2454,TRUE)=COUNTIF($B$1:B2453,TRUE),\"\",COUNTIF($B$1:B2454,TRUE))","v":""},{"$f":"IF(Worksheet!$D$10=3,FALSE,Worksheet!$B$17)","v":false},{"$f":"IF(Worksheet!$D$6=1,RANDBETWEEN(1,99),IF(Worksheet!$D$6=2,CHOOSE(RANDBETWEEN(1,2),RANDBETWEEN(1,99),RANDBETWEEN(1,999)/10),CHOOSE(RANDBETWEEN(1,4),RANDBETWEEN(1,99999)/1000,RANDBETWEEN(1,9999)/100,RANDBETWEEN(1,999)/10,RANDBETWEEN(1,99))))","v":63},"m",{"$f":"#REF!","v":{"$error":"#REF!"}},{"$f":"1000*C2454","v":63000},"mm"]
[{"$f":"IF(COUNTIF($B$1:B2455,TRUE)=COUNTIF($B$1:B2454,TRUE),\"\",COUNTIF($B$1:B2455,TRUE))","v":""},{"$f":"IF(Worksheet!$D$10=3,FALSE,Worksheet!$B$18)","v":false},{"$f":"IF(Worksheet!$D$6=1,RANDBETWEEN(1,99),IF(Worksheet!$D$6=2,CHOOSE(RANDBETWEEN(1,2),RANDBETWEEN(1,99),RANDBETWEEN(1,999)/10),CHOOSE(RANDBETWEEN(1,4),RANDBETWEEN(1,99999)/1000,RANDBETWEEN(1,9999)/100,RANDBETWEEN(1,999)/10,RANDBETWEEN(1,99))))","v":77},"cm²","=",{"$f":"C2455*100","v":7700},"mm²"]
[{"$f":"IF(COUNTIF($B$1:B2456,TRUE)=COUNTIF($B$1:B2455,TRUE),\"\",COUNTIF($B$1:B2456,TRUE))","v":1474},{"$f":"IF(Worksheet!$D$10=3,FALSE,Worksheet!$D$14)","v":true},{"$f":"IF(Worksheet!$D$6=1,RANDBETWEEN(1,99),IF(Worksheet!$D$6=2,CHOOSE(RANDBETWEEN(1,2),RANDBETWEEN(1,99),RANDBETWEEN(1,999)/10),CHOOSE(RANDBETWEEN(1,4),RANDBETWEEN(1,99999)/1000,RANDBETWEEN(1,9999)/100,RANDBETWEEN(1,999)/10,RANDBETWEEN(1,99))))","v":29},"kg","=",{"$f":"1000*C2456","v":29000},"g"]
[{"$f":"IF(COUNTIF($B$1:B2457,TRUE)=COUNTIF($B$1:B2456,TRUE),\"\",COUNTIF($B$1:B2457,TRUE))","v":1475},{"$f":"IF(Worksheet!$D$10=3,FALSE,Worksheet!$D$15)","v":true},{"$f":"IF(Worksheet!$D$6=1,RANDBETWEEN(1,99),IF(Worksheet!$D$6=2,CHOOSE(RANDBETWEEN(1,2),RANDBETWEEN(1,99),RANDBETWEEN(1,999)/10),CHOOSE(RANDBETWEEN(1,4),RANDBETWEEN(1,99999)/1000,RANDBETWEEN(1,9999)/100,RANDBETWEEN(1,999)/10,RANDBETWEEN(1,99))))","v":99},"tonnes","=",{"$f":"1000*C2457","v":99000},"kg"]
[{"$f":"IF(COUNTIF($B$1:B2458,TRUE)=COUNTIF($B$1:B2457,TRUE),\"\",COUNTIF($B$1:B2458,TRUE))","v":1476},{"$f":"IF(Worksheet!$D$10=3,FALSE,Worksheet!$D$16)","v":true},{"$f":"IF(Worksheet!$D$6=1,RANDBETWEEN(1,99),IF(Worksheet!$D$6=2,CHOOSE(RANDBETWEEN(1,2),RANDBETWEEN(1,99),RANDBETWEEN(1,999)/10),CHOOSE(RANDBETWEEN(1,4),RANDBETWEEN(1,99999)/1000,RANDBETWEEN(1,9999)/100,RANDBETWEEN(1,999)/10,RANDBETWEEN(1,99))))","v":73},"litres","=",{"$f":"1000*C2458","v":73000},"ml"]
[{"$f":"IF(COUNTIF($B$1:B2459,TRUE)=COUNTIF($B$1:B2458,TRUE),\"\",COUNTIF($B$1:B2459,TRUE))","v":""},{"$f":"IF(Worksheet!$D$10=3,FALSE,Worksheet!$D$17)","v":false},{"$f":"IF(Worksheet!$D$6=1,RANDBETWEEN(1,99),IF(Worksheet!$D$6=2,CHOOSE(RANDBETWEEN(1,2),RANDBETWEEN(1,99),RANDBETWEEN(1,999)/10),CHOOSE(RANDBETWEEN(1,4),RANDBETWEEN(1,99999)/1000,RANDBETWEEN(1,9999)/100,RANDBETWEEN(1,999)/10,RANDBETWEEN(1,99))))","v":34},"litres","=",{"$f":"1000*C2459","v":34000},"cm³"]
[{"$f":"IF(COUNTIF($B$1:B2460,TRUE)=COUNTIF($B$1:B2459,TRUE),\"\",COUNTIF($B$1:B2460,TRUE))","v":""},{"$f":"IF(Worksheet!$D$10=3,FALSE,Worksheet!$D$18)","v":false},{"$f":"IF(Worksheet!$D$6=1,RANDBETWEEN(1,99),IF(Worksheet!$D$6=2,CHOOSE(RANDBETWEEN(1,2),RANDBETWEEN(1,99),RANDBETWEEN(1,999)/10),CHOOSE(RANDBETWEEN(1,4),RANDBETWEEN(1,99999)/1000,RANDBETWEEN(1,9999)/100,RANDBETWEEN(1,999)/10,RANDBETWEEN(1,99))))","v":51},"m²","=",{"$f":"10000*C2460","v":510000},"cm²"]
[{"$f":"IF(COUNTIF($B$1:B2461,TRUE)=COUNTIF($B$1:B2460,TRUE),\"\",COUNTIF($B$1:B2461,TRUE))","v":1477},{"$f":"IF(Worksheet!$D$10=2,FALSE,Worksheet!$B$14)","v":true},{"$f":"10*F2461","v":500},"mm","=",{"$f":"IF(Worksheet!$D$6=1,RANDBETWEEN(1,99),IF(Worksheet!$D$6=2,CHOOSE(RANDBETWEEN(1,2),RANDBETWEEN(1,99),RANDBETWEEN(1,999)/10),CHOOSE(RANDBETWEEN(1,4),RANDBETWEEN(1,99999)/1000,RANDBETWEEN(1,9999)/100,RANDBETWEEN(1,999)/10,RANDBETWEEN(1,99))))","v":50},"cm"]
[{"$f":"IF(COUNTIF($B$1:B2462,TRUE)=COUNTIF($B$1:B2461,TRUE),\"\",COUNTIF($B$1:B2462,TRUE))","v":1478},{"$f":"IF(Worksheet!$D$10=2,FALSE,Worksheet!$B$15)","v":true},{"$f":"100*F2462","v":8200},"cm","=",{"$f":"IF(Worksheet!$D$6=1,RANDBETWEEN(1,99),IF(Worksheet!$D$6=2,CHOOSE(RANDBETWEEN(1,2),RANDBETWEEN(1,99),RANDBETWEEN(1,999)/10),CHOOSE(RANDBETWEEN(1,4),RANDBETWEEN(1,99999)/1000,RANDBETWEEN(1,9999)/100,RANDBETWEEN(1,999)/10,RANDBETWEEN(1,99))))","v":82},"m"]
[{"$f":"IF(COUNTIF($B$1:B2463,TRUE)=COUNTIF($B$1:B2462,TRUE),\"\",COUNTIF($B$1:B2463,TRUE))","v":1479},{"$f":"IF(Worksheet!$D$10=2,FALSE,Worksheet!$B$16)","v":true},{"$f":"1000*F2463","v":85000},"m","=",{"$f":"IF(Worksheet!$D$6=1,RANDBETWEEN(1,99),IF(Worksheet!$D$6=2,CHOOSE(RANDBETWEEN(1,2),RANDBETWEEN(1,99),RANDBETWEEN(1,999)/10),CHOOSE(RANDBETWEEN(1,4),RANDBETWEEN(1,99999)/1000,RANDBETWEEN(1,9999)/100,RANDBETWEEN(1,999)/10,RANDBETWEEN(1,99))))","v":85},"km"]
[{"$f":"IF(COUNTIF($B$1:B2464,TRUE)=COUNTIF($B$1:B2463,TRUE),\"\",COUNTIF($B$1:B2464,TRUE))","v":""},{"$f":"IF(Worksheet!$D$10=2,FALSE,Worksheet!$B$17)","v":false},{"$f":"1000*F2464","v":78000},"mm","=",{"$f":"IF(Worksheet!$D$6=1,RANDBETWEEN(1,99),IF(Worksheet!$D$6=2,CHOOSE(RANDBETWEEN(1,2),RANDBETWEEN(1,99),RANDBETWEEN(1,999)/10),CHOOSE(RANDBETWEEN(1,4),RANDBETWEEN(1,99999)/1000,RANDBETWEEN(1,9999)/100,RANDBETWEEN(1,999)/10,RANDBETWEEN(1,99))))","v":78},"m"]
[{"$f":"IF(COUNTIF($B$1:B2465,TRUE)=COUNTIF($B$1:B2464,TRUE),\"\",COUNTIF($B$1:B2465,TRUE))","v":""},{"$f":"IF(Worksheet!$D$10=2,FALSE,Worksheet!$B$18)","v":false},{"$f":"100*F2465","v":7000},"mm²","=",{"$f":"IF(Worksheet!$D$6=1,RANDBETWEEN(1,99),IF(Worksheet!$D$6=2,CHOOSE(RANDBETWEEN(1,2),RANDBETWEEN(1,99),RANDBETWEEN(1,999)/10),CHOOSE(RANDBETWEEN(1,4),RANDBETWEEN(1,99999)/1000,RANDBETWEEN(1,9999)/100,RANDBETWEEN(1,999)/10,RANDBETWEEN(1,99))))","v":70},"cm²"]
[{"$f":"IF(COUNTIF($B$1:B2466,TRUE)=COUNTIF($B$1:B2465,TRUE),\"\",COUNTIF($B$1:B2466,TRUE))","v":1480},{"$f":"IF(Worksheet!$D$10=2,FALSE,Worksheet!$D$14)","v":true},{"$f":"F2466*1000","v":10000},"g","=",{"$f":"IF(Worksheet!$D$6=1,RANDBETWEEN(1,99),IF(Worksheet!$D$6=2,CHOOSE(RANDBETWEEN(1,2),RANDBETWEEN(1,99),RANDBETWEEN(1,999)/10),CHOOSE(RANDBETWEEN(1,4),RANDBETWEEN(1,99999)/1000,RANDBETWEEN(1,9999)/100,RANDBETWEEN(1,999)/10,RANDBETWEEN(1,99))))","v":10},"kg"]
[{"$f":"IF(COUNTIF($B$1:B2467,TRUE)=COUNTIF($B$1:B2466,TRUE),\"\",COUNTIF($B$1:B2467,TRUE))","v":1481},{"$f":"IF(Worksheet!$D$10=2,FALSE,Worksheet!$D$15)","v":true},{"$f":"F2467*1000","v":64000},"kg","=",{"$f":"IF(Worksheet!$D$6=1,RANDBETWEEN(1,99),IF(Worksheet!$D$6=2,CHOOSE(RANDBETWEEN(1,2),RANDBETWEEN(1,99),RANDBETWEEN(1,999)/10),CHOOSE(RANDBETWEEN(1,4),RANDBETWEEN(1,99999)/1000,RANDBETWEEN(1,9999)/100,RANDBETWEEN(1,999)/10,RANDBETWEEN(1,99))))","v":64},"tonnes"]
[{"$f":"IF(COUNTIF($B$1:B2468,TRUE)=COUNTIF($B$1:B2467,TRUE),\"\",COUNTIF($B$1:B2468,TRUE))","v":1482},{"$f":"IF(Worksheet!$D$10=2,FALSE,Worksheet!$D$16)","v":true},{"$f":"1000*F2468","v":39000},"ml","=",{"$f":"IF(Worksheet!$D$6=1,RANDBETWEEN(1,99),IF(Worksheet!$D$6=2,CHOOSE(RANDBETWEEN(1,2),RANDBETWEEN(1,99),RANDBETWEEN(1,999)/10),CHOOSE(RANDBETWEEN(1,4),RANDBETWEEN(1,99999)/1000,RANDBETWEEN(1,9999)/100,RANDBETWEEN(1,999)/10,RANDBETWEEN(1,99))))","v":39},"litres"]
[{"$f":"IF(COUNTIF($B$1:B2469,TRUE)=COUNTIF($B$1:B2468,TRUE),\"\",COUNTIF($B$1:B2469,TRUE))","v":""},{"$f":"IF(Worksheet!$D$10=2,FALSE,Worksheet!$D$17)","v":false},{"$f":"1000*F2469","v":92000},"cm³","=",{"$f":"IF(Worksheet!$D$6=1,RANDBETWEEN(1,99),IF(Worksheet!$D$6=2,CHOOSE(RANDBETWEEN(1,2),RANDBETWEEN(1,99),RANDBETWEEN(1,999)/10),CHOOSE(RANDBETWEEN(1,4),RANDBETWEEN(1,99999)/1000,RANDBETWEEN(1,9999)/100,RANDBETWEEN(1,999)/10,RANDBETWEEN(1,99))))","v":92},"litres"]
[{"$f":"IF(COUNTIF($B$1:B2470,TRUE)=COUNTIF($B$1:B2469,TRUE),\"\",COUNTIF($B$1:B2470,TRUE))","v":""},{"$f":"IF(Worksheet!$D$10=2,FALSE,Worksheet!$D$18)","v":false},{"$f":"10000*F2470","v":590000},"cm²","=",{"$f":"IF(Worksheet!$D$6=1,RANDBETWEEN(1,99),IF(Worksheet!$D$6=2,CHOOSE(RANDBETWEEN(1,2),RANDBETWEEN(1,99),RANDBETWEEN(1,999)/10),CHOOSE(RANDBETWEEN(1,4),RANDBETWEEN(1,99999)/1000,RANDBETWEEN(1,9999)/100,RANDBETWEEN(1,999)/10,RANDBETWEEN(1,99))))","v":59},"m²"]
[{"$f":"IF(COUNTIF($B$1:B2471,TRUE)=COUNTIF($B$1:B2470,TRUE),\"\",COUNTIF($B$1:B2471,TRUE))","v":1483},{"$f":"IF(Worksheet!$D$10=3,FALSE,Worksheet!$B$14)","v":true},{"$f":"IF(Worksheet!$D$6=1,RANDBETWEEN(1,99),IF(Worksheet!$D$6=2,CHOOSE(RANDBETWEEN(1,2),RANDBETWEEN(1,99),RANDBETWEEN(1,999)/10),CHOOSE(RANDBETWEEN(1,4),RANDBETWEEN(1,99999)/1000,RANDBETWEEN(1,9999)/100,RANDBETWEEN(1,999)/10,RANDBETWEEN(1,99))))","v":17},"cm","=",{"$f":"10*C2471","v":170},"mm"]
[{"$f":"IF(COUNTIF($B$1:B2472,TRUE)=COUNTIF($B$1:B2471,TRUE),\"\",COUNTIF($B$1:B2472,TRUE))","v":1484},{"$f":"IF(Worksheet!$D$10=3,FALSE,Worksheet!$B$15)","v":true},{"$f":"IF(Worksheet!$D$6=1,RANDBETWEEN(1,99),IF(Worksheet!$D$6=2,CHOOSE(RANDBETWEEN(1,2),RANDBETWEEN(1,99),RANDBETWEEN(1,999)/10),CHOOSE(RANDBETWEEN(1,4),RANDBETWEEN(1,99999)/1000,RANDBETWEEN(1,9999)/100,RANDBETWEEN(1,999)/10,RANDBETWEEN(1,99))))","v":64},"m","=",{"$f":"100*C2472","v":6400},"cm"]
[{"$f":"IF(COUNTIF($B$1:B2473,TRUE)=COUNTIF($B$1:B2472,TRUE),\"\",COUNTIF($B$1:B2473,TRUE))","v":1485},{"$f":"IF(Worksheet!$D$10=3,FALSE,Worksheet!$B$16)","v":true},{"$f":"IF(Worksheet!$D$6=1,RANDBETWEEN(1,99),IF(Worksheet!$D$6=2,CHOOSE(RANDBETWEEN(1,2),RANDBETWEEN(1,99),RANDBETWEEN(1,999)/10),CHOOSE(RANDBETWEEN(1,4),RANDBETWEEN(1,99999)/1000,RANDBETWEEN(1,9999)/100,RANDBETWEEN(1,999)/10,RANDBETWEEN(1,99))))","v":55},"km","=",{"$f":"1000*C2473","v":55000},"m"]
[{"$f":"IF(COUNTIF($B$1:B2474,TRUE)=COUNTIF($B$1:B2473,TRUE),\"\",COUNTIF($B$1:B2474,TRUE))","v":""},{"$f":"IF(Worksheet!$D$10=3,FALSE,Worksheet!$B$17)","v":false},{"$f":"IF(Worksheet!$D$6=1,RANDBETWEEN(1,99),IF(Worksheet!$D$6=2,CHOOSE(RANDBETWEEN(1,2),RANDBETWEEN(1,99),RANDBETWEEN(1,999)/10),CHOOSE(RANDBETWEEN(1,4),RANDBETWEEN(1,99999)/1000,RANDBETWEEN(1,9999)/100,RANDBETWEEN(1,999)/10,RANDBETWEEN(1,99))))","v":18},"m",{"$f":"#REF!","v":{"$error":"#REF!"}},{"$f":"1000*C2474","v":18000},"mm"]
[{"$f":"IF(COUNTIF($B$1:B2475,TRUE)=COUNTIF($B$1:B2474,TRUE),\"\",COUNTIF($B$1:B2475,TRUE))","v":""},{"$f":"IF(Worksheet!$D$10=3,FALSE,Worksheet!$B$18)","v":false},{"$f":"IF(Worksheet!$D$6=1,RANDBETWEEN(1,99),IF(Worksheet!$D$6=2,CHOOSE(RANDBETWEEN(1,2),RANDBETWEEN(1,99),RANDBETWEEN(1,999)/10),CHOOSE(RANDBETWEEN(1,4),RANDBETWEEN(1,99999)/1000,RANDBETWEEN(1,9999)/100,RANDBETWEEN(1,999)/10,RANDBETWEEN(1,99))))","v":52},"cm²","=",{"$f":"C2475*100","v":5200},"mm²"]
[{"$f":"IF(COUNTIF($B$1:B2476,TRUE)=COUNTIF($B$1:B2475,TRUE),\"\",COUNTIF($B$1:B2476,TRUE))","v":1486},{"$f":"IF(Worksheet!$D$10=3,FALSE,Worksheet!$D$14)","v":true},{"$f":"IF(Worksheet!$D$6=1,RANDBETWEEN(1,99),IF(Worksheet!$D$6=2,CHOOSE(RANDBETWEEN(1,2),RANDBETWEEN(1,99),RANDBETWEEN(1,999)/10),CHOOSE(RANDBETWEEN(1,4),RANDBETWEEN(1,99999)/1000,RANDBETWEEN(1,9999)/100,RANDBETWEEN(1,999)/10,RANDBETWEEN(1,99))))","v":31},"kg","=",{"$f":"1000*C2476","v":31000},"g"]
[{"$f":"IF(COUNTIF($B$1:B2477,TRUE)=COUNTIF($B$1:B2476,TRUE),\"\",COUNTIF($B$1:B2477,TRUE))","v":1487},{"$f":"IF(Worksheet!$D$10=3,FALSE,Worksheet!$D$15)","v":true},{"$f":"IF(Worksheet!$D$6=1,RANDBETWEEN(1,99),IF(Worksheet!$D$6=2,CHOOSE(RANDBETWEEN(1,2),RANDBETWEEN(1,99),RANDBETWEEN(1,999)/10),CHOOSE(RANDBETWEEN(1,4),RANDBETWEEN(1,99999)/1000,RANDBETWEEN(1,9999)/100,RANDBETWEEN(1,999)/10,RANDBETWEEN(1,99))))","v":13},"tonnes","=",{"$f":"1000*C2477","v":13000},"kg"]
[{"$f":"IF(COUNTIF($B$1:B2478,TRUE)=COUNTIF($B$1:B2477,TRUE),\"\",COUNTIF($B$1:B2478,TRUE))","v":1488},{"$f":"IF(Worksheet!$D$10=3,FALSE,Worksheet!$D$16)","v":true},{"$f":"IF(Worksheet!$D$6=1,RANDBETWEEN(1,99),IF(Worksheet!$D$6=2,CHOOSE(RANDBETWEEN(1,2),RANDBETWEEN(1,99),RANDBETWEEN(1,999)/10),CHOOSE(RANDBETWEEN(1,4),RANDBETWEEN(1,99999)/1000,RANDBETWEEN(1,9999)/100,RANDBETWEEN(1,999)/10,RANDBETWEEN(1,99))))","v":27},"litres","=",{"$f":"1000*C2478","v":27000},"ml"]
[{"$f":"IF(COUNTIF($B$1:B2479,TRUE)=COUNTIF($B$1:B2478,TRUE),\"\",COUNTIF($B$1:B2479,TRUE))","v":""},{"$f":"IF(Worksheet!$D$10=3,FALSE,Worksheet!$D$17)","v":false},{"$f":"IF(Worksheet!$D$6=1,RANDBETWEEN(1,99),IF(Worksheet!$D$6=2,CHOOSE(RANDBETWEEN(1,2),RANDBETWEEN(1,99),RANDBETWEEN(1,999)/10),CHOOSE(RANDBETWEEN(1,4),RANDBETWEEN(1,99999)/1000,RANDBETWEEN(1,9999)/100,RANDBETWEEN(1,999)/10,RANDBETWEEN(1,99))))","v":38},"litres","=",{"$f":"1000*C2479","v":38000},"cm³"]
[{"$f":"IF(COUNTIF($B$1:B2480,TRUE)=COUNTIF($B$1:B2479,TRUE),\"\",COUNTIF($B$1:B2480,TRUE))","v":""},{"$f":"IF(Worksheet!$D$10=3,FALSE,Worksheet!$D$18)","v":false},{"$f":"IF(Worksheet!$D$6=1,RANDBETWEEN(1,99),IF(Worksheet!$D$6=2,CHOOSE(RANDBETWEEN(1,2),RANDBETWEEN(1,99),RANDBETWEEN(1,999)/10),CHOOSE(RANDBETWEEN(1,4),RANDBETWEEN(1,99999)/1000,RANDBETWEEN(1,9999)/100,RANDBETWEEN(1,999)/10,RANDBETWEEN(1,99))))","v":29},"m²","=",{"$f":"10000*C2480","v":290000},"cm²"]
[{"$f":"IF(COUNTIF($B$1:B2481,TRUE)=COUNTIF($B$1:B2480,TRUE),\"\",COUNTIF($B$1:B2481,TRUE))","v":1489},{"$f":"IF(Worksheet!$D$10=2,FALSE,Worksheet!$B$14)","v":true},{"$f":"10*F2481","v":550},"mm","=",{"$f":"IF(Worksheet!$D$6=1,RANDBETWEEN(1,99),IF(Worksheet!$D$6=2,CHOOSE(RANDBETWEEN(1,2),RANDBETWEEN(1,99),RANDBETWEEN(1,999)/10),CHOOSE(RANDBETWEEN(1,4),RANDBETWEEN(1,99999)/1000,RANDBETWEEN(1,9999)/100,RANDBETWEEN(1,999)/10,RANDBETWEEN(1,99))))","v":55},"cm"]
[{"$f":"IF(COUNTIF($B$1:B2482,TRUE)=COUNTIF($B$1:B2481,TRUE),\"\",COUNTIF($B$1:B2482,TRUE))","v":1490},{"$f":"IF(Worksheet!$D$10=2,FALSE,Worksheet!$B$15)","v":true},{"$f":"100*F2482","v":9800},"cm","=",{"$f":"IF(Worksheet!$D$6=1,RANDBETWEEN(1,99),IF(Worksheet!$D$6=2,CHOOSE(RANDBETWEEN(1,2),RANDBETWEEN(1,99),RANDBETWEEN(1,999)/10),CHOOSE(RANDBETWEEN(1,4),RANDBETWEEN(1,99999)/1000,RANDBETWEEN(1,9999)/100,RANDBETWEEN(1,999)/10,RANDBETWEEN(1,99))))","v":98},"m"]
[{"$f":"IF(COUNTIF($B$1:B2483,TRUE)=COUNTIF($B$1:B2482,TRUE),\"\",COUNTIF($B$1:B2483,TRUE))","v":1491},{"$f":"IF(Worksheet!$D$10=2,FALSE,Worksheet!$B$16)","v":true},{"$f":"1000*F2483","v":48000},"m","=",{"$f":"IF(Worksheet!$D$6=1,RANDBETWEEN(1,99),IF(Worksheet!$D$6=2,CHOOSE(RANDBETWEEN(1,2),RANDBETWEEN(1,99),RANDBETWEEN(1,999)/10),CHOOSE(RANDBETWEEN(1,4),RANDBETWEEN(1,99999)/1000,RANDBETWEEN(1,9999)/100,RANDBETWEEN(1,999)/10,RANDBETWEEN(1,99))))","v":48},"km"]
[{"$f":"IF(COUNTIF($B$1:B2484,TRUE)=COUNTIF($B$1:B2483,TRUE),\"\",COUNTIF($B$1:B2484,TRUE))","v":""},{"$f":"IF(Worksheet!$D$10=2,FALSE,Worksheet!$B$17)","v":false},{"$f":"1000*F2484","v":1000},"mm","=",{"$f":"IF(Worksheet!$D$6=1,RANDBETWEEN(1,99),IF(Worksheet!$D$6=2,CHOOSE(RANDBETWEEN(1,2),RANDBETWEEN(1,99),RANDBETWEEN(1,999)/10),CHOOSE(RANDBETWEEN(1,4),RANDBETWEEN(1,99999)/1000,RANDBETWEEN(1,9999)/100,RANDBETWEEN(1,999)/10,RANDBETWEEN(1,99))))","v":1},"m"]
[{"$f":"IF(COUNTIF($B$1:B2485,TRUE)=COUNTIF($B$1:B2484,TRUE),\"\",COUNTIF($B$1:B2485,TRUE))","v":""},{"$f":"IF(Worksheet!$D$10=2,FALSE,Worksheet!$B$18)","v":false},{"$f":"100*F2485","v":2100},"mm²","=",{"$f":"IF(Worksheet!$D$6=1,RANDBETWEEN(1,99),IF(Worksheet!$D$6=2,CHOOSE(RANDBETWEEN(1,2),RANDBETWEEN(1,99),RANDBETWEEN(1,999)/10),CHOOSE(RANDBETWEEN(1,4),RANDBETWEEN(1,99999)/1000,RANDBETWEEN(1,9999)/100,RANDBETWEEN(1,999)/10,RANDBETWEEN(1,99))))","v":21},"cm²"]
[{"$f":"IF(COUNTIF($B$1:B2486,TRUE)=COUNTIF($B$1:B2485,TRUE),\"\",COUNTIF($B$1:B2486,TRUE))","v":1492},{"$f":"IF(Worksheet!$D$10=2,FALSE,Worksheet!$D$14)","v":true},{"$f":"F2486*1000","v":1000},"g","=",{"$f":"IF(Worksheet!$D$6=1,RANDBETWEEN(1,99),IF(Worksheet!$D$6=2,CHOOSE(RANDBETWEEN(1,2),RANDBETWEEN(1,99),RANDBETWEEN(1,999)/10),CHOOSE(RANDBETWEEN(1,4),RANDBETWEEN(1,99999)/1000,RANDBETWEEN(1,9999)/100,RANDBETWEEN(1,999)/10,RANDBETWEEN(1,99))))","v":1},"kg"]
[{"$f":"IF(COUNTIF($B$1:B2487,TRUE)=COUNTIF($B$1:B2486,TRUE),\"\",COUNTIF($B$1:B2487,TRUE))","v":1493},{"$f":"IF(Worksheet!$D$10=2,FALSE,Worksheet!$D$15)","v":true},{"$f":"F2487*1000","v":22000},"kg","=",{"$f":"IF(Worksheet!$D$6=1,RANDBETWEEN(1,99),IF(Worksheet!$D$6=2,CHOOSE(RANDBETWEEN(1,2),RANDBETWEEN(1,99),RANDBETWEEN(1,999)/10),CHOOSE(RANDBETWEEN(1,4),RANDBETWEEN(1,99999)/1000,RANDBETWEEN(1,9999)/100,RANDBETWEEN(1,999)/10,RANDBETWEEN(1,99))))","v":22},"tonnes"]
[{"$f":"IF(COUNTIF($B$1:B2488,TRUE)=COUNTIF($B$1:B2487,TRUE),\"\",COUNTIF($B$1:B2488,TRUE))","v":1494},{"$f":"IF(Worksheet!$D$10=2,FALSE,Worksheet!$D$16)","v":true},{"$f":"1000*F2488","v":1000},"ml","=",{"$f":"IF(Worksheet!$D$6=1,RANDBETWEEN(1,99),IF(Worksheet!$D$6=2,CHOOSE(RANDBETWEEN(1,2),RANDBETWEEN(1,99),RANDBETWEEN(1,999)/10),CHOOSE(RANDBETWEEN(1,4),RANDBETWEEN(1,99999)/1000,RANDBETWEEN(1,9999)/100,RANDBETWEEN(1,999)/10,RANDBETWEEN(1,99))))","v":1},"litres"]
[{"$f":"IF(COUNTIF($B$1:B2489,TRUE)=COUNTIF($B$1:B2488,TRUE),\"\",COUNTIF($B$1:B2489,TRUE))","v":""},{"$f":"IF(Worksheet!$D$10=2,FALSE,Worksheet!$D$17)","v":false},{"$f":"1000*F2489","v":12000},"cm³","=",{"$f":"IF(Worksheet!$D$6=1,RANDBETWEEN(1,99),IF(Worksheet!$D$6=2,CHOOSE(RANDBETWEEN(1,2),RANDBETWEEN(1,99),RANDBETWEEN(1,999)/10),CHOOSE(RANDBETWEEN(1,4),RANDBETWEEN(1,99999)/1000,RANDBETWEEN(1,9999)/100,RANDBETWEEN(1,999)/10,RANDBETWEEN(1,99))))","v":12},"litres"]
[{"$f":"IF(COUNTIF($B$1:B2490,TRUE)=COUNTIF($B$1:B2489,TRUE),\"\",COUNTIF($B$1:B2490,TRUE))","v":""},{"$f":"IF(Worksheet!$D$10=2,FALSE,Worksheet!$D$18)","v":false},{"$f":"10000*F2490","v":120000},"cm²","=",{"$f":"IF(Worksheet!$D$6=1,RANDBETWEEN(1,99),IF(Worksheet!$D$6=2,CHOOSE(RANDBETWEEN(1,2),RANDBETWEEN(1,99),RANDBETWEEN(1,999)/10),CHOOSE(RANDBETWEEN(1,4),RANDBETWEEN(1,99999)/1000,RANDBETWEEN(1,9999)/100,RANDBETWEEN(1,999)/10,RANDBETWEEN(1,99))))","v":12},"m²"]
[{"$f":"IF(COUNTIF($B$1:B2491,TRUE)=COUNTIF($B$1:B2490,TRUE),\"\",COUNTIF($B$1:B2491,TRUE))","v":1495},{"$f":"IF(Worksheet!$D$10=3,FALSE,Worksheet!$B$14)","v":true},{"$f":"IF(Worksheet!$D$6=1,RANDBETWEEN(1,99),IF(Worksheet!$D$6=2,CHOOSE(RANDBETWEEN(1,2),RANDBETWEEN(1,99),RANDBETWEEN(1,999)/10),CHOOSE(RANDBETWEEN(1,4),RANDBETWEEN(1,99999)/1000,RANDBETWEEN(1,9999)/100,RANDBETWEEN(1,999)/10,RANDBETWEEN(1,99))))","v":18},"cm","=",{"$f":"10*C2491","v":180},"mm"]
[{"$f":"IF(COUNTIF($B$1:B2492,TRUE)=COUNTIF($B$1:B2491,TRUE),\"\",COUNTIF($B$1:B2492,TRUE))","v":1496},{"$f":"IF(Worksheet!$D$10=3,FALSE,Worksheet!$B$15)","v":true},{"$f":"IF(Worksheet!$D$6=1,RANDBETWEEN(1,99),IF(Worksheet!$D$6=2,CHOOSE(RANDBETWEEN(1,2),RANDBETWEEN(1,99),RANDBETWEEN(1,999)/10),CHOOSE(RANDBETWEEN(1,4),RANDBETWEEN(1,99999)/1000,RANDBETWEEN(1,9999)/100,RANDBETWEEN(1,999)/10,RANDBETWEEN(1,99))))","v":36},"m","=",{"$f":"100*C2492","v":3600},"cm"]
[{"$f":"IF(COUNTIF($B$1:B2493,TRUE)=COUNTIF($B$1:B2492,TRUE),\"\",COUNTIF($B$1:B2493,TRUE))","v":1497},{"$f":"IF(Worksheet!$D$10=3,FALSE,Worksheet!$B$16)","v":true},{"$f":"IF(Worksheet!$D$6=1,RANDBETWEEN(1,99),IF(Worksheet!$D$6=2,CHOOSE(RANDBETWEEN(1,2),RANDBETWEEN(1,99),RANDBETWEEN(1,999)/10),CHOOSE(RANDBETWEEN(1,4),RANDBETWEEN(1,99999)/1000,RANDBETWEEN(1,9999)/100,RANDBETWEEN(1,999)/10,RANDBETWEEN(1,99))))","v":20},"km","=",{"$f":"1000*C2493","v":20000},"m"]
[{"$f":"IF(COUNTIF($B$1:B2494,TRUE)=COUNTIF($B$1:B2493,TRUE),\"\",COUNTIF($B$1:B2494,TRUE))","v":""},{"$f":"IF(Worksheet!$D$10=3,FALSE,Worksheet!$B$17)","v":false},{"$f":"IF(Worksheet!$D$6=1,RANDBETWEEN(1,99),IF(Worksheet!$D$6=2,CHOOSE(RANDBETWEEN(1,2),RANDBETWEEN(1,99),RANDBETWEEN(1,999)/10),CHOOSE(RANDBETWEEN(1,4),RANDBETWEEN(1,99999)/1000,RANDBETWEEN(1,9999)/100,RANDBETWEEN(1,999)/10,RANDBETWEEN(1,99))))","v":44},"m",{"$f":"#REF!","v":{"$error":"#REF!"}},{"$f":"1000*C2494","v":44000},"mm"]
[{"$f":"IF(COUNTIF($B$1:B2495,TRUE)=COUNTIF($B$1:B2494,TRUE),\"\",COUNTIF($B$1:B2495,TRUE))","v":""},{"$f":"IF(Worksheet!$D$10=3,FALSE,Worksheet!$B$18)","v":false},{"$f":"IF(Worksheet!$D$6=1,RANDBETWEEN(1,99),IF(Worksheet!$D$6=2,CHOOSE(RANDBETWEEN(1,2),RANDBETWEEN(1,99),RANDBETWEEN(1,999)/10),CHOOSE(RANDBETWEEN(1,4),RANDBETWEEN(1,99999)/1000,RANDBETWEEN(1,9999)/100,RANDBETWEEN(1,999)/10,RANDBETWEEN(1,99))))","v":29},"cm²","=",{"$f":"C2495*100","v":2900},"mm²"]
[{"$f":"IF(COUNTIF($B$1:B2496,TRUE)=COUNTIF($B$1:B2495,TRUE),\"\",COUNTIF($B$1:B2496,TRUE))","v":1498},{"$f":"IF(Worksheet!$D$10=3,FALSE,Worksheet!$D$14)","v":true},{"$f":"IF(Worksheet!$D$6=1,RANDBETWEEN(1,99),IF(Worksheet!$D$6=2,CHOOSE(RANDBETWEEN(1,2),RANDBETWEEN(1,99),RANDBETWEEN(1,999)/10),CHOOSE(RANDBETWEEN(1,4),RANDBETWEEN(1,99999)/1000,RANDBETWEEN(1,9999)/100,RANDBETWEEN(1,999)/10,RANDBETWEEN(1,99))))","v":50},"kg","=",{"$f":"1000*C2496","v":50000},"g"]
[{"$f":"IF(COUNTIF($B$1:B2497,TRUE)=COUNTIF($B$1:B2496,TRUE),\"\",COUNTIF($B$1:B2497,TRUE))","v":1499},{"$f":"IF(Worksheet!$D$10=3,FALSE,Worksheet!$D$15)","v":true},{"$f":"IF(Worksheet!$D$6=1,RANDBETWEEN(1,99),IF(Worksheet!$D$6=2,CHOOSE(RANDBETWEEN(1,2),RANDBETWEEN(1,99),RANDBETWEEN(1,999)/10),CHOOSE(RANDBETWEEN(1,4),RANDBETWEEN(1,99999)/1000,RANDBETWEEN(1,9999)/100,RANDBETWEEN(1,999)/10,RANDBETWEEN(1,99))))","v":93},"tonnes","=",{"$f":"1000*C2497","v":93000},"kg"]
[{"$f":"IF(COUNTIF($B$1:B2498,TRUE)=COUNTIF($B$1:B2497,TRUE),\"\",COUNTIF($B$1:B2498,TRUE))","v":1500},{"$f":"IF(Worksheet!$D$10=3,FALSE,Worksheet!$D$16)","v":true},{"$f":"IF(Worksheet!$D$6=1,RANDBETWEEN(1,99),IF(Worksheet!$D$6=2,CHOOSE(RANDBETWEEN(1,2),RANDBETWEEN(1,99),RANDBETWEEN(1,999)/10),CHOOSE(RANDBETWEEN(1,4),RANDBETWEEN(1,99999)/1000,RANDBETWEEN(1,9999)/100,RANDBETWEEN(1,999)/10,RANDBETWEEN(1,99))))","v":54},"litres","=",{"$f":"1000*C2498","v":54000},"ml"]
[{"$f":"IF(COUNTIF($B$1:B2499,TRUE)=COUNTIF($B$1:B2498,TRUE),\"\",COUNTIF($B$1:B2499,TRUE))","v":""},{"$f":"IF(Worksheet!$D$10=3,FALSE,Worksheet!$D$17)","v":false},{"$f":"IF(Worksheet!$D$6=1,RANDBETWEEN(1,99),IF(Worksheet!$D$6=2,CHOOSE(RANDBETWEEN(1,2),RANDBETWEEN(1,99),RANDBETWEEN(1,999)/10),CHOOSE(RANDBETWEEN(1,4),RANDBETWEEN(1,99999)/1000,RANDBETWEEN(1,9999)/100,RANDBETWEEN(1,999)/10,RANDBETWEEN(1,99))))","v":5},"litres","=",{"$f":"1000*C2499","v":5000},"cm³"]
[{"$f":"IF(COUNTIF($B$1:B2500,TRUE)=COUNTIF($B$1:B2499,TRUE),\"\",COUNTIF($B$1:B2500,TRUE))","v":""},{"$f":"IF(Worksheet!$D$10=3,FALSE,Worksheet!$D$18)","v":false},{"$f":"IF(Worksheet!$D$6=1,RANDBETWEEN(1,99),IF(Worksheet!$D$6=2,CHOOSE(RANDBETWEEN(1,2),RANDBETWEEN(1,99),RANDBETWEEN(1,999)/10),CHOOSE(RANDBETWEEN(1,4),RANDBETWEEN(1,99999)/1000,RANDBETWEEN(1,9999)/100,RANDBETWEEN(1,999)/10,RANDBETWEEN(1,99))))","v":53},"m²","=",{"$f":"10000*C2500","v":530000},"cm²"]
[{"$f":"IF(COUNTIF($B$1:B2501,TRUE)=COUNTIF($B$1:B2500,TRUE),\"\",COUNTIF($B$1:B2501,TRUE))","v":1501},{"$f":"IF(Worksheet!$D$10=2,FALSE,Worksheet!$B$14)","v":true},{"$f":"10*F2501","v":570},"mm","=",{"$f":"IF(Worksheet!$D$6=1,RANDBETWEEN(1,99),IF(Worksheet!$D$6=2,CHOOSE(RANDBETWEEN(1,2),RANDBETWEEN(1,99),RANDBETWEEN(1,999)/10),CHOOSE(RANDBETWEEN(1,4),RANDBETWEEN(1,99999)/1000,RANDBETWEEN(1,9999)/100,RANDBETWEEN(1,999)/10,RANDBETWEEN(1,99))))","v":57},"cm"]
[{"$f":"IF(COUNTIF($B$1:B2502,TRUE)=COUNTIF($B$1:B2501,TRUE),\"\",COUNTIF($B$1:B2502,TRUE))","v":1502},{"$f":"IF(Worksheet!$D$10=2,FALSE,Worksheet!$B$15)","v":true},{"$f":"100*F2502","v":1100},"cm","=",{"$f":"IF(Worksheet!$D$6=1,RANDBETWEEN(1,99),IF(Worksheet!$D$6=2,CHOOSE(RANDBETWEEN(1,2),RANDBETWEEN(1,99),RANDBETWEEN(1,999)/10),CHOOSE(RANDBETWEEN(1,4),RANDBETWEEN(1,99999)/1000,RANDBETWEEN(1,9999)/100,RANDBETWEEN(1,999)/10,RANDBETWEEN(1,99))))","v":11},"m"]
[{"$f":"IF(COUNTIF($B$1:B2503,TRUE)=COUNTIF($B$1:B2502,TRUE),\"\",COUNTIF($B$1:B2503,TRUE))","v":1503},{"$f":"IF(Worksheet!$D$10=2,FALSE,Worksheet!$B$16)","v":true},{"$f":"1000*F2503","v":13000},"m","=",{"$f":"IF(Worksheet!$D$6=1,RANDBETWEEN(1,99),IF(Worksheet!$D$6=2,CHOOSE(RANDBETWEEN(1,2),RANDBETWEEN(1,99),RANDBETWEEN(1,999)/10),CHOOSE(RANDBETWEEN(1,4),RANDBETWEEN(1,99999)/1000,RANDBETWEEN(1,9999)/100,RANDBETWEEN(1,999)/10,RANDBETWEEN(1,99))))","v":13},"km"]
[{"$f":"IF(COUNTIF($B$1:B2504,TRUE)=COUNTIF($B$1:B2503,TRUE),\"\",COUNTIF($B$1:B2504,TRUE))","v":""},{"$f":"IF(Worksheet!$D$10=2,FALSE,Worksheet!$B$17)","v":false},{"$f":"1000*F2504","v":77000},"mm","=",{"$f":"IF(Worksheet!$D$6=1,RANDBETWEEN(1,99),IF(Worksheet!$D$6=2,CHOOSE(RANDBETWEEN(1,2),RANDBETWEEN(1,99),RANDBETWEEN(1,999)/10),CHOOSE(RANDBETWEEN(1,4),RANDBETWEEN(1,99999)/1000,RANDBETWEEN(1,9999)/100,RANDBETWEEN(1,999)/10,RANDBETWEEN(1,99))))","v":77},"m"]
[{"$f":"IF(COUNTIF($B$1:B2505,TRUE)=COUNTIF($B$1:B2504,TRUE),\"\",COUNTIF($B$1:B2505,TRUE))","v":""},{"$f":"IF(Worksheet!$D$10=2,FALSE,Worksheet!$B$18)","v":false},{"$f":"100*F2505","v":1900},"mm²","=",{"$f":"IF(Worksheet!$D$6=1,RANDBETWEEN(1,99),IF(Worksheet!$D$6=2,CHOOSE(RANDBETWEEN(1,2),RANDBETWEEN(1,99),RANDBETWEEN(1,999)/10),CHOOSE(RANDBETWEEN(1,4),RANDBETWEEN(1,99999)/1000,RANDBETWEEN(1,9999)/100,RANDBETWEEN(1,999)/10,RANDBETWEEN(1,99))))","v":19},"cm²"]
[{"$f":"IF(COUNTIF($B$1:B2506,TRUE)=COUNTIF($B$1:B2505,TRUE),\"\",COUNTIF($B$1:B2506,TRUE))","v":1504},{"$f":"IF(Worksheet!$D$10=2,FALSE,Worksheet!$D$14)","v":true},{"$f":"F2506*1000","v":31000},"g","=",{"$f":"IF(Worksheet!$D$6=1,RANDBETWEEN(1,99),IF(Worksheet!$D$6=2,CHOOSE(RANDBETWEEN(1,2),RANDBETWEEN(1,99),RANDBETWEEN(1,999)/10),CHOOSE(RANDBETWEEN(1,4),RANDBETWEEN(1,99999)/1000,RANDBETWEEN(1,9999)/100,RANDBETWEEN(1,999)/10,RANDBETWEEN(1,99))))","v":31},"kg"]
[{"$f":"IF(COUNTIF($B$1:B2507,TRUE)=COUNTIF($B$1:B2506,TRUE),\"\",COUNTIF($B$1:B2507,TRUE))","v":1505},{"$f":"IF(Worksheet!$D$10=2,FALSE,Worksheet!$D$15)","v":true},{"$f":"F2507*1000","v":18000},"kg","=",{"$f":"IF(Worksheet!$D$6=1,RANDBETWEEN(1,99),IF(Worksheet!$D$6=2,CHOOSE(RANDBETWEEN(1,2),RANDBETWEEN(1,99),RANDBETWEEN(1,999)/10),CHOOSE(RANDBETWEEN(1,4),RANDBETWEEN(1,99999)/1000,RANDBETWEEN(1,9999)/100,RANDBETWEEN(1,999)/10,RANDBETWEEN(1,99))))","v":18},"tonnes"]
[{"$f":"IF(COUNTIF($B$1:B2508,TRUE)=COUNTIF($B$1:B2507,TRUE),\"\",COUNTIF($B$1:B2508,TRUE))","v":1506},{"$f":"IF(Worksheet!$D$10=2,FALSE,Worksheet!$D$16)","v":true},{"$f":"1000*F2508","v":86000},"ml","=",{"$f":"IF(Worksheet!$D$6=1,RANDBETWEEN(1,99),IF(Worksheet!$D$6=2,CHOOSE(RANDBETWEEN(1,2),RANDBETWEEN(1,99),RANDBETWEEN(1,999)/10),CHOOSE(RANDBETWEEN(1,4),RANDBETWEEN(1,99999)/1000,RANDBETWEEN(1,9999)/100,RANDBETWEEN(1,999)/10,RANDBETWEEN(1,99))))","v":86},"litres"]
[{"$f":"IF(COUNTIF($B$1:B2509,TRUE)=COUNTIF($B$1:B2508,TRUE),\"\",COUNTIF($B$1:B2509,TRUE))","v":""},{"$f":"IF(Worksheet!$D$10=2,FALSE,Worksheet!$D$17)","v":false},{"$f":"1000*F2509","v":10000},"cm³","=",{"$f":"IF(Worksheet!$D$6=1,RANDBETWEEN(1,99),IF(Worksheet!$D$6=2,CHOOSE(RANDBETWEEN(1,2),RANDBETWEEN(1,99),RANDBETWEEN(1,999)/10),CHOOSE(RANDBETWEEN(1,4),RANDBETWEEN(1,99999)/1000,RANDBETWEEN(1,9999)/100,RANDBETWEEN(1,999)/10,RANDBETWEEN(1,99))))","v":10},"litres"]
[{"$f":"IF(COUNTIF($B$1:B2510,TRUE)=COUNTIF($B$1:B2509,TRUE),\"\",COUNTIF($B$1:B2510,TRUE))","v":""},{"$f":"IF(Worksheet!$D$10=2,FALSE,Worksheet!$D$18)","v":false},{"$f":"10000*F2510","v":310000},"cm²","=",{"$f":"IF(Worksheet!$D$6=1,RANDBETWEEN(1,99),IF(Worksheet!$D$6=2,CHOOSE(RANDBETWEEN(1,2),RANDBETWEEN(1,99),RANDBETWEEN(1,999)/10),CHOOSE(RANDBETWEEN(1,4),RANDBETWEEN(1,99999)/1000,RANDBETWEEN(1,9999)/100,RANDBETWEEN(1,999)/10,RANDBETWEEN(1,99))))","v":31},"m²"]
[{"$f":"IF(COUNTIF($B$1:B2511,TRUE)=COUNTIF($B$1:B2510,TRUE),\"\",COUNTIF($B$1:B2511,TRUE))","v":1507},{"$f":"IF(Worksheet!$D$10=3,FALSE,Worksheet!$B$14)","v":true},{"$f":"IF(Worksheet!$D$6=1,RANDBETWEEN(1,99),IF(Worksheet!$D$6=2,CHOOSE(RANDBETWEEN(1,2),RANDBETWEEN(1,99),RANDBETWEEN(1,999)/10),CHOOSE(RANDBETWEEN(1,4),RANDBETWEEN(1,99999)/1000,RANDBETWEEN(1,9999)/100,RANDBETWEEN(1,999)/10,RANDBETWEEN(1,99))))","v":19},"cm","=",{"$f":"10*C2511","v":190},"mm"]
[{"$f":"IF(COUNTIF($B$1:B2512,TRUE)=COUNTIF($B$1:B2511,TRUE),\"\",COUNTIF($B$1:B2512,TRUE))","v":1508},{"$f":"IF(Worksheet!$D$10=3,FALSE,Worksheet!$B$15)","v":true},{"$f":"IF(Worksheet!$D$6=1,RANDBETWEEN(1,99),IF(Worksheet!$D$6=2,CHOOSE(RANDBETWEEN(1,2),RANDBETWEEN(1,99),RANDBETWEEN(1,999)/10),CHOOSE(RANDBETWEEN(1,4),RANDBETWEEN(1,99999)/1000,RANDBETWEEN(1,9999)/100,RANDBETWEEN(1,999)/10,RANDBETWEEN(1,99))))","v":55},"m","=",{"$f":"100*C2512","v":5500},"cm"]
[{"$f":"IF(COUNTIF($B$1:B2513,TRUE)=COUNTIF($B$1:B2512,TRUE),\"\",COUNTIF($B$1:B2513,TRUE))","v":1509},{"$f":"IF(Worksheet!$D$10=3,FALSE,Worksheet!$B$16)","v":true},{"$f":"IF(Worksheet!$D$6=1,RANDBETWEEN(1,99),IF(Worksheet!$D$6=2,CHOOSE(RANDBETWEEN(1,2),RANDBETWEEN(1,99),RANDBETWEEN(1,999)/10),CHOOSE(RANDBETWEEN(1,4),RANDBETWEEN(1,99999)/1000,RANDBETWEEN(1,9999)/100,RANDBETWEEN(1,999)/10,RANDBETWEEN(1,99))))","v":9},"km","=",{"$f":"1000*C2513","v":9000},"m"]
[{"$f":"IF(COUNTIF($B$1:B2514,TRUE)=COUNTIF($B$1:B2513,TRUE),\"\",COUNTIF($B$1:B2514,TRUE))","v":""},{"$f":"IF(Worksheet!$D$10=3,FALSE,Worksheet!$B$17)","v":false},{"$f":"IF(Worksheet!$D$6=1,RANDBETWEEN(1,99),IF(Worksheet!$D$6=2,CHOOSE(RANDBETWEEN(1,2),RANDBETWEEN(1,99),RANDBETWEEN(1,999)/10),CHOOSE(RANDBETWEEN(1,4),RANDBETWEEN(1,99999)/1000,RANDBETWEEN(1,9999)/100,RANDBETWEEN(1,999)/10,RANDBETWEEN(1,99))))","v":17},"m",{"$f":"#REF!","v":{"$error":"#REF!"}},{"$f":"1000*C2514","v":17000},"mm"]
[{"$f":"IF(COUNTIF($B$1:B2515,TRUE)=COUNTIF($B$1:B2514,TRUE),\"\",COUNTIF($B$1:B2515,TRUE))","v":""},{"$f":"IF(Worksheet!$D$10=3,FALSE,Worksheet!$B$18)","v":false},{"$f":"IF(Worksheet!$D$6=1,RANDBETWEEN(1,99),IF(Worksheet!$D$6=2,CHOOSE(RANDBETWEEN(1,2),RANDBETWEEN(1,99),RANDBETWEEN(1,999)/10),CHOOSE(RANDBETWEEN(1,4),RANDBETWEEN(1,99999)/1000,RANDBETWEEN(1,9999)/100,RANDBETWEEN(1,999)/10,RANDBETWEEN(1,99))))","v":74},"cm²","=",{"$f":"C2515*100","v":7400},"mm²"]
[{"$f":"IF(COUNTIF($B$1:B2516,TRUE)=COUNTIF($B$1:B2515,TRUE),\"\",COUNTIF($B$1:B2516,TRUE))","v":1510},{"$f":"IF(Worksheet!$D$10=3,FALSE,Worksheet!$D$14)","v":true},{"$f":"IF(Worksheet!$D$6=1,RANDBETWEEN(1,99),IF(Worksheet!$D$6=2,CHOOSE(RANDBETWEEN(1,2),RANDBETWEEN(1,99),RANDBETWEEN(1,999)/10),CHOOSE(RANDBETWEEN(1,4),RANDBETWEEN(1,99999)/1000,RANDBETWEEN(1,9999)/100,RANDBETWEEN(1,999)/10,RANDBETWEEN(1,99))))","v":23},"kg","=",{"$f":"1000*C2516","v":23000},"g"]
[{"$f":"IF(COUNTIF($B$1:B2517,TRUE)=COUNTIF($B$1:B2516,TRUE),\"\",COUNTIF($B$1:B2517,TRUE))","v":1511},{"$f":"IF(Worksheet!$D$10=3,FALSE,Worksheet!$D$15)","v":true},{"$f":"IF(Worksheet!$D$6=1,RANDBETWEEN(1,99),IF(Worksheet!$D$6=2,CHOOSE(RANDBETWEEN(1,2),RANDBETWEEN(1,99),RANDBETWEEN(1,999)/10),CHOOSE(RANDBETWEEN(1,4),RANDBETWEEN(1,99999)/1000,RANDBETWEEN(1,9999)/100,RANDBETWEEN(1,999)/10,RANDBETWEEN(1,99))))","v":42},"tonnes","=",{"$f":"1000*C2517","v":42000},"kg"]
[{"$f":"IF(COUNTIF($B$1:B2518,TRUE)=COUNTIF($B$1:B2517,TRUE),\"\",COUNTIF($B$1:B2518,TRUE))","v":1512},{"$f":"IF(Worksheet!$D$10=3,FALSE,Worksheet!$D$16)","v":true},{"$f":"IF(Worksheet!$D$6=1,RANDBETWEEN(1,99),IF(Worksheet!$D$6=2,CHOOSE(RANDBETWEEN(1,2),RANDBETWEEN(1,99),RANDBETWEEN(1,999)/10),CHOOSE(RANDBETWEEN(1,4),RANDBETWEEN(1,99999)/1000,RANDBETWEEN(1,9999)/100,RANDBETWEEN(1,999)/10,RANDBETWEEN(1,99))))","v":47},"litres","=",{"$f":"1000*C2518","v":47000},"ml"]
[{"$f":"IF(COUNTIF($B$1:B2519,TRUE)=COUNTIF($B$1:B2518,TRUE),\"\",COUNTIF($B$1:B2519,TRUE))","v":""},{"$f":"IF(Worksheet!$D$10=3,FALSE,Worksheet!$D$17)","v":false},{"$f":"IF(Worksheet!$D$6=1,RANDBETWEEN(1,99),IF(Worksheet!$D$6=2,CHOOSE(RANDBETWEEN(1,2),RANDBETWEEN(1,99),RANDBETWEEN(1,999)/10),CHOOSE(RANDBETWEEN(1,4),RANDBETWEEN(1,99999)/1000,RANDBETWEEN(1,9999)/100,RANDBETWEEN(1,999)/10,RANDBETWEEN(1,99))))","v":14},"litres","=",{"$f":"1000*C2519","v":14000},"cm³"]
[{"$f":"IF(COUNTIF($B$1:B2520,TRUE)=COUNTIF($B$1:B2519,TRUE),\"\",COUNTIF($B$1:B2520,TRUE))","v":""},{"$f":"IF(Worksheet!$D$10=3,FALSE,Worksheet!$D$18)","v":false},{"$f":"IF(Worksheet!$D$6=1,RANDBETWEEN(1,99),IF(Worksheet!$D$6=2,CHOOSE(RANDBETWEEN(1,2),RANDBETWEEN(1,99),RANDBETWEEN(1,999)/10),CHOOSE(RANDBETWEEN(1,4),RANDBETWEEN(1,99999)/1000,RANDBETWEEN(1,9999)/100,RANDBETWEEN(1,999)/10,RANDBETWEEN(1,99))))","v":7},"m²","=",{"$f":"10000*C2520","v":70000},"cm²"]
[{"$f":"IF(COUNTIF($B$1:B2521,TRUE)=COUNTIF($B$1:B2520,TRUE),\"\",COUNTIF($B$1:B2521,TRUE))","v":1513},{"$f":"IF(Worksheet!$D$10=2,FALSE,Worksheet!$B$14)","v":true},{"$f":"10*F2521","v":250},"mm","=",{"$f":"IF(Worksheet!$D$6=1,RANDBETWEEN(1,99),IF(Worksheet!$D$6=2,CHOOSE(RANDBETWEEN(1,2),RANDBETWEEN(1,99),RANDBETWEEN(1,999)/10),CHOOSE(RANDBETWEEN(1,4),RANDBETWEEN(1,99999)/1000,RANDBETWEEN(1,9999)/100,RANDBETWEEN(1,999)/10,RANDBETWEEN(1,99))))","v":25},"cm"]
[{"$f":"IF(COUNTIF($B$1:B2522,TRUE)=COUNTIF($B$1:B2521,TRUE),\"\",COUNTIF($B$1:B2522,TRUE))","v":1514},{"$f":"IF(Worksheet!$D$10=2,FALSE,Worksheet!$B$15)","v":true},{"$f":"100*F2522","v":900},"cm","=",{"$f":"IF(Worksheet!$D$6=1,RANDBETWEEN(1,99),IF(Worksheet!$D$6=2,CHOOSE(RANDBETWEEN(1,2),RANDBETWEEN(1,99),RANDBETWEEN(1,999)/10),CHOOSE(RANDBETWEEN(1,4),RANDBETWEEN(1,99999)/1000,RANDBETWEEN(1,9999)/100,RANDBETWEEN(1,999)/10,RANDBETWEEN(1,99))))","v":9},"m"]
[{"$f":"IF(COUNTIF($B$1:B2523,TRUE)=COUNTIF($B$1:B2522,TRUE),\"\",COUNTIF($B$1:B2523,TRUE))","v":1515},{"$f":"IF(Worksheet!$D$10=2,FALSE,Worksheet!$B$16)","v":true},{"$f":"1000*F2523","v":96000},"m","=",{"$f":"IF(Worksheet!$D$6=1,RANDBETWEEN(1,99),IF(Worksheet!$D$6=2,CHOOSE(RANDBETWEEN(1,2),RANDBETWEEN(1,99),RANDBETWEEN(1,999)/10),CHOOSE(RANDBETWEEN(1,4),RANDBETWEEN(1,99999)/1000,RANDBETWEEN(1,9999)/100,RANDBETWEEN(1,999)/10,RANDBETWEEN(1,99))))","v":96},"km"]
[{"$f":"IF(COUNTIF($B$1:B2524,TRUE)=COUNTIF($B$1:B2523,TRUE),\"\",COUNTIF($B$1:B2524,TRUE))","v":""},{"$f":"IF(Worksheet!$D$10=2,FALSE,Worksheet!$B$17)","v":false},{"$f":"1000*F2524","v":89000},"mm","=",{"$f":"IF(Worksheet!$D$6=1,RANDBETWEEN(1,99),IF(Worksheet!$D$6=2,CHOOSE(RANDBETWEEN(1,2),RANDBETWEEN(1,99),RANDBETWEEN(1,999)/10),CHOOSE(RANDBETWEEN(1,4),RANDBETWEEN(1,99999)/1000,RANDBETWEEN(1,9999)/100,RANDBETWEEN(1,999)/10,RANDBETWEEN(1,99))))","v":89},"m"]
[{"$f":"IF(COUNTIF($B$1:B2525,TRUE)=COUNTIF($B$1:B2524,TRUE),\"\",COUNTIF($B$1:B2525,TRUE))","v":""},{"$f":"IF(Worksheet!$D$10=2,FALSE,Worksheet!$B$18)","v":false},{"$f":"100*F2525","v":7800},"mm²","=",{"$f":"IF(Worksheet!$D$6=1,RANDBETWEEN(1,99),IF(Worksheet!$D$6=2,CHOOSE(RANDBETWEEN(1,2),RANDBETWEEN(1,99),RANDBETWEEN(1,999)/10),CHOOSE(RANDBETWEEN(1,4),RANDBETWEEN(1,99999)/1000,RANDBETWEEN(1,9999)/100,RANDBETWEEN(1,999)/10,RANDBETWEEN(1,99))))","v":78},"cm²"]
[{"$f":"IF(COUNTIF($B$1:B2526,TRUE)=COUNTIF($B$1:B2525,TRUE),\"\",COUNTIF($B$1:B2526,TRUE))","v":1516},{"$f":"IF(Worksheet!$D$10=2,FALSE,Worksheet!$D$14)","v":true},{"$f":"F2526*1000","v":7000},"g","=",{"$f":"IF(Worksheet!$D$6=1,RANDBETWEEN(1,99),IF(Worksheet!$D$6=2,CHOOSE(RANDBETWEEN(1,2),RANDBETWEEN(1,99),RANDBETWEEN(1,999)/10),CHOOSE(RANDBETWEEN(1,4),RANDBETWEEN(1,99999)/1000,RANDBETWEEN(1,9999)/100,RANDBETWEEN(1,999)/10,RANDBETWEEN(1,99))))","v":7},"kg"]
[{"$f":"IF(COUNTIF($B$1:B2527,TRUE)=COUNTIF($B$1:B2526,TRUE),\"\",COUNTIF($B$1:B2527,TRUE))","v":1517},{"$f":"IF(Worksheet!$D$10=2,FALSE,Worksheet!$D$15)","v":true},{"$f":"F2527*1000","v":72000},"kg","=",{"$f":"IF(Worksheet!$D$6=1,RANDBETWEEN(1,99),IF(Worksheet!$D$6=2,CHOOSE(RANDBETWEEN(1,2),RANDBETWEEN(1,99),RANDBETWEEN(1,999)/10),CHOOSE(RANDBETWEEN(1,4),RANDBETWEEN(1,99999)/1000,RANDBETWEEN(1,9999)/100,RANDBETWEEN(1,999)/10,RANDBETWEEN(1,99))))","v":72},"tonnes"]
[{"$f":"IF(COUNTIF($B$1:B2528,TRUE)=COUNTIF($B$1:B2527,TRUE),\"\",COUNTIF($B$1:B2528,TRUE))","v":1518},{"$f":"IF(Worksheet!$D$10=2,FALSE,Worksheet!$D$16)","v":true},{"$f":"1000*F2528","v":80000},"ml","=",{"$f":"IF(Worksheet!$D$6=1,RANDBETWEEN(1,99),IF(Worksheet!$D$6=2,CHOOSE(RANDBETWEEN(1,2),RANDBETWEEN(1,99),RANDBETWEEN(1,999)/10),CHOOSE(RANDBETWEEN(1,4),RANDBETWEEN(1,99999)/1000,RANDBETWEEN(1,9999)/100,RANDBETWEEN(1,999)/10,RANDBETWEEN(1,99))))","v":80},"litres"]
[{"$f":"IF(COUNTIF($B$1:B2529,TRUE)=COUNTIF($B$1:B2528,TRUE),\"\",COUNTIF($B$1:B2529,TRUE))","v":""},{"$f":"IF(Worksheet!$D$10=2,FALSE,Worksheet!$D$17)","v":false},{"$f":"1000*F2529","v":64000},"cm³","=",{"$f":"IF(Worksheet!$D$6=1,RANDBETWEEN(1,99),IF(Worksheet!$D$6=2,CHOOSE(RANDBETWEEN(1,2),RANDBETWEEN(1,99),RANDBETWEEN(1,999)/10),CHOOSE(RANDBETWEEN(1,4),RANDBETWEEN(1,99999)/1000,RANDBETWEEN(1,9999)/100,RANDBETWEEN(1,999)/10,RANDBETWEEN(1,99))))","v":64},"litres"]
[{"$f":"IF(COUNTIF($B$1:B2530,TRUE)=COUNTIF($B$1:B2529,TRUE),\"\",COUNTIF($B$1:B2530,TRUE))","v":""},{"$f":"IF(Worksheet!$D$10=2,FALSE,Worksheet!$D$18)","v":false},{"$f":"10000*F2530","v":150000},"cm²","=",{"$f":"IF(Worksheet!$D$6=1,RANDBETWEEN(1,99),IF(Worksheet!$D$6=2,CHOOSE(RANDBETWEEN(1,2),RANDBETWEEN(1,99),RANDBETWEEN(1,999)/10),CHOOSE(RANDBETWEEN(1,4),RANDBETWEEN(1,99999)/1000,RANDBETWEEN(1,9999)/100,RANDBETWEEN(1,999)/10,RANDBETWEEN(1,99))))","v":15},"m²"]
[{"$f":"IF(COUNTIF($B$1:B2531,TRUE)=COUNTIF($B$1:B2530,TRUE),\"\",COUNTIF($B$1:B2531,TRUE))","v":1519},{"$f":"IF(Worksheet!$D$10=3,FALSE,Worksheet!$B$14)","v":true},{"$f":"IF(Worksheet!$D$6=1,RANDBETWEEN(1,99),IF(Worksheet!$D$6=2,CHOOSE(RANDBETWEEN(1,2),RANDBETWEEN(1,99),RANDBETWEEN(1,999)/10),CHOOSE(RANDBETWEEN(1,4),RANDBETWEEN(1,99999)/1000,RANDBETWEEN(1,9999)/100,RANDBETWEEN(1,999)/10,RANDBETWEEN(1,99))))","v":42},"cm","=",{"$f":"10*C2531","v":420},"mm"]
[{"$f":"IF(COUNTIF($B$1:B2532,TRUE)=COUNTIF($B$1:B2531,TRUE),\"\",COUNTIF($B$1:B2532,TRUE))","v":1520},{"$f":"IF(Worksheet!$D$10=3,FALSE,Worksheet!$B$15)","v":true},{"$f":"IF(Worksheet!$D$6=1,RANDBETWEEN(1,99),IF(Worksheet!$D$6=2,CHOOSE(RANDBETWEEN(1,2),RANDBETWEEN(1,99),RANDBETWEEN(1,999)/10),CHOOSE(RANDBETWEEN(1,4),RANDBETWEEN(1,99999)/1000,RANDBETWEEN(1,9999)/100,RANDBETWEEN(1,999)/10,RANDBETWEEN(1,99))))","v":10},"m","=",{"$f":"100*C2532","v":1000},"cm"]
[{"$f":"IF(COUNTIF($B$1:B2533,TRUE)=COUNTIF($B$1:B2532,TRUE),\"\",COUNTIF($B$1:B2533,TRUE))","v":1521},{"$f":"IF(Worksheet!$D$10=3,FALSE,Worksheet!$B$16)","v":true},{"$f":"IF(Worksheet!$D$6=1,RANDBETWEEN(1,99),IF(Worksheet!$D$6=2,CHOOSE(RANDBETWEEN(1,2),RANDBETWEEN(1,99),RANDBETWEEN(1,999)/10),CHOOSE(RANDBETWEEN(1,4),RANDBETWEEN(1,99999)/1000,RANDBETWEEN(1,9999)/100,RANDBETWEEN(1,999)/10,RANDBETWEEN(1,99))))","v":79},"km","=",{"$f":"1000*C2533","v":79000},"m"]
[{"$f":"IF(COUNTIF($B$1:B2534,TRUE)=COUNTIF($B$1:B2533,TRUE),\"\",COUNTIF($B$1:B2534,TRUE))","v":""},{"$f":"IF(Worksheet!$D$10=3,FALSE,Worksheet!$B$17)","v":false},{"$f":"IF(Worksheet!$D$6=1,RANDBETWEEN(1,99),IF(Worksheet!$D$6=2,CHOOSE(RANDBETWEEN(1,2),RANDBETWEEN(1,99),RANDBETWEEN(1,999)/10),CHOOSE(RANDBETWEEN(1,4),RANDBETWEEN(1,99999)/1000,RANDBETWEEN(1,9999)/100,RANDBETWEEN(1,999)/10,RANDBETWEEN(1,99))))","v":35},"m",{"$f":"#REF!","v":{"$error":"#REF!"}},{"$f":"1000*C2534","v":35000},"mm"]
[{"$f":"IF(COUNTIF($B$1:B2535,TRUE)=COUNTIF($B$1:B2534,TRUE),\"\",COUNTIF($B$1:B2535,TRUE))","v":""},{"$f":"IF(Worksheet!$D$10=3,FALSE,Worksheet!$B$18)","v":false},{"$f":"IF(Worksheet!$D$6=1,RANDBETWEEN(1,99),IF(Worksheet!$D$6=2,CHOOSE(RANDBETWEEN(1,2),RANDBETWEEN(1,99),RANDBETWEEN(1,999)/10),CHOOSE(RANDBETWEEN(1,4),RANDBETWEEN(1,99999)/1000,RANDBETWEEN(1,9999)/100,RANDBETWEEN(1,999)/10,RANDBETWEEN(1,99))))","v":62},"cm²","=",{"$f":"C2535*100","v":6200},"mm²"]
[{"$f":"IF(COUNTIF($B$1:B2536,TRUE)=COUNTIF($B$1:B2535,TRUE),\"\",COUNTIF($B$1:B2536,TRUE))","v":1522},{"$f":"IF(Worksheet!$D$10=3,FALSE,Worksheet!$D$14)","v":true},{"$f":"IF(Worksheet!$D$6=1,RANDBETWEEN(1,99),IF(Worksheet!$D$6=2,CHOOSE(RANDBETWEEN(1,2),RANDBETWEEN(1,99),RANDBETWEEN(1,999)/10),CHOOSE(RANDBETWEEN(1,4),RANDBETWEEN(1,99999)/1000,RANDBETWEEN(1,9999)/100,RANDBETWEEN(1,999)/10,RANDBETWEEN(1,99))))","v":44},"kg","=",{"$f":"1000*C2536","v":44000},"g"]
[{"$f":"IF(COUNTIF($B$1:B2537,TRUE)=COUNTIF($B$1:B2536,TRUE),\"\",COUNTIF($B$1:B2537,TRUE))","v":1523},{"$f":"IF(Worksheet!$D$10=3,FALSE,Worksheet!$D$15)","v":true},{"$f":"IF(Worksheet!$D$6=1,RANDBETWEEN(1,99),IF(Worksheet!$D$6=2,CHOOSE(RANDBETWEEN(1,2),RANDBETWEEN(1,99),RANDBETWEEN(1,999)/10),CHOOSE(RANDBETWEEN(1,4),RANDBETWEEN(1,99999)/1000,RANDBETWEEN(1,9999)/100,RANDBETWEEN(1,999)/10,RANDBETWEEN(1,99))))","v":22},"tonnes","=",{"$f":"1000*C2537","v":22000},"kg"]
[{"$f":"IF(COUNTIF($B$1:B2538,TRUE)=COUNTIF($B$1:B2537,TRUE),\"\",COUNTIF($B$1:B2538,TRUE))","v":1524},{"$f":"IF(Worksheet!$D$10=3,FALSE,Worksheet!$D$16)","v":true},{"$f":"IF(Worksheet!$D$6=1,RANDBETWEEN(1,99),IF(Worksheet!$D$6=2,CHOOSE(RANDBETWEEN(1,2),RANDBETWEEN(1,99),RANDBETWEEN(1,999)/10),CHOOSE(RANDBETWEEN(1,4),RANDBETWEEN(1,99999)/1000,RANDBETWEEN(1,9999)/100,RANDBETWEEN(1,999)/10,RANDBETWEEN(1,99))))","v":13},"litres","=",{"$f":"1000*C2538","v":13000},"ml"]
[{"$f":"IF(COUNTIF($B$1:B2539,TRUE)=COUNTIF($B$1:B2538,TRUE),\"\",COUNTIF($B$1:B2539,TRUE))","v":""},{"$f":"IF(Worksheet!$D$10=3,FALSE,Worksheet!$D$17)","v":false},{"$f":"IF(Worksheet!$D$6=1,RANDBETWEEN(1,99),IF(Worksheet!$D$6=2,CHOOSE(RANDBETWEEN(1,2),RANDBETWEEN(1,99),RANDBETWEEN(1,999)/10),CHOOSE(RANDBETWEEN(1,4),RANDBETWEEN(1,99999)/1000,RANDBETWEEN(1,9999)/100,RANDBETWEEN(1,999)/10,RANDBETWEEN(1,99))))","v":49},"litres","=",{"$f":"1000*C2539","v":49000},"cm³"]
[{"$f":"IF(COUNTIF($B$1:B2540,TRUE)=COUNTIF($B$1:B2539,TRUE),\"\",COUNTIF($B$1:B2540,TRUE))","v":""},{"$f":"IF(Worksheet!$D$10=3,FALSE,Worksheet!$D$18)","v":false},{"$f":"IF(Worksheet!$D$6=1,RANDBETWEEN(1,99),IF(Worksheet!$D$6=2,CHOOSE(RANDBETWEEN(1,2),RANDBETWEEN(1,99),RANDBETWEEN(1,999)/10),CHOOSE(RANDBETWEEN(1,4),RANDBETWEEN(1,99999)/1000,RANDBETWEEN(1,9999)/100,RANDBETWEEN(1,999)/10,RANDBETWEEN(1,99))))","v":57},"m²","=",{"$f":"10000*C2540","v":570000},"cm²"]
[{"$f":"IF(COUNTIF($B$1:B2541,TRUE)=COUNTIF($B$1:B2540,TRUE),\"\",COUNTIF($B$1:B2541,TRUE))","v":1525},{"$f":"IF(Worksheet!$D$10=2,FALSE,Worksheet!$B$14)","v":true},{"$f":"10*F2541","v":390},"mm","=",{"$f":"IF(Worksheet!$D$6=1,RANDBETWEEN(1,99),IF(Worksheet!$D$6=2,CHOOSE(RANDBETWEEN(1,2),RANDBETWEEN(1,99),RANDBETWEEN(1,999)/10),CHOOSE(RANDBETWEEN(1,4),RANDBETWEEN(1,99999)/1000,RANDBETWEEN(1,9999)/100,RANDBETWEEN(1,999)/10,RANDBETWEEN(1,99))))","v":39},"cm"]
[{"$f":"IF(COUNTIF($B$1:B2542,TRUE)=COUNTIF($B$1:B2541,TRUE),\"\",COUNTIF($B$1:B2542,TRUE))","v":1526},{"$f":"IF(Worksheet!$D$10=2,FALSE,Worksheet!$B$15)","v":true},{"$f":"100*F2542","v":2800},"cm","=",{"$f":"IF(Worksheet!$D$6=1,RANDBETWEEN(1,99),IF(Worksheet!$D$6=2,CHOOSE(RANDBETWEEN(1,2),RANDBETWEEN(1,99),RANDBETWEEN(1,999)/10),CHOOSE(RANDBETWEEN(1,4),RANDBETWEEN(1,99999)/1000,RANDBETWEEN(1,9999)/100,RANDBETWEEN(1,999)/10,RANDBETWEEN(1,99))))","v":28},"m"]
[{"$f":"IF(COUNTIF($B$1:B2543,TRUE)=COUNTIF($B$1:B2542,TRUE),\"\",COUNTIF($B$1:B2543,TRUE))","v":1527},{"$f":"IF(Worksheet!$D$10=2,FALSE,Worksheet!$B$16)","v":true},{"$f":"1000*F2543","v":67000},"m","=",{"$f":"IF(Worksheet!$D$6=1,RANDBETWEEN(1,99),IF(Worksheet!$D$6=2,CHOOSE(RANDBETWEEN(1,2),RANDBETWEEN(1,99),RANDBETWEEN(1,999)/10),CHOOSE(RANDBETWEEN(1,4),RANDBETWEEN(1,99999)/1000,RANDBETWEEN(1,9999)/100,RANDBETWEEN(1,999)/10,RANDBETWEEN(1,99))))","v":67},"km"]
[{"$f":"IF(COUNTIF($B$1:B2544,TRUE)=COUNTIF($B$1:B2543,TRUE),\"\",COUNTIF($B$1:B2544,TRUE))","v":""},{"$f":"IF(Worksheet!$D$10=2,FALSE,Worksheet!$B$17)","v":false},{"$f":"1000*F2544","v":82000},"mm","=",{"$f":"IF(Worksheet!$D$6=1,RANDBETWEEN(1,99),IF(Worksheet!$D$6=2,CHOOSE(RANDBETWEEN(1,2),RANDBETWEEN(1,99),RANDBETWEEN(1,999)/10),CHOOSE(RANDBETWEEN(1,4),RANDBETWEEN(1,99999)/1000,RANDBETWEEN(1,9999)/100,RANDBETWEEN(1,999)/10,RANDBETWEEN(1,99))))","v":82},"m"]
[{"$f":"IF(COUNTIF($B$1:B2545,TRUE)=COUNTIF($B$1:B2544,TRUE),\"\",COUNTIF($B$1:B2545,TRUE))","v":""},{"$f":"IF(Worksheet!$D$10=2,FALSE,Worksheet!$B$18)","v":false},{"$f":"100*F2545","v":300},"mm²","=",{"$f":"IF(Worksheet!$D$6=1,RANDBETWEEN(1,99),IF(Worksheet!$D$6=2,CHOOSE(RANDBETWEEN(1,2),RANDBETWEEN(1,99),RANDBETWEEN(1,999)/10),CHOOSE(RANDBETWEEN(1,4),RANDBETWEEN(1,99999)/1000,RANDBETWEEN(1,9999)/100,RANDBETWEEN(1,999)/10,RANDBETWEEN(1,99))))","v":3},"cm²"]
[{"$f":"IF(COUNTIF($B$1:B2546,TRUE)=COUNTIF($B$1:B2545,TRUE),\"\",COUNTIF($B$1:B2546,TRUE))","v":1528},{"$f":"IF(Worksheet!$D$10=2,FALSE,Worksheet!$D$14)","v":true},{"$f":"F2546*1000","v":36000},"g","=",{"$f":"IF(Worksheet!$D$6=1,RANDBETWEEN(1,99),IF(Worksheet!$D$6=2,CHOOSE(RANDBETWEEN(1,2),RANDBETWEEN(1,99),RANDBETWEEN(1,999)/10),CHOOSE(RANDBETWEEN(1,4),RANDBETWEEN(1,99999)/1000,RANDBETWEEN(1,9999)/100,RANDBETWEEN(1,999)/10,RANDBETWEEN(1,99))))","v":36},"kg"]
[{"$f":"IF(COUNTIF($B$1:B2547,TRUE)=COUNTIF($B$1:B2546,TRUE),\"\",COUNTIF($B$1:B2547,TRUE))","v":1529},{"$f":"IF(Worksheet!$D$10=2,FALSE,Worksheet!$D$15)","v":true},{"$f":"F2547*1000","v":64000},"kg","=",{"$f":"IF(Worksheet!$D$6=1,RANDBETWEEN(1,99),IF(Worksheet!$D$6=2,CHOOSE(RANDBETWEEN(1,2),RANDBETWEEN(1,99),RANDBETWEEN(1,999)/10),CHOOSE(RANDBETWEEN(1,4),RANDBETWEEN(1,99999)/1000,RANDBETWEEN(1,9999)/100,RANDBETWEEN(1,999)/10,RANDBETWEEN(1,99))))","v":64},"tonnes"]
[{"$f":"IF(COUNTIF($B$1:B2548,TRUE)=COUNTIF($B$1:B2547,TRUE),\"\",COUNTIF($B$1:B2548,TRUE))","v":1530},{"$f":"IF(Worksheet!$D$10=2,FALSE,Worksheet!$D$16)","v":true},{"$f":"1000*F2548","v":86000},"ml","=",{"$f":"IF(Worksheet!$D$6=1,RANDBETWEEN(1,99),IF(Worksheet!$D$6=2,CHOOSE(RANDBETWEEN(1,2),RANDBETWEEN(1,99),RANDBETWEEN(1,999)/10),CHOOSE(RANDBETWEEN(1,4),RANDBETWEEN(1,99999)/1000,RANDBETWEEN(1,9999)/100,RANDBETWEEN(1,999)/10,RANDBETWEEN(1,99))))","v":86},"litres"]
[{"$f":"IF(COUNTIF($B$1:B2549,TRUE)=COUNTIF($B$1:B2548,TRUE),\"\",COUNTIF($B$1:B2549,TRUE))","v":""},{"$f":"IF(Worksheet!$D$10=2,FALSE,Worksheet!$D$17)","v":false},{"$f":"1000*F2549","v":48000},"cm³","=",{"$f":"IF(Worksheet!$D$6=1,RANDBETWEEN(1,99),IF(Worksheet!$D$6=2,CHOOSE(RANDBETWEEN(1,2),RANDBETWEEN(1,99),RANDBETWEEN(1,999)/10),CHOOSE(RANDBETWEEN(1,4),RANDBETWEEN(1,99999)/1000,RANDBETWEEN(1,9999)/100,RANDBETWEEN(1,999)/10,RANDBETWEEN(1,99))))","v":48},"litres"]
[{"$f":"IF(COUNTIF($B$1:B2550,TRUE)=COUNTIF($B$1:B2549,TRUE),\"\",COUNTIF($B$1:B2550,TRUE))","v":""},{"$f":"IF(Worksheet!$D$10=2,FALSE,Worksheet!$D$18)","v":false},{"$f":"10000*F2550","v":580000},"cm²","=",{"$f":"IF(Worksheet!$D$6=1,RANDBETWEEN(1,99),IF(Worksheet!$D$6=2,CHOOSE(RANDBETWEEN(1,2),RANDBETWEEN(1,99),RANDBETWEEN(1,999)/10),CHOOSE(RANDBETWEEN(1,4),RANDBETWEEN(1,99999)/1000,RANDBETWEEN(1,9999)/100,RANDBETWEEN(1,999)/10,RANDBETWEEN(1,99))))","v":58},"m²"]
[{"$f":"IF(COUNTIF($B$1:B2551,TRUE)=COUNTIF($B$1:B2550,TRUE),\"\",COUNTIF($B$1:B2551,TRUE))","v":1531},{"$f":"IF(Worksheet!$D$10=3,FALSE,Worksheet!$B$14)","v":true},{"$f":"IF(Worksheet!$D$6=1,RANDBETWEEN(1,99),IF(Worksheet!$D$6=2,CHOOSE(RANDBETWEEN(1,2),RANDBETWEEN(1,99),RANDBETWEEN(1,999)/10),CHOOSE(RANDBETWEEN(1,4),RANDBETWEEN(1,99999)/1000,RANDBETWEEN(1,9999)/100,RANDBETWEEN(1,999)/10,RANDBETWEEN(1,99))))","v":50},"cm","=",{"$f":"10*C2551","v":500},"mm"]
[{"$f":"IF(COUNTIF($B$1:B2552,TRUE)=COUNTIF($B$1:B2551,TRUE),\"\",COUNTIF($B$1:B2552,TRUE))","v":1532},{"$f":"IF(Worksheet!$D$10=3,FALSE,Worksheet!$B$15)","v":true},{"$f":"IF(Worksheet!$D$6=1,RANDBETWEEN(1,99),IF(Worksheet!$D$6=2,CHOOSE(RANDBETWEEN(1,2),RANDBETWEEN(1,99),RANDBETWEEN(1,999)/10),CHOOSE(RANDBETWEEN(1,4),RANDBETWEEN(1,99999)/1000,RANDBETWEEN(1,9999)/100,RANDBETWEEN(1,999)/10,RANDBETWEEN(1,99))))","v":12},"m","=",{"$f":"100*C2552","v":1200},"cm"]
[{"$f":"IF(COUNTIF($B$1:B2553,TRUE)=COUNTIF($B$1:B2552,TRUE),\"\",COUNTIF($B$1:B2553,TRUE))","v":1533},{"$f":"IF(Worksheet!$D$10=3,FALSE,Worksheet!$B$16)","v":true},{"$f":"IF(Worksheet!$D$6=1,RANDBETWEEN(1,99),IF(Worksheet!$D$6=2,CHOOSE(RANDBETWEEN(1,2),RANDBETWEEN(1,99),RANDBETWEEN(1,999)/10),CHOOSE(RANDBETWEEN(1,4),RANDBETWEEN(1,99999)/1000,RANDBETWEEN(1,9999)/100,RANDBETWEEN(1,999)/10,RANDBETWEEN(1,99))))","v":75},"km","=",{"$f":"1000*C2553","v":75000},"m"]
[{"$f":"IF(COUNTIF($B$1:B2554,TRUE)=COUNTIF($B$1:B2553,TRUE),\"\",COUNTIF($B$1:B2554,TRUE))","v":""},{"$f":"IF(Worksheet!$D$10=3,FALSE,Worksheet!$B$17)","v":false},{"$f":"IF(Worksheet!$D$6=1,RANDBETWEEN(1,99),IF(Worksheet!$D$6=2,CHOOSE(RANDBETWEEN(1,2),RANDBETWEEN(1,99),RANDBETWEEN(1,999)/10),CHOOSE(RANDBETWEEN(1,4),RANDBETWEEN(1,99999)/1000,RANDBETWEEN(1,9999)/100,RANDBETWEEN(1,999)/10,RANDBETWEEN(1,99))))","v":64},"m",{"$f":"#REF!","v":{"$error":"#REF!"}},{"$f":"1000*C2554","v":64000},"mm"]
[{"$f":"IF(COUNTIF($B$1:B2555,TRUE)=COUNTIF($B$1:B2554,TRUE),\"\",COUNTIF($B$1:B2555,TRUE))","v":""},{"$f":"IF(Worksheet!$D$10=3,FALSE,Worksheet!$B$18)","v":false},{"$f":"IF(Worksheet!$D$6=1,RANDBETWEEN(1,99),IF(Worksheet!$D$6=2,CHOOSE(RANDBETWEEN(1,2),RANDBETWEEN(1,99),RANDBETWEEN(1,999)/10),CHOOSE(RANDBETWEEN(1,4),RANDBETWEEN(1,99999)/1000,RANDBETWEEN(1,9999)/100,RANDBETWEEN(1,999)/10,RANDBETWEEN(1,99))))","v":74},"cm²","=",{"$f":"C2555*100","v":7400},"mm²"]
[{"$f":"IF(COUNTIF($B$1:B2556,TRUE)=COUNTIF($B$1:B2555,TRUE),\"\",COUNTIF($B$1:B2556,TRUE))","v":1534},{"$f":"IF(Worksheet!$D$10=3,FALSE,Worksheet!$D$14)","v":true},{"$f":"IF(Worksheet!$D$6=1,RANDBETWEEN(1,99),IF(Worksheet!$D$6=2,CHOOSE(RANDBETWEEN(1,2),RANDBETWEEN(1,99),RANDBETWEEN(1,999)/10),CHOOSE(RANDBETWEEN(1,4),RANDBETWEEN(1,99999)/1000,RANDBETWEEN(1,9999)/100,RANDBETWEEN(1,999)/10,RANDBETWEEN(1,99))))","v":58},"kg","=",{"$f":"1000*C2556","v":58000},"g"]
[{"$f":"IF(COUNTIF($B$1:B2557,TRUE)=COUNTIF($B$1:B2556,TRUE),\"\",COUNTIF($B$1:B2557,TRUE))","v":1535},{"$f":"IF(Worksheet!$D$10=3,FALSE,Worksheet!$D$15)","v":true},{"$f":"IF(Worksheet!$D$6=1,RANDBETWEEN(1,99),IF(Worksheet!$D$6=2,CHOOSE(RANDBETWEEN(1,2),RANDBETWEEN(1,99),RANDBETWEEN(1,999)/10),CHOOSE(RANDBETWEEN(1,4),RANDBETWEEN(1,99999)/1000,RANDBETWEEN(1,9999)/100,RANDBETWEEN(1,999)/10,RANDBETWEEN(1,99))))","v":85},"tonnes","=",{"$f":"1000*C2557","v":85000},"kg"]
[{"$f":"IF(COUNTIF($B$1:B2558,TRUE)=COUNTIF($B$1:B2557,TRUE),\"\",COUNTIF($B$1:B2558,TRUE))","v":1536},{"$f":"IF(Worksheet!$D$10=3,FALSE,Worksheet!$D$16)","v":true},{"$f":"IF(Worksheet!$D$6=1,RANDBETWEEN(1,99),IF(Worksheet!$D$6=2,CHOOSE(RANDBETWEEN(1,2),RANDBETWEEN(1,99),RANDBETWEEN(1,999)/10),CHOOSE(RANDBETWEEN(1,4),RANDBETWEEN(1,99999)/1000,RANDBETWEEN(1,9999)/100,RANDBETWEEN(1,999)/10,RANDBETWEEN(1,99))))","v":84},"litres","=",{"$f":"1000*C2558","v":84000},"ml"]
[{"$f":"IF(COUNTIF($B$1:B2559,TRUE)=COUNTIF($B$1:B2558,TRUE),\"\",COUNTIF($B$1:B2559,TRUE))","v":""},{"$f":"IF(Worksheet!$D$10=3,FALSE,Worksheet!$D$17)","v":false},{"$f":"IF(Worksheet!$D$6=1,RANDBETWEEN(1,99),IF(Worksheet!$D$6=2,CHOOSE(RANDBETWEEN(1,2),RANDBETWEEN(1,99),RANDBETWEEN(1,999)/10),CHOOSE(RANDBETWEEN(1,4),RANDBETWEEN(1,99999)/1000,RANDBETWEEN(1,9999)/100,RANDBETWEEN(1,999)/10,RANDBETWEEN(1,99))))","v":97},"litres","=",{"$f":"1000*C2559","v":97000},"cm³"]
[{"$f":"IF(COUNTIF($B$1:B2560,TRUE)=COUNTIF($B$1:B2559,TRUE),\"\",COUNTIF($B$1:B2560,TRUE))","v":""},{"$f":"IF(Worksheet!$D$10=3,FALSE,Worksheet!$D$18)","v":false},{"$f":"IF(Worksheet!$D$6=1,RANDBETWEEN(1,99),IF(Worksheet!$D$6=2,CHOOSE(RANDBETWEEN(1,2),RANDBETWEEN(1,99),RANDBETWEEN(1,999)/10),CHOOSE(RANDBETWEEN(1,4),RANDBETWEEN(1,99999)/1000,RANDBETWEEN(1,9999)/100,RANDBETWEEN(1,999)/10,RANDBETWEEN(1,99))))","v":91},"m²","=",{"$f":"10000*C2560","v":910000},"cm²"]
[{"$f":"IF(COUNTIF($B$1:B2561,TRUE)=COUNTIF($B$1:B2560,TRUE),\"\",COUNTIF($B$1:B2561,TRUE))","v":1537},{"$f":"IF(Worksheet!$D$10=2,FALSE,Worksheet!$B$14)","v":true},{"$f":"10*F2561","v":450},"mm","=",{"$f":"IF(Worksheet!$D$6=1,RANDBETWEEN(1,99),IF(Worksheet!$D$6=2,CHOOSE(RANDBETWEEN(1,2),RANDBETWEEN(1,99),RANDBETWEEN(1,999)/10),CHOOSE(RANDBETWEEN(1,4),RANDBETWEEN(1,99999)/1000,RANDBETWEEN(1,9999)/100,RANDBETWEEN(1,999)/10,RANDBETWEEN(1,99))))","v":45},"cm"]
[{"$f":"IF(COUNTIF($B$1:B2562,TRUE)=COUNTIF($B$1:B2561,TRUE),\"\",COUNTIF($B$1:B2562,TRUE))","v":1538},{"$f":"IF(Worksheet!$D$10=2,FALSE,Worksheet!$B$15)","v":true},{"$f":"100*F2562","v":2500},"cm","=",{"$f":"IF(Worksheet!$D$6=1,RANDBETWEEN(1,99),IF(Worksheet!$D$6=2,CHOOSE(RANDBETWEEN(1,2),RANDBETWEEN(1,99),RANDBETWEEN(1,999)/10),CHOOSE(RANDBETWEEN(1,4),RANDBETWEEN(1,99999)/1000,RANDBETWEEN(1,9999)/100,RANDBETWEEN(1,999)/10,RANDBETWEEN(1,99))))","v":25},"m"]
[{"$f":"IF(COUNTIF($B$1:B2563,TRUE)=COUNTIF($B$1:B2562,TRUE),\"\",COUNTIF($B$1:B2563,TRUE))","v":1539},{"$f":"IF(Worksheet!$D$10=2,FALSE,Worksheet!$B$16)","v":true},{"$f":"1000*F2563","v":38000},"m","=",{"$f":"IF(Worksheet!$D$6=1,RANDBETWEEN(1,99),IF(Worksheet!$D$6=2,CHOOSE(RANDBETWEEN(1,2),RANDBETWEEN(1,99),RANDBETWEEN(1,999)/10),CHOOSE(RANDBETWEEN(1,4),RANDBETWEEN(1,99999)/1000,RANDBETWEEN(1,9999)/100,RANDBETWEEN(1,999)/10,RANDBETWEEN(1,99))))","v":38},"km"]
[{"$f":"IF(COUNTIF($B$1:B2564,TRUE)=COUNTIF($B$1:B2563,TRUE),\"\",COUNTIF($B$1:B2564,TRUE))","v":""},{"$f":"IF(Worksheet!$D$10=2,FALSE,Worksheet!$B$17)","v":false},{"$f":"1000*F2564","v":86000},"mm","=",{"$f":"IF(Worksheet!$D$6=1,RANDBETWEEN(1,99),IF(Worksheet!$D$6=2,CHOOSE(RANDBETWEEN(1,2),RANDBETWEEN(1,99),RANDBETWEEN(1,999)/10),CHOOSE(RANDBETWEEN(1,4),RANDBETWEEN(1,99999)/1000,RANDBETWEEN(1,9999)/100,RANDBETWEEN(1,999)/10,RANDBETWEEN(1,99))))","v":86},"m"]
[{"$f":"IF(COUNTIF($B$1:B2565,TRUE)=COUNTIF($B$1:B2564,TRUE),\"\",COUNTIF($B$1:B2565,TRUE))","v":""},{"$f":"IF(Worksheet!$D$10=2,FALSE,Worksheet!$B$18)","v":false},{"$f":"100*F2565","v":8200},"mm²","=",{"$f":"IF(Worksheet!$D$6=1,RANDBETWEEN(1,99),IF(Worksheet!$D$6=2,CHOOSE(RANDBETWEEN(1,2),RANDBETWEEN(1,99),RANDBETWEEN(1,999)/10),CHOOSE(RANDBETWEEN(1,4),RANDBETWEEN(1,99999)/1000,RANDBETWEEN(1,9999)/100,RANDBETWEEN(1,999)/10,RANDBETWEEN(1,99))))","v":82},"cm²"]
[{"$f":"IF(COUNTIF($B$1:B2566,TRUE)=COUNTIF($B$1:B2565,TRUE),\"\",COUNTIF($B$1:B2566,TRUE))","v":1540},{"$f":"IF(Worksheet!$D$10=2,FALSE,Worksheet!$D$14)","v":true},{"$f":"F2566*1000","v":33000},"g","=",{"$f":"IF(Worksheet!$D$6=1,RANDBETWEEN(1,99),IF(Worksheet!$D$6=2,CHOOSE(RANDBETWEEN(1,2),RANDBETWEEN(1,99),RANDBETWEEN(1,999)/10),CHOOSE(RANDBETWEEN(1,4),RANDBETWEEN(1,99999)/1000,RANDBETWEEN(1,9999)/100,RANDBETWEEN(1,999)/10,RANDBETWEEN(1,99))))","v":33},"kg"]
[{"$f":"IF(COUNTIF($B$1:B2567,TRUE)=COUNTIF($B$1:B2566,TRUE),\"\",COUNTIF($B$1:B2567,TRUE))","v":1541},{"$f":"IF(Worksheet!$D$10=2,FALSE,Worksheet!$D$15)","v":true},{"$f":"F2567*1000","v":1000},"kg","=",{"$f":"IF(Worksheet!$D$6=1,RANDBETWEEN(1,99),IF(Worksheet!$D$6=2,CHOOSE(RANDBETWEEN(1,2),RANDBETWEEN(1,99),RANDBETWEEN(1,999)/10),CHOOSE(RANDBETWEEN(1,4),RANDBETWEEN(1,99999)/1000,RANDBETWEEN(1,9999)/100,RANDBETWEEN(1,999)/10,RANDBETWEEN(1,99))))","v":1},"tonnes"]
[{"$f":"IF(COUNTIF($B$1:B2568,TRUE)=COUNTIF($B$1:B2567,TRUE),\"\",COUNTIF($B$1:B2568,TRUE))","v":1542},{"$f":"IF(Worksheet!$D$10=2,FALSE,Worksheet!$D$16)","v":true},{"$f":"1000*F2568","v":55000},"ml","=",{"$f":"IF(Worksheet!$D$6=1,RANDBETWEEN(1,99),IF(Worksheet!$D$6=2,CHOOSE(RANDBETWEEN(1,2),RANDBETWEEN(1,99),RANDBETWEEN(1,999)/10),CHOOSE(RANDBETWEEN(1,4),RANDBETWEEN(1,99999)/1000,RANDBETWEEN(1,9999)/100,RANDBETWEEN(1,999)/10,RANDBETWEEN(1,99))))","v":55},"litres"]
[{"$f":"IF(COUNTIF($B$1:B2569,TRUE)=COUNTIF($B$1:B2568,TRUE),\"\",COUNTIF($B$1:B2569,TRUE))","v":""},{"$f":"IF(Worksheet!$D$10=2,FALSE,Worksheet!$D$17)","v":false},{"$f":"1000*F2569","v":34000},"cm³","=",{"$f":"IF(Worksheet!$D$6=1,RANDBETWEEN(1,99),IF(Worksheet!$D$6=2,CHOOSE(RANDBETWEEN(1,2),RANDBETWEEN(1,99),RANDBETWEEN(1,999)/10),CHOOSE(RANDBETWEEN(1,4),RANDBETWEEN(1,99999)/1000,RANDBETWEEN(1,9999)/100,RANDBETWEEN(1,999)/10,RANDBETWEEN(1,99))))","v":34},"litres"]
[{"$f":"IF(COUNTIF($B$1:B2570,TRUE)=COUNTIF($B$1:B2569,TRUE),\"\",COUNTIF($B$1:B2570,TRUE))","v":""},{"$f":"IF(Worksheet!$D$10=2,FALSE,Worksheet!$D$18)","v":false},{"$f":"10000*F2570","v":970000},"cm²","=",{"$f":"IF(Worksheet!$D$6=1,RANDBETWEEN(1,99),IF(Worksheet!$D$6=2,CHOOSE(RANDBETWEEN(1,2),RANDBETWEEN(1,99),RANDBETWEEN(1,999)/10),CHOOSE(RANDBETWEEN(1,4),RANDBETWEEN(1,99999)/1000,RANDBETWEEN(1,9999)/100,RANDBETWEEN(1,999)/10,RANDBETWEEN(1,99))))","v":97},"m²"]
[{"$f":"IF(COUNTIF($B$1:B2571,TRUE)=COUNTIF($B$1:B2570,TRUE),\"\",COUNTIF($B$1:B2571,TRUE))","v":1543},{"$f":"IF(Worksheet!$D$10=3,FALSE,Worksheet!$B$14)","v":true},{"$f":"IF(Worksheet!$D$6=1,RANDBETWEEN(1,99),IF(Worksheet!$D$6=2,CHOOSE(RANDBETWEEN(1,2),RANDBETWEEN(1,99),RANDBETWEEN(1,999)/10),CHOOSE(RANDBETWEEN(1,4),RANDBETWEEN(1,99999)/1000,RANDBETWEEN(1,9999)/100,RANDBETWEEN(1,999)/10,RANDBETWEEN(1,99))))","v":50},"cm","=",{"$f":"10*C2571","v":500},"mm"]
[{"$f":"IF(COUNTIF($B$1:B2572,TRUE)=COUNTIF($B$1:B2571,TRUE),\"\",COUNTIF($B$1:B2572,TRUE))","v":1544},{"$f":"IF(Worksheet!$D$10=3,FALSE,Worksheet!$B$15)","v":true},{"$f":"IF(Worksheet!$D$6=1,RANDBETWEEN(1,99),IF(Worksheet!$D$6=2,CHOOSE(RANDBETWEEN(1,2),RANDBETWEEN(1,99),RANDBETWEEN(1,999)/10),CHOOSE(RANDBETWEEN(1,4),RANDBETWEEN(1,99999)/1000,RANDBETWEEN(1,9999)/100,RANDBETWEEN(1,999)/10,RANDBETWEEN(1,99))))","v":79},"m","=",{"$f":"100*C2572","v":7900},"cm"]
[{"$f":"IF(COUNTIF($B$1:B2573,TRUE)=COUNTIF($B$1:B2572,TRUE),\"\",COUNTIF($B$1:B2573,TRUE))","v":1545},{"$f":"IF(Worksheet!$D$10=3,FALSE,Worksheet!$B$16)","v":true},{"$f":"IF(Worksheet!$D$6=1,RANDBETWEEN(1,99),IF(Worksheet!$D$6=2,CHOOSE(RANDBETWEEN(1,2),RANDBETWEEN(1,99),RANDBETWEEN(1,999)/10),CHOOSE(RANDBETWEEN(1,4),RANDBETWEEN(1,99999)/1000,RANDBETWEEN(1,9999)/100,RANDBETWEEN(1,999)/10,RANDBETWEEN(1,99))))","v":40},"km","=",{"$f":"1000*C2573","v":40000},"m"]
[{"$f":"IF(COUNTIF($B$1:B2574,TRUE)=COUNTIF($B$1:B2573,TRUE),\"\",COUNTIF($B$1:B2574,TRUE))","v":""},{"$f":"IF(Worksheet!$D$10=3,FALSE,Worksheet!$B$17)","v":false},{"$f":"IF(Worksheet!$D$6=1,RANDBETWEEN(1,99),IF(Worksheet!$D$6=2,CHOOSE(RANDBETWEEN(1,2),RANDBETWEEN(1,99),RANDBETWEEN(1,999)/10),CHOOSE(RANDBETWEEN(1,4),RANDBETWEEN(1,99999)/1000,RANDBETWEEN(1,9999)/100,RANDBETWEEN(1,999)/10,RANDBETWEEN(1,99))))","v":68},"m",{"$f":"#REF!","v":{"$error":"#REF!"}},{"$f":"1000*C2574","v":68000},"mm"]
[{"$f":"IF(COUNTIF($B$1:B2575,TRUE)=COUNTIF($B$1:B2574,TRUE),\"\",COUNTIF($B$1:B2575,TRUE))","v":""},{"$f":"IF(Worksheet!$D$10=3,FALSE,Worksheet!$B$18)","v":false},{"$f":"IF(Worksheet!$D$6=1,RANDBETWEEN(1,99),IF(Worksheet!$D$6=2,CHOOSE(RANDBETWEEN(1,2),RANDBETWEEN(1,99),RANDBETWEEN(1,999)/10),CHOOSE(RANDBETWEEN(1,4),RANDBETWEEN(1,99999)/1000,RANDBETWEEN(1,9999)/100,RANDBETWEEN(1,999)/10,RANDBETWEEN(1,99))))","v":84},"cm²","=",{"$f":"C2575*100","v":8400},"mm²"]
[{"$f":"IF(COUNTIF($B$1:B2576,TRUE)=COUNTIF($B$1:B2575,TRUE),\"\",COUNTIF($B$1:B2576,TRUE))","v":1546},{"$f":"IF(Worksheet!$D$10=3,FALSE,Worksheet!$D$14)","v":true},{"$f":"IF(Worksheet!$D$6=1,RANDBETWEEN(1,99),IF(Worksheet!$D$6=2,CHOOSE(RANDBETWEEN(1,2),RANDBETWEEN(1,99),RANDBETWEEN(1,999)/10),CHOOSE(RANDBETWEEN(1,4),RANDBETWEEN(1,99999)/1000,RANDBETWEEN(1,9999)/100,RANDBETWEEN(1,999)/10,RANDBETWEEN(1,99))))","v":49},"kg","=",{"$f":"1000*C2576","v":49000},"g"]
[{"$f":"IF(COUNTIF($B$1:B2577,TRUE)=COUNTIF($B$1:B2576,TRUE),\"\",COUNTIF($B$1:B2577,TRUE))","v":1547},{"$f":"IF(Worksheet!$D$10=3,FALSE,Worksheet!$D$15)","v":true},{"$f":"IF(Worksheet!$D$6=1,RANDBETWEEN(1,99),IF(Worksheet!$D$6=2,CHOOSE(RANDBETWEEN(1,2),RANDBETWEEN(1,99),RANDBETWEEN(1,999)/10),CHOOSE(RANDBETWEEN(1,4),RANDBETWEEN(1,99999)/1000,RANDBETWEEN(1,9999)/100,RANDBETWEEN(1,999)/10,RANDBETWEEN(1,99))))","v":26},"tonnes","=",{"$f":"1000*C2577","v":26000},"kg"]
[{"$f":"IF(COUNTIF($B$1:B2578,TRUE)=COUNTIF($B$1:B2577,TRUE),\"\",COUNTIF($B$1:B2578,TRUE))","v":1548},{"$f":"IF(Worksheet!$D$10=3,FALSE,Worksheet!$D$16)","v":true},{"$f":"IF(Worksheet!$D$6=1,RANDBETWEEN(1,99),IF(Worksheet!$D$6=2,CHOOSE(RANDBETWEEN(1,2),RANDBETWEEN(1,99),RANDBETWEEN(1,999)/10),CHOOSE(RANDBETWEEN(1,4),RANDBETWEEN(1,99999)/1000,RANDBETWEEN(1,9999)/100,RANDBETWEEN(1,999)/10,RANDBETWEEN(1,99))))","v":16},"litres","=",{"$f":"1000*C2578","v":16000},"ml"]
[{"$f":"IF(COUNTIF($B$1:B2579,TRUE)=COUNTIF($B$1:B2578,TRUE),\"\",COUNTIF($B$1:B2579,TRUE))","v":""},{"$f":"IF(Worksheet!$D$10=3,FALSE,Worksheet!$D$17)","v":false},{"$f":"IF(Worksheet!$D$6=1,RANDBETWEEN(1,99),IF(Worksheet!$D$6=2,CHOOSE(RANDBETWEEN(1,2),RANDBETWEEN(1,99),RANDBETWEEN(1,999)/10),CHOOSE(RANDBETWEEN(1,4),RANDBETWEEN(1,99999)/1000,RANDBETWEEN(1,9999)/100,RANDBETWEEN(1,999)/10,RANDBETWEEN(1,99))))","v":26},"litres","=",{"$f":"1000*C2579","v":26000},"cm³"]
[{"$f":"IF(COUNTIF($B$1:B2580,TRUE)=COUNTIF($B$1:B2579,TRUE),\"\",COUNTIF($B$1:B2580,TRUE))","v":""},{"$f":"IF(Worksheet!$D$10=3,FALSE,Worksheet!$D$18)","v":false},{"$f":"IF(Worksheet!$D$6=1,RANDBETWEEN(1,99),IF(Worksheet!$D$6=2,CHOOSE(RANDBETWEEN(1,2),RANDBETWEEN(1,99),RANDBETWEEN(1,999)/10),CHOOSE(RANDBETWEEN(1,4),RANDBETWEEN(1,99999)/1000,RANDBETWEEN(1,9999)/100,RANDBETWEEN(1,999)/10,RANDBETWEEN(1,99))))","v":91},"m²","=",{"$f":"10000*C2580","v":910000},"cm²"]
[{"$f":"IF(COUNTIF($B$1:B2581,TRUE)=COUNTIF($B$1:B2580,TRUE),\"\",COUNTIF($B$1:B2581,TRUE))","v":1549},{"$f":"IF(Worksheet!$D$10=2,FALSE,Worksheet!$B$14)","v":true},{"$f":"10*F2581","v":440},"mm","=",{"$f":"IF(Worksheet!$D$6=1,RANDBETWEEN(1,99),IF(Worksheet!$D$6=2,CHOOSE(RANDBETWEEN(1,2),RANDBETWEEN(1,99),RANDBETWEEN(1,999)/10),CHOOSE(RANDBETWEEN(1,4),RANDBETWEEN(1,99999)/1000,RANDBETWEEN(1,9999)/100,RANDBETWEEN(1,999)/10,RANDBETWEEN(1,99))))","v":44},"cm"]
[{"$f":"IF(COUNTIF($B$1:B2582,TRUE)=COUNTIF($B$1:B2581,TRUE),\"\",COUNTIF($B$1:B2582,TRUE))","v":1550},{"$f":"IF(Worksheet!$D$10=2,FALSE,Worksheet!$B$15)","v":true},{"$f":"100*F2582","v":4300},"cm","=",{"$f":"IF(Worksheet!$D$6=1,RANDBETWEEN(1,99),IF(Worksheet!$D$6=2,CHOOSE(RANDBETWEEN(1,2),RANDBETWEEN(1,99),RANDBETWEEN(1,999)/10),CHOOSE(RANDBETWEEN(1,4),RANDBETWEEN(1,99999)/1000,RANDBETWEEN(1,9999)/100,RANDBETWEEN(1,999)/10,RANDBETWEEN(1,99))))","v":43},"m"]
[{"$f":"IF(COUNTIF($B$1:B2583,TRUE)=COUNTIF($B$1:B2582,TRUE),\"\",COUNTIF($B$1:B2583,TRUE))","v":1551},{"$f":"IF(Worksheet!$D$10=2,FALSE,Worksheet!$B$16)","v":true},{"$f":"1000*F2583","v":38000},"m","=",{"$f":"IF(Worksheet!$D$6=1,RANDBETWEEN(1,99),IF(Worksheet!$D$6=2,CHOOSE(RANDBETWEEN(1,2),RANDBETWEEN(1,99),RANDBETWEEN(1,999)/10),CHOOSE(RANDBETWEEN(1,4),RANDBETWEEN(1,99999)/1000,RANDBETWEEN(1,9999)/100,RANDBETWEEN(1,999)/10,RANDBETWEEN(1,99))))","v":38},"km"]
[{"$f":"IF(COUNTIF($B$1:B2584,TRUE)=COUNTIF($B$1:B2583,TRUE),\"\",COUNTIF($B$1:B2584,TRUE))","v":""},{"$f":"IF(Worksheet!$D$10=2,FALSE,Worksheet!$B$17)","v":false},{"$f":"1000*F2584","v":26000},"mm","=",{"$f":"IF(Worksheet!$D$6=1,RANDBETWEEN(1,99),IF(Worksheet!$D$6=2,CHOOSE(RANDBETWEEN(1,2),RANDBETWEEN(1,99),RANDBETWEEN(1,999)/10),CHOOSE(RANDBETWEEN(1,4),RANDBETWEEN(1,99999)/1000,RANDBETWEEN(1,9999)/100,RANDBETWEEN(1,999)/10,RANDBETWEEN(1,99))))","v":26},"m"]
[{"$f":"IF(COUNTIF($B$1:B2585,TRUE)=COUNTIF($B$1:B2584,TRUE),\"\",COUNTIF($B$1:B2585,TRUE))","v":""},{"$f":"IF(Worksheet!$D$10=2,FALSE,Worksheet!$B$18)","v":false},{"$f":"100*F2585","v":6300},"mm²","=",{"$f":"IF(Worksheet!$D$6=1,RANDBETWEEN(1,99),IF(Worksheet!$D$6=2,CHOOSE(RANDBETWEEN(1,2),RANDBETWEEN(1,99),RANDBETWEEN(1,999)/10),CHOOSE(RANDBETWEEN(1,4),RANDBETWEEN(1,99999)/1000,RANDBETWEEN(1,9999)/100,RANDBETWEEN(1,999)/10,RANDBETWEEN(1,99))))","v":63},"cm²"]
[{"$f":"IF(COUNTIF($B$1:B2586,TRUE)=COUNTIF($B$1:B2585,TRUE),\"\",COUNTIF($B$1:B2586,TRUE))","v":1552},{"$f":"IF(Worksheet!$D$10=2,FALSE,Worksheet!$D$14)","v":true},{"$f":"F2586*1000","v":17000},"g","=",{"$f":"IF(Worksheet!$D$6=1,RANDBETWEEN(1,99),IF(Worksheet!$D$6=2,CHOOSE(RANDBETWEEN(1,2),RANDBETWEEN(1,99),RANDBETWEEN(1,999)/10),CHOOSE(RANDBETWEEN(1,4),RANDBETWEEN(1,99999)/1000,RANDBETWEEN(1,9999)/100,RANDBETWEEN(1,999)/10,RANDBETWEEN(1,99))))","v":17},"kg"]
[{"$f":"IF(COUNTIF($B$1:B2587,TRUE)=COUNTIF($B$1:B2586,TRUE),\"\",COUNTIF($B$1:B2587,TRUE))","v":1553},{"$f":"IF(Worksheet!$D$10=2,FALSE,Worksheet!$D$15)","v":true},{"$f":"F2587*1000","v":81000},"kg","=",{"$f":"IF(Worksheet!$D$6=1,RANDBETWEEN(1,99),IF(Worksheet!$D$6=2,CHOOSE(RANDBETWEEN(1,2),RANDBETWEEN(1,99),RANDBETWEEN(1,999)/10),CHOOSE(RANDBETWEEN(1,4),RANDBETWEEN(1,99999)/1000,RANDBETWEEN(1,9999)/100,RANDBETWEEN(1,999)/10,RANDBETWEEN(1,99))))","v":81},"tonnes"]
[{"$f":"IF(COUNTIF($B$1:B2588,TRUE)=COUNTIF($B$1:B2587,TRUE),\"\",COUNTIF($B$1:B2588,TRUE))","v":1554},{"$f":"IF(Worksheet!$D$10=2,FALSE,Worksheet!$D$16)","v":true},{"$f":"1000*F2588","v":75000},"ml","=",{"$f":"IF(Worksheet!$D$6=1,RANDBETWEEN(1,99),IF(Worksheet!$D$6=2,CHOOSE(RANDBETWEEN(1,2),RANDBETWEEN(1,99),RANDBETWEEN(1,999)/10),CHOOSE(RANDBETWEEN(1,4),RANDBETWEEN(1,99999)/1000,RANDBETWEEN(1,9999)/100,RANDBETWEEN(1,999)/10,RANDBETWEEN(1,99))))","v":75},"litres"]
[{"$f":"IF(COUNTIF($B$1:B2589,TRUE)=COUNTIF($B$1:B2588,TRUE),\"\",COUNTIF($B$1:B2589,TRUE))","v":""},{"$f":"IF(Worksheet!$D$10=2,FALSE,Worksheet!$D$17)","v":false},{"$f":"1000*F2589","v":89000},"cm³","=",{"$f":"IF(Worksheet!$D$6=1,RANDBETWEEN(1,99),IF(Worksheet!$D$6=2,CHOOSE(RANDBETWEEN(1,2),RANDBETWEEN(1,99),RANDBETWEEN(1,999)/10),CHOOSE(RANDBETWEEN(1,4),RANDBETWEEN(1,99999)/1000,RANDBETWEEN(1,9999)/100,RANDBETWEEN(1,999)/10,RANDBETWEEN(1,99))))","v":89},"litres"]
[{"$f":"IF(COUNTIF($B$1:B2590,TRUE)=COUNTIF($B$1:B2589,TRUE),\"\",COUNTIF($B$1:B2590,TRUE))","v":""},{"$f":"IF(Worksheet!$D$10=2,FALSE,Worksheet!$D$18)","v":false},{"$f":"10000*F2590","v":860000},"cm²","=",{"$f":"IF(Worksheet!$D$6=1,RANDBETWEEN(1,99),IF(Worksheet!$D$6=2,CHOOSE(RANDBETWEEN(1,2),RANDBETWEEN(1,99),RANDBETWEEN(1,999)/10),CHOOSE(RANDBETWEEN(1,4),RANDBETWEEN(1,99999)/1000,RANDBETWEEN(1,9999)/100,RANDBETWEEN(1,999)/10,RANDBETWEEN(1,99))))","v":86},"m²"]
[{"$f":"IF(COUNTIF($B$1:B2591,TRUE)=COUNTIF($B$1:B2590,TRUE),\"\",COUNTIF($B$1:B2591,TRUE))","v":1555},{"$f":"IF(Worksheet!$D$10=3,FALSE,Worksheet!$B$14)","v":true},{"$f":"IF(Worksheet!$D$6=1,RANDBETWEEN(1,99),IF(Worksheet!$D$6=2,CHOOSE(RANDBETWEEN(1,2),RANDBETWEEN(1,99),RANDBETWEEN(1,999)/10),CHOOSE(RANDBETWEEN(1,4),RANDBETWEEN(1,99999)/1000,RANDBETWEEN(1,9999)/100,RANDBETWEEN(1,999)/10,RANDBETWEEN(1,99))))","v":62},"cm","=",{"$f":"10*C2591","v":620},"mm"]
[{"$f":"IF(COUNTIF($B$1:B2592,TRUE)=COUNTIF($B$1:B2591,TRUE),\"\",COUNTIF($B$1:B2592,TRUE))","v":1556},{"$f":"IF(Worksheet!$D$10=3,FALSE,Worksheet!$B$15)","v":true},{"$f":"IF(Worksheet!$D$6=1,RANDBETWEEN(1,99),IF(Worksheet!$D$6=2,CHOOSE(RANDBETWEEN(1,2),RANDBETWEEN(1,99),RANDBETWEEN(1,999)/10),CHOOSE(RANDBETWEEN(1,4),RANDBETWEEN(1,99999)/1000,RANDBETWEEN(1,9999)/100,RANDBETWEEN(1,999)/10,RANDBETWEEN(1,99))))","v":59},"m","=",{"$f":"100*C2592","v":5900},"cm"]
[{"$f":"IF(COUNTIF($B$1:B2593,TRUE)=COUNTIF($B$1:B2592,TRUE),\"\",COUNTIF($B$1:B2593,TRUE))","v":1557},{"$f":"IF(Worksheet!$D$10=3,FALSE,Worksheet!$B$16)","v":true},{"$f":"IF(Worksheet!$D$6=1,RANDBETWEEN(1,99),IF(Worksheet!$D$6=2,CHOOSE(RANDBETWEEN(1,2),RANDBETWEEN(1,99),RANDBETWEEN(1,999)/10),CHOOSE(RANDBETWEEN(1,4),RANDBETWEEN(1,99999)/1000,RANDBETWEEN(1,9999)/100,RANDBETWEEN(1,999)/10,RANDBETWEEN(1,99))))","v":63},"km","=",{"$f":"1000*C2593","v":63000},"m"]
[{"$f":"IF(COUNTIF($B$1:B2594,TRUE)=COUNTIF($B$1:B2593,TRUE),\"\",COUNTIF($B$1:B2594,TRUE))","v":""},{"$f":"IF(Worksheet!$D$10=3,FALSE,Worksheet!$B$17)","v":false},{"$f":"IF(Worksheet!$D$6=1,RANDBETWEEN(1,99),IF(Worksheet!$D$6=2,CHOOSE(RANDBETWEEN(1,2),RANDBETWEEN(1,99),RANDBETWEEN(1,999)/10),CHOOSE(RANDBETWEEN(1,4),RANDBETWEEN(1,99999)/1000,RANDBETWEEN(1,9999)/100,RANDBETWEEN(1,999)/10,RANDBETWEEN(1,99))))","v":95},"m",{"$f":"#REF!","v":{"$error":"#REF!"}},{"$f":"1000*C2594","v":95000},"mm"]
[{"$f":"IF(COUNTIF($B$1:B2595,TRUE)=COUNTIF($B$1:B2594,TRUE),\"\",COUNTIF($B$1:B2595,TRUE))","v":""},{"$f":"IF(Worksheet!$D$10=3,FALSE,Worksheet!$B$18)","v":false},{"$f":"IF(Worksheet!$D$6=1,RANDBETWEEN(1,99),IF(Worksheet!$D$6=2,CHOOSE(RANDBETWEEN(1,2),RANDBETWEEN(1,99),RANDBETWEEN(1,999)/10),CHOOSE(RANDBETWEEN(1,4),RANDBETWEEN(1,99999)/1000,RANDBETWEEN(1,9999)/100,RANDBETWEEN(1,999)/10,RANDBETWEEN(1,99))))","v":50},"cm²","=",{"$f":"C2595*100","v":5000},"mm²"]
[{"$f":"IF(COUNTIF($B$1:B2596,TRUE)=COUNTIF($B$1:B2595,TRUE),\"\",COUNTIF($B$1:B2596,TRUE))","v":1558},{"$f":"IF(Worksheet!$D$10=3,FALSE,Worksheet!$D$14)","v":true},{"$f":"IF(Worksheet!$D$6=1,RANDBETWEEN(1,99),IF(Worksheet!$D$6=2,CHOOSE(RANDBETWEEN(1,2),RANDBETWEEN(1,99),RANDBETWEEN(1,999)/10),CHOOSE(RANDBETWEEN(1,4),RANDBETWEEN(1,99999)/1000,RANDBETWEEN(1,9999)/100,RANDBETWEEN(1,999)/10,RANDBETWEEN(1,99))))","v":6},"kg","=",{"$f":"1000*C2596","v":6000},"g"]
[{"$f":"IF(COUNTIF($B$1:B2597,TRUE)=COUNTIF($B$1:B2596,TRUE),\"\",COUNTIF($B$1:B2597,TRUE))","v":1559},{"$f":"IF(Worksheet!$D$10=3,FALSE,Worksheet!$D$15)","v":true},{"$f":"IF(Worksheet!$D$6=1,RANDBETWEEN(1,99),IF(Worksheet!$D$6=2,CHOOSE(RANDBETWEEN(1,2),RANDBETWEEN(1,99),RANDBETWEEN(1,999)/10),CHOOSE(RANDBETWEEN(1,4),RANDBETWEEN(1,99999)/1000,RANDBETWEEN(1,9999)/100,RANDBETWEEN(1,999)/10,RANDBETWEEN(1,99))))","v":67},"tonnes","=",{"$f":"1000*C2597","v":67000},"kg"]
[{"$f":"IF(COUNTIF($B$1:B2598,TRUE)=COUNTIF($B$1:B2597,TRUE),\"\",COUNTIF($B$1:B2598,TRUE))","v":1560},{"$f":"IF(Worksheet!$D$10=3,FALSE,Worksheet!$D$16)","v":true},{"$f":"IF(Worksheet!$D$6=1,RANDBETWEEN(1,99),IF(Worksheet!$D$6=2,CHOOSE(RANDBETWEEN(1,2),RANDBETWEEN(1,99),RANDBETWEEN(1,999)/10),CHOOSE(RANDBETWEEN(1,4),RANDBETWEEN(1,99999)/1000,RANDBETWEEN(1,9999)/100,RANDBETWEEN(1,999)/10,RANDBETWEEN(1,99))))","v":85},"litres","=",{"$f":"1000*C2598","v":85000},"ml"]
[{"$f":"IF(COUNTIF($B$1:B2599,TRUE)=COUNTIF($B$1:B2598,TRUE),\"\",COUNTIF($B$1:B2599,TRUE))","v":""},{"$f":"IF(Worksheet!$D$10=3,FALSE,Worksheet!$D$17)","v":false},{"$f":"IF(Worksheet!$D$6=1,RANDBETWEEN(1,99),IF(Worksheet!$D$6=2,CHOOSE(RANDBETWEEN(1,2),RANDBETWEEN(1,99),RANDBETWEEN(1,999)/10),CHOOSE(RANDBETWEEN(1,4),RANDBETWEEN(1,99999)/1000,RANDBETWEEN(1,9999)/100,RANDBETWEEN(1,999)/10,RANDBETWEEN(1,99))))","v":87},"litres","=",{"$f":"1000*C2599","v":87000},"cm³"]
[{"$f":"IF(COUNTIF($B$1:B2600,TRUE)=COUNTIF($B$1:B2599,TRUE),\"\",COUNTIF($B$1:B2600,TRUE))","v":""},{"$f":"IF(Worksheet!$D$10=3,FALSE,Worksheet!$D$18)","v":false},{"$f":"IF(Worksheet!$D$6=1,RANDBETWEEN(1,99),IF(Worksheet!$D$6=2,CHOOSE(RANDBETWEEN(1,2),RANDBETWEEN(1,99),RANDBETWEEN(1,999)/10),CHOOSE(RANDBETWEEN(1,4),RANDBETWEEN(1,99999)/1000,RANDBETWEEN(1,9999)/100,RANDBETWEEN(1,999)/10,RANDBETWEEN(1,99))))","v":12},"m²","=",{"$f":"10000*C2600","v":120000},"cm²"]
[{"$f":"IF(COUNTIF($B$1:B2601,TRUE)=COUNTIF($B$1:B2600,TRUE),\"\",COUNTIF($B$1:B2601,TRUE))","v":1561},{"$f":"IF(Worksheet!$D$10=2,FALSE,Worksheet!$B$14)","v":true},{"$f":"10*F2601","v":690},"mm","=",{"$f":"IF(Worksheet!$D$6=1,RANDBETWEEN(1,99),IF(Worksheet!$D$6=2,CHOOSE(RANDBETWEEN(1,2),RANDBETWEEN(1,99),RANDBETWEEN(1,999)/10),CHOOSE(RANDBETWEEN(1,4),RANDBETWEEN(1,99999)/1000,RANDBETWEEN(1,9999)/100,RANDBETWEEN(1,999)/10,RANDBETWEEN(1,99))))","v":69},"cm"]
[{"$f":"IF(COUNTIF($B$1:B2602,TRUE)=COUNTIF($B$1:B2601,TRUE),\"\",COUNTIF($B$1:B2602,TRUE))","v":1562},{"$f":"IF(Worksheet!$D$10=2,FALSE,Worksheet!$B$15)","v":true},{"$f":"100*F2602","v":7900},"cm","=",{"$f":"IF(Worksheet!$D$6=1,RANDBETWEEN(1,99),IF(Worksheet!$D$6=2,CHOOSE(RANDBETWEEN(1,2),RANDBETWEEN(1,99),RANDBETWEEN(1,999)/10),CHOOSE(RANDBETWEEN(1,4),RANDBETWEEN(1,99999)/1000,RANDBETWEEN(1,9999)/100,RANDBETWEEN(1,999)/10,RANDBETWEEN(1,99))))","v":79},"m"]
[{"$f":"IF(COUNTIF($B$1:B2603,TRUE)=COUNTIF($B$1:B2602,TRUE),\"\",COUNTIF($B$1:B2603,TRUE))","v":1563},{"$f":"IF(Worksheet!$D$10=2,FALSE,Worksheet!$B$16)","v":true},{"$f":"1000*F2603","v":66000},"m","=",{"$f":"IF(Worksheet!$D$6=1,RANDBETWEEN(1,99),IF(Worksheet!$D$6=2,CHOOSE(RANDBETWEEN(1,2),RANDBETWEEN(1,99),RANDBETWEEN(1,999)/10),CHOOSE(RANDBETWEEN(1,4),RANDBETWEEN(1,99999)/1000,RANDBETWEEN(1,9999)/100,RANDBETWEEN(1,999)/10,RANDBETWEEN(1,99))))","v":66},"km"]
[{"$f":"IF(COUNTIF($B$1:B2604,TRUE)=COUNTIF($B$1:B2603,TRUE),\"\",COUNTIF($B$1:B2604,TRUE))","v":""},{"$f":"IF(Worksheet!$D$10=2,FALSE,Worksheet!$B$17)","v":false},{"$f":"1000*F2604","v":53000},"mm","=",{"$f":"IF(Worksheet!$D$6=1,RANDBETWEEN(1,99),IF(Worksheet!$D$6=2,CHOOSE(RANDBETWEEN(1,2),RANDBETWEEN(1,99),RANDBETWEEN(1,999)/10),CHOOSE(RANDBETWEEN(1,4),RANDBETWEEN(1,99999)/1000,RANDBETWEEN(1,9999)/100,RANDBETWEEN(1,999)/10,RANDBETWEEN(1,99))))","v":53},"m"]
[{"$f":"IF(COUNTIF($B$1:B2605,TRUE)=COUNTIF($B$1:B2604,TRUE),\"\",COUNTIF($B$1:B2605,TRUE))","v":""},{"$f":"IF(Worksheet!$D$10=2,FALSE,Worksheet!$B$18)","v":false},{"$f":"100*F2605","v":7700},"mm²","=",{"$f":"IF(Worksheet!$D$6=1,RANDBETWEEN(1,99),IF(Worksheet!$D$6=2,CHOOSE(RANDBETWEEN(1,2),RANDBETWEEN(1,99),RANDBETWEEN(1,999)/10),CHOOSE(RANDBETWEEN(1,4),RANDBETWEEN(1,99999)/1000,RANDBETWEEN(1,9999)/100,RANDBETWEEN(1,999)/10,RANDBETWEEN(1,99))))","v":77},"cm²"]
[{"$f":"IF(COUNTIF($B$1:B2606,TRUE)=COUNTIF($B$1:B2605,TRUE),\"\",COUNTIF($B$1:B2606,TRUE))","v":1564},{"$f":"IF(Worksheet!$D$10=2,FALSE,Worksheet!$D$14)","v":true},{"$f":"F2606*1000","v":4000},"g","=",{"$f":"IF(Worksheet!$D$6=1,RANDBETWEEN(1,99),IF(Worksheet!$D$6=2,CHOOSE(RANDBETWEEN(1,2),RANDBETWEEN(1,99),RANDBETWEEN(1,999)/10),CHOOSE(RANDBETWEEN(1,4),RANDBETWEEN(1,99999)/1000,RANDBETWEEN(1,9999)/100,RANDBETWEEN(1,999)/10,RANDBETWEEN(1,99))))","v":4},"kg"]
[{"$f":"IF(COUNTIF($B$1:B2607,TRUE)=COUNTIF($B$1:B2606,TRUE),\"\",COUNTIF($B$1:B2607,TRUE))","v":1565},{"$f":"IF(Worksheet!$D$10=2,FALSE,Worksheet!$D$15)","v":true},{"$f":"F2607*1000","v":37000},"kg","=",{"$f":"IF(Worksheet!$D$6=1,RANDBETWEEN(1,99),IF(Worksheet!$D$6=2,CHOOSE(RANDBETWEEN(1,2),RANDBETWEEN(1,99),RANDBETWEEN(1,999)/10),CHOOSE(RANDBETWEEN(1,4),RANDBETWEEN(1,99999)/1000,RANDBETWEEN(1,9999)/100,RANDBETWEEN(1,999)/10,RANDBETWEEN(1,99))))","v":37},"tonnes"]
[{"$f":"IF(COUNTIF($B$1:B2608,TRUE)=COUNTIF($B$1:B2607,TRUE),\"\",COUNTIF($B$1:B2608,TRUE))","v":1566},{"$f":"IF(Worksheet!$D$10=2,FALSE,Worksheet!$D$16)","v":true},{"$f":"1000*F2608","v":30000},"ml","=",{"$f":"IF(Worksheet!$D$6=1,RANDBETWEEN(1,99),IF(Worksheet!$D$6=2,CHOOSE(RANDBETWEEN(1,2),RANDBETWEEN(1,99),RANDBETWEEN(1,999)/10),CHOOSE(RANDBETWEEN(1,4),RANDBETWEEN(1,99999)/1000,RANDBETWEEN(1,9999)/100,RANDBETWEEN(1,999)/10,RANDBETWEEN(1,99))))","v":30},"litres"]
[{"$f":"IF(COUNTIF($B$1:B2609,TRUE)=COUNTIF($B$1:B2608,TRUE),\"\",COUNTIF($B$1:B2609,TRUE))","v":""},{"$f":"IF(Worksheet!$D$10=2,FALSE,Worksheet!$D$17)","v":false},{"$f":"1000*F2609","v":54000},"cm³","=",{"$f":"IF(Worksheet!$D$6=1,RANDBETWEEN(1,99),IF(Worksheet!$D$6=2,CHOOSE(RANDBETWEEN(1,2),RANDBETWEEN(1,99),RANDBETWEEN(1,999)/10),CHOOSE(RANDBETWEEN(1,4),RANDBETWEEN(1,99999)/1000,RANDBETWEEN(1,9999)/100,RANDBETWEEN(1,999)/10,RANDBETWEEN(1,99))))","v":54},"litres"]
[{"$f":"IF(COUNTIF($B$1:B2610,TRUE)=COUNTIF($B$1:B2609,TRUE),\"\",COUNTIF($B$1:B2610,TRUE))","v":""},{"$f":"IF(Worksheet!$D$10=2,FALSE,Worksheet!$D$18)","v":false},{"$f":"10000*F2610","v":160000},"cm²","=",{"$f":"IF(Worksheet!$D$6=1,RANDBETWEEN(1,99),IF(Worksheet!$D$6=2,CHOOSE(RANDBETWEEN(1,2),RANDBETWEEN(1,99),RANDBETWEEN(1,999)/10),CHOOSE(RANDBETWEEN(1,4),RANDBETWEEN(1,99999)/1000,RANDBETWEEN(1,9999)/100,RANDBETWEEN(1,999)/10,RANDBETWEEN(1,99))))","v":16},"m²"]
[{"$f":"IF(COUNTIF($B$1:B2611,TRUE)=COUNTIF($B$1:B2610,TRUE),\"\",COUNTIF($B$1:B2611,TRUE))","v":1567},{"$f":"IF(Worksheet!$D$10=3,FALSE,Worksheet!$B$14)","v":true},{"$f":"IF(Worksheet!$D$6=1,RANDBETWEEN(1,99),IF(Worksheet!$D$6=2,CHOOSE(RANDBETWEEN(1,2),RANDBETWEEN(1,99),RANDBETWEEN(1,999)/10),CHOOSE(RANDBETWEEN(1,4),RANDBETWEEN(1,99999)/1000,RANDBETWEEN(1,9999)/100,RANDBETWEEN(1,999)/10,RANDBETWEEN(1,99))))","v":70},"cm","=",{"$f":"10*C2611","v":700},"mm"]
[{"$f":"IF(COUNTIF($B$1:B2612,TRUE)=COUNTIF($B$1:B2611,TRUE),\"\",COUNTIF($B$1:B2612,TRUE))","v":1568},{"$f":"IF(Worksheet!$D$10=3,FALSE,Worksheet!$B$15)","v":true},{"$f":"IF(Worksheet!$D$6=1,RANDBETWEEN(1,99),IF(Worksheet!$D$6=2,CHOOSE(RANDBETWEEN(1,2),RANDBETWEEN(1,99),RANDBETWEEN(1,999)/10),CHOOSE(RANDBETWEEN(1,4),RANDBETWEEN(1,99999)/1000,RANDBETWEEN(1,9999)/100,RANDBETWEEN(1,999)/10,RANDBETWEEN(1,99))))","v":90},"m","=",{"$f":"100*C2612","v":9000},"cm"]
[{"$f":"IF(COUNTIF($B$1:B2613,TRUE)=COUNTIF($B$1:B2612,TRUE),\"\",COUNTIF($B$1:B2613,TRUE))","v":1569},{"$f":"IF(Worksheet!$D$10=3,FALSE,Worksheet!$B$16)","v":true},{"$f":"IF(Worksheet!$D$6=1,RANDBETWEEN(1,99),IF(Worksheet!$D$6=2,CHOOSE(RANDBETWEEN(1,2),RANDBETWEEN(1,99),RANDBETWEEN(1,999)/10),CHOOSE(RANDBETWEEN(1,4),RANDBETWEEN(1,99999)/1000,RANDBETWEEN(1,9999)/100,RANDBETWEEN(1,999)/10,RANDBETWEEN(1,99))))","v":39},"km","=",{"$f":"1000*C2613","v":39000},"m"]
[{"$f":"IF(COUNTIF($B$1:B2614,TRUE)=COUNTIF($B$1:B2613,TRUE),\"\",COUNTIF($B$1:B2614,TRUE))","v":""},{"$f":"IF(Worksheet!$D$10=3,FALSE,Worksheet!$B$17)","v":false},{"$f":"IF(Worksheet!$D$6=1,RANDBETWEEN(1,99),IF(Worksheet!$D$6=2,CHOOSE(RANDBETWEEN(1,2),RANDBETWEEN(1,99),RANDBETWEEN(1,999)/10),CHOOSE(RANDBETWEEN(1,4),RANDBETWEEN(1,99999)/1000,RANDBETWEEN(1,9999)/100,RANDBETWEEN(1,999)/10,RANDBETWEEN(1,99))))","v":26},"m",{"$f":"#REF!","v":{"$error":"#REF!"}},{"$f":"1000*C2614","v":26000},"mm"]
[{"$f":"IF(COUNTIF($B$1:B2615,TRUE)=COUNTIF($B$1:B2614,TRUE),\"\",COUNTIF($B$1:B2615,TRUE))","v":""},{"$f":"IF(Worksheet!$D$10=3,FALSE,Worksheet!$B$18)","v":false},{"$f":"IF(Worksheet!$D$6=1,RANDBETWEEN(1,99),IF(Worksheet!$D$6=2,CHOOSE(RANDBETWEEN(1,2),RANDBETWEEN(1,99),RANDBETWEEN(1,999)/10),CHOOSE(RANDBETWEEN(1,4),RANDBETWEEN(1,99999)/1000,RANDBETWEEN(1,9999)/100,RANDBETWEEN(1,999)/10,RANDBETWEEN(1,99))))","v":55},"cm²","=",{"$f":"C2615*100","v":5500},"mm²"]
[{"$f":"IF(COUNTIF($B$1:B2616,TRUE)=COUNTIF($B$1:B2615,TRUE),\"\",COUNTIF($B$1:B2616,TRUE))","v":1570},{"$f":"IF(Worksheet!$D$10=3,FALSE,Worksheet!$D$14)","v":true},{"$f":"IF(Worksheet!$D$6=1,RANDBETWEEN(1,99),IF(Worksheet!$D$6=2,CHOOSE(RANDBETWEEN(1,2),RANDBETWEEN(1,99),RANDBETWEEN(1,999)/10),CHOOSE(RANDBETWEEN(1,4),RANDBETWEEN(1,99999)/1000,RANDBETWEEN(1,9999)/100,RANDBETWEEN(1,999)/10,RANDBETWEEN(1,99))))","v":42},"kg","=",{"$f":"1000*C2616","v":42000},"g"]
[{"$f":"IF(COUNTIF($B$1:B2617,TRUE)=COUNTIF($B$1:B2616,TRUE),\"\",COUNTIF($B$1:B2617,TRUE))","v":1571},{"$f":"IF(Worksheet!$D$10=3,FALSE,Worksheet!$D$15)","v":true},{"$f":"IF(Worksheet!$D$6=1,RANDBETWEEN(1,99),IF(Worksheet!$D$6=2,CHOOSE(RANDBETWEEN(1,2),RANDBETWEEN(1,99),RANDBETWEEN(1,999)/10),CHOOSE(RANDBETWEEN(1,4),RANDBETWEEN(1,99999)/1000,RANDBETWEEN(1,9999)/100,RANDBETWEEN(1,999)/10,RANDBETWEEN(1,99))))","v":34},"tonnes","=",{"$f":"1000*C2617","v":34000},"kg"]
[{"$f":"IF(COUNTIF($B$1:B2618,TRUE)=COUNTIF($B$1:B2617,TRUE),\"\",COUNTIF($B$1:B2618,TRUE))","v":1572},{"$f":"IF(Worksheet!$D$10=3,FALSE,Worksheet!$D$16)","v":true},{"$f":"IF(Worksheet!$D$6=1,RANDBETWEEN(1,99),IF(Worksheet!$D$6=2,CHOOSE(RANDBETWEEN(1,2),RANDBETWEEN(1,99),RANDBETWEEN(1,999)/10),CHOOSE(RANDBETWEEN(1,4),RANDBETWEEN(1,99999)/1000,RANDBETWEEN(1,9999)/100,RANDBETWEEN(1,999)/10,RANDBETWEEN(1,99))))","v":98},"litres","=",{"$f":"1000*C2618","v":98000},"ml"]
[{"$f":"IF(COUNTIF($B$1:B2619,TRUE)=COUNTIF($B$1:B2618,TRUE),\"\",COUNTIF($B$1:B2619,TRUE))","v":""},{"$f":"IF(Worksheet!$D$10=3,FALSE,Worksheet!$D$17)","v":false},{"$f":"IF(Worksheet!$D$6=1,RANDBETWEEN(1,99),IF(Worksheet!$D$6=2,CHOOSE(RANDBETWEEN(1,2),RANDBETWEEN(1,99),RANDBETWEEN(1,999)/10),CHOOSE(RANDBETWEEN(1,4),RANDBETWEEN(1,99999)/1000,RANDBETWEEN(1,9999)/100,RANDBETWEEN(1,999)/10,RANDBETWEEN(1,99))))","v":44},"litres","=",{"$f":"1000*C2619","v":44000},"cm³"]
[{"$f":"IF(COUNTIF($B$1:B2620,TRUE)=COUNTIF($B$1:B2619,TRUE),\"\",COUNTIF($B$1:B2620,TRUE))","v":""},{"$f":"IF(Worksheet!$D$10=3,FALSE,Worksheet!$D$18)","v":false},{"$f":"IF(Worksheet!$D$6=1,RANDBETWEEN(1,99),IF(Worksheet!$D$6=2,CHOOSE(RANDBETWEEN(1,2),RANDBETWEEN(1,99),RANDBETWEEN(1,999)/10),CHOOSE(RANDBETWEEN(1,4),RANDBETWEEN(1,99999)/1000,RANDBETWEEN(1,9999)/100,RANDBETWEEN(1,999)/10,RANDBETWEEN(1,99))))","v":19},"m²","=",{"$f":"10000*C2620","v":190000},"cm²"]
[{"$f":"IF(COUNTIF($B$1:B2621,TRUE)=COUNTIF($B$1:B2620,TRUE),\"\",COUNTIF($B$1:B2621,TRUE))","v":1573},{"$f":"IF(Worksheet!$D$10=2,FALSE,Worksheet!$B$14)","v":true},{"$f":"10*F2621","v":980},"mm","=",{"$f":"IF(Worksheet!$D$6=1,RANDBETWEEN(1,99),IF(Worksheet!$D$6=2,CHOOSE(RANDBETWEEN(1,2),RANDBETWEEN(1,99),RANDBETWEEN(1,999)/10),CHOOSE(RANDBETWEEN(1,4),RANDBETWEEN(1,99999)/1000,RANDBETWEEN(1,9999)/100,RANDBETWEEN(1,999)/10,RANDBETWEEN(1,99))))","v":98},"cm"]
[{"$f":"IF(COUNTIF($B$1:B2622,TRUE)=COUNTIF($B$1:B2621,TRUE),\"\",COUNTIF($B$1:B2622,TRUE))","v":1574},{"$f":"IF(Worksheet!$D$10=2,FALSE,Worksheet!$B$15)","v":true},{"$f":"100*F2622","v":800},"cm","=",{"$f":"IF(Worksheet!$D$6=1,RANDBETWEEN(1,99),IF(Worksheet!$D$6=2,CHOOSE(RANDBETWEEN(1,2),RANDBETWEEN(1,99),RANDBETWEEN(1,999)/10),CHOOSE(RANDBETWEEN(1,4),RANDBETWEEN(1,99999)/1000,RANDBETWEEN(1,9999)/100,RANDBETWEEN(1,999)/10,RANDBETWEEN(1,99))))","v":8},"m"]
[{"$f":"IF(COUNTIF($B$1:B2623,TRUE)=COUNTIF($B$1:B2622,TRUE),\"\",COUNTIF($B$1:B2623,TRUE))","v":1575},{"$f":"IF(Worksheet!$D$10=2,FALSE,Worksheet!$B$16)","v":true},{"$f":"1000*F2623","v":59000},"m","=",{"$f":"IF(Worksheet!$D$6=1,RANDBETWEEN(1,99),IF(Worksheet!$D$6=2,CHOOSE(RANDBETWEEN(1,2),RANDBETWEEN(1,99),RANDBETWEEN(1,999)/10),CHOOSE(RANDBETWEEN(1,4),RANDBETWEEN(1,99999)/1000,RANDBETWEEN(1,9999)/100,RANDBETWEEN(1,999)/10,RANDBETWEEN(1,99))))","v":59},"km"]
[{"$f":"IF(COUNTIF($B$1:B2624,TRUE)=COUNTIF($B$1:B2623,TRUE),\"\",COUNTIF($B$1:B2624,TRUE))","v":""},{"$f":"IF(Worksheet!$D$10=2,FALSE,Worksheet!$B$17)","v":false},{"$f":"1000*F2624","v":70000},"mm","=",{"$f":"IF(Worksheet!$D$6=1,RANDBETWEEN(1,99),IF(Worksheet!$D$6=2,CHOOSE(RANDBETWEEN(1,2),RANDBETWEEN(1,99),RANDBETWEEN(1,999)/10),CHOOSE(RANDBETWEEN(1,4),RANDBETWEEN(1,99999)/1000,RANDBETWEEN(1,9999)/100,RANDBETWEEN(1,999)/10,RANDBETWEEN(1,99))))","v":70},"m"]
[{"$f":"IF(COUNTIF($B$1:B2625,TRUE)=COUNTIF($B$1:B2624,TRUE),\"\",COUNTIF($B$1:B2625,TRUE))","v":""},{"$f":"IF(Worksheet!$D$10=2,FALSE,Worksheet!$B$18)","v":false},{"$f":"100*F2625","v":8900},"mm²","=",{"$f":"IF(Worksheet!$D$6=1,RANDBETWEEN(1,99),IF(Worksheet!$D$6=2,CHOOSE(RANDBETWEEN(1,2),RANDBETWEEN(1,99),RANDBETWEEN(1,999)/10),CHOOSE(RANDBETWEEN(1,4),RANDBETWEEN(1,99999)/1000,RANDBETWEEN(1,9999)/100,RANDBETWEEN(1,999)/10,RANDBETWEEN(1,99))))","v":89},"cm²"]
[{"$f":"IF(COUNTIF($B$1:B2626,TRUE)=COUNTIF($B$1:B2625,TRUE),\"\",COUNTIF($B$1:B2626,TRUE))","v":1576},{"$f":"IF(Worksheet!$D$10=2,FALSE,Worksheet!$D$14)","v":true},{"$f":"F2626*1000","v":23000},"g","=",{"$f":"IF(Worksheet!$D$6=1,RANDBETWEEN(1,99),IF(Worksheet!$D$6=2,CHOOSE(RANDBETWEEN(1,2),RANDBETWEEN(1,99),RANDBETWEEN(1,999)/10),CHOOSE(RANDBETWEEN(1,4),RANDBETWEEN(1,99999)/1000,RANDBETWEEN(1,9999)/100,RANDBETWEEN(1,999)/10,RANDBETWEEN(1,99))))","v":23},"kg"]
[{"$f":"IF(COUNTIF($B$1:B2627,TRUE)=COUNTIF($B$1:B2626,TRUE),\"\",COUNTIF($B$1:B2627,TRUE))","v":1577},{"$f":"IF(Worksheet!$D$10=2,FALSE,Worksheet!$D$15)","v":true},{"$f":"F2627*1000","v":40000},"kg","=",{"$f":"IF(Worksheet!$D$6=1,RANDBETWEEN(1,99),IF(Worksheet!$D$6=2,CHOOSE(RANDBETWEEN(1,2),RANDBETWEEN(1,99),RANDBETWEEN(1,999)/10),CHOOSE(RANDBETWEEN(1,4),RANDBETWEEN(1,99999)/1000,RANDBETWEEN(1,9999)/100,RANDBETWEEN(1,999)/10,RANDBETWEEN(1,99))))","v":40},"tonnes"]
[{"$f":"IF(COUNTIF($B$1:B2628,TRUE)=COUNTIF($B$1:B2627,TRUE),\"\",COUNTIF($B$1:B2628,TRUE))","v":1578},{"$f":"IF(Worksheet!$D$10=2,FALSE,Worksheet!$D$16)","v":true},{"$f":"1000*F2628","v":30000},"ml","=",{"$f":"IF(Worksheet!$D$6=1,RANDBETWEEN(1,99),IF(Worksheet!$D$6=2,CHOOSE(RANDBETWEEN(1,2),RANDBETWEEN(1,99),RANDBETWEEN(1,999)/10),CHOOSE(RANDBETWEEN(1,4),RANDBETWEEN(1,99999)/1000,RANDBETWEEN(1,9999)/100,RANDBETWEEN(1,999)/10,RANDBETWEEN(1,99))))","v":30},"litres"]
[{"$f":"IF(COUNTIF($B$1:B2629,TRUE)=COUNTIF($B$1:B2628,TRUE),\"\",COUNTIF($B$1:B2629,TRUE))","v":""},{"$f":"IF(Worksheet!$D$10=2,FALSE,Worksheet!$D$17)","v":false},{"$f":"1000*F2629","v":36000},"cm³","=",{"$f":"IF(Worksheet!$D$6=1,RANDBETWEEN(1,99),IF(Worksheet!$D$6=2,CHOOSE(RANDBETWEEN(1,2),RANDBETWEEN(1,99),RANDBETWEEN(1,999)/10),CHOOSE(RANDBETWEEN(1,4),RANDBETWEEN(1,99999)/1000,RANDBETWEEN(1,9999)/100,RANDBETWEEN(1,999)/10,RANDBETWEEN(1,99))))","v":36},"litres"]
[{"$f":"IF(COUNTIF($B$1:B2630,TRUE)=COUNTIF($B$1:B2629,TRUE),\"\",COUNTIF($B$1:B2630,TRUE))","v":""},{"$f":"IF(Worksheet!$D$10=2,FALSE,Worksheet!$D$18)","v":false},{"$f":"10000*F2630","v":880000},"cm²","=",{"$f":"IF(Worksheet!$D$6=1,RANDBETWEEN(1,99),IF(Worksheet!$D$6=2,CHOOSE(RANDBETWEEN(1,2),RANDBETWEEN(1,99),RANDBETWEEN(1,999)/10),CHOOSE(RANDBETWEEN(1,4),RANDBETWEEN(1,99999)/1000,RANDBETWEEN(1,9999)/100,RANDBETWEEN(1,999)/10,RANDBETWEEN(1,99))))","v":88},"m²"]
[{"$f":"IF(COUNTIF($B$1:B2631,TRUE)=COUNTIF($B$1:B2630,TRUE),\"\",COUNTIF($B$1:B2631,TRUE))","v":1579},{"$f":"IF(Worksheet!$D$10=3,FALSE,Worksheet!$B$14)","v":true},{"$f":"IF(Worksheet!$D$6=1,RANDBETWEEN(1,99),IF(Worksheet!$D$6=2,CHOOSE(RANDBETWEEN(1,2),RANDBETWEEN(1,99),RANDBETWEEN(1,999)/10),CHOOSE(RANDBETWEEN(1,4),RANDBETWEEN(1,99999)/1000,RANDBETWEEN(1,9999)/100,RANDBETWEEN(1,999)/10,RANDBETWEEN(1,99))))","v":47},"cm","=",{"$f":"10*C2631","v":470},"mm"]
[{"$f":"IF(COUNTIF($B$1:B2632,TRUE)=COUNTIF($B$1:B2631,TRUE),\"\",COUNTIF($B$1:B2632,TRUE))","v":1580},{"$f":"IF(Worksheet!$D$10=3,FALSE,Worksheet!$B$15)","v":true},{"$f":"IF(Worksheet!$D$6=1,RANDBETWEEN(1,99),IF(Worksheet!$D$6=2,CHOOSE(RANDBETWEEN(1,2),RANDBETWEEN(1,99),RANDBETWEEN(1,999)/10),CHOOSE(RANDBETWEEN(1,4),RANDBETWEEN(1,99999)/1000,RANDBETWEEN(1,9999)/100,RANDBETWEEN(1,999)/10,RANDBETWEEN(1,99))))","v":35},"m","=",{"$f":"100*C2632","v":3500},"cm"]
[{"$f":"IF(COUNTIF($B$1:B2633,TRUE)=COUNTIF($B$1:B2632,TRUE),\"\",COUNTIF($B$1:B2633,TRUE))","v":1581},{"$f":"IF(Worksheet!$D$10=3,FALSE,Worksheet!$B$16)","v":true},{"$f":"IF(Worksheet!$D$6=1,RANDBETWEEN(1,99),IF(Worksheet!$D$6=2,CHOOSE(RANDBETWEEN(1,2),RANDBETWEEN(1,99),RANDBETWEEN(1,999)/10),CHOOSE(RANDBETWEEN(1,4),RANDBETWEEN(1,99999)/1000,RANDBETWEEN(1,9999)/100,RANDBETWEEN(1,999)/10,RANDBETWEEN(1,99))))","v":69},"km","=",{"$f":"1000*C2633","v":69000},"m"]
[{"$f":"IF(COUNTIF($B$1:B2634,TRUE)=COUNTIF($B$1:B2633,TRUE),\"\",COUNTIF($B$1:B2634,TRUE))","v":""},{"$f":"IF(Worksheet!$D$10=3,FALSE,Worksheet!$B$17)","v":false},{"$f":"IF(Worksheet!$D$6=1,RANDBETWEEN(1,99),IF(Worksheet!$D$6=2,CHOOSE(RANDBETWEEN(1,2),RANDBETWEEN(1,99),RANDBETWEEN(1,999)/10),CHOOSE(RANDBETWEEN(1,4),RANDBETWEEN(1,99999)/1000,RANDBETWEEN(1,9999)/100,RANDBETWEEN(1,999)/10,RANDBETWEEN(1,99))))","v":16},"m",{"$f":"#REF!","v":{"$error":"#REF!"}},{"$f":"1000*C2634","v":16000},"mm"]
[{"$f":"IF(COUNTIF($B$1:B2635,TRUE)=COUNTIF($B$1:B2634,TRUE),\"\",COUNTIF($B$1:B2635,TRUE))","v":""},{"$f":"IF(Worksheet!$D$10=3,FALSE,Worksheet!$B$18)","v":false},{"$f":"IF(Worksheet!$D$6=1,RANDBETWEEN(1,99),IF(Worksheet!$D$6=2,CHOOSE(RANDBETWEEN(1,2),RANDBETWEEN(1,99),RANDBETWEEN(1,999)/10),CHOOSE(RANDBETWEEN(1,4),RANDBETWEEN(1,99999)/1000,RANDBETWEEN(1,9999)/100,RANDBETWEEN(1,999)/10,RANDBETWEEN(1,99))))","v":28},"cm²","=",{"$f":"C2635*100","v":2800},"mm²"]
[{"$f":"IF(COUNTIF($B$1:B2636,TRUE)=COUNTIF($B$1:B2635,TRUE),\"\",COUNTIF($B$1:B2636,TRUE))","v":1582},{"$f":"IF(Worksheet!$D$10=3,FALSE,Worksheet!$D$14)","v":true},{"$f":"IF(Worksheet!$D$6=1,RANDBETWEEN(1,99),IF(Worksheet!$D$6=2,CHOOSE(RANDBETWEEN(1,2),RANDBETWEEN(1,99),RANDBETWEEN(1,999)/10),CHOOSE(RANDBETWEEN(1,4),RANDBETWEEN(1,99999)/1000,RANDBETWEEN(1,9999)/100,RANDBETWEEN(1,999)/10,RANDBETWEEN(1,99))))","v":11},"kg","=",{"$f":"1000*C2636","v":11000},"g"]
[{"$f":"IF(COUNTIF($B$1:B2637,TRUE)=COUNTIF($B$1:B2636,TRUE),\"\",COUNTIF($B$1:B2637,TRUE))","v":1583},{"$f":"IF(Worksheet!$D$10=3,FALSE,Worksheet!$D$15)","v":true},{"$f":"IF(Worksheet!$D$6=1,RANDBETWEEN(1,99),IF(Worksheet!$D$6=2,CHOOSE(RANDBETWEEN(1,2),RANDBETWEEN(1,99),RANDBETWEEN(1,999)/10),CHOOSE(RANDBETWEEN(1,4),RANDBETWEEN(1,99999)/1000,RANDBETWEEN(1,9999)/100,RANDBETWEEN(1,999)/10,RANDBETWEEN(1,99))))","v":63},"tonnes","=",{"$f":"1000*C2637","v":63000},"kg"]
[{"$f":"IF(COUNTIF($B$1:B2638,TRUE)=COUNTIF($B$1:B2637,TRUE),\"\",COUNTIF($B$1:B2638,TRUE))","v":1584},{"$f":"IF(Worksheet!$D$10=3,FALSE,Worksheet!$D$16)","v":true},{"$f":"IF(Worksheet!$D$6=1,RANDBETWEEN(1,99),IF(Worksheet!$D$6=2,CHOOSE(RANDBETWEEN(1,2),RANDBETWEEN(1,99),RANDBETWEEN(1,999)/10),CHOOSE(RANDBETWEEN(1,4),RANDBETWEEN(1,99999)/1000,RANDBETWEEN(1,9999)/100,RANDBETWEEN(1,999)/10,RANDBETWEEN(1,99))))","v":32},"litres","=",{"$f":"1000*C2638","v":32000},"ml"]
[{"$f":"IF(COUNTIF($B$1:B2639,TRUE)=COUNTIF($B$1:B2638,TRUE),\"\",COUNTIF($B$1:B2639,TRUE))","v":""},{"$f":"IF(Worksheet!$D$10=3,FALSE,Worksheet!$D$17)","v":false},{"$f":"IF(Worksheet!$D$6=1,RANDBETWEEN(1,99),IF(Worksheet!$D$6=2,CHOOSE(RANDBETWEEN(1,2),RANDBETWEEN(1,99),RANDBETWEEN(1,999)/10),CHOOSE(RANDBETWEEN(1,4),RANDBETWEEN(1,99999)/1000,RANDBETWEEN(1,9999)/100,RANDBETWEEN(1,999)/10,RANDBETWEEN(1,99))))","v":66},"litres","=",{"$f":"1000*C2639","v":66000},"cm³"]
[{"$f":"IF(COUNTIF($B$1:B2640,TRUE)=COUNTIF($B$1:B2639,TRUE),\"\",COUNTIF($B$1:B2640,TRUE))","v":""},{"$f":"IF(Worksheet!$D$10=3,FALSE,Worksheet!$D$18)","v":false},{"$f":"IF(Worksheet!$D$6=1,RANDBETWEEN(1,99),IF(Worksheet!$D$6=2,CHOOSE(RANDBETWEEN(1,2),RANDBETWEEN(1,99),RANDBETWEEN(1,999)/10),CHOOSE(RANDBETWEEN(1,4),RANDBETWEEN(1,99999)/1000,RANDBETWEEN(1,9999)/100,RANDBETWEEN(1,999)/10,RANDBETWEEN(1,99))))","v":34},"m²","=",{"$f":"10000*C2640","v":340000},"cm²"]
[{"$f":"IF(COUNTIF($B$1:B2641,TRUE)=COUNTIF($B$1:B2640,TRUE),\"\",COUNTIF($B$1:B2641,TRUE))","v":1585},{"$f":"IF(Worksheet!$D$10=2,FALSE,Worksheet!$B$14)","v":true},{"$f":"10*F2641","v":150},"mm","=",{"$f":"IF(Worksheet!$D$6=1,RANDBETWEEN(1,99),IF(Worksheet!$D$6=2,CHOOSE(RANDBETWEEN(1,2),RANDBETWEEN(1,99),RANDBETWEEN(1,999)/10),CHOOSE(RANDBETWEEN(1,4),RANDBETWEEN(1,99999)/1000,RANDBETWEEN(1,9999)/100,RANDBETWEEN(1,999)/10,RANDBETWEEN(1,99))))","v":15},"cm"]
[{"$f":"IF(COUNTIF($B$1:B2642,TRUE)=COUNTIF($B$1:B2641,TRUE),\"\",COUNTIF($B$1:B2642,TRUE))","v":1586},{"$f":"IF(Worksheet!$D$10=2,FALSE,Worksheet!$B$15)","v":true},{"$f":"100*F2642","v":2600},"cm","=",{"$f":"IF(Worksheet!$D$6=1,RANDBETWEEN(1,99),IF(Worksheet!$D$6=2,CHOOSE(RANDBETWEEN(1,2),RANDBETWEEN(1,99),RANDBETWEEN(1,999)/10),CHOOSE(RANDBETWEEN(1,4),RANDBETWEEN(1,99999)/1000,RANDBETWEEN(1,9999)/100,RANDBETWEEN(1,999)/10,RANDBETWEEN(1,99))))","v":26},"m"]
[{"$f":"IF(COUNTIF($B$1:B2643,TRUE)=COUNTIF($B$1:B2642,TRUE),\"\",COUNTIF($B$1:B2643,TRUE))","v":1587},{"$f":"IF(Worksheet!$D$10=2,FALSE,Worksheet!$B$16)","v":true},{"$f":"1000*F2643","v":71000},"m","=",{"$f":"IF(Worksheet!$D$6=1,RANDBETWEEN(1,99),IF(Worksheet!$D$6=2,CHOOSE(RANDBETWEEN(1,2),RANDBETWEEN(1,99),RANDBETWEEN(1,999)/10),CHOOSE(RANDBETWEEN(1,4),RANDBETWEEN(1,99999)/1000,RANDBETWEEN(1,9999)/100,RANDBETWEEN(1,999)/10,RANDBETWEEN(1,99))))","v":71},"km"]
[{"$f":"IF(COUNTIF($B$1:B2644,TRUE)=COUNTIF($B$1:B2643,TRUE),\"\",COUNTIF($B$1:B2644,TRUE))","v":""},{"$f":"IF(Worksheet!$D$10=2,FALSE,Worksheet!$B$17)","v":false},{"$f":"1000*F2644","v":80000},"mm","=",{"$f":"IF(Worksheet!$D$6=1,RANDBETWEEN(1,99),IF(Worksheet!$D$6=2,CHOOSE(RANDBETWEEN(1,2),RANDBETWEEN(1,99),RANDBETWEEN(1,999)/10),CHOOSE(RANDBETWEEN(1,4),RANDBETWEEN(1,99999)/1000,RANDBETWEEN(1,9999)/100,RANDBETWEEN(1,999)/10,RANDBETWEEN(1,99))))","v":80},"m"]
[{"$f":"IF(COUNTIF($B$1:B2645,TRUE)=COUNTIF($B$1:B2644,TRUE),\"\",COUNTIF($B$1:B2645,TRUE))","v":""},{"$f":"IF(Worksheet!$D$10=2,FALSE,Worksheet!$B$18)","v":false},{"$f":"100*F2645","v":6600},"mm²","=",{"$f":"IF(Worksheet!$D$6=1,RANDBETWEEN(1,99),IF(Worksheet!$D$6=2,CHOOSE(RANDBETWEEN(1,2),RANDBETWEEN(1,99),RANDBETWEEN(1,999)/10),CHOOSE(RANDBETWEEN(1,4),RANDBETWEEN(1,99999)/1000,RANDBETWEEN(1,9999)/100,RANDBETWEEN(1,999)/10,RANDBETWEEN(1,99))))","v":66},"cm²"]
[{"$f":"IF(COUNTIF($B$1:B2646,TRUE)=COUNTIF($B$1:B2645,TRUE),\"\",COUNTIF($B$1:B2646,TRUE))","v":1588},{"$f":"IF(Worksheet!$D$10=2,FALSE,Worksheet!$D$14)","v":true},{"$f":"F2646*1000","v":26000},"g","=",{"$f":"IF(Worksheet!$D$6=1,RANDBETWEEN(1,99),IF(Worksheet!$D$6=2,CHOOSE(RANDBETWEEN(1,2),RANDBETWEEN(1,99),RANDBETWEEN(1,999)/10),CHOOSE(RANDBETWEEN(1,4),RANDBETWEEN(1,99999)/1000,RANDBETWEEN(1,9999)/100,RANDBETWEEN(1,999)/10,RANDBETWEEN(1,99))))","v":26},"kg"]
[{"$f":"IF(COUNTIF($B$1:B2647,TRUE)=COUNTIF($B$1:B2646,TRUE),\"\",COUNTIF($B$1:B2647,TRUE))","v":1589},{"$f":"IF(Worksheet!$D$10=2,FALSE,Worksheet!$D$15)","v":true},{"$f":"F2647*1000","v":91000},"kg","=",{"$f":"IF(Worksheet!$D$6=1,RANDBETWEEN(1,99),IF(Worksheet!$D$6=2,CHOOSE(RANDBETWEEN(1,2),RANDBETWEEN(1,99),RANDBETWEEN(1,999)/10),CHOOSE(RANDBETWEEN(1,4),RANDBETWEEN(1,99999)/1000,RANDBETWEEN(1,9999)/100,RANDBETWEEN(1,999)/10,RANDBETWEEN(1,99))))","v":91},"tonnes"]
[{"$f":"IF(COUNTIF($B$1:B2648,TRUE)=COUNTIF($B$1:B2647,TRUE),\"\",COUNTIF($B$1:B2648,TRUE))","v":1590},{"$f":"IF(Worksheet!$D$10=2,FALSE,Worksheet!$D$16)","v":true},{"$f":"1000*F2648","v":8000},"ml","=",{"$f":"IF(Worksheet!$D$6=1,RANDBETWEEN(1,99),IF(Worksheet!$D$6=2,CHOOSE(RANDBETWEEN(1,2),RANDBETWEEN(1,99),RANDBETWEEN(1,999)/10),CHOOSE(RANDBETWEEN(1,4),RANDBETWEEN(1,99999)/1000,RANDBETWEEN(1,9999)/100,RANDBETWEEN(1,999)/10,RANDBETWEEN(1,99))))","v":8},"litres"]
[{"$f":"IF(COUNTIF($B$1:B2649,TRUE)=COUNTIF($B$1:B2648,TRUE),\"\",COUNTIF($B$1:B2649,TRUE))","v":""},{"$f":"IF(Worksheet!$D$10=2,FALSE,Worksheet!$D$17)","v":false},{"$f":"1000*F2649","v":6000},"cm³","=",{"$f":"IF(Worksheet!$D$6=1,RANDBETWEEN(1,99),IF(Worksheet!$D$6=2,CHOOSE(RANDBETWEEN(1,2),RANDBETWEEN(1,99),RANDBETWEEN(1,999)/10),CHOOSE(RANDBETWEEN(1,4),RANDBETWEEN(1,99999)/1000,RANDBETWEEN(1,9999)/100,RANDBETWEEN(1,999)/10,RANDBETWEEN(1,99))))","v":6},"litres"]
[{"$f":"IF(COUNTIF($B$1:B2650,TRUE)=COUNTIF($B$1:B2649,TRUE),\"\",COUNTIF($B$1:B2650,TRUE))","v":""},{"$f":"IF(Worksheet!$D$10=2,FALSE,Worksheet!$D$18)","v":false},{"$f":"10000*F2650","v":670000},"cm²","=",{"$f":"IF(Worksheet!$D$6=1,RANDBETWEEN(1,99),IF(Worksheet!$D$6=2,CHOOSE(RANDBETWEEN(1,2),RANDBETWEEN(1,99),RANDBETWEEN(1,999)/10),CHOOSE(RANDBETWEEN(1,4),RANDBETWEEN(1,99999)/1000,RANDBETWEEN(1,9999)/100,RANDBETWEEN(1,999)/10,RANDBETWEEN(1,99))))","v":67},"m²"]
[{"$f":"IF(COUNTIF($B$1:B2651,TRUE)=COUNTIF($B$1:B2650,TRUE),\"\",COUNTIF($B$1:B2651,TRUE))","v":1591},{"$f":"IF(Worksheet!$D$10=3,FALSE,Worksheet!$B$14)","v":true},{"$f":"IF(Worksheet!$D$6=1,RANDBETWEEN(1,99),IF(Worksheet!$D$6=2,CHOOSE(RANDBETWEEN(1,2),RANDBETWEEN(1,99),RANDBETWEEN(1,999)/10),CHOOSE(RANDBETWEEN(1,4),RANDBETWEEN(1,99999)/1000,RANDBETWEEN(1,9999)/100,RANDBETWEEN(1,999)/10,RANDBETWEEN(1,99))))","v":11},"cm","=",{"$f":"10*C2651","v":110},"mm"]
[{"$f":"IF(COUNTIF($B$1:B2652,TRUE)=COUNTIF($B$1:B2651,TRUE),\"\",COUNTIF($B$1:B2652,TRUE))","v":1592},{"$f":"IF(Worksheet!$D$10=3,FALSE,Worksheet!$B$15)","v":true},{"$f":"IF(Worksheet!$D$6=1,RANDBETWEEN(1,99),IF(Worksheet!$D$6=2,CHOOSE(RANDBETWEEN(1,2),RANDBETWEEN(1,99),RANDBETWEEN(1,999)/10),CHOOSE(RANDBETWEEN(1,4),RANDBETWEEN(1,99999)/1000,RANDBETWEEN(1,9999)/100,RANDBETWEEN(1,999)/10,RANDBETWEEN(1,99))))","v":62},"m","=",{"$f":"100*C2652","v":6200},"cm"]
[{"$f":"IF(COUNTIF($B$1:B2653,TRUE)=COUNTIF($B$1:B2652,TRUE),\"\",COUNTIF($B$1:B2653,TRUE))","v":1593},{"$f":"IF(Worksheet!$D$10=3,FALSE,Worksheet!$B$16)","v":true},{"$f":"IF(Worksheet!$D$6=1,RANDBETWEEN(1,99),IF(Worksheet!$D$6=2,CHOOSE(RANDBETWEEN(1,2),RANDBETWEEN(1,99),RANDBETWEEN(1,999)/10),CHOOSE(RANDBETWEEN(1,4),RANDBETWEEN(1,99999)/1000,RANDBETWEEN(1,9999)/100,RANDBETWEEN(1,999)/10,RANDBETWEEN(1,99))))","v":32},"km","=",{"$f":"1000*C2653","v":32000},"m"]
[{"$f":"IF(COUNTIF($B$1:B2654,TRUE)=COUNTIF($B$1:B2653,TRUE),\"\",COUNTIF($B$1:B2654,TRUE))","v":""},{"$f":"IF(Worksheet!$D$10=3,FALSE,Worksheet!$B$17)","v":false},{"$f":"IF(Worksheet!$D$6=1,RANDBETWEEN(1,99),IF(Worksheet!$D$6=2,CHOOSE(RANDBETWEEN(1,2),RANDBETWEEN(1,99),RANDBETWEEN(1,999)/10),CHOOSE(RANDBETWEEN(1,4),RANDBETWEEN(1,99999)/1000,RANDBETWEEN(1,9999)/100,RANDBETWEEN(1,999)/10,RANDBETWEEN(1,99))))","v":54},"m",{"$f":"#REF!","v":{"$error":"#REF!"}},{"$f":"1000*C2654","v":54000},"mm"]
[{"$f":"IF(COUNTIF($B$1:B2655,TRUE)=COUNTIF($B$1:B2654,TRUE),\"\",COUNTIF($B$1:B2655,TRUE))","v":""},{"$f":"IF(Worksheet!$D$10=3,FALSE,Worksheet!$B$18)","v":false},{"$f":"IF(Worksheet!$D$6=1,RANDBETWEEN(1,99),IF(Worksheet!$D$6=2,CHOOSE(RANDBETWEEN(1,2),RANDBETWEEN(1,99),RANDBETWEEN(1,999)/10),CHOOSE(RANDBETWEEN(1,4),RANDBETWEEN(1,99999)/1000,RANDBETWEEN(1,9999)/100,RANDBETWEEN(1,999)/10,RANDBETWEEN(1,99))))","v":29},"cm²","=",{"$f":"C2655*100","v":2900},"mm²"]
[{"$f":"IF(COUNTIF($B$1:B2656,TRUE)=COUNTIF($B$1:B2655,TRUE),\"\",COUNTIF($B$1:B2656,TRUE))","v":1594},{"$f":"IF(Worksheet!$D$10=3,FALSE,Worksheet!$D$14)","v":true},{"$f":"IF(Worksheet!$D$6=1,RANDBETWEEN(1,99),IF(Worksheet!$D$6=2,CHOOSE(RANDBETWEEN(1,2),RANDBETWEEN(1,99),RANDBETWEEN(1,999)/10),CHOOSE(RANDBETWEEN(1,4),RANDBETWEEN(1,99999)/1000,RANDBETWEEN(1,9999)/100,RANDBETWEEN(1,999)/10,RANDBETWEEN(1,99))))","v":21},"kg","=",{"$f":"1000*C2656","v":21000},"g"]
[{"$f":"IF(COUNTIF($B$1:B2657,TRUE)=COUNTIF($B$1:B2656,TRUE),\"\",COUNTIF($B$1:B2657,TRUE))","v":1595},{"$f":"IF(Worksheet!$D$10=3,FALSE,Worksheet!$D$15)","v":true},{"$f":"IF(Worksheet!$D$6=1,RANDBETWEEN(1,99),IF(Worksheet!$D$6=2,CHOOSE(RANDBETWEEN(1,2),RANDBETWEEN(1,99),RANDBETWEEN(1,999)/10),CHOOSE(RANDBETWEEN(1,4),RANDBETWEEN(1,99999)/1000,RANDBETWEEN(1,9999)/100,RANDBETWEEN(1,999)/10,RANDBETWEEN(1,99))))","v":68},"tonnes","=",{"$f":"1000*C2657","v":68000},"kg"]
[{"$f":"IF(COUNTIF($B$1:B2658,TRUE)=COUNTIF($B$1:B2657,TRUE),\"\",COUNTIF($B$1:B2658,TRUE))","v":1596},{"$f":"IF(Worksheet!$D$10=3,FALSE,Worksheet!$D$16)","v":true},{"$f":"IF(Worksheet!$D$6=1,RANDBETWEEN(1,99),IF(Worksheet!$D$6=2,CHOOSE(RANDBETWEEN(1,2),RANDBETWEEN(1,99),RANDBETWEEN(1,999)/10),CHOOSE(RANDBETWEEN(1,4),RANDBETWEEN(1,99999)/1000,RANDBETWEEN(1,9999)/100,RANDBETWEEN(1,999)/10,RANDBETWEEN(1,99))))","v":46},"litres","=",{"$f":"1000*C2658","v":46000},"ml"]
[{"$f":"IF(COUNTIF($B$1:B2659,TRUE)=COUNTIF($B$1:B2658,TRUE),\"\",COUNTIF($B$1:B2659,TRUE))","v":""},{"$f":"IF(Worksheet!$D$10=3,FALSE,Worksheet!$D$17)","v":false},{"$f":"IF(Worksheet!$D$6=1,RANDBETWEEN(1,99),IF(Worksheet!$D$6=2,CHOOSE(RANDBETWEEN(1,2),RANDBETWEEN(1,99),RANDBETWEEN(1,999)/10),CHOOSE(RANDBETWEEN(1,4),RANDBETWEEN(1,99999)/1000,RANDBETWEEN(1,9999)/100,RANDBETWEEN(1,999)/10,RANDBETWEEN(1,99))))","v":14},"litres","=",{"$f":"1000*C2659","v":14000},"cm³"]
[{"$f":"IF(COUNTIF($B$1:B2660,TRUE)=COUNTIF($B$1:B2659,TRUE),\"\",COUNTIF($B$1:B2660,TRUE))","v":""},{"$f":"IF(Worksheet!$D$10=3,FALSE,Worksheet!$D$18)","v":false},{"$f":"IF(Worksheet!$D$6=1,RANDBETWEEN(1,99),IF(Worksheet!$D$6=2,CHOOSE(RANDBETWEEN(1,2),RANDBETWEEN(1,99),RANDBETWEEN(1,999)/10),CHOOSE(RANDBETWEEN(1,4),RANDBETWEEN(1,99999)/1000,RANDBETWEEN(1,9999)/100,RANDBETWEEN(1,999)/10,RANDBETWEEN(1,99))))","v":49},"m²","=",{"$f":"10000*C2660","v":490000},"cm²"]
[{"$f":"IF(COUNTIF($B$1:B2661,TRUE)=COUNTIF($B$1:B2660,TRUE),\"\",COUNTIF($B$1:B2661,TRUE))","v":1597},{"$f":"IF(Worksheet!$D$10=2,FALSE,Worksheet!$B$14)","v":true},{"$f":"10*F2661","v":350},"mm","=",{"$f":"IF(Worksheet!$D$6=1,RANDBETWEEN(1,99),IF(Worksheet!$D$6=2,CHOOSE(RANDBETWEEN(1,2),RANDBETWEEN(1,99),RANDBETWEEN(1,999)/10),CHOOSE(RANDBETWEEN(1,4),RANDBETWEEN(1,99999)/1000,RANDBETWEEN(1,9999)/100,RANDBETWEEN(1,999)/10,RANDBETWEEN(1,99))))","v":35},"cm"]
[{"$f":"IF(COUNTIF($B$1:B2662,TRUE)=COUNTIF($B$1:B2661,TRUE),\"\",COUNTIF($B$1:B2662,TRUE))","v":1598},{"$f":"IF(Worksheet!$D$10=2,FALSE,Worksheet!$B$15)","v":true},{"$f":"100*F2662","v":5100},"cm","=",{"$f":"IF(Worksheet!$D$6=1,RANDBETWEEN(1,99),IF(Worksheet!$D$6=2,CHOOSE(RANDBETWEEN(1,2),RANDBETWEEN(1,99),RANDBETWEEN(1,999)/10),CHOOSE(RANDBETWEEN(1,4),RANDBETWEEN(1,99999)/1000,RANDBETWEEN(1,9999)/100,RANDBETWEEN(1,999)/10,RANDBETWEEN(1,99))))","v":51},"m"]
[{"$f":"IF(COUNTIF($B$1:B2663,TRUE)=COUNTIF($B$1:B2662,TRUE),\"\",COUNTIF($B$1:B2663,TRUE))","v":1599},{"$f":"IF(Worksheet!$D$10=2,FALSE,Worksheet!$B$16)","v":true},{"$f":"1000*F2663","v":90000},"m","=",{"$f":"IF(Worksheet!$D$6=1,RANDBETWEEN(1,99),IF(Worksheet!$D$6=2,CHOOSE(RANDBETWEEN(1,2),RANDBETWEEN(1,99),RANDBETWEEN(1,999)/10),CHOOSE(RANDBETWEEN(1,4),RANDBETWEEN(1,99999)/1000,RANDBETWEEN(1,9999)/100,RANDBETWEEN(1,999)/10,RANDBETWEEN(1,99))))","v":90},"km"]
[{"$f":"IF(COUNTIF($B$1:B2664,TRUE)=COUNTIF($B$1:B2663,TRUE),\"\",COUNTIF($B$1:B2664,TRUE))","v":""},{"$f":"IF(Worksheet!$D$10=2,FALSE,Worksheet!$B$17)","v":false},{"$f":"1000*F2664","v":57000},"mm","=",{"$f":"IF(Worksheet!$D$6=1,RANDBETWEEN(1,99),IF(Worksheet!$D$6=2,CHOOSE(RANDBETWEEN(1,2),RANDBETWEEN(1,99),RANDBETWEEN(1,999)/10),CHOOSE(RANDBETWEEN(1,4),RANDBETWEEN(1,99999)/1000,RANDBETWEEN(1,9999)/100,RANDBETWEEN(1,999)/10,RANDBETWEEN(1,99))))","v":57},"m"]
[{"$f":"IF(COUNTIF($B$1:B2665,TRUE)=COUNTIF($B$1:B2664,TRUE),\"\",COUNTIF($B$1:B2665,TRUE))","v":""},{"$f":"IF(Worksheet!$D$10=2,FALSE,Worksheet!$B$18)","v":false},{"$f":"100*F2665","v":300},"mm²","=",{"$f":"IF(Worksheet!$D$6=1,RANDBETWEEN(1,99),IF(Worksheet!$D$6=2,CHOOSE(RANDBETWEEN(1,2),RANDBETWEEN(1,99),RANDBETWEEN(1,999)/10),CHOOSE(RANDBETWEEN(1,4),RANDBETWEEN(1,99999)/1000,RANDBETWEEN(1,9999)/100,RANDBETWEEN(1,999)/10,RANDBETWEEN(1,99))))","v":3},"cm²"]
[{"$f":"IF(COUNTIF($B$1:B2666,TRUE)=COUNTIF($B$1:B2665,TRUE),\"\",COUNTIF($B$1:B2666,TRUE))","v":1600},{"$f":"IF(Worksheet!$D$10=2,FALSE,Worksheet!$D$14)","v":true},{"$f":"F2666*1000","v":18000},"g","=",{"$f":"IF(Worksheet!$D$6=1,RANDBETWEEN(1,99),IF(Worksheet!$D$6=2,CHOOSE(RANDBETWEEN(1,2),RANDBETWEEN(1,99),RANDBETWEEN(1,999)/10),CHOOSE(RANDBETWEEN(1,4),RANDBETWEEN(1,99999)/1000,RANDBETWEEN(1,9999)/100,RANDBETWEEN(1,999)/10,RANDBETWEEN(1,99))))","v":18},"kg"]
[{"$f":"IF(COUNTIF($B$1:B2667,TRUE)=COUNTIF($B$1:B2666,TRUE),\"\",COUNTIF($B$1:B2667,TRUE))","v":1601},{"$f":"IF(Worksheet!$D$10=2,FALSE,Worksheet!$D$15)","v":true},{"$f":"F2667*1000","v":82000},"kg","=",{"$f":"IF(Worksheet!$D$6=1,RANDBETWEEN(1,99),IF(Worksheet!$D$6=2,CHOOSE(RANDBETWEEN(1,2),RANDBETWEEN(1,99),RANDBETWEEN(1,999)/10),CHOOSE(RANDBETWEEN(1,4),RANDBETWEEN(1,99999)/1000,RANDBETWEEN(1,9999)/100,RANDBETWEEN(1,999)/10,RANDBETWEEN(1,99))))","v":82},"tonnes"]
[{"$f":"IF(COUNTIF($B$1:B2668,TRUE)=COUNTIF($B$1:B2667,TRUE),\"\",COUNTIF($B$1:B2668,TRUE))","v":1602},{"$f":"IF(Worksheet!$D$10=2,FALSE,Worksheet!$D$16)","v":true},{"$f":"1000*F2668","v":50000},"ml","=",{"$f":"IF(Worksheet!$D$6=1,RANDBETWEEN(1,99),IF(Worksheet!$D$6=2,CHOOSE(RANDBETWEEN(1,2),RANDBETWEEN(1,99),RANDBETWEEN(1,999)/10),CHOOSE(RANDBETWEEN(1,4),RANDBETWEEN(1,99999)/1000,RANDBETWEEN(1,9999)/100,RANDBETWEEN(1,999)/10,RANDBETWEEN(1,99))))","v":50},"litres"]
[{"$f":"IF(COUNTIF($B$1:B2669,TRUE)=COUNTIF($B$1:B2668,TRUE),\"\",COUNTIF($B$1:B2669,TRUE))","v":""},{"$f":"IF(Worksheet!$D$10=2,FALSE,Worksheet!$D$17)","v":false},{"$f":"1000*F2669","v":36000},"cm³","=",{"$f":"IF(Worksheet!$D$6=1,RANDBETWEEN(1,99),IF(Worksheet!$D$6=2,CHOOSE(RANDBETWEEN(1,2),RANDBETWEEN(1,99),RANDBETWEEN(1,999)/10),CHOOSE(RANDBETWEEN(1,4),RANDBETWEEN(1,99999)/1000,RANDBETWEEN(1,9999)/100,RANDBETWEEN(1,999)/10,RANDBETWEEN(1,99))))","v":36},"litres"]
[{"$f":"IF(COUNTIF($B$1:B2670,TRUE)=COUNTIF($B$1:B2669,TRUE),\"\",COUNTIF($B$1:B2670,TRUE))","v":""},{"$f":"IF(Worksheet!$D$10=2,FALSE,Worksheet!$D$18)","v":false},{"$f":"10000*F2670","v":460000},"cm²","=",{"$f":"IF(Worksheet!$D$6=1,RANDBETWEEN(1,99),IF(Worksheet!$D$6=2,CHOOSE(RANDBETWEEN(1,2),RANDBETWEEN(1,99),RANDBETWEEN(1,999)/10),CHOOSE(RANDBETWEEN(1,4),RANDBETWEEN(1,99999)/1000,RANDBETWEEN(1,9999)/100,RANDBETWEEN(1,999)/10,RANDBETWEEN(1,99))))","v":46},"m²"]
[{"$f":"IF(COUNTIF($B$1:B2671,TRUE)=COUNTIF($B$1:B2670,TRUE),\"\",COUNTIF($B$1:B2671,TRUE))","v":1603},{"$f":"IF(Worksheet!$D$10=3,FALSE,Worksheet!$B$14)","v":true},{"$f":"IF(Worksheet!$D$6=1,RANDBETWEEN(1,99),IF(Worksheet!$D$6=2,CHOOSE(RANDBETWEEN(1,2),RANDBETWEEN(1,99),RANDBETWEEN(1,999)/10),CHOOSE(RANDBETWEEN(1,4),RANDBETWEEN(1,99999)/1000,RANDBETWEEN(1,9999)/100,RANDBETWEEN(1,999)/10,RANDBETWEEN(1,99))))","v":77},"cm","=",{"$f":"10*C2671","v":770},"mm"]
[{"$f":"IF(COUNTIF($B$1:B2672,TRUE)=COUNTIF($B$1:B2671,TRUE),\"\",COUNTIF($B$1:B2672,TRUE))","v":1604},{"$f":"IF(Worksheet!$D$10=3,FALSE,Worksheet!$B$15)","v":true},{"$f":"IF(Worksheet!$D$6=1,RANDBETWEEN(1,99),IF(Worksheet!$D$6=2,CHOOSE(RANDBETWEEN(1,2),RANDBETWEEN(1,99),RANDBETWEEN(1,999)/10),CHOOSE(RANDBETWEEN(1,4),RANDBETWEEN(1,99999)/1000,RANDBETWEEN(1,9999)/100,RANDBETWEEN(1,999)/10,RANDBETWEEN(1,99))))","v":25},"m","=",{"$f":"100*C2672","v":2500},"cm"]
[{"$f":"IF(COUNTIF($B$1:B2673,TRUE)=COUNTIF($B$1:B2672,TRUE),\"\",COUNTIF($B$1:B2673,TRUE))","v":1605},{"$f":"IF(Worksheet!$D$10=3,FALSE,Worksheet!$B$16)","v":true},{"$f":"IF(Worksheet!$D$6=1,RANDBETWEEN(1,99),IF(Worksheet!$D$6=2,CHOOSE(RANDBETWEEN(1,2),RANDBETWEEN(1,99),RANDBETWEEN(1,999)/10),CHOOSE(RANDBETWEEN(1,4),RANDBETWEEN(1,99999)/1000,RANDBETWEEN(1,9999)/100,RANDBETWEEN(1,999)/10,RANDBETWEEN(1,99))))","v":79},"km","=",{"$f":"1000*C2673","v":79000},"m"]
[{"$f":"IF(COUNTIF($B$1:B2674,TRUE)=COUNTIF($B$1:B2673,TRUE),\"\",COUNTIF($B$1:B2674,TRUE))","v":""},{"$f":"IF(Worksheet!$D$10=3,FALSE,Worksheet!$B$17)","v":false},{"$f":"IF(Worksheet!$D$6=1,RANDBETWEEN(1,99),IF(Worksheet!$D$6=2,CHOOSE(RANDBETWEEN(1,2),RANDBETWEEN(1,99),RANDBETWEEN(1,999)/10),CHOOSE(RANDBETWEEN(1,4),RANDBETWEEN(1,99999)/1000,RANDBETWEEN(1,9999)/100,RANDBETWEEN(1,999)/10,RANDBETWEEN(1,99))))","v":69},"m",{"$f":"#REF!","v":{"$error":"#REF!"}},{"$f":"1000*C2674","v":69000},"mm"]
[{"$f":"IF(COUNTIF($B$1:B2675,TRUE)=COUNTIF($B$1:B2674,TRUE),\"\",COUNTIF($B$1:B2675,TRUE))","v":""},{"$f":"IF(Worksheet!$D$10=3,FALSE,Worksheet!$B$18)","v":false},{"$f":"IF(Worksheet!$D$6=1,RANDBETWEEN(1,99),IF(Worksheet!$D$6=2,CHOOSE(RANDBETWEEN(1,2),RANDBETWEEN(1,99),RANDBETWEEN(1,999)/10),CHOOSE(RANDBETWEEN(1,4),RANDBETWEEN(1,99999)/1000,RANDBETWEEN(1,9999)/100,RANDBETWEEN(1,999)/10,RANDBETWEEN(1,99))))","v":29},"cm²","=",{"$f":"C2675*100","v":2900},"mm²"]
[{"$f":"IF(COUNTIF($B$1:B2676,TRUE)=COUNTIF($B$1:B2675,TRUE),\"\",COUNTIF($B$1:B2676,TRUE))","v":1606},{"$f":"IF(Worksheet!$D$10=3,FALSE,Worksheet!$D$14)","v":true},{"$f":"IF(Worksheet!$D$6=1,RANDBETWEEN(1,99),IF(Worksheet!$D$6=2,CHOOSE(RANDBETWEEN(1,2),RANDBETWEEN(1,99),RANDBETWEEN(1,999)/10),CHOOSE(RANDBETWEEN(1,4),RANDBETWEEN(1,99999)/1000,RANDBETWEEN(1,9999)/100,RANDBETWEEN(1,999)/10,RANDBETWEEN(1,99))))","v":21},"kg","=",{"$f":"1000*C2676","v":21000},"g"]
[{"$f":"IF(COUNTIF($B$1:B2677,TRUE)=COUNTIF($B$1:B2676,TRUE),\"\",COUNTIF($B$1:B2677,TRUE))","v":1607},{"$f":"IF(Worksheet!$D$10=3,FALSE,Worksheet!$D$15)","v":true},{"$f":"IF(Worksheet!$D$6=1,RANDBETWEEN(1,99),IF(Worksheet!$D$6=2,CHOOSE(RANDBETWEEN(1,2),RANDBETWEEN(1,99),RANDBETWEEN(1,999)/10),CHOOSE(RANDBETWEEN(1,4),RANDBETWEEN(1,99999)/1000,RANDBETWEEN(1,9999)/100,RANDBETWEEN(1,999)/10,RANDBETWEEN(1,99))))","v":23},"tonnes","=",{"$f":"1000*C2677","v":23000},"kg"]
[{"$f":"IF(COUNTIF($B$1:B2678,TRUE)=COUNTIF($B$1:B2677,TRUE),\"\",COUNTIF($B$1:B2678,TRUE))","v":1608},{"$f":"IF(Worksheet!$D$10=3,FALSE,Worksheet!$D$16)","v":true},{"$f":"IF(Worksheet!$D$6=1,RANDBETWEEN(1,99),IF(Worksheet!$D$6=2,CHOOSE(RANDBETWEEN(1,2),RANDBETWEEN(1,99),RANDBETWEEN(1,999)/10),CHOOSE(RANDBETWEEN(1,4),RANDBETWEEN(1,99999)/1000,RANDBETWEEN(1,9999)/100,RANDBETWEEN(1,999)/10,RANDBETWEEN(1,99))))","v":41},"litres","=",{"$f":"1000*C2678","v":41000},"ml"]
[{"$f":"IF(COUNTIF($B$1:B2679,TRUE)=COUNTIF($B$1:B2678,TRUE),\"\",COUNTIF($B$1:B2679,TRUE))","v":""},{"$f":"IF(Worksheet!$D$10=3,FALSE,Worksheet!$D$17)","v":false},{"$f":"IF(Worksheet!$D$6=1,RANDBETWEEN(1,99),IF(Worksheet!$D$6=2,CHOOSE(RANDBETWEEN(1,2),RANDBETWEEN(1,99),RANDBETWEEN(1,999)/10),CHOOSE(RANDBETWEEN(1,4),RANDBETWEEN(1,99999)/1000,RANDBETWEEN(1,9999)/100,RANDBETWEEN(1,999)/10,RANDBETWEEN(1,99))))","v":38},"litres","=",{"$f":"1000*C2679","v":38000},"cm³"]
[{"$f":"IF(COUNTIF($B$1:B2680,TRUE)=COUNTIF($B$1:B2679,TRUE),\"\",COUNTIF($B$1:B2680,TRUE))","v":""},{"$f":"IF(Worksheet!$D$10=3,FALSE,Worksheet!$D$18)","v":false},{"$f":"IF(Worksheet!$D$6=1,RANDBETWEEN(1,99),IF(Worksheet!$D$6=2,CHOOSE(RANDBETWEEN(1,2),RANDBETWEEN(1,99),RANDBETWEEN(1,999)/10),CHOOSE(RANDBETWEEN(1,4),RANDBETWEEN(1,99999)/1000,RANDBETWEEN(1,9999)/100,RANDBETWEEN(1,999)/10,RANDBETWEEN(1,99))))","v":30},"m²","=",{"$f":"10000*C2680","v":300000},"cm²"]
[{"$f":"IF(COUNTIF($B$1:B2681,TRUE)=COUNTIF($B$1:B2680,TRUE),\"\",COUNTIF($B$1:B2681,TRUE))","v":1609},{"$f":"IF(Worksheet!$D$10=2,FALSE,Worksheet!$B$14)","v":true},{"$f":"10*F2681","v":730},"mm","=",{"$f":"IF(Worksheet!$D$6=1,RANDBETWEEN(1,99),IF(Worksheet!$D$6=2,CHOOSE(RANDBETWEEN(1,2),RANDBETWEEN(1,99),RANDBETWEEN(1,999)/10),CHOOSE(RANDBETWEEN(1,4),RANDBETWEEN(1,99999)/1000,RANDBETWEEN(1,9999)/100,RANDBETWEEN(1,999)/10,RANDBETWEEN(1,99))))","v":73},"cm"]
[{"$f":"IF(COUNTIF($B$1:B2682,TRUE)=COUNTIF($B$1:B2681,TRUE),\"\",COUNTIF($B$1:B2682,TRUE))","v":1610},{"$f":"IF(Worksheet!$D$10=2,FALSE,Worksheet!$B$15)","v":true},{"$f":"100*F2682","v":7700},"cm","=",{"$f":"IF(Worksheet!$D$6=1,RANDBETWEEN(1,99),IF(Worksheet!$D$6=2,CHOOSE(RANDBETWEEN(1,2),RANDBETWEEN(1,99),RANDBETWEEN(1,999)/10),CHOOSE(RANDBETWEEN(1,4),RANDBETWEEN(1,99999)/1000,RANDBETWEEN(1,9999)/100,RANDBETWEEN(1,999)/10,RANDBETWEEN(1,99))))","v":77},"m"]
[{"$f":"IF(COUNTIF($B$1:B2683,TRUE)=COUNTIF($B$1:B2682,TRUE),\"\",COUNTIF($B$1:B2683,TRUE))","v":1611},{"$f":"IF(Worksheet!$D$10=2,FALSE,Worksheet!$B$16)","v":true},{"$f":"1000*F2683","v":11000},"m","=",{"$f":"IF(Worksheet!$D$6=1,RANDBETWEEN(1,99),IF(Worksheet!$D$6=2,CHOOSE(RANDBETWEEN(1,2),RANDBETWEEN(1,99),RANDBETWEEN(1,999)/10),CHOOSE(RANDBETWEEN(1,4),RANDBETWEEN(1,99999)/1000,RANDBETWEEN(1,9999)/100,RANDBETWEEN(1,999)/10,RANDBETWEEN(1,99))))","v":11},"km"]
[{"$f":"IF(COUNTIF($B$1:B2684,TRUE)=COUNTIF($B$1:B2683,TRUE),\"\",COUNTIF($B$1:B2684,TRUE))","v":""},{"$f":"IF(Worksheet!$D$10=2,FALSE,Worksheet!$B$17)","v":false},{"$f":"1000*F2684","v":22000},"mm","=",{"$f":"IF(Worksheet!$D$6=1,RANDBETWEEN(1,99),IF(Worksheet!$D$6=2,CHOOSE(RANDBETWEEN(1,2),RANDBETWEEN(1,99),RANDBETWEEN(1,999)/10),CHOOSE(RANDBETWEEN(1,4),RANDBETWEEN(1,99999)/1000,RANDBETWEEN(1,9999)/100,RANDBETWEEN(1,999)/10,RANDBETWEEN(1,99))))","v":22},"m"]
[{"$f":"IF(COUNTIF($B$1:B2685,TRUE)=COUNTIF($B$1:B2684,TRUE),\"\",COUNTIF($B$1:B2685,TRUE))","v":""},{"$f":"IF(Worksheet!$D$10=2,FALSE,Worksheet!$B$18)","v":false},{"$f":"100*F2685","v":1600},"mm²","=",{"$f":"IF(Worksheet!$D$6=1,RANDBETWEEN(1,99),IF(Worksheet!$D$6=2,CHOOSE(RANDBETWEEN(1,2),RANDBETWEEN(1,99),RANDBETWEEN(1,999)/10),CHOOSE(RANDBETWEEN(1,4),RANDBETWEEN(1,99999)/1000,RANDBETWEEN(1,9999)/100,RANDBETWEEN(1,999)/10,RANDBETWEEN(1,99))))","v":16},"cm²"]
[{"$f":"IF(COUNTIF($B$1:B2686,TRUE)=COUNTIF($B$1:B2685,TRUE),\"\",COUNTIF($B$1:B2686,TRUE))","v":1612},{"$f":"IF(Worksheet!$D$10=2,FALSE,Worksheet!$D$14)","v":true},{"$f":"F2686*1000","v":47000},"g","=",{"$f":"IF(Worksheet!$D$6=1,RANDBETWEEN(1,99),IF(Worksheet!$D$6=2,CHOOSE(RANDBETWEEN(1,2),RANDBETWEEN(1,99),RANDBETWEEN(1,999)/10),CHOOSE(RANDBETWEEN(1,4),RANDBETWEEN(1,99999)/1000,RANDBETWEEN(1,9999)/100,RANDBETWEEN(1,999)/10,RANDBETWEEN(1,99))))","v":47},"kg"]
[{"$f":"IF(COUNTIF($B$1:B2687,TRUE)=COUNTIF($B$1:B2686,TRUE),\"\",COUNTIF($B$1:B2687,TRUE))","v":1613},{"$f":"IF(Worksheet!$D$10=2,FALSE,Worksheet!$D$15)","v":true},{"$f":"F2687*1000","v":64000},"kg","=",{"$f":"IF(Worksheet!$D$6=1,RANDBETWEEN(1,99),IF(Worksheet!$D$6=2,CHOOSE(RANDBETWEEN(1,2),RANDBETWEEN(1,99),RANDBETWEEN(1,999)/10),CHOOSE(RANDBETWEEN(1,4),RANDBETWEEN(1,99999)/1000,RANDBETWEEN(1,9999)/100,RANDBETWEEN(1,999)/10,RANDBETWEEN(1,99))))","v":64},"tonnes"]
[{"$f":"IF(COUNTIF($B$1:B2688,TRUE)=COUNTIF($B$1:B2687,TRUE),\"\",COUNTIF($B$1:B2688,TRUE))","v":1614},{"$f":"IF(Worksheet!$D$10=2,FALSE,Worksheet!$D$16)","v":true},{"$f":"1000*F2688","v":36000},"ml","=",{"$f":"IF(Worksheet!$D$6=1,RANDBETWEEN(1,99),IF(Worksheet!$D$6=2,CHOOSE(RANDBETWEEN(1,2),RANDBETWEEN(1,99),RANDBETWEEN(1,999)/10),CHOOSE(RANDBETWEEN(1,4),RANDBETWEEN(1,99999)/1000,RANDBETWEEN(1,9999)/100,RANDBETWEEN(1,999)/10,RANDBETWEEN(1,99))))","v":36},"litres"]
[{"$f":"IF(COUNTIF($B$1:B2689,TRUE)=COUNTIF($B$1:B2688,TRUE),\"\",COUNTIF($B$1:B2689,TRUE))","v":""},{"$f":"IF(Worksheet!$D$10=2,FALSE,Worksheet!$D$17)","v":false},{"$f":"1000*F2689","v":1000},"cm³","=",{"$f":"IF(Worksheet!$D$6=1,RANDBETWEEN(1,99),IF(Worksheet!$D$6=2,CHOOSE(RANDBETWEEN(1,2),RANDBETWEEN(1,99),RANDBETWEEN(1,999)/10),CHOOSE(RANDBETWEEN(1,4),RANDBETWEEN(1,99999)/1000,RANDBETWEEN(1,9999)/100,RANDBETWEEN(1,999)/10,RANDBETWEEN(1,99))))","v":1},"litres"]
[{"$f":"IF(COUNTIF($B$1:B2690,TRUE)=COUNTIF($B$1:B2689,TRUE),\"\",COUNTIF($B$1:B2690,TRUE))","v":""},{"$f":"IF(Worksheet!$D$10=2,FALSE,Worksheet!$D$18)","v":false},{"$f":"10000*F2690","v":300000},"cm²","=",{"$f":"IF(Worksheet!$D$6=1,RANDBETWEEN(1,99),IF(Worksheet!$D$6=2,CHOOSE(RANDBETWEEN(1,2),RANDBETWEEN(1,99),RANDBETWEEN(1,999)/10),CHOOSE(RANDBETWEEN(1,4),RANDBETWEEN(1,99999)/1000,RANDBETWEEN(1,9999)/100,RANDBETWEEN(1,999)/10,RANDBETWEEN(1,99))))","v":30},"m²"]
[{"$f":"IF(COUNTIF($B$1:B2691,TRUE)=COUNTIF($B$1:B2690,TRUE),\"\",COUNTIF($B$1:B2691,TRUE))","v":1615},{"$f":"IF(Worksheet!$D$10=3,FALSE,Worksheet!$B$14)","v":true},{"$f":"IF(Worksheet!$D$6=1,RANDBETWEEN(1,99),IF(Worksheet!$D$6=2,CHOOSE(RANDBETWEEN(1,2),RANDBETWEEN(1,99),RANDBETWEEN(1,999)/10),CHOOSE(RANDBETWEEN(1,4),RANDBETWEEN(1,99999)/1000,RANDBETWEEN(1,9999)/100,RANDBETWEEN(1,999)/10,RANDBETWEEN(1,99))))","v":59},"cm","=",{"$f":"10*C2691","v":590},"mm"]
[{"$f":"IF(COUNTIF($B$1:B2692,TRUE)=COUNTIF($B$1:B2691,TRUE),\"\",COUNTIF($B$1:B2692,TRUE))","v":1616},{"$f":"IF(Worksheet!$D$10=3,FALSE,Worksheet!$B$15)","v":true},{"$f":"IF(Worksheet!$D$6=1,RANDBETWEEN(1,99),IF(Worksheet!$D$6=2,CHOOSE(RANDBETWEEN(1,2),RANDBETWEEN(1,99),RANDBETWEEN(1,999)/10),CHOOSE(RANDBETWEEN(1,4),RANDBETWEEN(1,99999)/1000,RANDBETWEEN(1,9999)/100,RANDBETWEEN(1,999)/10,RANDBETWEEN(1,99))))","v":39},"m","=",{"$f":"100*C2692","v":3900},"cm"]
[{"$f":"IF(COUNTIF($B$1:B2693,TRUE)=COUNTIF($B$1:B2692,TRUE),\"\",COUNTIF($B$1:B2693,TRUE))","v":1617},{"$f":"IF(Worksheet!$D$10=3,FALSE,Worksheet!$B$16)","v":true},{"$f":"IF(Worksheet!$D$6=1,RANDBETWEEN(1,99),IF(Worksheet!$D$6=2,CHOOSE(RANDBETWEEN(1,2),RANDBETWEEN(1,99),RANDBETWEEN(1,999)/10),CHOOSE(RANDBETWEEN(1,4),RANDBETWEEN(1,99999)/1000,RANDBETWEEN(1,9999)/100,RANDBETWEEN(1,999)/10,RANDBETWEEN(1,99))))","v":39},"km","=",{"$f":"1000*C2693","v":39000},"m"]
[{"$f":"IF(COUNTIF($B$1:B2694,TRUE)=COUNTIF($B$1:B2693,TRUE),\"\",COUNTIF($B$1:B2694,TRUE))","v":""},{"$f":"IF(Worksheet!$D$10=3,FALSE,Worksheet!$B$17)","v":false},{"$f":"IF(Worksheet!$D$6=1,RANDBETWEEN(1,99),IF(Worksheet!$D$6=2,CHOOSE(RANDBETWEEN(1,2),RANDBETWEEN(1,99),RANDBETWEEN(1,999)/10),CHOOSE(RANDBETWEEN(1,4),RANDBETWEEN(1,99999)/1000,RANDBETWEEN(1,9999)/100,RANDBETWEEN(1,999)/10,RANDBETWEEN(1,99))))","v":19},"m",{"$f":"#REF!","v":{"$error":"#REF!"}},{"$f":"1000*C2694","v":19000},"mm"]
[{"$f":"IF(COUNTIF($B$1:B2695,TRUE)=COUNTIF($B$1:B2694,TRUE),\"\",COUNTIF($B$1:B2695,TRUE))","v":""},{"$f":"IF(Worksheet!$D$10=3,FALSE,Worksheet!$B$18)","v":false},{"$f":"IF(Worksheet!$D$6=1,RANDBETWEEN(1,99),IF(Worksheet!$D$6=2,CHOOSE(RANDBETWEEN(1,2),RANDBETWEEN(1,99),RANDBETWEEN(1,999)/10),CHOOSE(RANDBETWEEN(1,4),RANDBETWEEN(1,99999)/1000,RANDBETWEEN(1,9999)/100,RANDBETWEEN(1,999)/10,RANDBETWEEN(1,99))))","v":56},"cm²","=",{"$f":"C2695*100","v":5600},"mm²"]
[{"$f":"IF(COUNTIF($B$1:B2696,TRUE)=COUNTIF($B$1:B2695,TRUE),\"\",COUNTIF($B$1:B2696,TRUE))","v":1618},{"$f":"IF(Worksheet!$D$10=3,FALSE,Worksheet!$D$14)","v":true},{"$f":"IF(Worksheet!$D$6=1,RANDBETWEEN(1,99),IF(Worksheet!$D$6=2,CHOOSE(RANDBETWEEN(1,2),RANDBETWEEN(1,99),RANDBETWEEN(1,999)/10),CHOOSE(RANDBETWEEN(1,4),RANDBETWEEN(1,99999)/1000,RANDBETWEEN(1,9999)/100,RANDBETWEEN(1,999)/10,RANDBETWEEN(1,99))))","v":30},"kg","=",{"$f":"1000*C2696","v":30000},"g"]
[{"$f":"IF(COUNTIF($B$1:B2697,TRUE)=COUNTIF($B$1:B2696,TRUE),\"\",COUNTIF($B$1:B2697,TRUE))","v":1619},{"$f":"IF(Worksheet!$D$10=3,FALSE,Worksheet!$D$15)","v":true},{"$f":"IF(Worksheet!$D$6=1,RANDBETWEEN(1,99),IF(Worksheet!$D$6=2,CHOOSE(RANDBETWEEN(1,2),RANDBETWEEN(1,99),RANDBETWEEN(1,999)/10),CHOOSE(RANDBETWEEN(1,4),RANDBETWEEN(1,99999)/1000,RANDBETWEEN(1,9999)/100,RANDBETWEEN(1,999)/10,RANDBETWEEN(1,99))))","v":67},"tonnes","=",{"$f":"1000*C2697","v":67000},"kg"]
[{"$f":"IF(COUNTIF($B$1:B2698,TRUE)=COUNTIF($B$1:B2697,TRUE),\"\",COUNTIF($B$1:B2698,TRUE))","v":1620},{"$f":"IF(Worksheet!$D$10=3,FALSE,Worksheet!$D$16)","v":true},{"$f":"IF(Worksheet!$D$6=1,RANDBETWEEN(1,99),IF(Worksheet!$D$6=2,CHOOSE(RANDBETWEEN(1,2),RANDBETWEEN(1,99),RANDBETWEEN(1,999)/10),CHOOSE(RANDBETWEEN(1,4),RANDBETWEEN(1,99999)/1000,RANDBETWEEN(1,9999)/100,RANDBETWEEN(1,999)/10,RANDBETWEEN(1,99))))","v":15},"litres","=",{"$f":"1000*C2698","v":15000},"ml"]
[{"$f":"IF(COUNTIF($B$1:B2699,TRUE)=COUNTIF($B$1:B2698,TRUE),\"\",COUNTIF($B$1:B2699,TRUE))","v":""},{"$f":"IF(Worksheet!$D$10=3,FALSE,Worksheet!$D$17)","v":false},{"$f":"IF(Worksheet!$D$6=1,RANDBETWEEN(1,99),IF(Worksheet!$D$6=2,CHOOSE(RANDBETWEEN(1,2),RANDBETWEEN(1,99),RANDBETWEEN(1,999)/10),CHOOSE(RANDBETWEEN(1,4),RANDBETWEEN(1,99999)/1000,RANDBETWEEN(1,9999)/100,RANDBETWEEN(1,999)/10,RANDBETWEEN(1,99))))","v":34},"litres","=",{"$f":"1000*C2699","v":34000},"cm³"]
[{"$f":"IF(COUNTIF($B$1:B2700,TRUE)=COUNTIF($B$1:B2699,TRUE),\"\",COUNTIF($B$1:B2700,TRUE))","v":""},{"$f":"IF(Worksheet!$D$10=3,FALSE,Worksheet!$D$18)","v":false},{"$f":"IF(Worksheet!$D$6=1,RANDBETWEEN(1,99),IF(Worksheet!$D$6=2,CHOOSE(RANDBETWEEN(1,2),RANDBETWEEN(1,99),RANDBETWEEN(1,999)/10),CHOOSE(RANDBETWEEN(1,4),RANDBETWEEN(1,99999)/1000,RANDBETWEEN(1,9999)/100,RANDBETWEEN(1,999)/10,RANDBETWEEN(1,99))))","v":56},"m²","=",{"$f":"10000*C2700","v":560000},"cm²"]
[{"$f":"IF(COUNTIF($B$1:B2701,TRUE)=COUNTIF($B$1:B2700,TRUE),\"\",COUNTIF($B$1:B2701,TRUE))","v":1621},{"$f":"IF(Worksheet!$D$10=2,FALSE,Worksheet!$B$14)","v":true},{"$f":"10*F2701","v":810},"mm","=",{"$f":"IF(Worksheet!$D$6=1,RANDBETWEEN(1,99),IF(Worksheet!$D$6=2,CHOOSE(RANDBETWEEN(1,2),RANDBETWEEN(1,99),RANDBETWEEN(1,999)/10),CHOOSE(RANDBETWEEN(1,4),RANDBETWEEN(1,99999)/1000,RANDBETWEEN(1,9999)/100,RANDBETWEEN(1,999)/10,RANDBETWEEN(1,99))))","v":81},"cm"]
[{"$f":"IF(COUNTIF($B$1:B2702,TRUE)=COUNTIF($B$1:B2701,TRUE),\"\",COUNTIF($B$1:B2702,TRUE))","v":1622},{"$f":"IF(Worksheet!$D$10=2,FALSE,Worksheet!$B$15)","v":true},{"$f":"100*F2702","v":5200},"cm","=",{"$f":"IF(Worksheet!$D$6=1,RANDBETWEEN(1,99),IF(Worksheet!$D$6=2,CHOOSE(RANDBETWEEN(1,2),RANDBETWEEN(1,99),RANDBETWEEN(1,999)/10),CHOOSE(RANDBETWEEN(1,4),RANDBETWEEN(1,99999)/1000,RANDBETWEEN(1,9999)/100,RANDBETWEEN(1,999)/10,RANDBETWEEN(1,99))))","v":52},"m"]
[{"$f":"IF(COUNTIF($B$1:B2703,TRUE)=COUNTIF($B$1:B2702,TRUE),\"\",COUNTIF($B$1:B2703,TRUE))","v":1623},{"$f":"IF(Worksheet!$D$10=2,FALSE,Worksheet!$B$16)","v":true},{"$f":"1000*F2703","v":40000},"m","=",{"$f":"IF(Worksheet!$D$6=1,RANDBETWEEN(1,99),IF(Worksheet!$D$6=2,CHOOSE(RANDBETWEEN(1,2),RANDBETWEEN(1,99),RANDBETWEEN(1,999)/10),CHOOSE(RANDBETWEEN(1,4),RANDBETWEEN(1,99999)/1000,RANDBETWEEN(1,9999)/100,RANDBETWEEN(1,999)/10,RANDBETWEEN(1,99))))","v":40},"km"]
[{"$f":"IF(COUNTIF($B$1:B2704,TRUE)=COUNTIF($B$1:B2703,TRUE),\"\",COUNTIF($B$1:B2704,TRUE))","v":""},{"$f":"IF(Worksheet!$D$10=2,FALSE,Worksheet!$B$17)","v":false},{"$f":"1000*F2704","v":40000},"mm","=",{"$f":"IF(Worksheet!$D$6=1,RANDBETWEEN(1,99),IF(Worksheet!$D$6=2,CHOOSE(RANDBETWEEN(1,2),RANDBETWEEN(1,99),RANDBETWEEN(1,999)/10),CHOOSE(RANDBETWEEN(1,4),RANDBETWEEN(1,99999)/1000,RANDBETWEEN(1,9999)/100,RANDBETWEEN(1,999)/10,RANDBETWEEN(1,99))))","v":40},"m"]
[{"$f":"IF(COUNTIF($B$1:B2705,TRUE)=COUNTIF($B$1:B2704,TRUE),\"\",COUNTIF($B$1:B2705,TRUE))","v":""},{"$f":"IF(Worksheet!$D$10=2,FALSE,Worksheet!$B$18)","v":false},{"$f":"100*F2705","v":2600},"mm²","=",{"$f":"IF(Worksheet!$D$6=1,RANDBETWEEN(1,99),IF(Worksheet!$D$6=2,CHOOSE(RANDBETWEEN(1,2),RANDBETWEEN(1,99),RANDBETWEEN(1,999)/10),CHOOSE(RANDBETWEEN(1,4),RANDBETWEEN(1,99999)/1000,RANDBETWEEN(1,9999)/100,RANDBETWEEN(1,999)/10,RANDBETWEEN(1,99))))","v":26},"cm²"]
[{"$f":"IF(COUNTIF($B$1:B2706,TRUE)=COUNTIF($B$1:B2705,TRUE),\"\",COUNTIF($B$1:B2706,TRUE))","v":1624},{"$f":"IF(Worksheet!$D$10=2,FALSE,Worksheet!$D$14)","v":true},{"$f":"F2706*1000","v":67000},"g","=",{"$f":"IF(Worksheet!$D$6=1,RANDBETWEEN(1,99),IF(Worksheet!$D$6=2,CHOOSE(RANDBETWEEN(1,2),RANDBETWEEN(1,99),RANDBETWEEN(1,999)/10),CHOOSE(RANDBETWEEN(1,4),RANDBETWEEN(1,99999)/1000,RANDBETWEEN(1,9999)/100,RANDBETWEEN(1,999)/10,RANDBETWEEN(1,99))))","v":67},"kg"]
[{"$f":"IF(COUNTIF($B$1:B2707,TRUE)=COUNTIF($B$1:B2706,TRUE),\"\",COUNTIF($B$1:B2707,TRUE))","v":1625},{"$f":"IF(Worksheet!$D$10=2,FALSE,Worksheet!$D$15)","v":true},{"$f":"F2707*1000","v":7000},"kg","=",{"$f":"IF(Worksheet!$D$6=1,RANDBETWEEN(1,99),IF(Worksheet!$D$6=2,CHOOSE(RANDBETWEEN(1,2),RANDBETWEEN(1,99),RANDBETWEEN(1,999)/10),CHOOSE(RANDBETWEEN(1,4),RANDBETWEEN(1,99999)/1000,RANDBETWEEN(1,9999)/100,RANDBETWEEN(1,999)/10,RANDBETWEEN(1,99))))","v":7},"tonnes"]
[{"$f":"IF(COUNTIF($B$1:B2708,TRUE)=COUNTIF($B$1:B2707,TRUE),\"\",COUNTIF($B$1:B2708,TRUE))","v":1626},{"$f":"IF(Worksheet!$D$10=2,FALSE,Worksheet!$D$16)","v":true},{"$f":"1000*F2708","v":80000},"ml","=",{"$f":"IF(Worksheet!$D$6=1,RANDBETWEEN(1,99),IF(Worksheet!$D$6=2,CHOOSE(RANDBETWEEN(1,2),RANDBETWEEN(1,99),RANDBETWEEN(1,999)/10),CHOOSE(RANDBETWEEN(1,4),RANDBETWEEN(1,99999)/1000,RANDBETWEEN(1,9999)/100,RANDBETWEEN(1,999)/10,RANDBETWEEN(1,99))))","v":80},"litres"]
[{"$f":"IF(COUNTIF($B$1:B2709,TRUE)=COUNTIF($B$1:B2708,TRUE),\"\",COUNTIF($B$1:B2709,TRUE))","v":""},{"$f":"IF(Worksheet!$D$10=2,FALSE,Worksheet!$D$17)","v":false},{"$f":"1000*F2709","v":56000},"cm³","=",{"$f":"IF(Worksheet!$D$6=1,RANDBETWEEN(1,99),IF(Worksheet!$D$6=2,CHOOSE(RANDBETWEEN(1,2),RANDBETWEEN(1,99),RANDBETWEEN(1,999)/10),CHOOSE(RANDBETWEEN(1,4),RANDBETWEEN(1,99999)/1000,RANDBETWEEN(1,9999)/100,RANDBETWEEN(1,999)/10,RANDBETWEEN(1,99))))","v":56},"litres"]
[{"$f":"IF(COUNTIF($B$1:B2710,TRUE)=COUNTIF($B$1:B2709,TRUE),\"\",COUNTIF($B$1:B2710,TRUE))","v":""},{"$f":"IF(Worksheet!$D$10=2,FALSE,Worksheet!$D$18)","v":false},{"$f":"10000*F2710","v":400000},"cm²","=",{"$f":"IF(Worksheet!$D$6=1,RANDBETWEEN(1,99),IF(Worksheet!$D$6=2,CHOOSE(RANDBETWEEN(1,2),RANDBETWEEN(1,99),RANDBETWEEN(1,999)/10),CHOOSE(RANDBETWEEN(1,4),RANDBETWEEN(1,99999)/1000,RANDBETWEEN(1,9999)/100,RANDBETWEEN(1,999)/10,RANDBETWEEN(1,99))))","v":40},"m²"]
[{"$f":"IF(COUNTIF($B$1:B2711,TRUE)=COUNTIF($B$1:B2710,TRUE),\"\",COUNTIF($B$1:B2711,TRUE))","v":1627},{"$f":"IF(Worksheet!$D$10=3,FALSE,Worksheet!$B$14)","v":true},{"$f":"IF(Worksheet!$D$6=1,RANDBETWEEN(1,99),IF(Worksheet!$D$6=2,CHOOSE(RANDBETWEEN(1,2),RANDBETWEEN(1,99),RANDBETWEEN(1,999)/10),CHOOSE(RANDBETWEEN(1,4),RANDBETWEEN(1,99999)/1000,RANDBETWEEN(1,9999)/100,RANDBETWEEN(1,999)/10,RANDBETWEEN(1,99))))","v":68},"cm","=",{"$f":"10*C2711","v":680},"mm"]
[{"$f":"IF(COUNTIF($B$1:B2712,TRUE)=COUNTIF($B$1:B2711,TRUE),\"\",COUNTIF($B$1:B2712,TRUE))","v":1628},{"$f":"IF(Worksheet!$D$10=3,FALSE,Worksheet!$B$15)","v":true},{"$f":"IF(Worksheet!$D$6=1,RANDBETWEEN(1,99),IF(Worksheet!$D$6=2,CHOOSE(RANDBETWEEN(1,2),RANDBETWEEN(1,99),RANDBETWEEN(1,999)/10),CHOOSE(RANDBETWEEN(1,4),RANDBETWEEN(1,99999)/1000,RANDBETWEEN(1,9999)/100,RANDBETWEEN(1,999)/10,RANDBETWEEN(1,99))))","v":23},"m","=",{"$f":"100*C2712","v":2300},"cm"]
[{"$f":"IF(COUNTIF($B$1:B2713,TRUE)=COUNTIF($B$1:B2712,TRUE),\"\",COUNTIF($B$1:B2713,TRUE))","v":1629},{"$f":"IF(Worksheet!$D$10=3,FALSE,Worksheet!$B$16)","v":true},{"$f":"IF(Worksheet!$D$6=1,RANDBETWEEN(1,99),IF(Worksheet!$D$6=2,CHOOSE(RANDBETWEEN(1,2),RANDBETWEEN(1,99),RANDBETWEEN(1,999)/10),CHOOSE(RANDBETWEEN(1,4),RANDBETWEEN(1,99999)/1000,RANDBETWEEN(1,9999)/100,RANDBETWEEN(1,999)/10,RANDBETWEEN(1,99))))","v":59},"km","=",{"$f":"1000*C2713","v":59000},"m"]
[{"$f":"IF(COUNTIF($B$1:B2714,TRUE)=COUNTIF($B$1:B2713,TRUE),\"\",COUNTIF($B$1:B2714,TRUE))","v":""},{"$f":"IF(Worksheet!$D$10=3,FALSE,Worksheet!$B$17)","v":false},{"$f":"IF(Worksheet!$D$6=1,RANDBETWEEN(1,99),IF(Worksheet!$D$6=2,CHOOSE(RANDBETWEEN(1,2),RANDBETWEEN(1,99),RANDBETWEEN(1,999)/10),CHOOSE(RANDBETWEEN(1,4),RANDBETWEEN(1,99999)/1000,RANDBETWEEN(1,9999)/100,RANDBETWEEN(1,999)/10,RANDBETWEEN(1,99))))","v":77},"m",{"$f":"#REF!","v":{"$error":"#REF!"}},{"$f":"1000*C2714","v":77000},"mm"]
[{"$f":"IF(COUNTIF($B$1:B2715,TRUE)=COUNTIF($B$1:B2714,TRUE),\"\",COUNTIF($B$1:B2715,TRUE))","v":""},{"$f":"IF(Worksheet!$D$10=3,FALSE,Worksheet!$B$18)","v":false},{"$f":"IF(Worksheet!$D$6=1,RANDBETWEEN(1,99),IF(Worksheet!$D$6=2,CHOOSE(RANDBETWEEN(1,2),RANDBETWEEN(1,99),RANDBETWEEN(1,999)/10),CHOOSE(RANDBETWEEN(1,4),RANDBETWEEN(1,99999)/1000,RANDBETWEEN(1,9999)/100,RANDBETWEEN(1,999)/10,RANDBETWEEN(1,99))))","v":96},"cm²","=",{"$f":"C2715*100","v":9600},"mm²"]
[{"$f":"IF(COUNTIF($B$1:B2716,TRUE)=COUNTIF($B$1:B2715,TRUE),\"\",COUNTIF($B$1:B2716,TRUE))","v":1630},{"$f":"IF(Worksheet!$D$10=3,FALSE,Worksheet!$D$14)","v":true},{"$f":"IF(Worksheet!$D$6=1,RANDBETWEEN(1,99),IF(Worksheet!$D$6=2,CHOOSE(RANDBETWEEN(1,2),RANDBETWEEN(1,99),RANDBETWEEN(1,999)/10),CHOOSE(RANDBETWEEN(1,4),RANDBETWEEN(1,99999)/1000,RANDBETWEEN(1,9999)/100,RANDBETWEEN(1,999)/10,RANDBETWEEN(1,99))))","v":83},"kg","=",{"$f":"1000*C2716","v":83000},"g"]
[{"$f":"IF(COUNTIF($B$1:B2717,TRUE)=COUNTIF($B$1:B2716,TRUE),\"\",COUNTIF($B$1:B2717,TRUE))","v":1631},{"$f":"IF(Worksheet!$D$10=3,FALSE,Worksheet!$D$15)","v":true},{"$f":"IF(Worksheet!$D$6=1,RANDBETWEEN(1,99),IF(Worksheet!$D$6=2,CHOOSE(RANDBETWEEN(1,2),RANDBETWEEN(1,99),RANDBETWEEN(1,999)/10),CHOOSE(RANDBETWEEN(1,4),RANDBETWEEN(1,99999)/1000,RANDBETWEEN(1,9999)/100,RANDBETWEEN(1,999)/10,RANDBETWEEN(1,99))))","v":73},"tonnes","=",{"$f":"1000*C2717","v":73000},"kg"]
[{"$f":"IF(COUNTIF($B$1:B2718,TRUE)=COUNTIF($B$1:B2717,TRUE),\"\",COUNTIF($B$1:B2718,TRUE))","v":1632},{"$f":"IF(Worksheet!$D$10=3,FALSE,Worksheet!$D$16)","v":true},{"$f":"IF(Worksheet!$D$6=1,RANDBETWEEN(1,99),IF(Worksheet!$D$6=2,CHOOSE(RANDBETWEEN(1,2),RANDBETWEEN(1,99),RANDBETWEEN(1,999)/10),CHOOSE(RANDBETWEEN(1,4),RANDBETWEEN(1,99999)/1000,RANDBETWEEN(1,9999)/100,RANDBETWEEN(1,999)/10,RANDBETWEEN(1,99))))","v":49},"litres","=",{"$f":"1000*C2718","v":49000},"ml"]
[{"$f":"IF(COUNTIF($B$1:B2719,TRUE)=COUNTIF($B$1:B2718,TRUE),\"\",COUNTIF($B$1:B2719,TRUE))","v":""},{"$f":"IF(Worksheet!$D$10=3,FALSE,Worksheet!$D$17)","v":false},{"$f":"IF(Worksheet!$D$6=1,RANDBETWEEN(1,99),IF(Worksheet!$D$6=2,CHOOSE(RANDBETWEEN(1,2),RANDBETWEEN(1,99),RANDBETWEEN(1,999)/10),CHOOSE(RANDBETWEEN(1,4),RANDBETWEEN(1,99999)/1000,RANDBETWEEN(1,9999)/100,RANDBETWEEN(1,999)/10,RANDBETWEEN(1,99))))","v":79},"litres","=",{"$f":"1000*C2719","v":79000},"cm³"]
[{"$f":"IF(COUNTIF($B$1:B2720,TRUE)=COUNTIF($B$1:B2719,TRUE),\"\",COUNTIF($B$1:B2720,TRUE))","v":""},{"$f":"IF(Worksheet!$D$10=3,FALSE,Worksheet!$D$18)","v":false},{"$f":"IF(Worksheet!$D$6=1,RANDBETWEEN(1,99),IF(Worksheet!$D$6=2,CHOOSE(RANDBETWEEN(1,2),RANDBETWEEN(1,99),RANDBETWEEN(1,999)/10),CHOOSE(RANDBETWEEN(1,4),RANDBETWEEN(1,99999)/1000,RANDBETWEEN(1,9999)/100,RANDBETWEEN(1,999)/10,RANDBETWEEN(1,99))))","v":67},"m²","=",{"$f":"10000*C2720","v":670000},"cm²"]
[{"$f":"IF(COUNTIF($B$1:B2721,TRUE)=COUNTIF($B$1:B2720,TRUE),\"\",COUNTIF($B$1:B2721,TRUE))","v":1633},{"$f":"IF(Worksheet!$D$10=2,FALSE,Worksheet!$B$14)","v":true},{"$f":"10*F2721","v":960},"mm","=",{"$f":"IF(Worksheet!$D$6=1,RANDBETWEEN(1,99),IF(Worksheet!$D$6=2,CHOOSE(RANDBETWEEN(1,2),RANDBETWEEN(1,99),RANDBETWEEN(1,999)/10),CHOOSE(RANDBETWEEN(1,4),RANDBETWEEN(1,99999)/1000,RANDBETWEEN(1,9999)/100,RANDBETWEEN(1,999)/10,RANDBETWEEN(1,99))))","v":96},"cm"]
[{"$f":"IF(COUNTIF($B$1:B2722,TRUE)=COUNTIF($B$1:B2721,TRUE),\"\",COUNTIF($B$1:B2722,TRUE))","v":1634},{"$f":"IF(Worksheet!$D$10=2,FALSE,Worksheet!$B$15)","v":true},{"$f":"100*F2722","v":5800},"cm","=",{"$f":"IF(Worksheet!$D$6=1,RANDBETWEEN(1,99),IF(Worksheet!$D$6=2,CHOOSE(RANDBETWEEN(1,2),RANDBETWEEN(1,99),RANDBETWEEN(1,999)/10),CHOOSE(RANDBETWEEN(1,4),RANDBETWEEN(1,99999)/1000,RANDBETWEEN(1,9999)/100,RANDBETWEEN(1,999)/10,RANDBETWEEN(1,99))))","v":58},"m"]
[{"$f":"IF(COUNTIF($B$1:B2723,TRUE)=COUNTIF($B$1:B2722,TRUE),\"\",COUNTIF($B$1:B2723,TRUE))","v":1635},{"$f":"IF(Worksheet!$D$10=2,FALSE,Worksheet!$B$16)","v":true},{"$f":"1000*F2723","v":12000},"m","=",{"$f":"IF(Worksheet!$D$6=1,RANDBETWEEN(1,99),IF(Worksheet!$D$6=2,CHOOSE(RANDBETWEEN(1,2),RANDBETWEEN(1,99),RANDBETWEEN(1,999)/10),CHOOSE(RANDBETWEEN(1,4),RANDBETWEEN(1,99999)/1000,RANDBETWEEN(1,9999)/100,RANDBETWEEN(1,999)/10,RANDBETWEEN(1,99))))","v":12},"km"]
[{"$f":"IF(COUNTIF($B$1:B2724,TRUE)=COUNTIF($B$1:B2723,TRUE),\"\",COUNTIF($B$1:B2724,TRUE))","v":""},{"$f":"IF(Worksheet!$D$10=2,FALSE,Worksheet!$B$17)","v":false},{"$f":"1000*F2724","v":82000},"mm","=",{"$f":"IF(Worksheet!$D$6=1,RANDBETWEEN(1,99),IF(Worksheet!$D$6=2,CHOOSE(RANDBETWEEN(1,2),RANDBETWEEN(1,99),RANDBETWEEN(1,999)/10),CHOOSE(RANDBETWEEN(1,4),RANDBETWEEN(1,99999)/1000,RANDBETWEEN(1,9999)/100,RANDBETWEEN(1,999)/10,RANDBETWEEN(1,99))))","v":82},"m"]
[{"$f":"IF(COUNTIF($B$1:B2725,TRUE)=COUNTIF($B$1:B2724,TRUE),\"\",COUNTIF($B$1:B2725,TRUE))","v":""},{"$f":"IF(Worksheet!$D$10=2,FALSE,Worksheet!$B$18)","v":false},{"$f":"100*F2725","v":9500},"mm²","=",{"$f":"IF(Worksheet!$D$6=1,RANDBETWEEN(1,99),IF(Worksheet!$D$6=2,CHOOSE(RANDBETWEEN(1,2),RANDBETWEEN(1,99),RANDBETWEEN(1,999)/10),CHOOSE(RANDBETWEEN(1,4),RANDBETWEEN(1,99999)/1000,RANDBETWEEN(1,9999)/100,RANDBETWEEN(1,999)/10,RANDBETWEEN(1,99))))","v":95},"cm²"]
[{"$f":"IF(COUNTIF($B$1:B2726,TRUE)=COUNTIF($B$1:B2725,TRUE),\"\",COUNTIF($B$1:B2726,TRUE))","v":1636},{"$f":"IF(Worksheet!$D$10=2,FALSE,Worksheet!$D$14)","v":true},{"$f":"F2726*1000","v":21000},"g","=",{"$f":"IF(Worksheet!$D$6=1,RANDBETWEEN(1,99),IF(Worksheet!$D$6=2,CHOOSE(RANDBETWEEN(1,2),RANDBETWEEN(1,99),RANDBETWEEN(1,999)/10),CHOOSE(RANDBETWEEN(1,4),RANDBETWEEN(1,99999)/1000,RANDBETWEEN(1,9999)/100,RANDBETWEEN(1,999)/10,RANDBETWEEN(1,99))))","v":21},"kg"]
[{"$f":"IF(COUNTIF($B$1:B2727,TRUE)=COUNTIF($B$1:B2726,TRUE),\"\",COUNTIF($B$1:B2727,TRUE))","v":1637},{"$f":"IF(Worksheet!$D$10=2,FALSE,Worksheet!$D$15)","v":true},{"$f":"F2727*1000","v":45000},"kg","=",{"$f":"IF(Worksheet!$D$6=1,RANDBETWEEN(1,99),IF(Worksheet!$D$6=2,CHOOSE(RANDBETWEEN(1,2),RANDBETWEEN(1,99),RANDBETWEEN(1,999)/10),CHOOSE(RANDBETWEEN(1,4),RANDBETWEEN(1,99999)/1000,RANDBETWEEN(1,9999)/100,RANDBETWEEN(1,999)/10,RANDBETWEEN(1,99))))","v":45},"tonnes"]
[{"$f":"IF(COUNTIF($B$1:B2728,TRUE)=COUNTIF($B$1:B2727,TRUE),\"\",COUNTIF($B$1:B2728,TRUE))","v":1638},{"$f":"IF(Worksheet!$D$10=2,FALSE,Worksheet!$D$16)","v":true},{"$f":"1000*F2728","v":24000},"ml","=",{"$f":"IF(Worksheet!$D$6=1,RANDBETWEEN(1,99),IF(Worksheet!$D$6=2,CHOOSE(RANDBETWEEN(1,2),RANDBETWEEN(1,99),RANDBETWEEN(1,999)/10),CHOOSE(RANDBETWEEN(1,4),RANDBETWEEN(1,99999)/1000,RANDBETWEEN(1,9999)/100,RANDBETWEEN(1,999)/10,RANDBETWEEN(1,99))))","v":24},"litres"]
[{"$f":"IF(COUNTIF($B$1:B2729,TRUE)=COUNTIF($B$1:B2728,TRUE),\"\",COUNTIF($B$1:B2729,TRUE))","v":""},{"$f":"IF(Worksheet!$D$10=2,FALSE,Worksheet!$D$17)","v":false},{"$f":"1000*F2729","v":64000},"cm³","=",{"$f":"IF(Worksheet!$D$6=1,RANDBETWEEN(1,99),IF(Worksheet!$D$6=2,CHOOSE(RANDBETWEEN(1,2),RANDBETWEEN(1,99),RANDBETWEEN(1,999)/10),CHOOSE(RANDBETWEEN(1,4),RANDBETWEEN(1,99999)/1000,RANDBETWEEN(1,9999)/100,RANDBETWEEN(1,999)/10,RANDBETWEEN(1,99))))","v":64},"litres"]
[{"$f":"IF(COUNTIF($B$1:B2730,TRUE)=COUNTIF($B$1:B2729,TRUE),\"\",COUNTIF($B$1:B2730,TRUE))","v":""},{"$f":"IF(Worksheet!$D$10=2,FALSE,Worksheet!$D$18)","v":false},{"$f":"10000*F2730","v":240000},"cm²","=",{"$f":"IF(Worksheet!$D$6=1,RANDBETWEEN(1,99),IF(Worksheet!$D$6=2,CHOOSE(RANDBETWEEN(1,2),RANDBETWEEN(1,99),RANDBETWEEN(1,999)/10),CHOOSE(RANDBETWEEN(1,4),RANDBETWEEN(1,99999)/1000,RANDBETWEEN(1,9999)/100,RANDBETWEEN(1,999)/10,RANDBETWEEN(1,99))))","v":24},"m²"]
[{"$f":"IF(COUNTIF($B$1:B2731,TRUE)=COUNTIF($B$1:B2730,TRUE),\"\",COUNTIF($B$1:B2731,TRUE))","v":1639},{"$f":"IF(Worksheet!$D$10=3,FALSE,Worksheet!$B$14)","v":true},{"$f":"IF(Worksheet!$D$6=1,RANDBETWEEN(1,99),IF(Worksheet!$D$6=2,CHOOSE(RANDBETWEEN(1,2),RANDBETWEEN(1,99),RANDBETWEEN(1,999)/10),CHOOSE(RANDBETWEEN(1,4),RANDBETWEEN(1,99999)/1000,RANDBETWEEN(1,9999)/100,RANDBETWEEN(1,999)/10,RANDBETWEEN(1,99))))","v":4},"cm","=",{"$f":"10*C2731","v":40},"mm"]
[{"$f":"IF(COUNTIF($B$1:B2732,TRUE)=COUNTIF($B$1:B2731,TRUE),\"\",COUNTIF($B$1:B2732,TRUE))","v":1640},{"$f":"IF(Worksheet!$D$10=3,FALSE,Worksheet!$B$15)","v":true},{"$f":"IF(Worksheet!$D$6=1,RANDBETWEEN(1,99),IF(Worksheet!$D$6=2,CHOOSE(RANDBETWEEN(1,2),RANDBETWEEN(1,99),RANDBETWEEN(1,999)/10),CHOOSE(RANDBETWEEN(1,4),RANDBETWEEN(1,99999)/1000,RANDBETWEEN(1,9999)/100,RANDBETWEEN(1,999)/10,RANDBETWEEN(1,99))))","v":47},"m","=",{"$f":"100*C2732","v":4700},"cm"]
[{"$f":"IF(COUNTIF($B$1:B2733,TRUE)=COUNTIF($B$1:B2732,TRUE),\"\",COUNTIF($B$1:B2733,TRUE))","v":1641},{"$f":"IF(Worksheet!$D$10=3,FALSE,Worksheet!$B$16)","v":true},{"$f":"IF(Worksheet!$D$6=1,RANDBETWEEN(1,99),IF(Worksheet!$D$6=2,CHOOSE(RANDBETWEEN(1,2),RANDBETWEEN(1,99),RANDBETWEEN(1,999)/10),CHOOSE(RANDBETWEEN(1,4),RANDBETWEEN(1,99999)/1000,RANDBETWEEN(1,9999)/100,RANDBETWEEN(1,999)/10,RANDBETWEEN(1,99))))","v":93},"km","=",{"$f":"1000*C2733","v":93000},"m"]
[{"$f":"IF(COUNTIF($B$1:B2734,TRUE)=COUNTIF($B$1:B2733,TRUE),\"\",COUNTIF($B$1:B2734,TRUE))","v":""},{"$f":"IF(Worksheet!$D$10=3,FALSE,Worksheet!$B$17)","v":false},{"$f":"IF(Worksheet!$D$6=1,RANDBETWEEN(1,99),IF(Worksheet!$D$6=2,CHOOSE(RANDBETWEEN(1,2),RANDBETWEEN(1,99),RANDBETWEEN(1,999)/10),CHOOSE(RANDBETWEEN(1,4),RANDBETWEEN(1,99999)/1000,RANDBETWEEN(1,9999)/100,RANDBETWEEN(1,999)/10,RANDBETWEEN(1,99))))","v":68},"m",{"$f":"#REF!","v":{"$error":"#REF!"}},{"$f":"1000*C2734","v":68000},"mm"]
[{"$f":"IF(COUNTIF($B$1:B2735,TRUE)=COUNTIF($B$1:B2734,TRUE),\"\",COUNTIF($B$1:B2735,TRUE))","v":""},{"$f":"IF(Worksheet!$D$10=3,FALSE,Worksheet!$B$18)","v":false},{"$f":"IF(Worksheet!$D$6=1,RANDBETWEEN(1,99),IF(Worksheet!$D$6=2,CHOOSE(RANDBETWEEN(1,2),RANDBETWEEN(1,99),RANDBETWEEN(1,999)/10),CHOOSE(RANDBETWEEN(1,4),RANDBETWEEN(1,99999)/1000,RANDBETWEEN(1,9999)/100,RANDBETWEEN(1,999)/10,RANDBETWEEN(1,99))))","v":63},"cm²","=",{"$f":"C2735*100","v":6300},"mm²"]
[{"$f":"IF(COUNTIF($B$1:B2736,TRUE)=COUNTIF($B$1:B2735,TRUE),\"\",COUNTIF($B$1:B2736,TRUE))","v":1642},{"$f":"IF(Worksheet!$D$10=3,FALSE,Worksheet!$D$14)","v":true},{"$f":"IF(Worksheet!$D$6=1,RANDBETWEEN(1,99),IF(Worksheet!$D$6=2,CHOOSE(RANDBETWEEN(1,2),RANDBETWEEN(1,99),RANDBETWEEN(1,999)/10),CHOOSE(RANDBETWEEN(1,4),RANDBETWEEN(1,99999)/1000,RANDBETWEEN(1,9999)/100,RANDBETWEEN(1,999)/10,RANDBETWEEN(1,99))))","v":86},"kg","=",{"$f":"1000*C2736","v":86000},"g"]
[{"$f":"IF(COUNTIF($B$1:B2737,TRUE)=COUNTIF($B$1:B2736,TRUE),\"\",COUNTIF($B$1:B2737,TRUE))","v":1643},{"$f":"IF(Worksheet!$D$10=3,FALSE,Worksheet!$D$15)","v":true},{"$f":"IF(Worksheet!$D$6=1,RANDBETWEEN(1,99),IF(Worksheet!$D$6=2,CHOOSE(RANDBETWEEN(1,2),RANDBETWEEN(1,99),RANDBETWEEN(1,999)/10),CHOOSE(RANDBETWEEN(1,4),RANDBETWEEN(1,99999)/1000,RANDBETWEEN(1,9999)/100,RANDBETWEEN(1,999)/10,RANDBETWEEN(1,99))))","v":7},"tonnes","=",{"$f":"1000*C2737","v":7000},"kg"]
[{"$f":"IF(COUNTIF($B$1:B2738,TRUE)=COUNTIF($B$1:B2737,TRUE),\"\",COUNTIF($B$1:B2738,TRUE))","v":1644},{"$f":"IF(Worksheet!$D$10=3,FALSE,Worksheet!$D$16)","v":true},{"$f":"IF(Worksheet!$D$6=1,RANDBETWEEN(1,99),IF(Worksheet!$D$6=2,CHOOSE(RANDBETWEEN(1,2),RANDBETWEEN(1,99),RANDBETWEEN(1,999)/10),CHOOSE(RANDBETWEEN(1,4),RANDBETWEEN(1,99999)/1000,RANDBETWEEN(1,9999)/100,RANDBETWEEN(1,999)/10,RANDBETWEEN(1,99))))","v":31},"litres","=",{"$f":"1000*C2738","v":31000},"ml"]
[{"$f":"IF(COUNTIF($B$1:B2739,TRUE)=COUNTIF($B$1:B2738,TRUE),\"\",COUNTIF($B$1:B2739,TRUE))","v":""},{"$f":"IF(Worksheet!$D$10=3,FALSE,Worksheet!$D$17)","v":false},{"$f":"IF(Worksheet!$D$6=1,RANDBETWEEN(1,99),IF(Worksheet!$D$6=2,CHOOSE(RANDBETWEEN(1,2),RANDBETWEEN(1,99),RANDBETWEEN(1,999)/10),CHOOSE(RANDBETWEEN(1,4),RANDBETWEEN(1,99999)/1000,RANDBETWEEN(1,9999)/100,RANDBETWEEN(1,999)/10,RANDBETWEEN(1,99))))","v":11},"litres","=",{"$f":"1000*C2739","v":11000},"cm³"]
[{"$f":"IF(COUNTIF($B$1:B2740,TRUE)=COUNTIF($B$1:B2739,TRUE),\"\",COUNTIF($B$1:B2740,TRUE))","v":""},{"$f":"IF(Worksheet!$D$10=3,FALSE,Worksheet!$D$18)","v":false},{"$f":"IF(Worksheet!$D$6=1,RANDBETWEEN(1,99),IF(Worksheet!$D$6=2,CHOOSE(RANDBETWEEN(1,2),RANDBETWEEN(1,99),RANDBETWEEN(1,999)/10),CHOOSE(RANDBETWEEN(1,4),RANDBETWEEN(1,99999)/1000,RANDBETWEEN(1,9999)/100,RANDBETWEEN(1,999)/10,RANDBETWEEN(1,99))))","v":12},"m²","=",{"$f":"10000*C2740","v":120000},"cm²"]
[{"$f":"IF(COUNTIF($B$1:B2741,TRUE)=COUNTIF($B$1:B2740,TRUE),\"\",COUNTIF($B$1:B2741,TRUE))","v":1645},{"$f":"IF(Worksheet!$D$10=2,FALSE,Worksheet!$B$14)","v":true},{"$f":"10*F2741","v":370},"mm","=",{"$f":"IF(Worksheet!$D$6=1,RANDBETWEEN(1,99),IF(Worksheet!$D$6=2,CHOOSE(RANDBETWEEN(1,2),RANDBETWEEN(1,99),RANDBETWEEN(1,999)/10),CHOOSE(RANDBETWEEN(1,4),RANDBETWEEN(1,99999)/1000,RANDBETWEEN(1,9999)/100,RANDBETWEEN(1,999)/10,RANDBETWEEN(1,99))))","v":37},"cm"]
[{"$f":"IF(COUNTIF($B$1:B2742,TRUE)=COUNTIF($B$1:B2741,TRUE),\"\",COUNTIF($B$1:B2742,TRUE))","v":1646},{"$f":"IF(Worksheet!$D$10=2,FALSE,Worksheet!$B$15)","v":true},{"$f":"100*F2742","v":8800},"cm","=",{"$f":"IF(Worksheet!$D$6=1,RANDBETWEEN(1,99),IF(Worksheet!$D$6=2,CHOOSE(RANDBETWEEN(1,2),RANDBETWEEN(1,99),RANDBETWEEN(1,999)/10),CHOOSE(RANDBETWEEN(1,4),RANDBETWEEN(1,99999)/1000,RANDBETWEEN(1,9999)/100,RANDBETWEEN(1,999)/10,RANDBETWEEN(1,99))))","v":88},"m"]
[{"$f":"IF(COUNTIF($B$1:B2743,TRUE)=COUNTIF($B$1:B2742,TRUE),\"\",COUNTIF($B$1:B2743,TRUE))","v":1647},{"$f":"IF(Worksheet!$D$10=2,FALSE,Worksheet!$B$16)","v":true},{"$f":"1000*F2743","v":15000},"m","=",{"$f":"IF(Worksheet!$D$6=1,RANDBETWEEN(1,99),IF(Worksheet!$D$6=2,CHOOSE(RANDBETWEEN(1,2),RANDBETWEEN(1,99),RANDBETWEEN(1,999)/10),CHOOSE(RANDBETWEEN(1,4),RANDBETWEEN(1,99999)/1000,RANDBETWEEN(1,9999)/100,RANDBETWEEN(1,999)/10,RANDBETWEEN(1,99))))","v":15},"km"]
[{"$f":"IF(COUNTIF($B$1:B2744,TRUE)=COUNTIF($B$1:B2743,TRUE),\"\",COUNTIF($B$1:B2744,TRUE))","v":""},{"$f":"IF(Worksheet!$D$10=2,FALSE,Worksheet!$B$17)","v":false},{"$f":"1000*F2744","v":19000},"mm","=",{"$f":"IF(Worksheet!$D$6=1,RANDBETWEEN(1,99),IF(Worksheet!$D$6=2,CHOOSE(RANDBETWEEN(1,2),RANDBETWEEN(1,99),RANDBETWEEN(1,999)/10),CHOOSE(RANDBETWEEN(1,4),RANDBETWEEN(1,99999)/1000,RANDBETWEEN(1,9999)/100,RANDBETWEEN(1,999)/10,RANDBETWEEN(1,99))))","v":19},"m"]
[{"$f":"IF(COUNTIF($B$1:B2745,TRUE)=COUNTIF($B$1:B2744,TRUE),\"\",COUNTIF($B$1:B2745,TRUE))","v":""},{"$f":"IF(Worksheet!$D$10=2,FALSE,Worksheet!$B$18)","v":false},{"$f":"100*F2745","v":3700},"mm²","=",{"$f":"IF(Worksheet!$D$6=1,RANDBETWEEN(1,99),IF(Worksheet!$D$6=2,CHOOSE(RANDBETWEEN(1,2),RANDBETWEEN(1,99),RANDBETWEEN(1,999)/10),CHOOSE(RANDBETWEEN(1,4),RANDBETWEEN(1,99999)/1000,RANDBETWEEN(1,9999)/100,RANDBETWEEN(1,999)/10,RANDBETWEEN(1,99))))","v":37},"cm²"]
[{"$f":"IF(COUNTIF($B$1:B2746,TRUE)=COUNTIF($B$1:B2745,TRUE),\"\",COUNTIF($B$1:B2746,TRUE))","v":1648},{"$f":"IF(Worksheet!$D$10=2,FALSE,Worksheet!$D$14)","v":true},{"$f":"F2746*1000","v":81000},"g","=",{"$f":"IF(Worksheet!$D$6=1,RANDBETWEEN(1,99),IF(Worksheet!$D$6=2,CHOOSE(RANDBETWEEN(1,2),RANDBETWEEN(1,99),RANDBETWEEN(1,999)/10),CHOOSE(RANDBETWEEN(1,4),RANDBETWEEN(1,99999)/1000,RANDBETWEEN(1,9999)/100,RANDBETWEEN(1,999)/10,RANDBETWEEN(1,99))))","v":81},"kg"]
[{"$f":"IF(COUNTIF($B$1:B2747,TRUE)=COUNTIF($B$1:B2746,TRUE),\"\",COUNTIF($B$1:B2747,TRUE))","v":1649},{"$f":"IF(Worksheet!$D$10=2,FALSE,Worksheet!$D$15)","v":true},{"$f":"F2747*1000","v":72000},"kg","=",{"$f":"IF(Worksheet!$D$6=1,RANDBETWEEN(1,99),IF(Worksheet!$D$6=2,CHOOSE(RANDBETWEEN(1,2),RANDBETWEEN(1,99),RANDBETWEEN(1,999)/10),CHOOSE(RANDBETWEEN(1,4),RANDBETWEEN(1,99999)/1000,RANDBETWEEN(1,9999)/100,RANDBETWEEN(1,999)/10,RANDBETWEEN(1,99))))","v":72},"tonnes"]
[{"$f":"IF(COUNTIF($B$1:B2748,TRUE)=COUNTIF($B$1:B2747,TRUE),\"\",COUNTIF($B$1:B2748,TRUE))","v":1650},{"$f":"IF(Worksheet!$D$10=2,FALSE,Worksheet!$D$16)","v":true},{"$f":"1000*F2748","v":85000},"ml","=",{"$f":"IF(Worksheet!$D$6=1,RANDBETWEEN(1,99),IF(Worksheet!$D$6=2,CHOOSE(RANDBETWEEN(1,2),RANDBETWEEN(1,99),RANDBETWEEN(1,999)/10),CHOOSE(RANDBETWEEN(1,4),RANDBETWEEN(1,99999)/1000,RANDBETWEEN(1,9999)/100,RANDBETWEEN(1,999)/10,RANDBETWEEN(1,99))))","v":85},"litres"]
[{"$f":"IF(COUNTIF($B$1:B2749,TRUE)=COUNTIF($B$1:B2748,TRUE),\"\",COUNTIF($B$1:B2749,TRUE))","v":""},{"$f":"IF(Worksheet!$D$10=2,FALSE,Worksheet!$D$17)","v":false},{"$f":"1000*F2749","v":8000},"cm³","=",{"$f":"IF(Worksheet!$D$6=1,RANDBETWEEN(1,99),IF(Worksheet!$D$6=2,CHOOSE(RANDBETWEEN(1,2),RANDBETWEEN(1,99),RANDBETWEEN(1,999)/10),CHOOSE(RANDBETWEEN(1,4),RANDBETWEEN(1,99999)/1000,RANDBETWEEN(1,9999)/100,RANDBETWEEN(1,999)/10,RANDBETWEEN(1,99))))","v":8},"litres"]
[{"$f":"IF(COUNTIF($B$1:B2750,TRUE)=COUNTIF($B$1:B2749,TRUE),\"\",COUNTIF($B$1:B2750,TRUE))","v":""},{"$f":"IF(Worksheet!$D$10=2,FALSE,Worksheet!$D$18)","v":false},{"$f":"10000*F2750","v":920000},"cm²","=",{"$f":"IF(Worksheet!$D$6=1,RANDBETWEEN(1,99),IF(Worksheet!$D$6=2,CHOOSE(RANDBETWEEN(1,2),RANDBETWEEN(1,99),RANDBETWEEN(1,999)/10),CHOOSE(RANDBETWEEN(1,4),RANDBETWEEN(1,99999)/1000,RANDBETWEEN(1,9999)/100,RANDBETWEEN(1,999)/10,RANDBETWEEN(1,99))))","v":92},"m²"]
[{"$f":"IF(COUNTIF($B$1:B2751,TRUE)=COUNTIF($B$1:B2750,TRUE),\"\",COUNTIF($B$1:B2751,TRUE))","v":1651},{"$f":"IF(Worksheet!$D$10=3,FALSE,Worksheet!$B$14)","v":true},{"$f":"IF(Worksheet!$D$6=1,RANDBETWEEN(1,99),IF(Worksheet!$D$6=2,CHOOSE(RANDBETWEEN(1,2),RANDBETWEEN(1,99),RANDBETWEEN(1,999)/10),CHOOSE(RANDBETWEEN(1,4),RANDBETWEEN(1,99999)/1000,RANDBETWEEN(1,9999)/100,RANDBETWEEN(1,999)/10,RANDBETWEEN(1,99))))","v":50},"cm","=",{"$f":"10*C2751","v":500},"mm"]
[{"$f":"IF(COUNTIF($B$1:B2752,TRUE)=COUNTIF($B$1:B2751,TRUE),\"\",COUNTIF($B$1:B2752,TRUE))","v":1652},{"$f":"IF(Worksheet!$D$10=3,FALSE,Worksheet!$B$15)","v":true},{"$f":"IF(Worksheet!$D$6=1,RANDBETWEEN(1,99),IF(Worksheet!$D$6=2,CHOOSE(RANDBETWEEN(1,2),RANDBETWEEN(1,99),RANDBETWEEN(1,999)/10),CHOOSE(RANDBETWEEN(1,4),RANDBETWEEN(1,99999)/1000,RANDBETWEEN(1,9999)/100,RANDBETWEEN(1,999)/10,RANDBETWEEN(1,99))))","v":71},"m","=",{"$f":"100*C2752","v":7100},"cm"]
[{"$f":"IF(COUNTIF($B$1:B2753,TRUE)=COUNTIF($B$1:B2752,TRUE),\"\",COUNTIF($B$1:B2753,TRUE))","v":1653},{"$f":"IF(Worksheet!$D$10=3,FALSE,Worksheet!$B$16)","v":true},{"$f":"IF(Worksheet!$D$6=1,RANDBETWEEN(1,99),IF(Worksheet!$D$6=2,CHOOSE(RANDBETWEEN(1,2),RANDBETWEEN(1,99),RANDBETWEEN(1,999)/10),CHOOSE(RANDBETWEEN(1,4),RANDBETWEEN(1,99999)/1000,RANDBETWEEN(1,9999)/100,RANDBETWEEN(1,999)/10,RANDBETWEEN(1,99))))","v":8},"km","=",{"$f":"1000*C2753","v":8000},"m"]
[{"$f":"IF(COUNTIF($B$1:B2754,TRUE)=COUNTIF($B$1:B2753,TRUE),\"\",COUNTIF($B$1:B2754,TRUE))","v":""},{"$f":"IF(Worksheet!$D$10=3,FALSE,Worksheet!$B$17)","v":false},{"$f":"IF(Worksheet!$D$6=1,RANDBETWEEN(1,99),IF(Worksheet!$D$6=2,CHOOSE(RANDBETWEEN(1,2),RANDBETWEEN(1,99),RANDBETWEEN(1,999)/10),CHOOSE(RANDBETWEEN(1,4),RANDBETWEEN(1,99999)/1000,RANDBETWEEN(1,9999)/100,RANDBETWEEN(1,999)/10,RANDBETWEEN(1,99))))","v":91},"m",{"$f":"#REF!","v":{"$error":"#REF!"}},{"$f":"1000*C2754","v":91000},"mm"]
[{"$f":"IF(COUNTIF($B$1:B2755,TRUE)=COUNTIF($B$1:B2754,TRUE),\"\",COUNTIF($B$1:B2755,TRUE))","v":""},{"$f":"IF(Worksheet!$D$10=3,FALSE,Worksheet!$B$18)","v":false},{"$f":"IF(Worksheet!$D$6=1,RANDBETWEEN(1,99),IF(Worksheet!$D$6=2,CHOOSE(RANDBETWEEN(1,2),RANDBETWEEN(1,99),RANDBETWEEN(1,999)/10),CHOOSE(RANDBETWEEN(1,4),RANDBETWEEN(1,99999)/1000,RANDBETWEEN(1,9999)/100,RANDBETWEEN(1,999)/10,RANDBETWEEN(1,99))))","v":7},"cm²","=",{"$f":"C2755*100","v":700},"mm²"]
[{"$f":"IF(COUNTIF($B$1:B2756,TRUE)=COUNTIF($B$1:B2755,TRUE),\"\",COUNTIF($B$1:B2756,TRUE))","v":1654},{"$f":"IF(Worksheet!$D$10=3,FALSE,Worksheet!$D$14)","v":true},{"$f":"IF(Worksheet!$D$6=1,RANDBETWEEN(1,99),IF(Worksheet!$D$6=2,CHOOSE(RANDBETWEEN(1,2),RANDBETWEEN(1,99),RANDBETWEEN(1,999)/10),CHOOSE(RANDBETWEEN(1,4),RANDBETWEEN(1,99999)/1000,RANDBETWEEN(1,9999)/100,RANDBETWEEN(1,999)/10,RANDBETWEEN(1,99))))","v":29},"kg","=",{"$f":"1000*C2756","v":29000},"g"]
[{"$f":"IF(COUNTIF($B$1:B2757,TRUE)=COUNTIF($B$1:B2756,TRUE),\"\",COUNTIF($B$1:B2757,TRUE))","v":1655},{"$f":"IF(Worksheet!$D$10=3,FALSE,Worksheet!$D$15)","v":true},{"$f":"IF(Worksheet!$D$6=1,RANDBETWEEN(1,99),IF(Worksheet!$D$6=2,CHOOSE(RANDBETWEEN(1,2),RANDBETWEEN(1,99),RANDBETWEEN(1,999)/10),CHOOSE(RANDBETWEEN(1,4),RANDBETWEEN(1,99999)/1000,RANDBETWEEN(1,9999)/100,RANDBETWEEN(1,999)/10,RANDBETWEEN(1,99))))","v":6},"tonnes","=",{"$f":"1000*C2757","v":6000},"kg"]
[{"$f":"IF(COUNTIF($B$1:B2758,TRUE)=COUNTIF($B$1:B2757,TRUE),\"\",COUNTIF($B$1:B2758,TRUE))","v":1656},{"$f":"IF(Worksheet!$D$10=3,FALSE,Worksheet!$D$16)","v":true},{"$f":"IF(Worksheet!$D$6=1,RANDBETWEEN(1,99),IF(Worksheet!$D$6=2,CHOOSE(RANDBETWEEN(1,2),RANDBETWEEN(1,99),RANDBETWEEN(1,999)/10),CHOOSE(RANDBETWEEN(1,4),RANDBETWEEN(1,99999)/1000,RANDBETWEEN(1,9999)/100,RANDBETWEEN(1,999)/10,RANDBETWEEN(1,99))))","v":91},"litres","=",{"$f":"1000*C2758","v":91000},"ml"]
[{"$f":"IF(COUNTIF($B$1:B2759,TRUE)=COUNTIF($B$1:B2758,TRUE),\"\",COUNTIF($B$1:B2759,TRUE))","v":""},{"$f":"IF(Worksheet!$D$10=3,FALSE,Worksheet!$D$17)","v":false},{"$f":"IF(Worksheet!$D$6=1,RANDBETWEEN(1,99),IF(Worksheet!$D$6=2,CHOOSE(RANDBETWEEN(1,2),RANDBETWEEN(1,99),RANDBETWEEN(1,999)/10),CHOOSE(RANDBETWEEN(1,4),RANDBETWEEN(1,99999)/1000,RANDBETWEEN(1,9999)/100,RANDBETWEEN(1,999)/10,RANDBETWEEN(1,99))))","v":63},"litres","=",{"$f":"1000*C2759","v":63000},"cm³"]
[{"$f":"IF(COUNTIF($B$1:B2760,TRUE)=COUNTIF($B$1:B2759,TRUE),\"\",COUNTIF($B$1:B2760,TRUE))","v":""},{"$f":"IF(Worksheet!$D$10=3,FALSE,Worksheet!$D$18)","v":false},{"$f":"IF(Worksheet!$D$6=1,RANDBETWEEN(1,99),IF(Worksheet!$D$6=2,CHOOSE(RANDBETWEEN(1,2),RANDBETWEEN(1,99),RANDBETWEEN(1,999)/10),CHOOSE(RANDBETWEEN(1,4),RANDBETWEEN(1,99999)/1000,RANDBETWEEN(1,9999)/100,RANDBETWEEN(1,999)/10,RANDBETWEEN(1,99))))","v":52},"m²","=",{"$f":"10000*C2760","v":520000},"cm²"]
[{"$f":"IF(COUNTIF($B$1:B2761,TRUE)=COUNTIF($B$1:B2760,TRUE),\"\",COUNTIF($B$1:B2761,TRUE))","v":1657},{"$f":"IF(Worksheet!$D$10=2,FALSE,Worksheet!$B$14)","v":true},{"$f":"10*F2761","v":780},"mm","=",{"$f":"IF(Worksheet!$D$6=1,RANDBETWEEN(1,99),IF(Worksheet!$D$6=2,CHOOSE(RANDBETWEEN(1,2),RANDBETWEEN(1,99),RANDBETWEEN(1,999)/10),CHOOSE(RANDBETWEEN(1,4),RANDBETWEEN(1,99999)/1000,RANDBETWEEN(1,9999)/100,RANDBETWEEN(1,999)/10,RANDBETWEEN(1,99))))","v":78},"cm"]
[{"$f":"IF(COUNTIF($B$1:B2762,TRUE)=COUNTIF($B$1:B2761,TRUE),\"\",COUNTIF($B$1:B2762,TRUE))","v":1658},{"$f":"IF(Worksheet!$D$10=2,FALSE,Worksheet!$B$15)","v":true},{"$f":"100*F2762","v":9300},"cm","=",{"$f":"IF(Worksheet!$D$6=1,RANDBETWEEN(1,99),IF(Worksheet!$D$6=2,CHOOSE(RANDBETWEEN(1,2),RANDBETWEEN(1,99),RANDBETWEEN(1,999)/10),CHOOSE(RANDBETWEEN(1,4),RANDBETWEEN(1,99999)/1000,RANDBETWEEN(1,9999)/100,RANDBETWEEN(1,999)/10,RANDBETWEEN(1,99))))","v":93},"m"]
[{"$f":"IF(COUNTIF($B$1:B2763,TRUE)=COUNTIF($B$1:B2762,TRUE),\"\",COUNTIF($B$1:B2763,TRUE))","v":1659},{"$f":"IF(Worksheet!$D$10=2,FALSE,Worksheet!$B$16)","v":true},{"$f":"1000*F2763","v":59000},"m","=",{"$f":"IF(Worksheet!$D$6=1,RANDBETWEEN(1,99),IF(Worksheet!$D$6=2,CHOOSE(RANDBETWEEN(1,2),RANDBETWEEN(1,99),RANDBETWEEN(1,999)/10),CHOOSE(RANDBETWEEN(1,4),RANDBETWEEN(1,99999)/1000,RANDBETWEEN(1,9999)/100,RANDBETWEEN(1,999)/10,RANDBETWEEN(1,99))))","v":59},"km"]
[{"$f":"IF(COUNTIF($B$1:B2764,TRUE)=COUNTIF($B$1:B2763,TRUE),\"\",COUNTIF($B$1:B2764,TRUE))","v":""},{"$f":"IF(Worksheet!$D$10=2,FALSE,Worksheet!$B$17)","v":false},{"$f":"1000*F2764","v":61000},"mm","=",{"$f":"IF(Worksheet!$D$6=1,RANDBETWEEN(1,99),IF(Worksheet!$D$6=2,CHOOSE(RANDBETWEEN(1,2),RANDBETWEEN(1,99),RANDBETWEEN(1,999)/10),CHOOSE(RANDBETWEEN(1,4),RANDBETWEEN(1,99999)/1000,RANDBETWEEN(1,9999)/100,RANDBETWEEN(1,999)/10,RANDBETWEEN(1,99))))","v":61},"m"]
[{"$f":"IF(COUNTIF($B$1:B2765,TRUE)=COUNTIF($B$1:B2764,TRUE),\"\",COUNTIF($B$1:B2765,TRUE))","v":""},{"$f":"IF(Worksheet!$D$10=2,FALSE,Worksheet!$B$18)","v":false},{"$f":"100*F2765","v":3700},"mm²","=",{"$f":"IF(Worksheet!$D$6=1,RANDBETWEEN(1,99),IF(Worksheet!$D$6=2,CHOOSE(RANDBETWEEN(1,2),RANDBETWEEN(1,99),RANDBETWEEN(1,999)/10),CHOOSE(RANDBETWEEN(1,4),RANDBETWEEN(1,99999)/1000,RANDBETWEEN(1,9999)/100,RANDBETWEEN(1,999)/10,RANDBETWEEN(1,99))))","v":37},"cm²"]
[{"$f":"IF(COUNTIF($B$1:B2766,TRUE)=COUNTIF($B$1:B2765,TRUE),\"\",COUNTIF($B$1:B2766,TRUE))","v":1660},{"$f":"IF(Worksheet!$D$10=2,FALSE,Worksheet!$D$14)","v":true},{"$f":"F2766*1000","v":73000},"g","=",{"$f":"IF(Worksheet!$D$6=1,RANDBETWEEN(1,99),IF(Worksheet!$D$6=2,CHOOSE(RANDBETWEEN(1,2),RANDBETWEEN(1,99),RANDBETWEEN(1,999)/10),CHOOSE(RANDBETWEEN(1,4),RANDBETWEEN(1,99999)/1000,RANDBETWEEN(1,9999)/100,RANDBETWEEN(1,999)/10,RANDBETWEEN(1,99))))","v":73},"kg"]
[{"$f":"IF(COUNTIF($B$1:B2767,TRUE)=COUNTIF($B$1:B2766,TRUE),\"\",COUNTIF($B$1:B2767,TRUE))","v":1661},{"$f":"IF(Worksheet!$D$10=2,FALSE,Worksheet!$D$15)","v":true},{"$f":"F2767*1000","v":4000},"kg","=",{"$f":"IF(Worksheet!$D$6=1,RANDBETWEEN(1,99),IF(Worksheet!$D$6=2,CHOOSE(RANDBETWEEN(1,2),RANDBETWEEN(1,99),RANDBETWEEN(1,999)/10),CHOOSE(RANDBETWEEN(1,4),RANDBETWEEN(1,99999)/1000,RANDBETWEEN(1,9999)/100,RANDBETWEEN(1,999)/10,RANDBETWEEN(1,99))))","v":4},"tonnes"]
[{"$f":"IF(COUNTIF($B$1:B2768,TRUE)=COUNTIF($B$1:B2767,TRUE),\"\",COUNTIF($B$1:B2768,TRUE))","v":1662},{"$f":"IF(Worksheet!$D$10=2,FALSE,Worksheet!$D$16)","v":true},{"$f":"1000*F2768","v":46000},"ml","=",{"$f":"IF(Worksheet!$D$6=1,RANDBETWEEN(1,99),IF(Worksheet!$D$6=2,CHOOSE(RANDBETWEEN(1,2),RANDBETWEEN(1,99),RANDBETWEEN(1,999)/10),CHOOSE(RANDBETWEEN(1,4),RANDBETWEEN(1,99999)/1000,RANDBETWEEN(1,9999)/100,RANDBETWEEN(1,999)/10,RANDBETWEEN(1,99))))","v":46},"litres"]
[{"$f":"IF(COUNTIF($B$1:B2769,TRUE)=COUNTIF($B$1:B2768,TRUE),\"\",COUNTIF($B$1:B2769,TRUE))","v":""},{"$f":"IF(Worksheet!$D$10=2,FALSE,Worksheet!$D$17)","v":false},{"$f":"1000*F2769","v":56000},"cm³","=",{"$f":"IF(Worksheet!$D$6=1,RANDBETWEEN(1,99),IF(Worksheet!$D$6=2,CHOOSE(RANDBETWEEN(1,2),RANDBETWEEN(1,99),RANDBETWEEN(1,999)/10),CHOOSE(RANDBETWEEN(1,4),RANDBETWEEN(1,99999)/1000,RANDBETWEEN(1,9999)/100,RANDBETWEEN(1,999)/10,RANDBETWEEN(1,99))))","v":56},"litres"]
[{"$f":"IF(COUNTIF($B$1:B2770,TRUE)=COUNTIF($B$1:B2769,TRUE),\"\",COUNTIF($B$1:B2770,TRUE))","v":""},{"$f":"IF(Worksheet!$D$10=2,FALSE,Worksheet!$D$18)","v":false},{"$f":"10000*F2770","v":120000},"cm²","=",{"$f":"IF(Worksheet!$D$6=1,RANDBETWEEN(1,99),IF(Worksheet!$D$6=2,CHOOSE(RANDBETWEEN(1,2),RANDBETWEEN(1,99),RANDBETWEEN(1,999)/10),CHOOSE(RANDBETWEEN(1,4),RANDBETWEEN(1,99999)/1000,RANDBETWEEN(1,9999)/100,RANDBETWEEN(1,999)/10,RANDBETWEEN(1,99))))","v":12},"m²"]
[{"$f":"IF(COUNTIF($B$1:B2771,TRUE)=COUNTIF($B$1:B2770,TRUE),\"\",COUNTIF($B$1:B2771,TRUE))","v":1663},{"$f":"IF(Worksheet!$D$10=3,FALSE,Worksheet!$B$14)","v":true},{"$f":"IF(Worksheet!$D$6=1,RANDBETWEEN(1,99),IF(Worksheet!$D$6=2,CHOOSE(RANDBETWEEN(1,2),RANDBETWEEN(1,99),RANDBETWEEN(1,999)/10),CHOOSE(RANDBETWEEN(1,4),RANDBETWEEN(1,99999)/1000,RANDBETWEEN(1,9999)/100,RANDBETWEEN(1,999)/10,RANDBETWEEN(1,99))))","v":27},"cm","=",{"$f":"10*C2771","v":270},"mm"]
[{"$f":"IF(COUNTIF($B$1:B2772,TRUE)=COUNTIF($B$1:B2771,TRUE),\"\",COUNTIF($B$1:B2772,TRUE))","v":1664},{"$f":"IF(Worksheet!$D$10=3,FALSE,Worksheet!$B$15)","v":true},{"$f":"IF(Worksheet!$D$6=1,RANDBETWEEN(1,99),IF(Worksheet!$D$6=2,CHOOSE(RANDBETWEEN(1,2),RANDBETWEEN(1,99),RANDBETWEEN(1,999)/10),CHOOSE(RANDBETWEEN(1,4),RANDBETWEEN(1,99999)/1000,RANDBETWEEN(1,9999)/100,RANDBETWEEN(1,999)/10,RANDBETWEEN(1,99))))","v":57},"m","=",{"$f":"100*C2772","v":5700},"cm"]
[{"$f":"IF(COUNTIF($B$1:B2773,TRUE)=COUNTIF($B$1:B2772,TRUE),\"\",COUNTIF($B$1:B2773,TRUE))","v":1665},{"$f":"IF(Worksheet!$D$10=3,FALSE,Worksheet!$B$16)","v":true},{"$f":"IF(Worksheet!$D$6=1,RANDBETWEEN(1,99),IF(Worksheet!$D$6=2,CHOOSE(RANDBETWEEN(1,2),RANDBETWEEN(1,99),RANDBETWEEN(1,999)/10),CHOOSE(RANDBETWEEN(1,4),RANDBETWEEN(1,99999)/1000,RANDBETWEEN(1,9999)/100,RANDBETWEEN(1,999)/10,RANDBETWEEN(1,99))))","v":55},"km","=",{"$f":"1000*C2773","v":55000},"m"]
[{"$f":"IF(COUNTIF($B$1:B2774,TRUE)=COUNTIF($B$1:B2773,TRUE),\"\",COUNTIF($B$1:B2774,TRUE))","v":""},{"$f":"IF(Worksheet!$D$10=3,FALSE,Worksheet!$B$17)","v":false},{"$f":"IF(Worksheet!$D$6=1,RANDBETWEEN(1,99),IF(Worksheet!$D$6=2,CHOOSE(RANDBETWEEN(1,2),RANDBETWEEN(1,99),RANDBETWEEN(1,999)/10),CHOOSE(RANDBETWEEN(1,4),RANDBETWEEN(1,99999)/1000,RANDBETWEEN(1,9999)/100,RANDBETWEEN(1,999)/10,RANDBETWEEN(1,99))))","v":2},"m",{"$f":"#REF!","v":{"$error":"#REF!"}},{"$f":"1000*C2774","v":2000},"mm"]
[{"$f":"IF(COUNTIF($B$1:B2775,TRUE)=COUNTIF($B$1:B2774,TRUE),\"\",COUNTIF($B$1:B2775,TRUE))","v":""},{"$f":"IF(Worksheet!$D$10=3,FALSE,Worksheet!$B$18)","v":false},{"$f":"IF(Worksheet!$D$6=1,RANDBETWEEN(1,99),IF(Worksheet!$D$6=2,CHOOSE(RANDBETWEEN(1,2),RANDBETWEEN(1,99),RANDBETWEEN(1,999)/10),CHOOSE(RANDBETWEEN(1,4),RANDBETWEEN(1,99999)/1000,RANDBETWEEN(1,9999)/100,RANDBETWEEN(1,999)/10,RANDBETWEEN(1,99))))","v":66},"cm²","=",{"$f":"C2775*100","v":6600},"mm²"]
[{"$f":"IF(COUNTIF($B$1:B2776,TRUE)=COUNTIF($B$1:B2775,TRUE),\"\",COUNTIF($B$1:B2776,TRUE))","v":1666},{"$f":"IF(Worksheet!$D$10=3,FALSE,Worksheet!$D$14)","v":true},{"$f":"IF(Worksheet!$D$6=1,RANDBETWEEN(1,99),IF(Worksheet!$D$6=2,CHOOSE(RANDBETWEEN(1,2),RANDBETWEEN(1,99),RANDBETWEEN(1,999)/10),CHOOSE(RANDBETWEEN(1,4),RANDBETWEEN(1,99999)/1000,RANDBETWEEN(1,9999)/100,RANDBETWEEN(1,999)/10,RANDBETWEEN(1,99))))","v":12},"kg","=",{"$f":"1000*C2776","v":12000},"g"]
[{"$f":"IF(COUNTIF($B$1:B2777,TRUE)=COUNTIF($B$1:B2776,TRUE),\"\",COUNTIF($B$1:B2777,TRUE))","v":1667},{"$f":"IF(Worksheet!$D$10=3,FALSE,Worksheet!$D$15)","v":true},{"$f":"IF(Worksheet!$D$6=1,RANDBETWEEN(1,99),IF(Worksheet!$D$6=2,CHOOSE(RANDBETWEEN(1,2),RANDBETWEEN(1,99),RANDBETWEEN(1,999)/10),CHOOSE(RANDBETWEEN(1,4),RANDBETWEEN(1,99999)/1000,RANDBETWEEN(1,9999)/100,RANDBETWEEN(1,999)/10,RANDBETWEEN(1,99))))","v":23},"tonnes","=",{"$f":"1000*C2777","v":23000},"kg"]
[{"$f":"IF(COUNTIF($B$1:B2778,TRUE)=COUNTIF($B$1:B2777,TRUE),\"\",COUNTIF($B$1:B2778,TRUE))","v":1668},{"$f":"IF(Worksheet!$D$10=3,FALSE,Worksheet!$D$16)","v":true},{"$f":"IF(Worksheet!$D$6=1,RANDBETWEEN(1,99),IF(Worksheet!$D$6=2,CHOOSE(RANDBETWEEN(1,2),RANDBETWEEN(1,99),RANDBETWEEN(1,999)/10),CHOOSE(RANDBETWEEN(1,4),RANDBETWEEN(1,99999)/1000,RANDBETWEEN(1,9999)/100,RANDBETWEEN(1,999)/10,RANDBETWEEN(1,99))))","v":58},"litres","=",{"$f":"1000*C2778","v":58000},"ml"]
[{"$f":"IF(COUNTIF($B$1:B2779,TRUE)=COUNTIF($B$1:B2778,TRUE),\"\",COUNTIF($B$1:B2779,TRUE))","v":""},{"$f":"IF(Worksheet!$D$10=3,FALSE,Worksheet!$D$17)","v":false},{"$f":"IF(Worksheet!$D$6=1,RANDBETWEEN(1,99),IF(Worksheet!$D$6=2,CHOOSE(RANDBETWEEN(1,2),RANDBETWEEN(1,99),RANDBETWEEN(1,999)/10),CHOOSE(RANDBETWEEN(1,4),RANDBETWEEN(1,99999)/1000,RANDBETWEEN(1,9999)/100,RANDBETWEEN(1,999)/10,RANDBETWEEN(1,99))))","v":59},"litres","=",{"$f":"1000*C2779","v":59000},"cm³"]
[{"$f":"IF(COUNTIF($B$1:B2780,TRUE)=COUNTIF($B$1:B2779,TRUE),\"\",COUNTIF($B$1:B2780,TRUE))","v":""},{"$f":"IF(Worksheet!$D$10=3,FALSE,Worksheet!$D$18)","v":false},{"$f":"IF(Worksheet!$D$6=1,RANDBETWEEN(1,99),IF(Worksheet!$D$6=2,CHOOSE(RANDBETWEEN(1,2),RANDBETWEEN(1,99),RANDBETWEEN(1,999)/10),CHOOSE(RANDBETWEEN(1,4),RANDBETWEEN(1,99999)/1000,RANDBETWEEN(1,9999)/100,RANDBETWEEN(1,999)/10,RANDBETWEEN(1,99))))","v":68},"m²","=",{"$f":"10000*C2780","v":680000},"cm²"]
[{"$f":"IF(COUNTIF($B$1:B2781,TRUE)=COUNTIF($B$1:B2780,TRUE),\"\",COUNTIF($B$1:B2781,TRUE))","v":1669},{"$f":"IF(Worksheet!$D$10=2,FALSE,Worksheet!$B$14)","v":true},{"$f":"10*F2781","v":650},"mm","=",{"$f":"IF(Worksheet!$D$6=1,RANDBETWEEN(1,99),IF(Worksheet!$D$6=2,CHOOSE(RANDBETWEEN(1,2),RANDBETWEEN(1,99),RANDBETWEEN(1,999)/10),CHOOSE(RANDBETWEEN(1,4),RANDBETWEEN(1,99999)/1000,RANDBETWEEN(1,9999)/100,RANDBETWEEN(1,999)/10,RANDBETWEEN(1,99))))","v":65},"cm"]
[{"$f":"IF(COUNTIF($B$1:B2782,TRUE)=COUNTIF($B$1:B2781,TRUE),\"\",COUNTIF($B$1:B2782,TRUE))","v":1670},{"$f":"IF(Worksheet!$D$10=2,FALSE,Worksheet!$B$15)","v":true},{"$f":"100*F2782","v":8400},"cm","=",{"$f":"IF(Worksheet!$D$6=1,RANDBETWEEN(1,99),IF(Worksheet!$D$6=2,CHOOSE(RANDBETWEEN(1,2),RANDBETWEEN(1,99),RANDBETWEEN(1,999)/10),CHOOSE(RANDBETWEEN(1,4),RANDBETWEEN(1,99999)/1000,RANDBETWEEN(1,9999)/100,RANDBETWEEN(1,999)/10,RANDBETWEEN(1,99))))","v":84},"m"]
[{"$f":"IF(COUNTIF($B$1:B2783,TRUE)=COUNTIF($B$1:B2782,TRUE),\"\",COUNTIF($B$1:B2783,TRUE))","v":1671},{"$f":"IF(Worksheet!$D$10=2,FALSE,Worksheet!$B$16)","v":true},{"$f":"1000*F2783","v":18000},"m","=",{"$f":"IF(Worksheet!$D$6=1,RANDBETWEEN(1,99),IF(Worksheet!$D$6=2,CHOOSE(RANDBETWEEN(1,2),RANDBETWEEN(1,99),RANDBETWEEN(1,999)/10),CHOOSE(RANDBETWEEN(1,4),RANDBETWEEN(1,99999)/1000,RANDBETWEEN(1,9999)/100,RANDBETWEEN(1,999)/10,RANDBETWEEN(1,99))))","v":18},"km"]
[{"$f":"IF(COUNTIF($B$1:B2784,TRUE)=COUNTIF($B$1:B2783,TRUE),\"\",COUNTIF($B$1:B2784,TRUE))","v":""},{"$f":"IF(Worksheet!$D$10=2,FALSE,Worksheet!$B$17)","v":false},{"$f":"1000*F2784","v":59000},"mm","=",{"$f":"IF(Worksheet!$D$6=1,RANDBETWEEN(1,99),IF(Worksheet!$D$6=2,CHOOSE(RANDBETWEEN(1,2),RANDBETWEEN(1,99),RANDBETWEEN(1,999)/10),CHOOSE(RANDBETWEEN(1,4),RANDBETWEEN(1,99999)/1000,RANDBETWEEN(1,9999)/100,RANDBETWEEN(1,999)/10,RANDBETWEEN(1,99))))","v":59},"m"]
[{"$f":"IF(COUNTIF($B$1:B2785,TRUE)=COUNTIF($B$1:B2784,TRUE),\"\",COUNTIF($B$1:B2785,TRUE))","v":""},{"$f":"IF(Worksheet!$D$10=2,FALSE,Worksheet!$B$18)","v":false},{"$f":"100*F2785","v":1500},"mm²","=",{"$f":"IF(Worksheet!$D$6=1,RANDBETWEEN(1,99),IF(Worksheet!$D$6=2,CHOOSE(RANDBETWEEN(1,2),RANDBETWEEN(1,99),RANDBETWEEN(1,999)/10),CHOOSE(RANDBETWEEN(1,4),RANDBETWEEN(1,99999)/1000,RANDBETWEEN(1,9999)/100,RANDBETWEEN(1,999)/10,RANDBETWEEN(1,99))))","v":15},"cm²"]
[{"$f":"IF(COUNTIF($B$1:B2786,TRUE)=COUNTIF($B$1:B2785,TRUE),\"\",COUNTIF($B$1:B2786,TRUE))","v":1672},{"$f":"IF(Worksheet!$D$10=2,FALSE,Worksheet!$D$14)","v":true},{"$f":"F2786*1000","v":20000},"g","=",{"$f":"IF(Worksheet!$D$6=1,RANDBETWEEN(1,99),IF(Worksheet!$D$6=2,CHOOSE(RANDBETWEEN(1,2),RANDBETWEEN(1,99),RANDBETWEEN(1,999)/10),CHOOSE(RANDBETWEEN(1,4),RANDBETWEEN(1,99999)/1000,RANDBETWEEN(1,9999)/100,RANDBETWEEN(1,999)/10,RANDBETWEEN(1,99))))","v":20},"kg"]
[{"$f":"IF(COUNTIF($B$1:B2787,TRUE)=COUNTIF($B$1:B2786,TRUE),\"\",COUNTIF($B$1:B2787,TRUE))","v":1673},{"$f":"IF(Worksheet!$D$10=2,FALSE,Worksheet!$D$15)","v":true},{"$f":"F2787*1000","v":85000},"kg","=",{"$f":"IF(Worksheet!$D$6=1,RANDBETWEEN(1,99),IF(Worksheet!$D$6=2,CHOOSE(RANDBETWEEN(1,2),RANDBETWEEN(1,99),RANDBETWEEN(1,999)/10),CHOOSE(RANDBETWEEN(1,4),RANDBETWEEN(1,99999)/1000,RANDBETWEEN(1,9999)/100,RANDBETWEEN(1,999)/10,RANDBETWEEN(1,99))))","v":85},"tonnes"]
[{"$f":"IF(COUNTIF($B$1:B2788,TRUE)=COUNTIF($B$1:B2787,TRUE),\"\",COUNTIF($B$1:B2788,TRUE))","v":1674},{"$f":"IF(Worksheet!$D$10=2,FALSE,Worksheet!$D$16)","v":true},{"$f":"1000*F2788","v":37000},"ml","=",{"$f":"IF(Worksheet!$D$6=1,RANDBETWEEN(1,99),IF(Worksheet!$D$6=2,CHOOSE(RANDBETWEEN(1,2),RANDBETWEEN(1,99),RANDBETWEEN(1,999)/10),CHOOSE(RANDBETWEEN(1,4),RANDBETWEEN(1,99999)/1000,RANDBETWEEN(1,9999)/100,RANDBETWEEN(1,999)/10,RANDBETWEEN(1,99))))","v":37},"litres"]
[{"$f":"IF(COUNTIF($B$1:B2789,TRUE)=COUNTIF($B$1:B2788,TRUE),\"\",COUNTIF($B$1:B2789,TRUE))","v":""},{"$f":"IF(Worksheet!$D$10=2,FALSE,Worksheet!$D$17)","v":false},{"$f":"1000*F2789","v":20000},"cm³","=",{"$f":"IF(Worksheet!$D$6=1,RANDBETWEEN(1,99),IF(Worksheet!$D$6=2,CHOOSE(RANDBETWEEN(1,2),RANDBETWEEN(1,99),RANDBETWEEN(1,999)/10),CHOOSE(RANDBETWEEN(1,4),RANDBETWEEN(1,99999)/1000,RANDBETWEEN(1,9999)/100,RANDBETWEEN(1,999)/10,RANDBETWEEN(1,99))))","v":20},"litres"]
[{"$f":"IF(COUNTIF($B$1:B2790,TRUE)=COUNTIF($B$1:B2789,TRUE),\"\",COUNTIF($B$1:B2790,TRUE))","v":""},{"$f":"IF(Worksheet!$D$10=2,FALSE,Worksheet!$D$18)","v":false},{"$f":"10000*F2790","v":320000},"cm²","=",{"$f":"IF(Worksheet!$D$6=1,RANDBETWEEN(1,99),IF(Worksheet!$D$6=2,CHOOSE(RANDBETWEEN(1,2),RANDBETWEEN(1,99),RANDBETWEEN(1,999)/10),CHOOSE(RANDBETWEEN(1,4),RANDBETWEEN(1,99999)/1000,RANDBETWEEN(1,9999)/100,RANDBETWEEN(1,999)/10,RANDBETWEEN(1,99))))","v":32},"m²"]
[{"$f":"IF(COUNTIF($B$1:B2791,TRUE)=COUNTIF($B$1:B2790,TRUE),\"\",COUNTIF($B$1:B2791,TRUE))","v":1675},{"$f":"IF(Worksheet!$D$10=3,FALSE,Worksheet!$B$14)","v":true},{"$f":"IF(Worksheet!$D$6=1,RANDBETWEEN(1,99),IF(Worksheet!$D$6=2,CHOOSE(RANDBETWEEN(1,2),RANDBETWEEN(1,99),RANDBETWEEN(1,999)/10),CHOOSE(RANDBETWEEN(1,4),RANDBETWEEN(1,99999)/1000,RANDBETWEEN(1,9999)/100,RANDBETWEEN(1,999)/10,RANDBETWEEN(1,99))))","v":58},"cm","=",{"$f":"10*C2791","v":580},"mm"]
[{"$f":"IF(COUNTIF($B$1:B2792,TRUE)=COUNTIF($B$1:B2791,TRUE),\"\",COUNTIF($B$1:B2792,TRUE))","v":1676},{"$f":"IF(Worksheet!$D$10=3,FALSE,Worksheet!$B$15)","v":true},{"$f":"IF(Worksheet!$D$6=1,RANDBETWEEN(1,99),IF(Worksheet!$D$6=2,CHOOSE(RANDBETWEEN(1,2),RANDBETWEEN(1,99),RANDBETWEEN(1,999)/10),CHOOSE(RANDBETWEEN(1,4),RANDBETWEEN(1,99999)/1000,RANDBETWEEN(1,9999)/100,RANDBETWEEN(1,999)/10,RANDBETWEEN(1,99))))","v":53},"m","=",{"$f":"100*C2792","v":5300},"cm"]
[{"$f":"IF(COUNTIF($B$1:B2793,TRUE)=COUNTIF($B$1:B2792,TRUE),\"\",COUNTIF($B$1:B2793,TRUE))","v":1677},{"$f":"IF(Worksheet!$D$10=3,FALSE,Worksheet!$B$16)","v":true},{"$f":"IF(Worksheet!$D$6=1,RANDBETWEEN(1,99),IF(Worksheet!$D$6=2,CHOOSE(RANDBETWEEN(1,2),RANDBETWEEN(1,99),RANDBETWEEN(1,999)/10),CHOOSE(RANDBETWEEN(1,4),RANDBETWEEN(1,99999)/1000,RANDBETWEEN(1,9999)/100,RANDBETWEEN(1,999)/10,RANDBETWEEN(1,99))))","v":88},"km","=",{"$f":"1000*C2793","v":88000},"m"]
[{"$f":"IF(COUNTIF($B$1:B2794,TRUE)=COUNTIF($B$1:B2793,TRUE),\"\",COUNTIF($B$1:B2794,TRUE))","v":""},{"$f":"IF(Worksheet!$D$10=3,FALSE,Worksheet!$B$17)","v":false},{"$f":"IF(Worksheet!$D$6=1,RANDBETWEEN(1,99),IF(Worksheet!$D$6=2,CHOOSE(RANDBETWEEN(1,2),RANDBETWEEN(1,99),RANDBETWEEN(1,999)/10),CHOOSE(RANDBETWEEN(1,4),RANDBETWEEN(1,99999)/1000,RANDBETWEEN(1,9999)/100,RANDBETWEEN(1,999)/10,RANDBETWEEN(1,99))))","v":19},"m",{"$f":"#REF!","v":{"$error":"#REF!"}},{"$f":"1000*C2794","v":19000},"mm"]
[{"$f":"IF(COUNTIF($B$1:B2795,TRUE)=COUNTIF($B$1:B2794,TRUE),\"\",COUNTIF($B$1:B2795,TRUE))","v":""},{"$f":"IF(Worksheet!$D$10=3,FALSE,Worksheet!$B$18)","v":false},{"$f":"IF(Worksheet!$D$6=1,RANDBETWEEN(1,99),IF(Worksheet!$D$6=2,CHOOSE(RANDBETWEEN(1,2),RANDBETWEEN(1,99),RANDBETWEEN(1,999)/10),CHOOSE(RANDBETWEEN(1,4),RANDBETWEEN(1,99999)/1000,RANDBETWEEN(1,9999)/100,RANDBETWEEN(1,999)/10,RANDBETWEEN(1,99))))","v":14},"cm²","=",{"$f":"C2795*100","v":1400},"mm²"]
[{"$f":"IF(COUNTIF($B$1:B2796,TRUE)=COUNTIF($B$1:B2795,TRUE),\"\",COUNTIF($B$1:B2796,TRUE))","v":1678},{"$f":"IF(Worksheet!$D$10=3,FALSE,Worksheet!$D$14)","v":true},{"$f":"IF(Worksheet!$D$6=1,RANDBETWEEN(1,99),IF(Worksheet!$D$6=2,CHOOSE(RANDBETWEEN(1,2),RANDBETWEEN(1,99),RANDBETWEEN(1,999)/10),CHOOSE(RANDBETWEEN(1,4),RANDBETWEEN(1,99999)/1000,RANDBETWEEN(1,9999)/100,RANDBETWEEN(1,999)/10,RANDBETWEEN(1,99))))","v":50},"kg","=",{"$f":"1000*C2796","v":50000},"g"]
[{"$f":"IF(COUNTIF($B$1:B2797,TRUE)=COUNTIF($B$1:B2796,TRUE),\"\",COUNTIF($B$1:B2797,TRUE))","v":1679},{"$f":"IF(Worksheet!$D$10=3,FALSE,Worksheet!$D$15)","v":true},{"$f":"IF(Worksheet!$D$6=1,RANDBETWEEN(1,99),IF(Worksheet!$D$6=2,CHOOSE(RANDBETWEEN(1,2),RANDBETWEEN(1,99),RANDBETWEEN(1,999)/10),CHOOSE(RANDBETWEEN(1,4),RANDBETWEEN(1,99999)/1000,RANDBETWEEN(1,9999)/100,RANDBETWEEN(1,999)/10,RANDBETWEEN(1,99))))","v":84},"tonnes","=",{"$f":"1000*C2797","v":84000},"kg"]
[{"$f":"IF(COUNTIF($B$1:B2798,TRUE)=COUNTIF($B$1:B2797,TRUE),\"\",COUNTIF($B$1:B2798,TRUE))","v":1680},{"$f":"IF(Worksheet!$D$10=3,FALSE,Worksheet!$D$16)","v":true},{"$f":"IF(Worksheet!$D$6=1,RANDBETWEEN(1,99),IF(Worksheet!$D$6=2,CHOOSE(RANDBETWEEN(1,2),RANDBETWEEN(1,99),RANDBETWEEN(1,999)/10),CHOOSE(RANDBETWEEN(1,4),RANDBETWEEN(1,99999)/1000,RANDBETWEEN(1,9999)/100,RANDBETWEEN(1,999)/10,RANDBETWEEN(1,99))))","v":20},"litres","=",{"$f":"1000*C2798","v":20000},"ml"]
[{"$f":"IF(COUNTIF($B$1:B2799,TRUE)=COUNTIF($B$1:B2798,TRUE),\"\",COUNTIF($B$1:B2799,TRUE))","v":""},{"$f":"IF(Worksheet!$D$10=3,FALSE,Worksheet!$D$17)","v":false},{"$f":"IF(Worksheet!$D$6=1,RANDBETWEEN(1,99),IF(Worksheet!$D$6=2,CHOOSE(RANDBETWEEN(1,2),RANDBETWEEN(1,99),RANDBETWEEN(1,999)/10),CHOOSE(RANDBETWEEN(1,4),RANDBETWEEN(1,99999)/1000,RANDBETWEEN(1,9999)/100,RANDBETWEEN(1,999)/10,RANDBETWEEN(1,99))))","v":27},"litres","=",{"$f":"1000*C2799","v":27000},"cm³"]
[{"$f":"IF(COUNTIF($B$1:B2800,TRUE)=COUNTIF($B$1:B2799,TRUE),\"\",COUNTIF($B$1:B2800,TRUE))","v":""},{"$f":"IF(Worksheet!$D$10=3,FALSE,Worksheet!$D$18)","v":false},{"$f":"IF(Worksheet!$D$6=1,RANDBETWEEN(1,99),IF(Worksheet!$D$6=2,CHOOSE(RANDBETWEEN(1,2),RANDBETWEEN(1,99),RANDBETWEEN(1,999)/10),CHOOSE(RANDBETWEEN(1,4),RANDBETWEEN(1,99999)/1000,RANDBETWEEN(1,9999)/100,RANDBETWEEN(1,999)/10,RANDBETWEEN(1,99))))","v":60},"m²","=",{"$f":"10000*C2800","v":600000},"cm²"]
[{"$f":"IF(COUNTIF($B$1:B2801,TRUE)=COUNTIF($B$1:B2800,TRUE),\"\",COUNTIF($B$1:B2801,TRUE))","v":1681},{"$f":"IF(Worksheet!$D$10=2,FALSE,Worksheet!$B$14)","v":true},{"$f":"10*F2801","v":20},"mm","=",{"$f":"IF(Worksheet!$D$6=1,RANDBETWEEN(1,99),IF(Worksheet!$D$6=2,CHOOSE(RANDBETWEEN(1,2),RANDBETWEEN(1,99),RANDBETWEEN(1,999)/10),CHOOSE(RANDBETWEEN(1,4),RANDBETWEEN(1,99999)/1000,RANDBETWEEN(1,9999)/100,RANDBETWEEN(1,999)/10,RANDBETWEEN(1,99))))","v":2},"cm"]
[{"$f":"IF(COUNTIF($B$1:B2802,TRUE)=COUNTIF($B$1:B2801,TRUE),\"\",COUNTIF($B$1:B2802,TRUE))","v":1682},{"$f":"IF(Worksheet!$D$10=2,FALSE,Worksheet!$B$15)","v":true},{"$f":"100*F2802","v":7000},"cm","=",{"$f":"IF(Worksheet!$D$6=1,RANDBETWEEN(1,99),IF(Worksheet!$D$6=2,CHOOSE(RANDBETWEEN(1,2),RANDBETWEEN(1,99),RANDBETWEEN(1,999)/10),CHOOSE(RANDBETWEEN(1,4),RANDBETWEEN(1,99999)/1000,RANDBETWEEN(1,9999)/100,RANDBETWEEN(1,999)/10,RANDBETWEEN(1,99))))","v":70},"m"]
[{"$f":"IF(COUNTIF($B$1:B2803,TRUE)=COUNTIF($B$1:B2802,TRUE),\"\",COUNTIF($B$1:B2803,TRUE))","v":1683},{"$f":"IF(Worksheet!$D$10=2,FALSE,Worksheet!$B$16)","v":true},{"$f":"1000*F2803","v":31000},"m","=",{"$f":"IF(Worksheet!$D$6=1,RANDBETWEEN(1,99),IF(Worksheet!$D$6=2,CHOOSE(RANDBETWEEN(1,2),RANDBETWEEN(1,99),RANDBETWEEN(1,999)/10),CHOOSE(RANDBETWEEN(1,4),RANDBETWEEN(1,99999)/1000,RANDBETWEEN(1,9999)/100,RANDBETWEEN(1,999)/10,RANDBETWEEN(1,99))))","v":31},"km"]
[{"$f":"IF(COUNTIF($B$1:B2804,TRUE)=COUNTIF($B$1:B2803,TRUE),\"\",COUNTIF($B$1:B2804,TRUE))","v":""},{"$f":"IF(Worksheet!$D$10=2,FALSE,Worksheet!$B$17)","v":false},{"$f":"1000*F2804","v":47000},"mm","=",{"$f":"IF(Worksheet!$D$6=1,RANDBETWEEN(1,99),IF(Worksheet!$D$6=2,CHOOSE(RANDBETWEEN(1,2),RANDBETWEEN(1,99),RANDBETWEEN(1,999)/10),CHOOSE(RANDBETWEEN(1,4),RANDBETWEEN(1,99999)/1000,RANDBETWEEN(1,9999)/100,RANDBETWEEN(1,999)/10,RANDBETWEEN(1,99))))","v":47},"m"]
[{"$f":"IF(COUNTIF($B$1:B2805,TRUE)=COUNTIF($B$1:B2804,TRUE),\"\",COUNTIF($B$1:B2805,TRUE))","v":""},{"$f":"IF(Worksheet!$D$10=2,FALSE,Worksheet!$B$18)","v":false},{"$f":"100*F2805","v":5500},"mm²","=",{"$f":"IF(Worksheet!$D$6=1,RANDBETWEEN(1,99),IF(Worksheet!$D$6=2,CHOOSE(RANDBETWEEN(1,2),RANDBETWEEN(1,99),RANDBETWEEN(1,999)/10),CHOOSE(RANDBETWEEN(1,4),RANDBETWEEN(1,99999)/1000,RANDBETWEEN(1,9999)/100,RANDBETWEEN(1,999)/10,RANDBETWEEN(1,99))))","v":55},"cm²"]
[{"$f":"IF(COUNTIF($B$1:B2806,TRUE)=COUNTIF($B$1:B2805,TRUE),\"\",COUNTIF($B$1:B2806,TRUE))","v":1684},{"$f":"IF(Worksheet!$D$10=2,FALSE,Worksheet!$D$14)","v":true},{"$f":"F2806*1000","v":29000},"g","=",{"$f":"IF(Worksheet!$D$6=1,RANDBETWEEN(1,99),IF(Worksheet!$D$6=2,CHOOSE(RANDBETWEEN(1,2),RANDBETWEEN(1,99),RANDBETWEEN(1,999)/10),CHOOSE(RANDBETWEEN(1,4),RANDBETWEEN(1,99999)/1000,RANDBETWEEN(1,9999)/100,RANDBETWEEN(1,999)/10,RANDBETWEEN(1,99))))","v":29},"kg"]
[{"$f":"IF(COUNTIF($B$1:B2807,TRUE)=COUNTIF($B$1:B2806,TRUE),\"\",COUNTIF($B$1:B2807,TRUE))","v":1685},{"$f":"IF(Worksheet!$D$10=2,FALSE,Worksheet!$D$15)","v":true},{"$f":"F2807*1000","v":79000},"kg","=",{"$f":"IF(Worksheet!$D$6=1,RANDBETWEEN(1,99),IF(Worksheet!$D$6=2,CHOOSE(RANDBETWEEN(1,2),RANDBETWEEN(1,99),RANDBETWEEN(1,999)/10),CHOOSE(RANDBETWEEN(1,4),RANDBETWEEN(1,99999)/1000,RANDBETWEEN(1,9999)/100,RANDBETWEEN(1,999)/10,RANDBETWEEN(1,99))))","v":79},"tonnes"]
[{"$f":"IF(COUNTIF($B$1:B2808,TRUE)=COUNTIF($B$1:B2807,TRUE),\"\",COUNTIF($B$1:B2808,TRUE))","v":1686},{"$f":"IF(Worksheet!$D$10=2,FALSE,Worksheet!$D$16)","v":true},{"$f":"1000*F2808","v":70000},"ml","=",{"$f":"IF(Worksheet!$D$6=1,RANDBETWEEN(1,99),IF(Worksheet!$D$6=2,CHOOSE(RANDBETWEEN(1,2),RANDBETWEEN(1,99),RANDBETWEEN(1,999)/10),CHOOSE(RANDBETWEEN(1,4),RANDBETWEEN(1,99999)/1000,RANDBETWEEN(1,9999)/100,RANDBETWEEN(1,999)/10,RANDBETWEEN(1,99))))","v":70},"litres"]
[{"$f":"IF(COUNTIF($B$1:B2809,TRUE)=COUNTIF($B$1:B2808,TRUE),\"\",COUNTIF($B$1:B2809,TRUE))","v":""},{"$f":"IF(Worksheet!$D$10=2,FALSE,Worksheet!$D$17)","v":false},{"$f":"1000*F2809","v":69000},"cm³","=",{"$f":"IF(Worksheet!$D$6=1,RANDBETWEEN(1,99),IF(Worksheet!$D$6=2,CHOOSE(RANDBETWEEN(1,2),RANDBETWEEN(1,99),RANDBETWEEN(1,999)/10),CHOOSE(RANDBETWEEN(1,4),RANDBETWEEN(1,99999)/1000,RANDBETWEEN(1,9999)/100,RANDBETWEEN(1,999)/10,RANDBETWEEN(1,99))))","v":69},"litres"]
[{"$f":"IF(COUNTIF($B$1:B2810,TRUE)=COUNTIF($B$1:B2809,TRUE),\"\",COUNTIF($B$1:B2810,TRUE))","v":""},{"$f":"IF(Worksheet!$D$10=2,FALSE,Worksheet!$D$18)","v":false},{"$f":"10000*F2810","v":110000},"cm²","=",{"$f":"IF(Worksheet!$D$6=1,RANDBETWEEN(1,99),IF(Worksheet!$D$6=2,CHOOSE(RANDBETWEEN(1,2),RANDBETWEEN(1,99),RANDBETWEEN(1,999)/10),CHOOSE(RANDBETWEEN(1,4),RANDBETWEEN(1,99999)/1000,RANDBETWEEN(1,9999)/100,RANDBETWEEN(1,999)/10,RANDBETWEEN(1,99))))","v":11},"m²"]
[{"$f":"IF(COUNTIF($B$1:B2811,TRUE)=COUNTIF($B$1:B2810,TRUE),\"\",COUNTIF($B$1:B2811,TRUE))","v":1687},{"$f":"IF(Worksheet!$D$10=3,FALSE,Worksheet!$B$14)","v":true},{"$f":"IF(Worksheet!$D$6=1,RANDBETWEEN(1,99),IF(Worksheet!$D$6=2,CHOOSE(RANDBETWEEN(1,2),RANDBETWEEN(1,99),RANDBETWEEN(1,999)/10),CHOOSE(RANDBETWEEN(1,4),RANDBETWEEN(1,99999)/1000,RANDBETWEEN(1,9999)/100,RANDBETWEEN(1,999)/10,RANDBETWEEN(1,99))))","v":13},"cm","=",{"$f":"10*C2811","v":130},"mm"]
[{"$f":"IF(COUNTIF($B$1:B2812,TRUE)=COUNTIF($B$1:B2811,TRUE),\"\",COUNTIF($B$1:B2812,TRUE))","v":1688},{"$f":"IF(Worksheet!$D$10=3,FALSE,Worksheet!$B$15)","v":true},{"$f":"IF(Worksheet!$D$6=1,RANDBETWEEN(1,99),IF(Worksheet!$D$6=2,CHOOSE(RANDBETWEEN(1,2),RANDBETWEEN(1,99),RANDBETWEEN(1,999)/10),CHOOSE(RANDBETWEEN(1,4),RANDBETWEEN(1,99999)/1000,RANDBETWEEN(1,9999)/100,RANDBETWEEN(1,999)/10,RANDBETWEEN(1,99))))","v":92},"m","=",{"$f":"100*C2812","v":9200},"cm"]
[{"$f":"IF(COUNTIF($B$1:B2813,TRUE)=COUNTIF($B$1:B2812,TRUE),\"\",COUNTIF($B$1:B2813,TRUE))","v":1689},{"$f":"IF(Worksheet!$D$10=3,FALSE,Worksheet!$B$16)","v":true},{"$f":"IF(Worksheet!$D$6=1,RANDBETWEEN(1,99),IF(Worksheet!$D$6=2,CHOOSE(RANDBETWEEN(1,2),RANDBETWEEN(1,99),RANDBETWEEN(1,999)/10),CHOOSE(RANDBETWEEN(1,4),RANDBETWEEN(1,99999)/1000,RANDBETWEEN(1,9999)/100,RANDBETWEEN(1,999)/10,RANDBETWEEN(1,99))))","v":62},"km","=",{"$f":"1000*C2813","v":62000},"m"]
[{"$f":"IF(COUNTIF($B$1:B2814,TRUE)=COUNTIF($B$1:B2813,TRUE),\"\",COUNTIF($B$1:B2814,TRUE))","v":""},{"$f":"IF(Worksheet!$D$10=3,FALSE,Worksheet!$B$17)","v":false},{"$f":"IF(Worksheet!$D$6=1,RANDBETWEEN(1,99),IF(Worksheet!$D$6=2,CHOOSE(RANDBETWEEN(1,2),RANDBETWEEN(1,99),RANDBETWEEN(1,999)/10),CHOOSE(RANDBETWEEN(1,4),RANDBETWEEN(1,99999)/1000,RANDBETWEEN(1,9999)/100,RANDBETWEEN(1,999)/10,RANDBETWEEN(1,99))))","v":56},"m",{"$f":"#REF!","v":{"$error":"#REF!"}},{"$f":"1000*C2814","v":56000},"mm"]
[{"$f":"IF(COUNTIF($B$1:B2815,TRUE)=COUNTIF($B$1:B2814,TRUE),\"\",COUNTIF($B$1:B2815,TRUE))","v":""},{"$f":"IF(Worksheet!$D$10=3,FALSE,Worksheet!$B$18)","v":false},{"$f":"IF(Worksheet!$D$6=1,RANDBETWEEN(1,99),IF(Worksheet!$D$6=2,CHOOSE(RANDBETWEEN(1,2),RANDBETWEEN(1,99),RANDBETWEEN(1,999)/10),CHOOSE(RANDBETWEEN(1,4),RANDBETWEEN(1,99999)/1000,RANDBETWEEN(1,9999)/100,RANDBETWEEN(1,999)/10,RANDBETWEEN(1,99))))","v":57},"cm²","=",{"$f":"C2815*100","v":5700},"mm²"]
[{"$f":"IF(COUNTIF($B$1:B2816,TRUE)=COUNTIF($B$1:B2815,TRUE),\"\",COUNTIF($B$1:B2816,TRUE))","v":1690},{"$f":"IF(Worksheet!$D$10=3,FALSE,Worksheet!$D$14)","v":true},{"$f":"IF(Worksheet!$D$6=1,RANDBETWEEN(1,99),IF(Worksheet!$D$6=2,CHOOSE(RANDBETWEEN(1,2),RANDBETWEEN(1,99),RANDBETWEEN(1,999)/10),CHOOSE(RANDBETWEEN(1,4),RANDBETWEEN(1,99999)/1000,RANDBETWEEN(1,9999)/100,RANDBETWEEN(1,999)/10,RANDBETWEEN(1,99))))","v":18},"kg","=",{"$f":"1000*C2816","v":18000},"g"]
[{"$f":"IF(COUNTIF($B$1:B2817,TRUE)=COUNTIF($B$1:B2816,TRUE),\"\",COUNTIF($B$1:B2817,TRUE))","v":1691},{"$f":"IF(Worksheet!$D$10=3,FALSE,Worksheet!$D$15)","v":true},{"$f":"IF(Worksheet!$D$6=1,RANDBETWEEN(1,99),IF(Worksheet!$D$6=2,CHOOSE(RANDBETWEEN(1,2),RANDBETWEEN(1,99),RANDBETWEEN(1,999)/10),CHOOSE(RANDBETWEEN(1,4),RANDBETWEEN(1,99999)/1000,RANDBETWEEN(1,9999)/100,RANDBETWEEN(1,999)/10,RANDBETWEEN(1,99))))","v":99},"tonnes","=",{"$f":"1000*C2817","v":99000},"kg"]
[{"$f":"IF(COUNTIF($B$1:B2818,TRUE)=COUNTIF($B$1:B2817,TRUE),\"\",COUNTIF($B$1:B2818,TRUE))","v":1692},{"$f":"IF(Worksheet!$D$10=3,FALSE,Worksheet!$D$16)","v":true},{"$f":"IF(Worksheet!$D$6=1,RANDBETWEEN(1,99),IF(Worksheet!$D$6=2,CHOOSE(RANDBETWEEN(1,2),RANDBETWEEN(1,99),RANDBETWEEN(1,999)/10),CHOOSE(RANDBETWEEN(1,4),RANDBETWEEN(1,99999)/1000,RANDBETWEEN(1,9999)/100,RANDBETWEEN(1,999)/10,RANDBETWEEN(1,99))))","v":59},"litres","=",{"$f":"1000*C2818","v":59000},"ml"]
[{"$f":"IF(COUNTIF($B$1:B2819,TRUE)=COUNTIF($B$1:B2818,TRUE),\"\",COUNTIF($B$1:B2819,TRUE))","v":""},{"$f":"IF(Worksheet!$D$10=3,FALSE,Worksheet!$D$17)","v":false},{"$f":"IF(Worksheet!$D$6=1,RANDBETWEEN(1,99),IF(Worksheet!$D$6=2,CHOOSE(RANDBETWEEN(1,2),RANDBETWEEN(1,99),RANDBETWEEN(1,999)/10),CHOOSE(RANDBETWEEN(1,4),RANDBETWEEN(1,99999)/1000,RANDBETWEEN(1,9999)/100,RANDBETWEEN(1,999)/10,RANDBETWEEN(1,99))))","v":15},"litres","=",{"$f":"1000*C2819","v":15000},"cm³"]
[{"$f":"IF(COUNTIF($B$1:B2820,TRUE)=COUNTIF($B$1:B2819,TRUE),\"\",COUNTIF($B$1:B2820,TRUE))","v":""},{"$f":"IF(Worksheet!$D$10=3,FALSE,Worksheet!$D$18)","v":false},{"$f":"IF(Worksheet!$D$6=1,RANDBETWEEN(1,99),IF(Worksheet!$D$6=2,CHOOSE(RANDBETWEEN(1,2),RANDBETWEEN(1,99),RANDBETWEEN(1,999)/10),CHOOSE(RANDBETWEEN(1,4),RANDBETWEEN(1,99999)/1000,RANDBETWEEN(1,9999)/100,RANDBETWEEN(1,999)/10,RANDBETWEEN(1,99))))","v":11},"m²","=",{"$f":"10000*C2820","v":110000},"cm²"]
[{"$f":"IF(COUNTIF($B$1:B2821,TRUE)=COUNTIF($B$1:B2820,TRUE),\"\",COUNTIF($B$1:B2821,TRUE))","v":1693},{"$f":"IF(Worksheet!$D$10=2,FALSE,Worksheet!$B$14)","v":true},{"$f":"10*F2821","v":160},"mm","=",{"$f":"IF(Worksheet!$D$6=1,RANDBETWEEN(1,99),IF(Worksheet!$D$6=2,CHOOSE(RANDBETWEEN(1,2),RANDBETWEEN(1,99),RANDBETWEEN(1,999)/10),CHOOSE(RANDBETWEEN(1,4),RANDBETWEEN(1,99999)/1000,RANDBETWEEN(1,9999)/100,RANDBETWEEN(1,999)/10,RANDBETWEEN(1,99))))","v":16},"cm"]
[{"$f":"IF(COUNTIF($B$1:B2822,TRUE)=COUNTIF($B$1:B2821,TRUE),\"\",COUNTIF($B$1:B2822,TRUE))","v":1694},{"$f":"IF(Worksheet!$D$10=2,FALSE,Worksheet!$B$15)","v":true},{"$f":"100*F2822","v":5100},"cm","=",{"$f":"IF(Worksheet!$D$6=1,RANDBETWEEN(1,99),IF(Worksheet!$D$6=2,CHOOSE(RANDBETWEEN(1,2),RANDBETWEEN(1,99),RANDBETWEEN(1,999)/10),CHOOSE(RANDBETWEEN(1,4),RANDBETWEEN(1,99999)/1000,RANDBETWEEN(1,9999)/100,RANDBETWEEN(1,999)/10,RANDBETWEEN(1,99))))","v":51},"m"]
[{"$f":"IF(COUNTIF($B$1:B2823,TRUE)=COUNTIF($B$1:B2822,TRUE),\"\",COUNTIF($B$1:B2823,TRUE))","v":1695},{"$f":"IF(Worksheet!$D$10=2,FALSE,Worksheet!$B$16)","v":true},{"$f":"1000*F2823","v":86000},"m","=",{"$f":"IF(Worksheet!$D$6=1,RANDBETWEEN(1,99),IF(Worksheet!$D$6=2,CHOOSE(RANDBETWEEN(1,2),RANDBETWEEN(1,99),RANDBETWEEN(1,999)/10),CHOOSE(RANDBETWEEN(1,4),RANDBETWEEN(1,99999)/1000,RANDBETWEEN(1,9999)/100,RANDBETWEEN(1,999)/10,RANDBETWEEN(1,99))))","v":86},"km"]
[{"$f":"IF(COUNTIF($B$1:B2824,TRUE)=COUNTIF($B$1:B2823,TRUE),\"\",COUNTIF($B$1:B2824,TRUE))","v":""},{"$f":"IF(Worksheet!$D$10=2,FALSE,Worksheet!$B$17)","v":false},{"$f":"1000*F2824","v":50000},"mm","=",{"$f":"IF(Worksheet!$D$6=1,RANDBETWEEN(1,99),IF(Worksheet!$D$6=2,CHOOSE(RANDBETWEEN(1,2),RANDBETWEEN(1,99),RANDBETWEEN(1,999)/10),CHOOSE(RANDBETWEEN(1,4),RANDBETWEEN(1,99999)/1000,RANDBETWEEN(1,9999)/100,RANDBETWEEN(1,999)/10,RANDBETWEEN(1,99))))","v":50},"m"]
[{"$f":"IF(COUNTIF($B$1:B2825,TRUE)=COUNTIF($B$1:B2824,TRUE),\"\",COUNTIF($B$1:B2825,TRUE))","v":""},{"$f":"IF(Worksheet!$D$10=2,FALSE,Worksheet!$B$18)","v":false},{"$f":"100*F2825","v":4100},"mm²","=",{"$f":"IF(Worksheet!$D$6=1,RANDBETWEEN(1,99),IF(Worksheet!$D$6=2,CHOOSE(RANDBETWEEN(1,2),RANDBETWEEN(1,99),RANDBETWEEN(1,999)/10),CHOOSE(RANDBETWEEN(1,4),RANDBETWEEN(1,99999)/1000,RANDBETWEEN(1,9999)/100,RANDBETWEEN(1,999)/10,RANDBETWEEN(1,99))))","v":41},"cm²"]
[{"$f":"IF(COUNTIF($B$1:B2826,TRUE)=COUNTIF($B$1:B2825,TRUE),\"\",COUNTIF($B$1:B2826,TRUE))","v":1696},{"$f":"IF(Worksheet!$D$10=2,FALSE,Worksheet!$D$14)","v":true},{"$f":"F2826*1000","v":63000},"g","=",{"$f":"IF(Worksheet!$D$6=1,RANDBETWEEN(1,99),IF(Worksheet!$D$6=2,CHOOSE(RANDBETWEEN(1,2),RANDBETWEEN(1,99),RANDBETWEEN(1,999)/10),CHOOSE(RANDBETWEEN(1,4),RANDBETWEEN(1,99999)/1000,RANDBETWEEN(1,9999)/100,RANDBETWEEN(1,999)/10,RANDBETWEEN(1,99))))","v":63},"kg"]
[{"$f":"IF(COUNTIF($B$1:B2827,TRUE)=COUNTIF($B$1:B2826,TRUE),\"\",COUNTIF($B$1:B2827,TRUE))","v":1697},{"$f":"IF(Worksheet!$D$10=2,FALSE,Worksheet!$D$15)","v":true},{"$f":"F2827*1000","v":53000},"kg","=",{"$f":"IF(Worksheet!$D$6=1,RANDBETWEEN(1,99),IF(Worksheet!$D$6=2,CHOOSE(RANDBETWEEN(1,2),RANDBETWEEN(1,99),RANDBETWEEN(1,999)/10),CHOOSE(RANDBETWEEN(1,4),RANDBETWEEN(1,99999)/1000,RANDBETWEEN(1,9999)/100,RANDBETWEEN(1,999)/10,RANDBETWEEN(1,99))))","v":53},"tonnes"]
[{"$f":"IF(COUNTIF($B$1:B2828,TRUE)=COUNTIF($B$1:B2827,TRUE),\"\",COUNTIF($B$1:B2828,TRUE))","v":1698},{"$f":"IF(Worksheet!$D$10=2,FALSE,Worksheet!$D$16)","v":true},{"$f":"1000*F2828","v":32000},"ml","=",{"$f":"IF(Worksheet!$D$6=1,RANDBETWEEN(1,99),IF(Worksheet!$D$6=2,CHOOSE(RANDBETWEEN(1,2),RANDBETWEEN(1,99),RANDBETWEEN(1,999)/10),CHOOSE(RANDBETWEEN(1,4),RANDBETWEEN(1,99999)/1000,RANDBETWEEN(1,9999)/100,RANDBETWEEN(1,999)/10,RANDBETWEEN(1,99))))","v":32},"litres"]
[{"$f":"IF(COUNTIF($B$1:B2829,TRUE)=COUNTIF($B$1:B2828,TRUE),\"\",COUNTIF($B$1:B2829,TRUE))","v":""},{"$f":"IF(Worksheet!$D$10=2,FALSE,Worksheet!$D$17)","v":false},{"$f":"1000*F2829","v":79000},"cm³","=",{"$f":"IF(Worksheet!$D$6=1,RANDBETWEEN(1,99),IF(Worksheet!$D$6=2,CHOOSE(RANDBETWEEN(1,2),RANDBETWEEN(1,99),RANDBETWEEN(1,999)/10),CHOOSE(RANDBETWEEN(1,4),RANDBETWEEN(1,99999)/1000,RANDBETWEEN(1,9999)/100,RANDBETWEEN(1,999)/10,RANDBETWEEN(1,99))))","v":79},"litres"]
[{"$f":"IF(COUNTIF($B$1:B2830,TRUE)=COUNTIF($B$1:B2829,TRUE),\"\",COUNTIF($B$1:B2830,TRUE))","v":""},{"$f":"IF(Worksheet!$D$10=2,FALSE,Worksheet!$D$18)","v":false},{"$f":"10000*F2830","v":730000},"cm²","=",{"$f":"IF(Worksheet!$D$6=1,RANDBETWEEN(1,99),IF(Worksheet!$D$6=2,CHOOSE(RANDBETWEEN(1,2),RANDBETWEEN(1,99),RANDBETWEEN(1,999)/10),CHOOSE(RANDBETWEEN(1,4),RANDBETWEEN(1,99999)/1000,RANDBETWEEN(1,9999)/100,RANDBETWEEN(1,999)/10,RANDBETWEEN(1,99))))","v":73},"m²"]
[{"$f":"IF(COUNTIF($B$1:B2831,TRUE)=COUNTIF($B$1:B2830,TRUE),\"\",COUNTIF($B$1:B2831,TRUE))","v":1699},{"$f":"IF(Worksheet!$D$10=3,FALSE,Worksheet!$B$14)","v":true},{"$f":"IF(Worksheet!$D$6=1,RANDBETWEEN(1,99),IF(Worksheet!$D$6=2,CHOOSE(RANDBETWEEN(1,2),RANDBETWEEN(1,99),RANDBETWEEN(1,999)/10),CHOOSE(RANDBETWEEN(1,4),RANDBETWEEN(1,99999)/1000,RANDBETWEEN(1,9999)/100,RANDBETWEEN(1,999)/10,RANDBETWEEN(1,99))))","v":9},"cm","=",{"$f":"10*C2831","v":90},"mm"]
[{"$f":"IF(COUNTIF($B$1:B2832,TRUE)=COUNTIF($B$1:B2831,TRUE),\"\",COUNTIF($B$1:B2832,TRUE))","v":1700},{"$f":"IF(Worksheet!$D$10=3,FALSE,Worksheet!$B$15)","v":true},{"$f":"IF(Worksheet!$D$6=1,RANDBETWEEN(1,99),IF(Worksheet!$D$6=2,CHOOSE(RANDBETWEEN(1,2),RANDBETWEEN(1,99),RANDBETWEEN(1,999)/10),CHOOSE(RANDBETWEEN(1,4),RANDBETWEEN(1,99999)/1000,RANDBETWEEN(1,9999)/100,RANDBETWEEN(1,999)/10,RANDBETWEEN(1,99))))","v":38},"m","=",{"$f":"100*C2832","v":3800},"cm"]
[{"$f":"IF(COUNTIF($B$1:B2833,TRUE)=COUNTIF($B$1:B2832,TRUE),\"\",COUNTIF($B$1:B2833,TRUE))","v":1701},{"$f":"IF(Worksheet!$D$10=3,FALSE,Worksheet!$B$16)","v":true},{"$f":"IF(Worksheet!$D$6=1,RANDBETWEEN(1,99),IF(Worksheet!$D$6=2,CHOOSE(RANDBETWEEN(1,2),RANDBETWEEN(1,99),RANDBETWEEN(1,999)/10),CHOOSE(RANDBETWEEN(1,4),RANDBETWEEN(1,99999)/1000,RANDBETWEEN(1,9999)/100,RANDBETWEEN(1,999)/10,RANDBETWEEN(1,99))))","v":74},"km","=",{"$f":"1000*C2833","v":74000},"m"]
[{"$f":"IF(COUNTIF($B$1:B2834,TRUE)=COUNTIF($B$1:B2833,TRUE),\"\",COUNTIF($B$1:B2834,TRUE))","v":""},{"$f":"IF(Worksheet!$D$10=3,FALSE,Worksheet!$B$17)","v":false},{"$f":"IF(Worksheet!$D$6=1,RANDBETWEEN(1,99),IF(Worksheet!$D$6=2,CHOOSE(RANDBETWEEN(1,2),RANDBETWEEN(1,99),RANDBETWEEN(1,999)/10),CHOOSE(RANDBETWEEN(1,4),RANDBETWEEN(1,99999)/1000,RANDBETWEEN(1,9999)/100,RANDBETWEEN(1,999)/10,RANDBETWEEN(1,99))))","v":18},"m",{"$f":"#REF!","v":{"$error":"#REF!"}},{"$f":"1000*C2834","v":18000},"mm"]
[{"$f":"IF(COUNTIF($B$1:B2835,TRUE)=COUNTIF($B$1:B2834,TRUE),\"\",COUNTIF($B$1:B2835,TRUE))","v":""},{"$f":"IF(Worksheet!$D$10=3,FALSE,Worksheet!$B$18)","v":false},{"$f":"IF(Worksheet!$D$6=1,RANDBETWEEN(1,99),IF(Worksheet!$D$6=2,CHOOSE(RANDBETWEEN(1,2),RANDBETWEEN(1,99),RANDBETWEEN(1,999)/10),CHOOSE(RANDBETWEEN(1,4),RANDBETWEEN(1,99999)/1000,RANDBETWEEN(1,9999)/100,RANDBETWEEN(1,999)/10,RANDBETWEEN(1,99))))","v":35},"cm²","=",{"$f":"C2835*100","v":3500},"mm²"]
[{"$f":"IF(COUNTIF($B$1:B2836,TRUE)=COUNTIF($B$1:B2835,TRUE),\"\",COUNTIF($B$1:B2836,TRUE))","v":1702},{"$f":"IF(Worksheet!$D$10=3,FALSE,Worksheet!$D$14)","v":true},{"$f":"IF(Worksheet!$D$6=1,RANDBETWEEN(1,99),IF(Worksheet!$D$6=2,CHOOSE(RANDBETWEEN(1,2),RANDBETWEEN(1,99),RANDBETWEEN(1,999)/10),CHOOSE(RANDBETWEEN(1,4),RANDBETWEEN(1,99999)/1000,RANDBETWEEN(1,9999)/100,RANDBETWEEN(1,999)/10,RANDBETWEEN(1,99))))","v":5},"kg","=",{"$f":"1000*C2836","v":5000},"g"]
[{"$f":"IF(COUNTIF($B$1:B2837,TRUE)=COUNTIF($B$1:B2836,TRUE),\"\",COUNTIF($B$1:B2837,TRUE))","v":1703},{"$f":"IF(Worksheet!$D$10=3,FALSE,Worksheet!$D$15)","v":true},{"$f":"IF(Worksheet!$D$6=1,RANDBETWEEN(1,99),IF(Worksheet!$D$6=2,CHOOSE(RANDBETWEEN(1,2),RANDBETWEEN(1,99),RANDBETWEEN(1,999)/10),CHOOSE(RANDBETWEEN(1,4),RANDBETWEEN(1,99999)/1000,RANDBETWEEN(1,9999)/100,RANDBETWEEN(1,999)/10,RANDBETWEEN(1,99))))","v":62},"tonnes","=",{"$f":"1000*C2837","v":62000},"kg"]
[{"$f":"IF(COUNTIF($B$1:B2838,TRUE)=COUNTIF($B$1:B2837,TRUE),\"\",COUNTIF($B$1:B2838,TRUE))","v":1704},{"$f":"IF(Worksheet!$D$10=3,FALSE,Worksheet!$D$16)","v":true},{"$f":"IF(Worksheet!$D$6=1,RANDBETWEEN(1,99),IF(Worksheet!$D$6=2,CHOOSE(RANDBETWEEN(1,2),RANDBETWEEN(1,99),RANDBETWEEN(1,999)/10),CHOOSE(RANDBETWEEN(1,4),RANDBETWEEN(1,99999)/1000,RANDBETWEEN(1,9999)/100,RANDBETWEEN(1,999)/10,RANDBETWEEN(1,99))))","v":73},"litres","=",{"$f":"1000*C2838","v":73000},"ml"]
[{"$f":"IF(COUNTIF($B$1:B2839,TRUE)=COUNTIF($B$1:B2838,TRUE),\"\",COUNTIF($B$1:B2839,TRUE))","v":""},{"$f":"IF(Worksheet!$D$10=3,FALSE,Worksheet!$D$17)","v":false},{"$f":"IF(Worksheet!$D$6=1,RANDBETWEEN(1,99),IF(Worksheet!$D$6=2,CHOOSE(RANDBETWEEN(1,2),RANDBETWEEN(1,99),RANDBETWEEN(1,999)/10),CHOOSE(RANDBETWEEN(1,4),RANDBETWEEN(1,99999)/1000,RANDBETWEEN(1,9999)/100,RANDBETWEEN(1,999)/10,RANDBETWEEN(1,99))))","v":88},"litres","=",{"$f":"1000*C2839","v":88000},"cm³"]
[{"$f":"IF(COUNTIF($B$1:B2840,TRUE)=COUNTIF($B$1:B2839,TRUE),\"\",COUNTIF($B$1:B2840,TRUE))","v":""},{"$f":"IF(Worksheet!$D$10=3,FALSE,Worksheet!$D$18)","v":false},{"$f":"IF(Worksheet!$D$6=1,RANDBETWEEN(1,99),IF(Worksheet!$D$6=2,CHOOSE(RANDBETWEEN(1,2),RANDBETWEEN(1,99),RANDBETWEEN(1,999)/10),CHOOSE(RANDBETWEEN(1,4),RANDBETWEEN(1,99999)/1000,RANDBETWEEN(1,9999)/100,RANDBETWEEN(1,999)/10,RANDBETWEEN(1,99))))","v":97},"m²","=",{"$f":"10000*C2840","v":970000},"cm²"]
[{"$f":"IF(COUNTIF($B$1:B2841,TRUE)=COUNTIF($B$1:B2840,TRUE),\"\",COUNTIF($B$1:B2841,TRUE))","v":1705},{"$f":"IF(Worksheet!$D$10=2,FALSE,Worksheet!$B$14)","v":true},{"$f":"10*F2841","v":310},"mm","=",{"$f":"IF(Worksheet!$D$6=1,RANDBETWEEN(1,99),IF(Worksheet!$D$6=2,CHOOSE(RANDBETWEEN(1,2),RANDBETWEEN(1,99),RANDBETWEEN(1,999)/10),CHOOSE(RANDBETWEEN(1,4),RANDBETWEEN(1,99999)/1000,RANDBETWEEN(1,9999)/100,RANDBETWEEN(1,999)/10,RANDBETWEEN(1,99))))","v":31},"cm"]
[{"$f":"IF(COUNTIF($B$1:B2842,TRUE)=COUNTIF($B$1:B2841,TRUE),\"\",COUNTIF($B$1:B2842,TRUE))","v":1706},{"$f":"IF(Worksheet!$D$10=2,FALSE,Worksheet!$B$15)","v":true},{"$f":"100*F2842","v":9100},"cm","=",{"$f":"IF(Worksheet!$D$6=1,RANDBETWEEN(1,99),IF(Worksheet!$D$6=2,CHOOSE(RANDBETWEEN(1,2),RANDBETWEEN(1,99),RANDBETWEEN(1,999)/10),CHOOSE(RANDBETWEEN(1,4),RANDBETWEEN(1,99999)/1000,RANDBETWEEN(1,9999)/100,RANDBETWEEN(1,999)/10,RANDBETWEEN(1,99))))","v":91},"m"]
[{"$f":"IF(COUNTIF($B$1:B2843,TRUE)=COUNTIF($B$1:B2842,TRUE),\"\",COUNTIF($B$1:B2843,TRUE))","v":1707},{"$f":"IF(Worksheet!$D$10=2,FALSE,Worksheet!$B$16)","v":true},{"$f":"1000*F2843","v":14000},"m","=",{"$f":"IF(Worksheet!$D$6=1,RANDBETWEEN(1,99),IF(Worksheet!$D$6=2,CHOOSE(RANDBETWEEN(1,2),RANDBETWEEN(1,99),RANDBETWEEN(1,999)/10),CHOOSE(RANDBETWEEN(1,4),RANDBETWEEN(1,99999)/1000,RANDBETWEEN(1,9999)/100,RANDBETWEEN(1,999)/10,RANDBETWEEN(1,99))))","v":14},"km"]
[{"$f":"IF(COUNTIF($B$1:B2844,TRUE)=COUNTIF($B$1:B2843,TRUE),\"\",COUNTIF($B$1:B2844,TRUE))","v":""},{"$f":"IF(Worksheet!$D$10=2,FALSE,Worksheet!$B$17)","v":false},{"$f":"1000*F2844","v":91000},"mm","=",{"$f":"IF(Worksheet!$D$6=1,RANDBETWEEN(1,99),IF(Worksheet!$D$6=2,CHOOSE(RANDBETWEEN(1,2),RANDBETWEEN(1,99),RANDBETWEEN(1,999)/10),CHOOSE(RANDBETWEEN(1,4),RANDBETWEEN(1,99999)/1000,RANDBETWEEN(1,9999)/100,RANDBETWEEN(1,999)/10,RANDBETWEEN(1,99))))","v":91},"m"]
[{"$f":"IF(COUNTIF($B$1:B2845,TRUE)=COUNTIF($B$1:B2844,TRUE),\"\",COUNTIF($B$1:B2845,TRUE))","v":""},{"$f":"IF(Worksheet!$D$10=2,FALSE,Worksheet!$B$18)","v":false},{"$f":"100*F2845","v":6000},"mm²","=",{"$f":"IF(Worksheet!$D$6=1,RANDBETWEEN(1,99),IF(Worksheet!$D$6=2,CHOOSE(RANDBETWEEN(1,2),RANDBETWEEN(1,99),RANDBETWEEN(1,999)/10),CHOOSE(RANDBETWEEN(1,4),RANDBETWEEN(1,99999)/1000,RANDBETWEEN(1,9999)/100,RANDBETWEEN(1,999)/10,RANDBETWEEN(1,99))))","v":60},"cm²"]
[{"$f":"IF(COUNTIF($B$1:B2846,TRUE)=COUNTIF($B$1:B2845,TRUE),\"\",COUNTIF($B$1:B2846,TRUE))","v":1708},{"$f":"IF(Worksheet!$D$10=2,FALSE,Worksheet!$D$14)","v":true},{"$f":"F2846*1000","v":79000},"g","=",{"$f":"IF(Worksheet!$D$6=1,RANDBETWEEN(1,99),IF(Worksheet!$D$6=2,CHOOSE(RANDBETWEEN(1,2),RANDBETWEEN(1,99),RANDBETWEEN(1,999)/10),CHOOSE(RANDBETWEEN(1,4),RANDBETWEEN(1,99999)/1000,RANDBETWEEN(1,9999)/100,RANDBETWEEN(1,999)/10,RANDBETWEEN(1,99))))","v":79},"kg"]
[{"$f":"IF(COUNTIF($B$1:B2847,TRUE)=COUNTIF($B$1:B2846,TRUE),\"\",COUNTIF($B$1:B2847,TRUE))","v":1709},{"$f":"IF(Worksheet!$D$10=2,FALSE,Worksheet!$D$15)","v":true},{"$f":"F2847*1000","v":59000},"kg","=",{"$f":"IF(Worksheet!$D$6=1,RANDBETWEEN(1,99),IF(Worksheet!$D$6=2,CHOOSE(RANDBETWEEN(1,2),RANDBETWEEN(1,99),RANDBETWEEN(1,999)/10),CHOOSE(RANDBETWEEN(1,4),RANDBETWEEN(1,99999)/1000,RANDBETWEEN(1,9999)/100,RANDBETWEEN(1,999)/10,RANDBETWEEN(1,99))))","v":59},"tonnes"]
[{"$f":"IF(COUNTIF($B$1:B2848,TRUE)=COUNTIF($B$1:B2847,TRUE),\"\",COUNTIF($B$1:B2848,TRUE))","v":1710},{"$f":"IF(Worksheet!$D$10=2,FALSE,Worksheet!$D$16)","v":true},{"$f":"1000*F2848","v":28000},"ml","=",{"$f":"IF(Worksheet!$D$6=1,RANDBETWEEN(1,99),IF(Worksheet!$D$6=2,CHOOSE(RANDBETWEEN(1,2),RANDBETWEEN(1,99),RANDBETWEEN(1,999)/10),CHOOSE(RANDBETWEEN(1,4),RANDBETWEEN(1,99999)/1000,RANDBETWEEN(1,9999)/100,RANDBETWEEN(1,999)/10,RANDBETWEEN(1,99))))","v":28},"litres"]
[{"$f":"IF(COUNTIF($B$1:B2849,TRUE)=COUNTIF($B$1:B2848,TRUE),\"\",COUNTIF($B$1:B2849,TRUE))","v":""},{"$f":"IF(Worksheet!$D$10=2,FALSE,Worksheet!$D$17)","v":false},{"$f":"1000*F2849","v":73000},"cm³","=",{"$f":"IF(Worksheet!$D$6=1,RANDBETWEEN(1,99),IF(Worksheet!$D$6=2,CHOOSE(RANDBETWEEN(1,2),RANDBETWEEN(1,99),RANDBETWEEN(1,999)/10),CHOOSE(RANDBETWEEN(1,4),RANDBETWEEN(1,99999)/1000,RANDBETWEEN(1,9999)/100,RANDBETWEEN(1,999)/10,RANDBETWEEN(1,99))))","v":73},"litres"]
[{"$f":"IF(COUNTIF($B$1:B2850,TRUE)=COUNTIF($B$1:B2849,TRUE),\"\",COUNTIF($B$1:B2850,TRUE))","v":""},{"$f":"IF(Worksheet!$D$10=2,FALSE,Worksheet!$D$18)","v":false},{"$f":"10000*F2850","v":640000},"cm²","=",{"$f":"IF(Worksheet!$D$6=1,RANDBETWEEN(1,99),IF(Worksheet!$D$6=2,CHOOSE(RANDBETWEEN(1,2),RANDBETWEEN(1,99),RANDBETWEEN(1,999)/10),CHOOSE(RANDBETWEEN(1,4),RANDBETWEEN(1,99999)/1000,RANDBETWEEN(1,9999)/100,RANDBETWEEN(1,999)/10,RANDBETWEEN(1,99))))","v":64},"m²"]
[{"$f":"IF(COUNTIF($B$1:B2851,TRUE)=COUNTIF($B$1:B2850,TRUE),\"\",COUNTIF($B$1:B2851,TRUE))","v":1711},{"$f":"IF(Worksheet!$D$10=3,FALSE,Worksheet!$B$14)","v":true},{"$f":"IF(Worksheet!$D$6=1,RANDBETWEEN(1,99),IF(Worksheet!$D$6=2,CHOOSE(RANDBETWEEN(1,2),RANDBETWEEN(1,99),RANDBETWEEN(1,999)/10),CHOOSE(RANDBETWEEN(1,4),RANDBETWEEN(1,99999)/1000,RANDBETWEEN(1,9999)/100,RANDBETWEEN(1,999)/10,RANDBETWEEN(1,99))))","v":61},"cm","=",{"$f":"10*C2851","v":610},"mm"]
[{"$f":"IF(COUNTIF($B$1:B2852,TRUE)=COUNTIF($B$1:B2851,TRUE),\"\",COUNTIF($B$1:B2852,TRUE))","v":1712},{"$f":"IF(Worksheet!$D$10=3,FALSE,Worksheet!$B$15)","v":true},{"$f":"IF(Worksheet!$D$6=1,RANDBETWEEN(1,99),IF(Worksheet!$D$6=2,CHOOSE(RANDBETWEEN(1,2),RANDBETWEEN(1,99),RANDBETWEEN(1,999)/10),CHOOSE(RANDBETWEEN(1,4),RANDBETWEEN(1,99999)/1000,RANDBETWEEN(1,9999)/100,RANDBETWEEN(1,999)/10,RANDBETWEEN(1,99))))","v":27},"m","=",{"$f":"100*C2852","v":2700},"cm"]
[{"$f":"IF(COUNTIF($B$1:B2853,TRUE)=COUNTIF($B$1:B2852,TRUE),\"\",COUNTIF($B$1:B2853,TRUE))","v":1713},{"$f":"IF(Worksheet!$D$10=3,FALSE,Worksheet!$B$16)","v":true},{"$f":"IF(Worksheet!$D$6=1,RANDBETWEEN(1,99),IF(Worksheet!$D$6=2,CHOOSE(RANDBETWEEN(1,2),RANDBETWEEN(1,99),RANDBETWEEN(1,999)/10),CHOOSE(RANDBETWEEN(1,4),RANDBETWEEN(1,99999)/1000,RANDBETWEEN(1,9999)/100,RANDBETWEEN(1,999)/10,RANDBETWEEN(1,99))))","v":68},"km","=",{"$f":"1000*C2853","v":68000},"m"]
[{"$f":"IF(COUNTIF($B$1:B2854,TRUE)=COUNTIF($B$1:B2853,TRUE),\"\",COUNTIF($B$1:B2854,TRUE))","v":""},{"$f":"IF(Worksheet!$D$10=3,FALSE,Worksheet!$B$17)","v":false},{"$f":"IF(Worksheet!$D$6=1,RANDBETWEEN(1,99),IF(Worksheet!$D$6=2,CHOOSE(RANDBETWEEN(1,2),RANDBETWEEN(1,99),RANDBETWEEN(1,999)/10),CHOOSE(RANDBETWEEN(1,4),RANDBETWEEN(1,99999)/1000,RANDBETWEEN(1,9999)/100,RANDBETWEEN(1,999)/10,RANDBETWEEN(1,99))))","v":17},"m",{"$f":"#REF!","v":{"$error":"#REF!"}},{"$f":"1000*C2854","v":17000},"mm"]
[{"$f":"IF(COUNTIF($B$1:B2855,TRUE)=COUNTIF($B$1:B2854,TRUE),\"\",COUNTIF($B$1:B2855,TRUE))","v":""},{"$f":"IF(Worksheet!$D$10=3,FALSE,Worksheet!$B$18)","v":false},{"$f":"IF(Worksheet!$D$6=1,RANDBETWEEN(1,99),IF(Worksheet!$D$6=2,CHOOSE(RANDBETWEEN(1,2),RANDBETWEEN(1,99),RANDBETWEEN(1,999)/10),CHOOSE(RANDBETWEEN(1,4),RANDBETWEEN(1,99999)/1000,RANDBETWEEN(1,9999)/100,RANDBETWEEN(1,999)/10,RANDBETWEEN(1,99))))","v":67},"cm²","=",{"$f":"C2855*100","v":6700},"mm²"]
[{"$f":"IF(COUNTIF($B$1:B2856,TRUE)=COUNTIF($B$1:B2855,TRUE),\"\",COUNTIF($B$1:B2856,TRUE))","v":1714},{"$f":"IF(Worksheet!$D$10=3,FALSE,Worksheet!$D$14)","v":true},{"$f":"IF(Worksheet!$D$6=1,RANDBETWEEN(1,99),IF(Worksheet!$D$6=2,CHOOSE(RANDBETWEEN(1,2),RANDBETWEEN(1,99),RANDBETWEEN(1,999)/10),CHOOSE(RANDBETWEEN(1,4),RANDBETWEEN(1,99999)/1000,RANDBETWEEN(1,9999)/100,RANDBETWEEN(1,999)/10,RANDBETWEEN(1,99))))","v":51},"kg","=",{"$f":"1000*C2856","v":51000},"g"]
[{"$f":"IF(COUNTIF($B$1:B2857,TRUE)=COUNTIF($B$1:B2856,TRUE),\"\",COUNTIF($B$1:B2857,TRUE))","v":1715},{"$f":"IF(Worksheet!$D$10=3,FALSE,Worksheet!$D$15)","v":true},{"$f":"IF(Worksheet!$D$6=1,RANDBETWEEN(1,99),IF(Worksheet!$D$6=2,CHOOSE(RANDBETWEEN(1,2),RANDBETWEEN(1,99),RANDBETWEEN(1,999)/10),CHOOSE(RANDBETWEEN(1,4),RANDBETWEEN(1,99999)/1000,RANDBETWEEN(1,9999)/100,RANDBETWEEN(1,999)/10,RANDBETWEEN(1,99))))","v":55},"tonnes","=",{"$f":"1000*C2857","v":55000},"kg"]
[{"$f":"IF(COUNTIF($B$1:B2858,TRUE)=COUNTIF($B$1:B2857,TRUE),\"\",COUNTIF($B$1:B2858,TRUE))","v":1716},{"$f":"IF(Worksheet!$D$10=3,FALSE,Worksheet!$D$16)","v":true},{"$f":"IF(Worksheet!$D$6=1,RANDBETWEEN(1,99),IF(Worksheet!$D$6=2,CHOOSE(RANDBETWEEN(1,2),RANDBETWEEN(1,99),RANDBETWEEN(1,999)/10),CHOOSE(RANDBETWEEN(1,4),RANDBETWEEN(1,99999)/1000,RANDBETWEEN(1,9999)/100,RANDBETWEEN(1,999)/10,RANDBETWEEN(1,99))))","v":70},"litres","=",{"$f":"1000*C2858","v":70000},"ml"]
[{"$f":"IF(COUNTIF($B$1:B2859,TRUE)=COUNTIF($B$1:B2858,TRUE),\"\",COUNTIF($B$1:B2859,TRUE))","v":""},{"$f":"IF(Worksheet!$D$10=3,FALSE,Worksheet!$D$17)","v":false},{"$f":"IF(Worksheet!$D$6=1,RANDBETWEEN(1,99),IF(Worksheet!$D$6=2,CHOOSE(RANDBETWEEN(1,2),RANDBETWEEN(1,99),RANDBETWEEN(1,999)/10),CHOOSE(RANDBETWEEN(1,4),RANDBETWEEN(1,99999)/1000,RANDBETWEEN(1,9999)/100,RANDBETWEEN(1,999)/10,RANDBETWEEN(1,99))))","v":93},"litres","=",{"$f":"1000*C2859","v":93000},"cm³"]
[{"$f":"IF(COUNTIF($B$1:B2860,TRUE)=COUNTIF($B$1:B2859,TRUE),\"\",COUNTIF($B$1:B2860,TRUE))","v":""},{"$f":"IF(Worksheet!$D$10=3,FALSE,Worksheet!$D$18)","v":false},{"$f":"IF(Worksheet!$D$6=1,RANDBETWEEN(1,99),IF(Worksheet!$D$6=2,CHOOSE(RANDBETWEEN(1,2),RANDBETWEEN(1,99),RANDBETWEEN(1,999)/10),CHOOSE(RANDBETWEEN(1,4),RANDBETWEEN(1,99999)/1000,RANDBETWEEN(1,9999)/100,RANDBETWEEN(1,999)/10,RANDBETWEEN(1,99))))","v":59},"m²","=",{"$f":"10000*C2860","v":590000},"cm²"]
[{"$f":"IF(COUNTIF($B$1:B2861,TRUE)=COUNTIF($B$1:B2860,TRUE),\"\",COUNTIF($B$1:B2861,TRUE))","v":1717},{"$f":"IF(Worksheet!$D$10=2,FALSE,Worksheet!$B$14)","v":true},{"$f":"10*F2861","v":570},"mm","=",{"$f":"IF(Worksheet!$D$6=1,RANDBETWEEN(1,99),IF(Worksheet!$D$6=2,CHOOSE(RANDBETWEEN(1,2),RANDBETWEEN(1,99),RANDBETWEEN(1,999)/10),CHOOSE(RANDBETWEEN(1,4),RANDBETWEEN(1,99999)/1000,RANDBETWEEN(1,9999)/100,RANDBETWEEN(1,999)/10,RANDBETWEEN(1,99))))","v":57},"cm"]
[{"$f":"IF(COUNTIF($B$1:B2862,TRUE)=COUNTIF($B$1:B2861,TRUE),\"\",COUNTIF($B$1:B2862,TRUE))","v":1718},{"$f":"IF(Worksheet!$D$10=2,FALSE,Worksheet!$B$15)","v":true},{"$f":"100*F2862","v":6500},"cm","=",{"$f":"IF(Worksheet!$D$6=1,RANDBETWEEN(1,99),IF(Worksheet!$D$6=2,CHOOSE(RANDBETWEEN(1,2),RANDBETWEEN(1,99),RANDBETWEEN(1,999)/10),CHOOSE(RANDBETWEEN(1,4),RANDBETWEEN(1,99999)/1000,RANDBETWEEN(1,9999)/100,RANDBETWEEN(1,999)/10,RANDBETWEEN(1,99))))","v":65},"m"]
[{"$f":"IF(COUNTIF($B$1:B2863,TRUE)=COUNTIF($B$1:B2862,TRUE),\"\",COUNTIF($B$1:B2863,TRUE))","v":1719},{"$f":"IF(Worksheet!$D$10=2,FALSE,Worksheet!$B$16)","v":true},{"$f":"1000*F2863","v":71000},"m","=",{"$f":"IF(Worksheet!$D$6=1,RANDBETWEEN(1,99),IF(Worksheet!$D$6=2,CHOOSE(RANDBETWEEN(1,2),RANDBETWEEN(1,99),RANDBETWEEN(1,999)/10),CHOOSE(RANDBETWEEN(1,4),RANDBETWEEN(1,99999)/1000,RANDBETWEEN(1,9999)/100,RANDBETWEEN(1,999)/10,RANDBETWEEN(1,99))))","v":71},"km"]
[{"$f":"IF(COUNTIF($B$1:B2864,TRUE)=COUNTIF($B$1:B2863,TRUE),\"\",COUNTIF($B$1:B2864,TRUE))","v":""},{"$f":"IF(Worksheet!$D$10=2,FALSE,Worksheet!$B$17)","v":false},{"$f":"1000*F2864","v":33000},"mm","=",{"$f":"IF(Worksheet!$D$6=1,RANDBETWEEN(1,99),IF(Worksheet!$D$6=2,CHOOSE(RANDBETWEEN(1,2),RANDBETWEEN(1,99),RANDBETWEEN(1,999)/10),CHOOSE(RANDBETWEEN(1,4),RANDBETWEEN(1,99999)/1000,RANDBETWEEN(1,9999)/100,RANDBETWEEN(1,999)/10,RANDBETWEEN(1,99))))","v":33},"m"]
[{"$f":"IF(COUNTIF($B$1:B2865,TRUE)=COUNTIF($B$1:B2864,TRUE),\"\",COUNTIF($B$1:B2865,TRUE))","v":""},{"$f":"IF(Worksheet!$D$10=2,FALSE,Worksheet!$B$18)","v":false},{"$f":"100*F2865","v":2600},"mm²","=",{"$f":"IF(Worksheet!$D$6=1,RANDBETWEEN(1,99),IF(Worksheet!$D$6=2,CHOOSE(RANDBETWEEN(1,2),RANDBETWEEN(1,99),RANDBETWEEN(1,999)/10),CHOOSE(RANDBETWEEN(1,4),RANDBETWEEN(1,99999)/1000,RANDBETWEEN(1,9999)/100,RANDBETWEEN(1,999)/10,RANDBETWEEN(1,99))))","v":26},"cm²"]
[{"$f":"IF(COUNTIF($B$1:B2866,TRUE)=COUNTIF($B$1:B2865,TRUE),\"\",COUNTIF($B$1:B2866,TRUE))","v":1720},{"$f":"IF(Worksheet!$D$10=2,FALSE,Worksheet!$D$14)","v":true},{"$f":"F2866*1000","v":6000},"g","=",{"$f":"IF(Worksheet!$D$6=1,RANDBETWEEN(1,99),IF(Worksheet!$D$6=2,CHOOSE(RANDBETWEEN(1,2),RANDBETWEEN(1,99),RANDBETWEEN(1,999)/10),CHOOSE(RANDBETWEEN(1,4),RANDBETWEEN(1,99999)/1000,RANDBETWEEN(1,9999)/100,RANDBETWEEN(1,999)/10,RANDBETWEEN(1,99))))","v":6},"kg"]
[{"$f":"IF(COUNTIF($B$1:B2867,TRUE)=COUNTIF($B$1:B2866,TRUE),\"\",COUNTIF($B$1:B2867,TRUE))","v":1721},{"$f":"IF(Worksheet!$D$10=2,FALSE,Worksheet!$D$15)","v":true},{"$f":"F2867*1000","v":74000},"kg","=",{"$f":"IF(Worksheet!$D$6=1,RANDBETWEEN(1,99),IF(Worksheet!$D$6=2,CHOOSE(RANDBETWEEN(1,2),RANDBETWEEN(1,99),RANDBETWEEN(1,999)/10),CHOOSE(RANDBETWEEN(1,4),RANDBETWEEN(1,99999)/1000,RANDBETWEEN(1,9999)/100,RANDBETWEEN(1,999)/10,RANDBETWEEN(1,99))))","v":74},"tonnes"]
[{"$f":"IF(COUNTIF($B$1:B2868,TRUE)=COUNTIF($B$1:B2867,TRUE),\"\",COUNTIF($B$1:B2868,TRUE))","v":1722},{"$f":"IF(Worksheet!$D$10=2,FALSE,Worksheet!$D$16)","v":true},{"$f":"1000*F2868","v":33000},"ml","=",{"$f":"IF(Worksheet!$D$6=1,RANDBETWEEN(1,99),IF(Worksheet!$D$6=2,CHOOSE(RANDBETWEEN(1,2),RANDBETWEEN(1,99),RANDBETWEEN(1,999)/10),CHOOSE(RANDBETWEEN(1,4),RANDBETWEEN(1,99999)/1000,RANDBETWEEN(1,9999)/100,RANDBETWEEN(1,999)/10,RANDBETWEEN(1,99))))","v":33},"litres"]
[{"$f":"IF(COUNTIF($B$1:B2869,TRUE)=COUNTIF($B$1:B2868,TRUE),\"\",COUNTIF($B$1:B2869,TRUE))","v":""},{"$f":"IF(Worksheet!$D$10=2,FALSE,Worksheet!$D$17)","v":false},{"$f":"1000*F2869","v":84000},"cm³","=",{"$f":"IF(Worksheet!$D$6=1,RANDBETWEEN(1,99),IF(Worksheet!$D$6=2,CHOOSE(RANDBETWEEN(1,2),RANDBETWEEN(1,99),RANDBETWEEN(1,999)/10),CHOOSE(RANDBETWEEN(1,4),RANDBETWEEN(1,99999)/1000,RANDBETWEEN(1,9999)/100,RANDBETWEEN(1,999)/10,RANDBETWEEN(1,99))))","v":84},"litres"]
[{"$f":"IF(COUNTIF($B$1:B2870,TRUE)=COUNTIF($B$1:B2869,TRUE),\"\",COUNTIF($B$1:B2870,TRUE))","v":""},{"$f":"IF(Worksheet!$D$10=2,FALSE,Worksheet!$D$18)","v":false},{"$f":"10000*F2870","v":210000},"cm²","=",{"$f":"IF(Worksheet!$D$6=1,RANDBETWEEN(1,99),IF(Worksheet!$D$6=2,CHOOSE(RANDBETWEEN(1,2),RANDBETWEEN(1,99),RANDBETWEEN(1,999)/10),CHOOSE(RANDBETWEEN(1,4),RANDBETWEEN(1,99999)/1000,RANDBETWEEN(1,9999)/100,RANDBETWEEN(1,999)/10,RANDBETWEEN(1,99))))","v":21},"m²"]
[{"$f":"IF(COUNTIF($B$1:B2871,TRUE)=COUNTIF($B$1:B2870,TRUE),\"\",COUNTIF($B$1:B2871,TRUE))","v":1723},{"$f":"IF(Worksheet!$D$10=3,FALSE,Worksheet!$B$14)","v":true},{"$f":"IF(Worksheet!$D$6=1,RANDBETWEEN(1,99),IF(Worksheet!$D$6=2,CHOOSE(RANDBETWEEN(1,2),RANDBETWEEN(1,99),RANDBETWEEN(1,999)/10),CHOOSE(RANDBETWEEN(1,4),RANDBETWEEN(1,99999)/1000,RANDBETWEEN(1,9999)/100,RANDBETWEEN(1,999)/10,RANDBETWEEN(1,99))))","v":99},"cm","=",{"$f":"10*C2871","v":990},"mm"]
[{"$f":"IF(COUNTIF($B$1:B2872,TRUE)=COUNTIF($B$1:B2871,TRUE),\"\",COUNTIF($B$1:B2872,TRUE))","v":1724},{"$f":"IF(Worksheet!$D$10=3,FALSE,Worksheet!$B$15)","v":true},{"$f":"IF(Worksheet!$D$6=1,RANDBETWEEN(1,99),IF(Worksheet!$D$6=2,CHOOSE(RANDBETWEEN(1,2),RANDBETWEEN(1,99),RANDBETWEEN(1,999)/10),CHOOSE(RANDBETWEEN(1,4),RANDBETWEEN(1,99999)/1000,RANDBETWEEN(1,9999)/100,RANDBETWEEN(1,999)/10,RANDBETWEEN(1,99))))","v":7},"m","=",{"$f":"100*C2872","v":700},"cm"]
[{"$f":"IF(COUNTIF($B$1:B2873,TRUE)=COUNTIF($B$1:B2872,TRUE),\"\",COUNTIF($B$1:B2873,TRUE))","v":1725},{"$f":"IF(Worksheet!$D$10=3,FALSE,Worksheet!$B$16)","v":true},{"$f":"IF(Worksheet!$D$6=1,RANDBETWEEN(1,99),IF(Worksheet!$D$6=2,CHOOSE(RANDBETWEEN(1,2),RANDBETWEEN(1,99),RANDBETWEEN(1,999)/10),CHOOSE(RANDBETWEEN(1,4),RANDBETWEEN(1,99999)/1000,RANDBETWEEN(1,9999)/100,RANDBETWEEN(1,999)/10,RANDBETWEEN(1,99))))","v":82},"km","=",{"$f":"1000*C2873","v":82000},"m"]
[{"$f":"IF(COUNTIF($B$1:B2874,TRUE)=COUNTIF($B$1:B2873,TRUE),\"\",COUNTIF($B$1:B2874,TRUE))","v":""},{"$f":"IF(Worksheet!$D$10=3,FALSE,Worksheet!$B$17)","v":false},{"$f":"IF(Worksheet!$D$6=1,RANDBETWEEN(1,99),IF(Worksheet!$D$6=2,CHOOSE(RANDBETWEEN(1,2),RANDBETWEEN(1,99),RANDBETWEEN(1,999)/10),CHOOSE(RANDBETWEEN(1,4),RANDBETWEEN(1,99999)/1000,RANDBETWEEN(1,9999)/100,RANDBETWEEN(1,999)/10,RANDBETWEEN(1,99))))","v":83},"m",{"$f":"#REF!","v":{"$error":"#REF!"}},{"$f":"1000*C2874","v":83000},"mm"]
[{"$f":"IF(COUNTIF($B$1:B2875,TRUE)=COUNTIF($B$1:B2874,TRUE),\"\",COUNTIF($B$1:B2875,TRUE))","v":""},{"$f":"IF(Worksheet!$D$10=3,FALSE,Worksheet!$B$18)","v":false},{"$f":"IF(Worksheet!$D$6=1,RANDBETWEEN(1,99),IF(Worksheet!$D$6=2,CHOOSE(RANDBETWEEN(1,2),RANDBETWEEN(1,99),RANDBETWEEN(1,999)/10),CHOOSE(RANDBETWEEN(1,4),RANDBETWEEN(1,99999)/1000,RANDBETWEEN(1,9999)/100,RANDBETWEEN(1,999)/10,RANDBETWEEN(1,99))))","v":28},"cm²","=",{"$f":"C2875*100","v":2800},"mm²"]
[{"$f":"IF(COUNTIF($B$1:B2876,TRUE)=COUNTIF($B$1:B2875,TRUE),\"\",COUNTIF($B$1:B2876,TRUE))","v":1726},{"$f":"IF(Worksheet!$D$10=3,FALSE,Worksheet!$D$14)","v":true},{"$f":"IF(Worksheet!$D$6=1,RANDBETWEEN(1,99),IF(Worksheet!$D$6=2,CHOOSE(RANDBETWEEN(1,2),RANDBETWEEN(1,99),RANDBETWEEN(1,999)/10),CHOOSE(RANDBETWEEN(1,4),RANDBETWEEN(1,99999)/1000,RANDBETWEEN(1,9999)/100,RANDBETWEEN(1,999)/10,RANDBETWEEN(1,99))))","v":99},"kg","=",{"$f":"1000*C2876","v":99000},"g"]
[{"$f":"IF(COUNTIF($B$1:B2877,TRUE)=COUNTIF($B$1:B2876,TRUE),\"\",COUNTIF($B$1:B2877,TRUE))","v":1727},{"$f":"IF(Worksheet!$D$10=3,FALSE,Worksheet!$D$15)","v":true},{"$f":"IF(Worksheet!$D$6=1,RANDBETWEEN(1,99),IF(Worksheet!$D$6=2,CHOOSE(RANDBETWEEN(1,2),RANDBETWEEN(1,99),RANDBETWEEN(1,999)/10),CHOOSE(RANDBETWEEN(1,4),RANDBETWEEN(1,99999)/1000,RANDBETWEEN(1,9999)/100,RANDBETWEEN(1,999)/10,RANDBETWEEN(1,99))))","v":59},"tonnes","=",{"$f":"1000*C2877","v":59000},"kg"]
[{"$f":"IF(COUNTIF($B$1:B2878,TRUE)=COUNTIF($B$1:B2877,TRUE),\"\",COUNTIF($B$1:B2878,TRUE))","v":1728},{"$f":"IF(Worksheet!$D$10=3,FALSE,Worksheet!$D$16)","v":true},{"$f":"IF(Worksheet!$D$6=1,RANDBETWEEN(1,99),IF(Worksheet!$D$6=2,CHOOSE(RANDBETWEEN(1,2),RANDBETWEEN(1,99),RANDBETWEEN(1,999)/10),CHOOSE(RANDBETWEEN(1,4),RANDBETWEEN(1,99999)/1000,RANDBETWEEN(1,9999)/100,RANDBETWEEN(1,999)/10,RANDBETWEEN(1,99))))","v":62},"litres","=",{"$f":"1000*C2878","v":62000},"ml"]
[{"$f":"IF(COUNTIF($B$1:B2879,TRUE)=COUNTIF($B$1:B2878,TRUE),\"\",COUNTIF($B$1:B2879,TRUE))","v":""},{"$f":"IF(Worksheet!$D$10=3,FALSE,Worksheet!$D$17)","v":false},{"$f":"IF(Worksheet!$D$6=1,RANDBETWEEN(1,99),IF(Worksheet!$D$6=2,CHOOSE(RANDBETWEEN(1,2),RANDBETWEEN(1,99),RANDBETWEEN(1,999)/10),CHOOSE(RANDBETWEEN(1,4),RANDBETWEEN(1,99999)/1000,RANDBETWEEN(1,9999)/100,RANDBETWEEN(1,999)/10,RANDBETWEEN(1,99))))","v":86},"litres","=",{"$f":"1000*C2879","v":86000},"cm³"]
[{"$f":"IF(COUNTIF($B$1:B2880,TRUE)=COUNTIF($B$1:B2879,TRUE),\"\",COUNTIF($B$1:B2880,TRUE))","v":""},{"$f":"IF(Worksheet!$D$10=3,FALSE,Worksheet!$D$18)","v":false},{"$f":"IF(Worksheet!$D$6=1,RANDBETWEEN(1,99),IF(Worksheet!$D$6=2,CHOOSE(RANDBETWEEN(1,2),RANDBETWEEN(1,99),RANDBETWEEN(1,999)/10),CHOOSE(RANDBETWEEN(1,4),RANDBETWEEN(1,99999)/1000,RANDBETWEEN(1,9999)/100,RANDBETWEEN(1,999)/10,RANDBETWEEN(1,99))))","v":96},"m²","=",{"$f":"10000*C2880","v":960000},"cm²"]
[{"$f":"IF(COUNTIF($B$1:B2881,TRUE)=COUNTIF($B$1:B2880,TRUE),\"\",COUNTIF($B$1:B2881,TRUE))","v":1729},{"$f":"IF(Worksheet!$D$10=2,FALSE,Worksheet!$B$14)","v":true},{"$f":"10*F2881","v":880},"mm","=",{"$f":"IF(Worksheet!$D$6=1,RANDBETWEEN(1,99),IF(Worksheet!$D$6=2,CHOOSE(RANDBETWEEN(1,2),RANDBETWEEN(1,99),RANDBETWEEN(1,999)/10),CHOOSE(RANDBETWEEN(1,4),RANDBETWEEN(1,99999)/1000,RANDBETWEEN(1,9999)/100,RANDBETWEEN(1,999)/10,RANDBETWEEN(1,99))))","v":88},"cm"]
[{"$f":"IF(COUNTIF($B$1:B2882,TRUE)=COUNTIF($B$1:B2881,TRUE),\"\",COUNTIF($B$1:B2882,TRUE))","v":1730},{"$f":"IF(Worksheet!$D$10=2,FALSE,Worksheet!$B$15)","v":true},{"$f":"100*F2882","v":700},"cm","=",{"$f":"IF(Worksheet!$D$6=1,RANDBETWEEN(1,99),IF(Worksheet!$D$6=2,CHOOSE(RANDBETWEEN(1,2),RANDBETWEEN(1,99),RANDBETWEEN(1,999)/10),CHOOSE(RANDBETWEEN(1,4),RANDBETWEEN(1,99999)/1000,RANDBETWEEN(1,9999)/100,RANDBETWEEN(1,999)/10,RANDBETWEEN(1,99))))","v":7},"m"]
[{"$f":"IF(COUNTIF($B$1:B2883,TRUE)=COUNTIF($B$1:B2882,TRUE),\"\",COUNTIF($B$1:B2883,TRUE))","v":1731},{"$f":"IF(Worksheet!$D$10=2,FALSE,Worksheet!$B$16)","v":true},{"$f":"1000*F2883","v":31000},"m","=",{"$f":"IF(Worksheet!$D$6=1,RANDBETWEEN(1,99),IF(Worksheet!$D$6=2,CHOOSE(RANDBETWEEN(1,2),RANDBETWEEN(1,99),RANDBETWEEN(1,999)/10),CHOOSE(RANDBETWEEN(1,4),RANDBETWEEN(1,99999)/1000,RANDBETWEEN(1,9999)/100,RANDBETWEEN(1,999)/10,RANDBETWEEN(1,99))))","v":31},"km"]
[{"$f":"IF(COUNTIF($B$1:B2884,TRUE)=COUNTIF($B$1:B2883,TRUE),\"\",COUNTIF($B$1:B2884,TRUE))","v":""},{"$f":"IF(Worksheet!$D$10=2,FALSE,Worksheet!$B$17)","v":false},{"$f":"1000*F2884","v":55000},"mm","=",{"$f":"IF(Worksheet!$D$6=1,RANDBETWEEN(1,99),IF(Worksheet!$D$6=2,CHOOSE(RANDBETWEEN(1,2),RANDBETWEEN(1,99),RANDBETWEEN(1,999)/10),CHOOSE(RANDBETWEEN(1,4),RANDBETWEEN(1,99999)/1000,RANDBETWEEN(1,9999)/100,RANDBETWEEN(1,999)/10,RANDBETWEEN(1,99))))","v":55},"m"]
[{"$f":"IF(COUNTIF($B$1:B2885,TRUE)=COUNTIF($B$1:B2884,TRUE),\"\",COUNTIF($B$1:B2885,TRUE))","v":""},{"$f":"IF(Worksheet!$D$10=2,FALSE,Worksheet!$B$18)","v":false},{"$f":"100*F2885","v":2300},"mm²","=",{"$f":"IF(Worksheet!$D$6=1,RANDBETWEEN(1,99),IF(Worksheet!$D$6=2,CHOOSE(RANDBETWEEN(1,2),RANDBETWEEN(1,99),RANDBETWEEN(1,999)/10),CHOOSE(RANDBETWEEN(1,4),RANDBETWEEN(1,99999)/1000,RANDBETWEEN(1,9999)/100,RANDBETWEEN(1,999)/10,RANDBETWEEN(1,99))))","v":23},"cm²"]
[{"$f":"IF(COUNTIF($B$1:B2886,TRUE)=COUNTIF($B$1:B2885,TRUE),\"\",COUNTIF($B$1:B2886,TRUE))","v":1732},{"$f":"IF(Worksheet!$D$10=2,FALSE,Worksheet!$D$14)","v":true},{"$f":"F2886*1000","v":65000},"g","=",{"$f":"IF(Worksheet!$D$6=1,RANDBETWEEN(1,99),IF(Worksheet!$D$6=2,CHOOSE(RANDBETWEEN(1,2),RANDBETWEEN(1,99),RANDBETWEEN(1,999)/10),CHOOSE(RANDBETWEEN(1,4),RANDBETWEEN(1,99999)/1000,RANDBETWEEN(1,9999)/100,RANDBETWEEN(1,999)/10,RANDBETWEEN(1,99))))","v":65},"kg"]
[{"$f":"IF(COUNTIF($B$1:B2887,TRUE)=COUNTIF($B$1:B2886,TRUE),\"\",COUNTIF($B$1:B2887,TRUE))","v":1733},{"$f":"IF(Worksheet!$D$10=2,FALSE,Worksheet!$D$15)","v":true},{"$f":"F2887*1000","v":11000},"kg","=",{"$f":"IF(Worksheet!$D$6=1,RANDBETWEEN(1,99),IF(Worksheet!$D$6=2,CHOOSE(RANDBETWEEN(1,2),RANDBETWEEN(1,99),RANDBETWEEN(1,999)/10),CHOOSE(RANDBETWEEN(1,4),RANDBETWEEN(1,99999)/1000,RANDBETWEEN(1,9999)/100,RANDBETWEEN(1,999)/10,RANDBETWEEN(1,99))))","v":11},"tonnes"]
[{"$f":"IF(COUNTIF($B$1:B2888,TRUE)=COUNTIF($B$1:B2887,TRUE),\"\",COUNTIF($B$1:B2888,TRUE))","v":1734},{"$f":"IF(Worksheet!$D$10=2,FALSE,Worksheet!$D$16)","v":true},{"$f":"1000*F2888","v":34000},"ml","=",{"$f":"IF(Worksheet!$D$6=1,RANDBETWEEN(1,99),IF(Worksheet!$D$6=2,CHOOSE(RANDBETWEEN(1,2),RANDBETWEEN(1,99),RANDBETWEEN(1,999)/10),CHOOSE(RANDBETWEEN(1,4),RANDBETWEEN(1,99999)/1000,RANDBETWEEN(1,9999)/100,RANDBETWEEN(1,999)/10,RANDBETWEEN(1,99))))","v":34},"litres"]
[{"$f":"IF(COUNTIF($B$1:B2889,TRUE)=COUNTIF($B$1:B2888,TRUE),\"\",COUNTIF($B$1:B2889,TRUE))","v":""},{"$f":"IF(Worksheet!$D$10=2,FALSE,Worksheet!$D$17)","v":false},{"$f":"1000*F2889","v":47000},"cm³","=",{"$f":"IF(Worksheet!$D$6=1,RANDBETWEEN(1,99),IF(Worksheet!$D$6=2,CHOOSE(RANDBETWEEN(1,2),RANDBETWEEN(1,99),RANDBETWEEN(1,999)/10),CHOOSE(RANDBETWEEN(1,4),RANDBETWEEN(1,99999)/1000,RANDBETWEEN(1,9999)/100,RANDBETWEEN(1,999)/10,RANDBETWEEN(1,99))))","v":47},"litres"]
[{"$f":"IF(COUNTIF($B$1:B2890,TRUE)=COUNTIF($B$1:B2889,TRUE),\"\",COUNTIF($B$1:B2890,TRUE))","v":""},{"$f":"IF(Worksheet!$D$10=2,FALSE,Worksheet!$D$18)","v":false},{"$f":"10000*F2890","v":460000},"cm²","=",{"$f":"IF(Worksheet!$D$6=1,RANDBETWEEN(1,99),IF(Worksheet!$D$6=2,CHOOSE(RANDBETWEEN(1,2),RANDBETWEEN(1,99),RANDBETWEEN(1,999)/10),CHOOSE(RANDBETWEEN(1,4),RANDBETWEEN(1,99999)/1000,RANDBETWEEN(1,9999)/100,RANDBETWEEN(1,999)/10,RANDBETWEEN(1,99))))","v":46},"m²"]
[{"$f":"IF(COUNTIF($B$1:B2891,TRUE)=COUNTIF($B$1:B2890,TRUE),\"\",COUNTIF($B$1:B2891,TRUE))","v":1735},{"$f":"IF(Worksheet!$D$10=3,FALSE,Worksheet!$B$14)","v":true},{"$f":"IF(Worksheet!$D$6=1,RANDBETWEEN(1,99),IF(Worksheet!$D$6=2,CHOOSE(RANDBETWEEN(1,2),RANDBETWEEN(1,99),RANDBETWEEN(1,999)/10),CHOOSE(RANDBETWEEN(1,4),RANDBETWEEN(1,99999)/1000,RANDBETWEEN(1,9999)/100,RANDBETWEEN(1,999)/10,RANDBETWEEN(1,99))))","v":59},"cm","=",{"$f":"10*C2891","v":590},"mm"]
[{"$f":"IF(COUNTIF($B$1:B2892,TRUE)=COUNTIF($B$1:B2891,TRUE),\"\",COUNTIF($B$1:B2892,TRUE))","v":1736},{"$f":"IF(Worksheet!$D$10=3,FALSE,Worksheet!$B$15)","v":true},{"$f":"IF(Worksheet!$D$6=1,RANDBETWEEN(1,99),IF(Worksheet!$D$6=2,CHOOSE(RANDBETWEEN(1,2),RANDBETWEEN(1,99),RANDBETWEEN(1,999)/10),CHOOSE(RANDBETWEEN(1,4),RANDBETWEEN(1,99999)/1000,RANDBETWEEN(1,9999)/100,RANDBETWEEN(1,999)/10,RANDBETWEEN(1,99))))","v":60},"m","=",{"$f":"100*C2892","v":6000},"cm"]
[{"$f":"IF(COUNTIF($B$1:B2893,TRUE)=COUNTIF($B$1:B2892,TRUE),\"\",COUNTIF($B$1:B2893,TRUE))","v":1737},{"$f":"IF(Worksheet!$D$10=3,FALSE,Worksheet!$B$16)","v":true},{"$f":"IF(Worksheet!$D$6=1,RANDBETWEEN(1,99),IF(Worksheet!$D$6=2,CHOOSE(RANDBETWEEN(1,2),RANDBETWEEN(1,99),RANDBETWEEN(1,999)/10),CHOOSE(RANDBETWEEN(1,4),RANDBETWEEN(1,99999)/1000,RANDBETWEEN(1,9999)/100,RANDBETWEEN(1,999)/10,RANDBETWEEN(1,99))))","v":72},"km","=",{"$f":"1000*C2893","v":72000},"m"]
[{"$f":"IF(COUNTIF($B$1:B2894,TRUE)=COUNTIF($B$1:B2893,TRUE),\"\",COUNTIF($B$1:B2894,TRUE))","v":""},{"$f":"IF(Worksheet!$D$10=3,FALSE,Worksheet!$B$17)","v":false},{"$f":"IF(Worksheet!$D$6=1,RANDBETWEEN(1,99),IF(Worksheet!$D$6=2,CHOOSE(RANDBETWEEN(1,2),RANDBETWEEN(1,99),RANDBETWEEN(1,999)/10),CHOOSE(RANDBETWEEN(1,4),RANDBETWEEN(1,99999)/1000,RANDBETWEEN(1,9999)/100,RANDBETWEEN(1,999)/10,RANDBETWEEN(1,99))))","v":13},"m",{"$f":"#REF!","v":{"$error":"#REF!"}},{"$f":"1000*C2894","v":13000},"mm"]
[{"$f":"IF(COUNTIF($B$1:B2895,TRUE)=COUNTIF($B$1:B2894,TRUE),\"\",COUNTIF($B$1:B2895,TRUE))","v":""},{"$f":"IF(Worksheet!$D$10=3,FALSE,Worksheet!$B$18)","v":false},{"$f":"IF(Worksheet!$D$6=1,RANDBETWEEN(1,99),IF(Worksheet!$D$6=2,CHOOSE(RANDBETWEEN(1,2),RANDBETWEEN(1,99),RANDBETWEEN(1,999)/10),CHOOSE(RANDBETWEEN(1,4),RANDBETWEEN(1,99999)/1000,RANDBETWEEN(1,9999)/100,RANDBETWEEN(1,999)/10,RANDBETWEEN(1,99))))","v":67},"cm²","=",{"$f":"C2895*100","v":6700},"mm²"]
[{"$f":"IF(COUNTIF($B$1:B2896,TRUE)=COUNTIF($B$1:B2895,TRUE),\"\",COUNTIF($B$1:B2896,TRUE))","v":1738},{"$f":"IF(Worksheet!$D$10=3,FALSE,Worksheet!$D$14)","v":true},{"$f":"IF(Worksheet!$D$6=1,RANDBETWEEN(1,99),IF(Worksheet!$D$6=2,CHOOSE(RANDBETWEEN(1,2),RANDBETWEEN(1,99),RANDBETWEEN(1,999)/10),CHOOSE(RANDBETWEEN(1,4),RANDBETWEEN(1,99999)/1000,RANDBETWEEN(1,9999)/100,RANDBETWEEN(1,999)/10,RANDBETWEEN(1,99))))","v":19},"kg","=",{"$f":"1000*C2896","v":19000},"g"]
[{"$f":"IF(COUNTIF($B$1:B2897,TRUE)=COUNTIF($B$1:B2896,TRUE),\"\",COUNTIF($B$1:B2897,TRUE))","v":1739},{"$f":"IF(Worksheet!$D$10=3,FALSE,Worksheet!$D$15)","v":true},{"$f":"IF(Worksheet!$D$6=1,RANDBETWEEN(1,99),IF(Worksheet!$D$6=2,CHOOSE(RANDBETWEEN(1,2),RANDBETWEEN(1,99),RANDBETWEEN(1,999)/10),CHOOSE(RANDBETWEEN(1,4),RANDBETWEEN(1,99999)/1000,RANDBETWEEN(1,9999)/100,RANDBETWEEN(1,999)/10,RANDBETWEEN(1,99))))","v":6},"tonnes","=",{"$f":"1000*C2897","v":6000},"kg"]
[{"$f":"IF(COUNTIF($B$1:B2898,TRUE)=COUNTIF($B$1:B2897,TRUE),\"\",COUNTIF($B$1:B2898,TRUE))","v":1740},{"$f":"IF(Worksheet!$D$10=3,FALSE,Worksheet!$D$16)","v":true},{"$f":"IF(Worksheet!$D$6=1,RANDBETWEEN(1,99),IF(Worksheet!$D$6=2,CHOOSE(RANDBETWEEN(1,2),RANDBETWEEN(1,99),RANDBETWEEN(1,999)/10),CHOOSE(RANDBETWEEN(1,4),RANDBETWEEN(1,99999)/1000,RANDBETWEEN(1,9999)/100,RANDBETWEEN(1,999)/10,RANDBETWEEN(1,99))))","v":6},"litres","=",{"$f":"1000*C2898","v":6000},"ml"]
[{"$f":"IF(COUNTIF($B$1:B2899,TRUE)=COUNTIF($B$1:B2898,TRUE),\"\",COUNTIF($B$1:B2899,TRUE))","v":""},{"$f":"IF(Worksheet!$D$10=3,FALSE,Worksheet!$D$17)","v":false},{"$f":"IF(Worksheet!$D$6=1,RANDBETWEEN(1,99),IF(Worksheet!$D$6=2,CHOOSE(RANDBETWEEN(1,2),RANDBETWEEN(1,99),RANDBETWEEN(1,999)/10),CHOOSE(RANDBETWEEN(1,4),RANDBETWEEN(1,99999)/1000,RANDBETWEEN(1,9999)/100,RANDBETWEEN(1,999)/10,RANDBETWEEN(1,99))))","v":29},"litres","=",{"$f":"1000*C2899","v":29000},"cm³"]
[{"$f":"IF(COUNTIF($B$1:B2900,TRUE)=COUNTIF($B$1:B2899,TRUE),\"\",COUNTIF($B$1:B2900,TRUE))","v":""},{"$f":"IF(Worksheet!$D$10=3,FALSE,Worksheet!$D$18)","v":false},{"$f":"IF(Worksheet!$D$6=1,RANDBETWEEN(1,99),IF(Worksheet!$D$6=2,CHOOSE(RANDBETWEEN(1,2),RANDBETWEEN(1,99),RANDBETWEEN(1,999)/10),CHOOSE(RANDBETWEEN(1,4),RANDBETWEEN(1,99999)/1000,RANDBETWEEN(1,9999)/100,RANDBETWEEN(1,999)/10,RANDBETWEEN(1,99))))","v":78},"m²","=",{"$f":"10000*C2900","v":780000},"cm²"]
[{"$f":"IF(COUNTIF($B$1:B2901,TRUE)=COUNTIF($B$1:B2900,TRUE),\"\",COUNTIF($B$1:B2901,TRUE))","v":1741},{"$f":"IF(Worksheet!$D$10=2,FALSE,Worksheet!$B$14)","v":true},{"$f":"10*F2901","v":520},"mm","=",{"$f":"IF(Worksheet!$D$6=1,RANDBETWEEN(1,99),IF(Worksheet!$D$6=2,CHOOSE(RANDBETWEEN(1,2),RANDBETWEEN(1,99),RANDBETWEEN(1,999)/10),CHOOSE(RANDBETWEEN(1,4),RANDBETWEEN(1,99999)/1000,RANDBETWEEN(1,9999)/100,RANDBETWEEN(1,999)/10,RANDBETWEEN(1,99))))","v":52},"cm"]
[{"$f":"IF(COUNTIF($B$1:B2902,TRUE)=COUNTIF($B$1:B2901,TRUE),\"\",COUNTIF($B$1:B2902,TRUE))","v":1742},{"$f":"IF(Worksheet!$D$10=2,FALSE,Worksheet!$B$15)","v":true},{"$f":"100*F2902","v":100},"cm","=",{"$f":"IF(Worksheet!$D$6=1,RANDBETWEEN(1,99),IF(Worksheet!$D$6=2,CHOOSE(RANDBETWEEN(1,2),RANDBETWEEN(1,99),RANDBETWEEN(1,999)/10),CHOOSE(RANDBETWEEN(1,4),RANDBETWEEN(1,99999)/1000,RANDBETWEEN(1,9999)/100,RANDBETWEEN(1,999)/10,RANDBETWEEN(1,99))))","v":1},"m"]
[{"$f":"IF(COUNTIF($B$1:B2903,TRUE)=COUNTIF($B$1:B2902,TRUE),\"\",COUNTIF($B$1:B2903,TRUE))","v":1743},{"$f":"IF(Worksheet!$D$10=2,FALSE,Worksheet!$B$16)","v":true},{"$f":"1000*F2903","v":54000},"m","=",{"$f":"IF(Worksheet!$D$6=1,RANDBETWEEN(1,99),IF(Worksheet!$D$6=2,CHOOSE(RANDBETWEEN(1,2),RANDBETWEEN(1,99),RANDBETWEEN(1,999)/10),CHOOSE(RANDBETWEEN(1,4),RANDBETWEEN(1,99999)/1000,RANDBETWEEN(1,9999)/100,RANDBETWEEN(1,999)/10,RANDBETWEEN(1,99))))","v":54},"km"]
[{"$f":"IF(COUNTIF($B$1:B2904,TRUE)=COUNTIF($B$1:B2903,TRUE),\"\",COUNTIF($B$1:B2904,TRUE))","v":""},{"$f":"IF(Worksheet!$D$10=2,FALSE,Worksheet!$B$17)","v":false},{"$f":"1000*F2904","v":26000},"mm","=",{"$f":"IF(Worksheet!$D$6=1,RANDBETWEEN(1,99),IF(Worksheet!$D$6=2,CHOOSE(RANDBETWEEN(1,2),RANDBETWEEN(1,99),RANDBETWEEN(1,999)/10),CHOOSE(RANDBETWEEN(1,4),RANDBETWEEN(1,99999)/1000,RANDBETWEEN(1,9999)/100,RANDBETWEEN(1,999)/10,RANDBETWEEN(1,99))))","v":26},"m"]
[{"$f":"IF(COUNTIF($B$1:B2905,TRUE)=COUNTIF($B$1:B2904,TRUE),\"\",COUNTIF($B$1:B2905,TRUE))","v":""},{"$f":"IF(Worksheet!$D$10=2,FALSE,Worksheet!$B$18)","v":false},{"$f":"100*F2905","v":1800},"mm²","=",{"$f":"IF(Worksheet!$D$6=1,RANDBETWEEN(1,99),IF(Worksheet!$D$6=2,CHOOSE(RANDBETWEEN(1,2),RANDBETWEEN(1,99),RANDBETWEEN(1,999)/10),CHOOSE(RANDBETWEEN(1,4),RANDBETWEEN(1,99999)/1000,RANDBETWEEN(1,9999)/100,RANDBETWEEN(1,999)/10,RANDBETWEEN(1,99))))","v":18},"cm²"]
[{"$f":"IF(COUNTIF($B$1:B2906,TRUE)=COUNTIF($B$1:B2905,TRUE),\"\",COUNTIF($B$1:B2906,TRUE))","v":1744},{"$f":"IF(Worksheet!$D$10=2,FALSE,Worksheet!$D$14)","v":true},{"$f":"F2906*1000","v":92000},"g","=",{"$f":"IF(Worksheet!$D$6=1,RANDBETWEEN(1,99),IF(Worksheet!$D$6=2,CHOOSE(RANDBETWEEN(1,2),RANDBETWEEN(1,99),RANDBETWEEN(1,999)/10),CHOOSE(RANDBETWEEN(1,4),RANDBETWEEN(1,99999)/1000,RANDBETWEEN(1,9999)/100,RANDBETWEEN(1,999)/10,RANDBETWEEN(1,99))))","v":92},"kg"]
[{"$f":"IF(COUNTIF($B$1:B2907,TRUE)=COUNTIF($B$1:B2906,TRUE),\"\",COUNTIF($B$1:B2907,TRUE))","v":1745},{"$f":"IF(Worksheet!$D$10=2,FALSE,Worksheet!$D$15)","v":true},{"$f":"F2907*1000","v":95000},"kg","=",{"$f":"IF(Worksheet!$D$6=1,RANDBETWEEN(1,99),IF(Worksheet!$D$6=2,CHOOSE(RANDBETWEEN(1,2),RANDBETWEEN(1,99),RANDBETWEEN(1,999)/10),CHOOSE(RANDBETWEEN(1,4),RANDBETWEEN(1,99999)/1000,RANDBETWEEN(1,9999)/100,RANDBETWEEN(1,999)/10,RANDBETWEEN(1,99))))","v":95},"tonnes"]
[{"$f":"IF(COUNTIF($B$1:B2908,TRUE)=COUNTIF($B$1:B2907,TRUE),\"\",COUNTIF($B$1:B2908,TRUE))","v":1746},{"$f":"IF(Worksheet!$D$10=2,FALSE,Worksheet!$D$16)","v":true},{"$f":"1000*F2908","v":43000},"ml","=",{"$f":"IF(Worksheet!$D$6=1,RANDBETWEEN(1,99),IF(Worksheet!$D$6=2,CHOOSE(RANDBETWEEN(1,2),RANDBETWEEN(1,99),RANDBETWEEN(1,999)/10),CHOOSE(RANDBETWEEN(1,4),RANDBETWEEN(1,99999)/1000,RANDBETWEEN(1,9999)/100,RANDBETWEEN(1,999)/10,RANDBETWEEN(1,99))))","v":43},"litres"]
[{"$f":"IF(COUNTIF($B$1:B2909,TRUE)=COUNTIF($B$1:B2908,TRUE),\"\",COUNTIF($B$1:B2909,TRUE))","v":""},{"$f":"IF(Worksheet!$D$10=2,FALSE,Worksheet!$D$17)","v":false},{"$f":"1000*F2909","v":40000},"cm³","=",{"$f":"IF(Worksheet!$D$6=1,RANDBETWEEN(1,99),IF(Worksheet!$D$6=2,CHOOSE(RANDBETWEEN(1,2),RANDBETWEEN(1,99),RANDBETWEEN(1,999)/10),CHOOSE(RANDBETWEEN(1,4),RANDBETWEEN(1,99999)/1000,RANDBETWEEN(1,9999)/100,RANDBETWEEN(1,999)/10,RANDBETWEEN(1,99))))","v":40},"litres"]
[{"$f":"IF(COUNTIF($B$1:B2910,TRUE)=COUNTIF($B$1:B2909,TRUE),\"\",COUNTIF($B$1:B2910,TRUE))","v":""},{"$f":"IF(Worksheet!$D$10=2,FALSE,Worksheet!$D$18)","v":false},{"$f":"10000*F2910","v":820000},"cm²","=",{"$f":"IF(Worksheet!$D$6=1,RANDBETWEEN(1,99),IF(Worksheet!$D$6=2,CHOOSE(RANDBETWEEN(1,2),RANDBETWEEN(1,99),RANDBETWEEN(1,999)/10),CHOOSE(RANDBETWEEN(1,4),RANDBETWEEN(1,99999)/1000,RANDBETWEEN(1,9999)/100,RANDBETWEEN(1,999)/10,RANDBETWEEN(1,99))))","v":82},"m²"]
[{"$f":"IF(COUNTIF($B$1:B2911,TRUE)=COUNTIF($B$1:B2910,TRUE),\"\",COUNTIF($B$1:B2911,TRUE))","v":1747},{"$f":"IF(Worksheet!$D$10=3,FALSE,Worksheet!$B$14)","v":true},{"$f":"IF(Worksheet!$D$6=1,RANDBETWEEN(1,99),IF(Worksheet!$D$6=2,CHOOSE(RANDBETWEEN(1,2),RANDBETWEEN(1,99),RANDBETWEEN(1,999)/10),CHOOSE(RANDBETWEEN(1,4),RANDBETWEEN(1,99999)/1000,RANDBETWEEN(1,9999)/100,RANDBETWEEN(1,999)/10,RANDBETWEEN(1,99))))","v":13},"cm","=",{"$f":"10*C2911","v":130},"mm"]
[{"$f":"IF(COUNTIF($B$1:B2912,TRUE)=COUNTIF($B$1:B2911,TRUE),\"\",COUNTIF($B$1:B2912,TRUE))","v":1748},{"$f":"IF(Worksheet!$D$10=3,FALSE,Worksheet!$B$15)","v":true},{"$f":"IF(Worksheet!$D$6=1,RANDBETWEEN(1,99),IF(Worksheet!$D$6=2,CHOOSE(RANDBETWEEN(1,2),RANDBETWEEN(1,99),RANDBETWEEN(1,999)/10),CHOOSE(RANDBETWEEN(1,4),RANDBETWEEN(1,99999)/1000,RANDBETWEEN(1,9999)/100,RANDBETWEEN(1,999)/10,RANDBETWEEN(1,99))))","v":17},"m","=",{"$f":"100*C2912","v":1700},"cm"]
[{"$f":"IF(COUNTIF($B$1:B2913,TRUE)=COUNTIF($B$1:B2912,TRUE),\"\",COUNTIF($B$1:B2913,TRUE))","v":1749},{"$f":"IF(Worksheet!$D$10=3,FALSE,Worksheet!$B$16)","v":true},{"$f":"IF(Worksheet!$D$6=1,RANDBETWEEN(1,99),IF(Worksheet!$D$6=2,CHOOSE(RANDBETWEEN(1,2),RANDBETWEEN(1,99),RANDBETWEEN(1,999)/10),CHOOSE(RANDBETWEEN(1,4),RANDBETWEEN(1,99999)/1000,RANDBETWEEN(1,9999)/100,RANDBETWEEN(1,999)/10,RANDBETWEEN(1,99))))","v":89},"km","=",{"$f":"1000*C2913","v":89000},"m"]
[{"$f":"IF(COUNTIF($B$1:B2914,TRUE)=COUNTIF($B$1:B2913,TRUE),\"\",COUNTIF($B$1:B2914,TRUE))","v":""},{"$f":"IF(Worksheet!$D$10=3,FALSE,Worksheet!$B$17)","v":false},{"$f":"IF(Worksheet!$D$6=1,RANDBETWEEN(1,99),IF(Worksheet!$D$6=2,CHOOSE(RANDBETWEEN(1,2),RANDBETWEEN(1,99),RANDBETWEEN(1,999)/10),CHOOSE(RANDBETWEEN(1,4),RANDBETWEEN(1,99999)/1000,RANDBETWEEN(1,9999)/100,RANDBETWEEN(1,999)/10,RANDBETWEEN(1,99))))","v":6},"m",{"$f":"#REF!","v":{"$error":"#REF!"}},{"$f":"1000*C2914","v":6000},"mm"]
[{"$f":"IF(COUNTIF($B$1:B2915,TRUE)=COUNTIF($B$1:B2914,TRUE),\"\",COUNTIF($B$1:B2915,TRUE))","v":""},{"$f":"IF(Worksheet!$D$10=3,FALSE,Worksheet!$B$18)","v":false},{"$f":"IF(Worksheet!$D$6=1,RANDBETWEEN(1,99),IF(Worksheet!$D$6=2,CHOOSE(RANDBETWEEN(1,2),RANDBETWEEN(1,99),RANDBETWEEN(1,999)/10),CHOOSE(RANDBETWEEN(1,4),RANDBETWEEN(1,99999)/1000,RANDBETWEEN(1,9999)/100,RANDBETWEEN(1,999)/10,RANDBETWEEN(1,99))))","v":1},"cm²","=",{"$f":"C2915*100","v":100},"mm²"]
[{"$f":"IF(COUNTIF($B$1:B2916,TRUE)=COUNTIF($B$1:B2915,TRUE),\"\",COUNTIF($B$1:B2916,TRUE))","v":1750},{"$f":"IF(Worksheet!$D$10=3,FALSE,Worksheet!$D$14)","v":true},{"$f":"IF(Worksheet!$D$6=1,RANDBETWEEN(1,99),IF(Worksheet!$D$6=2,CHOOSE(RANDBETWEEN(1,2),RANDBETWEEN(1,99),RANDBETWEEN(1,999)/10),CHOOSE(RANDBETWEEN(1,4),RANDBETWEEN(1,99999)/1000,RANDBETWEEN(1,9999)/100,RANDBETWEEN(1,999)/10,RANDBETWEEN(1,99))))","v":96},"kg","=",{"$f":"1000*C2916","v":96000},"g"]
[{"$f":"IF(COUNTIF($B$1:B2917,TRUE)=COUNTIF($B$1:B2916,TRUE),\"\",COUNTIF($B$1:B2917,TRUE))","v":1751},{"$f":"IF(Worksheet!$D$10=3,FALSE,Worksheet!$D$15)","v":true},{"$f":"IF(Worksheet!$D$6=1,RANDBETWEEN(1,99),IF(Worksheet!$D$6=2,CHOOSE(RANDBETWEEN(1,2),RANDBETWEEN(1,99),RANDBETWEEN(1,999)/10),CHOOSE(RANDBETWEEN(1,4),RANDBETWEEN(1,99999)/1000,RANDBETWEEN(1,9999)/100,RANDBETWEEN(1,999)/10,RANDBETWEEN(1,99))))","v":58},"tonnes","=",{"$f":"1000*C2917","v":58000},"kg"]
[{"$f":"IF(COUNTIF($B$1:B2918,TRUE)=COUNTIF($B$1:B2917,TRUE),\"\",COUNTIF($B$1:B2918,TRUE))","v":1752},{"$f":"IF(Worksheet!$D$10=3,FALSE,Worksheet!$D$16)","v":true},{"$f":"IF(Worksheet!$D$6=1,RANDBETWEEN(1,99),IF(Worksheet!$D$6=2,CHOOSE(RANDBETWEEN(1,2),RANDBETWEEN(1,99),RANDBETWEEN(1,999)/10),CHOOSE(RANDBETWEEN(1,4),RANDBETWEEN(1,99999)/1000,RANDBETWEEN(1,9999)/100,RANDBETWEEN(1,999)/10,RANDBETWEEN(1,99))))","v":54},"litres","=",{"$f":"1000*C2918","v":54000},"ml"]
[{"$f":"IF(COUNTIF($B$1:B2919,TRUE)=COUNTIF($B$1:B2918,TRUE),\"\",COUNTIF($B$1:B2919,TRUE))","v":""},{"$f":"IF(Worksheet!$D$10=3,FALSE,Worksheet!$D$17)","v":false},{"$f":"IF(Worksheet!$D$6=1,RANDBETWEEN(1,99),IF(Worksheet!$D$6=2,CHOOSE(RANDBETWEEN(1,2),RANDBETWEEN(1,99),RANDBETWEEN(1,999)/10),CHOOSE(RANDBETWEEN(1,4),RANDBETWEEN(1,99999)/1000,RANDBETWEEN(1,9999)/100,RANDBETWEEN(1,999)/10,RANDBETWEEN(1,99))))","v":99},"litres","=",{"$f":"1000*C2919","v":99000},"cm³"]
[{"$f":"IF(COUNTIF($B$1:B2920,TRUE)=COUNTIF($B$1:B2919,TRUE),\"\",COUNTIF($B$1:B2920,TRUE))","v":""},{"$f":"IF(Worksheet!$D$10=3,FALSE,Worksheet!$D$18)","v":false},{"$f":"IF(Worksheet!$D$6=1,RANDBETWEEN(1,99),IF(Worksheet!$D$6=2,CHOOSE(RANDBETWEEN(1,2),RANDBETWEEN(1,99),RANDBETWEEN(1,999)/10),CHOOSE(RANDBETWEEN(1,4),RANDBETWEEN(1,99999)/1000,RANDBETWEEN(1,9999)/100,RANDBETWEEN(1,999)/10,RANDBETWEEN(1,99))))","v":8},"m²","=",{"$f":"10000*C2920","v":80000},"cm²"]
[{"$f":"IF(COUNTIF($B$1:B2921,TRUE)=COUNTIF($B$1:B2920,TRUE),\"\",COUNTIF($B$1:B2921,TRUE))","v":1753},{"$f":"IF(Worksheet!$D$10=2,FALSE,Worksheet!$B$14)","v":true},{"$f":"10*F2921","v":870},"mm","=",{"$f":"IF(Worksheet!$D$6=1,RANDBETWEEN(1,99),IF(Worksheet!$D$6=2,CHOOSE(RANDBETWEEN(1,2),RANDBETWEEN(1,99),RANDBETWEEN(1,999)/10),CHOOSE(RANDBETWEEN(1,4),RANDBETWEEN(1,99999)/1000,RANDBETWEEN(1,9999)/100,RANDBETWEEN(1,999)/10,RANDBETWEEN(1,99))))","v":87},"cm"]
[{"$f":"IF(COUNTIF($B$1:B2922,TRUE)=COUNTIF($B$1:B2921,TRUE),\"\",COUNTIF($B$1:B2922,TRUE))","v":1754},{"$f":"IF(Worksheet!$D$10=2,FALSE,Worksheet!$B$15)","v":true},{"$f":"100*F2922","v":6500},"cm","=",{"$f":"IF(Worksheet!$D$6=1,RANDBETWEEN(1,99),IF(Worksheet!$D$6=2,CHOOSE(RANDBETWEEN(1,2),RANDBETWEEN(1,99),RANDBETWEEN(1,999)/10),CHOOSE(RANDBETWEEN(1,4),RANDBETWEEN(1,99999)/1000,RANDBETWEEN(1,9999)/100,RANDBETWEEN(1,999)/10,RANDBETWEEN(1,99))))","v":65},"m"]
[{"$f":"IF(COUNTIF($B$1:B2923,TRUE)=COUNTIF($B$1:B2922,TRUE),\"\",COUNTIF($B$1:B2923,TRUE))","v":1755},{"$f":"IF(Worksheet!$D$10=2,FALSE,Worksheet!$B$16)","v":true},{"$f":"1000*F2923","v":64000},"m","=",{"$f":"IF(Worksheet!$D$6=1,RANDBETWEEN(1,99),IF(Worksheet!$D$6=2,CHOOSE(RANDBETWEEN(1,2),RANDBETWEEN(1,99),RANDBETWEEN(1,999)/10),CHOOSE(RANDBETWEEN(1,4),RANDBETWEEN(1,99999)/1000,RANDBETWEEN(1,9999)/100,RANDBETWEEN(1,999)/10,RANDBETWEEN(1,99))))","v":64},"km"]
[{"$f":"IF(COUNTIF($B$1:B2924,TRUE)=COUNTIF($B$1:B2923,TRUE),\"\",COUNTIF($B$1:B2924,TRUE))","v":""},{"$f":"IF(Worksheet!$D$10=2,FALSE,Worksheet!$B$17)","v":false},{"$f":"1000*F2924","v":14000},"mm","=",{"$f":"IF(Worksheet!$D$6=1,RANDBETWEEN(1,99),IF(Worksheet!$D$6=2,CHOOSE(RANDBETWEEN(1,2),RANDBETWEEN(1,99),RANDBETWEEN(1,999)/10),CHOOSE(RANDBETWEEN(1,4),RANDBETWEEN(1,99999)/1000,RANDBETWEEN(1,9999)/100,RANDBETWEEN(1,999)/10,RANDBETWEEN(1,99))))","v":14},"m"]
[{"$f":"IF(COUNTIF($B$1:B2925,TRUE)=COUNTIF($B$1:B2924,TRUE),\"\",COUNTIF($B$1:B2925,TRUE))","v":""},{"$f":"IF(Worksheet!$D$10=2,FALSE,Worksheet!$B$18)","v":false},{"$f":"100*F2925","v":3600},"mm²","=",{"$f":"IF(Worksheet!$D$6=1,RANDBETWEEN(1,99),IF(Worksheet!$D$6=2,CHOOSE(RANDBETWEEN(1,2),RANDBETWEEN(1,99),RANDBETWEEN(1,999)/10),CHOOSE(RANDBETWEEN(1,4),RANDBETWEEN(1,99999)/1000,RANDBETWEEN(1,9999)/100,RANDBETWEEN(1,999)/10,RANDBETWEEN(1,99))))","v":36},"cm²"]
[{"$f":"IF(COUNTIF($B$1:B2926,TRUE)=COUNTIF($B$1:B2925,TRUE),\"\",COUNTIF($B$1:B2926,TRUE))","v":1756},{"$f":"IF(Worksheet!$D$10=2,FALSE,Worksheet!$D$14)","v":true},{"$f":"F2926*1000","v":14000},"g","=",{"$f":"IF(Worksheet!$D$6=1,RANDBETWEEN(1,99),IF(Worksheet!$D$6=2,CHOOSE(RANDBETWEEN(1,2),RANDBETWEEN(1,99),RANDBETWEEN(1,999)/10),CHOOSE(RANDBETWEEN(1,4),RANDBETWEEN(1,99999)/1000,RANDBETWEEN(1,9999)/100,RANDBETWEEN(1,999)/10,RANDBETWEEN(1,99))))","v":14},"kg"]
[{"$f":"IF(COUNTIF($B$1:B2927,TRUE)=COUNTIF($B$1:B2926,TRUE),\"\",COUNTIF($B$1:B2927,TRUE))","v":1757},{"$f":"IF(Worksheet!$D$10=2,FALSE,Worksheet!$D$15)","v":true},{"$f":"F2927*1000","v":44000},"kg","=",{"$f":"IF(Worksheet!$D$6=1,RANDBETWEEN(1,99),IF(Worksheet!$D$6=2,CHOOSE(RANDBETWEEN(1,2),RANDBETWEEN(1,99),RANDBETWEEN(1,999)/10),CHOOSE(RANDBETWEEN(1,4),RANDBETWEEN(1,99999)/1000,RANDBETWEEN(1,9999)/100,RANDBETWEEN(1,999)/10,RANDBETWEEN(1,99))))","v":44},"tonnes"]
[{"$f":"IF(COUNTIF($B$1:B2928,TRUE)=COUNTIF($B$1:B2927,TRUE),\"\",COUNTIF($B$1:B2928,TRUE))","v":1758},{"$f":"IF(Worksheet!$D$10=2,FALSE,Worksheet!$D$16)","v":true},{"$f":"1000*F2928","v":45000},"ml","=",{"$f":"IF(Worksheet!$D$6=1,RANDBETWEEN(1,99),IF(Worksheet!$D$6=2,CHOOSE(RANDBETWEEN(1,2),RANDBETWEEN(1,99),RANDBETWEEN(1,999)/10),CHOOSE(RANDBETWEEN(1,4),RANDBETWEEN(1,99999)/1000,RANDBETWEEN(1,9999)/100,RANDBETWEEN(1,999)/10,RANDBETWEEN(1,99))))","v":45},"litres"]
[{"$f":"IF(COUNTIF($B$1:B2929,TRUE)=COUNTIF($B$1:B2928,TRUE),\"\",COUNTIF($B$1:B2929,TRUE))","v":""},{"$f":"IF(Worksheet!$D$10=2,FALSE,Worksheet!$D$17)","v":false},{"$f":"1000*F2929","v":25000},"cm³","=",{"$f":"IF(Worksheet!$D$6=1,RANDBETWEEN(1,99),IF(Worksheet!$D$6=2,CHOOSE(RANDBETWEEN(1,2),RANDBETWEEN(1,99),RANDBETWEEN(1,999)/10),CHOOSE(RANDBETWEEN(1,4),RANDBETWEEN(1,99999)/1000,RANDBETWEEN(1,9999)/100,RANDBETWEEN(1,999)/10,RANDBETWEEN(1,99))))","v":25},"litres"]
[{"$f":"IF(COUNTIF($B$1:B2930,TRUE)=COUNTIF($B$1:B2929,TRUE),\"\",COUNTIF($B$1:B2930,TRUE))","v":""},{"$f":"IF(Worksheet!$D$10=2,FALSE,Worksheet!$D$18)","v":false},{"$f":"10000*F2930","v":200000},"cm²","=",{"$f":"IF(Worksheet!$D$6=1,RANDBETWEEN(1,99),IF(Worksheet!$D$6=2,CHOOSE(RANDBETWEEN(1,2),RANDBETWEEN(1,99),RANDBETWEEN(1,999)/10),CHOOSE(RANDBETWEEN(1,4),RANDBETWEEN(1,99999)/1000,RANDBETWEEN(1,9999)/100,RANDBETWEEN(1,999)/10,RANDBETWEEN(1,99))))","v":20},"m²"]
[{"$f":"IF(COUNTIF($B$1:B2931,TRUE)=COUNTIF($B$1:B2930,TRUE),\"\",COUNTIF($B$1:B2931,TRUE))","v":1759},{"$f":"IF(Worksheet!$D$10=3,FALSE,Worksheet!$B$14)","v":true},{"$f":"IF(Worksheet!$D$6=1,RANDBETWEEN(1,99),IF(Worksheet!$D$6=2,CHOOSE(RANDBETWEEN(1,2),RANDBETWEEN(1,99),RANDBETWEEN(1,999)/10),CHOOSE(RANDBETWEEN(1,4),RANDBETWEEN(1,99999)/1000,RANDBETWEEN(1,9999)/100,RANDBETWEEN(1,999)/10,RANDBETWEEN(1,99))))","v":40},"cm","=",{"$f":"10*C2931","v":400},"mm"]
[{"$f":"IF(COUNTIF($B$1:B2932,TRUE)=COUNTIF($B$1:B2931,TRUE),\"\",COUNTIF($B$1:B2932,TRUE))","v":1760},{"$f":"IF(Worksheet!$D$10=3,FALSE,Worksheet!$B$15)","v":true},{"$f":"IF(Worksheet!$D$6=1,RANDBETWEEN(1,99),IF(Worksheet!$D$6=2,CHOOSE(RANDBETWEEN(1,2),RANDBETWEEN(1,99),RANDBETWEEN(1,999)/10),CHOOSE(RANDBETWEEN(1,4),RANDBETWEEN(1,99999)/1000,RANDBETWEEN(1,9999)/100,RANDBETWEEN(1,999)/10,RANDBETWEEN(1,99))))","v":90},"m","=",{"$f":"100*C2932","v":9000},"cm"]
[{"$f":"IF(COUNTIF($B$1:B2933,TRUE)=COUNTIF($B$1:B2932,TRUE),\"\",COUNTIF($B$1:B2933,TRUE))","v":1761},{"$f":"IF(Worksheet!$D$10=3,FALSE,Worksheet!$B$16)","v":true},{"$f":"IF(Worksheet!$D$6=1,RANDBETWEEN(1,99),IF(Worksheet!$D$6=2,CHOOSE(RANDBETWEEN(1,2),RANDBETWEEN(1,99),RANDBETWEEN(1,999)/10),CHOOSE(RANDBETWEEN(1,4),RANDBETWEEN(1,99999)/1000,RANDBETWEEN(1,9999)/100,RANDBETWEEN(1,999)/10,RANDBETWEEN(1,99))))","v":84},"km","=",{"$f":"1000*C2933","v":84000},"m"]
[{"$f":"IF(COUNTIF($B$1:B2934,TRUE)=COUNTIF($B$1:B2933,TRUE),\"\",COUNTIF($B$1:B2934,TRUE))","v":""},{"$f":"IF(Worksheet!$D$10=3,FALSE,Worksheet!$B$17)","v":false},{"$f":"IF(Worksheet!$D$6=1,RANDBETWEEN(1,99),IF(Worksheet!$D$6=2,CHOOSE(RANDBETWEEN(1,2),RANDBETWEEN(1,99),RANDBETWEEN(1,999)/10),CHOOSE(RANDBETWEEN(1,4),RANDBETWEEN(1,99999)/1000,RANDBETWEEN(1,9999)/100,RANDBETWEEN(1,999)/10,RANDBETWEEN(1,99))))","v":34},"m",{"$f":"#REF!","v":{"$error":"#REF!"}},{"$f":"1000*C2934","v":34000},"mm"]
[{"$f":"IF(COUNTIF($B$1:B2935,TRUE)=COUNTIF($B$1:B2934,TRUE),\"\",COUNTIF($B$1:B2935,TRUE))","v":""},{"$f":"IF(Worksheet!$D$10=3,FALSE,Worksheet!$B$18)","v":false},{"$f":"IF(Worksheet!$D$6=1,RANDBETWEEN(1,99),IF(Worksheet!$D$6=2,CHOOSE(RANDBETWEEN(1,2),RANDBETWEEN(1,99),RANDBETWEEN(1,999)/10),CHOOSE(RANDBETWEEN(1,4),RANDBETWEEN(1,99999)/1000,RANDBETWEEN(1,9999)/100,RANDBETWEEN(1,999)/10,RANDBETWEEN(1,99))))","v":3},"cm²","=",{"$f":"C2935*100","v":300},"mm²"]
[{"$f":"IF(COUNTIF($B$1:B2936,TRUE)=COUNTIF($B$1:B2935,TRUE),\"\",COUNTIF($B$1:B2936,TRUE))","v":1762},{"$f":"IF(Worksheet!$D$10=3,FALSE,Worksheet!$D$14)","v":true},{"$f":"IF(Worksheet!$D$6=1,RANDBETWEEN(1,99),IF(Worksheet!$D$6=2,CHOOSE(RANDBETWEEN(1,2),RANDBETWEEN(1,99),RANDBETWEEN(1,999)/10),CHOOSE(RANDBETWEEN(1,4),RANDBETWEEN(1,99999)/1000,RANDBETWEEN(1,9999)/100,RANDBETWEEN(1,999)/10,RANDBETWEEN(1,99))))","v":79},"kg","=",{"$f":"1000*C2936","v":79000},"g"]
[{"$f":"IF(COUNTIF($B$1:B2937,TRUE)=COUNTIF($B$1:B2936,TRUE),\"\",COUNTIF($B$1:B2937,TRUE))","v":1763},{"$f":"IF(Worksheet!$D$10=3,FALSE,Worksheet!$D$15)","v":true},{"$f":"IF(Worksheet!$D$6=1,RANDBETWEEN(1,99),IF(Worksheet!$D$6=2,CHOOSE(RANDBETWEEN(1,2),RANDBETWEEN(1,99),RANDBETWEEN(1,999)/10),CHOOSE(RANDBETWEEN(1,4),RANDBETWEEN(1,99999)/1000,RANDBETWEEN(1,9999)/100,RANDBETWEEN(1,999)/10,RANDBETWEEN(1,99))))","v":15},"tonnes","=",{"$f":"1000*C2937","v":15000},"kg"]
[{"$f":"IF(COUNTIF($B$1:B2938,TRUE)=COUNTIF($B$1:B2937,TRUE),\"\",COUNTIF($B$1:B2938,TRUE))","v":1764},{"$f":"IF(Worksheet!$D$10=3,FALSE,Worksheet!$D$16)","v":true},{"$f":"IF(Worksheet!$D$6=1,RANDBETWEEN(1,99),IF(Worksheet!$D$6=2,CHOOSE(RANDBETWEEN(1,2),RANDBETWEEN(1,99),RANDBETWEEN(1,999)/10),CHOOSE(RANDBETWEEN(1,4),RANDBETWEEN(1,99999)/1000,RANDBETWEEN(1,9999)/100,RANDBETWEEN(1,999)/10,RANDBETWEEN(1,99))))","v":28},"litres","=",{"$f":"1000*C2938","v":28000},"ml"]
[{"$f":"IF(COUNTIF($B$1:B2939,TRUE)=COUNTIF($B$1:B2938,TRUE),\"\",COUNTIF($B$1:B2939,TRUE))","v":""},{"$f":"IF(Worksheet!$D$10=3,FALSE,Worksheet!$D$17)","v":false},{"$f":"IF(Worksheet!$D$6=1,RANDBETWEEN(1,99),IF(Worksheet!$D$6=2,CHOOSE(RANDBETWEEN(1,2),RANDBETWEEN(1,99),RANDBETWEEN(1,999)/10),CHOOSE(RANDBETWEEN(1,4),RANDBETWEEN(1,99999)/1000,RANDBETWEEN(1,9999)/100,RANDBETWEEN(1,999)/10,RANDBETWEEN(1,99))))","v":93},"litres","=",{"$f":"1000*C2939","v":93000},"cm³"]
[{"$f":"IF(COUNTIF($B$1:B2940,TRUE)=COUNTIF($B$1:B2939,TRUE),\"\",COUNTIF($B$1:B2940,TRUE))","v":""},{"$f":"IF(Worksheet!$D$10=3,FALSE,Worksheet!$D$18)","v":false},{"$f":"IF(Worksheet!$D$6=1,RANDBETWEEN(1,99),IF(Worksheet!$D$6=2,CHOOSE(RANDBETWEEN(1,2),RANDBETWEEN(1,99),RANDBETWEEN(1,999)/10),CHOOSE(RANDBETWEEN(1,4),RANDBETWEEN(1,99999)/1000,RANDBETWEEN(1,9999)/100,RANDBETWEEN(1,999)/10,RANDBETWEEN(1,99))))","v":95},"m²","=",{"$f":"10000*C2940","v":950000},"cm²"]