{"text_format":"1","workbook":"xlsx","n_sheets":2,"sheets":["Worksheet","SYSTEM FORMULAE"],"not_rendered":{"charts":0,"images":0,"macros":1,"external_links":0,"defined_names":2,"comments":0,"pivot_tables":0},"unopened":[],"bounds":{"document_bytes":16777216,"sheet_cells":100000,"rows_first":2000,"rows_last":500,"rows_between":2000,"halvings":0,"cell_chars":16384,"cell_head_chars":4096},"cells_cut":0,"cells_raw":0,"read":"whole","date_system":"1900"}

{"sheet":"Worksheet","index":0,"n_rows":16,"n_cols":64,"rows_kept":16,"cut":false,"hidden":false,"merged":[[1,0,1,1],[4,0,4,1],[0,2,0,52]]}
[null,null,"Evaluate these calculations involving negative numbers"]
["Variables",null,1,"(–",17,")"," – ","",10,"","(–17) – 10","=","–",27,null,16,"",1,""," – ","",12,"","1 – 12","=","–",11,null,31,"",3,""," + ","(–",20,")","3 + (–20)","=","–",17,null,46,"(–",14,")"," + ","",1,"","(–14) + 1","=","–",13]
["SHOW ANSWERS",false,2,"",21,""," ÷ ","(–",3,")","21 ÷ (–3)","=","–",7,null,17,"",11,""," + ","(–",15,")","11 + (–15)","=","–",4,null,32,"",14,""," ÷ ","(–",7,")","14 ÷ (–7)","=","–",2,null,47,"(–",10,")"," × ","",10,"","(–10) × 10","=","–",100]
["Number of questions (minimum 20, maximum 60)",60,3,"(–",9,")"," × ","",8,"","(–9) × 8","=","–",72,null,18,"",3,""," × ","(–",8,")","3 × (–8)","=","–",24,null,33,"(–",7,")"," ÷ ","",1,"","(–7) ÷ 1","=","–",7,null,48,"",50,""," ÷ ","(–",5,")","50 ÷ (–5)","=","–",10]
["Types of question",null,4,"",0,""," ÷ ","(–",7,")","0 ÷ (–7)","=","",0,null,19,"(–",3,")","²","","","","(–3)²","=","",9,null,34,"(–",8,")"," × ","",2,"","(–8) × 2","=","–",16,null,49,"(–",10,")"," × ","",9,"","(–10) × 9","=","–",90]
["Maximum value of numbers for add or take away",20,5,"(–",8,")"," ÷ ","",2,"","(–8) ÷ 2","=","–",4,null,20,"(–",5,")"," – ","(–",4,")","(–5) – (–4)","=","–",1,null,35,"(–",14,")"," – ","(–",14,")","(–14) – (–14)","=","",0,null,50,"",0,""," + ","(–",2,")","0 + (–2)","=","–",2,null,null,null,null,null,null,null,null,null,null,1]
["Maximum value of numbers for multiply and divide",{"$f":"10^($BL$6+1)","v":100},6,"(–",6,")"," × ","",3,"","(–6) × 3","=","–",18,null,21,"(–",12,")"," + ","",14,"","(–12) + 14","=","",2,null,36,"",1,""," + ","(–",11,")","1 + (–11)","=","–",10,null,51,"",13,""," – ","",16,"","13 – 16","=","–",3]
["Brackets around negative numbers?",true,7,"(–",13,")"," + ","",0,"","(–13) + 0","=","–",13,null,22,"",12,""," + ","(–",2,")","12 + (–2)","=","",10,null,37,"(–",63,")"," ÷ ","(–",7,")","(–63) ÷ (–7)","=","",9,null,52,"",18,""," + ","(–",8,")","18 + (–8)","=","",10]
["Allow basic squaring questions",true,8,"",10,""," + ","(–",16,")","10 + (–16)","=","–",6,null,23,"",10,""," – ","",10,"","10 – 10","=","",0,null,38,"",6,""," – ","(–",15,")","6 – (–15)","=","",21,null,53,"(–",20,")"," ÷ ","",2,"","(–20) ÷ 2","=","–",10]
[null,null,9,"",13,""," – ","",15,"","13 – 15","=","–",2,null,24,"",13,""," – ","(–",13,")","13 – (–13)","=","",26,null,39,"(–",7,")","²","","","","(–7)²","=","",49,null,54,"(–",5,")"," × ","",4,"","(–5) × 4","=","–",20]
[null,null,10,"",9,""," – ","(–",18,")","9 – (–18)","=","",27,null,25,"(–",7,")"," × ","",8,"","(–7) × 8","=","–",56,null,40,"",5,""," × ","(–",10,")","5 × (–10)","=","–",50,null,55,"(–",11,")"," + ","(–",18,")","(–11) + (–18)","=","–",29]
[null,null,11,"(–",24,")"," ÷ ","(–",8,")","(–24) ÷ (–8)","=","",3,null,26,"(–",10,")"," + ","(–",10,")","(–10) + (–10)","=","–",20,null,41,"(–",32,")"," ÷ ","(–",4,")","(–32) ÷ (–4)","=","",8,null,56,"(–",3,")","²","","","","(–3)²","=","",9]
[null,null,12,"",9,""," + ","(–",7,")","9 + (–7)","=","",2,null,27,"(–",4,")"," × ","",6,"","(–4) × 6","=","–",24,null,42,"(–",28,")"," ÷ ","(–",7,")","(–28) ÷ (–7)","=","",4,null,57,"(–",17,")"," + ","(–",9,")","(–17) + (–9)","=","–",26]
[null,null,13,"(–",9,")"," × ","",1,"","(–9) × 1","=","–",9,null,28,"(–",72,")"," ÷ ","",9,"","(–72) ÷ 9","=","–",8,null,43,"(–",4,")"," + ","(–",18,")","(–4) + (–18)","=","–",22,null,58,"",2,""," × ","(–",1,")","2 × (–1)","=","–",2]
[null,null,14,"",20,""," + ","(–",6,")","20 + (–6)","=","",14,null,29,"(–",54,")"," ÷ ","",6,"","(–54) ÷ 6","=","–",9,null,44,"(–",18,")"," – ","",12,"","(–18) – 12","=","–",30,null,59,"(–",6,")","²","","","","(–6)²","=","",36]
[null,null,15,"",0,""," – ","",18,"","0 – 18","=","–",18,null,30,"",18,""," + ","(–",15,")","18 + (–15)","=","",3,null,45,"(–",3,")"," × ","(–",4,")","(–3) × (–4)","=","",12,null,60,"(–",2,")"," × ","",8,"","(–2) × 8","=","–",16]

{"sheet":"SYSTEM FORMULAE","index":1,"n_rows":15,"n_cols":51,"rows_kept":15,"cut":false,"hidden":false,"merged":[]}
[{"$f":"IF(ROW()<=Worksheet!$B$4/4,ROW(),\"\")","v":1},{"$f":"IF(C1<0,IF(Worksheet!$B$8,\"(–\",\"–\"),\"\")","v":""},{"$f":"IF(E1=\"²\",RANDBETWEEN(-10,-1),IF(OR(E1=\" + \",E1=\" – \"),RANDBETWEEN(-1*Worksheet!$B$6,Worksheet!$B$6),IF(G1>0,IF(E1=\" × \",RANDBETWEEN(-10,-1),RANDBETWEEN(-10,-1)*G1),IF(E1=\" × \",RANDBETWEEN(-10,10),RANDBETWEEN(-10,10)*G1))))","v":10},{"$f":"IF(C1<0,IF(Worksheet!$B$8,\")\",\"\"),\"\")","v":""},{"$f":"CHOOSE(RANDBETWEEN(1,RANDBETWEEN(4,RANDBETWEEN(IF(RAND()<0.3,4,IF(Worksheet!$B$9,5,4)),IF(Worksheet!$B$9,5,4)))),\" + \",\" – \",\" × \",\" ÷ \",\"²\")","v":" – "},{"$f":"IF(G1<0,IF(Worksheet!$B$8,\"(–\",\"–\"),\"\")","v":"(–"},{"$f":"IF(E1=\"²\",\"\",IF(OR(E1=\" + \",E1=\" – \"),IF(AND(E1=\" + \",C1>=0),RANDBETWEEN(-1*Worksheet!$B$6,0),IF(AND(E1=\" – \",C1>0),CHOOSE(RANDBETWEEN(1,2),RANDBETWEEN(-1*Worksheet!$B$6,-1),RANDBETWEEN(C1,Worksheet!$B$6)),RANDBETWEEN(-1*Worksheet!$B$6,Worksheet!$B$6))),CHOOSE(RANDBETWEEN(1,2),10^(RANDBETWEEN(0,Worksheet!$BL$6-1))*RANDBETWEEN(-10,-1),10^(RANDBETWEEN(0,Worksheet!$BL$6-1))*RANDBETWEEN(1,10))))","v":-15},{"$f":"IF(G1<0,IF(Worksheet!$B$8,\")\",\"\"),\"\")","v":")"},{"$f":"CONCATENATE(B1,C1,D1,E1,F1,G1,H1)","v":"10 – (–-15)"},"=",{"$f":"IF(L1<0,\"–\",\"\")","v":""},{"$f":"IF(E1=\"²\",C1^2,IF(E1=\" + \",C1+G1,IF(E1=\" – \",C1-G1,IF(E1=\" × \",C1*G1,C1/G1))))","v":25},null,{"$f":"MAX(A1:A20)+1","v":16},{"$f":"IF(P1<0,IF(Worksheet!$B$8,\"(–\",\"–\"),\"\")","v":"(–"},{"$f":"IF(R1=\"²\",RANDBETWEEN(-10,-1),IF(OR(R1=\" + \",R1=\" – \"),RANDBETWEEN(-1*Worksheet!$B$6,Worksheet!$B$6),IF(T1>0,IF(R1=\" × \",RANDBETWEEN(-10,-1),RANDBETWEEN(-10,-1)*T1),IF(R1=\" × \",RANDBETWEEN(-10,10),RANDBETWEEN(-10,10)*T1))))","v":-8},{"$f":"IF(P1<0,IF(Worksheet!$B$8,\")\",\"\"),\"\")","v":")"},{"$f":"CHOOSE(RANDBETWEEN(1,RANDBETWEEN(4,RANDBETWEEN(IF(RAND()<0.3,4,IF(Worksheet!$B$9,5,4)),IF(Worksheet!$B$9,5,4)))),\" + \",\" – \",\" × \",\" ÷ \",\"²\")","v":" × "},{"$f":"IF(T1<0,IF(Worksheet!$B$8,\"(–\",\"–\"),\"\")","v":"(–"},{"$f":"IF(R1=\"²\",\"\",IF(OR(R1=\" + \",R1=\" – \"),IF(AND(R1=\" + \",P1>=0),RANDBETWEEN(-1*Worksheet!$B$6,0),IF(AND(R1=\" – \",P1>0),CHOOSE(RANDBETWEEN(1,2),RANDBETWEEN(-1*Worksheet!$B$6,-1),RANDBETWEEN(P1,Worksheet!$B$6)),RANDBETWEEN(-1*Worksheet!$B$6,Worksheet!$B$6))),CHOOSE(RANDBETWEEN(1,2),10^(RANDBETWEEN(0,Worksheet!$BL$6-1))*RANDBETWEEN(-10,-1),10^(RANDBETWEEN(0,Worksheet!$BL$6-1))*RANDBETWEEN(1,10))))","v":-10},{"$f":"IF(T1<0,IF(Worksheet!$B$8,\")\",\"\"),\"\")","v":")"},{"$f":"CONCATENATE(O1,P1,Q1,R1,S1,T1,U1)","v":"(–-8) × (–-10)"},"=",{"$f":"IF(Y1<0,\"–\",\"\")","v":""},{"$f":"IF(R1=\"²\",P1^2,IF(R1=\" + \",P1+T1,IF(R1=\" – \",P1-T1,IF(R1=\" × \",P1*T1,P1/T1))))","v":80},null,{"$f":"MAX(N1:N20)+1","v":31},{"$f":"IF(AC1<0,IF(Worksheet!$B$8,\"(–\",\"–\"),\"\")","v":"(–"},{"$f":"IF(AE1=\"²\",RANDBETWEEN(-10,-1),IF(OR(AE1=\" + \",AE1=\" – \"),RANDBETWEEN(-1*Worksheet!$B$6,Worksheet!$B$6),IF(AG1>0,IF(AE1=\" × \",RANDBETWEEN(-10,-1),RANDBETWEEN(-10,-1)*AG1),IF(AE1=\" × \",RANDBETWEEN(-10,10),RANDBETWEEN(-10,10)*AG1))))","v":-1},{"$f":"IF(AC1<0,IF(Worksheet!$B$8,\")\",\"\"),\"\")","v":")"},{"$f":"CHOOSE(RANDBETWEEN(1,RANDBETWEEN(4,RANDBETWEEN(IF(RAND()<0.3,4,IF(Worksheet!$B$9,5,4)),IF(Worksheet!$B$9,5,4)))),\" + \",\" – \",\" × \",\" ÷ \",\"²\")","v":" × "},{"$f":"IF(AG1<0,IF(Worksheet!$B$8,\"(–\",\"–\"),\"\")","v":""},{"$f":"IF(AE1=\"²\",\"\",IF(OR(AE1=\" + \",AE1=\" – \"),IF(AND(AE1=\" + \",AC1>=0),RANDBETWEEN(-1*Worksheet!$B$6,0),IF(AND(AE1=\" – \",AC1>0),CHOOSE(RANDBETWEEN(1,2),RANDBETWEEN(-1*Worksheet!$B$6,-1),RANDBETWEEN(AC1,Worksheet!$B$6)),RANDBETWEEN(-1*Worksheet!$B$6,Worksheet!$B$6))),CHOOSE(RANDBETWEEN(1,2),10^(RANDBETWEEN(0,Worksheet!$BL$6-1))*RANDBETWEEN(-10,-1),10^(RANDBETWEEN(0,Worksheet!$BL$6-1))*RANDBETWEEN(1,10))))","v":5},{"$f":"IF(AG1<0,IF(Worksheet!$B$8,\")\",\"\"),\"\")","v":""},{"$f":"CONCATENATE(AB1,AC1,AD1,AE1,AF1,AG1,AH1)","v":"(–-1) × 5"},"=",{"$f":"IF(AL1<0,\"–\",\"\")","v":"–"},{"$f":"IF(AE1=\"²\",AC1^2,IF(AE1=\" + \",AC1+AG1,IF(AE1=\" – \",AC1-AG1,IF(AE1=\" × \",AC1*AG1,AC1/AG1))))","v":-5},null,{"$f":"MAX(AA1:AA20)+1","v":46},{"$f":"IF(AP1<0,IF(Worksheet!$B$8,\"(–\",\"–\"),\"\")","v":"(–"},{"$f":"IF(AR1=\"²\",RANDBETWEEN(-10,-1),IF(OR(AR1=\" + \",AR1=\" – \"),RANDBETWEEN(-1*Worksheet!$B$6,Worksheet!$B$6),IF(AT1>0,IF(AR1=\" × \",RANDBETWEEN(-10,-1),RANDBETWEEN(-10,-1)*AT1),IF(AR1=\" × \",RANDBETWEEN(-10,10),RANDBETWEEN(-10,10)*AT1))))","v":-28},{"$f":"IF(AP1<0,IF(Worksheet!$B$8,\")\",\"\"),\"\")","v":")"},{"$f":"CHOOSE(RANDBETWEEN(1,RANDBETWEEN(4,RANDBETWEEN(IF(RAND()<0.3,4,IF(Worksheet!$B$9,5,4)),IF(Worksheet!$B$9,5,4)))),\" + \",\" – \",\" × \",\" ÷ \",\"²\")","v":" ÷ "},{"$f":"IF(AT1<0,IF(Worksheet!$B$8,\"(–\",\"–\"),\"\")","v":""},{"$f":"IF(AR1=\"²\",\"\",IF(OR(AR1=\" + \",AR1=\" – \"),IF(AND(AR1=\" + \",AP1>=0),RANDBETWEEN(-1*Worksheet!$B$6,0),IF(AND(AR1=\" – \",AP1>0),CHOOSE(RANDBETWEEN(1,2),RANDBETWEEN(-1*Worksheet!$B$6,-1),RANDBETWEEN(AP1,Worksheet!$B$6)),RANDBETWEEN(-1*Worksheet!$B$6,Worksheet!$B$6))),CHOOSE(RANDBETWEEN(1,2),10^(RANDBETWEEN(0,Worksheet!$BL$6-1))*RANDBETWEEN(-10,-1),10^(RANDBETWEEN(0,Worksheet!$BL$6-1))*RANDBETWEEN(1,10))))","v":7},{"$f":"IF(AT1<0,IF(Worksheet!$B$8,\")\",\"\"),\"\")","v":""},{"$f":"CONCATENATE(AO1,AP1,AQ1,AR1,AS1,AT1,AU1)","v":"(–-28) ÷ 7"},"=",{"$f":"IF(AY1<0,\"–\",\"\")","v":"–"},{"$f":"IF(AR1=\"²\",AP1^2,IF(AR1=\" + \",AP1+AT1,IF(AR1=\" – \",AP1-AT1,IF(AR1=\" × \",AP1*AT1,AP1/AT1))))","v":-4}]
[{"$f":"IF(ROW()<=Worksheet!$B$4/4,ROW(),\"\")","v":2},{"$f":"IF(C2<0,IF(Worksheet!$B$8,\"(–\",\"–\"),\"\")","v":""},{"$f":"IF(E2=\"²\",RANDBETWEEN(-10,-1),IF(OR(E2=\" + \",E2=\" – \"),RANDBETWEEN(-1*Worksheet!$B$6,Worksheet!$B$6),IF(G2>0,IF(E2=\" × \",RANDBETWEEN(-10,-1),RANDBETWEEN(-10,-1)*G2),IF(E2=\" × \",RANDBETWEEN(-10,10),RANDBETWEEN(-10,10)*G2))))","v":54},{"$f":"IF(C2<0,IF(Worksheet!$B$8,\")\",\"\"),\"\")","v":""},{"$f":"CHOOSE(RANDBETWEEN(1,RANDBETWEEN(4,RANDBETWEEN(IF(RAND()<0.3,4,IF(Worksheet!$B$9,5,4)),IF(Worksheet!$B$9,5,4)))),\" + \",\" – \",\" × \",\" ÷ \",\"²\")","v":" ÷ "},{"$f":"IF(G2<0,IF(Worksheet!$B$8,\"(–\",\"–\"),\"\")","v":"(–"},{"$f":"IF(E2=\"²\",\"\",IF(OR(E2=\" + \",E2=\" – \"),IF(AND(E2=\" + \",C2>=0),RANDBETWEEN(-1*Worksheet!$B$6,0),IF(AND(E2=\" – \",C2>0),CHOOSE(RANDBETWEEN(1,2),RANDBETWEEN(-1*Worksheet!$B$6,-1),RANDBETWEEN(C2,Worksheet!$B$6)),RANDBETWEEN(-1*Worksheet!$B$6,Worksheet!$B$6))),CHOOSE(RANDBETWEEN(1,2),10^(RANDBETWEEN(0,Worksheet!$BL$6-1))*RANDBETWEEN(-10,-1),10^(RANDBETWEEN(0,Worksheet!$BL$6-1))*RANDBETWEEN(1,10))))","v":-6},{"$f":"IF(G2<0,IF(Worksheet!$B$8,\")\",\"\"),\"\")","v":")"},{"$f":"CONCATENATE(B2,C2,D2,E2,F2,G2,H2)","v":"54 ÷ (–-6)"},"=",{"$f":"IF(L2<0,\"–\",\"\")","v":"–"},{"$f":"IF(E2=\"²\",C2^2,IF(E2=\" + \",C2+G2,IF(E2=\" – \",C2-G2,IF(E2=\" × \",C2*G2,C2/G2))))","v":-9},null,{"$f":"IF(ROW()<=Worksheet!$B$4/4,N1+1,\"\")","v":17},{"$f":"IF(P2<0,IF(Worksheet!$B$8,\"(–\",\"–\"),\"\")","v":""},{"$f":"IF(R2=\"²\",RANDBETWEEN(-10,-1),IF(OR(R2=\" + \",R2=\" – \"),RANDBETWEEN(-1*Worksheet!$B$6,Worksheet!$B$6),IF(T2>0,IF(R2=\" × \",RANDBETWEEN(-10,-1),RANDBETWEEN(-10,-1)*T2),IF(R2=\" × \",RANDBETWEEN(-10,10),RANDBETWEEN(-10,10)*T2))))","v":4},{"$f":"IF(P2<0,IF(Worksheet!$B$8,\")\",\"\"),\"\")","v":""},{"$f":"CHOOSE(RANDBETWEEN(1,RANDBETWEEN(4,RANDBETWEEN(IF(RAND()<0.3,4,IF(Worksheet!$B$9,5,4)),IF(Worksheet!$B$9,5,4)))),\" + \",\" – \",\" × \",\" ÷ \",\"²\")","v":" – "},{"$f":"IF(T2<0,IF(Worksheet!$B$8,\"(–\",\"–\"),\"\")","v":"(–"},{"$f":"IF(R2=\"²\",\"\",IF(OR(R2=\" + \",R2=\" – \"),IF(AND(R2=\" + \",P2>=0),RANDBETWEEN(-1*Worksheet!$B$6,0),IF(AND(R2=\" – \",P2>0),CHOOSE(RANDBETWEEN(1,2),RANDBETWEEN(-1*Worksheet!$B$6,-1),RANDBETWEEN(P2,Worksheet!$B$6)),RANDBETWEEN(-1*Worksheet!$B$6,Worksheet!$B$6))),CHOOSE(RANDBETWEEN(1,2),10^(RANDBETWEEN(0,Worksheet!$BL$6-1))*RANDBETWEEN(-10,-1),10^(RANDBETWEEN(0,Worksheet!$BL$6-1))*RANDBETWEEN(1,10))))","v":-7},{"$f":"IF(T2<0,IF(Worksheet!$B$8,\")\",\"\"),\"\")","v":")"},{"$f":"CONCATENATE(O2,P2,Q2,R2,S2,T2,U2)","v":"4 – (–-7)"},"=",{"$f":"IF(Y2<0,\"–\",\"\")","v":""},{"$f":"IF(R2=\"²\",P2^2,IF(R2=\" + \",P2+T2,IF(R2=\" – \",P2-T2,IF(R2=\" × \",P2*T2,P2/T2))))","v":11},null,{"$f":"IF(ROW()<=Worksheet!$B$4/4,AA1+1,\"\")","v":32},{"$f":"IF(AC2<0,IF(Worksheet!$B$8,\"(–\",\"–\"),\"\")","v":""},{"$f":"IF(AE2=\"²\",RANDBETWEEN(-10,-1),IF(OR(AE2=\" + \",AE2=\" – \"),RANDBETWEEN(-1*Worksheet!$B$6,Worksheet!$B$6),IF(AG2>0,IF(AE2=\" × \",RANDBETWEEN(-10,-1),RANDBETWEEN(-10,-1)*AG2),IF(AE2=\" × \",RANDBETWEEN(-10,10),RANDBETWEEN(-10,10)*AG2))))","v":15},{"$f":"IF(AC2<0,IF(Worksheet!$B$8,\")\",\"\"),\"\")","v":""},{"$f":"CHOOSE(RANDBETWEEN(1,RANDBETWEEN(4,RANDBETWEEN(IF(RAND()<0.3,4,IF(Worksheet!$B$9,5,4)),IF(Worksheet!$B$9,5,4)))),\" + \",\" – \",\" × \",\" ÷ \",\"²\")","v":" + "},{"$f":"IF(AG2<0,IF(Worksheet!$B$8,\"(–\",\"–\"),\"\")","v":"(–"},{"$f":"IF(AE2=\"²\",\"\",IF(OR(AE2=\" + \",AE2=\" – \"),IF(AND(AE2=\" + \",AC2>=0),RANDBETWEEN(-1*Worksheet!$B$6,0),IF(AND(AE2=\" – \",AC2>0),CHOOSE(RANDBETWEEN(1,2),RANDBETWEEN(-1*Worksheet!$B$6,-1),RANDBETWEEN(AC2,Worksheet!$B$6)),RANDBETWEEN(-1*Worksheet!$B$6,Worksheet!$B$6))),CHOOSE(RANDBETWEEN(1,2),10^(RANDBETWEEN(0,Worksheet!$BL$6-1))*RANDBETWEEN(-10,-1),10^(RANDBETWEEN(0,Worksheet!$BL$6-1))*RANDBETWEEN(1,10))))","v":-15},{"$f":"IF(AG2<0,IF(Worksheet!$B$8,\")\",\"\"),\"\")","v":")"},{"$f":"CONCATENATE(AB2,AC2,AD2,AE2,AF2,AG2,AH2)","v":"15 + (–-15)"},"=",{"$f":"IF(AL2<0,\"–\",\"\")","v":""},{"$f":"IF(AE2=\"²\",AC2^2,IF(AE2=\" + \",AC2+AG2,IF(AE2=\" – \",AC2-AG2,IF(AE2=\" × \",AC2*AG2,AC2/AG2))))","v":0},null,{"$f":"IF(ROW()<=Worksheet!$B$4/4,AN1+1,\"\")","v":47},{"$f":"IF(AP2<0,IF(Worksheet!$B$8,\"(–\",\"–\"),\"\")","v":""},{"$f":"IF(AR2=\"²\",RANDBETWEEN(-10,-1),IF(OR(AR2=\" + \",AR2=\" – \"),RANDBETWEEN(-1*Worksheet!$B$6,Worksheet!$B$6),IF(AT2>0,IF(AR2=\" × \",RANDBETWEEN(-10,-1),RANDBETWEEN(-10,-1)*AT2),IF(AR2=\" × \",RANDBETWEEN(-10,10),RANDBETWEEN(-10,10)*AT2))))","v":4},{"$f":"IF(AP2<0,IF(Worksheet!$B$8,\")\",\"\"),\"\")","v":""},{"$f":"CHOOSE(RANDBETWEEN(1,RANDBETWEEN(4,RANDBETWEEN(IF(RAND()<0.3,4,IF(Worksheet!$B$9,5,4)),IF(Worksheet!$B$9,5,4)))),\" + \",\" – \",\" × \",\" ÷ \",\"²\")","v":" + "},{"$f":"IF(AT2<0,IF(Worksheet!$B$8,\"(–\",\"–\"),\"\")","v":"(–"},{"$f":"IF(AR2=\"²\",\"\",IF(OR(AR2=\" + \",AR2=\" – \"),IF(AND(AR2=\" + \",AP2>=0),RANDBETWEEN(-1*Worksheet!$B$6,0),IF(AND(AR2=\" – \",AP2>0),CHOOSE(RANDBETWEEN(1,2),RANDBETWEEN(-1*Worksheet!$B$6,-1),RANDBETWEEN(AP2,Worksheet!$B$6)),RANDBETWEEN(-1*Worksheet!$B$6,Worksheet!$B$6))),CHOOSE(RANDBETWEEN(1,2),10^(RANDBETWEEN(0,Worksheet!$BL$6-1))*RANDBETWEEN(-10,-1),10^(RANDBETWEEN(0,Worksheet!$BL$6-1))*RANDBETWEEN(1,10))))","v":-6},{"$f":"IF(AT2<0,IF(Worksheet!$B$8,\")\",\"\"),\"\")","v":")"},{"$f":"CONCATENATE(AO2,AP2,AQ2,AR2,AS2,AT2,AU2)","v":"4 + (–-6)"},"=",{"$f":"IF(AY2<0,\"–\",\"\")","v":"–"},{"$f":"IF(AR2=\"²\",AP2^2,IF(AR2=\" + \",AP2+AT2,IF(AR2=\" – \",AP2-AT2,IF(AR2=\" × \",AP2*AT2,AP2/AT2))))","v":-2}]
[{"$f":"IF(ROW()<=Worksheet!$B$4/4,ROW(),\"\")","v":3},{"$f":"IF(C3<0,IF(Worksheet!$B$8,\"(–\",\"–\"),\"\")","v":""},{"$f":"IF(E3=\"²\",RANDBETWEEN(-10,-1),IF(OR(E3=\" + \",E3=\" – \"),RANDBETWEEN(-1*Worksheet!$B$6,Worksheet!$B$6),IF(G3>0,IF(E3=\" × \",RANDBETWEEN(-10,-1),RANDBETWEEN(-10,-1)*G3),IF(E3=\" × \",RANDBETWEEN(-10,10),RANDBETWEEN(-10,10)*G3))))","v":11},{"$f":"IF(C3<0,IF(Worksheet!$B$8,\")\",\"\"),\"\")","v":""},{"$f":"CHOOSE(RANDBETWEEN(1,RANDBETWEEN(4,RANDBETWEEN(IF(RAND()<0.3,4,IF(Worksheet!$B$9,5,4)),IF(Worksheet!$B$9,5,4)))),\" + \",\" – \",\" × \",\" ÷ \",\"²\")","v":" + "},{"$f":"IF(G3<0,IF(Worksheet!$B$8,\"(–\",\"–\"),\"\")","v":"(–"},{"$f":"IF(E3=\"²\",\"\",IF(OR(E3=\" + \",E3=\" – \"),IF(AND(E3=\" + \",C3>=0),RANDBETWEEN(-1*Worksheet!$B$6,0),IF(AND(E3=\" – \",C3>0),CHOOSE(RANDBETWEEN(1,2),RANDBETWEEN(-1*Worksheet!$B$6,-1),RANDBETWEEN(C3,Worksheet!$B$6)),RANDBETWEEN(-1*Worksheet!$B$6,Worksheet!$B$6))),CHOOSE(RANDBETWEEN(1,2),10^(RANDBETWEEN(0,Worksheet!$BL$6-1))*RANDBETWEEN(-10,-1),10^(RANDBETWEEN(0,Worksheet!$BL$6-1))*RANDBETWEEN(1,10))))","v":-14},{"$f":"IF(G3<0,IF(Worksheet!$B$8,\")\",\"\"),\"\")","v":")"},"11 + (–-14)","=","–",-3,null,{"$f":"IF(ROW()<=Worksheet!$B$4/4,N2+1,\"\")","v":18},{"$f":"IF(P3<0,IF(Worksheet!$B$8,\"(–\",\"–\"),\"\")","v":""},{"$f":"IF(R3=\"²\",RANDBETWEEN(-10,-1),IF(OR(R3=\" + \",R3=\" – \"),RANDBETWEEN(-1*Worksheet!$B$6,Worksheet!$B$6),IF(T3>0,IF(R3=\" × \",RANDBETWEEN(-10,-1),RANDBETWEEN(-10,-1)*T3),IF(R3=\" × \",RANDBETWEEN(-10,10),RANDBETWEEN(-10,10)*T3))))","v":17},{"$f":"IF(P3<0,IF(Worksheet!$B$8,\")\",\"\"),\"\")","v":""},{"$f":"CHOOSE(RANDBETWEEN(1,RANDBETWEEN(4,RANDBETWEEN(IF(RAND()<0.3,4,IF(Worksheet!$B$9,5,4)),IF(Worksheet!$B$9,5,4)))),\" + \",\" – \",\" × \",\" ÷ \",\"²\")","v":" + "},{"$f":"IF(T3<0,IF(Worksheet!$B$8,\"(–\",\"–\"),\"\")","v":"(–"},{"$f":"IF(R3=\"²\",\"\",IF(OR(R3=\" + \",R3=\" – \"),IF(AND(R3=\" + \",P3>=0),RANDBETWEEN(-1*Worksheet!$B$6,0),IF(AND(R3=\" – \",P3>0),CHOOSE(RANDBETWEEN(1,2),RANDBETWEEN(-1*Worksheet!$B$6,-1),RANDBETWEEN(P3,Worksheet!$B$6)),RANDBETWEEN(-1*Worksheet!$B$6,Worksheet!$B$6))),CHOOSE(RANDBETWEEN(1,2),10^(RANDBETWEEN(0,Worksheet!$BL$6-1))*RANDBETWEEN(-10,-1),10^(RANDBETWEEN(0,Worksheet!$BL$6-1))*RANDBETWEEN(1,10))))","v":-5},{"$f":"IF(T3<0,IF(Worksheet!$B$8,\")\",\"\"),\"\")","v":")"},"17 + (–-5)","=","",12,null,{"$f":"IF(ROW()<=Worksheet!$B$4/4,AA2+1,\"\")","v":33},{"$f":"IF(AC3<0,IF(Worksheet!$B$8,\"(–\",\"–\"),\"\")","v":"(–"},{"$f":"IF(AE3=\"²\",RANDBETWEEN(-10,-1),IF(OR(AE3=\" + \",AE3=\" – \"),RANDBETWEEN(-1*Worksheet!$B$6,Worksheet!$B$6),IF(AG3>0,IF(AE3=\" × \",RANDBETWEEN(-10,-1),RANDBETWEEN(-10,-1)*AG3),IF(AE3=\" × \",RANDBETWEEN(-10,10),RANDBETWEEN(-10,10)*AG3))))","v":-10},{"$f":"IF(AC3<0,IF(Worksheet!$B$8,\")\",\"\"),\"\")","v":")"},{"$f":"CHOOSE(RANDBETWEEN(1,RANDBETWEEN(4,RANDBETWEEN(IF(RAND()<0.3,4,IF(Worksheet!$B$9,5,4)),IF(Worksheet!$B$9,5,4)))),\" + \",\" – \",\" × \",\" ÷ \",\"²\")","v":" × "},{"$f":"IF(AG3<0,IF(Worksheet!$B$8,\"(–\",\"–\"),\"\")","v":"(–"},{"$f":"IF(AE3=\"²\",\"\",IF(OR(AE3=\" + \",AE3=\" – \"),IF(AND(AE3=\" + \",AC3>=0),RANDBETWEEN(-1*Worksheet!$B$6,0),IF(AND(AE3=\" – \",AC3>0),CHOOSE(RANDBETWEEN(1,2),RANDBETWEEN(-1*Worksheet!$B$6,-1),RANDBETWEEN(AC3,Worksheet!$B$6)),RANDBETWEEN(-1*Worksheet!$B$6,Worksheet!$B$6))),CHOOSE(RANDBETWEEN(1,2),10^(RANDBETWEEN(0,Worksheet!$BL$6-1))*RANDBETWEEN(-10,-1),10^(RANDBETWEEN(0,Worksheet!$BL$6-1))*RANDBETWEEN(1,10))))","v":-9},{"$f":"IF(AG3<0,IF(Worksheet!$B$8,\")\",\"\"),\"\")","v":")"},"(–-10) × (–-9)","=","",90,null,{"$f":"IF(ROW()<=Worksheet!$B$4/4,AN2+1,\"\")","v":48},{"$f":"IF(AP3<0,IF(Worksheet!$B$8,\"(–\",\"–\"),\"\")","v":"(–"},{"$f":"IF(AR3=\"²\",RANDBETWEEN(-10,-1),IF(OR(AR3=\" + \",AR3=\" – \"),RANDBETWEEN(-1*Worksheet!$B$6,Worksheet!$B$6),IF(AT3>0,IF(AR3=\" × \",RANDBETWEEN(-10,-1),RANDBETWEEN(-10,-1)*AT3),IF(AR3=\" × \",RANDBETWEEN(-10,10),RANDBETWEEN(-10,10)*AT3))))","v":-8},{"$f":"IF(AP3<0,IF(Worksheet!$B$8,\")\",\"\"),\"\")","v":")"},{"$f":"CHOOSE(RANDBETWEEN(1,RANDBETWEEN(4,RANDBETWEEN(IF(RAND()<0.3,4,IF(Worksheet!$B$9,5,4)),IF(Worksheet!$B$9,5,4)))),\" + \",\" – \",\" × \",\" ÷ \",\"²\")","v":"²"},{"$f":"IF(AT3<0,IF(Worksheet!$B$8,\"(–\",\"–\"),\"\")","v":""},{"$f":"IF(AR3=\"²\",\"\",IF(OR(AR3=\" + \",AR3=\" – \"),IF(AND(AR3=\" + \",AP3>=0),RANDBETWEEN(-1*Worksheet!$B$6,0),IF(AND(AR3=\" – \",AP3>0),CHOOSE(RANDBETWEEN(1,2),RANDBETWEEN(-1*Worksheet!$B$6,-1),RANDBETWEEN(AP3,Worksheet!$B$6)),RANDBETWEEN(-1*Worksheet!$B$6,Worksheet!$B$6))),CHOOSE(RANDBETWEEN(1,2),10^(RANDBETWEEN(0,Worksheet!$BL$6-1))*RANDBETWEEN(-10,-1),10^(RANDBETWEEN(0,Worksheet!$BL$6-1))*RANDBETWEEN(1,10))))","v":""},{"$f":"IF(AT3<0,IF(Worksheet!$B$8,\")\",\"\"),\"\")","v":""},"(–-8)²","=","",64]
[{"$f":"IF(ROW()<=Worksheet!$B$4/4,ROW(),\"\")","v":4},{"$f":"IF(C4<0,IF(Worksheet!$B$8,\"(–\",\"–\"),\"\")","v":""},{"$f":"IF(E4=\"²\",RANDBETWEEN(-10,-1),IF(OR(E4=\" + \",E4=\" – \"),RANDBETWEEN(-1*Worksheet!$B$6,Worksheet!$B$6),IF(G4>0,IF(E4=\" × \",RANDBETWEEN(-10,-1),RANDBETWEEN(-10,-1)*G4),IF(E4=\" × \",RANDBETWEEN(-10,10),RANDBETWEEN(-10,10)*G4))))","v":3},{"$f":"IF(C4<0,IF(Worksheet!$B$8,\")\",\"\"),\"\")","v":""},{"$f":"CHOOSE(RANDBETWEEN(1,RANDBETWEEN(4,RANDBETWEEN(IF(RAND()<0.3,4,IF(Worksheet!$B$9,5,4)),IF(Worksheet!$B$9,5,4)))),\" + \",\" – \",\" × \",\" ÷ \",\"²\")","v":" – "},{"$f":"IF(G4<0,IF(Worksheet!$B$8,\"(–\",\"–\"),\"\")","v":"(–"},{"$f":"IF(E4=\"²\",\"\",IF(OR(E4=\" + \",E4=\" – \"),IF(AND(E4=\" + \",C4>=0),RANDBETWEEN(-1*Worksheet!$B$6,0),IF(AND(E4=\" – \",C4>0),CHOOSE(RANDBETWEEN(1,2),RANDBETWEEN(-1*Worksheet!$B$6,-1),RANDBETWEEN(C4,Worksheet!$B$6)),RANDBETWEEN(-1*Worksheet!$B$6,Worksheet!$B$6))),CHOOSE(RANDBETWEEN(1,2),10^(RANDBETWEEN(0,Worksheet!$BL$6-1))*RANDBETWEEN(-10,-1),10^(RANDBETWEEN(0,Worksheet!$BL$6-1))*RANDBETWEEN(1,10))))","v":-8},{"$f":"IF(G4<0,IF(Worksheet!$B$8,\")\",\"\"),\"\")","v":")"},"3 – (–-8)","=","",11,null,{"$f":"IF(ROW()<=Worksheet!$B$4/4,N3+1,\"\")","v":19},{"$f":"IF(P4<0,IF(Worksheet!$B$8,\"(–\",\"–\"),\"\")","v":""},{"$f":"IF(R4=\"²\",RANDBETWEEN(-10,-1),IF(OR(R4=\" + \",R4=\" – \"),RANDBETWEEN(-1*Worksheet!$B$6,Worksheet!$B$6),IF(T4>0,IF(R4=\" × \",RANDBETWEEN(-10,-1),RANDBETWEEN(-10,-1)*T4),IF(R4=\" × \",RANDBETWEEN(-10,10),RANDBETWEEN(-10,10)*T4))))","v":8},{"$f":"IF(P4<0,IF(Worksheet!$B$8,\")\",\"\"),\"\")","v":""},{"$f":"CHOOSE(RANDBETWEEN(1,RANDBETWEEN(4,RANDBETWEEN(IF(RAND()<0.3,4,IF(Worksheet!$B$9,5,4)),IF(Worksheet!$B$9,5,4)))),\" + \",\" – \",\" × \",\" ÷ \",\"²\")","v":" + "},{"$f":"IF(T4<0,IF(Worksheet!$B$8,\"(–\",\"–\"),\"\")","v":"(–"},{"$f":"IF(R4=\"²\",\"\",IF(OR(R4=\" + \",R4=\" – \"),IF(AND(R4=\" + \",P4>=0),RANDBETWEEN(-1*Worksheet!$B$6,0),IF(AND(R4=\" – \",P4>0),CHOOSE(RANDBETWEEN(1,2),RANDBETWEEN(-1*Worksheet!$B$6,-1),RANDBETWEEN(P4,Worksheet!$B$6)),RANDBETWEEN(-1*Worksheet!$B$6,Worksheet!$B$6))),CHOOSE(RANDBETWEEN(1,2),10^(RANDBETWEEN(0,Worksheet!$BL$6-1))*RANDBETWEEN(-10,-1),10^(RANDBETWEEN(0,Worksheet!$BL$6-1))*RANDBETWEEN(1,10))))","v":-3},{"$f":"IF(T4<0,IF(Worksheet!$B$8,\")\",\"\"),\"\")","v":")"},"8 + (–-3)","=","",5,null,{"$f":"IF(ROW()<=Worksheet!$B$4/4,AA3+1,\"\")","v":34},{"$f":"IF(AC4<0,IF(Worksheet!$B$8,\"(–\",\"–\"),\"\")","v":"(–"},{"$f":"IF(AE4=\"²\",RANDBETWEEN(-10,-1),IF(OR(AE4=\" + \",AE4=\" – \"),RANDBETWEEN(-1*Worksheet!$B$6,Worksheet!$B$6),IF(AG4>0,IF(AE4=\" × \",RANDBETWEEN(-10,-1),RANDBETWEEN(-10,-1)*AG4),IF(AE4=\" × \",RANDBETWEEN(-10,10),RANDBETWEEN(-10,10)*AG4))))","v":-40},{"$f":"IF(AC4<0,IF(Worksheet!$B$8,\")\",\"\"),\"\")","v":")"},{"$f":"CHOOSE(RANDBETWEEN(1,RANDBETWEEN(4,RANDBETWEEN(IF(RAND()<0.3,4,IF(Worksheet!$B$9,5,4)),IF(Worksheet!$B$9,5,4)))),\" + \",\" – \",\" × \",\" ÷ \",\"²\")","v":" ÷ "},{"$f":"IF(AG4<0,IF(Worksheet!$B$8,\"(–\",\"–\"),\"\")","v":""},{"$f":"IF(AE4=\"²\",\"\",IF(OR(AE4=\" + \",AE4=\" – \"),IF(AND(AE4=\" + \",AC4>=0),RANDBETWEEN(-1*Worksheet!$B$6,0),IF(AND(AE4=\" – \",AC4>0),CHOOSE(RANDBETWEEN(1,2),RANDBETWEEN(-1*Worksheet!$B$6,-1),RANDBETWEEN(AC4,Worksheet!$B$6)),RANDBETWEEN(-1*Worksheet!$B$6,Worksheet!$B$6))),CHOOSE(RANDBETWEEN(1,2),10^(RANDBETWEEN(0,Worksheet!$BL$6-1))*RANDBETWEEN(-10,-1),10^(RANDBETWEEN(0,Worksheet!$BL$6-1))*RANDBETWEEN(1,10))))","v":10},{"$f":"IF(AG4<0,IF(Worksheet!$B$8,\")\",\"\"),\"\")","v":""},"(–-40) ÷ 10","=","–",-4,null,{"$f":"IF(ROW()<=Worksheet!$B$4/4,AN3+1,\"\")","v":49},{"$f":"IF(AP4<0,IF(Worksheet!$B$8,\"(–\",\"–\"),\"\")","v":"(–"},{"$f":"IF(AR4=\"²\",RANDBETWEEN(-10,-1),IF(OR(AR4=\" + \",AR4=\" – \"),RANDBETWEEN(-1*Worksheet!$B$6,Worksheet!$B$6),IF(AT4>0,IF(AR4=\" × \",RANDBETWEEN(-10,-1),RANDBETWEEN(-10,-1)*AT4),IF(AR4=\" × \",RANDBETWEEN(-10,10),RANDBETWEEN(-10,10)*AT4))))","v":-1},{"$f":"IF(AP4<0,IF(Worksheet!$B$8,\")\",\"\"),\"\")","v":")"},{"$f":"CHOOSE(RANDBETWEEN(1,RANDBETWEEN(4,RANDBETWEEN(IF(RAND()<0.3,4,IF(Worksheet!$B$9,5,4)),IF(Worksheet!$B$9,5,4)))),\" + \",\" – \",\" × \",\" ÷ \",\"²\")","v":" × "},{"$f":"IF(AT4<0,IF(Worksheet!$B$8,\"(–\",\"–\"),\"\")","v":"(–"},{"$f":"IF(AR4=\"²\",\"\",IF(OR(AR4=\" + \",AR4=\" – \"),IF(AND(AR4=\" + \",AP4>=0),RANDBETWEEN(-1*Worksheet!$B$6,0),IF(AND(AR4=\" – \",AP4>0),CHOOSE(RANDBETWEEN(1,2),RANDBETWEEN(-1*Worksheet!$B$6,-1),RANDBETWEEN(AP4,Worksheet!$B$6)),RANDBETWEEN(-1*Worksheet!$B$6,Worksheet!$B$6))),CHOOSE(RANDBETWEEN(1,2),10^(RANDBETWEEN(0,Worksheet!$BL$6-1))*RANDBETWEEN(-10,-1),10^(RANDBETWEEN(0,Worksheet!$BL$6-1))*RANDBETWEEN(1,10))))","v":-3},{"$f":"IF(AT4<0,IF(Worksheet!$B$8,\")\",\"\"),\"\")","v":")"},"(–-1) × (–-3)","=","",3]
[{"$f":"IF(ROW()<=Worksheet!$B$4/4,ROW(),\"\")","v":5},{"$f":"IF(C5<0,IF(Worksheet!$B$8,\"(–\",\"–\"),\"\")","v":"(–"},{"$f":"IF(E5=\"²\",RANDBETWEEN(-10,-1),IF(OR(E5=\" + \",E5=\" – \"),RANDBETWEEN(-1*Worksheet!$B$6,Worksheet!$B$6),IF(G5>0,IF(E5=\" × \",RANDBETWEEN(-10,-1),RANDBETWEEN(-10,-1)*G5),IF(E5=\" × \",RANDBETWEEN(-10,10),RANDBETWEEN(-10,10)*G5))))","v":-35},{"$f":"IF(C5<0,IF(Worksheet!$B$8,\")\",\"\"),\"\")","v":")"},{"$f":"CHOOSE(RANDBETWEEN(1,RANDBETWEEN(4,RANDBETWEEN(IF(RAND()<0.3,4,IF(Worksheet!$B$9,5,4)),IF(Worksheet!$B$9,5,4)))),\" + \",\" – \",\" × \",\" ÷ \",\"²\")","v":" ÷ "},{"$f":"IF(G5<0,IF(Worksheet!$B$8,\"(–\",\"–\"),\"\")","v":""},{"$f":"IF(E5=\"²\",\"\",IF(OR(E5=\" + \",E5=\" – \"),IF(AND(E5=\" + \",C5>=0),RANDBETWEEN(-1*Worksheet!$B$6,0),IF(AND(E5=\" – \",C5>0),CHOOSE(RANDBETWEEN(1,2),RANDBETWEEN(-1*Worksheet!$B$6,-1),RANDBETWEEN(C5,Worksheet!$B$6)),RANDBETWEEN(-1*Worksheet!$B$6,Worksheet!$B$6))),CHOOSE(RANDBETWEEN(1,2),10^(RANDBETWEEN(0,Worksheet!$BL$6-1))*RANDBETWEEN(-10,-1),10^(RANDBETWEEN(0,Worksheet!$BL$6-1))*RANDBETWEEN(1,10))))","v":7},{"$f":"IF(G5<0,IF(Worksheet!$B$8,\")\",\"\"),\"\")","v":""},"(–-35) ÷ 7","=","–",-5,null,{"$f":"IF(ROW()<=Worksheet!$B$4/4,N4+1,\"\")","v":20},{"$f":"IF(P5<0,IF(Worksheet!$B$8,\"(–\",\"–\"),\"\")","v":""},{"$f":"IF(R5=\"²\",RANDBETWEEN(-10,-1),IF(OR(R5=\" + \",R5=\" – \"),RANDBETWEEN(-1*Worksheet!$B$6,Worksheet!$B$6),IF(T5>0,IF(R5=\" × \",RANDBETWEEN(-10,-1),RANDBETWEEN(-10,-1)*T5),IF(R5=\" × \",RANDBETWEEN(-10,10),RANDBETWEEN(-10,10)*T5))))","v":60},{"$f":"IF(P5<0,IF(Worksheet!$B$8,\")\",\"\"),\"\")","v":""},{"$f":"CHOOSE(RANDBETWEEN(1,RANDBETWEEN(4,RANDBETWEEN(IF(RAND()<0.3,4,IF(Worksheet!$B$9,5,4)),IF(Worksheet!$B$9,5,4)))),\" + \",\" – \",\" × \",\" ÷ \",\"²\")","v":" ÷ "},{"$f":"IF(T5<0,IF(Worksheet!$B$8,\"(–\",\"–\"),\"\")","v":"(–"},{"$f":"IF(R5=\"²\",\"\",IF(OR(R5=\" + \",R5=\" – \"),IF(AND(R5=\" + \",P5>=0),RANDBETWEEN(-1*Worksheet!$B$6,0),IF(AND(R5=\" – \",P5>0),CHOOSE(RANDBETWEEN(1,2),RANDBETWEEN(-1*Worksheet!$B$6,-1),RANDBETWEEN(P5,Worksheet!$B$6)),RANDBETWEEN(-1*Worksheet!$B$6,Worksheet!$B$6))),CHOOSE(RANDBETWEEN(1,2),10^(RANDBETWEEN(0,Worksheet!$BL$6-1))*RANDBETWEEN(-10,-1),10^(RANDBETWEEN(0,Worksheet!$BL$6-1))*RANDBETWEEN(1,10))))","v":-6},{"$f":"IF(T5<0,IF(Worksheet!$B$8,\")\",\"\"),\"\")","v":")"},"60 ÷ (–-6)","=","–",-10,null,{"$f":"IF(ROW()<=Worksheet!$B$4/4,AA4+1,\"\")","v":35},{"$f":"IF(AC5<0,IF(Worksheet!$B$8,\"(–\",\"–\"),\"\")","v":"(–"},{"$f":"IF(AE5=\"²\",RANDBETWEEN(-10,-1),IF(OR(AE5=\" + \",AE5=\" – \"),RANDBETWEEN(-1*Worksheet!$B$6,Worksheet!$B$6),IF(AG5>0,IF(AE5=\" × \",RANDBETWEEN(-10,-1),RANDBETWEEN(-10,-1)*AG5),IF(AE5=\" × \",RANDBETWEEN(-10,10),RANDBETWEEN(-10,10)*AG5))))","v":-3},{"$f":"IF(AC5<0,IF(Worksheet!$B$8,\")\",\"\"),\"\")","v":")"},{"$f":"CHOOSE(RANDBETWEEN(1,RANDBETWEEN(4,RANDBETWEEN(IF(RAND()<0.3,4,IF(Worksheet!$B$9,5,4)),IF(Worksheet!$B$9,5,4)))),\" + \",\" – \",\" × \",\" ÷ \",\"²\")","v":" + "},{"$f":"IF(AG5<0,IF(Worksheet!$B$8,\"(–\",\"–\"),\"\")","v":""},{"$f":"IF(AE5=\"²\",\"\",IF(OR(AE5=\" + \",AE5=\" – \"),IF(AND(AE5=\" + \",AC5>=0),RANDBETWEEN(-1*Worksheet!$B$6,0),IF(AND(AE5=\" – \",AC5>0),CHOOSE(RANDBETWEEN(1,2),RANDBETWEEN(-1*Worksheet!$B$6,-1),RANDBETWEEN(AC5,Worksheet!$B$6)),RANDBETWEEN(-1*Worksheet!$B$6,Worksheet!$B$6))),CHOOSE(RANDBETWEEN(1,2),10^(RANDBETWEEN(0,Worksheet!$BL$6-1))*RANDBETWEEN(-10,-1),10^(RANDBETWEEN(0,Worksheet!$BL$6-1))*RANDBETWEEN(1,10))))","v":2},{"$f":"IF(AG5<0,IF(Worksheet!$B$8,\")\",\"\"),\"\")","v":""},"(–-3) + 2","=","–",-1,null,{"$f":"IF(ROW()<=Worksheet!$B$4/4,AN4+1,\"\")","v":50},{"$f":"IF(AP5<0,IF(Worksheet!$B$8,\"(–\",\"–\"),\"\")","v":"(–"},{"$f":"IF(AR5=\"²\",RANDBETWEEN(-10,-1),IF(OR(AR5=\" + \",AR5=\" – \"),RANDBETWEEN(-1*Worksheet!$B$6,Worksheet!$B$6),IF(AT5>0,IF(AR5=\" × \",RANDBETWEEN(-10,-1),RANDBETWEEN(-10,-1)*AT5),IF(AR5=\" × \",RANDBETWEEN(-10,10),RANDBETWEEN(-10,10)*AT5))))","v":-4},{"$f":"IF(AP5<0,IF(Worksheet!$B$8,\")\",\"\"),\"\")","v":")"},{"$f":"CHOOSE(RANDBETWEEN(1,RANDBETWEEN(4,RANDBETWEEN(IF(RAND()<0.3,4,IF(Worksheet!$B$9,5,4)),IF(Worksheet!$B$9,5,4)))),\" + \",\" – \",\" × \",\" ÷ \",\"²\")","v":" × "},{"$f":"IF(AT5<0,IF(Worksheet!$B$8,\"(–\",\"–\"),\"\")","v":""},{"$f":"IF(AR5=\"²\",\"\",IF(OR(AR5=\" + \",AR5=\" – \"),IF(AND(AR5=\" + \",AP5>=0),RANDBETWEEN(-1*Worksheet!$B$6,0),IF(AND(AR5=\" – \",AP5>0),CHOOSE(RANDBETWEEN(1,2),RANDBETWEEN(-1*Worksheet!$B$6,-1),RANDBETWEEN(AP5,Worksheet!$B$6)),RANDBETWEEN(-1*Worksheet!$B$6,Worksheet!$B$6))),CHOOSE(RANDBETWEEN(1,2),10^(RANDBETWEEN(0,Worksheet!$BL$6-1))*RANDBETWEEN(-10,-1),10^(RANDBETWEEN(0,Worksheet!$BL$6-1))*RANDBETWEEN(1,10))))","v":7},{"$f":"IF(AT5<0,IF(Worksheet!$B$8,\")\",\"\"),\"\")","v":""},"(–-4) × 7","=","–",-28]
[{"$f":"IF(ROW()<=Worksheet!$B$4/4,ROW(),\"\")","v":6},{"$f":"IF(C6<0,IF(Worksheet!$B$8,\"(–\",\"–\"),\"\")","v":""},{"$f":"IF(E6=\"²\",RANDBETWEEN(-10,-1),IF(OR(E6=\" + \",E6=\" – \"),RANDBETWEEN(-1*Worksheet!$B$6,Worksheet!$B$6),IF(G6>0,IF(E6=\" × \",RANDBETWEEN(-10,-1),RANDBETWEEN(-10,-1)*G6),IF(E6=\" × \",RANDBETWEEN(-10,10),RANDBETWEEN(-10,10)*G6))))","v":4},{"$f":"IF(C6<0,IF(Worksheet!$B$8,\")\",\"\"),\"\")","v":""},{"$f":"CHOOSE(RANDBETWEEN(1,RANDBETWEEN(4,RANDBETWEEN(IF(RAND()<0.3,4,IF(Worksheet!$B$9,5,4)),IF(Worksheet!$B$9,5,4)))),\" + \",\" – \",\" × \",\" ÷ \",\"²\")","v":" × "},{"$f":"IF(G6<0,IF(Worksheet!$B$8,\"(–\",\"–\"),\"\")","v":"(–"},{"$f":"IF(E6=\"²\",\"\",IF(OR(E6=\" + \",E6=\" – \"),IF(AND(E6=\" + \",C6>=0),RANDBETWEEN(-1*Worksheet!$B$6,0),IF(AND(E6=\" – \",C6>0),CHOOSE(RANDBETWEEN(1,2),RANDBETWEEN(-1*Worksheet!$B$6,-1),RANDBETWEEN(C6,Worksheet!$B$6)),RANDBETWEEN(-1*Worksheet!$B$6,Worksheet!$B$6))),CHOOSE(RANDBETWEEN(1,2),10^(RANDBETWEEN(0,Worksheet!$BL$6-1))*RANDBETWEEN(-10,-1),10^(RANDBETWEEN(0,Worksheet!$BL$6-1))*RANDBETWEEN(1,10))))","v":-6},{"$f":"IF(G6<0,IF(Worksheet!$B$8,\")\",\"\"),\"\")","v":")"},"4 × (–-6)","=","–",-24,null,{"$f":"IF(ROW()<=Worksheet!$B$4/4,N5+1,\"\")","v":21},{"$f":"IF(P6<0,IF(Worksheet!$B$8,\"(–\",\"–\"),\"\")","v":""},{"$f":"IF(R6=\"²\",RANDBETWEEN(-10,-1),IF(OR(R6=\" + \",R6=\" – \"),RANDBETWEEN(-1*Worksheet!$B$6,Worksheet!$B$6),IF(T6>0,IF(R6=\" × \",RANDBETWEEN(-10,-1),RANDBETWEEN(-10,-1)*T6),IF(R6=\" × \",RANDBETWEEN(-10,10),RANDBETWEEN(-10,10)*T6))))","v":1},{"$f":"IF(P6<0,IF(Worksheet!$B$8,\")\",\"\"),\"\")","v":""},{"$f":"CHOOSE(RANDBETWEEN(1,RANDBETWEEN(4,RANDBETWEEN(IF(RAND()<0.3,4,IF(Worksheet!$B$9,5,4)),IF(Worksheet!$B$9,5,4)))),\" + \",\" – \",\" × \",\" ÷ \",\"²\")","v":" + "},{"$f":"IF(T6<0,IF(Worksheet!$B$8,\"(–\",\"–\"),\"\")","v":"(–"},{"$f":"IF(R6=\"²\",\"\",IF(OR(R6=\" + \",R6=\" – \"),IF(AND(R6=\" + \",P6>=0),RANDBETWEEN(-1*Worksheet!$B$6,0),IF(AND(R6=\" – \",P6>0),CHOOSE(RANDBETWEEN(1,2),RANDBETWEEN(-1*Worksheet!$B$6,-1),RANDBETWEEN(P6,Worksheet!$B$6)),RANDBETWEEN(-1*Worksheet!$B$6,Worksheet!$B$6))),CHOOSE(RANDBETWEEN(1,2),10^(RANDBETWEEN(0,Worksheet!$BL$6-1))*RANDBETWEEN(-10,-1),10^(RANDBETWEEN(0,Worksheet!$BL$6-1))*RANDBETWEEN(1,10))))","v":-15},{"$f":"IF(T6<0,IF(Worksheet!$B$8,\")\",\"\"),\"\")","v":")"},"1 + (–-15)","=","–",-14,null,{"$f":"IF(ROW()<=Worksheet!$B$4/4,AA5+1,\"\")","v":36},{"$f":"IF(AC6<0,IF(Worksheet!$B$8,\"(–\",\"–\"),\"\")","v":""},{"$f":"IF(AE6=\"²\",RANDBETWEEN(-10,-1),IF(OR(AE6=\" + \",AE6=\" – \"),RANDBETWEEN(-1*Worksheet!$B$6,Worksheet!$B$6),IF(AG6>0,IF(AE6=\" × \",RANDBETWEEN(-10,-1),RANDBETWEEN(-10,-1)*AG6),IF(AE6=\" × \",RANDBETWEEN(-10,10),RANDBETWEEN(-10,10)*AG6))))","v":0},{"$f":"IF(AC6<0,IF(Worksheet!$B$8,\")\",\"\"),\"\")","v":""},{"$f":"CHOOSE(RANDBETWEEN(1,RANDBETWEEN(4,RANDBETWEEN(IF(RAND()<0.3,4,IF(Worksheet!$B$9,5,4)),IF(Worksheet!$B$9,5,4)))),\" + \",\" – \",\" × \",\" ÷ \",\"²\")","v":" + "},{"$f":"IF(AG6<0,IF(Worksheet!$B$8,\"(–\",\"–\"),\"\")","v":"(–"},{"$f":"IF(AE6=\"²\",\"\",IF(OR(AE6=\" + \",AE6=\" – \"),IF(AND(AE6=\" + \",AC6>=0),RANDBETWEEN(-1*Worksheet!$B$6,0),IF(AND(AE6=\" – \",AC6>0),CHOOSE(RANDBETWEEN(1,2),RANDBETWEEN(-1*Worksheet!$B$6,-1),RANDBETWEEN(AC6,Worksheet!$B$6)),RANDBETWEEN(-1*Worksheet!$B$6,Worksheet!$B$6))),CHOOSE(RANDBETWEEN(1,2),10^(RANDBETWEEN(0,Worksheet!$BL$6-1))*RANDBETWEEN(-10,-1),10^(RANDBETWEEN(0,Worksheet!$BL$6-1))*RANDBETWEEN(1,10))))","v":-1},{"$f":"IF(AG6<0,IF(Worksheet!$B$8,\")\",\"\"),\"\")","v":")"},"0 + (–-1)","=","–",-1,null,{"$f":"IF(ROW()<=Worksheet!$B$4/4,AN5+1,\"\")","v":51},{"$f":"IF(AP6<0,IF(Worksheet!$B$8,\"(–\",\"–\"),\"\")","v":"(–"},{"$f":"IF(AR6=\"²\",RANDBETWEEN(-10,-1),IF(OR(AR6=\" + \",AR6=\" – \"),RANDBETWEEN(-1*Worksheet!$B$6,Worksheet!$B$6),IF(AT6>0,IF(AR6=\" × \",RANDBETWEEN(-10,-1),RANDBETWEEN(-10,-1)*AT6),IF(AR6=\" × \",RANDBETWEEN(-10,10),RANDBETWEEN(-10,10)*AT6))))","v":-21},{"$f":"IF(AP6<0,IF(Worksheet!$B$8,\")\",\"\"),\"\")","v":")"},{"$f":"CHOOSE(RANDBETWEEN(1,RANDBETWEEN(4,RANDBETWEEN(IF(RAND()<0.3,4,IF(Worksheet!$B$9,5,4)),IF(Worksheet!$B$9,5,4)))),\" + \",\" – \",\" × \",\" ÷ \",\"²\")","v":" ÷ "},{"$f":"IF(AT6<0,IF(Worksheet!$B$8,\"(–\",\"–\"),\"\")","v":""},{"$f":"IF(AR6=\"²\",\"\",IF(OR(AR6=\" + \",AR6=\" – \"),IF(AND(AR6=\" + \",AP6>=0),RANDBETWEEN(-1*Worksheet!$B$6,0),IF(AND(AR6=\" – \",AP6>0),CHOOSE(RANDBETWEEN(1,2),RANDBETWEEN(-1*Worksheet!$B$6,-1),RANDBETWEEN(AP6,Worksheet!$B$6)),RANDBETWEEN(-1*Worksheet!$B$6,Worksheet!$B$6))),CHOOSE(RANDBETWEEN(1,2),10^(RANDBETWEEN(0,Worksheet!$BL$6-1))*RANDBETWEEN(-10,-1),10^(RANDBETWEEN(0,Worksheet!$BL$6-1))*RANDBETWEEN(1,10))))","v":7},{"$f":"IF(AT6<0,IF(Worksheet!$B$8,\")\",\"\"),\"\")","v":""},"(–-21) ÷ 7","=","–",-3]
[{"$f":"IF(ROW()<=Worksheet!$B$4/4,ROW(),\"\")","v":7},{"$f":"IF(C7<0,IF(Worksheet!$B$8,\"(–\",\"–\"),\"\")","v":""},{"$f":"IF(E7=\"²\",RANDBETWEEN(-10,-1),IF(OR(E7=\" + \",E7=\" – \"),RANDBETWEEN(-1*Worksheet!$B$6,Worksheet!$B$6),IF(G7>0,IF(E7=\" × \",RANDBETWEEN(-10,-1),RANDBETWEEN(-10,-1)*G7),IF(E7=\" × \",RANDBETWEEN(-10,10),RANDBETWEEN(-10,10)*G7))))","v":0},{"$f":"IF(C7<0,IF(Worksheet!$B$8,\")\",\"\"),\"\")","v":""},{"$f":"CHOOSE(RANDBETWEEN(1,RANDBETWEEN(4,RANDBETWEEN(IF(RAND()<0.3,4,IF(Worksheet!$B$9,5,4)),IF(Worksheet!$B$9,5,4)))),\" + \",\" – \",\" × \",\" ÷ \",\"²\")","v":" + "},{"$f":"IF(G7<0,IF(Worksheet!$B$8,\"(–\",\"–\"),\"\")","v":"(–"},{"$f":"IF(E7=\"²\",\"\",IF(OR(E7=\" + \",E7=\" – \"),IF(AND(E7=\" + \",C7>=0),RANDBETWEEN(-1*Worksheet!$B$6,0),IF(AND(E7=\" – \",C7>0),CHOOSE(RANDBETWEEN(1,2),RANDBETWEEN(-1*Worksheet!$B$6,-1),RANDBETWEEN(C7,Worksheet!$B$6)),RANDBETWEEN(-1*Worksheet!$B$6,Worksheet!$B$6))),CHOOSE(RANDBETWEEN(1,2),10^(RANDBETWEEN(0,Worksheet!$BL$6-1))*RANDBETWEEN(-10,-1),10^(RANDBETWEEN(0,Worksheet!$BL$6-1))*RANDBETWEEN(1,10))))","v":-19},{"$f":"IF(G7<0,IF(Worksheet!$B$8,\")\",\"\"),\"\")","v":")"},"0 + (–-19)","=","–",-19,null,{"$f":"IF(ROW()<=Worksheet!$B$4/4,N6+1,\"\")","v":22},{"$f":"IF(P7<0,IF(Worksheet!$B$8,\"(–\",\"–\"),\"\")","v":""},{"$f":"IF(R7=\"²\",RANDBETWEEN(-10,-1),IF(OR(R7=\" + \",R7=\" – \"),RANDBETWEEN(-1*Worksheet!$B$6,Worksheet!$B$6),IF(T7>0,IF(R7=\" × \",RANDBETWEEN(-10,-1),RANDBETWEEN(-10,-1)*T7),IF(R7=\" × \",RANDBETWEEN(-10,10),RANDBETWEEN(-10,10)*T7))))","v":13},{"$f":"IF(P7<0,IF(Worksheet!$B$8,\")\",\"\"),\"\")","v":""},{"$f":"CHOOSE(RANDBETWEEN(1,RANDBETWEEN(4,RANDBETWEEN(IF(RAND()<0.3,4,IF(Worksheet!$B$9,5,4)),IF(Worksheet!$B$9,5,4)))),\" + \",\" – \",\" × \",\" ÷ \",\"²\")","v":" – "},{"$f":"IF(T7<0,IF(Worksheet!$B$8,\"(–\",\"–\"),\"\")","v":""},{"$f":"IF(R7=\"²\",\"\",IF(OR(R7=\" + \",R7=\" – \"),IF(AND(R7=\" + \",P7>=0),RANDBETWEEN(-1*Worksheet!$B$6,0),IF(AND(R7=\" – \",P7>0),CHOOSE(RANDBETWEEN(1,2),RANDBETWEEN(-1*Worksheet!$B$6,-1),RANDBETWEEN(P7,Worksheet!$B$6)),RANDBETWEEN(-1*Worksheet!$B$6,Worksheet!$B$6))),CHOOSE(RANDBETWEEN(1,2),10^(RANDBETWEEN(0,Worksheet!$BL$6-1))*RANDBETWEEN(-10,-1),10^(RANDBETWEEN(0,Worksheet!$BL$6-1))*RANDBETWEEN(1,10))))","v":13},{"$f":"IF(T7<0,IF(Worksheet!$B$8,\")\",\"\"),\"\")","v":""},"13 – 13","=","",0,null,{"$f":"IF(ROW()<=Worksheet!$B$4/4,AA6+1,\"\")","v":37},{"$f":"IF(AC7<0,IF(Worksheet!$B$8,\"(–\",\"–\"),\"\")","v":"(–"},{"$f":"IF(AE7=\"²\",RANDBETWEEN(-10,-1),IF(OR(AE7=\" + \",AE7=\" – \"),RANDBETWEEN(-1*Worksheet!$B$6,Worksheet!$B$6),IF(AG7>0,IF(AE7=\" × \",RANDBETWEEN(-10,-1),RANDBETWEEN(-10,-1)*AG7),IF(AE7=\" × \",RANDBETWEEN(-10,10),RANDBETWEEN(-10,10)*AG7))))","v":-9},{"$f":"IF(AC7<0,IF(Worksheet!$B$8,\")\",\"\"),\"\")","v":")"},{"$f":"CHOOSE(RANDBETWEEN(1,RANDBETWEEN(4,RANDBETWEEN(IF(RAND()<0.3,4,IF(Worksheet!$B$9,5,4)),IF(Worksheet!$B$9,5,4)))),\" + \",\" – \",\" × \",\" ÷ \",\"²\")","v":" – "},{"$f":"IF(AG7<0,IF(Worksheet!$B$8,\"(–\",\"–\"),\"\")","v":""},{"$f":"IF(AE7=\"²\",\"\",IF(OR(AE7=\" + \",AE7=\" – \"),IF(AND(AE7=\" + \",AC7>=0),RANDBETWEEN(-1*Worksheet!$B$6,0),IF(AND(AE7=\" – \",AC7>0),CHOOSE(RANDBETWEEN(1,2),RANDBETWEEN(-1*Worksheet!$B$6,-1),RANDBETWEEN(AC7,Worksheet!$B$6)),RANDBETWEEN(-1*Worksheet!$B$6,Worksheet!$B$6))),CHOOSE(RANDBETWEEN(1,2),10^(RANDBETWEEN(0,Worksheet!$BL$6-1))*RANDBETWEEN(-10,-1),10^(RANDBETWEEN(0,Worksheet!$BL$6-1))*RANDBETWEEN(1,10))))","v":14},{"$f":"IF(AG7<0,IF(Worksheet!$B$8,\")\",\"\"),\"\")","v":""},"(–-9) – 14","=","–",-23,null,{"$f":"IF(ROW()<=Worksheet!$B$4/4,AN6+1,\"\")","v":52},{"$f":"IF(AP7<0,IF(Worksheet!$B$8,\"(–\",\"–\"),\"\")","v":"(–"},{"$f":"IF(AR7=\"²\",RANDBETWEEN(-10,-1),IF(OR(AR7=\" + \",AR7=\" – \"),RANDBETWEEN(-1*Worksheet!$B$6,Worksheet!$B$6),IF(AT7>0,IF(AR7=\" × \",RANDBETWEEN(-10,-1),RANDBETWEEN(-10,-1)*AT7),IF(AR7=\" × \",RANDBETWEEN(-10,10),RANDBETWEEN(-10,10)*AT7))))","v":-8},{"$f":"IF(AP7<0,IF(Worksheet!$B$8,\")\",\"\"),\"\")","v":")"},{"$f":"CHOOSE(RANDBETWEEN(1,RANDBETWEEN(4,RANDBETWEEN(IF(RAND()<0.3,4,IF(Worksheet!$B$9,5,4)),IF(Worksheet!$B$9,5,4)))),\" + \",\" – \",\" × \",\" ÷ \",\"²\")","v":" × "},{"$f":"IF(AT7<0,IF(Worksheet!$B$8,\"(–\",\"–\"),\"\")","v":"(–"},{"$f":"IF(AR7=\"²\",\"\",IF(OR(AR7=\" + \",AR7=\" – \"),IF(AND(AR7=\" + \",AP7>=0),RANDBETWEEN(-1*Worksheet!$B$6,0),IF(AND(AR7=\" – \",AP7>0),CHOOSE(RANDBETWEEN(1,2),RANDBETWEEN(-1*Worksheet!$B$6,-1),RANDBETWEEN(AP7,Worksheet!$B$6)),RANDBETWEEN(-1*Worksheet!$B$6,Worksheet!$B$6))),CHOOSE(RANDBETWEEN(1,2),10^(RANDBETWEEN(0,Worksheet!$BL$6-1))*RANDBETWEEN(-10,-1),10^(RANDBETWEEN(0,Worksheet!$BL$6-1))*RANDBETWEEN(1,10))))","v":-2},{"$f":"IF(AT7<0,IF(Worksheet!$B$8,\")\",\"\"),\"\")","v":")"},"(–-8) × (–-2)","=","",16]
[{"$f":"IF(ROW()<=Worksheet!$B$4/4,ROW(),\"\")","v":8},{"$f":"IF(C8<0,IF(Worksheet!$B$8,\"(–\",\"–\"),\"\")","v":"(–"},{"$f":"IF(E8=\"²\",RANDBETWEEN(-10,-1),IF(OR(E8=\" + \",E8=\" – \"),RANDBETWEEN(-1*Worksheet!$B$6,Worksheet!$B$6),IF(G8>0,IF(E8=\" × \",RANDBETWEEN(-10,-1),RANDBETWEEN(-10,-1)*G8),IF(E8=\" × \",RANDBETWEEN(-10,10),RANDBETWEEN(-10,10)*G8))))","v":-3},{"$f":"IF(C8<0,IF(Worksheet!$B$8,\")\",\"\"),\"\")","v":")"},{"$f":"CHOOSE(RANDBETWEEN(1,RANDBETWEEN(4,RANDBETWEEN(IF(RAND()<0.3,4,IF(Worksheet!$B$9,5,4)),IF(Worksheet!$B$9,5,4)))),\" + \",\" – \",\" × \",\" ÷ \",\"²\")","v":"²"},{"$f":"IF(G8<0,IF(Worksheet!$B$8,\"(–\",\"–\"),\"\")","v":""},{"$f":"IF(E8=\"²\",\"\",IF(OR(E8=\" + \",E8=\" – \"),IF(AND(E8=\" + \",C8>=0),RANDBETWEEN(-1*Worksheet!$B$6,0),IF(AND(E8=\" – \",C8>0),CHOOSE(RANDBETWEEN(1,2),RANDBETWEEN(-1*Worksheet!$B$6,-1),RANDBETWEEN(C8,Worksheet!$B$6)),RANDBETWEEN(-1*Worksheet!$B$6,Worksheet!$B$6))),CHOOSE(RANDBETWEEN(1,2),10^(RANDBETWEEN(0,Worksheet!$BL$6-1))*RANDBETWEEN(-10,-1),10^(RANDBETWEEN(0,Worksheet!$BL$6-1))*RANDBETWEEN(1,10))))","v":""},{"$f":"IF(G8<0,IF(Worksheet!$B$8,\")\",\"\"),\"\")","v":""},"(–-3)²","=","",9,null,{"$f":"IF(ROW()<=Worksheet!$B$4/4,N7+1,\"\")","v":23},{"$f":"IF(P8<0,IF(Worksheet!$B$8,\"(–\",\"–\"),\"\")","v":""},{"$f":"IF(R8=\"²\",RANDBETWEEN(-10,-1),IF(OR(R8=\" + \",R8=\" – \"),RANDBETWEEN(-1*Worksheet!$B$6,Worksheet!$B$6),IF(T8>0,IF(R8=\" × \",RANDBETWEEN(-10,-1),RANDBETWEEN(-10,-1)*T8),IF(R8=\" × \",RANDBETWEEN(-10,10),RANDBETWEEN(-10,10)*T8))))","v":8},{"$f":"IF(P8<0,IF(Worksheet!$B$8,\")\",\"\"),\"\")","v":""},{"$f":"CHOOSE(RANDBETWEEN(1,RANDBETWEEN(4,RANDBETWEEN(IF(RAND()<0.3,4,IF(Worksheet!$B$9,5,4)),IF(Worksheet!$B$9,5,4)))),\" + \",\" – \",\" × \",\" ÷ \",\"²\")","v":" + "},{"$f":"IF(T8<0,IF(Worksheet!$B$8,\"(–\",\"–\"),\"\")","v":"(–"},{"$f":"IF(R8=\"²\",\"\",IF(OR(R8=\" + \",R8=\" – \"),IF(AND(R8=\" + \",P8>=0),RANDBETWEEN(-1*Worksheet!$B$6,0),IF(AND(R8=\" – \",P8>0),CHOOSE(RANDBETWEEN(1,2),RANDBETWEEN(-1*Worksheet!$B$6,-1),RANDBETWEEN(P8,Worksheet!$B$6)),RANDBETWEEN(-1*Worksheet!$B$6,Worksheet!$B$6))),CHOOSE(RANDBETWEEN(1,2),10^(RANDBETWEEN(0,Worksheet!$BL$6-1))*RANDBETWEEN(-10,-1),10^(RANDBETWEEN(0,Worksheet!$BL$6-1))*RANDBETWEEN(1,10))))","v":-1},{"$f":"IF(T8<0,IF(Worksheet!$B$8,\")\",\"\"),\"\")","v":")"},"8 + (–-1)","=","",7,null,{"$f":"IF(ROW()<=Worksheet!$B$4/4,AA7+1,\"\")","v":38},{"$f":"IF(AC8<0,IF(Worksheet!$B$8,\"(–\",\"–\"),\"\")","v":""},{"$f":"IF(AE8=\"²\",RANDBETWEEN(-10,-1),IF(OR(AE8=\" + \",AE8=\" – \"),RANDBETWEEN(-1*Worksheet!$B$6,Worksheet!$B$6),IF(AG8>0,IF(AE8=\" × \",RANDBETWEEN(-10,-1),RANDBETWEEN(-10,-1)*AG8),IF(AE8=\" × \",RANDBETWEEN(-10,10),RANDBETWEEN(-10,10)*AG8))))","v":8},{"$f":"IF(AC8<0,IF(Worksheet!$B$8,\")\",\"\"),\"\")","v":""},{"$f":"CHOOSE(RANDBETWEEN(1,RANDBETWEEN(4,RANDBETWEEN(IF(RAND()<0.3,4,IF(Worksheet!$B$9,5,4)),IF(Worksheet!$B$9,5,4)))),\" + \",\" – \",\" × \",\" ÷ \",\"²\")","v":" × "},{"$f":"IF(AG8<0,IF(Worksheet!$B$8,\"(–\",\"–\"),\"\")","v":"(–"},{"$f":"IF(AE8=\"²\",\"\",IF(OR(AE8=\" + \",AE8=\" – \"),IF(AND(AE8=\" + \",AC8>=0),RANDBETWEEN(-1*Worksheet!$B$6,0),IF(AND(AE8=\" – \",AC8>0),CHOOSE(RANDBETWEEN(1,2),RANDBETWEEN(-1*Worksheet!$B$6,-1),RANDBETWEEN(AC8,Worksheet!$B$6)),RANDBETWEEN(-1*Worksheet!$B$6,Worksheet!$B$6))),CHOOSE(RANDBETWEEN(1,2),10^(RANDBETWEEN(0,Worksheet!$BL$6-1))*RANDBETWEEN(-10,-1),10^(RANDBETWEEN(0,Worksheet!$BL$6-1))*RANDBETWEEN(1,10))))","v":-6},{"$f":"IF(AG8<0,IF(Worksheet!$B$8,\")\",\"\"),\"\")","v":")"},"8 × (–-6)","=","–",-48,null,{"$f":"IF(ROW()<=Worksheet!$B$4/4,AN7+1,\"\")","v":53},{"$f":"IF(AP8<0,IF(Worksheet!$B$8,\"(–\",\"–\"),\"\")","v":"(–"},{"$f":"IF(AR8=\"²\",RANDBETWEEN(-10,-1),IF(OR(AR8=\" + \",AR8=\" – \"),RANDBETWEEN(-1*Worksheet!$B$6,Worksheet!$B$6),IF(AT8>0,IF(AR8=\" × \",RANDBETWEEN(-10,-1),RANDBETWEEN(-10,-1)*AT8),IF(AR8=\" × \",RANDBETWEEN(-10,10),RANDBETWEEN(-10,10)*AT8))))","v":-4},{"$f":"IF(AP8<0,IF(Worksheet!$B$8,\")\",\"\"),\"\")","v":")"},{"$f":"CHOOSE(RANDBETWEEN(1,RANDBETWEEN(4,RANDBETWEEN(IF(RAND()<0.3,4,IF(Worksheet!$B$9,5,4)),IF(Worksheet!$B$9,5,4)))),\" + \",\" – \",\" × \",\" ÷ \",\"²\")","v":" × "},{"$f":"IF(AT8<0,IF(Worksheet!$B$8,\"(–\",\"–\"),\"\")","v":""},{"$f":"IF(AR8=\"²\",\"\",IF(OR(AR8=\" + \",AR8=\" – \"),IF(AND(AR8=\" + \",AP8>=0),RANDBETWEEN(-1*Worksheet!$B$6,0),IF(AND(AR8=\" – \",AP8>0),CHOOSE(RANDBETWEEN(1,2),RANDBETWEEN(-1*Worksheet!$B$6,-1),RANDBETWEEN(AP8,Worksheet!$B$6)),RANDBETWEEN(-1*Worksheet!$B$6,Worksheet!$B$6))),CHOOSE(RANDBETWEEN(1,2),10^(RANDBETWEEN(0,Worksheet!$BL$6-1))*RANDBETWEEN(-10,-1),10^(RANDBETWEEN(0,Worksheet!$BL$6-1))*RANDBETWEEN(1,10))))","v":4},{"$f":"IF(AT8<0,IF(Worksheet!$B$8,\")\",\"\"),\"\")","v":""},"(–-4) × 4","=","–",-16]
[{"$f":"IF(ROW()<=Worksheet!$B$4/4,ROW(),\"\")","v":9},{"$f":"IF(C9<0,IF(Worksheet!$B$8,\"(–\",\"–\"),\"\")","v":"(–"},{"$f":"IF(E9=\"²\",RANDBETWEEN(-10,-1),IF(OR(E9=\" + \",E9=\" – \"),RANDBETWEEN(-1*Worksheet!$B$6,Worksheet!$B$6),IF(G9>0,IF(E9=\" × \",RANDBETWEEN(-10,-1),RANDBETWEEN(-10,-1)*G9),IF(E9=\" × \",RANDBETWEEN(-10,10),RANDBETWEEN(-10,10)*G9))))","v":-90},{"$f":"IF(C9<0,IF(Worksheet!$B$8,\")\",\"\"),\"\")","v":")"},{"$f":"CHOOSE(RANDBETWEEN(1,RANDBETWEEN(4,RANDBETWEEN(IF(RAND()<0.3,4,IF(Worksheet!$B$9,5,4)),IF(Worksheet!$B$9,5,4)))),\" + \",\" – \",\" × \",\" ÷ \",\"²\")","v":" ÷ "},{"$f":"IF(G9<0,IF(Worksheet!$B$8,\"(–\",\"–\"),\"\")","v":""},{"$f":"IF(E9=\"²\",\"\",IF(OR(E9=\" + \",E9=\" – \"),IF(AND(E9=\" + \",C9>=0),RANDBETWEEN(-1*Worksheet!$B$6,0),IF(AND(E9=\" – \",C9>0),CHOOSE(RANDBETWEEN(1,2),RANDBETWEEN(-1*Worksheet!$B$6,-1),RANDBETWEEN(C9,Worksheet!$B$6)),RANDBETWEEN(-1*Worksheet!$B$6,Worksheet!$B$6))),CHOOSE(RANDBETWEEN(1,2),10^(RANDBETWEEN(0,Worksheet!$BL$6-1))*RANDBETWEEN(-10,-1),10^(RANDBETWEEN(0,Worksheet!$BL$6-1))*RANDBETWEEN(1,10))))","v":9},{"$f":"IF(G9<0,IF(Worksheet!$B$8,\")\",\"\"),\"\")","v":""},"(–-90) ÷ 9","=","–",-10,null,{"$f":"IF(ROW()<=Worksheet!$B$4/4,N8+1,\"\")","v":24},{"$f":"IF(P9<0,IF(Worksheet!$B$8,\"(–\",\"–\"),\"\")","v":"(–"},{"$f":"IF(R9=\"²\",RANDBETWEEN(-10,-1),IF(OR(R9=\" + \",R9=\" – \"),RANDBETWEEN(-1*Worksheet!$B$6,Worksheet!$B$6),IF(T9>0,IF(R9=\" × \",RANDBETWEEN(-10,-1),RANDBETWEEN(-10,-1)*T9),IF(R9=\" × \",RANDBETWEEN(-10,10),RANDBETWEEN(-10,10)*T9))))","v":-63},{"$f":"IF(P9<0,IF(Worksheet!$B$8,\")\",\"\"),\"\")","v":")"},{"$f":"CHOOSE(RANDBETWEEN(1,RANDBETWEEN(4,RANDBETWEEN(IF(RAND()<0.3,4,IF(Worksheet!$B$9,5,4)),IF(Worksheet!$B$9,5,4)))),\" + \",\" – \",\" × \",\" ÷ \",\"²\")","v":" ÷ "},{"$f":"IF(T9<0,IF(Worksheet!$B$8,\"(–\",\"–\"),\"\")","v":"(–"},{"$f":"IF(R9=\"²\",\"\",IF(OR(R9=\" + \",R9=\" – \"),IF(AND(R9=\" + \",P9>=0),RANDBETWEEN(-1*Worksheet!$B$6,0),IF(AND(R9=\" – \",P9>0),CHOOSE(RANDBETWEEN(1,2),RANDBETWEEN(-1*Worksheet!$B$6,-1),RANDBETWEEN(P9,Worksheet!$B$6)),RANDBETWEEN(-1*Worksheet!$B$6,Worksheet!$B$6))),CHOOSE(RANDBETWEEN(1,2),10^(RANDBETWEEN(0,Worksheet!$BL$6-1))*RANDBETWEEN(-10,-1),10^(RANDBETWEEN(0,Worksheet!$BL$6-1))*RANDBETWEEN(1,10))))","v":-7},{"$f":"IF(T9<0,IF(Worksheet!$B$8,\")\",\"\"),\"\")","v":")"},"(–-63) ÷ (–-7)","=","",9,null,{"$f":"IF(ROW()<=Worksheet!$B$4/4,AA8+1,\"\")","v":39},{"$f":"IF(AC9<0,IF(Worksheet!$B$8,\"(–\",\"–\"),\"\")","v":"(–"},{"$f":"IF(AE9=\"²\",RANDBETWEEN(-10,-1),IF(OR(AE9=\" + \",AE9=\" – \"),RANDBETWEEN(-1*Worksheet!$B$6,Worksheet!$B$6),IF(AG9>0,IF(AE9=\" × \",RANDBETWEEN(-10,-1),RANDBETWEEN(-10,-1)*AG9),IF(AE9=\" × \",RANDBETWEEN(-10,10),RANDBETWEEN(-10,10)*AG9))))","v":-80},{"$f":"IF(AC9<0,IF(Worksheet!$B$8,\")\",\"\"),\"\")","v":")"},{"$f":"CHOOSE(RANDBETWEEN(1,RANDBETWEEN(4,RANDBETWEEN(IF(RAND()<0.3,4,IF(Worksheet!$B$9,5,4)),IF(Worksheet!$B$9,5,4)))),\" + \",\" – \",\" × \",\" ÷ \",\"²\")","v":" ÷ "},{"$f":"IF(AG9<0,IF(Worksheet!$B$8,\"(–\",\"–\"),\"\")","v":""},{"$f":"IF(AE9=\"²\",\"\",IF(OR(AE9=\" + \",AE9=\" – \"),IF(AND(AE9=\" + \",AC9>=0),RANDBETWEEN(-1*Worksheet!$B$6,0),IF(AND(AE9=\" – \",AC9>0),CHOOSE(RANDBETWEEN(1,2),RANDBETWEEN(-1*Worksheet!$B$6,-1),RANDBETWEEN(AC9,Worksheet!$B$6)),RANDBETWEEN(-1*Worksheet!$B$6,Worksheet!$B$6))),CHOOSE(RANDBETWEEN(1,2),10^(RANDBETWEEN(0,Worksheet!$BL$6-1))*RANDBETWEEN(-10,-1),10^(RANDBETWEEN(0,Worksheet!$BL$6-1))*RANDBETWEEN(1,10))))","v":8},{"$f":"IF(AG9<0,IF(Worksheet!$B$8,\")\",\"\"),\"\")","v":""},"(–-80) ÷ 8","=","–",-10,null,{"$f":"IF(ROW()<=Worksheet!$B$4/4,AN8+1,\"\")","v":54},{"$f":"IF(AP9<0,IF(Worksheet!$B$8,\"(–\",\"–\"),\"\")","v":"(–"},{"$f":"IF(AR9=\"²\",RANDBETWEEN(-10,-1),IF(OR(AR9=\" + \",AR9=\" – \"),RANDBETWEEN(-1*Worksheet!$B$6,Worksheet!$B$6),IF(AT9>0,IF(AR9=\" × \",RANDBETWEEN(-10,-1),RANDBETWEEN(-10,-1)*AT9),IF(AR9=\" × \",RANDBETWEEN(-10,10),RANDBETWEEN(-10,10)*AT9))))","v":-9},{"$f":"IF(AP9<0,IF(Worksheet!$B$8,\")\",\"\"),\"\")","v":")"},{"$f":"CHOOSE(RANDBETWEEN(1,RANDBETWEEN(4,RANDBETWEEN(IF(RAND()<0.3,4,IF(Worksheet!$B$9,5,4)),IF(Worksheet!$B$9,5,4)))),\" + \",\" – \",\" × \",\" ÷ \",\"²\")","v":" × "},{"$f":"IF(AT9<0,IF(Worksheet!$B$8,\"(–\",\"–\"),\"\")","v":""},{"$f":"IF(AR9=\"²\",\"\",IF(OR(AR9=\" + \",AR9=\" – \"),IF(AND(AR9=\" + \",AP9>=0),RANDBETWEEN(-1*Worksheet!$B$6,0),IF(AND(AR9=\" – \",AP9>0),CHOOSE(RANDBETWEEN(1,2),RANDBETWEEN(-1*Worksheet!$B$6,-1),RANDBETWEEN(AP9,Worksheet!$B$6)),RANDBETWEEN(-1*Worksheet!$B$6,Worksheet!$B$6))),CHOOSE(RANDBETWEEN(1,2),10^(RANDBETWEEN(0,Worksheet!$BL$6-1))*RANDBETWEEN(-10,-1),10^(RANDBETWEEN(0,Worksheet!$BL$6-1))*RANDBETWEEN(1,10))))","v":6},{"$f":"IF(AT9<0,IF(Worksheet!$B$8,\")\",\"\"),\"\")","v":""},"(–-9) × 6","=","–",-54]
[{"$f":"IF(ROW()<=Worksheet!$B$4/4,ROW(),\"\")","v":10},{"$f":"IF(C10<0,IF(Worksheet!$B$8,\"(–\",\"–\"),\"\")","v":"(–"},{"$f":"IF(E10=\"²\",RANDBETWEEN(-10,-1),IF(OR(E10=\" + \",E10=\" – \"),RANDBETWEEN(-1*Worksheet!$B$6,Worksheet!$B$6),IF(G10>0,IF(E10=\" × \",RANDBETWEEN(-10,-1),RANDBETWEEN(-10,-1)*G10),IF(E10=\" × \",RANDBETWEEN(-10,10),RANDBETWEEN(-10,10)*G10))))","v":-3},{"$f":"IF(C10<0,IF(Worksheet!$B$8,\")\",\"\"),\"\")","v":")"},{"$f":"CHOOSE(RANDBETWEEN(1,RANDBETWEEN(4,RANDBETWEEN(IF(RAND()<0.3,4,IF(Worksheet!$B$9,5,4)),IF(Worksheet!$B$9,5,4)))),\" + \",\" – \",\" × \",\" ÷ \",\"²\")","v":" × "},{"$f":"IF(G10<0,IF(Worksheet!$B$8,\"(–\",\"–\"),\"\")","v":""},{"$f":"IF(E10=\"²\",\"\",IF(OR(E10=\" + \",E10=\" – \"),IF(AND(E10=\" + \",C10>=0),RANDBETWEEN(-1*Worksheet!$B$6,0),IF(AND(E10=\" – \",C10>0),CHOOSE(RANDBETWEEN(1,2),RANDBETWEEN(-1*Worksheet!$B$6,-1),RANDBETWEEN(C10,Worksheet!$B$6)),RANDBETWEEN(-1*Worksheet!$B$6,Worksheet!$B$6))),CHOOSE(RANDBETWEEN(1,2),10^(RANDBETWEEN(0,Worksheet!$BL$6-1))*RANDBETWEEN(-10,-1),10^(RANDBETWEEN(0,Worksheet!$BL$6-1))*RANDBETWEEN(1,10))))","v":8},{"$f":"IF(G10<0,IF(Worksheet!$B$8,\")\",\"\"),\"\")","v":""},"(–-3) × 8","=","–",-24,null,{"$f":"IF(ROW()<=Worksheet!$B$4/4,N9+1,\"\")","v":25},{"$f":"IF(P10<0,IF(Worksheet!$B$8,\"(–\",\"–\"),\"\")","v":"(–"},{"$f":"IF(R10=\"²\",RANDBETWEEN(-10,-1),IF(OR(R10=\" + \",R10=\" – \"),RANDBETWEEN(-1*Worksheet!$B$6,Worksheet!$B$6),IF(T10>0,IF(R10=\" × \",RANDBETWEEN(-10,-1),RANDBETWEEN(-10,-1)*T10),IF(R10=\" × \",RANDBETWEEN(-10,10),RANDBETWEEN(-10,10)*T10))))","v":-2},{"$f":"IF(P10<0,IF(Worksheet!$B$8,\")\",\"\"),\"\")","v":")"},{"$f":"CHOOSE(RANDBETWEEN(1,RANDBETWEEN(4,RANDBETWEEN(IF(RAND()<0.3,4,IF(Worksheet!$B$9,5,4)),IF(Worksheet!$B$9,5,4)))),\" + \",\" – \",\" × \",\" ÷ \",\"²\")","v":" × "},{"$f":"IF(T10<0,IF(Worksheet!$B$8,\"(–\",\"–\"),\"\")","v":"(–"},{"$f":"IF(R10=\"²\",\"\",IF(OR(R10=\" + \",R10=\" – \"),IF(AND(R10=\" + \",P10>=0),RANDBETWEEN(-1*Worksheet!$B$6,0),IF(AND(R10=\" – \",P10>0),CHOOSE(RANDBETWEEN(1,2),RANDBETWEEN(-1*Worksheet!$B$6,-1),RANDBETWEEN(P10,Worksheet!$B$6)),RANDBETWEEN(-1*Worksheet!$B$6,Worksheet!$B$6))),CHOOSE(RANDBETWEEN(1,2),10^(RANDBETWEEN(0,Worksheet!$BL$6-1))*RANDBETWEEN(-10,-1),10^(RANDBETWEEN(0,Worksheet!$BL$6-1))*RANDBETWEEN(1,10))))","v":-9},{"$f":"IF(T10<0,IF(Worksheet!$B$8,\")\",\"\"),\"\")","v":")"},"(–-2) × (–-9)","=","",18,null,{"$f":"IF(ROW()<=Worksheet!$B$4/4,AA9+1,\"\")","v":40},{"$f":"IF(AC10<0,IF(Worksheet!$B$8,\"(–\",\"–\"),\"\")","v":""},{"$f":"IF(AE10=\"²\",RANDBETWEEN(-10,-1),IF(OR(AE10=\" + \",AE10=\" – \"),RANDBETWEEN(-1*Worksheet!$B$6,Worksheet!$B$6),IF(AG10>0,IF(AE10=\" × \",RANDBETWEEN(-10,-1),RANDBETWEEN(-10,-1)*AG10),IF(AE10=\" × \",RANDBETWEEN(-10,10),RANDBETWEEN(-10,10)*AG10))))","v":0},{"$f":"IF(AC10<0,IF(Worksheet!$B$8,\")\",\"\"),\"\")","v":""},{"$f":"CHOOSE(RANDBETWEEN(1,RANDBETWEEN(4,RANDBETWEEN(IF(RAND()<0.3,4,IF(Worksheet!$B$9,5,4)),IF(Worksheet!$B$9,5,4)))),\" + \",\" – \",\" × \",\" ÷ \",\"²\")","v":" + "},{"$f":"IF(AG10<0,IF(Worksheet!$B$8,\"(–\",\"–\"),\"\")","v":"(–"},{"$f":"IF(AE10=\"²\",\"\",IF(OR(AE10=\" + \",AE10=\" – \"),IF(AND(AE10=\" + \",AC10>=0),RANDBETWEEN(-1*Worksheet!$B$6,0),IF(AND(AE10=\" – \",AC10>0),CHOOSE(RANDBETWEEN(1,2),RANDBETWEEN(-1*Worksheet!$B$6,-1),RANDBETWEEN(AC10,Worksheet!$B$6)),RANDBETWEEN(-1*Worksheet!$B$6,Worksheet!$B$6))),CHOOSE(RANDBETWEEN(1,2),10^(RANDBETWEEN(0,Worksheet!$BL$6-1))*RANDBETWEEN(-10,-1),10^(RANDBETWEEN(0,Worksheet!$BL$6-1))*RANDBETWEEN(1,10))))","v":-2},{"$f":"IF(AG10<0,IF(Worksheet!$B$8,\")\",\"\"),\"\")","v":")"},"0 + (–-2)","=","–",-2,null,{"$f":"IF(ROW()<=Worksheet!$B$4/4,AN9+1,\"\")","v":55},{"$f":"IF(AP10<0,IF(Worksheet!$B$8,\"(–\",\"–\"),\"\")","v":"(–"},{"$f":"IF(AR10=\"²\",RANDBETWEEN(-10,-1),IF(OR(AR10=\" + \",AR10=\" – \"),RANDBETWEEN(-1*Worksheet!$B$6,Worksheet!$B$6),IF(AT10>0,IF(AR10=\" × \",RANDBETWEEN(-10,-1),RANDBETWEEN(-10,-1)*AT10),IF(AR10=\" × \",RANDBETWEEN(-10,10),RANDBETWEEN(-10,10)*AT10))))","v":-8},{"$f":"IF(AP10<0,IF(Worksheet!$B$8,\")\",\"\"),\"\")","v":")"},{"$f":"CHOOSE(RANDBETWEEN(1,RANDBETWEEN(4,RANDBETWEEN(IF(RAND()<0.3,4,IF(Worksheet!$B$9,5,4)),IF(Worksheet!$B$9,5,4)))),\" + \",\" – \",\" × \",\" ÷ \",\"²\")","v":" – "},{"$f":"IF(AT10<0,IF(Worksheet!$B$8,\"(–\",\"–\"),\"\")","v":""},{"$f":"IF(AR10=\"²\",\"\",IF(OR(AR10=\" + \",AR10=\" – \"),IF(AND(AR10=\" + \",AP10>=0),RANDBETWEEN(-1*Worksheet!$B$6,0),IF(AND(AR10=\" – \",AP10>0),CHOOSE(RANDBETWEEN(1,2),RANDBETWEEN(-1*Worksheet!$B$6,-1),RANDBETWEEN(AP10,Worksheet!$B$6)),RANDBETWEEN(-1*Worksheet!$B$6,Worksheet!$B$6))),CHOOSE(RANDBETWEEN(1,2),10^(RANDBETWEEN(0,Worksheet!$BL$6-1))*RANDBETWEEN(-10,-1),10^(RANDBETWEEN(0,Worksheet!$BL$6-1))*RANDBETWEEN(1,10))))","v":2},{"$f":"IF(AT10<0,IF(Worksheet!$B$8,\")\",\"\"),\"\")","v":""},"(–-8) – 2","=","–",-10]
[{"$f":"IF(ROW()<=Worksheet!$B$4/4,ROW(),\"\")","v":11},{"$f":"IF(C11<0,IF(Worksheet!$B$8,\"(–\",\"–\"),\"\")","v":"(–"},{"$f":"IF(E11=\"²\",RANDBETWEEN(-10,-1),IF(OR(E11=\" + \",E11=\" – \"),RANDBETWEEN(-1*Worksheet!$B$6,Worksheet!$B$6),IF(G11>0,IF(E11=\" × \",RANDBETWEEN(-10,-1),RANDBETWEEN(-10,-1)*G11),IF(E11=\" × \",RANDBETWEEN(-10,10),RANDBETWEEN(-10,10)*G11))))","v":-12},{"$f":"IF(C11<0,IF(Worksheet!$B$8,\")\",\"\"),\"\")","v":")"},{"$f":"CHOOSE(RANDBETWEEN(1,RANDBETWEEN(4,RANDBETWEEN(IF(RAND()<0.3,4,IF(Worksheet!$B$9,5,4)),IF(Worksheet!$B$9,5,4)))),\" + \",\" – \",\" × \",\" ÷ \",\"²\")","v":" ÷ "},{"$f":"IF(G11<0,IF(Worksheet!$B$8,\"(–\",\"–\"),\"\")","v":"(–"},{"$f":"IF(E11=\"²\",\"\",IF(OR(E11=\" + \",E11=\" – \"),IF(AND(E11=\" + \",C11>=0),RANDBETWEEN(-1*Worksheet!$B$6,0),IF(AND(E11=\" – \",C11>0),CHOOSE(RANDBETWEEN(1,2),RANDBETWEEN(-1*Worksheet!$B$6,-1),RANDBETWEEN(C11,Worksheet!$B$6)),RANDBETWEEN(-1*Worksheet!$B$6,Worksheet!$B$6))),CHOOSE(RANDBETWEEN(1,2),10^(RANDBETWEEN(0,Worksheet!$BL$6-1))*RANDBETWEEN(-10,-1),10^(RANDBETWEEN(0,Worksheet!$BL$6-1))*RANDBETWEEN(1,10))))","v":-4},{"$f":"IF(G11<0,IF(Worksheet!$B$8,\")\",\"\"),\"\")","v":")"},"(–-12) ÷ (–-4)","=","",3,null,{"$f":"IF(ROW()<=Worksheet!$B$4/4,N10+1,\"\")","v":26},{"$f":"IF(P11<0,IF(Worksheet!$B$8,\"(–\",\"–\"),\"\")","v":""},{"$f":"IF(R11=\"²\",RANDBETWEEN(-10,-1),IF(OR(R11=\" + \",R11=\" – \"),RANDBETWEEN(-1*Worksheet!$B$6,Worksheet!$B$6),IF(T11>0,IF(R11=\" × \",RANDBETWEEN(-10,-1),RANDBETWEEN(-10,-1)*T11),IF(R11=\" × \",RANDBETWEEN(-10,10),RANDBETWEEN(-10,10)*T11))))","v":4},{"$f":"IF(P11<0,IF(Worksheet!$B$8,\")\",\"\"),\"\")","v":""},{"$f":"CHOOSE(RANDBETWEEN(1,RANDBETWEEN(4,RANDBETWEEN(IF(RAND()<0.3,4,IF(Worksheet!$B$9,5,4)),IF(Worksheet!$B$9,5,4)))),\" + \",\" – \",\" × \",\" ÷ \",\"²\")","v":" – "},{"$f":"IF(T11<0,IF(Worksheet!$B$8,\"(–\",\"–\"),\"\")","v":""},{"$f":"IF(R11=\"²\",\"\",IF(OR(R11=\" + \",R11=\" – \"),IF(AND(R11=\" + \",P11>=0),RANDBETWEEN(-1*Worksheet!$B$6,0),IF(AND(R11=\" – \",P11>0),CHOOSE(RANDBETWEEN(1,2),RANDBETWEEN(-1*Worksheet!$B$6,-1),RANDBETWEEN(P11,Worksheet!$B$6)),RANDBETWEEN(-1*Worksheet!$B$6,Worksheet!$B$6))),CHOOSE(RANDBETWEEN(1,2),10^(RANDBETWEEN(0,Worksheet!$BL$6-1))*RANDBETWEEN(-10,-1),10^(RANDBETWEEN(0,Worksheet!$BL$6-1))*RANDBETWEEN(1,10))))","v":12},{"$f":"IF(T11<0,IF(Worksheet!$B$8,\")\",\"\"),\"\")","v":""},"4 – 12","=","–",-8,null,{"$f":"IF(ROW()<=Worksheet!$B$4/4,AA10+1,\"\")","v":41},{"$f":"IF(AC11<0,IF(Worksheet!$B$8,\"(–\",\"–\"),\"\")","v":"(–"},{"$f":"IF(AE11=\"²\",RANDBETWEEN(-10,-1),IF(OR(AE11=\" + \",AE11=\" – \"),RANDBETWEEN(-1*Worksheet!$B$6,Worksheet!$B$6),IF(AG11>0,IF(AE11=\" × \",RANDBETWEEN(-10,-1),RANDBETWEEN(-10,-1)*AG11),IF(AE11=\" × \",RANDBETWEEN(-10,10),RANDBETWEEN(-10,10)*AG11))))","v":-1},{"$f":"IF(AC11<0,IF(Worksheet!$B$8,\")\",\"\"),\"\")","v":")"},{"$f":"CHOOSE(RANDBETWEEN(1,RANDBETWEEN(4,RANDBETWEEN(IF(RAND()<0.3,4,IF(Worksheet!$B$9,5,4)),IF(Worksheet!$B$9,5,4)))),\" + \",\" – \",\" × \",\" ÷ \",\"²\")","v":" × "},{"$f":"IF(AG11<0,IF(Worksheet!$B$8,\"(–\",\"–\"),\"\")","v":""},{"$f":"IF(AE11=\"²\",\"\",IF(OR(AE11=\" + \",AE11=\" – \"),IF(AND(AE11=\" + \",AC11>=0),RANDBETWEEN(-1*Worksheet!$B$6,0),IF(AND(AE11=\" – \",AC11>0),CHOOSE(RANDBETWEEN(1,2),RANDBETWEEN(-1*Worksheet!$B$6,-1),RANDBETWEEN(AC11,Worksheet!$B$6)),RANDBETWEEN(-1*Worksheet!$B$6,Worksheet!$B$6))),CHOOSE(RANDBETWEEN(1,2),10^(RANDBETWEEN(0,Worksheet!$BL$6-1))*RANDBETWEEN(-10,-1),10^(RANDBETWEEN(0,Worksheet!$BL$6-1))*RANDBETWEEN(1,10))))","v":3},{"$f":"IF(AG11<0,IF(Worksheet!$B$8,\")\",\"\"),\"\")","v":""},"(–-1) × 3","=","–",-3,null,{"$f":"IF(ROW()<=Worksheet!$B$4/4,AN10+1,\"\")","v":56},{"$f":"IF(AP11<0,IF(Worksheet!$B$8,\"(–\",\"–\"),\"\")","v":""},{"$f":"IF(AR11=\"²\",RANDBETWEEN(-10,-1),IF(OR(AR11=\" + \",AR11=\" – \"),RANDBETWEEN(-1*Worksheet!$B$6,Worksheet!$B$6),IF(AT11>0,IF(AR11=\" × \",RANDBETWEEN(-10,-1),RANDBETWEEN(-10,-1)*AT11),IF(AR11=\" × \",RANDBETWEEN(-10,10),RANDBETWEEN(-10,10)*AT11))))","v":18},{"$f":"IF(AP11<0,IF(Worksheet!$B$8,\")\",\"\"),\"\")","v":""},{"$f":"CHOOSE(RANDBETWEEN(1,RANDBETWEEN(4,RANDBETWEEN(IF(RAND()<0.3,4,IF(Worksheet!$B$9,5,4)),IF(Worksheet!$B$9,5,4)))),\" + \",\" – \",\" × \",\" ÷ \",\"²\")","v":" – "},{"$f":"IF(AT11<0,IF(Worksheet!$B$8,\"(–\",\"–\"),\"\")","v":""},{"$f":"IF(AR11=\"²\",\"\",IF(OR(AR11=\" + \",AR11=\" – \"),IF(AND(AR11=\" + \",AP11>=0),RANDBETWEEN(-1*Worksheet!$B$6,0),IF(AND(AR11=\" – \",AP11>0),CHOOSE(RANDBETWEEN(1,2),RANDBETWEEN(-1*Worksheet!$B$6,-1),RANDBETWEEN(AP11,Worksheet!$B$6)),RANDBETWEEN(-1*Worksheet!$B$6,Worksheet!$B$6))),CHOOSE(RANDBETWEEN(1,2),10^(RANDBETWEEN(0,Worksheet!$BL$6-1))*RANDBETWEEN(-10,-1),10^(RANDBETWEEN(0,Worksheet!$BL$6-1))*RANDBETWEEN(1,10))))","v":18},{"$f":"IF(AT11<0,IF(Worksheet!$B$8,\")\",\"\"),\"\")","v":""},"18 – 18","=","",0]
[{"$f":"IF(ROW()<=Worksheet!$B$4/4,ROW(),\"\")","v":12},{"$f":"IF(C12<0,IF(Worksheet!$B$8,\"(–\",\"–\"),\"\")","v":""},{"$f":"IF(E12=\"²\",RANDBETWEEN(-10,-1),IF(OR(E12=\" + \",E12=\" – \"),RANDBETWEEN(-1*Worksheet!$B$6,Worksheet!$B$6),IF(G12>0,IF(E12=\" × \",RANDBETWEEN(-10,-1),RANDBETWEEN(-10,-1)*G12),IF(E12=\" × \",RANDBETWEEN(-10,10),RANDBETWEEN(-10,10)*G12))))","v":15},{"$f":"IF(C12<0,IF(Worksheet!$B$8,\")\",\"\"),\"\")","v":""},{"$f":"CHOOSE(RANDBETWEEN(1,RANDBETWEEN(4,RANDBETWEEN(IF(RAND()<0.3,4,IF(Worksheet!$B$9,5,4)),IF(Worksheet!$B$9,5,4)))),\" + \",\" – \",\" × \",\" ÷ \",\"²\")","v":" – "},{"$f":"IF(G12<0,IF(Worksheet!$B$8,\"(–\",\"–\"),\"\")","v":""},{"$f":"IF(E12=\"²\",\"\",IF(OR(E12=\" + \",E12=\" – \"),IF(AND(E12=\" + \",C12>=0),RANDBETWEEN(-1*Worksheet!$B$6,0),IF(AND(E12=\" – \",C12>0),CHOOSE(RANDBETWEEN(1,2),RANDBETWEEN(-1*Worksheet!$B$6,-1),RANDBETWEEN(C12,Worksheet!$B$6)),RANDBETWEEN(-1*Worksheet!$B$6,Worksheet!$B$6))),CHOOSE(RANDBETWEEN(1,2),10^(RANDBETWEEN(0,Worksheet!$BL$6-1))*RANDBETWEEN(-10,-1),10^(RANDBETWEEN(0,Worksheet!$BL$6-1))*RANDBETWEEN(1,10))))","v":20},{"$f":"IF(G12<0,IF(Worksheet!$B$8,\")\",\"\"),\"\")","v":""},"15 – 20","=","–",-5,null,{"$f":"IF(ROW()<=Worksheet!$B$4/4,N11+1,\"\")","v":27},{"$f":"IF(P12<0,IF(Worksheet!$B$8,\"(–\",\"–\"),\"\")","v":""},{"$f":"IF(R12=\"²\",RANDBETWEEN(-10,-1),IF(OR(R12=\" + \",R12=\" – \"),RANDBETWEEN(-1*Worksheet!$B$6,Worksheet!$B$6),IF(T12>0,IF(R12=\" × \",RANDBETWEEN(-10,-1),RANDBETWEEN(-10,-1)*T12),IF(R12=\" × \",RANDBETWEEN(-10,10),RANDBETWEEN(-10,10)*T12))))","v":20},{"$f":"IF(P12<0,IF(Worksheet!$B$8,\")\",\"\"),\"\")","v":""},{"$f":"CHOOSE(RANDBETWEEN(1,RANDBETWEEN(4,RANDBETWEEN(IF(RAND()<0.3,4,IF(Worksheet!$B$9,5,4)),IF(Worksheet!$B$9,5,4)))),\" + \",\" – \",\" × \",\" ÷ \",\"²\")","v":" + "},{"$f":"IF(T12<0,IF(Worksheet!$B$8,\"(–\",\"–\"),\"\")","v":"(–"},{"$f":"IF(R12=\"²\",\"\",IF(OR(R12=\" + \",R12=\" – \"),IF(AND(R12=\" + \",P12>=0),RANDBETWEEN(-1*Worksheet!$B$6,0),IF(AND(R12=\" – \",P12>0),CHOOSE(RANDBETWEEN(1,2),RANDBETWEEN(-1*Worksheet!$B$6,-1),RANDBETWEEN(P12,Worksheet!$B$6)),RANDBETWEEN(-1*Worksheet!$B$6,Worksheet!$B$6))),CHOOSE(RANDBETWEEN(1,2),10^(RANDBETWEEN(0,Worksheet!$BL$6-1))*RANDBETWEEN(-10,-1),10^(RANDBETWEEN(0,Worksheet!$BL$6-1))*RANDBETWEEN(1,10))))","v":-5},{"$f":"IF(T12<0,IF(Worksheet!$B$8,\")\",\"\"),\"\")","v":")"},"20 + (–-5)","=","",15,null,{"$f":"IF(ROW()<=Worksheet!$B$4/4,AA11+1,\"\")","v":42},{"$f":"IF(AC12<0,IF(Worksheet!$B$8,\"(–\",\"–\"),\"\")","v":""},{"$f":"IF(AE12=\"²\",RANDBETWEEN(-10,-1),IF(OR(AE12=\" + \",AE12=\" – \"),RANDBETWEEN(-1*Worksheet!$B$6,Worksheet!$B$6),IF(AG12>0,IF(AE12=\" × \",RANDBETWEEN(-10,-1),RANDBETWEEN(-10,-1)*AG12),IF(AE12=\" × \",RANDBETWEEN(-10,10),RANDBETWEEN(-10,10)*AG12))))","v":90},{"$f":"IF(AC12<0,IF(Worksheet!$B$8,\")\",\"\"),\"\")","v":""},{"$f":"CHOOSE(RANDBETWEEN(1,RANDBETWEEN(4,RANDBETWEEN(IF(RAND()<0.3,4,IF(Worksheet!$B$9,5,4)),IF(Worksheet!$B$9,5,4)))),\" + \",\" – \",\" × \",\" ÷ \",\"²\")","v":" ÷ "},{"$f":"IF(AG12<0,IF(Worksheet!$B$8,\"(–\",\"–\"),\"\")","v":"(–"},{"$f":"IF(AE12=\"²\",\"\",IF(OR(AE12=\" + \",AE12=\" – \"),IF(AND(AE12=\" + \",AC12>=0),RANDBETWEEN(-1*Worksheet!$B$6,0),IF(AND(AE12=\" – \",AC12>0),CHOOSE(RANDBETWEEN(1,2),RANDBETWEEN(-1*Worksheet!$B$6,-1),RANDBETWEEN(AC12,Worksheet!$B$6)),RANDBETWEEN(-1*Worksheet!$B$6,Worksheet!$B$6))),CHOOSE(RANDBETWEEN(1,2),10^(RANDBETWEEN(0,Worksheet!$BL$6-1))*RANDBETWEEN(-10,-1),10^(RANDBETWEEN(0,Worksheet!$BL$6-1))*RANDBETWEEN(1,10))))","v":-9},{"$f":"IF(AG12<0,IF(Worksheet!$B$8,\")\",\"\"),\"\")","v":")"},"90 ÷ (–-9)","=","–",-10,null,{"$f":"IF(ROW()<=Worksheet!$B$4/4,AN11+1,\"\")","v":57},{"$f":"IF(AP12<0,IF(Worksheet!$B$8,\"(–\",\"–\"),\"\")","v":"(–"},{"$f":"IF(AR12=\"²\",RANDBETWEEN(-10,-1),IF(OR(AR12=\" + \",AR12=\" – \"),RANDBETWEEN(-1*Worksheet!$B$6,Worksheet!$B$6),IF(AT12>0,IF(AR12=\" × \",RANDBETWEEN(-10,-1),RANDBETWEEN(-10,-1)*AT12),IF(AR12=\" × \",RANDBETWEEN(-10,10),RANDBETWEEN(-10,10)*AT12))))","v":-20},{"$f":"IF(AP12<0,IF(Worksheet!$B$8,\")\",\"\"),\"\")","v":")"},{"$f":"CHOOSE(RANDBETWEEN(1,RANDBETWEEN(4,RANDBETWEEN(IF(RAND()<0.3,4,IF(Worksheet!$B$9,5,4)),IF(Worksheet!$B$9,5,4)))),\" + \",\" – \",\" × \",\" ÷ \",\"²\")","v":" + "},{"$f":"IF(AT12<0,IF(Worksheet!$B$8,\"(–\",\"–\"),\"\")","v":"(–"},{"$f":"IF(AR12=\"²\",\"\",IF(OR(AR12=\" + \",AR12=\" – \"),IF(AND(AR12=\" + \",AP12>=0),RANDBETWEEN(-1*Worksheet!$B$6,0),IF(AND(AR12=\" – \",AP12>0),CHOOSE(RANDBETWEEN(1,2),RANDBETWEEN(-1*Worksheet!$B$6,-1),RANDBETWEEN(AP12,Worksheet!$B$6)),RANDBETWEEN(-1*Worksheet!$B$6,Worksheet!$B$6))),CHOOSE(RANDBETWEEN(1,2),10^(RANDBETWEEN(0,Worksheet!$BL$6-1))*RANDBETWEEN(-10,-1),10^(RANDBETWEEN(0,Worksheet!$BL$6-1))*RANDBETWEEN(1,10))))","v":-5},{"$f":"IF(AT12<0,IF(Worksheet!$B$8,\")\",\"\"),\"\")","v":")"},"(–-20) + (–-5)","=","–",-25]
[{"$f":"IF(ROW()<=Worksheet!$B$4/4,ROW(),\"\")","v":13},{"$f":"IF(C13<0,IF(Worksheet!$B$8,\"(–\",\"–\"),\"\")","v":"(–"},{"$f":"IF(E13=\"²\",RANDBETWEEN(-10,-1),IF(OR(E13=\" + \",E13=\" – \"),RANDBETWEEN(-1*Worksheet!$B$6,Worksheet!$B$6),IF(G13>0,IF(E13=\" × \",RANDBETWEEN(-10,-1),RANDBETWEEN(-10,-1)*G13),IF(E13=\" × \",RANDBETWEEN(-10,10),RANDBETWEEN(-10,10)*G13))))","v":-70},{"$f":"IF(C13<0,IF(Worksheet!$B$8,\")\",\"\"),\"\")","v":")"},{"$f":"CHOOSE(RANDBETWEEN(1,RANDBETWEEN(4,RANDBETWEEN(IF(RAND()<0.3,4,IF(Worksheet!$B$9,5,4)),IF(Worksheet!$B$9,5,4)))),\" + \",\" – \",\" × \",\" ÷ \",\"²\")","v":" ÷ "},{"$f":"IF(G13<0,IF(Worksheet!$B$8,\"(–\",\"–\"),\"\")","v":""},{"$f":"IF(E13=\"²\",\"\",IF(OR(E13=\" + \",E13=\" – \"),IF(AND(E13=\" + \",C13>=0),RANDBETWEEN(-1*Worksheet!$B$6,0),IF(AND(E13=\" – \",C13>0),CHOOSE(RANDBETWEEN(1,2),RANDBETWEEN(-1*Worksheet!$B$6,-1),RANDBETWEEN(C13,Worksheet!$B$6)),RANDBETWEEN(-1*Worksheet!$B$6,Worksheet!$B$6))),CHOOSE(RANDBETWEEN(1,2),10^(RANDBETWEEN(0,Worksheet!$BL$6-1))*RANDBETWEEN(-10,-1),10^(RANDBETWEEN(0,Worksheet!$BL$6-1))*RANDBETWEEN(1,10))))","v":7},{"$f":"IF(G13<0,IF(Worksheet!$B$8,\")\",\"\"),\"\")","v":""},"(–-70) ÷ 7","=","–",-10,null,{"$f":"IF(ROW()<=Worksheet!$B$4/4,N12+1,\"\")","v":28},{"$f":"IF(P13<0,IF(Worksheet!$B$8,\"(–\",\"–\"),\"\")","v":"(–"},{"$f":"IF(R13=\"²\",RANDBETWEEN(-10,-1),IF(OR(R13=\" + \",R13=\" – \"),RANDBETWEEN(-1*Worksheet!$B$6,Worksheet!$B$6),IF(T13>0,IF(R13=\" × \",RANDBETWEEN(-10,-1),RANDBETWEEN(-10,-1)*T13),IF(R13=\" × \",RANDBETWEEN(-10,10),RANDBETWEEN(-10,10)*T13))))","v":-5},{"$f":"IF(P13<0,IF(Worksheet!$B$8,\")\",\"\"),\"\")","v":")"},{"$f":"CHOOSE(RANDBETWEEN(1,RANDBETWEEN(4,RANDBETWEEN(IF(RAND()<0.3,4,IF(Worksheet!$B$9,5,4)),IF(Worksheet!$B$9,5,4)))),\" + \",\" – \",\" × \",\" ÷ \",\"²\")","v":"²"},{"$f":"IF(T13<0,IF(Worksheet!$B$8,\"(–\",\"–\"),\"\")","v":""},{"$f":"IF(R13=\"²\",\"\",IF(OR(R13=\" + \",R13=\" – \"),IF(AND(R13=\" + \",P13>=0),RANDBETWEEN(-1*Worksheet!$B$6,0),IF(AND(R13=\" – \",P13>0),CHOOSE(RANDBETWEEN(1,2),RANDBETWEEN(-1*Worksheet!$B$6,-1),RANDBETWEEN(P13,Worksheet!$B$6)),RANDBETWEEN(-1*Worksheet!$B$6,Worksheet!$B$6))),CHOOSE(RANDBETWEEN(1,2),10^(RANDBETWEEN(0,Worksheet!$BL$6-1))*RANDBETWEEN(-10,-1),10^(RANDBETWEEN(0,Worksheet!$BL$6-1))*RANDBETWEEN(1,10))))","v":""},{"$f":"IF(T13<0,IF(Worksheet!$B$8,\")\",\"\"),\"\")","v":""},"(–-5)²","=","",25,null,{"$f":"IF(ROW()<=Worksheet!$B$4/4,AA12+1,\"\")","v":43},{"$f":"IF(AC13<0,IF(Worksheet!$B$8,\"(–\",\"–\"),\"\")","v":""},{"$f":"IF(AE13=\"²\",RANDBETWEEN(-10,-1),IF(OR(AE13=\" + \",AE13=\" – \"),RANDBETWEEN(-1*Worksheet!$B$6,Worksheet!$B$6),IF(AG13>0,IF(AE13=\" × \",RANDBETWEEN(-10,-1),RANDBETWEEN(-10,-1)*AG13),IF(AE13=\" × \",RANDBETWEEN(-10,10),RANDBETWEEN(-10,10)*AG13))))","v":7},{"$f":"IF(AC13<0,IF(Worksheet!$B$8,\")\",\"\"),\"\")","v":""},{"$f":"CHOOSE(RANDBETWEEN(1,RANDBETWEEN(4,RANDBETWEEN(IF(RAND()<0.3,4,IF(Worksheet!$B$9,5,4)),IF(Worksheet!$B$9,5,4)))),\" + \",\" – \",\" × \",\" ÷ \",\"²\")","v":" × "},{"$f":"IF(AG13<0,IF(Worksheet!$B$8,\"(–\",\"–\"),\"\")","v":"(–"},{"$f":"IF(AE13=\"²\",\"\",IF(OR(AE13=\" + \",AE13=\" – \"),IF(AND(AE13=\" + \",AC13>=0),RANDBETWEEN(-1*Worksheet!$B$6,0),IF(AND(AE13=\" – \",AC13>0),CHOOSE(RANDBETWEEN(1,2),RANDBETWEEN(-1*Worksheet!$B$6,-1),RANDBETWEEN(AC13,Worksheet!$B$6)),RANDBETWEEN(-1*Worksheet!$B$6,Worksheet!$B$6))),CHOOSE(RANDBETWEEN(1,2),10^(RANDBETWEEN(0,Worksheet!$BL$6-1))*RANDBETWEEN(-10,-1),10^(RANDBETWEEN(0,Worksheet!$BL$6-1))*RANDBETWEEN(1,10))))","v":-9},{"$f":"IF(AG13<0,IF(Worksheet!$B$8,\")\",\"\"),\"\")","v":")"},"7 × (–-9)","=","–",-63,null,{"$f":"IF(ROW()<=Worksheet!$B$4/4,AN12+1,\"\")","v":58},{"$f":"IF(AP13<0,IF(Worksheet!$B$8,\"(–\",\"–\"),\"\")","v":"(–"},{"$f":"IF(AR13=\"²\",RANDBETWEEN(-10,-1),IF(OR(AR13=\" + \",AR13=\" – \"),RANDBETWEEN(-1*Worksheet!$B$6,Worksheet!$B$6),IF(AT13>0,IF(AR13=\" × \",RANDBETWEEN(-10,-1),RANDBETWEEN(-10,-1)*AT13),IF(AR13=\" × \",RANDBETWEEN(-10,10),RANDBETWEEN(-10,10)*AT13))))","v":-5},{"$f":"IF(AP13<0,IF(Worksheet!$B$8,\")\",\"\"),\"\")","v":")"},{"$f":"CHOOSE(RANDBETWEEN(1,RANDBETWEEN(4,RANDBETWEEN(IF(RAND()<0.3,4,IF(Worksheet!$B$9,5,4)),IF(Worksheet!$B$9,5,4)))),\" + \",\" – \",\" × \",\" ÷ \",\"²\")","v":" × "},{"$f":"IF(AT13<0,IF(Worksheet!$B$8,\"(–\",\"–\"),\"\")","v":""},{"$f":"IF(AR13=\"²\",\"\",IF(OR(AR13=\" + \",AR13=\" – \"),IF(AND(AR13=\" + \",AP13>=0),RANDBETWEEN(-1*Worksheet!$B$6,0),IF(AND(AR13=\" – \",AP13>0),CHOOSE(RANDBETWEEN(1,2),RANDBETWEEN(-1*Worksheet!$B$6,-1),RANDBETWEEN(AP13,Worksheet!$B$6)),RANDBETWEEN(-1*Worksheet!$B$6,Worksheet!$B$6))),CHOOSE(RANDBETWEEN(1,2),10^(RANDBETWEEN(0,Worksheet!$BL$6-1))*RANDBETWEEN(-10,-1),10^(RANDBETWEEN(0,Worksheet!$BL$6-1))*RANDBETWEEN(1,10))))","v":2},{"$f":"IF(AT13<0,IF(Worksheet!$B$8,\")\",\"\"),\"\")","v":""},"(–-5) × 2","=","–",-10]
[{"$f":"IF(ROW()<=Worksheet!$B$4/4,ROW(),\"\")","v":14},{"$f":"IF(C14<0,IF(Worksheet!$B$8,\"(–\",\"–\"),\"\")","v":"(–"},{"$f":"IF(E14=\"²\",RANDBETWEEN(-10,-1),IF(OR(E14=\" + \",E14=\" – \"),RANDBETWEEN(-1*Worksheet!$B$6,Worksheet!$B$6),IF(G14>0,IF(E14=\" × \",RANDBETWEEN(-10,-1),RANDBETWEEN(-10,-1)*G14),IF(E14=\" × \",RANDBETWEEN(-10,10),RANDBETWEEN(-10,10)*G14))))","v":-13},{"$f":"IF(C14<0,IF(Worksheet!$B$8,\")\",\"\"),\"\")","v":")"},{"$f":"CHOOSE(RANDBETWEEN(1,RANDBETWEEN(4,RANDBETWEEN(IF(RAND()<0.3,4,IF(Worksheet!$B$9,5,4)),IF(Worksheet!$B$9,5,4)))),\" + \",\" – \",\" × \",\" ÷ \",\"²\")","v":" – "},{"$f":"IF(G14<0,IF(Worksheet!$B$8,\"(–\",\"–\"),\"\")","v":"(–"},{"$f":"IF(E14=\"²\",\"\",IF(OR(E14=\" + \",E14=\" – \"),IF(AND(E14=\" + \",C14>=0),RANDBETWEEN(-1*Worksheet!$B$6,0),IF(AND(E14=\" – \",C14>0),CHOOSE(RANDBETWEEN(1,2),RANDBETWEEN(-1*Worksheet!$B$6,-1),RANDBETWEEN(C14,Worksheet!$B$6)),RANDBETWEEN(-1*Worksheet!$B$6,Worksheet!$B$6))),CHOOSE(RANDBETWEEN(1,2),10^(RANDBETWEEN(0,Worksheet!$BL$6-1))*RANDBETWEEN(-10,-1),10^(RANDBETWEEN(0,Worksheet!$BL$6-1))*RANDBETWEEN(1,10))))","v":-19},{"$f":"IF(G14<0,IF(Worksheet!$B$8,\")\",\"\"),\"\")","v":")"},"(–-13) – (–-19)","=","",6,null,{"$f":"IF(ROW()<=Worksheet!$B$4/4,N13+1,\"\")","v":29},{"$f":"IF(P14<0,IF(Worksheet!$B$8,\"(–\",\"–\"),\"\")","v":"(–"},{"$f":"IF(R14=\"²\",RANDBETWEEN(-10,-1),IF(OR(R14=\" + \",R14=\" – \"),RANDBETWEEN(-1*Worksheet!$B$6,Worksheet!$B$6),IF(T14>0,IF(R14=\" × \",RANDBETWEEN(-10,-1),RANDBETWEEN(-10,-1)*T14),IF(R14=\" × \",RANDBETWEEN(-10,10),RANDBETWEEN(-10,10)*T14))))","v":-18},{"$f":"IF(P14<0,IF(Worksheet!$B$8,\")\",\"\"),\"\")","v":")"},{"$f":"CHOOSE(RANDBETWEEN(1,RANDBETWEEN(4,RANDBETWEEN(IF(RAND()<0.3,4,IF(Worksheet!$B$9,5,4)),IF(Worksheet!$B$9,5,4)))),\" + \",\" – \",\" × \",\" ÷ \",\"²\")","v":" + "},{"$f":"IF(T14<0,IF(Worksheet!$B$8,\"(–\",\"–\"),\"\")","v":""},{"$f":"IF(R14=\"²\",\"\",IF(OR(R14=\" + \",R14=\" – \"),IF(AND(R14=\" + \",P14>=0),RANDBETWEEN(-1*Worksheet!$B$6,0),IF(AND(R14=\" – \",P14>0),CHOOSE(RANDBETWEEN(1,2),RANDBETWEEN(-1*Worksheet!$B$6,-1),RANDBETWEEN(P14,Worksheet!$B$6)),RANDBETWEEN(-1*Worksheet!$B$6,Worksheet!$B$6))),CHOOSE(RANDBETWEEN(1,2),10^(RANDBETWEEN(0,Worksheet!$BL$6-1))*RANDBETWEEN(-10,-1),10^(RANDBETWEEN(0,Worksheet!$BL$6-1))*RANDBETWEEN(1,10))))","v":12},{"$f":"IF(T14<0,IF(Worksheet!$B$8,\")\",\"\"),\"\")","v":""},"(–-18) + 12","=","–",-6,null,{"$f":"IF(ROW()<=Worksheet!$B$4/4,AA13+1,\"\")","v":44},{"$f":"IF(AC14<0,IF(Worksheet!$B$8,\"(–\",\"–\"),\"\")","v":"(–"},{"$f":"IF(AE14=\"²\",RANDBETWEEN(-10,-1),IF(OR(AE14=\" + \",AE14=\" – \"),RANDBETWEEN(-1*Worksheet!$B$6,Worksheet!$B$6),IF(AG14>0,IF(AE14=\" × \",RANDBETWEEN(-10,-1),RANDBETWEEN(-10,-1)*AG14),IF(AE14=\" × \",RANDBETWEEN(-10,10),RANDBETWEEN(-10,10)*AG14))))","v":-48},{"$f":"IF(AC14<0,IF(Worksheet!$B$8,\")\",\"\"),\"\")","v":")"},{"$f":"CHOOSE(RANDBETWEEN(1,RANDBETWEEN(4,RANDBETWEEN(IF(RAND()<0.3,4,IF(Worksheet!$B$9,5,4)),IF(Worksheet!$B$9,5,4)))),\" + \",\" – \",\" × \",\" ÷ \",\"²\")","v":" ÷ "},{"$f":"IF(AG14<0,IF(Worksheet!$B$8,\"(–\",\"–\"),\"\")","v":""},{"$f":"IF(AE14=\"²\",\"\",IF(OR(AE14=\" + \",AE14=\" – \"),IF(AND(AE14=\" + \",AC14>=0),RANDBETWEEN(-1*Worksheet!$B$6,0),IF(AND(AE14=\" – \",AC14>0),CHOOSE(RANDBETWEEN(1,2),RANDBETWEEN(-1*Worksheet!$B$6,-1),RANDBETWEEN(AC14,Worksheet!$B$6)),RANDBETWEEN(-1*Worksheet!$B$6,Worksheet!$B$6))),CHOOSE(RANDBETWEEN(1,2),10^(RANDBETWEEN(0,Worksheet!$BL$6-1))*RANDBETWEEN(-10,-1),10^(RANDBETWEEN(0,Worksheet!$BL$6-1))*RANDBETWEEN(1,10))))","v":6},{"$f":"IF(AG14<0,IF(Worksheet!$B$8,\")\",\"\"),\"\")","v":""},"(–-48) ÷ 6","=","–",-8,null,{"$f":"IF(ROW()<=Worksheet!$B$4/4,AN13+1,\"\")","v":59},{"$f":"IF(AP14<0,IF(Worksheet!$B$8,\"(–\",\"–\"),\"\")","v":"(–"},{"$f":"IF(AR14=\"²\",RANDBETWEEN(-10,-1),IF(OR(AR14=\" + \",AR14=\" – \"),RANDBETWEEN(-1*Worksheet!$B$6,Worksheet!$B$6),IF(AT14>0,IF(AR14=\" × \",RANDBETWEEN(-10,-1),RANDBETWEEN(-10,-1)*AT14),IF(AR14=\" × \",RANDBETWEEN(-10,10),RANDBETWEEN(-10,10)*AT14))))","v":-1},{"$f":"IF(AP14<0,IF(Worksheet!$B$8,\")\",\"\"),\"\")","v":")"},{"$f":"CHOOSE(RANDBETWEEN(1,RANDBETWEEN(4,RANDBETWEEN(IF(RAND()<0.3,4,IF(Worksheet!$B$9,5,4)),IF(Worksheet!$B$9,5,4)))),\" + \",\" – \",\" × \",\" ÷ \",\"²\")","v":"²"},{"$f":"IF(AT14<0,IF(Worksheet!$B$8,\"(–\",\"–\"),\"\")","v":""},{"$f":"IF(AR14=\"²\",\"\",IF(OR(AR14=\" + \",AR14=\" – \"),IF(AND(AR14=\" + \",AP14>=0),RANDBETWEEN(-1*Worksheet!$B$6,0),IF(AND(AR14=\" – \",AP14>0),CHOOSE(RANDBETWEEN(1,2),RANDBETWEEN(-1*Worksheet!$B$6,-1),RANDBETWEEN(AP14,Worksheet!$B$6)),RANDBETWEEN(-1*Worksheet!$B$6,Worksheet!$B$6))),CHOOSE(RANDBETWEEN(1,2),10^(RANDBETWEEN(0,Worksheet!$BL$6-1))*RANDBETWEEN(-10,-1),10^(RANDBETWEEN(0,Worksheet!$BL$6-1))*RANDBETWEEN(1,10))))","v":""},{"$f":"IF(AT14<0,IF(Worksheet!$B$8,\")\",\"\"),\"\")","v":""},"(–-1)²","=","",1]
[{"$f":"IF(ROW()<=Worksheet!$B$4/4,ROW(),\"\")","v":15},{"$f":"IF(C15<0,IF(Worksheet!$B$8,\"(–\",\"–\"),\"\")","v":"(–"},{"$f":"IF(E15=\"²\",RANDBETWEEN(-10,-1),IF(OR(E15=\" + \",E15=\" – \"),RANDBETWEEN(-1*Worksheet!$B$6,Worksheet!$B$6),IF(G15>0,IF(E15=\" × \",RANDBETWEEN(-10,-1),RANDBETWEEN(-10,-1)*G15),IF(E15=\" × \",RANDBETWEEN(-10,10),RANDBETWEEN(-10,10)*G15))))","v":-7},{"$f":"IF(C15<0,IF(Worksheet!$B$8,\")\",\"\"),\"\")","v":")"},{"$f":"CHOOSE(RANDBETWEEN(1,RANDBETWEEN(4,RANDBETWEEN(IF(RAND()<0.3,4,IF(Worksheet!$B$9,5,4)),IF(Worksheet!$B$9,5,4)))),\" + \",\" – \",\" × \",\" ÷ \",\"²\")","v":" × "},{"$f":"IF(G15<0,IF(Worksheet!$B$8,\"(–\",\"–\"),\"\")","v":"(–"},{"$f":"IF(E15=\"²\",\"\",IF(OR(E15=\" + \",E15=\" – \"),IF(AND(E15=\" + \",C15>=0),RANDBETWEEN(-1*Worksheet!$B$6,0),IF(AND(E15=\" – \",C15>0),CHOOSE(RANDBETWEEN(1,2),RANDBETWEEN(-1*Worksheet!$B$6,-1),RANDBETWEEN(C15,Worksheet!$B$6)),RANDBETWEEN(-1*Worksheet!$B$6,Worksheet!$B$6))),CHOOSE(RANDBETWEEN(1,2),10^(RANDBETWEEN(0,Worksheet!$BL$6-1))*RANDBETWEEN(-10,-1),10^(RANDBETWEEN(0,Worksheet!$BL$6-1))*RANDBETWEEN(1,10))))","v":-9},{"$f":"IF(G15<0,IF(Worksheet!$B$8,\")\",\"\"),\"\")","v":")"},"(–-7) × (–-9)","=","",63,null,{"$f":"IF(ROW()<=Worksheet!$B$4/4,N14+1,\"\")","v":30},{"$f":"IF(P15<0,IF(Worksheet!$B$8,\"(–\",\"–\"),\"\")","v":"(–"},{"$f":"IF(R15=\"²\",RANDBETWEEN(-10,-1),IF(OR(R15=\" + \",R15=\" – \"),RANDBETWEEN(-1*Worksheet!$B$6,Worksheet!$B$6),IF(T15>0,IF(R15=\" × \",RANDBETWEEN(-10,-1),RANDBETWEEN(-10,-1)*T15),IF(R15=\" × \",RANDBETWEEN(-10,10),RANDBETWEEN(-10,10)*T15))))","v":-18},{"$f":"IF(P15<0,IF(Worksheet!$B$8,\")\",\"\"),\"\")","v":")"},{"$f":"CHOOSE(RANDBETWEEN(1,RANDBETWEEN(4,RANDBETWEEN(IF(RAND()<0.3,4,IF(Worksheet!$B$9,5,4)),IF(Worksheet!$B$9,5,4)))),\" + \",\" – \",\" × \",\" ÷ \",\"²\")","v":" + "},{"$f":"IF(T15<0,IF(Worksheet!$B$8,\"(–\",\"–\"),\"\")","v":"(–"},{"$f":"IF(R15=\"²\",\"\",IF(OR(R15=\" + \",R15=\" – \"),IF(AND(R15=\" + \",P15>=0),RANDBETWEEN(-1*Worksheet!$B$6,0),IF(AND(R15=\" – \",P15>0),CHOOSE(RANDBETWEEN(1,2),RANDBETWEEN(-1*Worksheet!$B$6,-1),RANDBETWEEN(P15,Worksheet!$B$6)),RANDBETWEEN(-1*Worksheet!$B$6,Worksheet!$B$6))),CHOOSE(RANDBETWEEN(1,2),10^(RANDBETWEEN(0,Worksheet!$BL$6-1))*RANDBETWEEN(-10,-1),10^(RANDBETWEEN(0,Worksheet!$BL$6-1))*RANDBETWEEN(1,10))))","v":-19},{"$f":"IF(T15<0,IF(Worksheet!$B$8,\")\",\"\"),\"\")","v":")"},"(–-18) + (–-19)","=","–",-37,null,{"$f":"IF(ROW()<=Worksheet!$B$4/4,AA14+1,\"\")","v":45},{"$f":"IF(AC15<0,IF(Worksheet!$B$8,\"(–\",\"–\"),\"\")","v":""},{"$f":"IF(AE15=\"²\",RANDBETWEEN(-10,-1),IF(OR(AE15=\" + \",AE15=\" – \"),RANDBETWEEN(-1*Worksheet!$B$6,Worksheet!$B$6),IF(AG15>0,IF(AE15=\" × \",RANDBETWEEN(-10,-1),RANDBETWEEN(-10,-1)*AG15),IF(AE15=\" × \",RANDBETWEEN(-10,10),RANDBETWEEN(-10,10)*AG15))))","v":1},{"$f":"IF(AC15<0,IF(Worksheet!$B$8,\")\",\"\"),\"\")","v":""},{"$f":"CHOOSE(RANDBETWEEN(1,RANDBETWEEN(4,RANDBETWEEN(IF(RAND()<0.3,4,IF(Worksheet!$B$9,5,4)),IF(Worksheet!$B$9,5,4)))),\" + \",\" – \",\" × \",\" ÷ \",\"²\")","v":" + "},{"$f":"IF(AG15<0,IF(Worksheet!$B$8,\"(–\",\"–\"),\"\")","v":"(–"},{"$f":"IF(AE15=\"²\",\"\",IF(OR(AE15=\" + \",AE15=\" – \"),IF(AND(AE15=\" + \",AC15>=0),RANDBETWEEN(-1*Worksheet!$B$6,0),IF(AND(AE15=\" – \",AC15>0),CHOOSE(RANDBETWEEN(1,2),RANDBETWEEN(-1*Worksheet!$B$6,-1),RANDBETWEEN(AC15,Worksheet!$B$6)),RANDBETWEEN(-1*Worksheet!$B$6,Worksheet!$B$6))),CHOOSE(RANDBETWEEN(1,2),10^(RANDBETWEEN(0,Worksheet!$BL$6-1))*RANDBETWEEN(-10,-1),10^(RANDBETWEEN(0,Worksheet!$BL$6-1))*RANDBETWEEN(1,10))))","v":-18},{"$f":"IF(AG15<0,IF(Worksheet!$B$8,\")\",\"\"),\"\")","v":")"},"1 + (–-18)","=","–",-17,null,{"$f":"IF(ROW()<=Worksheet!$B$4/4,AN14+1,\"\")","v":60},{"$f":"IF(AP15<0,IF(Worksheet!$B$8,\"(–\",\"–\"),\"\")","v":"(–"},{"$f":"IF(AR15=\"²\",RANDBETWEEN(-10,-1),IF(OR(AR15=\" + \",AR15=\" – \"),RANDBETWEEN(-1*Worksheet!$B$6,Worksheet!$B$6),IF(AT15>0,IF(AR15=\" × \",RANDBETWEEN(-10,-1),RANDBETWEEN(-10,-1)*AT15),IF(AR15=\" × \",RANDBETWEEN(-10,10),RANDBETWEEN(-10,10)*AT15))))","v":-3},{"$f":"IF(AP15<0,IF(Worksheet!$B$8,\")\",\"\"),\"\")","v":")"},{"$f":"CHOOSE(RANDBETWEEN(1,RANDBETWEEN(4,RANDBETWEEN(IF(RAND()<0.3,4,IF(Worksheet!$B$9,5,4)),IF(Worksheet!$B$9,5,4)))),\" + \",\" – \",\" × \",\" ÷ \",\"²\")","v":" × "},{"$f":"IF(AT15<0,IF(Worksheet!$B$8,\"(–\",\"–\"),\"\")","v":""},{"$f":"IF(AR15=\"²\",\"\",IF(OR(AR15=\" + \",AR15=\" – \"),IF(AND(AR15=\" + \",AP15>=0),RANDBETWEEN(-1*Worksheet!$B$6,0),IF(AND(AR15=\" – \",AP15>0),CHOOSE(RANDBETWEEN(1,2),RANDBETWEEN(-1*Worksheet!$B$6,-1),RANDBETWEEN(AP15,Worksheet!$B$6)),RANDBETWEEN(-1*Worksheet!$B$6,Worksheet!$B$6))),CHOOSE(RANDBETWEEN(1,2),10^(RANDBETWEEN(0,Worksheet!$BL$6-1))*RANDBETWEEN(-10,-1),10^(RANDBETWEEN(0,Worksheet!$BL$6-1))*RANDBETWEEN(1,10))))","v":3},{"$f":"IF(AT15<0,IF(Worksheet!$B$8,\")\",\"\"),\"\")","v":""},"(–-3) × 3","=","–",-9]