{"text_format":"1","workbook":"xlsx","n_sheets":2,"sheets":["Worksheet","SYSTEM FORMULAE"],"not_rendered":{"charts":0,"images":0,"macros":1,"external_links":0,"defined_names":2,"comments":0,"pivot_tables":0},"unopened":[],"bounds":{"document_bytes":16777216,"sheet_cells":100000,"rows_first":2000,"rows_last":500,"rows_between":2000,"halvings":0,"cell_chars":16384,"cell_head_chars":4096},"cells_cut":0,"cells_raw":0,"read":"whole","date_system":"1900"}

{"sheet":"Worksheet","index":0,"n_rows":17,"n_cols":48,"rows_kept":17,"cut":false,"hidden":false,"merged":[[0,3,0,47],[3,0,3,1]]}
[null,null,null,"Write these numbers in scientific notation"]
[]
[null,null,null,1,3,3,"•",1,6,"","","",null,31600,"=","3·16","× 10",4,16,2,7,"•",6,"","","","",null,7600,"=","7·6","× 10",3,31,3,7,"•",6,6,"","","",null,7659.9999999999991,"=","7·66","× 10",3]
["Variables",null,null,2,1,2,"","","","","","",null,200000000,"=","2","× 10",8,17,4,9,"•",4,7,7,"","",null,"0·9477","=","9·477","× 10",-1,32,1,9,"","","","","","",null,"0·9","=","9","× 10",-1]
["Number of questions (minimum 15, maximum 45)",45,null,3,3,2,"•",0,5,"","","",null,20500,"=","2·05","× 10",4,18,3,4,"•",0,7,"","","",null,"40·7","=","4·07","× 10",1,33,1,7,"","","","","","",null,"0·7","=","7","× 10",-1]
["Positive powers of 10 only",3,null,4,4,3,"•",0,8,5,"","",null,3085000,"=","3·085","× 10",6,19,1,3,"","","","","","",null,"0·03","=","3","× 10",-2,34,3,4,"•",1,4,"","","",null,"0·414","=","4·14","× 10",-1]
["Negative powers of 10 only",null,null,5,3,4,"•",2,7,"","","",null,4270000000.0000005,"=","4·27","× 10",9,20,1,5,"","","","","","",null,"0·0005","=","5","× 10",-4,35,2,7,"•",8,"","","","",null,"0·00078","=","7·8","× 10",-4]
["Positive and negative powers of 10",null,null,6,4,4,"•",1,7,2,"","",null,"0·00004172","=","4·172","× 10",-5,21,2,4,"•",2,"","","","",null,"0·000042","=","4·2","× 10",-5,36,1,5,"","","","","","",null,500000,"=","5","× 10",5]
["Maximum number of decimal places before ×10n",3,null,7,4,6,"•",4,3,6,"","",null,"643·6","=","6·436","× 10",2,22,3,4,"•",2,9,"","","",null,4290000000,"=","4·29","× 10",9,37,1,6,"","","","","","",null,60,"=","6","× 10",1]
["SHOW ANSWERS?",false,null,8,4,8,"•",4,6,1,"","",null,"0·00008461","=","8·461","× 10",-5,23,2,6,"•",5,"","","","",null,65000000,"=","6·5","× 10",7,38,2,2,"•",3,"","","","",null,23000000,"=","2·3","× 10",7]
[null,null,null,9,3,4,"•",2,6,"","","",null,"42·6","=","4·26","× 10",1,24,1,4,"","","","","","",null,40000000,"=","4","× 10",7,39,2,2,"•",1,"","","","",null,"0·021","=","2·1","× 10",-2]
[null,null,null,10,4,1,"•",7,9,4,"","",null,1794000000.0000002,"=","1·794","× 10",9,25,4,8,"•",6,3,6,"","",null,8636,"=","8·636","× 10",3,40,4,2,"•",8,2,6,"","",null,"2·826","=","2·826","× 10",0]
[null,null,null,11,4,8,"•",8,1,8,"","",null,8818,"=","8·818","× 10",3,26,2,6,"•",5,"","","","",null,65000000,"=","6·5","× 10",7,41,3,3,"•",5,8,"","","",null,3580000,"=","3·58","× 10",6]
[null,null,null,12,4,8,"•",0,6,4,"","",null,"806·4","=","8·064","× 10",2,27,2,8,"•",7,"","","","",null,869.99999999999989,"=","8·7","× 10",2,42,2,8,"•",7,"","","","",null,"0·0087","=","8·7","× 10",-3]
[null,null,null,13,1,4,"","","","","","",null,40,"=","4","× 10",1,28,4,3,"•",7,8,5,"","",null,"0·3785","=","3·785","× 10",-1,43,3,5,"•",5,8,"","","",null,"0·000558","=","5·58","× 10",-4]
[null,null,null,14,2,6,"•",7,"","","","",null,6700,"=","6·7","× 10",3,29,4,8,"•",3,5,9,"","",null,"83·59","=","8·359","× 10",1,44,3,8,"•",7,8,"","","",null,"8·78","=","8·78","× 10",0]
[null,null,null,15,2,4,"•",3,"","","","",null,"4·3","=","4·3","× 10",0,30,1,1,"","","","","","",null,"0·001","=","1","× 10",-3,45,2,6,"•",6,"","","","",null,66000,"=","6·6","× 10",4]

{"sheet":"SYSTEM FORMULAE","index":1,"n_rows":15,"n_cols":45,"rows_kept":15,"cut":false,"hidden":false,"merged":[]}
[{"$f":"IF(ROW()<=Worksheet!$B$5/3,ROW(),\"\")","v":1},{"$f":"RANDBETWEEN(1,Worksheet!$B$9+1)","v":1},{"$f":"RANDBETWEEN(1,9)","v":9},{"$f":"IF(E1=\"\",\"\",\"•\")","v":""},{"$f":"IF(COLUMN()-COLUMN($B1)-1<$B1,IF(RAND()<0.2,0,RANDBETWEEN(1,9)),IF(COLUMN()-COLUMN($B1)-1=$B1,RANDBETWEEN(1,9),\"\"))","v":""},{"$f":"IF(COLUMN()-COLUMN($B1)-1<$B1,IF(RAND()<0.2,0,RANDBETWEEN(1,9)),IF(COLUMN()-COLUMN($B1)-1=$B1,RANDBETWEEN(1,9),\"\"))","v":""},{"$f":"IF(COLUMN()-COLUMN($B1)-1<$B1,IF(RAND()<0.2,0,RANDBETWEEN(1,9)),IF(COLUMN()-COLUMN($B1)-1=$B1,RANDBETWEEN(1,9),\"\"))","v":""},{"$f":"IF(COLUMN()-COLUMN($B1)-1<$B1,IF(RAND()<0.2,0,RANDBETWEEN(1,9)),IF(COLUMN()-COLUMN($B1)-1=$B1,RANDBETWEEN(1,9),\"\"))","v":""},{"$f":"IF(COLUMN()-COLUMN($B1)-1<$B1,IF(RAND()<0.2,0,RANDBETWEEN(1,9)),IF(COLUMN()-COLUMN($B1)-1=$B1,RANDBETWEEN(1,9),\"\"))","v":""},null,{"$f":"(C1+IF(E1=\"\",0,E1)*0.1+IF(F1=\"\",0,F1)*0.01+IF(G1=\"\",0,G1)*0.001+IF(H1=\"\",0,H1)*0.0001+IF(I1=\"\",0,I1)*0.00001)*(10^O1)","v":9.0000000000000011E-3},"=",{"$f":"CONCATENATE(C1,D1,E1,F1,G1,H1,I1)","v":"9"},"× 10",{"$f":"IF(Worksheet!$B$6=1,RANDBETWEEN(0,9),IF(Worksheet!$B$6=2,RANDBETWEEN(-5,-1),RANDBETWEEN(-5,9)))","v":-3},{"$f":"MAX(A1:A40)+1","v":16},{"$f":"RANDBETWEEN(1,Worksheet!$B$9+1)","v":3},{"$f":"RANDBETWEEN(1,9)","v":1},{"$f":"IF(T1=\"\",\"\",\"•\")","v":"•"},{"$f":"IF(COLUMN()-COLUMN($Q1)-1<$Q1,IF(RAND()<0.2,0,RANDBETWEEN(1,9)),IF(COLUMN()-COLUMN($Q1)-1=$Q1,RANDBETWEEN(1,9),\"\"))","v":0},{"$f":"IF(COLUMN()-COLUMN($Q1)-1<$Q1,IF(RAND()<0.2,0,RANDBETWEEN(1,9)),IF(COLUMN()-COLUMN($Q1)-1=$Q1,RANDBETWEEN(1,9),\"\"))","v":4},{"$f":"IF(COLUMN()-COLUMN($Q1)-1<$Q1,IF(RAND()<0.2,0,RANDBETWEEN(1,9)),IF(COLUMN()-COLUMN($Q1)-1=$Q1,RANDBETWEEN(1,9),\"\"))","v":""},{"$f":"IF(COLUMN()-COLUMN($Q1)-1<$Q1,IF(RAND()<0.2,0,RANDBETWEEN(1,9)),IF(COLUMN()-COLUMN($Q1)-1=$Q1,RANDBETWEEN(1,9),\"\"))","v":""},{"$f":"IF(COLUMN()-COLUMN($Q1)-1<$Q1,IF(RAND()<0.2,0,RANDBETWEEN(1,9)),IF(COLUMN()-COLUMN($Q1)-1=$Q1,RANDBETWEEN(1,9),\"\"))","v":""},null,{"$f":"(R1+IF(T1=\"\",0,T1)*0.1+IF(U1=\"\",0,U1)*0.01+IF(V1=\"\",0,V1)*0.001+IF(W1=\"\",0,W1)*0.0001+IF(X1=\"\",0,X1)*0.00001)*(10^AD1)","v":1040000000},"=",{"$f":"CONCATENATE(R1,S1,T1,U1,V1,W1,X1)","v":"1•04"},"× 10",{"$f":"IF(Worksheet!$B$6=1,RANDBETWEEN(0,9),IF(Worksheet!$B$6=2,RANDBETWEEN(-5,-1),RANDBETWEEN(-5,9)))","v":9},{"$f":"MAX(P1:P40)+1","v":31},{"$f":"RANDBETWEEN(1,Worksheet!$B$9+1)","v":3},{"$f":"RANDBETWEEN(1,9)","v":5},{"$f":"IF(AI1=\"\",\"\",\"•\")","v":"•"},{"$f":"IF(COLUMN()-COLUMN($AF1)-1<$AF1,IF(RAND()<0.2,0,RANDBETWEEN(1,9)),IF(COLUMN()-COLUMN($AF1)-1=$AF1,RANDBETWEEN(1,9),\"\"))","v":6},{"$f":"IF(COLUMN()-COLUMN($AF1)-1<$AF1,IF(RAND()<0.2,0,RANDBETWEEN(1,9)),IF(COLUMN()-COLUMN($AF1)-1=$AF1,RANDBETWEEN(1,9),\"\"))","v":8},{"$f":"IF(COLUMN()-COLUMN($AF1)-1<$AF1,IF(RAND()<0.2,0,RANDBETWEEN(1,9)),IF(COLUMN()-COLUMN($AF1)-1=$AF1,RANDBETWEEN(1,9),\"\"))","v":""},{"$f":"IF(COLUMN()-COLUMN($AF1)-1<$AF1,IF(RAND()<0.2,0,RANDBETWEEN(1,9)),IF(COLUMN()-COLUMN($AF1)-1=$AF1,RANDBETWEEN(1,9),\"\"))","v":""},{"$f":"IF(COLUMN()-COLUMN($AF1)-1<$AF1,IF(RAND()<0.2,0,RANDBETWEEN(1,9)),IF(COLUMN()-COLUMN($AF1)-1=$AF1,RANDBETWEEN(1,9),\"\"))","v":""},null,{"$f":"(AG1+IF(AI1=\"\",0,AI1)*0.1+IF(AJ1=\"\",0,AJ1)*0.01+IF(AK1=\"\",0,AK1)*0.001+IF(AL1=\"\",0,AL1)*0.0001+IF(AM1=\"\",0,AM1)*0.00001)*(10^AS1)","v":56.8},"=",{"$f":"CONCATENATE(AG1,AH1,AI1,AJ1,AK1,AL1,AM1)","v":"5•68"},"× 10",{"$f":"IF(Worksheet!$B$6=1,RANDBETWEEN(0,9),IF(Worksheet!$B$6=2,RANDBETWEEN(-5,-1),RANDBETWEEN(-5,9)))","v":1}]
[{"$f":"IF(ROW()<=Worksheet!$B$5/3,ROW(),\"\")","v":2},{"$f":"RANDBETWEEN(1,Worksheet!$B$9+1)","v":2},{"$f":"RANDBETWEEN(1,9)","v":3},{"$f":"IF(E2=\"\",\"\",\"•\")","v":"•"},{"$f":"IF(COLUMN()-COLUMN($B2)-1<$B2,IF(RAND()<0.2,0,RANDBETWEEN(1,9)),IF(COLUMN()-COLUMN($B2)-1=$B2,RANDBETWEEN(1,9),\"\"))","v":4},"","","","",null,3.3999999999999998E-3,"=",{"$f":"CONCATENATE(C2,D2,E2,F2,G2,H2,I2)","v":"3•4"},"× 10",{"$f":"IF(Worksheet!$B$6=1,RANDBETWEEN(0,9),IF(Worksheet!$B$6=2,RANDBETWEEN(-5,-1),RANDBETWEEN(-5,9)))","v":-3},{"$f":"IF(ROW()<=Worksheet!$B$5/3,P1+1,\"\")","v":17},{"$f":"RANDBETWEEN(1,Worksheet!$B$9+1)","v":1},{"$f":"RANDBETWEEN(1,9)","v":7},{"$f":"IF(T2=\"\",\"\",\"•\")","v":""},{"$f":"IF(COLUMN()-COLUMN($Q2)-1<$Q2,IF(RAND()<0.2,0,RANDBETWEEN(1,9)),IF(COLUMN()-COLUMN($Q2)-1=$Q2,RANDBETWEEN(1,9),\"\"))","v":""},"","","","",null,7000000,"=",{"$f":"CONCATENATE(R2,S2,T2,U2,V2,W2,X2)","v":"7"},"× 10",{"$f":"IF(Worksheet!$B$6=1,RANDBETWEEN(0,9),IF(Worksheet!$B$6=2,RANDBETWEEN(-5,-1),RANDBETWEEN(-5,9)))","v":6},{"$f":"IF(ROW()<=Worksheet!$B$5/3,AE1+1,\"\")","v":32},{"$f":"RANDBETWEEN(1,Worksheet!$B$9+1)","v":1},{"$f":"RANDBETWEEN(1,9)","v":7},{"$f":"IF(AI2=\"\",\"\",\"•\")","v":""},{"$f":"IF(COLUMN()-COLUMN($AF2)-1<$AF2,IF(RAND()<0.2,0,RANDBETWEEN(1,9)),IF(COLUMN()-COLUMN($AF2)-1=$AF2,RANDBETWEEN(1,9),\"\"))","v":""},"","","","",null,7000000000,"=",{"$f":"CONCATENATE(AG2,AH2,AI2,AJ2,AK2,AL2,AM2)","v":"7"},"× 10",{"$f":"IF(Worksheet!$B$6=1,RANDBETWEEN(0,9),IF(Worksheet!$B$6=2,RANDBETWEEN(-5,-1),RANDBETWEEN(-5,9)))","v":9}]
[{"$f":"IF(ROW()<=Worksheet!$B$5/3,ROW(),\"\")","v":3},{"$f":"RANDBETWEEN(1,Worksheet!$B$9+1)","v":1},1,"","","","","","",null,1E-3,"=","1","× 10",{"$f":"IF(Worksheet!$B$6=1,RANDBETWEEN(0,9),IF(Worksheet!$B$6=2,RANDBETWEEN(-5,-1),RANDBETWEEN(-5,9)))","v":-3},{"$f":"IF(ROW()<=Worksheet!$B$5/3,P2+1,\"\")","v":18},{"$f":"RANDBETWEEN(1,Worksheet!$B$9+1)","v":3},5,"•",6,8,"","","",null,568,"=","5•68","× 10",{"$f":"IF(Worksheet!$B$6=1,RANDBETWEEN(0,9),IF(Worksheet!$B$6=2,RANDBETWEEN(-5,-1),RANDBETWEEN(-5,9)))","v":2},{"$f":"IF(ROW()<=Worksheet!$B$5/3,AE2+1,\"\")","v":33},{"$f":"RANDBETWEEN(1,Worksheet!$B$9+1)","v":4},3,"•",1,0,5,"","",null,3.1050000000000001E-3,"=","3•105","× 10",{"$f":"IF(Worksheet!$B$6=1,RANDBETWEEN(0,9),IF(Worksheet!$B$6=2,RANDBETWEEN(-5,-1),RANDBETWEEN(-5,9)))","v":-3}]
[{"$f":"IF(ROW()<=Worksheet!$B$5/3,ROW(),\"\")","v":4},{"$f":"RANDBETWEEN(1,Worksheet!$B$9+1)","v":4},4,"•",7,4,8,"","",null,4.7480000000000001E-2,"=","4•748","× 10",{"$f":"IF(Worksheet!$B$6=1,RANDBETWEEN(0,9),IF(Worksheet!$B$6=2,RANDBETWEEN(-5,-1),RANDBETWEEN(-5,9)))","v":-2},{"$f":"IF(ROW()<=Worksheet!$B$5/3,P3+1,\"\")","v":19},{"$f":"RANDBETWEEN(1,Worksheet!$B$9+1)","v":1},5,"","","","","","",null,5.0000000000000001E-3,"=","5","× 10",{"$f":"IF(Worksheet!$B$6=1,RANDBETWEEN(0,9),IF(Worksheet!$B$6=2,RANDBETWEEN(-5,-1),RANDBETWEEN(-5,9)))","v":-3},{"$f":"IF(ROW()<=Worksheet!$B$5/3,AE3+1,\"\")","v":34},{"$f":"RANDBETWEEN(1,Worksheet!$B$9+1)","v":4},4,"•",8,4,6,"","",null,4.8460000000000002E-4,"=","4•846","× 10",{"$f":"IF(Worksheet!$B$6=1,RANDBETWEEN(0,9),IF(Worksheet!$B$6=2,RANDBETWEEN(-5,-1),RANDBETWEEN(-5,9)))","v":-4}]
[{"$f":"IF(ROW()<=Worksheet!$B$5/3,ROW(),\"\")","v":5},{"$f":"RANDBETWEEN(1,Worksheet!$B$9+1)","v":1},1,"","","","","","",null,10000,"=","1","× 10",{"$f":"IF(Worksheet!$B$6=1,RANDBETWEEN(0,9),IF(Worksheet!$B$6=2,RANDBETWEEN(-5,-1),RANDBETWEEN(-5,9)))","v":4},{"$f":"IF(ROW()<=Worksheet!$B$5/3,P4+1,\"\")","v":20},{"$f":"RANDBETWEEN(1,Worksheet!$B$9+1)","v":3},9,"•",7,5,"","","",null,0.97500000000000009,"=","9•75","× 10",{"$f":"IF(Worksheet!$B$6=1,RANDBETWEEN(0,9),IF(Worksheet!$B$6=2,RANDBETWEEN(-5,-1),RANDBETWEEN(-5,9)))","v":-1},{"$f":"IF(ROW()<=Worksheet!$B$5/3,AE4+1,\"\")","v":35},{"$f":"RANDBETWEEN(1,Worksheet!$B$9+1)","v":3},8,"•",0,3,"","","",null,802999999.99999988,"=","8•03","× 10",{"$f":"IF(Worksheet!$B$6=1,RANDBETWEEN(0,9),IF(Worksheet!$B$6=2,RANDBETWEEN(-5,-1),RANDBETWEEN(-5,9)))","v":8}]
[{"$f":"IF(ROW()<=Worksheet!$B$5/3,ROW(),\"\")","v":6},{"$f":"RANDBETWEEN(1,Worksheet!$B$9+1)","v":1},2,"","","","","","",null,20000000,"=","2","× 10",{"$f":"IF(Worksheet!$B$6=1,RANDBETWEEN(0,9),IF(Worksheet!$B$6=2,RANDBETWEEN(-5,-1),RANDBETWEEN(-5,9)))","v":7},{"$f":"IF(ROW()<=Worksheet!$B$5/3,P5+1,\"\")","v":21},{"$f":"RANDBETWEEN(1,Worksheet!$B$9+1)","v":1},8,"","","","","","",null,8.0000000000000004E-4,"=","8","× 10",{"$f":"IF(Worksheet!$B$6=1,RANDBETWEEN(0,9),IF(Worksheet!$B$6=2,RANDBETWEEN(-5,-1),RANDBETWEEN(-5,9)))","v":-4},{"$f":"IF(ROW()<=Worksheet!$B$5/3,AE5+1,\"\")","v":36},{"$f":"RANDBETWEEN(1,Worksheet!$B$9+1)","v":1},9,"","","","","","",null,0.09,"=","9","× 10",{"$f":"IF(Worksheet!$B$6=1,RANDBETWEEN(0,9),IF(Worksheet!$B$6=2,RANDBETWEEN(-5,-1),RANDBETWEEN(-5,9)))","v":-2}]
[{"$f":"IF(ROW()<=Worksheet!$B$5/3,ROW(),\"\")","v":7},{"$f":"RANDBETWEEN(1,Worksheet!$B$9+1)","v":2},6,"•",9,"","","","",null,6.900000000000001E-5,"=","6•9","× 10",{"$f":"IF(Worksheet!$B$6=1,RANDBETWEEN(0,9),IF(Worksheet!$B$6=2,RANDBETWEEN(-5,-1),RANDBETWEEN(-5,9)))","v":-5},{"$f":"IF(ROW()<=Worksheet!$B$5/3,P6+1,\"\")","v":22},{"$f":"RANDBETWEEN(1,Worksheet!$B$9+1)","v":4},3,"•",6,8,1,"","",null,36.81,"=","3•681","× 10",{"$f":"IF(Worksheet!$B$6=1,RANDBETWEEN(0,9),IF(Worksheet!$B$6=2,RANDBETWEEN(-5,-1),RANDBETWEEN(-5,9)))","v":1},{"$f":"IF(ROW()<=Worksheet!$B$5/3,AE6+1,\"\")","v":37},{"$f":"RANDBETWEEN(1,Worksheet!$B$9+1)","v":1},8,"","","","","","",null,8000000000,"=","8","× 10",{"$f":"IF(Worksheet!$B$6=1,RANDBETWEEN(0,9),IF(Worksheet!$B$6=2,RANDBETWEEN(-5,-1),RANDBETWEEN(-5,9)))","v":9}]
[{"$f":"IF(ROW()<=Worksheet!$B$5/3,ROW(),\"\")","v":8},{"$f":"RANDBETWEEN(1,Worksheet!$B$9+1)","v":1},2,"","","","","","",null,2000000,"=","2","× 10",{"$f":"IF(Worksheet!$B$6=1,RANDBETWEEN(0,9),IF(Worksheet!$B$6=2,RANDBETWEEN(-5,-1),RANDBETWEEN(-5,9)))","v":6},{"$f":"IF(ROW()<=Worksheet!$B$5/3,P7+1,\"\")","v":23},{"$f":"RANDBETWEEN(1,Worksheet!$B$9+1)","v":4},8,"•",7,6,1,"","",null,87609.999999999985,"=","8•761","× 10",{"$f":"IF(Worksheet!$B$6=1,RANDBETWEEN(0,9),IF(Worksheet!$B$6=2,RANDBETWEEN(-5,-1),RANDBETWEEN(-5,9)))","v":4},{"$f":"IF(ROW()<=Worksheet!$B$5/3,AE7+1,\"\")","v":38},{"$f":"RANDBETWEEN(1,Worksheet!$B$9+1)","v":1},6,"","","","","","",null,6,"=","6","× 10",{"$f":"IF(Worksheet!$B$6=1,RANDBETWEEN(0,9),IF(Worksheet!$B$6=2,RANDBETWEEN(-5,-1),RANDBETWEEN(-5,9)))","v":0}]
[{"$f":"IF(ROW()<=Worksheet!$B$5/3,ROW(),\"\")","v":9},{"$f":"RANDBETWEEN(1,Worksheet!$B$9+1)","v":2},2,"•",3,"","","","",null,23,"=","2•3","× 10",{"$f":"IF(Worksheet!$B$6=1,RANDBETWEEN(0,9),IF(Worksheet!$B$6=2,RANDBETWEEN(-5,-1),RANDBETWEEN(-5,9)))","v":1},{"$f":"IF(ROW()<=Worksheet!$B$5/3,P8+1,\"\")","v":24},{"$f":"RANDBETWEEN(1,Worksheet!$B$9+1)","v":2},8,"•",8,"","","","",null,88,"=","8•8","× 10",{"$f":"IF(Worksheet!$B$6=1,RANDBETWEEN(0,9),IF(Worksheet!$B$6=2,RANDBETWEEN(-5,-1),RANDBETWEEN(-5,9)))","v":1},{"$f":"IF(ROW()<=Worksheet!$B$5/3,AE8+1,\"\")","v":39},{"$f":"RANDBETWEEN(1,Worksheet!$B$9+1)","v":1},6,"","","","","","",null,6000000,"=","6","× 10",{"$f":"IF(Worksheet!$B$6=1,RANDBETWEEN(0,9),IF(Worksheet!$B$6=2,RANDBETWEEN(-5,-1),RANDBETWEEN(-5,9)))","v":6}]
[{"$f":"IF(ROW()<=Worksheet!$B$5/3,ROW(),\"\")","v":10},{"$f":"RANDBETWEEN(1,Worksheet!$B$9+1)","v":2},2,"•",9,"","","","",null,2.9E-5,"=","2•9","× 10",{"$f":"IF(Worksheet!$B$6=1,RANDBETWEEN(0,9),IF(Worksheet!$B$6=2,RANDBETWEEN(-5,-1),RANDBETWEEN(-5,9)))","v":-5},{"$f":"IF(ROW()<=Worksheet!$B$5/3,P9+1,\"\")","v":25},{"$f":"RANDBETWEEN(1,Worksheet!$B$9+1)","v":2},1,"•",9,"","","","",null,190000,"=","1•9","× 10",{"$f":"IF(Worksheet!$B$6=1,RANDBETWEEN(0,9),IF(Worksheet!$B$6=2,RANDBETWEEN(-5,-1),RANDBETWEEN(-5,9)))","v":5},{"$f":"IF(ROW()<=Worksheet!$B$5/3,AE9+1,\"\")","v":40},{"$f":"RANDBETWEEN(1,Worksheet!$B$9+1)","v":3},8,"•",9,4,"","","",null,8.94E-3,"=","8•94","× 10",{"$f":"IF(Worksheet!$B$6=1,RANDBETWEEN(0,9),IF(Worksheet!$B$6=2,RANDBETWEEN(-5,-1),RANDBETWEEN(-5,9)))","v":-3}]
[{"$f":"IF(ROW()<=Worksheet!$B$5/3,ROW(),\"\")","v":11},{"$f":"RANDBETWEEN(1,Worksheet!$B$9+1)","v":2},8,"•",9,"","","","",null,8.9,"=",{"$f":"CONCATENATE(C11,D11,E11,F11,G11,H11,I11)","v":"8•9"},"× 10",{"$f":"IF(Worksheet!$B$6=1,RANDBETWEEN(0,9),IF(Worksheet!$B$6=2,RANDBETWEEN(-5,-1),RANDBETWEEN(-5,9)))","v":0},{"$f":"IF(ROW()<=Worksheet!$B$5/3,P10+1,\"\")","v":26},{"$f":"RANDBETWEEN(1,Worksheet!$B$9+1)","v":4},5,"•",2,4,1,"","",null,524100000.00000006,"=",{"$f":"CONCATENATE(R11,S11,T11,U11,V11,W11,X11)","v":"5•241"},"× 10",{"$f":"IF(Worksheet!$B$6=1,RANDBETWEEN(0,9),IF(Worksheet!$B$6=2,RANDBETWEEN(-5,-1),RANDBETWEEN(-5,9)))","v":8},{"$f":"IF(ROW()<=Worksheet!$B$5/3,AE10+1,\"\")","v":41},{"$f":"RANDBETWEEN(1,Worksheet!$B$9+1)","v":3},9,"•",6,9,"","","",null,969000,"=",{"$f":"CONCATENATE(AG11,AH11,AI11,AJ11,AK11,AL11,AM11)","v":"9•69"},"× 10",{"$f":"IF(Worksheet!$B$6=1,RANDBETWEEN(0,9),IF(Worksheet!$B$6=2,RANDBETWEEN(-5,-1),RANDBETWEEN(-5,9)))","v":5}]
[{"$f":"IF(ROW()<=Worksheet!$B$5/3,ROW(),\"\")","v":12},{"$f":"RANDBETWEEN(1,Worksheet!$B$9+1)","v":1},5,"","","","","","",null,5.0000000000000002E-5,"=",{"$f":"CONCATENATE(C12,D12,E12,F12,G12,H12,I12)","v":"5"},"× 10",{"$f":"IF(Worksheet!$B$6=1,RANDBETWEEN(0,9),IF(Worksheet!$B$6=2,RANDBETWEEN(-5,-1),RANDBETWEEN(-5,9)))","v":-5},{"$f":"IF(ROW()<=Worksheet!$B$5/3,P11+1,\"\")","v":27},{"$f":"RANDBETWEEN(1,Worksheet!$B$9+1)","v":3},9,"•",8,4,"","","",null,9.8399999999999998E-3,"=",{"$f":"CONCATENATE(R12,S12,T12,U12,V12,W12,X12)","v":"9•84"},"× 10",{"$f":"IF(Worksheet!$B$6=1,RANDBETWEEN(0,9),IF(Worksheet!$B$6=2,RANDBETWEEN(-5,-1),RANDBETWEEN(-5,9)))","v":-3},{"$f":"IF(ROW()<=Worksheet!$B$5/3,AE11+1,\"\")","v":42},{"$f":"RANDBETWEEN(1,Worksheet!$B$9+1)","v":4},4,"•",0,0,7,"","",null,4.0070000000000001E-5,"=",{"$f":"CONCATENATE(AG12,AH12,AI12,AJ12,AK12,AL12,AM12)","v":"4•007"},"× 10",{"$f":"IF(Worksheet!$B$6=1,RANDBETWEEN(0,9),IF(Worksheet!$B$6=2,RANDBETWEEN(-5,-1),RANDBETWEEN(-5,9)))","v":-5}]
[{"$f":"IF(ROW()<=Worksheet!$B$5/3,ROW(),\"\")","v":13},{"$f":"RANDBETWEEN(1,Worksheet!$B$9+1)","v":2},4,"•",1,"","","","",null,41,"=",{"$f":"CONCATENATE(C13,D13,E13,F13,G13,H13,I13)","v":"4•1"},"× 10",{"$f":"IF(Worksheet!$B$6=1,RANDBETWEEN(0,9),IF(Worksheet!$B$6=2,RANDBETWEEN(-5,-1),RANDBETWEEN(-5,9)))","v":1},{"$f":"IF(ROW()<=Worksheet!$B$5/3,P12+1,\"\")","v":28},{"$f":"RANDBETWEEN(1,Worksheet!$B$9+1)","v":4},3,"•",0,1,6,"","",null,3015999.9999999995,"=",{"$f":"CONCATENATE(R13,S13,T13,U13,V13,W13,X13)","v":"3•016"},"× 10",{"$f":"IF(Worksheet!$B$6=1,RANDBETWEEN(0,9),IF(Worksheet!$B$6=2,RANDBETWEEN(-5,-1),RANDBETWEEN(-5,9)))","v":6},{"$f":"IF(ROW()<=Worksheet!$B$5/3,AE12+1,\"\")","v":43},{"$f":"RANDBETWEEN(1,Worksheet!$B$9+1)","v":2},4,"•",9,"","","","",null,49,"=",{"$f":"CONCATENATE(AG13,AH13,AI13,AJ13,AK13,AL13,AM13)","v":"4•9"},"× 10",{"$f":"IF(Worksheet!$B$6=1,RANDBETWEEN(0,9),IF(Worksheet!$B$6=2,RANDBETWEEN(-5,-1),RANDBETWEEN(-5,9)))","v":1}]
[{"$f":"IF(ROW()<=Worksheet!$B$5/3,ROW(),\"\")","v":14},{"$f":"RANDBETWEEN(1,Worksheet!$B$9+1)","v":1},6,"","","","","","",null,6.0000000000000008E-5,"=",{"$f":"CONCATENATE(C14,D14,E14,F14,G14,H14,I14)","v":"6"},"× 10",{"$f":"IF(Worksheet!$B$6=1,RANDBETWEEN(0,9),IF(Worksheet!$B$6=2,RANDBETWEEN(-5,-1),RANDBETWEEN(-5,9)))","v":-5},{"$f":"IF(ROW()<=Worksheet!$B$5/3,P13+1,\"\")","v":29},{"$f":"RANDBETWEEN(1,Worksheet!$B$9+1)","v":2},9,"•",1,"","","","",null,9100000000,"=",{"$f":"CONCATENATE(R14,S14,T14,U14,V14,W14,X14)","v":"9•1"},"× 10",{"$f":"IF(Worksheet!$B$6=1,RANDBETWEEN(0,9),IF(Worksheet!$B$6=2,RANDBETWEEN(-5,-1),RANDBETWEEN(-5,9)))","v":9},{"$f":"IF(ROW()<=Worksheet!$B$5/3,AE13+1,\"\")","v":44},{"$f":"RANDBETWEEN(1,Worksheet!$B$9+1)","v":1},5,"","","","","","",null,500000,"=",{"$f":"CONCATENATE(AG14,AH14,AI14,AJ14,AK14,AL14,AM14)","v":"5"},"× 10",{"$f":"IF(Worksheet!$B$6=1,RANDBETWEEN(0,9),IF(Worksheet!$B$6=2,RANDBETWEEN(-5,-1),RANDBETWEEN(-5,9)))","v":5}]
[{"$f":"IF(ROW()<=Worksheet!$B$5/3,ROW(),\"\")","v":15},{"$f":"RANDBETWEEN(1,Worksheet!$B$9+1)","v":3},8,"•",4,2,"","","",null,842,"=",{"$f":"CONCATENATE(C15,D15,E15,F15,G15,H15,I15)","v":"8•42"},"× 10",{"$f":"IF(Worksheet!$B$6=1,RANDBETWEEN(0,9),IF(Worksheet!$B$6=2,RANDBETWEEN(-5,-1),RANDBETWEEN(-5,9)))","v":2},{"$f":"IF(ROW()<=Worksheet!$B$5/3,P14+1,\"\")","v":30},{"$f":"RANDBETWEEN(1,Worksheet!$B$9+1)","v":3},1,"•",6,1,"","","",null,161,"=",{"$f":"CONCATENATE(R15,S15,T15,U15,V15,W15,X15)","v":"1•61"},"× 10",{"$f":"IF(Worksheet!$B$6=1,RANDBETWEEN(0,9),IF(Worksheet!$B$6=2,RANDBETWEEN(-5,-1),RANDBETWEEN(-5,9)))","v":2},{"$f":"IF(ROW()<=Worksheet!$B$5/3,AE14+1,\"\")","v":45},{"$f":"RANDBETWEEN(1,Worksheet!$B$9+1)","v":2},6,"•",6,"","","","",null,6.6,"=",{"$f":"CONCATENATE(AG15,AH15,AI15,AJ15,AK15,AL15,AM15)","v":"6•6"},"× 10",{"$f":"IF(Worksheet!$B$6=1,RANDBETWEEN(0,9),IF(Worksheet!$B$6=2,RANDBETWEEN(-5,-1),RANDBETWEEN(-5,9)))","v":0}]