{"text_format":"1","workbook":"xlsx","n_sheets":2,"sheets":["Worksheet","SYSTEM FORMULAE"],"not_rendered":{"charts":0,"images":0,"macros":1,"external_links":0,"defined_names":2,"comments":0,"pivot_tables":0},"unopened":[],"bounds":{"document_bytes":16777216,"sheet_cells":100000,"rows_first":2000,"rows_last":500,"rows_between":2000,"halvings":0,"cell_chars":16384,"cell_head_chars":4096},"cells_cut":0,"cells_raw":0,"read":"whole","date_system":"1900"}

{"sheet":"Worksheet","index":0,"n_rows":15,"n_cols":38,"rows_kept":15,"cut":false,"hidden":false,"merged":[[7,35,8,35],[10,35,11,35],[13,35,14,35],[7,17,8,17],[10,17,11,17],[13,17,14,17],[7,23,8,23],[10,23,11,23],[13,23,14,23],[7,32,8,32],[10,32,11,32],[13,32,14,32],[1,26,2,26],[4,26,5,26],[7,26,8,26],[10,26,11,26],[13,26,14,26],[7,5,8,5],[10,5,11,5],[13,5,14,5],[1,14,2,14],[4,14,5,14],[7,14,8,14],[10,14,11,14],[13,14,14,14],[1,8,2,8],[4,8,5,8],[7,8,8,8],[10,8,11,8],[13,8,14,8],[1,0,1,1],[3,0,3,1],[0,2,0,37],[1,5,2,5],[4,5,5,5],[1,23,2,23],[4,23,5,23],[1,17,2,17],[4,17,5,17],[1,35,2,35],[4,35,5,35],[1,32,2,32],[4,32,5,32]]}
[null,null,"Do these calculations involving fractions, giving your answer in its simplest form."]
["Variables",null,1,3,3,"×",2,1,"=",0.12,"3/25",6,2,2,"–",1,1,"=",0.23333333333333336,"7/30",11,5,5,"÷",8,4,"=",0.89285714285714279,"25/28",16,1,1,"×",2,2,"=",3.1746031746031744E-2,"2/63"]
["SHOW ANSWERS",false,null,5,5,null,10,5,null,null,null,null,5,5,null,6,6,null,null,null,null,7,7,null,10,5,null,null,null,null,9,9,null,7,7]
["Size of fractions",null,null,1,null,null,2,null,null,null,null,null,1,null,null,1,null,null,null,null,null,1,null,null,2,null,null,null,null,null,1,null,null,1]
["Maximum denominator",10,2,3,3,"÷",3,1,"=",0.6,"3/5",7,2,1,"+",2,2,"=",0.48571428571428571,"17/35",12,7,7,"÷",2,2,"=",2.4500000000000002,"49/20",17,1,1,"–",1,1,"=",8.8888888888888906E-2,"4/45"]
[null,null,null,10,10,null,6,2,null,null,null,null,10,5,null,7,7,null,null,null,null,10,10,null,7,7,null,null,null,null,5,5,null,9,9]
[null,null,null,1,null,null,3,null,null,null,null,null,2,null,null,1,null,null,null,null,null,1,null,null,1,null,null,null,null,null,1,null,null,1]
[null,null,3,2,1,"÷",4,4,"=",0.45000000000000007,"9/20",8,3,1,"÷",9,9,"=",0.55555555555555558,"5/9",13,1,1,"÷",7,7,"=",0.35714285714285715,"5/14",18,4,2,"+",7,7,"=",1.5416666666666665,"37/24"]
[null,null,null,10,5,null,9,9,null,null,null,null,6,2,null,10,10,null,null,null,null,4,4,null,10,10,null,null,null,null,6,3,null,8,8]
[null,null,null,2,null,null,1,null,null,null,null,null,3,null,null,1,null,null,null,null,null,1,null,null,1,null,null,null,null,null,2,null,null,1]
[null,null,4,1,1,"÷",2,2,"=",1.1666666666666667,"7/6",9,6,2,"÷",2,1,"=",3.333333333333333,"10/3",14,1,1,"÷",1,1,"=",0.33333333333333331,"1/3",19,2,2,"÷",5,5,"=",0.3428571428571428,"12/35"]
[null,null,null,3,3,null,7,7,null,null,null,null,9,3,null,10,5,null,null,null,null,9,9,null,3,3,null,null,null,null,7,7,null,6,6]
[null,null,null,1,null,null,1,null,null,null,null,null,3,null,null,2,null,null,null,null,null,1,null,null,1,null,null,null,null,null,1,null,null,1]
[null,null,5,2,2,"÷",3,3,"=",1.1111111111111112,"10/9",10,2,2,"÷",5,5,"=",0.48,"12/25",15,4,4,"–",4,2,"=",4.4444444444444398E-2,"2/45",20,4,2,"+",2,1,"=",1.1666666666666665,"7/6"]
[null,null,null,3,3,null,5,5,null,null,null,null,5,5,null,6,6,null,null,null,null,9,9,null,10,5,null,null,null,null,6,3,null,4,2]

{"sheet":"SYSTEM FORMULAE","index":1,"n_rows":15,"n_cols":36,"rows_kept":15,"cut":false,"hidden":false,"merged":[]}
[1,{"$f":"RANDBETWEEN(1,B2-1)","v":6},{"$f":"B1/B3","v":6},{"$f":"CHOOSE(RANDBETWEEN(1,4),\"+\",\"–\",\"×\",\"÷\")","v":"×"},{"$f":"IF(D1=\"–\",RANDBETWEEN(1,B1*E2/B2),RANDBETWEEN(1,E2-1))","v":2},{"$f":"E1/E3","v":2},"=",{"$f":"IF(D1=\"+\",(C1/C2)+(F1/F2),IF(D1=\"–\",(C1/C2)-(F1/F2),IF(D1=\"×\",(C1/C2)*(F1/F2),(C1/C2)/(F1/F2))))","v":0.19047619047619047},{"$f":"IF(INT(H1)=H1,H1,TEXT(H1,\"###/###\"))","v":"4/21"},6,{"$f":"RANDBETWEEN(1,K2-1)","v":5},{"$f":"K1/K3","v":5},{"$f":"CHOOSE(RANDBETWEEN(1,4),\"+\",\"–\",\"×\",\"÷\")","v":"÷"},{"$f":"IF(M1=\"–\",RANDBETWEEN(1,K1*N2/K2),RANDBETWEEN(1,N2-1))","v":1},{"$f":"N1/N3","v":1},"=",{"$f":"IF(M1=\"+\",(L1/L2)+(O1/O2),IF(M1=\"–\",(L1/L2)-(O1/O2),IF(M1=\"×\",(L1/L2)*(O1/O2),(L1/L2)/(O1/O2))))","v":7.1428571428571423},{"$f":"IF(INT(Q1)=Q1,Q1,TEXT(Q1,\"###/###\"))","v":"50/7"},11,{"$f":"RANDBETWEEN(1,T2-1)","v":4},{"$f":"T1/T3","v":4},{"$f":"CHOOSE(RANDBETWEEN(1,4),\"+\",\"–\",\"×\",\"÷\")","v":"+"},{"$f":"IF(V1=\"–\",RANDBETWEEN(1,T1*W2/T2),RANDBETWEEN(1,W2-1))","v":4},{"$f":"W1/W3","v":4},"=",{"$f":"IF(V1=\"+\",(U1/U2)+(X1/X2),IF(V1=\"–\",(U1/U2)-(X1/X2),IF(V1=\"×\",(U1/U2)*(X1/X2),(U1/U2)/(X1/X2))))","v":1.0158730158730158},{"$f":"IF(INT(Z1)=Z1,Z1,TEXT(Z1,\"###/###\"))","v":"64/63"},16,{"$f":"RANDBETWEEN(1,AC2-1)","v":3},{"$f":"AC1/AC3","v":3},{"$f":"CHOOSE(RANDBETWEEN(1,4),\"+\",\"–\",\"×\",\"÷\")","v":"÷"},{"$f":"IF(AE1=\"–\",RANDBETWEEN(1,AC1*AF2/AC2),RANDBETWEEN(1,AF2-1))","v":5},{"$f":"AF1/AF3","v":5},"=",{"$f":"IF(AE1=\"+\",(AD1/AD2)+(AG1/AG2),IF(AE1=\"–\",(AD1/AD2)-(AG1/AG2),IF(AE1=\"×\",(AD1/AD2)*(AG1/AG2),(AD1/AD2)/(AG1/AG2))))","v":1.05},{"$f":"IF(INT(AI1)=AI1,AI1,TEXT(AI1,\"###/###\"))","v":"21/20"}]
[null,{"$f":"RANDBETWEEN(3,Worksheet!$B$5)","v":7},{"$f":"B2/B3","v":7},null,{"$f":"IF(AND(D1=\"–\",C1=1),RANDBETWEEN(C2,Worksheet!$B$5),RANDBETWEEN(3,Worksheet!$B$5))","v":9},{"$f":"E2/E3","v":9},null,null,null,null,{"$f":"RANDBETWEEN(3,Worksheet!$B$5)","v":7},{"$f":"K2/K3","v":7},null,{"$f":"IF(AND(M1=\"–\",L1=1),RANDBETWEEN(L2,Worksheet!$B$5),RANDBETWEEN(3,Worksheet!$B$5))","v":10},{"$f":"N2/N3","v":10},null,null,null,null,{"$f":"RANDBETWEEN(3,Worksheet!$B$5)","v":9},{"$f":"T2/T3","v":9},null,{"$f":"IF(AND(V1=\"–\",U1=1),RANDBETWEEN(U2,Worksheet!$B$5),RANDBETWEEN(3,Worksheet!$B$5))","v":7},{"$f":"W2/W3","v":7},null,null,null,null,{"$f":"RANDBETWEEN(3,Worksheet!$B$5)","v":4},{"$f":"AC2/AC3","v":4},null,{"$f":"IF(AND(AE1=\"–\",AD1=1),RANDBETWEEN(AD2,Worksheet!$B$5),RANDBETWEEN(3,Worksheet!$B$5))","v":7},{"$f":"AF2/AF3","v":7}]
[null,{"$f":"GCD(B1,B2)","v":1},null,null,{"$f":"GCD(E1,E2)","v":1},null,null,null,null,null,{"$f":"GCD(K1,K2)","v":1},null,null,{"$f":"GCD(N1,N2)","v":1},null,null,null,null,null,{"$f":"GCD(T1,T2)","v":1},null,null,{"$f":"GCD(W1,W2)","v":1},null,null,null,null,null,{"$f":"GCD(AC1,AC2)","v":1},null,null,{"$f":"GCD(AF1,AF2)","v":1}]
[2,{"$f":"RANDBETWEEN(1,B5-1)","v":5},{"$f":"B4/B6","v":5},{"$f":"CHOOSE(RANDBETWEEN(1,4),\"+\",\"–\",\"×\",\"÷\")","v":"÷"},{"$f":"IF(D4=\"–\",RANDBETWEEN(1,B4*E5/B5),RANDBETWEEN(1,E5-1))","v":3},{"$f":"E4/E6","v":3},"=",{"$f":"IF(D4=\"+\",(C4/C5)+(F4/F5),IF(D4=\"–\",(C4/C5)-(F4/F5),IF(D4=\"×\",(C4/C5)*(F4/F5),(C4/C5)/(F4/F5))))","v":1.1904761904761905},{"$f":"IF(INT(H4)=H4,H4,TEXT(H4,\"###/###\"))","v":"25/21"},7,{"$f":"RANDBETWEEN(1,K5-1)","v":3},{"$f":"K4/K6","v":3},{"$f":"CHOOSE(RANDBETWEEN(1,4),\"+\",\"–\",\"×\",\"÷\")","v":"÷"},{"$f":"IF(M4=\"–\",RANDBETWEEN(1,K4*N5/K5),RANDBETWEEN(1,N5-1))","v":2},{"$f":"N4/N6","v":2},"=",{"$f":"IF(M4=\"+\",(L4/L5)+(O4/O5),IF(M4=\"–\",(L4/L5)-(O4/O5),IF(M4=\"×\",(L4/L5)*(O4/O5),(L4/L5)/(O4/O5))))","v":2.625},{"$f":"IF(INT(Q4)=Q4,Q4,TEXT(Q4,\"###/###\"))","v":"21/8"},12,{"$f":"RANDBETWEEN(1,T5-1)","v":2},{"$f":"T4/T6","v":2},{"$f":"CHOOSE(RANDBETWEEN(1,4),\"+\",\"–\",\"×\",\"÷\")","v":"–"},{"$f":"IF(V4=\"–\",RANDBETWEEN(1,T4*W5/T5),RANDBETWEEN(1,W5-1))","v":1},{"$f":"W4/W6","v":1},"=",{"$f":"IF(V4=\"+\",(U4/U5)+(X4/X5),IF(V4=\"–\",(U4/U5)-(X4/X5),IF(V4=\"×\",(U4/U5)*(X4/X5),(U4/U5)/(X4/X5))))","v":0.17460317460317459},{"$f":"IF(INT(Z4)=Z4,Z4,TEXT(Z4,\"###/###\"))","v":"11/63"},17,{"$f":"RANDBETWEEN(1,AC5-1)","v":1},{"$f":"AC4/AC6","v":1},{"$f":"CHOOSE(RANDBETWEEN(1,4),\"+\",\"–\",\"×\",\"÷\")","v":"÷"},{"$f":"IF(AE4=\"–\",RANDBETWEEN(1,AC4*AF5/AC5),RANDBETWEEN(1,AF5-1))","v":3},{"$f":"AF4/AF6","v":3},"=",{"$f":"IF(AE4=\"+\",(AD4/AD5)+(AG4/AG5),IF(AE4=\"–\",(AD4/AD5)-(AG4/AG5),IF(AE4=\"×\",(AD4/AD5)*(AG4/AG5),(AD4/AD5)/(AG4/AG5))))","v":0.38095238095238093},{"$f":"IF(INT(AI4)=AI4,AI4,TEXT(AI4,\"###/###\"))","v":"8/21"}]
[null,{"$f":"RANDBETWEEN(3,Worksheet!$B$5)","v":7},{"$f":"B5/B6","v":7},null,{"$f":"IF(AND(D4=\"–\",C4=1),RANDBETWEEN(C5,Worksheet!$B$5),RANDBETWEEN(3,Worksheet!$B$5))","v":5},{"$f":"E5/E6","v":5},null,null,null,null,{"$f":"RANDBETWEEN(3,Worksheet!$B$5)","v":4},{"$f":"K5/K6","v":4},null,{"$f":"IF(AND(M4=\"–\",L4=1),RANDBETWEEN(L5,Worksheet!$B$5),RANDBETWEEN(3,Worksheet!$B$5))","v":7},{"$f":"N5/N6","v":7},null,null,null,null,{"$f":"RANDBETWEEN(3,Worksheet!$B$5)","v":7},{"$f":"T5/T6","v":7},null,{"$f":"IF(AND(V4=\"–\",U4=1),RANDBETWEEN(U5,Worksheet!$B$5),RANDBETWEEN(3,Worksheet!$B$5))","v":9},{"$f":"W5/W6","v":9},null,null,null,null,{"$f":"RANDBETWEEN(3,Worksheet!$B$5)","v":7},{"$f":"AC5/AC6","v":7},null,{"$f":"IF(AND(AE4=\"–\",AD4=1),RANDBETWEEN(AD5,Worksheet!$B$5),RANDBETWEEN(3,Worksheet!$B$5))","v":8},{"$f":"AF5/AF6","v":8}]
[null,{"$f":"GCD(B4,B5)","v":1},null,null,{"$f":"GCD(E4,E5)","v":1},null,null,null,null,null,{"$f":"GCD(K4,K5)","v":1},null,null,{"$f":"GCD(N4,N5)","v":1},null,null,null,null,null,{"$f":"GCD(T4,T5)","v":1},null,null,{"$f":"GCD(W4,W5)","v":1},null,null,null,null,null,{"$f":"GCD(AC4,AC5)","v":1},null,null,{"$f":"GCD(AF4,AF5)","v":1}]
[3,{"$f":"RANDBETWEEN(1,B8-1)","v":2},{"$f":"B7/B9","v":2},{"$f":"CHOOSE(RANDBETWEEN(1,4),\"+\",\"–\",\"×\",\"÷\")","v":"–"},{"$f":"IF(D7=\"–\",RANDBETWEEN(1,B7*E8/B8),RANDBETWEEN(1,E8-1))","v":{"$error":"#NUM!"}},{"$f":"E7/E9","v":{"$error":"#NUM!"}},"=",{"$f":"IF(D7=\"+\",(C7/C8)+(F7/F8),IF(D7=\"–\",(C7/C8)-(F7/F8),IF(D7=\"×\",(C7/C8)*(F7/F8),(C7/C8)/(F7/F8))))","v":{"$error":"#NUM!"}},{"$f":"IF(INT(H7)=H7,H7,TEXT(H7,\"###/###\"))","v":{"$error":"#NUM!"}},8,{"$f":"RANDBETWEEN(1,K8-1)","v":4},{"$f":"K7/K9","v":4},{"$f":"CHOOSE(RANDBETWEEN(1,4),\"+\",\"–\",\"×\",\"÷\")","v":"÷"},{"$f":"IF(M7=\"–\",RANDBETWEEN(1,K7*N8/K8),RANDBETWEEN(1,N8-1))","v":1},{"$f":"N7/N9","v":1},"=",{"$f":"IF(M7=\"+\",(L7/L8)+(O7/O8),IF(M7=\"–\",(L7/L8)-(O7/O8),IF(M7=\"×\",(L7/L8)*(O7/O8),(L7/L8)/(O7/O8))))","v":3.5555555555555554},{"$f":"IF(INT(Q7)=Q7,Q7,TEXT(Q7,\"###/###\"))","v":"32/9"},13,{"$f":"RANDBETWEEN(1,T8-1)","v":8},{"$f":"T7/T9","v":8},{"$f":"CHOOSE(RANDBETWEEN(1,4),\"+\",\"–\",\"×\",\"÷\")","v":"÷"},{"$f":"IF(V7=\"–\",RANDBETWEEN(1,T7*W8/T8),RANDBETWEEN(1,W8-1))","v":6},{"$f":"W7/W9","v":3},"=",{"$f":"IF(V7=\"+\",(U7/U8)+(X7/X8),IF(V7=\"–\",(U7/U8)-(X7/X8),IF(V7=\"×\",(U7/U8)*(X7/X8),(U7/U8)/(X7/X8))))","v":1.4814814814814814},{"$f":"IF(INT(Z7)=Z7,Z7,TEXT(Z7,\"###/###\"))","v":"40/27"},18,{"$f":"RANDBETWEEN(1,AC8-1)","v":2},{"$f":"AC7/AC9","v":1},{"$f":"CHOOSE(RANDBETWEEN(1,4),\"+\",\"–\",\"×\",\"÷\")","v":"+"},{"$f":"IF(AE7=\"–\",RANDBETWEEN(1,AC7*AF8/AC8),RANDBETWEEN(1,AF8-1))","v":3},{"$f":"AF7/AF9","v":1},"=",{"$f":"IF(AE7=\"+\",(AD7/AD8)+(AG7/AG8),IF(AE7=\"–\",(AD7/AD8)-(AG7/AG8),IF(AE7=\"×\",(AD7/AD8)*(AG7/AG8),(AD7/AD8)/(AG7/AG8))))","v":0.58333333333333326},{"$f":"IF(INT(AI7)=AI7,AI7,TEXT(AI7,\"###/###\"))","v":"7/12"}]
[null,{"$f":"RANDBETWEEN(3,Worksheet!$B$5)","v":7},{"$f":"B8/B9","v":7},null,{"$f":"IF(AND(D7=\"–\",C7=1),RANDBETWEEN(C8,Worksheet!$B$5),RANDBETWEEN(3,Worksheet!$B$5))","v":3},{"$f":"E8/E9","v":{"$error":"#NUM!"}},null,null,null,null,{"$f":"RANDBETWEEN(3,Worksheet!$B$5)","v":9},{"$f":"K8/K9","v":9},null,{"$f":"IF(AND(M7=\"–\",L7=1),RANDBETWEEN(L8,Worksheet!$B$5),RANDBETWEEN(3,Worksheet!$B$5))","v":8},{"$f":"N8/N9","v":8},null,null,null,null,{"$f":"RANDBETWEEN(3,Worksheet!$B$5)","v":9},{"$f":"T8/T9","v":9},null,{"$f":"IF(AND(V7=\"–\",U7=1),RANDBETWEEN(U8,Worksheet!$B$5),RANDBETWEEN(3,Worksheet!$B$5))","v":10},{"$f":"W8/W9","v":5},null,null,null,null,{"$f":"RANDBETWEEN(3,Worksheet!$B$5)","v":8},{"$f":"AC8/AC9","v":4},null,{"$f":"IF(AND(AE7=\"–\",AD7=1),RANDBETWEEN(AD8,Worksheet!$B$5),RANDBETWEEN(3,Worksheet!$B$5))","v":9},{"$f":"AF8/AF9","v":3}]
[null,{"$f":"GCD(B7,B8)","v":1},null,null,{"$f":"GCD(E7,E8)","v":{"$error":"#NUM!"}},null,null,null,null,null,{"$f":"GCD(K7,K8)","v":1},null,null,{"$f":"GCD(N7,N8)","v":1},null,null,null,null,null,{"$f":"GCD(T7,T8)","v":1},null,null,{"$f":"GCD(W7,W8)","v":2},null,null,null,null,null,{"$f":"GCD(AC7,AC8)","v":2},null,null,{"$f":"GCD(AF7,AF8)","v":3}]
[4,{"$f":"RANDBETWEEN(1,B11-1)","v":5},{"$f":"B10/B12","v":5},{"$f":"CHOOSE(RANDBETWEEN(1,4),\"+\",\"–\",\"×\",\"÷\")","v":"–"},{"$f":"IF(D10=\"–\",RANDBETWEEN(1,B10*E11/B11),RANDBETWEEN(1,E11-1))","v":3},{"$f":"E10/E12","v":3},"=",{"$f":"IF(D10=\"+\",(C10/C11)+(F10/F11),IF(D10=\"–\",(C10/C11)-(F10/F11),IF(D10=\"×\",(C10/C11)*(F10/F11),(C10/C11)/(F10/F11))))","v":0.3392857142857143},{"$f":"IF(INT(H10)=H10,H10,TEXT(H10,\"###/###\"))","v":"19/56"},9,{"$f":"RANDBETWEEN(1,K11-1)","v":1},{"$f":"K10/K12","v":1},{"$f":"CHOOSE(RANDBETWEEN(1,4),\"+\",\"–\",\"×\",\"÷\")","v":"–"},{"$f":"IF(M10=\"–\",RANDBETWEEN(1,K10*N11/K11),RANDBETWEEN(1,N11-1))","v":1},{"$f":"N10/N12","v":1},"=",{"$f":"IF(M10=\"+\",(L10/L11)+(O10/O11),IF(M10=\"–\",(L10/L11)-(O10/O11),IF(M10=\"×\",(L10/L11)*(O10/O11),(L10/L11)/(O10/O11))))","v":0.1388888888888889},{"$f":"IF(INT(Q10)=Q10,Q10,TEXT(Q10,\"###/###\"))","v":"5/36"},14,{"$f":"RANDBETWEEN(1,T11-1)","v":4},{"$f":"T10/T12","v":4},{"$f":"CHOOSE(RANDBETWEEN(1,4),\"+\",\"–\",\"×\",\"÷\")","v":"–"},{"$f":"IF(V10=\"–\",RANDBETWEEN(1,T10*W11/T11),RANDBETWEEN(1,W11-1))","v":3},{"$f":"W10/W12","v":1},"=",{"$f":"IF(V10=\"+\",(U10/U11)+(X10/X11),IF(V10=\"–\",(U10/U11)-(X10/X11),IF(V10=\"×\",(U10/U11)*(X10/X11),(U10/U11)/(X10/X11))))","v":0.23809523809523808},{"$f":"IF(INT(Z10)=Z10,Z10,TEXT(Z10,\"###/###\"))","v":"5/21"},19,{"$f":"RANDBETWEEN(1,AC11-1)","v":9},{"$f":"AC10/AC12","v":9},{"$f":"CHOOSE(RANDBETWEEN(1,4),\"+\",\"–\",\"×\",\"÷\")","v":"×"},{"$f":"IF(AE10=\"–\",RANDBETWEEN(1,AC10*AF11/AC11),RANDBETWEEN(1,AF11-1))","v":3},{"$f":"AF10/AF12","v":3},"=",{"$f":"IF(AE10=\"+\",(AD10/AD11)+(AG10/AG11),IF(AE10=\"–\",(AD10/AD11)-(AG10/AG11),IF(AE10=\"×\",(AD10/AD11)*(AG10/AG11),(AD10/AD11)/(AG10/AG11))))","v":0.54},{"$f":"IF(INT(AI10)=AI10,AI10,TEXT(AI10,\"###/###\"))","v":"27/50"}]
[null,{"$f":"RANDBETWEEN(3,Worksheet!$B$5)","v":7},{"$f":"B11/B12","v":7},null,{"$f":"IF(AND(D10=\"–\",C10=1),RANDBETWEEN(C11,Worksheet!$B$5),RANDBETWEEN(3,Worksheet!$B$5))","v":8},{"$f":"E11/E12","v":8},null,null,null,null,{"$f":"RANDBETWEEN(3,Worksheet!$B$5)","v":4},{"$f":"K11/K12","v":4},null,{"$f":"IF(AND(M10=\"–\",L10=1),RANDBETWEEN(L11,Worksheet!$B$5),RANDBETWEEN(3,Worksheet!$B$5))","v":9},{"$f":"N11/N12","v":9},null,null,null,null,{"$f":"RANDBETWEEN(3,Worksheet!$B$5)","v":7},{"$f":"T11/T12","v":7},null,{"$f":"IF(AND(V10=\"–\",U10=1),RANDBETWEEN(U11,Worksheet!$B$5),RANDBETWEEN(3,Worksheet!$B$5))","v":9},{"$f":"W11/W12","v":3},null,null,null,null,{"$f":"RANDBETWEEN(3,Worksheet!$B$5)","v":10},{"$f":"AC11/AC12","v":10},null,{"$f":"IF(AND(AE10=\"–\",AD10=1),RANDBETWEEN(AD11,Worksheet!$B$5),RANDBETWEEN(3,Worksheet!$B$5))","v":5},{"$f":"AF11/AF12","v":5}]
[null,{"$f":"GCD(B10,B11)","v":1},null,null,{"$f":"GCD(E10,E11)","v":1},null,null,null,null,null,{"$f":"GCD(K10,K11)","v":1},null,null,{"$f":"GCD(N10,N11)","v":1},null,null,null,null,null,{"$f":"GCD(T10,T11)","v":1},null,null,{"$f":"GCD(W10,W11)","v":3},null,null,null,null,null,{"$f":"GCD(AC10,AC11)","v":1},null,null,{"$f":"GCD(AF10,AF11)","v":1}]
[5,{"$f":"RANDBETWEEN(1,B14-1)","v":3},{"$f":"B13/B15","v":3},{"$f":"CHOOSE(RANDBETWEEN(1,4),\"+\",\"–\",\"×\",\"÷\")","v":"–"},{"$f":"IF(D13=\"–\",RANDBETWEEN(1,B13*E14/B14),RANDBETWEEN(1,E14-1))","v":2},{"$f":"E13/E15","v":2},"=",{"$f":"IF(D13=\"+\",(C13/C14)+(F13/F14),IF(D13=\"–\",(C13/C14)-(F13/F14),IF(D13=\"×\",(C13/C14)*(F13/F14),(C13/C14)/(F13/F14))))","v":0.37777777777777777},{"$f":"IF(INT(H13)=H13,H13,TEXT(H13,\"###/###\"))","v":"17/45"},10,{"$f":"RANDBETWEEN(1,K14-1)","v":3},{"$f":"K13/K15","v":3},{"$f":"CHOOSE(RANDBETWEEN(1,4),\"+\",\"–\",\"×\",\"÷\")","v":"–"},{"$f":"IF(M13=\"–\",RANDBETWEEN(1,K13*N14/K14),RANDBETWEEN(1,N14-1))","v":1},{"$f":"N13/N15","v":1},"=",{"$f":"IF(M13=\"+\",(L13/L14)+(O13/O14),IF(M13=\"–\",(L13/L14)-(O13/O14),IF(M13=\"×\",(L13/L14)*(O13/O14),(L13/L14)/(O13/O14))))","v":0.41666666666666669},{"$f":"IF(INT(Q13)=Q13,Q13,TEXT(Q13,\"###/###\"))","v":"5/12"},15,{"$f":"RANDBETWEEN(1,T14-1)","v":4},{"$f":"T13/T15","v":2},{"$f":"CHOOSE(RANDBETWEEN(1,4),\"+\",\"–\",\"×\",\"÷\")","v":"+"},{"$f":"IF(V13=\"–\",RANDBETWEEN(1,T13*W14/T14),RANDBETWEEN(1,W14-1))","v":2},{"$f":"W13/W15","v":1},"=",{"$f":"IF(V13=\"+\",(U13/U14)+(X13/X14),IF(V13=\"–\",(U13/U14)-(X13/X14),IF(V13=\"×\",(U13/U14)*(X13/X14),(U13/U14)/(X13/X14))))","v":1.1666666666666665},{"$f":"IF(INT(Z13)=Z13,Z13,TEXT(Z13,\"###/###\"))","v":"7/6"},20,{"$f":"RANDBETWEEN(1,AC14-1)","v":2},{"$f":"AC13/AC15","v":1},{"$f":"CHOOSE(RANDBETWEEN(1,4),\"+\",\"–\",\"×\",\"÷\")","v":"–"},{"$f":"IF(AE13=\"–\",RANDBETWEEN(1,AC13*AF14/AC14),RANDBETWEEN(1,AF14-1))","v":1},{"$f":"AF13/AF15","v":1},"=",{"$f":"IF(AE13=\"+\",(AD13/AD14)+(AG13/AG14),IF(AE13=\"–\",(AD13/AD14)-(AG13/AG14),IF(AE13=\"×\",(AD13/AD14)*(AG13/AG14),(AD13/AD14)/(AG13/AG14))))","v":0.33333333333333337},{"$f":"IF(INT(AI13)=AI13,AI13,TEXT(AI13,\"###/###\"))","v":"1/3"}]
[null,{"$f":"RANDBETWEEN(3,Worksheet!$B$5)","v":5},{"$f":"B14/B15","v":5},null,{"$f":"IF(AND(D13=\"–\",C13=1),RANDBETWEEN(C14,Worksheet!$B$5),RANDBETWEEN(3,Worksheet!$B$5))","v":9},{"$f":"E14/E15","v":9},null,null,null,null,{"$f":"RANDBETWEEN(3,Worksheet!$B$5)","v":4},{"$f":"K14/K15","v":4},null,{"$f":"IF(AND(M13=\"–\",L13=1),RANDBETWEEN(L14,Worksheet!$B$5),RANDBETWEEN(3,Worksheet!$B$5))","v":3},{"$f":"N14/N15","v":3},null,null,null,null,{"$f":"RANDBETWEEN(3,Worksheet!$B$5)","v":6},{"$f":"T14/T15","v":3},null,{"$f":"IF(AND(V13=\"–\",U13=1),RANDBETWEEN(U14,Worksheet!$B$5),RANDBETWEEN(3,Worksheet!$B$5))","v":4},{"$f":"W14/W15","v":2},null,null,null,null,{"$f":"RANDBETWEEN(3,Worksheet!$B$5)","v":4},{"$f":"AC14/AC15","v":2},null,{"$f":"IF(AND(AE13=\"–\",AD13=1),RANDBETWEEN(AD14,Worksheet!$B$5),RANDBETWEEN(3,Worksheet!$B$5))","v":6},{"$f":"AF14/AF15","v":6}]
[null,{"$f":"GCD(B13,B14)","v":1},null,null,{"$f":"GCD(E13,E14)","v":1},null,null,null,null,null,{"$f":"GCD(K13,K14)","v":1},null,null,{"$f":"GCD(N13,N14)","v":1},null,null,null,null,null,{"$f":"GCD(T13,T14)","v":2},null,null,{"$f":"GCD(W13,W14)","v":2},null,null,null,null,null,{"$f":"GCD(AC13,AC14)","v":2},null,null,{"$f":"GCD(AF13,AF14)","v":1}]