{"text_format":"1","workbook":"xlsx","n_sheets":2,"sheets":["Worksheet","SYSTEM FORMULAE"],"not_rendered":{"charts":0,"images":0,"macros":1,"external_links":0,"defined_names":2,"comments":0,"pivot_tables":0},"unopened":[],"bounds":{"document_bytes":16777216,"sheet_cells":100000,"rows_first":2000,"rows_last":500,"rows_between":2000,"halvings":0,"cell_chars":16384,"cell_head_chars":4096},"cells_cut":0,"cells_raw":0,"read":"whole","date_system":"1900"}

{"sheet":"Worksheet","index":0,"n_rows":40,"n_cols":42,"rows_kept":40,"cut":false,"hidden":false,"merged":[[3,0,3,2],[13,0,16,0],[0,5,0,41]]}
[null,null,null,null,null,"Solve these simultaneous equations"]
[]
[null,null,null,null,null,1,1,"y","+",8,"z","=","",11,null,"y","=","",11,"z","=","",0,null,13,4,"f","–",5,"g","=","",38,null,"f","=","",22,"g","=","",10]
["Variables",null,null,null,null,null,4,"y","–",2,"z","=","",44,null,null,null,null,null,null,null,null,null,null,null,10,"f","+",9,"g","=","",310]
["SHOW ANSWERS?",null,false]
["Number of questions (minimum 10, maximum 26)",null,26,null,null,2,1,"v","–",9,"w","=","–",354,null,"v","=","",6,"w","=","",40,null,14,8,"y","–",8,"z","=","",8,null,"y","=","",20,"z","=","",19]
[null,null,null,null,null,null,5,"v","+",9,"w","=","",390,null,null,null,null,null,null,null,null,null,null,null,1,"y","+",5,"z","=","",115]
["Solutions"]
["Allow solutions to be negative",null,false,null,null,3,8,"c","–",4,"d","=","",148,null,"c","=","",28,"d","=","",19,null,15,8,"s","+",10,"t","=","",338,null,"s","=","",21,"t","=","",17]
["Maximum value of solutions",null,45,null,null,null,3,"c","–",6,"d","=","–",30,null,null,null,null,null,null,null,null,null,null,null,2,"s","+",7,"t","=","",161]
[]
["Coefficients of left-hand side",null,null,null,null,4,5,"x","+",2,"y","=","",115,null,"x","=","",11,"y","=","",30,null,16,1,"b","+",10,"c","=","",135,null,"b","=","",15,"c","=","",12]
["Maximum value of coefficients",null,10,null,null,null,5,"x","+",6,"y","=","",235,null,null,null,null,null,null,null,null,null,null,null,6,"b","–",10,"c","=","–",30]
["Signs in the middle of left-hand side","All positive",4,1]
[null,"All negative",null,"(likely to lead to some negative RHS)",null,5,10,"x","+",3,"y","=","",453,null,"x","=","",33,"y","=","",41,null,17,9,"e","–",3,"f","=","",189,null,"e","=","",21,"f","=","",0]
[null,"One of each",null,"(likely to lead to some negative RHS)",null,null,2,"x","–",7,"y","=","–",221,null,null,null,null,null,null,null,null,null,null,null,3,"e","–",1,"f","=","",63]
[null,"A random mixture",null,"(likely to lead to some negative RHS)"]
[null,null,null,null,null,6,5,"x","+",2,"y","=","",65,null,"x","=","",9,"y","=","",10,null,18,9,"v","+",6,"w","=","",486,null,"v","=","",24,"w","=","",45]
[null,null,null,null,null,null,9,"x","+",5,"y","=","",131,null,null,null,null,null,null,null,null,null,null,null,8,"v","+",4,"w","=","",372]
[]
[null,null,null,null,null,7,5,"e","–",9,"f","=","–",96,null,"e","=","",6,"f","=","",14,null,19,8,"b","–",1,"c","=","",135,null,"b","=","",20,"c","=","",25]
[null,null,null,null,null,null,8,"e","+",7,"f","=","",146,null,null,null,null,null,null,null,null,null,null,null,7,"b","+",6,"c","=","",290]
[]
[null,null,null,null,null,8,1,"f","–",10,"g","=","–",428,null,"f","=","",22,"g","=","",45,null,20,9,"x","–",5,"y","=","",3,null,"x","=","",17,"y","=","",30]
[null,null,null,null,null,null,7,"f","+",10,"g","=","",604,null,null,null,null,null,null,null,null,null,null,null,2,"x","+",2,"y","=","",94]
[]
[null,null,null,null,null,9,5,"y","+",1,"z","=","",142,null,"y","=","",26,"z","=","",12,null,21,1,"m","–",3,"n","=","–",29,null,"m","=","",13,"n","=","",14]
[null,null,null,null,null,null,9,"y","–",7,"z","=","",150,null,null,null,null,null,null,null,null,null,null,null,5,"m","–",3,"n","=","",23]
[]
[null,null,null,null,null,10,3,"y","–",9,"z","=","–",243,null,"y","=","",45,"z","=","",42,null,22,7,"y","+",7,"z","=","",434,null,"y","=","",35,"z","=","",27]
[null,null,null,null,null,null,5,"y","+",7,"z","=","",519,null,null,null,null,null,null,null,null,null,null,null,9,"y","+",2,"z","=","",369]
[]
[null,null,null,null,null,11,2,"f","+",9,"g","=","",359,null,"f","=","",13,"g","=","",37,null,23,6,"s","–",7,"t","=","",47,null,"s","=","",9,"t","=","",1]
[null,null,null,null,null,null,1,"f","+",9,"g","=","",346,null,null,null,null,null,null,null,null,null,null,null,7,"s","–",1,"t","=","",62]
[]
[null,null,null,null,null,12,2,"p","+",7,"q","=","",324,null,"p","=","",8,"q","=","",44,null,24,2,"s","–",1,"t","=","",22,null,"s","=","",21,"t","=","",20]
[null,null,null,null,null,null,6,"p","–",3,"q","=","–",84,null,null,null,null,null,null,null,null,null,null,null,5,"s","–",9,"t","=","–",75]
[]
[null,null,null,null,null,13,6,"y","–",3,"z","=","",165,null,"y","=","",36,"z","=","",17,null,25,10,"g","+",5,"h","=","",275,null,"g","=","",18,"h","=","",19]
[null,null,null,null,null,null,6,"y","+",1,"z","=","",233,null,null,null,null,null,null,null,null,null,null,null,4,"g","–",7,"h","=","–",61]

{"sheet":"SYSTEM FORMULAE","index":1,"n_rows":38,"n_cols":37,"rows_kept":38,"cut":false,"hidden":false,"merged":[]}
[1,{"$f":"RANDBETWEEN(1,Worksheet!$C$13)","v":10},{"$f":"K1","v":"u"},{"$f":"IF(Worksheet!$C$14=1,\"+\",IF(Worksheet!$C$14=2,\"–\",CHOOSE(RANDBETWEEN(1,2),\"+\",\"–\")))","v":"–"},{"$f":"RANDBETWEEN(1,Worksheet!$C$13)","v":5},{"$f":"O1","v":"v"},"=",{"$f":"IF(I1<0,\"–\",\"\")","v":""},{"$f":"IF(D1=\"+\",B1*N1+E1*R1,B1*N1-E1*R1)","v":160},null,{"$f":"CHOOSE(RANDBETWEEN(1,24),\"a\",\"b\",\"c\",\"d\",\"e\",\"f\",\"g\",\"x\",\"j\",\"y\",\"y\",\"m\",\"x\",\"p\",\"q\",\"r\",\"s\",\"t\",\"u\",\"v\",\"w\",\"x\",\"y\",\"a\")","v":"u"},"=",{"$f":"IF(N1<0,\"–\",\"\")","v":""},{"$f":"IF(Worksheet!$C$9,RANDBETWEEN(-Worksheet!$C$10,Worksheet!$C$10),RANDBETWEEN(0,Worksheet!$C$10))","v":29},{"$f":"CHAR(CODE(K1)+1)","v":"v"},"=",{"$f":"IF(R1<0,\"–\",\"\")","v":""},{"$f":"IF(Worksheet!$C$9,RANDBETWEEN(-Worksheet!$C$10,Worksheet!$C$10),RANDBETWEEN(0,Worksheet!$C$10))","v":26},null,{"$f":"MAX(A1:A36)+1","v":13},{"$f":"RANDBETWEEN(1,Worksheet!$C$13)","v":4},{"$f":"AD1","v":"u"},{"$f":"IF(Worksheet!$C$14=1,\"+\",IF(Worksheet!$C$14=2,\"–\",CHOOSE(RANDBETWEEN(1,2),\"+\",\"–\")))","v":"–"},{"$f":"RANDBETWEEN(1,Worksheet!$C$13)","v":10},{"$f":"AH1","v":"v"},"=",{"$f":"IF(AB1<0,\"–\",\"\")","v":""},{"$f":"IF(W1=\"+\",U1*AG1+X1*AK1,U1*AG1-X1*AK1)","v":76},null,{"$f":"CHOOSE(RANDBETWEEN(1,24),\"a\",\"b\",\"c\",\"d\",\"e\",\"f\",\"g\",\"x\",\"j\",\"y\",\"y\",\"m\",\"x\",\"p\",\"q\",\"r\",\"s\",\"t\",\"u\",\"v\",\"w\",\"x\",\"y\",\"a\")","v":"u"},"=",{"$f":"IF(AG1<0,\"–\",\"\")","v":""},{"$f":"IF(Worksheet!$C$9,RANDBETWEEN(-Worksheet!$C$10,Worksheet!$C$10),RANDBETWEEN(0,Worksheet!$C$10))","v":19},{"$f":"CHAR(CODE(AD1)+1)","v":"v"},"=",{"$f":"IF(AK1<0,\"–\",\"\")","v":""},{"$f":"IF(Worksheet!$C$9,RANDBETWEEN(-Worksheet!$C$10,Worksheet!$C$10),RANDBETWEEN(0,Worksheet!$C$10))","v":0}]
[null,{"$f":"RANDBETWEEN(1,Worksheet!$C$13)","v":3},{"$f":"K1","v":"u"},{"$f":"IF(Worksheet!$C$14=1,\"+\",IF(Worksheet!$C$14=2,\"–\",IF(Worksheet!$C$14=4,CHOOSE(RANDBETWEEN(1,2),\"+\",\"–\"),IF(D1=\"+\",\"–\",\"+\"))))","v":"–"},{"$f":"RANDBETWEEN(1,Worksheet!$C$13)","v":4},{"$f":"O1","v":"v"},"=",{"$f":"IF(I2<0,\"–\",\"\")","v":"–"},{"$f":"IF(D2=\"+\",B2*N1+E2*R1,B2*N1-E2*R1)","v":-17},null,null,null,null,null,null,null,null,null,null,null,{"$f":"RANDBETWEEN(1,Worksheet!$C$13)","v":3},{"$f":"AD1","v":"u"},{"$f":"IF(Worksheet!$C$14=1,\"+\",IF(Worksheet!$C$14=2,\"–\",IF(Worksheet!$C$14=4,CHOOSE(RANDBETWEEN(1,2),\"+\",\"–\"),IF(W1=\"+\",\"–\",\"+\"))))","v":"–"},{"$f":"RANDBETWEEN(1,Worksheet!$C$13)","v":7},{"$f":"AH1","v":"v"},"=",{"$f":"IF(AB2<0,\"–\",\"\")","v":""},{"$f":"IF(W2=\"+\",U2*AG1+X2*AK1,U2*AG1-X2*AK1)","v":57}]
[]
[{"$f":"IF(ISERROR(A1+1),\"\",IF(A1+1<=Worksheet!$C$6/2,A1+1,\"\"))","v":2},{"$f":"RANDBETWEEN(1,Worksheet!$C$13)","v":1},{"$f":"K4","v":"p"},{"$f":"IF(Worksheet!$C$14=1,\"+\",IF(Worksheet!$C$14=2,\"–\",CHOOSE(RANDBETWEEN(1,2),\"+\",\"–\")))","v":"–"},{"$f":"RANDBETWEEN(1,Worksheet!$C$13)","v":2},{"$f":"O4","v":"q"},"=",{"$f":"IF(I4<0,\"–\",\"\")","v":""},{"$f":"IF(D4=\"+\",B4*N4+E4*R4,B4*N4-E4*R4)","v":5},null,{"$f":"CHOOSE(RANDBETWEEN(1,24),\"a\",\"b\",\"c\",\"d\",\"e\",\"f\",\"g\",\"x\",\"j\",\"y\",\"y\",\"m\",\"x\",\"p\",\"q\",\"r\",\"s\",\"t\",\"u\",\"v\",\"w\",\"x\",\"y\",\"a\")","v":"p"},"=",{"$f":"IF(N4<0,\"–\",\"\")","v":""},{"$f":"IF(Worksheet!$C$9,RANDBETWEEN(-Worksheet!$C$10,Worksheet!$C$10),RANDBETWEEN(0,Worksheet!$C$10))","v":39},{"$f":"CHAR(CODE(K4)+1)","v":"q"},"=",{"$f":"IF(R4<0,\"–\",\"\")","v":""},{"$f":"IF(Worksheet!$C$9,RANDBETWEEN(-Worksheet!$C$10,Worksheet!$C$10),RANDBETWEEN(0,Worksheet!$C$10))","v":17},null,{"$f":"IF(ISERROR($A1+1),\"\",IF($A1+1<=Worksheet!$C$6/2,T1+1,\"\"))","v":14},{"$f":"RANDBETWEEN(1,Worksheet!$C$13)","v":10},{"$f":"AD4","v":"s"},{"$f":"IF(Worksheet!$C$14=1,\"+\",IF(Worksheet!$C$14=2,\"–\",CHOOSE(RANDBETWEEN(1,2),\"+\",\"–\")))","v":"–"},{"$f":"RANDBETWEEN(1,Worksheet!$C$13)","v":2},{"$f":"AH4","v":"t"},"=",{"$f":"IF(AB4<0,\"–\",\"\")","v":""},{"$f":"IF(W4=\"+\",U4*AG4+X4*AK4,U4*AG4-X4*AK4)","v":320},null,{"$f":"CHOOSE(RANDBETWEEN(1,24),\"a\",\"b\",\"c\",\"d\",\"e\",\"f\",\"g\",\"x\",\"j\",\"y\",\"y\",\"m\",\"x\",\"p\",\"q\",\"r\",\"s\",\"t\",\"u\",\"v\",\"w\",\"x\",\"y\",\"a\")","v":"s"},"=",{"$f":"IF(AG4<0,\"–\",\"\")","v":""},{"$f":"IF(Worksheet!$C$9,RANDBETWEEN(-Worksheet!$C$10,Worksheet!$C$10),RANDBETWEEN(0,Worksheet!$C$10))","v":38},{"$f":"CHAR(CODE(AD4)+1)","v":"t"},"=",{"$f":"IF(AK4<0,\"–\",\"\")","v":""},{"$f":"IF(Worksheet!$C$9,RANDBETWEEN(-Worksheet!$C$10,Worksheet!$C$10),RANDBETWEEN(0,Worksheet!$C$10))","v":30}]
[null,{"$f":"RANDBETWEEN(1,Worksheet!$C$13)","v":4},{"$f":"K4","v":"p"},{"$f":"IF(Worksheet!$C$14=1,\"+\",IF(Worksheet!$C$14=2,\"–\",IF(Worksheet!$C$14=4,CHOOSE(RANDBETWEEN(1,2),\"+\",\"–\"),IF(D4=\"+\",\"–\",\"+\"))))","v":"–"},{"$f":"RANDBETWEEN(1,Worksheet!$C$13)","v":8},{"$f":"O4","v":"q"},"=",{"$f":"IF(I5<0,\"–\",\"\")","v":""},{"$f":"IF(D5=\"+\",B5*N4+E5*R4,B5*N4-E5*R4)","v":20},null,null,null,null,null,null,null,null,null,null,null,{"$f":"RANDBETWEEN(1,Worksheet!$C$13)","v":8},{"$f":"AD4","v":"s"},{"$f":"IF(Worksheet!$C$14=1,\"+\",IF(Worksheet!$C$14=2,\"–\",IF(Worksheet!$C$14=4,CHOOSE(RANDBETWEEN(1,2),\"+\",\"–\"),IF(W4=\"+\",\"–\",\"+\"))))","v":"–"},{"$f":"RANDBETWEEN(1,Worksheet!$C$13)","v":8},{"$f":"AH4","v":"t"},"=",{"$f":"IF(AB5<0,\"–\",\"\")","v":""},{"$f":"IF(W5=\"+\",U5*AG4+X5*AK4,U5*AG4-X5*AK4)","v":64}]
[]
[{"$f":"IF(ISERROR(A4+1),\"\",IF(A4+1<=Worksheet!$C$6/2,A4+1,\"\"))","v":3},{"$f":"RANDBETWEEN(1,Worksheet!$C$13)","v":6},{"$f":"K7","v":"j"},{"$f":"IF(Worksheet!$C$14=1,\"+\",IF(Worksheet!$C$14=2,\"–\",CHOOSE(RANDBETWEEN(1,2),\"+\",\"–\")))","v":"+"},{"$f":"RANDBETWEEN(1,Worksheet!$C$13)","v":7},{"$f":"O7","v":"k"},"=",{"$f":"IF(I7<0,\"–\",\"\")","v":""},{"$f":"IF(D7=\"+\",B7*N7+E7*R7,B7*N7-E7*R7)","v":240},null,{"$f":"CHOOSE(RANDBETWEEN(1,24),\"a\",\"b\",\"c\",\"d\",\"e\",\"f\",\"g\",\"x\",\"j\",\"y\",\"y\",\"m\",\"x\",\"p\",\"q\",\"r\",\"s\",\"t\",\"u\",\"v\",\"w\",\"x\",\"y\",\"a\")","v":"j"},"=",{"$f":"IF(N7<0,\"–\",\"\")","v":""},{"$f":"IF(Worksheet!$C$9,RANDBETWEEN(-Worksheet!$C$10,Worksheet!$C$10),RANDBETWEEN(0,Worksheet!$C$10))","v":19},{"$f":"CHAR(CODE(K7)+1)","v":"k"},"=",{"$f":"IF(R7<0,\"–\",\"\")","v":""},{"$f":"IF(Worksheet!$C$9,RANDBETWEEN(-Worksheet!$C$10,Worksheet!$C$10),RANDBETWEEN(0,Worksheet!$C$10))","v":18},null,{"$f":"IF(ISERROR($A4+1),\"\",IF($A4+1<=Worksheet!$C$6/2,T4+1,\"\"))","v":15},{"$f":"RANDBETWEEN(1,Worksheet!$C$13)","v":8},{"$f":"AD7","v":"g"},{"$f":"IF(Worksheet!$C$14=1,\"+\",IF(Worksheet!$C$14=2,\"–\",CHOOSE(RANDBETWEEN(1,2),\"+\",\"–\")))","v":"–"},{"$f":"RANDBETWEEN(1,Worksheet!$C$13)","v":5},{"$f":"AH7","v":"h"},"=",{"$f":"IF(AB7<0,\"–\",\"\")","v":"–"},{"$f":"IF(W7=\"+\",U7*AG7+X7*AK7,U7*AG7-X7*AK7)","v":-42},null,{"$f":"CHOOSE(RANDBETWEEN(1,24),\"a\",\"b\",\"c\",\"d\",\"e\",\"f\",\"g\",\"x\",\"j\",\"y\",\"y\",\"m\",\"x\",\"p\",\"q\",\"r\",\"s\",\"t\",\"u\",\"v\",\"w\",\"x\",\"y\",\"a\")","v":"g"},"=",{"$f":"IF(AG7<0,\"–\",\"\")","v":""},{"$f":"IF(Worksheet!$C$9,RANDBETWEEN(-Worksheet!$C$10,Worksheet!$C$10),RANDBETWEEN(0,Worksheet!$C$10))","v":21},{"$f":"CHAR(CODE(AD7)+1)","v":"h"},"=",{"$f":"IF(AK7<0,\"–\",\"\")","v":""},{"$f":"IF(Worksheet!$C$9,RANDBETWEEN(-Worksheet!$C$10,Worksheet!$C$10),RANDBETWEEN(0,Worksheet!$C$10))","v":42}]
[null,{"$f":"RANDBETWEEN(1,Worksheet!$C$13)","v":8},{"$f":"K7","v":"j"},{"$f":"IF(Worksheet!$C$14=1,\"+\",IF(Worksheet!$C$14=2,\"–\",IF(Worksheet!$C$14=4,CHOOSE(RANDBETWEEN(1,2),\"+\",\"–\"),IF(D7=\"+\",\"–\",\"+\"))))","v":"–"},{"$f":"RANDBETWEEN(1,Worksheet!$C$13)","v":4},{"$f":"O7","v":"k"},"=",{"$f":"IF(I8<0,\"–\",\"\")","v":""},{"$f":"IF(D8=\"+\",B8*N7+E8*R7,B8*N7-E8*R7)","v":80},null,null,null,null,null,null,null,null,null,null,null,{"$f":"RANDBETWEEN(1,Worksheet!$C$13)","v":8},{"$f":"AD7","v":"g"},{"$f":"IF(Worksheet!$C$14=1,\"+\",IF(Worksheet!$C$14=2,\"–\",IF(Worksheet!$C$14=4,CHOOSE(RANDBETWEEN(1,2),\"+\",\"–\"),IF(W7=\"+\",\"–\",\"+\"))))","v":"–"},{"$f":"RANDBETWEEN(1,Worksheet!$C$13)","v":9},{"$f":"AH7","v":"h"},"=",{"$f":"IF(AB8<0,\"–\",\"\")","v":"–"},{"$f":"IF(W8=\"+\",U8*AG7+X8*AK7,U8*AG7-X8*AK7)","v":-210}]
[]
[{"$f":"IF(ISERROR(A7+1),\"\",IF(A7+1<=Worksheet!$C$6/2,A7+1,\"\"))","v":4},{"$f":"RANDBETWEEN(1,Worksheet!$C$13)","v":5},{"$f":"K10","v":"t"},{"$f":"IF(Worksheet!$C$14=1,\"+\",IF(Worksheet!$C$14=2,\"–\",CHOOSE(RANDBETWEEN(1,2),\"+\",\"–\")))","v":"+"},{"$f":"RANDBETWEEN(1,Worksheet!$C$13)","v":10},{"$f":"O10","v":"u"},"=",{"$f":"IF(I10<0,\"–\",\"\")","v":""},{"$f":"IF(D10=\"+\",B10*N10+E10*R10,B10*N10-E10*R10)","v":250},null,{"$f":"CHOOSE(RANDBETWEEN(1,24),\"a\",\"b\",\"c\",\"d\",\"e\",\"f\",\"g\",\"x\",\"j\",\"y\",\"y\",\"m\",\"x\",\"p\",\"q\",\"r\",\"s\",\"t\",\"u\",\"v\",\"w\",\"x\",\"y\",\"a\")","v":"t"},"=",{"$f":"IF(N10<0,\"–\",\"\")","v":""},{"$f":"IF(Worksheet!$C$9,RANDBETWEEN(-Worksheet!$C$10,Worksheet!$C$10),RANDBETWEEN(0,Worksheet!$C$10))","v":12},{"$f":"CHAR(CODE(K10)+1)","v":"u"},"=",{"$f":"IF(R10<0,\"–\",\"\")","v":""},{"$f":"IF(Worksheet!$C$9,RANDBETWEEN(-Worksheet!$C$10,Worksheet!$C$10),RANDBETWEEN(0,Worksheet!$C$10))","v":19},null,{"$f":"IF(ISERROR($A7+1),\"\",IF($A7+1<=Worksheet!$C$6/2,T7+1,\"\"))","v":16},{"$f":"RANDBETWEEN(1,Worksheet!$C$13)","v":10},{"$f":"AD10","v":"c"},{"$f":"IF(Worksheet!$C$14=1,\"+\",IF(Worksheet!$C$14=2,\"–\",CHOOSE(RANDBETWEEN(1,2),\"+\",\"–\")))","v":"–"},{"$f":"RANDBETWEEN(1,Worksheet!$C$13)","v":2},{"$f":"AH10","v":"d"},"=",{"$f":"IF(AB10<0,\"–\",\"\")","v":"–"},{"$f":"IF(W10=\"+\",U10*AG10+X10*AK10,U10*AG10-X10*AK10)","v":-2},null,{"$f":"CHOOSE(RANDBETWEEN(1,24),\"a\",\"b\",\"c\",\"d\",\"e\",\"f\",\"g\",\"x\",\"j\",\"y\",\"y\",\"m\",\"x\",\"p\",\"q\",\"r\",\"s\",\"t\",\"u\",\"v\",\"w\",\"x\",\"y\",\"a\")","v":"c"},"=",{"$f":"IF(AG10<0,\"–\",\"\")","v":""},{"$f":"IF(Worksheet!$C$9,RANDBETWEEN(-Worksheet!$C$10,Worksheet!$C$10),RANDBETWEEN(0,Worksheet!$C$10))","v":5},{"$f":"CHAR(CODE(AD10)+1)","v":"d"},"=",{"$f":"IF(AK10<0,\"–\",\"\")","v":""},{"$f":"IF(Worksheet!$C$9,RANDBETWEEN(-Worksheet!$C$10,Worksheet!$C$10),RANDBETWEEN(0,Worksheet!$C$10))","v":26}]
[null,{"$f":"RANDBETWEEN(1,Worksheet!$C$13)","v":10},{"$f":"K10","v":"t"},{"$f":"IF(Worksheet!$C$14=1,\"+\",IF(Worksheet!$C$14=2,\"–\",IF(Worksheet!$C$14=4,CHOOSE(RANDBETWEEN(1,2),\"+\",\"–\"),IF(D10=\"+\",\"–\",\"+\"))))","v":"–"},{"$f":"RANDBETWEEN(1,Worksheet!$C$13)","v":5},{"$f":"O10","v":"u"},"=",{"$f":"IF(I11<0,\"–\",\"\")","v":""},{"$f":"IF(D11=\"+\",B11*N10+E11*R10,B11*N10-E11*R10)","v":25},null,null,null,null,null,null,null,null,null,null,null,{"$f":"RANDBETWEEN(1,Worksheet!$C$13)","v":8},{"$f":"AD10","v":"c"},{"$f":"IF(Worksheet!$C$14=1,\"+\",IF(Worksheet!$C$14=2,\"–\",IF(Worksheet!$C$14=4,CHOOSE(RANDBETWEEN(1,2),\"+\",\"–\"),IF(W10=\"+\",\"–\",\"+\"))))","v":"+"},{"$f":"RANDBETWEEN(1,Worksheet!$C$13)","v":8},{"$f":"AH10","v":"d"},"=",{"$f":"IF(AB11<0,\"–\",\"\")","v":""},{"$f":"IF(W11=\"+\",U11*AG10+X11*AK10,U11*AG10-X11*AK10)","v":248}]
[]
[{"$f":"IF(ISERROR(A10+1),\"\",IF(A10+1<=Worksheet!$C$6/2,A10+1,\"\"))","v":5},{"$f":"RANDBETWEEN(1,Worksheet!$C$13)","v":8},{"$f":"K13","v":"b"},{"$f":"IF(Worksheet!$C$14=1,\"+\",IF(Worksheet!$C$14=2,\"–\",CHOOSE(RANDBETWEEN(1,2),\"+\",\"–\")))","v":"+"},{"$f":"RANDBETWEEN(1,Worksheet!$C$13)","v":2},{"$f":"O13","v":"c"},"=",{"$f":"IF(I13<0,\"–\",\"\")","v":""},{"$f":"IF(D13=\"+\",B13*N13+E13*R13,B13*N13-E13*R13)","v":20},null,{"$f":"CHOOSE(RANDBETWEEN(1,24),\"a\",\"b\",\"c\",\"d\",\"e\",\"f\",\"g\",\"x\",\"j\",\"y\",\"y\",\"m\",\"x\",\"p\",\"q\",\"r\",\"s\",\"t\",\"u\",\"v\",\"w\",\"x\",\"y\",\"a\")","v":"b"},"=",{"$f":"IF(N13<0,\"–\",\"\")","v":""},{"$f":"IF(Worksheet!$C$9,RANDBETWEEN(-Worksheet!$C$10,Worksheet!$C$10),RANDBETWEEN(0,Worksheet!$C$10))","v":0},{"$f":"CHAR(CODE(K13)+1)","v":"c"},"=",{"$f":"IF(R13<0,\"–\",\"\")","v":""},{"$f":"IF(Worksheet!$C$9,RANDBETWEEN(-Worksheet!$C$10,Worksheet!$C$10),RANDBETWEEN(0,Worksheet!$C$10))","v":10},null,{"$f":"IF(ISERROR($A10+1),\"\",IF($A10+1<=Worksheet!$C$6/2,T10+1,\"\"))","v":17},{"$f":"RANDBETWEEN(1,Worksheet!$C$13)","v":4},{"$f":"AD13","v":"t"},{"$f":"IF(Worksheet!$C$14=1,\"+\",IF(Worksheet!$C$14=2,\"–\",CHOOSE(RANDBETWEEN(1,2),\"+\",\"–\")))","v":"–"},{"$f":"RANDBETWEEN(1,Worksheet!$C$13)","v":3},{"$f":"AH13","v":"u"},"=",{"$f":"IF(AB13<0,\"–\",\"\")","v":"–"},{"$f":"IF(W13=\"+\",U13*AG13+X13*AK13,U13*AG13-X13*AK13)","v":-28},null,{"$f":"CHOOSE(RANDBETWEEN(1,24),\"a\",\"b\",\"c\",\"d\",\"e\",\"f\",\"g\",\"x\",\"j\",\"y\",\"y\",\"m\",\"x\",\"p\",\"q\",\"r\",\"s\",\"t\",\"u\",\"v\",\"w\",\"x\",\"y\",\"a\")","v":"t"},"=",{"$f":"IF(AG13<0,\"–\",\"\")","v":""},{"$f":"IF(Worksheet!$C$9,RANDBETWEEN(-Worksheet!$C$10,Worksheet!$C$10),RANDBETWEEN(0,Worksheet!$C$10))","v":5},{"$f":"CHAR(CODE(AD13)+1)","v":"u"},"=",{"$f":"IF(AK13<0,\"–\",\"\")","v":""},{"$f":"IF(Worksheet!$C$9,RANDBETWEEN(-Worksheet!$C$10,Worksheet!$C$10),RANDBETWEEN(0,Worksheet!$C$10))","v":16}]
[null,{"$f":"RANDBETWEEN(1,Worksheet!$C$13)","v":6},{"$f":"K13","v":"b"},{"$f":"IF(Worksheet!$C$14=1,\"+\",IF(Worksheet!$C$14=2,\"–\",IF(Worksheet!$C$14=4,CHOOSE(RANDBETWEEN(1,2),\"+\",\"–\"),IF(D13=\"+\",\"–\",\"+\"))))","v":"–"},{"$f":"RANDBETWEEN(1,Worksheet!$C$13)","v":7},{"$f":"O13","v":"c"},"=",{"$f":"IF(I14<0,\"–\",\"\")","v":"–"},{"$f":"IF(D14=\"+\",B14*N13+E14*R13,B14*N13-E14*R13)","v":-70},null,null,null,null,null,null,null,null,null,null,null,{"$f":"RANDBETWEEN(1,Worksheet!$C$13)","v":3},{"$f":"AD13","v":"t"},{"$f":"IF(Worksheet!$C$14=1,\"+\",IF(Worksheet!$C$14=2,\"–\",IF(Worksheet!$C$14=4,CHOOSE(RANDBETWEEN(1,2),\"+\",\"–\"),IF(W13=\"+\",\"–\",\"+\"))))","v":"–"},{"$f":"RANDBETWEEN(1,Worksheet!$C$13)","v":5},{"$f":"AH13","v":"u"},"=",{"$f":"IF(AB14<0,\"–\",\"\")","v":"–"},{"$f":"IF(W14=\"+\",U14*AG13+X14*AK13,U14*AG13-X14*AK13)","v":-65}]
[]
[{"$f":"IF(ISERROR(A13+1),\"\",IF(A13+1<=Worksheet!$C$6/2,A13+1,\"\"))","v":6},{"$f":"RANDBETWEEN(1,Worksheet!$C$13)","v":4},{"$f":"K16","v":"r"},{"$f":"IF(Worksheet!$C$14=1,\"+\",IF(Worksheet!$C$14=2,\"–\",CHOOSE(RANDBETWEEN(1,2),\"+\",\"–\")))","v":"–"},{"$f":"RANDBETWEEN(1,Worksheet!$C$13)","v":4},{"$f":"O16","v":"s"},"=",{"$f":"IF(I16<0,\"–\",\"\")","v":"–"},{"$f":"IF(D16=\"+\",B16*N16+E16*R16,B16*N16-E16*R16)","v":-60},null,{"$f":"CHOOSE(RANDBETWEEN(1,24),\"a\",\"b\",\"c\",\"d\",\"e\",\"f\",\"g\",\"x\",\"j\",\"y\",\"y\",\"m\",\"x\",\"p\",\"q\",\"r\",\"s\",\"t\",\"u\",\"v\",\"w\",\"x\",\"y\",\"a\")","v":"r"},"=",{"$f":"IF(N16<0,\"–\",\"\")","v":""},{"$f":"IF(Worksheet!$C$9,RANDBETWEEN(-Worksheet!$C$10,Worksheet!$C$10),RANDBETWEEN(0,Worksheet!$C$10))","v":25},{"$f":"CHAR(CODE(K16)+1)","v":"s"},"=",{"$f":"IF(R16<0,\"–\",\"\")","v":""},{"$f":"IF(Worksheet!$C$9,RANDBETWEEN(-Worksheet!$C$10,Worksheet!$C$10),RANDBETWEEN(0,Worksheet!$C$10))","v":40},null,{"$f":"IF(ISERROR($A13+1),\"\",IF($A13+1<=Worksheet!$C$6/2,T13+1,\"\"))","v":18},{"$f":"RANDBETWEEN(1,Worksheet!$C$13)","v":1},{"$f":"AD16","v":"u"},{"$f":"IF(Worksheet!$C$14=1,\"+\",IF(Worksheet!$C$14=2,\"–\",CHOOSE(RANDBETWEEN(1,2),\"+\",\"–\")))","v":"–"},{"$f":"RANDBETWEEN(1,Worksheet!$C$13)","v":1},{"$f":"AH16","v":"v"},"=",{"$f":"IF(AB16<0,\"–\",\"\")","v":"–"},{"$f":"IF(W16=\"+\",U16*AG16+X16*AK16,U16*AG16-X16*AK16)","v":-12},null,{"$f":"CHOOSE(RANDBETWEEN(1,24),\"a\",\"b\",\"c\",\"d\",\"e\",\"f\",\"g\",\"x\",\"j\",\"y\",\"y\",\"m\",\"x\",\"p\",\"q\",\"r\",\"s\",\"t\",\"u\",\"v\",\"w\",\"x\",\"y\",\"a\")","v":"u"},"=",{"$f":"IF(AG16<0,\"–\",\"\")","v":""},{"$f":"IF(Worksheet!$C$9,RANDBETWEEN(-Worksheet!$C$10,Worksheet!$C$10),RANDBETWEEN(0,Worksheet!$C$10))","v":26},{"$f":"CHAR(CODE(AD16)+1)","v":"v"},"=",{"$f":"IF(AK16<0,\"–\",\"\")","v":""},{"$f":"IF(Worksheet!$C$9,RANDBETWEEN(-Worksheet!$C$10,Worksheet!$C$10),RANDBETWEEN(0,Worksheet!$C$10))","v":38}]
[null,{"$f":"RANDBETWEEN(1,Worksheet!$C$13)","v":10},{"$f":"K16","v":"r"},{"$f":"IF(Worksheet!$C$14=1,\"+\",IF(Worksheet!$C$14=2,\"–\",IF(Worksheet!$C$14=4,CHOOSE(RANDBETWEEN(1,2),\"+\",\"–\"),IF(D16=\"+\",\"–\",\"+\"))))","v":"+"},{"$f":"RANDBETWEEN(1,Worksheet!$C$13)","v":2},{"$f":"O16","v":"s"},"=",{"$f":"IF(I17<0,\"–\",\"\")","v":""},{"$f":"IF(D17=\"+\",B17*N16+E17*R16,B17*N16-E17*R16)","v":330},null,null,null,null,null,null,null,null,null,null,null,{"$f":"RANDBETWEEN(1,Worksheet!$C$13)","v":9},{"$f":"AD16","v":"u"},{"$f":"IF(Worksheet!$C$14=1,\"+\",IF(Worksheet!$C$14=2,\"–\",IF(Worksheet!$C$14=4,CHOOSE(RANDBETWEEN(1,2),\"+\",\"–\"),IF(W16=\"+\",\"–\",\"+\"))))","v":"+"},{"$f":"RANDBETWEEN(1,Worksheet!$C$13)","v":6},{"$f":"AH16","v":"v"},"=",{"$f":"IF(AB17<0,\"–\",\"\")","v":""},{"$f":"IF(W17=\"+\",U17*AG16+X17*AK16,U17*AG16-X17*AK16)","v":462}]
[]
[{"$f":"IF(ISERROR(A16+1),\"\",IF(A16+1<=Worksheet!$C$6/2,A16+1,\"\"))","v":7},{"$f":"RANDBETWEEN(1,Worksheet!$C$13)","v":9},{"$f":"K19","v":"c"},{"$f":"IF(Worksheet!$C$14=1,\"+\",IF(Worksheet!$C$14=2,\"–\",CHOOSE(RANDBETWEEN(1,2),\"+\",\"–\")))","v":"+"},{"$f":"RANDBETWEEN(1,Worksheet!$C$13)","v":5},{"$f":"O19","v":"d"},"=",{"$f":"IF(I19<0,\"–\",\"\")","v":""},{"$f":"IF(D19=\"+\",B19*N19+E19*R19,B19*N19-E19*R19)","v":365},null,{"$f":"CHOOSE(RANDBETWEEN(1,24),\"a\",\"b\",\"c\",\"d\",\"e\",\"f\",\"g\",\"x\",\"j\",\"y\",\"y\",\"m\",\"x\",\"p\",\"q\",\"r\",\"s\",\"t\",\"u\",\"v\",\"w\",\"x\",\"y\",\"a\")","v":"c"},"=",{"$f":"IF(N19<0,\"–\",\"\")","v":""},{"$f":"IF(Worksheet!$C$9,RANDBETWEEN(-Worksheet!$C$10,Worksheet!$C$10),RANDBETWEEN(0,Worksheet!$C$10))","v":40},{"$f":"CHAR(CODE(K19)+1)","v":"d"},"=",{"$f":"IF(R19<0,\"–\",\"\")","v":""},{"$f":"IF(Worksheet!$C$9,RANDBETWEEN(-Worksheet!$C$10,Worksheet!$C$10),RANDBETWEEN(0,Worksheet!$C$10))","v":1},null,{"$f":"IF(ISERROR($A16+1),\"\",IF($A16+1<=Worksheet!$C$6/2,T16+1,\"\"))","v":19},{"$f":"RANDBETWEEN(1,Worksheet!$C$13)","v":9},{"$f":"AD19","v":"w"},{"$f":"IF(Worksheet!$C$14=1,\"+\",IF(Worksheet!$C$14=2,\"–\",CHOOSE(RANDBETWEEN(1,2),\"+\",\"–\")))","v":"–"},{"$f":"RANDBETWEEN(1,Worksheet!$C$13)","v":3},{"$f":"AH19","v":"x"},"=",{"$f":"IF(AB19<0,\"–\",\"\")","v":""},{"$f":"IF(W19=\"+\",U19*AG19+X19*AK19,U19*AG19-X19*AK19)","v":90},null,{"$f":"CHOOSE(RANDBETWEEN(1,24),\"a\",\"b\",\"c\",\"d\",\"e\",\"f\",\"g\",\"x\",\"j\",\"y\",\"y\",\"m\",\"x\",\"p\",\"q\",\"r\",\"s\",\"t\",\"u\",\"v\",\"w\",\"x\",\"y\",\"a\")","v":"w"},"=",{"$f":"IF(AG19<0,\"–\",\"\")","v":""},{"$f":"IF(Worksheet!$C$9,RANDBETWEEN(-Worksheet!$C$10,Worksheet!$C$10),RANDBETWEEN(0,Worksheet!$C$10))","v":15},{"$f":"CHAR(CODE(AD19)+1)","v":"x"},"=",{"$f":"IF(AK19<0,\"–\",\"\")","v":""},{"$f":"IF(Worksheet!$C$9,RANDBETWEEN(-Worksheet!$C$10,Worksheet!$C$10),RANDBETWEEN(0,Worksheet!$C$10))","v":15}]
[null,{"$f":"RANDBETWEEN(1,Worksheet!$C$13)","v":5},{"$f":"K19","v":"c"},{"$f":"IF(Worksheet!$C$14=1,\"+\",IF(Worksheet!$C$14=2,\"–\",IF(Worksheet!$C$14=4,CHOOSE(RANDBETWEEN(1,2),\"+\",\"–\"),IF(D19=\"+\",\"–\",\"+\"))))","v":"–"},{"$f":"RANDBETWEEN(1,Worksheet!$C$13)","v":10},{"$f":"O19","v":"d"},"=",{"$f":"IF(I20<0,\"–\",\"\")","v":""},{"$f":"IF(D20=\"+\",B20*N19+E20*R19,B20*N19-E20*R19)","v":190},null,null,null,null,null,null,null,null,null,null,null,{"$f":"RANDBETWEEN(1,Worksheet!$C$13)","v":10},{"$f":"AD19","v":"w"},{"$f":"IF(Worksheet!$C$14=1,\"+\",IF(Worksheet!$C$14=2,\"–\",IF(Worksheet!$C$14=4,CHOOSE(RANDBETWEEN(1,2),\"+\",\"–\"),IF(W19=\"+\",\"–\",\"+\"))))","v":"–"},{"$f":"RANDBETWEEN(1,Worksheet!$C$13)","v":1},{"$f":"AH19","v":"x"},"=",{"$f":"IF(AB20<0,\"–\",\"\")","v":""},{"$f":"IF(W20=\"+\",U20*AG19+X20*AK19,U20*AG19-X20*AK19)","v":135}]
[]
[{"$f":"IF(ISERROR(A19+1),\"\",IF(A19+1<=Worksheet!$C$6/2,A19+1,\"\"))","v":8},{"$f":"RANDBETWEEN(1,Worksheet!$C$13)","v":3},{"$f":"K22","v":"w"},{"$f":"IF(Worksheet!$C$14=1,\"+\",IF(Worksheet!$C$14=2,\"–\",CHOOSE(RANDBETWEEN(1,2),\"+\",\"–\")))","v":"+"},{"$f":"RANDBETWEEN(1,Worksheet!$C$13)","v":9},{"$f":"O22","v":"x"},"=",{"$f":"IF(I22<0,\"–\",\"\")","v":""},{"$f":"IF(D22=\"+\",B22*N22+E22*R22,B22*N22-E22*R22)","v":483},null,{"$f":"CHOOSE(RANDBETWEEN(1,24),\"a\",\"b\",\"c\",\"d\",\"e\",\"f\",\"g\",\"x\",\"j\",\"y\",\"y\",\"m\",\"x\",\"p\",\"q\",\"r\",\"s\",\"t\",\"u\",\"v\",\"w\",\"x\",\"y\",\"a\")","v":"w"},"=",{"$f":"IF(N22<0,\"–\",\"\")","v":""},{"$f":"IF(Worksheet!$C$9,RANDBETWEEN(-Worksheet!$C$10,Worksheet!$C$10),RANDBETWEEN(0,Worksheet!$C$10))","v":32},{"$f":"CHAR(CODE(K22)+1)","v":"x"},"=",{"$f":"IF(R22<0,\"–\",\"\")","v":""},{"$f":"IF(Worksheet!$C$9,RANDBETWEEN(-Worksheet!$C$10,Worksheet!$C$10),RANDBETWEEN(0,Worksheet!$C$10))","v":43},null,{"$f":"IF(ISERROR($A19+1),\"\",IF($A19+1<=Worksheet!$C$6/2,T19+1,\"\"))","v":20},{"$f":"RANDBETWEEN(1,Worksheet!$C$13)","v":2},{"$f":"AD22","v":"j"},{"$f":"IF(Worksheet!$C$14=1,\"+\",IF(Worksheet!$C$14=2,\"–\",CHOOSE(RANDBETWEEN(1,2),\"+\",\"–\")))","v":"+"},{"$f":"RANDBETWEEN(1,Worksheet!$C$13)","v":9},{"$f":"AH22","v":"k"},"=",{"$f":"IF(AB22<0,\"–\",\"\")","v":""},{"$f":"IF(W22=\"+\",U22*AG22+X22*AK22,U22*AG22-X22*AK22)","v":342},null,{"$f":"CHOOSE(RANDBETWEEN(1,24),\"a\",\"b\",\"c\",\"d\",\"e\",\"f\",\"g\",\"x\",\"j\",\"y\",\"y\",\"m\",\"x\",\"p\",\"q\",\"r\",\"s\",\"t\",\"u\",\"v\",\"w\",\"x\",\"y\",\"a\")","v":"j"},"=",{"$f":"IF(AG22<0,\"–\",\"\")","v":""},{"$f":"IF(Worksheet!$C$9,RANDBETWEEN(-Worksheet!$C$10,Worksheet!$C$10),RANDBETWEEN(0,Worksheet!$C$10))","v":36},{"$f":"CHAR(CODE(AD22)+1)","v":"k"},"=",{"$f":"IF(AK22<0,\"–\",\"\")","v":""},{"$f":"IF(Worksheet!$C$9,RANDBETWEEN(-Worksheet!$C$10,Worksheet!$C$10),RANDBETWEEN(0,Worksheet!$C$10))","v":30}]
[null,{"$f":"RANDBETWEEN(1,Worksheet!$C$13)","v":7},{"$f":"K22","v":"w"},{"$f":"IF(Worksheet!$C$14=1,\"+\",IF(Worksheet!$C$14=2,\"–\",IF(Worksheet!$C$14=4,CHOOSE(RANDBETWEEN(1,2),\"+\",\"–\"),IF(D22=\"+\",\"–\",\"+\"))))","v":"+"},{"$f":"RANDBETWEEN(1,Worksheet!$C$13)","v":6},{"$f":"O22","v":"x"},"=",{"$f":"IF(I23<0,\"–\",\"\")","v":""},{"$f":"IF(D23=\"+\",B23*N22+E23*R22,B23*N22-E23*R22)","v":482},null,null,null,null,null,null,null,null,null,null,null,{"$f":"RANDBETWEEN(1,Worksheet!$C$13)","v":2},{"$f":"AD22","v":"j"},{"$f":"IF(Worksheet!$C$14=1,\"+\",IF(Worksheet!$C$14=2,\"–\",IF(Worksheet!$C$14=4,CHOOSE(RANDBETWEEN(1,2),\"+\",\"–\"),IF(W22=\"+\",\"–\",\"+\"))))","v":"+"},{"$f":"RANDBETWEEN(1,Worksheet!$C$13)","v":7},{"$f":"AH22","v":"k"},"=",{"$f":"IF(AB23<0,\"–\",\"\")","v":""},{"$f":"IF(W23=\"+\",U23*AG22+X23*AK22,U23*AG22-X23*AK22)","v":282}]
[]
[{"$f":"IF(ISERROR(A22+1),\"\",IF(A22+1<=Worksheet!$C$6/2,A22+1,\"\"))","v":9},{"$f":"RANDBETWEEN(1,Worksheet!$C$13)","v":9},{"$f":"K25","v":"q"},{"$f":"IF(Worksheet!$C$14=1,\"+\",IF(Worksheet!$C$14=2,\"–\",CHOOSE(RANDBETWEEN(1,2),\"+\",\"–\")))","v":"+"},{"$f":"RANDBETWEEN(1,Worksheet!$C$13)","v":3},{"$f":"O25","v":"r"},"=",{"$f":"IF(I25<0,\"–\",\"\")","v":""},{"$f":"IF(D25=\"+\",B25*N25+E25*R25,B25*N25-E25*R25)","v":324},null,{"$f":"CHOOSE(RANDBETWEEN(1,24),\"a\",\"b\",\"c\",\"d\",\"e\",\"f\",\"g\",\"x\",\"j\",\"y\",\"y\",\"m\",\"x\",\"p\",\"q\",\"r\",\"s\",\"t\",\"u\",\"v\",\"w\",\"x\",\"y\",\"a\")","v":"q"},"=",{"$f":"IF(N25<0,\"–\",\"\")","v":""},{"$f":"IF(Worksheet!$C$9,RANDBETWEEN(-Worksheet!$C$10,Worksheet!$C$10),RANDBETWEEN(0,Worksheet!$C$10))","v":28},{"$f":"CHAR(CODE(K25)+1)","v":"r"},"=",{"$f":"IF(R25<0,\"–\",\"\")","v":""},{"$f":"IF(Worksheet!$C$9,RANDBETWEEN(-Worksheet!$C$10,Worksheet!$C$10),RANDBETWEEN(0,Worksheet!$C$10))","v":24},null,{"$f":"IF(ISERROR($A22+1),\"\",IF($A22+1<=Worksheet!$C$6/2,T22+1,\"\"))","v":21},{"$f":"RANDBETWEEN(1,Worksheet!$C$13)","v":10},{"$f":"AD25","v":"b"},{"$f":"IF(Worksheet!$C$14=1,\"+\",IF(Worksheet!$C$14=2,\"–\",CHOOSE(RANDBETWEEN(1,2),\"+\",\"–\")))","v":"–"},{"$f":"RANDBETWEEN(1,Worksheet!$C$13)","v":10},{"$f":"AH25","v":"c"},"=",{"$f":"IF(AB25<0,\"–\",\"\")","v":""},{"$f":"IF(W25=\"+\",U25*AG25+X25*AK25,U25*AG25-X25*AK25)","v":210},null,{"$f":"CHOOSE(RANDBETWEEN(1,24),\"a\",\"b\",\"c\",\"d\",\"e\",\"f\",\"g\",\"x\",\"j\",\"y\",\"y\",\"m\",\"x\",\"p\",\"q\",\"r\",\"s\",\"t\",\"u\",\"v\",\"w\",\"x\",\"y\",\"a\")","v":"b"},"=",{"$f":"IF(AG25<0,\"–\",\"\")","v":""},{"$f":"IF(Worksheet!$C$9,RANDBETWEEN(-Worksheet!$C$10,Worksheet!$C$10),RANDBETWEEN(0,Worksheet!$C$10))","v":37},{"$f":"CHAR(CODE(AD25)+1)","v":"c"},"=",{"$f":"IF(AK25<0,\"–\",\"\")","v":""},{"$f":"IF(Worksheet!$C$9,RANDBETWEEN(-Worksheet!$C$10,Worksheet!$C$10),RANDBETWEEN(0,Worksheet!$C$10))","v":16}]
[null,{"$f":"RANDBETWEEN(1,Worksheet!$C$13)","v":6},{"$f":"K25","v":"q"},{"$f":"IF(Worksheet!$C$14=1,\"+\",IF(Worksheet!$C$14=2,\"–\",IF(Worksheet!$C$14=4,CHOOSE(RANDBETWEEN(1,2),\"+\",\"–\"),IF(D25=\"+\",\"–\",\"+\"))))","v":"+"},{"$f":"RANDBETWEEN(1,Worksheet!$C$13)","v":7},{"$f":"O25","v":"r"},"=",{"$f":"IF(I26<0,\"–\",\"\")","v":""},{"$f":"IF(D26=\"+\",B26*N25+E26*R25,B26*N25-E26*R25)","v":336},null,null,null,null,null,null,null,null,null,null,null,{"$f":"RANDBETWEEN(1,Worksheet!$C$13)","v":6},{"$f":"AD25","v":"b"},{"$f":"IF(Worksheet!$C$14=1,\"+\",IF(Worksheet!$C$14=2,\"–\",IF(Worksheet!$C$14=4,CHOOSE(RANDBETWEEN(1,2),\"+\",\"–\"),IF(W25=\"+\",\"–\",\"+\"))))","v":"+"},{"$f":"RANDBETWEEN(1,Worksheet!$C$13)","v":6},{"$f":"AH25","v":"c"},"=",{"$f":"IF(AB26<0,\"–\",\"\")","v":""},{"$f":"IF(W26=\"+\",U26*AG25+X26*AK25,U26*AG25-X26*AK25)","v":318}]
[]
[{"$f":"IF(ISERROR(A25+1),\"\",IF(A25+1<=Worksheet!$C$6/2,A25+1,\"\"))","v":10},{"$f":"RANDBETWEEN(1,Worksheet!$C$13)","v":4},{"$f":"K28","v":"x"},{"$f":"IF(Worksheet!$C$14=1,\"+\",IF(Worksheet!$C$14=2,\"–\",CHOOSE(RANDBETWEEN(1,2),\"+\",\"–\")))","v":"–"},{"$f":"RANDBETWEEN(1,Worksheet!$C$13)","v":9},{"$f":"O28","v":"y"},"=",{"$f":"IF(I28<0,\"–\",\"\")","v":"–"},{"$f":"IF(D28=\"+\",B28*N28+E28*R28,B28*N28-E28*R28)","v":-225},null,{"$f":"CHOOSE(RANDBETWEEN(1,24),\"a\",\"b\",\"c\",\"d\",\"e\",\"f\",\"g\",\"x\",\"j\",\"y\",\"y\",\"m\",\"x\",\"p\",\"q\",\"r\",\"s\",\"t\",\"u\",\"v\",\"w\",\"x\",\"y\",\"a\")","v":"x"},"=",{"$f":"IF(N28<0,\"–\",\"\")","v":""},{"$f":"IF(Worksheet!$C$9,RANDBETWEEN(-Worksheet!$C$10,Worksheet!$C$10),RANDBETWEEN(0,Worksheet!$C$10))","v":9},{"$f":"CHAR(CODE(K28)+1)","v":"y"},"=",{"$f":"IF(R28<0,\"–\",\"\")","v":""},{"$f":"IF(Worksheet!$C$9,RANDBETWEEN(-Worksheet!$C$10,Worksheet!$C$10),RANDBETWEEN(0,Worksheet!$C$10))","v":29},null,{"$f":"IF(ISERROR($A25+1),\"\",IF($A25+1<=Worksheet!$C$6/2,T25+1,\"\"))","v":22},{"$f":"RANDBETWEEN(1,Worksheet!$C$13)","v":4},{"$f":"AD28","v":"m"},{"$f":"IF(Worksheet!$C$14=1,\"+\",IF(Worksheet!$C$14=2,\"–\",CHOOSE(RANDBETWEEN(1,2),\"+\",\"–\")))","v":"+"},{"$f":"RANDBETWEEN(1,Worksheet!$C$13)","v":7},{"$f":"AH28","v":"n"},"=",{"$f":"IF(AB28<0,\"–\",\"\")","v":""},{"$f":"IF(W28=\"+\",U28*AG28+X28*AK28,U28*AG28-X28*AK28)","v":430},null,{"$f":"CHOOSE(RANDBETWEEN(1,24),\"a\",\"b\",\"c\",\"d\",\"e\",\"f\",\"g\",\"x\",\"j\",\"y\",\"y\",\"m\",\"x\",\"p\",\"q\",\"r\",\"s\",\"t\",\"u\",\"v\",\"w\",\"x\",\"y\",\"a\")","v":"m"},"=",{"$f":"IF(AG28<0,\"–\",\"\")","v":""},{"$f":"IF(Worksheet!$C$9,RANDBETWEEN(-Worksheet!$C$10,Worksheet!$C$10),RANDBETWEEN(0,Worksheet!$C$10))","v":34},{"$f":"CHAR(CODE(AD28)+1)","v":"n"},"=",{"$f":"IF(AK28<0,\"–\",\"\")","v":""},{"$f":"IF(Worksheet!$C$9,RANDBETWEEN(-Worksheet!$C$10,Worksheet!$C$10),RANDBETWEEN(0,Worksheet!$C$10))","v":42}]
[null,{"$f":"RANDBETWEEN(1,Worksheet!$C$13)","v":5},{"$f":"K28","v":"x"},{"$f":"IF(Worksheet!$C$14=1,\"+\",IF(Worksheet!$C$14=2,\"–\",IF(Worksheet!$C$14=4,CHOOSE(RANDBETWEEN(1,2),\"+\",\"–\"),IF(D28=\"+\",\"–\",\"+\"))))","v":"–"},{"$f":"RANDBETWEEN(1,Worksheet!$C$13)","v":5},{"$f":"O28","v":"y"},"=",{"$f":"IF(I29<0,\"–\",\"\")","v":"–"},{"$f":"IF(D29=\"+\",B29*N28+E29*R28,B29*N28-E29*R28)","v":-100},null,null,null,null,null,null,null,null,null,null,null,{"$f":"RANDBETWEEN(1,Worksheet!$C$13)","v":6},{"$f":"AD28","v":"m"},{"$f":"IF(Worksheet!$C$14=1,\"+\",IF(Worksheet!$C$14=2,\"–\",IF(Worksheet!$C$14=4,CHOOSE(RANDBETWEEN(1,2),\"+\",\"–\"),IF(W28=\"+\",\"–\",\"+\"))))","v":"+"},{"$f":"RANDBETWEEN(1,Worksheet!$C$13)","v":9},{"$f":"AH28","v":"n"},"=",{"$f":"IF(AB29<0,\"–\",\"\")","v":""},{"$f":"IF(W29=\"+\",U29*AG28+X29*AK28,U29*AG28-X29*AK28)","v":582}]
[]
[{"$f":"IF(ISERROR(A28+1),\"\",IF(A28+1<=Worksheet!$C$6/2,A28+1,\"\"))","v":11},{"$f":"RANDBETWEEN(1,Worksheet!$C$13)","v":4},{"$f":"K31","v":"y"},{"$f":"IF(Worksheet!$C$14=1,\"+\",IF(Worksheet!$C$14=2,\"–\",CHOOSE(RANDBETWEEN(1,2),\"+\",\"–\")))","v":"–"},{"$f":"RANDBETWEEN(1,Worksheet!$C$13)","v":1},{"$f":"O31","v":"z"},"=",{"$f":"IF(I31<0,\"–\",\"\")","v":""},{"$f":"IF(D31=\"+\",B31*N31+E31*R31,B31*N31-E31*R31)","v":29},null,{"$f":"CHOOSE(RANDBETWEEN(1,24),\"a\",\"b\",\"c\",\"d\",\"e\",\"f\",\"g\",\"x\",\"j\",\"y\",\"y\",\"m\",\"x\",\"p\",\"q\",\"r\",\"s\",\"t\",\"u\",\"v\",\"w\",\"x\",\"y\",\"a\")","v":"y"},"=",{"$f":"IF(N31<0,\"–\",\"\")","v":""},{"$f":"IF(Worksheet!$C$9,RANDBETWEEN(-Worksheet!$C$10,Worksheet!$C$10),RANDBETWEEN(0,Worksheet!$C$10))","v":13},{"$f":"CHAR(CODE(K31)+1)","v":"z"},"=",{"$f":"IF(R31<0,\"–\",\"\")","v":""},{"$f":"IF(Worksheet!$C$9,RANDBETWEEN(-Worksheet!$C$10,Worksheet!$C$10),RANDBETWEEN(0,Worksheet!$C$10))","v":23},null,{"$f":"IF(ISERROR($A28+1),\"\",IF($A28+1<=Worksheet!$C$6/2,T28+1,\"\"))","v":23},{"$f":"RANDBETWEEN(1,Worksheet!$C$13)","v":1},{"$f":"AD31","v":"x"},{"$f":"IF(Worksheet!$C$14=1,\"+\",IF(Worksheet!$C$14=2,\"–\",CHOOSE(RANDBETWEEN(1,2),\"+\",\"–\")))","v":"+"},{"$f":"RANDBETWEEN(1,Worksheet!$C$13)","v":2},{"$f":"AH31","v":"y"},"=",{"$f":"IF(AB31<0,\"–\",\"\")","v":""},{"$f":"IF(W31=\"+\",U31*AG31+X31*AK31,U31*AG31-X31*AK31)","v":100},null,{"$f":"CHOOSE(RANDBETWEEN(1,24),\"a\",\"b\",\"c\",\"d\",\"e\",\"f\",\"g\",\"x\",\"j\",\"y\",\"y\",\"m\",\"x\",\"p\",\"q\",\"r\",\"s\",\"t\",\"u\",\"v\",\"w\",\"x\",\"y\",\"a\")","v":"x"},"=",{"$f":"IF(AG31<0,\"–\",\"\")","v":""},{"$f":"IF(Worksheet!$C$9,RANDBETWEEN(-Worksheet!$C$10,Worksheet!$C$10),RANDBETWEEN(0,Worksheet!$C$10))","v":12},{"$f":"CHAR(CODE(AD31)+1)","v":"y"},"=",{"$f":"IF(AK31<0,\"–\",\"\")","v":""},{"$f":"IF(Worksheet!$C$9,RANDBETWEEN(-Worksheet!$C$10,Worksheet!$C$10),RANDBETWEEN(0,Worksheet!$C$10))","v":44}]
[null,{"$f":"RANDBETWEEN(1,Worksheet!$C$13)","v":8},{"$f":"K31","v":"y"},{"$f":"IF(Worksheet!$C$14=1,\"+\",IF(Worksheet!$C$14=2,\"–\",IF(Worksheet!$C$14=4,CHOOSE(RANDBETWEEN(1,2),\"+\",\"–\"),IF(D31=\"+\",\"–\",\"+\"))))","v":"+"},{"$f":"RANDBETWEEN(1,Worksheet!$C$13)","v":6},{"$f":"O31","v":"z"},"=",{"$f":"IF(I32<0,\"–\",\"\")","v":""},{"$f":"IF(D32=\"+\",B32*N31+E32*R31,B32*N31-E32*R31)","v":242},null,null,null,null,null,null,null,null,null,null,null,{"$f":"RANDBETWEEN(1,Worksheet!$C$13)","v":9},{"$f":"AD31","v":"x"},{"$f":"IF(Worksheet!$C$14=1,\"+\",IF(Worksheet!$C$14=2,\"–\",IF(Worksheet!$C$14=4,CHOOSE(RANDBETWEEN(1,2),\"+\",\"–\"),IF(W31=\"+\",\"–\",\"+\"))))","v":"+"},{"$f":"RANDBETWEEN(1,Worksheet!$C$13)","v":3},{"$f":"AH31","v":"y"},"=",{"$f":"IF(AB32<0,\"–\",\"\")","v":""},{"$f":"IF(W32=\"+\",U32*AG31+X32*AK31,U32*AG31-X32*AK31)","v":240}]
[]
[{"$f":"IF(ISERROR(A31+1),\"\",IF(A31+1<=Worksheet!$C$6/2,A31+1,\"\"))","v":12},{"$f":"RANDBETWEEN(1,Worksheet!$C$13)","v":2},{"$f":"K34","v":"d"},{"$f":"IF(Worksheet!$C$14=1,\"+\",IF(Worksheet!$C$14=2,\"–\",CHOOSE(RANDBETWEEN(1,2),\"+\",\"–\")))","v":"–"},{"$f":"RANDBETWEEN(1,Worksheet!$C$13)","v":8},{"$f":"O34","v":"e"},"=",{"$f":"IF(I34<0,\"–\",\"\")","v":"–"},{"$f":"IF(D34=\"+\",B34*N34+E34*R34,B34*N34-E34*R34)","v":-146},null,{"$f":"CHOOSE(RANDBETWEEN(1,24),\"a\",\"b\",\"c\",\"d\",\"e\",\"f\",\"g\",\"x\",\"j\",\"y\",\"y\",\"m\",\"x\",\"p\",\"q\",\"r\",\"s\",\"t\",\"u\",\"v\",\"w\",\"x\",\"y\",\"a\")","v":"d"},"=",{"$f":"IF(N34<0,\"–\",\"\")","v":""},{"$f":"IF(Worksheet!$C$9,RANDBETWEEN(-Worksheet!$C$10,Worksheet!$C$10),RANDBETWEEN(0,Worksheet!$C$10))","v":39},{"$f":"CHAR(CODE(K34)+1)","v":"e"},"=",{"$f":"IF(R34<0,\"–\",\"\")","v":""},{"$f":"IF(Worksheet!$C$9,RANDBETWEEN(-Worksheet!$C$10,Worksheet!$C$10),RANDBETWEEN(0,Worksheet!$C$10))","v":28},null,{"$f":"IF(ISERROR($A31+1),\"\",IF($A31+1<=Worksheet!$C$6/2,T31+1,\"\"))","v":24},{"$f":"RANDBETWEEN(1,Worksheet!$C$13)","v":9},{"$f":"AD34","v":"e"},{"$f":"IF(Worksheet!$C$14=1,\"+\",IF(Worksheet!$C$14=2,\"–\",CHOOSE(RANDBETWEEN(1,2),\"+\",\"–\")))","v":"–"},{"$f":"RANDBETWEEN(1,Worksheet!$C$13)","v":1},{"$f":"AH34","v":"f"},"=",{"$f":"IF(AB34<0,\"–\",\"\")","v":""},{"$f":"IF(W34=\"+\",U34*AG34+X34*AK34,U34*AG34-X34*AK34)","v":80},null,{"$f":"CHOOSE(RANDBETWEEN(1,24),\"a\",\"b\",\"c\",\"d\",\"e\",\"f\",\"g\",\"x\",\"j\",\"y\",\"y\",\"m\",\"x\",\"p\",\"q\",\"r\",\"s\",\"t\",\"u\",\"v\",\"w\",\"x\",\"y\",\"a\")","v":"e"},"=",{"$f":"IF(AG34<0,\"–\",\"\")","v":""},{"$f":"IF(Worksheet!$C$9,RANDBETWEEN(-Worksheet!$C$10,Worksheet!$C$10),RANDBETWEEN(0,Worksheet!$C$10))","v":11},{"$f":"CHAR(CODE(AD34)+1)","v":"f"},"=",{"$f":"IF(AK34<0,\"–\",\"\")","v":""},{"$f":"IF(Worksheet!$C$9,RANDBETWEEN(-Worksheet!$C$10,Worksheet!$C$10),RANDBETWEEN(0,Worksheet!$C$10))","v":19}]
[null,{"$f":"RANDBETWEEN(1,Worksheet!$C$13)","v":7},{"$f":"K34","v":"d"},{"$f":"IF(Worksheet!$C$14=1,\"+\",IF(Worksheet!$C$14=2,\"–\",IF(Worksheet!$C$14=4,CHOOSE(RANDBETWEEN(1,2),\"+\",\"–\"),IF(D34=\"+\",\"–\",\"+\"))))","v":"+"},{"$f":"RANDBETWEEN(1,Worksheet!$C$13)","v":8},{"$f":"O34","v":"e"},"=",{"$f":"IF(I35<0,\"–\",\"\")","v":""},{"$f":"IF(D35=\"+\",B35*N34+E35*R34,B35*N34-E35*R34)","v":497},null,null,null,null,null,null,null,null,null,null,null,{"$f":"RANDBETWEEN(1,Worksheet!$C$13)","v":5},{"$f":"AD34","v":"e"},{"$f":"IF(Worksheet!$C$14=1,\"+\",IF(Worksheet!$C$14=2,\"–\",IF(Worksheet!$C$14=4,CHOOSE(RANDBETWEEN(1,2),\"+\",\"–\"),IF(W34=\"+\",\"–\",\"+\"))))","v":"+"},{"$f":"RANDBETWEEN(1,Worksheet!$C$13)","v":5},{"$f":"AH34","v":"f"},"=",{"$f":"IF(AB35<0,\"–\",\"\")","v":""},{"$f":"IF(W35=\"+\",U35*AG34+X35*AK34,U35*AG34-X35*AK34)","v":150}]
[]
[{"$f":"IF(ISERROR(A34+1),\"\",IF(A34+1<=Worksheet!$C$6/2,A34+1,\"\"))","v":13},{"$f":"RANDBETWEEN(1,Worksheet!$C$13)","v":2},{"$f":"K37","v":"b"},{"$f":"IF(Worksheet!$C$14=1,\"+\",IF(Worksheet!$C$14=2,\"–\",CHOOSE(RANDBETWEEN(1,2),\"+\",\"–\")))","v":"+"},{"$f":"RANDBETWEEN(1,Worksheet!$C$13)","v":4},{"$f":"O37","v":"c"},"=",{"$f":"IF(I37<0,\"–\",\"\")","v":""},{"$f":"IF(D37=\"+\",B37*N37+E37*R37,B37*N37-E37*R37)","v":176},null,{"$f":"CHOOSE(RANDBETWEEN(1,24),\"a\",\"b\",\"c\",\"d\",\"e\",\"f\",\"g\",\"x\",\"j\",\"y\",\"y\",\"m\",\"x\",\"p\",\"q\",\"r\",\"s\",\"t\",\"u\",\"v\",\"w\",\"x\",\"y\",\"a\")","v":"b"},"=",{"$f":"IF(N37<0,\"–\",\"\")","v":""},{"$f":"IF(Worksheet!$C$9,RANDBETWEEN(-Worksheet!$C$10,Worksheet!$C$10),RANDBETWEEN(0,Worksheet!$C$10))","v":26},{"$f":"CHAR(CODE(K37)+1)","v":"c"},"=",{"$f":"IF(R37<0,\"–\",\"\")","v":""},{"$f":"IF(Worksheet!$C$9,RANDBETWEEN(-Worksheet!$C$10,Worksheet!$C$10),RANDBETWEEN(0,Worksheet!$C$10))","v":31},null,{"$f":"IF(ISERROR($A34+1),\"\",IF($A34+1<=Worksheet!$C$6/2,T34+1,\"\"))","v":25},{"$f":"RANDBETWEEN(1,Worksheet!$C$13)","v":8},{"$f":"AD37","v":"m"},{"$f":"IF(Worksheet!$C$14=1,\"+\",IF(Worksheet!$C$14=2,\"–\",CHOOSE(RANDBETWEEN(1,2),\"+\",\"–\")))","v":"–"},{"$f":"RANDBETWEEN(1,Worksheet!$C$13)","v":5},{"$f":"AH37","v":"n"},"=",{"$f":"IF(AB37<0,\"–\",\"\")","v":""},{"$f":"IF(W37=\"+\",U37*AG37+X37*AK37,U37*AG37-X37*AK37)","v":66},null,{"$f":"CHOOSE(RANDBETWEEN(1,24),\"a\",\"b\",\"c\",\"d\",\"e\",\"f\",\"g\",\"x\",\"j\",\"y\",\"y\",\"m\",\"x\",\"p\",\"q\",\"r\",\"s\",\"t\",\"u\",\"v\",\"w\",\"x\",\"y\",\"a\")","v":"m"},"=",{"$f":"IF(AG37<0,\"–\",\"\")","v":""},{"$f":"IF(Worksheet!$C$9,RANDBETWEEN(-Worksheet!$C$10,Worksheet!$C$10),RANDBETWEEN(0,Worksheet!$C$10))","v":32},{"$f":"CHAR(CODE(AD37)+1)","v":"n"},"=",{"$f":"IF(AK37<0,\"–\",\"\")","v":""},{"$f":"IF(Worksheet!$C$9,RANDBETWEEN(-Worksheet!$C$10,Worksheet!$C$10),RANDBETWEEN(0,Worksheet!$C$10))","v":38}]
[null,{"$f":"RANDBETWEEN(1,Worksheet!$C$13)","v":7},{"$f":"K37","v":"b"},{"$f":"IF(Worksheet!$C$14=1,\"+\",IF(Worksheet!$C$14=2,\"–\",IF(Worksheet!$C$14=4,CHOOSE(RANDBETWEEN(1,2),\"+\",\"–\"),IF(D37=\"+\",\"–\",\"+\"))))","v":"–"},{"$f":"RANDBETWEEN(1,Worksheet!$C$13)","v":10},{"$f":"O37","v":"c"},"=",{"$f":"IF(I38<0,\"–\",\"\")","v":"–"},{"$f":"IF(D38=\"+\",B38*N37+E38*R37,B38*N37-E38*R37)","v":-128},null,null,null,null,null,null,null,null,null,null,null,{"$f":"RANDBETWEEN(1,Worksheet!$C$13)","v":5},{"$f":"AD37","v":"m"},{"$f":"IF(Worksheet!$C$14=1,\"+\",IF(Worksheet!$C$14=2,\"–\",IF(Worksheet!$C$14=4,CHOOSE(RANDBETWEEN(1,2),\"+\",\"–\"),IF(W37=\"+\",\"–\",\"+\"))))","v":"–"},{"$f":"RANDBETWEEN(1,Worksheet!$C$13)","v":10},{"$f":"AH37","v":"n"},"=",{"$f":"IF(AB38<0,\"–\",\"\")","v":"–"},{"$f":"IF(W38=\"+\",U38*AG37+X38*AK37,U38*AG37-X38*AK37)","v":-220}]