{"text_format":"1","workbook":"xlsx","n_sheets":2,"sheets":["Worksheet","SYSTEM FORMULAE"],"not_rendered":{"charts":0,"images":0,"macros":1,"external_links":0,"defined_names":2,"comments":0,"pivot_tables":0},"unopened":[],"bounds":{"document_bytes":16777216,"sheet_cells":100000,"rows_first":2000,"rows_last":500,"rows_between":2000,"halvings":0,"cell_chars":16384,"cell_head_chars":4096},"cells_cut":0,"cells_raw":0,"read":"whole","date_system":"1900"}

{"sheet":"Worksheet","index":0,"n_rows":17,"n_cols":32,"rows_kept":17,"cut":false,"hidden":false,"merged":[[5,0,5,1],[8,30,8,31],[0,2,0,28]]}
[null,null,"Solve these equations for 0 ≤  x < 360°"]
[]
[null,null,1,5,"sin","y","+",3,"=",6,"y","=",36.86989764584402,"and",143.13010235415598,null,16,3,"cos","y","+",8,"=",8,"y","=",90,"and",270]
[null,null,2,14,"sin","z","–",2,"=",0,"z","=",8.2132107017381877,"and",171.78678929826182,null,17,4,"sin","y","+",3,"=",3,"y","=",180,"and",0]
[null,null,3,5,"tan","b","+",10,"=",4,"b","=",129.80557109226518,"and",309.80557109226521,null,18,3,"sin","a","+",5,"=",5,"a","=",180,"and",0]
["Variables",null,4,13,"sin","m","+",3,"=",15,"m","=",67.380135051959584,"and",112.61986494804042,null,19,9,"sin","z","–",2,"=",0,"z","=",12.839588406904149,"and",167.16041159309586]
["Number of questions (minimum 10, maximum 30)",30,5,14,"cos","p","+",17,"=",4,"p","=",158.21321070173821,"and",201.78678929826179,null,20,3,"cos","h","+",12,"=",12,"h","=",90,"and",270]
["Allow equations which are negative when rearranged?",true,6,5,"tan","z","–",3,"=",7,"z","=",63.43494882292201,"and",243.43494882292202,null,21,6,"sin","b","+",4,"=",0,"b","=",221.81031489577859,"and",318.18968510422138]
["Equations need rearranging?",true,7,6,"sin","p","+",10,"=",12,"p","=",19.471220634490692,"and",160.52877936550931,null,22,2,"tan","z","–",3,"=",5,"z","=",75.963756532073532,"and",255.96375653207355,null,null,false]
["SHOW ANSWERS?",{"$f":"NOT(AF9)","v":true},8,2,"cos","p","+",14,"=",13,"p","=",120,"and",240,null,23,2,"tan","x","+",7,"=",2,"x","=",111.80140948635182,"and",291.80140948635182]
[null,null,9,6,"cos","x","+",9,"=",6,"x","=",120,"and",240,null,24,6,"tan","s","–",8,"=",5,"s","=",65.224859431168085,"and",245.22485943116808]
[null,null,10,14,"sin","p","+",24,"=",13,"p","=",231.78678929826179,"and",308.21321070173821,null,25,8,"cos","x","+",17,"=",10,"x","=",151.04497562814015,"and",208.95502437185985]
[null,null,11,13,"sin","s","+",10,"=",12,"s","=",8.8498830984290375,"and",171.15011690157095,null,26,5,"sin","y","–",1,"=",2,"y","=",36.86989764584402,"and",143.13010235415598]
[null,null,12,5,"tan","y","–",4,"=",11,"y","=",71.56505117707799,"and",251.56505117707798,null,27,4,"tan","s","–",10,"=",9,"s","=",78.111341960372016,"and",258.11134196037199]
[null,null,13,3,"cos","h","+",3,"=",4,"h","=",70.528779365509308,"and",289.47122063449069,null,28,3,"cos","y","+",5,"=",6,"y","=",70.528779365509308,"and",289.47122063449069]
[null,null,14,2,"sin","h","+",1,"=",0,"h","=",210,"and",330,null,29,6,"sin","s","+",8,"=",7,"s","=",189.59406822686046,"and",350.40593177313951]
[null,null,15,4,"tan","h","–",14,"=",2,"h","=",75.963756532073532,"and",255.96375653207355,null,30,2,"tan","a","+",10,"=",4,"a","=",108.43494882292201,"and",288.43494882292202]

{"sheet":"SYSTEM FORMULAE","index":1,"n_rows":16,"n_cols":27,"rows_kept":16,"cut":false,"hidden":false,"merged":[]}
[]
[{"$f":"IF(ROW()-1<=Worksheet!$B$7/2,ROW()-1,\"\")","v":1},{"$f":"IF(Worksheet!$B$9,IF(RAND()<0.7,RANDBETWEEN(1,6),RANDBETWEEN(7,15)),1)","v":7},{"$f":"CHOOSE(RANDBETWEEN(1,3),\"sin\",\"cos\",\"tan\")","v":"tan"},{"$f":"CHOOSE(RANDBETWEEN(1,10),\"x\",\"y\",\"z\",\"a\",\"m\",\"p\",\"k\",\"h\",\"b\",\"s\")","v":"x"},{"$f":"IF(F2>0,\"+\",IF(F2=0,\"\",\"–\"))","v":"+"},{"$f":"IF(Worksheet!$B$9,IF(Worksheet!$B$8,IF(C2=\"tan\",RANDBETWEEN(-15,15),RANDBETWEEN(H2-B2+1,H2+B2-1)),IF(C2=\"tan\",RANDBETWEEN(-H2+1,H2-1),RANDBETWEEN(H2-B2+1,H2))),0)","v":2},"=",{"$f":"IF(Worksheet!$B$9,IF(C2=\"tan\",RANDBETWEEN(1,15),RANDBETWEEN(0,15)),IF(Worksheet!$B$8,IF(C2=\"tan\",RANDBETWEEN(-20,20),TEXT(RAND()*(-1)^RANDBETWEEN(1,2),\"0.0000\")),IF(C2=\"tan\",RANDBETWEEN(1,20),TEXT(RAND(),\"0.0000\"))))","v":14},{"$f":"D2","v":"x"},"=",{"$f":"IF((H2-F2)/B2>0,(DEGREES(IF(C2=\"tan\",ATAN(ABS((H2-F2)/B2)),IF(C2=\"sin\",ASIN(ABS((H2-F2)/B2)),ACOS(ABS((H2-F2)/B2)))))),IF(C2=\"sin\",180+(DEGREES(IF(C2=\"tan\",ATAN(ABS((H2-F2)/B2)),IF(C2=\"sin\",ASIN(ABS((H2-F2)/B2)),ACOS(ABS((H2-F2)/B2)))))),180-(DEGREES(IF(C2=\"tan\",ATAN(ABS((H2-F2)/B2)),IF(C2=\"sin\",ASIN(ABS((H2-F2)/B2)),ACOS(ABS((H2-F2)/B2))))))))","v":59.743562836470744},"and",{"$f":"IF(IF((H2-F2)/B2>0,IF(C2=\"tan\",180+(DEGREES(IF(C2=\"tan\",ATAN(ABS((H2-F2)/B2)),IF(C2=\"sin\",ASIN(ABS((H2-F2)/B2)),ACOS(ABS((H2-F2)/B2)))))),IF(C2=\"sin\",180-(DEGREES(IF(C2=\"tan\",ATAN(ABS((H2-F2)/B2)),IF(C2=\"sin\",ASIN(ABS((H2-F2)/B2)),ACOS(ABS((H2-F2)/B2)))))),360-(DEGREES(IF(C2=\"tan\",ATAN(ABS((H2-F2)/B2)),IF(C2=\"sin\",ASIN(ABS((H2-F2)/B2)),ACOS(ABS((H2-F2)/B2)))))))),IF(C2=\"cos\",180+(DEGREES(IF(C2=\"tan\",ATAN(ABS((H2-F2)/B2)),IF(C2=\"sin\",ASIN(ABS((H2-F2)/B2)),ACOS(ABS((H2-F2)/B2)))))),360-(DEGREES(IF(C2=\"tan\",ATAN(ABS((H2-F2)/B2)),IF(C2=\"sin\",ASIN(ABS((H2-F2)/B2)),ACOS(ABS((H2-F2)/B2))))))))=360,0,IF((H2-F2)/B2>0,IF(C2=\"tan\",180+(DEGREES(IF(C2=\"tan\",ATAN(ABS((H2-F2)/B2)),IF(C2=\"sin\",ASIN(ABS((H2-F2)/B2)),ACOS(ABS((H2-F2)/B2)))))),IF(C2=\"sin\",180-(DEGREES(IF(C2=\"tan\",ATAN(ABS((H2-F2)/B2)),IF(C2=\"sin\",ASIN(ABS((H2-F2)/B2)),ACOS(ABS((H2-F2)/B2)))))),360-(DEGREES(IF(C2=\"tan\",ATAN(ABS((H2-F2)/B2)),IF(C2=\"sin\",ASIN(ABS((H2-F2)/B2)),ACOS(ABS((H2-F2)/B2)))))))),IF(C2=\"cos\",180+(DEGREES(IF(C2=\"tan\",ATAN(ABS((H2-F2)/B2)),IF(C2=\"sin\",ASIN(ABS((H2-F2)/B2)),ACOS(ABS((H2-F2)/B2)))))),360-(DEGREES(IF(C2=\"tan\",ATAN(ABS((H2-F2)/B2)),IF(C2=\"sin\",ASIN(ABS((H2-F2)/B2)),ACOS(ABS((H2-F2)/B2)))))))))","v":239.74356283647074},null,{"$f":"MAX(A1:A40)+1","v":16},{"$f":"IF(Worksheet!$B$9,IF(RAND()<0.7,RANDBETWEEN(1,6),RANDBETWEEN(7,15)),1)","v":5},{"$f":"CHOOSE(RANDBETWEEN(1,3),\"sin\",\"cos\",\"tan\")","v":"cos"},{"$f":"CHOOSE(RANDBETWEEN(1,10),\"x\",\"y\",\"z\",\"a\",\"m\",\"p\",\"k\",\"h\",\"b\",\"s\")","v":"k"},{"$f":"IF(T2>0,\"+\",IF(T2=0,\"\",\"–\"))","v":"+"},{"$f":"IF(Worksheet!$B$9,IF(Worksheet!$B$8,IF(Q2=\"tan\",RANDBETWEEN(-15,15),RANDBETWEEN(V2-P2+1,V2+P2-1)),IF(Q2=\"tan\",RANDBETWEEN(-V2+1,V2-1),RANDBETWEEN(V2-P2+1,V2))),0)","v":7},"=",{"$f":"IF(Worksheet!$B$9,IF(Q2=\"tan\",RANDBETWEEN(1,15),RANDBETWEEN(0,15)),IF(Worksheet!$B$8,IF(Q2=\"tan\",RANDBETWEEN(-20,20),TEXT(RAND()*(-1)^RANDBETWEEN(1,2),\"0.0000\")),IF(Q2=\"tan\",RANDBETWEEN(1,20),TEXT(RAND(),\"0.0000\"))))","v":6},{"$f":"R2","v":"k"},"=",{"$f":"IF((V2-T2)/P2>0,(DEGREES(IF(Q2=\"tan\",ATAN(ABS((V2-T2)/P2)),IF(Q2=\"sin\",ASIN(ABS((V2-T2)/P2)),ACOS(ABS((V2-T2)/P2)))))),IF(Q2=\"sin\",180+(DEGREES(IF(Q2=\"tan\",ATAN(ABS((V2-T2)/P2)),IF(Q2=\"sin\",ASIN(ABS((V2-T2)/P2)),ACOS(ABS((V2-T2)/P2)))))),180-(DEGREES(IF(Q2=\"tan\",ATAN(ABS((V2-T2)/P2)),IF(Q2=\"sin\",ASIN(ABS((V2-T2)/P2)),ACOS(ABS((V2-T2)/P2))))))))","v":101.53695903281549},"and",{"$f":"IF(IF((V2-T2)/P2>0,IF(Q2=\"tan\",180+(DEGREES(IF(Q2=\"tan\",ATAN(ABS((V2-T2)/P2)),IF(Q2=\"sin\",ASIN(ABS((V2-T2)/P2)),ACOS(ABS((V2-T2)/P2)))))),IF(Q2=\"sin\",180-(DEGREES(IF(Q2=\"tan\",ATAN(ABS((V2-T2)/P2)),IF(Q2=\"sin\",ASIN(ABS((V2-T2)/P2)),ACOS(ABS((V2-T2)/P2)))))),360-(DEGREES(IF(Q2=\"tan\",ATAN(ABS((V2-T2)/P2)),IF(Q2=\"sin\",ASIN(ABS((V2-T2)/P2)),ACOS(ABS((V2-T2)/P2)))))))),IF(Q2=\"cos\",180+(DEGREES(IF(Q2=\"tan\",ATAN(ABS((V2-T2)/P2)),IF(Q2=\"sin\",ASIN(ABS((V2-T2)/P2)),ACOS(ABS((V2-T2)/P2)))))),360-(DEGREES(IF(Q2=\"tan\",ATAN(ABS((V2-T2)/P2)),IF(Q2=\"sin\",ASIN(ABS((V2-T2)/P2)),ACOS(ABS((V2-T2)/P2))))))))=360,0,IF((V2-T2)/P2>0,IF(Q2=\"tan\",180+(DEGREES(IF(Q2=\"tan\",ATAN(ABS((V2-T2)/P2)),IF(Q2=\"sin\",ASIN(ABS((V2-T2)/P2)),ACOS(ABS((V2-T2)/P2)))))),IF(Q2=\"sin\",180-(DEGREES(IF(Q2=\"tan\",ATAN(ABS((V2-T2)/P2)),IF(Q2=\"sin\",ASIN(ABS((V2-T2)/P2)),ACOS(ABS((V2-T2)/P2)))))),360-(DEGREES(IF(Q2=\"tan\",ATAN(ABS((V2-T2)/P2)),IF(Q2=\"sin\",ASIN(ABS((V2-T2)/P2)),ACOS(ABS((V2-T2)/P2)))))))),IF(Q2=\"cos\",180+(DEGREES(IF(Q2=\"tan\",ATAN(ABS((V2-T2)/P2)),IF(Q2=\"sin\",ASIN(ABS((V2-T2)/P2)),ACOS(ABS((V2-T2)/P2)))))),360-(DEGREES(IF(Q2=\"tan\",ATAN(ABS((V2-T2)/P2)),IF(Q2=\"sin\",ASIN(ABS((V2-T2)/P2)),ACOS(ABS((V2-T2)/P2)))))))))","v":258.4630409671845}]
[{"$f":"IF(ROW()-1<=Worksheet!$B$7/2,ROW()-1,\"\")","v":2},{"$f":"IF(Worksheet!$B$9,IF(RAND()<0.7,RANDBETWEEN(2,6),RANDBETWEEN(7,15)),1)","v":14},{"$f":"CHOOSE(RANDBETWEEN(1,3),\"sin\",\"cos\",\"tan\")","v":"cos"},{"$f":"CHOOSE(RANDBETWEEN(1,10),\"x\",\"y\",\"z\",\"a\",\"m\",\"p\",\"k\",\"h\",\"b\",\"s\")","v":"z"},{"$f":"IF(F3>0,\"+\",IF(F3=0,\"\",\"–\"))","v":"+"},{"$f":"IF(Worksheet!$B$9,IF(Worksheet!$B$8,IF(C3=\"tan\",RANDBETWEEN(-15,15),RANDBETWEEN(H3-B3+1,H3+B3-1)),IF(C3=\"tan\",RANDBETWEEN(-H3+1,H3-1),RANDBETWEEN(H3-B3+1,H3))),0)","v":15},"=",{"$f":"IF(Worksheet!$B$9,IF(C3=\"tan\",RANDBETWEEN(1,15),RANDBETWEEN(0,15)),IF(Worksheet!$B$8,IF(C3=\"tan\",RANDBETWEEN(-20,20),TEXT(RAND()*(-1)^RANDBETWEEN(1,2),\"0.0000\")),IF(C3=\"tan\",RANDBETWEEN(1,20),TEXT(RAND(),\"0.0000\"))))","v":6},{"$f":"D3","v":"z"},"=",130.00520088486024,"and",229.99479911513976,null,{"$f":"IF(ROW()-1<=Worksheet!$B$7/2,O2+1,\"\")","v":17},{"$f":"IF(Worksheet!$B$9,IF(RAND()<0.7,RANDBETWEEN(2,6),RANDBETWEEN(7,15)),1)","v":9},{"$f":"CHOOSE(RANDBETWEEN(1,3),\"sin\",\"cos\",\"tan\")","v":"tan"},{"$f":"CHOOSE(RANDBETWEEN(1,10),\"x\",\"y\",\"z\",\"a\",\"m\",\"p\",\"k\",\"h\",\"b\",\"s\")","v":"k"},{"$f":"IF(T3>0,\"+\",IF(T3=0,\"\",\"–\"))","v":"+"},{"$f":"IF(Worksheet!$B$9,IF(Worksheet!$B$8,IF(Q3=\"tan\",RANDBETWEEN(-15,15),RANDBETWEEN(V3-P3+1,V3+P3-1)),IF(Q3=\"tan\",RANDBETWEEN(-V3+1,V3-1),RANDBETWEEN(V3-P3+1,V3))),0)","v":12},"=",{"$f":"IF(Worksheet!$B$9,IF(Q3=\"tan\",RANDBETWEEN(1,15),RANDBETWEEN(0,15)),IF(Worksheet!$B$8,IF(Q3=\"tan\",RANDBETWEEN(-20,20),TEXT(RAND()*(-1)^RANDBETWEEN(1,2),\"0.0000\")),IF(Q3=\"tan\",RANDBETWEEN(1,20),TEXT(RAND(),\"0.0000\"))))","v":7},{"$f":"R3","v":"k"},"=",150.94539590092285,"and",330.94539590092285]
[{"$f":"IF(ROW()-1<=Worksheet!$B$7/2,ROW()-1,\"\")","v":3},{"$f":"IF(Worksheet!$B$9,IF(RAND()<0.7,RANDBETWEEN(2,6),RANDBETWEEN(7,15)),1)","v":4},"tan","b","+",{"$f":"IF(Worksheet!$B$9,IF(Worksheet!$B$8,IF(C4=\"tan\",RANDBETWEEN(-15,15),RANDBETWEEN(H4-B4+1,H4+B4-1)),IF(C4=\"tan\",RANDBETWEEN(-H4+1,H4-1),RANDBETWEEN(H4-B4+1,H4))),0)","v":15},"=",{"$f":"IF(Worksheet!$B$9,IF(C4=\"tan\",RANDBETWEEN(1,15),RANDBETWEEN(0,15)),IF(Worksheet!$B$8,IF(C4=\"tan\",RANDBETWEEN(-20,20),TEXT(RAND()*(-1)^RANDBETWEEN(1,2),\"0.0000\")),IF(C4=\"tan\",RANDBETWEEN(1,20),TEXT(RAND(),\"0.0000\"))))","v":11},"b","=",135,"and",315,null,{"$f":"IF(ROW()-1<=Worksheet!$B$7/2,O3+1,\"\")","v":18},{"$f":"IF(Worksheet!$B$9,IF(RAND()<0.7,RANDBETWEEN(2,6),RANDBETWEEN(7,15)),1)","v":2},"tan","b","–",{"$f":"IF(Worksheet!$B$9,IF(Worksheet!$B$8,IF(Q4=\"tan\",RANDBETWEEN(-15,15),RANDBETWEEN(V4-P4+1,V4+P4-1)),IF(Q4=\"tan\",RANDBETWEEN(-V4+1,V4-1),RANDBETWEEN(V4-P4+1,V4))),0)","v":-7},"=",{"$f":"IF(Worksheet!$B$9,IF(Q4=\"tan\",RANDBETWEEN(1,15),RANDBETWEEN(0,15)),IF(Worksheet!$B$8,IF(Q4=\"tan\",RANDBETWEEN(-20,20),TEXT(RAND()*(-1)^RANDBETWEEN(1,2),\"0.0000\")),IF(Q4=\"tan\",RANDBETWEEN(1,20),TEXT(RAND(),\"0.0000\"))))","v":5},"b","=",80.537677791974389,"and",260.53767779197437]
[{"$f":"IF(ROW()-1<=Worksheet!$B$7/2,ROW()-1,\"\")","v":4},{"$f":"IF(Worksheet!$B$9,IF(RAND()<0.7,RANDBETWEEN(2,6),RANDBETWEEN(7,15)),1)","v":4},"tan","a","–",{"$f":"IF(Worksheet!$B$9,IF(Worksheet!$B$8,IF(C5=\"tan\",RANDBETWEEN(-15,15),RANDBETWEEN(H5-B5+1,H5+B5-1)),IF(C5=\"tan\",RANDBETWEEN(-H5+1,H5-1),RANDBETWEEN(H5-B5+1,H5))),0)","v":-8},"=",{"$f":"IF(Worksheet!$B$9,IF(C5=\"tan\",RANDBETWEEN(1,15),RANDBETWEEN(0,15)),IF(Worksheet!$B$8,IF(C5=\"tan\",RANDBETWEEN(-20,20),TEXT(RAND()*(-1)^RANDBETWEEN(1,2),\"0.0000\")),IF(C5=\"tan\",RANDBETWEEN(1,20),TEXT(RAND(),\"0.0000\"))))","v":7},"a","=",75.068582821862449,"and",255.06858282186244,null,{"$f":"IF(ROW()-1<=Worksheet!$B$7/2,O4+1,\"\")","v":19},{"$f":"IF(Worksheet!$B$9,IF(RAND()<0.7,RANDBETWEEN(2,6),RANDBETWEEN(7,15)),1)","v":5},"sin","k","+",{"$f":"IF(Worksheet!$B$9,IF(Worksheet!$B$8,IF(Q5=\"tan\",RANDBETWEEN(-15,15),RANDBETWEEN(V5-P5+1,V5+P5-1)),IF(Q5=\"tan\",RANDBETWEEN(-V5+1,V5-1),RANDBETWEEN(V5-P5+1,V5))),0)","v":4},"=",{"$f":"IF(Worksheet!$B$9,IF(Q5=\"tan\",RANDBETWEEN(1,15),RANDBETWEEN(0,15)),IF(Worksheet!$B$8,IF(Q5=\"tan\",RANDBETWEEN(-20,20),TEXT(RAND()*(-1)^RANDBETWEEN(1,2),\"0.0000\")),IF(Q5=\"tan\",RANDBETWEEN(1,20),TEXT(RAND(),\"0.0000\"))))","v":1},"k","=",216.86989764584402,"and",323.13010235415595]
[{"$f":"IF(ROW()-1<=Worksheet!$B$7/2,ROW()-1,\"\")","v":5},{"$f":"IF(Worksheet!$B$9,IF(RAND()<0.7,RANDBETWEEN(2,6),RANDBETWEEN(7,15)),1)","v":5},"tan","m","+",{"$f":"IF(Worksheet!$B$9,IF(Worksheet!$B$8,IF(C6=\"tan\",RANDBETWEEN(-15,15),RANDBETWEEN(H6-B6+1,H6+B6-1)),IF(C6=\"tan\",RANDBETWEEN(-H6+1,H6-1),RANDBETWEEN(H6-B6+1,H6))),0)","v":13},"=",{"$f":"IF(Worksheet!$B$9,IF(C6=\"tan\",RANDBETWEEN(1,15),RANDBETWEEN(0,15)),IF(Worksheet!$B$8,IF(C6=\"tan\",RANDBETWEEN(-20,20),TEXT(RAND()*(-1)^RANDBETWEEN(1,2),\"0.0000\")),IF(C6=\"tan\",RANDBETWEEN(1,20),TEXT(RAND(),\"0.0000\"))))","v":6},"m","=",125.53767779197437,"and",305.53767779197437,null,{"$f":"IF(ROW()-1<=Worksheet!$B$7/2,O5+1,\"\")","v":20},{"$f":"IF(Worksheet!$B$9,IF(RAND()<0.7,RANDBETWEEN(2,6),RANDBETWEEN(7,15)),1)","v":5},"cos","m","+",{"$f":"IF(Worksheet!$B$9,IF(Worksheet!$B$8,IF(Q6=\"tan\",RANDBETWEEN(-15,15),RANDBETWEEN(V6-P6+1,V6+P6-1)),IF(Q6=\"tan\",RANDBETWEEN(-V6+1,V6-1),RANDBETWEEN(V6-P6+1,V6))),0)","v":7},"=",{"$f":"IF(Worksheet!$B$9,IF(Q6=\"tan\",RANDBETWEEN(1,15),RANDBETWEEN(0,15)),IF(Worksheet!$B$8,IF(Q6=\"tan\",RANDBETWEEN(-20,20),TEXT(RAND()*(-1)^RANDBETWEEN(1,2),\"0.0000\")),IF(Q6=\"tan\",RANDBETWEEN(1,20),TEXT(RAND(),\"0.0000\"))))","v":11},"m","=",36.869897645844013,"and",323.13010235415601]
[{"$f":"IF(ROW()-1<=Worksheet!$B$7/2,ROW()-1,\"\")","v":6},{"$f":"IF(Worksheet!$B$9,IF(RAND()<0.7,RANDBETWEEN(2,6),RANDBETWEEN(7,15)),1)","v":3},"tan","y","–",{"$f":"IF(Worksheet!$B$9,IF(Worksheet!$B$8,IF(C7=\"tan\",RANDBETWEEN(-15,15),RANDBETWEEN(H7-B7+1,H7+B7-1)),IF(C7=\"tan\",RANDBETWEEN(-H7+1,H7-1),RANDBETWEEN(H7-B7+1,H7))),0)","v":-2},"=",{"$f":"IF(Worksheet!$B$9,IF(C7=\"tan\",RANDBETWEEN(1,15),RANDBETWEEN(0,15)),IF(Worksheet!$B$8,IF(C7=\"tan\",RANDBETWEEN(-20,20),TEXT(RAND()*(-1)^RANDBETWEEN(1,2),\"0.0000\")),IF(C7=\"tan\",RANDBETWEEN(1,20),TEXT(RAND(),\"0.0000\"))))","v":6},"y","=",69.443954780416533,"and",249.44395478041653,null,{"$f":"IF(ROW()-1<=Worksheet!$B$7/2,O6+1,\"\")","v":21},{"$f":"IF(Worksheet!$B$9,IF(RAND()<0.7,RANDBETWEEN(2,6),RANDBETWEEN(7,15)),1)","v":5},"sin","z","+",{"$f":"IF(Worksheet!$B$9,IF(Worksheet!$B$8,IF(Q7=\"tan\",RANDBETWEEN(-15,15),RANDBETWEEN(V7-P7+1,V7+P7-1)),IF(Q7=\"tan\",RANDBETWEEN(-V7+1,V7-1),RANDBETWEEN(V7-P7+1,V7))),0)","v":8},"=",{"$f":"IF(Worksheet!$B$9,IF(Q7=\"tan\",RANDBETWEEN(1,15),RANDBETWEEN(0,15)),IF(Worksheet!$B$8,IF(Q7=\"tan\",RANDBETWEEN(-20,20),TEXT(RAND()*(-1)^RANDBETWEEN(1,2),\"0.0000\")),IF(Q7=\"tan\",RANDBETWEEN(1,20),TEXT(RAND(),\"0.0000\"))))","v":7},"z","=",191.5369590328155,"and",348.4630409671845]
[{"$f":"IF(ROW()-1<=Worksheet!$B$7/2,ROW()-1,\"\")","v":7},{"$f":"IF(Worksheet!$B$9,IF(RAND()<0.7,RANDBETWEEN(2,6),RANDBETWEEN(7,15)),1)","v":9},"tan","p","+",{"$f":"IF(Worksheet!$B$9,IF(Worksheet!$B$8,IF(C8=\"tan\",RANDBETWEEN(-15,15),RANDBETWEEN(H8-B8+1,H8+B8-1)),IF(C8=\"tan\",RANDBETWEEN(-H8+1,H8-1),RANDBETWEEN(H8-B8+1,H8))),0)","v":9},"=",{"$f":"IF(Worksheet!$B$9,IF(C8=\"tan\",RANDBETWEEN(1,15),RANDBETWEEN(0,15)),IF(Worksheet!$B$8,IF(C8=\"tan\",RANDBETWEEN(-20,20),TEXT(RAND()*(-1)^RANDBETWEEN(1,2),\"0.0000\")),IF(C8=\"tan\",RANDBETWEEN(1,20),TEXT(RAND(),\"0.0000\"))))","v":13},"p","=",23.962488974578182,"and",203.96248897457818,null,{"$f":"IF(ROW()-1<=Worksheet!$B$7/2,O7+1,\"\")","v":22},{"$f":"IF(Worksheet!$B$9,IF(RAND()<0.7,RANDBETWEEN(2,6),RANDBETWEEN(7,15)),1)","v":12},"tan","a","+",{"$f":"IF(Worksheet!$B$9,IF(Worksheet!$B$8,IF(Q8=\"tan\",RANDBETWEEN(-15,15),RANDBETWEEN(V8-P8+1,V8+P8-1)),IF(Q8=\"tan\",RANDBETWEEN(-V8+1,V8-1),RANDBETWEEN(V8-P8+1,V8))),0)","v":7},"=",{"$f":"IF(Worksheet!$B$9,IF(Q8=\"tan\",RANDBETWEEN(1,15),RANDBETWEEN(0,15)),IF(Worksheet!$B$8,IF(Q8=\"tan\",RANDBETWEEN(-20,20),TEXT(RAND()*(-1)^RANDBETWEEN(1,2),\"0.0000\")),IF(Q8=\"tan\",RANDBETWEEN(1,20),TEXT(RAND(),\"0.0000\"))))","v":13},"a","=",26.56505117707799,"and",206.56505117707798]
[{"$f":"IF(ROW()-1<=Worksheet!$B$7/2,ROW()-1,\"\")","v":8},{"$f":"IF(Worksheet!$B$9,IF(RAND()<0.7,RANDBETWEEN(2,6),RANDBETWEEN(7,15)),1)","v":7},"tan","s","+",{"$f":"IF(Worksheet!$B$9,IF(Worksheet!$B$8,IF(C9=\"tan\",RANDBETWEEN(-15,15),RANDBETWEEN(H9-B9+1,H9+B9-1)),IF(C9=\"tan\",RANDBETWEEN(-H9+1,H9-1),RANDBETWEEN(H9-B9+1,H9))),0)","v":7},"=",{"$f":"IF(Worksheet!$B$9,IF(C9=\"tan\",RANDBETWEEN(1,15),RANDBETWEEN(0,15)),IF(Worksheet!$B$8,IF(C9=\"tan\",RANDBETWEEN(-20,20),TEXT(RAND()*(-1)^RANDBETWEEN(1,2),\"0.0000\")),IF(C9=\"tan\",RANDBETWEEN(1,20),TEXT(RAND(),\"0.0000\"))))","v":12},"s","=",35.537677791974382,"and",215.53767779197437,null,{"$f":"IF(ROW()-1<=Worksheet!$B$7/2,O8+1,\"\")","v":23},{"$f":"IF(Worksheet!$B$9,IF(RAND()<0.7,RANDBETWEEN(2,6),RANDBETWEEN(7,15)),1)","v":9},"tan","a","–",{"$f":"IF(Worksheet!$B$9,IF(Worksheet!$B$8,IF(Q9=\"tan\",RANDBETWEEN(-15,15),RANDBETWEEN(V9-P9+1,V9+P9-1)),IF(Q9=\"tan\",RANDBETWEEN(-V9+1,V9-1),RANDBETWEEN(V9-P9+1,V9))),0)","v":-10},"=",{"$f":"IF(Worksheet!$B$9,IF(Q9=\"tan\",RANDBETWEEN(1,15),RANDBETWEEN(0,15)),IF(Worksheet!$B$8,IF(Q9=\"tan\",RANDBETWEEN(-20,20),TEXT(RAND()*(-1)^RANDBETWEEN(1,2),\"0.0000\")),IF(Q9=\"tan\",RANDBETWEEN(1,20),TEXT(RAND(),\"0.0000\"))))","v":10},"a","=",65.772254682045826,"and",245.77225468204583]
[{"$f":"IF(ROW()-1<=Worksheet!$B$7/2,ROW()-1,\"\")","v":9},{"$f":"IF(Worksheet!$B$9,IF(RAND()<0.7,RANDBETWEEN(2,6),RANDBETWEEN(7,15)),1)","v":2},"cos","h","+",{"$f":"IF(Worksheet!$B$9,IF(Worksheet!$B$8,IF(C10=\"tan\",RANDBETWEEN(-15,15),RANDBETWEEN(H10-B10+1,H10+B10-1)),IF(C10=\"tan\",RANDBETWEEN(-H10+1,H10-1),RANDBETWEEN(H10-B10+1,H10))),0)","v":8},"=",{"$f":"IF(Worksheet!$B$9,IF(C10=\"tan\",RANDBETWEEN(1,15),RANDBETWEEN(0,15)),IF(Worksheet!$B$8,IF(C10=\"tan\",RANDBETWEEN(-20,20),TEXT(RAND()*(-1)^RANDBETWEEN(1,2),\"0.0000\")),IF(C10=\"tan\",RANDBETWEEN(1,20),TEXT(RAND(),\"0.0000\"))))","v":7},"h","=",120,"and",240,null,{"$f":"IF(ROW()-1<=Worksheet!$B$7/2,O9+1,\"\")","v":24},{"$f":"IF(Worksheet!$B$9,IF(RAND()<0.7,RANDBETWEEN(2,6),RANDBETWEEN(7,15)),1)","v":6},"cos","z","+",{"$f":"IF(Worksheet!$B$9,IF(Worksheet!$B$8,IF(Q10=\"tan\",RANDBETWEEN(-15,15),RANDBETWEEN(V10-P10+1,V10+P10-1)),IF(Q10=\"tan\",RANDBETWEEN(-V10+1,V10-1),RANDBETWEEN(V10-P10+1,V10))),0)","v":3},"=",{"$f":"IF(Worksheet!$B$9,IF(Q10=\"tan\",RANDBETWEEN(1,15),RANDBETWEEN(0,15)),IF(Worksheet!$B$8,IF(Q10=\"tan\",RANDBETWEEN(-20,20),TEXT(RAND()*(-1)^RANDBETWEEN(1,2),\"0.0000\")),IF(Q10=\"tan\",RANDBETWEEN(1,20),TEXT(RAND(),\"0.0000\"))))","v":8},"z","=",33.557309761920713,"and",326.44269023807931]
[{"$f":"IF(ROW()-1<=Worksheet!$B$7/2,ROW()-1,\"\")","v":10},{"$f":"IF(Worksheet!$B$9,IF(RAND()<0.7,RANDBETWEEN(2,6),RANDBETWEEN(7,15)),1)","v":3},"cos","x","+",{"$f":"IF(Worksheet!$B$9,IF(Worksheet!$B$8,IF(C11=\"tan\",RANDBETWEEN(-15,15),RANDBETWEEN(H11-B11+1,H11+B11-1)),IF(C11=\"tan\",RANDBETWEEN(-H11+1,H11-1),RANDBETWEEN(H11-B11+1,H11))),0)","v":12},"=",{"$f":"IF(Worksheet!$B$9,IF(C11=\"tan\",RANDBETWEEN(1,15),RANDBETWEEN(0,15)),IF(Worksheet!$B$8,IF(C11=\"tan\",RANDBETWEEN(-20,20),TEXT(RAND()*(-1)^RANDBETWEEN(1,2),\"0.0000\")),IF(C11=\"tan\",RANDBETWEEN(1,20),TEXT(RAND(),\"0.0000\"))))","v":11},"x","=",109.47122063449069,"and",250.52877936550931,null,{"$f":"IF(ROW()-1<=Worksheet!$B$7/2,O10+1,\"\")","v":25},{"$f":"IF(Worksheet!$B$9,IF(RAND()<0.7,RANDBETWEEN(2,6),RANDBETWEEN(7,15)),1)","v":3},"cos","k","+",{"$f":"IF(Worksheet!$B$9,IF(Worksheet!$B$8,IF(Q11=\"tan\",RANDBETWEEN(-15,15),RANDBETWEEN(V11-P11+1,V11+P11-1)),IF(Q11=\"tan\",RANDBETWEEN(-V11+1,V11-1),RANDBETWEEN(V11-P11+1,V11))),0)","v":4},"=",{"$f":"IF(Worksheet!$B$9,IF(Q11=\"tan\",RANDBETWEEN(1,15),RANDBETWEEN(0,15)),IF(Worksheet!$B$8,IF(Q11=\"tan\",RANDBETWEEN(-20,20),TEXT(RAND()*(-1)^RANDBETWEEN(1,2),\"0.0000\")),IF(Q11=\"tan\",RANDBETWEEN(1,20),TEXT(RAND(),\"0.0000\"))))","v":2},"k","=",131.81031489577859,"and",228.18968510422141]
[{"$f":"IF(ROW()-1<=Worksheet!$B$7/2,ROW()-1,\"\")","v":11},{"$f":"IF(Worksheet!$B$9,IF(RAND()<0.7,RANDBETWEEN(2,6),RANDBETWEEN(7,15)),1)","v":5},"sin","x","+",{"$f":"IF(Worksheet!$B$9,IF(Worksheet!$B$8,IF(C12=\"tan\",RANDBETWEEN(-15,15),RANDBETWEEN(H12-B12+1,H12+B12-1)),IF(C12=\"tan\",RANDBETWEEN(-H12+1,H12-1),RANDBETWEEN(H12-B12+1,H12))),0)","v":4},"=",{"$f":"IF(Worksheet!$B$9,IF(C12=\"tan\",RANDBETWEEN(1,15),RANDBETWEEN(0,15)),IF(Worksheet!$B$8,IF(C12=\"tan\",RANDBETWEEN(-20,20),TEXT(RAND()*(-1)^RANDBETWEEN(1,2),\"0.0000\")),IF(C12=\"tan\",RANDBETWEEN(1,20),TEXT(RAND(),\"0.0000\"))))","v":1},{"$f":"D12","v":"x"},"=",216.86989764584402,"and",323.13010235415595,null,{"$f":"IF(ROW()-1<=Worksheet!$B$7/2,O11+1,\"\")","v":26},{"$f":"IF(Worksheet!$B$9,IF(RAND()<0.7,RANDBETWEEN(2,6),RANDBETWEEN(7,15)),1)","v":2},"tan","z","–",{"$f":"IF(Worksheet!$B$9,IF(Worksheet!$B$8,IF(Q12=\"tan\",RANDBETWEEN(-15,15),RANDBETWEEN(V12-P12+1,V12+P12-1)),IF(Q12=\"tan\",RANDBETWEEN(-V12+1,V12-1),RANDBETWEEN(V12-P12+1,V12))),0)","v":-14},"=",{"$f":"IF(Worksheet!$B$9,IF(Q12=\"tan\",RANDBETWEEN(1,15),RANDBETWEEN(0,15)),IF(Worksheet!$B$8,IF(Q12=\"tan\",RANDBETWEEN(-20,20),TEXT(RAND()*(-1)^RANDBETWEEN(1,2),\"0.0000\")),IF(Q12=\"tan\",RANDBETWEEN(1,20),TEXT(RAND(),\"0.0000\"))))","v":1},{"$f":"R12","v":"z"},"=",82.405356631408566,"and",262.40535663140855]
[{"$f":"IF(ROW()-1<=Worksheet!$B$7/2,ROW()-1,\"\")","v":12},{"$f":"IF(Worksheet!$B$9,IF(RAND()<0.7,RANDBETWEEN(2,6),RANDBETWEEN(7,15)),1)","v":12},"sin","m","+",{"$f":"IF(Worksheet!$B$9,IF(Worksheet!$B$8,IF(C13=\"tan\",RANDBETWEEN(-15,15),RANDBETWEEN(H13-B13+1,H13+B13-1)),IF(C13=\"tan\",RANDBETWEEN(-H13+1,H13-1),RANDBETWEEN(H13-B13+1,H13))),0)","v":18},"=",{"$f":"IF(Worksheet!$B$9,IF(C13=\"tan\",RANDBETWEEN(1,15),RANDBETWEEN(0,15)),IF(Worksheet!$B$8,IF(C13=\"tan\",RANDBETWEEN(-20,20),TEXT(RAND()*(-1)^RANDBETWEEN(1,2),\"0.0000\")),IF(C13=\"tan\",RANDBETWEEN(1,20),TEXT(RAND(),\"0.0000\"))))","v":7},{"$f":"D13","v":"m"},"=",246.44353569089876,"and",293.55646430910122,null,{"$f":"IF(ROW()-1<=Worksheet!$B$7/2,O12+1,\"\")","v":27},{"$f":"IF(Worksheet!$B$9,IF(RAND()<0.7,RANDBETWEEN(2,6),RANDBETWEEN(7,15)),1)","v":3},"cos","z","+",{"$f":"IF(Worksheet!$B$9,IF(Worksheet!$B$8,IF(Q13=\"tan\",RANDBETWEEN(-15,15),RANDBETWEEN(V13-P13+1,V13+P13-1)),IF(Q13=\"tan\",RANDBETWEEN(-V13+1,V13-1),RANDBETWEEN(V13-P13+1,V13))),0)","v":9},"=",{"$f":"IF(Worksheet!$B$9,IF(Q13=\"tan\",RANDBETWEEN(1,15),RANDBETWEEN(0,15)),IF(Worksheet!$B$8,IF(Q13=\"tan\",RANDBETWEEN(-20,20),TEXT(RAND()*(-1)^RANDBETWEEN(1,2),\"0.0000\")),IF(Q13=\"tan\",RANDBETWEEN(1,20),TEXT(RAND(),\"0.0000\"))))","v":7},{"$f":"R13","v":"z"},"=",131.81031489577859,"and",228.18968510422141]
[{"$f":"IF(ROW()-1<=Worksheet!$B$7/2,ROW()-1,\"\")","v":13},{"$f":"IF(Worksheet!$B$9,IF(RAND()<0.7,RANDBETWEEN(2,6),RANDBETWEEN(7,15)),1)","v":11},"cos","a","+",{"$f":"IF(Worksheet!$B$9,IF(Worksheet!$B$8,IF(C14=\"tan\",RANDBETWEEN(-15,15),RANDBETWEEN(H14-B14+1,H14+B14-1)),IF(C14=\"tan\",RANDBETWEEN(-H14+1,H14-1),RANDBETWEEN(H14-B14+1,H14))),0)","v":12},"=",{"$f":"IF(Worksheet!$B$9,IF(C14=\"tan\",RANDBETWEEN(1,15),RANDBETWEEN(0,15)),IF(Worksheet!$B$8,IF(C14=\"tan\",RANDBETWEEN(-20,20),TEXT(RAND()*(-1)^RANDBETWEEN(1,2),\"0.0000\")),IF(C14=\"tan\",RANDBETWEEN(1,20),TEXT(RAND(),\"0.0000\"))))","v":15},{"$f":"D14","v":"a"},"=",74.173379868127668,"and",285.82662013187235,null,{"$f":"IF(ROW()-1<=Worksheet!$B$7/2,O13+1,\"\")","v":28},{"$f":"IF(Worksheet!$B$9,IF(RAND()<0.7,RANDBETWEEN(2,6),RANDBETWEEN(7,15)),1)","v":3},"sin","h","+",{"$f":"IF(Worksheet!$B$9,IF(Worksheet!$B$8,IF(Q14=\"tan\",RANDBETWEEN(-15,15),RANDBETWEEN(V14-P14+1,V14+P14-1)),IF(Q14=\"tan\",RANDBETWEEN(-V14+1,V14-1),RANDBETWEEN(V14-P14+1,V14))),0)","v":3},"=",{"$f":"IF(Worksheet!$B$9,IF(Q14=\"tan\",RANDBETWEEN(1,15),RANDBETWEEN(0,15)),IF(Worksheet!$B$8,IF(Q14=\"tan\",RANDBETWEEN(-20,20),TEXT(RAND()*(-1)^RANDBETWEEN(1,2),\"0.0000\")),IF(Q14=\"tan\",RANDBETWEEN(1,20),TEXT(RAND(),\"0.0000\"))))","v":2},{"$f":"R14","v":"h"},"=",199.47122063449069,"and",340.52877936550931]
[{"$f":"IF(ROW()-1<=Worksheet!$B$7/2,ROW()-1,\"\")","v":14},{"$f":"IF(Worksheet!$B$9,IF(RAND()<0.7,RANDBETWEEN(2,6),RANDBETWEEN(7,15)),1)","v":3},"cos","p","",{"$f":"IF(Worksheet!$B$9,IF(Worksheet!$B$8,IF(C15=\"tan\",RANDBETWEEN(-15,15),RANDBETWEEN(H15-B15+1,H15+B15-1)),IF(C15=\"tan\",RANDBETWEEN(-H15+1,H15-1),RANDBETWEEN(H15-B15+1,H15))),0)","v":0},"=",{"$f":"IF(Worksheet!$B$9,IF(C15=\"tan\",RANDBETWEEN(1,15),RANDBETWEEN(0,15)),IF(Worksheet!$B$8,IF(C15=\"tan\",RANDBETWEEN(-20,20),TEXT(RAND()*(-1)^RANDBETWEEN(1,2),\"0.0000\")),IF(C15=\"tan\",RANDBETWEEN(1,20),TEXT(RAND(),\"0.0000\"))))","v":0},{"$f":"D15","v":"p"},"=",90,"and",270,null,{"$f":"IF(ROW()-1<=Worksheet!$B$7/2,O14+1,\"\")","v":29},{"$f":"IF(Worksheet!$B$9,IF(RAND()<0.7,RANDBETWEEN(2,6),RANDBETWEEN(7,15)),1)","v":2},"tan","k","–",{"$f":"IF(Worksheet!$B$9,IF(Worksheet!$B$8,IF(Q15=\"tan\",RANDBETWEEN(-15,15),RANDBETWEEN(V15-P15+1,V15+P15-1)),IF(Q15=\"tan\",RANDBETWEEN(-V15+1,V15-1),RANDBETWEEN(V15-P15+1,V15))),0)","v":-8},"=",{"$f":"IF(Worksheet!$B$9,IF(Q15=\"tan\",RANDBETWEEN(1,15),RANDBETWEEN(0,15)),IF(Worksheet!$B$8,IF(Q15=\"tan\",RANDBETWEEN(-20,20),TEXT(RAND()*(-1)^RANDBETWEEN(1,2),\"0.0000\")),IF(Q15=\"tan\",RANDBETWEEN(1,20),TEXT(RAND(),\"0.0000\"))))","v":12},{"$f":"R15","v":"k"},"=",84.289406862500371,"and",264.28940686250036]
[{"$f":"IF(ROW()-1<=Worksheet!$B$7/2,ROW()-1,\"\")","v":15},{"$f":"IF(Worksheet!$B$9,IF(RAND()<0.7,RANDBETWEEN(2,6),RANDBETWEEN(7,15)),1)","v":2},"cos","x","+",{"$f":"IF(Worksheet!$B$9,IF(Worksheet!$B$8,IF(C16=\"tan\",RANDBETWEEN(-15,15),RANDBETWEEN(H16-B16+1,H16+B16-1)),IF(C16=\"tan\",RANDBETWEEN(-H16+1,H16-1),RANDBETWEEN(H16-B16+1,H16))),0)","v":1},"=",{"$f":"IF(Worksheet!$B$9,IF(C16=\"tan\",RANDBETWEEN(1,15),RANDBETWEEN(0,15)),IF(Worksheet!$B$8,IF(C16=\"tan\",RANDBETWEEN(-20,20),TEXT(RAND()*(-1)^RANDBETWEEN(1,2),\"0.0000\")),IF(C16=\"tan\",RANDBETWEEN(1,20),TEXT(RAND(),\"0.0000\"))))","v":1},{"$f":"D16","v":"x"},"=",90,"and",270,null,{"$f":"IF(ROW()-1<=Worksheet!$B$7/2,O15+1,\"\")","v":30},{"$f":"IF(Worksheet!$B$9,IF(RAND()<0.7,RANDBETWEEN(2,6),RANDBETWEEN(7,15)),1)","v":3},"cos","a","+",{"$f":"IF(Worksheet!$B$9,IF(Worksheet!$B$8,IF(Q16=\"tan\",RANDBETWEEN(-15,15),RANDBETWEEN(V16-P16+1,V16+P16-1)),IF(Q16=\"tan\",RANDBETWEEN(-V16+1,V16-1),RANDBETWEEN(V16-P16+1,V16))),0)","v":12},"=",{"$f":"IF(Worksheet!$B$9,IF(Q16=\"tan\",RANDBETWEEN(1,15),RANDBETWEEN(0,15)),IF(Worksheet!$B$8,IF(Q16=\"tan\",RANDBETWEEN(-20,20),TEXT(RAND()*(-1)^RANDBETWEEN(1,2),\"0.0000\")),IF(Q16=\"tan\",RANDBETWEEN(1,20),TEXT(RAND(),\"0.0000\"))))","v":13},{"$f":"R16","v":"a"},"=",70.528779365509308,"and",289.47122063449069]