{"text_format":"1","workbook":"xlsx","n_sheets":2,"sheets":["Worksheet","SYSTEM FORMULAE"],"not_rendered":{"charts":0,"images":0,"macros":1,"external_links":0,"defined_names":2,"comments":0,"pivot_tables":0},"unopened":[],"bounds":{"document_bytes":16777216,"sheet_cells":100000,"rows_first":2000,"rows_last":500,"rows_between":2000,"halvings":0,"cell_chars":16384,"cell_head_chars":4096},"cells_cut":0,"cells_raw":0,"read":"whole","date_system":"1900"}

{"sheet":"Worksheet","index":0,"n_rows":16,"n_cols":35,"rows_kept":16,"cut":false,"hidden":false,"merged":[[1,0,1,1],[4,0,4,1],[0,2,0,34]]}
[null,null,"Find the modulus and argument of each complex number"]
["Variables",null,1,"–",-7,7,"+",6,6,"i",null,"modulus =",9.2195444572928871,"(√85)",null,"argument = ",-0.70862627212767026,"(-40.6°)",null,11,"–",-5,5,"+",8,8,"i",null,"modulus =",9.4339811320566032,"(√89)",null,"argument = ",-1.0121970114513341,"(-58°)"]
["SHOW ANSWERS",false,2,"–",-5,5,"+",2,2,"i",null,"modulus =",5.3851648071345037,"(√29)",null,"argument = ",-0.3805063771123649,"(-21.8°)",null,12,"–",-3,3,"–",-6,6,"i",null,"modulus =",6.7082039324993694,"(√45)",null,"argument = ",1.1071487177940904,"(63.4°)"]
["Number of questions (minimum 10, maximum 30)",20,3,"–",-2,2,"+",7,7,"i",null,"modulus =",7.2801098892805181,"(√53)",null,"argument = ",-1.2924966677897853,"(-74.1°)",null,13,"",5,5,"+",3,3,"i",null,"modulus =",5.8309518948453007,"(√34)",null,"argument = ",0.54041950027058416,"(31°)"]
["Numbers in questions",null,4,"–",-8,8,"–",-7,7,"i",null,"modulus =",10.63014581273465,"(√113)",null,"argument = ",0.71882999962162453,"(41.2°)",null,14,"",2.2360679774997898,"√5","–",-8,8,"i",null,"modulus =",8.3066238629180749,"(√69)",null,"argument = ",-1.2982434522597153,"(-74.4°)"]
["Maximum absolute value of real and imaginary parts",8,5,"–",-8,8,"+",3,3,"i",null,"modulus =",8.5440037453175304,"(√73)",null,"argument = ",-0.35877067027057225,"(-20.6°)",null,15,"–",-2,2,"+",5,5,"i",null,"modulus =",5.3851648071345037,"(√29)",null,"argument = ",-1.1902899496825317,"(-68.2°)"]
[null,null,6,"",6,6,"–",-7,7,"i",null,"modulus =",9.2195444572928871,"(√85)",null,"argument = ",-0.8621700546672264,"(-49.4°)",null,16,"–",-2,2,"–",-2,2,"i",null,"modulus =",2.8284271247461903,"(√8)",null,"argument = ",0.78539816339744828,"(45°)"]
[null,null,7,"–",-3,3,"+",1.7320508075688772,"√3","i",null,"modulus =",3.4641016151377544,"(√12)",null,"argument = ",-0.52359877559829882,"(-30°)",null,17,"",4,4,"+",8,8,"i",null,"modulus =",8.9442719099991592,"(√80)",null,"argument = ",1.1071487177940904,"(63.4°)"]
[null,null,8,"–",-7,7,"+",5,5,"i",null,"modulus =",8.6023252670426267,"(√74)",null,"argument = ",-0.62024948598282148,"(-35.5°)",null,18,"–",-1,1,"+",5,5,"i",null,"modulus =",5.0990195135927845,"(√26)",null,"argument = ",-1.3734007669450159,"(-78.7°)"]
[null,null,9,"",1.4142135623730951,"√2","–",-7,7,"i",null,"modulus =",7.1414284285428504,"(√51)",null,"argument = ",-1.371449119094295,"(-78.6°)",null,19,"",3,3,"+",3,3,"i",null,"modulus =",4.2426406871192848,"(√18)",null,"argument = ",0.78539816339744828,"(45°)"]
[null,null,10,"",1.4142135623730951,"√2","+",1,1,"i",null,"modulus =",1.7320508075688774,"(√3)",null,"argument = ",0.61547970867038726,"(35.3°)",null,20,"",1.7320508075688772,"√3","+",1.7320508075688772,"√3","i",null,"modulus =",2.4494897427831779,"(√6)",null,"argument = ",0.78539816339744828,"(45°)"]
[null,null,"","–",-5,5,"+",2,2,"i",null,"modulus =",5.3851648071345037,"(√29)",null,"argument = ",-0.3805063771123649,"(-21.8°)",null,"","",2.2360679774997898,"√5","–",-2,2,"i",null,"modulus =",3,"",null,"argument = ",-0.72972765622696634,"(-41.8°)"]
[null,null,"","",2.6457513110645907,"√7","+",1.7320508075688772,"√3","i",null,"modulus =",3.1622776601683795,"(√10)",null,"argument = ",0.57963974036370425,"(33.2°)",null,"","–",-3,3,"+",1.7320508075688772,"√3","i",null,"modulus =",3.4641016151377544,"(√12)",null,"argument = ",-0.52359877559829882,"(-30°)"]
[null,null,"","–",-6,6,"–",-7,7,"i",null,"modulus =",9.2195444572928871,"(√85)",null,"argument = ",0.8621700546672264,"(49.4°)",null,"","",1.7320508075688772,"√3","+",6,6,"i",null,"modulus =",6.2449979983983983,"(√39)",null,"argument = ",1.289761425292083,"(73.9°)"]
[null,null,"","",2.2360679774997898,"√5","–",-2,2,"i",null,"modulus =",3,"",null,"argument = ",-0.72972765622696634,"(-41.8°)",null,"","",1,1,"+",1.7320508075688772,"√3","i",null,"modulus =",2,"",null,"argument = ",1.0471975511965976,"(60°)"]
[null,null,"","–",-5,5,"+",6,6,"i",null,"modulus =",7.810249675906654,"(√61)",null,"argument = ",-0.87605805059819342,"(-50.2°)",null,"","",1.7320508075688772,"√3","–",-3,3,"i",null,"modulus =",3.4641016151377544,"(√12)",null,"argument = ",-1.0471975511965979,"(-60°)"]

{"sheet":"SYSTEM FORMULAE","index":1,"n_rows":30,"n_cols":33,"rows_kept":30,"cut":false,"hidden":false,"merged":[]}
[{"$f":"IF(ROW()<=Worksheet!$B$4/2,ROW(),\"\")","v":1},{"$f":"IF(C1<0,\"–\",\"\")","v":""},{"$f":"IF(RAND()<0.1,SQRT(3),IF(RAND()<0.1,SQRT(2),IF(RAND()<0.1,SQRT(5),IF(RAND()<0.1,SQRT(7),RANDBETWEEN(-1*Worksheet!$B$6,Worksheet!$B$6)))))","v":2.2360679774997898},{"$f":"IF(C1=SQRT(3),\"√3\",IF(C1=SQRT(2),\"√2\",IF(C1=SQRT(5),\"√5\",IF(C1=SQRT(7),\"√7\",ABS(C1)))))","v":"√5"},{"$f":"IF(F1<0,\"–\",IF(F1>0,\"+\",\"\"))","v":"–"},{"$f":"IF(RAND()<0.1,SQRT(3),RANDBETWEEN(1,Worksheet!$B$6)*(-1)^(RANDBETWEEN(1,2)))","v":-7},{"$f":"IF(F1=SQRT(3),\"√3\",IF(F1=SQRT(2),\"√2\",ABS(F1)))","v":7},"i",null,"modulus =",{"$f":"SQRT(C1^2+F1^2)","v":7.3484692283495345},{"$f":"IF(INT(K1)=K1,\"\",CONCATENATE(\"(√\",C1^2+F1^2,\")\"))","v":"(√54)"},null,"argument = ",{"$f":"IF(C1=0,-PI()/2,ATAN(F1/C1))","v":-1.2616030058518954},{"$f":"CONCATENATE(\"(\",ROUND(DEGREES(O1),1),\"°)\")","v":"(-72.3°)"},null,{"$f":"MAX(A1:A50)+1","v":11},{"$f":"IF(T1<0,\"–\",\"\")","v":""},{"$f":"IF(RAND()<0.1,SQRT(3),IF(RAND()<0.1,SQRT(2),IF(RAND()<0.1,SQRT(5),IF(RAND()<0.1,SQRT(7),RANDBETWEEN(-1*Worksheet!$B$6,Worksheet!$B$6)))))","v":8},{"$f":"IF(T1=SQRT(3),\"√3\",IF(T1=SQRT(2),\"√2\",IF(T1=SQRT(5),\"√5\",IF(T1=SQRT(7),\"√7\",ABS(T1)))))","v":8},{"$f":"IF(W1<0,\"–\",IF(W1>0,\"+\",\"\"))","v":"+"},{"$f":"IF(RAND()<0.1,SQRT(3),RANDBETWEEN(1,Worksheet!$B$6)*(-1)^(RANDBETWEEN(1,2)))","v":5},{"$f":"IF(W1=SQRT(3),\"√3\",IF(W1=SQRT(2),\"√2\",ABS(W1)))","v":5},"i",null,"modulus =",{"$f":"SQRT(T1^2+W1^2)","v":9.4339811320566032},{"$f":"IF(INT(AB1)=AB1,\"\",CONCATENATE(\"(√\",T1^2+W1^2,\")\"))","v":"(√89)"},null,"argument = ",{"$f":"IF(T1=0,-PI()/2,ATAN(W1/T1))","v":0.55859931534356244},{"$f":"CONCATENATE(\"(\",ROUND(DEGREES(AF1),1),\"°)\")","v":"(32°)"}]
[{"$f":"IF(ROW()<=Worksheet!$B$4/2,ROW(),\"\")","v":2},{"$f":"IF(C2<0,\"–\",\"\")","v":""},{"$f":"IF(RAND()<0.1,SQRT(3),IF(RAND()<0.1,SQRT(2),IF(RAND()<0.1,SQRT(5),IF(RAND()<0.1,SQRT(7),RANDBETWEEN(-1*Worksheet!$B$6,Worksheet!$B$6)))))","v":0},{"$f":"IF(C2=SQRT(3),\"√3\",IF(C2=SQRT(2),\"√2\",IF(C2=SQRT(5),\"√5\",IF(C2=SQRT(7),\"√7\",ABS(C2)))))","v":0},{"$f":"IF(F2<0,\"–\",IF(F2>0,\"+\",\"\"))","v":"–"},{"$f":"IF(RAND()<0.1,SQRT(3),RANDBETWEEN(1,Worksheet!$B$6)*(-1)^(RANDBETWEEN(1,2)))","v":-1},{"$f":"IF(F2=SQRT(3),\"√3\",IF(F2=SQRT(2),\"√2\",ABS(F2)))","v":1},"i",null,"modulus =",{"$f":"SQRT(C2^2+F2^2)","v":1},{"$f":"IF(INT(K2)=K2,\"\",CONCATENATE(\"(√\",C2^2+F2^2,\")\"))","v":""},null,"argument = ",{"$f":"IF(C2=0,-PI()/2,ATAN(F2/C2))","v":-1.5707963267948966},{"$f":"CONCATENATE(\"(\",ROUND(DEGREES(O2),1),\"°)\")","v":"(-90°)"},null,{"$f":"IF(ROW()<=Worksheet!$B$4/2,R1+1,\"\")","v":12},{"$f":"IF(T2<0,\"–\",\"\")","v":""},{"$f":"IF(RAND()<0.1,SQRT(3),IF(RAND()<0.1,SQRT(2),IF(RAND()<0.1,SQRT(5),IF(RAND()<0.1,SQRT(7),RANDBETWEEN(-1*Worksheet!$B$6,Worksheet!$B$6)))))","v":2.6457513110645907},{"$f":"IF(T2=SQRT(3),\"√3\",IF(T2=SQRT(2),\"√2\",IF(T2=SQRT(5),\"√5\",IF(T2=SQRT(7),\"√7\",ABS(T2)))))","v":"√7"},{"$f":"IF(W2<0,\"–\",IF(W2>0,\"+\",\"\"))","v":"–"},{"$f":"IF(RAND()<0.1,SQRT(3),RANDBETWEEN(1,Worksheet!$B$6)*(-1)^(RANDBETWEEN(1,2)))","v":-1},{"$f":"IF(W2=SQRT(3),\"√3\",IF(W2=SQRT(2),\"√2\",ABS(W2)))","v":1},"i",null,"modulus =",{"$f":"SQRT(T2^2+W2^2)","v":2.8284271247461903},{"$f":"IF(INT(AB2)=AB2,\"\",CONCATENATE(\"(√\",T2^2+W2^2,\")\"))","v":"(√8)"},null,"argument = ",{"$f":"IF(T2=0,-PI()/2,ATAN(W2/T2))","v":-0.36136712390670778},{"$f":"CONCATENATE(\"(\",ROUND(DEGREES(AF2),1),\"°)\")","v":"(-20.7°)"}]
[{"$f":"IF(ROW()<=Worksheet!$B$4/2,ROW(),\"\")","v":3},"",{"$f":"IF(RAND()<0.1,SQRT(3),IF(RAND()<0.1,SQRT(2),IF(RAND()<0.1,SQRT(5),IF(RAND()<0.1,SQRT(7),RANDBETWEEN(-1*Worksheet!$B$6,Worksheet!$B$6)))))","v":4},4,"–",{"$f":"IF(RAND()<0.1,SQRT(3),RANDBETWEEN(1,Worksheet!$B$6)*(-1)^(RANDBETWEEN(1,2)))","v":-2},2,"i",null,"modulus =",4.4721359549995796,"(√20)",null,"argument = ",-0.46364760900080609,"(-26.6°)",null,{"$f":"IF(ROW()<=Worksheet!$B$4/2,R2+1,\"\")","v":13},"",{"$f":"IF(RAND()<0.1,SQRT(3),IF(RAND()<0.1,SQRT(2),IF(RAND()<0.1,SQRT(5),IF(RAND()<0.1,SQRT(7),RANDBETWEEN(-1*Worksheet!$B$6,Worksheet!$B$6)))))","v":8},8,"–",{"$f":"IF(RAND()<0.1,SQRT(3),RANDBETWEEN(1,Worksheet!$B$6)*(-1)^(RANDBETWEEN(1,2)))","v":-3},3,"i",null,"modulus =",8.5440037453175304,"(√73)",null,"argument = ",-0.35877067027057225,"(-20.6°)"]
[{"$f":"IF(ROW()<=Worksheet!$B$4/2,ROW(),\"\")","v":4},"",{"$f":"IF(RAND()<0.1,SQRT(3),IF(RAND()<0.1,SQRT(2),IF(RAND()<0.1,SQRT(5),IF(RAND()<0.1,SQRT(7),RANDBETWEEN(-1*Worksheet!$B$6,Worksheet!$B$6)))))","v":2.2360679774997898},"√5","–",{"$f":"IF(RAND()<0.1,SQRT(3),RANDBETWEEN(1,Worksheet!$B$6)*(-1)^(RANDBETWEEN(1,2)))","v":-5},5,"i",null,"modulus =",5.4772255750516612,"(√30)",null,"argument = ",-1.1502619915109316,"(-65.9°)",null,{"$f":"IF(ROW()<=Worksheet!$B$4/2,R3+1,\"\")","v":14},"",{"$f":"IF(RAND()<0.1,SQRT(3),IF(RAND()<0.1,SQRT(2),IF(RAND()<0.1,SQRT(5),IF(RAND()<0.1,SQRT(7),RANDBETWEEN(-1*Worksheet!$B$6,Worksheet!$B$6)))))","v":2},2,"–",{"$f":"IF(RAND()<0.1,SQRT(3),RANDBETWEEN(1,Worksheet!$B$6)*(-1)^(RANDBETWEEN(1,2)))","v":-6},6,"i",null,"modulus =",6.324555320336759,"(√40)",null,"argument = ",-1.2490457723982544,"(-71.6°)"]
[{"$f":"IF(ROW()<=Worksheet!$B$4/2,ROW(),\"\")","v":5},"",{"$f":"IF(RAND()<0.1,SQRT(3),IF(RAND()<0.1,SQRT(2),IF(RAND()<0.1,SQRT(5),IF(RAND()<0.1,SQRT(7),RANDBETWEEN(-1*Worksheet!$B$6,Worksheet!$B$6)))))","v":8},8,"–",{"$f":"IF(RAND()<0.1,SQRT(3),RANDBETWEEN(1,Worksheet!$B$6)*(-1)^(RANDBETWEEN(1,2)))","v":-2},2,"i",null,"modulus =",8.2462112512353212,"(√68)",null,"argument = ",-0.24497866312686414,"(-14°)",null,{"$f":"IF(ROW()<=Worksheet!$B$4/2,R4+1,\"\")","v":15},"",{"$f":"IF(RAND()<0.1,SQRT(3),IF(RAND()<0.1,SQRT(2),IF(RAND()<0.1,SQRT(5),IF(RAND()<0.1,SQRT(7),RANDBETWEEN(-1*Worksheet!$B$6,Worksheet!$B$6)))))","v":2.6457513110645907},"√7","–",{"$f":"IF(RAND()<0.1,SQRT(3),RANDBETWEEN(1,Worksheet!$B$6)*(-1)^(RANDBETWEEN(1,2)))","v":-1},1,"i",null,"modulus =",2.8284271247461903,"(√8)",null,"argument = ",-0.36136712390670778,"(-20.7°)"]
[{"$f":"IF(ROW()<=Worksheet!$B$4/2,ROW(),\"\")","v":6},"",{"$f":"IF(RAND()<0.1,SQRT(3),IF(RAND()<0.1,SQRT(2),IF(RAND()<0.1,SQRT(5),IF(RAND()<0.1,SQRT(7),RANDBETWEEN(-1*Worksheet!$B$6,Worksheet!$B$6)))))","v":2.2360679774997898},"√5","–",{"$f":"IF(RAND()<0.1,SQRT(3),RANDBETWEEN(1,Worksheet!$B$6)*(-1)^(RANDBETWEEN(1,2)))","v":-1},1,"i",null,"modulus =",2.4494897427831783,"(√6)",null,"argument = ",-0.42053433528396511,"(-24.1°)",null,{"$f":"IF(ROW()<=Worksheet!$B$4/2,R5+1,\"\")","v":16},"",{"$f":"IF(RAND()<0.1,SQRT(3),IF(RAND()<0.1,SQRT(2),IF(RAND()<0.1,SQRT(5),IF(RAND()<0.1,SQRT(7),RANDBETWEEN(-1*Worksheet!$B$6,Worksheet!$B$6)))))","v":8},8,"+",{"$f":"IF(RAND()<0.1,SQRT(3),RANDBETWEEN(1,Worksheet!$B$6)*(-1)^(RANDBETWEEN(1,2)))","v":5},5,"i",null,"modulus =",9.4339811320566032,"(√89)",null,"argument = ",0.55859931534356244,"(32°)"]
[{"$f":"IF(ROW()<=Worksheet!$B$4/2,ROW(),\"\")","v":7},"",{"$f":"IF(RAND()<0.1,SQRT(3),IF(RAND()<0.1,SQRT(2),IF(RAND()<0.1,SQRT(5),IF(RAND()<0.1,SQRT(7),RANDBETWEEN(-1*Worksheet!$B$6,Worksheet!$B$6)))))","v":2.2360679774997898},"√5","+",{"$f":"IF(RAND()<0.1,SQRT(3),RANDBETWEEN(1,Worksheet!$B$6)*(-1)^(RANDBETWEEN(1,2)))","v":1.7320508075688772},"√3","i",null,"modulus =",2.8284271247461903,"(√8)",null,"argument = ",0.65905803582640898,"(37.8°)",null,{"$f":"IF(ROW()<=Worksheet!$B$4/2,R6+1,\"\")","v":17},"",{"$f":"IF(RAND()<0.1,SQRT(3),IF(RAND()<0.1,SQRT(2),IF(RAND()<0.1,SQRT(5),IF(RAND()<0.1,SQRT(7),RANDBETWEEN(-1*Worksheet!$B$6,Worksheet!$B$6)))))","v":1.4142135623730951},"√2","–",{"$f":"IF(RAND()<0.1,SQRT(3),RANDBETWEEN(1,Worksheet!$B$6)*(-1)^(RANDBETWEEN(1,2)))","v":-1},1,"i",null,"modulus =",1.7320508075688774,"(√3)",null,"argument = ",-0.61547970867038726,"(-35.3°)"]
[{"$f":"IF(ROW()<=Worksheet!$B$4/2,ROW(),\"\")","v":8},"",{"$f":"IF(RAND()<0.1,SQRT(3),IF(RAND()<0.1,SQRT(2),IF(RAND()<0.1,SQRT(5),IF(RAND()<0.1,SQRT(7),RANDBETWEEN(-1*Worksheet!$B$6,Worksheet!$B$6)))))","v":1.7320508075688772},"√3","–",{"$f":"IF(RAND()<0.1,SQRT(3),RANDBETWEEN(1,Worksheet!$B$6)*(-1)^(RANDBETWEEN(1,2)))","v":-5},5,"i",null,"modulus =",5.2915026221291814,"(√28)",null,"argument = ",-1.2373231545430645,"(-70.9°)",null,{"$f":"IF(ROW()<=Worksheet!$B$4/2,R7+1,\"\")","v":18},"–",{"$f":"IF(RAND()<0.1,SQRT(3),IF(RAND()<0.1,SQRT(2),IF(RAND()<0.1,SQRT(5),IF(RAND()<0.1,SQRT(7),RANDBETWEEN(-1*Worksheet!$B$6,Worksheet!$B$6)))))","v":-3},3,"+",{"$f":"IF(RAND()<0.1,SQRT(3),RANDBETWEEN(1,Worksheet!$B$6)*(-1)^(RANDBETWEEN(1,2)))","v":1},1,"i",null,"modulus =",3.1622776601683795,"(√10)",null,"argument = ",-0.32175055439664219,"(-18.4°)"]
[{"$f":"IF(ROW()<=Worksheet!$B$4/2,ROW(),\"\")","v":9},"–",{"$f":"IF(RAND()<0.1,SQRT(3),IF(RAND()<0.1,SQRT(2),IF(RAND()<0.1,SQRT(5),IF(RAND()<0.1,SQRT(7),RANDBETWEEN(-1*Worksheet!$B$6,Worksheet!$B$6)))))","v":-7},7,"–",{"$f":"IF(RAND()<0.1,SQRT(3),RANDBETWEEN(1,Worksheet!$B$6)*(-1)^(RANDBETWEEN(1,2)))","v":-6},6,"i",null,"modulus =",9.2195444572928871,"(√85)",null,"argument = ",0.70862627212767026,"(40.6°)",null,{"$f":"IF(ROW()<=Worksheet!$B$4/2,R8+1,\"\")","v":19},"",{"$f":"IF(RAND()<0.1,SQRT(3),IF(RAND()<0.1,SQRT(2),IF(RAND()<0.1,SQRT(5),IF(RAND()<0.1,SQRT(7),RANDBETWEEN(-1*Worksheet!$B$6,Worksheet!$B$6)))))","v":1.7320508075688772},"√3","+",{"$f":"IF(RAND()<0.1,SQRT(3),RANDBETWEEN(1,Worksheet!$B$6)*(-1)^(RANDBETWEEN(1,2)))","v":6},6,"i",null,"modulus =",6.2449979983983983,"(√39)",null,"argument = ",1.289761425292083,"(73.9°)"]
[{"$f":"IF(ROW()<=Worksheet!$B$4/2,ROW(),\"\")","v":10},"",{"$f":"IF(RAND()<0.1,SQRT(3),IF(RAND()<0.1,SQRT(2),IF(RAND()<0.1,SQRT(5),IF(RAND()<0.1,SQRT(7),RANDBETWEEN(-1*Worksheet!$B$6,Worksheet!$B$6)))))","v":2.6457513110645907},"√7","+",{"$f":"IF(RAND()<0.1,SQRT(3),RANDBETWEEN(1,Worksheet!$B$6)*(-1)^(RANDBETWEEN(1,2)))","v":6},6,"i",null,"modulus =",6.5574385243020004,"(√43)",null,"argument = ",1.155486659775306,"(66.2°)",null,{"$f":"IF(ROW()<=Worksheet!$B$4/2,R9+1,\"\")","v":20},"",{"$f":"IF(RAND()<0.1,SQRT(3),IF(RAND()<0.1,SQRT(2),IF(RAND()<0.1,SQRT(5),IF(RAND()<0.1,SQRT(7),RANDBETWEEN(-1*Worksheet!$B$6,Worksheet!$B$6)))))","v":0},0,"+",{"$f":"IF(RAND()<0.1,SQRT(3),RANDBETWEEN(1,Worksheet!$B$6)*(-1)^(RANDBETWEEN(1,2)))","v":8},8,"i",null,"modulus =",8,"",null,"argument = ",-1.5707963267948966,"(-90°)"]
[{"$f":"IF(ROW()<=Worksheet!$B$4/2,ROW(),\"\")","v":""},"–",{"$f":"IF(RAND()<0.1,SQRT(3),IF(RAND()<0.1,SQRT(2),IF(RAND()<0.1,SQRT(5),IF(RAND()<0.1,SQRT(7),RANDBETWEEN(-1*Worksheet!$B$6,Worksheet!$B$6)))))","v":-5},5,"+",{"$f":"IF(RAND()<0.1,SQRT(3),RANDBETWEEN(1,Worksheet!$B$6)*(-1)^(RANDBETWEEN(1,2)))","v":4},4,"i",null,"modulus =",6.4031242374328485,"(√41)",null,"argument = ",-0.67474094222355274,"(-38.7°)",null,{"$f":"IF(ROW()<=Worksheet!$B$4/2,R10+1,\"\")","v":""},"–",{"$f":"IF(RAND()<0.1,SQRT(3),IF(RAND()<0.1,SQRT(2),IF(RAND()<0.1,SQRT(5),IF(RAND()<0.1,SQRT(7),RANDBETWEEN(-1*Worksheet!$B$6,Worksheet!$B$6)))))","v":-1},1,"+",{"$f":"IF(RAND()<0.1,SQRT(3),RANDBETWEEN(1,Worksheet!$B$6)*(-1)^(RANDBETWEEN(1,2)))","v":1.7320508075688772},"√3","i",null,"modulus =",2,"",null,"argument = ",-1.0471975511965976,"(-60°)"]
[{"$f":"IF(ROW()<=Worksheet!$B$4/2,ROW(),\"\")","v":""},"",{"$f":"IF(RAND()<0.1,SQRT(3),IF(RAND()<0.1,SQRT(2),IF(RAND()<0.1,SQRT(5),IF(RAND()<0.1,SQRT(7),RANDBETWEEN(-1*Worksheet!$B$6,Worksheet!$B$6)))))","v":1.7320508075688772},"√3","–",{"$f":"IF(RAND()<0.1,SQRT(3),RANDBETWEEN(1,Worksheet!$B$6)*(-1)^(RANDBETWEEN(1,2)))","v":-1},1,"i",null,"modulus =",2,"",null,"argument = ",-0.52359877559829893,"(-30°)",null,{"$f":"IF(ROW()<=Worksheet!$B$4/2,R11+1,\"\")","v":""},"",{"$f":"IF(RAND()<0.1,SQRT(3),IF(RAND()<0.1,SQRT(2),IF(RAND()<0.1,SQRT(5),IF(RAND()<0.1,SQRT(7),RANDBETWEEN(-1*Worksheet!$B$6,Worksheet!$B$6)))))","v":1.4142135623730951},"√2","+",{"$f":"IF(RAND()<0.1,SQRT(3),RANDBETWEEN(1,Worksheet!$B$6)*(-1)^(RANDBETWEEN(1,2)))","v":1.7320508075688772},"√3","i",null,"modulus =",2.2360679774997898,"(√5)",null,"argument = ",0.88607712379261361,"(50.8°)"]
[{"$f":"IF(ROW()<=Worksheet!$B$4/2,ROW(),\"\")","v":""},"",{"$f":"IF(RAND()<0.1,SQRT(3),IF(RAND()<0.1,SQRT(2),IF(RAND()<0.1,SQRT(5),IF(RAND()<0.1,SQRT(7),RANDBETWEEN(-1*Worksheet!$B$6,Worksheet!$B$6)))))","v":2.2360679774997898},"√5","+",{"$f":"IF(RAND()<0.1,SQRT(3),RANDBETWEEN(1,Worksheet!$B$6)*(-1)^(RANDBETWEEN(1,2)))","v":7},7,"i",null,"modulus =",7.3484692283495345,"(√54)",null,"argument = ",1.2616030058518954,"(72.3°)",null,{"$f":"IF(ROW()<=Worksheet!$B$4/2,R12+1,\"\")","v":""},"",{"$f":"IF(RAND()<0.1,SQRT(3),IF(RAND()<0.1,SQRT(2),IF(RAND()<0.1,SQRT(5),IF(RAND()<0.1,SQRT(7),RANDBETWEEN(-1*Worksheet!$B$6,Worksheet!$B$6)))))","v":5},5,"+",{"$f":"IF(RAND()<0.1,SQRT(3),RANDBETWEEN(1,Worksheet!$B$6)*(-1)^(RANDBETWEEN(1,2)))","v":1},1,"i",null,"modulus =",5.0990195135927845,"(√26)",null,"argument = ",0.19739555984988078,"(11.3°)"]
[{"$f":"IF(ROW()<=Worksheet!$B$4/2,ROW(),\"\")","v":""},"–",{"$f":"IF(RAND()<0.1,SQRT(3),IF(RAND()<0.1,SQRT(2),IF(RAND()<0.1,SQRT(5),IF(RAND()<0.1,SQRT(7),RANDBETWEEN(-1*Worksheet!$B$6,Worksheet!$B$6)))))","v":-4},4,"+",{"$f":"IF(RAND()<0.1,SQRT(3),RANDBETWEEN(1,Worksheet!$B$6)*(-1)^(RANDBETWEEN(1,2)))","v":1},1,"i",null,"modulus =",4.1231056256176606,"(√17)",null,"argument = ",-0.24497866312686414,"(-14°)",null,{"$f":"IF(ROW()<=Worksheet!$B$4/2,R13+1,\"\")","v":""},"–",{"$f":"IF(RAND()<0.1,SQRT(3),IF(RAND()<0.1,SQRT(2),IF(RAND()<0.1,SQRT(5),IF(RAND()<0.1,SQRT(7),RANDBETWEEN(-1*Worksheet!$B$6,Worksheet!$B$6)))))","v":-7},7,"–",{"$f":"IF(RAND()<0.1,SQRT(3),RANDBETWEEN(1,Worksheet!$B$6)*(-1)^(RANDBETWEEN(1,2)))","v":-6},6,"i",null,"modulus =",9.2195444572928871,"(√85)",null,"argument = ",0.70862627212767026,"(40.6°)"]
[{"$f":"IF(ROW()<=Worksheet!$B$4/2,ROW(),\"\")","v":""},"",{"$f":"IF(RAND()<0.1,SQRT(3),IF(RAND()<0.1,SQRT(2),IF(RAND()<0.1,SQRT(5),IF(RAND()<0.1,SQRT(7),RANDBETWEEN(-1*Worksheet!$B$6,Worksheet!$B$6)))))","v":2.2360679774997898},"√5","–",{"$f":"IF(RAND()<0.1,SQRT(3),RANDBETWEEN(1,Worksheet!$B$6)*(-1)^(RANDBETWEEN(1,2)))","v":-7},7,"i",null,"modulus =",7.3484692283495345,"(√54)",null,"argument = ",-1.2616030058518954,"(-72.3°)",null,{"$f":"IF(ROW()<=Worksheet!$B$4/2,R14+1,\"\")","v":""},"",{"$f":"IF(RAND()<0.1,SQRT(3),IF(RAND()<0.1,SQRT(2),IF(RAND()<0.1,SQRT(5),IF(RAND()<0.1,SQRT(7),RANDBETWEEN(-1*Worksheet!$B$6,Worksheet!$B$6)))))","v":0},0,"+",{"$f":"IF(RAND()<0.1,SQRT(3),RANDBETWEEN(1,Worksheet!$B$6)*(-1)^(RANDBETWEEN(1,2)))","v":3},3,"i",null,"modulus =",3,"",null,"argument = ",-1.5707963267948966,"(-90°)"]
[{"$f":"IF(ROW()<=Worksheet!$B$4/2,ROW(),\"\")","v":""},null,null,null,null,null,null,null,null,null,null,null,null,null,null,null,null,{"$f":"IF(ROW()<=Worksheet!$B$4/2,R15+1,\"\")","v":""}]
[{"$f":"IF(ROW()<=Worksheet!$B$4/2,ROW(),\"\")","v":""},null,null,null,null,null,null,null,null,null,null,null,null,null,null,null,null,{"$f":"IF(ROW()<=Worksheet!$B$4/2,R16+1,\"\")","v":""}]
[{"$f":"IF(ROW()<=Worksheet!$B$4/2,ROW(),\"\")","v":""},null,null,null,null,null,null,null,null,null,null,null,null,null,null,null,null,{"$f":"IF(ROW()<=Worksheet!$B$4/2,R17+1,\"\")","v":""}]
[{"$f":"IF(ROW()<=Worksheet!$B$4/2,ROW(),\"\")","v":""},null,null,null,null,null,null,null,null,null,null,null,null,null,null,null,null,{"$f":"IF(ROW()<=Worksheet!$B$4/2,R18+1,\"\")","v":""}]
[{"$f":"IF(ROW()<=Worksheet!$B$4/2,ROW(),\"\")","v":""},null,null,null,null,null,null,null,null,null,null,null,null,null,null,null,null,{"$f":"IF(ROW()<=Worksheet!$B$4/2,R19+1,\"\")","v":""}]
[{"$f":"IF(ROW()<=Worksheet!$B$4/2,ROW(),\"\")","v":""},null,null,null,null,null,null,null,null,null,null,null,null,null,null,null,null,{"$f":"IF(ROW()<=Worksheet!$B$4/2,R20+1,\"\")","v":""}]
[{"$f":"IF(ROW()<=Worksheet!$B$4/2,ROW(),\"\")","v":""},null,null,null,null,null,null,null,null,null,null,null,null,null,null,null,null,{"$f":"IF(ROW()<=Worksheet!$B$4/2,R21+1,\"\")","v":""}]
[{"$f":"IF(ROW()<=Worksheet!$B$4/2,ROW(),\"\")","v":""},null,null,null,null,null,null,null,null,null,null,null,null,null,null,null,null,{"$f":"IF(ROW()<=Worksheet!$B$4/2,R22+1,\"\")","v":""}]
[{"$f":"IF(ROW()<=Worksheet!$B$4/2,ROW(),\"\")","v":""},null,null,null,null,null,null,null,null,null,null,null,null,null,null,null,null,{"$f":"IF(ROW()<=Worksheet!$B$4/2,R23+1,\"\")","v":""}]
[{"$f":"IF(ROW()<=Worksheet!$B$4/2,ROW(),\"\")","v":""},null,null,null,null,null,null,null,null,null,null,null,null,null,null,null,null,{"$f":"IF(ROW()<=Worksheet!$B$4/2,R24+1,\"\")","v":""}]
[{"$f":"IF(ROW()<=Worksheet!$B$4/2,ROW(),\"\")","v":""},null,null,null,null,null,null,null,null,null,null,null,null,null,null,null,null,{"$f":"IF(ROW()<=Worksheet!$B$4/2,R25+1,\"\")","v":""}]
[{"$f":"IF(ROW()<=Worksheet!$B$4/2,ROW(),\"\")","v":""},null,null,null,null,null,null,null,null,null,null,null,null,null,null,null,null,{"$f":"IF(ROW()<=Worksheet!$B$4/2,R26+1,\"\")","v":""}]
[{"$f":"IF(ROW()<=Worksheet!$B$4/2,ROW(),\"\")","v":""},null,null,null,null,null,null,null,null,null,null,null,null,null,null,null,null,{"$f":"IF(ROW()<=Worksheet!$B$4/2,R27+1,\"\")","v":""}]
[{"$f":"IF(ROW()<=Worksheet!$B$4/2,ROW(),\"\")","v":""},null,null,null,null,null,null,null,null,null,null,null,null,null,null,null,null,{"$f":"IF(ROW()<=Worksheet!$B$4/2,R28+1,\"\")","v":""}]
[{"$f":"IF(ROW()<=Worksheet!$B$4/2,ROW(),\"\")","v":""},null,null,null,null,null,null,null,null,null,null,null,null,null,null,null,null,{"$f":"IF(ROW()<=Worksheet!$B$4/2,R29+1,\"\")","v":""}]